BOTTLE,20240422CCHHYDRO
EXPOCODE,SECT_ID,STNNBR,CASTNO,SAMPNO,BTLNBR,BTLNBR_FLAG_W,DATE,TIME,LATITUDE,LONGITUDE,DEPTH,CTDPRS,CTDPRS_FLAG_W,CTDTMP,CTDTMP_FLAG_W,CTDSAL,CTDSAL_FLAG_W,SALNTY,SALNTY_FLAG_W,CTDOXY,CTDOXY_FLAG_W,OXYGEN,OXYGEN_FLAG_W,SILCAT,SILCAT_FLAG_W,NITRAT,NITRAT_FLAG_W,NITRIT,NITRIT_FLAG_W,PHSPHT,PHSPHT_FLAG_W,CFC-11,CFC-11_FLAG_W,CFC-12,CFC-12_FLAG_W,SF6,SF6_FLAG_W,TCARBN,TCARBN_FLAG_W,ALKALI,ALKALI_FLAG_W,PH_TOT,PH_TOT_FLAG_W,PH_TMP,PH_TMP_FLAG_W,DOC,DOC_FLAG_W,REFTMP,REFTMP_FLAG_W,POC,POC_FLAG_W,PON,PON_FLAG_W,POP,POP_FLAG_W,DOP,DOP_FLAG_W,DELO18,DELO18_FLAG_W,CTDFLUOR,CTDFLUOR_FLAG_W,CTDXMISS,CTDXMISS_FLAG_W,N2O,N2O_FLAG_W,D15N_NO3,D15N_NO3_FLAG_W,D15N_NO2+NO3,D15N_NO2+NO3_FLAG_W,D18O_NO2+NO3,D18O_NO2+NO3_FLAG_W,D18O_NO3,D18O_NO3_FLAG_W,BTL_DATE,BTL_TIME,BTL_LAT,BTL_LON,HPLC,HPLC_FLAG_W,DNA,DNA_FLAG_W
,,,,,,,,,,,METERS,DBAR,,ITS-90,,PSS-78,,PSS-78,,UMOL/KG,,UMOL/KG,,UMOL/KG,,UMOL/KG,,UMOL/KG,,UMOL/KG,,PMOL/KG,,PMOL/KG,,FMOL/KG,,UMOL/KG,,UMOL/KG,,,,DEG C,,UMOL/KG,,ITS-90,,UG/KG,,UG/KG,,UG/L,,UMOL/KG,,/MILLE,,VOLTS,,VOLTS,,NMOL/KG,,/MILLE,,/MILLE,,/MILLE,,/MILLE,,,,,,,,,
33RR20230722  ,I05        ,58      ,  1,36         ,36         ,2,20230806,2328, -32.6271,  91.8590,     3771,     10.2,2,  16.2122,2,  35.6835,2,  35.6828,2,    242.4,2,    242.4,2,     1.07,2,     0.37,2,     0.06,2,     0.19,2,     -999,9,     -999,9,     -999,9,   2099.3,6,   2347.6,2,   7.9416,2,    25.02,2,     -999,1,  16.2117,2,     -999,9,     -999,9,     -999,9,     -999,9,     -999,9,   4.6685,1,   0.0355,1,     -999,9,     -999,9,     -999,9,     -999,9,     -999,9,20230807,0107, -32.6271,  91.8590,-999          ,9,-999          ,9
33RR20230722  ,I05        ,58      ,  1,35         ,35         ,2,20230806,2328, -32.6271,  91.8590,     3771,     21.5,2,  16.2114,2,  35.6827,2,  35.6820,2,    242.4,2,    242.3,2,     0.98,2,     0.33,2,     0.06,2,     0.20,2,     -999,9,     -999,9,     -999,9,   2100.6,2,   2346.4,2,   7.9417,2,    25.02,2,     -999,1,  16.2112,2,     -999,9,     -999,9,     -999,9,     -999,9,     -999,9,   4.9078,1,   0.0352,1,     -999,9,     -999,9,     -999,9,     -999,9,     -999,9,20230807,0105, -32.6271,  91.8590,-999          ,9,-999          ,9
33RR20230722  ,I05        ,58      ,  1,34         ,34         ,2,20230806,2328, -32.6271,  91.8590,     3771,     35.0,2,  16.2155,2,  35.6842,2,  35.6832,2,    242.2,2,    242.5,2,     0.98,2,     0.30,2,     0.06,2,     0.20,2,     -999,9,     -999,9,     -999,9,   -999.0,9,     -999,9,     -999,9,     -999,9,     -999,1,  16.2144,2,     -999,9,     -999,9,     -999,9,     -999,9,     -999,9,   4.9130,1,   0.0370,1,     -999,9,     -999,9,     -999,9,     -999,9,     -999,9,20230807,0104, -32.6271,  91.8590,-999          ,9,-999          ,9
33RR20230722  ,I05        ,58      ,  1,33         ,33         ,2,20230806,2328, -32.6271,  91.8590,     3771,     56.2,2,  16.2165,2,  35.6836,2,  35.6828,2,    242.1,2,    242.1,2,     0.98,2,     0.30,2,     0.05,2,     0.19,2,     -999,9,     -999,9,     -999,9,   2099.5,2,   2347.1,2,   7.9414,2,    25.03,2,     -999,1,  16.2160,2,     -999,9,     -999,9,     -999,9,     -999,9,     -999,9,   4.8178,1,   0.0377,1,     -999,9,     -999,9,     -999,9,     -999,9,     -999,9,20230807,0102, -32.6271,  91.8590,-999          ,9,-999          ,9
33RR20230722  ,I05        ,58      ,  1,32         ,32         ,2,20230806,2328, -32.6271,  91.8590,     3771,     79.6,2,  16.2161,2,  35.6833,2,  35.6838,2,    241.8,2,    242.2,2,     0.98,2,     0.29,2,     0.05,2,     0.18,2,     -999,9,     -999,9,     -999,9,   2101.5,2,   2347.8,2,   7.9416,2,    25.00,2,     -999,1,  16.2101,2,     -999,9,     -999,9,     -999,9,     -999,9,     -999,9,   4.9745,1,   0.0383,1,     -999,9,     -999,9,     -999,9,     -999,9,     -999,9,20230807,0101, -32.6270,  91.8590,-999          ,9,-999          ,9
33RR20230722  ,I05        ,58      ,  1,31         ,31         ,2,20230806,2328, -32.6271,  91.8590,     3771,    108.7,2,  16.2282,2,  35.6832,2,  35.6721,2,    241.3,2,    242.0,2,     1.07,2,     0.33,2,     0.06,2,     0.18,2,     -999,9,     -999,9,     -999,9,   2096.8,2,   2347.4,2,   7.9395,6,    25.01,2,     -999,1,  16.2224,2,     -999,9,     -999,9,     -999,9,     -999,9,     -999,9,   4.9743,1,   0.0396,1,     -999,9,     -999,9,     -999,9,     -999,9,     -999,9,20230807,0059, -32.6271,  91.8590,-999          ,9,-999          ,9
33RR20230722  ,I05        ,58      ,  1,30         ,30         ,2,20230806,2328, -32.6271,  91.8590,     3771,    129.4,2,  14.8246,2,  35.4999,2,  35.4933,2,    228.6,3,    231.5,2,     1.56,2,     3.24,2,     0.12,2,     0.37,2,     -999,9,     -999,9,     -999,9,   -999.0,9,     -999,9,     -999,9,     -999,9,     -999,1,  14.7886,2,     -999,9,     -999,9,     -999,9,     -999,9,     -999,9,   4.9706,1,   0.0210,1,     -999,9,     -999,9,     -999,9,     -999,9,     -999,9,20230807,0057, -32.6271,  91.8590,-999          ,9,-999          ,9
33RR20230722  ,I05        ,58      ,  1,29         ,29         ,2,20230806,2328, -32.6271,  91.8590,     3771,    161.1,2,  14.1227,2,  35.4113,2,  35.4105,2,    228.3,3,    230.9,2,     1.66,2,     4.66,2,     0.02,2,     0.45,2,     -999,9,     -999,9,     -999,9,   2123.9,2,   2329.8,2,   7.8659,6,    25.00,2,     -999,1,  14.1222,2,     -999,9,     -999,9,     -999,9,     -999,9,     -999,9,   4.9011,1,   0.0144,1,     -999,9,     -999,9,     -999,9,     -999,9,     -999,9,20230807,0056, -32.6271,  91.8590,-999          ,9,-999          ,9
33RR20230722  ,I05        ,58      ,  1,28         ,28         ,2,20230806,2328, -32.6271,  91.8590,     3771,    196.9,2,  13.5356,2,  35.3242,2,  35.3246,2,    232.1,2,    234.1,2,     1.76,2,     5.52,2,     0.02,2,     0.49,2,     -999,9,     -999,9,     -999,9,   -999.0,9,     -999,9,     -999,9,     -999,9,     -999,1,  13.5345,2,     -999,9,     -999,9,     -999,9,     -999,9,     -999,9,   4.5752,1,   0.0128,1,     -999,9,     -999,9,     -999,9,     -999,9,     -999,9,20230807,0054, -32.6271,  91.8590,-999          ,9,-999          ,9
33RR20230722  ,I05        ,58      ,  1,27         ,27         ,2,20230806,2328, -32.6271,  91.8590,     3771,    231.2,2,  13.0223,2,  35.2400,2,  35.2369,2,    236.0,2,    237.3,2,     1.85,2,     6.42,2,     0.01,2,     0.55,2,     -999,9,     -999,9,     -999,9,   2125.0,2,   2320.1,6,   7.8448,2,    25.02,2,     -999,1,  13.0271,2,     -999,9,     -999,9,     -999,9,     -999,9,     -999,9,   4.9695,1,   0.0114,1,     -999,9,     -999,9,     -999,9,     -999,9,     -999,9,20230807,0053, -32.6271,  91.8590,-999          ,9,-999          ,9
33RR20230722  ,I05        ,58      ,  1,26         ,26         ,2,20230806,2328, -32.6271,  91.8590,     3771,    271.3,2,  12.5442,2,  35.1547,2,  35.1559,2,    239.3,2,    239.5,2,     2.15,2,     7.28,2,     0.01,2,     0.61,2,     -999,9,     -999,9,     -999,9,   2130.5,2,   2316.2,2,   7.8353,2,    25.03,2,     -999,1,  12.5350,2,     -999,9,     -999,9,     -999,9,     -999,9,     -999,9,   4.7924,1,   0.0115,1,     -999,9,     -999,9,     -999,9,     -999,9,     -999,9,20230807,0051, -32.6271,  91.8590,-999          ,9,-999          ,9
33RR20230722  ,I05        ,58      ,  1,25         ,25         ,2,20230806,2328, -32.6271,  91.8590,     3771,    323.5,2,  11.9370,2,  35.0464,2,  35.0439,2,    240.5,2,    240.3,2,     2.44,2,     8.94,2,     0.01,2,     0.70,2,     -999,9,     -999,9,     -999,9,   2127.5,2,   2310.1,2,   7.8183,2,    25.00,2,     -999,1,  11.9452,2,     -999,9,     -999,9,     -999,9,     -999,9,     -999,9,   4.9686,1,   0.0115,1,     -999,9,     -999,9,     -999,9,     -999,9,     -999,9,20230807,0049, -32.6271,  91.8590,-999          ,9,-999          ,9
33RR20230722  ,I05        ,58      ,  1,24         ,24         ,2,20230806,2328, -32.6271,  91.8590,     3771,    382.4,2,  11.3023,2,  34.9404,2,  34.9396,2,    240.8,2,    241.0,2,     2.93,2,    10.73,2,     0.01,2,     0.80,2,     -999,9,     -999,9,     -999,9,   2129.5,2,   2303.4,2,   7.8011,2,    25.02,2,     -999,1,  11.3034,2,     -999,9,     -999,9,     -999,9,     -999,9,     -999,9,   4.9681,1,   0.0114,1,     -999,9,     -999,9,     -999,9,     -999,9,     -999,9,20230807,0047, -32.6271,  91.8590,-999          ,9,-999          ,9
33RR20230722  ,I05        ,58      ,  1,23         ,23         ,2,20230806,2328, -32.6271,  91.8590,     3771,    447.8,2,  10.6965,2,  34.8465,2,  34.8462,2,    242.0,2,    241.1,2,     3.71,2,    12.38,2,     0.01,2,     0.91,2,     -999,9,     -999,9,     -999,9,   2133.1,2,   2298.7,2,   7.7906,2,    25.02,2,     -999,1,  10.6891,2,     -999,9,     -999,9,     -999,9,     -999,9,     -999,9,   4.9343,1,   0.0115,1,     -999,9,     -999,9,     -999,9,     -999,9,     -999,9,20230807,0045, -32.6271,  91.8590,-999          ,9,-999          ,9
33RR20230722  ,I05        ,58      ,  1,22         ,22         ,2,20230806,2328, -32.6271,  91.8590,     3771,    524.1,2,  10.3338,2,  34.7959,2,  34.7972,2,    240.7,2,    240.3,2,     3.71,2,    13.42,2,     0.01,2,     1.00,2,     -999,9,     -999,9,     -999,9,   2136.2,2,   2296.9,2,   7.7773,2,    25.01,2,     -999,1,  10.3326,2,     -999,9,     -999,9,     -999,9,     -999,9,     -999,9,   4.9672,1,   0.0115,1,     -999,9,     -999,9,     -999,9,     -999,9,     -999,9,20230807,0043, -32.6271,  91.8590,-999          ,9,-999          ,9
33RR20230722  ,I05        ,58      ,  1,21         ,21         ,2,20230806,2328, -32.6271,  91.8590,     3771,    609.4,2,   9.8971,2,  34.7433,2,  34.7443,2,    236.6,2,    236.2,2,     4.39,2,    15.04,2,     0.01,2,     1.09,2,     -999,9,     -999,9,     -999,9,   2138.4,2,   2292.4,2,   7.7609,2,    25.01,2,     -999,1,   9.9007,2,     -999,9,     -999,9,     -999,9,     -999,9,     -999,9,   4.8560,1,   0.0114,1,     -999,9,     -999,9,     -999,9,     -999,9,     -999,9,20230807,0041, -32.6271,  91.8590,-999          ,9,-999          ,9
33RR20230722  ,I05        ,58      ,  1,20         ,20         ,2,20230806,2328, -32.6271,  91.8590,     3771,    706.9,2,   9.3577,2,  34.6750,2,  34.6759,2,    232.1,2,    232.1,2,     5.37,2,    17.00,2,     0.01,2,     1.21,2,     -999,9,     -999,9,     -999,9,   -999.0,9,     -999,9,     -999,9,     -999,9,     -999,1,   9.3729,2,     -999,9,     -999,9,     -999,9,     -999,9,     -999,9,   4.9665,1,   0.0115,1,     -999,9,     -999,9,     -999,9,     -999,9,     -999,9,20230807,0038, -32.6271,  91.8590,-999          ,9,-999          ,9
33RR20230722  ,I05        ,58      ,  1,19         ,19         ,2,20230806,2328, -32.6271,  91.8590,     3771,    810.5,2,   8.3229,2,  34.5667,2,  34.5692,2,    214.8,2,    215.8,2,     9.57,2,    21.04,2,     0.01,2,     1.47,2,     -999,9,     -999,9,     -999,9,   2155.2,2,   2287.2,2,   7.7085,2,    25.00,2,     -999,1,   8.3364,2,     -999,9,     -999,9,     -999,9,     -999,9,     -999,9,   4.6452,1,   0.0113,1,     -999,9,     -999,9,     -999,9,     -999,9,     -999,9,20230807,0035, -32.6271,  91.8590,-999          ,9,-999          ,9
33RR20230722  ,I05        ,58      ,  1,18         ,18         ,2,20230806,2328, -32.6271,  91.8590,     3771,    932.5,2,   6.4932,2,  34.4340,2,  34.4347,2,    196.9,2,    197.5,2,    20.70,2,    26.94,2,     0.01,2,     1.84,2,     -999,9,     -999,9,     -999,9,   -999.0,9,     -999,9,     -999,9,     -999,9,     -999,1,   6.4939,2,     -999,9,     -999,9,     -999,9,     -999,9,     -999,9,   4.9007,1,   0.0112,1,     -999,9,     -999,9,     -999,9,     -999,9,     -999,9,20230807,0032, -32.6271,  91.8590,-999          ,9,-999          ,9
33RR20230722  ,I05        ,58      ,  1,17         ,17         ,2,20230806,2328, -32.6271,  91.8590,     3771,   1002.7,2,   5.3473,2,  34.3906,2,  34.3904,2,    192.0,2,    192.4,2,    30.17,2,    29.75,2,     0.01,2,     2.04,2,     -999,9,     -999,9,     -999,9,   2196.4,2,   2292.1,2,   7.6211,2,    24.99,2,     -999,1,   5.3586,2,     -999,9,     -999,9,     -999,9,     -999,9,     -999,9,   4.6407,1,   0.0112,1,     -999,9,     -999,9,     -999,9,     -999,9,     -999,9,20230807,0030, -32.6270,  91.8591,-999          ,9,-999          ,9
33RR20230722  ,I05        ,58      ,  1,16         ,16         ,2,20230806,2328, -32.6271,  91.8590,     3771,   1093.9,2,   4.5545,2,  34.4031,2,  34.4025,2,    180.6,2,    181.0,2,    42.66,2,    31.95,2,     0.01,2,     2.21,2,     -999,9,     -999,9,     -999,9,   -999.0,9,     -999,9,     -999,9,     -999,9,     -999,1,   4.5736,2,     -999,9,     -999,9,     -999,9,     -999,9,     -999,9,   4.8581,1,   0.0111,1,     -999,9,     -999,9,     -999,9,     -999,9,     -999,9,20230807,0028, -32.6271,  91.8590,-999          ,9,-999          ,9
33RR20230722  ,I05        ,58      ,  1,15         ,15         ,2,20230806,2328, -32.6271,  91.8590,     3771,   1247.0,2,   3.9937,2,  34.4691,2,  34.4705,2,    160.5,2,    160.0,2,    59.94,2,    34.15,2,     0.01,2,     2.37,2,     -999,9,     -999,9,     -999,9,   2244.3,2,   2324.1,2,   7.5708,2,    25.00,2,     -999,1,   3.9922,2,     -999,9,     -999,9,     -999,9,     -999,9,     -999,9,   4.9733,1,   0.0118,1,     -999,9,     -999,9,     -999,9,     -999,9,     -999,9,20230807,0024, -32.6271,  91.8590,-999          ,9,-999          ,9
33RR20230722  ,I05        ,58      ,  1,14         ,14         ,2,20230806,2328, -32.6271,  91.8590,     3771,   1368.4,2,   3.6066,2,  34.5096,2,  34.5109,2,    154.6,2,    154.5,2,    68.72,2,    34.72,2,     0.01,2,     2.45,2,     -999,9,     -999,9,     -999,9,   -999.0,9,     -999,9,     -999,9,     -999,9,     -999,1,   3.6024,2,     -999,9,     -999,9,     -999,9,     -999,9,     -999,9,   4.7862,1,   0.0123,1,     -999,9,     -999,9,     -999,9,     -999,9,     -999,9,20230807,0021, -32.6271,  91.8590,-999          ,9,-999          ,9
33RR20230722  ,I05        ,58      ,  1,13         ,13         ,2,20230806,2328, -32.6271,  91.8590,     3771,   1506.2,2,   3.3000,2,  34.5744,2,  34.5751,2,    148.8,2,    148.5,2,    79.07,2,    34.95,2,     0.01,2,     2.47,2,     -999,9,     -999,9,     -999,9,   2264.6,2,   2344.3,2,   7.5587,2,    25.00,2,     -999,1,   3.3001,2,     -999,9,     -999,9,     -999,9,     -999,9,     -999,9,   4.9749,1,   0.0124,1,     -999,9,     -999,9,     -999,9,     -999,9,     -999,9,20230807,0018, -32.6271,  91.8590,-999          ,9,-999          ,9
33RR20230722  ,I05        ,58      ,  1,12         ,12         ,2,20230806,2328, -32.6271,  91.8590,     3771,   1609.7,2,   3.1259,2,  34.6067,2,  34.6062,2,    149.3,2,    149.1,2,    83.46,2,    34.92,2,     0.00,2,     2.44,2,     -999,9,     -999,9,     -999,9,   2268.5,2,   2349.2,2,   7.5599,2,    25.04,2,     -999,1,   3.1275,2,     -999,9,     -999,9,     -999,9,     -999,9,     -999,9,   4.8212,1,   0.0112,1,     -999,9,     -999,9,     -999,9,     -999,9,     -999,9,20230807,0015, -32.6271,  91.8590,-999          ,9,-999          ,9
33RR20230722  ,I05        ,58      ,  1,11         ,11         ,2,20230806,2328, -32.6271,  91.8590,     3771,   1743.7,2,   2.8964,2,  34.6397,2,  34.6398,2,    153.1,2,    153.3,2,    87.46,2,    34.44,2,     0.01,2,     2.39,2,     -999,9,     -999,9,     -999,9,   2270.4,2,   2354.3,2,   7.5672,2,    25.04,2,     -999,1,   2.8956,2,     -999,9,     -999,9,     -999,9,     -999,9,     -999,9,   4.9084,1,   0.0113,1,     -999,9,     -999,9,     -999,9,     -999,9,     -999,9,20230807,0012, -32.6271,  91.8590,-999          ,9,-999          ,9
33RR20230722  ,I05        ,58      ,  1,10         ,10         ,2,20230806,2328, -32.6271,  91.8590,     3771,   1825.9,2,   2.7789,2,  34.6556,2,  34.6567,2,    156.6,2,    156.5,2,    88.72,2,    34.06,2,     0.00,2,     2.38,2,     -999,9,     -999,9,     -999,9,   2275.6,2,   2352.5,2,   7.5718,2,    25.02,2,     -999,1,   2.7792,2,     -999,9,     -999,9,     -999,9,     -999,9,     -999,9,   4.9750,1,   0.0110,1,     -999,9,     -999,9,     -999,9,     -999,9,     -999,9,20230807,0010, -32.6271,  91.8590,-999          ,9,-999          ,9
33RR20230722  ,I05        ,58      ,  1,9          ,9          ,2,20230806,2328, -32.6271,  91.8590,     3771,   1927.1,2,   2.6323,2,  34.6712,2,  34.6714,2,    163.3,2,    163.3,2,    88.33,2,    33.44,2,     0.00,2,     2.31,2,     -999,9,     -999,9,     -999,9,   2267.6,2,   2353.9,2,   7.5799,6,    25.01,2,     -999,1,   2.6327,2,     -999,9,     -999,9,     -999,9,     -999,9,     -999,9,   4.6431,1,   0.0117,1,     -999,9,     -999,9,     -999,9,     -999,9,     -999,9,20230807,0007, -32.6271,  91.8590,-999          ,9,-999          ,9
33RR20230722  ,I05        ,58      ,  1,8          ,8          ,2,20230806,2328, -32.6271,  91.8590,     3771,   2037.5,2,   2.4982,2,  34.6915,2,  34.6910,2,    169.0,2,    169.1,2,    88.04,2,    32.78,2,     0.00,2,     2.29,2,     -999,9,     -999,9,     -999,9,   2264.2,2,   2354.4,2,   7.5873,2,    25.00,2,     -999,1,   2.4992,2,     -999,9,     -999,9,     -999,9,     -999,9,     -999,9,   4.9749,1,   0.0117,1,     -999,9,     -999,9,     -999,9,     -999,9,     -999,9,20230807,0004, -32.6271,  91.8590,-999          ,9,-999          ,9
33RR20230722  ,I05        ,58      ,  1,7          ,7          ,2,20230806,2328, -32.6271,  91.8590,     3771,   2157.8,2,   2.3652,2,  34.7099,2,  34.7103,2,    175.4,2,    175.9,2,    88.13,2,    32.07,2,     0.00,2,     2.25,2,     -999,9,     -999,9,     -999,9,   2261.3,2,   2352.8,6,   7.5963,2,    25.01,2,     -999,1,   2.3651,2,     -999,9,     -999,9,     -999,9,     -999,9,     -999,9,   4.9747,1,   0.0123,1,     -999,9,     -999,9,     -999,9,     -999,9,     -999,9,20230807,0001, -32.6271,  91.8590,-999          ,9,-999          ,9
33RR20230722  ,I05        ,58      ,  1,6          ,6          ,2,20230806,2328, -32.6271,  91.8590,     3771,   2433.9,2,   2.1237,2,  34.7310,2,  34.7313,2,    184.7,2,    184.8,2,    91.94,2,    31.44,2,     0.00,2,     2.17,2,     -999,9,     -999,9,     -999,9,   -999.0,9,     -999,9,     -999,9,     -999,9,     -999,1,   2.1221,2,     -999,9,     -999,9,     -999,9,     -999,9,     -999,9,   4.9746,1,   0.0113,1,     -999,9,     -999,9,     -999,9,     -999,9,     -999,9,20230806,2356, -32.6271,  91.8591,-999          ,9,-999          ,9
33RR20230722  ,I05        ,58      ,  1,5          ,5          ,2,20230806,2328, -32.6271,  91.8590,     3771,   2753.2,2,   1.7865,2,  34.7383,2,  34.7382,2,    193.1,2,    193.0,2,    99.16,2,    31.08,2,     0.00,2,     2.16,2,     -999,9,     -999,9,     -999,9,   2258.1,2,   2358.0,6,   7.6164,2,    25.01,2,     -999,1,   1.7870,2,     -999,9,     -999,9,     -999,9,     -999,9,     -999,9,   4.8923,1,   0.0111,1,     -999,9,     -999,9,     -999,9,     -999,9,     -999,9,20230806,2349, -32.6270,  91.8590,-999          ,9,-999          ,9
33RR20230722  ,I05        ,58      ,  1,4          ,37         ,2,20230806,2328, -32.6271,  91.8590,     3771,   3186.6,2,   1.4005,2,  34.7292,2,  34.7296,2,    199.9,2,    199.7,2,   109.31,2,    31.31,2,     0.00,2,     2.20,2,     -999,9,     -999,9,     -999,9,   -999.0,9,     -999,9,     -999,9,     -999,9,     -999,1,   1.4010,2,     -999,9,     -999,9,     -999,9,     -999,9,     -999,9,   4.9282,1,   0.0115,1,     -999,9,     -999,9,     -999,9,     -999,9,     -999,9,20230806,2341, -32.6271,  91.8590,-999          ,9,-999          ,9
33RR20230722  ,I05        ,58      ,  1,3          ,3          ,2,20230806,2328, -32.6271,  91.8590,     3771,   3479.8,2,   1.2391,2,  34.7225,2,  34.7225,2,    201.8,2,    202.1,2,   114.29,2,    31.76,2,     0.00,2,     2.20,2,     -999,9,     -999,9,     -999,9,   2264.7,2,   2367.0,2,   7.6195,2,    25.02,2,     -999,1,   1.2391,2,     -999,9,     -999,9,     -999,9,     -999,9,     -999,9,   4.9755,1,   0.0111,1,     -999,9,     -999,9,     -999,9,     -999,9,     -999,9,20230806,2335, -32.6271,  91.8590,-999          ,9,-999          ,9