BOTTLE,20240422CCHHYDRO
EXPOCODE,SECT_ID,STNNBR,CASTNO,SAMPNO,BTLNBR,BTLNBR_FLAG_W,DATE,TIME,LATITUDE,LONGITUDE,DEPTH,CTDPRS,CTDPRS_FLAG_W,CTDTMP,CTDTMP_FLAG_W,CTDSAL,CTDSAL_FLAG_W,SALNTY,SALNTY_FLAG_W,CTDOXY,CTDOXY_FLAG_W,OXYGEN,OXYGEN_FLAG_W,SILCAT,SILCAT_FLAG_W,NITRAT,NITRAT_FLAG_W,NITRIT,NITRIT_FLAG_W,PHSPHT,PHSPHT_FLAG_W,CFC-11,CFC-11_FLAG_W,CFC-12,CFC-12_FLAG_W,SF6,SF6_FLAG_W,TCARBN,TCARBN_FLAG_W,ALKALI,ALKALI_FLAG_W,PH_TOT,PH_TOT_FLAG_W,PH_TMP,PH_TMP_FLAG_W,DOC,DOC_FLAG_W,REFTMP,REFTMP_FLAG_W,POC,POC_FLAG_W,PON,PON_FLAG_W,POP,POP_FLAG_W,DOP,DOP_FLAG_W,DELO18,DELO18_FLAG_W,CTDFLUOR,CTDFLUOR_FLAG_W,CTDXMISS,CTDXMISS_FLAG_W,N2O,N2O_FLAG_W,D15N_NO3,D15N_NO3_FLAG_W,D15N_NO2+NO3,D15N_NO2+NO3_FLAG_W,D18O_NO2+NO3,D18O_NO2+NO3_FLAG_W,D18O_NO3,D18O_NO3_FLAG_W,BTL_DATE,BTL_TIME,BTL_LAT,BTL_LON,HPLC,HPLC_FLAG_W,DNA,DNA_FLAG_W
,,,,,,,,,,,METERS,DBAR,,ITS-90,,PSS-78,,PSS-78,,UMOL/KG,,UMOL/KG,,UMOL/KG,,UMOL/KG,,UMOL/KG,,UMOL/KG,,PMOL/KG,,PMOL/KG,,FMOL/KG,,UMOL/KG,,UMOL/KG,,,,DEG C,,UMOL/KG,,ITS-90,,UG/KG,,UG/KG,,UG/L,,UMOL/KG,,/MILLE,,VOLTS,,VOLTS,,NMOL/KG,,/MILLE,,/MILLE,,/MILLE,,/MILLE,,,,,,,,,
33RR20230722  ,I05        ,97      ,  3,36         ,38         ,2,20230816,1428, -34.8004,  72.8000,     4741,      4.7,2,  15.3333,2,  35.4134,2,  35.4139,2,    251.5,2,    251.4,2,     1.56,2,     1.20,2,     0.10,2,     0.26,2,   -0.041,4,    1.401,2,   2.4800,2,   2092.0,6,   2326.9,2,   7.9269,2,    25.03,2,     -999,1,  15.3231,2,     -999,9,     -999,9,     -999,9,     -999,9,     -999,9,   4.8372,1,   0.0625,1,      8.6,2,     -999,9,     -999,9,     -999,9,     -999,9,20230816,1632, -34.8004,  72.8000,-999          ,9,-999          ,9
33RR20230722  ,I05        ,97      ,  3,35         ,35         ,2,20230816,1428, -34.8004,  72.8000,     4741,     19.4,2,  15.2431,2,  35.4011,2,  35.4147,2,    251.7,2,    252.1,2,     1.37,2,     1.20,2,     0.11,2,     0.25,2,    1.903,4,    1.500,2,   2.4300,2,   -999.0,9,     -999,9,     -999,9,     -999,9,     -999,9,  15.2833,2,     -999,9,     -999,9,     -999,9,     -999,9,     -999,9,   4.9755,1,   0.0646,1,      8.7,2,     -999,9,     -999,9,     -999,9,     -999,9,20230816,1630, -34.8004,  72.7999,-999          ,9,-999          ,9
33RR20230722  ,I05        ,97      ,  3,34         ,34         ,2,20230816,1428, -34.8004,  72.8000,     4741,     35.5,2,  14.4210,2,  35.2809,2,  35.2818,2,    256.5,2,    255.3,2,     1.66,2,     2.26,2,     0.20,2,     0.32,2,    0.514,4,    1.494,2,   2.5400,2,   2094.6,2,   2317.3,2,   7.9092,2,    25.02,2,     -999,9,  14.4321,2,     -999,9,     -999,9,     -999,9,     -999,9,     -999,9,   4.9494,1,   0.0781,1,      8.9,2,     -999,9,     -999,9,     -999,9,     -999,9,20230816,1628, -34.8003,  72.8000,-999          ,9,-999          ,9
33RR20230722  ,I05        ,97      ,  3,33         ,33         ,2,20230816,1428, -34.8004,  72.8000,     4741,     53.8,2,  14.3445,2,  35.2686,2,  35.2702,2,    253.2,2,    252.5,2,     1.66,2,     2.55,2,     0.25,2,     0.34,2,    2.094,4,    1.523,2,   2.5000,2,   -999.0,9,     -999,9,     -999,9,     -999,9,     -999,9,  14.3420,2,     -999,9,     -999,9,     -999,9,     -999,9,     -999,9,   4.9741,1,   0.0620,1,      9.0,2,     -999,9,     -999,9,     -999,9,     -999,9,20230816,1626, -34.8003,  72.7999,-999          ,9,-999          ,9
33RR20230722  ,I05        ,97      ,  3,32         ,32         ,2,20230816,1428, -34.8004,  72.8000,     4741,     80.1,2,  14.3158,2,  35.2648,2,  35.2658,2,    249.9,2,    250.0,2,     1.66,2,     2.73,2,     0.33,2,     0.35,2,    0.147,4,    1.484,2,   2.4200,2,   2096.3,2,   2315.5,2,   7.8987,2,    25.04,2,     -999,9,  14.3139,2,     -999,9,     -999,9,     -999,9,     -999,9,     -999,9,   4.9731,1,   0.0314,1,      9.0,2,     -999,9,     -999,9,     -999,9,     -999,9,20230816,1624, -34.8004,  72.8000,-999          ,9,-999          ,9
33RR20230722  ,I05        ,97      ,  3,31         ,31         ,2,20230816,1428, -34.8004,  72.8000,     4741,    105.3,2,  14.3769,2,  35.2824,2,  35.2832,2,    249.4,2,    249.3,2,     1.66,2,     2.62,2,     0.29,2,     0.35,2,    2.408,4,    1.525,2,   2.4800,2,   -999.0,9,     -999,9,     -999,9,     -999,9,     -999,9,  14.3750,2,     -999,9,     -999,9,     -999,9,     -999,9,     -999,9,   4.9732,1,   0.0240,1,      9.1,2,     -999,9,     -999,9,     -999,9,     -999,9,20230816,1622, -34.8003,  72.7999,-999          ,9,-999          ,9
33RR20230722  ,I05        ,97      ,  3,30         ,30         ,2,20230816,1428, -34.8004,  72.8000,     4741,    134.9,2,  14.3462,2,  35.2849,2,  35.2852,2,    245.8,2,    245.8,2,     1.95,2,     3.26,2,     0.27,2,     0.37,2,     -999,9,     -999,9,     -999,9,   -999.0,9,     -999,9,     -999,9,     -999,9,     -999,9,  14.3454,2,     -999,9,     -999,9,     -999,9,     -999,9,     -999,9,   4.9608,1,   0.0195,1,     -999,9,     -999,9,     -999,9,     -999,9,     -999,9,20230816,1620, -34.8004,  72.8000,-999          ,9,-999          ,9
33RR20230722  ,I05        ,97      ,  3,29         ,29         ,2,20230816,1428, -34.8004,  72.8000,     4741,    165.7,2,  13.8401,2,  35.3110,2,  35.3147,2,    226.8,3,    229.6,2,     3.02,2,     6.93,2,     0.02,2,     0.58,2,    2.449,4,    1.617,2,   2.4100,2,   2121.4,2,   2317.2,2,   7.8547,2,    25.03,2,     -999,9,  13.8512,2,     -999,9,     -999,9,     -999,9,     -999,9,     -999,9,   4.9694,1,   0.0122,1,     10.1,2,     -999,9,     -999,9,     -999,9,     -999,9,20230816,1618, -34.8004,  72.8000,-999          ,9,-999          ,9
33RR20230722  ,I05        ,97      ,  3,28         ,28         ,2,20230816,1428, -34.8004,  72.8000,     4741,    195.2,2,  13.4811,2,  35.2733,2,  35.2737,2,    231.9,2,    233.5,2,     3.02,2,     7.30,2,     0.00,2,     0.60,2,     -999,9,     -999,9,     -999,9,   -999.0,9,     -999,9,     -999,9,     -999,9,     -999,9,  13.4771,2,     -999,9,     -999,9,     -999,9,     -999,9,     -999,9,   4.8215,1,   0.0117,1,     -999,9,     -999,9,     -999,9,     -999,9,     -999,9,20230816,1617, -34.8004,  72.8000,-999          ,9,-999          ,9
33RR20230722  ,I05        ,97      ,  3,27         ,27         ,2,20230816,1428, -34.8004,  72.8000,     4741,    230.5,2,  13.2619,2,  35.2483,2,  35.2483,2,    235.0,2,    236.1,2,     3.22,2,     7.65,2,     0.00,2,     0.62,2,    0.286,4,    1.575,2,   2.3200,2,   2121.6,2,   2315.0,2,   7.8460,2,    25.02,2,     -999,9,  13.2614,2,     -999,9,     -999,9,     -999,9,     -999,9,     -999,9,   4.8527,1,   0.0114,1,     10.3,2,     -999,9,     -999,9,     -999,9,     -999,9,20230816,1615, -34.8004,  72.8000,-999          ,9,-999          ,9
33RR20230722  ,I05        ,97      ,  3,26         ,26         ,2,20230816,1428, -34.8004,  72.8000,     4741,    269.4,2,  13.0938,2,  35.2273,2,  35.2270,2,    237.5,2,    238.1,2,     3.22,2,     7.83,2,     0.00,2,     0.62,2,    1.761,4,    1.617,2,   2.4300,2,   -999.0,9,     -999,9,     -999,9,     -999,9,     -999,9,  13.0930,2,     -999,9,     -999,9,     -999,9,     -999,9,     -999,9,   4.9692,1,   0.0115,1,     10.3,2,     -999,9,     -999,9,     -999,9,     -999,9,20230816,1613, -34.8004,  72.8000,-999          ,9,-999          ,9
33RR20230722  ,I05        ,97      ,  3,25         ,25         ,2,20230816,1428, -34.8004,  72.8000,     4741,    316.2,2,  12.8497,2,  35.1904,2,  35.1914,2,    237.8,2,    238.2,2,     3.12,2,     8.25,2,     0.00,2,     0.66,2,     -999,9,     -999,9,     -999,9,   2122.6,2,   2312.5,2,   7.8378,2,    25.02,2,     -999,9,  12.8476,2,     -999,9,     -999,9,     -999,9,     -999,9,     -999,9,   4.9688,1,   0.0114,1,     -999,9,     -999,9,     -999,9,     -999,9,     -999,9,20230816,1611, -34.8004,  72.8000,-999          ,9,-999          ,9
33RR20230722  ,I05        ,97      ,  3,24         ,24         ,2,20230816,1428, -34.8004,  72.8000,     4741,    374.1,2,  12.4091,2,  35.1174,2,  35.1201,2,    236.7,2,    236.6,2,     3.32,2,     9.46,2,     0.00,2,     0.73,2,    0.461,4,    1.749,2,   2.4200,2,   -999.0,9,     -999,9,     -999,9,     -999,9,     -999,9,  12.4204,2,     -999,9,     -999,9,     -999,9,     -999,9,     -999,9,   4.9304,1,   0.0115,1,     11.2,2,     -999,9,     -999,9,     -999,9,     -999,9,20230816,1609, -34.8004,  72.8000,-999          ,9,-999          ,9
33RR20230722  ,I05        ,97      ,  3,23         ,23         ,2,20230816,1428, -34.8004,  72.8000,     4741,    437.6,2,  12.0140,2,  35.0535,2,  35.0557,2,    238.4,2,    238.2,2,     3.51,2,    10.35,2,     0.00,2,     0.80,2,    2.810,4,    1.701,2,   2.3300,2,   2127.9,2,   2306.2,2,   7.8159,6,    25.01,2,     -999,9,  12.0121,2,     -999,9,     -999,9,     -999,9,     -999,9,     -999,9,   4.9679,1,   0.0115,1,     10.5,2,     -999,9,     -999,9,     -999,9,     -999,9,20230816,1606, -34.8004,  72.8000,-999          ,9,-999          ,9
33RR20230722  ,I05        ,97      ,  3,22         ,22         ,2,20230816,1428, -34.8004,  72.8000,     4741,    513.9,2,  11.5568,2,  34.9809,2,  34.9823,2,    234.5,2,    234.4,2,     3.90,2,    11.78,2,     0.00,2,     0.87,2,    5.526,4,    1.711,2,   2.3500,2,   -999.0,9,     -999,9,     -999,9,     -999,9,     -999,9,  11.5571,2,     -999,9,     -999,9,     -999,9,     -999,9,     -999,9,   4.9669,1,   0.0113,1,     10.9,2,     -999,9,     -999,9,     -999,9,     -999,9,20230816,1604, -34.8003,  72.8000,-999          ,9,-999          ,9
33RR20230722  ,I05        ,97      ,  3,21         ,21         ,2,20230816,1428, -34.8004,  72.8000,     4741,    599.3,2,  10.8439,2,  34.8753,2,  34.8741,2,    226.5,2,    226.6,2,     4.98,2,    14.15,2,     0.00,2,     1.02,2,    0.421,4,    1.930,2,   2.0600,2,   2137.7,2,   2297.6,2,   7.7770,2,    25.02,2,     -999,9,  10.8386,2,     -999,9,     -999,9,     -999,9,     -999,9,     -999,9,   4.8731,1,   0.0113,1,     12.7,2,     -999,9,     -999,9,     -999,9,     -999,9,20230816,1601, -34.8004,  72.8000,-999          ,9,-999          ,9
33RR20230722  ,I05        ,97      ,  3,20         ,20         ,2,20230816,1428, -34.8004,  72.8000,     4741,    710.8,2,   9.5823,2,  34.7118,2,  34.7125,2,    217.9,2,    218.0,2,     7.42,2,    17.88,2,     0.00,2,     1.25,2,   -0.026,4,    1.834,2,   1.7600,2,   -999.0,9,     -999,9,     -999,9,     -999,9,     -999,9,   9.5812,2,     -999,9,     -999,9,     -999,9,     -999,9,     -999,9,   4.6829,1,   0.0115,1,     14.3,2,     -999,9,     -999,9,     -999,9,     -999,9,20230816,1558, -34.8004,  72.8000,-999          ,9,-999          ,9
33RR20230722  ,I05        ,97      ,  3,19         ,19         ,2,20230816,1428, -34.8004,  72.8000,     4741,    819.9,2,   8.4464,2,  34.5963,2,  34.5969,2,    209.1,2,    209.4,2,    10.84,2,    21.32,2,     0.00,2,     1.47,2,   -0.035,4,    1.700,6,   1.3900,6,   -999.0,9,     -999,9,     -999,9,     -999,9,     -999,9,   8.4458,2,     -999,9,     -999,9,     -999,9,     -999,9,     -999,9,   4.8452,1,   0.0114,1,     15.0,6,     -999,9,     -999,9,     -999,9,     -999,9,20230816,1554, -34.8004,  72.8000,-999          ,9,-999          ,9
33RR20230722  ,I05        ,97      ,  3,18         ,18         ,2,20230816,1428, -34.8004,  72.8000,     4741,    953.5,2,   6.4732,2,  34.4290,2,  34.4288,2,    204.8,2,    205.1,2,    19.23,2,    26.46,2,     0.00,2,     1.81,2,     -999,9,     -999,9,     -999,9,   2181.1,2,   2287.0,2,   7.6516,2,    25.03,2,     -999,9,   6.4404,2,     -999,9,     -999,9,     -999,9,     -999,9,     -999,9,   4.9694,1,   0.0112,1,     -999,9,     -999,9,     -999,9,     -999,9,     -999,9,20230816,1551, -34.8004,  72.8000,-999          ,9,-999          ,9
33RR20230722  ,I05        ,97      ,  3,17         ,17         ,2,20230816,1428, -34.8004,  72.8000,     4741,   1073.0,2,   5.0822,2,  34.3561,2,  34.3566,2,    205.0,2,    204.7,2,    28.12,2,    29.36,2,     0.00,2,     2.00,2,     -999,9,     -999,9,     -999,9,   -999.0,9,     -999,9,     -999,9,     -999,9,     -999,9,   5.0864,2,     -999,9,     -999,9,     -999,9,     -999,9,     -999,9,   4.6778,1,   0.0112,1,     -999,9,     -999,9,     -999,9,     -999,9,     -999,9,20230816,1548, -34.8003,  72.8000,-999          ,9,-999          ,9
33RR20230722  ,I05        ,97      ,  3,16         ,16         ,2,20230816,1428, -34.8004,  72.8000,     4741,   1186.6,2,   4.2320,2,  34.3589,2,  34.3607,2,    197.4,2,    197.6,2,    37.88,2,    31.45,2,     0.00,2,     2.16,2,   -0.015,4,    1.106,2,   0.6100,2,   -999.0,9,     -999,9,     -999,9,     -999,9,     -999,9,   4.2319,2,     -999,9,     -999,9,     -999,9,     -999,9,     -999,9,   4.8663,1,   0.0111,1,     20.6,2,     -999,9,     -999,9,     -999,9,     -999,9,20230816,1545, -34.8004,  72.8000,-999          ,9,-999          ,9
33RR20230722  ,I05        ,97      ,  3,15         ,15         ,2,20230816,1428, -34.8004,  72.8000,     4741,   1309.0,2,   3.6546,2,  34.4114,2,  34.4125,2,    184.4,2,    184.5,2,    49.79,2,    32.93,2,     0.00,2,     2.28,2,     -999,9,     -999,9,     -999,9,   2226.7,2,   2311.0,6,   7.5834,2,    25.01,2,     -999,9,   3.6560,2,     -999,9,     -999,9,     -999,9,     -999,9,     -999,9,   4.9726,1,   0.0111,1,     -999,9,     -999,9,     -999,9,     -999,9,     -999,9,20230816,1542, -34.8004,  72.8000,-999          ,9,-999          ,9
33RR20230722  ,I05        ,97      ,  3,14         ,14         ,2,20230816,1428, -34.8004,  72.8000,     4741,   1423.5,2,   3.3369,2,  34.4621,2,  34.4646,2,    176.4,2,    176.2,2,    58.18,2,    33.52,2,     0.00,2,     2.32,2,   -0.001,4,    0.533,2,   0.2000,2,   -999.0,9,     -999,9,     -999,9,     -999,9,     -999,9,   3.3356,2,     -999,9,     -999,9,     -999,9,     -999,9,     -999,9,   4.8984,1,   0.0111,1,     22.9,2,     -999,9,     -999,9,     -999,9,     -999,9,20230816,1539, -34.8003,  72.8000,-999          ,9,-999          ,9
33RR20230722  ,I05        ,97      ,  3,13         ,13         ,2,20230816,1428, -34.8004,  72.8000,     4741,   1544.5,2,   3.0606,2,  34.5235,2,  34.5239,2,    171.2,2,    170.8,2,    65.41,2,    33.73,2,     0.00,2,     2.32,2,     -999,9,     -999,9,     -999,9,   2247.1,2,   2326.6,2,   7.5680,6,    25.02,2,     -999,9,   3.0591,2,     -999,9,     -999,9,     -999,9,     -999,9,     -999,9,   4.9740,1,   0.0118,1,     -999,9,     -999,9,     -999,9,     -999,9,     -999,9,20230816,1536, -34.8004,  72.7999,-999          ,9,-999          ,9
33RR20230722  ,I05        ,97      ,  3,12         ,12         ,2,20230816,1428, -34.8004,  72.8000,     4741,   1673.8,2,   2.8589,2,  34.5791,2,  34.5818,2,    170.5,2,    170.2,2,    70.48,2,    33.40,2,     0.00,2,     2.31,2,   -0.001,4,    0.219,2,  -0.0100,2,   -999.0,9,     -999,9,     -999,9,     -999,9,     -999,9,   2.8594,2,     -999,9,     -999,9,     -999,9,     -999,9,     -999,9,   4.8756,1,   0.0112,1,     22.9,2,     -999,9,     -999,9,     -999,9,     -999,9,20230816,1533, -34.8004,  72.8000,-999          ,9,-999          ,9
33RR20230722  ,I05        ,97      ,  3,11         ,11         ,2,20230816,1428, -34.8004,  72.8000,     4741,   1814.4,2,   2.6891,2,  34.6298,2,  34.6299,2,    173.1,2,    173.9,2,    73.99,2,    32.78,2,     0.00,2,     2.25,2,     -999,9,     -999,9,     -999,9,   2252.3,2,   2337.7,2,   7.5787,2,    25.02,2,     -999,9,   2.6892,2,     -999,9,     -999,9,     -999,9,     -999,9,     -999,9,   4.9744,1,   0.0112,1,     -999,9,     -999,9,     -999,9,     -999,9,     -999,9,20230816,1529, -34.8004,  72.8000,-999          ,9,-999          ,9
33RR20230722  ,I05        ,97      ,  3,10         ,10         ,2,20230816,1428, -34.8004,  72.8000,     4741,   1986.1,2,   2.4934,2,  34.6813,2,  34.6832,2,    178.9,2,    179.3,2,    77.99,2,    31.74,2,     0.00,2,     2.19,2,    0.000,4,    0.070,2,  -0.0400,2,   -999.0,9,     -999,9,     -999,9,     -999,9,     -999,9,   2.4924,2,     -999,9,     -999,9,     -999,9,     -999,9,     -999,9,   4.9408,1,   0.0111,1,     20.5,2,     -999,9,     -999,9,     -999,9,     -999,9,20230816,1525, -34.8004,  72.8000,-999          ,9,-999          ,9
33RR20230722  ,I05        ,97      ,  3,9          ,9          ,2,20230816,1428, -34.8004,  72.8000,     4741,   2200.9,2,   2.2107,2,  34.7180,2,  34.7195,2,    182.8,2,    183.0,2,    88.53,2,    31.43,2,     0.00,2,     2.20,2,     -999,9,     -999,9,     -999,9,   -999.0,9,     -999,9,     -999,9,     -999,9,     -999,9,   2.2112,2,     -999,9,     -999,9,     -999,9,     -999,9,     -999,9,   4.9747,1,   0.0123,1,     -999,9,     -999,9,     -999,9,     -999,9,     -999,9,20230816,1521, -34.8003,  72.7999,-999          ,9,-999          ,9
33RR20230722  ,I05        ,97      ,  3,8          ,8          ,2,20230816,1428, -34.8004,  72.8000,     4741,   2490.6,2,   1.9503,2,  34.7264,2,  34.7266,2,    178.5,2,    178.5,2,   105.71,2,    32.24,2,     0.00,2,     2.26,2,    0.000,4,    0.008,2,  -0.0200,2,   2275.2,2,   2371.3,2,   7.6067,2,    25.03,2,     -999,9,   1.9500,2,     -999,9,     -999,9,     -999,9,     -999,9,     -999,9,   4.9752,1,   0.0113,1,     20.6,2,     -999,9,     -999,9,     -999,9,     -999,9,20230816,1515, -34.8004,  72.8000,-999          ,9,-999          ,9
33RR20230722  ,I05        ,97      ,  3,7          ,7          ,2,20230816,1428, -34.8004,  72.8000,     4741,   2819.5,2,   1.7799,2,  34.7264,2,  34.7266,2,    178.4,2,    178.3,2,   114.39,2,    32.76,2,     0.00,2,     2.27,2,     -999,9,     -999,9,     -999,9,   -999.0,9,     -999,9,     -999,9,     -999,9,     -999,9,   1.7799,2,     -999,9,     -999,9,     -999,9,     -999,9,     -999,9,   4.7982,1,   0.0112,1,     -999,9,     -999,9,     -999,9,     -999,9,     -999,9,20230816,1508, -34.8003,  72.7999,-999          ,9,-999          ,9
33RR20230722  ,I05        ,97      ,  3,6          ,6          ,2,20230816,1428, -34.8004,  72.8000,     4741,   3229.2,2,   1.5381,2,  34.7205,2,  34.7209,2,    183.7,2,    183.6,2,   120.93,2,    32.85,2,     0.00,2,     2.28,2,   -0.003,4,    0.007,2,  -0.0400,2,   -999.0,9,     -999,9,     -999,9,     -999,9,     -999,9,   1.5369,2,     -999,9,     -999,9,     -999,9,     -999,9,     -999,9,   4.9761,1,   0.0114,1,     19.8,2,     -999,9,     -999,9,     -999,9,     -999,9,20230816,1500, -34.8004,  72.8000,-999          ,9,-999          ,9
33RR20230722  ,I05        ,97      ,  3,5          ,5          ,2,20230816,1428, -34.8004,  72.8000,     4741,   3664.2,2,   1.2782,2,  34.7116,2,  34.7117,2,    192.2,2,    192.5,2,   123.86,2,    32.67,2,     0.00,2,     2.26,2,     -999,9,     -999,9,     -999,9,   2279.8,2,   2376.9,2,   7.6107,2,    25.02,2,     -999,9,   1.2805,2,     -999,9,     -999,9,     -999,9,     -999,9,     -999,9,   4.9762,1,   0.0112,1,     -999,9,     -999,9,     -999,9,     -999,9,     -999,9,20230816,1452, -34.8004,  72.8000,-999          ,9,-999          ,9
33RR20230722  ,I05        ,97      ,  3,4          ,37         ,2,20230816,1428, -34.8004,  72.8000,     4741,   4043.6,2,   1.1217,2,  34.7058,3,  34.7129,2,    198.0,2,    198.4,2,   125.43,2,    32.58,2,     0.00,2,     2.27,2,    0.001,4,    0.028,2,   0.0200,2,   -999.0,9,     -999,9,     -999,9,     -999,9,     -999,9,   1.1209,2,     -999,9,     -999,9,     -999,9,     -999,9,     -999,9,   4.9765,1,   0.0111,1,     19.1,2,     -999,9,     -999,9,     -999,9,     -999,9,20230816,1445, -34.8004,  72.8000,-999          ,9,-999          ,9
33RR20230722  ,I05        ,97      ,  3,3          ,3          ,2,20230816,1428, -34.8004,  72.8000,     4741,   4351.8,2,   1.0787,2,  34.7036,2,  34.7038,2,    200.3,2,    200.5,2,   126.30,2,    32.58,2,     0.00,2,     2.26,2,    0.003,4,    0.035,2,   0.0100,2,   2272.2,2,   2374.7,2,   7.6127,2,    25.02,2,     -999,9,   1.0785,2,     -999,9,     -999,9,     -999,9,     -999,9,     -999,9,   4.9765,1,   0.0116,1,     19.3,2,     -999,9,     -999,9,     -999,9,     -999,9,20230816,1439, -34.8004,  72.8000,-999          ,9,-999          ,9