BOTTLE,20240422CCHHYDRO
EXPOCODE,SECT_ID,STNNBR,CASTNO,SAMPNO,BTLNBR,BTLNBR_FLAG_W,DATE,TIME,LATITUDE,LONGITUDE,DEPTH,CTDPRS,CTDPRS_FLAG_W,CTDTMP,CTDTMP_FLAG_W,CTDSAL,CTDSAL_FLAG_W,SALNTY,SALNTY_FLAG_W,CTDOXY,CTDOXY_FLAG_W,OXYGEN,OXYGEN_FLAG_W,SILCAT,SILCAT_FLAG_W,NITRAT,NITRAT_FLAG_W,NITRIT,NITRIT_FLAG_W,PHSPHT,PHSPHT_FLAG_W,CFC-11,CFC-11_FLAG_W,CFC-12,CFC-12_FLAG_W,SF6,SF6_FLAG_W,TCARBN,TCARBN_FLAG_W,ALKALI,ALKALI_FLAG_W,PH_TOT,PH_TOT_FLAG_W,PH_TMP,PH_TMP_FLAG_W,DOC,DOC_FLAG_W,REFTMP,REFTMP_FLAG_W,POC,POC_FLAG_W,PON,PON_FLAG_W,POP,POP_FLAG_W,DOP,DOP_FLAG_W,DELO18,DELO18_FLAG_W,CTDFLUOR,CTDFLUOR_FLAG_W,CTDXMISS,CTDXMISS_FLAG_W,N2O,N2O_FLAG_W,D15N_NO3,D15N_NO3_FLAG_W,D15N_NO2+NO3,D15N_NO2+NO3_FLAG_W,D18O_NO2+NO3,D18O_NO2+NO3_FLAG_W,D18O_NO3,D18O_NO3_FLAG_W,BTL_DATE,BTL_TIME,BTL_LAT,BTL_LON,HPLC,HPLC_FLAG_W,DNA,DNA_FLAG_W
,,,,,,,,,,,METERS,DBAR,,ITS-90,,PSS-78,,PSS-78,,UMOL/KG,,UMOL/KG,,UMOL/KG,,UMOL/KG,,UMOL/KG,,UMOL/KG,,PMOL/KG,,PMOL/KG,,FMOL/KG,,UMOL/KG,,UMOL/KG,,,,DEG C,,UMOL/KG,,ITS-90,,UG/KG,,UG/KG,,UG/L,,UMOL/KG,,/MILLE,,VOLTS,,VOLTS,,NMOL/KG,,/MILLE,,/MILLE,,/MILLE,,/MILLE,,,,,,,,,
33RR20230722  ,I05        ,179     ,  1,32         ,32         ,2,20230906,1915, -32.6976,  34.1231,     2489,      6.1,2,  19.8420,2,  35.5875,2,  35.5865,2,    218.3,2,    218.7,2,     2.34,2,     0.91,2,     0.07,2,     0.18,2,    1.643,2,    1.176,2,   2.0900,2,   2059.7,6,   2330.9,2,   7.9813,2,    25.00,2,     -999,1,     -999,1,     -999,9,     -999,9,     -999,9,     -999,9,     -999,9,   4.5796,1,   0.0450,1,      8.1,2,     -999,9,     -999,9,     -999,9,     -999,9,20230906,2034, -32.6976,  34.1231,-999          ,9,-999          ,9
33RR20230722  ,I05        ,179     ,  1,31         ,31         ,2,20230906,1915, -32.6976,  34.1231,     2489,     20.9,2,  19.8470,2,  35.5875,2,  35.5855,2,    218.0,2,    218.6,2,     2.34,2,     0.87,2,     0.07,2,     0.17,2,     -999,9,     -999,9,     -999,9,   -999.0,9,     -999,9,     -999,9,     -999,9,     -999,9,     -999,1,     -999,9,     -999,9,     -999,9,     -999,9,     -999,9,   4.9727,1,   0.0459,1,     -999,9,     -999,9,     -999,9,     -999,9,     -999,9,20230906,2032, -32.6975,  34.1231,-999          ,9,-999          ,9
33RR20230722  ,I05        ,179     ,  1,30         ,30         ,2,20230906,1915, -32.6976,  34.1231,     2489,     36.7,2,  19.8536,2,  35.5873,2,  35.5878,2,    217.8,2,    218.8,2,     2.24,2,     0.86,2,     0.07,2,     0.20,2,     -999,9,     -999,9,     -999,9,   2060.3,2,   2331.4,2,   7.9815,2,    24.99,2,     -999,9,  19.8523,2,     -999,9,     -999,9,     -999,9,     -999,9,     -999,9,   4.9143,1,   0.0477,1,     -999,9,     -999,9,     -999,9,     -999,9,     -999,9,20230906,2031, -32.6975,  34.1231,-999          ,9,-999          ,9
33RR20230722  ,I05        ,179     ,  1,29         ,29         ,2,20230906,1915, -32.6976,  34.1231,     2489,     57.7,2,  19.7345,2,  35.5943,2,  35.5892,2,    221.2,2,    220.6,2,     2.15,2,     0.65,2,     0.06,2,     0.16,2,    1.687,2,    1.208,2,   2.1800,2,   2060.2,2,   2329.4,2,   7.9836,2,    24.99,2,     -999,9,  19.7474,2,     -999,9,     -999,9,     -999,9,     -999,9,     -999,9,   4.6956,1,   0.0410,1,      8.1,2,     -999,9,     -999,9,     -999,9,     -999,9,20230906,2029, -32.6975,  34.1231,-999          ,9,-999          ,9
33RR20230722  ,I05        ,179     ,  1,28         ,28         ,2,20230906,1915, -32.6976,  34.1231,     2489,     79.4,2,  18.5201,2,  35.6939,2,  35.6919,2,    232.8,2,    231.8,2,     1.76,2,     0.00,2,     0.06,2,     0.12,2,     -999,9,     -999,9,     -999,9,   2070.7,2,   2337.8,2,   7.9751,6,    24.97,2,     -999,9,  18.5182,2,     -999,9,     -999,9,     -999,9,     -999,9,     -999,9,   4.7037,1,   0.0318,1,     -999,9,     -999,9,     -999,9,     -999,9,     -999,9,20230906,2027, -32.6976,  34.1231,-999          ,9,-999          ,9
33RR20230722  ,I05        ,179     ,  1,27         ,27         ,2,20230906,1915, -32.6976,  34.1231,     2489,    106.2,2,  18.3751,2,  35.6978,2,  35.6958,2,    233.6,2,    232.3,2,     1.76,2,     0.00,2,     0.07,2,     0.12,2,    1.698,2,    1.261,2,   2.2000,2,   2070.2,2,   2340.6,2,   7.9718,2,    24.96,2,     -999,9,  18.3777,2,     -999,9,     -999,9,     -999,9,     -999,9,     -999,9,   4.7969,1,   0.0221,1,      8.1,2,     -999,9,     -999,9,     -999,9,     -999,9,20230906,2025, -32.6976,  34.1230,-999          ,9,-999          ,9
33RR20230722  ,I05        ,179     ,  1,26         ,26         ,2,20230906,1915, -32.6976,  34.1231,     2489,    132.8,2,  18.3315,2,  35.6987,2,  35.6968,2,    232.4,2,    231.0,2,     1.76,2,     0.00,2,     0.13,2,     0.11,2,     -999,9,     -999,9,     -999,9,   2070.7,2,   2339.4,2,   7.9712,2,    24.95,2,     -999,9,  18.3304,2,     -999,9,     -999,9,     -999,9,     -999,9,     -999,9,   4.9034,1,   0.0205,1,     -999,9,     -999,9,     -999,9,     -999,9,     -999,9,20230906,2024, -32.6975,  34.1230,-999          ,9,-999          ,9
33RR20230722  ,I05        ,179     ,  1,25         ,25         ,2,20230906,1915, -32.6976,  34.1231,     2489,    163.1,2,  18.0926,2,  35.6804,2,  35.6782,2,    229.0,2,    228.4,2,     1.95,2,     0.42,2,     0.28,2,     0.16,2,     -999,9,     -999,9,     -999,9,   2075.1,2,   2338.3,2,   7.9604,2,    24.96,2,     -999,9,  18.0871,2,     -999,9,     -999,9,     -999,9,     -999,9,     -999,9,   4.9720,1,   0.0153,1,     -999,9,     -999,9,     -999,9,     -999,9,     -999,9,20230906,2022, -32.6975,  34.1231,-999          ,9,-999          ,9
33RR20230722  ,I05        ,179     ,  1,24         ,24         ,2,20230906,1915, -32.6976,  34.1231,     2489,    197.9,2,  17.6054,2,  35.6509,2,  35.6492,2,    225.3,2,    225.6,2,     2.15,2,     1.48,2,     0.02,2,     0.20,2,     -999,9,     -999,9,     -999,9,   -999.0,9,     -999,9,     -999,9,     -999,9,     -999,9,  17.6035,2,     -999,9,     -999,9,     -999,9,     -999,9,     -999,9,   4.9711,1,   0.0122,1,     -999,9,     -999,9,     -999,9,     -999,9,     -999,9,20230906,2020, -32.6976,  34.1230,-999          ,9,-999          ,9
33RR20230722  ,I05        ,179     ,  1,23         ,23         ,2,20230906,1915, -32.6976,  34.1231,     2489,    239.1,2,  17.3799,2,  35.6451,2,  35.6449,2,    228.3,2,    228.5,2,     2.15,2,     1.51,2,     0.03,2,     0.21,2,    1.767,2,    1.304,2,   2.3400,2,   2084.1,2,   2333.6,2,   7.9456,6,    24.98,2,     -999,9,  17.3795,2,     -999,9,     -999,9,     -999,9,     -999,9,     -999,9,   4.6734,1,   0.0125,1,      8.5,2,     -999,9,     -999,9,     -999,9,     -999,9,20230906,2018, -32.6976,  34.1231,-999          ,9,-999          ,9
33RR20230722  ,I05        ,179     ,  1,22         ,22         ,2,20230906,1915, -32.6976,  34.1231,     2489,    288.8,2,  16.3696,2,  35.5490,2,  35.5482,2,    210.3,2,    212.1,2,     2.93,2,     4.51,2,     0.00,2,     0.41,2,     -999,9,     -999,9,     -999,9,   -999.0,9,     -999,9,     -999,9,     -999,9,     -999,9,  16.3600,2,     -999,9,     -999,9,     -999,9,     -999,9,     -999,9,   4.9682,1,   0.0117,1,     -999,9,     -999,9,     -999,9,     -999,9,     -999,9,20230906,2016, -32.6976,  34.1231,-999          ,9,-999          ,9
33RR20230722  ,I05        ,179     ,  1,21         ,21         ,2,20230906,1915, -32.6976,  34.1231,     2489,    352.7,2,  15.2079,2,  35.4468,2,  35.4464,2,    213.0,2,    214.4,2,     3.32,2,     6.05,2,     0.00,2,     0.51,2,    2.214,2,    1.472,2,   2.3800,2,   2113.5,2,   2324.8,6,   7.8697,2,    24.94,2,     -999,9,  15.2114,2,     -999,9,     -999,9,     -999,9,     -999,9,     -999,9,   4.7864,1,   0.0117,1,     10.1,2,     -999,9,     -999,9,     -999,9,     -999,9,20230906,2014, -32.6976,  34.1231,-999          ,9,-999          ,9
33RR20230722  ,I05        ,179     ,  1,20         ,20         ,2,20230906,1915, -32.6976,  34.1231,     2489,    420.5,2,  14.1583,2,  35.3382,2,  35.3372,2,    216.7,2,    217.2,2,     3.51,2,     7.48,2,     0.00,2,     0.61,2,    2.459,2,    1.558,2,   2.0400,2,   -999.0,9,     -999,9,     -999,9,     -999,9,     -999,9,  14.1580,2,     -999,9,     -999,9,     -999,9,     -999,9,     -999,9,   4.6398,1,   0.0116,1,     10.7,2,     -999,9,     -999,9,     -999,9,     -999,9,20230906,2012, -32.6976,  34.1231,-999          ,9,-999          ,9
33RR20230722  ,I05        ,179     ,  1,19         ,19         ,2,20230906,1915, -32.6976,  34.1231,     2489,    495.6,2,  13.4234,2,  35.2559,2,  35.2552,2,    221.9,2,    221.9,2,     3.61,2,     8.59,2,     0.00,2,     0.68,2,     -999,9,     -999,9,     -999,9,   2123.3,2,   2316.4,2,   7.8320,2,    24.95,2,     -999,9,  13.4170,2,     -999,9,     -999,9,     -999,9,     -999,9,     -999,9,   4.9543,1,   0.0115,1,     -999,9,     -999,9,     -999,9,     -999,9,     -999,9,20230906,2009, -32.6976,  34.1231,-999          ,9,-999          ,9
33RR20230722  ,I05        ,179     ,  1,18         ,18         ,2,20230906,1915, -32.6976,  34.1231,     2489,    576.3,2,  12.8072,2,  35.1749,2,  35.1736,2,    221.8,2,    221.4,2,     3.90,2,    10.02,2,     0.00,2,     0.76,2,    2.350,2,    1.657,2,   1.9900,2,   2127.8,2,   2313.7,2,   7.8179,2,    24.96,2,     -999,9,  12.8070,2,     -999,9,     -999,9,     -999,9,     -999,9,     -999,9,   4.8610,1,   0.0116,1,     11.4,2,     -999,9,     -999,9,     -999,9,     -999,9,20230906,2007, -32.6975,  34.1231,-999          ,9,-999          ,9
33RR20230722  ,I05        ,179     ,  1,17         ,17         ,2,20230906,1915, -32.6976,  34.1231,     2489,    662.1,2,  11.9302,2,  35.0409,2,  35.0411,2,    219.6,2,    219.6,2,     4.68,2,    12.05,2,     0.00,2,     0.90,2,    2.760,2,    1.727,2,   2.0000,2,   2132.4,2,   2307.1,2,   7.7975,2,    24.93,2,     -999,9,  11.9356,2,     -999,9,     -999,9,     -999,9,     -999,9,     -999,9,   4.6644,1,   0.0113,1,     12.3,2,     -999,9,     -999,9,     -999,9,     -999,9,20230906,2004, -32.6976,  34.1231,-999          ,9,-999          ,9
33RR20230722  ,I05        ,179     ,  1,16         ,16         ,2,20230906,1915, -32.6976,  34.1231,     2489,    754.8,2,  10.7751,2,  34.8811,2,  34.8823,2,    218.5,2,    218.5,2,     5.85,2,    14.79,2,     0.00,2,     1.07,2,     -999,9,     -999,9,     -999,9,   2138.4,2,   2299.6,2,   7.7681,2,    24.98,2,     -999,9,  10.7655,2,     -999,9,     -999,9,     -999,9,     -999,9,     -999,9,   4.8736,1,   0.0116,1,     -999,9,     -999,9,     -999,9,     -999,9,     -999,9,20230906,2002, -32.6976,  34.1231,-999          ,9,-999          ,9
33RR20230722  ,I05        ,179     ,  1,15         ,15         ,2,20230906,1915, -32.6976,  34.1231,     2489,    855.9,2,   9.5103,2,  34.7218,2,  34.7205,2,    214.7,2,    214.6,2,     8.49,2,    18.16,2,     0.00,2,     1.28,2,    2.737,2,    1.743,2,   1.5400,2,   2150.0,2,   2293.3,2,   7.7344,6,    24.95,2,     -999,9,   9.5049,2,     -999,9,     -999,9,     -999,9,     -999,9,     -999,9,   4.6528,1,   0.0113,1,     14.5,2,     -999,9,     -999,9,     -999,9,     -999,9,20230906,1959, -32.6975,  34.1231,-999          ,9,-999          ,9
33RR20230722  ,I05        ,179     ,  1,14         ,14         ,2,20230906,1915, -32.6976,  34.1231,     2489,    963.2,2,   8.0043,2,  34.5738,2,  34.5773,2,    206.8,2,    206.8,2,    13.96,2,    22.43,2,     0.00,2,     1.57,2,     -999,9,     -999,9,     -999,9,   2164.8,2,   2291.9,2,   7.6884,2,    24.98,2,     -999,9,   8.0162,2,     -999,9,     -999,9,     -999,9,     -999,9,     -999,9,   4.9687,1,   0.0112,1,     -999,9,     -999,9,     -999,9,     -999,9,     -999,9,20230906,1956, -32.6976,  34.1231,-999          ,9,-999          ,9
33RR20230722  ,I05        ,179     ,  1,13         ,13         ,2,20230906,1915, -32.6976,  34.1231,     2489,   1070.2,2,   6.7492,2,  34.4770,2,  34.4763,2,    202.6,2,    202.3,2,    20.40,2,    25.84,2,     0.00,2,     1.81,2,    2.443,2,    1.485,2,   1.1300,2,   2178.9,2,   2291.1,2,   7.6543,2,    24.97,2,     -999,9,   6.7509,2,     -999,9,     -999,9,     -999,9,     -999,9,     -999,9,   4.9699,1,   0.0112,1,     18.0,2,     -999,9,     -999,9,     -999,9,     -999,9,20230906,1953, -32.6976,  34.1230,-999          ,9,-999          ,9
33RR20230722  ,I05        ,179     ,  1,12         ,12         ,2,20230906,1915, -32.6976,  34.1231,     2489,   1182.2,2,   5.5228,2,  34.4274,2,  34.4245,2,    194.7,2,    195.6,2,    30.65,2,    29.03,2,     0.00,2,     2.03,2,     -999,9,     -999,9,     -999,9,   2197.2,2,   2296.6,2,   7.6203,2,    24.98,2,     -999,9,   5.5264,2,     -999,9,     -999,9,     -999,9,     -999,9,     -999,9,   4.7129,1,   0.0112,1,     -999,9,     -999,9,     -999,9,     -999,9,     -999,9,20230906,1950, -32.6976,  34.1231,-999          ,9,-999          ,9
33RR20230722  ,I05        ,179     ,  1,11         ,11         ,2,20230906,1915, -32.6976,  34.1231,     2489,   1299.2,2,   4.9488,2,  34.4621,2,  34.4608,2,    178.4,2,    178.7,2,    42.56,2,    31.17,2,     0.00,2,     2.19,2,    1.336,2,    0.867,2,   0.5000,2,   2217.1,2,   2308.8,2,   7.5971,2,    24.97,2,     -999,9,   4.9501,2,     -999,9,     -999,9,     -999,9,     -999,9,     -999,9,   4.9723,1,   0.0111,1,     22.7,2,     -999,9,     -999,9,     -999,9,     -999,9,20230906,1947, -32.6976,  34.1231,-999          ,9,-999          ,9
33RR20230722  ,I05        ,179     ,  1,10         ,10         ,2,20230906,1915, -32.6976,  34.1231,     2489,   1411.6,2,   4.2264,2,  34.4682,2,  34.4667,2,    176.1,2,    176.3,2,    50.07,2,    32.36,2,     0.00,2,     2.27,2,     -999,9,     -999,9,     -999,9,   2227.5,2,   2315.2,2,   7.5835,2,    24.95,2,     -999,9,   4.2254,2,     -999,9,     -999,9,     -999,9,     -999,9,     -999,9,   4.9560,1,   0.0111,1,     -999,9,     -999,9,     -999,9,     -999,9,     -999,9,20230906,1944, -32.6976,  34.1231,-999          ,9,-999          ,9
33RR20230722  ,I05        ,179     ,  1,9          ,9          ,2,20230906,1915, -32.6976,  34.1231,     2489,   1516.1,2,   3.8064,2,  34.5320,2,  34.5300,2,    166.7,2,    166.8,2,    60.42,2,    33.20,2,     0.00,2,     2.34,2,    0.729,2,    0.439,2,   0.1900,2,   2242.0,2,   2328.6,2,   7.5728,2,    24.97,2,     -999,9,   3.8080,2,     -999,9,     -999,9,     -999,9,     -999,9,     -999,9,   4.9736,1,   0.0119,1,     23.8,2,     -999,9,     -999,9,     -999,9,     -999,9,20230906,1941, -32.6976,  34.1231,-999          ,9,-999          ,9
33RR20230722  ,I05        ,179     ,  1,8          ,8          ,2,20230906,1915, -32.6976,  34.1231,     2489,   1600.1,2,   3.8032,2,  34.6123,2,  34.6109,2,    154.3,2,    153.9,2,    69.78,2,    33.56,2,     0.00,2,     2.38,2,     -999,9,     -999,9,     -999,9,   -999.0,9,     -999,9,     -999,9,     -999,9,     -999,9,   3.8030,2,     -999,9,     -999,9,     -999,9,     -999,9,     -999,9,   4.9740,1,   0.0125,1,     -999,9,     -999,9,     -999,9,     -999,9,     -999,9,20230906,1938, -32.6976,  34.1231,-999          ,9,-999          ,9
33RR20230722  ,I05        ,179     ,  1,7          ,7          ,2,20230906,1915, -32.6976,  34.1231,     2489,   1687.8,2,   3.5955,2,  34.6432,2,  34.6419,2,    154.5,2,    154.3,2,    74.07,2,    33.45,2,     0.00,2,     2.36,2,     -999,9,     -999,9,     -999,9,   2258.6,2,   2343.5,2,   7.5694,6,    24.98,2,     -999,9,   3.5919,2,     -999,9,     -999,9,     -999,9,     -999,9,     -999,9,   4.9072,1,   0.0117,1,     -999,9,     -999,9,     -999,9,     -999,9,     -999,9,20230906,1936, -32.6976,  34.1231,-999          ,9,-999          ,9
33RR20230722  ,I05        ,179     ,  1,6          ,6          ,2,20230906,1915, -32.6976,  34.1231,     2489,   1802.1,2,   3.3140,2,  34.6642,2,  34.6633,2,    159.9,2,    159.9,2,    75.83,2,    33.00,2,     0.00,2,     2.33,2,     -999,9,     -999,9,     -999,9,   2257.4,2,   2345.4,2,   7.5755,2,    24.97,2,     -999,9,   3.3150,2,     -999,9,     -999,9,     -999,9,     -999,9,     -999,9,   4.9282,1,   0.0122,1,     -999,9,     -999,9,     -999,9,     -999,9,     -999,9,20230906,1933, -32.6976,  34.1231,-999          ,9,-999          ,9
33RR20230722  ,I05        ,179     ,  1,5          ,5          ,2,20230906,1915, -32.6976,  34.1231,     2489,   1912.1,2,   3.0442,2,  34.6781,2,  34.6769,2,    168.7,2,    169.0,2,    75.15,2,    32.25,2,     0.00,2,     2.28,2,     -999,9,     -999,9,     -999,9,   2251.1,2,   2344.3,6,   7.5857,2,    24.95,2,     -999,9,   3.0441,2,     -999,9,     -999,9,     -999,9,     -999,9,     -999,9,   4.8788,1,   0.0121,1,     -999,9,     -999,9,     -999,9,     -999,9,     -999,9,20230906,1930, -32.6976,  34.1230,-999          ,9,-999          ,9
33RR20230722  ,I05        ,179     ,  1,4          ,37         ,2,20230906,1915, -32.6976,  34.1231,     2489,   2038.3,2,   2.8399,2,  34.7045,2,  34.7036,2,    176.8,2,    176.8,2,    74.95,2,    31.40,2,     0.00,2,     2.21,2,    0.138,2,    0.081,2,   0.0000,2,   2248.7,2,   2344.3,2,   7.5990,2,    24.95,2,     -999,9,   2.8399,2,     -999,9,     -999,9,     -999,9,     -999,9,     -999,9,   4.9734,1,   0.0120,1,     22.0,2,     -999,9,     -999,9,     -999,9,     -999,9,20230906,1926, -32.6976,  34.1230,-999          ,9,-999          ,9
33RR20230722  ,I05        ,179     ,  1,3          ,3          ,2,20230906,1915, -32.6976,  34.1231,     2489,   2212.1,2,   2.7066,2,  34.7421,2,  34.7410,2,    184.4,2,    184.6,2,    74.17,2,    30.32,2,     0.00,2,     2.14,2,     -999,9,     -999,9,     -999,9,   2246.3,2,   2346.8,2,   7.6132,6,    24.97,2,     -999,9,   2.7068,2,     -999,9,     -999,9,     -999,9,     -999,9,     -999,9,   4.9730,1,   0.0124,1,     -999,9,     -999,9,     -999,9,     -999,9,     -999,9,20230906,1922, -32.6976,  34.1231,-999          ,9,-999          ,9
33RR20230722  ,I05        ,179     ,  1,2          ,2          ,2,20230906,1915, -32.6976,  34.1231,     2489,   2377.3,2,   2.5862,2,  34.7670,2,  34.7665,2,    192.7,2,    193.1,2,    72.21,2,    29.26,2,     0.00,2,     2.05,2,     -999,9,     -999,9,     -999,9,   2239.8,2,   2345.7,2,   7.6275,2,    24.96,2,     -999,9,   2.5860,2,     -999,9,     -999,9,     -999,9,     -999,9,     -999,9,   4.9010,1,   0.0117,1,     -999,9,     -999,9,     -999,9,     -999,9,     -999,9,20230906,1918, -32.6976,  34.1231,-999          ,9,-999          ,9
33RR20230722  ,I05        ,179     ,  1,1          ,1          ,2,20230906,1915, -32.6976,  34.1231,     2489,   2508.6,2,   2.5595,2,  34.7728,2,  34.7724,2,    195.4,2,    195.2,2,    72.02,2,    29.03,2,     0.00,2,     2.03,2,    0.055,2,    0.032,2,   0.1300,2,   2238.3,6,   2343.1,2,   7.6324,2,    24.95,2,     -999,9,   2.5595,2,     -999,9,     -999,9,     -999,9,     -999,9,     -999,9,   0.6235,1,   0.0117,1,     19.1,2,     -999,9,     -999,9,     -999,9,     -999,9,20230906,1915, -32.6976,  34.1231,-999          ,9,-999          ,9