BOTTLE,20240422CCHHYDRO
EXPOCODE,SECT_ID,STNNBR,CASTNO,SAMPNO,BTLNBR,BTLNBR_FLAG_W,DATE,TIME,LATITUDE,LONGITUDE,DEPTH,CTDPRS,CTDPRS_FLAG_W,CTDTMP,CTDTMP_FLAG_W,CTDSAL,CTDSAL_FLAG_W,SALNTY,SALNTY_FLAG_W,CTDOXY,CTDOXY_FLAG_W,OXYGEN,OXYGEN_FLAG_W,SILCAT,SILCAT_FLAG_W,NITRAT,NITRAT_FLAG_W,NITRIT,NITRIT_FLAG_W,PHSPHT,PHSPHT_FLAG_W,CFC-11,CFC-11_FLAG_W,CFC-12,CFC-12_FLAG_W,SF6,SF6_FLAG_W,TCARBN,TCARBN_FLAG_W,ALKALI,ALKALI_FLAG_W,PH_TOT,PH_TOT_FLAG_W,PH_TMP,PH_TMP_FLAG_W,DOC,DOC_FLAG_W,REFTMP,REFTMP_FLAG_W,POC,POC_FLAG_W,PON,PON_FLAG_W,POP,POP_FLAG_W,DOP,DOP_FLAG_W,DELO18,DELO18_FLAG_W,CTDFLUOR,CTDFLUOR_FLAG_W,CTDXMISS,CTDXMISS_FLAG_W,N2O,N2O_FLAG_W,D15N_NO3,D15N_NO3_FLAG_W,D15N_NO2+NO3,D15N_NO2+NO3_FLAG_W,D18O_NO2+NO3,D18O_NO2+NO3_FLAG_W,D18O_NO3,D18O_NO3_FLAG_W,BTL_DATE,BTL_TIME,BTL_LAT,BTL_LON,HPLC,HPLC_FLAG_W,DNA,DNA_FLAG_W
,,,,,,,,,,,METERS,DBAR,,ITS-90,,PSS-78,,PSS-78,,UMOL/KG,,UMOL/KG,,UMOL/KG,,UMOL/KG,,UMOL/KG,,UMOL/KG,,PMOL/KG,,PMOL/KG,,FMOL/KG,,UMOL/KG,,UMOL/KG,,,,DEG C,,UMOL/KG,,ITS-90,,UG/KG,,UG/KG,,UG/L,,UMOL/KG,,/MILLE,,VOLTS,,VOLTS,,NMOL/KG,,/MILLE,,/MILLE,,/MILLE,,/MILLE,,,,,,,,,
33RR20230722  ,I05        ,191     ,  1,32         ,32         ,2,20230909,1756, -31.2048,  30.6062,     2774,      3.1,2,  22.2526,2,  35.4151,2,  35.4141,2,    220.3,2,    219.3,2,     1.07,2,     0.00,2,     0.00,2,     0.13,2,    1.648,2,    1.082,2,   1.9600,2,   2026.0,6,   2320.5,2,   8.0284,6,    25.02,2,     -999,1,  22.2538,2,     -999,9,     -999,9,     -999,9,     -999,9,     -999,9,   4.5031,1,   0.0277,1,      7.2,2,     -999,1,     -999,1,     -999,1,     -999,1,20230909,1925, -31.2048,  30.6062,-999          ,9,-999          ,9
33RR20230722  ,I05        ,191     ,  1,31         ,31         ,2,20230909,1756, -31.2048,  30.6062,     2774,     28.1,2,  21.7008,2,  35.4262,2,  35.4257,2,    220.6,2,    219.7,2,     1.56,2,     0.00,2,     0.05,2,     0.11,2,     -999,9,     -999,9,     -999,9,   2028.2,2,   2320.0,2,   8.0200,2,    25.01,2,     -999,9,  21.7037,2,     -999,9,     -999,9,     -999,9,     -999,9,     -999,9,   4.7978,1,   0.0429,1,     -999,9,     -999,1,     -999,1,     -999,1,     -999,1,20230909,1923, -31.2049,  30.6062,-999          ,9,-999          ,9
33RR20230722  ,I05        ,191     ,  1,30         ,30         ,2,20230909,1756, -31.2048,  30.6062,     2774,     44.4,2,  21.6742,2,  35.4250,2,  35.4245,2,    219.4,2,    218.5,2,     1.56,2,     0.00,2,     0.11,2,     0.13,2,     -999,9,     -999,9,     -999,9,   2031.3,2,   2319.2,2,   8.0174,2,    25.05,2,     -999,9,  21.6728,2,     -999,9,     -999,9,     -999,9,     -999,9,     -999,9,   4.9357,1,   0.0351,1,     -999,9,     -999,1,     -999,1,     -999,1,     -999,1,20230909,1921, -31.2049,  30.6062,-999          ,9,-999          ,9
33RR20230722  ,I05        ,191     ,  1,29         ,29         ,2,20230909,1756, -31.2048,  30.6062,     2774,     62.8,2,  21.5899,2,  35.4225,2,  35.4222,2,    216.1,2,    216.5,2,     1.66,2,     0.12,2,     0.23,2,     0.12,2,     -999,9,     -999,9,     -999,9,   2033.7,2,   2319.5,2,   8.0133,2,    24.99,2,     -999,9,  21.5848,2,     -999,9,     -999,9,     -999,9,     -999,9,     -999,9,   4.9732,1,   0.0253,1,     -999,9,     -999,1,     -999,1,     -999,1,     -999,1,20230909,1919, -31.2049,  30.6062,-999          ,9,-999          ,9
33RR20230722  ,I05        ,191     ,  1,28         ,28         ,2,20230909,1756, -31.2048,  30.6062,     2774,     81.0,2,  21.3966,2,  35.4277,2,  35.4257,2,    205.6,3,    208.9,2,     1.85,2,     0.84,2,     0.29,2,     0.18,2,     -999,9,     -999,9,     -999,9,   2041.6,2,   2319.4,2,   8.0001,2,    25.04,2,     -999,9,  21.3954,2,     -999,9,     -999,9,     -999,9,     -999,9,     -999,9,   4.8753,1,   0.0177,1,     -999,9,     -999,1,     -999,1,     -999,1,     -999,1,20230909,1917, -31.2049,  30.6062,-999          ,9,-999          ,9
33RR20230722  ,I05        ,191     ,  1,27         ,27         ,2,20230909,1756, -31.2048,  30.6062,     2774,    104.4,2,  20.0343,2,  35.5361,3,  35.5147,2,    182.1,3,    184.2,2,     3.80,2,     4.05,2,     0.03,2,     0.37,2,    1.738,2,    1.156,2,   1.8000,2,   2078.8,2,   2325.9,2,   7.9375,2,    25.03,2,     -999,9,  20.0358,2,     -999,9,     -999,9,     -999,9,     -999,9,     -999,9,   4.9676,1,   0.0119,1,      9.6,2,     -999,1,     -999,1,     -999,1,     -999,1,20230909,1914, -31.2049,  30.6062,-999          ,9,-999          ,9
33RR20230722  ,I05        ,191     ,  1,26         ,26         ,2,20230909,1756, -31.2048,  30.6062,     2774,    126.6,2,  19.2866,2,  35.5988,2,  35.5977,2,    199.0,2,    200.3,2,     3.12,2,     2.67,2,     0.02,2,     0.29,2,     -999,9,     -999,9,     -999,9,   2081.4,2,   2330.7,2,   7.9454,2,    25.02,2,     -999,9,  19.2833,2,     -999,9,     -999,9,     -999,9,     -999,9,     -999,9,   4.7845,1,   0.0117,1,     -999,9,     -999,1,     -999,1,     -999,1,     -999,1,20230909,1912, -31.2048,  30.6062,-999          ,9,-999          ,9
33RR20230722  ,I05        ,191     ,  1,25         ,25         ,2,20230909,1756, -31.2048,  30.6062,     2774,    162.3,2,  18.5449,2,  35.6447,2,  35.6449,2,    224.0,2,    223.9,2,     2.15,2,     1.05,2,     0.00,2,     0.17,2,     -999,9,     -999,9,     -999,9,   2072.9,2,   2331.7,2,   7.9653,2,    25.05,2,     -999,9,  18.5442,2,     -999,9,     -999,9,     -999,9,     -999,9,     -999,9,   4.9718,1,   0.0119,1,     -999,9,     -999,1,     -999,1,     -999,1,     -999,1,20230909,1910, -31.2049,  30.6062,-999          ,9,-999          ,9
33RR20230722  ,I05        ,191     ,  1,24         ,24         ,2,20230909,1756, -31.2048,  30.6062,     2774,    202.5,2,  17.2406,2,  35.5572,3,  35.5324,2,    194.0,3,    188.0,2,     4.88,2,     5.92,2,     0.00,2,     0.49,2,     -999,9,     -999,9,     -999,9,   2107.8,2,   2326.8,6,   7.8850,2,    25.02,2,     -999,9,  17.1871,2,     -999,9,     -999,9,     -999,9,     -999,9,     -999,9,   4.9673,1,   0.0115,1,     -999,9,     -999,1,     -999,1,     -999,1,     -999,1,20230909,1908, -31.2049,  30.6062,-999          ,9,-999          ,9
33RR20230722  ,I05        ,191     ,  1,23         ,23         ,2,20230909,1756, -31.2048,  30.6062,     2774,    230.5,2,  16.7789,2,  35.5708,2,  35.5711,2,    206.5,2,    205.8,2,     3.32,2,     4.50,2,     0.00,2,     0.41,2,    2.148,2,    1.331,2,   2.1500,2,   2103.8,2,   2328.5,2,   7.8995,2,    25.02,2,     -999,9,  16.7631,2,     -999,9,     -999,9,     -999,9,     -999,9,     -999,9,   4.8974,1,   0.0118,1,      9.5,2,     -999,1,     -999,1,     -999,1,     -999,1,20230909,1906, -31.2049,  30.6062,-999          ,9,-999          ,9
33RR20230722  ,I05        ,191     ,  1,22         ,22         ,2,20230909,1756, -31.2048,  30.6062,     2774,    279.9,2,  15.7331,2,  35.4921,2,  35.4967,2,    209.0,2,    210.9,2,     3.51,2,     5.56,2,     0.00,2,     0.47,2,     -999,9,     -999,9,     -999,9,   2110.1,2,   2325.9,2,   7.8806,2,    25.01,2,     -999,9,  15.7416,2,     -999,9,     -999,9,     -999,9,     -999,9,     -999,9,   4.9677,1,   0.0117,1,     -999,9,     -999,1,     -999,1,     -999,1,     -999,1,20230909,1903, -31.2048,  30.6062,-999          ,9,-999          ,9
33RR20230722  ,I05        ,191     ,  1,21         ,21         ,2,20230909,1756, -31.2048,  30.6062,     2774,    331.7,2,  14.9369,2,  35.4212,2,  35.4267,2,    215.6,2,    215.3,2,     3.22,2,     6.25,2,     0.00,2,     0.52,2,    2.485,2,    1.486,2,   2.1700,2,   2115.1,2,   2325.2,6,   7.8663,6,    25.03,2,     -999,9,  14.9313,2,     -999,9,     -999,9,     -999,9,     -999,9,     -999,9,   4.9057,1,   0.0113,1,      9.9,2,     -999,1,     -999,1,     -999,1,     -999,1,20230909,1901, -31.2048,  30.6062,-999          ,9,-999          ,9
33RR20230722  ,I05        ,191     ,  1,20         ,20         ,2,20230909,1756, -31.2048,  30.6062,     2774,    386.0,2,  13.7319,2,  35.2919,2,  35.2926,2,    215.2,2,    215.7,2,     3.71,2,     8.38,2,     0.00,2,     0.65,2,     -999,9,     -999,9,     -999,9,   2126.1,2,   2317.9,2,   7.8344,2,    25.03,2,     -999,9,  13.7266,2,     -999,9,     -999,9,     -999,9,     -999,9,     -999,9,   4.9256,1,   0.0115,1,     -999,9,     -999,1,     -999,1,     -999,1,     -999,1,20230909,1859, -31.2048,  30.6062,-999          ,9,-999          ,9
33RR20230722  ,I05        ,191     ,  1,19         ,19         ,2,20230909,1756, -31.2048,  30.6062,     2774,    455.2,2,  12.8175,2,  35.1800,2,  35.1811,2,    221.8,2,    221.3,2,     3.81,2,     9.80,2,     0.00,2,     0.75,2,    2.394,2,    1.626,2,   2.0300,2,   2128.7,2,   2315.0,2,   7.8203,6,    25.03,2,     -999,9,  12.8136,2,     -999,9,     -999,9,     -999,9,     -999,9,     -999,9,   4.8152,1,   0.0115,1,     11.0,2,     -999,1,     -999,1,     -999,1,     -999,1,20230909,1856, -31.2049,  30.6062,-999          ,9,-999          ,9
33RR20230722  ,I05        ,191     ,  1,18         ,18         ,2,20230909,1756, -31.2048,  30.6062,     2774,    542.9,2,  11.6285,2,  35.0067,2,  35.0069,2,    220.3,2,    219.9,2,     4.68,2,    12.60,2,     0.00,2,     0.93,2,     -999,9,     -999,9,     -999,9,   2134.9,2,   2305.1,2,   7.7907,2,    25.02,2,     -999,9,  11.6310,2,     -999,9,     -999,9,     -999,9,     -999,9,     -999,9,   4.9675,1,   0.0115,1,     -999,9,     -999,1,     -999,1,     -999,1,     -999,1,20230909,1854, -31.2049,  30.6062,-999          ,9,-999          ,9
33RR20230722  ,I05        ,191     ,  1,17         ,17         ,2,20230909,1756, -31.2048,  30.6062,     2774,    623.8,2,  10.4946,2,  34.8560,2,  34.8589,2,    210.6,2,    210.5,2,     7.61,2,    16.11,2,     0.00,2,     1.15,2,    2.609,2,    1.727,2,   1.6100,2,   2145.8,2,   2299.2,2,   7.7534,2,    25.04,2,     -999,9,  10.4728,2,     -999,9,     -999,9,     -999,9,     -999,9,     -999,9,   4.9671,1,   0.0113,1,     14.3,2,     -999,1,     -999,1,     -999,1,     -999,1,20230909,1851, -31.2048,  30.6062,-999          ,9,-999          ,9
33RR20230722  ,I05        ,191     ,  1,16         ,16         ,2,20230909,1756, -31.2048,  30.6062,     2774,    724.3,2,   9.2281,2,  34.7315,2,  34.7296,2,    192.0,2,    192.7,2,    14.25,2,    20.83,2,     0.00,2,     1.45,2,    2.531,2,    1.541,2,   1.1300,2,   2164.0,2,   2297.0,2,   7.7041,6,    25.02,2,     -999,9,   9.2256,2,     -999,9,     -999,9,     -999,9,     -999,9,     -999,9,   4.9688,1,   0.0116,1,     17.2,2,     -999,1,     -999,1,     -999,1,     -999,1,20230909,1848, -31.2049,  30.6062,-999          ,9,-999          ,9
33RR20230722  ,I05        ,191     ,  1,15         ,15         ,2,20230909,1756, -31.2048,  30.6062,     2774,    818.4,2,   7.7876,2,  34.5677,2,  34.5686,2,    200.7,2,    201.5,2,    16.11,2,    23.46,2,     0.00,2,     1.61,2,    2.607,2,    1.509,2,   1.1900,2,   2169.0,2,   2292.4,2,   7.6812,2,    25.03,2,     -999,9,   7.7875,2,     -999,9,     -999,9,     -999,9,     -999,9,     -999,9,   4.9688,1,   0.0112,1,     16.9,2,     -999,1,     -999,1,     -999,1,     -999,1,20230909,1846, -31.2048,  30.6062,-999          ,9,-999          ,9
33RR20230722  ,I05        ,191     ,  1,14         ,14         ,2,20230909,1756, -31.2048,  30.6062,     2774,    933.3,2,   6.2666,2,  34.5023,2,  34.5027,2,    181.9,2,    182.1,2,    30.55,2,    28.37,2,     0.00,2,     1.98,2,     -999,9,     -999,9,     -999,9,   2197.6,2,   2300.6,2,   7.6288,2,    25.02,2,     -999,9,   6.2593,2,     -999,9,     -999,9,     -999,9,     -999,9,     -999,9,   4.9707,1,   0.0112,1,     -999,9,     -999,1,     -999,1,     -999,1,     -999,1,20230909,1843, -31.2049,  30.6062,-999          ,9,-999          ,9
33RR20230722  ,I05        ,191     ,  1,13         ,13         ,2,20230909,1756, -31.2048,  30.6062,     2774,   1038.1,2,   5.7719,2,  34.6112,2,  34.6152,2,    146.7,2,    145.6,2,    50.17,2,    31.85,2,     0.00,2,     2.25,2,     -999,9,     -999,9,     -999,9,   2234.7,6,   2322.5,2,   7.5804,2,    25.05,2,     -999,9,   5.8118,2,     -999,9,     -999,9,     -999,9,     -999,9,     -999,9,   4.7781,1,   0.0120,1,     -999,9,     -999,1,     -999,1,     -999,1,     -999,1,20230909,1840, -31.2048,  30.6062,-999          ,9,-999          ,9
33RR20230722  ,I05        ,191     ,  1,12         ,12         ,2,20230909,1756, -31.2048,  30.6062,     2774,   1158.1,2,   4.5516,2,  34.5932,2,  34.5936,2,    149.2,2,    150.3,2,    62.28,2,    33.35,2,     0.00,2,     2.36,2,     -999,9,     -999,9,     -999,9,   2248.5,2,   2331.9,2,   7.5683,2,    25.03,2,     -999,9,   4.5497,2,     -999,9,     -999,9,     -999,9,     -999,9,     -999,9,   4.6941,1,   0.0118,1,     -999,9,     -999,1,     -999,1,     -999,1,     -999,1,20230909,1837, -31.2049,  30.6062,-999          ,9,-999          ,9
33RR20230722  ,I05        ,191     ,  1,11         ,11         ,2,20230909,1756, -31.2048,  30.6062,     2774,   1264.8,2,   3.9718,2,  34.6205,2,  34.6191,2,    150.1,2,    149.9,2,    69.69,2,    33.76,2,     0.00,2,     2.40,2,     -999,9,     -999,9,     -999,9,   2254.6,2,   2337.3,2,   7.5652,2,    25.04,2,     -999,9,   3.9540,2,     -999,9,     -999,9,     -999,9,     -999,9,     -999,9,   4.9721,1,   0.0124,1,     -999,9,     -999,1,     -999,1,     -999,1,     -999,1,20230909,1834, -31.2049,  30.6062,-999          ,9,-999          ,9
33RR20230722  ,I05        ,191     ,  1,10         ,10         ,2,20230909,1756, -31.2048,  30.6062,     2774,   1389.5,2,   3.5975,2,  34.6622,2,  34.6627,2,    153.3,2,    153.1,2,    74.86,2,    33.40,2,     0.00,2,     2.37,2,    0.320,2,    0.163,2,   0.1000,2,   2260.4,2,   2344.3,2,   7.5714,2,    25.05,2,     -999,9,   3.5972,2,     -999,9,     -999,9,     -999,9,     -999,9,     -999,9,   4.9743,1,   0.0123,1,     24.5,2,     -999,1,     -999,1,     -999,1,     -999,1,20230909,1831, -31.2049,  30.6062,-999          ,9,-999          ,9
33RR20230722  ,I05        ,191     ,  1,9          ,9          ,2,20230909,1756, -31.2048,  30.6062,     2774,   1505.0,2,   3.1046,2,  34.6663,2,  34.6667,2,    166.1,2,    166.0,2,    74.18,2,    32.67,2,     0.00,2,     2.29,2,     -999,9,     -999,9,     -999,9,   2256.5,2,   2342.9,2,   7.5827,2,    25.04,2,     -999,9,   3.1041,2,     -999,9,     -999,9,     -999,9,     -999,9,     -999,9,   4.8616,1,   0.0118,1,     -999,9,     -999,1,     -999,1,     -999,1,     -999,1,20230909,1828, -31.2049,  30.6062,-999          ,9,-999          ,9
33RR20230722  ,I05        ,191     ,  1,8          ,8          ,2,20230909,1756, -31.2048,  30.6062,     2774,   1630.3,2,   2.9996,2,  34.6979,2,  34.6979,2,    168.5,2,    168.3,2,    76.52,2,    32.19,2,     0.00,2,     2.25,2,     -999,9,     -999,9,     -999,9,   2255.6,2,   2346.5,2,   7.5900,2,    25.04,2,     -999,9,   2.9993,2,     -999,9,     -999,9,     -999,9,     -999,9,     -999,9,   4.9737,1,   0.0112,1,     -999,9,     -999,1,     -999,1,     -999,1,     -999,1,20230909,1825, -31.2049,  30.6062,-999          ,9,-999          ,9
33RR20230722  ,I05        ,191     ,  1,7          ,7          ,2,20230909,1756, -31.2048,  30.6062,     2774,   1761.1,2,   2.7759,2,  34.7299,2,  34.7309,2,    178.7,2,    179.1,2,    74.96,2,    31.02,2,     0.00,2,     2.18,2,    0.096,2,    0.057,2,   0.0200,2,   2249.9,2,   2347.5,2,   7.6056,6,    25.04,2,     -999,9,   2.7778,2,     -999,9,     -999,9,     -999,9,     -999,9,     -999,9,   4.9733,1,   0.0118,1,     20.8,2,     -999,1,     -999,1,     -999,1,     -999,1,20230909,1822, -31.2049,  30.6062,-999          ,9,-999          ,9
33RR20230722  ,I05        ,191     ,  1,6          ,6          ,2,20230909,1756, -31.2048,  30.6062,     2774,   1913.7,2,   2.7011,2,  34.7452,2,  34.7451,2,    184.4,2,    184.8,2,    73.10,2,    30.29,2,     0.00,2,     2.12,2,     -999,9,     -999,9,     -999,9,   2246.4,2,   2347.1,2,   7.6149,2,    25.03,2,     -999,9,   2.7022,2,     -999,9,     -999,9,     -999,9,     -999,9,     -999,9,   4.8851,1,   0.0119,1,     -999,9,     -999,1,     -999,1,     -999,1,     -999,1,20230909,1818, -31.2049,  30.6062,-999          ,9,-999          ,9
33RR20230722  ,I05        ,191     ,  1,5          ,5          ,2,20230909,1756, -31.2048,  30.6062,     2774,   2100.6,2,   2.5697,2,  34.7715,2,  34.7716,2,    194.5,2,    194.7,2,    70.27,2,    29.08,2,     0.00,2,     2.02,2,     -999,9,     -999,9,     -999,9,   2235.6,2,   2343.8,6,   7.6310,2,    25.03,2,     -999,9,   2.5698,2,     -999,9,     -999,9,     -999,9,     -999,9,     -999,9,   4.9346,1,   0.0111,1,     -999,9,     -999,1,     -999,1,     -999,1,     -999,1,20230909,1814, -31.2049,  30.6062,-999          ,9,-999          ,9
33RR20230722  ,I05        ,191     ,  1,4          ,37         ,2,20230909,1756, -31.2048,  30.6062,     2774,   2316.0,2,   2.4779,2,  34.7905,2,  34.7909,2,    203.3,2,    203.6,2,    67.34,2,    28.07,2,     0.00,2,     1.94,2,     -999,9,     -999,9,     -999,9,   2231.1,2,   2343.1,2,   7.6442,2,    25.04,2,     -999,9,   2.4774,2,     -999,9,     -999,9,     -999,9,     -999,9,     -999,9,   4.9730,1,   0.0115,1,     -999,9,     -999,1,     -999,1,     -999,1,     -999,1,20230909,1809, -31.2049,  30.6062,-999          ,9,-999          ,9
33RR20230722  ,I05        ,191     ,  1,3          ,3          ,2,20230909,1756, -31.2048,  30.6062,     2774,   2531.6,2,   2.3797,2,  34.8038,2,  34.8047,2,    210.5,2,    210.8,2,    66.07,2,    27.34,2,     0.00,2,     1.90,2,    0.042,2,    0.023,2,   0.0200,2,   2225.0,2,   2341.7,2,   7.6547,6,    25.03,2,     -999,9,   2.3796,2,     -999,9,     -999,9,     -999,9,     -999,9,     -999,9,   4.9727,1,   0.0111,1,     17.2,2,     -999,1,     -999,1,     -999,1,     -999,1,20230909,1804, -31.2049,  30.6062,-999          ,9,-999          ,9
33RR20230722  ,I05        ,191     ,  1,2          ,2          ,2,20230909,1756, -31.2048,  30.6062,     2774,   2700.2,2,   2.3133,2,  34.8077,2,  34.8086,2,    213.7,2,    213.8,2,    66.27,2,    27.05,2,     0.00,2,     1.88,2,     -999,9,     -999,9,     -999,9,   2225.3,2,   2342.7,2,   7.6580,2,    25.03,2,     -999,9,   2.3128,2,     -999,9,     -999,9,     -999,9,     -999,9,     -999,9,   4.8719,1,   0.0111,1,     -999,9,     -999,1,     -999,1,     -999,1,     -999,1,20230909,1800, -31.2049,  30.6062,-999          ,9,-999          ,9
33RR20230722  ,I05        ,191     ,  1,1          ,1          ,2,20230909,1756, -31.2048,  30.6062,     2774,   2801.9,2,   2.2817,2,  34.8082,2,  34.8094,2,    215.0,2,    214.8,2,    66.85,2,    26.99,2,     0.00,2,     1.87,2,    0.042,2,    0.023,2,   0.0000,2,   2225.7,6,   2342.9,2,   7.6579,6,    25.03,2,     -999,9,   2.2811,2,     -999,9,     -999,9,     -999,9,     -999,9,     -999,9,   0.4765,1,   0.0117,1,     16.8,2,     -999,1,     -999,1,     -999,1,     -999,1,20230909,1756, -31.2049,  30.6062,-999          ,9,-999          ,9