BOTTLE,20240422CCHHYDRO
EXPOCODE,SECT_ID,STNNBR,CASTNO,SAMPNO,BTLNBR,BTLNBR_FLAG_W,DATE,TIME,LATITUDE,LONGITUDE,DEPTH,CTDPRS,CTDPRS_FLAG_W,CTDTMP,CTDTMP_FLAG_W,CTDSAL,CTDSAL_FLAG_W,SALNTY,SALNTY_FLAG_W,CTDOXY,CTDOXY_FLAG_W,OXYGEN,OXYGEN_FLAG_W,SILCAT,SILCAT_FLAG_W,NITRAT,NITRAT_FLAG_W,NITRIT,NITRIT_FLAG_W,PHSPHT,PHSPHT_FLAG_W,CFC-11,CFC-11_FLAG_W,CFC-12,CFC-12_FLAG_W,SF6,SF6_FLAG_W,TCARBN,TCARBN_FLAG_W,ALKALI,ALKALI_FLAG_W,PH_TOT,PH_TOT_FLAG_W,PH_TMP,PH_TMP_FLAG_W,DOC,DOC_FLAG_W,REFTMP,REFTMP_FLAG_W,POC,POC_FLAG_W,PON,PON_FLAG_W,POP,POP_FLAG_W,DOP,DOP_FLAG_W,DELO18,DELO18_FLAG_W,CTDFLUOR,CTDFLUOR_FLAG_W,CTDXMISS,CTDXMISS_FLAG_W,N2O,N2O_FLAG_W,D15N_NO3,D15N_NO3_FLAG_W,D15N_NO2+NO3,D15N_NO2+NO3_FLAG_W,D18O_NO2+NO3,D18O_NO2+NO3_FLAG_W,D18O_NO3,D18O_NO3_FLAG_W,BTL_DATE,BTL_TIME,BTL_LAT,BTL_LON,HPLC,HPLC_FLAG_W,DNA,DNA_FLAG_W
,,,,,,,,,,,METERS,DBAR,,ITS-90,,PSS-78,,PSS-78,,UMOL/KG,,UMOL/KG,,UMOL/KG,,UMOL/KG,,UMOL/KG,,UMOL/KG,,PMOL/KG,,PMOL/KG,,FMOL/KG,,UMOL/KG,,UMOL/KG,,,,DEG C,,UMOL/KG,,ITS-90,,UG/KG,,UG/KG,,UG/L,,UMOL/KG,,/MILLE,,VOLTS,,VOLTS,,NMOL/KG,,/MILLE,,/MILLE,,/MILLE,,/MILLE,,,,,,,,,
33RR20230722  ,I05        ,157     ,  2,25         ,25         ,2,20230901,1055, -32.9963,  43.3610,     1413,      4.6,2,  18.3031,2,  35.7000,2,  35.6992,2,    235.3,2,    235.3,2,     1.66,2,     0.00,2,     0.00,2,     0.13,2,    1.717,2,    1.282,2,   2.1800,2,   2068.8,6,   2336.4,2,   7.9804,2,    25.04,2,     -999,1,  18.3023,2,     -999,9,     -999,9,     -999,9,     -999,9,     -999,9,   4.9113,1,   0.0254,1,      8.4,2,     -999,9,     -999,9,     -999,9,     -999,9,20230901,1151, -32.9963,  43.3610,-999          ,9,-999          ,9
33RR20230722  ,I05        ,157     ,  2,24         ,24         ,2,20230901,1055, -32.9963,  43.3610,     1413,     28.6,2,  18.2984,2,  35.6999,2,  35.6990,2,    235.1,2,    235.0,2,     1.66,2,     0.00,2,     0.00,2,     0.13,2,     -999,9,     -999,9,     -999,9,   -999.0,9,     -999,9,     -999,9,     -999,9,     -999,9,  18.2975,2,     -999,9,     -999,9,     -999,9,     -999,9,     -999,9,   4.9747,1,   0.0322,1,     -999,9,     -999,9,     -999,9,     -999,9,     -999,9,20230901,1149, -32.9964,  43.3611,-999          ,9,-999          ,9
33RR20230722  ,I05        ,157     ,  2,23         ,23         ,2,20230901,1055, -32.9963,  43.3610,     1413,     52.4,2,  18.2932,2,  35.6990,2,  35.6980,2,    234.6,2,    234.5,2,     1.66,2,     0.00,2,     0.00,2,     0.11,2,     -999,9,     -999,9,     -999,9,   2069.7,2,   2337.4,2,   7.9811,2,    24.99,2,     -999,9,  18.2931,2,     -999,9,     -999,9,     -999,9,     -999,9,     -999,9,   4.9384,1,   0.0333,1,     -999,9,     -999,9,     -999,9,     -999,9,     -999,9,20230901,1147, -32.9963,  43.3611,-999          ,9,-999          ,9
33RR20230722  ,I05        ,157     ,  2,22         ,22         ,2,20230901,1055, -32.9963,  43.3610,     1413,     77.7,2,  17.9089,2,  35.6742,2,  35.6739,2,    229.4,2,    229.7,2,     1.85,2,     0.32,2,     0.25,2,     0.17,2,     -999,9,     -999,9,     -999,9,   2078.6,2,   2336.2,2,   7.9630,2,    25.02,2,     -999,9,  17.9038,2,     -999,9,     -999,9,     -999,9,     -999,9,     -999,9,   4.3818,1,   0.0225,1,     -999,9,     -999,9,     -999,9,     -999,9,     -999,9,20230901,1145, -32.9963,  43.3611,-999          ,9,-999          ,9
33RR20230722  ,I05        ,157     ,  2,21         ,21         ,2,20230901,1055, -32.9963,  43.3610,     1413,    104.9,2,  17.6951,2,  35.6791,2,  35.6792,2,    232.5,2,    232.5,2,     1.85,2,     0.16,2,     0.24,2,     0.15,2,    1.708,2,    1.307,2,   2.2400,2,   2077.5,2,   2334.5,2,   7.9631,2,    25.00,2,     -999,9,  17.6942,2,     -999,9,     -999,9,     -999,9,     -999,9,     -999,9,   4.9731,1,   0.0204,1,      7.0,2,     -999,9,     -999,9,     -999,9,     -999,9,20230901,1142, -32.9963,  43.3611,-999          ,9,-999          ,9
33RR20230722  ,I05        ,157     ,  2,20         ,20         ,2,20230901,1055, -32.9963,  43.3610,     1413,    130.9,2,  17.5300,2,  35.6601,2,  35.6599,2,    231.3,2,    232.0,2,     2.05,2,     0.59,2,     0.31,2,     0.19,2,     -999,9,     -999,9,     -999,9,   -999.0,9,     -999,9,     -999,9,     -999,9,     -999,9,  17.5235,2,     -999,9,     -999,9,     -999,9,     -999,9,     -999,9,   4.7378,1,   0.0145,1,     -999,9,     -999,9,     -999,9,     -999,9,     -999,9,20230901,1141, -32.9963,  43.3610,-999          ,9,-999          ,9
33RR20230722  ,I05        ,157     ,  2,19         ,19         ,2,20230901,1055, -32.9963,  43.3610,     1413,    160.9,2,  17.1285,2,  35.6171,2,  35.6165,2,    225.6,2,    225.5,2,     2.24,2,     2.00,2,     0.02,2,     0.24,2,     -999,9,     -999,9,     -999,9,   2088.3,2,   2332.7,2,   7.9384,2,    25.00,2,     -999,9,  17.1193,2,     -999,9,     -999,9,     -999,9,     -999,9,     -999,9,   4.9710,1,   0.0130,1,     -999,9,     -999,9,     -999,9,     -999,9,     -999,9,20230901,1139, -32.9964,  43.3610,-999          ,9,-999          ,9
33RR20230722  ,I05        ,157     ,  2,18         ,18         ,2,20230901,1055, -32.9963,  43.3610,     1413,    185.9,2,  16.6515,2,  35.5723,2,  35.5738,2,    216.7,2,    217.0,2,     2.73,2,     3.53,2,     0.01,2,     0.35,2,     -999,9,     -999,9,     -999,9,   2099.2,2,   2328.8,2,   7.9139,2,    25.01,2,     -999,9,  16.6510,2,     -999,9,     -999,9,     -999,9,     -999,9,     -999,9,   4.9694,1,   0.0119,1,     -999,9,     -999,9,     -999,9,     -999,9,     -999,9,20230901,1137, -32.9963,  43.3611,-999          ,9,-999          ,9
33RR20230722  ,I05        ,157     ,  2,17         ,17         ,2,20230901,1055, -32.9963,  43.3610,     1413,    214.4,2,  16.3668,2,  35.5468,2,  35.5456,2,    212.2,2,    213.0,2,     3.02,2,     4.46,2,     0.00,2,     0.41,2,    2.204,2,    1.410,2,   2.1300,2,   2106.7,2,   2328.4,2,   7.8972,2,    25.03,2,     -999,9,  16.3542,2,     -999,9,     -999,9,     -999,9,     -999,9,     -999,9,   4.9683,1,   0.0118,1,      9.9,2,     -999,9,     -999,9,     -999,9,     -999,9,20230901,1135, -32.9963,  43.3610,-999          ,9,-999          ,9
33RR20230722  ,I05        ,157     ,  2,16         ,16         ,2,20230901,1055, -32.9963,  43.3610,     1413,    249.9,2,  15.8524,2,  35.5066,2,  35.5012,2,    212.7,2,    212.6,2,     3.22,2,     5.23,2,     0.00,2,     0.46,2,     -999,9,     -999,9,     -999,9,   2109.9,2,   2327.2,2,   7.8844,2,    25.02,2,     -999,9,  15.8615,2,     -999,9,     -999,9,     -999,9,     -999,9,     -999,9,   4.9682,1,   0.0118,1,     -999,9,     -999,9,     -999,9,     -999,9,     -999,9,20230901,1134, -32.9964,  43.3610,-999          ,9,-999          ,9
33RR20230722  ,I05        ,157     ,  2,15         ,15         ,2,20230901,1055, -32.9963,  43.3610,     1413,    291.7,2,  15.1852,2,  35.4474,2,  35.4468,2,    215.6,2,    215.7,2,     3.32,2,     5.94,2,     0.00,2,     0.51,2,     -999,9,     -999,9,     -999,9,   -999.0,9,     -999,9,     -999,9,     -999,9,     -999,9,  15.1830,2,     -999,9,     -999,9,     -999,9,     -999,9,     -999,9,   4.9157,1,   0.0119,1,     -999,9,     -999,9,     -999,9,     -999,9,     -999,9,20230901,1132, -32.9963,  43.3610,-999          ,9,-999          ,9
33RR20230722  ,I05        ,157     ,  2,14         ,14         ,2,20230901,1055, -32.9963,  43.3610,     1413,    347.5,2,  14.5337,2,  35.3816,2,  35.3847,2,    217.9,2,    217.6,2,     3.41,2,     6.73,2,     0.00,2,     0.56,2,     -999,9,     -999,9,     -999,9,   2119.4,2,   2320.4,2,   7.8610,6,    25.01,2,     -999,9,  14.5484,2,     -999,9,     -999,9,     -999,9,     -999,9,     -999,9,   4.9680,1,   0.0119,1,     -999,9,     -999,9,     -999,9,     -999,9,     -999,9,20230901,1130, -32.9963,  43.3610,-999          ,9,-999          ,9
33RR20230722  ,I05        ,157     ,  2,13         ,13         ,2,20230901,1055, -32.9963,  43.3610,     1413,    411.0,2,  13.8279,2,  35.3040,2,  35.3037,2,    220.2,2,    220.0,2,     3.51,2,     7.94,2,     0.00,2,     0.63,2,    2.568,2,    1.600,2,   2.1600,2,   2122.8,2,   2316.3,2,   7.8449,2,    25.02,2,     -999,9,  13.8263,2,     -999,9,     -999,9,     -999,9,     -999,9,     -999,9,   4.7701,1,   0.0116,1,     11.1,2,     -999,9,     -999,9,     -999,9,     -999,9,20230901,1128, -32.9963,  43.3610,-999          ,9,-999          ,9
33RR20230722  ,I05        ,157     ,  2,12         ,12         ,2,20230901,1055, -32.9963,  43.3610,     1413,    485.0,2,  13.1833,2,  35.2302,2,  35.2296,2,    224.3,2,    224.4,2,     3.61,2,     8.94,2,     0.00,2,     0.70,2,     -999,9,     -999,9,     -999,9,   -999.0,9,     -999,9,     -999,9,     -999,9,     -999,9,  13.1822,2,     -999,9,     -999,9,     -999,9,     -999,9,     -999,9,   4.9673,1,   0.0114,1,     -999,9,     -999,9,     -999,9,     -999,9,     -999,9,20230901,1125, -32.9964,  43.3610,-999          ,9,-999          ,9
33RR20230722  ,I05        ,157     ,  2,11         ,11         ,2,20230901,1055, -32.9963,  43.3610,     1413,    566.7,2,  12.4891,2,  35.1325,2,  35.1319,2,    225.3,2,    225.3,2,     4.00,2,    10.44,2,     0.00,2,     0.78,2,    2.761,2,    1.708,2,   2.1000,2,   2130.4,2,   2311.8,2,   7.8183,2,    25.00,2,     -999,9,  12.4885,2,     -999,9,     -999,9,     -999,9,     -999,9,     -999,9,   4.9668,1,   0.0114,1,     12.0,2,     -999,9,     -999,9,     -999,9,     -999,9,20230901,1123, -32.9963,  43.3610,-999          ,9,-999          ,9
33RR20230722  ,I05        ,157     ,  2,10         ,10         ,2,20230901,1055, -32.9963,  43.3610,     1413,    655.7,2,  11.6332,2,  35.0016,2,  34.9998,2,    222.9,2,    222.7,2,     4.68,2,    12.66,2,     0.00,2,     0.93,2,     -999,9,     -999,9,     -999,9,   2135.2,2,   2303.6,2,   7.7955,6,    25.01,2,     -999,9,  11.6348,2,     -999,9,     -999,9,     -999,9,     -999,9,     -999,9,   4.6335,1,   0.0115,1,     -999,9,     -999,9,     -999,9,     -999,9,     -999,9,20230901,1120, -32.9963,  43.3610,-999          ,9,-999          ,9
33RR20230722  ,I05        ,157     ,  2,9          ,9          ,2,20230901,1055, -32.9963,  43.3610,     1413,    745.0,2,  10.6463,2,  34.8615,2,  34.8629,2,    219.8,2,    219.7,2,     5.86,2,    15.11,2,     0.00,2,     1.08,2,    2.983,2,    1.802,2,   1.7500,2,   2139.3,2,   2298.0,6,   7.7703,2,    25.02,2,     -999,9,  10.6461,2,     -999,9,     -999,9,     -999,9,     -999,9,     -999,9,   4.9665,1,   0.0115,1,     13.2,2,     -999,9,     -999,9,     -999,9,     -999,9,20230901,1118, -32.9963,  43.3611,-999          ,9,-999          ,9
33RR20230722  ,I05        ,157     ,  2,8          ,8          ,2,20230901,1055, -32.9963,  43.3610,     1413,    821.1,2,   9.5919,2,  34.7300,2,  34.7296,2,    215.7,2,    215.5,2,     8.20,2,    18.05,2,     0.00,2,     1.28,2,     -999,9,     -999,9,     -999,9,   -999.0,9,     -999,9,     -999,9,     -999,9,     -999,9,   9.5919,2,     -999,9,     -999,9,     -999,9,     -999,9,     -999,9,   4.8881,1,   0.0115,1,     -999,9,     -999,9,     -999,9,     -999,9,     -999,9,20230901,1115, -32.9963,  43.3610,-999          ,9,-999          ,9
33RR20230722  ,I05        ,157     ,  2,7          ,7          ,2,20230901,1055, -32.9963,  43.3610,     1413,    906.1,2,   8.7695,2,  34.6435,2,  34.6441,2,    211.0,2,    211.4,2,    10.83,2,    20.44,2,     0.00,2,     1.43,2,    2.959,2,    1.728,2,   1.4000,2,   2156.2,2,   2289.2,2,   7.7170,2,    25.00,2,     -999,9,   8.7711,2,     -999,9,     -999,9,     -999,9,     -999,9,     -999,9,   4.8465,1,   0.0113,1,     14.2,2,     -999,9,     -999,9,     -999,9,     -999,9,20230901,1111, -32.9963,  43.3610,-999          ,9,-999          ,9
33RR20230722  ,I05        ,157     ,  2,6          ,6          ,2,20230901,1055, -32.9963,  43.3610,     1413,   1002.9,2,   7.8271,2,  34.5564,2,  34.5565,2,    206.5,2,    206.7,2,    14.74,2,    23.09,2,     0.00,2,     1.60,2,     -999,9,     -999,9,     -999,9,   -999.0,9,     -999,9,     -999,9,     -999,9,     -999,9,   7.8264,2,     -999,9,     -999,9,     -999,9,     -999,9,     -999,9,   4.9679,1,   0.0112,1,     -999,9,     -999,9,     -999,9,     -999,9,     -999,9,20230901,1108, -32.9963,  43.3611,-999          ,9,-999          ,9
33RR20230722  ,I05        ,157     ,  2,5          ,5          ,2,20230901,1055, -32.9963,  43.3610,     1413,   1082.9,2,   6.5379,2,  34.4636,2,  34.4642,2,    203.0,2,    203.3,2,    21.57,2,    26.34,2,     0.00,2,     1.81,2,    2.600,2,    1.499,2,   1.0900,2,   2181.7,2,   2291.0,2,   7.6552,2,    25.03,2,     -999,9,   6.5387,2,     -999,9,     -999,9,     -999,9,     -999,9,     -999,9,   4.9683,1,   0.0113,1,     16.4,2,     -999,9,     -999,9,     -999,9,     -999,9,20230901,1106, -32.9964,  43.3610,-999          ,9,-999          ,9
33RR20230722  ,I05        ,157     ,  2,4          ,37         ,2,20230901,1055, -32.9963,  43.3610,     1413,   1165.1,2,   5.2919,2,  34.4000,2,  34.4014,2,    198.7,2,    199.8,2,    30.26,2,    29.29,2,     0.00,2,     2.01,2,     -999,9,     -999,9,     -999,9,   -999.0,9,     -999,9,     -999,9,     -999,9,     -999,9,   5.2748,2,     -999,9,     -999,9,     -999,9,     -999,9,     -999,9,   4.8947,1,   0.0115,1,     -999,9,     -999,9,     -999,9,     -999,9,     -999,9,20230901,1103, -32.9963,  43.3611,-999          ,9,-999          ,9
33RR20230722  ,I05        ,157     ,  2,3          ,3          ,2,20230901,1055, -32.9963,  43.3610,     1413,   1270.6,2,   4.3758,2,  34.4076,2,  34.4076,2,    190.1,2,    190.7,2,    41.29,2,    31.51,2,     0.00,2,     2.18,2,    1.841,6,    0.974,6,   0.5900,6,   2212.4,2,   2304.3,2,   7.6003,2,    25.01,2,     -999,9,   4.3737,2,     -999,9,     -999,9,     -999,9,     -999,9,     -999,9,   4.7824,1,   0.0116,1,     21.2,6,     -999,9,     -999,9,     -999,9,     -999,9,20230901,1100, -32.9964,  43.3610,-999          ,9,-999          ,9
33RR20230722  ,I05        ,157     ,  2,2          ,2          ,2,20230901,1055, -32.9963,  43.3610,     1413,   1360.7,2,   3.9776,2,  34.4441,2,  34.4451,2,    183.1,2,    183.0,2,    49.40,2,    32.41,2,     0.00,2,     2.24,2,    1.422,2,    0.750,2,   0.4300,2,   2224.6,2,   2313.9,2,   7.5899,2,    25.03,2,     -999,9,   3.9736,2,     -999,9,     -999,9,     -999,9,     -999,9,     -999,9,   3.3274,1,   0.0112,1,     21.9,2,     -999,9,     -999,9,     -999,9,     -999,9,20230901,1057, -32.9963,  43.3610,-999          ,9,-999          ,9
33RR20230722  ,I05        ,157     ,  2,1          ,1          ,2,20230901,1055, -32.9963,  43.3610,     1413,   1417.5,2,   3.7587,2,  34.4626,2,  34.4648,2,    181.8,2,    181.2,2,    52.71,2,    32.71,2,     0.00,2,     2.25,2,    1.190,2,    0.662,2,   0.3500,2,   2230.1,6,   2315.9,2,   7.5868,2,    24.98,2,     -999,9,   3.7549,2,     -999,9,     -999,9,     -999,9,     -999,9,     -999,9,   0.5068,1,   0.0113,1,     17.3,2,     -999,9,     -999,9,     -999,9,     -999,9,20230901,1055, -32.9964,  43.3610,-999          ,9,-999          ,9