BOTTLE,20240422CCHHYDRO
EXPOCODE,SECT_ID,STNNBR,CASTNO,SAMPNO,BTLNBR,BTLNBR_FLAG_W,DATE,TIME,LATITUDE,LONGITUDE,DEPTH,CTDPRS,CTDPRS_FLAG_W,CTDTMP,CTDTMP_FLAG_W,CTDSAL,CTDSAL_FLAG_W,SALNTY,SALNTY_FLAG_W,CTDOXY,CTDOXY_FLAG_W,OXYGEN,OXYGEN_FLAG_W,SILCAT,SILCAT_FLAG_W,NITRAT,NITRAT_FLAG_W,NITRIT,NITRIT_FLAG_W,PHSPHT,PHSPHT_FLAG_W,CFC-11,CFC-11_FLAG_W,CFC-12,CFC-12_FLAG_W,SF6,SF6_FLAG_W,TCARBN,TCARBN_FLAG_W,ALKALI,ALKALI_FLAG_W,PH_TOT,PH_TOT_FLAG_W,PH_TMP,PH_TMP_FLAG_W,DOC,DOC_FLAG_W,REFTMP,REFTMP_FLAG_W,POC,POC_FLAG_W,PON,PON_FLAG_W,POP,POP_FLAG_W,DOP,DOP_FLAG_W,DELO18,DELO18_FLAG_W,CTDFLUOR,CTDFLUOR_FLAG_W,CTDXMISS,CTDXMISS_FLAG_W,N2O,N2O_FLAG_W,D15N_NO3,D15N_NO3_FLAG_W,D15N_NO2+NO3,D15N_NO2+NO3_FLAG_W,D18O_NO2+NO3,D18O_NO2+NO3_FLAG_W,D18O_NO3,D18O_NO3_FLAG_W,BTL_DATE,BTL_TIME,BTL_LAT,BTL_LON,HPLC,HPLC_FLAG_W,DNA,DNA_FLAG_W
,,,,,,,,,,,METERS,DBAR,,ITS-90,,PSS-78,,PSS-78,,UMOL/KG,,UMOL/KG,,UMOL/KG,,UMOL/KG,,UMOL/KG,,UMOL/KG,,PMOL/KG,,PMOL/KG,,FMOL/KG,,UMOL/KG,,UMOL/KG,,,,DEG C,,UMOL/KG,,ITS-90,,UG/KG,,UG/KG,,UG/L,,UMOL/KG,,/MILLE,,VOLTS,,VOLTS,,NMOL/KG,,/MILLE,,/MILLE,,/MILLE,,/MILLE,,,,,,,,,
33RR20230722  ,I05        ,25      ,  1,22         ,22         ,2,20230729,0420, -31.0551, 105.1914,     2954,     11.1,2,  17.2407,2,  35.7953,2,     -999,9,    235.2,2,     -999,9,     -999,9,     -999,9,     -999,9,     -999,9,     -999,9,     -999,9,     -999,9,   -999.0,9,     -999,9,     -999,9,     -999,9,     -999,9,  17.2329,2,     -999,1,     -999,1,     -999,9,     -999,9,     -999,9,   4.8516,1,   0.0239,1,     -999,9,     -999,9,     -999,9,     -999,9,     -999,9,20230729,0536, -31.0551, 105.1914,-999          ,9,-999          ,9
33RR20230722  ,I05        ,25      ,  1,26         ,26         ,2,20230729,0420, -31.0551, 105.1914,     2954,     11.2,2,  17.2457,2,  35.7942,2,     -999,9,    235.3,2,     -999,9,     -999,9,     -999,9,     -999,9,     -999,9,     -999,9,     -999,9,     -999,9,   -999.0,9,     -999,9,     -999,9,     -999,9,     -999,9,  17.2481,2,     -999,9,     -999,9,     -999,1,     -999,9,     -999,9,   4.7668,1,   0.0228,1,     -999,9,     -999,9,     -999,9,     -999,9,     -999,9,20230729,0537, -31.0550, 105.1914,-999          ,9,-999          ,9
33RR20230722  ,I05        ,25      ,  1,19         ,19         ,2,20230729,0420, -31.0551, 105.1914,     2954,     11.3,2,  17.2340,2,  35.7941,2,  35.7922,2,    235.2,2,    234.9,2,     1.56,2,     0.30,2,     0.03,2,     0.14,2,     -999,9,     -999,9,     -999,9,   2090.3,2,   2347.6,2,   7.9621,2,    24.98,2,     -999,1,  17.2356,2,     -999,9,     -999,9,     -999,9,     -999,9,     -999,9,   4.9748,1,   0.0239,1,     -999,9,     -999,9,     -999,9,     -999,9,     -999,9,20230729,0535, -31.0551, 105.1914,-999          ,9,-999          ,9
33RR20230722  ,I05        ,25      ,  1,25         ,25         ,2,20230729,0420, -31.0551, 105.1914,     2954,     11.4,2,  17.2424,2,  35.7948,2,     -999,9,    235.3,2,     -999,9,     -999,9,     -999,9,     -999,9,     -999,9,     -999,9,     -999,9,     -999,9,   -999.0,9,     -999,9,     -999,9,     -999,9,     -999,9,  17.2419,2,     -999,9,     -999,9,     -999,1,     -999,9,     -999,9,   4.9747,1,   0.0249,1,     -999,9,     -999,9,     -999,9,     -999,9,     -999,9,20230729,0537, -31.0550, 105.1914,-999          ,9,-999          ,9
33RR20230722  ,I05        ,25      ,  1,20         ,20         ,2,20230729,0420, -31.0551, 105.1914,     2954,     11.6,2,  17.2399,2,  35.7957,2,     -999,9,    235.3,2,     -999,9,     -999,9,     -999,9,     -999,9,     -999,9,     -999,9,     -999,9,     -999,9,   -999.0,9,     -999,9,     -999,9,     -999,9,     -999,9,  17.2400,2,     -999,9,     -999,9,     -999,9,     -999,9,     -999,9,   4.6988,1,   0.0230,1,     -999,9,     -999,9,     -999,9,     -999,9,     -999,9,20230729,0535, -31.0551, 105.1915,-999          ,9,-999          ,1
33RR20230722  ,I05        ,25      ,  1,27         ,27         ,2,20230729,0420, -31.0551, 105.1914,     2954,     11.6,2,  17.2443,2,  35.7943,2,     -999,9,    235.4,2,     -999,9,     -999,9,     -999,9,     -999,9,     -999,9,     -999,9,     -999,9,     -999,9,   -999.0,9,     -999,9,     -999,9,     -999,9,     -999,9,  17.2473,2,     -999,9,     -999,9,     -999,9,     -999,9,     -999,9,   4.7983,1,   0.0218,1,     -999,9,     -999,9,     -999,9,     -999,9,     -999,9,20230729,0538, -31.0551, 105.1914,-999          ,1,-999          ,9
33RR20230722  ,I05        ,25      ,  1,21         ,21         ,2,20230729,0420, -31.0551, 105.1914,     2954,     11.8,2,  17.2425,2,  35.7951,2,     -999,9,    235.3,2,     -999,9,     -999,9,     -999,9,     -999,9,     -999,9,     -999,9,     -999,9,     -999,9,   -999.0,9,     -999,9,     -999,9,     -999,9,     -999,9,  17.2382,2,     -999,1,     -999,1,     -999,9,     -999,9,     -999,9,   4.9746,1,   0.0232,1,     -999,9,     -999,9,     -999,9,     -999,9,     -999,9,20230729,0536, -31.0551, 105.1914,-999          ,9,-999          ,9
33RR20230722  ,I05        ,25      ,  1,23         ,23         ,2,20230729,0420, -31.0551, 105.1914,     2954,     12.0,2,  17.2358,2,  35.7952,2,     -999,9,    235.4,2,     -999,9,     -999,9,     -999,9,     -999,9,     -999,9,     -999,9,     -999,9,     -999,9,   -999.0,9,     -999,9,     -999,9,     -999,9,     -999,9,  17.2350,2,     -999,1,     -999,1,     -999,9,     -999,9,     -999,9,   4.9748,1,   0.0239,1,     -999,9,     -999,9,     -999,9,     -999,9,     -999,9,20230729,0536, -31.0551, 105.1914,-999          ,9,-999          ,9
33RR20230722  ,I05        ,25      ,  1,24         ,24         ,2,20230729,0420, -31.0551, 105.1914,     2954,     12.0,2,  17.2424,2,  35.7930,2,     -999,9,    235.2,2,     -999,9,     -999,9,     -999,9,     -999,9,     -999,9,     -999,9,     -999,9,     -999,9,   -999.0,9,     -999,9,     -999,9,     -999,9,     -999,9,  17.2419,2,     -999,9,     -999,9,     -999,1,     -999,9,     -999,9,   4.7936,1,   0.0251,1,     -999,9,     -999,9,     -999,9,     -999,9,     -999,9,20230729,0537, -31.0551, 105.1914,-999          ,9,-999          ,9
33RR20230722  ,I05        ,25      ,  1,18         ,18         ,2,20230729,0420, -31.0551, 105.1914,     2954,     70.4,2,  16.6622,2,  35.7933,2,  35.7910,2,    237.8,2,    237.9,2,     1.46,2,     0.27,2,     0.03,2,     0.13,2,     -999,9,     -999,9,     -999,9,   2098.5,2,   2347.4,2,   7.9543,6,    24.98,2,     -999,9,  16.6610,2,     -999,9,     -999,9,     -999,9,     -999,9,     -999,9,   4.9179,1,   0.0367,1,     -999,9,     -999,9,     -999,9,     -999,9,     -999,9,20230729,0532, -31.0550, 105.1915,-999          ,9,-999          ,9
33RR20230722  ,I05        ,25      ,  1,17         ,17         ,2,20230729,0420, -31.0551, 105.1914,     2954,    106.1,2,  16.4728,2,  35.7975,2,     -999,9,    239.4,2,     -999,9,     -999,9,     -999,9,     -999,9,     -999,9,     -999,9,     -999,9,     -999,9,   -999.0,9,     -999,9,     -999,9,     -999,9,     -999,9,  16.4708,2,     -999,9,     -999,9,     -999,9,     -999,9,     -999,9,   4.9741,1,   0.0343,1,     -999,9,     -999,9,     -999,9,     -999,9,     -999,9,20230729,0529, -31.0551, 105.1914,-999          ,9,-999          ,1
33RR20230722  ,I05        ,25      ,  1,16         ,16         ,2,20230729,0420, -31.0551, 105.1914,     2954,    131.5,2,  16.4427,2,  35.7981,2,  35.7951,2,    239.2,2,    239.6,2,     1.37,2,     0.10,2,     0.04,2,     0.13,2,     -999,9,     -999,9,     -999,9,   2100.1,2,   2349.8,2,   7.9561,2,    25.00,2,     -999,9,  16.4405,2,     -999,9,     -999,9,     -999,9,     -999,9,     -999,9,   4.9740,1,   0.0331,1,     -999,9,     -999,9,     -999,9,     -999,9,     -999,9,20230729,0528, -31.0551, 105.1914,-999          ,9,-999          ,9
33RR20230722  ,I05        ,25      ,  1,15         ,15         ,2,20230729,0420, -31.0551, 105.1914,     2954,    207.8,2,  15.2845,2,  35.5992,2,     -999,9,    233.4,2,     -999,9,     -999,9,     -999,9,     -999,9,     -999,9,     -999,9,     -999,9,     -999,9,   -999.0,9,     -999,9,     -999,9,     -999,9,     -999,9,  15.3176,3,     -999,9,     -999,9,     -999,9,     -999,9,     -999,9,   4.9713,1,   0.0147,1,     -999,9,     -999,9,     -999,9,     -999,9,     -999,9,20230729,0526, -31.0551, 105.1914,-999          ,9,-999          ,1
33RR20230722  ,I05        ,25      ,  1,14         ,14         ,2,20230729,0420, -31.0551, 105.1914,     2954,    365.9,2,  11.1569,2,  34.8826,3,  34.9077,2,    242.3,2,    244.3,2,     2.15,2,    10.19,2,     0.00,2,     0.77,2,     -999,9,     -999,9,     -999,9,   2129.1,2,   2301.0,2,   7.8045,2,    24.97,2,     -999,9,  11.1694,2,     -999,9,     -999,9,     -999,9,     -999,9,     -999,9,   4.9684,1,   0.0116,1,     -999,9,     -999,9,     -999,9,     -999,9,     -999,9,20230729,0522, -31.0550, 105.1914,-999          ,9,-999          ,9
33RR20230722  ,I05        ,25      ,  1,13         ,13         ,2,20230729,0420, -31.0551, 105.1914,     2954,    560.7,2,   9.6618,2,  34.7258,2,  34.7243,2,    237.1,2,    236.8,2,     4.00,2,    15.68,2,     0.00,2,     1.10,2,     -999,9,     -999,9,     -999,9,   2145.1,2,   2290.0,2,   7.7520,2,    24.97,2,     -999,9,   9.6618,2,     -999,9,     -999,9,     -999,9,     -999,9,     -999,9,   4.9667,1,   0.0113,1,     -999,9,     -999,9,     -999,9,     -999,9,     -999,9,20230729,0517, -31.0551, 105.1914,-999          ,9,-999          ,9
33RR20230722  ,I05        ,25      ,  1,12         ,12         ,2,20230729,0420, -31.0551, 105.1914,     2954,    883.5,2,   5.8732,2,  34.4156,3,  34.3994,2,    195.8,2,    196.2,2,    23.92,2,    28.35,2,     0.00,2,     1.93,2,     -999,9,     -999,9,     -999,9,   2189.9,2,   2287.7,2,   7.6318,2,    24.98,2,     -999,9,   5.8864,2,     -999,9,     -999,9,     -999,9,     -999,9,     -999,9,   4.9699,1,   0.0112,1,     -999,9,     -999,9,     -999,9,     -999,9,     -999,9,20230729,0510, -31.0551, 105.1914,-999          ,9,-999          ,9
33RR20230722  ,I05        ,25      ,  1,11         ,11         ,2,20230729,0420, -31.0551, 105.1914,     2954,   1011.7,2,   4.3612,2,  34.3815,2,     -999,9,    187.6,2,     -999,9,     -999,9,     -999,9,     -999,9,     -999,9,     -999,9,     -999,9,     -999,9,   -999.0,9,     -999,9,     -999,9,     -999,9,     -999,9,   4.3601,2,     -999,9,     -999,9,     -999,9,     -999,9,     -999,9,   4.9711,1,   0.0112,1,     -999,9,     -999,9,     -999,9,     -999,9,     -999,9,20230729,0507, -31.0550, 105.1914,-999          ,9,-999          ,1
33RR20230722  ,I05        ,25      ,  1,10         ,10         ,2,20230729,0420, -31.0551, 105.1914,     2954,   1130.5,2,   3.9949,2,  34.4575,2,  34.4546,2,    164.3,2,    164.7,2,    56.82,2,    33.70,2,     0.00,2,     2.33,2,     -999,9,     -999,9,     -999,9,   -999.0,9,     -999,9,     -999,9,     -999,9,     -999,9,   3.9976,2,     -999,9,     -999,9,     -999,9,     -999,9,     -999,9,   4.9732,1,   0.0111,1,     -999,9,     -999,9,     -999,9,     -999,9,     -999,9,20230729,0503, -31.0551, 105.1914,-999          ,9,-999          ,9
33RR20230722  ,I05        ,25      ,  1,9          ,9          ,2,20230729,0420, -31.0551, 105.1914,     2954,   1839.1,2,   2.6176,2,  34.6830,2,  34.6796,2,    156.1,2,    155.9,2,    94.58,2,    33.99,2,     0.00,2,     2.38,2,     -999,9,     -999,9,     -999,9,   2281.7,3,   2363.1,2,   7.5740,2,    24.97,2,     -999,9,   2.6178,2,     -999,9,     -999,9,     -999,9,     -999,9,     -999,9,   4.9753,1,   0.0117,1,     -999,9,     -999,9,     -999,9,     -999,9,     -999,9,20230729,0450, -31.0550, 105.1914,-999          ,9,-999          ,9
33RR20230722  ,I05        ,25      ,  1,8          ,8          ,2,20230729,0420, -31.0551, 105.1914,     2954,   1939.5,2,   2.4868,2,  34.6997,2,  34.6969,2,    158.3,2,    158.2,2,   100.34,2,    33.71,2,     0.00,2,     2.40,2,     -999,9,     -999,9,     -999,9,   -999.0,9,     -999,9,     -999,9,     -999,9,     -999,9,   2.4822,2,     -999,9,     -999,9,     -999,9,     -999,9,     -999,9,   4.9749,1,   0.0120,1,     -999,9,     -999,9,     -999,9,     -999,9,     -999,9,20230729,0447, -31.0550, 105.1914,-999          ,9,-999          ,9
33RR20230722  ,I05        ,25      ,  1,7          ,7          ,2,20230729,0420, -31.0551, 105.1914,     2954,   2045.7,2,   2.3863,2,  34.7088,3,  34.7064,2,    160.3,2,    160.3,2,   103.17,2,    33.58,2,     0.00,2,     2.37,2,     -999,9,     -999,9,     -999,9,   -999.0,9,     -999,9,     -999,9,     -999,9,     -999,9,   2.3864,2,     -999,9,     -999,9,     -999,9,     -999,9,     -999,9,   4.9749,1,   0.0118,1,     -999,9,     -999,9,     -999,9,     -999,9,     -999,9,20230729,0444, -31.0550, 105.1914,-999          ,9,-999          ,9
33RR20230722  ,I05        ,25      ,  1,6          ,6          ,2,20230729,0420, -31.0551, 105.1914,     2954,   2207.8,2,   2.2068,2,  34.7200,2,  34.7186,2,    164.1,2,    164.1,2,   107.75,2,    33.50,2,     0.00,2,     2.34,2,     -999,9,     -999,9,     -999,9,   2290.2,3,   2374.2,2,   7.5892,2,    24.97,2,     -999,9,   2.2070,2,     -999,9,     -999,9,     -999,9,     -999,9,     -999,9,   4.9742,1,   0.0111,1,     -999,9,     -999,9,     -999,9,     -999,9,     -999,9,20230729,0441, -31.0550, 105.1914,-999          ,9,-999          ,9
33RR20230722  ,I05        ,25      ,  1,5          ,5          ,2,20230729,0420, -31.0551, 105.1914,     2954,   2481.7,2,   2.0049,2,  34.7267,2,  34.7250,2,    169.6,2,    169.6,2,   110.58,2,    33.28,2,     0.00,2,     2.32,2,     -999,9,     -999,9,     -999,9,   2292.0,3,   2376.5,6,   7.5967,2,    24.98,2,     -999,9,   2.0050,2,     -999,9,     -999,9,     -999,9,     -999,9,     -999,9,   4.9322,1,   0.0120,1,     -999,9,     -999,9,     -999,9,     -999,9,     -999,9,20230729,0435, -31.0550, 105.1914,-999          ,9,-999          ,9
33RR20230722  ,I05        ,25      ,  1,4          ,37         ,2,20230729,0420, -31.0551, 105.1914,     2954,   2667.7,2,   1.8920,2,  34.7292,2,  34.7272,2,    173.5,2,    173.8,2,   111.85,2,    32.98,2,     0.00,2,     2.29,2,     -999,9,     -999,9,     -999,9,   2292.6,3,   2376.8,2,   7.6014,6,    24.98,2,     -999,9,   1.8924,2,     -999,9,     -999,9,     -999,9,     -999,9,     -999,9,   4.9234,1,   0.0118,1,     -999,9,     -999,9,     -999,9,     -999,9,     -999,9,20230729,0431, -31.0550, 105.1914,-999          ,9,-999          ,9
33RR20230722  ,I05        ,25      ,  1,2          ,2          ,4,20230729,0420, -31.0551, 105.1914,     2954,   2812.8,3,   1.7492,3,  34.7293,3,     -999,9,    177.6,3,     -999,9,     -999,9,     -999,9,     -999,9,     -999,9,     -999,9,     -999,9,     -999,9,   -999.0,4,     -999,9,     -999,9,     -999,9,     -999,9,   1.7493,3,     -999,9,     -999,9,     -999,9,     -999,9,     -999,9,   4.8536,1,   0.0111,1,     -999,9,     -999,9,     -999,9,     -999,9,     -999,9,20230729,0424, -31.0550, 105.1914,-999          ,9,-999          ,9
33RR20230722  ,I05        ,25      ,  1,3          ,3          ,2,20230729,0420, -31.0551, 105.1914,     2954,   2887.5,2,   1.7370,2,  34.7298,2,  34.7288,2,    178.6,2,    178.5,2,   113.90,2,    32.75,2,     0.00,2,     2.28,2,     -999,9,     -999,9,     -999,9,   2285.7,2,   2379.5,2,   7.6063,2,    25.02,2,     -999,9,   1.7345,2,     -999,9,     -999,9,     -999,9,     -999,9,     -999,9,   4.9748,1,   0.0117,1,     -999,9,     -999,9,     -999,9,     -999,9,     -999,9,20230729,0426, -31.0550, 105.1914,-999          ,9,-999          ,9
33RR20230722  ,I05        ,25      ,  1,1          ,1          ,4,20230729,0420, -31.0551, 105.1914,     2954,   2985.8,3,   1.7138,3,  34.7297,3,     -999,9,    179.4,3,     -999,9,     -999,9,     -999,9,     -999,9,     -999,9,     -999,9,     -999,9,     -999,9,   -999.0,4,     -999,9,     -999,9,     -999,9,     -999,9,   1.7193,3,     -999,9,     -999,9,     -999,9,     -999,9,     -999,9,   0.4953,1,   0.0115,1,     -999,9,     -999,9,     -999,9,     -999,9,     -999,9,20230729,0420, -31.0551, 105.1914,-999          ,9,-999          ,9