BOTTLE,20240422CCHHYDRO
EXPOCODE,SECT_ID,STNNBR,CASTNO,SAMPNO,BTLNBR,BTLNBR_FLAG_W,DATE,TIME,LATITUDE,LONGITUDE,DEPTH,CTDPRS,CTDPRS_FLAG_W,CTDTMP,CTDTMP_FLAG_W,CTDSAL,CTDSAL_FLAG_W,SALNTY,SALNTY_FLAG_W,CTDOXY,CTDOXY_FLAG_W,OXYGEN,OXYGEN_FLAG_W,SILCAT,SILCAT_FLAG_W,NITRAT,NITRAT_FLAG_W,NITRIT,NITRIT_FLAG_W,PHSPHT,PHSPHT_FLAG_W,CFC-11,CFC-11_FLAG_W,CFC-12,CFC-12_FLAG_W,SF6,SF6_FLAG_W,TCARBN,TCARBN_FLAG_W,ALKALI,ALKALI_FLAG_W,PH_TOT,PH_TOT_FLAG_W,PH_TMP,PH_TMP_FLAG_W,DOC,DOC_FLAG_W,REFTMP,REFTMP_FLAG_W,POC,POC_FLAG_W,PON,PON_FLAG_W,POP,POP_FLAG_W,DOP,DOP_FLAG_W,DELO18,DELO18_FLAG_W,CTDFLUOR,CTDFLUOR_FLAG_W,CTDXMISS,CTDXMISS_FLAG_W,N2O,N2O_FLAG_W,D15N_NO3,D15N_NO3_FLAG_W,D15N_NO2+NO3,D15N_NO2+NO3_FLAG_W,D18O_NO2+NO3,D18O_NO2+NO3_FLAG_W,D18O_NO3,D18O_NO3_FLAG_W,BTL_DATE,BTL_TIME,BTL_LAT,BTL_LON,HPLC,HPLC_FLAG_W,DNA,DNA_FLAG_W
,,,,,,,,,,,METERS,DBAR,,ITS-90,,PSS-78,,PSS-78,,UMOL/KG,,UMOL/KG,,UMOL/KG,,UMOL/KG,,UMOL/KG,,UMOL/KG,,PMOL/KG,,PMOL/KG,,FMOL/KG,,UMOL/KG,,UMOL/KG,,,,DEG C,,UMOL/KG,,ITS-90,,UG/KG,,UG/KG,,UG/L,,UMOL/KG,,/MILLE,,VOLTS,,VOLTS,,NMOL/KG,,/MILLE,,/MILLE,,/MILLE,,/MILLE,,,,,,,,,
33RR20230722  ,I05        ,11      ,  1,36         ,36         ,2,20230724,1142, -32.1501, 112.3114,     4981,      7.1,2,  17.0151,2,  35.6878,2,  35.6731,3,    240.5,2,    239.5,2,     1.56,2,     0.08,2,     0.02,2,     0.09,2,    3.006,2,    1.290,2,   2.1500,2,   2076.9,2,   2344.9,2,   7.9736,2,    25.00,2,     -999,1,  17.0209,2,     -999,9,     -999,9,     -999,9,     -999,9,     -999,1,   4.7012,1,   0.0294,1,      8.3,2,     -999,1,     -999,9,     -999,1,     -999,1,20230724,1347, -32.1501, 112.3114,-999          ,9,-999          ,9
33RR20230722  ,I05        ,11      ,  1,35         ,35         ,2,20230724,1142, -32.1501, 112.3114,     4981,     18.8,2,  16.9751,2,  35.6859,2,  35.6725,3,    240.7,2,    239.6,2,     1.46,2,     0.02,2,     0.02,2,     0.11,2,    2.979,2,    1.308,2,   2.0800,2,   2076.2,6,   2343.5,2,   7.9734,2,    25.00,2,     -999,1,  17.0095,2,     -999,9,     -999,9,     -999,9,     -999,9,     -999,1,   4.8996,1,   0.0285,1,      8.5,2,     -999,1,     -999,9,     -999,1,     -999,1,20230724,1345, -32.1500, 112.3114,-999          ,9,-999          ,9
33RR20230722  ,I05        ,11      ,  1,34         ,34         ,2,20230724,1142, -32.1501, 112.3114,     4981,     38.7,2,  16.4840,2,  35.6054,2,  35.5922,3,    243.4,2,    243.7,2,     1.46,2,     0.00,2,     0.01,2,     0.09,2,     -999,9,     -999,9,     -999,9,   2074.0,2,   2339.8,2,   7.9735,2,    25.01,2,     -999,1,  16.4847,2,     -999,9,     -999,9,     -999,9,     -999,9,     -999,1,   4.9763,1,   0.0349,1,     -999,9,     -999,1,     -999,9,     -999,1,     -999,1,20230724,1344, -32.1500, 112.3114,-999          ,9,-999          ,9
33RR20230722  ,I05        ,11      ,  1,33         ,33         ,2,20230724,1142, -32.1501, 112.3114,     4981,     58.0,2,  16.4553,2,  35.6035,2,  35.5910,3,    241.4,2,    241.6,2,     1.66,2,     0.00,2,     0.08,2,     0.11,2,    2.185,2,    1.305,2,   2.1800,2,   2074.1,2,   2338.7,2,   7.9708,2,    25.00,2,     -999,1,  16.4550,2,     -999,9,     -999,9,     -999,9,     -999,9,     -999,1,   4.9379,1,   0.0331,1,      8.2,2,     -999,1,     -999,9,     -999,1,     -999,1,20230724,1342, -32.1501, 112.3114,-999          ,9,-999          ,9
33RR20230722  ,I05        ,11      ,  1,32         ,32         ,2,20230724,1142, -32.1501, 112.3114,     4981,     79.8,2,  16.1463,2,  35.5867,2,     -999,5,    238.3,2,    239.4,2,     1.76,2,     0.32,2,     0.23,2,     0.14,2,     -999,9,     -999,9,     -999,9,   2080.1,2,   2339.7,2,   7.9571,6,    25.00,2,     -999,1,  16.1538,2,     -999,9,     -999,9,     -999,9,     -999,9,     -999,1,   4.9745,1,   0.0247,1,     -999,9,     -999,1,     -999,9,     -999,1,     -999,1,20230724,1340, -32.1501, 112.3114,-999          ,9,-999          ,9
33RR20230722  ,I05        ,11      ,  1,31         ,31         ,2,20230724,1142, -32.1501, 112.3114,     4981,     97.9,2,  15.9905,2,  35.5705,2,  35.5586,3,    238.1,2,    239.4,2,     1.56,2,     0.47,2,     0.23,2,     0.17,2,    1.933,2,    1.371,2,   2.2900,2,   2082.6,2,   2338.3,2,   7.9520,2,    25.00,2,     -999,1,  15.9878,2,     -999,9,     -999,9,     -999,9,     -999,9,     -999,1,   4.9743,1,   0.0206,1,      8.8,2,     -999,1,     -999,9,     -999,1,     -999,1,20230724,1339, -32.1501, 112.3114,-999          ,9,-999          ,9
33RR20230722  ,I05        ,11      ,  1,30         ,30         ,2,20230724,1142, -32.1501, 112.3114,     4981,    123.3,2,  15.6108,2,  35.5387,2,     -999,5,    237.7,2,    238.9,2,     1.56,2,     0.94,2,     0.14,2,     0.20,2,     -999,9,     -999,9,     -999,9,   2090.6,2,   2337.5,2,   7.9404,2,    25.02,2,     -999,1,  15.6128,2,     -999,9,     -999,9,     -999,9,     -999,9,     -999,1,   4.9733,1,   0.0165,1,     -999,9,     -999,1,     -999,9,     -999,1,     -999,1,20230724,1337, -32.1500, 112.3114,-999          ,9,-999          ,9
33RR20230722  ,I05        ,11      ,  1,29         ,29         ,2,20230724,1142, -32.1501, 112.3114,     4981,    156.2,2,  14.1933,2,  35.3587,2,  35.3482,3,    240.4,2,    240.4,2,     1.07,2,     2.73,2,     0.06,2,     0.31,2,    2.631,2,    1.447,2,   2.2900,2,   2105.7,2,   2330.4,6,   7.8976,2,    24.99,2,     -999,1,  14.1992,2,     -999,9,     -999,9,     -999,9,     -999,9,     -999,1,   4.9719,1,   0.0125,1,      9.4,2,     -999,1,     -999,9,     -999,1,     -999,1,20230724,1336, -32.1501, 112.3114,-999          ,9,-999          ,9
33RR20230722  ,I05        ,11      ,  1,28         ,28         ,2,20230724,1142, -32.1501, 112.3114,     4981,    184.7,2,  13.4880,2,  35.2605,2,  35.2469,3,    242.6,2,    242.3,2,     1.37,2,     3.95,2,     0.03,2,     0.39,2,     -999,9,     -999,9,     -999,9,   2110.9,2,   2325.6,2,   7.8789,6,    25.00,2,     -999,1,  13.4900,2,     -999,9,     -999,9,     -999,9,     -999,9,     -999,1,   4.9715,1,   0.0120,1,     -999,9,     -999,1,     -999,9,     -999,1,     -999,1,20230724,1334, -32.1501, 112.3114,-999          ,9,-999          ,9
33RR20230722  ,I05        ,11      ,  1,27         ,27         ,2,20230724,1142, -32.1501, 112.3114,     4981,    217.0,2,  12.3076,2,  35.0557,2,  35.0449,3,    241.0,2,    241.3,2,     1.66,2,     6.92,2,     0.01,2,     0.58,2,    3.462,2,    1.573,2,   2.3600,2,   2120.5,2,   2313.4,2,   7.8379,2,    25.00,2,     -999,1,  12.2959,2,     -999,9,     -999,9,     -999,9,     -999,9,     -999,1,   4.9701,1,   0.0117,1,     10.9,2,     -999,1,     -999,9,     -999,1,     -999,1,20230724,1332, -32.1500, 112.3114,-999          ,9,-999          ,9
33RR20230722  ,I05        ,11      ,  1,26         ,26         ,2,20230724,1142, -32.1501, 112.3114,     4981,    256.1,2,  11.5758,2,  34.9427,2,  34.9317,3,    243.7,2,    243.7,2,     2.24,2,     8.79,2,     0.00,2,     0.70,2,     -999,9,     -999,9,     -999,9,   -999.0,9,     -999,9,     -999,9,     -999,9,     -999,1,  11.5745,2,     -999,9,     -999,9,     -999,9,     -999,9,     -999,1,   4.9694,1,   0.0114,1,     -999,9,     -999,1,     -999,9,     -999,1,     -999,1,20230724,1330, -32.1500, 112.3114,-999          ,9,-999          ,9
33RR20230722  ,I05        ,11      ,  1,25         ,25         ,2,20230724,1142, -32.1501, 112.3114,     4981,    327.9,2,  10.4022,2,  34.8136,2,  34.8058,3,    239.9,2,    239.1,2,     2.93,2,    13.01,2,     0.00,2,     0.95,2,    2.682,2,    1.853,2,   2.5500,2,   2136.1,2,   2299.9,2,   7.7749,2,    25.00,2,     -999,1,  10.4127,2,     -999,9,     -999,9,     -999,9,     -999,9,     -999,1,   4.8613,1,   0.0115,1,     13.8,2,     -999,1,     -999,9,     -999,1,     -999,1,20230724,1328, -32.1501, 112.3114,-999          ,9,-999          ,9
33RR20230722  ,I05        ,11      ,  1,24         ,24         ,2,20230724,1142, -32.1501, 112.3114,     4981,    382.3,2,  10.1492,2,  34.7959,2,  34.7842,3,    237.3,2,    236.6,2,     3.32,2,    14.23,2,     0.00,2,     1.02,2,     -999,9,     -999,9,     -999,9,   -999.0,9,     -999,9,     -999,9,     -999,9,     -999,1,  10.1472,2,     -999,9,     -999,9,     -999,9,     -999,9,     -999,1,   4.9277,1,   0.0115,1,     -999,9,     -999,1,     -999,9,     -999,1,     -999,1,20230724,1326, -32.1501, 112.3114,-999          ,9,-999          ,9
33RR20230722  ,I05        ,11      ,  1,23         ,23         ,2,20230724,1142, -32.1501, 112.3114,     4981,    478.3,2,   9.5863,2,  34.7267,2,  34.7134,3,    236.9,2,    236.7,2,     3.71,2,    15.99,2,     0.00,2,     1.13,2,    4.643,2,    1.867,2,   2.1200,2,   2140.9,2,   2293.4,2,   7.7492,2,    25.01,2,     -999,1,   9.5761,2,     -999,9,     -999,9,     -999,9,     -999,9,     -999,1,   4.9670,1,   0.0114,1,     14.0,2,     -999,1,     -999,9,     -999,1,     -999,1,20230724,1323, -32.1500, 112.3114,-999          ,9,-999          ,9
33RR20230722  ,I05        ,11      ,  1,22         ,22         ,2,20230724,1142, -32.1501, 112.3114,     4981,    536.3,2,   9.3579,2,  34.6993,2,     -999,5,    236.9,2,    236.4,2,     4.49,2,    16.63,2,     0.00,2,     1.17,2,     -999,9,     -999,9,     -999,9,   2143.6,2,   2294.2,2,   7.7448,2,    24.99,2,     -999,1,   9.3571,2,     -999,9,     -999,9,     -999,9,     -999,9,     -999,1,   4.9668,1,   0.0113,1,     -999,9,     -999,1,     -999,9,     -999,1,     -999,1,20230724,1321, -32.1500, 112.3114,-999          ,9,-999          ,9
33RR20230722  ,I05        ,11      ,  1,21         ,21         ,2,20230724,1142, -32.1501, 112.3114,     4981,    616.0,2,   8.6874,2,  34.6060,2,  34.5965,3,    230.0,2,    230.6,2,     6.44,2,    18.79,2,     0.00,2,     1.32,2,    3.992,6,    1.759,6,   1.9200,6,   2147.5,2,   2289.3,2,   7.7260,2,    25.00,2,     -999,1,   8.6934,2,     -999,9,     -999,9,     -999,9,     -999,9,     -999,1,   4.9666,1,   0.0112,1,     14.1,6,     -999,1,     -999,9,     -999,1,     -999,1,20230724,1319, -32.1500, 112.3114,-999          ,9,-999          ,9
33RR20230722  ,I05        ,11      ,  1,20         ,20         ,2,20230724,1142, -32.1501, 112.3114,     4981,    687.4,2,   7.5374,2,  34.4918,2,  34.4805,3,    206.9,2,    207.5,2,    12.30,2,    23.51,2,     0.00,2,     1.63,2,     -999,9,     -999,9,     -999,9,   -999.0,9,     -999,9,     -999,9,     -999,9,     -999,1,   7.5418,2,     -999,9,     -999,9,     -999,9,     -999,9,     -999,1,   4.9687,1,   0.0112,1,     -999,9,     -999,1,     -999,9,     -999,1,     -999,1,20230724,1317, -32.1500, 112.3114,-999          ,9,-999          ,9
33RR20230722  ,I05        ,11      ,  1,19         ,19         ,2,20230724,1142, -32.1501, 112.3114,     4981,    772.6,2,   6.0334,2,  34.4025,2,  34.3912,3,    197.2,2,    198.1,2,    21.67,2,    27.81,2,     0.00,2,     1.89,2,    3.213,2,    1.216,2,   0.6900,2,   2180.3,2,   2291.7,2,   7.6377,2,    25.00,2,     -999,1,   6.0393,2,     -999,9,     -999,9,     -999,9,     -999,9,     -999,1,   4.9505,1,   0.0111,1,     19.1,2,     -999,1,     -999,9,     -999,1,     -999,1,20230724,1314, -32.1501, 112.3114,-999          ,9,-999          ,9
33RR20230722  ,I05        ,11      ,  1,18         ,18         ,2,20230724,1142, -32.1501, 112.3114,     4981,    956.8,2,   4.1098,2,  34.3895,2,  34.3778,3,    185.2,2,    186.0,2,    43.23,2,    32.00,2,     0.00,2,     2.25,2,    1.363,2,    0.773,2,   0.4500,2,   2215.8,2,   2307.1,2,   7.5937,2,    25.00,2,     -999,1,   4.1107,2,     -999,9,     -999,9,     -999,9,     -999,9,     -999,1,   4.9714,1,   0.0112,1,     21.9,2,     -999,1,     -999,9,     -999,1,     -999,1,20230724,1310, -32.1501, 112.3114,-999          ,9,-999          ,9
33RR20230722  ,I05        ,11      ,  1,17         ,17         ,2,20230724,1142, -32.1501, 112.3114,     4981,   1074.8,2,   3.6147,2,  34.4377,2,  34.4253,3,    174.5,2,    174.5,2,    54.36,2,    33.56,2,     0.00,2,     2.34,2,    1.413,2,    0.475,2,   0.1700,2,   2230.1,2,   2320.3,2,   7.5768,2,    25.00,2,     -999,1,   3.6199,2,     -999,9,     -999,9,     -999,9,     -999,9,     -999,1,   4.9727,1,   0.0112,1,     23.3,2,     -999,1,     -999,9,     -999,1,     -999,1,20230724,1307, -32.1501, 112.3114,-999          ,9,-999          ,9
33RR20230722  ,I05        ,11      ,  1,16         ,16         ,2,20230724,1142, -32.1501, 112.3114,     4981,   1229.7,2,   3.3134,2,  34.5212,2,  34.5089,3,    157.7,2,    157.4,2,    69.09,2,    34.22,2,     0.00,2,     2.47,2,    0.599,2,    0.193,2,   0.0300,2,   2253.7,2,   2336.0,2,   7.5606,2,    25.00,2,     -999,1,   3.3136,2,     -999,9,     -999,9,     -999,9,     -999,9,     -999,1,   4.9230,1,   0.0116,1,     24.4,2,     -999,1,     -999,9,     -999,1,     -999,1,20230724,1303, -32.1501, 112.3114,-999          ,9,-999          ,9
33RR20230722  ,I05        ,11      ,  1,15         ,15         ,2,20230724,1142, -32.1501, 112.3114,     4981,   1366.2,2,   3.1393,2,  34.5728,2,  34.5616,3,    152.4,2,    152.0,2,    77.58,2,    34.65,2,     0.00,2,     2.49,2,    0.127,2,    0.083,2,   0.0700,2,   2260.6,2,   2346.7,2,   7.5585,2,    24.99,2,     -999,1,   3.1391,2,     -999,9,     -999,9,     -999,9,     -999,9,     -999,1,   4.9748,1,   0.0112,1,     24.2,2,     -999,1,     -999,9,     -999,1,     -999,1,20230724,1259, -32.1501, 112.3114,-999          ,9,-999          ,9
33RR20230722  ,I05        ,11      ,  1,14         ,14         ,2,20230724,1142, -32.1501, 112.3114,     4981,   1514.9,2,   2.9120,2,  34.6196,2,  34.5688,3,    152.8,2,    153.9,2,    77.77,2,    34.58,2,     0.00,2,     2.46,2,     -999,9,     -999,9,     -999,9,   -999.0,9,     -999,9,     -999,9,     -999,9,     -999,1,   2.9119,2,     -999,9,     -999,9,     -999,9,     -999,9,     -999,1,   4.9748,1,   0.0118,1,     -999,9,     -999,1,     -999,9,     -999,1,     -999,1,20230724,1256, -32.1501, 112.3114,-999          ,9,-999          ,9
33RR20230722  ,I05        ,11      ,  1,13         ,13         ,2,20230724,1142, -32.1501, 112.3114,     4981,   1666.9,2,   2.6928,2,  34.6608,2,  34.6494,3,    156.0,2,    156.4,2,    90.84,2,    33.86,2,     0.00,2,     2.46,2,    0.044,2,    0.020,2,  -0.0400,2,   2267.3,2,   2359.4,2,   7.5714,6,    24.99,2,     -999,1,   2.6930,2,     -999,9,     -999,9,     -999,9,     -999,9,     -999,1,   4.9751,1,   0.0124,1,     23.4,2,     -999,1,     -999,9,     -999,1,     -999,1,20230724,1252, -32.1501, 112.3114,-999          ,9,-999          ,9
33RR20230722  ,I05        ,11      ,  1,12         ,12         ,2,20230724,1142, -32.1501, 112.3114,     4981,   1813.0,2,   2.5133,2,  34.6866,2,  34.6755,3,    160.6,2,    160.2,2,    89.08,2,    33.41,2,     0.00,2,     2.44,2,     -999,9,     -999,9,     -999,9,   2272.4,2,   2363.7,2,   7.5794,2,    25.00,2,     -999,1,   2.5136,2,     -999,9,     -999,9,     -999,9,     -999,9,     -999,1,   4.9736,1,   0.0112,1,     -999,9,     -999,1,     -999,9,     -999,1,     -999,1,20230724,1248, -32.1501, 112.3114,-999          ,9,-999          ,9
33RR20230722  ,I05        ,11      ,  1,11         ,11         ,2,20230724,1142, -32.1501, 112.3114,     4981,   1948.2,2,   2.3782,2,  34.7038,2,  34.6926,3,    164.5,2,    164.5,2,    95.81,2,    33.17,2,     0.00,2,     2.37,2,    0.019,2,    0.013,2,   0.0700,2,   2269.7,2,   2368.2,6,   7.5860,2,    25.00,2,     -999,1,   2.3784,2,     -999,9,     -999,9,     -999,9,     -999,9,     -999,1,   4.9750,1,   0.0118,1,     22.6,2,     -999,1,     -999,9,     -999,1,     -999,1,20230724,1245, -32.1501, 112.3114,-999          ,9,-999          ,9
33RR20230722  ,I05        ,11      ,  1,10         ,10         ,2,20230724,1142, -32.1501, 112.3114,     4981,   2186.2,2,   2.1732,2,  34.7205,2,  34.7099,3,    167.0,2,    166.7,2,   102.16,2,    33.11,2,     0.00,2,     2.35,2,     -999,9,     -999,9,     -999,9,   -999.0,9,     -999,9,     -999,9,     -999,9,     -999,1,   2.1733,2,     -999,9,     -999,9,     -999,9,     -999,9,     -999,1,   4.6905,1,   0.0112,1,     -999,9,     -999,1,     -999,9,     -999,1,     -999,1,20230724,1240, -32.1500, 112.3114,-999          ,9,-999          ,9
33RR20230722  ,I05        ,11      ,  1,9          ,9          ,2,20230724,1142, -32.1501, 112.3114,     4981,   2440.8,2,   1.9851,2,  34.7263,2,  34.7154,3,    170.6,2,    170.2,2,   108.01,2,    33.05,2,     0.00,2,     2.35,2,    0.004,2,    0.006,2,  -0.0500,2,   -999.0,9,     -999,9,     -999,9,     -999,9,     -999,1,   1.9857,2,     -999,9,     -999,9,     -999,9,     -999,9,     -999,1,   4.6869,1,   0.0118,1,     21.6,2,     -999,1,     -999,9,     -999,1,     -999,1,20230724,1235, -32.1500, 112.3114,-999          ,9,-999          ,9
33RR20230722  ,I05        ,11      ,  1,8          ,8          ,2,20230724,1142, -32.1501, 112.3114,     4981,   2680.4,2,   1.8258,2,  34.7281,2,  34.7199,3,    175.8,2,    176.2,2,   110.25,2,    32.72,2,     0.00,2,     2.34,2,    0.017,2,    0.003,2,   0.0500,2,   2279.4,2,   2382.7,2,   7.6042,6,    25.00,2,     -999,1,   1.8262,2,     -999,9,     -999,9,     -999,9,     -999,9,     -999,1,   4.9397,1,   0.0114,1,     20.6,2,     -999,1,     -999,9,     -999,1,     -999,1,20230724,1229, -32.1500, 112.3114,-999          ,9,-999          ,9
33RR20230722  ,I05        ,11      ,  1,7          ,7          ,2,20230724,1142, -32.1501, 112.3114,     4981,   3134.4,2,   1.5601,2,  34.7281,2,  34.7172,3,    186.2,2,    186.6,2,   112.79,2,    32.21,2,     0.00,2,     2.30,2,    0.004,2,    0.005,2,  -0.0500,2,   -999.0,9,     -999,9,     -999,9,     -999,9,     -999,1,   1.5606,2,     -999,9,     -999,9,     -999,9,     -999,9,     -999,1,   4.9759,1,   0.0113,1,     20.2,2,     -999,1,     -999,9,     -999,1,     -999,1,20230724,1221, -32.1501, 112.3114,-999          ,9,-999          ,9
33RR20230722  ,I05        ,11      ,  1,6          ,6          ,2,20230724,1142, -32.1501, 112.3114,     4981,   3554.5,2,   1.3556,2,  34.7221,2,  34.7111,3,    190.2,2,    190.4,2,   118.35,2,    32.13,2,     0.00,2,     2.30,2,     -999,9,     -999,9,     -999,9,   -999.0,9,     -999,9,     -999,9,     -999,9,     -999,1,   1.3556,2,     -999,9,     -999,9,     -999,9,     -999,9,     -999,1,   4.9762,1,   0.0111,1,     -999,9,     -999,1,     -999,9,     -999,1,     -999,1,20230724,1212, -32.1500, 112.3114,-999          ,9,-999          ,9
33RR20230722  ,I05        ,11      ,  1,5          ,5          ,2,20230724,1142, -32.1501, 112.3114,     4981,   3779.4,2,   1.2837,2,  34.7196,2,  34.7089,3,    192.6,2,    193.0,2,   120.50,2,    32.10,2,     0.00,2,     2.30,2,    0.021,2,    0.010,2,   0.1600,3,   2274.0,2,   2385.8,2,   7.6195,2,    25.00,2,     -999,1,   1.2845,2,     -999,9,     -999,9,     -999,9,     -999,9,     -999,1,   4.9763,1,   0.0111,1,     19.1,2,     -999,1,     -999,9,     -999,1,     -999,1,20230724,1208, -32.1500, 112.3114,-999          ,9,-999          ,9
33RR20230722  ,I05        ,11      ,  1,4          ,4          ,2,20230724,1142, -32.1501, 112.3114,     4981,   4070.9,2,   1.2118,2,  34.7165,2,  34.7060,3,    195.1,2,    195.1,2,   124.50,2,    32.18,2,     0.00,2,     2.31,2,    0.034,2,    0.008,2,  -0.0300,2,   -999.0,9,     -999,9,     -999,9,     -999,9,     -999,1,   1.2123,2,     -999,9,     -999,9,     -999,9,     -999,9,     -999,1,   4.9768,1,   0.0111,1,     18.8,2,     -999,1,     -999,9,     -999,1,     -999,1,20230724,1202, -32.1500, 112.3114,-999          ,9,-999          ,9
33RR20230722  ,I05        ,11      ,  1,3          ,3          ,2,20230724,1142, -32.1501, 112.3114,     4981,   4773.0,2,   1.0946,2,  34.7104,2,  34.7007,3,    202.7,2,    202.9,2,   124.21,2,    31.57,2,     0.00,2,     2.28,2,    0.091,2,    0.029,2,   0.0100,2,   2270.5,6,   2380.3,2,   7.6223,2,    25.01,2,     -999,1,   1.0955,2,     -999,9,     -999,9,     -999,9,     -999,9,     -999,1,   4.9771,1,   0.0111,1,     18.7,2,     -999,1,     -999,9,     -999,1,     -999,1,20230724,1149, -32.1500, 112.3114,-999          ,9,-999          ,9