BOTTLE,20240422CCHHYDRO
EXPOCODE,SECT_ID,STNNBR,CASTNO,SAMPNO,BTLNBR,BTLNBR_FLAG_W,DATE,TIME,LATITUDE,LONGITUDE,DEPTH,CTDPRS,CTDPRS_FLAG_W,CTDTMP,CTDTMP_FLAG_W,CTDSAL,CTDSAL_FLAG_W,SALNTY,SALNTY_FLAG_W,CTDOXY,CTDOXY_FLAG_W,OXYGEN,OXYGEN_FLAG_W,SILCAT,SILCAT_FLAG_W,NITRAT,NITRAT_FLAG_W,NITRIT,NITRIT_FLAG_W,PHSPHT,PHSPHT_FLAG_W,CFC-11,CFC-11_FLAG_W,CFC-12,CFC-12_FLAG_W,SF6,SF6_FLAG_W,TCARBN,TCARBN_FLAG_W,ALKALI,ALKALI_FLAG_W,PH_TOT,PH_TOT_FLAG_W,PH_TMP,PH_TMP_FLAG_W,DOC,DOC_FLAG_W,REFTMP,REFTMP_FLAG_W,POC,POC_FLAG_W,PON,PON_FLAG_W,POP,POP_FLAG_W,DOP,DOP_FLAG_W,DELO18,DELO18_FLAG_W,CTDFLUOR,CTDFLUOR_FLAG_W,CTDXMISS,CTDXMISS_FLAG_W,N2O,N2O_FLAG_W,D15N_NO3,D15N_NO3_FLAG_W,D15N_NO2+NO3,D15N_NO2+NO3_FLAG_W,D18O_NO2+NO3,D18O_NO2+NO3_FLAG_W,D18O_NO3,D18O_NO3_FLAG_W,BTL_DATE,BTL_TIME,BTL_LAT,BTL_LON,HPLC,HPLC_FLAG_W,DNA,DNA_FLAG_W
,,,,,,,,,,,METERS,DBAR,,ITS-90,,PSS-78,,PSS-78,,UMOL/KG,,UMOL/KG,,UMOL/KG,,UMOL/KG,,UMOL/KG,,UMOL/KG,,PMOL/KG,,PMOL/KG,,FMOL/KG,,UMOL/KG,,UMOL/KG,,,,DEG C,,UMOL/KG,,ITS-90,,UG/KG,,UG/KG,,UG/L,,UMOL/KG,,/MILLE,,VOLTS,,VOLTS,,NMOL/KG,,/MILLE,,/MILLE,,/MILLE,,/MILLE,,,,,,,,,
33RR20230722  ,I05        ,188     ,  1,34         ,34         ,2,20230909,0034, -31.6529,  31.1740,     3129,      6.6,2,  21.5945,2,  35.4206,2,  35.4198,2,    219.1,2,    218.9,2,     1.76,2,     0.05,2,     0.18,2,     0.14,2,    1.597,6,    1.104,6,   1.9100,6,   2034.4,2,   2318.7,2,   8.0157,6,    25.03,2,     -999,1,  21.5917,2,     -999,9,     -999,9,     -999,9,     -999,1,     -999,9,   4.7620,1,   0.0345,1,      7.0,6,     -999,9,     -999,9,     -999,9,     -999,9,20230909,0207, -31.6529,  31.1740,-999          ,9,-999          ,9
33RR20230722  ,I05        ,188     ,  1,33         ,33         ,2,20230909,0034, -31.6529,  31.1740,     3129,     20.2,2,  21.5965,2,  35.4204,2,  35.4194,2,    219.1,2,    218.8,2,     1.76,2,     0.01,2,     0.18,2,     0.15,2,     -999,9,     -999,9,     -999,9,   2029.1,6,   2318.6,2,   8.0151,2,    25.02,2,     -999,1,  21.5952,2,     -999,9,     -999,9,     -999,9,     -999,9,     -999,9,   4.8013,1,   0.0341,1,     -999,9,     -999,9,     -999,9,     -999,9,     -999,9,20230909,0205, -31.6529,  31.1740,-999          ,9,-999          ,9
33RR20230722  ,I05        ,188     ,  1,32         ,32         ,2,20230909,0034, -31.6529,  31.1740,     3129,     33.1,2,  21.5909,2,  35.4204,2,  35.4194,2,    218.9,2,    218.9,2,     -999,9,     -999,9,     -999,9,     -999,9,    1.686,2,    1.104,2,   2.1000,2,   -999.0,9,     -999,9,     -999,9,     -999,9,     -999,1,  21.5901,2,     -999,9,     -999,9,     -999,9,     -999,1,     -999,9,   4.9738,1,   0.0394,1,      7.0,2,     -999,9,     -999,9,     -999,9,     -999,9,20230909,0204, -31.6530,  31.1740,-999          ,9,-999          ,9
33RR20230722  ,I05        ,188     ,  1,31         ,31         ,2,20230909,0034, -31.6529,  31.1740,     3129,     48.0,2,  21.5630,2,  35.4213,2,  35.4210,2,    217.7,2,    217.5,2,     -999,9,     -999,9,     -999,9,     -999,9,     -999,9,     -999,9,     -999,9,   2032.7,2,   2318.6,2,   8.0144,6,    25.02,2,     -999,1,  21.5615,2,     -999,9,     -999,9,     -999,9,     -999,9,     -999,9,   4.9735,1,   0.0302,1,     -999,9,     -999,9,     -999,9,     -999,9,     -999,9,20230909,0202, -31.6529,  31.1740,-999          ,9,-999          ,9
33RR20230722  ,I05        ,188     ,  1,30         ,30         ,2,20230909,0034, -31.6529,  31.1740,     3129,     65.9,2,  21.4954,2,  35.4317,2,  35.4306,2,    218.5,2,    218.4,2,     1.66,2,     0.00,2,     0.20,2,     0.14,2,    1.581,2,    1.113,2,   1.9500,2,   2032.3,2,   2319.1,6,   8.0131,2,    25.02,2,     -999,1,  21.4933,2,     -999,9,     -999,9,     -999,9,     -999,1,     -999,9,   4.9739,1,   0.0283,1,      7.0,2,     -999,9,     -999,9,     -999,9,     -999,9,20230909,0201, -31.6529,  31.1740,-999          ,9,-999          ,9
33RR20230722  ,I05        ,188     ,  1,29         ,29         ,2,20230909,0034, -31.6529,  31.1740,     3129,     87.1,2,  21.4224,2,  35.4342,2,  35.4328,2,    216.2,2,    216.7,2,     1.66,2,     0.07,2,     0.34,2,     0.15,2,     -999,9,     -999,9,     -999,9,   2037.0,2,   2318.2,6,   8.0097,2,    25.00,2,     -999,1,  21.4252,2,     -999,9,     -999,9,     -999,9,     -999,1,     -999,9,   4.9729,1,   0.0199,1,     -999,9,     -999,9,     -999,9,     -999,9,     -999,9,20230909,0159, -31.6530,  31.1740,-999          ,9,-999          ,9
33RR20230722  ,I05        ,188     ,  1,28         ,28         ,2,20230909,0034, -31.6529,  31.1740,     3129,    109.7,2,  20.7892,2,  35.4905,2,  35.4849,2,    191.2,2,    192.9,2,     2.93,2,     2.72,2,     0.07,2,     0.28,2,    1.630,2,    1.137,2,   1.9200,2,   -999.0,9,     -999,9,     -999,9,     -999,9,     -999,1,  20.8084,2,     -999,9,     -999,9,     -999,9,     -999,9,     -999,9,   4.9683,1,   0.0128,1,      8.7,2,     -999,9,     -999,9,     -999,9,     -999,9,20230909,0157, -31.6530,  31.1740,-999          ,9,-999          ,9
33RR20230722  ,I05        ,188     ,  1,27         ,27         ,2,20230909,0034, -31.6529,  31.1740,     3129,    135.4,2,  19.8361,2,  35.5750,2,  35.5723,2,    194.1,2,    192.2,2,     3.41,2,     3.18,2,     0.02,2,     0.31,2,     -999,9,     -999,9,     -999,9,   2080.8,2,   2327.7,2,   7.9416,2,    25.03,2,     -999,1,  19.8312,2,     -999,9,     -999,9,     -999,9,     -999,1,     -999,9,   4.8263,1,   0.0117,1,     -999,9,     -999,9,     -999,9,     -999,9,     -999,9,20230909,0156, -31.6529,  31.1740,-999          ,9,-999          ,9
33RR20230722  ,I05        ,188     ,  1,26         ,26         ,2,20230909,0034, -31.6529,  31.1740,     3129,    166.5,2,  19.0386,2,  35.5598,2,  35.5669,2,    190.5,3,    192.8,2,     3.80,2,     3.71,2,     0.02,2,     0.35,2,    1.804,2,    1.219,2,   1.9400,2,   -999.0,9,     -999,9,     -999,9,     -999,9,     -999,1,  19.0667,2,     -999,9,     -999,9,     -999,9,     -999,9,     -999,9,   4.7045,1,   0.0118,1,      9.7,2,     -999,9,     -999,9,     -999,9,     -999,9,20230909,0154, -31.6530,  31.1740,-999          ,9,-999          ,9
33RR20230722  ,I05        ,188     ,  1,25         ,25         ,2,20230909,0034, -31.6529,  31.1740,     3129,    200.8,2,  18.1730,2,  35.6078,2,  35.6019,2,    202.0,2,    200.8,2,     3.41,2,     3.38,2,     0.00,2,     0.35,2,     -999,9,     -999,9,     -999,9,   2092.7,2,   2330.1,2,   7.9208,2,    25.03,2,     -999,1,  18.1692,2,     -999,9,     -999,9,     -999,9,     -999,1,     -999,9,   4.9681,1,   0.0116,1,     -999,9,     -999,9,     -999,9,     -999,9,     -999,9,20230909,0152, -31.6530,  31.1739,-999          ,9,-999          ,9
33RR20230722  ,I05        ,188     ,  1,24         ,24         ,2,20230909,0034, -31.6529,  31.1740,     3129,    238.8,2,  17.1890,2,  35.5749,2,  35.5744,2,    200.0,2,    200.7,2,     3.61,2,     4.49,2,     0.00,2,     0.42,2,    1.748,2,    1.337,2,   2.0500,2,   -999.0,9,     -999,9,     -999,9,     -999,9,     -999,1,  17.1889,2,     -999,9,     -999,9,     -999,9,     -999,9,     -999,9,   4.7115,1,   0.0115,1,     10.0,2,     -999,9,     -999,9,     -999,9,     -999,9,20230909,0151, -31.6530,  31.1740,-999          ,9,-999          ,9
33RR20230722  ,I05        ,188     ,  1,23         ,23         ,2,20230909,0034, -31.6529,  31.1740,     3129,    284.4,2,  16.5600,2,  35.5574,2,  35.5567,2,    208.3,2,    208.8,2,     3.32,2,     4.57,2,     0.00,2,     0.42,2,    1.946,2,    1.385,2,   2.1100,2,   2104.7,2,   2328.2,2,   7.8954,6,    25.02,2,     -999,1,  16.5615,2,     -999,9,     -999,9,     -999,9,     -999,1,     -999,9,   4.9026,1,   0.0114,1,      9.4,2,     -999,9,     -999,9,     -999,9,     -999,9,20230909,0149, -31.6529,  31.1740,-999          ,9,-999          ,9
33RR20230722  ,I05        ,188     ,  1,22         ,22         ,2,20230909,0034, -31.6529,  31.1740,     3129,    340.2,2,  15.7234,2,  35.4817,2,  35.4811,2,    204.9,2,    205.0,2,     3.90,2,     6.06,2,     0.00,2,     0.53,2,     -999,9,     -999,9,     -999,9,   2113.1,2,   2324.8,2,   7.8696,2,    25.03,2,     -999,1,  15.7190,2,     -999,9,     -999,9,     -999,9,     -999,9,     -999,9,   4.9396,1,   0.0119,1,     -999,9,     -999,9,     -999,9,     -999,9,     -999,9,20230909,0147, -31.6529,  31.1740,-999          ,9,-999          ,9
33RR20230722  ,I05        ,188     ,  1,21         ,21         ,2,20230909,0034, -31.6529,  31.1740,     3129,    408.3,2,  14.4926,2,  35.3367,2,  35.3394,2,    193.6,2,    193.8,2,     5.85,2,     9.17,2,     0.00,2,     0.72,2,    2.164,2,    1.487,2,   1.8800,2,   2133.1,2,   2320.9,2,   7.8264,2,    25.02,2,     -999,1,  14.5122,2,     -999,9,     -999,9,     -999,9,     -999,9,     -999,9,   4.9668,1,   0.0112,1,     13.0,2,     -999,9,     -999,9,     -999,9,     -999,9,20230909,0144, -31.6529,  31.1740,-999          ,9,-999          ,9
33RR20230722  ,I05        ,188     ,  1,20         ,20         ,2,20230909,0034, -31.6529,  31.1740,     3129,    481.8,2,  13.3370,2,  35.2315,2,  35.2316,2,    208.7,2,    208.4,2,     5.07,2,     9.91,2,     0.00,2,     0.75,2,    2.393,2,    1.595,2,   1.9100,2,   -999.0,9,     -999,9,     -999,9,     -999,9,     -999,1,  13.3363,2,     -999,9,     -999,9,     -999,9,     -999,9,     -999,9,   4.9667,1,   0.0113,1,     12.4,2,     -999,9,     -999,9,     -999,9,     -999,9,20230909,0142, -31.6529,  31.1740,-999          ,9,-999          ,9
33RR20230722  ,I05        ,188     ,  1,19         ,19         ,2,20230909,0034, -31.6529,  31.1740,     3129,    564.4,2,  12.4993,2,  35.1290,2,  35.1323,2,    215.8,2,    216.1,2,     4.78,2,    11.06,2,     0.00,2,     0.83,2,     -999,9,     -999,9,     -999,9,   2132.4,2,   2310.3,2,   7.8041,2,    25.02,2,     -999,1,  12.5108,2,     -999,9,     -999,9,     -999,9,     -999,9,     -999,9,   4.9534,1,   0.0114,1,     -999,9,     -999,9,     -999,9,     -999,9,     -999,9,20230909,0140, -31.6529,  31.1740,-999          ,9,-999          ,9
33RR20230722  ,I05        ,188     ,  1,18         ,18         ,2,20230909,0034, -31.6529,  31.1740,     3129,    654.1,2,  11.2582,2,  34.9356,2,  34.9372,2,    220.6,2,    220.5,2,     5.17,2,    13.44,2,     0.00,2,     0.99,2,    2.869,2,    1.760,2,   1.9100,2,   2137.4,2,   2301.3,2,   7.7808,2,    25.00,2,     -999,1,  11.2407,2,     -999,9,     -999,9,     -999,9,     -999,9,     -999,9,   4.9077,1,   0.0114,1,     12.8,2,     -999,9,     -999,9,     -999,9,     -999,9,20230909,0137, -31.6529,  31.1740,-999          ,9,-999          ,9
33RR20230722  ,I05        ,188     ,  1,17         ,17         ,2,20230909,0034, -31.6529,  31.1740,     3129,    753.5,2,  10.2748,2,  34.8186,2,  34.8198,2,    217.4,2,    217.0,2,     6.64,2,    16.03,2,     0.00,2,     1.15,2,     -999,9,     -999,9,     -999,9,   2141.8,2,   2296.5,2,   7.7565,2,    24.99,2,     -999,1,  10.2762,2,     -999,9,     -999,9,     -999,9,     -999,9,     -999,9,   4.9669,1,   0.0115,1,     -999,9,     -999,9,     -999,9,     -999,9,     -999,9,20230909,0134, -31.6530,  31.1740,-999          ,9,-999          ,9
33RR20230722  ,I05        ,188     ,  1,16         ,16         ,2,20230909,0034, -31.6529,  31.1740,     3129,    856.2,2,   9.0307,2,  34.6783,2,  34.6798,2,    208.7,2,    208.4,2,    10.83,2,    19.83,2,     0.00,2,     1.39,2,    2.786,2,    1.698,2,   1.4500,2,   -999.0,9,     -999,9,     -999,9,     -999,9,     -999,1,   8.9984,2,     -999,9,     -999,9,     -999,9,     -999,9,     -999,9,   4.9678,1,   0.0112,1,     15.3,2,     -999,9,     -999,9,     -999,9,     -999,9,20230909,0131, -31.6529,  31.1740,-999          ,9,-999          ,9
33RR20230722  ,I05        ,188     ,  1,15         ,15         ,2,20230909,0034, -31.6529,  31.1740,     3129,    962.3,2,   7.4157,2,  34.5417,2,  34.5421,2,    198.2,2,    198.2,2,    19.04,2,    24.65,2,     0.00,2,     1.70,2,     -999,9,     -999,9,     -999,9,   2176.3,2,   2292.5,2,   7.6677,6,    25.01,2,     -999,1,   7.4144,2,     -999,9,     -999,9,     -999,9,     -999,9,     -999,9,   4.8095,1,   0.0112,1,     -999,9,     -999,9,     -999,9,     -999,9,     -999,9,20230909,0128, -31.6529,  31.1740,-999          ,9,-999          ,9
33RR20230722  ,I05        ,188     ,  1,14         ,14         ,2,20230909,0034, -31.6529,  31.1740,     3129,   1071.3,2,   5.8918,2,  34.4400,2,  34.4414,2,    196.2,2,    196.5,2,    27.43,2,    28.12,2,     0.00,2,     1.94,2,    2.346,2,    1.319,2,   0.9000,2,   2188.8,2,   2295.1,2,   7.6316,2,    24.99,2,     -999,1,   5.8945,2,     -999,9,     -999,9,     -999,9,     -999,9,     -999,9,   4.9699,1,   0.0112,1,     19.2,2,     -999,9,     -999,9,     -999,9,     -999,9,20230909,0125, -31.6529,  31.1740,-999          ,9,-999          ,9
33RR20230722  ,I05        ,188     ,  1,13         ,13         ,2,20230909,0034, -31.6529,  31.1740,     3129,   1180.3,2,   4.8685,2,  34.4364,2,  34.4375,2,    184.8,2,    185.8,2,    39.73,2,    30.89,2,     0.00,2,     2.13,2,    1.736,2,    0.984,2,   0.5700,2,   2211.0,2,   2304.7,6,   7.6015,2,    25.01,2,     -999,1,   4.8682,2,     -999,9,     -999,9,     -999,9,     -999,9,     -999,9,   4.9000,1,   0.0111,1,     21.5,2,     -999,9,     -999,9,     -999,9,     -999,9,20230909,0122, -31.6529,  31.1740,-999          ,9,-999          ,9
33RR20230722  ,I05        ,188     ,  1,12         ,12         ,2,20230909,0034, -31.6529,  31.1740,     3129,   1296.4,2,   4.1820,2,  34.4653,2,  34.4655,2,    176.5,2,    177.4,2,    50.28,2,    32.35,2,     0.00,2,     2.26,2,     -999,9,     -999,9,     -999,9,   -999.0,9,     -999,9,     -999,9,     -999,9,     -999,1,   4.1862,2,     -999,9,     -999,9,     -999,9,     -999,9,     -999,9,   4.7003,1,   0.0112,1,     -999,9,     -999,9,     -999,9,     -999,9,     -999,9,20230909,0119, -31.6529,  31.1740,-999          ,9,-999          ,9
33RR20230722  ,I05        ,188     ,  1,11         ,11         ,2,20230909,0034, -31.6529,  31.1740,     3129,   1414.3,2,   3.8509,2,  34.5091,2,  34.5105,2,    170.3,2,    170.2,2,    57.99,2,    33.06,2,     0.00,2,     2.30,2,    1.035,2,    0.513,2,   0.2900,2,   2237.4,2,   2322.0,2,   7.5755,6,    25.02,2,     -999,1,   3.8504,2,     -999,9,     -999,9,     -999,9,     -999,9,     -999,9,   4.9707,1,   0.0114,1,     23.1,2,     -999,9,     -999,9,     -999,9,     -999,9,20230909,0115, -31.6529,  31.1740,-999          ,9,-999          ,9
33RR20230722  ,I05        ,188     ,  1,10         ,10         ,2,20230909,0034, -31.6529,  31.1740,     3129,   1529.4,2,   3.5856,2,  34.5687,2,  34.5692,2,    164.8,2,    164.4,2,    65.79,2,    33.38,2,     0.00,2,     2.35,2,    0.632,2,    0.328,2,   0.1900,2,   2247.8,6,   2331.0,2,   7.5704,2,    25.00,2,     -999,1,   3.5849,2,     -999,9,     -999,9,     -999,9,     -999,9,     -999,9,   4.7815,1,   0.0113,1,     23.9,2,     -999,9,     -999,9,     -999,9,     -999,9,20230909,0112, -31.6529,  31.1740,-999          ,9,-999          ,9
33RR20230722  ,I05        ,188     ,  1,9          ,9          ,2,20230909,0034, -31.6529,  31.1740,     3129,   1648.5,2,   3.3036,2,  34.6167,2,  34.6179,2,    165.0,2,    164.6,2,    71.06,2,    33.16,2,     0.00,2,     2.30,2,    0.411,2,    0.217,2,   0.1200,2,   2254.3,2,   2336.6,2,   7.5741,2,    25.03,2,     -999,1,   3.3040,2,     -999,9,     -999,9,     -999,9,     -999,9,     -999,9,   4.9738,1,   0.0110,1,     23.3,2,     -999,9,     -999,9,     -999,9,     -999,9,20230909,0109, -31.6529,  31.1740,-999          ,9,-999          ,9
33RR20230722  ,I05        ,188     ,  1,8          ,8          ,2,20230909,0034, -31.6529,  31.1740,     3129,   1774.3,2,   3.0242,2,  34.6841,2,  34.6859,2,    168.9,2,    169.0,2,    75.74,2,    32.27,2,     0.00,2,     2.26,2,     -999,9,     -999,9,     -999,9,   -999.0,9,     -999,9,     -999,9,     -999,9,     -999,1,   3.0241,2,     -999,9,     -999,9,     -999,9,     -999,9,     -999,9,   4.9737,1,   0.0118,1,     -999,9,     -999,9,     -999,9,     -999,9,     -999,9,20230909,0106, -31.6529,  31.1740,-999          ,9,-999          ,9
33RR20230722  ,I05        ,188     ,  1,7          ,7          ,2,20230909,0034, -31.6529,  31.1740,     3129,   1922.2,2,   2.8476,2,  34.7220,2,  34.7219,2,    177.1,2,    177.1,2,    74.96,2,    31.16,2,     0.00,2,     2.18,2,    0.126,2,    0.065,2,   0.0300,2,   2270.2,3,   2345.9,2,   7.6034,2,    25.01,2,     -999,1,   2.8458,2,     -999,9,     -999,9,     -999,9,     -999,9,     -999,9,   4.9184,1,   0.0124,1,     21.4,2,     -999,9,     -999,9,     -999,9,     -999,9,20230909,0102, -31.6529,  31.1740,-999          ,9,-999          ,9
33RR20230722  ,I05        ,188     ,  1,6          ,6          ,2,20230909,0034, -31.6529,  31.1740,     3129,   2108.3,2,   2.7715,2,  34.7378,2,  34.7386,2,    182.5,2,    182.6,2,    73.69,2,    30.51,2,     0.00,2,     2.12,2,     -999,9,     -999,9,     -999,9,   -999.0,9,     -999,9,     -999,9,     -999,9,     -999,1,   2.7709,2,     -999,9,     -999,9,     -999,9,     -999,9,     -999,9,   4.9735,1,   0.0117,1,     -999,9,     -999,9,     -999,9,     -999,9,     -999,9,20230909,0057, -31.6530,  31.1740,-999          ,9,-999          ,9
33RR20230722  ,I05        ,188     ,  1,5          ,5          ,2,20230909,0034, -31.6529,  31.1740,     3129,   2339.5,2,   2.6364,2,  34.7651,2,  34.7661,2,    192.1,2,    192.3,2,    71.05,2,    29.38,2,     0.00,2,     2.03,2,    0.061,2,    0.034,2,   0.0500,2,   2158.2,4,   2345.4,2,   7.6270,6,    25.04,2,     -999,1,   2.6363,2,     -999,9,     -999,9,     -999,9,     -999,9,     -999,9,   4.9732,1,   0.0117,1,     19.4,2,     -999,9,     -999,9,     -999,9,     -999,9,20230909,0052, -31.6529,  31.1740,-999          ,9,-999          ,9
33RR20230722  ,I05        ,188     ,  1,4          ,37         ,2,20230909,0034, -31.6529,  31.1740,     3129,   2606.7,2,   2.5039,2,  34.7915,2,  34.7925,2,    203.7,2,    204.1,2,    66.37,2,    27.06,2,     0.00,2,     1.85,2,     -999,9,     -999,9,     -999,9,   2269.3,3,   2341.9,2,   7.6453,2,    25.02,2,     -999,1,   2.5034,2,     -999,9,     -999,9,     -999,9,     -999,9,     -999,9,   4.8834,1,   0.0110,1,     -999,9,     -999,9,     -999,9,     -999,9,     -999,9,20230909,0047, -31.6530,  31.1740,-999          ,9,-999          ,9
33RR20230722  ,I05        ,188     ,  1,3          ,3          ,2,20230909,0034, -31.6529,  31.1740,     3129,   2857.9,2,   2.3601,2,  34.8077,2,  34.8082,2,    212.9,2,    213.2,2,    67.64,2,    28.04,2,     0.00,2,     1.93,2,    0.046,2,    0.022,2,   0.0100,2,   2220.5,2,   2340.0,2,   7.6573,2,    25.01,2,     -999,1,   2.3606,2,     -999,9,     -999,9,     -999,9,     -999,9,     -999,9,   4.7356,1,   0.0111,1,     17.1,2,     -999,9,     -999,9,     -999,9,     -999,9,20230909,0041, -31.6529,  31.1740,-999          ,9,-999          ,9
33RR20230722  ,I05        ,188     ,  1,2          ,2          ,2,20230909,0034, -31.6529,  31.1740,     3129,   3033.8,2,   2.1989,2,  34.8074,2,  34.8088,2,    216.3,2,    216.4,2,    69.59,2,    27.02,2,     0.00,2,     1.85,2,    0.043,2,    0.026,2,   0.0300,2,   -999.0,9,     -999,9,     -999,9,     -999,9,     -999,1,   2.1985,2,     -999,9,     -999,9,     -999,9,     -999,9,     -999,9,   4.9729,1,   0.0115,1,     16.7,2,     -999,9,     -999,9,     -999,9,     -999,9,20230909,0037, -31.6529,  31.1740,-999          ,9,-999          ,9
33RR20230722  ,I05        ,188     ,  1,1          ,1          ,2,20230909,0034, -31.6529,  31.1740,     3129,   3164.6,2,   2.1054,2,  34.8030,2,  34.8043,2,    216.9,2,    216.6,2,    72.61,2,    27.24,2,     0.00,2,     1.87,2,    0.047,2,    0.027,2,   0.0000,2,   2229.4,6,   2339.6,2,   7.6593,2,    25.01,2,     -999,1,   2.1046,2,     -999,9,     -999,9,     -999,9,     -999,9,     -999,9,   0.5029,1,   0.0116,1,     16.9,2,     -999,9,     -999,9,     -999,9,     -999,9,20230909,0034, -31.6529,  31.1740,-999          ,9,-999          ,9