BOTTLE,20240422CCHHYDRO
EXPOCODE,SECT_ID,STNNBR,CASTNO,SAMPNO,BTLNBR,BTLNBR_FLAG_W,DATE,TIME,LATITUDE,LONGITUDE,DEPTH,CTDPRS,CTDPRS_FLAG_W,CTDTMP,CTDTMP_FLAG_W,CTDSAL,CTDSAL_FLAG_W,SALNTY,SALNTY_FLAG_W,CTDOXY,CTDOXY_FLAG_W,OXYGEN,OXYGEN_FLAG_W,SILCAT,SILCAT_FLAG_W,NITRAT,NITRAT_FLAG_W,NITRIT,NITRIT_FLAG_W,PHSPHT,PHSPHT_FLAG_W,CFC-11,CFC-11_FLAG_W,CFC-12,CFC-12_FLAG_W,SF6,SF6_FLAG_W,TCARBN,TCARBN_FLAG_W,ALKALI,ALKALI_FLAG_W,PH_TOT,PH_TOT_FLAG_W,PH_TMP,PH_TMP_FLAG_W,DOC,DOC_FLAG_W,REFTMP,REFTMP_FLAG_W,POC,POC_FLAG_W,PON,PON_FLAG_W,POP,POP_FLAG_W,DOP,DOP_FLAG_W,DELO18,DELO18_FLAG_W,CTDFLUOR,CTDFLUOR_FLAG_W,CTDXMISS,CTDXMISS_FLAG_W,N2O,N2O_FLAG_W,D15N_NO3,D15N_NO3_FLAG_W,D15N_NO2+NO3,D15N_NO2+NO3_FLAG_W,D18O_NO2+NO3,D18O_NO2+NO3_FLAG_W,D18O_NO3,D18O_NO3_FLAG_W,BTL_DATE,BTL_TIME,BTL_LAT,BTL_LON,HPLC,HPLC_FLAG_W,DNA,DNA_FLAG_W
,,,,,,,,,,,METERS,DBAR,,ITS-90,,PSS-78,,PSS-78,,UMOL/KG,,UMOL/KG,,UMOL/KG,,UMOL/KG,,UMOL/KG,,UMOL/KG,,PMOL/KG,,PMOL/KG,,FMOL/KG,,UMOL/KG,,UMOL/KG,,,,DEG C,,UMOL/KG,,ITS-90,,UG/KG,,UG/KG,,UG/L,,UMOL/KG,,/MILLE,,VOLTS,,VOLTS,,NMOL/KG,,/MILLE,,/MILLE,,/MILLE,,/MILLE,,,,,,,,,
33RR20230722  ,I05        ,88      ,  1,32         ,32         ,2,20230814,0040, -31.5341,  76.9339,     2619,      6.7,2,  17.6793,2,  35.7134,2,  35.7167,2,    238.5,2,    237.4,2,     0.98,2,     0.07,2,     0.00,2,     0.12,2,     -999,9,     -999,9,     -999,9,   2079.0,2,   2346.3,2,   7.9678,2,    25.00,2,     -999,1,  17.6725,2,     -999,9,     -999,9,     -999,9,     -999,9,     -999,1,   4.4932,1,   0.0168,1,     -999,9,     -999,9,     -999,9,     -999,9,     -999,9,20230814,0157, -31.5341,  76.9339,-999          ,9,-999          ,9
33RR20230722  ,I05        ,88      ,  1,31         ,31         ,2,20230814,0040, -31.5341,  76.9339,     2619,     13.9,2,  17.4798,2,  35.6809,2,  35.7004,2,    238.4,2,    237.4,2,     0.88,2,     0.02,2,     0.00,2,     0.12,2,     -999,9,     -999,9,     -999,9,   -999.0,9,     -999,9,     -999,9,     -999,9,     -999,1,  17.5508,3,     -999,9,     -999,9,     -999,9,     -999,9,     -999,1,   4.9749,1,   0.0175,1,     -999,9,     -999,9,     -999,9,     -999,9,     -999,9,20230814,0155, -31.5340,  76.9339,-999          ,9,-999          ,9
33RR20230722  ,I05        ,88      ,  1,30         ,30         ,2,20230814,0040, -31.5341,  76.9339,     2619,     28.4,2,  17.3618,2,  35.6589,2,  35.6625,2,    238.5,2,    238.6,2,     0.88,2,     0.00,2,     0.00,2,     0.10,2,     -999,9,     -999,9,     -999,9,   -999.0,9,     -999,9,     -999,9,     -999,9,     -999,1,  17.3615,2,     -999,9,     -999,9,     -999,9,     -999,9,     -999,1,   4.6122,1,   0.0195,1,     -999,9,     -999,9,     -999,9,     -999,9,     -999,9,20230814,0154, -31.5340,  76.9339,-999          ,9,-999          ,9
33RR20230722  ,I05        ,88      ,  1,29         ,29         ,2,20230814,0040, -31.5341,  76.9339,     2619,     46.3,2,  17.3073,2,  35.6497,2,  35.6512,2,    238.6,2,    239.1,2,     0.88,2,     0.01,2,     0.00,2,     0.12,2,     -999,9,     -999,9,     -999,9,   2079.6,2,   2341.0,2,   7.9619,2,    25.00,2,     -999,1,  17.3022,2,     -999,9,     -999,9,     -999,9,     -999,9,     -999,1,   4.9049,1,   0.0224,1,     -999,9,     -999,9,     -999,9,     -999,9,     -999,9,20230814,0153, -31.5341,  76.9339,-999          ,9,-999          ,9
33RR20230722  ,I05        ,88      ,  1,28         ,28         ,2,20230814,0040, -31.5341,  76.9339,     2619,     68.4,2,  17.2326,2,  35.6332,2,  35.6384,2,    238.3,2,    239.3,2,     0.88,2,     0.00,2,     0.00,2,     0.12,2,     -999,9,     -999,9,     -999,9,   -999.0,9,     -999,9,     -999,9,     -999,9,     -999,1,  17.2046,2,     -999,9,     -999,9,     -999,9,     -999,9,     -999,1,   4.9744,1,   0.0251,1,     -999,9,     -999,9,     -999,9,     -999,9,     -999,9,20230814,0151, -31.5341,  76.9339,-999          ,9,-999          ,9
33RR20230722  ,I05        ,88      ,  1,27         ,27         ,2,20230814,0040, -31.5341,  76.9339,     2619,     90.5,2,  16.7689,2,  35.5298,2,  35.5320,2,    241.4,2,    241.5,2,     0.78,2,     0.01,2,     0.01,2,     0.14,2,     -999,9,     -999,9,     -999,9,   2080.3,2,   2335.0,2,   7.9512,2,    25.00,2,     -999,1,  16.7651,2,     -999,9,     -999,9,     -999,9,     -999,9,     -999,1,   4.9743,1,   0.0338,1,     -999,9,     -999,9,     -999,9,     -999,9,     -999,9,20230814,0149, -31.5341,  76.9339,-999          ,9,-999          ,9
33RR20230722  ,I05        ,88      ,  1,26         ,26         ,2,20230814,0040, -31.5341,  76.9339,     2619,    117.8,2,  16.2760,2,  35.4412,2,  35.4466,2,    242.5,2,    242.8,2,     0.68,2,     0.17,2,     0.04,2,     0.18,2,     -999,9,     -999,9,     -999,9,   -999.0,9,     -999,9,     -999,9,     -999,9,     -999,1,  16.2546,2,     -999,9,     -999,9,     -999,9,     -999,9,     -999,1,   4.8610,1,   0.0319,1,     -999,9,     -999,9,     -999,9,     -999,9,     -999,9,20230814,0148, -31.5341,  76.9339,-999          ,9,-999          ,9
33RR20230722  ,I05        ,88      ,  1,25         ,25         ,2,20230814,0040, -31.5341,  76.9339,     2619,    152.1,2,  14.6034,2,  35.4441,2,  35.4490,2,    229.7,2,    231.7,2,     1.17,2,     3.39,2,     0.02,2,     0.39,2,     -999,9,     -999,9,     -999,9,   2115.9,2,   2331.0,2,   7.8801,2,    25.00,2,     -999,1,  14.6026,2,     -999,9,     -999,9,     -999,9,     -999,9,     -999,1,   4.9252,1,   0.0150,1,     -999,9,     -999,9,     -999,9,     -999,9,     -999,9,20230814,0146, -31.5340,  76.9339,-999          ,9,-999          ,9
33RR20230722  ,I05        ,88      ,  1,24         ,24         ,2,20230814,0040, -31.5341,  76.9339,     2619,    187.5,2,  13.8533,2,  35.3294,2,  35.3346,2,    230.3,3,    232.9,2,     1.37,2,     4.89,2,     0.01,2,     0.46,2,     -999,9,     -999,9,     -999,9,   -999.0,9,     -999,9,     -999,9,     -999,9,     -999,1,  13.8676,2,     -999,9,     -999,9,     -999,9,     -999,9,     -999,1,   4.9695,1,   0.0126,1,     -999,9,     -999,9,     -999,9,     -999,9,     -999,9,20230814,0145, -31.5340,  76.9339,-999          ,9,-999          ,9
33RR20230722  ,I05        ,88      ,  1,23         ,23         ,2,20230814,0040, -31.5341,  76.9339,     2619,    218.5,2,  13.3251,2,  35.2541,2,  35.2582,2,    232.3,2,    234.5,2,     1.66,2,     6.19,2,     0.00,2,     0.55,2,     -999,9,     -999,9,     -999,9,   2120.2,2,   2321.1,2,   7.8472,2,    25.01,2,     -999,1,  13.3184,2,     -999,9,     -999,9,     -999,9,     -999,9,     -999,1,   4.6604,1,   0.0112,1,     -999,9,     -999,9,     -999,9,     -999,9,     -999,9,20230814,0143, -31.5340,  76.9339,-999          ,9,-999          ,9
33RR20230722  ,I05        ,88      ,  1,22         ,22         ,2,20230814,0040, -31.5341,  76.9339,     2619,    252.9,2,  12.8501,2,  35.1807,2,  35.1831,2,    234.3,2,    235.1,2,     1.85,2,     7.42,2,     0.00,2,     0.62,2,     -999,9,     -999,9,     -999,9,   -999.0,9,     -999,9,     -999,9,     -999,9,     -999,1,  12.8210,2,     -999,9,     -999,9,     -999,9,     -999,9,     -999,1,   4.9688,1,   0.0108,1,     -999,9,     -999,9,     -999,9,     -999,9,     -999,9,20230814,0142, -31.5340,  76.9339,-999          ,9,-999          ,9
33RR20230722  ,I05        ,88      ,  1,21         ,21         ,2,20230814,0040, -31.5341,  76.9339,     2619,    298.3,2,  12.3269,2,  35.0971,2,  35.0978,2,    237.2,2,    237.6,2,     2.34,2,     8.69,2,     0.00,2,     0.69,2,    2.818,2,    1.680,2,   2.5700,2,   2122.1,2,   2310.5,2,   7.8234,2,    25.00,2,     -999,1,  12.3094,2,     -999,9,     -999,9,     -999,9,     -999,9,     -999,1,   4.9685,1,   0.0114,1,     11.4,2,     -999,9,     -999,9,     -999,9,     -999,9,20230814,0140, -31.5341,  76.9339,-999          ,9,-999          ,9
33RR20230722  ,I05        ,88      ,  1,20         ,20         ,2,20230814,0040, -31.5341,  76.9339,     2619,    365.1,2,  11.7828,2,  35.0125,2,  35.0177,2,    237.7,2,    237.6,2,     2.64,2,    10.10,2,     0.00,2,     0.76,2,     -999,9,     -999,9,     -999,9,   -999.0,9,     -999,9,     -999,9,     -999,9,     -999,1,  11.7788,2,     -999,9,     -999,9,     -999,9,     -999,9,     -999,1,   4.9680,1,   0.0114,1,     -999,9,     -999,9,     -999,9,     -999,9,     -999,9,20230814,0138, -31.5341,  76.9339,-999          ,9,-999          ,9
33RR20230722  ,I05        ,88      ,  1,19         ,19         ,2,20230814,0040, -31.5341,  76.9339,     2619,    427.1,2,  11.3787,2,  34.9528,2,  34.9541,2,    237.4,2,    237.4,2,     3.03,2,    11.27,2,     0.00,2,     0.83,2,    2.792,2,    1.782,2,   2.3700,2,   2132.7,2,   2302.8,2,   7.8012,2,    25.02,2,     -999,1,  11.3716,2,     -999,9,     -999,9,     -999,9,     -999,9,     -999,1,   4.8265,1,   0.0113,1,     11.8,2,     -999,9,     -999,9,     -999,9,     -999,9,20230814,0135, -31.5341,  76.9339,-999          ,9,-999          ,9
33RR20230722  ,I05        ,88      ,  1,18         ,18         ,2,20230814,0040, -31.5341,  76.9339,     2619,    488.3,2,  11.0091,2,  34.9006,2,  34.9034,2,    236.8,2,    236.3,2,     3.22,2,    12.24,2,     0.00,2,     0.91,2,     -999,9,     -999,9,     -999,9,   -999.0,9,     -999,9,     -999,9,     -999,9,     -999,1,  11.0124,2,     -999,9,     -999,9,     -999,9,     -999,9,     -999,1,   4.6374,1,   0.0113,1,     -999,9,     -999,9,     -999,9,     -999,9,     -999,9,20230814,0133, -31.5341,  76.9339,-999          ,9,-999          ,9
33RR20230722  ,I05        ,88      ,  1,17         ,17         ,2,20230814,0040, -31.5341,  76.9339,     2619,    559.9,2,  10.5039,2,  34.8291,2,  34.8304,2,    234.2,2,    234.0,2,     3.81,2,    13.86,2,     0.00,2,     1.01,2,    3.039,2,    1.848,2,   2.1200,2,   2134.2,2,   2295.9,2,   7.7762,2,    25.01,2,     -999,1,  10.5043,2,     -999,9,     -999,9,     -999,9,     -999,9,     -999,1,   4.8263,1,   0.0113,1,     12.1,2,     -999,9,     -999,9,     -999,9,     -999,9,20230814,0131, -31.5340,  76.9339,-999          ,9,-999          ,9
33RR20230722  ,I05        ,88      ,  1,16         ,16         ,2,20230814,0040, -31.5341,  76.9339,     2619,    641.9,2,   9.9987,2,  34.7610,2,  34.7616,2,    232.8,2,    232.7,2,     4.30,2,    15.24,2,     0.00,2,     1.07,2,     -999,9,     -999,9,     -999,9,   -999.0,9,     -999,9,     -999,9,     -999,9,     -999,1,   9.9959,2,     -999,9,     -999,9,     -999,9,     -999,9,     -999,1,   4.9666,1,   0.0113,1,     -999,9,     -999,9,     -999,9,     -999,9,     -999,9,20230814,0129, -31.5341,  76.9339,-999          ,9,-999          ,9
33RR20230722  ,I05        ,88      ,  1,15         ,15         ,2,20230814,0040, -31.5341,  76.9339,     2619,    739.5,2,   9.2406,2,  34.6661,2,  34.6673,2,    224.7,2,    225.3,2,     5.96,2,    17.92,2,     0.00,2,     1.24,2,     -999,9,     -999,9,     -999,9,   2136.9,6,   2290.2,2,   7.7393,2,    24.99,2,     -999,1,   9.2420,2,     -999,9,     -999,9,     -999,9,     -999,9,     -999,1,   4.8729,1,   0.0113,1,     -999,9,     -999,9,     -999,9,     -999,9,     -999,9,20230814,0126, -31.5341,  76.9339,-999          ,9,-999          ,9
33RR20230722  ,I05        ,88      ,  1,14         ,14         ,2,20230814,0040, -31.5341,  76.9339,     2619,    843.7,2,   8.1816,2,  34.5610,2,  34.5631,2,    210.8,2,    211.3,2,    10.35,2,    21.69,2,     0.00,2,     1.49,2,    3.414,2,    1.705,2,   1.3200,2,   -999.0,9,     -999,9,     -999,9,     -999,9,     -999,1,   8.1953,2,     -999,9,     -999,9,     -999,9,     -999,9,     -999,1,   4.9679,1,   0.0110,1,     14.9,2,     -999,9,     -999,9,     -999,9,     -999,9,20230814,0123, -31.5341,  76.9339,-999          ,9,-999          ,9
33RR20230722  ,I05        ,88      ,  1,13         ,13         ,2,20230814,0040, -31.5341,  76.9339,     2619,    943.9,2,   6.6058,2,  34.4410,2,  34.4430,2,    201.9,2,    202.2,2,    18.65,2,    26.21,2,     0.00,2,     1.78,2,     -999,9,     -999,9,     -999,9,   2174.9,2,   2287.9,2,   7.6543,2,    25.00,2,     -999,1,   6.6006,2,     -999,9,     -999,9,     -999,9,     -999,9,     -999,1,   4.6861,1,   0.0111,1,     -999,9,     -999,9,     -999,9,     -999,9,     -999,9,20230814,0121, -31.5341,  76.9339,-999          ,9,-999          ,9
33RR20230722  ,I05        ,88      ,  1,12         ,12         ,2,20230814,0040, -31.5341,  76.9339,     2619,   1033.7,2,   5.5204,2,  34.3812,2,  34.3808,2,    200.6,2,    200.2,2,    25.98,2,    28.90,2,     0.00,2,     1.95,2,     -999,9,     -999,9,     -999,9,   -999.0,9,     -999,9,     -999,9,     -999,9,     -999,1,   5.5189,2,     -999,9,     -999,9,     -999,9,     -999,9,     -999,1,   4.8776,1,   0.0110,1,     -999,9,     -999,9,     -999,9,     -999,9,     -999,9,20230814,0118, -31.5341,  76.9339,-999          ,9,-999          ,9
33RR20230722  ,I05        ,88      ,  1,11         ,11         ,2,20230814,0040, -31.5341,  76.9339,     2619,   1132.4,2,   4.4574,2,  34.3763,2,  34.3772,2,    190.6,2,    190.6,2,    38.48,2,    31.49,2,     0.00,2,     2.17,2,     -999,9,     -999,9,     -999,9,   2205.3,2,   2302.9,2,   7.6016,2,    25.01,2,     -999,1,   4.4605,2,     -999,9,     -999,9,     -999,9,     -999,9,     -999,1,   4.9126,1,   0.0111,1,     -999,9,     -999,9,     -999,9,     -999,9,     -999,9,20230814,0115, -31.5341,  76.9339,-999          ,9,-999          ,9
33RR20230722  ,I05        ,88      ,  1,10         ,10         ,2,20230814,0040, -31.5341,  76.9339,     2619,   1245.4,2,   3.9556,2,  34.4223,2,  34.4237,2,    175.9,2,    176.1,2,    51.07,2,    33.08,2,     0.00,2,     2.29,2,    1.132,2,    0.602,2,   0.2700,2,   2225.9,2,   2314.4,2,   7.5808,2,    25.00,2,     -999,1,   3.9511,2,     -999,9,     -999,9,     -999,9,     -999,9,     -999,1,   4.8213,1,   0.0112,1,     21.7,2,     -999,9,     -999,9,     -999,9,     -999,9,20230814,0112, -31.5341,  76.9339,-999          ,9,-999          ,9
33RR20230722  ,I05        ,88      ,  1,9          ,9          ,2,20230814,0040, -31.5341,  76.9339,     2619,   1357.9,2,   3.5681,2,  34.4768,2,  34.4773,2,    165.8,2,    165.6,2,    61.81,2,    34.12,2,     0.00,2,     2.34,2,     -999,9,     -999,9,     -999,9,   2241.4,2,   2325.9,2,   7.5683,2,    25.01,2,     -999,1,   3.5659,2,     -999,9,     -999,9,     -999,9,     -999,9,     -999,1,   4.9495,1,   0.0111,1,     -999,9,     -999,9,     -999,9,     -999,9,     -999,9,20230814,0109, -31.5341,  76.9339,-999          ,9,-999          ,9
33RR20230722  ,I05        ,88      ,  1,8          ,8          ,2,20230814,0040, -31.5341,  76.9339,     2619,   1477.9,2,   3.2756,2,  34.5373,2,  34.5376,2,    158.6,2,    158.7,2,    71.09,2,    34.33,2,     0.00,2,     2.41,2,     -999,9,     -999,9,     -999,9,   2254.5,2,   2336.5,2,   7.5617,2,    25.02,2,     -999,1,   3.2762,2,     -999,9,     -999,9,     -999,9,     -999,9,     -999,1,   4.9740,1,   0.0111,1,     -999,9,     -999,9,     -999,9,     -999,9,     -999,9,20230814,0106, -31.5341,  76.9339,-999          ,9,-999          ,9
33RR20230722  ,I05        ,88      ,  1,7          ,7          ,2,20230814,0040, -31.5341,  76.9339,     2619,   1592.5,2,   3.0440,2,  34.5856,2,  34.5869,2,    158.5,2,    158.4,2,    77.04,2,    34.30,2,     0.00,2,     2.39,2,    0.225,2,    0.125,2,   0.0200,2,   2256.8,2,   2341.1,2,   7.5638,6,    24.99,2,     -999,1,   3.0419,2,     -999,9,     -999,9,     -999,9,     -999,9,     -999,1,   4.7888,1,   0.0117,1,     22.8,2,     -999,9,     -999,9,     -999,9,     -999,9,20230814,0103, -31.5341,  76.9339,-999          ,9,-999          ,9
33RR20230722  ,I05        ,88      ,  1,6          ,6          ,2,20230814,0040, -31.5341,  76.9339,     2619,   1717.1,2,   2.7857,2,  34.6216,2,  34.6227,2,    165.6,2,    165.6,2,    77.53,2,    33.73,2,     0.00,2,     2.33,2,     -999,9,     -999,9,     -999,9,   2250.5,2,   2341.7,6,   7.5710,2,    25.00,2,     -999,1,   2.7845,2,     -999,9,     -999,9,     -999,9,     -999,9,     -999,1,   4.7228,1,   0.0111,1,     -999,9,     -999,9,     -999,9,     -999,9,     -999,9,20230814,0100, -31.5341,  76.9339,-999          ,9,-999          ,9
33RR20230722  ,I05        ,88      ,  1,5          ,5          ,2,20230814,0040, -31.5341,  76.9339,     2619,   1862.8,2,   2.6132,2,  34.6611,2,  34.6608,2,    171.2,2,    171.3,2,    79.09,2,    32.79,2,     0.00,2,     2.27,2,     -999,9,     -999,9,     -999,9,   2254.2,2,   2343.2,2,   7.5805,2,    24.99,2,     -999,1,   2.6149,2,     -999,9,     -999,9,     -999,9,     -999,9,     -999,1,   4.9741,1,   0.0124,1,     -999,9,     -999,9,     -999,9,     -999,9,     -999,9,20230814,0057, -31.5341,  76.9339,-999          ,9,-999          ,9
33RR20230722  ,I05        ,88      ,  1,4          ,37         ,2,20230814,0040, -31.5341,  76.9339,     2619,   2047.4,2,   2.3557,2,  34.7109,2,  34.7109,2,    182.0,2,    182.2,2,    81.43,2,    31.46,2,     0.00,2,     2.16,2,    0.117,2,    0.064,2,   0.0700,2,   -999.0,9,     -999,9,     -999,9,     -999,9,     -999,1,   2.3545,2,     -999,9,     -999,9,     -999,9,     -999,9,     -999,1,   4.7936,1,   0.0110,1,     20.0,2,     -999,9,     -999,9,     -999,9,     -999,9,20230814,0053, -31.5341,  76.9339,-999          ,9,-999          ,9
33RR20230722  ,I05        ,88      ,  1,3          ,3          ,2,20230814,0040, -31.5341,  76.9339,     2619,   2253.8,2,   2.0684,2,  34.7301,2,  34.7309,2,    187.6,2,    187.9,2,    90.21,2,    31.16,2,     0.00,2,     2.16,2,     -999,9,     -999,9,     -999,9,   2253.3,2,   2352.5,2,   7.6092,2,    24.98,2,     -999,1,   2.0675,2,     -999,9,     -999,9,     -999,9,     -999,9,     -999,1,   4.9441,1,   0.0111,1,     -999,9,     -999,9,     -999,9,     -999,9,     -999,9,20230814,0048, -31.5341,  76.9339,-999          ,9,-999          ,9
33RR20230722  ,I05        ,88      ,  1,2          ,2          ,2,20230814,0040, -31.5341,  76.9339,     2619,   2446.9,2,   1.8540,2,  34.7281,2,  34.7286,2,    185.8,2,    185.9,2,   102.22,2,    31.81,2,     0.00,2,     2.24,2,    0.049,2,    0.028,2,   0.0100,2,   2263.9,2,   2364.3,2,   7.6086,2,    25.00,2,     -999,1,   1.8538,2,     -999,9,     -999,9,     -999,9,     -999,9,     -999,1,   4.9739,1,   0.0117,1,     19.4,2,     -999,9,     -999,9,     -999,9,     -999,9,20230814,0044, -31.5341,  76.9339,-999          ,9,-999          ,9
33RR20230722  ,I05        ,88      ,  1,1          ,1          ,2,20230814,0040, -31.5341,  76.9339,     2619,   2642.9,2,   1.8291,2,  34.7269,3,  34.7292,2,    185.5,2,    185.3,2,   104.66,2,    32.02,2,     0.00,2,     2.24,2,    0.046,2,    0.024,2,   0.0400,2,   2264.0,6,   2368.0,2,   7.6094,2,    25.01,2,     -999,1,   1.8285,2,     -999,9,     -999,9,     -999,9,     -999,9,     -999,1,   0.5307,1,   0.0111,1,     19.5,2,     -999,9,     -999,9,     -999,9,     -999,9,20230814,0040, -31.5341,  76.9339,-999          ,9,-999          ,9