BOTTLE,20240422CCHHYDRO
EXPOCODE,SECT_ID,STNNBR,CASTNO,SAMPNO,BTLNBR,BTLNBR_FLAG_W,DATE,TIME,LATITUDE,LONGITUDE,DEPTH,CTDPRS,CTDPRS_FLAG_W,CTDTMP,CTDTMP_FLAG_W,CTDSAL,CTDSAL_FLAG_W,SALNTY,SALNTY_FLAG_W,CTDOXY,CTDOXY_FLAG_W,OXYGEN,OXYGEN_FLAG_W,SILCAT,SILCAT_FLAG_W,NITRAT,NITRAT_FLAG_W,NITRIT,NITRIT_FLAG_W,PHSPHT,PHSPHT_FLAG_W,CFC-11,CFC-11_FLAG_W,CFC-12,CFC-12_FLAG_W,SF6,SF6_FLAG_W,TCARBN,TCARBN_FLAG_W,ALKALI,ALKALI_FLAG_W,PH_TOT,PH_TOT_FLAG_W,PH_TMP,PH_TMP_FLAG_W,DOC,DOC_FLAG_W,REFTMP,REFTMP_FLAG_W,POC,POC_FLAG_W,PON,PON_FLAG_W,POP,POP_FLAG_W,DOP,DOP_FLAG_W,DELO18,DELO18_FLAG_W,CTDFLUOR,CTDFLUOR_FLAG_W,CTDXMISS,CTDXMISS_FLAG_W,N2O,N2O_FLAG_W,D15N_NO3,D15N_NO3_FLAG_W,D15N_NO2+NO3,D15N_NO2+NO3_FLAG_W,D18O_NO2+NO3,D18O_NO2+NO3_FLAG_W,D18O_NO3,D18O_NO3_FLAG_W,BTL_DATE,BTL_TIME,BTL_LAT,BTL_LON,HPLC,HPLC_FLAG_W,DNA,DNA_FLAG_W
,,,,,,,,,,,METERS,DBAR,,ITS-90,,PSS-78,,PSS-78,,UMOL/KG,,UMOL/KG,,UMOL/KG,,UMOL/KG,,UMOL/KG,,UMOL/KG,,PMOL/KG,,PMOL/KG,,FMOL/KG,,UMOL/KG,,UMOL/KG,,,,DEG C,,UMOL/KG,,ITS-90,,UG/KG,,UG/KG,,UG/L,,UMOL/KG,,/MILLE,,VOLTS,,VOLTS,,NMOL/KG,,/MILLE,,/MILLE,,/MILLE,,/MILLE,,,,,,,,,
33RR20230722  ,I05        ,137     ,  1,26         ,26         ,2,20230827,1500, -33.9991,  54.5106,     1959,      3.5,2,  16.2370,2,  35.5467,2,  35.5462,2,    247.9,2,    247.0,2,     1.95,2,     0.62,2,     0.13,2,     0.20,2,    1.938,2,    1.397,2,   2.2500,2,   2084.0,2,   2328.8,2,     -999,1,     -999,5,     -999,1,  16.2364,2,     -999,9,     -999,9,     -999,9,     -999,9,     -999,9,   4.5701,1,   0.0502,1,      8.4,2,     -999,1,     -999,1,     -999,1,     -999,1,20230827,1604, -33.9991,  54.5106,-999          ,9,-999          ,9
33RR20230722  ,I05        ,137     ,  1,25         ,25         ,2,20230827,1500, -33.9991,  54.5106,     1959,     17.0,2,  16.2356,2,  35.5471,2,  35.5472,2,    247.8,2,    246.9,2,     2.05,2,     0.59,2,     0.13,2,     0.18,2,     -999,9,     -999,9,     -999,9,   2084.6,2,   2329.1,2,   7.9440,2,    25.00,2,     -999,9,  16.2349,2,     -999,9,     -999,9,     -999,9,     -999,9,     -999,9,   4.9756,1,   0.0549,1,     -999,9,     -999,1,     -999,1,     -999,1,     -999,1,20230827,1602, -33.9992,  54.5106,-999          ,9,-999          ,9
33RR20230722  ,I05        ,137     ,  1,24         ,24         ,2,20230827,1500, -33.9991,  54.5106,     1959,     32.6,2,  16.2262,2,  35.5473,2,  35.5470,2,    247.9,2,    247.0,2,     1.95,2,     0.57,2,     0.13,2,     0.19,2,     -999,9,     -999,9,     -999,9,   2083.3,2,   2327.9,2,   7.9437,2,    25.01,2,     -999,9,  16.2310,2,     -999,9,     -999,9,     -999,9,     -999,9,     -999,9,   4.9646,1,   0.0468,1,     -999,9,     -999,1,     -999,1,     -999,1,     -999,1,20230827,1601, -33.9992,  54.5106,-999          ,9,-999          ,9
33RR20230722  ,I05        ,137     ,  1,23         ,23         ,2,20230827,1500, -33.9991,  54.5106,     1959,     56.5,2,  15.9109,2,  35.5429,2,  35.5427,2,    244.0,2,    244.8,2,     2.05,2,     0.95,2,     0.19,2,     0.20,2,    2.366,2,    1.409,2,   2.2800,2,   2088.1,2,   2327.6,2,   7.9365,2,    24.96,2,     -999,9,  15.9095,2,     -999,9,     -999,9,     -999,9,     -999,9,     -999,9,   4.9743,1,   0.0441,1,      8.5,2,     -999,1,     -999,1,     -999,1,     -999,1,20230827,1559, -33.9992,  54.5106,-999          ,9,-999          ,9
33RR20230722  ,I05        ,137     ,  1,22         ,22         ,2,20230827,1500, -33.9991,  54.5106,     1959,     85.4,2,  15.8591,2,  35.5386,2,  35.5387,2,    242.5,2,    242.6,2,     2.05,2,     1.18,2,     0.20,2,     0.22,2,     -999,9,     -999,9,     -999,9,   2088.2,2,   2328.9,2,   7.9326,2,    25.00,2,     -999,9,  15.8571,2,     -999,9,     -999,9,     -999,9,     -999,9,     -999,9,   4.9735,1,   0.0344,1,     -999,9,     -999,1,     -999,1,     -999,1,     -999,1,20230827,1556, -33.9992,  54.5106,-999          ,9,-999          ,9
33RR20230722  ,I05        ,137     ,  1,21         ,21         ,2,20230827,1500, -33.9991,  54.5106,     1959,    117.6,2,  15.7715,2,  35.5351,2,  35.5354,2,    240.4,2,    241.3,2,     2.24,2,     1.60,2,     0.20,2,     0.25,2,    2.192,2,    1.399,2,   2.2500,2,   2092.6,2,   2328.9,2,   7.9278,6,    25.01,2,     -999,9,  15.7706,2,     -999,9,     -999,9,     -999,9,     -999,9,     -999,9,   4.7763,1,   0.0231,1,      8.6,2,     -999,1,     -999,1,     -999,1,     -999,1,20230827,1554, -33.9992,  54.5106,-999          ,9,-999          ,9
33RR20230722  ,I05        ,137     ,  1,20         ,20         ,2,20230827,1500, -33.9991,  54.5106,     1959,    151.5,2,  15.7234,2,  35.5353,2,  35.5350,2,    237.7,2,    238.6,2,     2.54,2,     2.38,2,     0.11,2,     0.29,2,     -999,9,     -999,9,     -999,9,   2095.6,2,   2329.0,2,   7.9216,2,    25.02,2,     -999,9,  15.7208,2,     -999,9,     -999,9,     -999,9,     -999,9,     -999,9,   4.9719,1,   0.0175,1,     -999,9,     -999,1,     -999,1,     -999,1,     -999,1,20230827,1552, -33.9992,  54.5106,-999          ,9,-999          ,9
33RR20230722  ,I05        ,137     ,  1,19         ,19         ,2,20230827,1500, -33.9991,  54.5106,     1959,    188.8,2,  15.5442,2,  35.5215,2,  35.5218,2,    234.7,2,    235.8,2,     2.73,2,     3.28,2,     0.02,2,     0.35,2,    2.333,2,    1.415,2,   2.2600,2,   2099.9,2,   2326.6,6,   7.9118,2,    25.00,2,     -999,9,  15.5433,2,     -999,9,     -999,9,     -999,9,     -999,9,     -999,9,   4.9338,1,   0.0126,1,      8.8,2,     -999,1,     -999,1,     -999,1,     -999,1,20230827,1551, -33.9992,  54.5106,-999          ,9,-999          ,9
33RR20230722  ,I05        ,137     ,  1,18         ,18         ,2,20230827,1500, -33.9991,  54.5106,     1959,    229.3,2,  14.7251,2,  35.4154,2,  35.4174,2,    223.9,2,    224.7,2,     3.22,2,     5.59,2,     0.02,2,     0.50,2,     -999,9,     -999,9,     -999,9,   -999.0,9,     -999,9,     -999,9,     -999,9,     -999,9,  14.7310,2,     -999,9,     -999,9,     -999,9,     -999,9,     -999,9,   4.9644,1,   0.0115,1,     -999,9,     -999,1,     -999,1,     -999,1,     -999,1,20230827,1549, -33.9992,  54.5106,-999          ,9,-999          ,9
33RR20230722  ,I05        ,137     ,  1,17         ,17         ,2,20230827,1500, -33.9991,  54.5106,     1959,    278.4,2,  14.3087,2,  35.4043,2,  35.4048,2,    235.6,2,    235.9,2,     3.22,2,     5.57,2,     0.00,2,     0.48,2,    2.593,2,    1.516,2,   2.3400,2,   2111.7,2,   2321.9,2,   7.8766,6,    25.00,2,     -999,9,  14.3066,2,     -999,9,     -999,9,     -999,9,     -999,9,     -999,9,   4.9695,1,   0.0116,1,      9.6,2,     -999,1,     -999,1,     -999,1,     -999,1,20230827,1547, -33.9992,  54.5106,-999          ,9,-999          ,9
33RR20230722  ,I05        ,137     ,  1,16         ,16         ,2,20230827,1500, -33.9991,  54.5106,     1959,    339.6,2,  13.7435,2,  35.3236,2,  35.3236,2,    235.1,2,    235.0,2,     3.32,2,     6.73,2,     0.00,2,     0.55,2,    2.500,2,    1.556,2,   2.3200,2,   -999.0,9,     -999,9,     -999,9,     -999,9,     -999,9,  13.7422,2,     -999,9,     -999,9,     -999,9,     -999,9,     -999,9,   4.9690,1,   0.0116,1,      9.9,2,     -999,1,     -999,1,     -999,1,     -999,1,20230827,1544, -33.9991,  54.5107,-999          ,9,-999          ,9
33RR20230722  ,I05        ,137     ,  1,15         ,15         ,2,20230827,1500, -33.9991,  54.5106,     1959,    410.0,2,  13.2650,2,  35.2487,2,  35.2481,2,    233.5,2,    233.6,2,     3.41,2,     7.82,2,     0.00,2,     0.64,2,     -999,9,     -999,9,     -999,9,   2121.8,2,   2315.8,2,   7.8444,2,    25.01,2,     -999,9,  13.2578,2,     -999,9,     -999,9,     -999,9,     -999,9,     -999,9,   4.9683,1,   0.0113,1,     -999,9,     -999,1,     -999,1,     -999,1,     -999,1,20230827,1542, -33.9991,  54.5106,-999          ,9,-999          ,9
33RR20230722  ,I05        ,137     ,  1,14         ,14         ,2,20230827,1500, -33.9991,  54.5106,     1959,    488.8,2,  12.6216,2,  35.1510,2,  35.1512,2,    231.8,2,    231.2,2,     3.71,2,     9.44,2,     0.00,2,     0.73,2,    2.752,2,    1.670,2,   2.1800,2,   -999.0,9,     -999,9,     -999,9,     -999,9,     -999,9,  12.6109,2,     -999,9,     -999,9,     -999,9,     -999,9,     -999,9,   4.9676,1,   0.0114,1,     10.8,2,     -999,1,     -999,1,     -999,1,     -999,1,20230827,1540, -33.9992,  54.5106,-999          ,9,-999          ,9
33RR20230722  ,I05        ,137     ,  1,13         ,13         ,2,20230827,1500, -33.9991,  54.5106,     1959,    579.7,2,  12.0223,2,  35.0550,2,  35.0561,2,    228.5,2,    228.2,2,     4.39,2,    11.13,2,     0.00,2,     0.84,2,    3.099,2,    1.741,2,   2.1100,2,   2131.0,6,   2307.2,2,   7.8069,2,    25.00,2,     -999,9,  12.0239,2,     -999,9,     -999,9,     -999,9,     -999,9,     -999,9,   4.9666,1,   0.0114,1,     11.2,2,     -999,1,     -999,1,     -999,1,     -999,1,20230827,1537, -33.9991,  54.5106,-999          ,9,-999          ,9
33RR20230722  ,I05        ,137     ,  1,12         ,12         ,2,20230827,1500, -33.9991,  54.5106,     1959,    675.4,2,  11.2411,2,  34.9375,2,  34.9366,2,    224.3,2,    224.0,2,     5.27,2,    13.32,2,     0.00,2,     0.99,2,    3.017,2,    1.773,2,   1.9600,2,   -999.0,9,     -999,9,     -999,9,     -999,9,     -999,9,  11.2398,2,     -999,9,     -999,9,     -999,9,     -999,9,     -999,9,   4.9665,1,   0.0112,1,     12.0,2,     -999,1,     -999,1,     -999,1,     -999,1,20230827,1534, -33.9992,  54.5106,-999          ,9,-999          ,9
33RR20230722  ,I05        ,137     ,  1,11         ,11         ,2,20230827,1500, -33.9991,  54.5106,     1959,    782.3,2,  10.0596,2,  34.7811,2,  34.7821,2,    218.7,2,    218.8,2,     6.93,2,    16.47,2,     0.00,2,     1.18,2,     -999,9,     -999,9,     -999,9,   2147.8,2,   2295.8,2,   7.7533,2,    25.00,2,     -999,9,  10.0597,2,     -999,9,     -999,9,     -999,9,     -999,9,     -999,9,   4.9669,1,   0.0113,1,     -999,9,     -999,1,     -999,1,     -999,1,     -999,1,20230827,1531, -33.9992,  54.5106,-999          ,9,-999          ,9
33RR20230722  ,I05        ,137     ,  1,10         ,10         ,2,20230827,1500, -33.9991,  54.5106,     1959,    899.6,2,   8.0531,2,  34.5689,2,  34.5692,2,    208.6,2,    208.9,2,    13.47,2,    22.20,2,     0.00,2,     1.56,2,    3.052,6,    1.686,6,   1.3400,6,   -999.0,9,     -999,9,     -999,9,     -999,9,     -999,9,   8.0554,2,     -999,9,     -999,9,     -999,9,     -999,9,     -999,9,   4.9680,1,   0.0112,1,     15.6,6,     -999,1,     -999,1,     -999,1,     -999,1,20230827,1528, -33.9991,  54.5106,-999          ,9,-999          ,9
33RR20230722  ,I05        ,137     ,  1,9          ,9          ,2,20230827,1500, -33.9991,  54.5106,     1959,   1017.3,2,   6.6011,2,  34.4386,2,  34.4396,2,    207.7,2,    207.8,2,    18.74,2,    25.74,2,     0.00,2,     1.81,2,     -999,9,     -999,9,     -999,9,   2178.7,2,   2289.5,2,   7.6553,2,    25.00,2,     -999,9,   6.6070,2,     -999,9,     -999,9,     -999,9,     -999,9,     -999,9,   4.9688,1,   0.0111,1,     -999,9,     -999,1,     -999,1,     -999,1,     -999,1,20230827,1525, -33.9992,  54.5106,-999          ,9,-999          ,9
33RR20230722  ,I05        ,137     ,  1,8          ,8          ,2,20230827,1500, -33.9991,  54.5106,     1959,   1142.5,2,   5.2182,2,  34.3656,2,  34.3653,2,    206.4,2,    206.6,2,    27.63,2,    28.83,2,     0.00,2,     2.00,2,     -999,9,     -999,9,     -999,9,   2191.9,2,   2293.9,2,   7.6252,2,    25.02,2,     -999,9,   5.2265,2,     -999,9,     -999,9,     -999,9,     -999,9,     -999,9,   4.9694,1,   0.0111,1,     -999,9,     -999,1,     -999,1,     -999,1,     -999,1,20230827,1522, -33.9992,  54.5106,-999          ,9,-999          ,9
33RR20230722  ,I05        ,137     ,  1,7          ,7          ,2,20230827,1500, -33.9991,  54.5106,     1959,   1271.7,2,   4.0644,2,  34.3887,2,  34.3882,2,    191.6,2,    192.2,2,    42.85,2,    31.71,2,     0.00,2,     2.23,2,    1.902,2,    0.988,2,   0.6100,2,   2217.8,2,   2303.6,2,   7.5933,2,    24.99,2,     -999,9,   4.0667,2,     -999,9,     -999,9,     -999,9,     -999,9,     -999,9,   4.9207,1,   0.0111,1,     20.8,2,     -999,1,     -999,1,     -999,1,     -999,1,20230827,1519, -33.9992,  54.5106,-999          ,9,-999          ,9
33RR20230722  ,I05        ,137     ,  1,6          ,6          ,2,20230827,1500, -33.9991,  54.5106,     1959,   1413.8,2,   3.5530,2,  34.4467,2,  34.4467,2,    181.1,2,    181.1,2,    53.78,2,    32.89,2,     0.00,2,     2.29,2,     -999,9,     -999,9,     -999,9,   2231.9,2,   2315.2,2,   7.5786,6,    25.01,2,     -999,9,   3.5528,2,     -999,9,     -999,9,     -999,9,     -999,9,     -999,9,   4.9717,1,   0.0112,1,     -999,9,     -999,1,     -999,1,     -999,1,     -999,1,20230827,1515, -33.9991,  54.5106,-999          ,9,-999          ,9
33RR20230722  ,I05        ,137     ,  1,5          ,5          ,2,20230827,1500, -33.9991,  54.5106,     1959,   1557.4,2,   3.1121,2,  34.5280,2,  34.5305,2,    173.9,2,    174.1,2,    65.01,2,    33.27,2,     0.00,2,     2.34,2,    0.719,2,    0.371,2,   0.1800,2,   2244.9,2,   2326.7,2,   7.5719,2,    25.01,2,     -999,9,   3.1109,2,     -999,9,     -999,9,     -999,9,     -999,9,     -999,9,   4.9721,1,   0.0115,1,     22.2,2,     -999,1,     -999,1,     -999,1,     -999,1,20230827,1512, -33.9992,  54.5107,-999          ,9,-999          ,9
33RR20230722  ,I05        ,137     ,  1,4          ,37         ,2,20230827,1500, -33.9991,  54.5106,     1959,   1701.2,2,   2.9218,2,  34.5769,2,  34.5775,2,    173.8,2,    173.8,2,    69.00,2,    32.97,2,     0.00,2,     2.31,2,     -999,9,     -999,9,     -999,9,   -999.0,9,     -999,9,     -999,9,     -999,9,     -999,9,   2.9196,2,     -999,9,     -999,9,     -999,9,     -999,9,     -999,9,   4.9721,1,   0.0118,1,     -999,9,     -999,1,     -999,1,     -999,1,     -999,1,20230827,1508, -33.9992,  54.5106,-999          ,9,-999          ,9
33RR20230722  ,I05        ,137     ,  1,3          ,3          ,2,20230827,1500, -33.9991,  54.5106,     1959,   1834.0,2,   2.7843,2,  34.6140,2,  34.6130,2,    175.3,2,    175.2,2,    72.32,2,    32.54,2,     0.00,2,     2.28,2,    0.394,2,    0.195,2,   0.0700,2,   2250.1,2,   2334.8,2,   7.5798,2,    25.00,2,     -999,9,   2.7825,2,     -999,9,     -999,9,     -999,9,     -999,9,     -999,9,   4.9720,1,   0.0111,1,     21.6,2,     -999,1,     -999,1,     -999,1,     -999,1,20230827,1505, -33.9992,  54.5106,-999          ,9,-999          ,9
33RR20230722  ,I05        ,137     ,  1,2          ,2          ,2,20230827,1500, -33.9991,  54.5106,     1959,   1941.6,2,   2.5046,2,  34.6748,2,  34.6745,2,    181.3,2,    181.3,2,    78.95,2,    31.59,2,     0.00,2,     2.21,2,    0.217,2,    0.112,2,   0.0600,2,   -999.0,9,     -999,9,     -999,9,     -999,9,     -999,9,   2.5031,2,     -999,9,     -999,9,     -999,9,     -999,9,     -999,9,   1.9152,1,   0.0114,1,     20.4,2,     -999,1,     -999,1,     -999,1,     -999,1,20230827,1502, -33.9992,  54.5106,-999          ,9,-999          ,9
33RR20230722  ,I05        ,137     ,  1,1          ,1          ,2,20230827,1500, -33.9991,  54.5106,     1959,   1972.8,2,   2.4610,2,  34.6802,2,  34.6806,2,    182.4,2,    182.5,2,    80.42,2,    31.49,2,     0.00,2,     2.22,2,    0.207,2,    0.107,2,   0.1000,2,   2253.7,6,   2346.2,2,   7.6005,2,    25.02,2,     -999,9,   2.4600,2,     -999,9,     -999,9,     -999,9,     -999,9,     -999,9,   0.4601,1,   0.0110,1,     20.1,2,     -999,1,     -999,1,     -999,1,     -999,1,20230827,1500, -33.9992,  54.5106,-999          ,9,-999          ,9