BOTTLE,20240422CCHHYDRO
EXPOCODE,SECT_ID,STNNBR,CASTNO,SAMPNO,BTLNBR,BTLNBR_FLAG_W,DATE,TIME,LATITUDE,LONGITUDE,DEPTH,CTDPRS,CTDPRS_FLAG_W,CTDTMP,CTDTMP_FLAG_W,CTDSAL,CTDSAL_FLAG_W,SALNTY,SALNTY_FLAG_W,CTDOXY,CTDOXY_FLAG_W,OXYGEN,OXYGEN_FLAG_W,SILCAT,SILCAT_FLAG_W,NITRAT,NITRAT_FLAG_W,NITRIT,NITRIT_FLAG_W,PHSPHT,PHSPHT_FLAG_W,CFC-11,CFC-11_FLAG_W,CFC-12,CFC-12_FLAG_W,SF6,SF6_FLAG_W,TCARBN,TCARBN_FLAG_W,ALKALI,ALKALI_FLAG_W,PH_TOT,PH_TOT_FLAG_W,PH_TMP,PH_TMP_FLAG_W,DOC,DOC_FLAG_W,REFTMP,REFTMP_FLAG_W,POC,POC_FLAG_W,PON,PON_FLAG_W,POP,POP_FLAG_W,DOP,DOP_FLAG_W,DELO18,DELO18_FLAG_W,CTDFLUOR,CTDFLUOR_FLAG_W,CTDXMISS,CTDXMISS_FLAG_W,N2O,N2O_FLAG_W,D15N_NO3,D15N_NO3_FLAG_W,D15N_NO2+NO3,D15N_NO2+NO3_FLAG_W,D18O_NO2+NO3,D18O_NO2+NO3_FLAG_W,D18O_NO3,D18O_NO3_FLAG_W,BTL_DATE,BTL_TIME,BTL_LAT,BTL_LON,HPLC,HPLC_FLAG_W,DNA,DNA_FLAG_W
,,,,,,,,,,,METERS,DBAR,,ITS-90,,PSS-78,,PSS-78,,UMOL/KG,,UMOL/KG,,UMOL/KG,,UMOL/KG,,UMOL/KG,,UMOL/KG,,PMOL/KG,,PMOL/KG,,FMOL/KG,,UMOL/KG,,UMOL/KG,,,,DEG C,,UMOL/KG,,ITS-90,,UG/KG,,UG/KG,,UG/L,,UMOL/KG,,/MILLE,,VOLTS,,VOLTS,,NMOL/KG,,/MILLE,,/MILLE,,/MILLE,,/MILLE,,,,,,,,,
33RR20230722  ,I05        ,39      ,  1,23         ,23         ,2,20230801,0737, -32.6937, 100.3038,     3066,      8.4,2,  16.6572,2,  35.8021,2,     -999,9,    239.4,2,     -999,9,     -999,9,     -999,9,     -999,9,     -999,9,     -999,9,     -999,9,     -999,9,   -999.0,9,     -999,9,     -999,9,     -999,9,     -999,9,     -999,1,     -999,1,     -999,1,     -999,9,     -999,9,     -999,9,   4.9749,1,   0.0341,1,     -999,9,     -999,9,     -999,9,     -999,9,     -999,9,20230801,0851, -32.6938, 100.3038,-999          ,9,-999          ,9
33RR20230722  ,I05        ,39      ,  1,20         ,20         ,2,20230801,0737, -32.6937, 100.3038,     3066,      8.9,2,  16.6592,2,  35.8021,2,     -999,9,    239.4,2,     -999,9,     -999,9,     -999,9,     -999,9,     -999,9,     -999,9,     -999,9,     -999,9,   -999.0,9,     -999,9,     -999,9,     -999,9,     -999,9,     -999,1,     -999,9,     -999,9,     -999,9,     -999,9,     -999,9,   4.9749,1,   0.0324,1,     -999,9,     -999,9,     -999,9,     -999,9,     -999,9,20230801,0850, -32.6937, 100.3038,-999          ,9,-999          ,1
33RR20230722  ,I05        ,39      ,  1,27         ,27         ,2,20230801,0737, -32.6937, 100.3038,     3066,      9.4,2,  16.6601,2,  35.8020,2,     -999,9,    239.5,2,     -999,9,     -999,9,     -999,9,     -999,9,     -999,9,     -999,9,     -999,9,     -999,9,   -999.0,9,     -999,9,     -999,9,     -999,9,     -999,1,  16.6587,2,     -999,9,     -999,9,     -999,9,     -999,9,     -999,9,   4.9750,1,   0.0347,1,     -999,9,     -999,9,     -999,9,     -999,9,     -999,9,20230801,0852, -32.6937, 100.3038,-999          ,1,-999          ,9
33RR20230722  ,I05        ,39      ,  1,25         ,25         ,2,20230801,0737, -32.6937, 100.3038,     3066,      9.7,2,  16.6572,2,  35.8019,2,     -999,9,    239.5,2,     -999,9,     -999,9,     -999,9,     -999,9,     -999,9,     -999,9,     -999,9,     -999,9,   -999.0,9,     -999,9,     -999,9,     -999,9,     -999,9,     -999,1,     -999,9,     -999,9,     -999,1,     -999,9,     -999,9,   4.9053,1,   0.0342,1,     -999,9,     -999,9,     -999,9,     -999,9,     -999,9,20230801,0851, -32.6938, 100.3038,-999          ,9,-999          ,9
33RR20230722  ,I05        ,39      ,  1,21         ,21         ,2,20230801,0737, -32.6937, 100.3038,     3066,      9.8,2,  16.6569,2,  35.8021,2,     -999,9,    239.5,2,     -999,9,     -999,9,     -999,9,     -999,9,     -999,9,     -999,9,     -999,9,     -999,9,   -999.0,9,     -999,9,     -999,9,     -999,9,     -999,9,  16.6566,2,     -999,1,     -999,1,     -999,9,     -999,9,     -999,9,   4.8800,1,   0.0340,1,     -999,9,     -999,9,     -999,9,     -999,9,     -999,9,20230801,0850, -32.6937, 100.3038,-999          ,9,-999          ,9
33RR20230722  ,I05        ,39      ,  1,24         ,24         ,2,20230801,0737, -32.6937, 100.3038,     3066,     10.2,2,  16.6584,2,  35.8020,2,     -999,9,    239.4,2,     -999,9,     -999,9,     -999,9,     -999,9,     -999,9,     -999,9,     -999,9,     -999,9,   -999.0,9,     -999,9,     -999,9,     -999,9,     -999,9,  16.6573,2,     -999,9,     -999,9,     -999,1,     -999,9,     -999,9,   4.8941,1,   0.0345,1,     -999,9,     -999,9,     -999,9,     -999,9,     -999,9,20230801,0851, -32.6937, 100.3038,-999          ,9,-999          ,9
33RR20230722  ,I05        ,39      ,  1,22         ,22         ,2,20230801,0737, -32.6937, 100.3038,     3066,     10.5,2,  16.6595,2,  35.8021,2,     -999,9,    239.5,2,     -999,9,     -999,9,     -999,9,     -999,9,     -999,9,     -999,9,     -999,9,     -999,9,   -999.0,9,     -999,9,     -999,9,     -999,9,     -999,9,  16.6572,2,     -999,1,     -999,1,     -999,9,     -999,9,     -999,9,   4.7012,1,   0.0325,1,     -999,9,     -999,9,     -999,9,     -999,9,     -999,9,20230801,0850, -32.6938, 100.3038,-999          ,9,-999          ,9
33RR20230722  ,I05        ,39      ,  1,19         ,19         ,2,20230801,0737, -32.6937, 100.3038,     3066,     10.9,2,  16.6594,2,  35.8022,2,  35.8025,2,    239.4,2,    238.9,2,     1.17,2,     0.17,2,     0.03,2,     0.14,2,     -999,9,     -999,9,     -999,9,   2090.9,6,   2350.5,2,   7.9574,2,    24.98,2,     -999,9,  16.6583,2,     -999,9,     -999,9,     -999,9,     -999,9,     -999,1,   4.9747,1,   0.0322,1,     -999,9,     -999,9,     -999,9,     -999,9,     -999,9,20230801,0850, -32.6937, 100.3038,-999          ,9,-999          ,9
33RR20230722  ,I05        ,39      ,  1,26         ,26         ,2,20230801,0737, -32.6937, 100.3038,     3066,     11.2,2,  16.6622,2,  35.8021,2,     -999,9,    239.3,2,     -999,9,     -999,9,     -999,9,     -999,9,     -999,9,     -999,9,     -999,9,     -999,9,   -999.0,9,     -999,9,     -999,9,     -999,9,     -999,9,  16.6596,2,     -999,9,     -999,9,     -999,1,     -999,9,     -999,9,   4.8188,1,   0.0341,1,     -999,9,     -999,9,     -999,9,     -999,9,     -999,9,20230801,0851, -32.6937, 100.3038,-999          ,9,-999          ,9
33RR20230722  ,I05        ,39      ,  1,18         ,18         ,2,20230801,0737, -32.6937, 100.3038,     3066,     64.5,2,  16.6693,2,  35.8003,2,  35.8009,2,    238.8,2,    238.9,2,     1.17,2,     0.14,2,     0.03,2,     0.13,2,    2.367,2,    1.359,2,   2.3800,2,   2090.2,2,   2351.4,2,   7.9567,2,    25.01,2,     -999,9,  16.6693,2,     -999,9,     -999,9,     -999,9,     -999,9,     -999,1,   4.9744,1,   0.0358,1,      8.0,2,     -999,9,     -999,9,     -999,9,     -999,9,20230801,0847, -32.6938, 100.3038,-999          ,9,-999          ,9
33RR20230722  ,I05        ,39      ,  1,17         ,17         ,2,20230801,0737, -32.6937, 100.3038,     3066,    108.3,2,  16.4724,2,  35.7748,2,     -999,9,    237.1,2,     -999,9,     -999,9,     -999,9,     -999,9,     -999,9,     -999,9,     -999,9,     -999,9,   -999.0,9,     -999,9,     -999,9,     -999,9,     -999,9,  16.4783,2,     -999,9,     -999,9,     -999,9,     -999,9,     -999,9,   4.3746,1,   0.0308,1,     -999,9,     -999,9,     -999,9,     -999,9,     -999,9,20230801,0844, -32.6938, 100.3038,-999          ,9,-999          ,1
33RR20230722  ,I05        ,39      ,  1,16         ,16         ,2,20230801,0737, -32.6937, 100.3038,     3066,    133.3,2,  15.2997,2,  35.5983,2,  35.5999,2,    231.3,2,    232.5,2,     0.98,2,     2.13,2,     0.05,2,     0.28,2,     -999,9,     -999,9,     -999,9,   2110.3,2,   2339.2,2,   7.9070,2,    24.99,2,     -999,9,  15.2977,2,     -999,9,     -999,9,     -999,9,     -999,9,     -999,1,   4.9713,1,   0.0148,1,     -999,9,     -999,9,     -999,9,     -999,9,     -999,9,20230801,0842, -32.6938, 100.3038,-999          ,9,-999          ,9
33RR20230722  ,I05        ,39      ,  1,15         ,15         ,2,20230801,0737, -32.6937, 100.3038,     3066,    209.5,2,  13.1342,2,  35.2691,2,     -999,9,    235.9,2,     -999,9,     -999,9,     -999,9,     -999,9,     -999,9,     -999,9,     -999,9,     -999,9,   -999.0,9,     -999,9,     -999,9,     -999,9,     -999,9,  13.1376,2,     -999,9,     -999,9,     -999,9,     -999,9,     -999,9,   4.9695,1,   0.0115,1,     -999,9,     -999,9,     -999,9,     -999,9,     -999,9,20230801,0840, -32.6937, 100.3039,-999          ,9,-999          ,1
33RR20230722  ,I05        ,39      ,  1,14         ,14         ,2,20230801,0737, -32.6937, 100.3038,     3066,    285.4,2,  11.9324,2,  35.0473,2,  35.0553,2,    240.3,2,    239.4,2,     1.76,2,     8.25,2,     0.00,2,     0.66,2,     -999,9,     -999,9,     -999,9,   2125.7,2,   2309.8,2,   7.8237,2,    24.99,2,     -999,9,  11.9801,2,     -999,9,     -999,9,     -999,9,     -999,9,     -999,1,   4.9687,1,   0.0114,1,     -999,9,     -999,9,     -999,9,     -999,9,     -999,9,20230801,0837, -32.6937, 100.3038,-999          ,9,-999          ,9
33RR20230722  ,I05        ,39      ,  1,13         ,13         ,2,20230801,0737, -32.6937, 100.3038,     3066,    434.7,2,  10.3341,2,  34.7968,2,  34.7978,2,    239.8,2,    239.3,2,     3.02,2,    12.89,2,     0.00,2,     0.95,2,    3.003,2,    1.865,2,   2.3600,2,   2132.7,2,   2297.0,2,   7.7750,2,    24.99,2,     -999,9,  10.3304,2,     -999,9,     -999,9,     -999,9,     -999,9,     -999,1,   4.9674,1,   0.0114,1,     13.1,2,     -999,9,     -999,9,     -999,9,     -999,9,20230801,0834, -32.6937, 100.3038,-999          ,9,-999          ,9
33RR20230722  ,I05        ,39      ,  1,12         ,12         ,2,20230801,0737, -32.6937, 100.3038,     3066,    799.4,2,   6.8840,2,  34.4538,2,  34.4544,2,    200.0,2,    200.3,2,    17.27,2,    25.57,2,     0.00,2,     1.73,2,     -999,9,     -999,9,     -999,9,   2173.2,2,   2286.6,2,   7.6582,6,    24.99,2,     -999,9,   6.8859,2,     -999,9,     -999,9,     -999,9,     -999,9,     -999,1,   4.9693,1,   0.0113,1,     -999,9,     -999,9,     -999,9,     -999,9,     -999,9,20230801,0827, -32.6938, 100.3038,-999          ,9,-999          ,9
33RR20230722  ,I05        ,39      ,  1,11         ,11         ,2,20230801,0737, -32.6937, 100.3038,     3066,   1012.0,2,   4.5913,2,  34.3829,2,     -999,9,    186.4,2,     -999,9,     -999,9,     -999,9,     -999,9,     -999,9,     -999,9,     -999,9,     -999,9,   -999.0,9,     -999,9,     -999,9,     -999,9,     -999,9,   4.5914,2,     -999,9,     -999,9,     -999,9,     -999,9,     -999,9,   4.8866,1,   0.0111,1,     -999,9,     -999,9,     -999,9,     -999,9,     -999,9,20230801,0822, -32.6937, 100.3038,-999          ,9,-999          ,1
33RR20230722  ,I05        ,39      ,  1,10         ,10         ,2,20230801,0737, -32.6937, 100.3038,     3066,   1112.1,2,   4.0510,2,  34.4292,2,  34.4294,2,    172.2,2,    172.7,2,    52.31,2,    32.98,2,     0.00,2,     2.27,2,     -999,9,     -999,9,     -999,9,   2227.2,2,   2313.7,2,   7.5804,2,    24.98,2,     -999,9,   4.0551,2,     -999,9,     -999,9,     -999,9,     -999,9,     -999,1,   4.8392,1,   0.0112,1,     -999,9,     -999,9,     -999,9,     -999,9,     -999,9,20230801,0819, -32.6938, 100.3038,-999          ,9,-999          ,9
33RR20230722  ,I05        ,39      ,  1,9          ,9          ,2,20230801,0737, -32.6937, 100.3038,     3066,   1522.0,2,   3.1235,2,  34.5801,2,  34.5796,2,    153.0,2,    152.5,2,    79.72,2,    34.43,2,     0.00,2,     2.39,2,    0.178,2,    0.088,2,   0.0200,2,   2265.0,2,   2344.1,2,   7.5609,2,    24.98,2,     -999,9,   3.1248,2,     -999,9,     -999,9,     -999,9,     -999,9,     -999,1,   4.9748,1,   0.0111,1,     24.1,2,     -999,9,     -999,9,     -999,9,     -999,9,20230801,0812, -32.6937, 100.3038,-999          ,9,-999          ,9
33RR20230722  ,I05        ,39      ,  1,8          ,8          ,2,20230801,0737, -32.6937, 100.3038,     3066,   1797.3,2,   2.7112,2,  34.6575,2,  34.6576,2,    160.0,2,    159.9,2,    89.18,2,    33.32,2,     0.00,2,     2.37,2,     -999,9,     -999,9,     -999,9,   2266.0,2,   2349.6,2,   7.5740,2,    24.99,2,     -999,9,   2.7124,2,     -999,9,     -999,9,     -999,9,     -999,9,     -999,1,   4.9749,1,   0.0114,1,     -999,9,     -999,9,     -999,9,     -999,9,     -999,9,20230801,0806, -32.6937, 100.3039,-999          ,9,-999          ,9
33RR20230722  ,I05        ,39      ,  1,7          ,7          ,2,20230801,0737, -32.6937, 100.3038,     3066,   2110.2,2,   2.3661,2,  34.7071,2,  34.7077,2,    173.9,2,    173.8,2,    90.64,2,    32.20,2,     0.00,2,     2.24,2,    0.044,2,    0.047,2,   0.0900,2,   2259.7,2,   2355.2,2,   7.5941,2,    24.99,2,     -999,9,   2.3660,2,     -999,9,     -999,9,     -999,9,     -999,9,     -999,1,   4.8706,1,   0.0113,1,     21.1,2,     -999,9,     -999,9,     -999,9,     -999,9,20230801,0800, -32.6938, 100.3038,-999          ,9,-999          ,9
33RR20230722  ,I05        ,39      ,  1,6          ,6          ,2,20230801,0737, -32.6937, 100.3038,     3066,   2355.0,2,   2.1493,2,  34.7287,2,  34.7294,2,    183.0,2,    183.6,2,    92.69,2,    31.33,2,     0.00,2,     2.19,2,     -999,9,     -999,9,     -999,9,   -999.0,9,     -999,9,     -999,9,     -999,9,     -999,9,   2.1498,2,     -999,9,     -999,9,     -999,9,     -999,9,     -999,1,   4.8266,1,   0.0112,1,     -999,9,     -999,9,     -999,9,     -999,9,     -999,9,20230801,0754, -32.6938, 100.3040,-999          ,9,-999          ,9
33RR20230722  ,I05        ,39      ,  1,5          ,5          ,2,20230801,0737, -32.6937, 100.3038,     3066,   2663.0,2,   1.8580,2,  34.7398,2,  34.7402,2,    192.6,2,    192.8,2,    98.15,2,    30.77,2,     0.00,2,     2.18,2,    0.033,2,    0.025,2,   0.0400,2,   2253.2,2,   2355.9,2,   7.6158,6,    24.98,2,     -999,9,   1.8585,2,     -999,9,     -999,9,     -999,9,     -999,9,     -999,1,   4.9480,1,   0.0113,1,     19.4,2,     -999,9,     -999,9,     -999,9,     -999,9,20230801,0748, -32.6938, 100.3038,-999          ,9,-999          ,9
33RR20230722  ,I05        ,39      ,  1,4          ,37         ,2,20230801,0737, -32.6937, 100.3038,     3066,   2884.9,2,   1.6163,2,  34.7361,2,  34.7372,2,    196.8,2,    196.8,2,   102.74,2,    31.12,2,     0.00,2,     2.16,2,     -999,9,     -999,9,     -999,9,   -999.0,9,     -999,9,     -999,9,     -999,9,     -999,9,   1.6146,2,     -999,9,     -999,9,     -999,9,     -999,9,     -999,1,   4.6819,1,   0.0111,1,     -999,9,     -999,9,     -999,9,     -999,9,     -999,9,20230801,0744, -32.6937, 100.3039,-999          ,9,-999          ,9
33RR20230722  ,I05        ,39      ,  1,3          ,3          ,2,20230801,0737, -32.6937, 100.3038,     3066,   3014.2,2,   1.4955,2,  34.7328,2,  34.7345,2,    199.0,2,    199.4,2,   106.25,2,    31.11,2,     0.00,2,     2.17,2,    0.046,2,    0.032,2,   0.0500,2,   2256.8,2,   2362.9,6,   7.6167,2,    24.99,2,     -999,9,   1.4951,2,     -999,9,     -999,9,     -999,9,     -999,9,     -999,1,   4.6881,1,   0.0116,1,     19.3,2,     -999,9,     -999,9,     -999,9,     -999,9,20230801,0740, -32.6938, 100.3039,-999          ,9,-999          ,9
33RR20230722  ,I05        ,39      ,  1,2          ,2          ,2,20230801,0737, -32.6937, 100.3038,     3066,   3075.1,2,   1.4369,2,  34.7308,2,  34.7315,2,    199.8,2,    199.9,2,   107.91,2,    31.31,2,     0.00,2,     2.19,2,    0.038,2,    0.029,2,   0.0000,2,   2255.8,2,   2361.3,2,   7.6176,2,    25.00,2,     -999,9,   1.4368,2,     -999,9,     -999,9,     -999,9,     -999,9,     -999,1,   1.7438,1,   0.0117,1,     19.0,2,     -999,9,     -999,9,     -999,9,     -999,9,20230801,0738, -32.6938, 100.3039,-999          ,9,-999          ,9
33RR20230722  ,I05        ,39      ,  1,1          ,1          ,2,20230801,0737, -32.6937, 100.3038,     3066,   3100.8,2,   1.4144,2,  34.7300,2,  34.7313,2,    200.0,2,    199.5,2,   108.40,2,    31.39,2,     0.00,2,     2.18,2,    0.036,2,    0.033,2,   0.0700,2,   2259.3,2,   2358.8,2,   7.6180,2,    24.98,2,     -999,9,   1.4133,2,     -999,9,     -999,9,     -999,9,     -999,9,     -999,1,   0.4927,1,   0.0110,1,     18.9,2,     -999,9,     -999,9,     -999,9,     -999,9,20230801,0737, -32.6938, 100.3039,-999          ,9,-999          ,9