BOTTLE,20240422CCHHYDRO
EXPOCODE,SECT_ID,STNNBR,CASTNO,SAMPNO,BTLNBR,BTLNBR_FLAG_W,DATE,TIME,LATITUDE,LONGITUDE,DEPTH,CTDPRS,CTDPRS_FLAG_W,CTDTMP,CTDTMP_FLAG_W,CTDSAL,CTDSAL_FLAG_W,SALNTY,SALNTY_FLAG_W,CTDOXY,CTDOXY_FLAG_W,OXYGEN,OXYGEN_FLAG_W,SILCAT,SILCAT_FLAG_W,NITRAT,NITRAT_FLAG_W,NITRIT,NITRIT_FLAG_W,PHSPHT,PHSPHT_FLAG_W,CFC-11,CFC-11_FLAG_W,CFC-12,CFC-12_FLAG_W,SF6,SF6_FLAG_W,TCARBN,TCARBN_FLAG_W,ALKALI,ALKALI_FLAG_W,PH_TOT,PH_TOT_FLAG_W,PH_TMP,PH_TMP_FLAG_W,DOC,DOC_FLAG_W,REFTMP,REFTMP_FLAG_W,POC,POC_FLAG_W,PON,PON_FLAG_W,POP,POP_FLAG_W,DOP,DOP_FLAG_W,DELO18,DELO18_FLAG_W,CTDFLUOR,CTDFLUOR_FLAG_W,CTDXMISS,CTDXMISS_FLAG_W,N2O,N2O_FLAG_W,D15N_NO3,D15N_NO3_FLAG_W,D15N_NO2+NO3,D15N_NO2+NO3_FLAG_W,D18O_NO2+NO3,D18O_NO2+NO3_FLAG_W,D18O_NO3,D18O_NO3_FLAG_W,BTL_DATE,BTL_TIME,BTL_LAT,BTL_LON,HPLC,HPLC_FLAG_W,DNA,DNA_FLAG_W
,,,,,,,,,,,METERS,DBAR,,ITS-90,,PSS-78,,PSS-78,,UMOL/KG,,UMOL/KG,,UMOL/KG,,UMOL/KG,,UMOL/KG,,UMOL/KG,,PMOL/KG,,PMOL/KG,,FMOL/KG,,UMOL/KG,,UMOL/KG,,,,DEG C,,UMOL/KG,,ITS-90,,UG/KG,,UG/KG,,UG/L,,UMOL/KG,,/MILLE,,VOLTS,,VOLTS,,NMOL/KG,,/MILLE,,/MILLE,,/MILLE,,/MILLE,,,,,,,,,
33RR20230722  ,I05        ,119     ,  1,36         ,38         ,2,20230823,0023, -33.9960,  61.1247,     5074,      6.9,2,  15.9785,2,  35.5318,2,  35.5312,2,    246.4,2,    246.1,2,     1.56,2,     0.22,2,     0.06,2,     0.17,2,    2.062,2,    1.408,2,   2.4200,2,   2082.5,2,   2333.6,2,   7.9413,2,    25.00,2,     -999,1,  15.9780,2,     -999,9,     -999,9,     -999,9,     -999,1,     -999,9,   4.6269,1,   0.0478,1,      8.3,2,     -999,9,     -999,9,     -999,9,     -999,9,20230823,0233, -33.9960,  61.1247,-999          ,9,-999          ,9
33RR20230722  ,I05        ,119     ,  1,35         ,35         ,2,20230823,0023, -33.9960,  61.1247,     5074,     22.2,2,  15.9841,2,  35.5316,2,  35.5312,2,    246.2,2,    246.1,2,     1.46,2,     0.19,2,     0.06,2,     0.17,2,     -999,9,     -999,9,     -999,9,   2086.3,2,   2331.1,2,   7.9416,2,    25.01,2,     -999,9,  15.9816,2,     -999,9,     -999,9,     -999,9,     -999,9,     -999,9,   4.7586,1,   0.0464,1,     -999,9,     -999,9,     -999,9,     -999,9,     -999,9,20230823,0231, -33.9960,  61.1247,-999          ,9,-999          ,9
33RR20230722  ,I05        ,119     ,  1,34         ,34         ,2,20230823,0023, -33.9960,  61.1247,     5074,     40.0,2,  15.9873,2,  35.5317,2,  35.5342,2,    246.1,2,    246.0,2,     1.46,2,     0.17,2,     0.06,2,     0.16,2,    2.039,2,    1.411,2,   2.4300,2,   -999.0,9,     -999,9,     -999,9,     -999,9,     -999,9,  15.9883,2,     -999,9,     -999,9,     -999,9,     -999,1,     -999,9,   4.9748,1,   0.0457,1,      8.5,2,     -999,9,     -999,9,     -999,9,     -999,9,20230823,0229, -33.9960,  61.1247,-999          ,9,-999          ,9
33RR20230722  ,I05        ,119     ,  1,33         ,33         ,2,20230823,0023, -33.9960,  61.1247,     5074,     59.8,2,  15.9919,2,  35.5316,2,  35.5318,2,    245.8,2,    246.2,2,     1.56,2,     0.16,2,     0.06,2,     0.16,2,     -999,9,     -999,9,     -999,9,   2085.5,2,   2331.5,2,   7.9421,2,    25.02,2,     -999,9,  15.9916,2,     -999,9,     -999,9,     -999,9,     -999,1,     -999,9,   4.9747,1,   0.0456,1,     -999,9,     -999,9,     -999,9,     -999,9,     -999,9,20230823,0227, -33.9960,  61.1247,-999          ,9,-999          ,9
33RR20230722  ,I05        ,119     ,  1,32         ,32         ,2,20230823,0023, -33.9960,  61.1247,     5074,     84.6,2,  15.5917,2,  35.4784,2,  35.4823,2,    244.7,2,    244.5,2,     1.85,2,     1.01,2,     0.25,2,     0.23,2,    2.116,2,    1.437,2,   2.4100,2,   2089.6,2,   2328.0,2,   7.9257,2,    25.02,2,     -999,9,  15.6292,2,     -999,9,     -999,9,     -999,9,     -999,1,     -999,9,   4.9737,1,   0.0364,1,      8.6,2,     -999,9,     -999,9,     -999,9,     -999,9,20230823,0225, -33.9960,  61.1247,-999          ,9,-999          ,9
33RR20230722  ,I05        ,119     ,  1,31         ,31         ,2,20230823,0023, -33.9960,  61.1247,     5074,    111.2,2,  15.3107,2,  35.4523,2,  35.4490,2,    237.8,2,    237.3,2,     2.05,2,     2.53,2,     0.22,2,     0.30,2,     -999,9,     -999,9,     -999,9,   2095.8,2,   2325.5,2,   7.9058,2,    24.99,2,     -999,9,  15.3400,2,     -999,9,     -999,9,     -999,9,     -999,9,     -999,9,   4.9720,1,   0.0177,1,     -999,9,     -999,9,     -999,9,     -999,9,     -999,9,20230823,0224, -33.9960,  61.1247,-999          ,9,-999          ,9
33RR20230722  ,I05        ,119     ,  1,30         ,30         ,2,20230823,0023, -33.9960,  61.1247,     5074,    136.7,2,  14.7327,2,  35.4139,2,  35.4155,2,    225.0,3,    227.9,2,     2.44,2,     4.86,2,     0.02,2,     0.45,2,    2.412,2,    1.509,2,   2.4200,2,   -999.0,9,     -999,9,     -999,9,     -999,9,     -999,9,  14.7299,2,     -999,9,     -999,9,     -999,9,     -999,1,     -999,9,   4.9695,1,   0.0141,1,      9.8,2,     -999,9,     -999,9,     -999,9,     -999,9,20230823,0222, -33.9959,  61.1247,-999          ,9,-999          ,9
33RR20230722  ,I05        ,119     ,  1,29         ,29         ,2,20230823,0023, -33.9960,  61.1247,     5074,    166.8,2,  14.3175,2,  35.3801,2,  35.3794,2,    225.9,3,    228.4,2,     2.73,2,     5.80,2,     0.02,2,     0.50,2,    2.365,2,    1.544,2,   2.4300,2,   2114.2,2,   2323.3,2,   7.8650,2,    25.01,2,     -999,9,  14.3137,2,     -999,9,     -999,9,     -999,9,     -999,9,     -999,9,   4.9695,1,   0.0130,1,     10.0,2,     -999,9,     -999,9,     -999,9,     -999,9,20230823,0220, -33.9960,  61.1247,-999          ,9,-999          ,9
33RR20230722  ,I05        ,119     ,  1,28         ,28         ,2,20230823,0023, -33.9960,  61.1247,     5074,    200.0,2,  14.0916,2,  35.3618,2,  35.3604,2,    228.6,2,    230.8,2,     2.93,2,     6.27,2,     0.02,2,     0.53,2,     -999,9,     -999,9,     -999,9,   2118.5,2,   2322.8,2,   7.8606,2,    25.00,2,     -999,9,  14.0885,2,     -999,9,     -999,9,     -999,9,     -999,1,     -999,9,   4.9695,1,   0.0116,1,     -999,9,     -999,9,     -999,9,     -999,9,     -999,9,20230823,0219, -33.9960,  61.1247,-999          ,9,-999          ,9
33RR20230722  ,I05        ,119     ,  1,27         ,27         ,2,20230823,0023, -33.9960,  61.1247,     5074,    232.7,2,  13.7620,2,  35.3243,2,  35.3220,2,    233.7,2,    234.2,2,     3.02,2,     6.69,2,     0.02,2,     0.56,2,    2.361,2,    1.578,2,   2.4400,2,   2114.7,2,   2319.0,2,   7.8580,2,    25.01,2,     -999,9,  13.7583,2,     -999,9,     -999,9,     -999,9,     -999,9,     -999,9,   4.9244,1,   0.0115,1,     10.1,2,     -999,9,     -999,9,     -999,9,     -999,9,20230823,0217, -33.9960,  61.1247,-999          ,9,-999          ,9
33RR20230722  ,I05        ,119     ,  1,26         ,26         ,2,20230823,0023, -33.9960,  61.1247,     5074,    274.6,2,  13.5048,2,  35.2872,2,  35.2857,2,    235.4,2,    235.0,2,     3.12,2,     7.16,2,     0.01,2,     0.59,2,     -999,9,     -999,9,     -999,9,   2116.4,2,   2317.1,2,   7.8524,6,    25.03,2,     -999,9,  13.5040,2,     -999,9,     -999,9,     -999,9,     -999,1,     -999,9,   4.8852,1,   0.0120,1,     -999,9,     -999,9,     -999,9,     -999,9,     -999,9,20230823,0215, -33.9960,  61.1247,-999          ,9,-999          ,9
33RR20230722  ,I05        ,119     ,  1,25         ,25         ,2,20230823,0023, -33.9960,  61.1247,     5074,    321.3,2,  13.2594,2,  35.2550,2,  35.2580,2,    236.4,2,    235.9,2,     3.22,2,     7.61,2,     0.00,2,     0.60,2,    2.423,2,    1.608,2,   2.4900,2,   2120.3,2,   2317.0,2,   7.8478,2,    25.02,2,     -999,9,  13.2577,2,     -999,9,     -999,9,     -999,9,     -999,9,     -999,9,   4.9688,1,   0.0116,1,     10.2,2,     -999,9,     -999,9,     -999,9,     -999,9,20230823,0213, -33.9960,  61.1247,-999          ,9,-999          ,9
33RR20230722  ,I05        ,119     ,  1,24         ,24         ,2,20230823,0023, -33.9960,  61.1247,     5074,    374.5,2,  13.0340,2,  35.2196,2,  35.2186,2,    233.8,2,    233.6,2,     3.42,2,     8.39,2,     0.00,2,     0.65,2,    2.574,2,    1.642,2,   2.3800,2,   2120.3,2,   2314.9,2,   7.8380,2,    25.02,2,     -999,9,  13.0383,2,     -999,9,     -999,9,     -999,9,     -999,9,     -999,9,   4.9681,1,   0.0118,1,     10.6,2,     -999,9,     -999,9,     -999,9,     -999,9,20230823,0211, -33.9960,  61.1247,-999          ,9,-999          ,9
33RR20230722  ,I05        ,119     ,  1,23         ,23         ,2,20230823,0023, -33.9960,  61.1247,     5074,    444.6,2,  12.5312,2,  35.1382,2,  35.1394,2,    228.4,2,    229.7,2,     3.81,2,     9.97,2,     0.00,2,     0.76,2,     -999,9,     -999,9,     -999,9,   2128.3,2,   2310.6,2,   7.8214,2,    25.03,2,     -999,9,  12.5233,2,     -999,9,     -999,9,     -999,9,     -999,9,     -999,9,   4.9672,1,   0.0115,1,     -999,9,     -999,9,     -999,9,     -999,9,     -999,9,20230823,0208, -33.9960,  61.1247,-999          ,9,-999          ,9
33RR20230722  ,I05        ,119     ,  1,22         ,22         ,2,20230823,0023, -33.9960,  61.1247,     5074,    517.7,2,  11.9267,2,  35.0407,2,  35.0405,2,    227.3,2,    227.6,2,     4.20,2,    11.53,2,     0.00,2,     0.85,2,    2.612,2,    1.723,2,   2.0800,2,   -999.0,9,     -999,9,     -999,9,     -999,9,     -999,9,  11.9287,2,     -999,9,     -999,9,     -999,9,     -999,9,     -999,9,   4.9668,1,   0.0116,1,     11.1,2,     -999,9,     -999,9,     -999,9,     -999,9,20230823,0206, -33.9960,  61.1247,-999          ,9,-999          ,9
33RR20230722  ,I05        ,119     ,  1,21         ,21         ,2,20230823,0023, -33.9960,  61.1247,     5074,    612.2,2,  10.9163,2,  34.8904,2,  34.8939,2,    221.8,2,    222.4,2,     5.17,2,    14.19,2,     0.00,2,     1.02,2,    2.803,2,    1.796,2,   1.9300,2,   2138.0,2,   2299.9,2,   7.7766,2,    25.04,2,     -999,9,  10.9135,2,     -999,9,     -999,9,     -999,9,     -999,9,     -999,9,   4.9176,1,   0.0115,1,     12.3,2,     -999,9,     -999,9,     -999,9,     -999,9,20230823,0203, -33.9960,  61.1247,-999          ,9,-999          ,9
33RR20230722  ,I05        ,119     ,  1,20         ,20         ,2,20230823,0023, -33.9960,  61.1247,     5074,    712.0,2,   9.6703,2,  34.7313,2,  34.7400,2,    217.2,2,    217.7,2,     7.13,2,    17.42,2,     0.00,2,     1.22,2,     -999,9,     -999,9,     -999,9,   -999.0,9,     -999,9,     -999,9,     -999,9,     -999,9,   9.6638,2,     -999,9,     -999,9,     -999,9,     -999,9,     -999,9,   4.9670,1,   0.0116,1,     -999,9,     -999,9,     -999,9,     -999,9,     -999,9,20230823,0200, -33.9960,  61.1247,-999          ,9,-999          ,9
33RR20230722  ,I05        ,119     ,  1,19         ,19         ,2,20230823,0023, -33.9960,  61.1247,     5074,    818.5,2,   8.3397,2,  34.5945,2,  34.5918,2,    209.6,2,    209.5,2,    11.71,2,    21.49,2,     0.00,2,     1.49,2,    2.784,2,    1.708,2,   1.3900,2,   2158.5,2,   2291.7,2,   7.7019,2,    25.02,2,     -999,9,   8.3879,2,     -999,9,     -999,9,     -999,9,     -999,9,     -999,9,   4.9680,1,   0.0120,1,     15.0,2,     -999,9,     -999,9,     -999,9,     -999,9,20230823,0157, -33.9960,  61.1247,-999          ,9,-999          ,9
33RR20230722  ,I05        ,119     ,  1,18         ,18         ,2,20230823,0023, -33.9960,  61.1247,     5074,    937.6,2,   6.4847,2,  34.4387,2,  34.4371,2,    205.2,2,    204.9,2,    19.82,2,    26.24,2,     0.00,2,     1.82,2,    2.601,2,    1.532,2,   1.1400,2,   2178.3,2,   2290.8,2,   7.6523,2,    25.01,2,     -999,9,   6.4962,2,     -999,9,     -999,9,     -999,9,     -999,9,     -999,9,   4.9692,1,   0.0113,1,     16.9,2,     -999,9,     -999,9,     -999,9,     -999,9,20230823,0154, -33.9960,  61.1247,-999          ,9,-999          ,9
33RR20230722  ,I05        ,119     ,  1,17         ,17         ,2,20230823,0023, -33.9960,  61.1247,     5074,   1057.0,2,   5.0987,2,  34.3663,2,  34.3668,2,    204.2,2,    204.1,2,    28.90,2,    29.25,2,     0.00,2,     2.02,2,     -999,9,     -999,9,     -999,9,   2192.8,2,   2293.1,2,   7.6222,2,    25.02,2,     -999,9,   5.0985,2,     -999,9,     -999,9,     -999,9,     -999,9,     -999,9,   4.9701,1,   0.0115,1,     -999,9,     -999,9,     -999,9,     -999,9,     -999,9,20230823,0151, -33.9960,  61.1247,-999          ,9,-999          ,9
33RR20230722  ,I05        ,119     ,  1,16         ,16         ,2,20230823,0023, -33.9960,  61.1247,     5074,   1197.2,2,   4.2575,2,  34.3694,2,  34.3686,2,    196.1,2,    196.4,2,    38.76,2,    31.29,2,     0.00,2,     2.18,2,    1.906,2,    1.077,2,   0.5700,2,   2209.1,2,   2302.8,6,   7.5999,2,    25.01,2,     -999,9,   4.2630,2,     -999,9,     -999,9,     -999,9,     -999,9,     -999,9,   4.9726,1,   0.0115,1,     19.9,2,     -999,9,     -999,9,     -999,9,     -999,9,20230823,0148, -33.9960,  61.1247,-999          ,9,-999          ,9
33RR20230722  ,I05        ,119     ,  1,15         ,15         ,2,20230823,0023, -33.9960,  61.1247,     5074,   1328.5,2,   3.7289,2,  34.4144,2,  34.4155,2,    184.8,2,    184.9,2,    48.72,2,    32.71,2,     0.00,2,     2.27,2,    1.410,2,    0.773,2,   0.2600,2,   2225.3,2,   2310.6,2,   7.5818,6,    25.02,2,     -999,9,   3.7276,2,     -999,9,     -999,9,     -999,9,     -999,9,     -999,9,   4.7940,1,   0.0112,1,     21.7,2,     -999,9,     -999,9,     -999,9,     -999,9,20230823,0144, -33.9959,  61.1247,-999          ,9,-999          ,9
33RR20230722  ,I05        ,119     ,  1,14         ,14         ,2,20230823,0023, -33.9960,  61.1247,     5074,   1482.6,2,   3.2337,2,  34.4957,2,  34.4966,2,    173.3,2,    173.6,2,    61.41,2,    33.56,2,     0.00,2,     2.35,2,    0.771,2,    0.426,2,   0.1900,2,   -999.0,9,     -999,9,     -999,9,     -999,9,     -999,9,   3.2329,2,     -999,9,     -999,9,     -999,9,     -999,9,     -999,9,   4.9718,1,   0.0112,1,     22.2,2,     -999,9,     -999,9,     -999,9,     -999,9,20230823,0141, -33.9960,  61.1247,-999          ,9,-999          ,9
33RR20230722  ,I05        ,119     ,  1,13         ,13         ,2,20230823,0023, -33.9960,  61.1247,     5074,   1636.2,2,   2.9290,2,  34.5702,2,  34.5706,2,    170.7,2,    170.8,2,    69.51,2,    33.35,2,     0.00,2,     2.33,2,     -999,9,     -999,9,     -999,9,   2247.7,6,   2334.9,2,   7.5715,6,    25.00,2,     -999,9,   2.9282,2,     -999,9,     -999,9,     -999,9,     -999,9,     -999,9,   4.9160,1,   0.0112,1,     -999,9,     -999,9,     -999,9,     -999,9,     -999,9,20230823,0137, -33.9960,  61.1247,-999          ,9,-999          ,9
33RR20230722  ,I05        ,119     ,  1,12         ,12         ,2,20230823,0023, -33.9960,  61.1247,     5074,   1785.4,2,   2.7052,2,  34.6285,2,  34.6295,2,    173.5,2,    173.8,2,    74.58,2,    32.69,2,     0.00,2,     2.28,2,    0.245,2,    0.136,2,   0.0800,2,   -999.0,9,     -999,9,     -999,9,     -999,9,     -999,9,   2.7049,2,     -999,9,     -999,9,     -999,9,     -999,9,     -999,9,   4.9742,1,   0.0112,1,     21.1,2,     -999,9,     -999,9,     -999,9,     -999,9,20230823,0133, -33.9960,  61.1247,-999          ,9,-999          ,9
33RR20230722  ,I05        ,119     ,  1,11         ,11         ,2,20230823,0023, -33.9960,  61.1247,     5074,   1975.2,2,   2.4804,2,  34.6783,2,  34.6775,2,    177.4,2,    177.8,2,    82.58,2,    32.05,2,     0.00,2,     2.24,2,    0.127,2,    0.072,2,   0.0500,2,   2255.9,2,   2349.1,2,   7.5945,2,    25.02,2,     -999,9,   2.4801,2,     -999,9,     -999,9,     -999,9,     -999,9,     -999,9,   4.9742,1,   0.0113,1,     20.8,2,     -999,9,     -999,9,     -999,9,     -999,9,20230823,0129, -33.9959,  61.1247,-999          ,9,-999          ,9
33RR20230722  ,I05        ,119     ,  1,10         ,10         ,2,20230823,0023, -33.9960,  61.1247,     5074,   2196.6,2,   2.3028,2,  34.7059,2,  34.7054,2,    179.0,2,    179.1,2,    90.98,2,    31.88,2,     0.00,2,     2.24,2,     -999,9,     -999,9,     -999,9,   2259.7,2,   2357.9,2,   7.6010,2,    25.00,2,     -999,9,   2.3027,2,     -999,9,     -999,9,     -999,9,     -999,9,     -999,9,   4.9746,1,   0.0119,1,     -999,9,     -999,9,     -999,9,     -999,9,     -999,9,20230823,0123, -33.9959,  61.1247,-999          ,9,-999          ,9
33RR20230722  ,I05        ,119     ,  1,9          ,9          ,2,20230823,0023, -33.9960,  61.1247,     5074,   2462.7,2,   2.1171,2,  34.7242,2,  34.7237,2,    179.3,2,    179.3,2,    98.98,2,    31.99,2,     0.00,2,     2.24,2,    0.036,2,    0.021,2,   0.0500,2,   2268.0,2,   2368.0,2,   7.6060,2,    25.02,2,     -999,9,   2.1169,2,     -999,9,     -999,9,     -999,9,     -999,9,     -999,9,   4.9654,1,   0.0112,1,     19.9,2,     -999,9,     -999,9,     -999,9,     -999,9,20230823,0118, -33.9959,  61.1247,-999          ,9,-999          ,9
33RR20230722  ,I05        ,119     ,  1,8          ,8          ,2,20230823,0023, -33.9960,  61.1247,     5074,   2777.1,2,   1.9374,2,  34.7288,2,  34.7282,2,    177.9,2,    178.0,2,   108.64,2,    32.47,2,     0.00,2,     2.29,2,    0.018,2,    0.014,2,   0.0700,2,   -999.0,9,     -999,9,     -999,9,     -999,9,     -999,9,   1.9371,2,     -999,9,     -999,9,     -999,9,     -999,9,     -999,9,   4.9757,1,   0.0111,1,     19.9,2,     -999,9,     -999,9,     -999,9,     -999,9,20230823,0111, -33.9960,  61.1247,-999          ,9,-999          ,9
33RR20230722  ,I05        ,119     ,  1,7          ,7          ,2,20230823,0023, -33.9960,  61.1247,     5074,   3130.7,2,   1.7521,2,  34.7285,2,  34.7278,2,    180.6,2,    180.5,2,   114.60,2,    32.64,2,     0.00,2,     2.29,2,     -999,9,     -999,9,     -999,9,   2278.2,2,   2381.5,2,   7.6068,2,    25.03,2,     -999,9,   1.7521,2,     -999,9,     -999,9,     -999,9,     -999,9,     -999,9,   4.8044,1,   0.0124,1,     -999,9,     -999,9,     -999,9,     -999,9,     -999,9,20230823,0104, -33.9959,  61.1247,-999          ,9,-999          ,9
33RR20230722  ,I05        ,119     ,  1,6          ,6          ,2,20230823,0023, -33.9960,  61.1247,     5074,   3502.5,2,   1.4757,2,  34.7223,2,  34.7217,2,    190.1,2,    189.9,2,   117.92,2,    32.40,2,     0.00,2,     2.26,2,    0.054,2,    0.031,2,   0.0600,2,   -999.0,9,     -999,9,     -999,9,     -999,9,     -999,9,   1.4758,2,     -999,9,     -999,9,     -999,9,     -999,9,     -999,9,   4.8414,1,   0.0124,1,     19.5,2,     -999,9,     -999,9,     -999,9,     -999,9,20230823,0057, -33.9960,  61.1247,-999          ,9,-999          ,9
33RR20230722  ,I05        ,119     ,  1,5          ,5          ,2,20230823,0023, -33.9960,  61.1247,     5074,   3869.3,2,   1.0618,2,  34.7087,2,  34.7077,2,    203.8,2,    204.0,2,   121.04,2,    32.13,2,     0.00,2,     2.25,2,    0.121,2,    0.066,2,   0.0000,2,   2267.1,2,   2367.6,6,   7.6086,2,    25.02,2,     -999,9,   1.0616,2,     -999,9,     -999,9,     -999,9,     -999,9,     -999,9,   4.9769,1,   0.0118,1,     18.5,2,     -999,9,     -999,9,     -999,9,     -999,9,20230823,0049, -33.9960,  61.1247,-999          ,9,-999          ,9
33RR20230722  ,I05        ,119     ,  1,4          ,37         ,2,20230823,0023, -33.9960,  61.1247,     5074,   4338.3,2,   0.6755,2,  34.6912,2,  34.6906,2,    213.5,2,    213.7,2,   128.36,2,    32.31,2,     0.00,2,     2.25,2,    0.178,2,    0.101,2,   0.0500,2,   -999.0,9,     -999,9,     -999,9,     -999,9,     -999,9,   0.6746,2,     -999,9,     -999,9,     -999,9,     -999,9,     -999,9,   4.9334,1,   0.0113,1,     18.2,2,     -999,9,     -999,9,     -999,9,     -999,9,20230823,0040, -33.9960,  61.1247,-999          ,9,-999          ,9
33RR20230722  ,I05        ,119     ,  1,3          ,3          ,2,20230823,0023, -33.9960,  61.1247,     5074,   4616.8,2,   0.5485,2,  34.6842,2,  34.6834,2,    217.2,2,    217.8,2,   131.98,2,    32.33,2,     0.00,2,     2.26,2,    0.252,2,    0.134,2,   0.0200,2,   2261.8,2,   2360.4,2,   7.6050,6,    24.99,2,     -999,9,   0.5486,2,     -999,9,     -999,9,     -999,9,     -999,9,     -999,9,   4.3772,1,   0.0113,1,     17.9,2,     -999,9,     -999,9,     -999,9,     -999,9,20230823,0035, -33.9960,  61.1247,-999          ,9,-999          ,9