BOTTLE,20240422CCHHYDRO
EXPOCODE,SECT_ID,STNNBR,CASTNO,SAMPNO,BTLNBR,BTLNBR_FLAG_W,DATE,TIME,LATITUDE,LONGITUDE,DEPTH,CTDPRS,CTDPRS_FLAG_W,CTDTMP,CTDTMP_FLAG_W,CTDSAL,CTDSAL_FLAG_W,SALNTY,SALNTY_FLAG_W,CTDOXY,CTDOXY_FLAG_W,OXYGEN,OXYGEN_FLAG_W,SILCAT,SILCAT_FLAG_W,NITRAT,NITRAT_FLAG_W,NITRIT,NITRIT_FLAG_W,PHSPHT,PHSPHT_FLAG_W,CFC-11,CFC-11_FLAG_W,CFC-12,CFC-12_FLAG_W,SF6,SF6_FLAG_W,TCARBN,TCARBN_FLAG_W,ALKALI,ALKALI_FLAG_W,PH_TOT,PH_TOT_FLAG_W,PH_TMP,PH_TMP_FLAG_W,DOC,DOC_FLAG_W,REFTMP,REFTMP_FLAG_W,POC,POC_FLAG_W,PON,PON_FLAG_W,POP,POP_FLAG_W,DOP,DOP_FLAG_W,DELO18,DELO18_FLAG_W,CTDFLUOR,CTDFLUOR_FLAG_W,CTDXMISS,CTDXMISS_FLAG_W,N2O,N2O_FLAG_W,D15N_NO3,D15N_NO3_FLAG_W,D15N_NO2+NO3,D15N_NO2+NO3_FLAG_W,D18O_NO2+NO3,D18O_NO2+NO3_FLAG_W,D18O_NO3,D18O_NO3_FLAG_W,BTL_DATE,BTL_TIME,BTL_LAT,BTL_LON,HPLC,HPLC_FLAG_W,DNA,DNA_FLAG_W
,,,,,,,,,,,METERS,DBAR,,ITS-90,,PSS-78,,PSS-78,,UMOL/KG,,UMOL/KG,,UMOL/KG,,UMOL/KG,,UMOL/KG,,UMOL/KG,,PMOL/KG,,PMOL/KG,,FMOL/KG,,UMOL/KG,,UMOL/KG,,,,DEG C,,UMOL/KG,,ITS-90,,UG/KG,,UG/KG,,UG/L,,UMOL/KG,,/MILLE,,VOLTS,,VOLTS,,NMOL/KG,,/MILLE,,/MILLE,,/MILLE,,/MILLE,,,,,,,,,
33RR20230722  ,I05        ,22      ,  1,36         ,36         ,2,20230728,1229, -31.1563, 106.0463,     5153,      7.9,2,  16.1342,2,  35.7589,2,  35.7594,2,    242.3,2,    242.2,2,     1.37,2,     0.21,2,     0.03,2,     0.16,2,    2.371,2,    1.374,2,   2.3400,2,   2089.9,2,   2347.0,2,   7.9526,2,    24.99,2,     -999,1,  16.1326,2,     -999,9,     -999,9,     -999,9,     -999,9,     -999,9,   4.8068,1,   0.0408,1,      7.7,2,     -999,9,     -999,9,     -999,9,     -999,9,20230728,1435, -31.1563, 106.0463,-999          ,9,-999          ,9
33RR20230722  ,I05        ,22      ,  1,35         ,35         ,2,20230728,1229, -31.1563, 106.0463,     5153,     38.4,2,  16.1353,2,  35.7598,2,  35.7594,2,    242.2,2,    242.2,2,     1.76,2,     0.19,2,     0.03,2,     0.15,2,     -999,9,     -999,9,     -999,9,   -999.0,9,     -999,9,     -999,9,     -999,9,     -999,1,  16.1368,2,     -999,9,     -999,9,     -999,9,     -999,9,     -999,9,   4.9753,1,   0.0447,1,     -999,9,     -999,9,     -999,9,     -999,9,     -999,9,20230728,1433, -31.1563, 106.0464,-999          ,9,-999          ,9
33RR20230722  ,I05        ,22      ,  1,34         ,34         ,2,20230728,1229, -31.1563, 106.0463,     5153,     64.7,2,  16.1068,2,  35.7567,2,  35.7531,2,    241.4,2,    241.3,2,     1.37,2,     0.24,2,     0.03,2,     0.16,2,    2.359,2,    1.363,2,   2.3800,2,   -999.0,9,     -999,9,     -999,9,     -999,9,     -999,1,  16.1009,2,     -999,9,     -999,9,     -999,9,     -999,9,     -999,9,   4.9077,1,   0.0435,1,      7.6,2,     -999,9,     -999,9,     -999,9,     -999,9,20230728,1431, -31.1563, 106.0463,-999          ,9,-999          ,9
33RR20230722  ,I05        ,22      ,  1,33         ,33         ,2,20230728,1229, -31.1563, 106.0463,     5153,     87.1,2,  15.6738,2,  35.6605,3,  35.6271,2,    236.0,2,    236.8,2,     1.27,2,     1.35,2,     0.05,2,     0.22,2,     -999,9,     -999,9,     -999,9,   2097.5,2,   2341.2,2,   7.9261,2,    25.00,2,     -999,1,  15.6439,2,     -999,9,     -999,9,     -999,9,     -999,9,     -999,9,   4.9731,1,   0.0227,1,     -999,9,     -999,9,     -999,9,     -999,9,     -999,9,20230728,1429, -31.1563, 106.0463,-999          ,9,-999          ,9
33RR20230722  ,I05        ,22      ,  1,32         ,32         ,2,20230728,1229, -31.1563, 106.0463,     5153,    125.4,2,  13.9874,2,  35.3451,2,  35.3474,2,    233.5,2,    234.6,2,     1.17,2,     3.87,2,     0.02,2,     0.38,2,    2.503,2,    1.531,2,   2.4400,2,   -999.0,9,     -999,9,     -999,9,     -999,9,     -999,1,  13.9859,2,     -999,9,     -999,9,     -999,9,     -999,9,     -999,9,   4.9707,1,   0.0125,1,      9.6,2,     -999,9,     -999,9,     -999,9,     -999,9,20230728,1427, -31.1563, 106.0463,-999          ,9,-999          ,9
33RR20230722  ,I05        ,22      ,  1,31         ,31         ,2,20230728,1229, -31.1563, 106.0463,     5153,    154.6,2,  13.4231,2,  35.2650,2,  35.2666,2,    235.8,2,    236.3,2,     1.66,2,     5.01,2,     0.01,2,     0.48,2,     -999,9,     -999,9,     -999,9,   2111.0,2,   2322.9,2,   7.8649,2,    25.00,2,     -999,1,  13.4209,2,     -999,9,     -999,9,     -999,9,     -999,9,     -999,9,   4.9704,1,   0.0114,1,     -999,9,     -999,9,     -999,9,     -999,9,     -999,9,20230728,1425, -31.1563, 106.0463,-999          ,9,-999          ,9
33RR20230722  ,I05        ,22      ,  1,30         ,30         ,2,20230728,1229, -31.1563, 106.0463,     5153,    176.2,2,  12.7641,2,  35.1529,2,  35.1524,2,    239.1,2,    239.5,2,     1.37,2,     6.00,2,     0.01,2,     0.52,2,     -999,9,     -999,9,     -999,9,   -999.0,9,     -999,9,     -999,9,     -999,9,     -999,1,  12.7671,2,     -999,9,     -999,9,     -999,9,     -999,9,     -999,9,   4.9117,1,   0.0116,1,     -999,9,     -999,9,     -999,9,     -999,9,     -999,9,20230728,1424, -31.1563, 106.0463,-999          ,9,-999          ,9
33RR20230722  ,I05        ,22      ,  1,29         ,29         ,2,20230728,1229, -31.1563, 106.0463,     5153,    199.3,2,  12.4210,2,  35.1037,2,  35.1055,2,    240.7,2,    240.8,2,     1.56,2,     6.78,2,     0.01,2,     0.58,2,     -999,9,     -999,9,     -999,9,   2117.2,2,   2314.4,2,   7.8415,6,    25.01,2,     -999,1,  12.4220,2,     -999,9,     -999,9,     -999,9,     -999,9,     -999,9,   4.9696,1,   0.0116,1,     -999,9,     -999,9,     -999,9,     -999,9,     -999,9,20230728,1423, -31.1563, 106.0464,-999          ,9,-999          ,9
33RR20230722  ,I05        ,22      ,  1,28         ,28         ,2,20230728,1229, -31.1563, 106.0463,     5153,    229.0,2,  11.6885,2,  34.9736,2,  34.9793,2,    243.6,2,    243.9,2,     1.85,2,     8.29,2,     0.01,2,     0.65,2,     -999,9,     -999,9,     -999,9,   -999.0,9,     -999,9,     -999,9,     -999,9,     -999,1,  11.6934,2,     -999,9,     -999,9,     -999,9,     -999,9,     -999,9,   4.9064,1,   0.0115,1,     -999,9,     -999,9,     -999,9,     -999,9,     -999,9,20230728,1421, -31.1563, 106.0463,-999          ,9,-999          ,9
33RR20230722  ,I05        ,22      ,  1,27         ,27         ,2,20230728,1229, -31.1563, 106.0463,     5153,    262.2,2,  11.3496,2,  34.9398,2,  34.9421,2,    244.3,2,    244.4,2,     2.05,2,     9.41,2,     0.00,2,     0.72,2,    2.783,2,    1.727,2,   2.5600,2,   -999.0,9,     -999,9,     -999,9,     -999,9,     -999,1,  11.3488,2,     -999,9,     -999,9,     -999,9,     -999,9,     -999,9,   4.8286,1,   0.0115,1,     10.7,2,     -999,9,     -999,9,     -999,9,     -999,9,20230728,1419, -31.1563, 106.0463,-999          ,9,-999          ,9
33RR20230722  ,I05        ,22      ,  1,26         ,26         ,2,20230728,1229, -31.1563, 106.0463,     5153,    303.7,2,  10.9001,2,  34.8756,2,  34.8792,2,    242.6,2,    241.9,2,     2.73,2,    10.95,2,     0.00,2,     0.83,2,     -999,9,     -999,9,     -999,9,   2125.6,2,   2298.9,2,   7.7955,2,    24.99,2,     -999,1,  10.9117,2,     -999,9,     -999,9,     -999,9,     -999,9,     -999,9,   4.9130,1,   0.0112,1,     -999,9,     -999,9,     -999,9,     -999,9,     -999,9,20230728,1418, -31.1563, 106.0463,-999          ,9,-999          ,9
33RR20230722  ,I05        ,22      ,  1,25         ,25         ,2,20230728,1229, -31.1563, 106.0463,     5153,    355.8,2,  10.3957,2,  34.7923,2,  34.7911,2,    244.8,2,    243.7,2,     3.03,2,    12.40,2,     0.00,2,     0.90,2,     -999,9,     -999,9,     -999,9,   -999.0,9,     -999,9,     -999,9,     -999,9,     -999,1,  10.3906,2,     -999,9,     -999,9,     -999,9,     -999,9,     -999,9,   4.9680,1,   0.0114,1,     -999,9,     -999,9,     -999,9,     -999,9,     -999,9,20230728,1416, -31.1563, 106.0464,-999          ,9,-999          ,9
33RR20230722  ,I05        ,22      ,  1,24         ,24         ,2,20230728,1229, -31.1563, 106.0463,     5153,    418.0,2,  10.0617,2,  34.7592,2,  34.7581,2,    240.9,2,    240.4,2,     3.42,2,    13.80,2,     0.00,2,     0.98,2,     -999,9,     -999,9,     -999,9,   2134.2,2,   2292.1,2,   7.7661,2,    24.99,2,     -999,1,  10.0667,2,     -999,9,     -999,9,     -999,9,     -999,9,     -999,9,   4.9673,1,   0.0115,1,     -999,9,     -999,9,     -999,9,     -999,9,     -999,9,20230728,1414, -31.1563, 106.0463,-999          ,9,-999          ,9
33RR20230722  ,I05        ,22      ,  1,23         ,23         ,2,20230728,1229, -31.1563, 106.0463,     5153,    486.2,2,   9.8277,2,  34.7528,2,  34.7502,2,    236.1,2,    235.7,2,     4.00,2,    15.07,2,     0.00,2,     1.06,2,     -999,9,     -999,9,     -999,9,   -999.0,9,     -999,9,     -999,9,     -999,9,     -999,1,   9.8292,2,     -999,9,     -999,9,     -999,9,     -999,9,     -999,9,   4.9669,1,   0.0114,1,     -999,9,     -999,9,     -999,9,     -999,9,     -999,9,20230728,1411, -31.1563, 106.0463,-999          ,9,-999          ,9
33RR20230722  ,I05        ,22      ,  1,22         ,22         ,2,20230728,1229, -31.1563, 106.0463,     5153,    571.9,2,   9.2823,2,  34.6748,2,  34.6775,2,    237.9,2,    237.9,2,     4.59,2,    16.43,2,     0.00,2,     1.16,2,    3.098,2,    1.907,2,   2.2300,2,   2138.0,2,   2288.8,2,   7.7447,2,    25.00,2,     -999,1,   9.2584,2,     -999,9,     -999,9,     -999,9,     -999,9,     -999,9,   4.9667,1,   0.0114,1,     12.1,2,     -999,9,     -999,9,     -999,9,     -999,9,20230728,1409, -31.1564, 106.0463,-999          ,9,-999          ,9
33RR20230722  ,I05        ,22      ,  1,21         ,21         ,2,20230728,1229, -31.1563, 106.0463,     5153,    717.9,2,   7.9496,2,  34.5272,2,  34.5272,2,    212.6,2,    212.4,2,    11.13,2,    21.90,2,     0.00,2,     1.52,2,     -999,9,     -999,9,     -999,9,   -999.0,9,     -999,9,     -999,9,     -999,9,     -999,1,   7.9397,2,     -999,9,     -999,9,     -999,9,     -999,9,     -999,9,   4.9679,1,   0.0113,1,     -999,9,     -999,9,     -999,9,     -999,9,     -999,9,20230728,1405, -31.1563, 106.0464,-999          ,9,-999          ,9
33RR20230722  ,I05        ,22      ,  1,20         ,20         ,2,20230728,1229, -31.1563, 106.0463,     5153,    834.3,2,   6.0517,2,  34.4000,2,  34.3998,2,    198.1,2,    199.5,2,    22.75,2,    27.16,2,     0.00,2,     1.92,2,    2.285,2,    1.278,2,   0.9000,2,   2180.7,2,   2287.8,2,   7.6367,2,    25.01,2,     -999,1,   6.0640,2,     -999,9,     -999,9,     -999,9,     -999,9,     -999,9,   4.9698,1,   0.0111,1,     17.1,2,     -999,9,     -999,9,     -999,9,     -999,9,20230728,1402, -31.1563, 106.0463,-999          ,9,-999          ,9
33RR20230722  ,I05        ,22      ,  1,19         ,19         ,2,20230728,1229, -31.1563, 106.0463,     5153,    922.3,2,   4.9761,2,  34.3687,2,  34.3686,2,    195.0,2,    196.2,2,    30.95,2,    29.58,2,     0.00,2,     2.05,2,     -999,9,     -999,9,     -999,9,   -999.0,9,     -999,9,     -999,9,     -999,9,     -999,1,   5.0163,2,     -999,9,     -999,9,     -999,9,     -999,9,     -999,9,   4.9705,1,   0.0112,1,     -999,9,     -999,9,     -999,9,     -999,9,     -999,9,20230728,1400, -31.1564, 106.0463,-999          ,9,-999          ,9
33RR20230722  ,I05        ,22      ,  1,18         ,18         ,2,20230728,1229, -31.1563, 106.0463,     5153,   1109.8,2,   3.9399,2,  34.4618,2,  34.4626,2,    162.5,2,    163.0,2,    60.33,2,    33.35,2,     0.00,2,     2.38,2,     -999,9,     -999,9,     -999,9,   -999.0,9,     -999,9,     -999,9,     -999,9,     -999,1,   3.9410,2,     -999,9,     -999,9,     -999,9,     -999,9,     -999,9,   4.9735,1,   0.0117,1,     -999,9,     -999,9,     -999,9,     -999,9,     -999,9,20230728,1356, -31.1563, 106.0463,-999          ,9,-999          ,9
33RR20230722  ,I05        ,22      ,  1,17         ,17         ,2,20230728,1229, -31.1563, 106.0463,     5153,   1271.0,2,   3.5538,2,  34.5326,2,  34.5335,2,    149.9,2,    149.8,2,    75.17,2,    34.34,2,     0.00,2,     2.46,2,     -999,9,     -999,9,     -999,9,   2257.5,2,   2333.8,2,   7.5564,2,    25.01,2,     -999,1,   3.5534,2,     -999,9,     -999,9,     -999,9,     -999,9,     -999,9,   4.9745,1,   0.0122,1,     -999,9,     -999,9,     -999,9,     -999,9,     -999,9,20230728,1352, -31.1563, 106.0464,-999          ,9,-999          ,9
33RR20230722  ,I05        ,22      ,  1,16         ,16         ,2,20230728,1229, -31.1563, 106.0463,     5153,   1347.7,2,   3.3381,2,  34.5469,2,  34.5470,2,    151.7,2,    151.8,2,    75.46,2,    34.34,2,     0.00,2,     2.41,2,    0.267,2,    0.139,2,   0.0100,2,   2256.8,2,   2339.3,6,   7.5581,6,    24.98,2,     -999,1,   3.3391,2,     -999,9,     -999,9,     -999,9,     -999,9,     -999,9,   4.9746,1,   0.0115,1,     22.7,2,     -999,9,     -999,9,     -999,9,     -999,9,20230728,1350, -31.1563, 106.0464,-999          ,9,-999          ,9
33RR20230722  ,I05        ,22      ,  1,15         ,15         ,2,20230728,1229, -31.1563, 106.0463,     5153,   1436.0,2,   3.1745,2,  34.5851,2,  34.5836,2,    149.7,2,    150.0,2,    81.60,2,    34.38,2,     0.00,2,     2.46,2,     -999,9,     -999,9,     -999,9,   2262.7,2,   2344.2,2,   7.5583,6,    25.01,2,     -999,1,   3.1689,2,     -999,9,     -999,9,     -999,9,     -999,9,     -999,9,   4.9748,1,   0.0111,1,     -999,9,     -999,9,     -999,9,     -999,9,     -999,9,20230728,1347, -31.1564, 106.0463,-999          ,9,-999          ,9
33RR20230722  ,I05        ,22      ,  1,14         ,14         ,4,20230728,1229, -31.1563, 106.0463,     5153,   1596.3,3,   2.9000,3,  34.6302,3,     -999,9,    152.1,3,     -999,9,     -999,9,     -999,9,     -999,9,     -999,9,     -999,9,     -999,9,     -999,9,   -999.0,4,     -999,9,     -999,9,     -999,9,     -999,1,   2.9020,3,     -999,9,     -999,9,     -999,9,     -999,9,     -999,9,   4.9752,1,   0.0117,1,     -999,9,     -999,9,     -999,9,     -999,9,     -999,9,20230728,1343, -31.1563, 106.0464,-999          ,9,-999          ,9
33RR20230722  ,I05        ,22      ,  1,13         ,13         ,2,20230728,1229, -31.1563, 106.0463,     5153,   1723.3,2,   2.7384,2,  34.6614,2,  34.6616,2,    153.9,2,    153.5,2,    92.92,2,    33.82,2,     0.00,2,     2.40,2,    0.010,2,    0.022,2,   0.0200,2,   2270.8,2,   2358.9,2,   7.5691,2,    25.01,2,     -999,1,   2.7378,2,     -999,9,     -999,9,     -999,9,     -999,9,     -999,9,   4.9722,1,   0.0111,1,     22.5,2,     -999,9,     -999,9,     -999,9,     -999,9,20230728,1340, -31.1564, 106.0463,-999          ,9,-999          ,9
33RR20230722  ,I05        ,22      ,  1,12         ,12         ,2,20230728,1229, -31.1563, 106.0463,     5153,   1836.1,2,   2.5960,2,  34.6835,2,  34.6834,2,    156.1,2,    155.9,2,    98.29,2,    33.42,2,     0.00,2,     2.38,2,     -999,9,     -999,9,     -999,9,   -999.0,9,     -999,9,     -999,9,     -999,9,     -999,1,   2.5964,2,     -999,9,     -999,9,     -999,9,     -999,9,     -999,9,   4.9753,1,   0.0117,1,     -999,9,     -999,9,     -999,9,     -999,9,     -999,9,20230728,1337, -31.1563, 106.0463,-999          ,9,-999          ,9
33RR20230722  ,I05        ,22      ,  1,11         ,11         ,2,20230728,1229, -31.1563, 106.0463,     5153,   2069.1,2,   2.3420,2,  34.7106,2,  34.7101,2,    160.6,2,    160.4,2,   103.85,2,    33.30,2,     0.00,2,     2.35,2,    0.023,2,    0.006,2,   0.0000,2,   2279.5,2,   2368.0,2,   7.5845,2,    25.00,2,     -999,1,   2.3424,2,     -999,9,     -999,9,     -999,9,     -999,9,     -999,9,   4.9112,1,   0.0110,1,     20.0,2,     -999,9,     -999,9,     -999,9,     -999,9,20230728,1332, -31.1563, 106.0463,-999          ,9,-999          ,9
33RR20230722  ,I05        ,22      ,  1,10         ,10         ,2,20230728,1229, -31.1563, 106.0463,     5153,   2465.6,2,   2.0103,2,  34.7254,2,  34.7252,2,    169.2,2,    169.4,2,   111.07,2,    32.78,2,     0.00,2,     2.30,2,     -999,9,     -999,9,     -999,9,   -999.0,9,     -999,9,     -999,9,     -999,9,     -999,1,   2.0106,2,     -999,9,     -999,9,     -999,9,     -999,9,     -999,9,   4.9040,1,   0.0113,1,     -999,9,     -999,9,     -999,9,     -999,9,     -999,9,20230728,1324, -31.1563, 106.0463,-999          ,9,-999          ,9
33RR20230722  ,I05        ,22      ,  1,9          ,9          ,2,20230728,1229, -31.1563, 106.0463,     5153,   2851.3,2,   1.7532,2,  34.7279,2,  34.7274,2,    177.8,2,    177.6,2,   113.90,2,    32.26,2,     0.00,2,     2.26,2,     -999,9,     -999,9,     -999,9,   -999.0,9,     -999,9,     -999,9,     -999,9,     -999,1,   1.7540,2,     -999,9,     -999,9,     -999,9,     -999,9,     -999,9,   4.9756,1,   0.0111,1,     -999,9,     -999,9,     -999,9,     -999,9,     -999,9,20230728,1317, -31.1563, 106.0463,-999          ,9,-999          ,9
33RR20230722  ,I05        ,22      ,  1,8          ,8          ,2,20230728,1229, -31.1563, 106.0463,     5153,   3108.9,2,   1.5989,2,  34.7275,2,  34.7270,2,    183.8,2,    184.1,2,   115.46,2,    32.04,2,     0.00,2,     2.25,2,    0.031,2,    0.006,2,   0.0000,2,   2276.2,2,   2378.8,2,   7.6110,2,    24.99,2,     -999,1,   1.6010,2,     -999,9,     -999,9,     -999,9,     -999,9,     -999,9,   4.9761,1,   0.0111,1,     18.2,2,     -999,9,     -999,9,     -999,9,     -999,9,20230728,1312, -31.1563, 106.0463,-999          ,9,-999          ,9
33RR20230722  ,I05        ,22      ,  1,7          ,7          ,2,20230728,1229, -31.1563, 106.0463,     5153,   3471.0,2,   1.4114,2,  34.7240,2,  34.7233,2,    189.8,2,    190.1,2,   118.88,2,    31.84,2,     0.00,2,     2.23,2,    0.003,2,    0.010,2,  -0.0100,2,   -999.0,9,     -999,9,     -999,9,     -999,9,     -999,1,   1.4115,2,     -999,9,     -999,9,     -999,9,     -999,9,     -999,9,   4.9761,1,   0.0115,1,     18.1,2,     -999,9,     -999,9,     -999,9,     -999,9,20230728,1305, -31.1563, 106.0463,-999          ,9,-999          ,9
33RR20230722  ,I05        ,22      ,  1,6          ,6          ,2,20230728,1229, -31.1563, 106.0463,     5153,   3918.8,2,   1.2288,2,  34.7179,2,  34.7168,2,    195.6,2,    196.0,2,   122.40,2,    31.71,2,     0.00,2,     2.22,2,    0.027,2,    0.013,2,  -0.0100,2,   -999.0,9,     -999,9,     -999,9,     -999,9,     -999,1,   1.2294,2,     -999,9,     -999,9,     -999,9,     -999,9,     -999,9,   4.9764,1,   0.0121,1,     17.5,2,     -999,9,     -999,9,     -999,9,     -999,9,20230728,1256, -31.1563, 106.0464,-999          ,9,-999          ,9
33RR20230722  ,I05        ,22      ,  1,5          ,5          ,2,20230728,1229, -31.1563, 106.0463,     5153,   4257.7,2,   1.1389,2,  34.7140,2,  34.7138,2,    199.6,2,    199.9,2,   122.79,2,    31.72,2,     0.00,2,     2.21,2,   -0.004,2,    0.021,2,   0.0100,2,   2271.3,2,   2377.9,2,   7.6210,2,    24.99,2,     -999,1,   1.1393,2,     -999,9,     -999,9,     -999,9,     -999,9,     -999,9,   4.9765,1,   0.0111,1,     17.5,2,     -999,9,     -999,9,     -999,9,     -999,9,20230728,1250, -31.1563, 106.0463,-999          ,9,-999          ,9
33RR20230722  ,I05        ,22      ,  1,4          ,37         ,2,20230728,1229, -31.1563, 106.0463,     5153,   4520.5,2,   1.0854,2,  34.7113,2,  34.7105,2,    203.0,2,    203.2,2,   124.15,2,    31.38,2,     0.00,2,     2.22,2,   -0.002,2,    0.035,2,   0.0000,2,   -999.0,9,     -999,9,     -999,9,     -999,9,     -999,1,   1.0861,2,     -999,9,     -999,9,     -999,9,     -999,9,     -999,9,   4.8548,1,   0.0111,1,     17.2,2,     -999,9,     -999,9,     -999,9,     -999,9,20230728,1244, -31.1563, 106.0463,-999          ,9,-999          ,9
33RR20230722  ,I05        ,22      ,  1,3          ,3          ,2,20230728,1229, -31.1563, 106.0463,     5153,   4862.0,2,   1.0675,2,  34.7091,2,  34.7083,2,    204.8,2,    205.1,2,   125.03,2,    31.35,2,     0.00,2,     2.23,2,    0.048,2,    0.048,2,   0.0300,2,   -999.0,9,     -999,9,     -999,9,     -999,9,     -999,1,   1.0676,2,     -999,9,     -999,9,     -999,9,     -999,9,     -999,9,   4.9201,1,   0.0112,1,     17.6,2,     -999,9,     -999,9,     -999,9,     -999,9,20230728,1238, -31.1563, 106.0463,-999          ,9,-999          ,9