BOTTLE,20240422CCHHYDRO
EXPOCODE,SECT_ID,STNNBR,CASTNO,SAMPNO,BTLNBR,BTLNBR_FLAG_W,DATE,TIME,LATITUDE,LONGITUDE,DEPTH,CTDPRS,CTDPRS_FLAG_W,CTDTMP,CTDTMP_FLAG_W,CTDSAL,CTDSAL_FLAG_W,SALNTY,SALNTY_FLAG_W,CTDOXY,CTDOXY_FLAG_W,OXYGEN,OXYGEN_FLAG_W,SILCAT,SILCAT_FLAG_W,NITRAT,NITRAT_FLAG_W,NITRIT,NITRIT_FLAG_W,PHSPHT,PHSPHT_FLAG_W,CFC-11,CFC-11_FLAG_W,CFC-12,CFC-12_FLAG_W,SF6,SF6_FLAG_W,TCARBN,TCARBN_FLAG_W,ALKALI,ALKALI_FLAG_W,PH_TOT,PH_TOT_FLAG_W,PH_TMP,PH_TMP_FLAG_W,DOC,DOC_FLAG_W,REFTMP,REFTMP_FLAG_W,POC,POC_FLAG_W,PON,PON_FLAG_W,POP,POP_FLAG_W,DOP,DOP_FLAG_W,DELO18,DELO18_FLAG_W,CTDFLUOR,CTDFLUOR_FLAG_W,CTDXMISS,CTDXMISS_FLAG_W,N2O,N2O_FLAG_W,D15N_NO3,D15N_NO3_FLAG_W,D15N_NO2+NO3,D15N_NO2+NO3_FLAG_W,D18O_NO2+NO3,D18O_NO2+NO3_FLAG_W,D18O_NO3,D18O_NO3_FLAG_W,BTL_DATE,BTL_TIME,BTL_LAT,BTL_LON,HPLC,HPLC_FLAG_W,DNA,DNA_FLAG_W
,,,,,,,,,,,METERS,DBAR,,ITS-90,,PSS-78,,PSS-78,,UMOL/KG,,UMOL/KG,,UMOL/KG,,UMOL/KG,,UMOL/KG,,UMOL/KG,,PMOL/KG,,PMOL/KG,,FMOL/KG,,UMOL/KG,,UMOL/KG,,,,DEG C,,UMOL/KG,,ITS-90,,UG/KG,,UG/KG,,UG/L,,UMOL/KG,,/MILLE,,VOLTS,,VOLTS,,NMOL/KG,,/MILLE,,/MILLE,,/MILLE,,/MILLE,,,,,,,,,
33RR20230722  ,I05        ,89      ,  2,34         ,34         ,2,20230814,0700, -31.7670,  76.4693,     3102,      4.0,2,  18.7991,2,  35.8043,2,  35.8054,2,    232.9,2,    232.5,2,     1.17,2,     0.09,2,     0.00,2,     0.11,2,    1.922,3,    1.257,2,   2.2100,2,   2076.2,6,   2347.0,2,   7.9866,2,    25.00,2,     -999,1,  18.8034,2,     -999,9,     -999,9,     -999,9,     -999,9,     -999,9,   4.9751,1,   0.0126,1,      7.6,2,     -999,9,     -999,9,     -999,9,     -999,9,20230814,0829, -31.7670,  76.4693,-999          ,9,-999          ,9
33RR20230722  ,I05        ,89      ,  2,33         ,33         ,2,20230814,0700, -31.7670,  76.4693,     3102,     22.1,2,  18.7756,2,  35.8036,2,  35.8038,2,    232.9,2,    232.5,2,     1.17,2,     0.04,2,     0.00,2,     0.12,2,     -999,9,     -999,9,     -999,9,   2079.0,2,   2348.2,2,   7.9855,6,    25.01,2,     -999,9,  18.7763,2,     -999,9,     -999,9,     -999,9,     -999,9,     -999,9,   4.9750,1,   0.0134,1,     -999,9,     -999,9,     -999,9,     -999,9,     -999,9,20230814,0827, -31.7670,  76.4693,-999          ,9,-999          ,9
33RR20230722  ,I05        ,89      ,  2,32         ,32         ,2,20230814,0700, -31.7670,  76.4693,     3102,     39.8,2,  18.7173,2,  35.8043,2,  35.8046,2,    232.8,2,    232.8,2,     1.07,2,     0.02,2,     0.00,2,     0.12,2,    1.909,3,    1.277,2,   2.3200,2,   2075.8,2,   2347.7,2,   7.9836,2,    25.02,2,     -999,9,  18.7169,2,     -999,9,     -999,9,     -999,9,     -999,9,     -999,9,   4.9747,1,   0.0145,1,      7.4,2,     -999,9,     -999,9,     -999,9,     -999,9,20230814,0826, -31.7671,  76.4693,-999          ,9,-999          ,9
33RR20230722  ,I05        ,89      ,  2,31         ,31         ,2,20230814,0700, -31.7670,  76.4693,     3102,     60.1,2,  18.5686,2,  35.8049,2,  35.8044,2,    233.2,2,    233.5,2,     1.07,2,     0.01,2,     0.00,2,     0.13,2,     -999,9,     -999,9,     -999,9,   -999.0,9,     -999,9,     -999,9,     -999,9,     -999,9,  18.5673,2,     -999,9,     -999,9,     -999,9,     -999,9,     -999,9,   4.9452,1,   0.0177,1,     -999,9,     -999,9,     -999,9,     -999,9,     -999,9,20230814,0824, -31.7671,  76.4693,-999          ,9,-999          ,9
33RR20230722  ,I05        ,89      ,  2,30         ,30         ,2,20230814,0700, -31.7670,  76.4693,     3102,     82.4,2,  18.5252,2,  35.8211,2,  35.8202,2,    233.6,2,    233.3,2,     1.17,2,     0.00,2,     0.00,2,     0.11,2,    1.816,3,    1.269,2,   2.2800,2,   2084.5,2,   2349.9,2,   7.9787,2,    25.02,2,     -999,9,  18.5238,2,     -999,9,     -999,9,     -999,9,     -999,9,     -999,9,   4.9744,1,   0.0173,1,      7.6,2,     -999,9,     -999,9,     -999,9,     -999,9,20230814,0822, -31.7671,  76.4693,-999          ,9,-999          ,9
33RR20230722  ,I05        ,89      ,  2,29         ,29         ,2,20230814,0700, -31.7670,  76.4693,     3102,    108.7,2,  18.5090,2,  35.8365,2,  35.8372,2,    232.6,2,    232.9,2,     1.17,2,     0.00,2,     0.00,2,     0.12,2,     -999,9,     -999,9,     -999,9,   -999.0,9,     -999,9,     -999,9,     -999,9,     -999,9,  18.5127,2,     -999,9,     -999,9,     -999,9,     -999,9,     -999,9,   4.9741,1,   0.0186,1,     -999,9,     -999,9,     -999,9,     -999,9,     -999,9,20230814,0820, -31.7671,  76.4693,-999          ,9,-999          ,9
33RR20230722  ,I05        ,89      ,  2,28         ,28         ,2,20230814,0700, -31.7670,  76.4693,     3102,    140.7,2,  15.9640,2,  35.6104,2,  35.6149,2,    233.1,2,    234.1,2,     0.98,2,     0.64,2,     0.20,2,     0.25,2,    2.340,3,    1.440,2,   2.2800,2,   2108.8,2,   2340.5,2,   7.9159,2,    25.00,2,     -999,9,  15.9803,2,     -999,9,     -999,9,     -999,9,     -999,9,     -999,9,   4.9719,1,   0.0214,1,      8.7,2,     -999,9,     -999,9,     -999,9,     -999,9,20230814,0819, -31.7671,  76.4693,-999          ,9,-999          ,9
33RR20230722  ,I05        ,89      ,  2,27         ,27         ,2,20230814,0700, -31.7670,  76.4693,     3102,    172.6,2,  15.2597,2,  35.5724,2,  35.5774,2,    226.9,2,    228.5,2,     1.07,2,     2.38,2,     0.01,2,     0.33,2,     -999,9,     -999,9,     -999,9,   -999.0,9,     -999,9,     -999,9,     -999,9,     -999,9,  15.2558,2,     -999,9,     -999,9,     -999,9,     -999,9,     -999,9,   4.8899,1,   0.0125,1,     -999,9,     -999,9,     -999,9,     -999,9,     -999,9,20230814,0817, -31.7671,  76.4693,-999          ,9,-999          ,9
33RR20230722  ,I05        ,89      ,  2,26         ,26         ,2,20230814,0700, -31.7670,  76.4693,     3102,    205.9,2,  14.6329,2,  35.4835,2,  35.4857,2,    230.7,2,    231.9,2,     1.17,2,     3.35,2,     0.01,2,     0.39,2,    2.459,3,    1.529,2,   2.4500,2,   2121.7,2,   2335.1,2,   7.8825,2,    24.98,2,     -999,9,  14.6305,2,     -999,9,     -999,9,     -999,9,     -999,9,     -999,9,   4.9696,1,   0.0115,1,      9.3,2,     -999,9,     -999,9,     -999,9,     -999,9,20230814,0816, -31.7671,  76.4693,-999          ,9,-999          ,9
33RR20230722  ,I05        ,89      ,  2,25         ,25         ,2,20230814,0700, -31.7670,  76.4693,     3102,    240.2,2,  13.7649,2,  35.3173,2,  35.3263,2,    231.8,2,    232.7,2,     1.56,2,     5.11,2,     0.01,2,     0.50,2,     -999,9,     -999,9,     -999,9,   -999.0,9,     -999,9,     -999,9,     -999,9,     -999,9,  13.7850,2,     -999,9,     -999,9,     -999,9,     -999,9,     -999,9,   4.9693,1,   0.0120,1,     -999,9,     -999,9,     -999,9,     -999,9,     -999,9,20230814,0814, -31.7671,  76.4693,-999          ,9,-999          ,9
33RR20230722  ,I05        ,89      ,  2,24         ,24         ,2,20230814,0700, -31.7670,  76.4693,     3102,    280.2,2,  13.0463,2,  35.1999,2,  35.2016,2,    232.5,2,    232.8,2,     2.24,2,     7.30,2,     0.00,2,     0.61,2,    2.704,3,    1.627,2,   2.4700,2,   2125.9,2,   2316.8,2,   7.8373,2,    25.00,2,     -999,9,  13.0460,2,     -999,9,     -999,9,     -999,9,     -999,9,     -999,9,   4.7817,1,   0.0113,1,     10.6,2,     -999,9,     -999,9,     -999,9,     -999,9,20230814,0812, -31.7671,  76.4693,-999          ,9,-999          ,9
33RR20230722  ,I05        ,89      ,  2,23         ,23         ,2,20230814,0700, -31.7670,  76.4693,     3102,    339.9,2,  12.4707,2,  35.1185,2,  35.1195,2,    235.6,2,    235.7,2,     2.44,2,     8.54,2,     0.00,2,     0.68,2,     -999,9,     -999,9,     -999,9,   -999.0,9,     -999,9,     -999,9,     -999,9,     -999,9,  12.4575,2,     -999,9,     -999,9,     -999,9,     -999,9,     -999,9,   4.9240,1,   0.0116,1,     -999,9,     -999,9,     -999,9,     -999,9,     -999,9,20230814,0810, -31.7671,  76.4693,-999          ,9,-999          ,9
33RR20230722  ,I05        ,89      ,  2,22         ,22         ,2,20230814,0700, -31.7670,  76.4693,     3102,    407.0,2,  11.9713,2,  35.0412,2,  35.0425,2,    239.5,2,    238.8,2,     2.93,2,     9.79,2,     0.00,2,     0.77,2,    2.761,2,    1.739,2,   2.5100,2,   2127.1,2,   2307.5,2,   7.8157,6,    25.01,2,     -999,9,  11.9708,2,     -999,9,     -999,9,     -999,9,     -999,9,     -999,9,   4.9680,1,   0.0116,1,     11.4,2,     -999,9,     -999,9,     -999,9,     -999,9,20230814,0808, -31.7671,  76.4693,-999          ,9,-999          ,9
33RR20230722  ,I05        ,89      ,  2,21         ,21         ,2,20230814,0700, -31.7670,  76.4693,     3102,    465.8,2,  11.5332,2,  34.9748,2,  34.9764,2,    237.8,2,    237.2,2,     2.93,2,    10.79,2,     0.00,2,     0.83,2,     -999,9,     -999,9,     -999,9,   2132.4,2,   2303.7,2,   7.8041,2,    25.02,2,     -999,9,  11.5324,2,     -999,9,     -999,9,     -999,9,     -999,9,     -999,9,   4.9676,1,   0.0113,1,     -999,9,     -999,9,     -999,9,     -999,9,     -999,9,20230814,0806, -31.7671,  76.4693,-999          ,9,-999          ,9
33RR20230722  ,I05        ,89      ,  2,20         ,20         ,2,20230814,0700, -31.7670,  76.4693,     3102,    531.4,2,  11.0945,2,  34.9122,2,  34.9136,2,    237.0,2,    236.4,2,     3.32,2,    12.17,2,     0.00,2,     0.91,2,    2.613,2,    1.788,2,   2.3000,2,   2137.3,2,   2300.8,2,   7.7923,2,    25.01,2,     -999,9,  11.0952,2,     -999,9,     -999,9,     -999,9,     -999,9,     -999,9,   4.9672,1,   0.0115,1,     11.3,2,     -999,9,     -999,9,     -999,9,     -999,9,20230814,0803, -31.7671,  76.4693,-999          ,9,-999          ,9
33RR20230722  ,I05        ,89      ,  2,19         ,19         ,2,20230814,0700, -31.7670,  76.4693,     3102,    610.5,2,  10.5694,2,  34.8385,2,  34.8395,2,    236.7,2,    236.3,2,     3.61,2,    13.43,2,     0.00,2,     0.98,2,     -999,9,     -999,9,     -999,9,   2140.2,2,   2297.5,6,   7.7791,2,    25.00,2,     -999,9,  10.5643,2,     -999,9,     -999,9,     -999,9,     -999,9,     -999,9,   4.7486,1,   0.0112,1,     -999,9,     -999,9,     -999,9,     -999,9,     -999,9,20230814,0801, -31.7671,  76.4693,-999          ,9,-999          ,9
33RR20230722  ,I05        ,89      ,  2,18         ,18         ,2,20230814,0700, -31.7670,  76.4693,     3102,    701.7,2,   9.9696,2,  34.7576,2,  34.7589,2,    231.6,2,    231.8,2,     4.49,2,    15.49,2,     0.00,2,     1.12,2,    3.038,2,    1.891,2,   2.1000,2,   -999.0,9,     -999,9,     -999,9,     -999,9,     -999,9,   9.9625,2,     -999,9,     -999,9,     -999,9,     -999,9,     -999,9,   4.9666,1,   0.0115,1,     12.3,2,     -999,9,     -999,9,     -999,9,     -999,9,20230814,0759, -31.7671,  76.4693,-999          ,9,-999          ,9
33RR20230722  ,I05        ,89      ,  2,17         ,17         ,2,20230814,0700, -31.7670,  76.4693,     3102,    802.1,2,   8.9760,2,  34.6341,2,  34.6368,2,    222.5,2,    223.0,2,     6.73,2,    18.89,2,     0.00,2,     1.33,2,    3.135,2,    1.861,2,   1.7100,2,   2150.5,2,   2288.8,2,   7.7296,2,    25.01,2,     -999,9,   8.9730,2,     -999,9,     -999,9,     -999,9,     -999,9,     -999,9,   4.9670,1,   0.0114,1,     13.4,2,     -999,9,     -999,9,     -999,9,     -999,9,20230814,0756, -31.7671,  76.4693,-999          ,9,-999          ,9
33RR20230722  ,I05        ,89      ,  2,16         ,16         ,2,20230814,0700, -31.7670,  76.4693,     3102,    902.1,2,   7.8661,2,  34.5333,2,  34.5355,2,    206.8,2,    207.4,2,    12.10,2,    23.02,2,     0.00,2,     1.59,2,    2.619,2,    1.642,2,   1.2800,2,   2164.7,2,   2288.2,2,   7.6887,6,    25.00,2,     -999,9,   7.8633,2,     -999,9,     -999,9,     -999,9,     -999,9,     -999,9,   4.9263,1,   0.0112,1,     15.5,2,     -999,9,     -999,9,     -999,9,     -999,9,20230814,0753, -31.7670,  76.4693,-999          ,9,-999          ,9
33RR20230722  ,I05        ,89      ,  2,15         ,15         ,2,20230814,0700, -31.7670,  76.4693,     3102,    991.8,2,   6.3380,2,  34.4244,2,  34.4263,2,    199.8,2,    200.2,2,    20.50,2,    27.17,2,     0.00,2,     1.87,2,     -999,9,     -999,9,     -999,9,   2183.7,2,   2290.8,2,   7.6467,2,    25.02,2,     -999,9,   6.3371,2,     -999,9,     -999,9,     -999,9,     -999,9,     -999,9,   4.9224,1,   0.0113,1,     -999,9,     -999,9,     -999,9,     -999,9,     -999,9,20230814,0751, -31.7671,  76.4693,-999          ,9,-999          ,9
33RR20230722  ,I05        ,89      ,  2,14         ,14         ,2,20230814,0700, -31.7670,  76.4693,     3102,   1086.6,2,   5.1584,2,  34.3809,2,  34.3831,2,    193.4,2,    194.1,2,    30.56,2,    30.08,2,     0.00,2,     2.08,2,    2.016,2,    1.111,2,   0.6100,2,   2198.4,2,   2294.8,2,   7.6180,2,    25.01,2,     -999,9,   5.1556,2,     -999,9,     -999,9,     -999,9,     -999,9,     -999,9,   4.6967,1,   0.0111,1,     18.9,2,     -999,9,     -999,9,     -999,9,     -999,9,20230814,0748, -31.7671,  76.4693,-999          ,9,-999          ,9
33RR20230722  ,I05        ,89      ,  2,13         ,13         ,2,20230814,0700, -31.7670,  76.4693,     3102,   1206.9,2,   4.2526,2,  34.3971,2,  34.3986,2,    183.4,2,    183.4,2,    43.93,2,    32.33,2,     0.00,2,     2.26,2,    1.381,2,    0.783,2,   0.3700,2,   2221.3,2,   2307.2,2,   7.5933,2,    25.01,2,     -999,9,   4.2573,2,     -999,9,     -999,9,     -999,9,     -999,9,     -999,9,   4.8699,1,   0.0112,1,     20.4,2,     -999,9,     -999,9,     -999,9,     -999,9,20230814,0745, -31.7671,  76.4694,-999          ,9,-999          ,9
33RR20230722  ,I05        ,89      ,  2,12         ,12         ,2,20230814,0700, -31.7670,  76.4693,     3102,   1323.8,2,   3.7407,2,  34.4503,2,  34.4524,2,    170.6,2,    170.3,2,    56.72,2,    33.72,2,     0.00,2,     2.35,2,    0.960,2,    0.490,2,   0.2800,2,   2236.9,2,   2319.7,2,   7.5741,2,    25.01,2,     -999,9,   3.7409,2,     -999,9,     -999,9,     -999,9,     -999,9,     -999,9,   4.8915,1,   0.0111,1,     21.9,2,     -999,9,     -999,9,     -999,9,     -999,9,20230814,0742, -31.7670,  76.4694,-999          ,9,-999          ,9
33RR20230722  ,I05        ,89      ,  2,11         ,11         ,2,20230814,0700, -31.7670,  76.4693,     3102,   1432.5,2,   3.3760,2,  34.5046,2,  34.5040,2,    163.6,2,    163.8,2,    65.30,2,    34.27,2,     0.00,2,     2.41,2,    0.591,2,    0.304,6,   0.1100,6,   2252.0,2,   2329.5,2,   7.5660,2,    25.02,2,     -999,9,   3.3797,2,     -999,9,     -999,9,     -999,9,     -999,9,     -999,9,   4.9738,1,   0.0112,1,     22.7,6,     -999,9,     -999,9,     -999,9,     -999,9,20230814,0739, -31.7671,  76.4694,-999          ,9,-999          ,9
33RR20230722  ,I05        ,89      ,  2,10         ,10         ,2,20230814,0700, -31.7670,  76.4693,     3102,   1548.2,2,   3.1494,2,  34.5607,2,  34.5596,2,    158.8,2,    158.5,2,    73.60,2,    34.45,2,     0.00,2,     2.42,2,     -999,9,     -999,9,     -999,9,   2258.1,2,   2338.3,2,   7.5635,2,    25.00,2,     -999,9,   3.1554,2,     -999,9,     -999,9,     -999,9,     -999,9,     -999,9,   4.8569,1,   0.0112,1,     -999,9,     -999,9,     -999,9,     -999,9,     -999,9,20230814,0736, -31.7670,  76.4694,-999          ,9,-999          ,9
33RR20230722  ,I05        ,89      ,  2,9          ,9          ,2,20230814,0700, -31.7670,  76.4693,     3102,   1666.7,2,   2.9681,2,  34.6015,2,  34.6034,2,    159.2,2,    159.2,2,    78.18,2,    34.14,2,     0.00,2,     2.38,2,    0.243,2,    0.121,2,   0.0400,2,   2265.2,2,   2344.5,2,   7.5670,2,    25.00,2,     -999,9,   2.9681,2,     -999,9,     -999,9,     -999,9,     -999,9,     -999,9,   4.9752,1,   0.0112,1,     22.8,2,     -999,9,     -999,9,     -999,9,     -999,9,20230814,0733, -31.7671,  76.4693,-999          ,9,-999          ,9
33RR20230722  ,I05        ,89      ,  2,8          ,8          ,2,20230814,0700, -31.7670,  76.4693,     3102,   1799.5,2,   2.7248,2,  34.6423,2,  34.6435,2,    166.0,2,    166.1,2,    79.65,2,    33.32,2,     0.00,2,     2.33,2,    0.179,2,    0.096,2,   0.0600,2,   2261.7,2,   2345.4,2,   7.5752,6,    25.01,2,     -999,9,   2.7241,2,     -999,9,     -999,9,     -999,9,     -999,9,     -999,9,   4.9743,1,   0.0111,1,     22.1,2,     -999,9,     -999,9,     -999,9,     -999,9,20230814,0730, -31.7671,  76.4693,-999          ,9,-999          ,9
33RR20230722  ,I05        ,89      ,  2,7          ,7          ,2,20230814,0700, -31.7670,  76.4693,     3102,   1972.9,2,   2.4430,2,  34.6937,2,  34.6952,2,    178.4,2,    178.8,2,    80.03,2,    31.88,2,     0.00,2,     2.24,2,    0.148,2,    0.078,2,   0.0500,2,   2256.6,2,   2345.5,6,   7.5936,2,    25.00,2,     -999,9,   2.4439,2,     -999,9,     -999,9,     -999,9,     -999,9,     -999,9,   4.9741,1,   0.0111,1,     20.5,2,     -999,9,     -999,9,     -999,9,     -999,9,20230814,0726, -31.7670,  76.4693,-999          ,9,-999          ,9
33RR20230722  ,I05        ,89      ,  2,6          ,6          ,2,20230814,0700, -31.7670,  76.4693,     3102,   2203.0,2,   2.2049,2,  34.7230,2,  34.7239,2,    185.1,2,    185.4,2,    85.89,2,    31.26,2,     0.00,2,     2.18,2,    0.099,2,    0.053,2,  -0.0200,2,   -999.0,9,     -999,9,     -999,9,     -999,9,     -999,9,   2.2063,2,     -999,9,     -999,9,     -999,9,     -999,9,     -999,9,   4.9740,1,   0.0112,1,     19.9,2,     -999,9,     -999,9,     -999,9,     -999,9,20230814,0721, -31.7671,  76.4693,-999          ,9,-999          ,9
33RR20230722  ,I05        ,89      ,  2,5          ,5          ,2,20230814,0700, -31.7670,  76.4693,     3102,   2436.6,2,   1.9124,2,  34.7270,2,  34.7280,2,    184.4,2,    184.5,2,   100.92,2,    31.90,2,     0.00,2,     2.22,2,     -999,9,     -999,9,     -999,9,   2267.5,2,   2365.3,2,   7.6098,6,    24.99,2,     -999,9,   1.9127,2,     -999,9,     -999,9,     -999,9,     -999,9,     -999,9,   4.9752,1,   0.0111,1,     -999,9,     -999,9,     -999,9,     -999,9,     -999,9,20230814,0716, -31.7671,  76.4693,-999          ,9,-999          ,9
33RR20230722  ,I05        ,89      ,  2,4          ,37         ,2,20230814,0700, -31.7670,  76.4693,     3102,   2582.6,2,   1.8317,2,  34.7251,2,  34.7266,2,    183.1,2,    183.2,2,   106.28,2,    32.20,2,     0.00,2,     2.25,2,    0.047,2,    0.026,2,   0.0100,2,   2271.2,2,   2371.8,2,   7.6093,2,    25.00,2,     -999,9,   1.8312,2,     -999,9,     -999,9,     -999,9,     -999,9,     -999,9,   4.9745,1,   0.0111,1,     19.6,2,     -999,9,     -999,9,     -999,9,     -999,9,20230814,0712, -31.7671,  76.4693,-999          ,9,-999          ,9
33RR20230722  ,I05        ,89      ,  2,3          ,3          ,2,20230814,0700, -31.7670,  76.4693,     3102,   2743.0,2,   1.7619,2,  34.7233,2,  34.7252,2,    182.8,2,    182.9,2,   109.90,2,    32.38,2,     0.00,2,     2.26,2,    0.036,2,    0.021,2,  -0.0200,2,   2274.0,2,   2374.4,2,   7.6092,2,    24.99,2,     -999,9,   1.7621,2,     -999,9,     -999,9,     -999,9,     -999,9,     -999,9,   4.8339,1,   0.0112,1,     19.8,2,     -999,9,     -999,9,     -999,9,     -999,9,20230814,0708, -31.7671,  76.4693,-999          ,9,-999          ,9
33RR20230722  ,I05        ,89      ,  2,2          ,2          ,2,20230814,0700, -31.7670,  76.4693,     3102,   2960.2,2,   1.6584,2,  34.7204,3,  34.7225,2,    182.2,2,    182.4,2,   115.85,2,    32.79,2,     0.00,2,     2.31,2,    0.052,2,    0.031,2,  -0.0400,2,   2278.9,2,   2376.1,2,   7.6089,2,    25.01,2,     -999,9,   1.6578,2,     -999,9,     -999,9,     -999,9,     -999,9,     -999,9,   4.9747,1,   0.0119,1,     19.6,2,     -999,9,     -999,9,     -999,9,     -999,9,20230814,0704, -31.7671,  76.4694,-999          ,9,-999          ,9
33RR20230722  ,I05        ,89      ,  2,1          ,1          ,2,20230814,0700, -31.7670,  76.4693,     3102,   3134.2,2,   1.6571,2,  34.7199,3,  34.7229,2,    182.4,2,    182.3,2,   116.63,2,    32.82,2,     0.00,2,     2.31,2,    0.039,2,    0.025,2,   0.0800,2,   2281.2,6,   2379.1,2,   7.6081,2,    25.00,2,     -999,9,   1.6566,2,     -999,9,     -999,9,     -999,9,     -999,9,     -999,9,   0.6377,1,   0.0120,1,     19.5,2,     -999,9,     -999,9,     -999,9,     -999,9,20230814,0700, -31.7671,  76.4693,-999          ,9,-999          ,9