BOTTLE,20240422CCHHYDRO
EXPOCODE,SECT_ID,STNNBR,CASTNO,SAMPNO,BTLNBR,BTLNBR_FLAG_W,DATE,TIME,LATITUDE,LONGITUDE,DEPTH,CTDPRS,CTDPRS_FLAG_W,CTDTMP,CTDTMP_FLAG_W,CTDSAL,CTDSAL_FLAG_W,SALNTY,SALNTY_FLAG_W,CTDOXY,CTDOXY_FLAG_W,OXYGEN,OXYGEN_FLAG_W,SILCAT,SILCAT_FLAG_W,NITRAT,NITRAT_FLAG_W,NITRIT,NITRIT_FLAG_W,PHSPHT,PHSPHT_FLAG_W,CFC-11,CFC-11_FLAG_W,CFC-12,CFC-12_FLAG_W,SF6,SF6_FLAG_W,TCARBN,TCARBN_FLAG_W,ALKALI,ALKALI_FLAG_W,PH_TOT,PH_TOT_FLAG_W,PH_TMP,PH_TMP_FLAG_W,DOC,DOC_FLAG_W,REFTMP,REFTMP_FLAG_W,POC,POC_FLAG_W,PON,PON_FLAG_W,POP,POP_FLAG_W,DOP,DOP_FLAG_W,DELO18,DELO18_FLAG_W,CTDFLUOR,CTDFLUOR_FLAG_W,CTDXMISS,CTDXMISS_FLAG_W,N2O,N2O_FLAG_W,D15N_NO3,D15N_NO3_FLAG_W,D15N_NO2+NO3,D15N_NO2+NO3_FLAG_W,D18O_NO2+NO3,D18O_NO2+NO3_FLAG_W,D18O_NO3,D18O_NO3_FLAG_W,BTL_DATE,BTL_TIME,BTL_LAT,BTL_LON,HPLC,HPLC_FLAG_W,DNA,DNA_FLAG_W
,,,,,,,,,,,METERS,DBAR,,ITS-90,,PSS-78,,PSS-78,,UMOL/KG,,UMOL/KG,,UMOL/KG,,UMOL/KG,,UMOL/KG,,UMOL/KG,,PMOL/KG,,PMOL/KG,,FMOL/KG,,UMOL/KG,,UMOL/KG,,,,DEG C,,UMOL/KG,,ITS-90,,UG/KG,,UG/KG,,UG/L,,UMOL/KG,,/MILLE,,VOLTS,,VOLTS,,NMOL/KG,,/MILLE,,/MILLE,,/MILLE,,/MILLE,,,,,,,,,
33RR20230722  ,I05        ,32      ,  1,36         ,36         ,2,20230730,2225, -32.0028, 102.4314,     5130,     17.9,2,  17.0776,2,  35.8433,2,  35.8437,2,    236.9,2,    236.3,2,     1.46,2,     0.08,2,     0.02,2,     0.12,2,    2.305,2,    1.314,2,   2.2500,2,   2090.8,2,   2350.8,2,   7.9638,2,    24.99,2,     -999,1,  17.0772,2,     -999,9,     -999,9,     -999,9,     -999,9,     -999,1,   4.9748,1,   0.0286,1,      8.0,2,     -999,1,     -999,1,     -999,1,     -999,1,20230731,0028, -32.0028, 102.4314,-999          ,9,-999          ,9
33RR20230722  ,I05        ,32      ,  1,35         ,35         ,2,20230730,2225, -32.0028, 102.4314,     5130,     34.5,2,  17.0755,2,  35.8434,2,  35.8433,2,    237.0,2,    236.6,2,     1.46,2,     0.04,2,     0.02,2,     0.12,2,     -999,9,     -999,9,     -999,9,   -999.0,9,     -999,9,     -999,9,     -999,9,     -999,1,  17.0806,2,     -999,9,     -999,9,     -999,9,     -999,9,     -999,1,   4.9748,1,   0.0293,1,     -999,9,     -999,1,     -999,1,     -999,1,     -999,1,20230731,0026, -32.0028, 102.4314,-999          ,9,-999          ,9
33RR20230722  ,I05        ,32      ,  1,34         ,34         ,2,20230730,2225, -32.0028, 102.4314,     5130,     69.0,2,  17.0892,2,  35.8433,2,  35.8554,2,    236.9,2,    236.5,2,     1.37,2,     0.02,2,     0.02,2,     0.10,2,     -999,9,     -999,9,     -999,9,   -999.0,9,     -999,9,     -999,9,     -999,9,     -999,1,  17.0876,2,     -999,9,     -999,9,     -999,9,     -999,9,     -999,1,   4.9745,1,   0.0312,1,     -999,9,     -999,1,     -999,1,     -999,1,     -999,1,20230731,0024, -32.0028, 102.4314,-999          ,9,-999          ,9
33RR20230722  ,I05        ,32      ,  1,33         ,33         ,2,20230730,2225, -32.0028, 102.4314,     5130,     95.9,2,  17.0919,2,  35.8432,2,  35.8431,2,    236.7,2,    236.3,2,     1.46,2,     0.02,2,     0.02,2,     0.10,2,    2.310,2,    1.320,2,   2.2400,2,   2094.1,2,   2353.1,2,   7.9640,2,    24.99,2,     -999,1,  17.0894,2,     -999,9,     -999,9,     -999,9,     -999,9,     -999,1,   4.9743,1,   0.0312,1,      8.1,2,     -999,1,     -999,1,     -999,1,     -999,1,20230731,0022, -32.0028, 102.4314,-999          ,9,-999          ,9
33RR20230722  ,I05        ,32      ,  1,32         ,32         ,2,20230730,2225, -32.0028, 102.4314,     5130,    125.5,2,  17.0945,2,  35.8431,2,  35.8665,3,    236.7,2,    236.4,2,     1.56,2,     0.00,2,     0.02,2,     0.11,2,     -999,9,     -999,9,     -999,9,   -999.0,9,     -999,9,     -999,9,     -999,9,     -999,1,  17.0939,2,     -999,9,     -999,9,     -999,9,     -999,1,     -999,1,   4.9740,1,   0.0315,1,     -999,9,     -999,1,     -999,1,     -999,1,     -999,1,20230731,0021, -32.0028, 102.4314,-999          ,9,-999          ,9
33RR20230722  ,I05        ,32      ,  1,31         ,31         ,2,20230730,2225, -32.0028, 102.4314,     5130,    155.8,2,  17.0932,2,  35.8420,2,  35.8416,2,    236.3,2,    236.3,2,     1.37,2,     0.00,2,     0.02,2,     0.10,2,     -999,9,     -999,9,     -999,9,   2089.4,2,   2351.3,2,   7.9636,2,    24.98,2,     -999,1,  17.0861,2,     -999,9,     -999,9,     -999,9,     -999,9,     -999,1,   4.9715,1,   0.0315,1,     -999,9,     -999,1,     -999,1,     -999,1,     -999,1,20230731,0019, -32.0028, 102.4314,-999          ,9,-999          ,9
33RR20230722  ,I05        ,32      ,  1,30         ,30         ,2,20230730,2225, -32.0028, 102.4314,     5130,    175.9,2,  17.0458,2,  35.8340,2,  35.8319,2,    235.8,2,    235.8,2,     1.66,2,     0.03,2,     0.04,2,     0.12,2,     -999,9,     -999,9,     -999,9,   -999.0,9,     -999,9,     -999,9,     -999,9,     -999,1,  17.0463,2,     -999,9,     -999,9,     -999,9,     -999,9,     -999,1,   4.9548,1,   0.0246,1,     -999,9,     -999,1,     -999,1,     -999,1,     -999,1,20230731,0018, -32.0028, 102.4314,-999          ,9,-999          ,9
33RR20230722  ,I05        ,32      ,  1,29         ,29         ,2,20230730,2225, -32.0028, 102.4314,     5130,    194.5,2,  16.3558,2,  35.7527,2,  35.7521,2,    236.6,2,    236.6,2,     1.27,2,     0.08,2,     0.20,2,     0.14,2,     -999,9,     -999,9,     -999,9,   2096.5,2,   2347.8,2,   7.9482,2,    25.00,2,     -999,1,  16.3549,2,     -999,9,     -999,9,     -999,9,     -999,9,     -999,1,   4.9728,1,   0.0128,1,     -999,9,     -999,1,     -999,1,     -999,1,     -999,1,20230731,0016, -32.0028, 102.4314,-999          ,9,-999          ,9
33RR20230722  ,I05        ,32      ,  1,28         ,28         ,2,20230730,2225, -32.0028, 102.4314,     5130,    234.2,2,  15.2745,2,  35.5873,2,  35.5778,2,    230.8,2,    232.0,2,     1.27,2,     2.42,2,     0.06,2,     0.28,2,    2.365,2,    1.466,2,   2.4800,2,   -999.0,9,     -999,9,     -999,9,     -999,9,     -999,1,  15.2931,2,     -999,9,     -999,9,     -999,9,     -999,1,     -999,1,   4.9573,1,   0.0122,1,      9.2,2,     -999,1,     -999,1,     -999,1,     -999,1,20230731,0015, -32.0028, 102.4314,-999          ,9,-999          ,9
33RR20230722  ,I05        ,32      ,  1,27         ,27         ,2,20230730,2225, -32.0028, 102.4314,     5130,    279.8,2,  13.8782,2,  35.3780,2,  35.3798,2,    231.9,2,    232.7,2,     1.46,2,     4.72,2,     0.01,2,     0.43,2,     -999,9,     -999,9,     -999,9,   2117.2,2,   2325.1,2,   7.8699,2,    25.00,2,     -999,1,  13.8737,2,     -999,9,     -999,9,     -999,9,     -999,9,     -999,1,   4.9695,1,   0.0120,1,     -999,9,     -999,1,     -999,1,     -999,1,     -999,1,20230731,0013, -32.0028, 102.4314,-999          ,9,-999          ,9
33RR20230722  ,I05        ,32      ,  1,26         ,26         ,2,20230730,2225, -32.0028, 102.4314,     5130,    313.0,2,  13.0054,2,  35.2308,2,  35.2292,2,    235.7,2,    236.5,2,     1.56,2,     6.24,2,     0.00,2,     0.54,2,     -999,9,     -999,9,     -999,9,   -999.0,9,     -999,9,     -999,9,     -999,9,     -999,1,  13.0111,2,     -999,9,     -999,9,     -999,9,     -999,9,     -999,1,   4.9693,1,   0.0116,1,     -999,9,     -999,1,     -999,1,     -999,1,     -999,1,20230731,0011, -32.0028, 102.4314,-999          ,9,-999          ,9
33RR20230722  ,I05        ,32      ,  1,25         ,25         ,2,20230730,2225, -32.0028, 102.4314,     5130,    372.9,2,  11.8529,2,  35.0305,2,  35.0181,2,    242.1,2,    241.9,2,     1.85,2,     8.69,2,     0.00,2,     0.68,2,    2.741,2,    1.726,2,   2.4800,2,   2124.3,2,   2308.9,2,   7.8206,6,    25.01,2,     -999,1,  11.8714,2,     -999,9,     -999,9,     -999,9,     -999,9,     -999,1,   4.9700,1,   0.0116,1,     11.4,2,     -999,1,     -999,1,     -999,1,     -999,1,20230731,0009, -32.0028, 102.4314,-999          ,9,-999          ,9
33RR20230722  ,I05        ,32      ,  1,24         ,24         ,2,20230730,2225, -32.0028, 102.4314,     5130,    418.2,2,  11.0181,2,  34.8890,2,  34.8979,2,    243.4,2,    243.4,2,     2.34,2,    10.55,2,     0.00,2,     0.80,2,    2.839,2,    1.776,2,   2.4500,2,   -999.0,9,     -999,9,     -999,9,     -999,9,     -999,1,  11.0373,2,     -999,9,     -999,9,     -999,9,     -999,9,     -999,1,   4.9681,1,   0.0117,1,     11.9,2,     -999,1,     -999,1,     -999,1,     -999,1,20230731,0008, -32.0028, 102.4314,-999          ,9,-999          ,9
33RR20230722  ,I05        ,32      ,  1,23         ,23         ,2,20230730,2225, -32.0028, 102.4314,     5130,    490.2,2,  10.2198,2,  34.7687,2,  34.7703,2,    244.1,2,    243.1,2,     3.22,2,    13.35,2,     0.00,2,     0.97,2,     -999,9,     -999,9,     -999,9,   -999.0,9,     -999,9,     -999,9,     -999,9,     -999,1,  10.2200,2,     -999,9,     -999,9,     -999,9,     -999,9,     -999,1,   4.8576,1,   0.0115,1,     -999,9,     -999,1,     -999,1,     -999,1,     -999,1,20230731,0005, -32.0028, 102.4314,-999          ,9,-999          ,9
33RR20230722  ,I05        ,32      ,  1,22         ,22         ,2,20230730,2225, -32.0028, 102.4314,     5130,    546.8,2,   9.9476,2,  34.7460,2,  34.7461,2,    238.1,2,    237.9,2,     3.71,2,    14.72,2,     0.00,2,     1.05,2,     -999,9,     -999,9,     -999,9,   -999.0,9,     -999,9,     -999,9,     -999,9,     -999,1,   9.9468,2,     -999,9,     -999,9,     -999,9,     -999,9,     -999,1,   4.9669,1,   0.0118,1,     -999,9,     -999,1,     -999,1,     -999,1,     -999,1,20230731,0003, -32.0028, 102.4314,-999          ,9,-999          ,9
33RR20230722  ,I05        ,32      ,  1,21         ,21         ,2,20230730,2225, -32.0028, 102.4314,     5130,    641.3,2,   9.3971,2,  34.6833,2,  34.6844,2,    237.2,2,    237.0,2,     4.39,2,    16.39,2,     0.00,2,     1.15,2,    3.121,2,    1.933,2,   2.1800,2,   2140.9,2,   2290.7,2,   7.7488,6,    24.98,2,     -999,1,   9.3944,2,     -999,9,     -999,9,     -999,9,     -999,9,     -999,1,   4.9667,1,   0.0115,1,     13.3,2,     -999,1,     -999,1,     -999,1,     -999,1,20230731,0001, -32.0028, 102.4314,-999          ,9,-999          ,9
33RR20230722  ,I05        ,32      ,  1,20         ,20         ,2,20230730,2225, -32.0028, 102.4314,     5130,    746.6,2,   8.6684,2,  34.5949,2,  34.5985,2,    225.7,2,    227.4,2,     6.83,2,    19.18,2,     0.00,2,     1.35,2,     -999,9,     -999,9,     -999,9,   -999.0,9,     -999,9,     -999,9,     -999,9,     -999,1,   8.6684,2,     -999,9,     -999,9,     -999,9,     -999,9,     -999,1,   4.9670,1,   0.0115,1,     -999,9,     -999,1,     -999,1,     -999,1,     -999,1,20230730,2358, -32.0028, 102.4314,-999          ,9,-999          ,9
33RR20230722  ,I05        ,32      ,  1,19         ,19         ,2,20230730,2225, -32.0028, 102.4314,     5130,    814.1,2,   7.6680,2,  34.5070,2,  34.5044,2,    207.3,2,    207.7,2,    12.89,2,    23.48,2,     0.00,2,     1.62,2,     -999,9,     -999,9,     -999,9,   -999.0,9,     -999,9,     -999,9,     -999,9,     -999,1,   7.6835,2,     -999,9,     -999,9,     -999,9,     -999,9,     -999,1,   4.8696,1,   0.0115,1,     -999,9,     -999,1,     -999,1,     -999,1,     -999,1,20230730,2356, -32.0028, 102.4314,-999          ,9,-999          ,9
33RR20230722  ,I05        ,32      ,  1,18         ,18         ,2,20230730,2225, -32.0028, 102.4314,     5130,    935.7,2,   5.5775,2,  34.3976,2,  34.3955,2,    192.9,2,    194.1,2,    26.85,2,    28.99,2,     0.00,2,     1.99,2,    2.060,2,    1.135,2,   0.4700,2,   -999.0,9,     -999,9,     -999,9,     -999,9,     -999,1,   5.6475,2,     -999,9,     -999,9,     -999,9,     -999,9,     -999,1,   4.9710,1,   0.0114,1,     19.6,2,     -999,1,     -999,1,     -999,1,     -999,1,20230730,2353, -32.0028, 102.4314,-999          ,9,-999          ,9
33RR20230722  ,I05        ,32      ,  1,17         ,17         ,2,20230730,2225, -32.0028, 102.4314,     5130,   1058.5,2,   4.4492,2,  34.4123,2,  34.4131,2,    174.2,3,    177.1,2,    45.59,2,    32.28,2,     0.00,2,     2.26,2,     -999,9,     -999,9,     -999,9,   2223.3,2,   2309.8,6,   7.5903,2,    24.98,2,     -999,1,   4.4473,2,     -999,9,     -999,9,     -999,9,     -999,9,     -999,1,   4.9724,1,   0.0114,1,     -999,9,     -999,1,     -999,1,     -999,1,     -999,1,20230730,2350, -32.0028, 102.4314,-999          ,9,-999          ,9
33RR20230722  ,I05        ,32      ,  1,16         ,16         ,2,20230730,2225, -32.0028, 102.4314,     5130,   1140.9,2,   4.1073,2,  34.4640,2,  34.4654,2,    160.1,2,    160.2,2,    58.97,2,    33.99,2,     0.00,2,     2.37,2,     -999,9,     -999,9,     -999,9,   -999.0,9,     -999,9,     -999,9,     -999,9,     -999,1,   4.1106,2,     -999,9,     -999,9,     -999,9,     -999,9,     -999,1,   4.9736,1,   0.0114,1,     -999,9,     -999,1,     -999,1,     -999,1,     -999,1,20230730,2347, -32.0028, 102.4314,-999          ,9,-999          ,9
33RR20230722  ,I05        ,32      ,  1,15         ,15         ,2,20230730,2225, -32.0028, 102.4314,     5130,   1268.6,2,   3.7471,2,  34.5097,2,  34.5101,2,    151.8,2,    151.9,2,    69.02,2,    34.68,2,     0.00,2,     2.44,2,    0.474,2,    0.240,2,   0.0400,2,   -999.0,9,     -999,9,     -999,9,     -999,9,     -999,1,   3.7459,2,     -999,9,     -999,9,     -999,9,     -999,9,     -999,1,   4.8599,1,   0.0117,1,     24.4,2,     -999,1,     -999,1,     -999,1,     -999,1,20230730,2344, -32.0028, 102.4313,-999          ,9,-999          ,9
33RR20230722  ,I05        ,32      ,  1,14         ,14         ,2,20230730,2225, -32.0028, 102.4314,     5130,   1405.5,2,   3.4953,2,  34.5673,2,  34.5679,2,    143.8,2,    143.4,2,    80.34,2,    35.11,2,     0.00,2,     2.50,2,     -999,9,     -999,9,     -999,9,   2269.0,6,   2344.7,2,   7.5531,2,    25.00,2,     -999,1,   3.4949,2,     -999,9,     -999,9,     -999,9,     -999,9,     -999,1,   4.9245,1,   0.0111,1,     -999,9,     -999,1,     -999,1,     -999,1,     -999,1,20230730,2341, -32.0028, 102.4314,-999          ,9,-999          ,9
33RR20230722  ,I05        ,32      ,  1,13         ,13         ,2,20230730,2225, -32.0028, 102.4314,     5130,   1494.9,2,   3.2571,2,  34.5912,2,  34.5891,2,    145.9,2,    145.7,2,    83.17,2,    34.98,2,     0.00,2,     2.52,2,    0.112,2,    0.063,2,  -0.0400,2,   -999.0,9,     -999,9,     -999,9,     -999,9,     -999,1,   3.2567,2,     -999,9,     -999,9,     -999,9,     -999,9,     -999,1,   4.9752,1,   0.0118,1,     24.3,2,     -999,1,     -999,1,     -999,1,     -999,1,20230730,2338, -32.0028, 102.4314,-999          ,9,-999          ,9
33RR20230722  ,I05        ,32      ,  1,12         ,12         ,2,20230730,2225, -32.0028, 102.4314,     5130,   1632.3,2,   3.0021,2,  34.6296,2,  34.6297,2,    148.3,2,    148.0,2,    89.80,2,    34.55,2,     0.00,2,     2.50,2,     -999,9,     -999,9,     -999,9,   -999.0,9,     -999,9,     -999,9,     -999,9,     -999,1,   3.0031,2,     -999,9,     -999,9,     -999,9,     -999,9,     -999,1,   4.9413,1,   0.0112,1,     -999,9,     -999,1,     -999,1,     -999,1,     -999,1,20230730,2335, -32.0028, 102.4314,-999          ,9,-999          ,9
33RR20230722  ,I05        ,32      ,  1,11         ,11         ,2,20230730,2225, -32.0028, 102.4314,     5130,   1843.4,2,   2.7528,2,  34.6698,2,  34.6706,2,    152.0,2,    152.1,2,    95.56,2,    34.42,2,     0.00,2,     2.44,2,    0.016,2,    0.013,2,  -0.0500,2,   2278.0,2,   2363.1,2,   7.5693,6,    25.00,2,     -999,1,   2.7525,2,     -999,9,     -999,9,     -999,9,     -999,9,     -999,1,   4.9756,1,   0.0119,1,     23.4,2,     -999,1,     -999,1,     -999,1,     -999,1,20230730,2330, -32.0028, 102.4313,-999          ,9,-999          ,9
33RR20230722  ,I05        ,32      ,  1,10         ,10         ,2,20230730,2225, -32.0028, 102.4314,     5130,   2008.7,2,   2.5621,2,  34.6946,2,  34.6942,2,    155.4,2,    155.4,2,   101.51,2,    34.01,2,     0.00,2,     2.41,2,     -999,9,     -999,9,     -999,9,   -999.0,9,     -999,9,     -999,9,     -999,9,     -999,1,   2.5608,2,     -999,9,     -999,9,     -999,9,     -999,9,     -999,1,   4.9514,1,   0.0117,1,     -999,9,     -999,1,     -999,1,     -999,1,     -999,1,20230730,2327, -32.0028, 102.4314,-999          ,9,-999          ,9
33RR20230722  ,I05        ,32      ,  1,9          ,9          ,2,20230730,2225, -32.0028, 102.4314,     5130,   2408.4,2,   2.1789,2,  34.7203,2,  34.7197,2,    163.8,2,    163.8,2,   110.10,2,    33.57,2,     0.00,2,     2.36,2,     -999,9,     -999,9,     -999,9,   2287.0,2,   2376.8,2,   7.5901,2,    25.01,2,     -999,1,   2.1811,2,     -999,9,     -999,9,     -999,9,     -999,9,     -999,1,   4.7814,1,   0.0122,1,     -999,9,     -999,1,     -999,1,     -999,1,     -999,1,20230730,2319, -32.0028, 102.4314,-999          ,9,-999          ,9
33RR20230722  ,I05        ,32      ,  1,8          ,8          ,2,20230730,2225, -32.0028, 102.4314,     5130,   2740.9,2,   1.9338,2,  34.7292,2,  34.7288,2,    179.0,2,    179.4,2,   106.49,2,    32.32,2,     0.00,2,     2.27,2,    0.006,2,    0.010,2,   0.0500,2,   -999.0,9,     -999,9,     -999,9,     -999,9,     -999,1,   1.9355,2,     -999,9,     -999,9,     -999,9,     -999,9,     -999,1,   4.9754,1,   0.0119,1,     20.4,2,     -999,1,     -999,1,     -999,1,     -999,1,20230730,2313, -32.0028, 102.4314,-999          ,9,-999          ,9
33RR20230722  ,I05        ,32      ,  1,7          ,7          ,2,20230730,2225, -32.0028, 102.4314,     5130,   3120.3,2,   1.6946,2,  34.7276,2,  34.7266,2,    181.7,2,    181.8,2,   115.37,2,    32.68,2,     0.00,2,     2.28,2,     -999,9,     -999,9,     -999,9,   2281.6,2,   2379.1,6,   7.6086,2,    24.98,2,     -999,1,   1.6943,2,     -999,9,     -999,9,     -999,9,     -999,9,     -999,1,   4.9760,1,   0.0113,1,     -999,9,     -999,1,     -999,1,     -999,1,     -999,1,20230730,2305, -32.0028, 102.4314,-999          ,9,-999          ,9
33RR20230722  ,I05        ,32      ,  1,6          ,6          ,2,20230730,2225, -32.0028, 102.4314,     5130,   3533.3,2,   1.4568,2,  34.7259,2,  34.7248,2,    192.7,2,    193.0,2,   114.88,2,    32.05,2,     0.00,2,     2.23,2,    0.015,2,    0.014,2,   0.0200,2,   -999.0,9,     -999,9,     -999,9,     -999,9,     -999,1,   1.4574,2,     -999,9,     -999,9,     -999,9,     -999,9,     -999,1,   4.9762,1,   0.0112,1,     19.1,2,     -999,1,     -999,1,     -999,1,     -999,1,20230730,2257, -32.0028, 102.4314,-999          ,9,-999          ,9
33RR20230722  ,I05        ,32      ,  1,5          ,5          ,2,20230730,2225, -32.0028, 102.4314,     5130,   3899.9,2,   1.2628,2,  34.7204,2,  34.7201,2,    199.8,2,    200.2,2,   117.62,2,    31.91,2,     0.00,2,     2.22,2,    0.034,2,    0.022,2,  -0.0200,2,   2266.3,2,   2368.8,2,   7.6191,2,    24.98,2,     -999,1,   1.2634,2,     -999,9,     -999,9,     -999,9,     -999,9,     -999,1,   4.8394,1,   0.0112,1,     19.0,2,     -999,1,     -999,1,     -999,1,     -999,1,20230730,2250, -32.0028, 102.4314,-999          ,9,-999          ,9
33RR20230722  ,I05        ,32      ,  1,4          ,37         ,2,20230730,2225, -32.0028, 102.4314,     5130,   4258.4,2,   1.1660,2,  34.7156,2,  34.7162,2,    203.4,2,    203.4,2,   118.79,2,    31.92,2,     0.00,2,     2.23,2,    0.050,2,    0.035,2,   0.0100,2,   -999.0,9,     -999,9,     -999,9,     -999,9,     -999,1,   1.1662,2,     -999,9,     -999,9,     -999,9,     -999,9,     -999,1,   4.9213,1,   0.0111,1,     18.7,2,     -999,1,     -999,1,     -999,1,     -999,1,20230730,2244, -32.0028, 102.4314,-999          ,9,-999          ,9
33RR20230722  ,I05        ,32      ,  1,3          ,3          ,2,20230730,2225, -32.0028, 102.4314,     5130,   4825.9,2,   1.0737,2,  34.7087,2,  34.7095,2,    206.2,2,    206.2,2,   122.11,2,    32.02,2,     0.00,2,     2.24,2,     -999,9,     -999,9,     -999,9,   2267.3,2,   2370.5,2,   7.6202,2,    24.99,2,     -999,1,   1.0735,2,     -999,9,     -999,9,     -999,9,     -999,9,     -999,1,   4.9767,1,   0.0113,1,     -999,9,     -999,1,     -999,1,     -999,1,     -999,1,20230730,2233, -32.0028, 102.4314,-999          ,9,-999          ,9