BOTTLE,20240422CCHHYDRO
EXPOCODE,SECT_ID,STNNBR,CASTNO,SAMPNO,BTLNBR,BTLNBR_FLAG_W,DATE,TIME,LATITUDE,LONGITUDE,DEPTH,CTDPRS,CTDPRS_FLAG_W,CTDTMP,CTDTMP_FLAG_W,CTDSAL,CTDSAL_FLAG_W,SALNTY,SALNTY_FLAG_W,CTDOXY,CTDOXY_FLAG_W,OXYGEN,OXYGEN_FLAG_W,SILCAT,SILCAT_FLAG_W,NITRAT,NITRAT_FLAG_W,NITRIT,NITRIT_FLAG_W,PHSPHT,PHSPHT_FLAG_W,CFC-11,CFC-11_FLAG_W,CFC-12,CFC-12_FLAG_W,SF6,SF6_FLAG_W,TCARBN,TCARBN_FLAG_W,ALKALI,ALKALI_FLAG_W,PH_TOT,PH_TOT_FLAG_W,PH_TMP,PH_TMP_FLAG_W,DOC,DOC_FLAG_W,REFTMP,REFTMP_FLAG_W,POC,POC_FLAG_W,PON,PON_FLAG_W,POP,POP_FLAG_W,DOP,DOP_FLAG_W,DELO18,DELO18_FLAG_W,CTDFLUOR,CTDFLUOR_FLAG_W,CTDXMISS,CTDXMISS_FLAG_W,N2O,N2O_FLAG_W,D15N_NO3,D15N_NO3_FLAG_W,D15N_NO2+NO3,D15N_NO2+NO3_FLAG_W,D18O_NO2+NO3,D18O_NO2+NO3_FLAG_W,D18O_NO3,D18O_NO3_FLAG_W,BTL_DATE,BTL_TIME,BTL_LAT,BTL_LON,HPLC,HPLC_FLAG_W,DNA,DNA_FLAG_W
,,,,,,,,,,,METERS,DBAR,,ITS-90,,PSS-78,,PSS-78,,UMOL/KG,,UMOL/KG,,UMOL/KG,,UMOL/KG,,UMOL/KG,,UMOL/KG,,PMOL/KG,,PMOL/KG,,FMOL/KG,,UMOL/KG,,UMOL/KG,,,,DEG C,,UMOL/KG,,ITS-90,,UG/KG,,UG/KG,,UG/L,,UMOL/KG,,/MILLE,,VOLTS,,VOLTS,,NMOL/KG,,/MILLE,,/MILLE,,/MILLE,,/MILLE,,,,,,,,,
33RR20230722  ,I05        ,141     ,  1,36         ,38         ,2,20230828,1539, -33.9986,  52.7933,     5600,      8.9,2,  16.1677,2,  35.4985,2,  35.4991,2,    248.9,2,    247.4,2,     1.95,2,     0.46,2,     0.09,2,     0.20,2,    2.158,2,    1.405,2,   2.3600,2,   2082.6,2,   2328.2,2,   7.9432,2,    25.00,2,     -999,1,  16.1670,2,     -999,9,     -999,9,     -999,9,     -999,9,     -999,1,   4.8472,1,   0.0469,1,      8.3,2,     -999,9,     -999,9,     -999,9,     -999,9,20230828,1756, -33.9986,  52.7933,-999          ,9,-999          ,9
33RR20230722  ,I05        ,141     ,  1,35         ,35         ,2,20230828,1539, -33.9986,  52.7933,     5600,     30.8,2,  16.1129,2,  35.5208,2,  35.5208,2,    248.1,2,    247.0,2,     1.85,2,     0.48,2,     0.10,2,     0.18,2,     -999,9,     -999,9,     -999,9,   2079.9,2,   2329.1,2,   7.9416,2,    25.01,2,     -999,9,  16.1229,2,     -999,9,     -999,9,     -999,9,     -999,9,     -999,1,   4.9753,1,   0.0470,1,     -999,9,     -999,9,     -999,9,     -999,9,     -999,9,20230828,1754, -33.9986,  52.7933,-999          ,9,-999          ,9
33RR20230722  ,I05        ,141     ,  1,34         ,34         ,2,20230828,1539, -33.9986,  52.7933,     5600,     51.8,2,  15.9949,2,  35.5197,2,  35.5208,2,    247.7,2,    246.4,2,     1.85,2,     0.59,2,     0.12,2,     0.20,2,    2.169,2,    1.407,2,   2.3300,2,   2085.1,2,   2327.7,2,   7.9365,6,    25.01,2,     -999,9,  15.9955,2,     -999,9,     -999,9,     -999,9,     -999,9,     -999,1,   4.9577,1,   0.0429,1,      8.2,2,     -999,9,     -999,9,     -999,9,     -999,9,20230828,1753, -33.9986,  52.7933,-999          ,9,-999          ,9
33RR20230722  ,I05        ,141     ,  1,33         ,33         ,2,20230828,1539, -33.9986,  52.7933,     5600,     71.3,2,  15.9275,2,  35.5182,2,  35.5184,2,    246.2,2,    245.2,2,     1.76,2,     0.66,2,     0.13,2,     0.20,2,     -999,9,     -999,9,     -999,9,   2085.3,2,   2329.4,2,   7.9372,2,    25.00,2,     -999,9,  15.9287,2,     -999,9,     -999,9,     -999,9,     -999,9,     -999,1,   4.3761,1,   0.0334,1,     -999,9,     -999,9,     -999,9,     -999,9,     -999,9,20230828,1751, -33.9986,  52.7933,-999          ,9,-999          ,9
33RR20230722  ,I05        ,141     ,  1,32         ,32         ,2,20230828,1539, -33.9986,  52.7933,     5600,    101.6,2,  15.9001,2,  35.5257,2,  35.5263,2,    242.9,2,    242.4,2,     2.05,2,     0.93,2,     0.20,2,     0.22,2,    2.107,2,    1.399,2,   2.4000,2,   2086.3,2,   2329.3,2,   7.9315,2,    25.02,2,     -999,9,  15.8989,2,     -999,9,     -999,9,     -999,9,     -999,9,     -999,1,   4.9734,1,   0.0255,1,      8.3,2,     -999,9,     -999,9,     -999,9,     -999,9,20230828,1749, -33.9986,  52.7933,-999          ,9,-999          ,9
33RR20230722  ,I05        ,141     ,  1,31         ,31         ,2,20230828,1539, -33.9986,  52.7933,     5600,    133.6,2,  15.6850,2,  35.5151,2,  35.5162,2,    233.4,2,    234.8,2,     2.54,2,     2.48,2,     0.15,2,     0.31,2,    2.123,2,    1.404,2,   2.3300,2,   -999.0,9,     -999,9,     -999,9,     -999,9,     -999,9,  15.6925,2,     -999,9,     -999,9,     -999,9,     -999,9,     -999,1,   4.9716,1,   0.0167,1,      8.6,2,     -999,9,     -999,9,     -999,9,     -999,9,20230828,1747, -33.9986,  52.7933,-999          ,9,-999          ,9
33RR20230722  ,I05        ,141     ,  1,30         ,30         ,2,20230828,1539, -33.9986,  52.7933,     5600,    169.0,2,  15.2571,2,  35.4717,2,  35.4740,2,    227.1,2,    228.3,2,     2.73,2,     4.26,2,     0.02,2,     0.40,2,     -999,9,     -999,9,     -999,9,   2104.9,2,   2328.3,2,   7.8938,2,    25.04,2,     -999,9,  15.2872,2,     -999,9,     -999,9,     -999,9,     -999,9,     -999,1,   4.9700,1,   0.0122,1,     -999,9,     -999,9,     -999,9,     -999,9,     -999,9,20230828,1745, -33.9986,  52.7933,-999          ,9,-999          ,9
33RR20230722  ,I05        ,141     ,  1,29         ,29         ,2,20230828,1539, -33.9986,  52.7933,     5600,    205.1,2,  14.9402,2,  35.4331,2,  35.4338,2,    223.4,2,    225.0,2,     3.02,2,     5.18,2,     0.02,2,     0.46,2,    2.446,2,    1.463,2,   2.2200,2,   -999.0,9,     -999,9,     -999,9,     -999,9,     -999,9,  14.9200,2,     -999,9,     -999,9,     -999,9,     -999,9,     -999,1,   4.9515,1,   0.0117,1,      9.4,2,     -999,9,     -999,9,     -999,9,     -999,9,20230828,1743, -33.9986,  52.7933,-999          ,9,-999          ,9
33RR20230722  ,I05        ,141     ,  1,28         ,28         ,2,20230828,1539, -33.9986,  52.7933,     5600,    249.0,2,  14.3331,2,  35.3707,2,  35.3709,2,    223.0,2,    224.4,2,     3.22,2,     6.49,2,     0.00,2,     0.54,2,     -999,9,     -999,9,     -999,9,   2116.4,2,   2321.5,2,   7.8631,2,    25.06,2,     -999,9,  14.3321,2,     -999,9,     -999,9,     -999,9,     -999,9,     -999,1,   4.8857,1,   0.0117,1,     -999,9,     -999,9,     -999,9,     -999,9,     -999,9,20230828,1741, -33.9986,  52.7933,-999          ,9,-999          ,9
33RR20230722  ,I05        ,141     ,  1,27         ,27         ,2,20230828,1539, -33.9986,  52.7933,     5600,    301.4,2,  14.0601,2,  35.3486,2,  35.3486,2,    226.8,2,    227.7,2,     3.22,2,     6.68,2,     0.00,2,     0.56,2,    2.432,2,    1.548,2,   2.2900,2,   -999.0,9,     -999,9,     -999,9,     -999,9,     -999,9,  14.0592,2,     -999,9,     -999,9,     -999,9,     -999,9,     -999,1,   4.9685,1,   0.0120,1,      9.9,2,     -999,9,     -999,9,     -999,9,     -999,9,20230828,1738, -33.9986,  52.7933,-999          ,9,-999          ,9
33RR20230722  ,I05        ,141     ,  1,26         ,26         ,2,20230828,1539, -33.9986,  52.7933,     5600,    365.5,2,  13.5680,2,  35.2891,2,  35.2895,2,    230.4,2,    230.4,2,     3.22,2,     7.52,2,     0.00,2,     0.61,2,    2.764,2,    1.580,2,   2.2500,2,   2118.7,2,   2317.3,2,   7.8501,2,    25.04,2,     -999,9,  13.5666,2,     -999,9,     -999,9,     -999,9,     -999,9,     -999,1,   4.9682,1,   0.0114,1,     10.0,2,     -999,9,     -999,9,     -999,9,     -999,9,20230828,1736, -33.9986,  52.7933,-999          ,9,-999          ,9
33RR20230722  ,I05        ,141     ,  1,25         ,25         ,2,20230828,1539, -33.9986,  52.7933,     5600,    440.0,2,  13.2522,2,  35.2528,2,  35.2536,2,    235.0,2,    234.4,2,     3.41,2,     7.88,2,     0.00,2,     0.62,2,    2.451,2,    1.599,2,   2.3400,2,   2121.5,2,   2315.3,2,   7.8459,2,    25.02,2,     -999,9,  13.2512,2,     -999,9,     -999,9,     -999,9,     -999,9,     -999,1,   4.9210,1,   0.0115,1,      9.9,2,     -999,9,     -999,9,     -999,9,     -999,9,20230828,1733, -33.9986,  52.7933,-999          ,9,-999          ,9
33RR20230722  ,I05        ,141     ,  1,24         ,24         ,2,20230828,1539, -33.9986,  52.7933,     5600,    528.0,2,  12.6200,2,  35.1522,2,  35.1538,2,    229.6,2,    229.5,2,     3.80,2,     9.72,2,     0.00,2,     0.75,2,    2.669,2,    1.676,2,   2.2800,2,   2127.6,2,   2310.7,2,   7.8243,2,    25.01,2,     -999,9,  12.6386,2,     -999,9,     -999,9,     -999,9,     -999,9,     -999,1,   4.7941,1,   0.0115,1,     10.6,2,     -999,9,     -999,9,     -999,9,     -999,9,20230828,1731, -33.9986,  52.7933,-999          ,9,-999          ,9
33RR20230722  ,I05        ,141     ,  1,23         ,23         ,2,20230828,1539, -33.9986,  52.7933,     5600,    616.7,2,  11.8252,2,  35.0268,2,  35.0256,2,    226.3,2,    226.4,2,     4.39,2,    11.85,2,     0.00,2,     0.87,2,    2.856,2,    1.731,2,   2.1000,2,   2134.6,2,   2304.9,2,   7.8021,2,    25.03,2,     -999,9,  11.8089,2,     -999,9,     -999,9,     -999,9,     -999,9,     -999,1,   4.9667,1,   0.0113,1,     11.3,2,     -999,9,     -999,9,     -999,9,     -999,9,20230828,1728, -33.9986,  52.7933,-999          ,9,-999          ,9
33RR20230722  ,I05        ,141     ,  1,22         ,22         ,2,20230828,1539, -33.9986,  52.7933,     5600,    717.8,2,  10.5184,2,  34.8391,2,  34.8377,2,    220.7,2,    220.6,2,     6.34,2,    15.38,2,     0.00,2,     1.10,2,    2.920,2,    1.792,2,   1.7600,2,   -999.0,9,     -999,9,     -999,9,     -999,9,     -999,9,  10.5150,2,     -999,9,     -999,9,     -999,9,     -999,9,     -999,1,   4.9668,1,   0.0113,1,     12.7,2,     -999,9,     -999,9,     -999,9,     -999,9,20230828,1725, -33.9986,  52.7933,-999          ,9,-999          ,9
33RR20230722  ,I05        ,141     ,  1,21         ,21         ,2,20230828,1539, -33.9986,  52.7933,     5600,    830.3,2,   9.2026,2,  34.6788,2,  34.6781,2,    214.2,2,    214.5,2,     8.88,2,    19.07,2,     0.00,2,     1.34,2,    2.945,2,    1.765,2,   1.5600,2,   2151.4,2,   2292.4,2,   7.7249,2,    25.04,2,     -999,9,   9.2294,2,     -999,9,     -999,9,     -999,9,     -999,9,     -999,1,   4.9676,1,   0.0115,1,     14.4,2,     -999,9,     -999,9,     -999,9,     -999,9,20230828,1722, -33.9986,  52.7933,-999          ,9,-999          ,9
33RR20230722  ,I05        ,141     ,  1,20         ,20         ,2,20230828,1539, -33.9986,  52.7933,     5600,    942.8,2,   7.7128,2,  34.5345,2,  34.5343,2,    207.0,2,    207.5,2,    14.35,2,    23.31,2,     0.00,2,     1.62,2,    2.805,2,    1.669,2,   1.4000,2,   2167.6,2,   2288.8,6,   7.6835,2,    25.04,2,     -999,9,   7.7157,2,     -999,9,     -999,9,     -999,9,     -999,9,     -999,1,   4.9698,1,   0.0113,1,     15.8,2,     -999,9,     -999,9,     -999,9,     -999,9,20230828,1719, -33.9986,  52.7932,-999          ,9,-999          ,9
33RR20230722  ,I05        ,141     ,  1,19         ,19         ,2,20230828,1539, -33.9986,  52.7933,     5600,   1061.3,2,   6.2037,2,  34.4181,2,  34.4182,2,    206.9,2,    206.9,2,    21.28,2,    26.92,2,     0.00,2,     1.83,2,     -999,9,     -999,9,     -999,9,   2181.0,2,   2290.0,2,   7.6476,6,    25.02,2,     -999,9,   6.2023,2,     -999,9,     -999,9,     -999,9,     -999,9,     -999,1,   4.8123,1,   0.0111,1,     -999,9,     -999,9,     -999,9,     -999,9,     -999,9,20230828,1716, -33.9986,  52.7933,-999          ,9,-999          ,9
33RR20230722  ,I05        ,141     ,  1,18         ,18         ,2,20230828,1539, -33.9986,  52.7933,     5600,   1191.6,2,   4.9772,2,  34.3717,2,  34.3723,2,    203.0,2,    202.7,2,    30.55,2,    29.71,2,     0.00,2,     2.04,2,    2.463,2,    1.320,6,   0.9000,6,   2197.1,2,   2294.0,2,   7.6200,2,    25.04,2,     -999,9,   4.9870,2,     -999,9,     -999,9,     -999,9,     -999,9,     -999,1,   4.9706,1,   0.0113,1,     19.0,2,     -999,9,     -999,9,     -999,9,     -999,9,20230828,1713, -33.9986,  52.7933,-999          ,9,-999          ,9
33RR20230722  ,I05        ,141     ,  1,17         ,17         ,2,20230828,1539, -33.9986,  52.7933,     5600,   1329.3,2,   4.0436,2,  34.4144,2,  34.4151,2,    187.8,2,    188.2,2,    46.16,2,    32.17,2,     0.00,2,     2.21,2,     -999,9,     -999,9,     -999,9,   2220.7,2,   2309.2,2,   7.5933,2,    25.04,2,     -999,9,   4.0418,2,     -999,9,     -999,9,     -999,9,     -999,9,     -999,1,   4.9720,1,   0.0113,1,     -999,9,     -999,9,     -999,9,     -999,9,     -999,9,20230828,1709, -33.9986,  52.7933,-999          ,9,-999          ,9
33RR20230722  ,I05        ,141     ,  1,16         ,16         ,2,20230828,1539, -33.9986,  52.7933,     5600,   1469.8,2,   3.4917,2,  34.4762,2,  34.4765,2,    178.4,2,    178.5,2,    56.99,2,    33.23,2,     0.00,2,     2.31,2,    1.033,2,    0.538,2,   0.2900,2,   2235.2,2,   2320.4,2,   7.5792,2,    25.03,2,     -999,9,   3.4912,2,     -999,9,     -999,9,     -999,9,     -999,9,     -999,1,   4.9732,1,   0.0112,1,     21.6,2,     -999,9,     -999,9,     -999,9,     -999,9,20230828,1706, -33.9986,  52.7933,-999          ,9,-999          ,9
33RR20230722  ,I05        ,141     ,  1,15         ,15         ,2,20230828,1539, -33.9986,  52.7933,     5600,   1612.5,2,   3.1491,2,  34.5368,2,  34.5364,2,    174.8,2,    174.5,2,    65.09,2,    33.38,2,     0.00,2,     2.32,2,    0.650,2,    0.341,2,   0.1900,2,   2241.4,2,   2326.8,2,   7.5774,2,    25.01,2,     -999,9,   3.1507,2,     -999,9,     -999,9,     -999,9,     -999,9,     -999,1,   4.6613,1,   0.0111,1,     21.6,2,     -999,9,     -999,9,     -999,9,     -999,9,20230828,1702, -33.9986,  52.7933,-999          ,9,-999          ,9
33RR20230722  ,I05        ,141     ,  1,14         ,14         ,2,20230828,1539, -33.9986,  52.7933,     5600,   1760.6,2,   2.9015,2,  34.5905,2,  34.5908,2,    175.6,2,    175.2,2,    70.45,2,    32.96,2,     0.00,2,     2.28,2,    0.460,2,    0.236,2,   0.1500,2,   2247.1,2,   2334.7,2,   7.5822,2,    25.01,2,     -999,9,   2.9005,2,     -999,9,     -999,9,     -999,9,     -999,9,     -999,1,   4.9741,1,   0.0118,1,     21.4,2,     -999,9,     -999,9,     -999,9,     -999,9,20230828,1658, -33.9986,  52.7933,-999          ,9,-999          ,9
33RR20230722  ,I05        ,141     ,  1,13         ,13         ,2,20230828,1539, -33.9986,  52.7933,     5600,   1926.7,2,   2.6884,2,  34.6391,2,  34.6394,2,    177.6,2,    177.4,2,    75.53,2,    32.50,2,     0.00,2,     2.26,2,     -999,9,     -999,9,     -999,9,   2249.3,6,   2340.2,2,   7.5906,2,    25.03,2,     -999,9,   2.6873,2,     -999,9,     -999,9,     -999,9,     -999,9,     -999,1,   4.9742,1,   0.0115,1,     -999,9,     -999,9,     -999,9,     -999,9,     -999,9,20230828,1655, -33.9985,  52.7933,-999          ,9,-999          ,9
33RR20230722  ,I05        ,141     ,  1,12         ,12         ,2,20230828,1539, -33.9986,  52.7933,     5600,   2131.8,2,   2.4174,2,  34.6948,2,  34.6944,2,    182.7,2,    182.7,2,    82.45,2,    31.71,2,     0.00,2,     2.21,2,    0.163,2,    0.080,2,   0.0100,2,   -999.0,9,     -999,9,     -999,9,     -999,9,     -999,9,   2.4182,2,     -999,9,     -999,9,     -999,9,     -999,9,     -999,1,   4.9744,1,   0.0116,1,     19.7,2,     -999,9,     -999,9,     -999,9,     -999,9,20230828,1650, -33.9986,  52.7933,-999          ,9,-999          ,9
33RR20230722  ,I05        ,141     ,  1,11         ,11         ,2,20230828,1539, -33.9986,  52.7933,     5600,   2370.3,2,   2.2541,2,  34.7212,2,  34.7197,2,    188.2,2,    188.5,2,    85.38,2,    31.08,2,     0.00,2,     2.16,2,     -999,9,     -999,9,     -999,9,   2252.8,2,   2351.5,2,   7.6131,2,    25.00,2,     -999,9,   2.2533,2,     -999,9,     -999,9,     -999,9,     -999,9,     -999,1,   4.9744,1,   0.0112,1,     -999,9,     -999,9,     -999,9,     -999,9,     -999,9,20230828,1645, -33.9986,  52.7933,-999          ,9,-999          ,9
33RR20230722  ,I05        ,141     ,  1,10         ,10         ,2,20230828,1539, -33.9986,  52.7933,     5600,   2657.8,2,   2.0168,2,  34.7368,2,  34.7368,2,    192.1,2,    192.3,2,    92.50,2,    30.97,2,     0.00,2,     2.15,2,    0.098,2,    0.048,2,   0.0100,2,   -999.0,9,     -999,9,     -999,9,     -999,9,     -999,9,   2.0164,2,     -999,9,     -999,9,     -999,9,     -999,9,     -999,1,   4.9749,1,   0.0110,1,     18.8,2,     -999,9,     -999,9,     -999,9,     -999,9,20230828,1639, -33.9986,  52.7933,-999          ,9,-999          ,9
33RR20230722  ,I05        ,141     ,  1,9          ,9          ,2,20230828,1539, -33.9986,  52.7933,     5600,   2985.5,2,   1.7522,2,  34.7353,2,  34.7355,2,    196.1,2,    196.3,2,    99.62,2,    31.15,2,     0.00,2,     2.17,2,     -999,9,     -999,9,     -999,9,   2256.6,2,   2359.7,2,   7.6186,2,    25.00,2,     -999,9,   1.7518,2,     -999,9,     -999,9,     -999,9,     -999,9,     -999,1,   4.8829,1,   0.0112,1,     -999,9,     -999,9,     -999,9,     -999,9,     -999,9,20230828,1632, -33.9986,  52.7933,-999          ,9,-999          ,9
33RR20230722  ,I05        ,141     ,  1,8          ,8          ,2,20230828,1539, -33.9986,  52.7933,     5600,   3328.4,2,   1.4706,2,  34.7268,2,  34.7268,2,    200.2,2,    200.7,2,   106.26,2,    31.50,2,     0.00,2,     2.19,2,    0.125,2,    0.066,2,   0.0300,2,   -999.0,9,     -999,9,     -999,9,     -999,9,     -999,9,   1.4697,2,     -999,9,     -999,9,     -999,9,     -999,9,     -999,1,   4.9754,1,   0.0111,1,     18.3,2,     -999,9,     -999,9,     -999,9,     -999,9,20230828,1626, -33.9985,  52.7933,-999          ,9,-999          ,9
33RR20230722  ,I05        ,141     ,  1,7          ,7          ,2,20230828,1539, -33.9986,  52.7933,     5600,   3664.1,2,   1.3099,2,  34.7203,2,  34.7203,2,    203.4,2,    203.7,2,   111.23,2,    31.62,2,     0.00,2,     2.21,2,     -999,9,     -999,9,     -999,9,   2258.5,2,   2360.6,6,   7.6159,2,    25.00,2,     -999,9,   1.3095,2,     -999,9,     -999,9,     -999,9,     -999,9,     -999,1,   4.9131,1,   0.0111,1,     -999,9,     -999,9,     -999,9,     -999,9,     -999,9,20230828,1619, -33.9986,  52.7933,-999          ,9,-999          ,9
33RR20230722  ,I05        ,141     ,  1,6          ,6          ,2,20230828,1539, -33.9986,  52.7933,     5600,   3996.2,2,   1.2271,2,  34.7162,2,  34.7160,2,    205.3,2,    205.3,2,   114.06,2,    31.76,2,     0.00,2,     2.20,2,    0.178,2,    0.080,2,   0.0700,2,   -999.0,9,     -999,9,     -999,9,     -999,9,     -999,9,   1.2290,2,     -999,9,     -999,9,     -999,9,     -999,9,     -999,1,   4.9761,1,   0.0111,1,     18.2,2,     -999,9,     -999,9,     -999,9,     -999,9,20230828,1612, -33.9986,  52.7933,-999          ,9,-999          ,9
33RR20230722  ,I05        ,141     ,  1,5          ,5          ,2,20230828,1539, -33.9986,  52.7933,     5600,   4412.4,2,   1.1682,2,  34.7120,2,  34.7117,2,    206.8,2,    207.1,2,   117.96,2,    31.89,2,     0.00,2,     2.22,2,    0.165,2,    0.087,2,   0.0500,2,   2262.1,2,   2362.0,2,   7.6145,6,    25.04,2,     -999,9,   1.1681,2,     -999,9,     -999,9,     -999,9,     -999,9,     -999,1,   4.9018,1,   0.0111,1,     18.1,2,     -999,9,     -999,9,     -999,9,     -999,9,20230828,1604, -33.9986,  52.7932,-999          ,9,-999          ,9
33RR20230722  ,I05        ,141     ,  1,4          ,37         ,2,20230828,1539, -33.9986,  52.7933,     5600,   4932.3,2,   1.1496,2,  34.7083,2,  34.7087,2,    207.3,2,    207.3,2,   119.14,2,    32.06,2,     0.00,2,     2.24,2,    0.192,2,    0.082,2,   0.0500,2,   -999.0,9,     -999,9,     -999,9,     -999,9,     -999,9,   1.1493,2,     -999,9,     -999,9,     -999,9,     -999,9,     -999,1,   4.8937,1,   0.0114,1,     18.1,2,     -999,9,     -999,9,     -999,9,     -999,9,20230828,1555, -33.9986,  52.7933,-999          ,9,-999          ,9
33RR20230722  ,I05        ,141     ,  1,3          ,3          ,2,20230828,1539, -33.9986,  52.7933,     5600,   5331.6,2,   1.1876,2,  34.7071,2,  34.7083,2,    207.2,2,    207.4,2,   119.33,2,    32.09,2,     0.00,2,     2.24,2,    0.171,2,    0.080,2,   0.0400,2,   2263.5,6,   2362.9,2,   7.6134,2,    25.02,2,     -999,9,   1.1871,2,     -999,9,     -999,9,     -999,9,     -999,9,     -999,1,   4.8156,1,   0.0113,1,     18.1,2,     -999,9,     -999,9,     -999,9,     -999,9,20230828,1547, -33.9985,  52.7933,-999          ,9,-999          ,9