BOTTLE,20240422CCHHYDRO
EXPOCODE,SECT_ID,STNNBR,CASTNO,SAMPNO,BTLNBR,BTLNBR_FLAG_W,DATE,TIME,LATITUDE,LONGITUDE,DEPTH,CTDPRS,CTDPRS_FLAG_W,CTDTMP,CTDTMP_FLAG_W,CTDSAL,CTDSAL_FLAG_W,SALNTY,SALNTY_FLAG_W,CTDOXY,CTDOXY_FLAG_W,OXYGEN,OXYGEN_FLAG_W,SILCAT,SILCAT_FLAG_W,NITRAT,NITRAT_FLAG_W,NITRIT,NITRIT_FLAG_W,PHSPHT,PHSPHT_FLAG_W,CFC-11,CFC-11_FLAG_W,CFC-12,CFC-12_FLAG_W,SF6,SF6_FLAG_W,TCARBN,TCARBN_FLAG_W,ALKALI,ALKALI_FLAG_W,PH_TOT,PH_TOT_FLAG_W,PH_TMP,PH_TMP_FLAG_W,DOC,DOC_FLAG_W,REFTMP,REFTMP_FLAG_W,POC,POC_FLAG_W,PON,PON_FLAG_W,POP,POP_FLAG_W,DOP,DOP_FLAG_W,DELO18,DELO18_FLAG_W,CTDFLUOR,CTDFLUOR_FLAG_W,CTDXMISS,CTDXMISS_FLAG_W,N2O,N2O_FLAG_W,D15N_NO3,D15N_NO3_FLAG_W,D15N_NO2+NO3,D15N_NO2+NO3_FLAG_W,D18O_NO2+NO3,D18O_NO2+NO3_FLAG_W,D18O_NO3,D18O_NO3_FLAG_W,BTL_DATE,BTL_TIME,BTL_LAT,BTL_LON,HPLC,HPLC_FLAG_W,DNA,DNA_FLAG_W
,,,,,,,,,,,METERS,DBAR,,ITS-90,,PSS-78,,PSS-78,,UMOL/KG,,UMOL/KG,,UMOL/KG,,UMOL/KG,,UMOL/KG,,UMOL/KG,,PMOL/KG,,PMOL/KG,,FMOL/KG,,UMOL/KG,,UMOL/KG,,,,DEG C,,UMOL/KG,,ITS-90,,UG/KG,,UG/KG,,UG/L,,UMOL/KG,,/MILLE,,VOLTS,,VOLTS,,NMOL/KG,,/MILLE,,/MILLE,,/MILLE,,/MILLE,,,,,,,,,
33RR20230722  ,I05        ,98      ,  1,36         ,38         ,2,20230816,2246, -34.0019,  73.1267,     4082,      9.0,2,  15.5861,2,  35.4714,2,  35.4713,2,    249.3,2,    249.4,2,     1.17,2,     0.54,2,     0.05,2,     0.20,2,     -999,9,     -999,9,     -999,9,   2088.4,2,   2331.5,2,   7.9346,2,    25.03,2,     -999,1,  15.5865,2,     -999,9,     -999,9,     -999,9,     -999,1,     -999,1,   4.2457,1,   0.0562,1,     -999,9,     -999,9,     -999,9,     -999,9,     -999,9,20230817,0038, -34.0019,  73.1267,-999          ,9,-999          ,9
33RR20230722  ,I05        ,98      ,  1,35         ,35         ,2,20230816,2246, -34.0019,  73.1267,     4082,     19.0,2,  15.5873,2,  35.4715,2,  35.4713,2,    249.1,2,    250.0,2,     1.17,2,     0.49,2,     0.05,2,     0.21,2,    1.304,4,    1.421,2,   2.3500,2,   2090.4,2,   2330.8,2,   7.9348,2,    25.02,2,     -999,1,  15.5881,2,     -999,9,     -999,9,     -999,9,     -999,9,     -999,1,   4.9753,1,   0.0548,1,      8.3,2,     -999,9,     -999,9,     -999,9,     -999,9,20230817,0036, -34.0020,  73.1267,-999          ,9,-999          ,9
33RR20230722  ,I05        ,98      ,  1,34         ,34         ,2,20230816,2246, -34.0019,  73.1267,     4082,     33.5,2,  15.5743,2,  35.4708,2,  35.4717,2,    249.3,2,    249.8,2,     1.07,2,     0.49,2,     0.05,2,     0.20,2,     -999,9,     -999,9,     -999,9,   -999.0,9,     -999,9,     -999,9,     -999,9,     -999,1,  15.5789,2,     -999,9,     -999,9,     -999,9,     -999,1,     -999,1,   4.9752,1,   0.0540,1,     -999,9,     -999,9,     -999,9,     -999,9,     -999,9,20230817,0035, -34.0020,  73.1267,-999          ,9,-999          ,9
33RR20230722  ,I05        ,98      ,  1,33         ,33         ,2,20230816,2246, -34.0019,  73.1267,     4082,     50.5,2,  15.4440,2,  35.4687,2,  35.4506,2,    249.7,2,    248.1,2,     1.27,2,     0.94,2,     0.08,2,     0.23,2,     -999,9,     -999,9,     -999,9,   2087.0,2,   2328.9,2,   7.9255,6,    25.02,2,     -999,1,  15.4520,2,     -999,9,     -999,9,     -999,9,     -999,1,     -999,1,   4.9758,1,   0.0608,1,     -999,9,     -999,9,     -999,9,     -999,9,     -999,9,20230817,0033, -34.0020,  73.1267,-999          ,9,-999          ,9
33RR20230722  ,I05        ,98      ,  1,32         ,32         ,2,20230816,2246, -34.0019,  73.1267,     4082,     73.3,2,  14.6541,2,  35.3704,2,  35.3699,2,    236.9,2,    237.4,2,     1.66,2,     3.38,2,     0.14,2,     0.40,2,     -999,9,     -999,9,     -999,9,   -999.0,9,     -999,9,     -999,9,     -999,9,     -999,1,  14.6644,2,     -999,9,     -999,9,     -999,9,     -999,9,     -999,1,   4.9713,1,   0.0306,1,     -999,9,     -999,9,     -999,9,     -999,9,     -999,9,20230817,0031, -34.0020,  73.1266,-999          ,9,-999          ,9
33RR20230722  ,I05        ,98      ,  1,31         ,31         ,2,20230816,2246, -34.0019,  73.1267,     4082,     97.2,2,  14.0669,2,  35.3246,2,  35.3293,2,    232.8,2,    233.9,2,     1.95,2,     5.04,2,     0.05,2,     0.50,2,    2.487,4,    1.501,2,   2.3500,2,   2113.8,2,   2320.3,6,   7.8667,2,    25.03,2,     -999,1,  14.1205,2,     -999,9,     -999,9,     -999,9,     -999,1,     -999,1,   4.9703,1,   0.0193,1,      9.8,2,     -999,9,     -999,9,     -999,9,     -999,9,20230817,0029, -34.0020,  73.1267,-999          ,9,-999          ,9
33RR20230722  ,I05        ,98      ,  1,30         ,30         ,2,20230816,2246, -34.0019,  73.1267,     4082,    124.1,2,  13.7131,2,  35.2947,2,  35.2986,2,    232.7,2,    233.3,2,     2.24,2,     6.19,2,     0.02,2,     0.57,2,     -999,9,     -999,9,     -999,9,   2118.5,2,   2317.6,2,   7.8538,2,    25.03,2,     -999,1,  13.7152,2,     -999,9,     -999,9,     -999,9,     -999,1,     -999,1,   4.9286,1,   0.0141,1,     -999,9,     -999,9,     -999,9,     -999,9,     -999,9,20230817,0027, -34.0019,  73.1266,-999          ,9,-999          ,9
33RR20230722  ,I05        ,98      ,  1,29         ,29         ,2,20230816,2246, -34.0019,  73.1267,     4082,    153.7,2,  13.4422,2,  35.2636,2,  35.2633,2,    233.9,2,    234.6,2,     2.44,2,     6.87,2,     0.00,2,     0.59,2,     -999,9,     -999,9,     -999,9,   2118.0,2,   2317.0,2,   7.8487,2,    25.03,2,     -999,1,  13.4410,2,     -999,9,     -999,9,     -999,9,     -999,9,     -999,1,   4.9695,1,   0.0127,1,     -999,9,     -999,9,     -999,9,     -999,9,     -999,9,20230817,0026, -34.0019,  73.1266,-999          ,9,-999          ,9
33RR20230722  ,I05        ,98      ,  1,28         ,28         ,2,20230816,2246, -34.0019,  73.1267,     4082,    185.9,2,  13.2210,2,  35.2374,2,  35.2377,2,    235.8,2,    236.0,2,     2.63,2,     7.35,2,     0.00,2,     0.61,2,    2.876,4,    1.607,2,   2.3800,2,   2121.2,2,   2315.2,2,   7.8447,2,    25.01,2,     -999,1,  13.2192,2,     -999,9,     -999,9,     -999,9,     -999,9,     -999,1,   4.9695,1,   0.0123,1,     10.0,2,     -999,9,     -999,9,     -999,9,     -999,9,20230817,0024, -34.0020,  73.1267,-999          ,9,-999          ,9
33RR20230722  ,I05        ,98      ,  1,27         ,27         ,2,20230816,2246, -34.0019,  73.1267,     4082,    216.7,2,  13.0398,2,  35.2153,2,  35.2138,2,    237.0,2,    237.3,2,     2.73,2,     7.81,2,     0.00,2,     0.64,2,     -999,9,     -999,9,     -999,9,   2121.3,2,   2312.7,2,   7.8401,2,    25.02,2,     -999,1,  13.0389,2,     -999,9,     -999,9,     -999,9,     -999,1,     -999,1,   4.9047,1,   0.0117,1,     -999,9,     -999,9,     -999,9,     -999,9,     -999,9,20230817,0022, -34.0020,  73.1266,-999          ,9,-999          ,9
33RR20230722  ,I05        ,98      ,  1,26         ,26         ,2,20230816,2246, -34.0019,  73.1267,     4082,    252.5,2,  12.8320,2,  35.1872,2,  35.1865,2,    238.2,2,    237.7,2,     2.93,2,     8.19,2,     0.00,2,     0.65,2,     -999,9,     -999,9,     -999,9,   2121.8,2,   2311.8,2,   7.8355,2,    25.01,2,     -999,1,  12.8330,2,     -999,9,     -999,9,     -999,9,     -999,1,     -999,1,   4.9693,1,   0.0116,1,     -999,9,     -999,9,     -999,9,     -999,9,     -999,9,20230817,0021, -34.0020,  73.1267,-999          ,9,-999          ,9
33RR20230722  ,I05        ,98      ,  1,25         ,25         ,2,20230816,2246, -34.0019,  73.1267,     4082,    297.4,2,  12.6303,2,  35.1557,2,  35.1571,2,    237.9,2,    237.4,2,     3.03,2,     8.68,2,     0.00,2,     0.69,2,    3.227,4,    1.547,2,   2.2800,2,   2123.0,2,   2308.9,2,   7.8312,2,    25.03,2,     -999,1,  12.6257,2,     -999,9,     -999,9,     -999,9,     -999,9,     -999,1,   4.9685,1,   0.0117,1,     10.7,2,     -999,9,     -999,9,     -999,9,     -999,9,20230817,0019, -34.0019,  73.1267,-999          ,9,-999          ,9
33RR20230722  ,I05        ,98      ,  1,24         ,24         ,2,20230816,2246, -34.0019,  73.1267,     4082,    348.9,2,  12.3960,2,  35.1173,2,  35.1161,2,    238.8,2,    237.9,2,     3.12,2,     9.30,2,     0.00,2,     0.73,2,     -999,9,     -999,9,     -999,9,   -999.0,9,     -999,9,     -999,9,     -999,9,     -999,1,  12.3937,2,     -999,9,     -999,9,     -999,9,     -999,9,     -999,1,   4.9304,1,   0.0116,1,     -999,9,     -999,9,     -999,9,     -999,9,     -999,9,20230817,0017, -34.0019,  73.1266,-999          ,9,-999          ,9
33RR20230722  ,I05        ,98      ,  1,23         ,23         ,2,20230816,2246, -34.0019,  73.1267,     4082,    414.0,2,  11.9701,2,  35.0464,2,  35.0492,2,    234.8,2,    234.0,2,     3.61,2,    10.78,2,     0.00,2,     0.82,2,    3.160,4,    1.565,2,   2.2100,2,   2127.4,2,   2305.5,2,   7.8122,2,    25.02,2,     -999,1,  11.9778,2,     -999,9,     -999,9,     -999,9,     -999,9,     -999,1,   4.9676,1,   0.0117,1,     10.9,2,     -999,9,     -999,9,     -999,9,     -999,9,20230817,0014, -34.0019,  73.1266,-999          ,9,-999          ,9
33RR20230722  ,I05        ,98      ,  1,22         ,22         ,2,20230816,2246, -34.0019,  73.1267,     4082,    487.5,2,  11.5751,2,  34.9849,2,  34.9829,2,    234.3,2,    233.8,2,     3.90,2,    11.73,2,     0.00,2,     0.89,2,     -999,9,     -999,9,     -999,9,   2130.7,2,   2302.5,2,   7.8016,2,    25.03,2,     -999,1,  11.5712,2,     -999,9,     -999,9,     -999,9,     -999,9,     -999,1,   4.9673,1,   0.0114,1,     -999,9,     -999,9,     -999,9,     -999,9,     -999,9,20230817,0012, -34.0019,  73.1266,-999          ,9,-999          ,9
33RR20230722  ,I05        ,98      ,  1,21         ,21         ,2,20230816,2246, -34.0019,  73.1267,     4082,    570.7,2,  11.0722,2,  34.9133,2,  34.9146,2,    229.7,2,    229.3,2,     4.39,2,    13.21,2,     0.00,2,     0.96,2,    3.482,4,    1.748,2,   1.9300,2,   2131.9,2,   2297.0,2,   7.7852,2,    25.02,2,     -999,1,  11.0732,2,     -999,9,     -999,9,     -999,9,     -999,9,     -999,1,   4.9666,1,   0.0116,1,     11.5,2,     -999,9,     -999,9,     -999,9,     -999,9,20230817,0009, -34.0019,  73.1266,-999          ,9,-999          ,9
33RR20230722  ,I05        ,98      ,  1,20         ,20         ,2,20230816,2246, -34.0019,  73.1267,     4082,    668.0,2,  10.1254,2,  34.7821,2,  34.7813,2,    223.1,2,    223.3,2,     5.76,2,    16.11,2,     0.00,2,     1.15,2,    3.412,4,    1.682,2,   1.7100,2,   -999.0,9,     -999,9,     -999,9,     -999,9,     -999,1,  10.1233,2,     -999,9,     -999,9,     -999,9,     -999,9,     -999,1,   4.9667,1,   0.0114,1,     12.5,2,     -999,9,     -999,9,     -999,9,     -999,9,20230817,0007, -34.0019,  73.1267,-999          ,9,-999          ,9
33RR20230722  ,I05        ,98      ,  1,19         ,19         ,2,20230816,2246, -34.0019,  73.1267,     4082,    778.4,2,   9.0800,2,  34.6598,2,  34.6545,2,    213.7,2,    213.8,2,     8.59,2,    19.53,2,     0.00,2,     1.36,2,     -999,9,     -999,9,     -999,9,   2155.7,2,   2289.8,2,   7.7236,6,    25.02,2,     -999,1,   9.0735,2,     -999,9,     -999,9,     -999,9,     -999,9,     -999,1,   4.9674,1,   0.0112,1,     -999,9,     -999,9,     -999,9,     -999,9,     -999,9,20230817,0003, -34.0020,  73.1267,-999          ,9,-999          ,9
33RR20230722  ,I05        ,98      ,  1,18         ,18         ,2,20230816,2246, -34.0019,  73.1267,     4082,    897.4,2,   7.2881,2,  34.4890,2,  34.4842,2,    207.5,2,    207.6,2,    15.62,2,    24.58,2,     0.00,2,     1.71,2,    3.071,4,    1.613,2,   1.3400,2,   2170.5,2,   2288.6,2,   7.6697,2,    25.03,2,     -999,1,   7.2883,2,     -999,9,     -999,9,     -999,9,     -999,9,     -999,1,   4.9688,1,   0.0114,1,     15.7,2,     -999,9,     -999,9,     -999,9,     -999,9,20230817,0000, -34.0020,  73.1266,-999          ,9,-999          ,9
33RR20230722  ,I05        ,98      ,  1,17         ,17         ,2,20230816,2246, -34.0019,  73.1267,     4082,   1019.3,2,   5.6499,2,  34.3732,2,  34.3694,2,    207.9,2,    208.9,2,    23.53,2,    28.14,2,     0.00,2,     1.94,2,    4.435,4,    1.498,2,   1.1300,2,   2183.9,2,   2289.0,2,   7.6325,2,    25.01,2,     -999,1,   5.6554,2,     -999,9,     -999,9,     -999,9,     -999,9,     -999,1,   4.9696,1,   0.0112,1,     17.3,2,     -999,9,     -999,9,     -999,9,     -999,9,20230816,2357, -34.0020,  73.1267,-999          ,9,-999          ,9
33RR20230722  ,I05        ,98      ,  1,16         ,16         ,2,20230816,2246, -34.0019,  73.1267,     4082,   1144.1,2,   4.4101,2,  34.3447,2,  34.3450,2,    203.4,2,    203.2,2,    34.27,2,    30.76,2,     0.00,2,     2.13,2,     -999,9,     -999,9,     -999,9,   2200.4,2,   2294.8,2,   7.6076,2,    25.02,2,     -999,1,   4.4204,2,     -999,9,     -999,9,     -999,9,     -999,9,     -999,1,   4.7460,1,   0.0111,1,     -999,9,     -999,9,     -999,9,     -999,9,     -999,9,20230816,2354, -34.0020,  73.1267,-999          ,9,-999          ,9
33RR20230722  ,I05        ,98      ,  1,15         ,15         ,2,20230816,2246, -34.0019,  73.1267,     4082,   1260.7,2,   3.8907,2,  34.3789,2,  34.3796,2,    191.5,2,    192.3,2,    43.94,2,    32.30,2,     0.00,2,     2.25,2,     -999,9,     -999,9,     -999,9,   2218.8,2,   2304.7,2,   7.5895,2,    25.02,2,     -999,1,   3.8898,2,     -999,9,     -999,9,     -999,9,     -999,9,     -999,1,   4.9717,1,   0.0113,1,     -999,9,     -999,9,     -999,9,     -999,9,     -999,9,20230816,2350, -34.0020,  73.1267,-999          ,9,-999          ,9
33RR20230722  ,I05        ,98      ,  1,14         ,14         ,2,20230816,2246, -34.0019,  73.1267,     4082,   1384.8,2,   3.4591,2,  34.4445,2,  34.4463,2,    177.9,2,    177.8,2,    56.04,2,    33.50,2,     0.00,2,     2.34,2,    1.363,4,    0.571,2,   0.2700,2,   -999.0,9,     -999,9,     -999,9,     -999,9,     -999,1,   3.4580,2,     -999,9,     -999,9,     -999,9,     -999,9,     -999,1,   4.9733,1,   0.0113,1,     21.3,2,     -999,9,     -999,9,     -999,9,     -999,9,20230816,2347, -34.0020,  73.1267,-999          ,9,-999          ,9
33RR20230722  ,I05        ,98      ,  1,13         ,13         ,2,20230816,2246, -34.0019,  73.1267,     4082,   1501.4,2,   3.1483,2,  34.5006,2,  34.5030,2,    172.8,2,    172.6,2,    63.36,2,    33.77,2,     0.00,2,     2.34,2,     -999,9,     -999,9,     -999,9,   2240.7,2,   2323.7,2,   7.5670,2,    25.03,2,     -999,1,   3.1455,2,     -999,9,     -999,9,     -999,9,     -999,9,     -999,1,   4.9737,1,   0.0113,1,     -999,9,     -999,9,     -999,9,     -999,9,     -999,9,20230816,2344, -34.0020,  73.1266,-999          ,9,-999          ,9
33RR20230722  ,I05        ,98      ,  1,12         ,12         ,2,20230816,2246, -34.0019,  73.1267,     4082,   1620.8,2,   2.8752,2,  34.5702,2,  34.5712,2,    170.9,2,    170.9,2,    69.90,2,    33.50,2,     0.00,2,     2.33,2,     -999,9,     -999,9,     -999,9,   2251.2,6,   2330.8,2,   7.5685,2,    25.03,2,     -999,1,   2.8753,2,     -999,9,     -999,9,     -999,9,     -999,9,     -999,1,   4.9742,1,   0.0117,1,     -999,9,     -999,9,     -999,9,     -999,9,     -999,9,20230816,2341, -34.0020,  73.1267,-999          ,9,-999          ,9
33RR20230722  ,I05        ,98      ,  1,11         ,11         ,2,20230816,2246, -34.0019,  73.1267,     4082,   1759.5,2,   2.6940,2,  34.6258,2,  34.6258,2,    173.0,2,    172.9,2,    73.51,2,    32.83,2,     0.00,2,     2.29,2,    0.303,4,    0.153,2,   0.0800,2,   2249.6,2,   2335.0,2,   7.5780,6,    25.03,2,     -999,1,   2.6941,2,     -999,9,     -999,9,     -999,9,     -999,9,     -999,1,   4.9742,1,   0.0112,1,     20.4,2,     -999,9,     -999,9,     -999,9,     -999,9,20230816,2337, -34.0019,  73.1267,-999          ,9,-999          ,9
33RR20230722  ,I05        ,98      ,  1,10         ,10         ,2,20230816,2246, -34.0019,  73.1267,     4082,   1915.3,2,   2.5088,2,  34.6774,2,  34.6767,2,    178.4,2,    178.6,2,    77.32,2,    31.94,2,     0.00,2,     2.24,2,     -999,9,     -999,9,     -999,9,   -999.0,9,     -999,9,     -999,9,     -999,9,     -999,1,   2.5091,2,     -999,9,     -999,9,     -999,9,     -999,9,     -999,1,   4.9743,1,   0.0112,1,     -999,9,     -999,9,     -999,9,     -999,9,     -999,9,20230816,2333, -34.0020,  73.1267,-999          ,9,-999          ,9
33RR20230722  ,I05        ,98      ,  1,9          ,9          ,2,20230816,2246, -34.0019,  73.1267,     4082,   2125.9,2,   2.3170,2,  34.7102,2,  34.7103,2,    182.5,2,    182.8,2,    83.56,2,    31.39,2,     0.00,2,     2.18,2,     -999,9,     -999,9,     -999,9,   2250.5,2,   2347.4,6,   7.6018,2,    25.03,2,     -999,1,   2.3169,2,     -999,9,     -999,9,     -999,9,     -999,9,     -999,1,   4.8630,1,   0.0116,1,     -999,9,     -999,9,     -999,9,     -999,9,     -999,9,20230816,2329, -34.0019,  73.1266,-999          ,9,-999          ,9
33RR20230722  ,I05        ,98      ,  1,8          ,8          ,2,20230816,2246, -34.0019,  73.1267,     4082,   2385.0,2,   2.0323,2,  34.7259,2,  34.7258,2,    179.4,2,    179.6,2,   101.52,2,    32.09,2,     0.00,2,     2.25,2,    0.047,4,    0.013,2,   0.0500,2,   -999.0,9,     -999,9,     -999,9,     -999,9,     -999,1,   2.0322,2,     -999,9,     -999,9,     -999,9,     -999,9,     -999,1,   4.9752,1,   0.0117,1,     19.5,2,     -999,9,     -999,9,     -999,9,     -999,9,20230816,2323, -34.0020,  73.1267,-999          ,9,-999          ,9
33RR20230722  ,I05        ,98      ,  1,7          ,7          ,2,20230816,2246, -34.0019,  73.1267,     4082,   2703.1,2,   1.8278,2,  34.7263,2,  34.7260,2,    178.1,2,    178.1,2,   112.85,2,    32.72,2,     0.00,2,     2.31,2,     -999,9,     -999,9,     -999,9,   2278.2,2,   2377.7,2,   7.6068,6,    25.04,2,     -999,1,   1.8288,2,     -999,9,     -999,9,     -999,9,     -999,9,     -999,1,   4.9755,1,   0.0112,1,     -999,9,     -999,9,     -999,9,     -999,9,     -999,9,20230816,2316, -34.0020,  73.1267,-999          ,9,-999          ,9
33RR20230722  ,I05        ,98      ,  1,6          ,6          ,2,20230816,2246, -34.0019,  73.1267,     4082,   2975.8,2,   1.6779,2,  34.7240,2,  34.7239,2,    180.2,2,    180.1,2,   118.22,2,    33.00,2,     0.00,2,     2.32,2,     -999,9,     -999,9,     -999,9,   2281.2,2,   2380.2,2,   7.6062,2,    25.02,2,     -999,1,   1.6782,2,     -999,9,     -999,9,     -999,9,     -999,9,     -999,1,   4.9757,1,   0.0112,1,     -999,9,     -999,9,     -999,9,     -999,9,     -999,9,20230816,2311, -34.0019,  73.1266,-999          ,9,-999          ,9
33RR20230722  ,I05        ,98      ,  1,5          ,5          ,2,20230816,2246, -34.0019,  73.1267,     4082,   3308.1,2,   1.4891,2,  34.7185,2,  34.7180,2,    185.3,2,    185.3,2,   121.63,2,    33.00,2,     0.00,2,     2.31,2,   -0.043,4,    0.009,2,   0.0200,2,   2279.6,2,   2380.2,2,   7.6075,2,    25.01,2,     -999,1,   1.4890,2,     -999,9,     -999,9,     -999,9,     -999,9,     -999,1,   4.8157,1,   0.0112,1,     18.6,2,     -999,9,     -999,9,     -999,9,     -999,9,20230816,2304, -34.0019,  73.1267,-999          ,9,-999          ,9
33RR20230722  ,I05        ,98      ,  1,4          ,37         ,2,20230816,2246, -34.0019,  73.1267,     4082,   3556.7,2,   1.3271,2,  34.7129,2,  34.7125,2,    190.4,2,    190.7,2,   123.68,2,    33.01,2,     0.00,2,     2.31,2,     -999,9,     -999,9,     -999,9,   -999.0,9,     -999,9,     -999,9,     -999,9,     -999,1,   1.3265,2,     -999,9,     -999,9,     -999,9,     -999,9,     -999,1,   4.9761,1,   0.0111,1,     -999,9,     -999,9,     -999,9,     -999,9,     -999,9,20230816,2259, -34.0019,  73.1266,-999          ,9,-999          ,9
33RR20230722  ,I05        ,98      ,  1,3          ,3          ,2,20230816,2246, -34.0019,  73.1267,     4082,   3743.1,2,   1.2388,2,  34.7099,2,  34.7093,2,    193.5,2,    193.7,2,   124.27,2,    33.10,2,     0.00,2,     2.31,2,    0.000,4,    0.021,2,   0.0200,2,   2276.7,2,   2377.5,2,   7.6113,2,    25.02,2,     -999,1,   1.2387,2,     -999,9,     -999,9,     -999,9,     -999,9,     -999,1,   4.7754,1,   0.0117,1,     18.3,2,     -999,9,     -999,9,     -999,9,     -999,9,20230816,2254, -34.0020,  73.1267,-999          ,9,-999          ,9