BOTTLE,20240422CCHHYDRO
EXPOCODE,SECT_ID,STNNBR,CASTNO,SAMPNO,BTLNBR,BTLNBR_FLAG_W,DATE,TIME,LATITUDE,LONGITUDE,DEPTH,CTDPRS,CTDPRS_FLAG_W,CTDTMP,CTDTMP_FLAG_W,CTDSAL,CTDSAL_FLAG_W,SALNTY,SALNTY_FLAG_W,CTDOXY,CTDOXY_FLAG_W,OXYGEN,OXYGEN_FLAG_W,SILCAT,SILCAT_FLAG_W,NITRAT,NITRAT_FLAG_W,NITRIT,NITRIT_FLAG_W,PHSPHT,PHSPHT_FLAG_W,CFC-11,CFC-11_FLAG_W,CFC-12,CFC-12_FLAG_W,SF6,SF6_FLAG_W,TCARBN,TCARBN_FLAG_W,ALKALI,ALKALI_FLAG_W,PH_TOT,PH_TOT_FLAG_W,PH_TMP,PH_TMP_FLAG_W,DOC,DOC_FLAG_W,REFTMP,REFTMP_FLAG_W,POC,POC_FLAG_W,PON,PON_FLAG_W,POP,POP_FLAG_W,DOP,DOP_FLAG_W,DELO18,DELO18_FLAG_W,CTDFLUOR,CTDFLUOR_FLAG_W,CTDXMISS,CTDXMISS_FLAG_W,N2O,N2O_FLAG_W,D15N_NO3,D15N_NO3_FLAG_W,D15N_NO2+NO3,D15N_NO2+NO3_FLAG_W,D18O_NO2+NO3,D18O_NO2+NO3_FLAG_W,D18O_NO3,D18O_NO3_FLAG_W,BTL_DATE,BTL_TIME,BTL_LAT,BTL_LON,HPLC,HPLC_FLAG_W,DNA,DNA_FLAG_W
,,,,,,,,,,,METERS,DBAR,,ITS-90,,PSS-78,,PSS-78,,UMOL/KG,,UMOL/KG,,UMOL/KG,,UMOL/KG,,UMOL/KG,,UMOL/KG,,PMOL/KG,,PMOL/KG,,FMOL/KG,,UMOL/KG,,UMOL/KG,,,,DEG C,,UMOL/KG,,ITS-90,,UG/KG,,UG/KG,,UG/L,,UMOL/KG,,/MILLE,,VOLTS,,VOLTS,,NMOL/KG,,/MILLE,,/MILLE,,/MILLE,,/MILLE,,,,,,,,,
33RR20230722  ,I05        ,136     ,  2,32         ,32         ,2,20230827,1030, -33.9978,  54.8834,     3902,      4.2,2,  15.9513,2,  35.5195,2,  35.5192,2,    250.7,2,    250.0,2,     1.76,2,     0.33,2,     0.05,2,     0.19,2,     -999,9,     -999,9,     -999,9,   2083.3,6,   2330.0,2,   7.9415,2,    25.00,2,     -999,1,  15.9492,2,     -999,9,     -999,9,     -999,9,     -999,9,     -999,9,   1.2399,1,   0.0560,1,     -999,9,     -999,9,     -999,9,     -999,9,     -999,9,20230827,1211, -33.9978,  54.8834,-999          ,9,-999          ,9
33RR20230722  ,I05        ,136     ,  2,31         ,31         ,2,20230827,1030, -33.9978,  54.8834,     3902,     40.0,2,  15.8387,2,  35.5295,2,  35.5296,2,    247.9,2,    247.0,2,     1.56,2,     0.44,2,     0.06,2,     0.18,2,     -999,9,     -999,9,     -999,9,   2086.9,2,   2330.4,2,   7.9370,6,    25.02,2,     -999,1,  15.8380,2,     -999,9,     -999,9,     -999,9,     -999,9,     -999,9,   4.9745,1,   0.0587,1,     -999,9,     -999,9,     -999,9,     -999,9,     -999,9,20230827,1209, -33.9979,  54.8834,-999          ,9,-999          ,9
33RR20230722  ,I05        ,136     ,  2,30         ,30         ,2,20230827,1030, -33.9978,  54.8834,     3902,     71.0,2,  15.6239,2,  35.5121,2,  35.5121,2,    243.2,2,    243.0,2,     1.95,2,     1.34,2,     0.18,2,     0.23,2,     -999,9,     -999,9,     -999,9,   2088.6,2,   2329.7,2,   7.9261,2,    25.00,2,     -999,1,  15.6239,2,     -999,9,     -999,9,     -999,9,     -999,9,     -999,9,   4.9733,1,   0.0283,1,     -999,9,     -999,9,     -999,9,     -999,9,     -999,9,20230827,1207, -33.9978,  54.8834,-999          ,9,-999          ,9
33RR20230722  ,I05        ,136     ,  2,29         ,29         ,2,20230827,1030, -33.9978,  54.8834,     3902,    100.3,2,  15.2485,2,  35.4780,2,  35.4776,2,    236.1,2,    237.2,2,     2.24,2,     3.00,2,     0.07,2,     0.34,2,     -999,9,     -999,9,     -999,9,   2097.8,2,   2326.5,2,   7.4992,4,    25.01,2,     -999,1,  15.2384,2,     -999,9,     -999,9,     -999,9,     -999,9,     -999,9,   4.9718,1,   0.0172,1,     -999,9,     -999,9,     -999,9,     -999,9,     -999,9,20230827,1205, -33.9978,  54.8834,-999          ,9,-999          ,9
33RR20230722  ,I05        ,136     ,  2,28         ,28         ,2,20230827,1030, -33.9978,  54.8834,     3902,    133.4,2,  14.8616,2,  35.4339,2,  35.4318,2,    231.8,2,    232.4,2,     2.54,2,     4.18,2,     0.03,2,     0.41,2,     -999,9,     -999,9,     -999,9,   2106.0,2,   2323.7,2,   7.8876,2,    25.00,2,     -999,1,  14.8596,2,     -999,9,     -999,9,     -999,9,     -999,9,     -999,9,   4.9706,1,   0.0144,1,     -999,9,     -999,9,     -999,9,     -999,9,     -999,9,20230827,1203, -33.9978,  54.8834,-999          ,9,-999          ,9
33RR20230722  ,I05        ,136     ,  2,27         ,27         ,2,20230827,1030, -33.9978,  54.8834,     3902,    169.6,2,  14.3441,2,  35.3720,2,  35.3723,2,    225.9,2,    226.9,2,     3.02,2,     6.01,2,     0.02,2,     0.53,2,     -999,9,     -999,9,     -999,9,   2116.2,2,   2320.9,2,   7.8656,6,    25.00,2,     -999,1,  14.3432,2,     -999,9,     -999,9,     -999,9,     -999,9,     -999,9,   4.9692,1,   0.0121,1,     -999,9,     -999,9,     -999,9,     -999,9,     -999,9,20230827,1201, -33.9979,  54.8834,-999          ,9,-999          ,9
33RR20230722  ,I05        ,136     ,  2,26         ,26         ,2,20230827,1030, -33.9978,  54.8834,     3902,    207.3,2,  13.8678,2,  35.3245,2,  35.3261,2,    228.0,2,    228.6,2,     3.22,2,     6.96,2,     0.00,2,     0.59,2,     -999,9,     -999,9,     -999,9,   2117.9,2,   2318.4,6,   7.8552,2,    25.00,2,     -999,1,  13.8653,2,     -999,9,     -999,9,     -999,9,     -999,9,     -999,9,   4.9688,1,   0.0120,1,     -999,9,     -999,9,     -999,9,     -999,9,     -999,9,20230827,1159, -33.9979,  54.8834,-999          ,9,-999          ,9
33RR20230722  ,I05        ,136     ,  2,25         ,25         ,2,20230827,1030, -33.9978,  54.8834,     3902,    250.6,2,  13.6171,2,  35.2931,2,  35.2942,2,    229.0,2,    229.2,2,     3.32,2,     7.54,2,     0.00,2,     0.60,2,     -999,9,     -999,9,     -999,9,   2118.9,2,   2317.4,2,   7.8489,2,    25.02,2,     -999,1,  13.6078,2,     -999,9,     -999,9,     -999,9,     -999,9,     -999,9,   4.9685,1,   0.0113,1,     -999,9,     -999,9,     -999,9,     -999,9,     -999,9,20230827,1157, -33.9979,  54.8834,-999          ,9,-999          ,9
33RR20230722  ,I05        ,136     ,  2,24         ,24         ,2,20230827,1030, -33.9978,  54.8834,     3902,    306.0,2,  13.3259,2,  35.2557,2,  35.2558,2,    231.4,2,    231.3,2,     3.51,2,     8.01,2,     0.00,2,     0.64,2,    2.525,2,    1.580,2,   2.3000,2,   2119.4,2,   2314.1,2,   7.8456,2,    24.99,2,     -999,1,  13.3245,2,     -999,9,     -999,9,     -999,9,     -999,9,     -999,9,   4.8782,1,   0.0106,1,     10.5,2,     -999,9,     -999,9,     -999,9,     -999,9,20230827,1155, -33.9979,  54.8834,-999          ,9,-999          ,9
33RR20230722  ,I05        ,136     ,  2,23         ,23         ,2,20230827,1030, -33.9978,  54.8834,     3902,    371.3,2,  13.0168,2,  35.2108,2,  35.2123,2,    231.7,2,    231.6,2,     3.51,2,     8.66,2,     0.00,2,     0.68,2,     -999,9,     -999,9,     -999,9,   2120.9,2,   2312.9,2,   7.8364,2,    25.01,2,     -999,1,  13.0147,2,     -999,9,     -999,9,     -999,9,     -999,9,     -999,9,   4.9679,1,   0.0115,1,     -999,9,     -999,9,     -999,9,     -999,9,     -999,9,20230827,1153, -33.9979,  54.8834,-999          ,9,-999          ,9
33RR20230722  ,I05        ,136     ,  2,22         ,22         ,2,20230827,1030, -33.9978,  54.8834,     3902,    445.7,2,  12.4308,2,  35.1185,2,  35.1207,2,    228.2,2,    228.1,2,     3.90,2,    10.26,2,     0.00,2,     0.78,2,     -999,9,     -999,9,     -999,9,   2127.8,2,   2307.2,2,   7.8183,2,    24.98,2,     -999,1,  12.4290,2,     -999,9,     -999,9,     -999,9,     -999,9,     -999,9,   4.9674,1,   0.0115,1,     -999,9,     -999,9,     -999,9,     -999,9,     -999,9,20230827,1151, -33.9979,  54.8834,-999          ,9,-999          ,9
33RR20230722  ,I05        ,136     ,  2,21         ,21         ,2,20230827,1030, -33.9978,  54.8834,     3902,    529.0,2,  11.7686,2,  35.0171,2,  35.0187,2,    227.4,2,    227.1,2,     4.29,2,    11.83,2,     0.00,2,     0.88,2,    2.934,2,    1.740,2,   2.0300,2,   2129.4,2,   2306.0,2,   7.8017,6,    25.00,2,     -999,1,  11.7660,2,     -999,9,     -999,9,     -999,9,     -999,9,     -999,9,   4.9668,1,   0.0114,1,     11.3,2,     -999,9,     -999,9,     -999,9,     -999,9,20230827,1149, -33.9978,  54.8834,-999          ,9,-999          ,9
33RR20230722  ,I05        ,136     ,  2,20         ,20         ,2,20230827,1030, -33.9978,  54.8834,     3902,    620.2,2,  10.8925,2,  34.8923,2,  34.8938,2,    222.5,2,    222.5,2,     5.27,2,    14.22,2,     0.00,2,     1.03,2,     -999,9,     -999,9,     -999,9,   2136.8,2,   2298.7,2,   7.7769,2,    24.98,2,     -999,1,  10.8958,2,     -999,9,     -999,9,     -999,9,     -999,9,     -999,9,   4.9666,1,   0.0114,1,     -999,9,     -999,9,     -999,9,     -999,9,     -999,9,20230827,1146, -33.9979,  54.8834,-999          ,9,-999          ,9
33RR20230722  ,I05        ,136     ,  2,19         ,19         ,2,20230827,1030, -33.9978,  54.8834,     3902,    720.2,2,   9.7770,2,  34.7470,2,  34.7486,2,    216.8,2,    216.9,2,     7.51,2,    17.35,2,     0.00,2,     1.24,2,     -999,9,     -999,9,     -999,9,   2142.8,2,   2294.9,2,   7.7450,2,    24.98,2,     -999,1,   9.7777,2,     -999,9,     -999,9,     -999,9,     -999,9,     -999,9,   4.9671,1,   0.0115,1,     -999,9,     -999,9,     -999,9,     -999,9,     -999,9,20230827,1143, -33.9978,  54.8834,-999          ,9,-999          ,9
33RR20230722  ,I05        ,136     ,  2,18         ,18         ,2,20230827,1030, -33.9978,  54.8834,     3902,    830.6,2,   8.5832,2,  34.6161,2,  34.6197,2,    210.9,2,    211.1,2,    11.03,2,    20.75,2,     0.00,2,     1.43,2,    2.852,2,    1.745,2,   1.4700,2,   2158.9,2,   2290.0,2,   7.7086,2,    25.00,2,     -999,1,   8.6001,2,     -999,9,     -999,9,     -999,9,     -999,9,     -999,9,   4.9680,1,   0.0113,1,     14.8,2,     -999,9,     -999,9,     -999,9,     -999,9,20230827,1140, -33.9979,  54.8834,-999          ,9,-999          ,9
33RR20230722  ,I05        ,136     ,  2,17         ,17         ,2,20230827,1030, -33.9978,  54.8834,     3902,    949.3,2,   6.5489,2,  34.4376,2,  34.4377,2,    208.2,2,    208.2,2,    19.23,2,    25.94,2,     0.00,2,     1.80,2,    2.606,2,    1.637,2,   1.3000,2,   2176.6,2,   2287.1,2,   7.6538,2,    24.99,2,     -999,1,   6.5480,2,     -999,9,     -999,9,     -999,9,     -999,9,     -999,9,   4.9693,1,   0.0113,1,     17.3,2,     -999,9,     -999,9,     -999,9,     -999,9,20230827,1137, -33.9978,  54.8834,-999          ,9,-999          ,9
33RR20230722  ,I05        ,136     ,  2,16         ,16         ,2,20230827,1030, -33.9978,  54.8834,     3902,   1070.9,2,   5.1394,2,  34.3657,2,  34.3664,2,    204.7,2,    205.0,2,    28.31,2,    29.18,2,     0.00,2,     2.01,2,    2.735,2,    1.414,2,   0.9400,2,   2191.5,2,   2292.6,2,   7.6231,2,    25.02,2,     -999,1,   5.1407,2,     -999,9,     -999,9,     -999,9,     -999,9,     -999,9,   4.9701,1,   0.0112,1,     19.1,2,     -999,9,     -999,9,     -999,9,     -999,9,20230827,1134, -33.9979,  54.8834,-999          ,9,-999          ,9
33RR20230722  ,I05        ,136     ,  2,15         ,15         ,2,20230827,1030, -33.9978,  54.8834,     3902,   1196.0,2,   4.3210,2,  34.3689,2,  34.3688,2,    196.8,2,    197.3,2,    38.27,2,    31.17,2,     0.00,2,     2.15,2,     -999,9,     -999,9,     -999,9,   2206.3,6,   2300.4,2,   7.6025,6,    25.01,2,     -999,1,   4.3177,2,     -999,9,     -999,9,     -999,9,     -999,9,     -999,9,   4.3752,1,   0.0112,1,     -999,9,     -999,9,     -999,9,     -999,9,     -999,9,20230827,1131, -33.9979,  54.8834,-999          ,9,-999          ,9
33RR20230722  ,I05        ,136     ,  2,14         ,14         ,2,20230827,1030, -33.9978,  54.8834,     3902,   1331.3,2,   3.7234,2,  34.4212,2,  34.4192,2,    185.0,2,    185.6,2,    49.78,2,    32.69,2,     0.00,2,     2.27,2,    1.442,2,    0.798,2,   0.4300,2,   2222.4,2,   2310.2,2,   7.5837,6,    25.01,2,     -999,1,   3.7312,2,     -999,9,     -999,9,     -999,9,     -999,9,     -999,9,   4.9725,1,   0.0112,1,     21.2,2,     -999,9,     -999,9,     -999,9,     -999,9,20230827,1128, -33.9978,  54.8834,-999          ,9,-999          ,9
33RR20230722  ,I05        ,136     ,  2,13         ,13         ,2,20230827,1030, -33.9978,  54.8834,     3902,   1477.0,2,   3.3287,2,  34.4851,2,  34.4858,2,    176.9,2,    176.5,2,    59.15,2,    33.35,2,     0.00,2,     2.33,2,    1.030,2,    0.513,2,   0.3200,2,   2235.3,2,   2320.4,6,   7.5738,2,    25.02,2,     -999,1,   3.3279,2,     -999,9,     -999,9,     -999,9,     -999,9,     -999,9,   4.9735,1,   0.0117,1,     22.2,2,     -999,9,     -999,9,     -999,9,     -999,9,20230827,1124, -33.9978,  54.8834,-999          ,9,-999          ,9
33RR20230722  ,I05        ,136     ,  2,12         ,12         ,2,20230827,1030, -33.9978,  54.8834,     3902,   1627.8,2,   2.9894,2,  34.5588,2,  34.5598,2,    173.5,2,    173.3,2,    67.25,2,    33.26,2,     0.00,2,     2.31,2,    0.555,2,    0.302,2,   0.1600,2,   2244.7,2,   2329.0,2,   7.5736,2,    25.00,2,     -999,1,   2.9897,2,     -999,9,     -999,9,     -999,9,     -999,9,     -999,9,   4.9738,1,   0.0112,1,     22.0,2,     -999,9,     -999,9,     -999,9,     -999,9,20230827,1121, -33.9978,  54.8834,-999          ,9,-999          ,9
33RR20230722  ,I05        ,136     ,  2,11         ,11         ,2,20230827,1030, -33.9978,  54.8834,     3902,   1766.8,2,   2.7995,2,  34.6096,2,  34.6079,2,    174.9,2,    174.6,2,    71.54,2,    32.77,2,     0.00,2,     2.29,2,     -999,9,     -999,9,     -999,9,   2246.5,2,   2335.2,2,   7.5796,2,    25.00,2,     -999,1,   2.7980,2,     -999,9,     -999,9,     -999,9,     -999,9,     -999,9,   4.9740,1,   0.0112,1,     -999,9,     -999,9,     -999,9,     -999,9,     -999,9,20230827,1117, -33.9979,  54.8834,-999          ,9,-999          ,9
33RR20230722  ,I05        ,136     ,  2,10         ,10         ,2,20230827,1030, -33.9978,  54.8834,     3902,   1911.9,2,   2.6266,2,  34.6502,2,  34.6496,2,    178.7,2,    178.7,2,    76.71,2,    32.11,2,     0.00,2,     2.25,2,    0.264,2,    0.142,2,   0.0500,2,   2248.2,2,   2342.4,2,   7.5916,2,    24.99,2,     -999,1,   2.6267,2,     -999,9,     -999,9,     -999,9,     -999,9,     -999,9,   4.9741,1,   0.0112,1,     20.8,2,     -999,9,     -999,9,     -999,9,     -999,9,20230827,1114, -33.9979,  54.8834,-999          ,9,-999          ,9
33RR20230722  ,I05        ,136     ,  2,9          ,9          ,2,20230827,1030, -33.9978,  54.8834,     3902,   2079.9,2,   2.4200,2,  34.6965,2,  34.6958,2,    183.2,2,    183.2,2,    81.69,2,    31.39,2,     0.00,2,     2.19,2,    0.159,2,    0.084,2,   0.0400,2,   2245.2,2,   2346.6,2,   7.6034,2,    24.97,2,     -999,1,   2.4223,2,     -999,9,     -999,9,     -999,9,     -999,9,     -999,9,   4.9743,1,   0.0115,1,     19.9,2,     -999,9,     -999,9,     -999,9,     -999,9,20230827,1110, -33.9979,  54.8834,-999          ,9,-999          ,9
33RR20230722  ,I05        ,136     ,  2,8          ,8          ,2,20230827,1030, -33.9978,  54.8834,     3902,   2330.3,2,   2.1816,2,  34.7221,2,  34.7213,2,    188.8,2,    189.0,2,    87.54,2,    30.95,2,     0.00,2,     2.18,2,     -999,9,     -999,9,     -999,9,   2252.7,2,   2353.3,2,   7.6121,2,    25.00,2,     -999,1,   2.1814,2,     -999,9,     -999,9,     -999,9,     -999,9,     -999,9,   4.9743,1,   0.0111,1,     -999,9,     -999,9,     -999,9,     -999,9,     -999,9,20230827,1105, -33.9979,  54.8834,-999          ,9,-999          ,9
33RR20230722  ,I05        ,136     ,  2,7          ,7          ,2,20230827,1030, -33.9978,  54.8834,     3902,   2696.4,2,   1.9063,2,  34.7351,2,  34.7343,2,    193.2,2,    193.4,2,    95.74,2,    30.86,2,     0.00,2,     2.16,2,    0.101,2,    0.056,2,   0.0200,2,   2253.7,2,   2358.5,2,   7.6176,2,    25.00,2,     -999,1,   1.9080,2,     -999,9,     -999,9,     -999,9,     -999,9,     -999,9,   4.9745,1,   0.0111,1,     18.8,2,     -999,9,     -999,9,     -999,9,     -999,9,20230827,1057, -33.9979,  54.8834,-999          ,9,-999          ,9
33RR20230722  ,I05        ,136     ,  2,6          ,6          ,2,20230827,1030, -33.9978,  54.8834,     3902,   2873.6,2,   1.7364,2,  34.7340,2,  34.7335,2,    195.9,2,    196.3,2,   100.42,2,    30.92,2,     0.00,2,     2.16,2,    0.112,2,    0.061,2,   0.0200,2,   2257.9,2,   2358.2,2,   7.6172,2,    25.00,2,     -999,1,   1.7360,2,     -999,9,     -999,9,     -999,9,     -999,9,     -999,9,   4.9748,1,   0.0114,1,     18.7,2,     -999,9,     -999,9,     -999,9,     -999,9,20230827,1053, -33.9979,  54.8834,-999          ,9,-999          ,9
33RR20230722  ,I05        ,136     ,  2,5          ,5          ,2,20230827,1030, -33.9978,  54.8834,     3902,   3359.0,2,   1.3750,2,  34.7236,2,  34.7231,2,    202.9,2,    203.4,2,   108.82,2,    31.19,2,     0.00,2,     2.18,2,    0.149,2,    0.083,2,   0.0900,2,   2257.4,2,   2359.4,2,   7.6158,2,    25.01,2,     -999,1,   1.3740,2,     -999,9,     -999,9,     -999,9,     -999,9,     -999,9,   4.9749,1,   0.0110,1,     18.3,2,     -999,9,     -999,9,     -999,9,     -999,9,20230827,1044, -33.9979,  54.8834,-999          ,9,-999          ,9
33RR20230722  ,I05        ,136     ,  2,4          ,37         ,2,20230827,1030, -33.9978,  54.8834,     3902,   3513.8,2,   1.3247,2,  34.7213,2,  34.7207,2,    203.9,2,    204.1,2,   110.28,2,    31.28,2,     0.00,2,     2.18,2,     -999,9,     -999,9,     -999,9,   2257.5,2,   2361.1,2,   7.6138,2,    25.00,2,     -999,1,   1.3246,2,     -999,9,     -999,9,     -999,9,     -999,9,     -999,9,   4.5874,1,   0.0111,1,     -999,9,     -999,9,     -999,9,     -999,9,     -999,9,20230827,1041, -33.9978,  54.8834,-999          ,9,-999          ,9
33RR20230722  ,I05        ,136     ,  2,3          ,3          ,2,20230827,1030, -33.9978,  54.8834,     3902,   3666.7,2,   1.3065,2,  34.7202,2,  34.7203,2,    204.5,2,    204.7,2,   111.26,2,    31.27,2,     0.00,2,     2.19,2,    0.169,2,    0.090,2,   0.0100,2,   2255.2,2,   2360.6,2,   7.6141,2,    25.01,2,     -999,1,   1.3062,2,     -999,9,     -999,9,     -999,9,     -999,9,     -999,9,   4.9751,1,   0.0118,1,     18.3,2,     -999,9,     -999,9,     -999,9,     -999,9,20230827,1037, -33.9979,  54.8834,-999          ,9,-999          ,9
33RR20230722  ,I05        ,136     ,  2,2          ,2          ,2,20230827,1030, -33.9978,  54.8834,     3902,   3822.4,2,   1.2976,2,  34.7192,2,  34.7189,2,    204.8,2,    204.6,2,   112.53,2,    31.35,2,     0.00,2,     2.18,2,    0.175,2,    0.089,2,   0.0500,2,   2255.5,2,   2360.2,2,   7.6137,2,    25.01,2,     -999,1,   1.2970,2,     -999,9,     -999,9,     -999,9,     -999,9,     -999,9,   4.9751,1,   0.0112,1,     18.3,2,     -999,9,     -999,9,     -999,9,     -999,9,20230827,1033, -33.9979,  54.8834,-999          ,9,-999          ,9
33RR20230722  ,I05        ,136     ,  2,1          ,1          ,2,20230827,1030, -33.9978,  54.8834,     3902,   3955.0,2,   1.2939,2,  34.7185,2,  34.7174,2,    205.3,2,    204.9,2,   112.43,2,    31.37,2,     0.00,2,     2.17,2,    0.159,2,    0.087,2,   0.0200,2,   2256.8,6,   2360.4,2,   7.6128,2,    25.01,2,     -999,1,   1.2933,2,     -999,9,     -999,9,     -999,9,     -999,9,     -999,9,   0.5446,1,   0.0110,1,     17.8,2,     -999,9,     -999,9,     -999,9,     -999,9,20230827,1030, -33.9979,  54.8834,-999          ,9,-999          ,9