BOTTLE,20240422CCHHYDRO
EXPOCODE,SECT_ID,STNNBR,CASTNO,SAMPNO,BTLNBR,BTLNBR_FLAG_W,DATE,TIME,LATITUDE,LONGITUDE,DEPTH,CTDPRS,CTDPRS_FLAG_W,CTDTMP,CTDTMP_FLAG_W,CTDSAL,CTDSAL_FLAG_W,SALNTY,SALNTY_FLAG_W,CTDOXY,CTDOXY_FLAG_W,OXYGEN,OXYGEN_FLAG_W,SILCAT,SILCAT_FLAG_W,NITRAT,NITRAT_FLAG_W,NITRIT,NITRIT_FLAG_W,PHSPHT,PHSPHT_FLAG_W,CFC-11,CFC-11_FLAG_W,CFC-12,CFC-12_FLAG_W,SF6,SF6_FLAG_W,TCARBN,TCARBN_FLAG_W,ALKALI,ALKALI_FLAG_W,PH_TOT,PH_TOT_FLAG_W,PH_TMP,PH_TMP_FLAG_W,DOC,DOC_FLAG_W,REFTMP,REFTMP_FLAG_W,POC,POC_FLAG_W,PON,PON_FLAG_W,POP,POP_FLAG_W,DOP,DOP_FLAG_W,DELO18,DELO18_FLAG_W,CTDFLUOR,CTDFLUOR_FLAG_W,CTDXMISS,CTDXMISS_FLAG_W,N2O,N2O_FLAG_W,D15N_NO3,D15N_NO3_FLAG_W,D15N_NO2+NO3,D15N_NO2+NO3_FLAG_W,D18O_NO2+NO3,D18O_NO2+NO3_FLAG_W,D18O_NO3,D18O_NO3_FLAG_W,BTL_DATE,BTL_TIME,BTL_LAT,BTL_LON,HPLC,HPLC_FLAG_W,DNA,DNA_FLAG_W
,,,,,,,,,,,METERS,DBAR,,ITS-90,,PSS-78,,PSS-78,,UMOL/KG,,UMOL/KG,,UMOL/KG,,UMOL/KG,,UMOL/KG,,UMOL/KG,,PMOL/KG,,PMOL/KG,,FMOL/KG,,UMOL/KG,,UMOL/KG,,,,DEG C,,UMOL/KG,,ITS-90,,UG/KG,,UG/KG,,UG/L,,UMOL/KG,,/MILLE,,VOLTS,,VOLTS,,NMOL/KG,,/MILLE,,/MILLE,,/MILLE,,/MILLE,,,,,,,,,
33RR20230722  ,I05        ,53      ,  1,36         ,36         ,2,20230805,1511, -33.7674,  94.4652,     4515,      7.4,2,  15.2031,2,  35.5797,2,  35.5802,2,    247.7,2,    247.3,2,     0.78,2,     1.08,2,     0.10,2,     0.23,2,    0.279,4,    1.457,2,   2.4400,2,   -999.0,5,   2343.0,2,   7.9244,2,    25.03,2,     -999,1,  15.2035,2,     -999,9,     -999,9,     -999,9,     -999,9,     -999,1,   4.9749,1,   0.0432,1,      8.7,2,     -999,9,     -999,9,     -999,9,     -999,9,20230805,1707, -33.7674,  94.4652,-999          ,9,-999          ,9
33RR20230722  ,I05        ,53      ,  1,35         ,35         ,2,20230805,1511, -33.7674,  94.4652,     4515,     28.9,2,  15.2121,2,  35.5803,2,  35.5792,2,    247.7,2,    247.4,2,     0.78,2,     1.02,2,     0.10,2,     0.24,2,     -999,9,     -999,9,     -999,9,   2109.3,6,   2342.5,2,   7.9229,2,    25.02,2,     -999,9,  15.2097,2,     -999,9,     -999,9,     -999,9,     -999,9,     -999,1,   4.9747,1,   0.0447,1,     -999,9,     -999,9,     -999,9,     -999,9,     -999,9,20230805,1705, -33.7674,  94.4653,-999          ,9,-999          ,9
33RR20230722  ,I05        ,53      ,  1,34         ,34         ,2,20230805,1511, -33.7674,  94.4652,     4515,     49.2,2,  15.0403,2,  35.5459,2,  35.5462,2,    248.1,2,    247.7,2,     0.78,2,     1.19,2,     0.11,2,     0.25,2,    2.426,3,    1.466,2,   2.4900,2,   2104.6,2,   2341.5,2,   7.9205,2,    25.02,2,     -999,9,  15.0351,2,     -999,9,     -999,9,     -999,9,     -999,9,     -999,1,   4.9745,1,   0.0428,1,      8.7,2,     -999,9,     -999,9,     -999,9,     -999,9,20230805,1703, -33.7674,  94.4653,-999          ,9,-999          ,9
33RR20230722  ,I05        ,53      ,  1,33         ,33         ,2,20230805,1511, -33.7674,  94.4652,     4515,     72.3,2,  15.0175,2,  35.5414,2,  35.5411,2,    248.3,2,    248.0,2,     0.78,2,     1.20,2,     0.11,2,     0.25,2,     -999,9,     -999,9,     -999,9,   2103.7,2,   2339.1,2,   7.9188,2,    25.02,2,     -999,9,  15.0169,2,     -999,9,     -999,9,     -999,9,     -999,9,     -999,1,   4.9743,1,   0.0448,1,     -999,9,     -999,9,     -999,9,     -999,9,     -999,9,20230805,1702, -33.7674,  94.4653,-999          ,9,-999          ,9
33RR20230722  ,I05        ,53      ,  1,32         ,32         ,2,20230805,1511, -33.7674,  94.4652,     4515,     94.6,2,  14.7974,2,  35.4933,2,  35.4930,2,    247.1,2,    248.3,2,     0.78,2,     1.39,2,     0.13,2,     0.27,2,     -999,9,     -999,9,     -999,9,   2112.9,3,   2338.1,2,   7.9144,2,    25.03,2,     -999,9,  14.7961,2,     -999,9,     -999,9,     -999,9,     -999,9,     -999,1,   4.9739,1,   0.0403,1,     -999,9,     -999,9,     -999,9,     -999,9,     -999,9,20230805,1700, -33.7674,  94.4653,-999          ,9,-999          ,9
33RR20230722  ,I05        ,53      ,  1,31         ,31         ,2,20230805,1511, -33.7674,  94.4652,     4515,    126.0,2,  14.6941,2,  35.4692,2,  35.4701,2,    246.5,2,    247.9,2,     0.78,2,     1.53,2,     0.14,2,     0.28,2,    2.682,3,    1.531,6,   2.5200,6,   2107.6,2,   2336.4,2,   7.9119,6,    25.01,2,     -999,9,  14.6944,2,     -999,9,     -999,9,     -999,9,     -999,9,     -999,1,   4.9733,1,   0.0315,1,      9.0,6,     -999,9,     -999,9,     -999,9,     -999,9,20230805,1658, -33.7674,  94.4653,-999          ,9,-999          ,9
33RR20230722  ,I05        ,53      ,  1,30         ,30         ,2,20230805,1511, -33.7674,  94.4652,     4515,    171.8,2,  13.0456,2,  35.2379,2,  35.2414,2,    237.0,2,    238.3,2,     1.56,2,     6.23,2,     0.03,2,     0.56,2,     -999,9,     -999,9,     -999,9,   2125.6,2,   2318.4,2,   7.8466,2,    25.02,2,     -999,9,  13.0460,2,     -999,9,     -999,9,     -999,9,     -999,9,     -999,1,   4.9699,1,   0.0148,1,     -999,9,     -999,9,     -999,9,     -999,9,     -999,9,20230805,1656, -33.7674,  94.4653,-999          ,9,-999          ,9
33RR20230722  ,I05        ,53      ,  1,29         ,29         ,2,20230805,1511, -33.7674,  94.4652,     4515,    218.2,2,  12.4368,2,  35.1344,2,  35.1392,2,    238.6,2,    239.2,2,     1.76,2,     7.60,2,     0.01,2,     0.64,2,    2.649,3,    1.663,2,   2.4200,2,   2127.9,2,   2314.1,2,   7.8313,6,    25.02,2,     -999,9,  12.4543,2,     -999,9,     -999,9,     -999,9,     -999,9,     -999,1,   4.9287,1,   0.0115,1,     11.3,2,     -999,9,     -999,9,     -999,9,     -999,9,20230805,1654, -33.7674,  94.4653,-999          ,9,-999          ,9
33RR20230722  ,I05        ,53      ,  1,28         ,28         ,2,20230805,1511, -33.7674,  94.4652,     4515,    255.6,2,  12.1257,2,  35.0851,2,  35.0829,2,    241.2,2,    241.6,2,     2.05,2,     8.24,2,     0.00,2,     0.68,2,     -999,9,     -999,9,     -999,9,   -999.0,9,     -999,9,     -999,9,     -999,9,     -999,9,  12.1257,2,     -999,9,     -999,9,     -999,9,     -999,9,     -999,1,   4.9694,1,   0.0115,1,     -999,9,     -999,9,     -999,9,     -999,9,     -999,9,20230805,1653, -33.7674,  94.4653,-999          ,9,-999          ,9
33RR20230722  ,I05        ,53      ,  1,27         ,27         ,2,20230805,1511, -33.7674,  94.4652,     4515,    304.3,2,  11.7328,2,  35.0232,2,  35.0256,2,    245.3,2,    244.9,2,     2.34,2,     8.86,2,     0.00,2,     0.74,2,     -999,9,     -999,9,     -999,9,   2128.6,2,   2309.1,6,   7.8192,2,    25.03,2,     -999,9,  11.7298,2,     -999,9,     -999,9,     -999,9,     -999,9,     -999,1,   4.9110,1,   0.0116,1,     -999,9,     -999,9,     -999,9,     -999,9,     -999,9,20230805,1651, -33.7674,  94.4653,-999          ,9,-999          ,9
33RR20230722  ,I05        ,53      ,  1,26         ,26         ,2,20230805,1511, -33.7674,  94.4652,     4515,    384.1,2,  10.9015,2,  34.8817,2,  34.8833,2,    246.3,2,    245.3,2,     2.63,2,    11.11,2,     0.00,2,     0.87,2,    2.794,3,    1.791,2,   2.5100,2,   -999.0,9,     -999,9,     -999,9,     -999,9,     -999,9,  10.9035,2,     -999,9,     -999,9,     -999,9,     -999,9,     -999,1,   4.8834,1,   0.0116,1,     12.0,2,     -999,9,     -999,9,     -999,9,     -999,9,20230805,1648, -33.7674,  94.4653,-999          ,9,-999          ,9
33RR20230722  ,I05        ,53      ,  1,25         ,25         ,2,20230805,1511, -33.7674,  94.4652,     4515,    430.0,2,  10.5147,2,  34.8153,2,  34.8163,2,    246.8,2,    245.9,2,     2.93,2,    12.15,2,     0.00,2,     0.92,2,    2.879,3,    1.797,2,   2.5800,2,   2133.7,2,   2296.5,2,   7.7885,2,    25.01,2,     -999,9,  10.5038,2,     -999,9,     -999,9,     -999,9,     -999,9,     -999,1,   4.9680,1,   0.0115,1,     12.2,2,     -999,9,     -999,9,     -999,9,     -999,9,20230805,1646, -33.7674,  94.4653,-999          ,9,-999          ,9
33RR20230722  ,I05        ,53      ,  1,24         ,24         ,2,20230805,1511, -33.7674,  94.4652,     4515,    500.4,2,  10.1758,2,  34.7689,2,  34.7706,2,    242.0,2,    241.1,2,     3.51,2,    13.84,2,     0.00,2,     1.01,2,    2.968,3,    1.911,2,   2.3900,2,   -999.0,9,     -999,9,     -999,9,     -999,9,     -999,9,  10.1775,2,     -999,9,     -999,9,     -999,9,     -999,9,     -999,1,   4.9673,1,   0.0114,1,     12.5,2,     -999,9,     -999,9,     -999,9,     -999,9,20230805,1644, -33.7674,  94.4653,-999          ,9,-999          ,9
33RR20230722  ,I05        ,53      ,  1,23         ,23         ,2,20230805,1511, -33.7674,  94.4652,     4515,    579.0,2,   9.7413,2,  34.7221,2,  34.7258,2,    233.5,2,    233.6,2,     4.39,2,    15.82,2,     0.00,2,     1.13,2,     -999,9,     -999,9,     -999,9,   2146.8,2,   2292.2,2,   7.7543,2,    25.00,2,     -999,9,   9.7439,2,     -999,9,     -999,9,     -999,9,     -999,9,     -999,1,   4.9666,1,   0.0114,1,     -999,9,     -999,9,     -999,9,     -999,9,     -999,9,20230805,1642, -33.7674,  94.4653,-999          ,9,-999          ,9
33RR20230722  ,I05        ,53      ,  1,22         ,22         ,2,20230805,1511, -33.7674,  94.4652,     4515,    672.2,2,   9.0452,2,  34.6397,2,  34.6421,2,    226.7,2,    227.0,2,     5.95,2,    18.16,2,     0.00,2,     1.30,2,    3.035,3,    1.870,2,   2.0300,2,   -999.0,9,     -999,9,     -999,9,     -999,9,     -999,9,   9.0505,2,     -999,9,     -999,9,     -999,9,     -999,9,     -999,1,   4.9667,1,   0.0114,1,     13.9,2,     -999,9,     -999,9,     -999,9,     -999,9,20230805,1639, -33.7674,  94.4653,-999          ,9,-999          ,9
33RR20230722  ,I05        ,53      ,  1,21         ,21         ,2,20230805,1511, -33.7674,  94.4652,     4515,    772.3,2,   7.8640,2,  34.5261,2,  34.5266,2,    207.2,2,    208.4,2,    11.61,2,    22.76,2,     0.00,2,     1.59,2,    2.785,3,    1.630,2,   1.3000,2,   2166.2,2,   2285.8,2,   7.6865,2,    25.00,2,     -999,9,   7.8619,2,     -999,9,     -999,9,     -999,9,     -999,9,     -999,1,   4.9682,1,   0.0111,1,     15.9,2,     -999,9,     -999,9,     -999,9,     -999,9,20230805,1636, -33.7674,  94.4652,-999          ,9,-999          ,9
33RR20230722  ,I05        ,53      ,  1,20         ,20         ,2,20230805,1511, -33.7674,  94.4652,     4515,    886.7,2,   5.9831,2,  34.3954,2,  34.3965,2,    200.3,2,    200.7,2,    21.96,2,    27.68,2,     0.00,2,     1.93,2,    2.336,3,    1.429,2,   0.8800,2,   2187.3,2,   2288.5,2,   7.6377,2,    25.01,2,     -999,9,   5.9777,2,     -999,9,     -999,9,     -999,9,     -999,9,     -999,1,   4.9696,1,   0.0112,1,     18.2,2,     -999,9,     -999,9,     -999,9,     -999,9,20230805,1633, -33.7674,  94.4653,-999          ,9,-999          ,9
33RR20230722  ,I05        ,53      ,  1,19         ,19         ,2,20230805,1511, -33.7674,  94.4652,     4515,   1037.6,2,   4.6476,2,  34.3696,2,  34.3702,2,    192.1,2,    192.6,2,    35.92,2,    30.75,2,     0.00,2,     2.16,2,    1.831,3,    0.995,2,   0.6100,2,   2208.5,2,   2300.4,2,   7.6069,2,    25.02,2,     -999,9,   4.6471,2,     -999,9,     -999,9,     -999,9,     -999,9,     -999,1,   4.9711,1,   0.0111,1,     19.4,2,     -999,9,     -999,9,     -999,9,     -999,9,20230805,1630, -33.7674,  94.4653,-999          ,9,-999          ,9
33RR20230722  ,I05        ,53      ,  1,18         ,18         ,2,20230805,1511, -33.7674,  94.4652,     4515,   1123.8,2,   4.1607,2,  34.3942,2,  34.3951,2,    182.7,2,    182.9,2,    45.09,2,    32.21,2,     0.00,2,     2.26,2,    1.414,3,    0.754,2,   0.5600,2,   -999.0,9,     -999,9,     -999,9,     -999,9,     -999,9,   4.1604,2,     -999,9,     -999,9,     -999,9,     -999,9,     -999,1,   4.8645,1,   0.0111,1,     21.2,2,     -999,9,     -999,9,     -999,9,     -999,9,20230805,1627, -33.7674,  94.4653,-999          ,9,-999          ,9
33RR20230722  ,I05        ,53      ,  1,17         ,17         ,2,20230805,1511, -33.7674,  94.4652,     4515,   1210.6,2,   3.7766,2,  34.4407,2,  34.4410,2,    170.6,2,    170.9,2,    55.73,2,    33.32,2,     0.00,2,     2.37,2,    0.968,3,    0.472,2,   0.1800,2,   2238.9,2,   2318.0,2,   7.5748,2,    25.01,2,     -999,9,   3.7759,2,     -999,9,     -999,9,     -999,9,     -999,9,     -999,1,   4.9730,1,   0.0111,1,     22.2,2,     -999,9,     -999,9,     -999,9,     -999,9,20230805,1625, -33.7674,  94.4653,-999          ,9,-999          ,9
33RR20230722  ,I05        ,53      ,  1,16         ,16         ,2,20230805,1511, -33.7674,  94.4652,     4515,   1331.6,2,   3.5284,2,  34.4965,2,  34.4983,2,    159.6,2,    159.3,2,    67.34,2,    33.96,2,     0.00,2,     2.45,2,    0.063,3,    0.262,2,   0.1500,2,   2252.5,2,   2331.0,2,   7.5636,2,    25.02,2,     -999,9,   3.5272,2,     -999,9,     -999,9,     -999,9,     -999,9,     -999,1,   4.8362,1,   0.0115,1,     23.2,2,     -999,9,     -999,9,     -999,9,     -999,9,20230805,1622, -33.7674,  94.4653,-999          ,9,-999          ,9
33RR20230722  ,I05        ,53      ,  1,15         ,15         ,2,20230805,1511, -33.7674,  94.4652,     4515,   1453.1,2,   3.2803,2,  34.5384,2,  34.5376,2,    156.6,2,    156.7,2,    72.12,2,    34.16,2,     0.00,2,     2.45,2,    0.107,4,    0.187,2,   0.1000,2,   2260.2,2,   2336.6,2,   7.5614,2,    25.01,2,     -999,9,   3.2792,2,     -999,9,     -999,9,     -999,9,     -999,9,     -999,1,   4.8103,1,   0.0111,1,     23.6,2,     -999,9,     -999,9,     -999,9,     -999,9,20230805,1619, -33.7674,  94.4653,-999          ,9,-999          ,9
33RR20230722  ,I05        ,53      ,  1,14         ,14         ,2,20230805,1511, -33.7674,  94.4652,     4515,   1536.5,2,   3.1805,2,  34.5703,2,  34.5728,2,    153.5,2,    153.1,2,    78.07,2,    34.45,2,     0.00,2,     2.48,2,    0.027,3,    0.102,2,   0.0500,2,   2264.3,2,   2341.4,2,   7.5602,6,    25.01,2,     -999,9,   3.1790,2,     -999,9,     -999,9,     -999,9,     -999,9,     -999,1,   4.9747,1,   0.0125,1,     23.5,2,     -999,9,     -999,9,     -999,9,     -999,9,20230805,1616, -33.7674,  94.4653,-999          ,9,-999          ,9
33RR20230722  ,I05        ,53      ,  1,13         ,13         ,4,20230805,1511, -33.7674,  94.4652,     4515,   1661.9,3,   2.9755,3,  34.6000,3,     -999,9,    156.4,3,    168.5,3,    73.09,3,    31.51,3,     0.00,3,     2.25,3,     -999,9,     -999,9,     -999,9,   -999.0,4,     -999,9,     -999,9,     -999,9,     -999,9,   2.9745,3,     -999,9,     -999,9,     -999,9,     -999,9,     -999,9,   4.9748,1,   0.0112,1,     -999,9,     -999,9,     -999,9,     -999,9,     -999,9,20230805,1613, -33.7674,  94.4652,-999          ,9,-999          ,9
33RR20230722  ,I05        ,53      ,  1,12         ,12         ,2,20230805,1511, -33.7674,  94.4652,     4515,   1800.9,2,   2.7386,2,  34.6445,2,  34.6455,2,    161.8,2,    161.4,2,    83.83,2,    33.40,2,     0.00,2,     2.38,2,     -999,9,     -999,9,     -999,9,   2265.1,2,   2348.3,6,   7.5736,2,    25.04,2,     -999,9,   2.7414,2,     -999,9,     -999,9,     -999,9,     -999,9,     -999,1,   4.8636,1,   0.0116,1,     -999,9,     -999,9,     -999,9,     -999,9,     -999,9,20230805,1609, -33.7674,  94.4653,-999          ,9,-999          ,9
33RR20230722  ,I05        ,53      ,  1,11         ,11         ,2,20230805,1511, -33.7674,  94.4652,     4515,   2076.8,2,   2.4053,2,  34.7039,2,  34.7050,2,    174.3,2,    174.4,2,    87.72,2,    31.81,2,     0.00,2,     2.29,2,     -999,9,     -999,9,     -999,9,   2261.7,2,   2351.1,2,   7.5937,6,    25.02,2,     -999,9,   2.4048,2,     -999,9,     -999,9,     -999,9,     -999,9,     -999,1,   4.6820,1,   0.0117,1,     -999,9,     -999,9,     -999,9,     -999,9,     -999,9,20230805,1604, -33.7674,  94.4653,-999          ,9,-999          ,9
33RR20230722  ,I05        ,53      ,  1,10         ,10         ,2,20230805,1511, -33.7674,  94.4652,     4515,   2341.8,2,   2.1550,2,  34.7315,2,  34.7321,2,    185.0,2,    185.2,2,    89.58,2,    30.71,2,     0.00,2,     2.21,2,    0.005,3,    0.031,2,   0.0800,2,   -999.0,9,     -999,9,     -999,9,     -999,9,     -999,9,   2.1556,2,     -999,9,     -999,9,     -999,9,     -999,9,     -999,1,   4.9748,1,   0.0111,1,     19.5,2,     -999,9,     -999,9,     -999,9,     -999,9,20230805,1558, -33.7674,  94.4653,-999          ,9,-999          ,9
33RR20230722  ,I05        ,53      ,  1,9          ,9          ,2,20230805,1511, -33.7674,  94.4652,     4515,   2646.1,2,   1.8375,2,  34.7397,2,  34.7408,2,    192.6,2,    192.5,2,    96.60,2,    30.54,2,     0.00,2,     2.19,2,    0.000,3,    0.027,2,   0.0100,2,   2256.6,2,   2358.4,2,   7.6169,2,    25.02,2,     -999,9,   1.8381,2,     -999,9,     -999,9,     -999,9,     -999,9,     -999,1,   4.8723,1,   0.0112,1,     18.5,2,     -999,9,     -999,9,     -999,9,     -999,9,20230805,1552, -33.7674,  94.4652,-999          ,9,-999          ,9
33RR20230722  ,I05        ,53      ,  1,8          ,8          ,2,20230805,1511, -33.7674,  94.4652,     4515,   2855.8,2,   1.6280,2,  34.7371,2,  34.7374,2,    196.3,2,    196.4,2,   102.26,2,    30.70,2,     0.00,2,     2.21,2,     -999,9,     -999,9,     -999,9,   -999.0,9,     -999,9,     -999,9,     -999,9,     -999,9,   1.6272,2,     -999,9,     -999,9,     -999,9,     -999,9,     -999,1,   4.7379,1,   0.0117,1,     -999,9,     -999,9,     -999,9,     -999,9,     -999,9,20230805,1547, -33.7674,  94.4653,-999          ,9,-999          ,9
33RR20230722  ,I05        ,53      ,  1,7          ,7          ,2,20230805,1511, -33.7674,  94.4652,     4515,   3102.6,2,   1.4453,2,  34.7316,2,  34.7323,2,    199.2,2,    199.4,2,   107.53,2,    31.02,2,     0.00,2,     2.20,2,    0.053,3,    0.034,2,   0.0400,2,   2261.7,2,   2363.1,2,   7.6181,6,    25.01,2,     -999,9,   1.4451,2,     -999,9,     -999,9,     -999,9,     -999,9,     -999,1,   4.9751,1,   0.0112,1,     18.4,2,     -999,9,     -999,9,     -999,9,     -999,9,20230805,1542, -33.7674,  94.4653,-999          ,9,-999          ,9
33RR20230722  ,I05        ,53      ,  1,6          ,6          ,2,20230805,1511, -33.7674,  94.4652,     4515,   3364.0,2,   1.2694,2,  34.7242,2,  34.7250,2,    201.4,2,    201.5,2,   113.39,2,    31.23,2,     0.00,2,     2.24,2,    0.068,3,    0.040,2,   0.1000,2,   -999.0,9,     -999,9,     -999,9,     -999,9,     -999,9,   1.2690,2,     -999,9,     -999,9,     -999,9,     -999,9,     -999,1,   4.9764,1,   0.0111,1,     18.4,2,     -999,9,     -999,9,     -999,9,     -999,9,20230805,1537, -33.7674,  94.4652,-999          ,9,-999          ,9
33RR20230722  ,I05        ,53      ,  1,5          ,5          ,2,20230805,1511, -33.7674,  94.4652,     4515,   3685.4,2,   1.1525,2,  34.7182,2,  34.7189,2,    203.0,2,    203.1,2,   117.39,2,    31.62,2,     0.00,2,     2.24,2,    0.069,3,    0.047,2,   0.1500,2,   2267.1,2,   2369.5,2,   7.6202,2,    25.03,2,     -999,9,   1.1523,2,     -999,9,     -999,9,     -999,9,     -999,9,     -999,1,   4.9755,1,   0.0110,1,     18.4,2,     -999,9,     -999,9,     -999,9,     -999,9,20230805,1530, -33.7674,  94.4652,-999          ,9,-999          ,9
33RR20230722  ,I05        ,53      ,  1,4          ,37         ,2,20230805,1511, -33.7674,  94.4652,     4515,   3932.1,2,   1.1153,2,  34.7155,2,  34.7164,2,    203.5,2,    203.7,2,   119.44,2,    31.78,2,     0.00,2,     2.25,2,    0.066,3,    0.048,2,   0.0000,2,   -999.0,9,     -999,9,     -999,9,     -999,9,     -999,9,   1.1152,2,     -999,9,     -999,9,     -999,9,     -999,9,     -999,1,   4.9760,1,   0.0111,1,     18.6,2,     -999,9,     -999,9,     -999,9,     -999,9,20230805,1525, -33.7674,  94.4652,-999          ,9,-999          ,9
33RR20230722  ,I05        ,53      ,  1,3          ,3          ,2,20230805,1511, -33.7674,  94.4652,     4515,   4197.7,2,   1.1197,2,  34.7141,2,  34.7156,2,    203.8,2,    204.0,2,   119.93,2,    31.79,2,     0.00,2,     2.25,2,    0.065,3,    0.047,2,   0.0000,2,   -999.0,5,   2373.6,2,   7.6233,2,    25.01,2,     -999,9,   1.1195,2,     -999,9,     -999,9,     -999,9,     -999,9,     -999,1,   4.9761,1,   0.0111,1,     18.7,2,     -999,9,     -999,9,     -999,9,     -999,9,20230805,1520, -33.7674,  94.4653,-999          ,9,-999          ,9