BOTTLE,20240422CCHHYDRO
EXPOCODE,SECT_ID,STNNBR,CASTNO,SAMPNO,BTLNBR,BTLNBR_FLAG_W,DATE,TIME,LATITUDE,LONGITUDE,DEPTH,CTDPRS,CTDPRS_FLAG_W,CTDTMP,CTDTMP_FLAG_W,CTDSAL,CTDSAL_FLAG_W,SALNTY,SALNTY_FLAG_W,CTDOXY,CTDOXY_FLAG_W,OXYGEN,OXYGEN_FLAG_W,SILCAT,SILCAT_FLAG_W,NITRAT,NITRAT_FLAG_W,NITRIT,NITRIT_FLAG_W,PHSPHT,PHSPHT_FLAG_W,CFC-11,CFC-11_FLAG_W,CFC-12,CFC-12_FLAG_W,SF6,SF6_FLAG_W,TCARBN,TCARBN_FLAG_W,ALKALI,ALKALI_FLAG_W,PH_TOT,PH_TOT_FLAG_W,PH_TMP,PH_TMP_FLAG_W,DOC,DOC_FLAG_W,REFTMP,REFTMP_FLAG_W,POC,POC_FLAG_W,PON,PON_FLAG_W,POP,POP_FLAG_W,DOP,DOP_FLAG_W,DELO18,DELO18_FLAG_W,CTDFLUOR,CTDFLUOR_FLAG_W,CTDXMISS,CTDXMISS_FLAG_W,N2O,N2O_FLAG_W,D15N_NO3,D15N_NO3_FLAG_W,D15N_NO2+NO3,D15N_NO2+NO3_FLAG_W,D18O_NO2+NO3,D18O_NO2+NO3_FLAG_W,D18O_NO3,D18O_NO3_FLAG_W,BTL_DATE,BTL_TIME,BTL_LAT,BTL_LON,HPLC,HPLC_FLAG_W,DNA,DNA_FLAG_W
,,,,,,,,,,,METERS,DBAR,,ITS-90,,PSS-78,,PSS-78,,UMOL/KG,,UMOL/KG,,UMOL/KG,,UMOL/KG,,UMOL/KG,,UMOL/KG,,PMOL/KG,,PMOL/KG,,FMOL/KG,,UMOL/KG,,UMOL/KG,,,,DEG C,,UMOL/KG,,ITS-90,,UG/KG,,UG/KG,,UG/L,,UMOL/KG,,/MILLE,,VOLTS,,VOLTS,,NMOL/KG,,/MILLE,,/MILLE,,/MILLE,,/MILLE,,,,,,,,,
33RR20230722  ,I05        ,47      ,  1,36         ,36         ,2,20230804,0028, -33.9982,  97.8495,     4390,      6.2,2,  13.7848,2,  35.2738,2,  35.2729,2,    254.1,2,    253.7,2,     1.07,2,     3.15,2,     0.15,2,     0.40,2,    2.707,2,    1.558,2,   2.6800,2,   2108.6,2,   2326.4,2,   7.8922,6,    25.03,2,     -999,1,  13.7842,2,     -999,9,     -999,9,     -999,9,     -999,9,     -999,1,   4.5078,1,   0.0291,1,      9.3,2,     -999,9,     -999,9,     -999,9,     -999,9,20230804,0219, -33.9982,  97.8495,-999          ,9,-999          ,9
33RR20230722  ,I05        ,47      ,  1,35         ,35         ,2,20230804,0028, -33.9982,  97.8495,     4390,     31.5,2,  13.7915,2,  35.2752,2,  35.2761,2,    254.0,2,    253.8,2,     1.07,2,     3.10,2,     0.15,2,     0.39,2,    2.743,2,    1.569,2,   2.5900,2,   -999.0,9,     -999,9,     -999,9,     -999,9,     -999,9,  13.7902,2,     -999,9,     -999,9,     -999,9,     -999,9,     -999,1,   4.9411,1,   0.0341,1,      9.5,2,     -999,9,     -999,9,     -999,9,     -999,9,20230804,0217, -33.9982,  97.8495,-999          ,9,-999          ,9
33RR20230722  ,I05        ,47      ,  1,34         ,34         ,2,20230804,0028, -33.9982,  97.8495,     4390,     51.8,2,  13.8239,2,  35.2844,2,  35.2844,2,    252.9,2,    253.3,2,     1.17,2,     3.04,2,     0.15,2,     0.38,2,     -999,9,     -999,9,     -999,9,   -999.0,9,     -999,9,     -999,9,     -999,9,     -999,9,  13.8226,2,     -999,9,     -999,9,     -999,9,     -999,9,     -999,1,   4.9743,1,   0.0385,1,     -999,9,     -999,9,     -999,9,     -999,9,     -999,9,20230804,0215, -33.9982,  97.8495,-999          ,9,-999          ,9
33RR20230722  ,I05        ,47      ,  1,33         ,33         ,2,20230804,0028, -33.9982,  97.8495,     4390,     73.1,2,  13.8332,2,  35.2871,2,  35.2861,2,    253.2,2,    253.1,2,     1.17,2,     3.01,2,     0.15,2,     0.38,2,    2.709,2,    1.542,2,   2.5600,2,   2111.2,2,   2327.0,2,   7.8937,2,    25.03,2,     -999,9,  13.8319,2,     -999,9,     -999,9,     -999,9,     -999,9,     -999,1,   4.9648,1,   0.0393,1,      9.2,2,     -999,9,     -999,9,     -999,9,     -999,9,20230804,0214, -33.9982,  97.8495,-999          ,9,-999          ,9
33RR20230722  ,I05        ,47      ,  1,32         ,32         ,2,20230804,0028, -33.9982,  97.8495,     4390,     98.9,2,  13.8436,2,  35.2907,2,  35.2905,2,    252.1,2,    253.0,2,     1.27,2,     2.98,2,     0.15,2,     0.40,2,     -999,9,     -999,9,     -999,9,   -999.0,9,     -999,9,     -999,9,     -999,9,     -999,9,  13.8436,2,     -999,9,     -999,9,     -999,9,     -999,9,     -999,1,   4.9737,1,   0.0398,1,     -999,9,     -999,9,     -999,9,     -999,9,     -999,9,20230804,0212, -33.9982,  97.8495,-999          ,9,-999          ,9
33RR20230722  ,I05        ,47      ,  1,31         ,31         ,2,20230804,0028, -33.9982,  97.8495,     4390,    136.3,2,  13.8664,2,  35.2972,2,  35.2974,2,    251.2,2,    252.8,2,     1.17,2,     2.96,2,     0.15,2,     0.38,2,    2.725,2,    1.544,2,   2.4900,2,   2111.0,2,   2325.3,2,   7.8936,2,    25.02,2,     -999,9,  13.8653,2,     -999,9,     -999,9,     -999,9,     -999,9,     -999,1,   4.9734,1,   0.0362,1,      9.3,2,     -999,9,     -999,9,     -999,9,     -999,9,20230804,0210, -33.9982,  97.8495,-999          ,9,-999          ,9
33RR20230722  ,I05        ,47      ,  1,30         ,30         ,2,20230804,0028, -33.9982,  97.8495,     4390,    157.1,2,  13.0937,2,  35.2533,2,  35.2662,2,    234.2,3,    237.1,2,     1.76,2,     6.15,2,     0.03,2,     0.56,2,     -999,9,     -999,9,     -999,9,   -999.0,9,     -999,9,     -999,9,     -999,9,     -999,9,  13.1470,2,     -999,9,     -999,9,     -999,9,     -999,9,     -999,1,   4.9591,1,   0.0150,1,     -999,9,     -999,9,     -999,9,     -999,9,     -999,9,20230804,0209, -33.9982,  97.8495,-999          ,9,-999          ,9
33RR20230722  ,I05        ,47      ,  1,29         ,29         ,2,20230804,0028, -33.9982,  97.8495,     4390,    202.1,2,  12.0188,2,  35.0713,2,  35.0718,2,    244.2,2,    244.9,2,     2.34,2,     8.42,2,     0.02,2,     0.69,2,    2.749,2,    1.683,2,   2.5700,2,   2129.8,2,   2311.5,2,   7.8251,2,    25.02,2,     -999,9,  12.0185,2,     -999,9,     -999,9,     -999,9,     -999,9,     -999,1,   4.9150,1,   0.0115,1,     11.4,2,     -999,9,     -999,9,     -999,9,     -999,9,20230804,0207, -33.9982,  97.8495,-999          ,9,-999          ,9
33RR20230722  ,I05        ,47      ,  1,28         ,28         ,2,20230804,0028, -33.9982,  97.8495,     4390,    222.7,2,  11.8739,2,  35.0500,2,  35.0480,2,    242.0,2,    243.2,2,     2.24,2,     8.79,2,     0.00,2,     0.72,2,     -999,9,     -999,9,     -999,9,   -999.0,9,     -999,9,     -999,9,     -999,9,     -999,9,  11.8730,2,     -999,9,     -999,9,     -999,9,     -999,9,     -999,1,   4.9694,1,   0.0115,1,     -999,9,     -999,9,     -999,9,     -999,9,     -999,9,20230804,0206, -33.9982,  97.8495,-999          ,9,-999          ,9
33RR20230722  ,I05        ,47      ,  1,27         ,27         ,2,20230804,0028, -33.9982,  97.8495,     4390,    259.5,2,  11.6444,2,  35.0101,2,  35.0102,2,    244.4,2,    245.0,2,     2.73,2,     9.30,2,     0.00,2,     0.75,2,    2.775,2,    1.724,2,   2.5500,2,   2131.6,2,   2307.8,2,   7.8157,2,    25.02,2,     -999,9,  11.6487,2,     -999,9,     -999,9,     -999,9,     -999,9,     -999,1,   4.9694,1,   0.0114,1,     11.9,2,     -999,9,     -999,9,     -999,9,     -999,9,20230804,0205, -33.9982,  97.8495,-999          ,9,-999          ,9
33RR20230722  ,I05        ,47      ,  1,26         ,26         ,2,20230804,0028, -33.9982,  97.8495,     4390,    328.0,2,  11.0573,2,  34.9074,2,  34.9073,2,    250.2,2,    249.7,2,     3.12,2,    10.76,2,     0.00,2,     0.84,2,    2.824,2,    1.774,2,   2.6000,2,   -999.0,9,     -999,9,     -999,9,     -999,9,     -999,9,  11.0584,2,     -999,9,     -999,9,     -999,9,     -999,9,     -999,1,   4.9309,1,   0.0117,1,     11.7,2,     -999,9,     -999,9,     -999,9,     -999,9,20230804,0202, -33.9982,  97.8495,-999          ,9,-999          ,9
33RR20230722  ,I05        ,47      ,  1,25         ,25         ,2,20230804,0028, -33.9982,  97.8495,     4390,    365.6,2,  10.8911,2,  34.8811,2,  34.8823,2,    244.3,2,    244.3,2,     2.93,2,    11.30,2,     0.00,2,     0.87,2,     -999,9,     -999,9,     -999,9,   2129.9,2,   2301.7,2,   7.7963,2,    25.04,2,     -999,9,  10.8932,2,     -999,9,     -999,9,     -999,9,     -999,9,     -999,1,   4.9683,1,   0.0115,1,     -999,9,     -999,9,     -999,9,     -999,9,     -999,9,20230804,0201, -33.9982,  97.8495,-999          ,9,-999          ,9
33RR20230722  ,I05        ,47      ,  1,24         ,24         ,2,20230804,0028, -33.9982,  97.8495,     4390,    428.5,2,  10.4367,2,  34.8056,2,  34.8021,2,    245.4,2,    245.2,2,     3.42,2,    12.60,2,     0.00,2,     0.97,2,    2.979,2,    1.865,2,   2.5500,2,   -999.0,9,     -999,9,     -999,9,     -999,9,     -999,9,  10.4366,2,     -999,9,     -999,9,     -999,9,     -999,9,     -999,1,   4.9008,1,   0.0116,1,     12.6,2,     -999,9,     -999,9,     -999,9,     -999,9,20230804,0159, -33.9982,  97.8495,-999          ,9,-999          ,9
33RR20230722  ,I05        ,47      ,  1,23         ,23         ,2,20230804,0028, -33.9982,  97.8495,     4390,    505.0,2,  10.0784,2,  34.7594,2,  34.7587,2,    239.2,2,    238.8,2,     3.90,2,    14.43,2,     0.00,2,     1.05,2,    3.050,2,    1.869,2,   2.3600,2,   2140.2,2,   2294.6,2,   7.7677,2,    25.02,2,     -999,9,  10.0794,2,     -999,9,     -999,9,     -999,9,     -999,9,     -999,1,   4.9671,1,   0.0116,1,     12.8,2,     -999,9,     -999,9,     -999,9,     -999,9,20230804,0157, -33.9982,  97.8495,-999          ,9,-999          ,9
33RR20230722  ,I05        ,47      ,  1,22         ,22         ,2,20230804,0028, -33.9982,  97.8495,     4390,    587.4,2,   9.6357,2,  34.7082,2,  34.7099,2,    234.8,2,    235.0,2,     4.49,2,    16.01,2,     0.00,2,     1.14,2,     -999,9,     -999,9,     -999,9,   -999.0,9,     -999,9,     -999,9,     -999,9,     -999,9,   9.6330,2,     -999,9,     -999,9,     -999,9,     -999,9,     -999,1,   4.9667,1,   0.0116,1,     -999,9,     -999,9,     -999,9,     -999,9,     -999,9,20230804,0154, -33.9982,  97.8495,-999          ,9,-999          ,9
33RR20230722  ,I05        ,47      ,  1,21         ,21         ,2,20230804,0028, -33.9982,  97.8495,     4390,    680.7,2,   9.0350,2,  34.6363,2,  34.6341,2,    226.2,2,    226.8,2,     6.44,2,    18.43,2,     0.00,2,     1.32,2,    3.143,6,    1.879,6,   1.8700,6,   2150.1,2,   2286.9,2,   7.7313,2,    25.02,2,     -999,9,   9.0311,2,     -999,9,     -999,9,     -999,9,     -999,9,     -999,1,   4.9606,1,   0.0114,1,     13.8,6,     -999,9,     -999,9,     -999,9,     -999,9,20230804,0152, -33.9982,  97.8495,-999          ,9,-999          ,9
33RR20230722  ,I05        ,47      ,  1,20         ,20         ,2,20230804,0028, -33.9982,  97.8495,     4390,    782.8,2,   7.9581,2,  34.5271,2,  34.5276,2,    210.5,2,    212.1,2,    10.93,2,    22.32,2,     0.00,2,     1.57,2,    2.902,2,    1.696,2,   1.3800,2,   -999.0,9,     -999,9,     -999,9,     -999,9,     -999,9,   7.9677,2,     -999,9,     -999,9,     -999,9,     -999,9,     -999,1,   4.9679,1,   0.0115,1,     15.8,2,     -999,9,     -999,9,     -999,9,     -999,9,20230804,0149, -33.9982,  97.8495,-999          ,9,-999          ,9
33RR20230722  ,I05        ,47      ,  1,19         ,19         ,2,20230804,0028, -33.9982,  97.8495,     4390,    942.9,2,   5.7805,2,  34.3942,2,  34.3959,2,    196.8,2,    197.5,2,    24.01,2,    28.34,2,     0.00,2,     1.96,2,     -999,9,     -999,9,     -999,9,   -999.0,9,     -999,9,     -999,9,     -999,9,     -999,9,   5.7942,2,     -999,9,     -999,9,     -999,9,     -999,9,     -999,1,   4.9701,1,   0.0113,1,     -999,9,     -999,9,     -999,9,     -999,9,     -999,9,20230804,0145, -33.9982,  97.8494,-999          ,9,-999          ,9
33RR20230722  ,I05        ,47      ,  1,18         ,18         ,2,20230804,0028, -33.9982,  97.8495,     4390,   1106.4,2,   4.3651,2,  34.3811,2,  34.3821,2,    187.3,2,    187.1,2,    41.19,2,    31.74,2,     0.00,2,     2.23,2,    1.607,2,    0.847,2,   0.4500,2,   -999.0,9,     -999,9,     -999,9,     -999,9,     -999,9,   4.3631,2,     -999,9,     -999,9,     -999,9,     -999,9,     -999,1,   4.9715,1,   0.0113,1,     20.5,2,     -999,9,     -999,9,     -999,9,     -999,9,20230804,0142, -33.9982,  97.8496,-999          ,9,-999          ,9
33RR20230722  ,I05        ,47      ,  1,17         ,17         ,2,20230804,0028, -33.9982,  97.8495,     4390,   1224.0,2,   3.8387,2,  34.4387,2,  34.4392,2,    170.8,2,    171.4,2,    55.34,2,    33.55,2,     0.00,2,     2.37,2,    0.967,2,    0.503,2,   0.2100,2,   2238.3,2,   2319.5,2,   7.5762,2,    25.01,2,     -999,9,   3.8383,2,     -999,9,     -999,9,     -999,9,     -999,9,     -999,1,   4.9730,1,   0.0114,1,     22.9,2,     -999,9,     -999,9,     -999,9,     -999,9,20230804,0139, -33.9982,  97.8495,-999          ,9,-999          ,9
33RR20230722  ,I05        ,47      ,  1,16         ,16         ,2,20230804,0028, -33.9982,  97.8495,     4390,   1340.5,2,   3.5137,2,  34.4944,2,  34.4940,2,    160.0,2,    159.9,2,    66.95,2,    34.37,2,     0.00,2,     2.41,2,     -999,9,     -999,9,     -999,9,   2252.1,2,   2330.0,2,   7.5639,2,    25.03,2,     -999,9,   3.5156,2,     -999,9,     -999,9,     -999,9,     -999,9,     -999,1,   4.9740,1,   0.0113,1,     -999,9,     -999,9,     -999,9,     -999,9,     -999,9,20230804,0136, -33.9981,  97.8494,-999          ,9,-999          ,9
33RR20230722  ,I05        ,47      ,  1,15         ,15         ,2,20230804,0028, -33.9982,  97.8495,     4390,   1466.3,2,   3.2762,2,  34.5413,2,  34.5423,2,    155.5,2,    155.6,2,    73.68,2,    34.56,2,     0.00,2,     2.46,2,    0.292,2,    0.153,2,   0.0700,2,   2261.9,2,   2338.5,2,   7.5611,2,    25.02,2,     -999,9,   3.2752,2,     -999,9,     -999,9,     -999,9,     -999,9,     -999,1,   4.9744,1,   0.0114,1,     23.6,2,     -999,9,     -999,9,     -999,9,     -999,9,20230804,0132, -33.9981,  97.8495,-999          ,9,-999          ,9
33RR20230722  ,I05        ,47      ,  1,14         ,14         ,2,20230804,0028, -33.9982,  97.8495,     4390,   1630.8,2,   2.9828,2,  34.5990,2,  34.5991,2,    155.7,2,    155.2,2,    80.41,2,    34.34,2,     0.00,2,     2.45,2,    0.141,2,    0.074,2,  -0.0100,2,   -999.0,9,     -999,9,     -999,9,     -999,9,     -999,9,   2.9783,2,     -999,9,     -999,9,     -999,9,     -999,9,     -999,1,   4.9747,1,   0.0120,1,     23.5,2,     -999,9,     -999,9,     -999,9,     -999,9,20230804,0129, -33.9981,  97.8494,-999          ,9,-999          ,9
33RR20230722  ,I05        ,47      ,  1,13         ,13         ,2,20230804,0028, -33.9982,  97.8495,     4390,   1786.1,2,   2.7559,2,  34.6452,2,  34.6456,2,    159.6,2,    159.5,2,    85.39,2,    33.81,2,     0.00,2,     2.40,2,     -999,9,     -999,9,     -999,9,   -999.0,9,     -999,9,     -999,9,     -999,9,     -999,9,   2.7556,2,     -999,9,     -999,9,     -999,9,     -999,9,     -999,1,   4.9382,1,   0.0124,1,     -999,9,     -999,9,     -999,9,     -999,9,     -999,9,20230804,0125, -33.9981,  97.8495,-999          ,9,-999          ,9
33RR20230722  ,I05        ,47      ,  1,12         ,12         ,2,20230804,0028, -33.9982,  97.8495,     4390,   1950.6,2,   2.5556,2,  34.6812,2,  34.6812,2,    165.9,2,    166.0,2,    88.41,2,    33.13,2,     0.00,2,     2.34,2,    0.057,2,    0.034,2,  -0.0400,2,   -999.0,9,     -999,9,     -999,9,     -999,9,     -999,9,   2.5557,2,     -999,9,     -999,9,     -999,9,     -999,9,     -999,1,   4.9747,1,   0.0120,1,     22.2,2,     -999,9,     -999,9,     -999,9,     -999,9,20230804,0122, -33.9982,  97.8495,-999          ,9,-999          ,9
33RR20230722  ,I05        ,47      ,  1,11         ,11         ,2,20230804,0028, -33.9982,  97.8495,     4390,   2191.4,2,   2.3120,2,  34.7151,2,  34.7150,2,    177.2,2,    177.2,2,    89.29,2,    31.88,2,     0.00,2,     2.24,2,    0.046,2,    0.030,2,  -0.0500,2,   2262.8,2,   2352.9,2,   7.5986,6,    25.03,2,     -999,9,   2.3120,2,     -999,9,     -999,9,     -999,9,     -999,9,     -999,1,   4.9746,1,   0.0116,1,     20.4,2,     -999,9,     -999,9,     -999,9,     -999,9,20230804,0117, -33.9982,  97.8495,-999          ,9,-999          ,9
33RR20230722  ,I05        ,47      ,  1,10         ,10         ,2,20230804,0028, -33.9982,  97.8495,     4390,   2488.9,2,   2.0389,2,  34.7377,2,  34.7368,2,    188.7,2,    188.9,2,    90.94,2,    30.94,2,     0.00,2,     2.19,2,     -999,9,     -999,9,     -999,9,   -999.0,9,     -999,9,     -999,9,     -999,9,     -999,9,   2.0394,2,     -999,9,     -999,9,     -999,9,     -999,9,     -999,1,   4.9746,1,   0.0111,1,     -999,9,     -999,9,     -999,9,     -999,9,     -999,9,20230804,0111, -33.9982,  97.8495,-999          ,9,-999          ,9
33RR20230722  ,I05        ,47      ,  1,9          ,9          ,2,20230804,0028, -33.9982,  97.8495,     4390,   2656.6,2,   1.8810,2,  34.7410,2,  34.7410,2,    192.8,2,    192.6,2,    94.85,2,    30.82,2,     0.00,2,     2.19,2,    0.038,2,    0.029,2,   0.0000,2,   2256.5,2,   2356.0,6,   7.6169,2,    25.01,2,     -999,9,   1.8805,2,     -999,9,     -999,9,     -999,9,     -999,9,     -999,1,   4.9438,1,   0.0111,1,     19.2,2,     -999,9,     -999,9,     -999,9,     -999,9,20230804,0107, -33.9982,  97.8495,-999          ,9,-999          ,9
33RR20230722  ,I05        ,47      ,  1,8          ,8          ,2,20230804,0028, -33.9982,  97.8495,     4390,   2837.9,2,   1.6946,2,  34.7398,2,  34.7396,2,    196.4,2,    196.4,2,    99.53,2,    30.92,2,     0.00,2,     2.17,2,    0.046,2,    0.030,2,  -0.0700,2,   -999.0,9,     -999,9,     -999,9,     -999,9,     -999,9,   1.6946,2,     -999,9,     -999,9,     -999,9,     -999,9,     -999,1,   4.9748,1,   0.0112,1,     18.8,2,     -999,9,     -999,9,     -999,9,     -999,9,20230804,0103, -33.9982,  97.8495,-999          ,9,-999          ,9
33RR20230722  ,I05        ,47      ,  1,7          ,7          ,2,20230804,0028, -33.9982,  97.8495,     4390,   3141.7,2,   1.4319,2,  34.7319,2,  34.7315,2,    200.4,2,    200.6,2,   106.46,2,    31.11,2,     0.00,2,     2.18,2,     -999,9,     -999,9,     -999,9,   -999.0,9,     -999,9,     -999,9,     -999,9,     -999,9,   1.4327,2,     -999,9,     -999,9,     -999,9,     -999,9,     -999,1,   4.9732,1,   0.0112,1,     -999,9,     -999,9,     -999,9,     -999,9,     -999,9,20230804,0057, -33.9981,  97.8495,-999          ,9,-999          ,9
33RR20230722  ,I05        ,47      ,  1,6          ,6          ,2,20230804,0028, -33.9982,  97.8495,     4390,   3347.9,2,   1.2784,2,  34.7251,2,  34.7241,2,    202.3,2,    202.7,2,   111.73,2,    31.49,2,     0.00,2,     2.22,2,    0.076,2,    0.044,2,  -0.0600,2,   -999.0,9,     -999,9,     -999,9,     -999,9,     -999,9,   1.2781,2,     -999,9,     -999,9,     -999,9,     -999,9,     -999,1,   4.9283,1,   0.0112,1,     18.7,2,     -999,9,     -999,9,     -999,9,     -999,9,20230804,0052, -33.9982,  97.8495,-999          ,9,-999          ,9
33RR20230722  ,I05        ,47      ,  1,5          ,5          ,2,20230804,0028, -33.9982,  97.8495,     4390,   3697.9,2,   1.1368,2,  34.7176,2,  34.7174,2,    203.9,2,    204.1,2,   116.81,2,    31.74,2,     0.00,2,     2.24,2,    0.089,2,    0.049,2,  -0.0500,2,   2268.1,2,   2366.8,2,   7.6199,2,    25.03,2,     -999,9,   1.1363,2,     -999,9,     -999,9,     -999,9,     -999,9,     -999,1,   4.9756,1,   0.0112,1,     18.6,2,     -999,9,     -999,9,     -999,9,     -999,9,20230804,0045, -33.9981,  97.8494,-999          ,9,-999          ,9
33RR20230722  ,I05        ,47      ,  1,4          ,37         ,2,20230804,0028, -33.9982,  97.8495,     4390,   3919.6,2,   1.0797,2,  34.7141,2,  34.7138,2,    204.6,2,    204.8,2,   118.95,2,    31.91,2,     0.00,2,     2.24,2,    0.100,2,    0.059,2,  -0.0300,2,   -999.0,9,     -999,9,     -999,9,     -999,9,     -999,9,   1.0797,2,     -999,9,     -999,9,     -999,9,     -999,9,     -999,1,   4.9759,1,   0.0112,1,     18.1,2,     -999,9,     -999,9,     -999,9,     -999,9,20230804,0040, -33.9981,  97.8495,-999          ,9,-999          ,9
33RR20230722  ,I05        ,47      ,  1,3          ,3          ,2,20230804,0028, -33.9982,  97.8495,     4390,   4170.1,2,   1.0616,2,  34.7118,2,  34.7115,2,    205.1,2,    205.4,2,   119.73,2,    31.92,2,     0.00,2,     2.24,2,    0.097,2,    0.059,2,  -0.0300,2,   2270.9,2,   2373.6,2,   7.6215,2,    25.01,2,     -999,9,   1.0613,2,     -999,9,     -999,9,     -999,9,     -999,9,     -999,1,   4.9761,1,   0.0114,1,     18.1,2,     -999,9,     -999,9,     -999,9,     -999,9,20230804,0035, -33.9982,  97.8495,-999          ,9,-999          ,9