BOTTLE,20240422CCHHYDRO
EXPOCODE,SECT_ID,STNNBR,CASTNO,SAMPNO,BTLNBR,BTLNBR_FLAG_W,DATE,TIME,LATITUDE,LONGITUDE,DEPTH,CTDPRS,CTDPRS_FLAG_W,CTDTMP,CTDTMP_FLAG_W,CTDSAL,CTDSAL_FLAG_W,SALNTY,SALNTY_FLAG_W,CTDOXY,CTDOXY_FLAG_W,OXYGEN,OXYGEN_FLAG_W,SILCAT,SILCAT_FLAG_W,NITRAT,NITRAT_FLAG_W,NITRIT,NITRIT_FLAG_W,PHSPHT,PHSPHT_FLAG_W,CFC-11,CFC-11_FLAG_W,CFC-12,CFC-12_FLAG_W,SF6,SF6_FLAG_W,TCARBN,TCARBN_FLAG_W,ALKALI,ALKALI_FLAG_W,PH_TOT,PH_TOT_FLAG_W,PH_TMP,PH_TMP_FLAG_W,DOC,DOC_FLAG_W,REFTMP,REFTMP_FLAG_W,POC,POC_FLAG_W,PON,PON_FLAG_W,POP,POP_FLAG_W,DOP,DOP_FLAG_W,DELO18,DELO18_FLAG_W,CTDFLUOR,CTDFLUOR_FLAG_W,CTDXMISS,CTDXMISS_FLAG_W,N2O,N2O_FLAG_W,D15N_NO3,D15N_NO3_FLAG_W,D15N_NO2+NO3,D15N_NO2+NO3_FLAG_W,D18O_NO2+NO3,D18O_NO2+NO3_FLAG_W,D18O_NO3,D18O_NO3_FLAG_W,BTL_DATE,BTL_TIME,BTL_LAT,BTL_LON,HPLC,HPLC_FLAG_W,DNA,DNA_FLAG_W
,,,,,,,,,,,METERS,DBAR,,ITS-90,,PSS-78,,PSS-78,,UMOL/KG,,UMOL/KG,,UMOL/KG,,UMOL/KG,,UMOL/KG,,UMOL/KG,,PMOL/KG,,PMOL/KG,,FMOL/KG,,UMOL/KG,,UMOL/KG,,,,DEG C,,UMOL/KG,,ITS-90,,UG/KG,,UG/KG,,UG/L,,UMOL/KG,,/MILLE,,VOLTS,,VOLTS,,NMOL/KG,,/MILLE,,/MILLE,,/MILLE,,/MILLE,,,,,,,,,
33RR20230722  ,I05        ,40      ,  1,24         ,24         ,2,20230802,0747, -32.7514, 100.2442,     3974,     14.2,2,  16.0642,2,  35.7593,2,     -999,9,    242.3,2,     -999,9,     -999,9,     -999,9,     -999,9,     -999,9,     -999,9,     -999,9,     -999,9,   -999.0,9,     -999,9,     -999,9,     -999,9,     -999,9,  16.0607,2,     -999,9,     -999,9,     -999,1,     -999,9,     -999,9,   4.4843,1,   0.0422,1,     -999,9,     -999,9,     -999,9,     -999,9,     -999,9,20230802,0917, -32.7514, 100.2442,-999          ,9,-999          ,9
33RR20230722  ,I05        ,40      ,  1,21         ,21         ,2,20230802,0747, -32.7514, 100.2442,     3974,     14.2,2,  16.0702,2,  35.7600,2,     -999,9,    242.4,2,     -999,9,     -999,9,     -999,9,     -999,9,     -999,9,     -999,9,     -999,9,     -999,9,   -999.0,9,     -999,9,     -999,9,     -999,9,     -999,9,  16.0684,2,     -999,1,     -999,1,     -999,9,     -999,9,     -999,9,   4.9751,1,   0.0410,1,     -999,9,     -999,9,     -999,9,     -999,9,     -999,9,20230802,0916, -32.7514, 100.2442,-999          ,9,-999          ,9
33RR20230722  ,I05        ,40      ,  1,25         ,25         ,2,20230802,0747, -32.7514, 100.2442,     3974,     14.5,2,  16.0559,2,  35.7587,2,     -999,9,    242.3,2,     -999,9,     -999,9,     -999,9,     -999,9,     -999,9,     -999,9,     -999,9,     -999,9,   -999.0,9,     -999,9,     -999,9,     -999,9,     -999,9,  16.0629,2,     -999,9,     -999,9,     -999,1,     -999,9,     -999,9,   4.9750,1,   0.0402,1,     -999,9,     -999,9,     -999,9,     -999,9,     -999,9,20230802,0918, -32.7514, 100.2442,-999          ,9,-999          ,9
33RR20230722  ,I05        ,40      ,  1,19         ,19         ,2,20230802,0747, -32.7514, 100.2442,     3974,     14.7,2,  16.0601,2,  35.7589,2,  35.7572,2,    242.3,2,    242.3,2,     1.46,2,     0.33,2,     0.05,2,     0.17,2,    0.112,2,    0.063,2,   0.0600,2,   2099.1,2,   2345.5,2,   7.9483,2,    24.99,2,     -999,1,  16.0602,2,     -999,9,     -999,9,     -999,9,     -999,9,     -999,9,   4.9752,1,   0.0404,1,     23.6,2,     -999,9,     -999,9,     -999,9,     -999,9,20230802,0916, -32.7514, 100.2442,-999          ,9,-999          ,9
33RR20230722  ,I05        ,40      ,  1,20         ,20         ,2,20230802,0747, -32.7514, 100.2442,     3974,     15.3,2,  16.0606,2,  35.7589,2,     -999,9,    242.5,2,     -999,9,     -999,9,     -999,9,     -999,9,     -999,9,     -999,9,     -999,9,     -999,9,   -999.0,9,     -999,9,     -999,9,     -999,9,     -999,9,  16.0611,2,     -999,9,     -999,9,     -999,9,     -999,9,     -999,9,   4.8168,1,   0.0399,1,     -999,9,     -999,9,     -999,9,     -999,9,     -999,9,20230802,0916, -32.7514, 100.2442,-999          ,9,-999          ,1
33RR20230722  ,I05        ,40      ,  1,27         ,27         ,2,20230802,0747, -32.7514, 100.2442,     3974,     15.6,2,  16.0668,2,  35.7596,2,     -999,9,    242.7,2,     -999,9,     -999,9,     -999,9,     -999,9,     -999,9,     -999,9,     -999,9,     -999,9,   -999.0,9,     -999,9,     -999,9,     -999,9,     -999,9,  16.0651,2,     -999,9,     -999,9,     -999,9,     -999,9,     -999,9,   4.8781,1,   0.0413,1,     -999,9,     -999,9,     -999,9,     -999,9,     -999,9,20230802,0918, -32.7514, 100.2442,-999          ,1,-999          ,9
33RR20230722  ,I05        ,40      ,  1,23         ,23         ,2,20230802,0747, -32.7514, 100.2442,     3974,     15.7,2,  16.0687,2,  35.7595,2,     -999,9,    242.5,2,     -999,9,     -999,9,     -999,9,     -999,9,     -999,9,     -999,9,     -999,9,     -999,9,   -999.0,9,     -999,9,     -999,9,     -999,9,     -999,9,  16.0633,2,     -999,1,     -999,1,     -999,9,     -999,9,     -999,9,   4.9751,1,   0.0410,1,     -999,9,     -999,9,     -999,9,     -999,9,     -999,9,20230802,0917, -32.7514, 100.2442,-999          ,9,-999          ,9
33RR20230722  ,I05        ,40      ,  1,26         ,26         ,2,20230802,0747, -32.7514, 100.2442,     3974,     15.9,2,  16.0648,2,  35.7593,2,     -999,9,    242.4,2,     -999,9,     -999,9,     -999,9,     -999,9,     -999,9,     -999,9,     -999,9,     -999,9,   -999.0,9,     -999,9,     -999,9,     -999,9,     -999,9,  16.0647,2,     -999,9,     -999,9,     -999,1,     -999,9,     -999,9,   4.8091,1,   0.0407,1,     -999,9,     -999,9,     -999,9,     -999,9,     -999,9,20230802,0918, -32.7514, 100.2442,-999          ,9,-999          ,9
33RR20230722  ,I05        ,40      ,  1,22         ,22         ,2,20230802,0747, -32.7514, 100.2442,     3974,     16.0,2,  16.0671,2,  35.7596,2,     -999,9,    242.6,2,     -999,9,     -999,9,     -999,9,     -999,9,     -999,9,     -999,9,     -999,9,     -999,9,   -999.0,9,     -999,9,     -999,9,     -999,9,     -999,9,  16.0659,2,     -999,1,     -999,1,     -999,9,     -999,9,     -999,9,   4.9750,1,   0.0414,1,     -999,9,     -999,9,     -999,9,     -999,9,     -999,9,20230802,0917, -32.7514, 100.2442,-999          ,9,-999          ,9
33RR20230722  ,I05        ,40      ,  1,18         ,18         ,2,20230802,0747, -32.7514, 100.2442,     3974,     52.3,2,  16.0440,2,  35.7578,2,  35.7572,2,    242.1,2,    242.0,2,     1.17,2,     0.28,2,     0.04,2,     0.16,2,     -999,9,     -999,9,     -999,9,   2098.6,2,   2348.7,2,   7.9475,2,    24.99,2,     -999,1,  16.0435,2,     -999,9,     -999,9,     -999,9,     -999,9,     -999,9,   4.9746,1,   0.0468,1,     -999,9,     -999,9,     -999,9,     -999,9,     -999,9,20230802,0913, -32.7514, 100.2442,-999          ,9,-999          ,9
33RR20230722  ,I05        ,40      ,  1,17         ,17         ,2,20230802,0747, -32.7514, 100.2442,     3974,    111.0,2,  15.3190,2,  35.6613,2,     -999,9,    240.6,2,     -999,9,     -999,9,     -999,9,     -999,9,     -999,9,     -999,9,     -999,9,     -999,9,   -999.0,9,     -999,9,     -999,9,     -999,9,     -999,9,  15.3189,2,     -999,9,     -999,9,     -999,9,     -999,9,     -999,9,   4.9732,1,   0.0217,1,     -999,9,     -999,9,     -999,9,     -999,9,     -999,9,20230802,0910, -32.7514, 100.2441,-999          ,9,-999          ,1
33RR20230722  ,I05        ,40      ,  1,16         ,16         ,2,20230802,0747, -32.7514, 100.2442,     3974,    159.8,2,  14.6623,2,  35.5304,2,  35.5373,2,    236.4,2,    237.3,2,     1.27,2,     2.43,2,     0.09,2,     0.30,2,     -999,9,     -999,9,     -999,9,   2111.1,2,   2335.5,2,   7.9034,2,    24.97,2,     -999,1,  14.6580,2,     -999,9,     -999,9,     -999,9,     -999,9,     -999,9,   4.9714,1,   0.0147,1,     -999,9,     -999,9,     -999,9,     -999,9,     -999,9,20230802,0908, -32.7513, 100.2442,-999          ,9,-999          ,9
33RR20230722  ,I05        ,40      ,  1,15         ,15         ,2,20230802,0747, -32.7514, 100.2442,     3974,    211.7,2,  13.3168,2,  35.2840,2,     -999,9,    232.9,2,     -999,9,     -999,9,     -999,9,     -999,9,     -999,9,     -999,9,     -999,9,     -999,9,   -999.0,9,     -999,9,     -999,9,     -999,9,     -999,9,  13.3243,2,     -999,9,     -999,9,     -999,9,     -999,9,     -999,9,   4.9703,1,   0.0116,1,     -999,9,     -999,9,     -999,9,     -999,9,     -999,9,20230802,0906, -32.7514, 100.2442,-999          ,9,-999          ,1
33RR20230722  ,I05        ,40      ,  1,14         ,14         ,2,20230802,0747, -32.7514, 100.2442,     3974,    249.8,2,  12.5898,2,  35.1580,2,  35.1587,2,    236.9,2,    237.1,2,     1.66,2,     6.88,2,     0.00,2,     0.58,2,     -999,9,     -999,9,     -999,9,   2123.9,2,   2310.8,2,   7.8397,2,    24.97,2,     -999,1,  12.5470,2,     -999,9,     -999,9,     -999,9,     -999,9,     -999,9,   4.9693,1,   0.0116,1,     -999,9,     -999,9,     -999,9,     -999,9,     -999,9,20230802,0904, -32.7514, 100.2442,-999          ,9,-999          ,9
33RR20230722  ,I05        ,40      ,  1,13         ,13         ,2,20230802,0747, -32.7514, 100.2442,     3974,    388.2,2,  10.5636,2,  34.8236,2,  34.8314,2,    245.2,2,    244.4,2,     2.73,2,    11.70,2,     0.00,2,     0.88,2,    2.394,2,    1.401,2,   2.4600,2,   2133.6,2,   2298.9,2,   7.7895,2,    24.98,2,     -999,1,  10.6182,2,     -999,9,     -999,9,     -999,9,     -999,9,     -999,9,   4.9680,1,   0.0115,1,      8.4,2,     -999,9,     -999,9,     -999,9,     -999,9,20230802,0901, -32.7514, 100.2442,-999          ,9,-999          ,9
33RR20230722  ,I05        ,40      ,  1,12         ,12         ,2,20230802,0747, -32.7514, 100.2442,     3974,    572.9,2,   9.5596,2,  34.7042,2,  34.7040,2,    236.8,2,    236.4,2,     4.39,2,    15.66,2,     0.00,2,     1.11,2,     -999,9,     -999,9,     -999,9,   2143.4,2,   2290.1,2,   7.7510,2,    24.98,2,     -999,1,   9.5634,2,     -999,9,     -999,9,     -999,9,     -999,9,     -999,9,   4.9666,1,   0.0115,1,     -999,9,     -999,9,     -999,9,     -999,9,     -999,9,20230802,0857, -32.7514, 100.2442,-999          ,9,-999          ,9
33RR20230722  ,I05        ,40      ,  1,11         ,11         ,2,20230802,0747, -32.7514, 100.2442,     3974,    750.5,2,   8.0620,2,  34.5380,2,  34.5374,2,    214.3,2,    215.1,2,     9.86,2,    21.42,2,     0.00,2,     1.47,2,    2.912,2,    1.833,2,   2.6100,2,   2158.3,2,   2284.2,2,   7.6987,6,    24.98,2,     -999,1,   8.0628,2,     -999,9,     -999,9,     -999,9,     -999,9,     -999,9,   4.9678,1,   0.0113,1,     12.3,2,     -999,9,     -999,9,     -999,9,     -999,9,20230802,0853, -32.7514, 100.2442,-999          ,9,-999          ,9
33RR20230722  ,I05        ,40      ,  1,10         ,10         ,2,20230802,0747, -32.7514, 100.2442,     3974,   1019.3,2,   4.6724,2,  34.3841,2,     -999,9,    187.4,2,     -999,9,     -999,9,     -999,9,     -999,9,     -999,9,     -999,9,     -999,9,     -999,9,   -999.0,9,     -999,9,     -999,9,     -999,9,     -999,9,   4.6787,2,     -999,9,     -999,9,     -999,9,     -999,9,     -999,9,   4.9715,1,   0.0111,1,     -999,9,     -999,9,     -999,9,     -999,9,     -999,9,20230802,0847, -32.7514, 100.2442,-999          ,9,-999          ,1
33RR20230722  ,I05        ,40      ,  1,9          ,9          ,2,20230802,0747, -32.7514, 100.2442,     3974,   1604.0,2,   2.9611,2,  34.6101,2,  34.6101,2,    153.8,2,    153.5,2,    83.53,2,    34.17,2,     0.00,2,     2.36,2,    2.878,2,    1.720,2,   1.5400,2,   2270.2,2,   2347.9,6,   7.5634,2,    24.98,2,     -999,1,   2.9609,2,     -999,9,     -999,9,     -999,9,     -999,9,     -999,9,   4.9751,1,   0.0112,1,     15.7,2,     -999,9,     -999,9,     -999,9,     -999,9,20230802,0836, -32.7514, 100.2442,-999          ,9,-999          ,9
33RR20230722  ,I05        ,40      ,  1,8          ,8          ,2,20230802,0747, -32.7514, 100.2442,     3974,   2025.6,2,   2.4469,2,  34.6973,2,  34.6979,2,    169.4,2,    169.4,2,    89.87,2,    32.41,2,     0.00,2,     2.23,2,    0.032,2,    0.037,2,   0.0800,2,   2266.2,2,   2352.9,2,   7.5905,2,    24.99,2,     -999,1,   2.4485,2,     -999,9,     -999,9,     -999,9,     -999,9,     -999,9,   4.9750,1,   0.0119,1,     21.5,2,     -999,9,     -999,9,     -999,9,     -999,9,20230802,0828, -32.7514, 100.2442,-999          ,9,-999          ,9
33RR20230722  ,I05        ,40      ,  1,7          ,7          ,2,20230802,0747, -32.7514, 100.2442,     3974,   2773.1,2,   1.7601,2,  34.7386,2,  34.7380,2,    193.6,2,    194.0,2,    99.04,2,    30.69,2,     0.00,2,     2.13,2,    0.010,2,    0.027,2,   0.0400,2,   2259.2,2,   2357.0,2,   7.6169,6,    24.98,2,     -999,1,   1.7597,2,     -999,9,     -999,9,     -999,9,     -999,9,     -999,9,   4.9748,1,   0.0118,1,     19.1,2,     -999,9,     -999,9,     -999,9,     -999,9,20230802,0814, -32.7515, 100.2442,-999          ,9,-999          ,9
33RR20230722  ,I05        ,40      ,  1,6          ,6          ,2,20230802,0747, -32.7514, 100.2442,     3974,   3078.5,2,   1.5297,2,  34.7339,2,  34.7325,2,    197.8,2,    198.2,2,   105.09,2,    30.86,2,     0.00,2,     2.11,2,    0.011,2,    0.032,2,  -0.0400,2,   2260.5,2,   2361.0,2,   7.6184,2,    24.98,2,     -999,1,   1.5296,2,     -999,9,     -999,9,     -999,9,     -999,9,     -999,9,   4.9753,1,   0.0116,1,     18.7,2,     -999,9,     -999,9,     -999,9,     -999,9,20230802,0808, -32.7515, 100.2442,-999          ,9,-999          ,9
33RR20230722  ,I05        ,40      ,  1,5          ,5          ,2,20230802,0747, -32.7514, 100.2442,     3974,   3383.5,2,   1.3484,2,  34.7268,2,  34.7254,2,    200.4,2,    200.6,2,   110.45,2,    31.29,2,     0.00,2,     2.15,2,    0.012,2,    0.037,2,  -0.0200,2,   2261.1,2,   2361.5,6,   7.6195,2,    24.98,2,     -999,1,   1.3473,2,     -999,9,     -999,9,     -999,9,     -999,9,     -999,9,   4.9756,1,   0.0111,1,     19.0,2,     -999,9,     -999,9,     -999,9,     -999,9,20230802,0802, -32.7515, 100.2442,-999          ,9,-999          ,9
33RR20230722  ,I05        ,40      ,  1,4          ,37         ,2,20230802,0747, -32.7514, 100.2442,     3974,   3646.7,2,   1.2312,2,  34.7216,2,  34.7205,2,    202.1,2,    202.1,2,   113.67,2,    31.59,2,     0.00,2,     2.17,2,    0.020,2,    0.037,2,   0.0200,2,   2265.7,2,   2365.2,2,   7.6214,2,    24.97,2,     -999,1,   1.2309,2,     -999,9,     -999,9,     -999,9,     -999,9,     -999,9,   4.9758,1,   0.0112,1,     18.5,2,     -999,9,     -999,9,     -999,9,     -999,9,20230802,0757, -32.7513, 100.2442,-999          ,9,-999          ,9
33RR20230722  ,I05        ,40      ,  1,3          ,3          ,2,20230802,0747, -32.7514, 100.2442,     3974,   3774.1,2,   1.2047,2,  34.7199,2,  34.7186,2,    202.6,2,    202.7,2,   115.72,2,    31.64,2,     0.00,2,     2.17,2,    0.027,2,    0.038,2,   0.0900,2,   2265.7,2,   2366.3,2,   7.6218,2,    24.98,2,     -999,1,   1.2043,2,     -999,9,     -999,9,     -999,9,     -999,9,     -999,9,   4.9758,1,   0.0112,1,     18.5,2,     -999,9,     -999,9,     -999,9,     -999,9,20230802,0753, -32.7514, 100.2442,-999          ,9,-999          ,9
33RR20230722  ,I05        ,40      ,  1,2          ,2          ,2,20230802,0747, -32.7514, 100.2442,     3974,   3846.6,2,   1.1715,2,  34.7182,2,  34.7166,2,    203.2,2,    203.3,2,   116.80,2,    31.64,2,     0.00,2,     2.18,2,    0.052,2,    0.045,2,   0.0200,2,   2268.0,2,   2368.6,2,   7.6222,2,    24.95,2,     -999,1,   1.1713,2,     -999,9,     -999,9,     -999,9,     -999,9,     -999,9,   4.7571,1,   0.0111,1,     18.6,2,     -999,9,     -999,9,     -999,9,     -999,9,20230802,0751, -32.7514, 100.2442,-999          ,9,-999          ,9
33RR20230722  ,I05        ,40      ,  1,1          ,1          ,2,20230802,0747, -32.7514, 100.2442,     3974,   4030.9,2,   1.1057,2,  34.7142,2,  34.7138,2,    204.5,2,    204.2,2,   119.04,2,    31.84,2,     0.00,2,     2.20,2,    0.023,2,    0.049,2,  -0.0500,2,   2268.1,6,   2370.8,6,   7.6218,2,    24.97,2,     -999,1,   1.1054,2,     -999,9,     -999,9,     -999,9,     -999,9,     -999,9,   0.4079,1,   0.0110,1,     17.8,2,     -999,9,     -999,9,     -999,9,     -999,9,20230802,0747, -32.7514, 100.2442,-999          ,9,-999          ,9