BOTTLE,20240422CCHHYDRO
EXPOCODE,SECT_ID,STNNBR,CASTNO,SAMPNO,BTLNBR,BTLNBR_FLAG_W,DATE,TIME,LATITUDE,LONGITUDE,DEPTH,CTDPRS,CTDPRS_FLAG_W,CTDTMP,CTDTMP_FLAG_W,CTDSAL,CTDSAL_FLAG_W,SALNTY,SALNTY_FLAG_W,CTDOXY,CTDOXY_FLAG_W,OXYGEN,OXYGEN_FLAG_W,SILCAT,SILCAT_FLAG_W,NITRAT,NITRAT_FLAG_W,NITRIT,NITRIT_FLAG_W,PHSPHT,PHSPHT_FLAG_W,CFC-11,CFC-11_FLAG_W,CFC-12,CFC-12_FLAG_W,SF6,SF6_FLAG_W,TCARBN,TCARBN_FLAG_W,ALKALI,ALKALI_FLAG_W,PH_TOT,PH_TOT_FLAG_W,PH_TMP,PH_TMP_FLAG_W,DOC,DOC_FLAG_W,REFTMP,REFTMP_FLAG_W,POC,POC_FLAG_W,PON,PON_FLAG_W,POP,POP_FLAG_W,DOP,DOP_FLAG_W,DELO18,DELO18_FLAG_W,CTDFLUOR,CTDFLUOR_FLAG_W,CTDXMISS,CTDXMISS_FLAG_W,N2O,N2O_FLAG_W,D15N_NO3,D15N_NO3_FLAG_W,D15N_NO2+NO3,D15N_NO2+NO3_FLAG_W,D18O_NO2+NO3,D18O_NO2+NO3_FLAG_W,D18O_NO3,D18O_NO3_FLAG_W,BTL_DATE,BTL_TIME,BTL_LAT,BTL_LON,HPLC,HPLC_FLAG_W,DNA,DNA_FLAG_W
,,,,,,,,,,,METERS,DBAR,,ITS-90,,PSS-78,,PSS-78,,UMOL/KG,,UMOL/KG,,UMOL/KG,,UMOL/KG,,UMOL/KG,,UMOL/KG,,PMOL/KG,,PMOL/KG,,FMOL/KG,,UMOL/KG,,UMOL/KG,,,,DEG C,,UMOL/KG,,ITS-90,,UG/KG,,UG/KG,,UG/L,,UMOL/KG,,/MILLE,,VOLTS,,VOLTS,,NMOL/KG,,/MILLE,,/MILLE,,/MILLE,,/MILLE,,,,,,,,,
33RR20230722  ,I05        ,192     ,  1,31         ,31         ,2,20230909,2318, -31.1845,  30.5027,     2295,      3.2,2,  22.4254,2,  35.4087,2,  35.4091,2,    219.0,2,    217.9,2,     0.98,2,     0.03,2,     0.00,2,     0.12,2,    1.516,2,    1.087,2,   2.0200,2,   2029.5,2,   2318.8,2,   8.0282,6,    25.03,2,     -999,1,  22.4246,2,     -999,9,     -999,9,     -999,9,     -999,9,     -999,1,   4.3502,1,   0.0304,1,      7.1,2,     -999,9,     -999,9,     -999,9,     -999,9,20230910,0043, -31.1845,  30.5027,-999          ,9,-999          ,9
33RR20230722  ,I05        ,192     ,  1,30         ,30         ,2,20230909,2318, -31.1845,  30.5027,     2295,     25.1,2,  22.1259,2,  35.4215,2,  35.4231,2,    219.5,2,    219.0,2,     1.27,2,     0.00,2,     0.01,2,     0.12,2,     -999,9,     -999,9,     -999,9,   -999.0,9,     -999,9,     -999,9,     -999,9,     -999,1,  22.1308,2,     -999,9,     -999,9,     -999,9,     -999,9,     -999,1,   4.7453,1,   0.0322,1,     -999,9,     -999,9,     -999,9,     -999,9,     -999,9,20230910,0041, -31.1845,  30.5027,-999          ,9,-999          ,9
33RR20230722  ,I05        ,192     ,  1,29         ,29         ,2,20230909,2318, -31.1845,  30.5027,     2295,     39.8,2,  21.7542,2,  35.4356,2,  35.4354,2,    219.1,2,    218.4,2,     1.56,2,     0.03,2,     0.10,2,     0.12,2,    1.602,2,    1.098,2,   1.9600,2,   2034.8,2,   2318.6,2,   8.0183,2,    25.03,2,     -999,1,  21.7507,2,     -999,9,     -999,9,     -999,9,     -999,9,     -999,1,   4.8301,1,   0.0339,1,      6.9,2,     -999,9,     -999,9,     -999,9,     -999,9,20230910,0039, -31.1845,  30.5027,-999          ,9,-999          ,9
33RR20230722  ,I05        ,192     ,  1,28         ,28         ,2,20230909,2318, -31.1845,  30.5027,     2295,     52.8,2,  21.7287,2,  35.4312,2,  35.4314,2,    220.0,2,    219.3,2,     1.56,2,     0.00,2,     0.06,2,     0.11,2,     -999,9,     -999,9,     -999,9,   -999.0,9,     -999,9,     -999,9,     -999,9,     -999,1,  21.7219,2,     -999,9,     -999,9,     -999,9,     -999,9,     -999,1,   4.9740,1,   0.0357,1,     -999,9,     -999,9,     -999,9,     -999,9,     -999,9,20230910,0037, -31.1845,  30.5027,-999          ,9,-999          ,9
33RR20230722  ,I05        ,192     ,  1,27         ,27         ,2,20230909,2318, -31.1845,  30.5027,     2295,     74.8,2,  21.0737,2,  35.4654,2,  35.4673,2,    196.1,3,    201.0,2,     2.34,2,     1.81,2,     0.18,2,     0.22,2,     -999,9,     -999,9,     -999,9,   2058.1,2,   2319.3,2,   7.9825,2,    25.03,2,     -999,1,  20.9692,2,     -999,9,     -999,9,     -999,9,     -999,9,     -999,1,   4.9694,1,   0.0153,1,     -999,9,     -999,9,     -999,9,     -999,9,     -999,9,20230910,0035, -31.1845,  30.5027,-999          ,9,-999          ,9
33RR20230722  ,I05        ,192     ,  1,26         ,26         ,2,20230909,2318, -31.1845,  30.5027,     2295,     91.1,2,  20.2764,2,  35.5205,2,  35.5200,2,    187.4,2,    188.7,2,     3.41,2,     3.51,2,     0.04,2,     0.32,2,    1.771,2,    1.154,2,   1.9300,2,   2079.5,2,   2323.8,2,   7.9467,2,    25.03,2,     -999,1,  20.2895,2,     -999,9,     -999,9,     -999,9,     -999,9,     -999,1,   4.6259,1,   0.0128,1,      8.9,2,     -999,9,     -999,9,     -999,9,     -999,9,20230910,0033, -31.1845,  30.5027,-999          ,9,-999          ,9
33RR20230722  ,I05        ,192     ,  1,25         ,25         ,2,20230909,2318, -31.1845,  30.5027,     2295,    111.6,2,  19.4234,2,  35.5719,2,  35.5721,2,    188.1,2,    189.8,2,     3.61,2,     3.72,2,     0.00,2,     0.34,2,     -999,9,     -999,9,     -999,9,   2088.2,2,   2326.4,2,   7.9324,6,    25.02,2,     -999,1,  19.4579,2,     -999,9,     -999,9,     -999,9,     -999,9,     -999,1,   4.9678,1,   0.0122,1,     -999,9,     -999,9,     -999,9,     -999,9,     -999,9,20230910,0032, -31.1845,  30.5027,-999          ,9,-999          ,9
33RR20230722  ,I05        ,192     ,  1,24         ,24         ,2,20230909,2318, -31.1845,  30.5027,     2295,    134.1,2,  18.8111,2,  35.5929,2,  35.5936,2,    196.0,2,    197.2,2,     3.32,2,     3.39,2,     0.00,2,     0.31,2,     -999,9,     -999,9,     -999,9,   -999.0,9,     -999,9,     -999,9,     -999,9,     -999,1,  18.8269,2,     -999,9,     -999,9,     -999,9,     -999,9,     -999,1,   4.8761,1,   0.0119,1,     -999,9,     -999,9,     -999,9,     -999,9,     -999,9,20230910,0030, -31.1845,  30.5027,-999          ,9,-999          ,9
33RR20230722  ,I05        ,192     ,  1,23         ,23         ,2,20230909,2318, -31.1845,  30.5027,     2295,    174.7,2,  17.6402,2,  35.6068,2,  35.6068,2,    210.3,2,    210.0,2,     2.93,2,     3.21,2,     0.00,2,     0.31,2,    1.978,6,    1.305,6,   2.1200,6,   2096.9,2,   2330.7,2,   7.9244,2,    25.05,2,     -999,1,  17.6413,2,     -999,9,     -999,9,     -999,9,     -999,9,     -999,1,   4.9690,1,   0.0117,1,      9.0,6,     -999,9,     -999,9,     -999,9,     -999,9,20230910,0028, -31.1844,  30.5028,-999          ,9,-999          ,9
33RR20230722  ,I05        ,192     ,  1,22         ,22         ,2,20230909,2318, -31.1845,  30.5027,     2295,    205.5,2,  16.7868,2,  35.5582,2,  35.5581,2,    202.4,2,    203.1,2,     3.61,2,     4.93,2,     0.00,2,     0.43,2,     -999,9,     -999,9,     -999,9,   -999.0,9,     -999,9,     -999,9,     -999,9,     -999,1,  16.7859,2,     -999,9,     -999,9,     -999,9,     -999,9,     -999,1,   4.9678,1,   0.0117,1,     -999,9,     -999,9,     -999,9,     -999,9,     -999,9,20230910,0026, -31.1840,  30.5031,-999          ,9,-999          ,9
33RR20230722  ,I05        ,192     ,  1,21         ,21         ,2,20230909,2318, -31.1845,  30.5027,     2295,    247.0,2,  15.9377,2,  35.4905,2,  35.4902,2,    200.1,2,    200.1,2,     4.29,2,     6.41,2,     0.00,2,     0.53,2,    2.037,2,    1.417,2,   2.0800,2,   2118.3,2,   2325.0,2,   7.8687,2,    25.02,2,     -999,1,  15.9385,2,     -999,9,     -999,9,     -999,9,     -999,9,     -999,1,   4.9672,1,   0.0118,1,     10.8,2,     -999,9,     -999,9,     -999,9,     -999,9,20230910,0025, -31.1835,  30.5034,-999          ,9,-999          ,9
33RR20230722  ,I05        ,192     ,  1,20         ,20         ,2,20230909,2318, -31.1845,  30.5027,     2295,    297.3,2,  14.9903,2,  35.4261,2,  35.4289,2,    215.1,2,    215.0,2,     3.32,2,     6.35,2,     0.00,2,     0.53,2,     -999,9,     -999,9,     -999,9,   2120.1,2,   2324.0,2,   7.8654,2,    25.04,2,     -999,1,  14.9882,2,     -999,9,     -999,9,     -999,9,     -999,9,     -999,1,   4.9678,1,   0.0117,1,     -999,9,     -999,9,     -999,9,     -999,9,     -999,9,20230910,0022, -31.1830,  30.5037,-999          ,9,-999          ,9
33RR20230722  ,I05        ,192     ,  1,19         ,19         ,2,20230909,2318, -31.1845,  30.5027,     2295,    355.8,2,  13.8364,2,  35.3025,2,  35.3027,2,    214.5,2,    214.2,2,     3.71,2,     8.24,2,     0.00,2,     0.65,2,    2.407,2,    1.569,2,   2.0300,2,   2132.6,2,   2316.5,2,   7.8361,2,    25.03,2,     -999,1,  13.8286,2,     -999,9,     -999,9,     -999,9,     -999,9,     -999,1,   4.6657,1,   0.0115,1,     10.6,2,     -999,9,     -999,9,     -999,9,     -999,9,20230910,0020, -31.1825,  30.5041,-999          ,9,-999          ,9
33RR20230722  ,I05        ,192     ,  1,18         ,18         ,2,20230909,2318, -31.1845,  30.5027,     2295,    426.4,2,  12.5928,2,  35.1498,2,  35.1532,2,    222.8,2,    223.0,2,     4.00,2,    10.33,2,     0.00,2,     0.78,2,    2.706,2,    1.689,2,   2.0800,2,   2130.5,2,   2309.6,2,   7.8156,2,    25.04,2,     -999,1,  12.6058,2,     -999,9,     -999,9,     -999,9,     -999,9,     -999,1,   4.9469,1,   0.0112,1,     10.7,2,     -999,9,     -999,9,     -999,9,     -999,9,20230910,0018, -31.1818,  30.5045,-999          ,9,-999          ,9
33RR20230722  ,I05        ,192     ,  1,17         ,17         ,2,20230909,2318, -31.1845,  30.5027,     2295,    506.7,2,  11.4077,2,  34.9766,2,  34.9778,2,    219.3,2,    219.2,2,     4.98,2,    13.10,2,     0.00,2,     0.96,2,     -999,9,     -999,9,     -999,9,   -999.0,9,     -999,9,     -999,9,     -999,9,     -999,1,  11.4090,2,     -999,9,     -999,9,     -999,9,     -999,9,     -999,1,   4.9666,1,   0.0114,1,     -999,9,     -999,9,     -999,9,     -999,9,     -999,9,20230910,0015, -31.1812,  30.5049,-999          ,9,-999          ,9
33RR20230722  ,I05        ,192     ,  1,16         ,16         ,2,20230909,2318, -31.1845,  30.5027,     2295,    588.6,2,  10.2877,2,  34.8454,2,  34.8462,2,    192.5,2,    192.8,2,    11.52,2,    18.30,2,     0.00,2,     1.30,2,    2.631,2,    1.596,2,   1.3700,2,   2162.3,2,   2300.3,2,   7.7269,2,    25.01,2,     -999,1,  10.2878,2,     -999,9,     -999,9,     -999,9,     -999,9,     -999,1,   4.8560,1,   0.0114,1,     16.8,2,     -999,9,     -999,9,     -999,9,     -999,9,20230910,0012, -31.1806,  30.5054,-999          ,9,-999          ,9
33RR20230722  ,I05        ,192     ,  1,15         ,15         ,2,20230909,2318, -31.1845,  30.5027,     2295,    686.7,2,   8.8950,2,  34.7071,2,  34.7091,2,    191.8,2,    192.1,2,    16.20,2,    21.56,2,     0.00,2,     1.50,2,    2.541,2,    1.488,2,   1.0800,2,   2175.4,2,   2297.2,2,   7.6969,2,    25.05,2,     -999,1,   8.8944,2,     -999,9,     -999,9,     -999,9,     -999,9,     -999,1,   4.9687,1,   0.0113,1,     16.7,2,     -999,9,     -999,9,     -999,9,     -999,9,20230910,0010, -31.1799,  30.5058,-999          ,9,-999          ,9
33RR20230722  ,I05        ,192     ,  1,14         ,14         ,2,20230909,2318, -31.1845,  30.5027,     2295,    795.2,2,   7.2665,2,  34.5301,2,  34.5313,2,    198.3,2,    198.6,2,    19.14,2,    24.94,2,     0.00,2,     1.72,2,    2.790,2,    1.450,2,   1.0200,2,   2179.0,2,   2291.9,6,   7.6674,6,    25.03,2,     -999,1,   7.2677,2,     -999,9,     -999,9,     -999,9,     -999,9,     -999,1,   4.8390,1,   0.0114,1,     17.1,2,     -999,9,     -999,9,     -999,9,     -999,9,20230910,0007, -31.1792,  30.5063,-999          ,9,-999          ,9
33RR20230722  ,I05        ,192     ,  1,13         ,13         ,2,20230909,2318, -31.1845,  30.5027,     2295,    908.4,2,   6.0610,2,  34.5317,2,  34.5305,2,    170.7,2,    170.8,2,    36.71,2,    29.65,2,     0.00,2,     2.07,2,    1.666,2,    0.944,2,   0.6000,2,   2211.5,2,   2305.5,2,   7.6131,6,    25.04,2,     -999,1,   6.0582,2,     -999,9,     -999,9,     -999,9,     -999,9,     -999,1,   4.9715,1,   0.0112,1,     22.1,2,     -999,9,     -999,9,     -999,9,     -999,9,20230910,0003, -31.1784,  30.5068,-999          ,9,-999          ,9
33RR20230722  ,I05        ,192     ,  1,12         ,12         ,2,20230909,2318, -31.1845,  30.5027,     2295,   1020.3,2,   4.8438,2,  34.5476,2,  34.5488,2,    158.7,2,    158.1,2,    53.40,2,    32.46,2,     0.00,2,     2.28,2,     -999,9,     -999,9,     -999,9,   -999.0,9,     -999,9,     -999,9,     -999,9,     -999,1,   4.8509,2,     -999,9,     -999,9,     -999,9,     -999,9,     -999,1,   4.7964,1,   0.0114,1,     -999,9,     -999,9,     -999,9,     -999,9,     -999,9,20230910,0000, -31.1776,  30.5073,-999          ,9,-999          ,9
33RR20230722  ,I05        ,192     ,  1,11         ,11         ,2,20230909,2318, -31.1845,  30.5027,     2295,   1126.8,2,   4.2183,2,  34.5767,2,  34.5767,2,    154.7,2,    154.2,2,    63.16,2,    33.39,2,     0.00,2,     2.37,2,     -999,9,     -999,9,     -999,9,   -999.0,9,     -999,9,     -999,9,     -999,9,     -999,1,   4.2140,2,     -999,9,     -999,9,     -999,9,     -999,9,     -999,1,   4.8585,1,   0.0111,1,     -999,9,     -999,9,     -999,9,     -999,9,     -999,9,20230909,2356, -31.1767,  30.5080,-999          ,9,-999          ,9
33RR20230722  ,I05        ,192     ,  1,10         ,10         ,2,20230909,2318, -31.1845,  30.5027,     2295,   1226.2,2,   3.9124,2,  34.6326,2,  34.6331,2,    148.8,2,    148.3,2,    71.56,2,    33.85,2,     0.00,2,     2.39,2,    0.468,2,    0.222,2,   0.1300,2,   2259.2,6,   2340.0,2,   7.5647,2,    25.01,2,     -999,1,   3.9117,2,     -999,9,     -999,9,     -999,9,     -999,9,     -999,1,   4.9739,1,   0.0119,1,     24.2,2,     -999,9,     -999,9,     -999,9,     -999,9,20230909,2353, -31.1759,  30.5085,-999          ,9,-999          ,9
33RR20230722  ,I05        ,192     ,  1,9          ,9          ,2,20230909,2318, -31.1845,  30.5027,     2295,   1363.6,2,   3.2565,2,  34.6368,2,  34.6372,2,    162.9,2,    163.1,2,    72.44,2,    33.16,2,     0.00,2,     2.31,2,     -999,9,     -999,9,     -999,9,   -999.0,9,     -999,9,     -999,9,     -999,9,     -999,1,   3.2632,2,     -999,9,     -999,9,     -999,9,     -999,9,     -999,1,   4.9735,1,   0.0124,1,     -999,9,     -999,9,     -999,9,     -999,9,     -999,9,20230909,2346, -31.1742,  30.5097,-999          ,9,-999          ,9
33RR20230722  ,I05        ,192     ,  1,8          ,8          ,2,20230909,2318, -31.1845,  30.5027,     2295,   1473.8,2,   3.0208,2,  34.6682,2,  34.6694,2,    168.6,2,    168.9,2,    73.80,2,    32.47,2,     0.00,2,     2.27,2,    0.240,2,    0.129,2,   0.0500,2,   2255.4,2,   2343.0,2,   7.5846,2,    25.04,2,     -999,1,   3.0199,2,     -999,9,     -999,9,     -999,9,     -999,9,     -999,1,   4.9735,1,   0.0118,1,     22.2,2,     -999,9,     -999,9,     -999,9,     -999,9,20230909,2342, -31.1733,  30.5102,-999          ,9,-999          ,9
33RR20230722  ,I05        ,192     ,  1,7          ,7          ,2,20230909,2318, -31.1845,  30.5027,     2295,   1589.4,2,   2.8761,2,  34.7039,2,  34.7046,2,    173.4,2,    173.6,2,    75.26,2,    31.73,2,     0.00,2,     2.21,2,     -999,9,     -999,9,     -999,9,   -999.0,9,     -999,9,     -999,9,     -999,9,     -999,1,   2.8749,2,     -999,9,     -999,9,     -999,9,     -999,9,     -999,1,   4.9733,1,   0.0123,1,     -999,9,     -999,9,     -999,9,     -999,9,     -999,9,20230909,2338, -31.1724,  30.5109,-999          ,9,-999          ,9
33RR20230722  ,I05        ,192     ,  1,6          ,6          ,2,20230909,2318, -31.1845,  30.5027,     2295,   1709.0,2,   2.7621,2,  34.7309,2,  34.7313,2,    179.1,2,    179.7,2,    74.97,2,    30.91,2,     0.00,2,     2.17,2,    0.113,2,    0.057,2,   0.0400,2,   2249.9,2,   2347.0,2,   7.6075,2,    25.02,2,     -999,1,   2.7612,2,     -999,9,     -999,9,     -999,9,     -999,9,     -999,1,   4.9731,1,   0.0112,1,     20.4,2,     -999,9,     -999,9,     -999,9,     -999,9,20230909,2335, -31.1716,  30.5114,-999          ,9,-999          ,9
33RR20230722  ,I05        ,192     ,  1,5          ,5          ,2,20230909,2318, -31.1845,  30.5027,     2295,   1849.5,2,   2.6477,2,  34.7535,2,  34.7545,2,    186.9,2,    187.7,2,    72.82,2,    30.00,2,     0.00,2,     2.09,2,     -999,9,     -999,9,     -999,9,   2245.8,2,   2346.6,2,   7.6197,2,    25.04,2,     -999,1,   2.6475,2,     -999,9,     -999,9,     -999,9,     -999,9,     -999,1,   4.9735,1,   0.0122,1,     -999,9,     -999,9,     -999,9,     -999,9,     -999,9,20230909,2331, -31.1707,  30.5120,-999          ,9,-999          ,9
33RR20230722  ,I05        ,192     ,  1,4          ,37         ,2,20230909,2318, -31.1845,  30.5027,     2295,   1996.0,2,   2.5919,2,  34.7661,2,  34.7661,2,    192.2,2,    193.0,2,    70.77,2,    29.34,2,     0.00,2,     2.04,2,     -999,9,     -999,9,     -999,9,   -999.0,9,     -999,9,     -999,9,     -999,9,     -999,1,   2.5897,2,     -999,9,     -999,9,     -999,9,     -999,9,     -999,1,   4.9726,1,   0.0117,1,     -999,9,     -999,9,     -999,9,     -999,9,     -999,9,20230909,2327, -31.1696,  30.5127,-999          ,9,-999          ,9
33RR20230722  ,I05        ,192     ,  1,3          ,3          ,2,20230909,2318, -31.1845,  30.5027,     2295,   2149.8,2,   2.4987,2,  34.7829,2,  34.7842,2,    199.7,2,    200.0,2,    69.01,2,    28.52,2,     0.00,2,     1.96,2,    0.059,2,    0.027,2,   0.0000,2,   2237.1,2,   2344.3,6,   7.6387,6,    25.02,2,     -999,1,   2.4982,2,     -999,9,     -999,9,     -999,9,     -999,9,     -999,1,   4.9723,1,   0.0116,1,     18.2,2,     -999,9,     -999,9,     -999,9,     -999,9,20230909,2323, -31.1687,  30.5133,-999          ,9,-999          ,9
33RR20230722  ,I05        ,192     ,  1,2          ,2          ,2,20230909,2318, -31.1845,  30.5027,     2295,   2257.1,2,   2.4770,2,  34.7873,2,  34.7883,2,    202.1,2,    201.9,2,    68.52,2,    28.29,2,     0.00,2,     1.94,2,    0.056,2,    0.028,2,   0.0500,2,   2235.2,2,   2343.8,2,   7.6423,6,    25.02,2,     -999,1,   2.4760,2,     -999,9,     -999,9,     -999,9,     -999,9,     -999,1,   3.4312,1,   0.0114,1,     17.6,2,     -999,9,     -999,9,     -999,9,     -999,9,20230909,2320, -31.1680,  30.5138,-999          ,9,-999          ,9
33RR20230722  ,I05        ,192     ,  1,1          ,1          ,2,20230909,2318, -31.1845,  30.5027,     2295,   2311.1,2,   2.4743,2,  34.7881,2,  34.7901,2,    202.8,2,    202.6,2,    68.52,2,    28.22,2,     0.00,2,     1.94,2,    0.049,2,    0.027,2,   0.0300,2,   2232.3,6,   2342.8,2,   7.6429,2,    25.02,2,     -999,1,   2.4747,2,     -999,9,     -999,9,     -999,9,     -999,9,     -999,1,   0.6071,1,   0.0117,1,     18.0,2,     -999,9,     -999,9,     -999,9,     -999,9,20230909,2318, -31.1674,  30.5142,-999          ,9,-999          ,9