BOTTLE,20240422CCHHYDRO
EXPOCODE,SECT_ID,STNNBR,CASTNO,SAMPNO,BTLNBR,BTLNBR_FLAG_W,DATE,TIME,LATITUDE,LONGITUDE,DEPTH,CTDPRS,CTDPRS_FLAG_W,CTDTMP,CTDTMP_FLAG_W,CTDSAL,CTDSAL_FLAG_W,SALNTY,SALNTY_FLAG_W,CTDOXY,CTDOXY_FLAG_W,OXYGEN,OXYGEN_FLAG_W,SILCAT,SILCAT_FLAG_W,NITRAT,NITRAT_FLAG_W,NITRIT,NITRIT_FLAG_W,PHSPHT,PHSPHT_FLAG_W,CFC-11,CFC-11_FLAG_W,CFC-12,CFC-12_FLAG_W,SF6,SF6_FLAG_W,TCARBN,TCARBN_FLAG_W,ALKALI,ALKALI_FLAG_W,PH_TOT,PH_TOT_FLAG_W,PH_TMP,PH_TMP_FLAG_W,DOC,DOC_FLAG_W,REFTMP,REFTMP_FLAG_W,POC,POC_FLAG_W,PON,PON_FLAG_W,POP,POP_FLAG_W,DOP,DOP_FLAG_W,DELO18,DELO18_FLAG_W,CTDFLUOR,CTDFLUOR_FLAG_W,CTDXMISS,CTDXMISS_FLAG_W,N2O,N2O_FLAG_W,D15N_NO3,D15N_NO3_FLAG_W,D15N_NO2+NO3,D15N_NO2+NO3_FLAG_W,D18O_NO2+NO3,D18O_NO2+NO3_FLAG_W,D18O_NO3,D18O_NO3_FLAG_W,BTL_DATE,BTL_TIME,BTL_LAT,BTL_LON,HPLC,HPLC_FLAG_W,DNA,DNA_FLAG_W
,,,,,,,,,,,METERS,DBAR,,ITS-90,,PSS-78,,PSS-78,,UMOL/KG,,UMOL/KG,,UMOL/KG,,UMOL/KG,,UMOL/KG,,UMOL/KG,,PMOL/KG,,PMOL/KG,,FMOL/KG,,UMOL/KG,,UMOL/KG,,,,DEG C,,UMOL/KG,,ITS-90,,UG/KG,,UG/KG,,UG/L,,UMOL/KG,,/MILLE,,VOLTS,,VOLTS,,NMOL/KG,,/MILLE,,/MILLE,,/MILLE,,/MILLE,,,,,,,,,
33RR20230722  ,I05        ,167     ,  1,36         ,38         ,2,20230903,2127, -32.9976,  39.2573,     5104,      4.2,2,  18.8682,2,  35.7031,2,  35.7025,2,    233.5,2,    233.0,2,     1.85,2,     0.01,2,     0.00,2,     0.12,2,    1.760,2,    1.248,2,   2.1200,2,   2068.8,2,   2337.5,2,   7.9824,6,    25.01,2,     -999,1,  18.8677,2,     -999,9,     -999,9,     -999,9,     -999,1,     -999,9,   4.4889,1,   0.0178,1,      8.0,2,     -999,9,     -999,9,     -999,9,     -999,9,20230903,2339, -32.9976,  39.2573,-999          ,9,-999          ,9
33RR20230722  ,I05        ,167     ,  1,35         ,35         ,2,20230903,2127, -32.9976,  39.2573,     5104,     29.0,2,  18.8760,2,  35.7031,2,  35.7025,2,    233.5,2,    233.1,2,     1.85,2,     0.00,2,     0.00,2,     0.11,2,     -999,9,     -999,9,     -999,9,   -999.0,9,     -999,9,     -999,9,     -999,9,     -999,9,  18.8752,2,     -999,9,     -999,9,     -999,9,     -999,1,     -999,9,   4.9616,1,   0.0190,1,     -999,9,     -999,9,     -999,9,     -999,9,     -999,9,20230903,2337, -32.9976,  39.2573,-999          ,9,-999          ,9
33RR20230722  ,I05        ,167     ,  1,34         ,34         ,2,20230903,2127, -32.9976,  39.2573,     5104,     53.4,2,  18.6791,2,  35.7037,2,  35.7029,2,    233.6,2,    233.2,2,     1.76,2,     0.00,2,     0.00,2,     0.09,2,    1.739,2,    1.253,2,   2.1700,2,   -999.0,9,     -999,9,     -999,9,     -999,9,     -999,9,  18.6775,2,     -999,9,     -999,9,     -999,9,     -999,1,     -999,9,   4.7094,1,   0.0222,1,      8.0,2,     -999,9,     -999,9,     -999,9,     -999,9,20230903,2335, -32.9976,  39.2573,-999          ,9,-999          ,9
33RR20230722  ,I05        ,167     ,  1,33         ,33         ,2,20230903,2127, -32.9976,  39.2573,     5104,     78.2,2,  18.6231,2,  35.7016,2,  35.7002,2,    230.4,2,    230.5,2,     1.76,2,     0.00,2,     0.06,2,     0.12,2,     -999,9,     -999,9,     -999,9,   2067.2,2,   2336.0,2,   7.9785,2,    25.00,2,     -999,9,  18.6201,2,     -999,9,     -999,9,     -999,9,     -999,1,     -999,9,   4.8828,1,   0.0321,1,     -999,9,     -999,9,     -999,9,     -999,9,     -999,9,20230903,2333, -32.9976,  39.2573,-999          ,9,-999          ,9
33RR20230722  ,I05        ,167     ,  1,32         ,32         ,2,20230903,2127, -32.9976,  39.2573,     5104,    103.8,2,  18.1891,2,  35.6841,2,  35.6834,2,    226.8,2,    227.5,2,     2.05,2,     0.26,2,     0.31,2,     0.15,2,    1.844,2,    1.271,2,   2.1400,2,   -999.0,9,     -999,9,     -999,9,     -999,9,     -999,9,  18.1886,2,     -999,9,     -999,9,     -999,9,     -999,1,     -999,9,   4.9723,1,   0.0162,1,      8.1,2,     -999,9,     -999,9,     -999,9,     -999,9,20230903,2331, -32.9976,  39.2573,-999          ,9,-999          ,9
33RR20230722  ,I05        ,167     ,  1,31         ,31         ,2,20230903,2127, -32.9976,  39.2573,     5104,    133.8,2,  17.8630,2,  35.6655,2,  35.6652,2,    226.4,2,    227.4,2,     2.15,2,     0.87,2,     0.12,2,     0.17,2,     -999,9,     -999,9,     -999,9,   2079.1,2,   2332.9,2,   7.9553,2,    25.00,2,     -999,9,  17.8638,2,     -999,9,     -999,9,     -999,9,     -999,1,     -999,9,   4.7769,1,   0.0133,1,     -999,9,     -999,9,     -999,9,     -999,9,     -999,9,20230903,2329, -32.9976,  39.2573,-999          ,9,-999          ,9
33RR20230722  ,I05        ,167     ,  1,30         ,30         ,2,20230903,2127, -32.9976,  39.2573,     5104,    165.1,2,  17.5362,2,  35.6602,2,  35.6601,2,    235.3,2,    234.6,2,     2.34,2,     0.54,2,     0.33,2,     0.17,2,    1.873,2,    1.296,2,   2.1600,2,   -999.0,9,     -999,9,     -999,9,     -999,9,     -999,9,  17.5341,2,     -999,9,     -999,9,     -999,9,     -999,1,     -999,9,   4.9731,1,   0.0204,1,      8.3,2,     -999,9,     -999,9,     -999,9,     -999,9,20230903,2328, -32.9976,  39.2573,-999          ,9,-999          ,9
33RR20230722  ,I05        ,167     ,  1,29         ,29         ,2,20230903,2127, -32.9976,  39.2573,     5104,    200.9,2,  17.3994,2,  35.6484,2,  35.6476,2,    229.8,2,    229.7,2,     2.34,2,     1.35,2,     0.05,2,     0.19,2,     -999,9,     -999,9,     -999,9,   -999.0,9,     -999,9,     -999,9,     -999,9,     -999,9,  17.3996,2,     -999,9,     -999,9,     -999,9,     -999,1,     -999,9,   4.9725,1,   0.0128,1,     -999,9,     -999,9,     -999,9,     -999,9,     -999,9,20230903,2326, -32.9976,  39.2573,-999          ,9,-999          ,9
33RR20230722  ,I05        ,167     ,  1,28         ,28         ,2,20230903,2127, -32.9976,  39.2573,     5104,    238.9,2,  16.8027,2,  35.5697,2,  35.5695,2,    208.2,3,    211.8,2,     3.02,2,     3.68,2,     0.01,2,     0.37,2,    2.193,3,    1.374,2,   2.1700,2,   -999.0,9,     -999,9,     -999,9,     -999,9,     -999,9,  16.8068,2,     -999,9,     -999,9,     -999,9,     -999,1,     -999,9,   4.9683,1,   0.0126,1,      9.5,2,     -999,9,     -999,9,     -999,9,     -999,9,20230903,2324, -32.9976,  39.2573,-999          ,9,-999          ,9
33RR20230722  ,I05        ,167     ,  1,27         ,27         ,2,20230903,2127, -32.9976,  39.2573,     5104,    284.3,2,  16.0445,2,  35.5228,2,  35.5200,2,    209.1,3,    211.6,2,     3.41,2,     5.10,2,     0.00,2,     0.44,2,     -999,9,     -999,9,     -999,9,   -999.0,9,     -999,9,     -999,9,     -999,9,     -999,9,  16.0338,2,     -999,9,     -999,9,     -999,9,     -999,1,     -999,9,   4.9680,1,   0.0119,1,     -999,9,     -999,9,     -999,9,     -999,9,     -999,9,20230903,2322, -32.9976,  39.2573,-999          ,9,-999          ,9
33RR20230722  ,I05        ,167     ,  1,26         ,26         ,2,20230903,2127, -32.9976,  39.2573,     5104,    339.5,2,  15.1495,2,  35.4445,2,  35.4458,2,    213.4,2,    214.8,2,     3.41,2,     5.94,2,     0.00,2,     0.50,2,    2.299,2,    1.477,2,   2.1400,2,   -999.0,9,     -999,9,     -999,9,     -999,9,     -999,9,  15.1385,2,     -999,9,     -999,9,     -999,9,     -999,9,     -999,9,   4.8929,1,   0.0115,1,     10.1,2,     -999,9,     -999,9,     -999,9,     -999,9,20230903,2320, -32.9976,  39.2573,-999          ,9,-999          ,9
33RR20230722  ,I05        ,167     ,  1,25         ,25         ,2,20230903,2127, -32.9976,  39.2573,     5104,    404.5,2,  14.2859,2,  35.3521,2,  35.3502,2,    215.7,2,    216.5,2,     3.61,2,     7.39,2,     0.00,2,     0.60,2,     -999,9,     -999,9,     -999,9,   2120.8,2,   2319.3,2,   7.8481,2,    25.00,2,     -999,9,  14.2734,2,     -999,9,     -999,9,     -999,9,     -999,9,     -999,9,   4.9675,1,   0.0114,1,     -999,9,     -999,9,     -999,9,     -999,9,     -999,9,20230903,2318, -32.9976,  39.2573,-999          ,9,-999          ,9
33RR20230722  ,I05        ,167     ,  1,24         ,24         ,2,20230903,2127, -32.9976,  39.2573,     5104,    481.0,2,  13.3521,2,  35.2495,2,  35.2481,2,    221.2,2,    221.4,2,     3.90,2,     8.85,2,     0.00,2,     0.70,2,    2.773,3,    1.625,2,   2.1800,2,   -999.0,9,     -999,9,     -999,9,     -999,9,     -999,9,  13.3519,2,     -999,9,     -999,9,     -999,9,     -999,9,     -999,9,   4.9270,1,   0.0117,1,     11.0,2,     -999,9,     -999,9,     -999,9,     -999,9,20230903,2315, -32.9976,  39.2573,-999          ,9,-999          ,9
33RR20230722  ,I05        ,167     ,  1,23         ,23         ,2,20230903,2127, -32.9976,  39.2573,     5104,    563.6,2,  12.5081,2,  35.1358,2,  35.1341,2,    223.5,2,    223.3,2,     4.29,2,    10.56,2,     0.00,2,     0.78,2,    2.822,2,    1.689,2,   2.0600,2,   2131.2,2,   2306.8,2,   7.8127,2,    25.00,2,     -999,9,  12.5118,2,     -999,9,     -999,9,     -999,9,     -999,9,     -999,9,   4.8087,1,   0.0114,1,     11.6,2,     -999,9,     -999,9,     -999,9,     -999,9,20230903,2312, -32.9976,  39.2573,-999          ,9,-999          ,9
33RR20230722  ,I05        ,167     ,  1,22         ,22         ,2,20230903,2127, -32.9976,  39.2573,     5104,    654.6,2,  11.7744,2,  35.0244,2,  35.0224,2,    222.6,2,    222.8,2,     4.68,2,    12.31,2,     0.00,2,     0.91,2,    2.982,3,    1.737,2,   1.9300,2,   -999.0,9,     -999,9,     -999,9,     -999,9,     -999,9,  11.7758,2,     -999,9,     -999,9,     -999,9,     -999,9,     -999,9,   4.9666,1,   0.0114,1,     12.1,2,     -999,9,     -999,9,     -999,9,     -999,9,20230903,2309, -32.9976,  39.2573,-999          ,9,-999          ,9
33RR20230722  ,I05        ,167     ,  1,21         ,21         ,2,20230903,2127, -32.9976,  39.2573,     5104,    748.5,2,  10.6391,2,  34.8653,2,  34.8615,2,    218.7,2,    218.7,2,     6.15,2,    15.24,2,     0.00,2,     1.09,2,    2.989,2,    1.773,2,   1.7300,2,   2139.5,2,   2298.2,2,   7.7658,2,    25.00,2,     -999,9,  10.6388,2,     -999,9,     -999,9,     -999,9,     -999,9,     -999,9,   4.9668,1,   0.0115,1,     13.2,2,     -999,9,     -999,9,     -999,9,     -999,9,20230903,2307, -32.9976,  39.2573,-999          ,9,-999          ,9
33RR20230722  ,I05        ,167     ,  1,20         ,20         ,2,20230903,2127, -32.9976,  39.2573,     5104,    847.6,2,   9.5854,2,  34.7355,2,  34.7341,2,    213.3,2,    213.3,2,     8.78,2,    18.20,2,     0.00,2,     1.29,2,    3.013,2,    1.754,2,   1.4900,2,   -999.0,9,     -999,9,     -999,9,     -999,9,     -999,9,   9.5839,2,     -999,9,     -999,9,     -999,9,     -999,9,     -999,9,   4.6657,1,   0.0113,1,     14.6,2,     -999,9,     -999,9,     -999,9,     -999,9,20230903,2304, -32.9976,  39.2573,-999          ,9,-999          ,9
33RR20230722  ,I05        ,167     ,  1,19         ,19         ,2,20230903,2127, -32.9976,  39.2573,     5104,    947.0,2,   8.2673,2,  34.5990,2,  34.5971,2,    207.8,2,    208.1,2,    13.28,2,    21.92,2,     0.00,2,     1.53,2,    3.005,2,    1.656,2,   1.2600,2,   2163.9,2,   2289.9,2,   7.6985,6,    24.99,2,     -999,9,   8.2684,2,     -999,9,     -999,9,     -999,9,     -999,9,     -999,9,   4.9071,1,   0.0113,1,     16.1,2,     -999,9,     -999,9,     -999,9,     -999,9,20230903,2301, -32.9976,  39.2573,-999          ,9,-999          ,9
33RR20230722  ,I05        ,167     ,  1,18         ,18         ,2,20230903,2127, -32.9976,  39.2573,     5104,   1048.9,2,   6.9212,2,  34.4918,2,  34.4901,2,    202.3,2,    202.3,2,    20.11,2,    25.63,2,     0.00,2,     1.78,2,     -999,9,     -999,9,     -999,9,   -999.0,9,     -999,9,     -999,9,     -999,9,     -999,9,   6.9166,2,     -999,9,     -999,9,     -999,9,     -999,9,     -999,9,   4.8440,1,   0.0112,1,     -999,9,     -999,9,     -999,9,     -999,9,     -999,9,20230903,2258, -32.9976,  39.2573,-999          ,9,-999          ,9
33RR20230722  ,I05        ,167     ,  1,17         ,17         ,2,20230903,2127, -32.9976,  39.2573,     5104,   1154.8,2,   5.7282,2,  34.4392,2,  34.4383,2,    194.3,2,    194.9,2,    29.78,2,    28.70,2,     0.00,2,     1.99,2,    2.260,6,    1.213,6,   0.7100,6,   2195.8,2,   2297.7,6,   7.6287,2,    24.97,2,     -999,9,   5.7284,2,     -999,9,     -999,9,     -999,9,     -999,9,     -999,9,   4.9709,1,   0.0120,1,     19.8,6,     -999,9,     -999,9,     -999,9,     -999,9,20230903,2255, -32.9976,  39.2573,-999          ,9,-999          ,9
33RR20230722  ,I05        ,167     ,  1,16         ,16         ,2,20230903,2127, -32.9976,  39.2573,     5104,   1269.6,2,   4.6902,2,  34.4158,2,  34.4167,2,    190.0,2,    190.4,2,    39.34,2,    30.99,2,     0.00,2,     2.16,2,     -999,9,     -999,9,     -999,9,   -999.0,9,     -999,9,     -999,9,     -999,9,     -999,9,   4.6941,2,     -999,9,     -999,9,     -999,9,     -999,9,     -999,9,   4.9717,1,   0.0113,1,     -999,9,     -999,9,     -999,9,     -999,9,     -999,9,20230903,2252, -32.9976,  39.2573,-999          ,9,-999          ,9
33RR20230722  ,I05        ,167     ,  1,15         ,15         ,2,20230903,2127, -32.9976,  39.2573,     5104,   1393.5,2,   4.0749,2,  34.4498,2,  34.4489,2,    180.9,2,    180.7,2,    49.30,2,    32.50,2,     0.00,2,     2.26,2,    1.437,2,    0.751,2,   0.4100,2,   2224.6,2,   2311.9,2,   7.5868,6,    25.01,2,     -999,9,   4.0756,2,     -999,9,     -999,9,     -999,9,     -999,9,     -999,9,   4.9726,1,   0.0117,1,     22.8,2,     -999,9,     -999,9,     -999,9,     -999,9,20230903,2248, -32.9976,  39.2573,-999          ,9,-999          ,9
33RR20230722  ,I05        ,167     ,  1,14         ,14         ,2,20230903,2127, -32.9976,  39.2573,     5104,   1526.6,2,   3.7145,2,  34.5190,2,  34.5186,2,    169.7,2,    169.8,2,    60.13,2,    33.36,2,     0.00,2,     2.33,2,    0.852,2,    0.466,2,   0.2000,2,   -999.0,9,     -999,9,     -999,9,     -999,9,     -999,9,   3.7114,2,     -999,9,     -999,9,     -999,9,     -999,9,     -999,9,   4.9738,1,   0.0118,1,     23.4,2,     -999,9,     -999,9,     -999,9,     -999,9,20230903,2244, -32.9976,  39.2573,-999          ,9,-999          ,9
33RR20230722  ,I05        ,167     ,  1,13         ,13         ,2,20230903,2127, -32.9976,  39.2573,     5104,   1665.7,2,   3.3670,2,  34.5712,2,  34.5714,2,    167.6,2,    167.3,2,    66.77,2,    33.40,2,     0.00,2,     2.34,2,    0.551,2,    0.309,2,   0.1500,2,   2247.2,6,   2331.6,2,   7.5732,2,    25.01,2,     -999,9,   3.3665,2,     -999,9,     -999,9,     -999,9,     -999,9,     -999,9,   4.9742,1,   0.0113,1,     23.2,2,     -999,9,     -999,9,     -999,9,     -999,9,20230903,2240, -32.9976,  39.2573,-999          ,9,-999          ,9
33RR20230722  ,I05        ,167     ,  1,12         ,12         ,2,20230903,2127, -32.9976,  39.2573,     5104,   1817.1,2,   3.0492,2,  34.6321,2,  34.6309,2,    171.7,2,    171.4,2,    70.28,2,    32.68,2,     0.00,2,     2.26,2,    0.335,2,    0.178,2,   0.0500,2,   -999.0,9,     -999,9,     -999,9,     -999,9,     -999,9,   3.0490,2,     -999,9,     -999,9,     -999,9,     -999,9,     -999,9,   4.9743,1,   0.0113,1,     22.9,2,     -999,9,     -999,9,     -999,9,     -999,9,20230903,2237, -32.9976,  39.2573,-999          ,9,-999          ,9
33RR20230722  ,I05        ,167     ,  1,11         ,11         ,2,20230903,2127, -32.9976,  39.2573,     5104,   1997.5,2,   2.8520,2,  34.6962,2,  34.6979,2,    178.2,2,    178.6,2,    72.62,2,    31.47,2,     0.00,2,     2.20,2,    0.154,2,    0.091,2,  -0.0100,2,   2245.6,2,   2342.6,2,   7.5996,2,    25.00,2,     -999,9,   2.8492,2,     -999,9,     -999,9,     -999,9,     -999,9,     -999,9,   4.9600,1,   0.0120,1,     21.8,2,     -999,9,     -999,9,     -999,9,     -999,9,20230903,2232, -32.9976,  39.2573,-999          ,9,-999          ,9
33RR20230722  ,I05        ,167     ,  1,10         ,10         ,2,20230903,2127, -32.9976,  39.2573,     5104,   2218.3,2,   2.6843,2,  34.7524,2,  34.7512,2,    189.6,2,    189.7,2,    70.47,2,    29.80,2,     0.00,2,     2.09,2,     -999,9,     -999,9,     -999,9,   -999.0,9,     -999,9,     -999,9,     -999,9,     -999,9,   2.6843,2,     -999,9,     -999,9,     -999,9,     -999,9,     -999,9,   4.6883,1,   0.0123,1,     -999,9,     -999,9,     -999,9,     -999,9,     -999,9,20230903,2227, -32.9976,  39.2573,-999          ,9,-999          ,9
33RR20230722  ,I05        ,167     ,  1,9          ,9          ,2,20230903,2127, -32.9976,  39.2573,     5104,   2482.0,2,   2.5117,2,  34.7879,2,  34.7876,2,    201.4,2,    201.6,2,    69.00,2,    28.33,2,     0.00,2,     1.97,2,    0.042,2,    0.027,2,  -0.0100,2,   2232.1,2,   2342.2,2,   7.6422,6,    24.99,2,     -999,9,   2.5116,2,     -999,9,     -999,9,     -999,9,     -999,9,     -999,9,   4.7624,1,   0.0111,1,     18.6,2,     -999,9,     -999,9,     -999,9,     -999,9,20230903,2222, -32.9976,  39.2573,-999          ,9,-999          ,9
33RR20230722  ,I05        ,167     ,  1,8          ,8          ,2,20230903,2127, -32.9976,  39.2573,     5104,   2788.3,2,   2.3245,2,  34.8009,2,  34.8003,2,    209.2,2,    209.5,2,    70.27,2,    27.68,2,     0.00,2,     1.93,2,     -999,9,     -999,9,     -999,9,   -999.0,9,     -999,9,     -999,9,     -999,9,     -999,9,   2.3244,2,     -999,9,     -999,9,     -999,9,     -999,9,     -999,9,   4.9743,1,   0.0112,1,     -999,9,     -999,9,     -999,9,     -999,9,     -999,9,20230903,2215, -32.9976,  39.2573,-999          ,9,-999          ,9
33RR20230722  ,I05        ,167     ,  1,7          ,7          ,2,20230903,2127, -32.9976,  39.2573,     5104,   3147.5,2,   2.0774,2,  34.7964,2,  34.7958,2,    213.2,2,    213.4,2,    75.74,2,    27.82,2,     0.00,2,     1.92,2,    0.030,2,    0.020,2,   0.0400,2,   2232.7,2,   2346.7,2,   7.6550,2,    24.94,2,     -999,9,   2.0773,2,     -999,9,     -999,9,     -999,9,     -999,9,     -999,9,   4.9747,1,   0.0112,1,     17.2,2,     -999,9,     -999,9,     -999,9,     -999,9,20230903,2208, -32.9976,  39.2573,-999          ,9,-999          ,9
33RR20230722  ,I05        ,167     ,  1,6          ,6          ,2,20230903,2127, -32.9976,  39.2573,     5104,   3543.4,2,   1.7344,2,  34.7768,2,  34.7760,2,    215.0,2,    215.1,2,    85.89,2,    28.67,2,     0.00,2,     1.98,2,     -999,9,     -999,9,     -999,9,   -999.0,9,     -999,9,     -999,9,     -999,9,     -999,9,   1.7344,2,     -999,9,     -999,9,     -999,9,     -999,9,     -999,9,   4.7925,1,   0.0111,1,     -999,9,     -999,9,     -999,9,     -999,9,     -999,9,20230903,2200, -32.9976,  39.2573,-999          ,9,-999          ,9
33RR20230722  ,I05        ,167     ,  1,5          ,5          ,2,20230903,2127, -32.9976,  39.2573,     5104,   3946.5,2,   1.2953,2,  34.7463,2,  34.7457,2,    216.2,2,    216.7,2,   100.04,2,    29.99,2,     0.00,2,     2.09,2,    0.086,2,    0.051,2,   0.0100,2,   2249.0,2,   2357.6,6,   7.6379,2,    24.99,2,     -999,9,   1.2950,2,     -999,9,     -999,9,     -999,9,     -999,9,     -999,9,   4.9326,1,   0.0111,1,     17.6,2,     -999,9,     -999,9,     -999,9,     -999,9,20230903,2152, -32.9976,  39.2573,-999          ,9,-999          ,9
33RR20230722  ,I05        ,167     ,  1,4          ,37         ,2,20230903,2127, -32.9976,  39.2573,     5104,   4361.8,2,   0.8858,2,  34.7156,3,  34.7133,2,    217.8,2,    217.9,2,   113.61,2,    31.25,2,     0.00,2,     2.20,2,    0.148,2,    0.079,2,   0.0700,2,   -999.0,9,     -999,9,     -999,9,     -999,9,     -999,9,   0.8860,2,     -999,9,     -999,9,     -999,9,     -999,9,     -999,9,   4.9765,1,   0.0113,1,     18.1,2,     -999,9,     -999,9,     -999,9,     -999,9,20230903,2144, -32.9976,  39.2573,-999          ,9,-999          ,9
33RR20230722  ,I05        ,167     ,  1,3          ,3          ,2,20230903,2127, -32.9976,  39.2573,     5104,   4736.5,2,   0.7380,2,  34.7022,2,  34.7017,2,    218.5,2,    218.8,2,   119.47,2,    31.75,2,     0.00,2,     2.23,2,    0.200,2,    0.113,2,   0.0800,2,   2261.3,2,   2365.0,2,   7.6217,6,    25.00,2,     -999,9,   0.7379,2,     -999,9,     -999,9,     -999,9,     -999,9,     -999,9,   4.9765,1,   0.0117,1,     18.0,2,     -999,9,     -999,9,     -999,9,     -999,9,20230903,2137, -32.9976,  39.2573,-999          ,9,-999          ,9