BOTTLE,20240422CCHHYDRO
EXPOCODE,SECT_ID,STNNBR,CASTNO,SAMPNO,BTLNBR,BTLNBR_FLAG_W,DATE,TIME,LATITUDE,LONGITUDE,DEPTH,CTDPRS,CTDPRS_FLAG_W,CTDTMP,CTDTMP_FLAG_W,CTDSAL,CTDSAL_FLAG_W,SALNTY,SALNTY_FLAG_W,CTDOXY,CTDOXY_FLAG_W,OXYGEN,OXYGEN_FLAG_W,SILCAT,SILCAT_FLAG_W,NITRAT,NITRAT_FLAG_W,NITRIT,NITRIT_FLAG_W,PHSPHT,PHSPHT_FLAG_W,CFC-11,CFC-11_FLAG_W,CFC-12,CFC-12_FLAG_W,SF6,SF6_FLAG_W,TCARBN,TCARBN_FLAG_W,ALKALI,ALKALI_FLAG_W,PH_TOT,PH_TOT_FLAG_W,PH_TMP,PH_TMP_FLAG_W,DOC,DOC_FLAG_W,REFTMP,REFTMP_FLAG_W,POC,POC_FLAG_W,PON,PON_FLAG_W,POP,POP_FLAG_W,DOP,DOP_FLAG_W,DELO18,DELO18_FLAG_W,CTDFLUOR,CTDFLUOR_FLAG_W,CTDXMISS,CTDXMISS_FLAG_W,N2O,N2O_FLAG_W,D15N_NO3,D15N_NO3_FLAG_W,D15N_NO2+NO3,D15N_NO2+NO3_FLAG_W,D18O_NO2+NO3,D18O_NO2+NO3_FLAG_W,D18O_NO3,D18O_NO3_FLAG_W,BTL_DATE,BTL_TIME,BTL_LAT,BTL_LON,HPLC,HPLC_FLAG_W,DNA,DNA_FLAG_W
,,,,,,,,,,,METERS,DBAR,,ITS-90,,PSS-78,,PSS-78,,UMOL/KG,,UMOL/KG,,UMOL/KG,,UMOL/KG,,UMOL/KG,,UMOL/KG,,PMOL/KG,,PMOL/KG,,FMOL/KG,,UMOL/KG,,UMOL/KG,,,,DEG C,,UMOL/KG,,ITS-90,,UG/KG,,UG/KG,,UG/L,,UMOL/KG,,/MILLE,,VOLTS,,VOLTS,,NMOL/KG,,/MILLE,,/MILLE,,/MILLE,,/MILLE,,,,,,,,,
33RR20230722  ,I05        ,123     ,  1,36         ,38         ,2,20230824,0339, -33.9989,  58.7538,     3864,      6.2,2,  16.9598,2,  35.5934,2,  35.5932,2,    240.7,2,    240.9,2,     1.56,2,     0.07,2,     0.01,2,     0.14,2,    2.024,2,    1.355,2,   2.2500,2,   2079.6,2,   2335.3,6,   7.9537,2,    24.94,2,     -999,1,  16.9581,2,     -999,9,     -999,9,     -999,9,     -999,9,     -999,1,   3.6427,1,   0.0225,1,      8.2,2,     -999,1,     -999,1,     -999,1,     -999,1,20230824,0526, -33.9989,  58.7538,-999          ,9,-999          ,9
33RR20230722  ,I05        ,123     ,  1,35         ,35         ,2,20230824,0339, -33.9989,  58.7538,     3864,     15.1,2,  16.9591,2,  35.5938,2,  35.5928,2,    240.7,2,    240.9,2,     1.27,2,     0.02,2,     0.00,2,     0.13,2,     -999,9,     -999,9,     -999,9,   2080.9,2,   2334.9,2,   7.9535,6,    24.96,2,     -999,9,  16.9598,2,     -999,9,     -999,9,     -999,9,     -999,9,     -999,1,   4.7498,1,   0.0231,1,     -999,9,     -999,1,     -999,1,     -999,1,     -999,1,20230824,0524, -33.9989,  58.7538,-999          ,9,-999          ,9
33RR20230722  ,I05        ,123     ,  1,34         ,34         ,2,20230824,0339, -33.9989,  58.7538,     3864,     24.7,2,  16.9644,2,  35.5940,2,  35.5934,2,    240.9,2,    241.4,2,     1.27,2,     0.00,2,     0.00,2,     0.13,2,     -999,9,     -999,9,     -999,9,   -999.0,9,     -999,9,     -999,9,     -999,9,     -999,9,  16.9617,2,     -999,9,     -999,9,     -999,9,     -999,9,     -999,1,   4.9748,1,   0.0237,1,     -999,9,     -999,1,     -999,1,     -999,1,     -999,1,20230824,0523, -33.9989,  58.7538,-999          ,9,-999          ,9
33RR20230722  ,I05        ,123     ,  1,33         ,33         ,2,20230824,0339, -33.9989,  58.7538,     3864,     35.6,2,  16.9659,2,  35.5941,2,  35.5938,2,    240.6,2,    240.9,2,     1.27,2,     0.00,2,     0.00,2,     0.13,2,    1.947,2,    1.342,2,   2.1900,2,   2079.8,2,   2335.0,2,   7.9547,2,    24.95,2,     -999,9,  16.9646,2,     -999,9,     -999,9,     -999,9,     -999,9,     -999,1,   4.9746,1,   0.0241,1,      8.1,2,     -999,1,     -999,1,     -999,1,     -999,1,20230824,0521, -33.9989,  58.7538,-999          ,9,-999          ,9
33RR20230722  ,I05        ,123     ,  1,32         ,32         ,2,20230824,0339, -33.9989,  58.7538,     3864,     47.2,2,  16.9656,2,  35.5940,2,  35.5918,2,    240.6,2,    240.9,2,     1.27,2,     0.00,2,     0.01,2,     0.13,2,     -999,9,     -999,9,     -999,9,   -999.0,9,     -999,9,     -999,9,     -999,9,     -999,9,  16.9600,2,     -999,9,     -999,9,     -999,9,     -999,9,     -999,1,   4.9746,1,   0.0270,1,     -999,9,     -999,1,     -999,1,     -999,1,     -999,1,20230824,0520, -33.9989,  58.7538,-999          ,9,-999          ,9
33RR20230722  ,I05        ,123     ,  1,31         ,31         ,2,20230824,0339, -33.9989,  58.7538,     3864,     67.8,2,  16.6768,2,  35.5691,2,  35.5695,2,    239.2,2,    240.1,2,     1.37,2,     0.25,2,     0.04,2,     0.17,2,    2.028,6,    1.373,6,   2.2100,6,   2084.0,2,   2333.1,2,   7.9463,2,    24.94,2,     -999,9,  16.6758,2,     -999,9,     -999,9,     -999,9,     -999,9,     -999,1,   4.9739,1,   0.0324,1,      8.2,6,     -999,1,     -999,1,     -999,1,     -999,1,20230824,0518, -33.9989,  58.7538,-999          ,9,-999          ,9
33RR20230722  ,I05        ,123     ,  1,30         ,30         ,2,20230824,0339, -33.9989,  58.7538,     3864,     93.3,2,  15.9764,2,  35.5128,2,  35.5145,2,    233.7,2,    234.2,2,     1.66,2,     1.80,2,     0.12,2,     0.27,2,     -999,9,     -999,9,     -999,9,   2098.5,2,   2331.7,2,   7.9139,6,    24.96,2,     -999,9,  15.9792,2,     -999,9,     -999,9,     -999,9,     -999,9,     -999,1,   4.8520,1,   0.0275,1,     -999,9,     -999,1,     -999,1,     -999,1,     -999,1,20230824,0516, -33.9989,  58.7538,-999          ,9,-999          ,9
33RR20230722  ,I05        ,123     ,  1,29         ,29         ,2,20230824,0339, -33.9989,  58.7538,     3864,    121.0,2,  15.1047,2,  35.4497,2,  35.4498,2,    229.3,2,    230.0,2,     2.05,2,     3.71,2,     0.04,2,     0.39,2,    2.086,2,    1.485,2,   2.2400,2,   2112.4,2,   2326.0,2,   7.8871,2,    24.96,2,     -999,9,  15.0931,2,     -999,9,     -999,9,     -999,9,     -999,9,     -999,1,   4.9707,1,   0.0229,1,      9.7,2,     -999,1,     -999,1,     -999,1,     -999,1,20230824,0514, -33.9988,  58.7538,-999          ,9,-999          ,9
33RR20230722  ,I05        ,123     ,  1,28         ,28         ,2,20230824,0339, -33.9989,  58.7538,     3864,    152.0,2,  14.3981,2,  35.3920,2,  35.3916,2,    228.1,2,    228.8,2,     2.54,2,     5.42,2,     0.00,2,     0.48,2,     -999,9,     -999,9,     -999,9,   2113.3,2,   2321.6,2,   7.8673,2,    24.97,2,     -999,9,  14.3913,2,     -999,9,     -999,9,     -999,9,     -999,9,     -999,1,   4.9695,1,   0.0139,1,     -999,9,     -999,1,     -999,1,     -999,1,     -999,1,20230824,0513, -33.9989,  58.7538,-999          ,9,-999          ,9
33RR20230722  ,I05        ,123     ,  1,27         ,27         ,2,20230824,0339, -33.9989,  58.7538,     3864,    189.1,2,  14.0865,2,  35.3645,2,  35.3638,2,    232.3,2,    232.7,2,     2.73,2,     6.02,2,     0.00,2,     0.52,2,    2.410,2,    1.544,2,   2.2800,2,   2116.8,2,   2321.4,2,   7.8646,2,    24.97,2,     -999,9,  14.0773,2,     -999,9,     -999,9,     -999,9,     -999,9,     -999,1,   4.6446,1,   0.0115,1,      9.8,2,     -999,1,     -999,1,     -999,1,     -999,1,20230824,0511, -33.9989,  58.7538,-999          ,9,-999          ,9
33RR20230722  ,I05        ,123     ,  1,26         ,26         ,2,20230824,0339, -33.9989,  58.7538,     3864,    224.9,2,  13.8366,2,  35.3385,2,  35.3386,2,    235.5,2,    235.2,2,     3.12,2,     6.51,2,     0.00,2,     0.55,2,     -999,9,     -999,9,     -999,9,   -999.0,9,     -999,9,     -999,9,     -999,9,     -999,9,  13.8391,2,     -999,9,     -999,9,     -999,9,     -999,9,     -999,1,   4.9695,1,   0.0118,1,     -999,9,     -999,1,     -999,1,     -999,1,     -999,1,20230824,0509, -33.9989,  58.7538,-999          ,9,-999          ,9
33RR20230722  ,I05        ,123     ,  1,25         ,25         ,2,20230824,0339, -33.9989,  58.7538,     3864,    251.2,2,  13.5946,2,  35.2977,2,  35.2991,2,    236.2,2,    235.7,2,     2.93,2,     6.76,2,     0.00,2,     0.56,2,    2.420,2,    1.582,2,   2.3100,2,   2119.0,2,   2317.9,2,   7.8557,2,    24.95,2,     -999,9,  13.5965,2,     -999,9,     -999,9,     -999,9,     -999,9,     -999,1,   4.9694,1,   0.0117,1,     10.0,2,     -999,1,     -999,1,     -999,1,     -999,1,20230824,0508, -33.9989,  58.7538,-999          ,9,-999          ,9
33RR20230722  ,I05        ,123     ,  1,24         ,24         ,2,20230824,0339, -33.9989,  58.7538,     3864,    288.2,2,  13.3942,2,  35.2697,2,  35.2702,2,    236.9,2,    236.3,2,     2.93,2,     7.17,2,     0.00,2,     0.60,2,     -999,9,     -999,9,     -999,9,   2118.6,2,   2317.8,2,   7.8516,2,    24.97,2,     -999,9,  13.3987,2,     -999,9,     -999,9,     -999,9,     -999,9,     -999,1,   4.9692,1,   0.0114,1,     -999,9,     -999,1,     -999,1,     -999,1,     -999,1,20230824,0506, -33.9989,  58.7538,-999          ,9,-999          ,9
33RR20230722  ,I05        ,123     ,  1,23         ,23         ,2,20230824,0339, -33.9989,  58.7538,     3864,    336.6,2,  13.1254,2,  35.2311,2,  35.2302,2,    236.7,2,    236.1,2,     3.12,2,     7.89,2,     0.00,2,     0.63,2,    2.464,2,    1.623,2,   2.3700,2,   2118.3,2,   2315.1,2,   7.8425,2,    24.98,2,     -999,9,  13.1240,2,     -999,9,     -999,9,     -999,9,     -999,9,     -999,1,   4.8192,1,   0.0114,1,     10.3,2,     -999,1,     -999,1,     -999,1,     -999,1,20230824,0504, -33.9989,  58.7538,-999          ,9,-999          ,9
33RR20230722  ,I05        ,123     ,  1,22         ,22         ,2,20230824,0339, -33.9989,  58.7538,     3864,    389.4,2,  12.8195,2,  35.1844,2,  35.1841,2,    235.1,2,    234.6,2,     3.32,2,     8.73,2,     0.00,2,     0.69,2,    2.659,2,    1.662,2,   2.3300,2,   -999.0,9,     -999,9,     -999,9,     -999,9,     -999,9,  12.8171,2,     -999,9,     -999,9,     -999,9,     -999,9,     -999,1,   4.9184,1,   0.0114,1,     10.4,2,     -999,1,     -999,1,     -999,1,     -999,1,20230824,0502, -33.9989,  58.7538,-999          ,9,-999          ,9
33RR20230722  ,I05        ,123     ,  1,21         ,21         ,2,20230824,0339, -33.9989,  58.7538,     3864,    445.2,2,  12.5550,2,  35.1417,2,  35.1412,2,    235.0,2,    234.4,2,     3.41,2,     9.36,2,     0.00,2,     0.72,2,    2.769,2,    1.677,2,   2.3100,2,   2126.3,2,   2311.9,2,   7.8245,2,    24.98,2,     -999,9,  12.5578,2,     -999,9,     -999,9,     -999,9,     -999,9,     -999,1,   4.9644,1,   0.0110,1,     10.7,2,     -999,1,     -999,1,     -999,1,     -999,1,20230824,0500, -33.9988,  58.7538,-999          ,9,-999          ,9
33RR20230722  ,I05        ,123     ,  1,20         ,20         ,2,20230824,0339, -33.9989,  58.7538,     3864,    503.1,2,  12.1373,2,  35.0748,2,  35.0734,2,    234.0,2,    233.6,2,     3.51,2,    10.44,2,     0.00,2,     0.79,2,     -999,9,     -999,9,     -999,9,   2128.8,2,   2307.6,2,   7.8143,2,    24.98,2,     -999,9,  12.1362,2,     -999,9,     -999,9,     -999,9,     -999,9,     -999,1,   4.9674,1,   0.0113,1,     -999,9,     -999,1,     -999,1,     -999,1,     -999,1,20230824,0458, -33.9988,  58.7538,-999          ,9,-999          ,9
33RR20230722  ,I05        ,123     ,  1,19         ,19         ,2,20230824,0339, -33.9989,  58.7538,     3864,    569.7,2,  11.6566,2,  34.9998,2,  35.0000,2,    232.2,2,    231.7,2,     3.90,2,    11.71,2,     0.00,2,     0.88,2,    2.786,2,    1.774,2,   2.1000,2,   2130.6,2,   2305.2,2,   7.8002,2,    24.98,2,     -999,9,  11.6531,2,     -999,9,     -999,9,     -999,9,     -999,9,     -999,1,   4.9674,1,   0.0115,1,     11.1,2,     -999,1,     -999,1,     -999,1,     -999,1,20230824,0455, -33.9989,  58.7538,-999          ,9,-999          ,9
33RR20230722  ,I05        ,123     ,  1,18         ,18         ,2,20230824,0339, -33.9989,  58.7538,     3864,    649.9,2,  11.0815,2,  34.9144,2,  34.9136,2,    228.2,2,    228.1,2,     4.49,2,    13.35,2,     0.00,2,     0.99,2,    2.990,2,    1.811,2,   1.9900,2,   -999.0,9,     -999,9,     -999,9,     -999,9,     -999,9,  11.0779,2,     -999,9,     -999,9,     -999,9,     -999,9,     -999,1,   4.9667,1,   0.0115,1,     11.7,2,     -999,1,     -999,1,     -999,1,     -999,1,20230824,0453, -33.9989,  58.7538,-999          ,9,-999          ,9
33RR20230722  ,I05        ,123     ,  1,17         ,17         ,2,20230824,0339, -33.9989,  58.7538,     3864,    747.8,2,  10.3099,2,  34.8072,2,  34.8066,2,    224.8,2,    224.9,2,     5.27,2,    15.39,2,     0.00,2,     1.10,2,    3.004,2,    1.852,2,   1.7500,2,   2138.5,2,   2295.5,2,   7.7642,6,    24.97,2,     -999,9,  10.3080,2,     -999,9,     -999,9,     -999,9,     -999,9,     -999,1,   4.7546,1,   0.0115,1,     12.5,2,     -999,1,     -999,1,     -999,1,     -999,1,20230824,0450, -33.9988,  58.7539,-999          ,9,-999          ,9
33RR20230722  ,I05        ,123     ,  1,16         ,16         ,2,20230824,0339, -33.9989,  58.7538,     3864,    862.3,2,   8.6664,2,  34.6199,2,  34.6219,2,    210.9,2,    211.6,2,    10.05,2,    20.47,2,     0.00,2,     1.42,2,    3.064,2,    1.754,2,   1.4500,2,   2157.4,2,   2289.0,2,   7.7119,2,    24.97,2,     -999,9,   8.6778,2,     -999,9,     -999,9,     -999,9,     -999,9,     -999,1,   4.9278,1,   0.0112,1,     14.7,2,     -999,1,     -999,1,     -999,1,     -999,1,20230824,0447, -33.9989,  58.7538,-999          ,9,-999          ,9
33RR20230722  ,I05        ,123     ,  1,15         ,15         ,2,20230824,0339, -33.9989,  58.7538,     3864,    982.1,2,   7.1163,2,  34.4871,2,  34.4866,2,    203.7,2,    204.4,2,    16.79,2,    24.86,2,     0.00,2,     1.72,2,    2.505,2,    1.567,2,   1.0800,2,   2173.5,2,   2286.7,2,   7.6685,2,    24.97,2,     -999,9,   7.1142,2,     -999,9,     -999,9,     -999,9,     -999,9,     -999,1,   4.9708,1,   0.0113,1,     16.6,2,     -999,1,     -999,1,     -999,1,     -999,1,20230824,0444, -33.9989,  58.7538,-999          ,9,-999          ,9
33RR20230722  ,I05        ,123     ,  1,14         ,14         ,2,20230824,0339, -33.9989,  58.7538,     3864,   1105.3,2,   5.5918,2,  34.3907,2,  34.3908,2,    201.7,2,    202.4,2,    25.77,2,    28.38,2,     0.00,2,     1.96,2,     -999,9,     -999,9,     -999,9,   2186.8,2,   2291.7,2,   7.6343,2,    24.95,2,     -999,9,   5.5913,2,     -999,9,     -999,9,     -999,9,     -999,9,     -999,1,   4.9703,1,   0.0113,1,     -999,9,     -999,1,     -999,1,     -999,1,     -999,1,20230824,0441, -33.9989,  58.7538,-999          ,9,-999          ,9
33RR20230722  ,I05        ,123     ,  1,13         ,13         ,2,20230824,0339, -33.9989,  58.7538,     3864,   1239.0,2,   4.5535,2,  34.3739,2,  34.3731,2,    194.8,2,    195.4,2,    36.41,2,    30.79,2,     0.00,2,     2.13,2,    1.926,2,    1.073,2,   0.5500,2,   2203.1,2,   2300.6,2,   7.6073,6,    24.96,2,     -999,9,   4.5543,2,     -999,9,     -999,9,     -999,9,     -999,9,     -999,1,   4.9712,1,   0.0112,1,     19.9,2,     -999,1,     -999,1,     -999,1,     -999,1,20230824,0437, -33.9988,  58.7538,-999          ,9,-999          ,9
33RR20230722  ,I05        ,123     ,  1,12         ,12         ,2,20230824,0339, -33.9989,  58.7538,     3864,   1378.2,2,   3.6966,2,  34.4224,2,  34.4212,2,    183.1,2,    183.7,2,    50.27,2,    32.76,2,     0.00,2,     2.28,2,    1.368,2,    0.729,2,   0.3600,2,   -999.0,9,     -999,9,     -999,9,     -999,9,     -999,9,   3.6953,2,     -999,9,     -999,9,     -999,9,     -999,9,     -999,1,   4.9726,1,   0.0112,1,     21.6,2,     -999,1,     -999,1,     -999,1,     -999,1,20230824,0434, -33.9989,  58.7538,-999          ,9,-999          ,9
33RR20230722  ,I05        ,123     ,  1,11         ,11         ,2,20230824,0339, -33.9989,  58.7538,     3864,   1529.1,2,   3.2479,2,  34.4987,2,  34.4977,2,    173.7,2,    174.0,2,    61.58,2,    33.50,2,     0.00,2,     2.31,2,    0.769,2,    0.423,2,   0.1600,2,   2241.1,6,   2323.1,2,   7.5716,2,    24.96,2,     -999,9,   3.2483,2,     -999,9,     -999,9,     -999,9,     -999,9,     -999,1,   4.9689,1,   0.0112,1,     22.3,2,     -999,1,     -999,1,     -999,1,     -999,1,20230824,0430, -33.9989,  58.7538,-999          ,9,-999          ,9
33RR20230722  ,I05        ,123     ,  1,10         ,10         ,2,20230824,0339, -33.9989,  58.7538,     3864,   1684.3,2,   2.9589,2,  34.5668,2,  34.5659,2,    172.6,2,    172.5,2,    68.71,2,    33.22,2,     0.00,2,     2.31,2,     -999,9,     -999,9,     -999,9,   -999.0,9,     -999,9,     -999,9,     -999,9,     -999,9,   2.9584,2,     -999,9,     -999,9,     -999,9,     -999,9,     -999,1,   4.9740,1,   0.0112,1,     -999,9,     -999,1,     -999,1,     -999,1,     -999,1,20230824,0427, -33.9988,  58.7538,-999          ,9,-999          ,9
33RR20230722  ,I05        ,123     ,  1,9          ,9          ,2,20230824,0339, -33.9989,  58.7538,     3864,   1850.3,2,   2.7289,2,  34.6254,2,  34.6244,2,    174.6,2,    174.7,2,    73.68,2,    32.65,2,     0.00,2,     2.26,2,    0.273,2,    0.148,2,   0.0300,2,   2245.6,2,   2338.4,6,   7.5834,2,    24.96,2,     -999,9,   2.7280,2,     -999,9,     -999,9,     -999,9,     -999,9,     -999,1,   4.9740,1,   0.0112,1,     21.4,2,     -999,1,     -999,1,     -999,1,     -999,1,20230824,0423, -33.9988,  58.7538,-999          ,9,-999          ,9
33RR20230722  ,I05        ,123     ,  1,8          ,8          ,2,20230824,0339, -33.9989,  58.7538,     3864,   2061.1,2,   2.4955,2,  34.6792,2,  34.6785,2,    179.3,2,    179.2,2,    80.70,2,    31.83,2,     0.00,2,     2.22,2,    0.136,2,    0.066,2,   0.0100,2,   2252.3,2,   2345.7,2,   7.5969,2,    24.95,2,     -999,9,   2.4952,2,     -999,9,     -999,9,     -999,9,     -999,9,     -999,1,   4.9742,1,   0.0112,1,     18.3,2,     -999,1,     -999,1,     -999,1,     -999,1,20230824,0418, -33.9989,  58.7538,-999          ,9,-999          ,9
33RR20230722  ,I05        ,123     ,  1,7          ,7          ,2,20230824,0339, -33.9989,  58.7538,     3864,   2313.5,2,   2.2811,2,  34.7138,2,  34.7129,2,    183.4,2,    183.2,2,    88.21,2,    31.44,2,     0.00,2,     2.20,2,    0.089,2,    0.052,2,   0.0100,2,   2258.8,2,   2356.5,2,   7.6072,2,    24.97,2,     -999,9,   2.2805,2,     -999,9,     -999,9,     -999,9,     -999,9,     -999,1,   4.9745,1,   0.0112,1,     19.9,2,     -999,1,     -999,1,     -999,1,     -999,1,20230824,0413, -33.9989,  58.7538,-999          ,9,-999          ,9
33RR20230722  ,I05        ,123     ,  1,6          ,6          ,2,20230824,0339, -33.9989,  58.7538,     3864,   2615.4,2,   2.0902,2,  34.7343,2,  34.7337,2,    187.7,2,    187.5,2,    92.70,2,    31.12,2,     0.00,2,     2.17,2,     -999,9,     -999,9,     -999,9,   -999.0,9,     -999,9,     -999,9,     -999,9,     -999,9,   2.0898,2,     -999,9,     -999,9,     -999,9,     -999,9,     -999,1,   4.9748,1,   0.0114,1,     -999,9,     -999,1,     -999,1,     -999,1,     -999,1,20230824,0407, -33.9989,  58.7538,-999          ,9,-999          ,9
33RR20230722  ,I05        ,123     ,  1,5          ,5          ,2,20230824,0339, -33.9989,  58.7538,     3864,   2966.9,2,   1.8091,2,  34.7376,2,  34.7362,2,    192.3,2,    192.3,2,   100.90,2,    31.25,2,     0.00,2,     2.18,2,    0.075,2,    0.045,2,   0.0600,2,   2266.0,2,   2364.2,2,   7.6171,2,    24.98,2,     -999,9,   1.8084,2,     -999,9,     -999,9,     -999,9,     -999,9,     -999,1,   4.9751,1,   0.0111,1,     18.9,2,     -999,1,     -999,1,     -999,1,     -999,1,20230824,0400, -33.9989,  58.7538,-999          ,9,-999          ,9
33RR20230722  ,I05        ,123     ,  1,4          ,37         ,2,20230824,0339, -33.9989,  58.7538,     3864,   3337.8,2,   1.4364,2,  34.7267,2,  34.7252,2,    198.2,2,    198.3,2,   110.46,2,    31.62,2,     0.00,2,     2.22,2,    0.108,2,    0.060,2,   0.0400,2,   2259.5,2,   2364.4,2,   7.6161,2,    24.97,2,     -999,9,   1.4362,2,     -999,9,     -999,9,     -999,9,     -999,9,     -999,1,   4.9755,1,   0.0117,1,     18.4,2,     -999,1,     -999,1,     -999,1,     -999,1,20230824,0352, -33.9989,  58.7538,-999          ,9,-999          ,9
33RR20230722  ,I05        ,123     ,  1,3          ,3          ,2,20230824,0339, -33.9989,  58.7538,     3864,   3630.3,2,   1.0777,2,  34.7130,2,  34.7115,2,    206.8,2,    207.1,2,   116.32,2,    31.74,2,     0.00,2,     2.22,2,     -999,9,     -999,9,     -999,9,   2257.1,2,   2360.4,2,   7.6123,2,    24.98,2,     -999,9,   1.0779,2,     -999,9,     -999,9,     -999,9,     -999,9,     -999,1,   4.9754,1,   0.0113,1,     -999,9,     -999,1,     -999,1,     -999,1,     -999,1,20230824,0346, -33.9988,  58.7538,-999          ,9,-999          ,9