BOTTLE,20240422CCHHYDRO
EXPOCODE,SECT_ID,STNNBR,CASTNO,SAMPNO,BTLNBR,BTLNBR_FLAG_W,DATE,TIME,LATITUDE,LONGITUDE,DEPTH,CTDPRS,CTDPRS_FLAG_W,CTDTMP,CTDTMP_FLAG_W,CTDSAL,CTDSAL_FLAG_W,SALNTY,SALNTY_FLAG_W,CTDOXY,CTDOXY_FLAG_W,OXYGEN,OXYGEN_FLAG_W,SILCAT,SILCAT_FLAG_W,NITRAT,NITRAT_FLAG_W,NITRIT,NITRIT_FLAG_W,PHSPHT,PHSPHT_FLAG_W,CFC-11,CFC-11_FLAG_W,CFC-12,CFC-12_FLAG_W,SF6,SF6_FLAG_W,TCARBN,TCARBN_FLAG_W,ALKALI,ALKALI_FLAG_W,PH_TOT,PH_TOT_FLAG_W,PH_TMP,PH_TMP_FLAG_W,DOC,DOC_FLAG_W,REFTMP,REFTMP_FLAG_W,POC,POC_FLAG_W,PON,PON_FLAG_W,POP,POP_FLAG_W,DOP,DOP_FLAG_W,DELO18,DELO18_FLAG_W,CTDFLUOR,CTDFLUOR_FLAG_W,CTDXMISS,CTDXMISS_FLAG_W,N2O,N2O_FLAG_W,D15N_NO3,D15N_NO3_FLAG_W,D15N_NO2+NO3,D15N_NO2+NO3_FLAG_W,D18O_NO2+NO3,D18O_NO2+NO3_FLAG_W,D18O_NO3,D18O_NO3_FLAG_W,BTL_DATE,BTL_TIME,BTL_LAT,BTL_LON,HPLC,HPLC_FLAG_W,DNA,DNA_FLAG_W
,,,,,,,,,,,METERS,DBAR,,ITS-90,,PSS-78,,PSS-78,,UMOL/KG,,UMOL/KG,,UMOL/KG,,UMOL/KG,,UMOL/KG,,UMOL/KG,,PMOL/KG,,PMOL/KG,,FMOL/KG,,UMOL/KG,,UMOL/KG,,,,DEG C,,UMOL/KG,,ITS-90,,UG/KG,,UG/KG,,UG/L,,UMOL/KG,,/MILLE,,VOLTS,,VOLTS,,NMOL/KG,,/MILLE,,/MILLE,,/MILLE,,/MILLE,,,,,,,,,
33RR20230722  ,I05        ,154     ,  1,22         ,22         ,2,20230831,2218, -33.0719,  45.0700,     1139,      4.8,2,  18.1737,2,  35.6839,2,  35.6846,2,    235.2,2,    234.6,2,     1.95,2,     0.05,2,     0.03,2,     0.13,2,    1.192,2,    1.168,2,   2.1200,2,   2069.4,2,   2336.6,2,   7.9785,2,    25.02,2,     -999,1,  18.1723,2,     -999,9,     -999,9,     -999,9,     -999,1,     -999,9,   4.3391,1,   0.0475,1,      7.4,2,     -999,9,     -999,9,     -999,9,     -999,9,20230831,2304, -33.0719,  45.0700,-999          ,9,-999          ,9
33RR20230722  ,I05        ,154     ,  1,21         ,21         ,2,20230831,2218, -33.0719,  45.0700,     1139,     30.0,2,  18.1678,2,  35.6826,2,  35.6844,2,    235.0,2,    234.4,2,     1.85,2,     0.00,2,     0.03,2,     0.11,2,     -999,9,     -999,9,     -999,9,   2068.0,2,   2335.4,2,   7.9780,2,    25.02,2,     -999,1,  18.1683,2,     -999,9,     -999,9,     -999,9,     -999,1,     -999,9,   4.9195,1,   0.0494,1,     -999,9,     -999,9,     -999,9,     -999,9,     -999,9,20230831,2302, -33.0719,  45.0700,-999          ,9,-999          ,9
33RR20230722  ,I05        ,154     ,  1,20         ,20         ,2,20230831,2218, -33.0719,  45.0700,     1139,     51.2,2,  18.1467,2,  35.6797,2,  35.6808,2,    233.8,2,    233.7,2,     1.85,2,     0.07,2,     0.05,2,     0.13,2,     -999,9,     -999,9,     -999,9,   -999.0,9,     -999,9,     -999,9,     -999,9,     -999,1,  18.1483,2,     -999,9,     -999,9,     -999,9,     -999,1,     -999,9,   4.9744,1,   0.0499,1,     -999,9,     -999,9,     -999,9,     -999,9,     -999,9,20230831,2300, -33.0719,  45.0700,-999          ,9,-999          ,9
33RR20230722  ,I05        ,154     ,  1,19         ,19         ,2,20230831,2218, -33.0719,  45.0700,     1139,     70.3,2,  18.1018,2,  35.6794,2,  35.6802,2,    233.3,2,    232.7,2,     1.66,2,     0.08,2,     0.07,2,     0.13,2,     -999,9,     -999,9,     -999,9,   2070.6,2,   2338.3,2,   7.9734,2,    25.02,2,     -999,1,  18.1008,2,     -999,9,     -999,9,     -999,9,     -999,1,     -999,9,   4.9738,1,   0.0365,1,     -999,9,     -999,9,     -999,9,     -999,9,     -999,9,20230831,2258, -33.0719,  45.0700,-999          ,9,-999          ,9
33RR20230722  ,I05        ,154     ,  1,18         ,18         ,2,20230831,2218, -33.0719,  45.0700,     1139,     90.3,2,  18.0482,2,  35.6787,2,  35.6792,2,    232.4,2,    232.2,2,     1.56,2,     0.07,2,     0.09,2,     0.14,2,     -999,9,     -999,9,     -999,9,   -999.0,9,     -999,9,     -999,9,     -999,9,     -999,1,  18.0352,2,     -999,9,     -999,9,     -999,9,     -999,1,     -999,9,   4.8815,1,   0.0268,1,     -999,9,     -999,9,     -999,9,     -999,9,     -999,9,20230831,2257, -33.0719,  45.0700,-999          ,9,-999          ,9
33RR20230722  ,I05        ,154     ,  1,17         ,17         ,2,20230831,2218, -33.0719,  45.0700,     1139,    113.1,2,  17.6044,2,  35.6568,2,  35.6581,2,    230.3,2,    230.7,2,     1.85,2,     0.56,2,     0.29,2,     0.18,2,    2.513,2,    1.378,2,   2.2200,2,   2078.3,2,   2334.9,2,   7.9583,2,    25.02,2,     -999,1,  17.6048,2,     -999,9,     -999,9,     -999,9,     -999,1,     -999,9,   4.9728,1,   0.0165,1,      7.5,2,     -999,9,     -999,9,     -999,9,     -999,9,20230831,2255, -33.0719,  45.0700,-999          ,9,-999          ,9
33RR20230722  ,I05        ,154     ,  1,16         ,16         ,2,20230831,2218, -33.0719,  45.0700,     1139,    137.6,2,  17.3699,2,  35.6411,2,  35.6419,2,    229.5,2,    229.1,2,     2.05,2,     1.27,2,     0.14,2,     0.20,2,     -999,9,     -999,9,     -999,9,   -999.0,9,     -999,9,     -999,9,     -999,9,     -999,1,  17.3738,2,     -999,9,     -999,9,     -999,9,     -999,9,     -999,9,   4.9721,1,   0.0153,1,     -999,9,     -999,9,     -999,9,     -999,9,     -999,9,20230831,2253, -33.0719,  45.0700,-999          ,9,-999          ,9
33RR20230722  ,I05        ,154     ,  1,15         ,15         ,2,20230831,2218, -33.0719,  45.0700,     1139,    163.5,2,  17.1838,2,  35.6309,2,  35.6323,2,    231.6,2,    231.4,2,     2.15,2,     1.60,2,     0.12,2,     0.22,2,     -999,9,     -999,9,     -999,9,   2082.6,2,   2332.7,2,   7.9463,2,    25.02,2,     -999,1,  17.1857,2,     -999,9,     -999,9,     -999,9,     -999,1,     -999,9,   4.9720,1,   0.0150,1,     -999,9,     -999,9,     -999,9,     -999,9,     -999,9,20230831,2251, -33.0719,  45.0701,-999          ,9,-999          ,9
33RR20230722  ,I05        ,154     ,  1,14         ,14         ,2,20230831,2218, -33.0719,  45.0700,     1139,    190.6,2,  17.0848,2,  35.6215,2,  35.6234,2,    229.2,2,    229.9,2,     2.24,2,     1.98,2,     0.04,2,     0.25,2,     -999,9,     -999,9,     -999,9,   -999.0,9,     -999,9,     -999,9,     -999,9,     -999,1,  17.0856,2,     -999,9,     -999,9,     -999,9,     -999,1,     -999,9,   4.9716,1,   0.0128,1,     -999,9,     -999,9,     -999,9,     -999,9,     -999,9,20230831,2250, -33.0719,  45.0700,-999          ,9,-999          ,9
33RR20230722  ,I05        ,154     ,  1,13         ,13         ,2,20230831,2218, -33.0719,  45.0700,     1139,    220.8,2,  16.9214,2,  35.6002,2,  35.6025,2,    222.5,2,    222.9,2,     2.54,2,     2.74,2,     0.03,2,     0.30,2,    2.440,2,    1.326,2,   2.2200,2,   2090.7,2,   2330.8,2,   7.9284,6,    25.01,2,     -999,1,  16.9237,2,     -999,9,     -999,9,     -999,9,     -999,1,     -999,9,   4.9704,1,   0.0128,1,      8.0,2,     -999,9,     -999,9,     -999,9,     -999,9,20230831,2248, -33.0719,  45.0700,-999          ,9,-999          ,9
33RR20230722  ,I05        ,154     ,  1,12         ,12         ,2,20230831,2218, -33.0719,  45.0700,     1139,    251.6,2,  16.4272,2,  35.5492,2,  35.5513,2,    211.4,2,    213.0,2,     2.93,2,     4.31,2,     0.02,2,     0.40,2,     -999,9,     -999,9,     -999,9,   -999.0,9,     -999,9,     -999,9,     -999,9,     -999,1,  16.4256,2,     -999,9,     -999,9,     -999,9,     -999,1,     -999,9,   4.9098,1,   0.0116,1,     -999,9,     -999,9,     -999,9,     -999,9,     -999,9,20230831,2246, -33.0719,  45.0700,-999          ,9,-999          ,9
33RR20230722  ,I05        ,154     ,  1,11         ,11         ,2,20230831,2218, -33.0719,  45.0700,     1139,    297.1,2,  15.4513,2,  35.4666,2,  35.4691,2,    211.5,2,    212.7,2,     3.22,2,     5.85,2,     0.00,2,     0.51,2,     -999,9,     -999,9,     -999,9,   2111.9,2,   2324.5,2,   7.8758,2,    25.04,2,     -999,1,  15.4513,2,     -999,9,     -999,9,     -999,9,     -999,9,     -999,9,   4.9681,1,   0.0119,1,     -999,9,     -999,9,     -999,9,     -999,9,     -999,9,20230831,2244, -33.0719,  45.0700,-999          ,9,-999          ,9
33RR20230722  ,I05        ,154     ,  1,10         ,10         ,2,20230831,2218, -33.0719,  45.0700,     1139,    364.3,2,  14.6176,2,  35.3834,2,  35.3882,2,    214.6,2,    215.0,2,     3.41,2,     6.93,2,     0.00,2,     0.57,2,     -999,9,     -999,9,     -999,9,   -999.0,9,     -999,9,     -999,9,     -999,9,     -999,1,  14.6251,2,     -999,9,     -999,9,     -999,9,     -999,9,     -999,9,   4.9678,1,   0.0119,1,     -999,9,     -999,9,     -999,9,     -999,9,     -999,9,20230831,2242, -33.0719,  45.0700,-999          ,9,-999          ,9
33RR20230722  ,I05        ,154     ,  1,9          ,9          ,2,20230831,2218, -33.0719,  45.0700,     1139,    433.9,2,  13.7564,2,  35.2902,2,  35.2926,2,    218.4,2,    218.6,2,     3.51,2,     8.28,2,     0.00,2,     0.67,2,    2.667,2,    1.522,2,   2.1000,2,   2124.3,2,   2315.3,2,   7.8409,2,    25.02,2,     -999,1,  13.7548,2,     -999,9,     -999,9,     -999,9,     -999,9,     -999,9,   4.9673,1,   0.0117,1,     10.0,2,     -999,9,     -999,9,     -999,9,     -999,9,20230831,2239, -33.0719,  45.0700,-999          ,9,-999          ,9
33RR20230722  ,I05        ,154     ,  1,8          ,8          ,2,20230831,2218, -33.0719,  45.0700,     1139,    501.8,2,  13.1937,2,  35.2231,2,  35.2251,2,    220.7,2,    220.5,2,     3.71,2,     9.30,2,     0.00,2,     0.72,2,     -999,9,     -999,9,     -999,9,   -999.0,9,     -999,9,     -999,9,     -999,9,     -999,1,  13.1870,2,     -999,9,     -999,9,     -999,9,     -999,9,     -999,9,   4.9263,1,   0.0116,1,     -999,9,     -999,9,     -999,9,     -999,9,     -999,9,20230831,2237, -33.0719,  45.0700,-999          ,9,-999          ,9
33RR20230722  ,I05        ,154     ,  1,7          ,7          ,2,20230831,2218, -33.0719,  45.0700,     1139,    583.4,2,  12.4202,2,  35.1159,2,  35.1185,2,    222.5,2,    221.8,2,     4.10,2,    10.87,2,     0.00,2,     0.82,2,    2.964,2,    1.725,2,   2.0300,2,   2130.9,2,   2308.8,2,   7.8127,2,    25.02,2,     -999,1,  12.4176,2,     -999,9,     -999,9,     -999,9,     -999,9,     -999,9,   4.9347,1,   0.0114,1,     10.7,2,     -999,9,     -999,9,     -999,9,     -999,9,20230831,2234, -33.0719,  45.0700,-999          ,9,-999          ,9
33RR20230722  ,I05        ,154     ,  1,6          ,6          ,2,20230831,2218, -33.0719,  45.0700,     1139,    676.2,2,  11.2780,2,  34.9475,2,  34.9504,2,    220.9,2,    220.7,2,     4.98,2,    13.57,2,     0.00,2,     1.00,2,     -999,9,     -999,9,     -999,9,   -999.0,9,     -999,9,     -999,9,     -999,9,     -999,1,  11.2708,2,     -999,9,     -999,9,     -999,9,     -999,9,     -999,9,   4.9666,1,   0.0113,1,     -999,9,     -999,9,     -999,9,     -999,9,     -999,9,20230831,2231, -33.0719,  45.0701,-999          ,9,-999          ,9
33RR20230722  ,I05        ,154     ,  1,5          ,5          ,2,20230831,2218, -33.0719,  45.0700,     1139,    784.5,2,  10.0981,2,  34.7923,2,  34.7958,2,    217.8,2,    217.8,2,     6.64,2,    16.54,2,     0.00,2,     1.19,2,    3.482,2,    1.909,2,   1.6500,2,   2143.5,6,   2296.2,6,   7.7549,2,    25.01,2,     -999,1,  10.1034,2,     -999,9,     -999,9,     -999,9,     -999,9,     -999,9,   4.9665,1,   0.0115,1,     12.2,2,     -999,9,     -999,9,     -999,9,     -999,9,20230831,2228, -33.0719,  45.0700,-999          ,9,-999          ,9
33RR20230722  ,I05        ,154     ,  1,4          ,37         ,2,20230831,2218, -33.0719,  45.0700,     1139,    900.0,2,   8.9370,2,  34.6595,2,  34.6614,2,    211.7,2,    211.9,2,    10.25,2,    19.94,2,     0.00,2,     1.39,2,     -999,9,     -999,9,     -999,9,   -999.0,9,     -999,9,     -999,9,     -999,9,     -999,1,   8.9366,2,     -999,9,     -999,9,     -999,9,     -999,9,     -999,9,   4.8938,1,   0.0115,1,     -999,9,     -999,9,     -999,9,     -999,9,     -999,9,20230831,2225, -33.0719,  45.0700,-999          ,9,-999          ,9
33RR20230722  ,I05        ,154     ,  1,3          ,3          ,2,20230831,2218, -33.0719,  45.0700,     1139,   1007.0,2,   7.3355,2,  34.5178,2,  34.5195,2,    204.8,2,    205.3,2,    17.18,2,    24.37,2,     0.00,2,     1.70,2,    2.574,2,    1.504,2,   1.2100,2,   2172.0,2,   2291.1,2,   7.6756,6,    25.03,2,     -999,1,   7.3351,2,     -999,9,     -999,9,     -999,9,     -999,9,     -999,9,   4.9019,1,   0.0114,1,     15.3,2,     -999,9,     -999,9,     -999,9,     -999,9,20230831,2222, -33.0719,  45.0700,-999          ,9,-999          ,9
33RR20230722  ,I05        ,154     ,  1,2          ,2          ,2,20230831,2218, -33.0719,  45.0700,     1139,   1086.7,2,   6.3498,2,  34.4502,2,  34.4520,2,    202.5,2,    202.4,2,    22.74,2,    26.86,2,     0.00,2,     1.85,2,     -999,9,     -999,9,     -999,9,   -999.0,9,     -999,9,     -999,9,     -999,9,     -999,1,   6.3516,2,     -999,9,     -999,9,     -999,9,     -999,9,     -999,9,   3.1607,1,   0.0118,1,     -999,9,     -999,9,     -999,9,     -999,9,     -999,9,20230831,2220, -33.0719,  45.0700,-999          ,9,-999          ,9
33RR20230722  ,I05        ,154     ,  1,1          ,1          ,2,20230831,2218, -33.0719,  45.0700,     1139,   1140.9,2,   5.9625,2,  34.4303,2,  34.4332,2,    201.1,2,    201.3,2,    25.58,2,    27.79,2,     0.00,2,     1.91,2,    2.584,2,    1.452,2,   0.8500,2,   2186.5,2,   2293.7,2,   7.6457,2,    25.00,2,     -999,1,   5.9727,2,     -999,9,     -999,9,     -999,9,     -999,9,     -999,9,   0.4666,1,   0.0114,1,     16.7,2,     -999,9,     -999,9,     -999,9,     -999,9,20230831,2218, -33.0719,  45.0700,-999          ,9,-999          ,9