BOTTLE,20240422CCHHYDRO
EXPOCODE,SECT_ID,STNNBR,CASTNO,SAMPNO,BTLNBR,BTLNBR_FLAG_W,DATE,TIME,LATITUDE,LONGITUDE,DEPTH,CTDPRS,CTDPRS_FLAG_W,CTDTMP,CTDTMP_FLAG_W,CTDSAL,CTDSAL_FLAG_W,SALNTY,SALNTY_FLAG_W,CTDOXY,CTDOXY_FLAG_W,OXYGEN,OXYGEN_FLAG_W,SILCAT,SILCAT_FLAG_W,NITRAT,NITRAT_FLAG_W,NITRIT,NITRIT_FLAG_W,PHSPHT,PHSPHT_FLAG_W,CFC-11,CFC-11_FLAG_W,CFC-12,CFC-12_FLAG_W,SF6,SF6_FLAG_W,TCARBN,TCARBN_FLAG_W,ALKALI,ALKALI_FLAG_W,PH_TOT,PH_TOT_FLAG_W,PH_TMP,PH_TMP_FLAG_W,DOC,DOC_FLAG_W,REFTMP,REFTMP_FLAG_W,POC,POC_FLAG_W,PON,PON_FLAG_W,POP,POP_FLAG_W,DOP,DOP_FLAG_W,DELO18,DELO18_FLAG_W,CTDFLUOR,CTDFLUOR_FLAG_W,CTDXMISS,CTDXMISS_FLAG_W,N2O,N2O_FLAG_W,D15N_NO3,D15N_NO3_FLAG_W,D15N_NO2+NO3,D15N_NO2+NO3_FLAG_W,D18O_NO2+NO3,D18O_NO2+NO3_FLAG_W,D18O_NO3,D18O_NO3_FLAG_W,BTL_DATE,BTL_TIME,BTL_LAT,BTL_LON,HPLC,HPLC_FLAG_W,DNA,DNA_FLAG_W
,,,,,,,,,,,METERS,DBAR,,ITS-90,,PSS-78,,PSS-78,,UMOL/KG,,UMOL/KG,,UMOL/KG,,UMOL/KG,,UMOL/KG,,UMOL/KG,,PMOL/KG,,PMOL/KG,,FMOL/KG,,UMOL/KG,,UMOL/KG,,,,DEG C,,UMOL/KG,,ITS-90,,UG/KG,,UG/KG,,UG/L,,UMOL/KG,,/MILLE,,VOLTS,,VOLTS,,NMOL/KG,,/MILLE,,/MILLE,,/MILLE,,/MILLE,,,,,,,,,
33RR20230722  ,I05        ,54      ,  1,36         ,36         ,2,20230805,2132, -33.5390,  93.9441,     4404,      8.1,2,  15.0066,2,  35.5465,2,  35.5474,2,    249.6,2,    248.1,2,     0.78,2,     1.31,2,     0.10,2,     0.26,2,     -999,9,     -999,9,     -999,9,   2104.5,2,   2341.5,2,   7.9190,2,    25.03,2,     -999,1,  15.0059,2,     -999,9,     -999,9,     -999,9,     -999,1,     -999,1,   2.5406,1,   0.0382,1,     -999,9,     -999,9,     -999,9,     -999,9,     -999,9,20230805,2328, -33.5390,  93.9441,-999          ,9,-999          ,9
33RR20230722  ,I05        ,54      ,  1,35         ,35         ,2,20230805,2132, -33.5390,  93.9441,     4404,     24.6,2,  14.7193,2,  35.4793,2,  35.4849,2,    249.8,2,    249.3,2,     0.78,2,     1.62,2,     0.12,2,     0.27,2,     -999,9,     -999,9,     -999,9,   2102.6,2,   2335.6,2,   7.9121,2,    25.02,2,     -999,1,  14.7222,2,     -999,9,     -999,9,     -999,9,     -999,1,     -999,1,   4.9746,1,   0.0374,1,     -999,9,     -999,9,     -999,9,     -999,9,     -999,9,20230805,2326, -33.5390,  93.9441,-999          ,9,-999          ,9
33RR20230722  ,I05        ,54      ,  1,34         ,34         ,2,20230805,2132, -33.5390,  93.9441,     4404,     41.7,2,  14.6397,2,  35.4589,2,  35.4673,2,    249.8,2,    249.9,2,     0.78,2,     1.76,2,     0.13,2,     0.28,2,     -999,9,     -999,9,     -999,9,   2104.1,2,   2335.0,2,   7.9108,2,    25.02,2,     -999,1,  14.6382,2,     -999,9,     -999,9,     -999,9,     -999,9,     -999,1,   4.9745,1,   0.0393,1,     -999,9,     -999,9,     -999,9,     -999,9,     -999,9,20230805,2325, -33.5390,  93.9441,-999          ,9,-999          ,9
33RR20230722  ,I05        ,54      ,  1,33         ,33         ,2,20230805,2132, -33.5390,  93.9441,     4404,     63.6,2,  14.6512,2,  35.4761,2,  35.4754,2,    248.5,2,    248.6,2,     0.68,2,     1.71,2,     0.13,2,     0.28,2,     -999,9,     -999,9,     -999,9,   2104.4,2,   2336.6,2,   7.9096,2,    25.02,2,     -999,1,  14.6503,2,     -999,9,     -999,9,     -999,9,     -999,1,     -999,1,   4.9742,1,   0.0380,1,     -999,9,     -999,9,     -999,9,     -999,9,     -999,9,20230805,2323, -33.5390,  93.9441,-999          ,9,-999          ,9
33RR20230722  ,I05        ,54      ,  1,32         ,32         ,2,20230805,2132, -33.5390,  93.9441,     4404,     87.3,2,  14.5859,2,  35.4622,2,  35.4632,2,    247.8,2,    248.4,2,     0.88,2,     1.83,2,     0.13,2,     0.28,2,     -999,9,     -999,9,     -999,9,   -999.0,9,     -999,9,     -999,9,     -999,9,     -999,1,  14.5839,2,     -999,9,     -999,9,     -999,9,     -999,1,     -999,1,   4.9736,1,   0.0332,1,     -999,9,     -999,9,     -999,9,     -999,9,     -999,9,20230805,2321, -33.5390,  93.9441,-999          ,9,-999          ,9
33RR20230722  ,I05        ,54      ,  1,31         ,31         ,2,20230805,2132, -33.5390,  93.9441,     4404,    118.6,2,  13.9071,2,  35.3465,2,  35.3484,2,    239.4,3,    244.0,2,     1.27,2,     3.92,2,     0.11,2,     0.42,2,     -999,9,     -999,9,     -999,9,   2110.9,2,   2326.3,2,   7.8794,2,    25.02,2,     -999,1,  13.9016,3,     -999,9,     -999,9,     -999,9,     -999,9,     -999,1,   4.9137,1,   0.0195,1,     -999,9,     -999,9,     -999,9,     -999,9,     -999,9,20230805,2319, -33.5390,  93.9441,-999          ,9,-999          ,9
33RR20230722  ,I05        ,54      ,  1,30         ,30         ,2,20230805,2132, -33.5390,  93.9441,     4404,    132.0,2,  13.0643,2,  35.2215,2,  35.2223,2,    237.7,2,    239.5,2,     1.56,2,     6.39,2,     0.04,2,     0.57,2,     -999,9,     -999,9,     -999,9,   2118.7,2,   2318.5,2,   7.8455,2,    25.01,2,     -999,1,  13.0626,2,     -999,9,     -999,9,     -999,9,     -999,1,     -999,1,   4.9706,1,   0.0169,1,     -999,9,     -999,9,     -999,9,     -999,9,     -999,9,20230805,2318, -33.5390,  93.9441,-999          ,9,-999          ,9
33RR20230722  ,I05        ,54      ,  1,29         ,29         ,2,20230805,2132, -33.5390,  93.9441,     4404,    151.6,2,  12.9495,2,  35.2247,2,  35.2278,2,    238.1,2,    238.7,2,     1.46,2,     6.54,2,     0.02,2,     0.56,2,     -999,9,     -999,9,     -999,9,   2124.2,2,   2318.2,2,   7.8437,2,    25.02,2,     -999,1,  12.9675,2,     -999,9,     -999,9,     -999,9,     -999,9,     -999,1,   4.8848,1,   0.0164,1,     -999,9,     -999,9,     -999,9,     -999,9,     -999,9,20230805,2316, -33.5390,  93.9441,-999          ,9,-999          ,9
33RR20230722  ,I05        ,54      ,  1,28         ,28         ,2,20230805,2132, -33.5390,  93.9441,     4404,    185.0,2,  12.4912,2,  35.1521,2,  35.1518,2,    240.3,2,    241.0,2,     1.76,2,     7.44,2,     0.01,2,     0.60,2,     -999,9,     -999,9,     -999,9,   2123.6,2,   2314.0,2,   7.8338,2,    25.03,2,     -999,1,  12.4850,2,     -999,9,     -999,9,     -999,9,     -999,9,     -999,1,   4.9696,1,   0.0117,1,     -999,9,     -999,9,     -999,9,     -999,9,     -999,9,20230805,2314, -33.5390,  93.9441,-999          ,9,-999          ,9
33RR20230722  ,I05        ,54      ,  1,27         ,27         ,2,20230805,2132, -33.5390,  93.9441,     4404,    211.0,2,  12.2277,2,  35.1067,2,  35.1061,2,    242.1,2,    242.8,2,     1.85,2,     8.01,2,     0.00,2,     0.64,2,     -999,9,     -999,9,     -999,9,   2124.0,2,   2311.6,2,   7.8280,6,    25.02,2,     -999,1,  12.2302,2,     -999,9,     -999,9,     -999,9,     -999,9,     -999,1,   4.9695,1,   0.0115,1,     -999,9,     -999,9,     -999,9,     -999,9,     -999,9,20230805,2313, -33.5390,  93.9441,-999          ,9,-999          ,9
33RR20230722  ,I05        ,54      ,  1,26         ,26         ,2,20230805,2132, -33.5390,  93.9441,     4404,    244.8,2,  11.9697,2,  35.0632,2,  35.0697,2,    243.9,2,    243.8,2,     2.15,2,     8.52,2,     0.00,2,     0.68,2,     -999,9,     -999,9,     -999,9,   2122.1,2,   2308.8,2,   7.8244,2,    25.02,2,     -999,1,  12.0026,2,     -999,9,     -999,9,     -999,9,     -999,1,     -999,1,   4.9695,1,   0.0116,1,     -999,9,     -999,9,     -999,9,     -999,9,     -999,9,20230805,2311, -33.5390,  93.9441,-999          ,9,-999          ,9
33RR20230722  ,I05        ,54      ,  1,25         ,25         ,2,20230805,2132, -33.5390,  93.9441,     4404,    288.5,2,  11.6719,2,  35.0107,2,  35.0106,2,    244.1,2,    243.9,2,     2.24,2,     9.46,2,     0.00,2,     0.73,2,     -999,9,     -999,9,     -999,9,   2124.5,2,   2305.4,2,   7.8152,2,    25.02,2,     -999,1,  11.6710,2,     -999,9,     -999,9,     -999,9,     -999,9,     -999,1,   4.9692,1,   0.0113,1,     -999,9,     -999,9,     -999,9,     -999,9,     -999,9,20230805,2309, -33.5390,  93.9441,-999          ,9,-999          ,9
33RR20230722  ,I05        ,54      ,  1,24         ,24         ,2,20230805,2132, -33.5390,  93.9441,     4404,    342.7,2,  11.1826,2,  34.9267,2,  34.9268,2,    243.2,2,    243.0,2,     2.83,2,    10.90,2,     0.00,2,     0.82,2,     -999,9,     -999,9,     -999,9,   -999.0,9,     -999,9,     -999,9,     -999,9,     -999,1,  11.1773,2,     -999,9,     -999,9,     -999,9,     -999,9,     -999,1,   4.9683,1,   0.0112,1,     -999,9,     -999,9,     -999,9,     -999,9,     -999,9,20230805,2307, -33.5390,  93.9441,-999          ,9,-999          ,9
33RR20230722  ,I05        ,54      ,  1,23         ,23         ,2,20230805,2132, -33.5390,  93.9441,     4404,    394.3,2,  10.8080,2,  34.8660,2,  34.8641,2,    242.8,2,    242.2,2,     3.12,2,    12.05,2,     0.00,2,     0.89,2,     -999,9,     -999,9,     -999,9,   2128.3,2,   2297.8,2,   7.7909,2,    24.99,2,     -999,1,  10.8050,2,     -999,9,     -999,9,     -999,9,     -999,9,     -999,1,   4.9678,1,   0.0115,1,     -999,9,     -999,9,     -999,9,     -999,9,     -999,9,20230805,2305, -33.5390,  93.9441,-999          ,9,-999          ,9
33RR20230722  ,I05        ,54      ,  1,22         ,22         ,2,20230805,2132, -33.5390,  93.9441,     4404,    476.1,2,  10.3386,2,  34.7938,2,  34.7937,2,    242.7,2,    241.6,2,     3.61,2,    13.50,2,     0.00,2,     0.97,2,     -999,9,     -999,9,     -999,9,   -999.0,9,     -999,9,     -999,9,     -999,9,     -999,1,  10.3369,2,     -999,9,     -999,9,     -999,9,     -999,9,     -999,1,   4.9675,1,   0.0115,1,     -999,9,     -999,9,     -999,9,     -999,9,     -999,9,20230805,2302, -33.5390,  93.9441,-999          ,9,-999          ,9
33RR20230722  ,I05        ,54      ,  1,21         ,21         ,2,20230805,2132, -33.5390,  93.9441,     4404,    550.0,2,   9.9441,2,  34.7471,2,  34.7471,2,    234.6,2,    234.4,2,     4.29,2,    15.26,2,     0.00,2,     1.06,2,     -999,9,     -999,9,     -999,9,   2135.4,2,   2291.9,2,   7.7603,2,    25.01,2,     -999,1,   9.9433,2,     -999,9,     -999,9,     -999,9,     -999,9,     -999,1,   4.9667,1,   0.0113,1,     -999,9,     -999,9,     -999,9,     -999,9,     -999,9,20230805,2300, -33.5390,  93.9441,-999          ,9,-999          ,9
33RR20230722  ,I05        ,54      ,  1,20         ,20         ,2,20230805,2132, -33.5390,  93.9441,     4404,    642.7,2,   9.3717,2,  34.6776,2,  34.6824,2,    231.0,2,    231.0,2,     5.17,2,    17.05,2,     0.00,2,     1.19,2,     -999,9,     -999,9,     -999,9,   -999.0,9,     -999,9,     -999,9,     -999,9,     -999,1,   9.3871,2,     -999,9,     -999,9,     -999,9,     -999,9,     -999,1,   4.9664,1,   0.0115,1,     -999,9,     -999,9,     -999,9,     -999,9,     -999,9,20230805,2258, -33.5390,  93.9441,-999          ,9,-999          ,9
33RR20230722  ,I05        ,54      ,  1,19         ,19         ,2,20230805,2132, -33.5390,  93.9441,     4404,    739.7,2,   8.5910,2,  34.5880,2,  34.5879,2,    221.1,2,    221.5,2,     7.71,2,    20.07,2,     0.00,2,     1.39,2,    3.145,4,    2.078,2,   1.6300,2,   2152.5,2,   2286.2,2,   7.7155,2,    25.01,2,     -999,1,   8.5950,2,     -999,9,     -999,9,     -999,9,     -999,9,     -999,1,   4.9671,1,   0.0113,1,     14.5,2,     -999,9,     -999,9,     -999,9,     -999,9,20230805,2255, -33.5390,  93.9441,-999          ,9,-999          ,9
33RR20230722  ,I05        ,54      ,  1,18         ,18         ,2,20230805,2132, -33.5390,  93.9441,     4404,    850.0,2,   7.0140,2,  34.4608,2,  34.4593,2,    200.8,2,    201.1,2,    16.40,2,    25.53,2,     0.00,2,     1.76,2,     -999,9,     -999,9,     -999,9,   2172.7,2,   2286.7,2,   7.6605,2,    25.02,2,     -999,1,   7.0216,2,     -999,9,     -999,9,     -999,9,     -999,9,     -999,1,   4.9692,1,   0.0113,1,     -999,9,     -999,9,     -999,9,     -999,9,     -999,9,20230805,2252, -33.5390,  93.9442,-999          ,9,-999          ,9
33RR20230722  ,I05        ,54      ,  1,17         ,17         ,2,20230805,2132, -33.5390,  93.9441,     4404,    981.3,2,   5.4441,2,  34.3778,2,  34.3790,2,    197.7,2,    197.9,2,    26.45,2,    29.13,2,     0.00,2,     2.00,2,    2.195,4,    1.261,2,   0.7500,2,   2189.2,2,   2290.4,2,   7.6263,2,    25.01,2,     -999,1,   5.4584,2,     -999,9,     -999,9,     -999,9,     -999,9,     -999,1,   4.9703,1,   0.0113,1,     19.3,2,     -999,9,     -999,9,     -999,9,     -999,9,20230805,2249, -33.5390,  93.9442,-999          ,9,-999          ,9
33RR20230722  ,I05        ,54      ,  1,16         ,16         ,2,20230805,2132, -33.5390,  93.9441,     4404,   1062.2,2,   4.5905,2,  34.3680,2,  34.3692,2,    192.5,2,    192.4,2,    35.83,2,    31.13,2,     0.00,2,     2.16,2,     -999,9,     -999,9,     -999,9,   -999.0,9,     -999,9,     -999,9,     -999,9,     -999,1,   4.5922,2,     -999,9,     -999,9,     -999,9,     -999,9,     -999,1,   4.9712,1,   0.0111,1,     -999,9,     -999,9,     -999,9,     -999,9,     -999,9,20230805,2246, -33.5389,  93.9441,-999          ,9,-999          ,9
33RR20230722  ,I05        ,54      ,  1,15         ,15         ,2,20230805,2132, -33.5390,  93.9441,     4404,   1168.8,2,   4.0052,2,  34.3995,2,  34.3996,2,    181.7,2,    181.8,2,    47.25,2,    32.72,2,     0.00,2,     2.25,2,    1.388,4,    0.747,2,   0.2600,2,   2220.3,2,   2309.3,2,   7.5874,2,    25.03,2,     -999,1,   4.0091,2,     -999,9,     -999,9,     -999,9,     -999,9,     -999,1,   4.9724,1,   0.0112,1,     21.1,2,     -999,9,     -999,9,     -999,9,     -999,9,20230805,2243, -33.5390,  93.9441,-999          ,9,-999          ,9
33RR20230722  ,I05        ,54      ,  1,14         ,14         ,2,20230805,2132, -33.5390,  93.9441,     4404,   1288.8,2,   3.6883,2,  34.4743,2,  34.4762,2,    162.3,2,    162.2,2,    62.37,2,    34.38,2,     0.00,2,     2.41,2,     -999,9,     -999,9,     -999,9,   2245.1,6,   2324.0,2,   7.5678,6,    25.01,2,     -999,1,   3.6877,2,     -999,9,     -999,9,     -999,9,     -999,9,     -999,1,   4.9142,1,   0.0114,1,     -999,9,     -999,9,     -999,9,     -999,9,     -999,9,20230805,2240, -33.5390,  93.9441,-999          ,9,-999          ,9
33RR20230722  ,I05        ,54      ,  1,13         ,13         ,2,20230805,2132, -33.5390,  93.9441,     4404,   1414.8,2,   3.4211,2,  34.5280,2,  34.5262,2,    154.3,2,    154.5,2,    72.33,2,    34.74,2,     0.00,2,     2.46,2,     -999,9,     -999,9,     -999,9,   2253.4,2,   2334.9,2,   7.5612,6,    25.02,2,     -999,1,   3.4230,2,     -999,9,     -999,9,     -999,9,     -999,9,     -999,1,   4.8940,1,   0.0111,1,     -999,9,     -999,9,     -999,9,     -999,9,     -999,9,20230805,2237, -33.5390,  93.9441,-999          ,9,-999          ,9
33RR20230722  ,I05        ,54      ,  1,12         ,12         ,2,20230805,2132, -33.5390,  93.9441,     4404,   1577.3,2,   3.1208,2,  34.5853,2,  34.5863,2,    153.0,2,    152.8,2,    80.33,2,    34.75,2,     0.00,2,     2.44,2,    0.016,4,    0.107,2,   0.0800,2,   -999.0,9,     -999,9,     -999,9,     -999,9,     -999,1,   3.1171,2,     -999,9,     -999,9,     -999,9,     -999,9,     -999,1,   4.9754,1,   0.0111,1,     23.7,2,     -999,9,     -999,9,     -999,9,     -999,9,20230805,2233, -33.5390,  93.9441,-999          ,9,-999          ,9
33RR20230722  ,I05        ,54      ,  1,11         ,11         ,2,20230805,2132, -33.5390,  93.9441,     4404,   1680.1,2,   2.9225,2,  34.6203,2,  34.6191,2,    155.7,2,    155.5,2,    83.64,2,    34.36,2,     0.00,2,     2.42,2,    0.010,4,    0.073,2,  -0.0400,2,   2264.4,2,   2347.6,6,   7.5666,2,    25.00,2,     -999,1,   2.9170,2,     -999,9,     -999,9,     -999,9,     -999,9,     -999,1,   4.8740,1,   0.0118,1,     23.5,2,     -999,9,     -999,9,     -999,9,     -999,9,20230805,2230, -33.5390,  93.9441,-999          ,9,-999          ,9
33RR20230722  ,I05        ,54      ,  1,10         ,10         ,2,20230805,2132, -33.5390,  93.9441,     4404,   1859.3,2,   2.6497,2,  34.6594,2,  34.6602,2,    165.0,2,    165.3,2,    84.32,2,    33.29,2,     0.00,2,     2.34,2,     -999,9,     -999,9,     -999,9,   -999.0,9,     -999,9,     -999,9,     -999,9,     -999,1,   2.6487,2,     -999,9,     -999,9,     -999,9,     -999,9,     -999,1,   4.7993,1,   0.0116,1,     -999,9,     -999,9,     -999,9,     -999,9,     -999,9,20230805,2226, -33.5390,  93.9441,-999          ,9,-999          ,9
33RR20230722  ,I05        ,54      ,  1,9          ,9          ,2,20230805,2132, -33.5390,  93.9441,     4404,   2003.1,2,   2.4881,2,  34.6907,2,  34.6905,2,    171.2,2,    171.4,2,    85.98,2,    32.52,2,     0.00,2,     2.28,2,    0.017,4,    0.048,2,   0.0400,2,   2256.0,2,   2350.1,2,   7.5933,2,    25.02,2,     -999,1,   2.4895,2,     -999,9,     -999,9,     -999,9,     -999,9,     -999,1,   4.6738,1,   0.0112,1,     21.4,2,     -999,9,     -999,9,     -999,9,     -999,9,20230805,2222, -33.5390,  93.9441,-999          ,9,-999          ,9
33RR20230722  ,I05        ,54      ,  1,8          ,8          ,2,20230805,2132, -33.5390,  93.9441,     4404,   2254.0,2,   2.2335,2,  34.7243,2,  34.7247,2,    181.5,2,    181.8,2,    88.42,2,    31.45,2,     0.00,2,     2.20,2,    0.004,4,    0.034,2,  -0.0100,2,   2253.7,2,   2351.8,2,   7.6130,2,    25.01,2,     -999,1,   2.2321,2,     -999,9,     -999,9,     -999,9,     -999,9,     -999,1,   4.8839,1,   0.0117,1,     20.1,2,     -999,9,     -999,9,     -999,9,     -999,9,20230805,2217, -33.5389,  93.9441,-999          ,9,-999          ,9
33RR20230722  ,I05        ,54      ,  1,7          ,7          ,2,20230805,2132, -33.5390,  93.9441,     4404,   2542.2,2,   1.9578,2,  34.7404,2,  34.7408,2,    191.1,2,    191.1,2,    93.30,2,    31.06,2,     0.00,2,     2.16,2,    0.006,4,    0.029,2,  -0.0100,2,   2252.4,2,   2354.2,2,   7.6144,2,    25.01,2,     -999,1,   1.9578,2,     -999,9,     -999,9,     -999,9,     -999,9,     -999,1,   4.9748,1,   0.0118,1,     19.0,2,     -999,9,     -999,9,     -999,9,     -999,9,20230805,2211, -33.5389,  93.9442,-999          ,9,-999          ,9
33RR20230722  ,I05        ,54      ,  1,6          ,6          ,2,20230805,2132, -33.5390,  93.9441,     4404,   2981.4,2,   1.5289,2,  34.7352,2,  34.7359,2,    198.7,2,    198.9,2,   104.42,2,    31.28,2,     0.00,2,     2.17,2,     -999,9,     -999,9,     -999,9,   -999.0,9,     -999,9,     -999,9,     -999,9,     -999,1,   1.5287,2,     -999,9,     -999,9,     -999,9,     -999,9,     -999,1,   4.9750,1,   0.0116,1,     -999,9,     -999,9,     -999,9,     -999,9,     -999,9,20230805,2202, -33.5389,  93.9441,-999          ,9,-999          ,9
33RR20230722  ,I05        ,54      ,  1,5          ,5          ,2,20230805,2132, -33.5390,  93.9441,     4404,   3298.1,2,   1.2942,2,  34.7260,2,  34.7268,2,    201.7,2,    201.7,2,   111.64,2,    31.72,2,     0.00,2,     2.20,2,    0.006,4,    0.041,2,   0.0100,2,   2257.4,2,   2364.6,2,   7.6189,2,    25.00,2,     -999,1,   1.2941,2,     -999,9,     -999,9,     -999,9,     -999,9,     -999,1,   4.7999,1,   0.0112,1,     18.6,2,     -999,9,     -999,9,     -999,9,     -999,9,20230805,2156, -33.5389,  93.9441,-999          ,9,-999          ,9
33RR20230722  ,I05        ,54      ,  1,4          ,37         ,2,20230805,2132, -33.5390,  93.9441,     4404,   3580.1,2,   1.1729,2,  34.7197,2,  34.7199,2,    203.1,2,    203.2,2,   116.62,2,    31.96,2,     0.00,2,     2.22,2,    0.012,4,    0.042,2,  -0.0300,2,   2263.8,2,   2367.5,2,   7.6206,6,    25.00,2,     -999,1,   1.1714,2,     -999,9,     -999,9,     -999,9,     -999,9,     -999,1,   4.9756,1,   0.0111,1,     18.7,2,     -999,9,     -999,9,     -999,9,     -999,9,20230805,2150, -33.5389,  93.9441,-999          ,9,-999          ,9
33RR20230722  ,I05        ,54      ,  1,3          ,3          ,2,20230805,2132, -33.5390,  93.9441,     4404,   4026.0,2,   1.1066,2,  34.7145,2,  34.7156,2,    204.1,2,    204.2,2,   119.26,2,    31.92,2,     0.00,2,     2.23,2,     -999,9,     -999,9,     -999,9,   2267.5,2,   2371.6,6,   7.6198,2,    25.01,2,     -999,1,   1.1060,2,     -999,9,     -999,9,     -999,9,     -999,9,     -999,1,   4.9178,1,   0.0112,1,     -999,9,     -999,9,     -999,9,     -999,9,     -999,9,20230805,2141, -33.5390,  93.9441,-999          ,9,-999          ,9