BOTTLE,20240422CCHHYDRO
EXPOCODE,SECT_ID,STNNBR,CASTNO,SAMPNO,BTLNBR,BTLNBR_FLAG_W,DATE,TIME,LATITUDE,LONGITUDE,DEPTH,CTDPRS,CTDPRS_FLAG_W,CTDTMP,CTDTMP_FLAG_W,CTDSAL,CTDSAL_FLAG_W,SALNTY,SALNTY_FLAG_W,CTDOXY,CTDOXY_FLAG_W,OXYGEN,OXYGEN_FLAG_W,SILCAT,SILCAT_FLAG_W,NITRAT,NITRAT_FLAG_W,NITRIT,NITRIT_FLAG_W,PHSPHT,PHSPHT_FLAG_W,CFC-11,CFC-11_FLAG_W,CFC-12,CFC-12_FLAG_W,SF6,SF6_FLAG_W,TCARBN,TCARBN_FLAG_W,ALKALI,ALKALI_FLAG_W,PH_TOT,PH_TOT_FLAG_W,PH_TMP,PH_TMP_FLAG_W,DOC,DOC_FLAG_W,REFTMP,REFTMP_FLAG_W,POC,POC_FLAG_W,PON,PON_FLAG_W,POP,POP_FLAG_W,DOP,DOP_FLAG_W,DELO18,DELO18_FLAG_W,CTDFLUOR,CTDFLUOR_FLAG_W,CTDXMISS,CTDXMISS_FLAG_W,N2O,N2O_FLAG_W,D15N_NO3,D15N_NO3_FLAG_W,D15N_NO2+NO3,D15N_NO2+NO3_FLAG_W,D18O_NO2+NO3,D18O_NO2+NO3_FLAG_W,D18O_NO3,D18O_NO3_FLAG_W,BTL_DATE,BTL_TIME,BTL_LAT,BTL_LON,HPLC,HPLC_FLAG_W,DNA,DNA_FLAG_W
,,,,,,,,,,,METERS,DBAR,,ITS-90,,PSS-78,,PSS-78,,UMOL/KG,,UMOL/KG,,UMOL/KG,,UMOL/KG,,UMOL/KG,,UMOL/KG,,PMOL/KG,,PMOL/KG,,FMOL/KG,,UMOL/KG,,UMOL/KG,,,,DEG C,,UMOL/KG,,ITS-90,,UG/KG,,UG/KG,,UG/L,,UMOL/KG,,/MILLE,,VOLTS,,VOLTS,,NMOL/KG,,/MILLE,,/MILLE,,/MILLE,,/MILLE,,,,,,,,,
33RR20230722  ,I05        ,152     ,  1,31         ,31         ,2,20230831,1320, -33.2261,  46.2328,     2393,      4.6,2,  18.3173,2,  35.6674,2,  35.6666,2,    236.8,2,    235.7,2,     1.17,2,     0.00,2,     0.00,2,     0.13,2,     -999,9,     -999,9,     -999,9,   2068.3,6,   2338.2,2,   7.9819,2,    24.99,2,     -999,1,     -999,1,     -999,9,     -999,9,     -999,9,     -999,9,     -999,9,   4.9027,1,   0.0309,1,     -999,9,     -999,9,     -999,9,     -999,9,     -999,9,20230831,1438, -33.2261,  46.2328,-999          ,9,-999          ,9
33RR20230722  ,I05        ,152     ,  1,30         ,30         ,2,20230831,1320, -33.2261,  46.2328,     2393,     18.1,2,  18.1250,2,  35.6671,2,  35.6664,2,    235.3,2,    234.7,2,     1.46,2,     0.00,2,     0.00,2,     0.13,2,     -999,9,     -999,9,     -999,9,   -999.0,9,     -999,9,     -999,9,     -999,9,     -999,1,     -999,1,     -999,9,     -999,9,     -999,9,     -999,9,     -999,9,   4.8434,1,   0.0382,1,     -999,9,     -999,9,     -999,9,     -999,9,     -999,9,20230831,1436, -33.2261,  46.2328,-999          ,9,-999          ,9
33RR20230722  ,I05        ,152     ,  1,29         ,29         ,2,20230831,1320, -33.2261,  46.2328,     2393,     31.8,2,  17.8603,2,  35.6556,2,  35.6561,2,    229.7,2,    230.4,2,     1.76,2,     0.39,2,     0.11,2,     0.16,2,     -999,9,     -999,9,     -999,9,   2079.9,2,   2338.0,2,   7.9623,2,    25.01,2,     -999,1,     -999,1,     -999,9,     -999,9,     -999,9,     -999,9,     -999,9,   4.9734,1,   0.0449,1,     -999,9,     -999,9,     -999,9,     -999,9,     -999,9,20230831,1435, -33.2261,  46.2328,-999          ,9,-999          ,9
33RR20230722  ,I05        ,152     ,  1,28         ,28         ,2,20230831,1320, -33.2261,  46.2328,     2393,     48.0,2,  17.7059,2,  35.6554,2,  35.6538,2,    233.4,2,    232.4,2,     1.85,2,     0.36,2,     0.12,2,     0.15,2,     -999,9,     -999,9,     -999,9,   -999.0,9,     -999,9,     -999,9,     -999,9,     -999,1,     -999,1,     -999,9,     -999,9,     -999,9,     -999,9,     -999,9,   4.9738,1,   0.0330,1,     -999,9,     -999,9,     -999,9,     -999,9,     -999,9,20230831,1433, -33.2261,  46.2328,-999          ,9,-999          ,9
33RR20230722  ,I05        ,152     ,  1,27         ,27         ,2,20230831,1320, -33.2261,  46.2328,     2393,     66.7,2,  17.4093,2,  35.6528,2,  35.6508,2,    235.5,2,    234.4,2,     1.85,2,     0.47,2,     0.17,2,     0.18,2,     -999,9,     -999,9,     -999,9,   -999.0,9,     -999,9,     -999,9,     -999,9,     -999,1,     -999,1,     -999,9,     -999,9,     -999,9,     -999,9,     -999,9,   4.9736,1,   0.0298,1,     -999,9,     -999,9,     -999,9,     -999,9,     -999,9,20230831,1431, -33.2261,  46.2328,-999          ,9,-999          ,9
33RR20230722  ,I05        ,152     ,  1,26         ,26         ,2,20230831,1320, -33.2261,  46.2328,     2393,     86.9,2,  17.2095,2,  35.6334,2,  35.6321,2,    230.8,2,    230.5,2,     2.15,2,     1.48,2,     0.18,2,     0.22,2,     -999,9,     -999,9,     -999,9,   2085.8,2,   2334.5,2,   7.9471,2,    25.00,2,     -999,1,     -999,1,     -999,9,     -999,9,     -999,9,     -999,9,     -999,9,   4.9723,1,   0.0225,1,     -999,9,     -999,9,     -999,9,     -999,9,     -999,9,20230831,1429, -33.2261,  46.2328,-999          ,9,-999          ,9
33RR20230722  ,I05        ,152     ,  1,25         ,25         ,2,20230831,1320, -33.2261,  46.2328,     2393,    108.9,2,  17.0819,2,  35.6209,2,  35.6200,2,    229.1,2,    228.9,2,     2.24,2,     1.98,2,     0.08,2,     0.25,2,     -999,9,     -999,9,     -999,9,   -999.0,9,     -999,9,     -999,9,     -999,9,     -999,1,     -999,1,     -999,9,     -999,9,     -999,9,     -999,9,     -999,9,   4.9720,1,   0.0159,1,     -999,9,     -999,9,     -999,9,     -999,9,     -999,9,20230831,1427, -33.2261,  46.2328,-999          ,9,-999          ,9
33RR20230722  ,I05        ,152     ,  1,24         ,24         ,2,20230831,1320, -33.2261,  46.2328,     2393,    132.7,2,  16.9992,2,  35.6146,2,  35.6123,2,    227.3,2,    227.4,2,     2.44,2,     2.31,2,     0.06,2,     0.28,2,     -999,9,     -999,9,     -999,9,   2089.8,2,   2333.7,2,   7.9363,2,    25.01,2,     -999,1,     -999,1,     -999,9,     -999,9,     -999,9,     -999,9,     -999,9,   4.9715,1,   0.0128,1,     -999,9,     -999,9,     -999,9,     -999,9,     -999,9,20230831,1425, -33.2261,  46.2328,-999          ,9,-999          ,9
33RR20230722  ,I05        ,152     ,  1,23         ,23         ,2,20230831,1320, -33.2261,  46.2328,     2393,    158.2,2,  16.8248,2,  35.5951,2,  35.5916,2,    221.3,2,    221.4,2,     2.63,2,     3.06,2,     0.04,2,     0.31,2,     -999,9,     -999,9,     -999,9,   -999.0,9,     -999,9,     -999,9,     -999,9,     -999,1,     -999,1,     -999,9,     -999,9,     -999,9,     -999,9,     -999,9,   4.9006,1,   0.0128,1,     -999,9,     -999,9,     -999,9,     -999,9,     -999,9,20230831,1423, -33.2261,  46.2328,-999          ,9,-999          ,9
33RR20230722  ,I05        ,152     ,  1,22         ,22         ,2,20230831,1320, -33.2261,  46.2328,     2393,    186.8,2,  16.2661,2,  35.5391,2,  35.5383,2,    210.2,2,    211.9,2,     3.02,2,     4.67,2,     0.02,2,     0.43,2,    2.353,3,    1.226,2,   2.1400,2,   2109.0,2,   2328.2,2,   7.8955,2,    24.99,2,     -999,1,     -999,1,     -999,9,     -999,9,     -999,9,     -999,9,     -999,9,   4.9051,1,   0.0117,1,      8.9,2,     -999,9,     -999,9,     -999,9,     -999,9,20230831,1421, -33.2261,  46.2328,-999          ,9,-999          ,9
33RR20230722  ,I05        ,152     ,  1,21         ,21         ,2,20230831,1320, -33.2261,  46.2328,     2393,    216.0,2,  15.8177,2,  35.5047,2,  35.5004,2,    210.3,2,    212.0,2,     3.02,2,     5.35,2,     0.00,2,     0.46,2,     -999,9,     -999,9,     -999,9,   -999.0,9,     -999,9,     -999,9,     -999,9,     -999,1,     -999,1,     -999,9,     -999,9,     -999,9,     -999,9,     -999,9,   4.9681,1,   0.0117,1,     -999,9,     -999,9,     -999,9,     -999,9,     -999,9,20230831,1420, -33.2261,  46.2328,-999          ,9,-999          ,9
33RR20230722  ,I05        ,152     ,  1,20         ,20         ,2,20230831,1320, -33.2261,  46.2328,     2393,    247.6,2,  15.3521,2,  35.4677,2,  35.4634,2,    215.2,2,    216.6,2,     2.93,2,     5.54,2,     0.00,2,     0.47,2,     -999,9,     -999,9,     -999,9,   -999.0,9,     -999,9,     -999,9,     -999,9,     -999,1,     -999,1,     -999,9,     -999,9,     -999,9,     -999,9,     -999,9,   4.9683,1,   0.0116,1,     -999,9,     -999,9,     -999,9,     -999,9,     -999,9,20230831,1418, -33.2261,  46.2328,-999          ,9,-999          ,9
33RR20230722  ,I05        ,152     ,  1,19         ,19         ,2,20230831,1320, -33.2261,  46.2328,     2393,    280.3,2,  14.8372,2,  35.4151,2,  35.4133,2,    216.4,2,    217.2,2,     3.12,2,     6.24,2,     0.00,2,     0.53,2,     -999,9,     -999,9,     -999,9,   2117.2,2,   2324.7,2,   7.8662,2,    25.00,2,     -999,1,     -999,1,     -999,9,     -999,9,     -999,9,     -999,9,     -999,9,   4.6602,1,   0.0120,1,     -999,9,     -999,9,     -999,9,     -999,9,     -999,9,20230831,1416, -33.2261,  46.2328,-999          ,9,-999          ,9
33RR20230722  ,I05        ,152     ,  1,18         ,18         ,2,20230831,1320, -33.2261,  46.2328,     2393,    317.2,2,  14.3167,2,  35.3607,2,  35.3575,2,    218.7,2,    219.8,2,     3.12,2,     6.98,2,     0.00,2,     0.59,2,    2.913,3,    1.355,2,   2.1400,2,   -999.0,9,     -999,9,     -999,9,     -999,9,     -999,1,     -999,1,     -999,9,     -999,9,     -999,9,     -999,9,     -999,9,   4.9680,1,   0.0113,1,      9.5,2,     -999,9,     -999,9,     -999,9,     -999,9,20230831,1414, -33.2261,  46.2328,-999          ,9,-999          ,9
33RR20230722  ,I05        ,152     ,  1,17         ,17         ,2,20230831,1320, -33.2261,  46.2328,     2393,    362.0,2,  13.9117,2,  35.3201,2,  35.3202,2,    222.5,2,    222.5,2,     3.22,2,     7.41,2,     0.00,2,     0.60,2,    1.895,3,    1.384,2,   2.2800,2,   2123.6,2,   2320.0,2,   7.8495,2,    25.01,2,     -999,1,     -999,1,     -999,9,     -999,9,     -999,9,     -999,9,     -999,9,   4.9051,1,   0.0113,1,     10.0,2,     -999,9,     -999,9,     -999,9,     -999,9,20230831,1413, -33.2261,  46.2328,-999          ,9,-999          ,9
33RR20230722  ,I05        ,152     ,  1,16         ,16         ,2,20230831,1320, -33.2261,  46.2328,     2393,    418.4,2,  13.3694,2,  35.2534,2,  35.2534,2,    222.7,2,    222.4,2,     3.41,2,     8.63,2,     0.00,2,     0.68,2,     -999,9,     -999,9,     -999,9,   -999.0,9,     -999,9,     -999,9,     -999,9,     -999,1,     -999,1,     -999,9,     -999,9,     -999,9,     -999,9,     -999,9,   4.9674,1,   0.0115,1,     -999,9,     -999,9,     -999,9,     -999,9,     -999,9,20230831,1411, -33.2261,  46.2328,-999          ,9,-999          ,9
33RR20230722  ,I05        ,152     ,  1,15         ,15         ,2,20230831,1320, -33.2261,  46.2328,     2393,    487.3,2,  12.9006,2,  35.1933,2,  35.1939,2,    225.9,2,    225.4,2,     3.61,2,     9.44,2,     0.00,2,     0.73,2,     -999,9,     -999,9,     -999,9,   2127.7,2,   2313.5,2,   7.8271,2,    24.98,2,     -999,1,     -999,1,     -999,9,     -999,9,     -999,9,     -999,9,     -999,9,   4.9672,1,   0.0114,1,     -999,9,     -999,9,     -999,9,     -999,9,     -999,9,20230831,1408, -33.2261,  46.2328,-999          ,9,-999          ,9
33RR20230722  ,I05        ,152     ,  1,14         ,14         ,2,20230831,1320, -33.2261,  46.2328,     2393,    568.1,2,  12.2423,2,  35.0930,2,  35.0925,2,    224.5,2,    223.9,2,     4.00,2,    11.08,2,     0.00,2,     0.83,2,     -999,9,     -999,9,     -999,9,   -999.0,9,     -999,9,     -999,9,     -999,9,     -999,1,     -999,1,     -999,9,     -999,9,     -999,9,     -999,9,     -999,9,   4.9668,1,   0.0114,1,     -999,9,     -999,9,     -999,9,     -999,9,     -999,9,20230831,1406, -33.2261,  46.2328,-999          ,9,-999          ,9
33RR20230722  ,I05        ,152     ,  1,13         ,13         ,4,20230831,1320, -33.2261,  46.2328,     2393,    662.1,3,  11.2460,3,  34.9447,3,  35.0941,4,    221.4,3,    223.9,3,     4.00,3,    11.08,3,     0.00,3,     0.84,3,     -999,9,     -999,9,     -999,9,   2133.9,4,   2310.1,3,   7.8108,3,    24.99,3,     -999,1,     -999,1,     -999,9,     -999,9,     -999,9,     -999,9,     -999,9,   4.9055,1,   0.0113,1,     -999,9,     -999,9,     -999,9,     -999,9,     -999,9,20230831,1403, -33.2261,  46.2328,-999          ,9,-999          ,9
33RR20230722  ,I05        ,152     ,  1,12         ,12         ,2,20230831,1320, -33.2261,  46.2328,     2393,    766.8,2,  10.1147,2,  34.7940,2,  34.7919,2,    218.8,2,    218.1,2,     6.54,2,    16.51,2,     0.00,2,     1.17,2,    3.041,3,    1.925,2,   1.6200,2,   -999.0,9,     -999,9,     -999,9,     -999,9,     -999,1,     -999,1,     -999,9,     -999,9,     -999,9,     -999,9,     -999,9,   4.9670,1,   0.0113,1,     12.3,2,     -999,9,     -999,9,     -999,9,     -999,9,20230831,1400, -33.2261,  46.2328,-999          ,9,-999          ,9
33RR20230722  ,I05        ,152     ,  1,11         ,11         ,2,20230831,1320, -33.2261,  46.2328,     2393,    880.9,2,   8.7968,2,  34.6418,2,  34.6417,2,    211.1,2,    211.3,2,    10.35,2,    20.34,2,     0.00,2,     1.42,2,    3.419,3,    1.631,2,   1.5000,2,   2157.6,2,   2292.2,2,   7.7156,6,    24.98,2,     -999,1,     -999,1,     -999,9,     -999,9,     -999,9,     -999,9,     -999,9,   4.8683,1,   0.0113,1,     14.0,2,     -999,9,     -999,9,     -999,9,     -999,9,20230831,1357, -33.2261,  46.2328,-999          ,9,-999          ,9
33RR20230722  ,I05        ,152     ,  1,10         ,10         ,2,20230831,1320, -33.2261,  46.2328,     2393,    997.8,2,   7.0159,2,  34.4868,2,  34.4871,2,    204.5,2,    204.9,2,    17.96,2,    25.18,2,     0.00,2,     1.76,2,     -999,9,     -999,9,     -999,9,   -999.0,9,     -999,9,     -999,9,     -999,9,     -999,1,     -999,1,     -999,9,     -999,9,     -999,9,     -999,9,     -999,9,   4.9691,1,   0.0113,1,     -999,9,     -999,9,     -999,9,     -999,9,     -999,9,20230831,1354, -33.2261,  46.2328,-999          ,9,-999          ,9
33RR20230722  ,I05        ,152     ,  1,9          ,9          ,2,20230831,1320, -33.2261,  46.2328,     2393,   1122.4,2,   5.3820,2,  34.3906,2,  34.3941,2,    202.3,2,    202.8,2,    27.92,2,    28.86,2,     0.00,2,     2.00,2,     -999,9,     -999,9,     -999,9,   2192.6,2,   2294.8,2,   7.6281,2,    24.99,2,     -999,1,     -999,1,     -999,9,     -999,9,     -999,9,     -999,9,     -999,9,   4.9701,1,   0.0112,1,     -999,9,     -999,9,     -999,9,     -999,9,     -999,9,20230831,1350, -33.2261,  46.2328,-999          ,9,-999          ,9
33RR20230722  ,I05        ,152     ,  1,8          ,8          ,2,20230831,1320, -33.2261,  46.2328,     2393,   1252.5,2,   4.3909,2,  34.3950,2,  34.3951,2,    192.7,2,    193.1,2,    39.83,2,    31.35,2,     0.00,2,     2.19,2,     -999,9,     -999,9,     -999,9,   2213.2,2,   2304.2,2,   7.6009,2,    25.00,2,     -999,1,     -999,1,     -999,9,     -999,9,     -999,9,     -999,9,     -999,9,   4.9369,1,   0.0112,1,     -999,9,     -999,9,     -999,9,     -999,9,     -999,9,20230831,1347, -33.2261,  46.2328,-999          ,9,-999          ,9
33RR20230722  ,I05        ,152     ,  1,7          ,7          ,2,20230831,1320, -33.2261,  46.2328,     2393,   1390.4,2,   3.8433,2,  34.4478,2,  34.4465,2,    180.1,2,    180.2,2,    51.54,2,    32.84,2,     0.00,2,     2.28,2,    1.299,3,    0.599,2,   0.3200,2,   2228.8,2,   2317.7,2,   7.5863,6,    25.00,2,     -999,1,     -999,1,     -999,9,     -999,9,     -999,9,     -999,9,     -999,9,   4.9721,1,   0.0111,1,     20.3,2,     -999,9,     -999,9,     -999,9,     -999,9,20230831,1344, -33.2261,  46.2328,-999          ,9,-999          ,9
33RR20230722  ,I05        ,152     ,  1,6          ,6          ,2,20230831,1320, -33.2261,  46.2328,     2393,   1534.4,2,   3.3691,2,  34.5071,2,  34.5078,2,    174.7,2,    174.3,2,    61.10,2,    33.41,2,     0.00,2,     2.32,2,    1.466,3,    0.498,2,   0.1800,2,   -999.0,9,     -999,9,     -999,9,     -999,9,     -999,1,     -999,1,     -999,9,     -999,9,     -999,9,     -999,9,     -999,9,   4.9335,1,   0.0111,1,     20.3,2,     -999,9,     -999,9,     -999,9,     -999,9,20230831,1340, -33.2261,  46.2328,-999          ,9,-999          ,9
33RR20230722  ,I05        ,152     ,  1,5          ,5          ,2,20230831,1320, -33.2261,  46.2328,     2393,   1688.2,2,   3.0830,2,  34.5728,2,  34.5734,2,    175.4,2,    175.2,2,    65.98,2,    32.99,2,     0.00,2,     2.30,2,     -999,9,     -999,9,     -999,9,   2246.6,2,   2331.4,6,   7.5802,2,    25.00,2,     -999,1,     -999,1,     -999,9,     -999,9,     -999,9,     -999,9,     -999,9,   4.9730,1,   0.0112,1,     -999,9,     -999,9,     -999,9,     -999,9,     -999,9,20230831,1336, -33.2261,  46.2328,-999          ,9,-999          ,9
33RR20230722  ,I05        ,152     ,  1,4          ,37         ,2,20230831,1320, -33.2261,  46.2328,     2393,   1855.5,2,   2.7902,2,  34.6311,2,  34.6319,2,    177.6,2,    177.4,2,    72.61,2,    32.51,2,     0.00,2,     2.25,2,     -999,9,     -999,9,     -999,9,   -999.0,9,     -999,9,     -999,9,     -999,9,     -999,1,     -999,1,     -999,9,     -999,9,     -999,9,     -999,9,     -999,9,   4.9269,1,   0.0111,1,     -999,9,     -999,9,     -999,9,     -999,9,     -999,9,20230831,1332, -33.2261,  46.2328,-999          ,9,-999          ,9
33RR20230722  ,I05        ,152     ,  1,3          ,3          ,2,20230831,1320, -33.2261,  46.2328,     2393,   2046.6,2,   2.6921,2,  34.7083,2,  34.7085,2,    185.5,2,    185.7,2,    70.95,2,    30.80,2,     0.00,2,     2.15,2,     -999,9,     -999,9,     -999,9,   -999.0,9,     -999,9,     -999,9,     -999,9,     -999,1,     -999,1,     -999,9,     -999,9,     -999,9,     -999,9,     -999,9,   4.9728,1,   0.0112,1,     -999,9,     -999,9,     -999,9,     -999,9,     -999,9,20230831,1328, -33.2261,  46.2328,-999          ,9,-999          ,9
33RR20230722  ,I05        ,152     ,  1,2          ,2          ,2,20230831,1320, -33.2261,  46.2328,     2393,   2230.0,2,   2.4963,2,  34.7369,2,  34.7376,2,    192.0,2,    192.3,2,    73.49,2,    30.04,2,     0.00,2,     2.09,2,    0.249,3,    0.074,2,   0.0000,2,   2245.1,2,   2344.5,2,   7.6228,2,    25.00,2,     -999,1,     -999,1,     -999,9,     -999,9,     -999,9,     -999,9,     -999,9,   4.9725,1,   0.0111,1,     17.9,2,     -999,9,     -999,9,     -999,9,     -999,9,20230831,1324, -33.2261,  46.2328,-999          ,9,-999          ,9
33RR20230722  ,I05        ,152     ,  1,1          ,1          ,2,20230831,1320, -33.2261,  46.2328,     2393,   2414.5,2,   2.3896,2,  34.7684,2,  34.7693,2,    200.0,2,    200.1,2,    72.31,2,    28.99,2,     0.00,2,     2.00,2,    0.137,3,    0.064,2,   0.0100,2,   2236.8,6,   2345.5,2,   7.6375,2,    24.98,2,     -999,1,     -999,1,     -999,9,     -999,9,     -999,9,     -999,9,     -999,9,   0.4640,1,   0.0123,1,     17.3,2,     -999,9,     -999,9,     -999,9,     -999,9,20230831,1320, -33.2261,  46.2328,-999          ,9,-999          ,9