BOTTLE,20240422CCHHYDRO
EXPOCODE,SECT_ID,STNNBR,CASTNO,SAMPNO,BTLNBR,BTLNBR_FLAG_W,DATE,TIME,LATITUDE,LONGITUDE,DEPTH,CTDPRS,CTDPRS_FLAG_W,CTDTMP,CTDTMP_FLAG_W,CTDSAL,CTDSAL_FLAG_W,SALNTY,SALNTY_FLAG_W,CTDOXY,CTDOXY_FLAG_W,OXYGEN,OXYGEN_FLAG_W,SILCAT,SILCAT_FLAG_W,NITRAT,NITRAT_FLAG_W,NITRIT,NITRIT_FLAG_W,PHSPHT,PHSPHT_FLAG_W,CFC-11,CFC-11_FLAG_W,CFC-12,CFC-12_FLAG_W,SF6,SF6_FLAG_W,TCARBN,TCARBN_FLAG_W,ALKALI,ALKALI_FLAG_W,PH_TOT,PH_TOT_FLAG_W,PH_TMP,PH_TMP_FLAG_W,DOC,DOC_FLAG_W,REFTMP,REFTMP_FLAG_W,POC,POC_FLAG_W,PON,PON_FLAG_W,POP,POP_FLAG_W,DOP,DOP_FLAG_W,DELO18,DELO18_FLAG_W,CTDFLUOR,CTDFLUOR_FLAG_W,CTDXMISS,CTDXMISS_FLAG_W,N2O,N2O_FLAG_W,D15N_NO3,D15N_NO3_FLAG_W,D15N_NO2+NO3,D15N_NO2+NO3_FLAG_W,D18O_NO2+NO3,D18O_NO2+NO3_FLAG_W,D18O_NO3,D18O_NO3_FLAG_W,BTL_DATE,BTL_TIME,BTL_LAT,BTL_LON,HPLC,HPLC_FLAG_W,DNA,DNA_FLAG_W
,,,,,,,,,,,METERS,DBAR,,ITS-90,,PSS-78,,PSS-78,,UMOL/KG,,UMOL/KG,,UMOL/KG,,UMOL/KG,,UMOL/KG,,UMOL/KG,,PMOL/KG,,PMOL/KG,,FMOL/KG,,UMOL/KG,,UMOL/KG,,,,DEG C,,UMOL/KG,,ITS-90,,UG/KG,,UG/KG,,UG/L,,UMOL/KG,,/MILLE,,VOLTS,,VOLTS,,NMOL/KG,,/MILLE,,/MILLE,,/MILLE,,/MILLE,,,,,,,,,
33RR20230722  ,I05        ,69      ,  1,36         ,36         ,2,20230809,0831, -31.4582,  86.5291,     3570,      4.3,2,  17.6708,2,  35.8849,2,  35.8838,2,    236.1,2,    235.5,2,     1.17,2,     0.05,2,     0.01,2,     0.13,2,    2.274,2,    1.306,2,   2.2100,2,   2095.1,2,   2357.2,2,   7.9639,2,    25.00,2,     -999,1,  17.6687,2,     -999,9,     -999,9,     -999,9,     -999,9,     -999,1,   4.5956,1,   0.0239,1,      7.6,2,     -999,9,     -999,9,     -999,9,     -999,9,20230809,1009, -31.4582,  86.5291,-999          ,9,-999          ,9
33RR20230722  ,I05        ,69      ,  1,35         ,35         ,2,20230809,0831, -31.4582,  86.5291,     3570,     25.3,2,  17.6265,2,  35.8823,2,  35.8809,2,    236.0,2,    235.4,2,     1.17,2,     0.00,2,     0.01,2,     0.14,2,    2.263,2,    1.299,2,   2.2800,2,   -999.0,9,     -999,9,     -999,9,     -999,9,     -999,9,  17.6253,2,     -999,9,     -999,9,     -999,9,     -999,9,     -999,1,   4.9750,1,   0.0281,1,      7.9,2,     -999,9,     -999,9,     -999,9,     -999,9,20230809,1007, -31.4582,  86.5291,-999          ,9,-999          ,9
33RR20230722  ,I05        ,69      ,  1,34         ,34         ,2,20230809,0831, -31.4582,  86.5291,     3570,     39.0,2,  17.6218,2,  35.8826,2,  35.8823,2,    235.8,2,    235.6,2,     1.17,2,     0.00,2,     0.01,2,     0.12,2,    2.257,2,    1.308,2,   2.2500,2,   2097.2,2,   2355.7,2,   7.9640,6,    25.00,2,     -999,9,  17.6206,2,     -999,9,     -999,9,     -999,9,     -999,9,     -999,1,   4.9748,1,   0.0314,1,      7.5,2,     -999,9,     -999,9,     -999,9,     -999,9,20230809,1006, -31.4583,  86.5291,-999          ,9,-999          ,9
33RR20230722  ,I05        ,69      ,  1,33         ,33         ,2,20230809,0831, -31.4582,  86.5291,     3570,     61.5,2,  17.6101,2,  35.8809,2,  35.8791,2,    235.7,2,    235.4,2,     1.17,2,     0.00,2,     0.01,2,     0.15,2,     -999,9,     -999,9,     -999,9,   2096.4,2,   2357.4,2,   7.9629,2,    25.01,2,     -999,9,  17.6109,2,     -999,9,     -999,9,     -999,9,     -999,9,     -999,1,   4.9746,1,   0.0340,1,     -999,9,     -999,9,     -999,9,     -999,9,     -999,9,20230809,1004, -31.4583,  86.5291,-999          ,9,-999          ,9
33RR20230722  ,I05        ,69      ,  1,32         ,32         ,2,20230809,0831, -31.4582,  86.5291,     3570,     88.6,2,  17.6010,2,  35.8789,2,  35.8775,2,    235.5,2,    235.5,2,     1.17,2,     0.00,2,     0.01,2,     0.13,2,     -999,9,     -999,9,     -999,9,   -999.0,9,     -999,9,     -999,9,     -999,9,     -999,9,  17.6001,2,     -999,9,     -999,9,     -999,9,     -999,9,     -999,1,   4.8201,1,   0.0347,1,     -999,9,     -999,9,     -999,9,     -999,9,     -999,9,20230809,1002, -31.4582,  86.5291,-999          ,9,-999          ,9
33RR20230722  ,I05        ,69      ,  1,31         ,31         ,2,20230809,0831, -31.4582,  86.5291,     3570,    117.6,2,  17.5649,2,  35.8703,2,  35.8688,2,    234.8,2,    235.6,2,     1.17,2,     0.00,2,     0.01,2,     0.14,2,    2.242,2,    1.307,2,   2.2100,2,   2097.1,2,   2358.5,2,   7.9608,2,    25.02,2,     -999,9,  17.5646,2,     -999,9,     -999,9,     -999,9,     -999,9,     -999,1,   4.9050,1,   0.0332,1,      7.5,2,     -999,9,     -999,9,     -999,9,     -999,9,20230809,1000, -31.4582,  86.5291,-999          ,9,-999          ,9
33RR20230722  ,I05        ,69      ,  1,30         ,30         ,2,20230809,0831, -31.4582,  86.5291,     3570,    149.4,2,  16.5210,2,  35.6622,2,  35.6625,2,    237.5,2,    237.6,2,     0.98,2,     0.42,2,     0.07,2,     0.20,2,     -999,9,     -999,9,     -999,9,   -999.0,9,     -999,9,     -999,9,     -999,9,     -999,9,  16.5207,2,     -999,9,     -999,9,     -999,9,     -999,9,     -999,1,   4.8992,1,   0.0173,1,     -999,9,     -999,9,     -999,9,     -999,9,     -999,9,20230809,0959, -31.4583,  86.5291,-999          ,9,-999          ,9
33RR20230722  ,I05        ,69      ,  1,29         ,29         ,2,20230809,0831, -31.4582,  86.5291,     3570,    181.1,2,  16.3002,2,  35.6303,2,  35.6285,2,    239.1,2,    239.2,2,     0.98,2,     0.44,2,     0.07,2,     0.20,2,     -999,9,     -999,9,     -999,9,   2101.4,2,   2346.3,2,   7.9345,2,    25.01,2,     -999,9,  16.2996,2,     -999,9,     -999,9,     -999,9,     -999,9,     -999,1,   4.9730,1,   0.0181,1,     -999,9,     -999,9,     -999,9,     -999,9,     -999,9,20230809,0957, -31.4583,  86.5291,-999          ,9,-999          ,9
33RR20230722  ,I05        ,69      ,  1,28         ,28         ,2,20230809,0831, -31.4582,  86.5291,     3570,    202.7,2,  15.8060,2,  35.5864,2,  35.5817,2,    231.1,3,    233.5,2,     1.37,2,     1.73,2,     0.10,2,     0.30,2,    2.376,2,    1.457,2,   2.2200,2,   -999.0,9,     -999,9,     -999,9,     -999,9,     -999,9,  15.8230,2,     -999,9,     -999,9,     -999,9,     -999,9,     -999,1,   4.8235,1,   0.0151,1,      8.7,2,     -999,9,     -999,9,     -999,9,     -999,9,20230809,0956, -31.4582,  86.5291,-999          ,9,-999          ,9
33RR20230722  ,I05        ,69      ,  1,27         ,27         ,2,20230809,0831, -31.4582,  86.5291,     3570,    241.0,2,  13.9730,2,  35.3674,2,  35.3673,2,    227.9,2,    229.6,2,     1.76,2,     5.22,2,     0.02,2,     0.50,2,     -999,9,     -999,9,     -999,9,   2124.1,2,   2328.2,2,   7.8604,2,    25.00,2,     -999,9,  13.9761,2,     -999,9,     -999,9,     -999,9,     -999,9,     -999,1,   4.9690,1,   0.0132,1,     -999,9,     -999,9,     -999,9,     -999,9,     -999,9,20230809,0954, -31.4582,  86.5291,-999          ,9,-999          ,9
33RR20230722  ,I05        ,69      ,  1,26         ,26         ,2,20230809,0831, -31.4582,  86.5291,     3570,    284.2,2,  12.7351,2,  35.1739,2,  35.1729,2,    228.6,2,    229.7,2,     2.05,2,     7.85,2,     0.00,2,     0.65,2,    2.597,2,    1.675,2,   2.3700,2,   -999.0,9,     -999,9,     -999,9,     -999,9,     -999,9,  12.7369,2,     -999,9,     -999,9,     -999,9,     -999,9,     -999,1,   4.9681,1,   0.0115,1,     10.7,2,     -999,9,     -999,9,     -999,9,     -999,9,20230809,0952, -31.4583,  86.5290,-999          ,9,-999          ,9
33RR20230722  ,I05        ,69      ,  1,25         ,25         ,2,20230809,0831, -31.4582,  86.5291,     3570,    340.2,2,  11.7342,2,  35.0165,2,  35.0216,2,    232.8,2,    233.2,2,     2.44,2,     9.84,2,     0.00,2,     0.75,2,     -999,9,     -999,9,     -999,9,   2131.3,2,   2309.7,2,   7.8105,6,    25.01,2,     -999,9,  11.7458,2,     -999,9,     -999,9,     -999,9,     -999,9,     -999,1,   4.8631,1,   0.0114,1,     -999,9,     -999,9,     -999,9,     -999,9,     -999,9,20230809,0950, -31.4582,  86.5290,-999          ,9,-999          ,9
33RR20230722  ,I05        ,69      ,  1,24         ,24         ,2,20230809,0831, -31.4582,  86.5291,     3570,    401.8,2,  10.6016,2,  34.8504,2,  34.8540,2,    236.8,2,    236.9,2,     3.12,2,    12.62,2,     0.00,2,     0.93,2,    2.930,2,    1.850,2,   2.3300,2,   -999.0,9,     -999,9,     -999,9,     -999,9,     -999,9,  10.6091,2,     -999,9,     -999,9,     -999,9,     -999,9,     -999,1,   4.5592,1,   0.0113,1,     12.4,2,     -999,9,     -999,9,     -999,9,     -999,9,20230809,0948, -31.4582,  86.5290,-999          ,9,-999          ,9
33RR20230722  ,I05        ,69      ,  1,23         ,23         ,2,20230809,0831, -31.4582,  86.5291,     3570,    469.3,2,   9.9461,2,  34.7576,2,  34.7573,2,    237.1,2,    236.4,2,     3.81,2,    14.70,2,     0.00,2,     1.05,2,     -999,9,     -999,9,     -999,9,   2141.7,2,   2296.1,2,   7.7641,2,    25.01,2,     -999,9,   9.9499,2,     -999,9,     -999,9,     -999,9,     -999,9,     -999,1,   4.9667,1,   0.0113,1,     -999,9,     -999,9,     -999,9,     -999,9,     -999,9,20230809,0946, -31.4583,  86.5290,-999          ,9,-999          ,9
33RR20230722  ,I05        ,69      ,  1,22         ,22         ,2,20230809,0831, -31.4582,  86.5291,     3570,    550.2,2,   9.3374,2,  34.6779,2,  34.6779,2,    233.4,2,    232.7,2,     4.88,2,    16.84,2,     0.00,2,     1.19,2,    3.085,2,    1.932,2,   2.0000,2,   -999.0,9,     -999,9,     -999,9,     -999,9,     -999,9,   9.3345,2,     -999,9,     -999,9,     -999,9,     -999,9,     -999,1,   4.7557,1,   0.0113,1,     13.1,2,     -999,9,     -999,9,     -999,9,     -999,9,20230809,0944, -31.4582,  86.5290,-999          ,9,-999          ,9
33RR20230722  ,I05        ,69      ,  1,21         ,21         ,2,20230809,0831, -31.4582,  86.5291,     3570,    644.2,2,   8.5371,2,  34.5902,2,  34.5906,2,    220.9,2,    221.3,2,     8.00,2,    19.90,2,     0.00,2,     1.39,2,     -999,9,     -999,9,     -999,9,   2155.8,2,   2287.5,2,   7.7164,2,    25.01,2,     -999,9,   8.5341,2,     -999,9,     -999,9,     -999,9,     -999,9,     -999,1,   4.9670,1,   0.0114,1,     -999,9,     -999,9,     -999,9,     -999,9,     -999,9,20230809,0941, -31.4583,  86.5291,-999          ,9,-999          ,9
33RR20230722  ,I05        ,69      ,  1,20         ,20         ,2,20230809,0831, -31.4582,  86.5291,     3570,    719.6,2,   7.4886,2,  34.5064,2,  34.5076,2,    204.5,2,    205.1,2,    14.15,2,    23.85,2,     0.00,2,     1.63,2,    2.603,2,    1.536,2,   1.1600,2,   -999.0,9,     -999,9,     -999,9,     -999,9,     -999,9,   7.4927,2,     -999,9,     -999,9,     -999,9,     -999,9,     -999,1,   4.6456,1,   0.0113,1,     15.5,2,     -999,9,     -999,9,     -999,9,     -999,9,20230809,0939, -31.4583,  86.5291,-999          ,9,-999          ,9
33RR20230722  ,I05        ,69      ,  1,19         ,19         ,2,20230809,0831, -31.4582,  86.5291,     3570,    816.5,2,   6.0658,2,  34.4292,2,  34.4286,2,    190.7,2,    191.0,2,    25.38,2,    28.11,2,     0.00,2,     1.95,2,     -999,9,     -999,9,     -999,9,   -999.0,5,   2306.4,2,   7.6333,2,    25.01,2,     -999,9,   6.0758,2,     -999,9,     -999,9,     -999,9,     -999,9,     -999,1,   4.9701,1,   0.0113,1,     -999,9,     -999,9,     -999,9,     -999,9,     -999,9,20230809,0937, -31.4582,  86.5290,-999          ,9,-999          ,9
33RR20230722  ,I05        ,69      ,  1,18         ,18         ,2,20230809,0831, -31.4582,  86.5291,     3570,    956.3,2,   4.8161,2,  34.4333,2,  34.4330,2,    169.9,2,    170.4,2,    45.29,2,    32.11,2,     0.00,2,     2.24,2,    1.280,2,    0.674,2,   0.3300,2,   -999.0,9,     -999,9,     -999,9,     -999,9,     -999,9,   4.8156,2,     -999,9,     -999,9,     -999,9,     -999,9,     -999,1,   4.9724,1,   0.0112,1,     20.9,2,     -999,9,     -999,9,     -999,9,     -999,9,20230809,0933, -31.4582,  86.5290,-999          ,9,-999          ,9
33RR20230722  ,I05        ,69      ,  1,17         ,17         ,2,20230809,0831, -31.4582,  86.5291,     3570,   1044.7,2,   4.2209,2,  34.4233,2,  34.4216,2,    173.8,2,    174.3,2,    49.20,2,    32.72,2,     0.00,2,     2.29,2,     -999,9,     -999,9,     -999,9,   2228.3,6,   2314.9,2,   7.5835,2,    25.01,2,     -999,9,   4.2177,2,     -999,9,     -999,9,     -999,9,     -999,9,     -999,1,   4.9723,1,   0.0111,1,     -999,9,     -999,9,     -999,9,     -999,9,     -999,9,20230809,0931, -31.4582,  86.5291,-999          ,9,-999          ,9
33RR20230722  ,I05        ,69      ,  1,16         ,16         ,2,20230809,0831, -31.4582,  86.5291,     3570,   1115.9,2,   3.9542,2,  34.4537,2,  34.4528,2,    165.8,2,    165.8,2,    57.20,2,    33.57,2,     0.00,2,     2.37,2,    0.851,2,    0.448,2,   0.1900,2,   -999.0,9,     -999,9,     -999,9,     -999,9,     -999,9,   3.9540,2,     -999,9,     -999,9,     -999,9,     -999,9,     -999,1,   4.9731,1,   0.0113,1,     21.9,2,     -999,9,     -999,9,     -999,9,     -999,9,20230809,0928, -31.4582,  86.5290,-999          ,9,-999          ,9
33RR20230722  ,I05        ,69      ,  1,15         ,15         ,2,20230809,0831, -31.4582,  86.5291,     3570,   1190.5,2,   3.6077,2,  34.4640,2,  34.4638,2,    167.4,2,    167.0,2,    59.83,2,    33.94,2,     0.00,2,     2.38,2,     -999,9,     -999,9,     -999,9,   2244.1,2,   2325.1,2,   7.5687,2,    25.01,2,     -999,9,   3.6071,2,     -999,9,     -999,9,     -999,9,     -999,9,     -999,1,   4.8578,1,   0.0111,1,     -999,9,     -999,9,     -999,9,     -999,9,     -999,9,20230809,0926, -31.4583,  86.5291,-999          ,9,-999          ,9
33RR20230722  ,I05        ,69      ,  1,14         ,14         ,2,20230809,0831, -31.4582,  86.5291,     3570,   1314.0,2,   3.4978,2,  34.5289,2,  34.5278,2,    153.3,2,    153.6,2,    71.15,2,    34.62,2,     0.00,2,     2.43,2,    0.371,2,    0.189,2,   0.0800,2,   -999.0,9,     -999,9,     -999,9,     -999,9,     -999,9,   3.4988,2,     -999,9,     -999,9,     -999,9,     -999,9,     -999,1,   4.9744,1,   0.0122,1,     22.4,2,     -999,9,     -999,9,     -999,9,     -999,9,20230809,0923, -31.4583,  86.5291,-999          ,9,-999          ,9
33RR20230722  ,I05        ,69      ,  1,13         ,13         ,2,20230809,0831, -31.4582,  86.5291,     3570,   1414.0,2,   3.1643,2,  34.5641,2,  34.5635,2,    156.4,2,    155.8,2,    75.25,2,    34.54,2,     0.00,2,     2.41,2,    0.258,2,    0.137,2,   0.0800,2,   2262.5,2,   2368.6,6,   7.5618,2,    24.99,2,     -999,9,   3.1632,2,     -999,9,     -999,9,     -999,9,     -999,9,     -999,1,   4.9743,1,   0.0124,1,     22.0,2,     -999,9,     -999,9,     -999,9,     -999,9,20230809,0920, -31.4582,  86.5290,-999          ,9,-999          ,9
33RR20230722  ,I05        ,69      ,  1,12         ,12         ,2,20230809,0831, -31.4582,  86.5291,     3570,   1536.7,2,   2.8836,2,  34.6026,2,  34.6026,2,    161.5,2,    161.4,2,    77.79,2,    33.91,2,     0.00,2,     2.39,2,    0.214,2,    0.116,2,   0.0700,2,   -999.0,9,     -999,9,     -999,9,     -999,9,     -999,9,   2.8837,2,     -999,9,     -999,9,     -999,9,     -999,9,     -999,1,   4.9433,1,   0.0123,1,     22.4,2,     -999,9,     -999,9,     -999,9,     -999,9,20230809,0917, -31.4583,  86.5290,-999          ,9,-999          ,9
33RR20230722  ,I05        ,69      ,  1,11         ,11         ,2,20230809,0831, -31.4582,  86.5291,     3570,   1620.2,2,   2.7541,2,  34.6361,2,  34.6358,2,    162.9,2,    162.4,2,    81.49,2,    33.56,2,     0.00,2,     2.36,2,    0.131,2,    0.078,2,  -0.0400,2,   2263.2,2,   2348.1,2,   7.5718,2,    25.00,2,     -999,9,   2.7557,2,     -999,9,     -999,9,     -999,9,     -999,9,     -999,1,   4.8551,1,   0.0113,1,     22.2,2,     -999,9,     -999,9,     -999,9,     -999,9,20230809,0915, -31.4582,  86.5290,-999          ,9,-999          ,9
33RR20230722  ,I05        ,69      ,  1,10         ,10         ,2,20230809,0831, -31.4582,  86.5291,     3570,   1689.1,2,   2.6749,2,  34.6515,2,  34.6510,2,    165.5,2,    165.7,2,    82.18,2,    33.17,2,     0.00,2,     2.33,2,    0.137,2,    0.077,2,  -0.0300,2,   -999.0,9,     -999,9,     -999,9,     -999,9,     -999,9,   2.6747,2,     -999,9,     -999,9,     -999,9,     -999,9,     -999,1,   4.9745,1,   0.0112,1,     21.9,2,     -999,9,     -999,9,     -999,9,     -999,9,20230809,0912, -31.4582,  86.5291,-999          ,9,-999          ,9
33RR20230722  ,I05        ,69      ,  1,9          ,9          ,2,20230809,0831, -31.4582,  86.5291,     3570,   1888.7,2,   2.4112,2,  34.6986,2,  34.6983,2,    169.4,2,    169.7,2,    92.13,2,    32.56,2,     0.00,2,     2.29,2,    0.029,2,    0.030,2,   0.0100,2,   2269.4,2,   2359.3,2,   7.5885,2,    24.99,2,     -999,9,   2.4072,2,     -999,9,     -999,9,     -999,9,     -999,9,     -999,1,   4.7503,1,   0.0112,1,     20.9,2,     -999,9,     -999,9,     -999,9,     -999,9,20230809,0908, -31.4583,  86.5290,-999          ,9,-999          ,9
33RR20230722  ,I05        ,69      ,  1,8          ,8          ,2,20230809,0831, -31.4582,  86.5291,     3570,   2136.3,2,   2.1414,2,  34.7199,2,  34.7195,2,    173.7,2,    173.9,2,   100.42,2,    32.38,2,     0.00,2,     2.29,2,    0.008,2,    0.009,2,  -0.0400,2,   -999.0,9,     -999,9,     -999,9,     -999,9,     -999,9,   2.1417,2,     -999,9,     -999,9,     -999,9,     -999,9,     -999,1,   4.9349,1,   0.0113,1,     20.4,2,     -999,9,     -999,9,     -999,9,     -999,9,20230809,0903, -31.4583,  86.5290,-999          ,9,-999          ,9
33RR20230722  ,I05        ,69      ,  1,7          ,7          ,2,20230809,0831, -31.4582,  86.5291,     3570,   2337.8,2,   1.9743,2,  34.7278,2,  34.7274,2,    182.1,2,    181.9,2,    99.44,2,    31.86,2,     0.00,2,     2.23,2,     -999,9,     -999,9,     -999,9,   2269.3,2,   2366.5,2,   7.6061,2,    25.00,2,     -999,9,   1.9740,2,     -999,9,     -999,9,     -999,9,     -999,9,     -999,1,   4.9745,1,   0.0117,1,     -999,9,     -999,9,     -999,9,     -999,9,     -999,9,20230809,0858, -31.4583,  86.5291,-999          ,9,-999          ,9
33RR20230722  ,I05        ,69      ,  1,6          ,6          ,2,20230809,0831, -31.4582,  86.5291,     3570,   2509.1,2,   1.8079,2,  34.7279,2,  34.7274,2,    182.8,2,    183.3,2,   105.89,2,    32.08,2,     0.00,2,     2.25,2,    0.006,2,    0.005,2,  -0.0300,2,   -999.0,9,     -999,9,     -999,9,     -999,9,     -999,9,   1.8074,2,     -999,9,     -999,9,     -999,9,     -999,9,     -999,1,   4.9748,1,   0.0111,1,     19.1,2,     -999,9,     -999,9,     -999,9,     -999,9,20230809,0855, -31.4582,  86.5290,-999          ,9,-999          ,9
33RR20230722  ,I05        ,69      ,  1,5          ,5          ,2,20230809,0831, -31.4582,  86.5291,     3570,   2686.0,2,   1.7205,2,  34.7282,2,  34.7270,2,    184.3,2,    184.4,2,   108.23,2,    32.13,2,     0.00,2,     2.27,2,    0.003,2,    0.005,2,  -0.0400,2,   2274.9,2,   2377.4,2,   7.6102,2,    25.00,2,     -999,9,   1.7243,2,     -999,9,     -999,9,     -999,9,     -999,9,     -999,1,   4.9760,1,   0.0111,1,     18.9,2,     -999,9,     -999,9,     -999,9,     -999,9,20230809,0851, -31.4582,  86.5291,-999          ,9,-999          ,9
33RR20230722  ,I05        ,69      ,  1,4          ,37         ,2,20230809,0831, -31.4582,  86.5291,     3570,   3165.9,2,   1.4496,2,  34.7247,2,  34.7239,2,    191.1,2,    191.5,2,   113.99,2,    32.20,2,     0.00,2,     2.25,2,    0.005,2,    0.007,2,  -0.0300,2,   -999.0,9,     -999,9,     -999,9,     -999,9,     -999,9,   1.4495,2,     -999,9,     -999,9,     -999,9,     -999,9,     -999,1,   4.9753,1,   0.0112,1,     18.1,2,     -999,9,     -999,9,     -999,9,     -999,9,20230809,0842, -31.4583,  86.5291,-999          ,9,-999          ,9
33RR20230722  ,I05        ,69      ,  1,3          ,3          ,2,20230809,0831, -31.4582,  86.5291,     3570,   3408.0,2,   1.3954,2,  34.7234,2,  34.7231,2,    193.1,2,    193.3,2,   114.96,2,    32.13,2,     0.00,2,     2.24,2,    0.012,2,    0.011,2,  -0.0100,2,   2275.9,2,   2377.7,2,   7.6172,2,    25.01,2,     -999,9,   1.3953,2,     -999,9,     -999,9,     -999,9,     -999,9,     -999,1,   4.9755,1,   0.0111,1,     18.1,2,     -999,9,     -999,9,     -999,9,     -999,9,20230809,0837, -31.4583,  86.5291,-999          ,9,-999          ,9