BOTTLE,20240422CCHHYDRO
EXPOCODE,SECT_ID,STNNBR,CASTNO,SAMPNO,BTLNBR,BTLNBR_FLAG_W,DATE,TIME,LATITUDE,LONGITUDE,DEPTH,CTDPRS,CTDPRS_FLAG_W,CTDTMP,CTDTMP_FLAG_W,CTDSAL,CTDSAL_FLAG_W,SALNTY,SALNTY_FLAG_W,CTDOXY,CTDOXY_FLAG_W,OXYGEN,OXYGEN_FLAG_W,SILCAT,SILCAT_FLAG_W,NITRAT,NITRAT_FLAG_W,NITRIT,NITRIT_FLAG_W,PHSPHT,PHSPHT_FLAG_W,CFC-11,CFC-11_FLAG_W,CFC-12,CFC-12_FLAG_W,SF6,SF6_FLAG_W,TCARBN,TCARBN_FLAG_W,ALKALI,ALKALI_FLAG_W,PH_TOT,PH_TOT_FLAG_W,PH_TMP,PH_TMP_FLAG_W,DOC,DOC_FLAG_W,REFTMP,REFTMP_FLAG_W,POC,POC_FLAG_W,PON,PON_FLAG_W,POP,POP_FLAG_W,DOP,DOP_FLAG_W,DELO18,DELO18_FLAG_W,CTDFLUOR,CTDFLUOR_FLAG_W,CTDXMISS,CTDXMISS_FLAG_W,N2O,N2O_FLAG_W,D15N_NO3,D15N_NO3_FLAG_W,D15N_NO2+NO3,D15N_NO2+NO3_FLAG_W,D18O_NO2+NO3,D18O_NO2+NO3_FLAG_W,D18O_NO3,D18O_NO3_FLAG_W,BTL_DATE,BTL_TIME,BTL_LAT,BTL_LON,HPLC,HPLC_FLAG_W,DNA,DNA_FLAG_W
,,,,,,,,,,,METERS,DBAR,,ITS-90,,PSS-78,,PSS-78,,UMOL/KG,,UMOL/KG,,UMOL/KG,,UMOL/KG,,UMOL/KG,,UMOL/KG,,PMOL/KG,,PMOL/KG,,FMOL/KG,,UMOL/KG,,UMOL/KG,,,,DEG C,,UMOL/KG,,ITS-90,,UG/KG,,UG/KG,,UG/L,,UMOL/KG,,/MILLE,,VOLTS,,VOLTS,,NMOL/KG,,/MILLE,,/MILLE,,/MILLE,,/MILLE,,,,,,,,,
33RR20230722  ,I05        ,74      ,  1,36         ,36         ,2,20230810,1439, -31.1928,  83.7672,     3789,      7.4,2,  17.0960,2,  35.6476,2,  35.6502,2,    239.9,2,    239.8,2,     1.27,2,     0.07,2,     0.00,2,     0.14,2,    3.952,3,    1.391,2,   2.1500,2,   2087.6,2,   2342.5,2,   7.9569,6,    25.01,2,     -999,1,  17.0940,2,     -999,9,     -999,9,     -999,9,     -999,9,     -999,9,   3.7921,1,   0.0294,1,      7.9,2,     -999,9,     -999,9,     -999,9,     -999,9,20230810,1623, -31.1928,  83.7672,-999          ,9,-999          ,9
33RR20230722  ,I05        ,74      ,  1,35         ,35         ,2,20230810,1439, -31.1928,  83.7672,     3789,     17.3,2,  17.0970,2,  35.6475,2,  35.6482,2,    240.0,2,    239.8,2,     1.07,2,     0.03,2,     0.00,2,     0.14,2,     -999,9,     -999,9,     -999,9,   2087.9,6,   2342.9,2,   7.9572,2,    25.00,2,     -999,1,  17.0948,2,     -999,9,     -999,9,     -999,9,     -999,9,     -999,9,   4.7301,1,   0.0297,1,     -999,9,     -999,9,     -999,9,     -999,9,     -999,9,20230810,1622, -31.1929,  83.7672,-999          ,9,-999          ,9
33RR20230722  ,I05        ,74      ,  1,34         ,34         ,2,20230810,1439, -31.1928,  83.7672,     3789,     30.0,2,  17.0954,2,  35.6466,2,  35.6467,2,    239.7,2,    239.8,2,     0.98,2,     0.02,2,     0.00,2,     0.14,2,     -999,9,     -999,9,     -999,9,   2088.9,2,   2343.2,6,   7.9564,2,    24.99,2,     -999,1,  17.0939,2,     -999,9,     -999,9,     -999,9,     -999,9,     -999,9,   4.9750,1,   0.0306,1,     -999,9,     -999,9,     -999,9,     -999,9,     -999,9,20230810,1620, -31.1929,  83.7672,-999          ,9,-999          ,9
33RR20230722  ,I05        ,74      ,  1,33         ,33         ,2,20230810,1439, -31.1928,  83.7672,     3789,     47.1,2,  17.1061,2,  35.6480,2,  35.6492,2,    239.5,2,    239.7,2,     1.07,2,     0.00,2,     0.00,2,     0.13,2,    1.863,3,    1.384,2,   2.1800,2,   2088.8,2,   2344.6,2,   7.9568,6,    25.01,2,     -999,1,  17.1044,2,     -999,9,     -999,9,     -999,9,     -999,9,     -999,9,   4.9747,1,   0.0295,1,      7.8,2,     -999,9,     -999,9,     -999,9,     -999,9,20230810,1619, -31.1928,  83.7672,-999          ,9,-999          ,9
33RR20230722  ,I05        ,74      ,  1,32         ,32         ,2,20230810,1439, -31.1928,  83.7672,     3789,     71.0,2,  17.0393,2,  35.6295,2,  35.6390,2,    239.6,2,    240.0,2,     0.98,2,     0.00,2,     0.00,2,     0.14,2,     -999,9,     -999,9,     -999,9,   -999.0,9,     -999,9,     -999,9,     -999,9,     -999,1,  17.0453,2,     -999,9,     -999,9,     -999,9,     -999,9,     -999,9,   4.9746,1,   0.0316,1,     -999,9,     -999,9,     -999,9,     -999,9,     -999,9,20230810,1617, -31.1929,  83.7672,-999          ,9,-999          ,9
33RR20230722  ,I05        ,74      ,  1,31         ,31         ,2,20230810,1439, -31.1928,  83.7672,     3789,     96.3,2,  16.7813,2,  35.5688,2,  35.5711,2,    240.0,2,    241.0,2,     0.88,2,     0.00,2,     0.02,2,     0.14,2,     -999,9,     -999,9,     -999,9,   2088.2,2,   2341.2,2,   7.9492,2,    24.99,2,     -999,1,  16.7818,2,     -999,9,     -999,9,     -999,9,     -999,9,     -999,9,   4.9754,1,   0.0365,1,     -999,9,     -999,9,     -999,9,     -999,9,     -999,9,20230810,1615, -31.1929,  83.7672,-999          ,9,-999          ,9
33RR20230722  ,I05        ,74      ,  1,30         ,30         ,2,20230810,1439, -31.1928,  83.7672,     3789,    124.9,2,  14.0735,2,  35.3223,2,  35.3248,2,    237.6,2,    238.7,2,     1.37,2,     3.55,2,     0.31,2,     0.42,2,    1.348,3,    1.500,2,   2.2900,2,   2116.7,2,   2324.8,2,   7.8710,2,    25.01,2,     -999,1,  14.0950,2,     -999,9,     -999,9,     -999,9,     -999,9,     -999,9,   4.8624,1,   0.0257,1,     10.0,2,     -999,9,     -999,9,     -999,9,     -999,9,20230810,1613, -31.1928,  83.7672,-999          ,9,-999          ,9
33RR20230722  ,I05        ,74      ,  1,29         ,29         ,2,20230810,1439, -31.1928,  83.7672,     3789,    156.8,2,  13.3861,2,  35.2474,2,  35.2448,2,    235.5,2,    235.7,2,     1.85,2,     5.87,2,     0.02,2,     0.53,2,     -999,9,     -999,9,     -999,9,   2125.2,2,   2319.9,2,   7.8486,2,    25.02,2,     -999,1,  13.3849,2,     -999,9,     -999,9,     -999,9,     -999,9,     -999,9,   4.9695,1,   0.0149,1,     -999,9,     -999,9,     -999,9,     -999,9,     -999,9,20230810,1612, -31.1928,  83.7672,-999          ,9,-999          ,9
33RR20230722  ,I05        ,74      ,  1,28         ,28         ,2,20230810,1439, -31.1928,  83.7672,     3789,    190.6,2,  13.0030,2,  35.2110,2,  35.2186,2,    235.4,2,    236.0,2,     1.95,2,     6.58,2,     0.01,2,     0.58,2,     -999,9,     -999,9,     -999,9,   -999.0,9,     -999,9,     -999,9,     -999,9,     -999,1,  13.0289,2,     -999,9,     -999,9,     -999,9,     -999,9,     -999,9,   4.9696,1,   0.0115,1,     -999,9,     -999,9,     -999,9,     -999,9,     -999,9,20230810,1610, -31.1929,  83.7672,-999          ,9,-999          ,9
33RR20230722  ,I05        ,74      ,  1,27         ,27         ,2,20230810,1439, -31.1928,  83.7672,     3789,    206.1,2,  12.7358,2,  35.1598,2,  35.1614,2,    236.1,2,    236.8,2,     2.34,2,     7.42,2,     0.00,2,     0.62,2,     -999,9,     -999,9,     -999,9,   2125.7,2,   2315.5,2,   7.8330,2,    25.01,2,     -999,1,  12.7528,2,     -999,9,     -999,9,     -999,9,     -999,9,     -999,9,   4.8678,1,   0.0115,1,     -999,9,     -999,9,     -999,9,     -999,9,     -999,9,20230810,1609, -31.1929,  83.7672,-999          ,9,-999          ,9
33RR20230722  ,I05        ,74      ,  1,26         ,26         ,2,20230810,1439, -31.1928,  83.7672,     3789,    221.1,2,  12.4818,2,  35.1125,2,  35.1136,2,    239.5,2,    239.8,2,     2.54,2,     8.02,2,     0.00,2,     0.65,2,    3.749,3,    1.597,2,   2.3100,2,   -999.0,9,     -999,9,     -999,9,     -999,9,     -999,1,  12.4787,2,     -999,9,     -999,9,     -999,9,     -999,9,     -999,9,   4.9694,1,   0.0116,1,     10.3,2,     -999,9,     -999,9,     -999,9,     -999,9,20230810,1607, -31.1929,  83.7672,-999          ,9,-999          ,9
33RR20230722  ,I05        ,74      ,  1,25         ,25         ,2,20230810,1439, -31.1928,  83.7672,     3789,    246.9,2,  12.2534,2,  35.0782,2,  35.0848,2,    242.6,2,    241.5,2,     2.83,2,     8.53,2,     0.00,2,     0.68,2,     -999,9,     -999,9,     -999,9,   2126.4,2,   2309.7,2,   7.8255,2,    24.99,2,     -999,1,  12.2666,2,     -999,9,     -999,9,     -999,9,     -999,9,     -999,9,   4.9695,1,   0.0113,1,     -999,9,     -999,9,     -999,9,     -999,9,     -999,9,20230810,1605, -31.1929,  83.7672,-999          ,9,-999          ,9
33RR20230722  ,I05        ,74      ,  1,24         ,24         ,2,20230810,1439, -31.1928,  83.7672,     3789,    293.6,2,  11.9724,2,  35.0374,2,  35.0390,2,    243.4,2,    242.4,2,     3.02,2,     9.38,2,     0.00,2,     0.73,2,     -999,9,     -999,9,     -999,9,   -999.0,9,     -999,9,     -999,9,     -999,9,     -999,1,  11.9733,2,     -999,9,     -999,9,     -999,9,     -999,9,     -999,9,   4.9691,1,   0.0106,1,     -999,9,     -999,9,     -999,9,     -999,9,     -999,9,20230810,1603, -31.1929,  83.7673,-999          ,9,-999          ,9
33RR20230722  ,I05        ,74      ,  1,23         ,23         ,2,20230810,1439, -31.1928,  83.7672,     3789,    351.4,2,  11.6617,2,  34.9918,2,  34.9927,2,    242.6,2,    241.6,2,     3.51,2,    10.43,2,     0.00,2,     0.80,2,     -999,9,     -999,9,     -999,9,   2125.8,2,   2305.7,2,   7.8108,2,    25.00,2,     -999,1,  11.6564,2,     -999,9,     -999,9,     -999,9,     -999,9,     -999,9,   4.9684,1,   0.0114,1,     -999,9,     -999,9,     -999,9,     -999,9,     -999,9,20230810,1601, -31.1928,  83.7672,-999          ,9,-999          ,9
33RR20230722  ,I05        ,74      ,  1,22         ,22         ,2,20230810,1439, -31.1928,  83.7672,     3789,    417.4,2,  11.3212,2,  34.9391,2,  34.9412,2,    239.8,2,    239.3,2,     3.42,2,    11.30,2,     0.00,2,     0.84,2,    5.165,3,    1.859,2,   2.2700,2,   2128.8,2,   2303.5,2,   7.8003,2,    25.01,2,     -999,1,  11.3231,2,     -999,9,     -999,9,     -999,9,     -999,9,     -999,9,   4.8091,1,   0.0114,1,     11.2,2,     -999,9,     -999,9,     -999,9,     -999,9,20230810,1559, -31.1929,  83.7672,-999          ,9,-999          ,9
33RR20230722  ,I05        ,74      ,  1,21         ,21         ,2,20230810,1439, -31.1928,  83.7672,     3789,    489.9,2,  10.9699,2,  34.8900,2,  34.8908,2,    237.8,2,    237.3,2,     3.81,2,    12.47,2,     0.00,2,     0.92,2,     -999,9,     -999,9,     -999,9,   -999.0,9,     -999,9,     -999,9,     -999,9,     -999,1,  10.9684,2,     -999,9,     -999,9,     -999,9,     -999,9,     -999,9,   4.9671,1,   0.0113,1,     -999,9,     -999,9,     -999,9,     -999,9,     -999,9,20230810,1557, -31.1929,  83.7672,-999          ,9,-999          ,9
33RR20230722  ,I05        ,74      ,  1,20         ,20         ,2,20230810,1439, -31.1928,  83.7672,     3789,    572.4,2,  10.3878,2,  34.8101,2,  34.8098,2,    235.0,2,    234.7,2,     4.20,2,    14.09,2,     0.00,2,     1.04,2,     -999,9,     -999,9,     -999,9,   2135.5,2,   2295.8,2,   7.7739,2,    25.01,2,     -999,1,  10.3870,2,     -999,9,     -999,9,     -999,9,     -999,9,     -999,9,   4.7667,1,   0.0111,1,     -999,9,     -999,9,     -999,9,     -999,9,     -999,9,20230810,1554, -31.1928,  83.7672,-999          ,9,-999          ,9
33RR20230722  ,I05        ,74      ,  1,19         ,19         ,2,20230810,1439, -31.1928,  83.7672,     3789,    663.8,2,   9.7597,2,  34.7285,2,  34.7294,2,    230.3,2,    230.2,2,     4.98,2,    16.10,2,     0.00,2,     1.15,2,    6.073,3,    1.988,2,   1.8600,2,   2142.7,2,   2293.7,2,   7.7543,2,    24.99,2,     -999,1,   9.7609,2,     -999,9,     -999,9,     -999,9,     -999,9,     -999,9,   4.9665,1,   0.0111,1,     12.2,2,     -999,9,     -999,9,     -999,9,     -999,9,20230810,1552, -31.1929,  83.7672,-999          ,9,-999          ,9
33RR20230722  ,I05        ,74      ,  1,18         ,18         ,2,20230810,1439, -31.1928,  83.7672,     3789,    751.4,2,   9.0772,2,  34.6481,2,  34.6492,2,    218.4,2,    218.6,2,     7.61,2,    19.04,2,     0.00,2,     1.32,2,    5.963,3,    1.417,2,   1.5500,2,   2151.4,2,   2291.5,2,   7.7261,6,    25.00,2,     -999,1,   9.0750,2,     -999,9,     -999,9,     -999,9,     -999,9,     -999,9,   4.9671,1,   0.0118,1,     13.2,2,     -999,9,     -999,9,     -999,9,     -999,9,20230810,1549, -31.1928,  83.7672,-999          ,9,-999          ,9
33RR20230722  ,I05        ,74      ,  1,17         ,17         ,2,20230810,1439, -31.1928,  83.7672,     3789,    852.2,2,   7.7314,2,  34.5236,2,  34.5248,2,    205.5,2,    206.5,2,    13.28,2,    23.29,2,     0.00,2,     1.61,2,    5.908,3,    1.697,2,   1.1900,2,   2166.8,2,   2288.2,2,   7.6823,2,    25.00,2,     -999,1,   7.7377,2,     -999,9,     -999,9,     -999,9,     -999,9,     -999,9,   4.9685,1,   0.0111,1,     15.1,2,     -999,9,     -999,9,     -999,9,     -999,9,20230810,1546, -31.1929,  83.7672,-999          ,9,-999          ,9
33RR20230722  ,I05        ,74      ,  1,16         ,16         ,2,20230810,1439, -31.1928,  83.7672,     3789,    969.7,2,   5.8454,2,  34.3933,2,  34.3937,2,    199.8,2,    200.0,2,    23.33,2,    28.21,2,     0.00,2,     1.93,2,     -999,9,     -999,9,     -999,9,   2187.3,2,   2292.0,2,   7.6349,2,    25.02,2,     -999,1,   5.8512,2,     -999,9,     -999,9,     -999,9,     -999,9,     -999,9,   4.9700,1,   0.0111,1,     -999,9,     -999,9,     -999,9,     -999,9,     -999,9,20230810,1543, -31.1929,  83.7672,-999          ,9,-999          ,9
33RR20230722  ,I05        ,74      ,  1,15         ,15         ,2,20230810,1439, -31.1928,  83.7672,     3789,   1086.7,2,   4.6875,2,  34.3845,2,  34.3843,2,    188.1,2,    188.3,2,    37.39,2,    31.22,2,     0.00,2,     2.15,2,     -999,9,     -999,9,     -999,9,   2209.8,2,   2302.7,2,   7.6063,2,    25.02,2,     -999,1,   4.6913,2,     -999,9,     -999,9,     -999,9,     -999,9,     -999,9,   4.9713,1,   0.0111,1,     -999,9,     -999,9,     -999,9,     -999,9,     -999,9,20230810,1540, -31.1928,  83.7672,-999          ,9,-999          ,9
33RR20230722  ,I05        ,74      ,  1,14         ,14         ,2,20230810,1439, -31.1928,  83.7672,     3789,   1203.0,2,   4.0338,2,  34.4196,2,  34.4216,2,    175.8,2,    175.7,2,    50.37,2,    32.93,2,     0.00,2,     2.26,2,    1.594,3,    0.602,2,   0.2100,2,   2231.2,2,   2315.3,2,   7.5827,2,    25.00,2,     -999,1,   4.0318,2,     -999,9,     -999,9,     -999,9,     -999,9,     -999,9,   4.9727,1,   0.0111,1,     20.4,2,     -999,9,     -999,9,     -999,9,     -999,9,20230810,1537, -31.1929,  83.7672,-999          ,9,-999          ,9
33RR20230722  ,I05        ,74      ,  1,13         ,13         ,2,20230810,1439, -31.1928,  83.7672,     3789,   1320.3,2,   3.6472,2,  34.4799,2,  34.4803,2,    162.7,2,    162.5,2,    62.57,2,    34.02,2,     0.00,2,     2.36,2,    1.475,3,    0.335,2,   0.1000,2,   2249.2,2,   2325.7,6,   7.5669,2,    25.01,2,     -999,1,   3.6460,2,     -999,9,     -999,9,     -999,9,     -999,9,     -999,9,   4.9738,1,   0.0111,1,     21.9,2,     -999,9,     -999,9,     -999,9,     -999,9,20230810,1534, -31.1929,  83.7672,-999          ,9,-999          ,9
33RR20230722  ,I05        ,74      ,  1,12         ,12         ,2,20230810,1439, -31.1928,  83.7672,     3789,   1448.7,2,   3.3150,2,  34.5359,2,  34.5362,2,    156.8,2,    156.8,2,    72.04,2,    34.50,2,     0.00,2,     2.41,2,    0.367,3,    0.169,2,   0.0900,2,   2256.7,2,   2337.5,2,   7.5624,6,    25.01,2,     -999,1,   3.3148,2,     -999,9,     -999,9,     -999,9,     -999,9,     -999,9,   4.9745,1,   0.0114,1,     22.4,2,     -999,9,     -999,9,     -999,9,     -999,9,20230810,1531, -31.1929,  83.7672,-999          ,9,-999          ,9
33RR20230722  ,I05        ,74      ,  1,11         ,11         ,2,20230810,1439, -31.1928,  83.7672,     3789,   1600.3,2,   3.0269,2,  34.5922,2,  34.5920,2,    156.9,2,    157.0,2,    79.84,2,    34.24,2,     0.00,2,     2.40,2,     -999,9,     -999,9,     -999,9,   -999.0,9,     -999,9,     -999,9,     -999,9,     -999,1,   3.0265,2,     -999,9,     -999,9,     -999,9,     -999,9,     -999,9,   4.9746,1,   0.0121,1,     -999,9,     -999,9,     -999,9,     -999,9,     -999,9,20230810,1527, -31.1929,  83.7672,-999          ,9,-999          ,9
33RR20230722  ,I05        ,74      ,  1,10         ,10         ,2,20230810,1439, -31.1928,  83.7672,     3789,   1753.1,2,   2.7775,2,  34.6434,2,  34.6437,2,    161.1,2,    161.1,2,    83.74,2,    33.57,2,     0.00,2,     2.34,2,    0.143,3,    0.055,2,  -0.0400,2,   2264.0,2,   2350.7,2,   7.5729,2,    25.02,2,     -999,1,   2.7765,2,     -999,9,     -999,9,     -999,9,     -999,9,     -999,9,   4.8510,1,   0.0111,1,     18.6,2,     -999,9,     -999,9,     -999,9,     -999,9,20230810,1524, -31.1928,  83.7672,-999          ,9,-999          ,9
33RR20230722  ,I05        ,74      ,  1,9          ,9          ,2,20230810,1439, -31.1928,  83.7672,     3789,   1933.6,2,   2.5537,2,  34.6893,2,  34.6895,2,    163.8,2,    163.8,2,    92.13,2,    33.02,2,     0.00,2,     2.32,2,     -999,9,     -999,9,     -999,9,   -999.0,9,     -999,9,     -999,9,     -999,9,     -999,1,   2.5534,2,     -999,9,     -999,9,     -999,9,     -999,9,     -999,9,   4.9749,1,   0.0122,1,     -999,9,     -999,9,     -999,9,     -999,9,     -999,9,20230810,1519, -31.1928,  83.7672,-999          ,9,-999          ,9
33RR20230722  ,I05        ,74      ,  1,8          ,8          ,2,20230810,1439, -31.1928,  83.7672,     3789,   2182.8,2,   2.2668,2,  34.7183,2,  34.7186,2,    177.6,2,    177.8,2,    91.94,2,    31.85,2,     0.00,2,     2.23,2,     -999,9,     -999,9,     -999,9,   2260.4,2,   2359.8,2,   7.5997,2,    25.01,2,     -999,1,   2.2673,2,     -999,9,     -999,9,     -999,9,     -999,9,     -999,9,   4.9746,1,   0.0111,1,     -999,9,     -999,9,     -999,9,     -999,9,     -999,9,20230810,1514, -31.1928,  83.7672,-999          ,9,-999          ,9
33RR20230722  ,I05        ,74      ,  1,7          ,7          ,2,20230810,1439, -31.1928,  83.7672,     3789,   2488.1,2,   1.9805,2,  34.7379,2,  34.7382,2,    190.2,2,    190.9,2,    92.62,2,    30.76,2,     0.00,2,     2.15,2,     -999,9,     -999,9,     -999,9,   -999.0,9,     -999,9,     -999,9,     -999,9,     -999,1,   1.9801,2,     -999,9,     -999,9,     -999,9,     -999,9,     -999,9,   4.9745,1,   0.0118,1,     -999,9,     -999,9,     -999,9,     -999,9,     -999,9,20230810,1508, -31.1928,  83.7672,-999          ,9,-999          ,9
33RR20230722  ,I05        ,74      ,  1,6          ,6          ,2,20230810,1439, -31.1928,  83.7672,     3789,   2782.8,2,   1.7158,2,  34.7364,2,  34.7366,2,    193.5,2,    193.9,2,   101.40,2,    31.05,2,     0.00,2,     2.17,2,    0.000,3,    0.020,2,  -0.0200,2,   2258.8,2,   2363.1,2,   7.6169,2,    25.00,2,     -999,1,   1.7175,2,     -999,9,     -999,9,     -999,9,     -999,9,     -999,9,   4.9746,1,   0.0117,1,     18.0,2,     -999,9,     -999,9,     -999,9,     -999,9,20230810,1502, -31.1928,  83.7672,-999          ,9,-999          ,9
33RR20230722  ,I05        ,74      ,  1,5          ,5          ,2,20230810,1439, -31.1928,  83.7672,     3789,   3024.6,2,   1.5417,2,  34.7322,2,  34.7327,2,    195.4,2,    195.4,2,   107.35,2,    31.44,2,     0.00,2,     2.18,2,     -999,9,     -999,9,     -999,9,   -999.0,9,     -999,9,     -999,9,     -999,9,     -999,1,   1.5413,2,     -999,9,     -999,9,     -999,9,     -999,9,     -999,9,   4.9249,1,   0.0110,1,     -999,9,     -999,9,     -999,9,     -999,9,     -999,9,20230810,1456, -31.1929,  83.7672,-999          ,9,-999          ,9
33RR20230722  ,I05        ,74      ,  1,4          ,37         ,2,20230810,1439, -31.1928,  83.7672,     3789,   3287.3,2,   1.4074,2,  34.7282,2,  34.7288,2,    198.1,2,    197.9,2,   110.58,2,    31.53,2,     0.00,2,     2.19,2,     -999,9,     -999,9,     -999,9,   2266.0,2,   2368.5,2,   7.6182,2,    25.02,2,     -999,1,   1.4072,2,     -999,9,     -999,9,     -999,9,     -999,9,     -999,9,   4.6343,1,   0.0111,1,     -999,9,     -999,9,     -999,9,     -999,9,     -999,9,20230810,1451, -31.1929,  83.7672,-999          ,9,-999          ,9
33RR20230722  ,I05        ,74      ,  1,3          ,3          ,2,20230810,1439, -31.1928,  83.7672,     3789,   3516.3,2,   1.3541,2,  34.7249,2,  34.7254,2,    197.8,2,    197.8,2,   113.21,2,    31.89,2,     0.00,2,     2.20,2,     -999,5,     -999,5,     -999,5,   2267.6,2,   2371.5,2,   7.6194,2,    25.01,2,     -999,1,   1.3537,2,     -999,9,     -999,9,     -999,9,     -999,9,     -999,9,   4.9321,1,   0.0116,1,     -999,5,     -999,9,     -999,9,     -999,9,     -999,9,20230810,1446, -31.1928,  83.7673,-999          ,9,-999          ,9