BOTTLE,20240422CCHHYDRO
EXPOCODE,SECT_ID,STNNBR,CASTNO,SAMPNO,BTLNBR,BTLNBR_FLAG_W,DATE,TIME,LATITUDE,LONGITUDE,DEPTH,CTDPRS,CTDPRS_FLAG_W,CTDTMP,CTDTMP_FLAG_W,CTDSAL,CTDSAL_FLAG_W,SALNTY,SALNTY_FLAG_W,CTDOXY,CTDOXY_FLAG_W,OXYGEN,OXYGEN_FLAG_W,SILCAT,SILCAT_FLAG_W,NITRAT,NITRAT_FLAG_W,NITRIT,NITRIT_FLAG_W,PHSPHT,PHSPHT_FLAG_W,CFC-11,CFC-11_FLAG_W,CFC-12,CFC-12_FLAG_W,SF6,SF6_FLAG_W,TCARBN,TCARBN_FLAG_W,ALKALI,ALKALI_FLAG_W,PH_TOT,PH_TOT_FLAG_W,PH_TMP,PH_TMP_FLAG_W,DOC,DOC_FLAG_W,REFTMP,REFTMP_FLAG_W,POC,POC_FLAG_W,PON,PON_FLAG_W,POP,POP_FLAG_W,DOP,DOP_FLAG_W,DELO18,DELO18_FLAG_W,CTDFLUOR,CTDFLUOR_FLAG_W,CTDXMISS,CTDXMISS_FLAG_W,N2O,N2O_FLAG_W,D15N_NO3,D15N_NO3_FLAG_W,D15N_NO2+NO3,D15N_NO2+NO3_FLAG_W,D18O_NO2+NO3,D18O_NO2+NO3_FLAG_W,D18O_NO3,D18O_NO3_FLAG_W,BTL_DATE,BTL_TIME,BTL_LAT,BTL_LON,HPLC,HPLC_FLAG_W,DNA,DNA_FLAG_W
,,,,,,,,,,,METERS,DBAR,,ITS-90,,PSS-78,,PSS-78,,UMOL/KG,,UMOL/KG,,UMOL/KG,,UMOL/KG,,UMOL/KG,,UMOL/KG,,PMOL/KG,,PMOL/KG,,FMOL/KG,,UMOL/KG,,UMOL/KG,,,,DEG C,,UMOL/KG,,ITS-90,,UG/KG,,UG/KG,,UG/L,,UMOL/KG,,/MILLE,,VOLTS,,VOLTS,,NMOL/KG,,/MILLE,,/MILLE,,/MILLE,,/MILLE,,,,,,,,,
33RR20230722  ,I05        ,171     ,  1,36         ,38         ,2,20230905,0054, -32.9978,  36.9492,     5017,      4.6,2,  18.6742,2,  35.6775,2,  35.6771,2,    236.1,2,    235.0,2,     1.95,2,     0.00,2,     0.00,2,     0.11,2,     -999,9,     -999,9,     -999,9,   2070.0,2,   2335.0,2,   7.9779,2,    24.98,2,     -999,1,  18.6687,2,     -999,9,     -999,9,     -999,9,     -999,1,     -999,1,   4.8736,1,   0.0257,1,     -999,9,     -999,9,     -999,9,     -999,9,     -999,9,20230905,0303, -32.9978,  36.9492,-999          ,9,-999          ,9
33RR20230722  ,I05        ,171     ,  1,35         ,35         ,2,20230905,0054, -32.9978,  36.9492,     5017,     21.7,2,  18.5349,2,  35.6819,2,  35.6794,2,    237.0,2,    235.8,2,     1.95,2,     0.00,2,     0.00,2,     0.12,2,     -999,9,     -999,9,     -999,9,   2067.0,6,   2334.4,2,   7.9786,2,    24.98,2,     -999,9,  18.5681,2,     -999,9,     -999,9,     -999,9,     -999,1,     -999,1,   4.8825,1,   0.0307,1,     -999,9,     -999,9,     -999,9,     -999,9,     -999,9,20230905,0301, -32.9978,  36.9492,-999          ,9,-999          ,9
33RR20230722  ,I05        ,171     ,  1,34         ,34         ,4,20230905,0054, -32.9978,  36.9492,     5017,     39.1,3,  18.0150,3,  35.6458,3,  35.6411,3,    221.0,3,    220.9,3,     2.44,3,     1.62,3,     0.09,3,     0.22,3,     -999,9,     -999,9,     -999,9,   -999.0,4,     -999,9,     -999,9,     -999,9,     -999,9,  18.0110,3,     -999,9,     -999,9,     -999,9,     -999,1,     -999,1,   4.9720,1,   0.0252,1,     -999,9,     -999,9,     -999,9,     -999,9,     -999,9,20230905,0300, -32.9978,  36.9492,-999          ,9,-999          ,9
33RR20230722  ,I05        ,171     ,  1,33         ,33         ,2,20230905,0054, -32.9978,  36.9492,     5017,     60.7,2,  17.8933,2,  35.6750,2,  35.6725,2,    236.5,2,    234.8,2,     2.05,2,     0.13,2,     0.20,2,     0.15,2,     -999,9,     -999,9,     -999,9,   2078.1,2,   2335.3,2,   7.9654,6,    25.00,2,     -999,9,  17.8972,2,     -999,9,     -999,9,     -999,9,     -999,1,     -999,1,   4.9741,1,   0.0328,1,     -999,9,     -999,9,     -999,9,     -999,9,     -999,9,20230905,0258, -32.9978,  36.9492,-999          ,9,-999          ,9
33RR20230722  ,I05        ,171     ,  1,32         ,32         ,2,20230905,0054, -32.9978,  36.9492,     5017,     87.0,2,  17.8185,2,  35.6789,2,  35.6771,2,    233.2,2,    232.7,2,     2.15,2,     0.29,2,     0.23,2,     0.16,2,     -999,9,     -999,9,     -999,9,   -999.0,9,     -999,9,     -999,9,     -999,9,     -999,9,  17.8177,2,     -999,9,     -999,9,     -999,9,     -999,1,     -999,1,   4.9731,1,   0.0265,1,     -999,9,     -999,9,     -999,9,     -999,9,     -999,9,20230905,0256, -32.9978,  36.9492,-999          ,9,-999          ,9
33RR20230722  ,I05        ,171     ,  1,31         ,31         ,2,20230905,0054, -32.9978,  36.9492,     5017,    115.5,2,  17.7041,2,  35.6664,2,  35.6656,2,    229.1,2,    229.2,2,     2.15,2,     0.87,2,     0.19,2,     0.18,2,     -999,9,     -999,9,     -999,9,   2079.5,2,   2333.5,6,   7.9541,2,    25.01,2,     -999,9,  17.7022,2,     -999,9,     -999,9,     -999,9,     -999,1,     -999,1,   4.9720,1,   0.0178,1,     -999,9,     -999,9,     -999,9,     -999,9,     -999,9,20230905,0254, -32.9978,  36.9492,-999          ,9,-999          ,9
33RR20230722  ,I05        ,171     ,  1,30         ,30         ,2,20230905,0054, -32.9978,  36.9492,     5017,    146.0,2,  17.4073,2,  35.6312,2,  35.6190,2,    217.8,2,    216.5,2,     2.63,2,     2.75,2,     0.04,2,     0.29,2,     -999,9,     -999,9,     -999,9,   -999.0,9,     -999,9,     -999,9,     -999,9,     -999,9,  17.3943,2,     -999,9,     -999,9,     -999,9,     -999,1,     -999,1,   4.9701,1,   0.0129,1,     -999,9,     -999,9,     -999,9,     -999,9,     -999,9,20230905,0252, -32.9978,  36.9492,-999          ,9,-999          ,9
33RR20230722  ,I05        ,171     ,  1,29         ,29         ,2,20230905,0054, -32.9978,  36.9492,     5017,    178.4,2,  16.7720,2,  35.5777,2,  35.5762,2,    207.3,3,    210.0,2,     3.02,2,     4.21,2,     0.02,2,     0.39,2,     -999,9,     -999,9,     -999,9,   2104.7,2,   2327.9,2,   7.9011,6,    24.98,2,     -999,9,  16.7711,2,     -999,9,     -999,9,     -999,9,     -999,1,     -999,1,   4.8446,1,   0.0114,1,     -999,9,     -999,9,     -999,9,     -999,9,     -999,9,20230905,0250, -32.9978,  36.9492,-999          ,9,-999          ,9
33RR20230722  ,I05        ,171     ,  1,28         ,28         ,2,20230905,0054, -32.9978,  36.9492,     5017,    215.1,2,  16.4615,2,  35.5610,2,  35.5592,2,    211.4,2,    213.4,2,     3.02,2,     4.37,2,     0.00,2,     0.38,2,     -999,9,     -999,9,     -999,9,   -999.0,9,     -999,9,     -999,9,     -999,9,     -999,9,  16.4635,2,     -999,9,     -999,9,     -999,9,     -999,1,     -999,1,   4.9683,1,   0.0115,1,     -999,9,     -999,9,     -999,9,     -999,9,     -999,9,20230905,0249, -32.9978,  36.9492,-999          ,9,-999          ,9
33RR20230722  ,I05        ,171     ,  1,27         ,27         ,2,20230905,0054, -32.9978,  36.9492,     5017,    256.1,2,  15.9122,2,  35.5129,2,  35.5143,2,    209.8,2,    211.5,2,     3.41,2,     5.34,2,     0.00,2,     0.45,2,     -999,9,     -999,9,     -999,9,   2110.4,2,   2325.4,2,   7.8849,2,    25.00,2,     -999,9,  15.9262,2,     -999,9,     -999,9,     -999,9,     -999,1,     -999,1,   4.9680,1,   0.0117,1,     -999,9,     -999,9,     -999,9,     -999,9,     -999,9,20230905,0247, -32.9978,  36.9492,-999          ,9,-999          ,9
33RR20230722  ,I05        ,171     ,  1,26         ,26         ,2,20230905,0054, -32.9978,  36.9492,     5017,    305.3,2,  15.3755,2,  35.4646,2,  35.4632,2,    212.0,2,    213.5,2,     3.41,2,     5.97,2,     0.00,2,     0.50,2,     -999,9,     -999,9,     -999,9,   2115.8,2,   2322.4,2,   7.8717,2,    25.00,2,     -999,9,  15.3752,2,     -999,9,     -999,9,     -999,9,     -999,9,     -999,1,   4.9677,1,   0.0117,1,     -999,9,     -999,9,     -999,9,     -999,9,     -999,9,20230905,0245, -32.9978,  36.9492,-999          ,9,-999          ,9
33RR20230722  ,I05        ,171     ,  1,25         ,25         ,2,20230905,0054, -32.9978,  36.9492,     5017,    363.5,2,  14.7547,2,  35.3980,2,  35.3973,2,    212.6,2,    213.8,2,     3.61,2,     6.90,2,     0.00,2,     0.57,2,    2.418,2,    1.499,2,   2.0700,2,   2120.2,2,   2320.6,2,   7.8569,2,    25.00,2,     -999,9,  14.7548,2,     -999,9,     -999,9,     -999,9,     -999,9,     -999,1,   4.9045,1,   0.0115,1,     10.5,2,     -999,9,     -999,9,     -999,9,     -999,9,20230905,0243, -32.9978,  36.9492,-999          ,9,-999          ,9
33RR20230722  ,I05        ,171     ,  1,24         ,24         ,2,20230905,0054, -32.9978,  36.9492,     5017,    432.4,2,  13.9939,2,  35.3212,2,  35.3218,2,    217.6,2,    218.1,2,     3.51,2,     7.82,2,     0.00,2,     0.62,2,     -999,9,     -999,9,     -999,9,   2122.4,2,   2317.6,2,   7.8436,2,    24.97,2,     -999,9,  14.0000,2,     -999,9,     -999,9,     -999,9,     -999,9,     -999,1,   4.9267,1,   0.0116,1,     -999,9,     -999,9,     -999,9,     -999,9,     -999,9,20230905,0241, -32.9978,  36.9492,-999          ,9,-999          ,9
33RR20230722  ,I05        ,171     ,  1,23         ,23         ,2,20230905,0054, -32.9978,  36.9492,     5017,    510.1,2,  13.3193,2,  35.2447,2,  35.2390,2,    222.4,2,    222.6,2,     3.71,2,     8.96,2,     0.00,2,     0.69,2,    2.526,2,    1.624,2,   2.1900,2,   2126.0,2,   2313.8,2,   7.8300,6,    25.02,2,     -999,9,  13.3164,2,     -999,9,     -999,9,     -999,9,     -999,9,     -999,1,   4.7156,1,   0.0115,1,     11.2,2,     -999,9,     -999,9,     -999,9,     -999,9,20230905,0238, -32.9978,  36.9492,-999          ,9,-999          ,9
33RR20230722  ,I05        ,171     ,  1,22         ,22         ,2,20230905,0054, -32.9978,  36.9492,     5017,    596.8,2,  12.5397,2,  35.1395,2,  35.1370,2,    224.8,2,    224.2,2,     4.10,2,    10.49,2,     0.00,2,     0.78,2,     -999,9,     -999,9,     -999,9,   2130.1,2,   2309.4,2,   7.8138,2,    25.02,2,     -999,9,  12.5396,2,     -999,9,     -999,9,     -999,9,     -999,9,     -999,1,   4.9668,1,   0.0116,1,     -999,9,     -999,9,     -999,9,     -999,9,     -999,9,20230905,0236, -32.9978,  36.9492,-999          ,9,-999          ,9
33RR20230722  ,I05        ,171     ,  1,21         ,21         ,2,20230905,0054, -32.9978,  36.9492,     5017,    686.7,2,  11.6325,2,  35.0017,2,  35.0010,2,    222.4,2,    221.8,2,     4.78,2,    12.70,2,     0.00,2,     0.93,2,    2.862,2,    1.750,2,   1.9200,2,   2134.7,2,   2303.3,2,   7.7905,2,    25.01,2,     -999,9,  11.6349,2,     -999,9,     -999,9,     -999,9,     -999,9,     -999,1,   4.9145,1,   0.0113,1,     12.1,2,     -999,9,     -999,9,     -999,9,     -999,9,20230905,0233, -32.9978,  36.9492,-999          ,9,-999          ,9
33RR20230722  ,I05        ,171     ,  1,20         ,20         ,2,20230905,0054, -32.9978,  36.9492,     5017,    785.2,2,  10.5533,2,  34.8510,2,  34.8473,2,    219.0,2,    219.1,2,     6.15,2,    15.47,2,     0.00,2,     1.10,2,     -999,9,     -999,9,     -999,9,   -999.0,9,     -999,9,     -999,9,     -999,9,     -999,9,  10.5529,2,     -999,9,     -999,9,     -999,9,     -999,9,     -999,1,   4.9668,1,   0.0114,1,     -999,9,     -999,9,     -999,9,     -999,9,     -999,9,20230905,0230, -32.9978,  36.9492,-999          ,9,-999          ,9
33RR20230722  ,I05        ,171     ,  1,19         ,19         ,2,20230905,0054, -32.9978,  36.9492,     5017,    888.3,2,   9.2450,2,  34.6928,2,  34.6932,2,    213.8,2,    213.9,2,     9.27,2,    18.99,2,     0.00,2,     1.33,2,    3.024,2,    1.745,2,   1.5000,2,   2154.2,2,   2291.9,2,   7.7273,2,    25.01,2,     -999,9,   9.2472,2,     -999,9,     -999,9,     -999,9,     -999,9,     -999,1,   4.7651,1,   0.0112,1,     15.0,2,     -999,9,     -999,9,     -999,9,     -999,9,20230905,0227, -32.9978,  36.9492,-999          ,9,-999          ,9
33RR20230722  ,I05        ,171     ,  1,18         ,18         ,2,20230905,0054, -32.9978,  36.9492,     5017,    990.0,2,   7.9058,2,  34.5671,2,  34.5626,2,    205.6,2,    205.8,2,    15.13,2,    23.09,2,     0.00,2,     1.60,2,     -999,9,     -999,9,     -999,9,   2167.7,2,   2287.8,2,   7.6830,2,    25.00,2,     -999,9,   7.8976,2,     -999,9,     -999,9,     -999,9,     -999,9,     -999,1,   4.9689,1,   0.0112,1,     -999,9,     -999,9,     -999,9,     -999,9,     -999,9,20230905,0224, -32.9978,  36.9492,-999          ,9,-999          ,9
33RR20230722  ,I05        ,171     ,  1,17         ,17         ,2,20230905,0054, -32.9978,  36.9492,     5017,   1096.1,2,   6.4791,2,  34.4627,2,  34.4614,2,    200.2,2,    201.1,2,    22.84,2,    26.73,2,     0.00,2,     1.84,2,    2.596,2,    1.428,2,   0.9500,2,   2185.2,2,   2290.0,2,   7.6457,2,    25.00,2,     -999,9,   6.4953,2,     -999,9,     -999,9,     -999,9,     -999,9,     -999,1,   4.8393,1,   0.0114,1,     18.6,2,     -999,9,     -999,9,     -999,9,     -999,9,20230905,0221, -32.9978,  36.9492,-999          ,9,-999          ,9
33RR20230722  ,I05        ,171     ,  1,16         ,16         ,2,20230905,0054, -32.9978,  36.9492,     5017,   1206.8,2,   5.6172,2,  34.4533,2,  34.4522,2,    188.7,2,    188.3,2,    33.29,2,    29.49,2,     0.00,2,     2.04,2,    2.090,2,    1.133,2,   0.6500,2,   -999.0,9,     -999,9,     -999,9,     -999,9,     -999,9,   5.6230,2,     -999,9,     -999,9,     -999,9,     -999,9,     -999,1,   4.9712,1,   0.0112,1,     20.8,2,     -999,9,     -999,9,     -999,9,     -999,9,20230905,0218, -32.9978,  36.9492,-999          ,9,-999          ,9
33RR20230722  ,I05        ,171     ,  1,15         ,15         ,2,20230905,0054, -32.9978,  36.9492,     5017,   1326.4,2,   4.6272,2,  34.4554,2,  34.4551,2,    179.6,2,    179.8,2,    45.10,2,    31.70,2,     0.00,2,     2.20,2,     -999,9,     -999,9,     -999,9,   2219.2,2,   2307.8,6,   7.5917,2,    25.02,2,     -999,9,   4.6327,2,     -999,9,     -999,9,     -999,9,     -999,9,     -999,1,   4.8380,1,   0.0111,1,     -999,9,     -999,9,     -999,9,     -999,9,     -999,9,20230905,0215, -32.9978,  36.9492,-999          ,9,-999          ,9
33RR20230722  ,I05        ,171     ,  1,14         ,14         ,2,20230905,0054, -32.9978,  36.9492,     5017,   1455.0,2,   3.9489,2,  34.4892,2,  34.4875,2,    173.5,2,    173.5,2,    55.15,2,    32.92,2,     0.00,2,     2.28,2,    1.105,2,    0.579,2,   0.2500,2,   2231.9,2,   2319.1,2,   7.5763,6,    25.01,2,     -999,9,   3.9516,2,     -999,9,     -999,9,     -999,9,     -999,9,     -999,1,   4.9735,1,   0.0112,1,     23.4,2,     -999,9,     -999,9,     -999,9,     -999,9,20230905,0212, -32.9978,  36.9492,-999          ,9,-999          ,9
33RR20230722  ,I05        ,171     ,  1,13         ,13         ,2,20230905,0054, -32.9978,  36.9492,     5017,   1589.8,2,   3.5121,2,  34.5500,2,  34.5514,2,    168.4,2,    168.2,2,    64.71,2,    33.36,2,     0.00,2,     2.30,2,     -999,9,     -999,9,     -999,9,   2245.9,6,   2329.9,2,   7.5753,2,    25.00,2,     -999,9,   3.5128,2,     -999,9,     -999,9,     -999,9,     -999,9,     -999,1,   4.8819,1,   0.0117,1,     -999,9,     -999,9,     -999,9,     -999,9,     -999,9,20230905,0208, -32.9978,  36.9492,-999          ,9,-999          ,9
33RR20230722  ,I05        ,171     ,  1,12         ,12         ,2,20230905,0054, -32.9978,  36.9492,     5017,   1732.8,2,   3.2302,2,  34.6023,2,  34.6020,2,    168.5,2,    168.3,2,    69.98,2,    33.12,2,     0.00,2,     2.30,2,    0.450,2,    0.237,2,   0.0000,2,   -999.0,9,     -999,9,     -999,9,     -999,9,     -999,9,   3.2303,2,     -999,9,     -999,9,     -999,9,     -999,9,     -999,1,   4.9742,1,   0.0114,1,     22.9,2,     -999,9,     -999,9,     -999,9,     -999,9,20230905,0205, -32.9978,  36.9492,-999          ,9,-999          ,9
33RR20230722  ,I05        ,171     ,  1,11         ,11         ,2,20230905,0054, -32.9978,  36.9492,     5017,   1898.6,2,   2.9948,2,  34.6657,2,  34.6649,2,    171.8,2,    171.4,2,    74.27,2,    32.34,2,     0.00,2,     2.25,2,     -999,9,     -999,9,     -999,9,   2252.2,2,   2339.0,2,   7.5876,6,    24.99,2,     -999,9,   2.9950,2,     -999,9,     -999,9,     -999,9,     -999,9,     -999,1,   4.9744,1,   0.0117,1,     -999,9,     -999,9,     -999,9,     -999,9,     -999,9,20230905,0200, -32.9978,  36.9492,-999          ,9,-999          ,9
33RR20230722  ,I05        ,171     ,  1,10         ,10         ,2,20230905,0054, -32.9978,  36.9492,     5017,   2101.0,2,   2.8161,2,  34.7223,2,  34.7215,2,    180.0,2,    180.2,2,    74.37,2,    31.04,2,     0.00,2,     2.15,2,    0.121,2,    0.069,2,   0.0800,2,   -999.0,9,     -999,9,     -999,9,     -999,9,     -999,9,   2.8160,2,     -999,9,     -999,9,     -999,9,     -999,9,     -999,1,   4.9743,1,   0.0115,1,     21.2,2,     -999,9,     -999,9,     -999,9,     -999,9,20230905,0156, -32.9978,  36.9492,-999          ,9,-999          ,9
33RR20230722  ,I05        ,171     ,  1,9          ,9          ,2,20230905,0054, -32.9978,  36.9492,     5017,   2350.4,2,   2.6413,2,  34.7730,2,  34.7722,2,    196.7,2,    196.7,2,    67.63,2,    28.86,2,     0.00,2,     1.98,2,     -999,9,     -999,9,     -999,9,   2234.7,2,   2339.4,2,   7.6333,2,    24.98,2,     -999,9,   2.6414,2,     -999,9,     -999,9,     -999,9,     -999,9,     -999,1,   4.5951,1,   0.0111,1,     -999,9,     -999,9,     -999,9,     -999,9,     -999,9,20230905,0151, -32.9978,  36.9492,-999          ,9,-999          ,9
33RR20230722  ,I05        ,171     ,  1,8          ,8          ,2,20230905,0054, -32.9978,  36.9492,     5017,   2653.1,2,   2.4351,2,  34.7918,2,  34.7911,2,    203.8,2,    204.1,2,    70.65,2,    28.20,2,     0.00,2,     1.95,2,    0.038,2,    0.022,2,  -0.0100,2,   2232.7,2,   2343.8,2,   7.6430,2,    24.99,2,     -999,9,   2.4351,2,     -999,9,     -999,9,     -999,9,     -999,9,     -999,1,   4.9269,1,   0.0111,1,     18.0,2,     -999,9,     -999,9,     -999,9,     -999,9,20230905,0144, -32.9978,  36.9492,-999          ,9,-999          ,9
33RR20230722  ,I05        ,171     ,  1,7          ,7          ,2,20230905,0054, -32.9978,  36.9492,     5017,   3002.8,2,   2.2573,2,  34.8051,2,  34.8039,2,    213.4,2,    213.6,2,    69.68,2,    27.33,2,     0.00,2,     1.87,2,     -999,9,     -999,9,     -999,9,   2226.8,2,   2342.0,2,   7.6567,2,    24.98,2,     -999,9,   2.2575,2,     -999,9,     -999,9,     -999,9,     -999,9,     -999,1,   4.9745,1,   0.0116,1,     -999,9,     -999,9,     -999,9,     -999,9,     -999,9,20230905,0137, -32.9978,  36.9492,-999          ,9,-999          ,9
33RR20230722  ,I05        ,171     ,  1,6          ,6          ,2,20230905,0054, -32.9978,  36.9492,     5017,   3387.6,2,   1.9452,2,  34.7933,2,  34.7915,2,    216.5,2,    216.6,2,    78.85,2,    27.86,2,     0.00,2,     1.91,2,    0.050,2,    0.029,2,  -0.0100,2,   -999.0,9,     -999,9,     -999,9,     -999,9,     -999,9,   1.9455,2,     -999,9,     -999,9,     -999,9,     -999,9,     -999,1,   4.9676,1,   0.0110,1,     16.9,2,     -999,9,     -999,9,     -999,9,     -999,9,20230905,0130, -32.9978,  36.9492,-999          ,9,-999          ,9
33RR20230722  ,I05        ,171     ,  1,5          ,5          ,2,20230905,0054, -32.9978,  36.9492,     5017,   3777.5,2,   1.4915,2,  34.7607,2,  34.7592,2,    216.2,2,    216.3,2,    94.37,2,    29.40,2,     0.00,2,     2.03,2,     -999,9,     -999,9,     -999,9,   2243.0,2,   2355.1,2,   7.6436,6,    24.99,2,     -999,9,   1.4913,2,     -999,9,     -999,9,     -999,9,     -999,9,     -999,1,   4.9753,1,   0.0112,1,     -999,9,     -999,9,     -999,9,     -999,9,     -999,9,20230905,0122, -32.9978,  36.9492,-999          ,9,-999          ,9
33RR20230722  ,I05        ,171     ,  1,4          ,37         ,2,20230905,0054, -32.9978,  36.9492,     5017,   4169.4,2,   1.0977,2,  34.7316,2,  34.7302,2,    217.1,2,    217.3,2,   106.67,2,    30.63,2,     0.00,2,     2.12,2,    0.127,2,    0.068,2,   0.0000,2,   2253.9,2,   2360.3,2,   7.6315,2,    24.99,2,     -999,9,   1.0980,2,     -999,9,     -999,9,     -999,9,     -999,9,     -999,1,   4.8714,1,   0.0113,1,     17.6,2,     -999,9,     -999,9,     -999,9,     -999,9,20230905,0114, -32.9978,  36.9492,-999          ,9,-999          ,9
33RR20230722  ,I05        ,171     ,  1,3          ,3          ,2,20230905,0054, -32.9978,  36.9492,     5017,   4531.0,2,   0.7879,2,  34.7077,2,  34.7066,2,    218.3,2,    218.7,2,   117.50,2,    31.57,2,     0.00,2,     2.20,2,     -999,9,     -999,9,     -999,9,   2260.5,2,   2362.9,2,   7.6223,2,    25.00,2,     -999,9,   0.7884,2,     -999,9,     -999,9,     -999,9,     -999,9,     -999,1,   4.9763,1,   0.0111,1,     -999,9,     -999,9,     -999,9,     -999,9,     -999,9,20230905,0107, -32.9978,  36.9492,-999          ,9,-999          ,9