BOTTLE,20240422CCHHYDRO
EXPOCODE,SECT_ID,STNNBR,CASTNO,SAMPNO,BTLNBR,BTLNBR_FLAG_W,DATE,TIME,LATITUDE,LONGITUDE,DEPTH,CTDPRS,CTDPRS_FLAG_W,CTDTMP,CTDTMP_FLAG_W,CTDSAL,CTDSAL_FLAG_W,SALNTY,SALNTY_FLAG_W,CTDOXY,CTDOXY_FLAG_W,OXYGEN,OXYGEN_FLAG_W,SILCAT,SILCAT_FLAG_W,NITRAT,NITRAT_FLAG_W,NITRIT,NITRIT_FLAG_W,PHSPHT,PHSPHT_FLAG_W,CFC-11,CFC-11_FLAG_W,CFC-12,CFC-12_FLAG_W,SF6,SF6_FLAG_W,TCARBN,TCARBN_FLAG_W,ALKALI,ALKALI_FLAG_W,PH_TOT,PH_TOT_FLAG_W,PH_TMP,PH_TMP_FLAG_W,DOC,DOC_FLAG_W,REFTMP,REFTMP_FLAG_W,POC,POC_FLAG_W,PON,PON_FLAG_W,POP,POP_FLAG_W,DOP,DOP_FLAG_W,DELO18,DELO18_FLAG_W,CTDFLUOR,CTDFLUOR_FLAG_W,CTDXMISS,CTDXMISS_FLAG_W,N2O,N2O_FLAG_W,D15N_NO3,D15N_NO3_FLAG_W,D15N_NO2+NO3,D15N_NO2+NO3_FLAG_W,D18O_NO2+NO3,D18O_NO2+NO3_FLAG_W,D18O_NO3,D18O_NO3_FLAG_W,BTL_DATE,BTL_TIME,BTL_LAT,BTL_LON,HPLC,HPLC_FLAG_W,DNA,DNA_FLAG_W
,,,,,,,,,,,METERS,DBAR,,ITS-90,,PSS-78,,PSS-78,,UMOL/KG,,UMOL/KG,,UMOL/KG,,UMOL/KG,,UMOL/KG,,UMOL/KG,,PMOL/KG,,PMOL/KG,,FMOL/KG,,UMOL/KG,,UMOL/KG,,,,DEG C,,UMOL/KG,,ITS-90,,UG/KG,,UG/KG,,UG/L,,UMOL/KG,,/MILLE,,VOLTS,,VOLTS,,NMOL/KG,,/MILLE,,/MILLE,,/MILLE,,/MILLE,,,,,,,,,
33RR20230722  ,I05        ,126     ,  1,1          ,1          ,2,20230824,2156, -34.0003,  57.5193,     5230,   5322.0,2,   0.6151,2,  34.6829,2,  34.6842,2,    217.7,2,    217.7,2,   133.40,2,    32.58,2,     0.00,2,     2.26,2,    0.301,2,    0.160,2,   0.0400,2,   2263.0,6,   2360.6,2,   7.6044,2,    25.03,2,     -999,1,   0.6148,2,     -999,9,     -999,9,     -999,9,     -999,9,     -999,1,   0.5479,1,   0.0110,1,     17.9,2,     -999,9,     -999,9,     -999,9,     -999,9,20230824,2156, -34.0003,  57.5193,-999          ,9,-999          ,9
33RR20230722  ,I05        ,127     ,  1,32         ,32         ,2,20230825,0403, -33.8472,  57.0647,     4637,      7.5,2,  16.6953,2,  35.6090,2,  35.6076,2,    242.4,2,    242.2,2,     1.37,2,     0.07,2,     0.02,2,     0.14,2,    2.053,2,    1.365,2,   2.2900,2,   2083.2,2,   2335.8,2,   7.9508,2,    25.02,2,     -999,1,  16.6941,2,     -999,9,     -999,9,     -999,9,     -999,9,     -999,1,   4.9748,1,   0.0267,1,      8.1,2,     -999,9,     -999,9,     -999,9,     -999,9,20230825,0600, -33.8472,  57.0647,-999          ,9,-999          ,9
33RR20230722  ,I05        ,127     ,  1,31         ,31         ,2,20230825,0403, -33.8472,  57.0647,     4637,     38.9,2,  16.6903,2,  35.6087,2,  35.6076,2,    242.1,2,    241.9,2,     1.37,2,     0.01,2,     0.01,2,     0.14,2,     -999,9,     -999,9,     -999,9,   -999.0,9,     -999,9,     -999,9,     -999,9,     -999,9,  16.6880,2,     -999,9,     -999,9,     -999,9,     -999,9,     -999,1,   4.9747,1,   0.0371,1,     -999,9,     -999,9,     -999,9,     -999,9,     -999,9,20230825,0558, -33.8472,  57.0647,-999          ,9,-999          ,9
33RR20230722  ,I05        ,127     ,  1,30         ,30         ,2,20230825,0403, -33.8472,  57.0647,     4637,     67.7,2,  16.6754,2,  35.6060,2,  35.6052,2,    242.5,2,    242.4,2,     1.46,2,     0.00,2,     0.01,2,     0.14,2,    2.088,2,    1.365,2,   2.3000,2,   2083.1,2,   2334.8,2,   7.9506,2,    25.06,2,     -999,9,  16.6739,2,     -999,9,     -999,9,     -999,9,     -999,9,     -999,1,   4.9745,1,   0.0410,1,      8.1,2,     -999,9,     -999,9,     -999,9,     -999,9,20230825,0556, -33.8472,  57.0647,-999          ,9,-999          ,9
33RR20230722  ,I05        ,127     ,  1,29         ,29         ,2,20230825,0403, -33.8472,  57.0647,     4637,     98.1,2,  16.6588,2,  35.6030,2,  35.6026,2,    241.6,2,    242.5,2,     1.37,2,     0.01,2,     0.02,2,     0.15,2,     -999,9,     -999,9,     -999,9,   -999.0,9,     -999,9,     -999,9,     -999,9,     -999,9,  16.6588,2,     -999,9,     -999,9,     -999,9,     -999,9,     -999,1,   4.9742,1,   0.0415,1,     -999,9,     -999,9,     -999,9,     -999,9,     -999,9,20230825,0554, -33.8472,  57.0647,-999          ,9,-999          ,9
33RR20230722  ,I05        ,127     ,  1,28         ,28         ,2,20230825,0403, -33.8472,  57.0647,     4637,    133.2,2,  15.7725,2,  35.5069,2,  35.5077,2,    236.3,2,    237.3,2,     1.76,2,     1.64,2,     0.20,2,     0.26,2,    2.171,2,    1.432,2,   2.3400,2,   2093.9,2,   2330.1,2,   7.9190,2,    24.99,2,     -999,9,  15.7770,2,     -999,9,     -999,9,     -999,9,     -999,9,     -999,1,   4.9719,1,   0.0194,1,      8.8,2,     -999,9,     -999,9,     -999,9,     -999,9,20230825,0552, -33.8472,  57.0647,-999          ,9,-999          ,9
33RR20230722  ,I05        ,127     ,  1,27         ,27         ,2,20230825,0403, -33.8472,  57.0647,     4637,    168.9,2,  14.8812,2,  35.4306,2,  35.4328,2,    227.8,2,    228.9,2,     2.34,2,     4.31,2,     0.02,2,     0.43,2,     -999,9,     -999,9,     -999,9,   -999.0,9,     -999,9,     -999,9,     -999,9,     -999,9,  14.8902,2,     -999,9,     -999,9,     -999,9,     -999,9,     -999,1,   4.9695,1,   0.0151,1,     -999,9,     -999,9,     -999,9,     -999,9,     -999,9,20230825,0550, -33.8472,  57.0647,-999          ,9,-999          ,9
33RR20230722  ,I05        ,127     ,  1,26         ,26         ,2,20230825,0403, -33.8472,  57.0647,     4637,    206.6,2,  14.2990,2,  35.3828,2,  35.3815,2,    229.3,2,    229.5,2,     2.54,2,     5.53,2,     0.00,2,     0.48,2,    2.250,2,    1.542,2,   2.3400,2,   2115.3,2,   2321.2,2,   7.8671,6,    25.02,2,     -999,9,  14.2909,2,     -999,9,     -999,9,     -999,9,     -999,9,     -999,1,   4.9695,1,   0.0129,1,      9.9,2,     -999,9,     -999,9,     -999,9,     -999,9,20230825,0548, -33.8472,  57.0647,-999          ,9,-999          ,9
33RR20230722  ,I05        ,127     ,  1,25         ,25         ,2,20230825,0403, -33.8472,  57.0647,     4637,    250.3,2,  13.8221,2,  35.3239,2,  35.3263,2,    231.5,2,    231.2,2,     2.73,2,     6.41,2,     0.00,2,     0.55,2,     -999,9,     -999,9,     -999,9,   -999.0,9,     -999,9,     -999,9,     -999,9,     -999,9,  13.8324,2,     -999,9,     -999,9,     -999,9,     -999,9,     -999,1,   4.9692,1,   0.0121,1,     -999,9,     -999,9,     -999,9,     -999,9,     -999,9,20230825,0546, -33.8472,  57.0647,-999          ,9,-999          ,9
33RR20230722  ,I05        ,127     ,  1,24         ,24         ,2,20230825,0403, -33.8472,  57.0647,     4637,    298.9,2,  13.4056,2,  35.2687,2,  35.2696,2,    232.8,2,    232.9,2,     2.93,2,     7.33,2,     0.00,2,     0.60,2,    2.490,2,    1.617,2,   2.3800,2,   2120.2,2,   2316.6,2,   7.8467,2,    25.00,2,     -999,9,  13.4045,2,     -999,9,     -999,9,     -999,9,     -999,9,     -999,1,   4.9684,1,   0.0113,1,     10.5,2,     -999,9,     -999,9,     -999,9,     -999,9,20230825,0544, -33.8472,  57.0647,-999          ,9,-999          ,9
33RR20230722  ,I05        ,127     ,  1,23         ,23         ,2,20230825,0403, -33.8472,  57.0647,     4637,    358.7,2,  12.9948,2,  35.2117,2,  35.2113,2,    232.9,2,    232.6,2,     3.22,2,     8.42,2,     0.00,2,     0.66,2,    2.595,2,    1.640,2,   2.3000,2,   2122.4,2,   2313.8,2,   7.8364,2,    25.00,2,     -999,9,  12.9934,2,     -999,9,     -999,9,     -999,9,     -999,9,     -999,1,   4.9682,1,   0.0114,1,     10.4,2,     -999,9,     -999,9,     -999,9,     -999,9,20230825,0542, -33.8472,  57.0647,-999          ,9,-999          ,9
33RR20230722  ,I05        ,127     ,  1,22         ,22         ,2,20230825,0403, -33.8472,  57.0647,     4637,    424.8,2,  12.5797,2,  35.1498,2,  35.1492,2,    232.1,2,    231.5,2,     3.51,2,     9.51,2,     0.00,2,     0.73,2,    2.636,2,    1.683,2,   2.2100,2,   2126.2,2,   2310.5,2,   7.8243,2,    25.03,2,     -999,9,  12.5823,2,     -999,9,     -999,9,     -999,9,     -999,9,     -999,1,   4.9677,1,   0.0117,1,     10.7,2,     -999,9,     -999,9,     -999,9,     -999,9,20230825,0540, -33.8473,  57.0647,-999          ,9,-999          ,9
33RR20230722  ,I05        ,127     ,  1,21         ,21         ,2,20230825,0403, -33.8472,  57.0647,     4637,    503.1,2,  12.0582,2,  35.0680,2,  35.0693,2,    230.4,2,    230.4,2,     3.81,2,    10.78,2,     0.00,2,     0.81,2,     -999,9,     -999,9,     -999,9,   -999.0,9,     -999,9,     -999,9,     -999,9,     -999,9,  12.0741,2,     -999,9,     -999,9,     -999,9,     -999,9,     -999,1,   4.9671,1,   0.0116,1,     -999,9,     -999,9,     -999,9,     -999,9,     -999,9,20230825,0537, -33.8472,  57.0647,-999          ,9,-999          ,9
33RR20230722  ,I05        ,127     ,  1,20         ,20         ,2,20230825,0403, -33.8472,  57.0647,     4637,    592.1,2,  11.2197,2,  34.9373,2,  34.9360,2,    225.6,2,    225.3,2,     4.68,2,    13.18,2,     0.00,2,     0.94,2,    2.901,2,    1.799,2,   1.9200,2,   2135.0,2,   2301.8,2,   7.7872,2,    25.01,2,     -999,9,  11.2091,2,     -999,9,     -999,9,     -999,9,     -999,9,     -999,1,   4.9667,1,   0.0114,1,     12.0,2,     -999,9,     -999,9,     -999,9,     -999,9,20230825,0535, -33.8472,  57.0647,-999          ,9,-999          ,9
33RR20230722  ,I05        ,127     ,  1,19         ,19         ,2,20230825,0403, -33.8472,  57.0647,     4637,    692.3,2,  10.2445,2,  34.8014,2,  34.7992,2,    220.8,2,    220.5,2,     6.05,2,    15.90,2,     0.00,2,     1.11,2,    3.281,2,    1.808,2,   1.7100,2,   2143.9,2,   2296.5,2,   7.7583,2,    25.02,2,     -999,9,  10.2442,2,     -999,9,     -999,9,     -999,9,     -999,9,     -999,1,   4.9668,1,   0.0115,1,     12.7,2,     -999,9,     -999,9,     -999,9,     -999,9,20230825,0532, -33.8472,  57.0647,-999          ,9,-999          ,9
33RR20230722  ,I05        ,127     ,  1,18         ,18         ,2,20230825,0403, -33.8472,  57.0647,     4637,    799.8,2,   9.0733,2,  34.6611,2,  34.6549,2,    214.4,2,    213.9,2,     8.79,2,    19.41,2,     0.00,2,     1.35,2,    2.649,2,    1.791,2,   1.4500,2,   -999.0,9,     -999,9,     -999,9,     -999,9,     -999,9,   9.0722,2,     -999,9,     -999,9,     -999,9,     -999,9,     -999,1,   4.9677,1,   0.0115,1,     14.0,2,     -999,9,     -999,9,     -999,9,     -999,9,20230825,0529, -33.8473,  57.0647,-999          ,9,-999          ,9
33RR20230722  ,I05        ,127     ,  1,17         ,17         ,2,20230825,0403, -33.8472,  57.0647,     4637,    913.4,2,   7.5724,2,  34.5262,2,  34.5264,2,    205.8,2,    206.4,2,    14.84,2,    23.53,2,     0.00,2,     1.61,2,    3.059,2,    1.620,2,   1.1600,2,   2170.4,2,   2290.0,2,   7.6803,2,    25.01,2,     -999,9,   7.5683,2,     -999,9,     -999,9,     -999,9,     -999,9,     -999,1,   4.9691,1,   0.0114,1,     16.0,2,     -999,9,     -999,9,     -999,9,     -999,9,20230825,0526, -33.8472,  57.0647,-999          ,9,-999          ,9
33RR20230722  ,I05        ,127     ,  1,16         ,16         ,2,20230825,0403, -33.8472,  57.0647,     4637,   1030.9,2,   5.8605,2,  34.4014,2,  34.4006,2,    204.7,2,    205.8,2,    23.53,2,    27.58,2,     0.00,2,     1.90,2,    2.787,6,    1.476,6,   1.0200,6,   2185.0,2,   2290.6,6,   7.6397,2,    25.00,2,     -999,9,   5.8546,2,     -999,9,     -999,9,     -999,9,     -999,9,     -999,1,   4.9701,1,   0.0113,1,     17.9,6,     -999,9,     -999,9,     -999,9,     -999,9,20230825,0522, -33.8472,  57.0647,-999          ,9,-999          ,9
33RR20230722  ,I05        ,127     ,  1,15         ,15         ,2,20230825,0403, -33.8472,  57.0647,     4637,   1153.8,2,   4.5774,2,  34.3616,2,  34.3613,2,    200.6,2,    201.0,2,    34.07,2,    30.34,2,     0.00,2,     2.10,2,     -999,9,     -999,9,     -999,9,   -999.0,9,     -999,9,     -999,9,     -999,9,     -999,9,   4.5884,2,     -999,9,     -999,9,     -999,9,     -999,9,     -999,1,   4.9712,1,   0.0112,1,     -999,9,     -999,9,     -999,9,     -999,9,     -999,9,20230825,0519, -33.8473,  57.0647,-999          ,9,-999          ,9
33RR20230722  ,I05        ,127     ,  1,14         ,14         ,2,20230825,0403, -33.8472,  57.0647,     4637,   1288.1,2,   3.8752,2,  34.3957,2,  34.3949,2,    189.0,2,    189.6,2,    45.59,2,    32.19,2,     0.00,2,     2.24,2,    1.728,2,    0.885,2,   0.4900,2,   -999.0,9,     -999,9,     -999,9,     -999,9,     -999,9,   3.8762,2,     -999,9,     -999,9,     -999,9,     -999,9,     -999,1,   4.9607,1,   0.0112,1,     20.9,2,     -999,9,     -999,9,     -999,9,     -999,9,20230825,0516, -33.8473,  57.0647,-999          ,9,-999          ,9
33RR20230722  ,I05        ,127     ,  1,13         ,13         ,2,20230825,0403, -33.8472,  57.0647,     4637,   1431.9,2,   3.3679,2,  34.4736,2,  34.4736,2,    176.1,2,    176.3,2,    58.28,2,    33.32,2,     0.00,2,     2.30,2,    1.196,2,    0.514,2,   0.2500,2,   2235.7,2,   2321.7,2,   7.5737,6,    25.01,2,     -999,9,   3.3652,2,     -999,9,     -999,9,     -999,9,     -999,9,     -999,1,   4.9734,1,   0.0112,1,     22.2,2,     -999,9,     -999,9,     -999,9,     -999,9,20230825,0512, -33.8472,  57.0647,-999          ,9,-999          ,9
33RR20230722  ,I05        ,127     ,  1,12         ,12         ,2,20230825,0403, -33.8472,  57.0647,     4637,   1585.3,2,   3.0493,2,  34.5426,2,  34.5443,2,    171.6,2,    171.5,2,    66.97,2,    33.38,2,     0.00,2,     2.34,2,    0.582,2,    0.293,2,   0.1100,2,   2249.5,6,   2331.1,2,   7.5716,2,    25.05,2,     -999,9,   3.0471,2,     -999,9,     -999,9,     -999,9,     -999,9,     -999,1,   4.9742,1,   0.0119,1,     22.1,2,     -999,9,     -999,9,     -999,9,     -999,9,20230825,0508, -33.8472,  57.0647,-999          ,9,-999          ,9
33RR20230722  ,I05        ,127     ,  1,11         ,11         ,2,20230825,0403, -33.8472,  57.0647,     4637,   1743.7,2,   2.7794,2,  34.6102,2,  34.6095,2,    173.4,2,    173.7,2,    72.14,2,    32.78,2,     0.00,2,     2.28,2,    0.382,2,    0.174,2,   0.0800,2,   2247.5,2,   2335.5,2,   7.5789,2,    25.01,2,     -999,9,   2.7772,2,     -999,9,     -999,9,     -999,9,     -999,9,     -999,1,   4.9745,1,   0.0119,1,     21.3,2,     -999,9,     -999,9,     -999,9,     -999,9,20230825,0504, -33.8472,  57.0647,-999          ,9,-999          ,9
33RR20230722  ,I05        ,127     ,  1,10         ,10         ,2,20230825,0403, -33.8472,  57.0647,     4637,   1930.9,2,   2.5458,2,  34.6679,2,  34.6657,2,    177.2,2,    177.2,2,    78.68,2,    32.04,2,     0.00,2,     2.25,2,    0.186,2,    0.085,2,   0.0400,2,   2251.2,2,   2343.1,2,   7.5904,2,    25.02,2,     -999,9,   2.5472,2,     -999,9,     -999,9,     -999,9,     -999,9,     -999,1,   4.9747,1,   0.0115,1,     20.5,2,     -999,9,     -999,9,     -999,9,     -999,9,20230825,0500, -33.8472,  57.0647,-999          ,9,-999          ,9
33RR20230722  ,I05        ,127     ,  1,9          ,9          ,2,20230825,0403, -33.8472,  57.0647,     4637,   2163.1,2,   2.3506,2,  34.7033,2,  34.7028,2,    181.1,2,    180.9,2,    86.38,2,    31.55,2,     0.00,2,     2.19,2,     -999,9,     -999,9,     -999,9,   -999.0,9,     -999,9,     -999,9,     -999,9,     -999,9,   2.3497,2,     -999,9,     -999,9,     -999,9,     -999,9,     -999,1,   4.9747,1,   0.0123,1,     -999,9,     -999,9,     -999,9,     -999,9,     -999,9,20230825,0455, -33.8472,  57.0647,-999          ,9,-999          ,9
33RR20230722  ,I05        ,127     ,  1,8          ,8          ,2,20230825,0403, -33.8472,  57.0647,     4637,   2455.3,2,   2.1476,2,  34.7284,2,  34.7280,2,    184.1,2,    184.3,2,    93.80,2,    31.32,2,     0.00,2,     2.19,2,    0.072,2,    0.034,2,   0.0200,2,   -999.0,9,     -999,9,     -999,9,     -999,9,     -999,9,   2.1472,2,     -999,9,     -999,9,     -999,9,     -999,9,     -999,1,   4.9751,1,   0.0112,1,     19.4,2,     -999,9,     -999,9,     -999,9,     -999,9,20230825,0449, -33.8472,  57.0647,-999          ,9,-999          ,9
33RR20230722  ,I05        ,127     ,  1,7          ,7          ,2,20230825,0403, -33.8472,  57.0647,     4637,   2791.6,2,   1.9222,2,  34.7364,2,  34.7357,2,    186.7,2,    186.4,2,   102.10,2,    31.43,2,     0.00,2,     2.21,2,    0.058,2,    0.029,2,   0.0200,2,   2265.5,2,   2367.4,2,   7.6134,2,    25.02,2,     -999,9,   1.9216,2,     -999,9,     -999,9,     -999,9,     -999,9,     -999,1,   4.9754,1,   0.0110,1,     19.1,2,     -999,9,     -999,9,     -999,9,     -999,9,20230825,0442, -33.8472,  57.0647,-999          ,9,-999          ,9
33RR20230722  ,I05        ,127     ,  1,6          ,6          ,2,20230825,0403, -33.8472,  57.0647,     4637,   3175.7,2,   1.6106,2,  34.7330,2,  34.7323,2,    194.7,2,    194.6,2,   107.17,2,    31.31,2,     0.00,2,     2.20,2,    0.105,2,    0.047,2,   0.0500,2,   2263.4,2,   2365.8,2,   7.6167,6,    25.02,2,     -999,9,   1.6103,2,     -999,9,     -999,9,     -999,9,     -999,9,     -999,1,   4.9757,1,   0.0112,1,     18.7,2,     -999,9,     -999,9,     -999,9,     -999,9,20230825,0435, -33.8472,  57.0647,-999          ,9,-999          ,9
33RR20230722  ,I05        ,127     ,  1,5          ,5          ,2,20230825,0403, -33.8472,  57.0647,     4637,   3584.7,2,   1.1647,2,  34.7178,2,  34.7164,2,    206.2,2,    206.6,2,   113.42,2,    31.31,2,     0.00,2,     2.18,2,    0.179,2,    0.094,2,   0.0500,2,   2256.3,2,   2360.5,6,   7.6137,2,    24.99,2,     -999,9,   1.1648,2,     -999,9,     -999,9,     -999,9,     -999,9,     -999,1,   4.9758,1,   0.0111,1,     18.1,2,     -999,9,     -999,9,     -999,9,     -999,9,20230825,0427, -33.8472,  57.0647,-999          ,9,-999          ,9
33RR20230722  ,I05        ,127     ,  1,4          ,37         ,2,20230825,0403, -33.8472,  57.0647,     4637,   3993.1,2,   0.7898,2,  34.6991,2,  34.6973,2,    212.9,2,    213.1,2,   123.77,2,    31.80,2,     0.00,2,     2.22,2,     -999,9,     -999,9,     -999,9,   -999.0,9,     -999,9,     -999,9,     -999,9,     -999,9,   0.7894,2,     -999,9,     -999,9,     -999,9,     -999,9,     -999,1,   4.9760,1,   0.0112,1,     -999,9,     -999,9,     -999,9,     -999,9,     -999,9,20230825,0419, -33.8472,  57.0647,-999          ,9,-999          ,9
33RR20230722  ,I05        ,127     ,  1,3          ,3          ,2,20230825,0403, -33.8472,  57.0647,     4637,   4340.8,2,   0.6832,2,  34.6918,2,  34.6910,2,    215.0,2,    215.2,2,   128.36,2,    32.02,2,     0.00,2,     2.24,2,    0.309,2,    0.144,2,   0.0800,2,   2260.0,2,   2359.1,2,   7.6072,6,    25.01,2,     -999,9,   0.6808,2,     -999,9,     -999,9,     -999,9,     -999,9,     -999,1,   4.9763,1,   0.0112,1,     17.9,2,     -999,9,     -999,9,     -999,9,     -999,9,20230825,0412, -33.8472,  57.0647,-999          ,9,-999          ,9
33RR20230722  ,I05        ,127     ,  1,2          ,2          ,2,20230825,0403, -33.8472,  57.0647,     4637,   4572.1,2,   0.6131,2,  34.6873,2,  34.6869,2,    216.4,2,    216.7,2,   130.90,2,    32.15,2,     0.00,2,     2.24,2,    0.321,2,    0.151,2,   0.0600,2,   -999.0,9,     -999,9,     -999,9,     -999,9,     -999,9,   0.6134,2,     -999,9,     -999,9,     -999,9,     -999,9,     -999,1,   4.9067,1,   0.0112,1,     17.7,2,     -999,9,     -999,9,     -999,9,     -999,9,20230825,0407, -33.8472,  57.0647,-999          ,9,-999          ,9
33RR20230722  ,I05        ,127     ,  1,1          ,1          ,2,20230825,0403, -33.8472,  57.0647,     4637,   4711.4,2,   0.6246,2,  34.6867,2,  34.6871,2,    216.9,2,    216.6,2,   131.38,2,    32.20,2,     0.00,2,     2.24,2,    0.335,2,    0.151,2,   0.0800,2,   2262.7,6,   2360.3,2,   7.6063,2,    25.03,2,     -999,9,   0.6238,2,     -999,9,     -999,9,     -999,9,     -999,9,     -999,1,   0.4963,1,   0.0111,1,     17.8,2,     -999,9,     -999,9,     -999,9,     -999,9,20230825,0403, -33.8472,  57.0647,-999          ,9,-999          ,9