BOTTLE,20240422CCHHYDRO
EXPOCODE,SECT_ID,STNNBR,CASTNO,SAMPNO,BTLNBR,BTLNBR_FLAG_W,DATE,TIME,LATITUDE,LONGITUDE,DEPTH,CTDPRS,CTDPRS_FLAG_W,CTDTMP,CTDTMP_FLAG_W,CTDSAL,CTDSAL_FLAG_W,SALNTY,SALNTY_FLAG_W,CTDOXY,CTDOXY_FLAG_W,OXYGEN,OXYGEN_FLAG_W,SILCAT,SILCAT_FLAG_W,NITRAT,NITRAT_FLAG_W,NITRIT,NITRIT_FLAG_W,PHSPHT,PHSPHT_FLAG_W,CFC-11,CFC-11_FLAG_W,CFC-12,CFC-12_FLAG_W,SF6,SF6_FLAG_W,TCARBN,TCARBN_FLAG_W,ALKALI,ALKALI_FLAG_W,PH_TOT,PH_TOT_FLAG_W,PH_TMP,PH_TMP_FLAG_W,DOC,DOC_FLAG_W,REFTMP,REFTMP_FLAG_W,POC,POC_FLAG_W,PON,PON_FLAG_W,POP,POP_FLAG_W,DOP,DOP_FLAG_W,DELO18,DELO18_FLAG_W,CTDFLUOR,CTDFLUOR_FLAG_W,CTDXMISS,CTDXMISS_FLAG_W,N2O,N2O_FLAG_W,D15N_NO3,D15N_NO3_FLAG_W,D15N_NO2+NO3,D15N_NO2+NO3_FLAG_W,D18O_NO2+NO3,D18O_NO2+NO3_FLAG_W,D18O_NO3,D18O_NO3_FLAG_W,BTL_DATE,BTL_TIME,BTL_LAT,BTL_LON,HPLC,HPLC_FLAG_W,DNA,DNA_FLAG_W
,,,,,,,,,,,METERS,DBAR,,ITS-90,,PSS-78,,PSS-78,,UMOL/KG,,UMOL/KG,,UMOL/KG,,UMOL/KG,,UMOL/KG,,UMOL/KG,,PMOL/KG,,PMOL/KG,,FMOL/KG,,UMOL/KG,,UMOL/KG,,,,DEG C,,UMOL/KG,,ITS-90,,UG/KG,,UG/KG,,UG/L,,UMOL/KG,,/MILLE,,VOLTS,,VOLTS,,NMOL/KG,,/MILLE,,/MILLE,,/MILLE,,/MILLE,,,,,,,,,
33RR20230722  ,I05        ,1       ,  1,5          ,5          ,2,20230722,1345, -32.6931, 114.9764,      114,    100.7,2,  19.1686,2,  35.4728,2,     -999,5,    311.1,3,    223.4,2,     1.95,2,     0.17,2,     0.05,2,     0.16,2,    2.816,6,    1.193,6,   2.1700,6,   2050.8,2,   2329.2,2,   7.9987,2,    25.01,2,     -999,9,  19.1781,2,     -999,9,     -999,9,     -999,9,     -999,9,     -999,1,   0.7094,1,   0.0308,1,      8.2,6,     -999,9,     -999,9,     -999,9,     -999,9,20230722,1349, -32.6931, 114.9764,-999          ,9,-999          ,9
33RR20230722  ,I05        ,1       ,  1,3          ,3          ,2,20230722,1345, -32.6931, 114.9764,      114,    102.4,2,  19.1463,2,  35.4729,2,     -999,9,    246.5,3,     -999,9,     -999,9,     -999,9,     -999,9,     -999,9,     -999,9,     -999,9,     -999,9,   -999.0,9,     -999,9,     -999,9,     -999,9,     -999,9,  19.1228,2,     -999,9,     -999,9,     -999,9,     -999,9,     -999,9,   0.6208,1,   0.0285,1,     -999,9,     -999,9,     -999,9,     -999,9,     -999,9,20230722,1346, -32.6931, 114.9765,-999          ,9,-999          ,9
33RR20230722  ,I05        ,1       ,  1,8          ,8          ,2,20230722,1345, -32.6931, 114.9764,      114,    102.7,2,  19.1829,2,  35.4737,2,     -999,9,    332.3,3,     -999,9,     -999,9,     -999,9,     -999,9,     -999,9,     -999,9,     -999,9,     -999,9,   -999.0,9,     -999,9,     -999,9,     -999,9,     -999,9,     -999,1,     -999,9,     -999,9,     -999,9,     -999,9,     -999,9,   0.5949,1,   0.0269,1,     -999,9,     -999,9,     -999,9,     -999,9,     -999,9,20230722,1350, -32.6931, 114.9764,-999          ,9,-999          ,9
33RR20230722  ,I05        ,1       ,  1,7          ,7          ,2,20230722,1345, -32.6931, 114.9764,      114,    103.1,2,  19.1956,2,  35.4739,2,     -999,9,    315.1,3,     -999,9,     -999,9,     -999,9,     -999,9,     -999,9,     -999,9,     -999,9,     -999,9,   -999.0,9,     -999,9,     -999,9,     -999,9,     -999,9,  19.1970,2,     -999,9,     -999,9,     -999,9,     -999,9,     -999,9,   0.5718,1,   0.0273,1,     -999,9,     -999,9,     -999,9,     -999,9,     -999,9,20230722,1350, -32.6931, 114.9764,-999          ,9,-999          ,9
33RR20230722  ,I05        ,1       ,  1,4          ,4          ,2,20230722,1345, -32.6931, 114.9764,      114,    103.1,2,  19.1484,2,  35.4744,2,     -999,9,    347.1,3,     -999,9,     -999,9,     -999,9,     -999,9,     -999,9,     -999,9,     -999,9,     -999,9,   -999.0,9,     -999,9,     -999,9,     -999,9,     -999,9,  19.1943,2,     -999,9,     -999,9,     -999,9,     -999,9,     -999,9,   0.5804,1,   0.0308,1,     -999,9,     -999,9,     -999,9,     -999,9,     -999,9,20230722,1346, -32.6931, 114.9764,-999          ,9,-999          ,9
33RR20230722  ,I05        ,1       ,  1,6          ,6          ,2,20230722,1345, -32.6931, 114.9764,      114,    103.7,2,  19.1553,2,  35.4742,2,     -999,9,    305.8,3,     -999,9,     -999,9,     -999,9,     -999,9,     -999,9,     -999,9,     -999,9,     -999,9,   -999.0,9,     -999,9,     -999,9,     -999,9,     -999,9,  19.1898,2,     -999,9,     -999,9,     -999,9,     -999,9,     -999,9,   0.5425,1,   0.0277,1,     -999,9,     -999,9,     -999,9,     -999,9,     -999,9,20230722,1350, -32.6931, 114.9764,-999          ,9,-999          ,9
33RR20230722  ,I05        ,1       ,  1,1          ,1          ,2,20230722,1345, -32.6931, 114.9764,      114,    104.8,2,  19.1168,2,  35.4726,2,     -999,5,    233.9,3,    223.9,2,     2.73,2,     0.15,2,     0.04,2,     0.12,2,    2.849,2,    1.202,2,   2.0900,2,   2051.3,2,   2329.0,2,   7.9977,2,    25.13,2,     -999,9,  19.1165,2,     -999,9,     -999,9,     -999,9,     -999,9,     -999,1,   0.5026,1,   0.0303,1,      8.2,2,     -999,9,     -999,9,     -999,9,     -999,9,20230722,1345, -32.6931, 114.9764,-999          ,9,-999          ,9
33RR20230722  ,I05        ,1       ,  1,2          ,2          ,2,20230722,1345, -32.6931, 114.9764,      114,    106.0,2,  19.0965,2,  35.4727,2,     -999,9,    233.4,3,     -999,9,     -999,9,     -999,9,     -999,9,     -999,9,     -999,9,     -999,9,     -999,9,   -999.0,9,     -999,9,     -999,9,     -999,9,     -999,9,  19.1118,2,     -999,9,     -999,9,     -999,9,     -999,9,     -999,9,   0.4380,1,   0.0301,1,     -999,9,     -999,9,     -999,9,     -999,9,     -999,9,20230722,1345, -32.6931, 114.9764,-999          ,9,-999          ,9
33RR20230722  ,I05        ,2       ,  1,15         ,15         ,2,20230722,1555, -32.6644, 114.8474,      207,      3.7,2,  19.4112,2,  35.4889,2,  35.4851,2,    228.2,2,    227.4,2,     3.71,2,     0.01,2,     0.02,2,     0.12,2,    2.903,2,    1.193,6,   2.0700,6,   2044.6,6,   2328.6,2,   8.0084,2,    24.94,2,     -999,9,  19.4118,2,     -999,9,     -999,9,     -999,9,     -999,9,     -999,1,   4.8412,1,   0.0295,1,      8.1,6,     -999,9,     -999,9,     -999,9,     -999,9,20230722,1621, -32.6644, 114.8474,-999          ,9,-999          ,9
33RR20230722  ,I05        ,2       ,  1,14         ,14         ,2,20230722,1555, -32.6644, 114.8474,      207,     15.8,2,  19.1826,2,  35.5141,2,  35.5212,2,    228.8,2,    228.8,2,     3.02,2,     0.01,2,     0.01,2,     0.13,2,     -999,9,     -999,9,     -999,9,   2049.4,2,   2331.4,6,   8.0033,2,    25.03,2,     -999,9,  19.1393,2,     -999,9,     -999,9,     -999,9,     -999,9,     -999,1,   4.9761,1,   0.0283,1,     -999,9,     -999,9,     -999,9,     -999,9,     -999,9,20230722,1619, -32.6644, 114.8473,-999          ,9,-999          ,9
33RR20230722  ,I05        ,2       ,  1,13         ,13         ,2,20230722,1555, -32.6644, 114.8474,      207,     30.8,2,  18.7223,2,  35.5658,2,  35.5661,2,    230.3,2,    231.0,2,     3.51,2,     0.00,2,     0.01,2,     0.09,2,     -999,9,     -999,9,     -999,9,   2052.9,2,   2334.7,2,   7.9982,6,    24.99,2,     -999,9,  18.7102,2,     -999,9,     -999,9,     -999,9,     -999,9,     -999,1,   4.9387,1,   0.0291,1,     -999,9,     -999,9,     -999,9,     -999,9,     -999,9,20230722,1616, -32.6644, 114.8473,-999          ,9,-999          ,9
33RR20230722  ,I05        ,2       ,  1,12         ,12         ,2,20230722,1555, -32.6644, 114.8474,      207,     46.9,2,  18.2984,2,  35.6026,2,  35.6019,2,    232.0,2,    232.4,2,     1.56,2,     0.00,2,     0.01,2,     0.09,2,    3.149,2,    1.242,2,   2.1400,2,   2060.0,2,   2337.6,2,   7.9942,2,    24.90,2,     -999,9,  18.2716,2,     -999,9,     -999,9,     -999,9,     -999,9,     -999,1,   4.9758,1,   0.0283,1,      8.2,2,     -999,9,     -999,9,     -999,9,     -999,9,20230722,1614, -32.6644, 114.8473,-999          ,9,-999          ,9
33RR20230722  ,I05        ,2       ,  1,11         ,11         ,2,20230722,1555, -32.6644, 114.8474,      207,     61.5,2,  17.3831,2,  35.6704,2,  35.6664,2,    235.6,2,    235.4,2,     2.63,2,     0.02,2,     0.03,2,     0.13,2,     -999,9,     -999,9,     -999,9,   2070.2,2,   2343.9,2,   7.9794,2,    25.03,2,     -999,9,  17.3814,2,     -999,9,     -999,9,     -999,9,     -999,9,     -999,1,   4.8368,1,   0.0271,1,     -999,9,     -999,9,     -999,9,     -999,9,     -999,9,20230722,1612, -32.6644, 114.8473,-999          ,9,-999          ,9
33RR20230722  ,I05        ,2       ,  1,10         ,10         ,2,20230722,1555, -32.6644, 114.8474,      207,     77.5,2,  17.1500,2,  35.6828,2,  35.6822,2,    236.4,2,    236.3,2,     2.63,2,     0.04,2,     0.05,2,     0.15,2,     -999,9,     -999,9,     -999,9,   2073.0,2,   2343.7,2,   7.9771,2,    24.86,2,     -999,9,  17.2199,2,     -999,9,     -999,9,     -999,9,     -999,9,     -999,1,   4.7539,1,   0.0256,1,     -999,9,     -999,9,     -999,9,     -999,9,     -999,9,20230722,1610, -32.6644, 114.8473,-999          ,9,-999          ,9
33RR20230722  ,I05        ,2       ,  1,9          ,9          ,2,20230722,1555, -32.6644, 114.8474,      207,     93.2,2,  17.1206,2,  35.6835,2,  35.6832,2,    236.3,2,    236.3,2,     2.24,2,     0.06,2,     0.05,2,     0.14,2,    3.217,2,    1.314,2,   2.2700,2,   2075.1,2,   2341.3,2,   7.9755,2,    25.00,2,     -999,9,  17.1205,2,     -999,9,     -999,9,     -999,9,     -999,9,     -999,1,   4.9491,1,   0.0249,1,      8.6,2,     -999,9,     -999,9,     -999,9,     -999,9,20230722,1608, -32.6644, 114.8473,-999          ,9,-999          ,9
33RR20230722  ,I05        ,2       ,  1,8          ,8          ,2,20230722,1555, -32.6644, 114.8474,      207,    109.4,2,  17.1198,2,  35.6836,2,  35.6836,2,    236.1,2,    236.4,2,     2.44,2,     0.05,2,     0.05,2,     0.15,2,     -999,9,     -999,9,     -999,9,   2075.9,2,   2343.0,2,   7.9742,2,    25.02,2,     -999,9,  17.1189,2,     -999,9,     -999,9,     -999,9,     -999,9,     -999,1,   4.8595,1,   0.0226,1,     -999,9,     -999,9,     -999,9,     -999,9,     -999,9,20230722,1605, -32.6644, 114.8473,-999          ,9,-999          ,9
33RR20230722  ,I05        ,2       ,  1,7          ,7          ,2,20230722,1555, -32.6644, 114.8474,      207,    123.4,2,  17.1218,2,  35.6838,2,  35.6834,2,    236.3,2,    236.0,2,     3.22,2,     0.05,2,     0.05,2,     0.10,2,    3.166,2,    1.314,2,   2.4900,2,   2076.4,2,   2343.2,2,   7.9728,6,    25.02,2,     -999,9,  17.1219,2,     -999,9,     -999,9,     -999,9,     -999,9,     -999,1,   4.1762,1,   0.0225,1,      8.6,2,     -999,9,     -999,9,     -999,9,     -999,9,20230722,1603, -32.6644, 114.8473,-999          ,9,-999          ,9
33RR20230722  ,I05        ,2       ,  1,6          ,6          ,2,20230722,1555, -32.6644, 114.8474,      207,    148.0,2,  17.1345,2,  35.6867,2,  35.6873,2,    236.2,2,    236.5,2,     2.34,2,     0.03,2,     0.06,2,     0.12,2,     -999,9,     -999,9,     -999,9,   2075.1,2,   2343.4,2,   7.9729,2,    25.03,2,     -999,9,  17.1344,2,     -999,9,     -999,9,     -999,9,     -999,9,     -999,1,   2.9670,1,   0.0224,1,     -999,9,     -999,9,     -999,9,     -999,9,     -999,9,20230722,1601, -32.6644, 114.8473,-999          ,9,-999          ,9
33RR20230722  ,I05        ,2       ,  1,5          ,5          ,2,20230722,1555, -32.6644, 114.8474,      207,    173.4,2,  17.0286,2,  35.6829,2,  35.6830,2,    235.1,2,    235.1,2,     2.34,2,     0.12,2,     0.08,2,     0.12,2,    3.320,2,    1.320,2,   2.3000,2,   2078.2,2,   2342.9,2,   7.9688,2,    25.16,2,     -999,9,  17.0705,2,     -999,9,     -999,9,     -999,9,     -999,9,     -999,1,   1.7160,1,   0.0192,1,      8.6,2,     -999,9,     -999,9,     -999,9,     -999,9,20230722,1559, -32.6644, 114.8473,-999          ,9,-999          ,9
33RR20230722  ,I05        ,2       ,  1,1          ,1          ,2,20230722,1555, -32.6644, 114.8474,      207,    197.8,2,  16.9507,2,  35.6900,2,  35.6925,2,    234.8,2,    234.5,2,     2.34,2,     0.24,2,     0.10,2,     0.13,2,    3.267,2,    1.338,2,   2.2300,2,   2082.6,2,   2344.2,2,   7.9632,2,    25.10,2,     -999,9,  16.9450,2,     -999,9,     -999,9,     -999,9,     -999,9,     -999,1,   0.5051,1,   0.0193,1,      8.7,2,     -999,9,     -999,9,     -999,9,     -999,9,20230722,1555, -32.6644, 114.8473,-999          ,9,-999          ,9
33RR20230722  ,I05        ,2       ,  1,2          ,2          ,2,20230722,1555, -32.6644, 114.8474,      207,    198.4,2,  16.9548,2,  35.6901,2,     -999,9,    234.8,2,     -999,9,     -999,9,     -999,9,     -999,9,     -999,9,     -999,9,     -999,9,     -999,9,   -999.0,9,     -999,9,     -999,9,     -999,9,     -999,9,  16.9447,2,     -999,9,     -999,9,     -999,9,     -999,9,     -999,9,   0.4802,1,   0.0175,1,     -999,9,     -999,9,     -999,9,     -999,9,     -999,9,20230722,1556, -32.6644, 114.8473,-999          ,9,-999          ,9
33RR20230722  ,I05        ,2       ,  1,4          ,4          ,2,20230722,1555, -32.6644, 114.8474,      207,    198.7,2,  16.9476,2,  35.6912,2,     -999,9,    234.8,2,     -999,9,     -999,9,     -999,9,     -999,9,     -999,9,     -999,9,     -999,9,     -999,9,   -999.0,9,     -999,9,     -999,9,     -999,9,     -999,9,  16.9523,2,     -999,9,     -999,9,     -999,9,     -999,9,     -999,1,   0.4650,1,   0.0175,1,     -999,9,     -999,9,     -999,9,     -999,9,     -999,9,20230722,1556, -32.6644, 114.8474,-999          ,9,-999          ,9
33RR20230722  ,I05        ,2       ,  1,3          ,3          ,2,20230722,1555, -32.6644, 114.8474,      207,    199.7,2,  16.9421,2,  35.6924,2,     -999,9,    234.9,2,     -999,9,     -999,9,     -999,9,     -999,9,     -999,9,     -999,9,     -999,9,     -999,9,   -999.0,9,     -999,9,     -999,9,     -999,9,     -999,9,  16.9447,2,     -999,9,     -999,9,     -999,9,     -999,9,     -999,9,   0.4198,1,   0.0176,1,     -999,9,     -999,9,     -999,9,     -999,9,     -999,9,20230722,1556, -32.6644, 114.8473,-999          ,9,-999          ,9