BOTTLE,20240422CCHHYDRO
EXPOCODE,SECT_ID,STNNBR,CASTNO,SAMPNO,BTLNBR,BTLNBR_FLAG_W,DATE,TIME,LATITUDE,LONGITUDE,DEPTH,CTDPRS,CTDPRS_FLAG_W,CTDTMP,CTDTMP_FLAG_W,CTDSAL,CTDSAL_FLAG_W,SALNTY,SALNTY_FLAG_W,CTDOXY,CTDOXY_FLAG_W,OXYGEN,OXYGEN_FLAG_W,SILCAT,SILCAT_FLAG_W,NITRAT,NITRAT_FLAG_W,NITRIT,NITRIT_FLAG_W,PHSPHT,PHSPHT_FLAG_W,CFC-11,CFC-11_FLAG_W,CFC-12,CFC-12_FLAG_W,SF6,SF6_FLAG_W,TCARBN,TCARBN_FLAG_W,ALKALI,ALKALI_FLAG_W,PH_TOT,PH_TOT_FLAG_W,PH_TMP,PH_TMP_FLAG_W,DOC,DOC_FLAG_W,REFTMP,REFTMP_FLAG_W,POC,POC_FLAG_W,PON,PON_FLAG_W,POP,POP_FLAG_W,DOP,DOP_FLAG_W,DELO18,DELO18_FLAG_W,CTDFLUOR,CTDFLUOR_FLAG_W,CTDXMISS,CTDXMISS_FLAG_W,N2O,N2O_FLAG_W,D15N_NO3,D15N_NO3_FLAG_W,D15N_NO2+NO3,D15N_NO2+NO3_FLAG_W,D18O_NO2+NO3,D18O_NO2+NO3_FLAG_W,D18O_NO3,D18O_NO3_FLAG_W,BTL_DATE,BTL_TIME,BTL_LAT,BTL_LON,HPLC,HPLC_FLAG_W,DNA,DNA_FLAG_W
,,,,,,,,,,,METERS,DBAR,,ITS-90,,PSS-78,,PSS-78,,UMOL/KG,,UMOL/KG,,UMOL/KG,,UMOL/KG,,UMOL/KG,,UMOL/KG,,PMOL/KG,,PMOL/KG,,FMOL/KG,,UMOL/KG,,UMOL/KG,,,,DEG C,,UMOL/KG,,ITS-90,,UG/KG,,UG/KG,,UG/L,,UMOL/KG,,/MILLE,,VOLTS,,VOLTS,,NMOL/KG,,/MILLE,,/MILLE,,/MILLE,,/MILLE,,,,,,,,,
33RR20230722  ,I05        ,147     ,  2,36         ,38         ,2,20230830,0749, -33.6104,  49.1989,     4178,      3.1,2,  17.2594,2,  35.6262,2,  35.6263,2,    242.0,2,    241.1,2,     2.05,2,     0.13,2,     0.03,2,     0.14,2,    0.000,4,    1.326,2,   2.3000,2,   2077.8,6,   2332.9,2,   7.9601,2,    25.01,2,     -999,1,  17.2617,2,     -999,9,     -999,9,     -999,9,     -999,9,     -999,1,   4.9711,1,   0.0254,1,      8.0,2,     -999,9,     -999,9,     -999,9,     -999,9,20230830,0942, -33.6104,  49.1989,-999          ,9,-999          ,9
33RR20230722  ,I05        ,147     ,  2,35         ,35         ,2,20230830,0749, -33.6104,  49.1989,     4178,     27.0,2,  17.2218,2,  35.6252,2,  35.6253,2,    242.0,2,    241.2,2,     1.85,2,     0.09,2,     0.03,2,     0.13,2,    0.000,4,    1.358,2,   2.2600,2,   -999.0,9,     -999,9,     -999,9,     -999,9,     -999,9,  17.2231,2,     -999,9,     -999,9,     -999,9,     -999,9,     -999,1,   4.9180,1,   0.0391,1,      7.8,2,     -999,9,     -999,9,     -999,9,     -999,9,20230830,0940, -33.6104,  49.1989,-999          ,9,-999          ,9
33RR20230722  ,I05        ,147     ,  2,34         ,34         ,2,20230830,0749, -33.6104,  49.1989,     4178,     45.1,2,  17.1056,2,  35.6180,2,  35.6196,2,    239.4,2,    239.7,2,     1.95,2,     0.30,2,     0.06,2,     0.15,2,     -999,9,     -999,9,     -999,9,   -999.0,9,     -999,9,     -999,9,     -999,9,     -999,9,  17.1049,2,     -999,9,     -999,9,     -999,9,     -999,9,     -999,1,   4.9303,1,   0.0450,1,     -999,9,     -999,9,     -999,9,     -999,9,     -999,9,20230830,0938, -33.6104,  49.1989,-999          ,9,-999          ,9
33RR20230722  ,I05        ,147     ,  2,33         ,33         ,2,20230830,0749, -33.6104,  49.1989,     4178,     63.8,2,  17.0840,2,  35.6181,2,  35.6182,2,    240.5,2,    240.0,2,     1.95,2,     0.35,2,     0.07,2,     0.15,2,    0.000,4,    1.346,2,   2.1400,2,   2080.0,2,   2333.1,2,   7.9545,2,    25.02,2,     -999,9,  17.0801,2,     -999,9,     -999,9,     -999,9,     -999,9,     -999,1,   4.8317,1,   0.0458,1,      7.2,2,     -999,9,     -999,9,     -999,9,     -999,9,20230830,0937, -33.6104,  49.1989,-999          ,9,-999          ,9
33RR20230722  ,I05        ,147     ,  2,32         ,32         ,2,20230830,0749, -33.6104,  49.1989,     4178,     86.3,2,  16.8224,2,  35.6199,2,  35.6196,2,    238.5,2,    238.4,2,     2.05,2,     0.63,2,     0.15,2,     0.17,2,     -999,9,     -999,9,     -999,9,   -999.0,9,     -999,9,     -999,9,     -999,9,     -999,9,  16.8232,2,     -999,9,     -999,9,     -999,9,     -999,9,     -999,1,   4.9735,1,   0.0275,1,     -999,9,     -999,9,     -999,9,     -999,9,     -999,9,20230830,0935, -33.6104,  49.1990,-999          ,9,-999          ,9
33RR20230722  ,I05        ,147     ,  2,31         ,31         ,2,20230830,0749, -33.6104,  49.1989,     4178,    110.6,2,  16.6018,2,  35.5916,2,  35.5886,2,    230.6,2,    231.6,2,     2.15,2,     1.70,2,     0.17,2,     0.23,2,   -2.015,4,    1.426,2,   2.2500,2,   -999.0,9,     -999,9,     -999,9,     -999,9,     -999,9,  16.5846,2,     -999,9,     -999,9,     -999,9,     -999,9,     -999,1,   4.9718,1,   0.0184,1,      8.2,2,     -999,9,     -999,9,     -999,9,     -999,9,20230830,0933, -33.6104,  49.1990,-999          ,9,-999          ,9
33RR20230722  ,I05        ,147     ,  2,30         ,30         ,2,20230830,0749, -33.6104,  49.1989,     4178,    136.4,2,  15.9004,2,  35.5095,2,  35.5089,2,    219.3,2,    220.1,2,     2.83,2,     4.13,2,     0.02,2,     0.38,2,     -999,9,     -999,9,     -999,9,   -999.0,9,     -999,9,     -999,9,     -999,9,     -999,9,  15.8796,2,     -999,9,     -999,9,     -999,9,     -999,9,     -999,1,   4.9695,1,   0.0129,1,     -999,9,     -999,9,     -999,9,     -999,9,     -999,9,20230830,0932, -33.6104,  49.1989,-999          ,9,-999          ,9
33RR20230722  ,I05        ,147     ,  2,29         ,29         ,2,20230830,0749, -33.6104,  49.1989,     4178,    160.5,2,  15.4008,2,  35.4598,2,  35.4580,2,    215.4,2,    216.7,2,     3.22,2,     5.46,2,     0.01,2,     0.47,2,    0.000,4,    1.501,2,   2.2200,2,   2110.1,2,   2324.2,2,   7.8795,2,    25.01,2,     -999,9,  15.3881,2,     -999,9,     -999,9,     -999,9,     -999,9,     -999,1,   4.9684,1,   0.0114,1,      9.3,2,     -999,9,     -999,9,     -999,9,     -999,9,20230830,0930, -33.6104,  49.1990,-999          ,9,-999          ,9
33RR20230722  ,I05        ,147     ,  2,28         ,28         ,2,20230830,0749, -33.6104,  49.1989,     4178,    185.0,2,  15.0098,2,  35.4257,2,  35.4198,2,    218.3,2,    218.5,2,     3.12,2,     5.87,2,     0.00,2,     0.48,2,     -999,9,     -999,9,     -999,9,   -999.0,9,     -999,9,     -999,9,     -999,9,     -999,9,  15.0061,2,     -999,9,     -999,9,     -999,9,     -999,9,     -999,1,   4.9244,1,   0.0116,1,     -999,9,     -999,9,     -999,9,     -999,9,     -999,9,20230830,0929, -33.6104,  49.1989,-999          ,9,-999          ,9
33RR20230722  ,I05        ,147     ,  2,27         ,27         ,2,20230830,0749, -33.6104,  49.1989,     4178,    211.8,2,  14.6071,2,  35.3841,2,  35.3790,2,    217.1,2,    218.0,2,     3.41,2,     6.68,2,     0.00,2,     0.54,2,    0.000,4,    1.504,2,   2.2000,2,   2118.8,2,   2320.5,2,   7.8604,2,    25.02,2,     -999,9,  14.5814,2,     -999,9,     -999,9,     -999,9,     -999,9,     -999,1,   4.7971,1,   0.0114,1,      9.9,2,     -999,9,     -999,9,     -999,9,     -999,9,20230830,0927, -33.6104,  49.1990,-999          ,9,-999          ,9
33RR20230722  ,I05        ,147     ,  2,26         ,26         ,2,20230830,0749, -33.6104,  49.1989,     4178,    243.8,2,  14.3394,2,  35.3662,2,  35.3677,2,    221.2,2,    221.0,2,     3.22,2,     6.61,2,     0.00,2,     0.54,2,     -999,9,     -999,9,     -999,9,   -999.0,9,     -999,9,     -999,9,     -999,9,     -999,9,  14.3472,2,     -999,9,     -999,9,     -999,9,     -999,9,     -999,1,   4.8422,1,   0.0119,1,     -999,9,     -999,9,     -999,9,     -999,9,     -999,9,20230830,0926, -33.6104,  49.1989,-999          ,9,-999          ,9
33RR20230722  ,I05        ,147     ,  2,25         ,25         ,2,20230830,0749, -33.6104,  49.1989,     4178,    282.0,2,  13.9259,2,  35.3077,2,  35.3060,2,    216.5,2,    217.0,2,     3.80,2,     8.04,2,     0.00,2,     0.63,2,   -5.191,4,    1.521,6,   2.1300,6,   2122.9,2,   2317.0,2,   7.8429,2,    25.02,2,     -999,9,  13.9310,2,     -999,9,     -999,9,     -999,9,     -999,9,     -999,1,   4.9463,1,   0.0116,1,     10.1,6,     -999,9,     -999,9,     -999,9,     -999,9,20230830,0924, -33.6104,  49.1989,-999          ,9,-999          ,9
33RR20230722  ,I05        ,147     ,  2,24         ,24         ,2,20230830,0749, -33.6104,  49.1989,     4178,    326.9,2,  13.4929,2,  35.2621,2,  35.2597,2,    220.3,2,    220.7,2,     3.80,2,     8.61,2,     0.00,2,     0.65,2,     -999,9,     -999,9,     -999,9,   -999.0,9,     -999,9,     -999,9,     -999,9,     -999,9,  13.4990,2,     -999,9,     -999,9,     -999,9,     -999,9,     -999,1,   4.6754,1,   0.0116,1,     -999,9,     -999,9,     -999,9,     -999,9,     -999,9,20230830,0922, -33.6104,  49.1989,-999          ,9,-999          ,9
33RR20230722  ,I05        ,147     ,  2,23         ,23         ,2,20230830,0749, -33.6104,  49.1989,     4178,    370.6,2,  13.1982,2,  35.2348,2,  35.2373,2,    227.1,2,    226.7,2,     3.41,2,     8.55,2,     0.00,2,     0.65,2,   -0.877,4,    1.697,2,   2.2100,2,   2124.9,2,   2313.9,2,   7.8362,2,    25.00,2,     -999,9,  13.1899,2,     -999,9,     -999,9,     -999,9,     -999,9,     -999,1,   4.8074,1,   0.0114,1,     10.5,2,     -999,9,     -999,9,     -999,9,     -999,9,20230830,0921, -33.6104,  49.1990,-999          ,9,-999          ,9
33RR20230722  ,I05        ,147     ,  2,22         ,22         ,2,20230830,0749, -33.6104,  49.1989,     4178,    420.8,2,  12.8335,2,  35.1848,2,  35.1821,2,    227.3,2,    226.7,2,     3.90,2,     9.52,2,     0.00,2,     0.72,2,    2.049,4,    1.653,2,   2.2300,2,   -999.0,9,     -999,9,     -999,9,     -999,9,     -999,9,  12.8381,2,     -999,9,     -999,9,     -999,9,     -999,9,     -999,1,   4.9675,1,   0.0115,1,     10.3,2,     -999,9,     -999,9,     -999,9,     -999,9,20230830,0919, -33.6104,  49.1989,-999          ,9,-999          ,9
33RR20230722  ,I05        ,147     ,  2,21         ,21         ,2,20230830,0749, -33.6104,  49.1989,     4178,    486.3,2,  12.1291,2,  35.0771,2,  35.0756,2,    225.9,2,    224.8,2,     4.10,2,    11.29,2,     0.00,2,     0.82,2,   -0.641,4,    1.726,2,   2.0900,2,   2131.6,2,   2306.5,2,   7.8082,2,    24.99,2,     -999,9,  12.1464,2,     -999,9,     -999,9,     -999,9,     -999,9,     -999,1,   4.8280,1,   0.0116,1,     10.8,2,     -999,9,     -999,9,     -999,9,     -999,9,20230830,0916, -33.6104,  49.1989,-999          ,9,-999          ,9
33RR20230722  ,I05        ,147     ,  2,20         ,20         ,2,20230830,0749, -33.6104,  49.1989,     4178,    566.6,2,  11.3904,2,  34.9635,2,  34.9620,2,    222.2,2,    222.3,2,     4.98,2,    13.24,2,     0.00,2,     0.95,2,     -999,9,     -999,9,     -999,9,   -999.0,9,     -999,9,     -999,9,     -999,9,     -999,9,  11.3896,2,     -999,9,     -999,9,     -999,9,     -999,9,     -999,1,   4.6623,1,   0.0112,1,     -999,9,     -999,9,     -999,9,     -999,9,     -999,9,20230830,0914, -33.6104,  49.1989,-999          ,9,-999          ,9
33RR20230722  ,I05        ,147     ,  2,19         ,19         ,2,20230830,0749, -33.6104,  49.1989,     4178,    663.3,2,  10.3280,2,  34.8181,2,  34.8182,2,    219.4,2,    219.3,2,     6.34,2,    15.94,2,     0.00,2,     1.13,2,   -0.594,4,    1.811,2,   1.6800,2,   2142.9,2,   2294.8,2,   7.7602,2,    24.99,2,     -999,9,  10.3041,2,     -999,9,     -999,9,     -999,9,     -999,9,     -999,1,   4.9667,1,   0.0112,1,     12.4,2,     -999,9,     -999,9,     -999,9,     -999,9,20230830,0911, -33.6104,  49.1989,-999          ,9,-999          ,9
33RR20230722  ,I05        ,147     ,  2,18         ,18         ,2,20230830,0749, -33.6104,  49.1989,     4178,    772.2,2,   8.9875,2,  34.6623,2,  34.6600,2,    213.2,2,    213.2,2,    10.15,2,    19.76,2,     0.00,2,     1.36,2,   -0.523,4,    1.712,2,   1.5500,2,   -999.0,9,     -999,9,     -999,9,     -999,9,     -999,9,   8.9849,2,     -999,9,     -999,9,     -999,9,     -999,9,     -999,1,   4.9675,1,   0.0113,1,     14.3,2,     -999,9,     -999,9,     -999,9,     -999,9,20230830,0909, -33.6104,  49.1990,-999          ,9,-999          ,9
33RR20230722  ,I05        ,147     ,  2,17         ,17         ,2,20230830,0749, -33.6104,  49.1989,     4178,    887.4,2,   7.5828,2,  34.5297,2,  34.5292,2,    207.7,2,    208.2,2,    15.52,2,    23.69,2,     0.00,2,     1.63,2,    0.000,4,    1.721,2,   1.3900,2,   2169.5,2,   2288.7,2,   7.6783,6,    25.02,2,     -999,9,   7.5783,2,     -999,9,     -999,9,     -999,9,     -999,9,     -999,1,   4.7515,1,   0.0111,1,     15.7,2,     -999,9,     -999,9,     -999,9,     -999,9,20230830,0906, -33.6104,  49.1989,-999          ,9,-999          ,9
33RR20230722  ,I05        ,147     ,  2,16         ,16         ,2,20230830,0749, -33.6104,  49.1989,     4178,   1006.6,2,   5.8913,2,  34.4017,2,  34.4025,2,    207.1,2,    207.4,2,    23.33,2,    27.61,2,     0.00,2,     1.91,2,     -999,9,     -999,9,     -999,9,   -999.0,9,     -999,9,     -999,9,     -999,9,     -999,9,   5.8922,2,     -999,9,     -999,9,     -999,9,     -999,9,     -999,1,   4.9694,1,   0.0114,1,     -999,9,     -999,9,     -999,9,     -999,9,     -999,9,20230830,0902, -33.6104,  49.1989,-999          ,9,-999          ,9
33RR20230722  ,I05        ,147     ,  2,15         ,15         ,2,20230830,0749, -33.6104,  49.1989,     4178,   1128.7,2,   4.8483,2,  34.3763,2,  34.3768,2,    201.4,2,    202.0,2,    33.09,2,    30.07,2,     0.00,2,     2.07,2,    4.120,4,    1.280,2,   0.9600,2,   2201.9,2,   2295.9,2,   7.6157,2,    25.02,2,     -999,9,   4.8484,2,     -999,9,     -999,9,     -999,9,     -999,9,     -999,1,   4.9705,1,   0.0112,1,     18.8,2,     -999,9,     -999,9,     -999,9,     -999,9,20230830,0859, -33.6104,  49.1989,-999          ,9,-999          ,9
33RR20230722  ,I05        ,147     ,  2,14         ,14         ,2,20230830,0749, -33.6104,  49.1989,     4178,   1255.5,2,   4.1921,2,  34.4061,2,  34.4072,2,    190.4,2,    190.7,2,    42.85,2,    31.81,2,     0.00,2,     2.19,2,    0.000,4,    0.997,2,   0.6100,2,   -999.0,9,     -999,9,     -999,9,     -999,9,     -999,9,   4.1936,2,     -999,9,     -999,9,     -999,9,     -999,9,     -999,1,   4.6896,1,   0.0111,1,     20.2,2,     -999,9,     -999,9,     -999,9,     -999,9,20230830,0855, -33.6104,  49.1990,-999          ,9,-999          ,9
33RR20230722  ,I05        ,147     ,  2,13         ,13         ,2,20230830,0749, -33.6104,  49.1989,     4178,   1399.1,2,   3.5585,2,  34.4773,2,  34.4783,2,    179.3,2,    179.0,2,    56.12,2,    33.10,2,     0.00,2,     2.30,2,   -0.688,4,    0.588,2,   0.3600,2,   -999.0,9,     -999,9,     -999,9,     -999,9,     -999,9,   3.5615,2,     -999,9,     -999,9,     -999,9,     -999,9,     -999,1,   4.9741,1,   0.0115,1,     20.8,2,     -999,9,     -999,9,     -999,9,     -999,9,20230830,0851, -33.6104,  49.1989,-999          ,9,-999          ,9
33RR20230722  ,I05        ,147     ,  2,12         ,12         ,2,20230830,0749, -33.6104,  49.1989,     4178,   1544.5,2,   3.1438,2,  34.5512,2,  34.5518,2,    176.4,2,    175.9,2,    64.51,2,    33.13,2,     0.00,2,     2.29,2,     -999,9,     -999,9,     -999,9,   2242.3,2,   2327.1,6,   7.5783,2,    25.00,2,     -999,9,   3.1482,2,     -999,9,     -999,9,     -999,9,     -999,9,     -999,1,   4.9735,1,   0.0112,1,     -999,9,     -999,9,     -999,9,     -999,9,     -999,9,20230830,0847, -33.6104,  49.1990,-999          ,9,-999          ,9
33RR20230722  ,I05        ,147     ,  2,11         ,11         ,2,20230830,0749, -33.6104,  49.1989,     4178,   1686.1,2,   2.8868,2,  34.6086,2,  34.6075,2,    177.5,2,    177.2,2,    69.49,2,    32.69,2,     0.00,2,     2.26,2,    0.067,4,    0.240,2,   0.1400,2,   -999.0,9,     -999,9,     -999,9,     -999,9,     -999,9,   2.8880,2,     -999,9,     -999,9,     -999,9,     -999,9,     -999,1,   4.9743,1,   0.0118,1,     21.0,2,     -999,9,     -999,9,     -999,9,     -999,9,20230830,0844, -33.6104,  49.1989,-999          ,9,-999          ,9
33RR20230722  ,I05        ,147     ,  2,10         ,10         ,2,20230830,0749, -33.6104,  49.1989,     4178,   1848.8,2,   2.6766,2,  34.6556,2,  34.6563,2,    180.9,2,    180.8,2,    72.32,2,    32.02,2,     0.00,2,     2.23,2,   -0.638,4,    0.141,2,   0.0600,2,   -999.0,9,     -999,9,     -999,9,     -999,9,     -999,9,   2.6751,2,     -999,9,     -999,9,     -999,9,     -999,9,     -999,1,   4.9370,1,   0.0118,1,     19.8,2,     -999,9,     -999,9,     -999,9,     -999,9,20230830,0840, -33.6104,  49.1990,-999          ,9,-999          ,9
33RR20230722  ,I05        ,147     ,  2,9          ,9          ,2,20230830,0749, -33.6104,  49.1989,     4178,   2055.9,2,   2.4575,2,  34.6957,2,  34.6956,2,    184.8,2,    184.7,2,    79.05,2,    31.43,2,     0.00,2,     2.17,2,    0.259,4,    0.097,2,   0.0300,2,   2248.5,2,   2344.4,2,   7.6054,6,    25.02,2,     -999,9,   2.4567,2,     -999,9,     -999,9,     -999,9,     -999,9,     -999,1,   4.9740,1,   0.0111,1,     19.1,2,     -999,9,     -999,9,     -999,9,     -999,9,20230830,0835, -33.6104,  49.1990,-999          ,9,-999          ,9
33RR20230722  ,I05        ,147     ,  2,8          ,8          ,2,20230830,0749, -33.6104,  49.1989,     4178,   2301.7,2,   2.2377,2,  34.7281,2,  34.7282,2,    190.2,2,    190.4,2,    84.41,2,    30.86,2,     0.00,2,     2.13,2,     -999,9,     -999,9,     -999,9,   -999.0,9,     -999,9,     -999,9,     -999,9,     -999,9,   2.2354,2,     -999,9,     -999,9,     -999,9,     -999,9,     -999,1,   4.8190,1,   0.0112,1,     -999,9,     -999,9,     -999,9,     -999,9,     -999,9,20230830,0829, -33.6104,  49.1990,-999          ,9,-999          ,9
33RR20230722  ,I05        ,147     ,  2,7          ,7          ,2,20230830,0749, -33.6104,  49.1989,     4178,   2588.4,2,   2.0911,2,  34.7522,2,  34.7520,2,    194.6,2,    195.2,2,    88.32,2,    30.38,2,     0.00,2,     2.09,2,    2.005,4,    0.032,2,   0.0600,2,   2252.1,2,   2354.3,2,   7.6264,2,    25.02,2,     -999,9,   2.0902,2,     -999,9,     -999,9,     -999,9,     -999,9,     -999,1,   4.9743,1,   0.0111,1,     18.0,2,     -999,9,     -999,9,     -999,9,     -999,9,20230830,0823, -33.6104,  49.1989,-999          ,9,-999          ,9
33RR20230722  ,I05        ,147     ,  2,6          ,6          ,2,20230830,0749, -33.6104,  49.1989,     4178,   2920.8,2,   1.7424,2,  34.7397,2,  34.7400,2,    195.0,2,    194.9,2,   101.69,2,    31.23,2,     0.00,2,     2.17,2,    1.546,4,    0.037,2,   0.0100,2,   -999.0,9,     -999,9,     -999,9,     -999,9,     -999,9,   1.7437,2,     -999,9,     -999,9,     -999,9,     -999,9,     -999,1,   4.9750,1,   0.0110,1,     18.3,2,     -999,9,     -999,9,     -999,9,     -999,9,20230830,0816, -33.6104,  49.1990,-999          ,9,-999          ,9
33RR20230722  ,I05        ,147     ,  2,5          ,5          ,2,20230830,0749, -33.6104,  49.1989,     4178,   3270.3,2,   1.4194,2,  34.7258,2,  34.7258,2,    198.6,2,    198.9,2,   109.20,2,    31.76,2,     0.00,2,     2.21,2,    0.000,4,    0.050,2,   0.0100,2,   2265.1,2,   2364.9,2,   7.6153,2,    25.00,2,     -999,9,   1.4195,2,     -999,9,     -999,9,     -999,9,     -999,9,     -999,1,   4.8032,1,   0.0113,1,     18.4,2,     -999,9,     -999,9,     -999,9,     -999,9,20230830,0809, -33.6104,  49.1990,-999          ,9,-999          ,9
33RR20230722  ,I05        ,147     ,  2,4          ,37         ,2,20230830,0749, -33.6104,  49.1989,     4178,   3614.6,2,   1.1821,2,  34.7158,2,  34.7158,2,    202.8,2,    203.0,2,   116.81,2,    32.05,2,     0.00,2,     2.23,2,     -999,9,     -999,9,     -999,9,   -999.0,9,     -999,9,     -999,9,     -999,9,     -999,9,   1.1823,2,     -999,9,     -999,9,     -999,9,     -999,9,     -999,1,   4.9757,1,   0.0113,1,     -999,9,     -999,9,     -999,9,     -999,9,     -999,9,20230830,0802, -33.6104,  49.1989,-999          ,9,-999          ,9
33RR20230722  ,I05        ,147     ,  2,3          ,3          ,2,20230830,0749, -33.6104,  49.1989,     4178,   3903.1,2,   1.0679,2,  34.7099,2,  34.7107,2,    205.6,2,    206.0,2,   119.74,2,    32.17,2,     0.00,2,     2.24,2,     -999,5,     -999,5,     -999,5,   2263.0,2,   2363.9,2,   7.6150,2,    25.00,2,     -999,9,   1.0675,2,     -999,9,     -999,9,     -999,9,     -999,9,     -999,1,   4.9757,1,   0.0111,1,     -999,5,     -999,9,     -999,9,     -999,9,     -999,9,20230830,0756, -33.6104,  49.1989,-999          ,9,-999          ,9