BOTTLE,20240422CCHHYDRO
EXPOCODE,SECT_ID,STNNBR,CASTNO,SAMPNO,BTLNBR,BTLNBR_FLAG_W,DATE,TIME,LATITUDE,LONGITUDE,DEPTH,CTDPRS,CTDPRS_FLAG_W,CTDTMP,CTDTMP_FLAG_W,CTDSAL,CTDSAL_FLAG_W,SALNTY,SALNTY_FLAG_W,CTDOXY,CTDOXY_FLAG_W,OXYGEN,OXYGEN_FLAG_W,SILCAT,SILCAT_FLAG_W,NITRAT,NITRAT_FLAG_W,NITRIT,NITRIT_FLAG_W,PHSPHT,PHSPHT_FLAG_W,CFC-11,CFC-11_FLAG_W,CFC-12,CFC-12_FLAG_W,SF6,SF6_FLAG_W,TCARBN,TCARBN_FLAG_W,ALKALI,ALKALI_FLAG_W,PH_TOT,PH_TOT_FLAG_W,PH_TMP,PH_TMP_FLAG_W,DOC,DOC_FLAG_W,REFTMP,REFTMP_FLAG_W,POC,POC_FLAG_W,PON,PON_FLAG_W,POP,POP_FLAG_W,DOP,DOP_FLAG_W,DELO18,DELO18_FLAG_W,CTDFLUOR,CTDFLUOR_FLAG_W,CTDXMISS,CTDXMISS_FLAG_W,N2O,N2O_FLAG_W,D15N_NO3,D15N_NO3_FLAG_W,D15N_NO2+NO3,D15N_NO2+NO3_FLAG_W,D18O_NO2+NO3,D18O_NO2+NO3_FLAG_W,D18O_NO3,D18O_NO3_FLAG_W,BTL_DATE,BTL_TIME,BTL_LAT,BTL_LON,HPLC,HPLC_FLAG_W,DNA,DNA_FLAG_W
,,,,,,,,,,,METERS,DBAR,,ITS-90,,PSS-78,,PSS-78,,UMOL/KG,,UMOL/KG,,UMOL/KG,,UMOL/KG,,UMOL/KG,,UMOL/KG,,PMOL/KG,,PMOL/KG,,FMOL/KG,,UMOL/KG,,UMOL/KG,,,,DEG C,,UMOL/KG,,ITS-90,,UG/KG,,UG/KG,,UG/L,,UMOL/KG,,/MILLE,,VOLTS,,VOLTS,,NMOL/KG,,/MILLE,,/MILLE,,/MILLE,,/MILLE,,,,,,,,,
33RR20230722  ,I05        ,126     ,  1,35         ,35         ,2,20230824,2156, -34.0003,  57.5193,     5230,      7.8,2,  16.8789,2,  35.6060,2,  35.6048,2,    240.8,2,    240.5,2,     1.27,2,     0.08,2,     0.00,2,     0.16,2,     -999,9,     -999,9,     -999,9,   -999.0,9,     -999,9,     -999,9,     -999,9,     -999,1,  16.8788,2,     -999,9,     -999,9,     -999,9,     -999,9,     -999,1,   4.8417,1,   0.0317,1,     -999,9,     -999,9,     -999,9,     -999,9,     -999,9,20230825,0009, -34.0003,  57.5193,-999          ,9,-999          ,9
33RR20230722  ,I05        ,126     ,  1,34         ,34         ,2,20230824,2156, -34.0003,  57.5193,     5230,     26.0,2,  16.8796,2,  35.6067,2,  35.6074,2,    240.6,2,    240.8,2,     1.27,2,     0.03,2,     0.00,2,     0.15,2,     -999,9,     -999,9,     -999,9,   2082.8,2,   2335.4,6,   7.9525,2,    25.00,2,     -999,1,  16.8799,2,     -999,9,     -999,9,     -999,9,     -999,9,     -999,1,   4.9747,1,   0.0319,1,     -999,9,     -999,9,     -999,9,     -999,9,     -999,9,20230825,0007, -34.0003,  57.5193,-999          ,9,-999          ,9
33RR20230722  ,I05        ,126     ,  1,33         ,33         ,2,20230824,2156, -34.0003,  57.5193,     5230,     49.4,2,  16.8947,2,  35.6127,2,  35.6135,2,    240.4,2,    240.6,2,     1.27,2,     0.01,2,     0.00,2,     0.16,2,     -999,9,     -999,9,     -999,9,   2082.9,6,   2337.6,2,   7.9534,2,    25.00,2,     -999,1,  16.8935,2,     -999,9,     -999,9,     -999,9,     -999,9,     -999,1,   4.9745,1,   0.0304,1,     -999,9,     -999,9,     -999,9,     -999,9,     -999,9,20230825,0005, -34.0003,  57.5193,-999          ,9,-999          ,9
33RR20230722  ,I05        ,126     ,  1,32         ,32         ,2,20230824,2156, -34.0003,  57.5193,     5230,     79.1,2,  16.8954,2,  35.6174,2,  35.6175,2,    240.5,2,    240.5,2,     1.07,2,     0.00,2,     0.00,2,     0.15,2,     -999,9,     -999,9,     -999,9,   -999.0,9,     -999,9,     -999,9,     -999,9,     -999,1,  16.8937,2,     -999,9,     -999,9,     -999,9,     -999,9,     -999,1,   4.9742,1,   0.0314,1,     -999,9,     -999,9,     -999,9,     -999,9,     -999,9,20230825,0003, -34.0003,  57.5193,-999          ,9,-999          ,9
33RR20230722  ,I05        ,126     ,  1,31         ,31         ,2,20230824,2156, -34.0003,  57.5193,     5230,    111.8,2,  16.1886,2,  35.5422,2,  35.5468,2,    237.8,2,    238.5,2,     1.37,2,     0.75,2,     0.15,2,     0.21,2,     -999,9,     -999,9,     -999,9,   2092.6,2,   2332.4,2,   7.9306,6,    25.03,2,     -999,1,  16.2010,2,     -999,9,     -999,9,     -999,9,     -999,9,     -999,1,   4.9729,1,   0.0247,1,     -999,9,     -999,9,     -999,9,     -999,9,     -999,9,20230825,0001, -34.0003,  57.5193,-999          ,9,-999          ,9
33RR20230722  ,I05        ,126     ,  1,30         ,30         ,2,20230824,2156, -34.0003,  57.5193,     5230,    147.0,2,  14.8200,2,  35.4288,2,  35.4287,2,    228.5,2,    229.7,2,     2.05,2,     4.24,2,     0.02,2,     0.44,2,     -999,9,     -999,9,     -999,9,   2112.7,2,   2325.7,2,   7.8796,2,    25.00,2,     -999,1,  14.8582,2,     -999,9,     -999,9,     -999,9,     -999,9,     -999,1,   4.9699,1,   0.0166,1,     -999,9,     -999,9,     -999,9,     -999,9,     -999,9,20230824,2359, -34.0003,  57.5193,-999          ,9,-999          ,9
33RR20230722  ,I05        ,126     ,  1,29         ,29         ,2,20230824,2156, -34.0003,  57.5193,     5230,    182.5,2,  14.3819,2,  35.3896,2,  35.3894,2,    229.3,2,    230.1,2,     2.05,2,     5.14,2,     0.01,2,     0.48,2,     -999,9,     -999,9,     -999,9,   2115.9,2,   2322.2,2,   7.8682,2,    25.01,2,     -999,1,  14.3795,2,     -999,9,     -999,9,     -999,9,     -999,9,     -999,1,   4.9695,1,   0.0145,1,     -999,9,     -999,9,     -999,9,     -999,9,     -999,9,20230824,2357, -34.0003,  57.5193,-999          ,9,-999          ,9
33RR20230722  ,I05        ,126     ,  1,28         ,28         ,2,20230824,2156, -34.0003,  57.5193,     5230,    222.3,2,  13.8983,2,  35.3323,2,  35.3299,2,    230.5,2,    231.2,2,     2.34,2,     6.27,2,     0.00,2,     0.55,2,     -999,9,     -999,9,     -999,9,   -999.0,9,     -999,9,     -999,9,     -999,9,     -999,1,  13.8965,2,     -999,9,     -999,9,     -999,9,     -999,9,     -999,1,   4.9692,1,   0.0120,1,     -999,9,     -999,9,     -999,9,     -999,9,     -999,9,20230824,2356, -34.0003,  57.5193,-999          ,9,-999          ,9
33RR20230722  ,I05        ,126     ,  1,27         ,27         ,2,20230824,2156, -34.0003,  57.5193,     5230,    268.5,2,  13.5332,2,  35.2804,2,  35.2787,2,    230.9,2,    230.9,2,     2.54,2,     7.02,2,     0.00,2,     0.60,2,     -999,9,     -999,9,     -999,9,   2120.7,2,   2316.5,2,   7.8462,2,    25.01,2,     -999,1,  13.5240,2,     -999,9,     -999,9,     -999,9,     -999,9,     -999,1,   4.9684,1,   0.0114,1,     -999,9,     -999,9,     -999,9,     -999,9,     -999,9,20230824,2354, -34.0003,  57.5193,-999          ,9,-999          ,9
33RR20230722  ,I05        ,126     ,  1,26         ,26         ,2,20230824,2156, -34.0003,  57.5193,     5230,    321.8,2,  13.2255,2,  35.2430,2,  35.2389,2,    233.2,2,    233.0,2,     2.93,2,     7.91,2,     0.00,2,     0.63,2,     -999,9,     -999,9,     -999,9,   2121.3,2,   2314.9,2,   7.8424,2,    25.00,2,     -999,1,  13.2237,2,     -999,9,     -999,9,     -999,9,     -999,9,     -999,1,   4.9685,1,   0.0116,1,     -999,9,     -999,9,     -999,9,     -999,9,     -999,9,20230824,2352, -34.0003,  57.5193,-999          ,9,-999          ,9
33RR20230722  ,I05        ,126     ,  1,25         ,25         ,2,20230824,2156, -34.0003,  57.5193,     5230,    382.7,2,  12.7145,2,  35.1699,2,  35.1668,2,    231.9,2,    231.6,2,     3.32,2,     9.32,2,     0.00,2,     0.73,2,     -999,9,     -999,9,     -999,9,   2124.6,2,   2312.9,2,   7.8285,2,    25.00,2,     -999,1,  12.7174,2,     -999,9,     -999,9,     -999,9,     -999,9,     -999,1,   4.9679,1,   0.0115,1,     -999,9,     -999,9,     -999,9,     -999,9,     -999,9,20230824,2350, -34.0003,  57.5193,-999          ,9,-999          ,9
33RR20230722  ,I05        ,126     ,  1,24         ,24         ,2,20230824,2156, -34.0003,  57.5193,     5230,    455.9,2,  12.1756,2,  35.0832,2,  35.0827,2,    232.1,2,    231.3,2,     3.61,2,    10.54,2,     0.00,2,     0.81,2,     -999,9,     -999,9,     -999,9,   -999.0,9,     -999,9,     -999,9,     -999,9,     -999,1,  12.1698,2,     -999,9,     -999,9,     -999,9,     -999,9,     -999,1,   4.9676,1,   0.0114,1,     -999,9,     -999,9,     -999,9,     -999,9,     -999,9,20230824,2347, -34.0003,  57.5193,-999          ,9,-999          ,9
33RR20230722  ,I05        ,126     ,  1,23         ,23         ,2,20230824,2156, -34.0003,  57.5193,     5230,    538.4,2,  11.5549,2,  34.9867,2,  34.9848,2,    229.4,2,    228.7,2,     4.10,2,    12.24,2,     0.00,2,     0.91,2,     -999,9,     -999,9,     -999,9,   2133.8,2,   2304.2,2,   7.7978,2,    25.01,2,     -999,1,  11.5536,2,     -999,9,     -999,9,     -999,9,     -999,9,     -999,1,   4.9668,1,   0.0115,1,     -999,9,     -999,9,     -999,9,     -999,9,     -999,9,20230824,2344, -34.0003,  57.5193,-999          ,9,-999          ,9
33RR20230722  ,I05        ,126     ,  1,22         ,22         ,2,20230824,2156, -34.0003,  57.5193,     5230,    538.8,2,  11.5160,2,  34.9814,2,  34.9797,2,    228.6,2,    228.3,2,     4.10,2,    12.38,2,     0.00,2,     0.92,2,     -999,9,     -999,9,     -999,9,   -999.0,9,     -999,9,     -999,9,     -999,9,     -999,1,  11.5114,2,     -999,9,     -999,9,     -999,9,     -999,9,     -999,1,   4.9668,1,   0.0115,1,     -999,9,     -999,9,     -999,9,     -999,9,     -999,9,20230824,2342, -34.0003,  57.5193,-999          ,9,-999          ,9
33RR20230722  ,I05        ,126     ,  1,21         ,21         ,2,20230824,2156, -34.0003,  57.5193,     5230,    631.7,2,  10.6609,2,  34.8568,2,  34.8515,2,    225.4,2,    225.3,2,     4.88,2,    14.65,2,     0.00,2,     1.05,2,     -999,9,     -999,9,     -999,9,   2138.5,2,   2297.5,2,   7.7725,6,    25.02,2,     -999,1,  10.6499,2,     -999,9,     -999,9,     -999,9,     -999,9,     -999,1,   4.9666,1,   0.0114,1,     -999,9,     -999,9,     -999,9,     -999,9,     -999,9,20230824,2339, -34.0003,  57.5193,-999          ,9,-999          ,9
33RR20230722  ,I05        ,126     ,  1,20         ,20         ,2,20230824,2156, -34.0003,  57.5193,     5230,    734.2,2,   9.6792,2,  34.7290,2,  34.7256,2,    219.9,2,    220.5,2,     6.64,2,    17.45,2,     0.00,2,     1.24,2,     -999,9,     -999,9,     -999,9,   -999.0,9,     -999,9,     -999,9,     -999,9,     -999,1,   9.6834,2,     -999,9,     -999,9,     -999,9,     -999,9,     -999,1,   4.9670,1,   0.0114,1,     -999,9,     -999,9,     -999,9,     -999,9,     -999,9,20230824,2336, -34.0003,  57.5193,-999          ,9,-999          ,9
33RR20230722  ,I05        ,126     ,  1,19         ,19         ,2,20230824,2156, -34.0003,  57.5193,     5230,    842.9,2,   8.4934,2,  34.6023,2,  34.6036,2,    209.3,2,    210.4,2,    10.64,2,    21.14,2,     0.00,2,     1.49,2,    2.901,2,    1.736,2,   1.3600,2,   2158.9,2,   2288.9,2,   7.7071,2,    25.03,2,     -999,1,   8.4989,2,     -999,9,     -999,9,     -999,9,     -999,9,     -999,1,   4.9681,1,   0.0113,1,     15.0,2,     -999,9,     -999,9,     -999,9,     -999,9,20230824,2333, -34.0003,  57.5193,-999          ,9,-999          ,9
33RR20230722  ,I05        ,126     ,  1,18         ,18         ,2,20230824,2156, -34.0003,  57.5193,     5230,    957.4,2,   6.5947,2,  34.4475,2,  34.4461,2,    203.2,2,    203.9,2,    19.33,2,    26.26,2,     0.00,2,     1.82,2,     -999,9,     -999,9,     -999,9,   2177.9,2,   2289.2,2,   7.6550,2,    25.00,2,     -999,1,   6.5961,2,     -999,9,     -999,9,     -999,9,     -999,9,     -999,1,   4.9694,1,   0.0112,1,     -999,9,     -999,9,     -999,9,     -999,9,     -999,9,20230824,2330, -34.0003,  57.5193,-999          ,9,-999          ,9
33RR20230722  ,I05        ,126     ,  1,17         ,17         ,2,20230824,2156, -34.0003,  57.5193,     5230,   1078.5,2,   5.4869,2,  34.3818,2,  34.3810,2,    202.8,2,    203.7,2,    26.06,2,    28.75,2,     0.00,2,     1.98,2,    2.416,2,    1.366,2,   0.8300,2,   2192.1,2,   2290.6,2,   7.6293,2,    25.03,2,     -999,1,   5.4713,2,     -999,9,     -999,9,     -999,9,     -999,9,     -999,1,   4.9703,1,   0.0113,1,     18.2,2,     -999,9,     -999,9,     -999,9,     -999,9,20230824,2327, -34.0003,  57.5193,-999          ,9,-999          ,9
33RR20230722  ,I05        ,126     ,  1,16         ,16         ,2,20230824,2156, -34.0003,  57.5193,     5230,   1207.4,2,   4.5762,2,  34.3653,2,  34.3670,2,    198.3,2,    197.7,2,    35.82,2,    30.92,2,     0.00,2,     2.15,2,     -999,9,     -999,9,     -999,9,   -999.0,9,     -999,9,     -999,9,     -999,9,     -999,1,   4.5772,2,     -999,9,     -999,9,     -999,9,     -999,9,     -999,1,   4.9714,1,   0.0112,1,     -999,9,     -999,9,     -999,9,     -999,9,     -999,9,20230824,2324, -34.0003,  57.5193,-999          ,9,-999          ,9
33RR20230722  ,I05        ,126     ,  1,15         ,15         ,2,20230824,2156, -34.0003,  57.5193,     5230,   1347.3,2,   3.7888,2,  34.4193,2,  34.4169,2,    182.6,2,    183.3,2,    49.49,2,    32.87,2,     0.00,2,     2.30,2,    1.328,2,    0.709,2,   0.4300,2,   2227.1,2,   2311.9,2,   7.5840,2,    25.03,2,     -999,1,   3.8027,2,     -999,9,     -999,9,     -999,9,     -999,9,     -999,1,   4.9726,1,   0.0120,1,     21.6,2,     -999,9,     -999,9,     -999,9,     -999,9,20230824,2320, -34.0003,  57.5193,-999          ,9,-999          ,9
33RR20230722  ,I05        ,126     ,  1,14         ,14         ,2,20230824,2156, -34.0003,  57.5193,     5230,   1494.0,2,   3.2857,2,  34.4984,2,  34.4976,2,    171.8,2,    172.0,2,    62.47,2,    33.77,2,     0.00,2,     2.36,2,     -999,9,     -999,9,     -999,9,   2242.3,6,   2324.5,2,   7.5706,2,    25.00,2,     -999,1,   3.2919,2,     -999,9,     -999,9,     -999,9,     -999,9,     -999,1,   4.9738,1,   0.0111,1,     -999,9,     -999,9,     -999,9,     -999,9,     -999,9,20230824,2316, -34.0003,  57.5193,-999          ,9,-999          ,9
33RR20230722  ,I05        ,126     ,  1,13         ,13         ,2,20230824,2156, -34.0003,  57.5193,     5230,   1647.9,2,   2.9762,2,  34.5633,2,  34.5624,2,    170.8,2,    170.8,2,    69.29,2,    33.54,2,     0.00,2,     2.34,2,    0.448,2,    0.242,2,   0.0800,2,   2252.7,2,   2332.3,2,   7.5722,6,    25.01,2,     -999,1,   2.9778,2,     -999,9,     -999,9,     -999,9,     -999,9,     -999,1,   4.9743,1,   0.0119,1,     22.1,2,     -999,9,     -999,9,     -999,9,     -999,9,20230824,2312, -34.0002,  57.5193,-999          ,9,-999          ,9
33RR20230722  ,I05        ,126     ,  1,12         ,12         ,2,20230824,2156, -34.0003,  57.5193,     5230,   1812.7,2,   2.7278,2,  34.6238,2,  34.6240,2,    173.3,2,    173.5,2,    74.95,2,    32.89,2,     0.00,2,     2.30,2,     -999,9,     -999,9,     -999,9,   -999.0,9,     -999,9,     -999,9,     -999,9,     -999,1,   2.7278,2,     -999,9,     -999,9,     -999,9,     -999,9,     -999,1,   4.9746,1,   0.0113,1,     -999,9,     -999,9,     -999,9,     -999,9,     -999,9,20230824,2309, -34.0002,  57.5193,-999          ,9,-999          ,9
33RR20230722  ,I05        ,126     ,  1,11         ,11         ,2,20230824,2156, -34.0003,  57.5193,     5230,   2016.1,2,   2.4944,2,  34.6778,2,  34.6779,2,    178.3,2,    178.5,2,    81.19,2,    32.10,2,     0.00,2,     2.25,2,    0.143,2,    0.075,2,   0.0400,2,   2253.3,2,   2346.4,2,   7.5965,2,    25.03,2,     -999,1,   2.4940,2,     -999,9,     -999,9,     -999,9,     -999,9,     -999,1,   4.9743,1,   0.0118,1,     20.5,2,     -999,9,     -999,9,     -999,9,     -999,9,20230824,2304, -34.0003,  57.5193,-999          ,9,-999          ,9
33RR20230722  ,I05        ,126     ,  1,10         ,10         ,2,20230824,2156, -34.0003,  57.5193,     5230,   2269.8,2,   2.2737,2,  34.7170,2,  34.7170,2,    182.9,2,    183.0,2,    88.71,2,    31.54,2,     0.00,2,     2.22,2,    0.084,2,    0.044,2,   0.0400,2,   2258.7,2,   2354.0,2,   7.6087,2,    25.01,2,     -999,1,   2.2729,2,     -999,9,     -999,9,     -999,9,     -999,9,     -999,1,   4.9747,1,   0.0116,1,     20.0,2,     -999,9,     -999,9,     -999,9,     -999,9,20230824,2258, -34.0003,  57.5193,-999          ,9,-999          ,9
33RR20230722  ,I05        ,126     ,  1,9          ,9          ,2,20230824,2156, -34.0003,  57.5193,     5230,   2574.7,2,   2.0722,2,  34.7367,2,  34.7362,2,    186.8,2,    186.8,2,    94.85,2,    31.26,2,     0.00,2,     2.20,2,    0.066,2,    0.035,2,   0.0000,2,   2259.9,2,   2360.9,2,   7.6146,2,    24.99,2,     -999,1,   2.0723,2,     -999,9,     -999,9,     -999,9,     -999,9,     -999,1,   4.9751,1,   0.0112,1,     19.1,2,     -999,9,     -999,9,     -999,9,     -999,9,20230824,2252, -34.0003,  57.5193,-999          ,9,-999          ,9
33RR20230722  ,I05        ,126     ,  1,8          ,8          ,2,20230824,2156, -34.0003,  57.5193,     5230,   2925.3,2,   1.8309,2,  34.7360,2,  34.7362,2,    187.2,2,    187.1,2,   105.20,2,    31.78,2,     0.00,2,     2.22,2,     -999,9,     -999,9,     -999,9,   -999.0,9,     -999,9,     -999,9,     -999,9,     -999,1,   1.8305,2,     -999,9,     -999,9,     -999,9,     -999,9,     -999,1,   4.9756,1,   0.0110,1,     -999,9,     -999,9,     -999,9,     -999,9,     -999,9,20230824,2245, -34.0002,  57.5193,-999          ,9,-999          ,9
33RR20230722  ,I05        ,126     ,  1,7          ,7          ,2,20230824,2156, -34.0003,  57.5193,     5230,   3320.7,2,   1.4650,2,  34.7302,2,  34.7296,2,    199.3,2,    199.4,2,   108.42,2,    31.39,2,     0.00,2,     2.19,2,    0.114,2,    0.061,2,   0.0300,2,   2261.4,2,   2363.0,2,   7.6155,2,    25.03,2,     -999,1,   1.4653,2,     -999,9,     -999,9,     -999,9,     -999,9,     -999,1,   4.9757,1,   0.0112,1,     18.4,2,     -999,9,     -999,9,     -999,9,     -999,9,20230824,2237, -34.0003,  57.5193,-999          ,9,-999          ,9
33RR20230722  ,I05        ,126     ,  1,6          ,6          ,2,20230824,2156, -34.0003,  57.5193,     5230,   3723.9,2,   0.9531,2,  34.7085,2,  34.7087,2,    210.3,2,    210.6,2,   118.37,2,    31.75,2,     0.00,2,     2.21,2,    0.219,2,    0.116,2,   0.0600,2,   -999.0,9,     -999,9,     -999,9,     -999,9,     -999,1,   0.9538,2,     -999,9,     -999,9,     -999,9,     -999,9,     -999,1,   4.9762,1,   0.0111,1,     18.1,2,     -999,9,     -999,9,     -999,9,     -999,9,20230824,2229, -34.0003,  57.5193,-999          ,9,-999          ,9
33RR20230722  ,I05        ,126     ,  1,5          ,5          ,2,20230824,2156, -34.0003,  57.5193,     5230,   4146.9,2,   0.6225,2,  34.6908,2,  34.6901,2,    215.7,2,    215.9,2,   128.91,2,    32.34,2,     0.00,2,     2.25,2,     -999,9,     -999,9,     -999,9,   2260.2,2,   2358.7,2,   7.6056,2,    25.00,2,     -999,1,   0.6224,2,     -999,9,     -999,9,     -999,9,     -999,9,     -999,1,   4.9763,1,   0.0113,1,     -999,9,     -999,9,     -999,9,     -999,9,     -999,9,20230824,2221, -34.0003,  57.5193,-999          ,9,-999          ,9
33RR20230722  ,I05        ,126     ,  1,4          ,37         ,2,20230824,2156, -34.0003,  57.5193,     5230,   4583.9,2,   0.5736,2,  34.6855,2,  34.6853,2,    217.0,2,    217.2,2,   131.65,2,    32.47,2,     0.00,2,     2.26,2,    0.298,2,    0.157,2,   0.0800,2,   2261.0,2,   2359.2,2,   7.6056,6,    25.00,2,     -999,1,   0.5731,2,     -999,9,     -999,9,     -999,9,     -999,9,     -999,1,   4.9767,1,   0.0111,1,     17.9,2,     -999,9,     -999,9,     -999,9,     -999,9,20230824,2213, -34.0002,  57.5193,-999          ,9,-999          ,9
33RR20230722  ,I05        ,126     ,  1,3          ,3          ,2,20230824,2156, -34.0003,  57.5193,     5230,   4936.5,2,   0.5857,2,  34.6841,2,  34.6855,2,    217.4,2,    217.9,2,   133.01,2,    32.52,2,     0.00,2,     2.27,2,     -999,9,     -999,9,     -999,9,   -999.0,9,     -999,9,     -999,9,     -999,9,     -999,1,   0.5856,2,     -999,9,     -999,9,     -999,9,     -999,9,     -999,1,   4.9767,1,   0.0113,1,     -999,9,     -999,9,     -999,9,     -999,9,     -999,9,20230824,2206, -34.0002,  57.5193,-999          ,9,-999          ,9
33RR20230722  ,I05        ,126     ,  1,2          ,2          ,2,20230824,2156, -34.0003,  57.5193,     5230,   5163.0,2,   0.5967,2,  34.6831,2,  34.6832,2,    217.7,2,    217.8,2,   133.60,2,    32.57,2,     0.00,2,     2.27,2,    0.304,2,    0.158,2,   0.0500,2,   2261.1,2,   2361.8,2,   7.6042,2,    25.00,2,     -999,1,   0.5964,2,     -999,9,     -999,9,     -999,9,     -999,9,     -999,1,   4.9770,1,   0.0112,1,     17.9,2,     -999,9,     -999,9,     -999,9,     -999,9,20230824,2201, -34.0003,  57.5194,-999          ,9,-999          ,9