BOTTLE,20240422CCHHYDRO
EXPOCODE,SECT_ID,STNNBR,CASTNO,SAMPNO,BTLNBR,BTLNBR_FLAG_W,DATE,TIME,LATITUDE,LONGITUDE,DEPTH,CTDPRS,CTDPRS_FLAG_W,CTDTMP,CTDTMP_FLAG_W,CTDSAL,CTDSAL_FLAG_W,SALNTY,SALNTY_FLAG_W,CTDOXY,CTDOXY_FLAG_W,OXYGEN,OXYGEN_FLAG_W,SILCAT,SILCAT_FLAG_W,NITRAT,NITRAT_FLAG_W,NITRIT,NITRIT_FLAG_W,PHSPHT,PHSPHT_FLAG_W,CFC-11,CFC-11_FLAG_W,CFC-12,CFC-12_FLAG_W,SF6,SF6_FLAG_W,TCARBN,TCARBN_FLAG_W,ALKALI,ALKALI_FLAG_W,PH_TOT,PH_TOT_FLAG_W,PH_TMP,PH_TMP_FLAG_W,DOC,DOC_FLAG_W,REFTMP,REFTMP_FLAG_W,POC,POC_FLAG_W,PON,PON_FLAG_W,POP,POP_FLAG_W,DOP,DOP_FLAG_W,DELO18,DELO18_FLAG_W,CTDFLUOR,CTDFLUOR_FLAG_W,CTDXMISS,CTDXMISS_FLAG_W,N2O,N2O_FLAG_W,D15N_NO3,D15N_NO3_FLAG_W,D15N_NO2+NO3,D15N_NO2+NO3_FLAG_W,D18O_NO2+NO3,D18O_NO2+NO3_FLAG_W,D18O_NO3,D18O_NO3_FLAG_W,BTL_DATE,BTL_TIME,BTL_LAT,BTL_LON,HPLC,HPLC_FLAG_W,DNA,DNA_FLAG_W
,,,,,,,,,,,METERS,DBAR,,ITS-90,,PSS-78,,PSS-78,,UMOL/KG,,UMOL/KG,,UMOL/KG,,UMOL/KG,,UMOL/KG,,UMOL/KG,,PMOL/KG,,PMOL/KG,,FMOL/KG,,UMOL/KG,,UMOL/KG,,,,DEG C,,UMOL/KG,,ITS-90,,UG/KG,,UG/KG,,UG/L,,UMOL/KG,,/MILLE,,VOLTS,,VOLTS,,NMOL/KG,,/MILLE,,/MILLE,,/MILLE,,/MILLE,,,,,,,,,
33RR20230722  ,I05        ,78      ,  1,36         ,36         ,2,20230811,1605, -31.1889,  81.3584,     4389,      6.5,2,  17.5872,2,  35.7370,2,  35.7381,2,    238.3,2,    238.0,2,     0.78,2,     0.06,2,     0.00,2,     0.13,2,    1.356,3,    1.338,2,   2.2000,2,   2083.8,2,   2347.6,2,   7.9669,2,    25.01,2,     -999,1,  17.5851,2,     -999,9,     -999,9,     -999,9,     -999,9,     -999,1,   4.6574,1,   0.0232,1,      7.8,2,     -999,9,     -999,9,     -999,9,     -999,9,20230811,1800, -31.1889,  81.3584,-999          ,9,-999          ,9
33RR20230722  ,I05        ,78      ,  1,35         ,35         ,2,20230811,1605, -31.1889,  81.3584,     4389,     19.8,2,  17.5916,2,  35.7368,2,  35.7353,2,    238.2,2,    238.0,2,     0.68,2,     0.02,2,     0.00,2,     0.13,2,     -999,9,     -999,9,     -999,9,   2082.9,6,   2345.6,2,   7.9651,2,    24.99,2,     -999,1,  17.5900,2,     -999,9,     -999,9,     -999,9,     -999,9,     -999,1,   4.8921,1,   0.0239,1,     -999,9,     -999,9,     -999,9,     -999,9,     -999,9,20230811,1758, -31.1889,  81.3584,-999          ,9,-999          ,9
33RR20230722  ,I05        ,78      ,  1,34         ,34         ,2,20230811,1605, -31.1889,  81.3584,     4389,     37.0,2,  17.5913,2,  35.7369,2,  35.7347,2,    238.1,2,    238.1,2,     0.78,2,     0.01,2,     0.00,2,     0.13,2,     -999,9,     -999,9,     -999,9,   2081.6,2,   2346.9,2,   7.9652,6,    25.00,2,     -999,1,  17.5918,2,     -999,9,     -999,9,     -999,9,     -999,9,     -999,1,   4.9749,1,   0.0226,1,     -999,9,     -999,9,     -999,9,     -999,9,     -999,9,20230811,1757, -31.1889,  81.3584,-999          ,9,-999          ,9
33RR20230722  ,I05        ,78      ,  1,33         ,33         ,2,20230811,1605, -31.1889,  81.3584,     4389,     59.5,2,  17.5899,2,  35.7372,2,  35.7351,2,    237.8,2,    237.9,2,     0.78,2,     0.00,2,     0.00,2,     0.13,2,     -999,9,     -999,9,     -999,9,   2085.2,2,   2348.0,2,   7.9660,2,    24.99,2,     -999,1,  17.5862,2,     -999,9,     -999,9,     -999,9,     -999,9,     -999,1,   4.9748,1,   0.0238,1,     -999,9,     -999,9,     -999,9,     -999,9,     -999,9,20230811,1755, -31.1889,  81.3584,-999          ,9,-999          ,9
33RR20230722  ,I05        ,78      ,  1,32         ,32         ,2,20230811,1605, -31.1889,  81.3584,     4389,     82.4,2,  16.8789,2,  35.6454,2,  35.6469,2,    239.5,2,    240.1,2,     0.78,2,     0.21,2,     0.03,2,     0.17,2,     -999,9,     -999,9,     -999,9,   2089.1,2,   2344.0,2,   7.9389,2,    25.00,2,     -999,1,  16.8865,2,     -999,9,     -999,9,     -999,9,     -999,9,     -999,1,   4.9742,1,   0.0474,1,     -999,9,     -999,9,     -999,9,     -999,9,     -999,9,20230811,1753, -31.1889,  81.3584,-999          ,9,-999          ,9
33RR20230722  ,I05        ,78      ,  1,31         ,31         ,2,20230811,1605, -31.1889,  81.3584,     4389,    106.1,2,  15.0473,2,  35.4368,2,  35.3819,4,    241.5,2,    242.4,2,     0.98,2,     2.34,2,     0.36,2,     0.36,2,    2.422,3,    1.565,2,   2.4000,2,   2109.1,2,   2327.8,2,   7.8865,2,    25.00,2,     -999,1,  15.0205,2,     -999,9,     -999,9,     -999,9,     -999,9,     -999,1,   4.9727,1,   0.0337,1,      9.5,2,     -999,9,     -999,9,     -999,9,     -999,9,20230811,1751, -31.1889,  81.3584,-999          ,9,-999          ,9
33RR20230722  ,I05        ,78      ,  1,30         ,30         ,2,20230811,1605, -31.1889,  81.3584,     4389,    128.4,2,  13.8256,2,  35.2912,2,  35.2787,2,    236.0,2,    237.1,2,     1.27,2,     4.90,2,     0.15,2,     0.50,2,     -999,9,     -999,9,     -999,9,   2119.1,2,   2319.5,2,   7.8575,2,    25.00,2,     -999,1,  13.8431,2,     -999,9,     -999,9,     -999,9,     -999,9,     -999,1,   4.9705,1,   0.0241,1,     -999,9,     -999,9,     -999,9,     -999,9,     -999,9,20230811,1750, -31.1889,  81.3584,-999          ,9,-999          ,9
33RR20230722  ,I05        ,78      ,  1,29         ,29         ,2,20230811,1605, -31.1889,  81.3584,     4389,    155.6,2,  13.2108,2,  35.2152,2,  35.2182,2,    235.9,2,    236.5,2,     1.66,2,     6.36,2,     0.01,2,     0.55,2,     -999,9,     -999,9,     -999,9,   2121.7,2,   2317.7,2,   7.8433,2,    24.98,2,     -999,1,  13.2316,2,     -999,9,     -999,9,     -999,9,     -999,9,     -999,1,   4.9696,1,   0.0153,1,     -999,9,     -999,9,     -999,9,     -999,9,     -999,9,20230811,1748, -31.1889,  81.3584,-999          ,9,-999          ,9
33RR20230722  ,I05        ,78      ,  1,28         ,28         ,2,20230811,1605, -31.1889,  81.3584,     4389,    193.4,2,  12.7477,2,  35.1542,2,  35.1498,2,    238.4,2,    239.0,2,     1.85,2,     7.37,2,     0.01,2,     0.61,2,     -999,9,     -999,9,     -999,9,   -999.0,9,     -999,9,     -999,9,     -999,9,     -999,1,  12.7486,2,     -999,9,     -999,9,     -999,9,     -999,9,     -999,1,   4.9697,1,   0.0125,1,     -999,9,     -999,9,     -999,9,     -999,9,     -999,9,20230811,1746, -31.1889,  81.3584,-999          ,9,-999          ,9
33RR20230722  ,I05        ,78      ,  1,27         ,27         ,2,20230811,1605, -31.1889,  81.3584,     4389,    234.7,2,  12.3197,2,  35.0936,2,  35.0892,2,    241.7,2,    241.7,2,     2.15,2,     8.30,2,     0.00,2,     0.66,2,    1.977,3,    1.677,2,   2.5000,2,   2123.7,2,   2309.3,2,   7.8263,2,    24.99,2,     -999,1,  12.3163,2,     -999,9,     -999,9,     -999,9,     -999,9,     -999,1,   4.9694,1,   0.0115,1,     10.3,2,     -999,9,     -999,9,     -999,9,     -999,9,20230811,1745, -31.1889,  81.3584,-999          ,9,-999          ,9
33RR20230722  ,I05        ,78      ,  1,26         ,26         ,2,20230811,1605, -31.1889,  81.3584,     4389,    273.7,2,  12.0461,2,  35.0446,2,  35.0415,2,    244.7,2,    243.8,2,     2.44,2,     9.06,2,     0.00,2,     0.70,2,     -999,9,     -999,9,     -999,9,   -999.0,9,     -999,9,     -999,9,     -999,9,     -999,1,  12.0419,2,     -999,9,     -999,9,     -999,9,     -999,9,     -999,1,   4.9695,1,   0.0116,1,     -999,9,     -999,9,     -999,9,     -999,9,     -999,9,20230811,1743, -31.1889,  81.3584,-999          ,9,-999          ,9
33RR20230722  ,I05        ,78      ,  1,25         ,25         ,2,20230811,1605, -31.1889,  81.3584,     4389,    326.4,2,  11.7748,2,  35.0025,2,  35.0014,2,    245.1,2,    243.9,2,     2.73,2,     9.87,2,     0.00,2,     0.75,2,     -999,9,     -999,9,     -999,9,   2122.1,2,   2304.5,2,   7.8145,2,    25.00,2,     -999,1,  11.7733,2,     -999,9,     -999,9,     -999,9,     -999,9,     -999,1,   4.8338,1,   0.0115,1,     -999,9,     -999,9,     -999,9,     -999,9,     -999,9,20230811,1741, -31.1889,  81.3584,-999          ,9,-999          ,9
33RR20230722  ,I05        ,78      ,  1,24         ,24         ,2,20230811,1605, -31.1889,  81.3584,     4389,    388.4,2,  11.4532,2,  34.9543,2,  34.9530,2,    242.2,2,    241.8,2,     2.93,2,    10.79,2,     0.00,2,     0.81,2,    2.690,3,    1.781,2,   2.4400,2,   2126.2,2,   2303.2,2,   7.8047,6,    25.00,2,     -999,1,  11.4532,2,     -999,9,     -999,9,     -999,9,     -999,9,     -999,1,   4.9565,1,   0.0115,1,     11.1,2,     -999,9,     -999,9,     -999,9,     -999,9,20230811,1739, -31.1889,  81.3584,-999          ,9,-999          ,9
33RR20230722  ,I05        ,78      ,  1,23         ,23         ,4,20230811,1605, -31.1889,  81.3584,     4389,    459.0,3,  11.1444,3,  34.9114,3,     -999,9,    240.8,3,     -999,9,     -999,9,     -999,9,     -999,9,     -999,9,     -999,9,     -999,9,     -999,9,   -999.0,4,     -999,9,     -999,9,     -999,9,     -999,9,  11.1438,3,     -999,9,     -999,9,     -999,9,     -999,9,     -999,9,   4.9677,1,   0.0115,1,     -999,9,     -999,9,     -999,9,     -999,9,     -999,9,20230811,1736, -31.1889,  81.3584,-999          ,9,-999          ,9
33RR20230722  ,I05        ,78      ,  1,22         ,22         ,2,20230811,1605, -31.1889,  81.3584,     4389,    525.5,2,  10.7313,2,  34.8543,2,  34.8530,2,    237.0,2,    236.8,2,     3.71,2,    13.24,2,     0.00,2,     0.96,2,     -999,9,     -999,9,     -999,9,   -999.0,9,     -999,9,     -999,9,     -999,9,     -999,1,  10.7334,2,     -999,9,     -999,9,     -999,9,     -999,9,     -999,1,   4.9669,1,   0.0115,1,     -999,9,     -999,9,     -999,9,     -999,9,     -999,9,20230811,1734, -31.1889,  81.3584,-999          ,9,-999          ,9
33RR20230722  ,I05        ,78      ,  1,21         ,21         ,2,20230811,1605, -31.1889,  81.3584,     4389,    601.2,2,  10.1968,2,  34.7844,2,  34.7850,2,    236.4,2,    235.7,2,     3.71,2,    14.42,2,     0.00,2,     1.03,2,    3.539,3,    1.837,2,   2.1900,2,   2132.5,2,   2293.3,6,   7.7705,2,    24.99,2,     -999,1,  10.2087,2,     -999,9,     -999,9,     -999,9,     -999,9,     -999,1,   4.9667,1,   0.0116,1,     11.8,2,     -999,9,     -999,9,     -999,9,     -999,9,20230811,1731, -31.1889,  81.3584,-999          ,9,-999          ,9
33RR20230722  ,I05        ,78      ,  1,20         ,20         ,2,20230811,1605, -31.1889,  81.3584,     4389,    692.7,2,   9.4662,2,  34.6898,2,  34.6901,2,    230.8,2,    231.2,2,     4.78,2,    16.88,2,     0.00,2,     1.18,2,    2.943,3,    1.933,2,   1.9500,2,   -999.0,9,     -999,9,     -999,9,     -999,9,     -999,1,   9.4782,2,     -999,9,     -999,9,     -999,9,     -999,9,     -999,1,   4.9094,1,   0.0114,1,     12.7,2,     -999,9,     -999,9,     -999,9,     -999,9,20230811,1729, -31.1889,  81.3584,-999          ,9,-999          ,9
33RR20230722  ,I05        ,78      ,  1,19         ,19         ,2,20230811,1605, -31.1889,  81.3584,     4389,    792.4,2,   8.5591,2,  34.5917,2,  34.5918,2,    216.2,2,    217.1,2,     8.30,2,    20.38,2,     0.00,2,     1.41,2,    3.024,3,    1.817,2,   1.4700,2,   2150.5,2,   2285.8,2,   7.7145,2,    24.99,2,     -999,1,   8.5555,2,     -999,9,     -999,9,     -999,9,     -999,9,     -999,1,   4.9674,1,   0.0114,1,     14.3,2,     -999,9,     -999,9,     -999,9,     -999,9,20230811,1726, -31.1889,  81.3584,-999          ,9,-999          ,9
33RR20230722  ,I05        ,78      ,  1,18         ,18         ,2,20230811,1605, -31.1889,  81.3584,     4389,    905.9,2,   6.9653,2,  34.4618,2,  34.4614,2,    201.4,2,    201.9,2,    16.30,2,    25.58,2,     0.00,2,     1.76,2,     -999,9,     -999,9,     -999,9,   2171.5,2,   2286.9,2,   7.6612,6,    25.00,2,     -999,1,   6.9736,2,     -999,9,     -999,9,     -999,9,     -999,9,     -999,1,   4.9691,1,   0.0112,1,     -999,9,     -999,9,     -999,9,     -999,9,     -999,9,20230811,1723, -31.1889,  81.3584,-999          ,9,-999          ,9
33RR20230722  ,I05        ,78      ,  1,17         ,17         ,2,20230811,1605, -31.1889,  81.3584,     4389,   1021.8,2,   5.4275,2,  34.3810,2,  34.3798,2,    197.8,2,    198.0,2,    27.04,2,    29.34,2,     0.00,2,     2.01,2,    1.661,3,    1.241,2,   0.6700,2,   -999.0,9,     -999,9,     -999,9,     -999,9,     -999,1,   5.4364,2,     -999,9,     -999,9,     -999,9,     -999,9,     -999,1,   4.7170,1,   0.0112,1,     18.6,2,     -999,9,     -999,9,     -999,9,     -999,9,20230811,1720, -31.1889,  81.3584,-999          ,9,-999          ,9
33RR20230722  ,I05        ,78      ,  1,16         ,16         ,2,20230811,1605, -31.1889,  81.3584,     4389,   1130.3,2,   4.5603,2,  34.3929,2,  34.3912,2,    184.7,2,    184.6,2,    40.32,2,    31.88,2,     0.00,2,     2.21,2,     -999,9,     -999,9,     -999,9,   2210.9,2,   2304.2,6,   7.6005,2,    24.99,2,     -999,1,   4.5577,2,     -999,9,     -999,9,     -999,9,     -999,9,     -999,1,   4.8642,1,   0.0112,1,     -999,9,     -999,9,     -999,9,     -999,9,     -999,9,20230811,1717, -31.1889,  81.3584,-999          ,9,-999          ,9
33RR20230722  ,I05        ,78      ,  1,15         ,15         ,2,20230811,1605, -31.1889,  81.3584,     4389,   1216.5,2,   4.0930,2,  34.4315,2,  34.4292,2,    171.7,2,    172.7,2,    51.74,2,    33.35,2,     0.00,2,     2.33,2,     -999,9,     -999,9,     -999,9,   2227.4,2,   2314.2,2,   7.5813,2,    25.00,2,     -999,1,   4.0867,2,     -999,9,     -999,9,     -999,9,     -999,9,     -999,1,   4.9729,1,   0.0118,1,     -999,9,     -999,9,     -999,9,     -999,9,     -999,9,20230811,1714, -31.1889,  81.3584,-999          ,9,-999          ,9
33RR20230722  ,I05        ,78      ,  1,14         ,14         ,2,20230811,1605, -31.1889,  81.3584,     4389,   1307.4,2,   3.8294,2,  34.4754,2,  34.4740,2,    162.0,2,    161.2,2,    61.50,2,    34.18,2,     0.00,2,     2.41,2,     -999,9,     -999,9,     -999,9,   -999.0,9,     -999,9,     -999,9,     -999,9,     -999,1,   3.8291,2,     -999,9,     -999,9,     -999,9,     -999,9,     -999,1,   4.8294,1,   0.0113,1,     -999,9,     -999,9,     -999,9,     -999,9,     -999,9,20230811,1712, -31.1889,  81.3584,-999          ,9,-999          ,9
33RR20230722  ,I05        ,78      ,  1,13         ,13         ,2,20230811,1605, -31.1889,  81.3584,     4389,   1403.3,2,   3.5733,2,  34.5223,2,  34.5201,2,    154.3,2,    154.0,2,    69.89,2,    34.80,2,     0.00,2,     2.44,2,    0.256,3,    0.188,2,   0.0400,2,   2249.7,2,   2334.0,2,   7.5631,2,    25.00,2,     -999,1,   3.5737,2,     -999,9,     -999,9,     -999,9,     -999,9,     -999,1,   4.8165,1,   0.0112,1,     23.1,2,     -999,9,     -999,9,     -999,9,     -999,9,20230811,1709, -31.1889,  81.3584,-999          ,9,-999          ,9
33RR20230722  ,I05        ,78      ,  1,12         ,12         ,2,20230811,1605, -31.1889,  81.3584,     4389,   1517.7,2,   3.3105,2,  34.5711,2,  34.5696,2,    150.8,2,    150.6,2,    77.70,2,    34.93,2,     0.00,2,     2.47,2,     -999,9,     -999,9,     -999,9,   2260.2,2,   2341.6,2,   7.5602,6,    24.99,2,     -999,1,   3.3069,2,     -999,9,     -999,9,     -999,9,     -999,9,     -999,1,   4.9750,1,   0.0111,1,     -999,9,     -999,9,     -999,9,     -999,9,     -999,9,20230811,1706, -31.1889,  81.3583,-999          ,9,-999          ,9
33RR20230722  ,I05        ,78      ,  1,11         ,11         ,2,20230811,1605, -31.1889,  81.3584,     4389,   1685.3,2,   3.0782,2,  34.6257,2,  34.6236,2,    150.3,2,    150.2,2,    85.21,2,    34.87,2,     0.00,2,     2.46,2,     -999,9,     -999,9,     -999,9,   2266.1,2,   2351.9,2,   7.5626,2,    25.00,2,     -999,1,   3.0785,2,     -999,9,     -999,9,     -999,9,     -999,9,     -999,1,   4.7450,1,   0.0113,1,     -999,9,     -999,9,     -999,9,     -999,9,     -999,9,20230811,1702, -31.1889,  81.3583,-999          ,9,-999          ,9
33RR20230722  ,I05        ,78      ,  1,10         ,10         ,2,20230811,1605, -31.1889,  81.3584,     4389,   1859.2,2,   2.8159,2,  34.6717,2,  34.6714,2,    154.3,2,    154.7,2,    91.65,2,    34.30,2,     0.00,2,     2.41,2,   -0.001,3,    0.023,2,   0.0100,2,   2270.5,2,   2359.3,2,   7.5721,2,    25.00,2,     -999,1,   2.8159,2,     -999,9,     -999,9,     -999,9,     -999,9,     -999,1,   4.9753,1,   0.0118,1,     22.1,2,     -999,9,     -999,9,     -999,9,     -999,9,20230811,1658, -31.1889,  81.3584,-999          ,9,-999          ,9
33RR20230722  ,I05        ,78      ,  1,9          ,9          ,2,20230811,1605, -31.1889,  81.3584,     4389,   2071.3,2,   2.4837,2,  34.6972,2,  34.6954,2,    170.9,2,    171.1,2,    87.84,2,    32.84,2,     0.00,2,     2.29,2,     -999,9,     -999,9,     -999,9,   2258.0,2,   2352.5,2,   7.5884,2,    25.00,2,     -999,1,   2.4853,2,     -999,9,     -999,9,     -999,9,     -999,9,     -999,1,   4.9747,1,   0.0112,1,     -999,9,     -999,9,     -999,9,     -999,9,     -999,9,20230811,1653, -31.1889,  81.3584,-999          ,9,-999          ,9
33RR20230722  ,I05        ,78      ,  1,8          ,8          ,2,20230811,1605, -31.1889,  81.3584,     4389,   2312.1,2,   2.1442,2,  34.7317,2,  34.7298,2,    186.8,2,    187.0,2,    88.13,2,    31.35,2,     0.00,2,     2.18,2,    0.008,3,    0.036,2,   0.0400,2,   -999.0,9,     -999,9,     -999,9,     -999,9,     -999,1,   2.1440,2,     -999,9,     -999,9,     -999,9,     -999,9,     -999,1,   4.9027,1,   0.0112,1,     19.6,2,     -999,9,     -999,9,     -999,9,     -999,9,20230811,1648, -31.1889,  81.3584,-999          ,9,-999          ,9
33RR20230722  ,I05        ,78      ,  1,7          ,7          ,2,20230811,1605, -31.1889,  81.3584,     4389,   2586.7,2,   1.8466,2,  34.7379,2,  34.7361,2,    192.0,2,    192.1,2,    96.92,2,    31.28,2,     0.00,2,     2.17,2,     -999,9,     -999,9,     -999,9,   2251.0,2,   2356.4,2,   7.6147,2,    25.00,2,     -999,1,   1.8464,2,     -999,9,     -999,9,     -999,9,     -999,9,     -999,1,   4.8798,1,   0.0111,1,     -999,9,     -999,9,     -999,9,     -999,9,     -999,9,20230811,1643, -31.1889,  81.3584,-999          ,9,-999          ,9
33RR20230722  ,I05        ,78      ,  1,6          ,6          ,2,20230811,1605, -31.1889,  81.3584,     4389,   2861.5,2,   1.6384,2,  34.7356,2,  34.7337,2,    195.5,2,    195.6,2,   102.77,2,    31.44,2,     0.00,2,     2.17,2,     -999,9,     -999,9,     -999,9,   2257.1,2,   2360.8,2,   7.6164,2,    25.00,2,     -999,1,   1.6383,2,     -999,9,     -999,9,     -999,9,     -999,9,     -999,1,   4.9751,1,   0.0117,1,     -999,9,     -999,9,     -999,9,     -999,9,     -999,9,20230811,1637, -31.1889,  81.3584,-999          ,9,-999          ,9
33RR20230722  ,I05        ,78      ,  1,5          ,5          ,2,20230811,1605, -31.1889,  81.3584,     4389,   3195.2,2,   1.4570,2,  34.7309,2,  34.7292,2,    198.4,2,    198.3,2,   108.14,2,    31.63,2,     0.00,2,     2.20,2,    0.006,3,    0.032,2,   0.0200,2,   -999.0,9,     -999,9,     -999,9,     -999,9,     -999,1,   1.4567,2,     -999,9,     -999,9,     -999,9,     -999,9,     -999,1,   4.9753,1,   0.0111,1,     17.4,2,     -999,9,     -999,9,     -999,9,     -999,9,20230811,1630, -31.1889,  81.3583,-999          ,9,-999          ,9
33RR20230722  ,I05        ,78      ,  1,4          ,37         ,2,20230811,1605, -31.1889,  81.3584,     4389,   3671.7,2,   1.4105,2,  34.7269,3,  34.7247,2,    197.8,2,    197.8,2,   112.05,2,    31.89,2,     0.00,2,     2.22,2,     -999,9,     -999,9,     -999,9,   2262.1,2,   2369.7,2,   7.6193,2,    25.00,2,     -999,1,   1.4104,2,     -999,9,     -999,9,     -999,9,     -999,9,     -999,1,   4.9759,1,   0.0113,1,     -999,9,     -999,9,     -999,9,     -999,9,     -999,9,20230811,1621, -31.1889,  81.3584,-999          ,9,-999          ,9
33RR20230722  ,I05        ,78      ,  1,3          ,3          ,2,20230811,1605, -31.1889,  81.3584,     4389,   4200.1,2,   1.4266,2,  34.7253,2,  34.7233,2,    198.5,2,    198.8,2,   113.02,2,    31.86,2,     0.00,2,     2.21,2,    0.028,3,    0.033,2,  -0.0100,2,   2263.7,2,   2369.8,2,   7.6186,2,    25.00,2,     -999,1,   1.4263,2,     -999,9,     -999,9,     -999,9,     -999,9,     -999,1,   4.9765,1,   0.0111,1,     18.1,2,     -999,9,     -999,9,     -999,9,     -999,9,20230811,1611, -31.1889,  81.3584,-999          ,9,-999          ,9