BOTTLE,20240422CCHHYDRO
EXPOCODE,SECT_ID,STNNBR,CASTNO,SAMPNO,BTLNBR,BTLNBR_FLAG_W,DATE,TIME,LATITUDE,LONGITUDE,DEPTH,CTDPRS,CTDPRS_FLAG_W,CTDTMP,CTDTMP_FLAG_W,CTDSAL,CTDSAL_FLAG_W,SALNTY,SALNTY_FLAG_W,CTDOXY,CTDOXY_FLAG_W,OXYGEN,OXYGEN_FLAG_W,SILCAT,SILCAT_FLAG_W,NITRAT,NITRAT_FLAG_W,NITRIT,NITRIT_FLAG_W,PHSPHT,PHSPHT_FLAG_W,CFC-11,CFC-11_FLAG_W,CFC-12,CFC-12_FLAG_W,SF6,SF6_FLAG_W,TCARBN,TCARBN_FLAG_W,ALKALI,ALKALI_FLAG_W,PH_TOT,PH_TOT_FLAG_W,PH_TMP,PH_TMP_FLAG_W,DOC,DOC_FLAG_W,REFTMP,REFTMP_FLAG_W,POC,POC_FLAG_W,PON,PON_FLAG_W,POP,POP_FLAG_W,DOP,DOP_FLAG_W,DELO18,DELO18_FLAG_W,CTDFLUOR,CTDFLUOR_FLAG_W,CTDXMISS,CTDXMISS_FLAG_W,N2O,N2O_FLAG_W,D15N_NO3,D15N_NO3_FLAG_W,D15N_NO2+NO3,D15N_NO2+NO3_FLAG_W,D18O_NO2+NO3,D18O_NO2+NO3_FLAG_W,D18O_NO3,D18O_NO3_FLAG_W,BTL_DATE,BTL_TIME,BTL_LAT,BTL_LON,HPLC,HPLC_FLAG_W,DNA,DNA_FLAG_W
,,,,,,,,,,,METERS,DBAR,,ITS-90,,PSS-78,,PSS-78,,UMOL/KG,,UMOL/KG,,UMOL/KG,,UMOL/KG,,UMOL/KG,,UMOL/KG,,PMOL/KG,,PMOL/KG,,FMOL/KG,,UMOL/KG,,UMOL/KG,,,,DEG C,,UMOL/KG,,ITS-90,,UG/KG,,UG/KG,,UG/L,,UMOL/KG,,/MILLE,,VOLTS,,VOLTS,,NMOL/KG,,/MILLE,,/MILLE,,/MILLE,,/MILLE,,,,,,,,,
33RR20230722  ,I05        ,182     ,  2,35         ,35         ,2,20230907,1310, -32.4249,  33.0392,     3535,      6.1,2,  19.5413,2,  35.5668,2,  35.5663,2,    232.5,2,    232.1,2,     1.66,2,     0.00,2,     0.01,2,     0.13,2,    1.909,2,    1.228,2,   2.1700,2,   2051.4,6,   2329.9,2,   7.9972,2,    25.00,2,     -999,1,  19.5381,2,     -999,9,     -999,9,     -999,9,     -999,9,     -999,9,   4.9701,1,   0.0327,1,      7.7,2,     -999,9,     -999,9,     -999,9,     -999,9,20230907,1447, -32.4249,  33.0392,-999          ,9,-999          ,9
33RR20230722  ,I05        ,182     ,  2,34         ,34         ,2,20230907,1310, -32.4249,  33.0392,     3535,     21.9,2,  19.4274,2,  35.5617,2,  35.5622,2,    232.4,2,    231.7,2,     1.66,2,     0.00,2,     0.02,2,     0.12,2,     -999,9,     -999,9,     -999,9,   2051.7,2,   2329.4,2,   7.9954,2,    25.00,2,     -999,1,  19.4380,2,     -999,9,     -999,9,     -999,9,     -999,9,     -999,9,   4.8790,1,   0.0432,1,     -999,9,     -999,9,     -999,9,     -999,9,     -999,9,20230907,1445, -32.4249,  33.0392,-999          ,9,-999          ,9
33RR20230722  ,I05        ,182     ,  2,33         ,33         ,2,20230907,1310, -32.4249,  33.0392,     3535,     37.1,2,  19.3030,2,  35.5753,2,  35.5746,2,    229.6,2,    229.4,2,     1.76,2,     0.04,2,     0.05,2,     0.14,2,    1.705,2,    1.222,2,   2.1500,2,   2055.3,2,   2328.5,2,   7.9908,6,    25.01,2,     -999,1,  19.3066,2,     -999,9,     -999,9,     -999,9,     -999,9,     -999,9,   4.9715,1,   0.0457,1,      7.7,2,     -999,9,     -999,9,     -999,9,     -999,9,20230907,1444, -32.4249,  33.0392,-999          ,9,-999          ,9
33RR20230722  ,I05        ,182     ,  2,32         ,32         ,2,20230907,1310, -32.4249,  33.0392,     3535,     55.1,2,  19.2515,2,  35.5903,2,  35.5896,2,    231.3,2,    230.7,2,     1.66,2,     0.00,2,     0.03,2,     0.12,2,     -999,9,     -999,9,     -999,9,   2057.7,2,   2330.7,2,   7.9916,2,    25.01,2,     -999,1,  19.2515,2,     -999,9,     -999,9,     -999,9,     -999,9,     -999,9,   4.8103,1,   0.0418,1,     -999,9,     -999,9,     -999,9,     -999,9,     -999,9,20230907,1442, -32.4249,  33.0392,-999          ,9,-999          ,9
33RR20230722  ,I05        ,182     ,  2,31         ,31         ,2,20230907,1310, -32.4249,  33.0392,     3535,     75.8,2,  18.8486,2,  35.5898,2,  35.5910,2,    220.9,2,    221.5,2,     2.05,2,     0.95,2,     0.20,2,     0.20,2,    1.870,2,    1.227,2,   2.1100,2,   2066.1,2,   2330.6,2,   7.9691,6,    25.01,2,     -999,1,  18.8443,2,     -999,9,     -999,9,     -999,9,     -999,9,     -999,9,   4.9719,1,   0.0223,1,      8.0,2,     -999,9,     -999,9,     -999,9,     -999,9,20230907,1440, -32.4249,  33.0393,-999          ,9,-999          ,9
33RR20230722  ,I05        ,182     ,  2,30         ,30         ,2,20230907,1310, -32.4249,  33.0392,     3535,    100.4,2,  18.2882,2,  35.5874,2,  35.5926,2,    214.4,2,    214.7,2,     2.73,2,     2.30,2,     0.03,2,     0.28,2,     -999,9,     -999,9,     -999,9,   2080.9,2,   2328.9,2,   7.9462,2,    25.00,2,     -999,1,  18.2799,2,     -999,9,     -999,9,     -999,9,     -999,9,     -999,9,   4.7282,1,   0.0130,1,     -999,9,     -999,9,     -999,9,     -999,9,     -999,9,20230907,1438, -32.4249,  33.0393,-999          ,9,-999          ,9
33RR20230722  ,I05        ,182     ,  2,29         ,29         ,2,20230907,1310, -32.4249,  33.0392,     3535,    127.5,2,  17.8765,2,  35.6121,2,  35.6135,2,    216.7,2,    216.9,2,     2.63,2,     2.33,2,     0.02,2,     0.27,2,    1.885,2,    1.290,2,   2.1500,2,   2083.3,2,   2333.4,2,   7.9400,2,    25.02,2,     -999,1,  17.8746,2,     -999,9,     -999,9,     -999,9,     -999,9,     -999,9,   4.8849,1,   0.0122,1,      8.4,2,     -999,9,     -999,9,     -999,9,     -999,9,20230907,1437, -32.4249,  33.0392,-999          ,9,-999          ,9
33RR20230722  ,I05        ,182     ,  2,28         ,28         ,2,20230907,1310, -32.4249,  33.0392,     3535,    159.0,2,  17.4676,2,  35.5947,2,  35.5942,2,    208.5,2,    209.4,2,     2.93,2,     3.36,2,     0.00,2,     0.35,2,     -999,9,     -999,9,     -999,9,   -999.0,9,     -999,9,     -999,9,     -999,9,     -999,1,  17.4710,2,     -999,9,     -999,9,     -999,9,     -999,9,     -999,9,   4.8780,1,   0.0117,1,     -999,9,     -999,9,     -999,9,     -999,9,     -999,9,20230907,1435, -32.4249,  33.0392,-999          ,9,-999          ,9
33RR20230722  ,I05        ,182     ,  2,27         ,27         ,2,20230907,1310, -32.4249,  33.0392,     3535,    192.9,2,  16.9286,2,  35.5744,2,  35.5731,2,    204.8,2,    206.0,2,     3.12,2,     4.28,2,     0.00,2,     0.41,2,    2.005,2,    1.376,2,   2.1600,2,   2103.5,2,   2328.4,2,   7.9002,2,    24.99,2,     -999,1,  16.9253,2,     -999,9,     -999,9,     -999,9,     -999,9,     -999,9,   4.9680,1,   0.0117,1,      9.6,2,     -999,9,     -999,9,     -999,9,     -999,9,20230907,1433, -32.4249,  33.0392,-999          ,9,-999          ,9
33RR20230722  ,I05        ,182     ,  2,26         ,26         ,2,20230907,1310, -32.4249,  33.0392,     3535,    233.1,2,  16.4963,2,  35.5531,2,  35.5444,2,    208.5,2,    208.2,2,     3.32,2,     4.84,2,     0.00,2,     0.44,2,     -999,9,     -999,9,     -999,9,   -999.0,9,     -999,9,     -999,9,     -999,9,     -999,1,  16.5001,2,     -999,9,     -999,9,     -999,9,     -999,9,     -999,9,   4.7931,1,   0.0117,1,     -999,9,     -999,9,     -999,9,     -999,9,     -999,9,20230907,1431, -32.4249,  33.0392,-999          ,9,-999          ,9
33RR20230722  ,I05        ,182     ,  2,25         ,25         ,2,20230907,1310, -32.4249,  33.0392,     3535,    280.1,2,  15.7510,2,  35.4885,2,  35.4930,2,    206.9,2,    207.6,2,     3.51,2,     5.76,2,     0.00,2,     0.51,2,    2.162,2,    1.433,2,   2.1100,2,   2112.3,2,   2325.2,2,   7.8757,2,    24.99,2,     -999,1,  15.7748,2,     -999,9,     -999,9,     -999,9,     -999,9,     -999,9,   4.9676,1,   0.0117,1,      9.9,2,     -999,9,     -999,9,     -999,9,     -999,9,20230907,1430, -32.4249,  33.0392,-999          ,9,-999          ,9
33RR20230722  ,I05        ,182     ,  2,24         ,24         ,2,20230907,1310, -32.4249,  33.0392,     3535,    335.2,2,  14.9344,2,  35.4104,2,  35.4113,2,    207.7,2,    208.3,2,     3.71,2,     6.99,2,     0.00,2,     0.59,2,     -999,9,     -999,9,     -999,9,   -999.0,9,     -999,9,     -999,9,     -999,9,     -999,1,  14.9278,2,     -999,9,     -999,9,     -999,9,     -999,9,     -999,9,   4.9671,1,   0.0113,1,     -999,9,     -999,9,     -999,9,     -999,9,     -999,9,20230907,1427, -32.4249,  33.0392,-999          ,9,-999          ,9
33RR20230722  ,I05        ,182     ,  2,23         ,23         ,2,20230907,1310, -32.4249,  33.0392,     3535,    403.2,2,  13.8784,2,  35.2962,2,  35.2970,2,    211.3,2,    211.8,2,     3.90,2,     8.51,2,     0.00,2,     0.68,2,    2.493,2,    1.563,2,   2.0000,2,   2125.5,2,   2317.2,2,   7.8334,6,    25.00,2,     -999,1,  13.8852,2,     -999,9,     -999,9,     -999,9,     -999,9,     -999,9,   4.9668,1,   0.0113,1,     10.9,2,     -999,9,     -999,9,     -999,9,     -999,9,20230907,1425, -32.4249,  33.0392,-999          ,9,-999          ,9
33RR20230722  ,I05        ,182     ,  2,22         ,22         ,2,20230907,1310, -32.4249,  33.0392,     3535,    478.5,2,  13.2065,2,  35.2202,2,  35.2211,2,    216.1,2,    215.8,2,     4.00,2,     9.54,2,     0.00,2,     0.73,2,     -999,9,     -999,9,     -999,9,   -999.0,9,     -999,9,     -999,9,     -999,9,     -999,1,  13.2208,2,     -999,9,     -999,9,     -999,9,     -999,9,     -999,9,   4.9667,1,   0.0115,1,     -999,9,     -999,9,     -999,9,     -999,9,     -999,9,20230907,1423, -32.4249,  33.0392,-999          ,9,-999          ,9
33RR20230722  ,I05        ,182     ,  2,21         ,21         ,2,20230907,1310, -32.4249,  33.0392,     3535,    557.2,2,  12.4239,2,  35.1152,2,  35.1106,2,    219.3,2,    219.4,2,     4.20,2,    11.09,2,     0.00,2,     0.85,2,    2.600,2,    1.696,2,   1.9200,2,   2132.7,2,   2308.9,6,   7.8064,2,    25.02,2,     -999,1,  12.4197,2,     -999,9,     -999,9,     -999,9,     -999,9,     -999,9,   4.8554,1,   0.0110,1,     11.8,2,     -999,9,     -999,9,     -999,9,     -999,9,20230907,1420, -32.4250,  33.0392,-999          ,9,-999          ,9
33RR20230722  ,I05        ,182     ,  2,20         ,20         ,2,20230907,1310, -32.4249,  33.0392,     3535,    642.3,2,  11.3657,2,  34.9611,2,  34.9624,2,    218.2,2,    218.2,2,     5.07,2,    13.54,2,     0.00,2,     1.00,2,    2.992,2,    1.751,2,   1.8700,2,   2138.2,2,   2301.4,2,   7.7797,2,    25.00,2,     -999,1,  11.3512,2,     -999,9,     -999,9,     -999,9,     -999,9,     -999,9,   4.9666,1,   0.0107,1,     12.5,2,     -999,9,     -999,9,     -999,9,     -999,9,20230907,1418, -32.4249,  33.0392,-999          ,9,-999          ,9
33RR20230722  ,I05        ,182     ,  2,19         ,19         ,2,20230907,1310, -32.4249,  33.0392,     3535,    737.5,2,  10.2285,2,  34.8103,2,  34.8066,2,    215.6,2,    215.3,2,     6.83,2,    16.41,2,     0.00,2,     1.19,2,     -999,9,     -999,9,     -999,9,   -999.0,9,     -999,9,     -999,9,     -999,9,     -999,1,  10.2257,2,     -999,9,     -999,9,     -999,9,     -999,9,     -999,9,   4.9670,1,   0.0114,1,     -999,9,     -999,9,     -999,9,     -999,9,     -999,9,20230907,1415, -32.4249,  33.0392,-999          ,9,-999          ,9
33RR20230722  ,I05        ,182     ,  2,18         ,18         ,2,20230907,1310, -32.4249,  33.0392,     3535,    840.6,2,   9.0008,2,  34.6700,2,  34.6728,2,    209.8,2,    209.4,2,    10.44,2,    19.78,2,     0.00,2,     1.40,2,    2.946,2,    1.699,2,   1.4200,2,   2155.6,2,   2291.4,2,   7.7147,2,    25.00,2,     -999,1,   9.0194,2,     -999,9,     -999,9,     -999,9,     -999,9,     -999,9,   4.9679,1,   0.0114,1,     15.2,2,     -999,9,     -999,9,     -999,9,     -999,9,20230907,1412, -32.4249,  33.0392,-999          ,9,-999          ,9
33RR20230722  ,I05        ,182     ,  2,17         ,17         ,2,20230907,1310, -32.4249,  33.0392,     3535,    943.5,2,   7.8142,2,  34.5769,2,  34.5777,2,    196.9,2,    196.2,2,    17.67,2,    23.90,2,     0.00,2,     1.67,2,    2.556,2,    1.512,2,   1.2000,2,   2175.0,2,   2292.0,6,   7.6718,2,    25.02,2,     -999,1,   7.8150,2,     -999,9,     -999,9,     -999,9,     -999,9,     -999,9,   4.8060,1,   0.0113,1,     17.8,2,     -999,9,     -999,9,     -999,9,     -999,9,20230907,1409, -32.4249,  33.0392,-999          ,9,-999          ,9
33RR20230722  ,I05        ,182     ,  2,16         ,16         ,2,20230907,1310, -32.4249,  33.0392,     3535,   1049.1,2,   6.4166,2,  34.4545,2,  34.4536,2,    200.2,2,    200.5,2,    22.65,2,    26.91,2,     0.00,2,     1.87,2,     -999,9,     -999,9,     -999,9,   2185.6,2,   2290.5,2,   7.6432,6,    24.99,2,     -999,1,   6.4056,2,     -999,9,     -999,9,     -999,9,     -999,9,     -999,9,   4.9697,1,   0.0113,1,     -999,9,     -999,9,     -999,9,     -999,9,     -999,9,20230907,1406, -32.4249,  33.0392,-999          ,9,-999          ,9
33RR20230722  ,I05        ,182     ,  2,15         ,15         ,2,20230907,1310, -32.4249,  33.0392,     3535,   1163.6,2,   5.2764,2,  34.4236,2,  34.4265,2,    191.1,2,    191.9,2,    33.29,2,    29.68,2,     0.00,2,     2.07,2,    2.186,2,    1.171,2,   0.8000,2,   2200.9,2,   2298.1,2,   7.6137,2,    24.98,2,     -999,1,   5.3220,3,     -999,9,     -999,9,     -999,9,     -999,9,     -999,9,   4.9711,1,   0.0113,1,     20.5,2,     -999,9,     -999,9,     -999,9,     -999,9,20230907,1404, -32.4249,  33.0392,-999          ,9,-999          ,9
33RR20230722  ,I05        ,182     ,  2,14         ,14         ,2,20230907,1310, -32.4249,  33.0392,     3535,   1277.5,2,   4.7868,2,  34.4740,2,  34.4740,2,    174.6,2,    174.6,2,    45.20,2,    31.66,2,     0.00,2,     2.23,2,     -999,9,     -999,9,     -999,9,   2220.8,2,   2308.9,2,   7.5914,2,    25.00,2,     -999,1,   4.7934,2,     -999,9,     -999,9,     -999,9,     -999,9,     -999,9,   4.9485,1,   0.0112,1,     -999,9,     -999,9,     -999,9,     -999,9,     -999,9,20230907,1401, -32.4249,  33.0392,-999          ,9,-999          ,9
33RR20230722  ,I05        ,182     ,  2,13         ,13         ,2,20230907,1310, -32.4249,  33.0392,     3535,   1389.0,2,   4.1966,2,  34.4844,2,  34.4893,2,    172.5,2,    172.3,2,    52.32,2,    32.62,2,     0.00,2,     2.30,2,    1.203,2,    0.644,2,   0.3300,2,   2229.8,2,   2316.5,2,   7.5798,6,    25.02,2,     -999,1,   4.1864,2,     -999,9,     -999,9,     -999,9,     -999,9,     -999,9,   4.9731,1,   0.0111,1,     23.0,2,     -999,9,     -999,9,     -999,9,     -999,9,20230907,1358, -32.4249,  33.0392,-999          ,9,-999          ,9
33RR20230722  ,I05        ,182     ,  2,12         ,12         ,2,20230907,1310, -32.4249,  33.0392,     3535,   1496.6,2,   3.6580,2,  34.5363,2,  34.5388,2,    167.6,2,    167.5,2,    61.89,2,    33.21,2,     0.00,2,     2.35,2,    0.640,2,    0.409,2,   0.2100,2,   2241.0,2,   2326.2,2,   7.5729,6,    25.00,2,     -999,1,   3.6575,2,     -999,9,     -999,9,     -999,9,     -999,9,     -999,9,   4.9508,1,   0.0118,1,     23.7,2,     -999,9,     -999,9,     -999,9,     -999,9,20230907,1355, -32.4249,  33.0392,-999          ,9,-999          ,9
33RR20230722  ,I05        ,182     ,  2,11         ,11         ,2,20230907,1310, -32.4249,  33.0392,     3535,   1599.6,2,   3.4305,2,  34.5809,2,  34.5810,2,    165.2,2,    165.2,2,    67.06,2,    33.24,2,     0.00,2,     2.35,2,     -999,9,     -999,9,     -999,9,   -999.0,9,     -999,9,     -999,9,     -999,9,     -999,1,   3.4317,2,     -999,9,     -999,9,     -999,9,     -999,9,     -999,9,   4.9740,1,   0.0112,1,     -999,9,     -999,9,     -999,9,     -999,9,     -999,9,20230907,1352, -32.4249,  33.0392,-999          ,9,-999          ,9
33RR20230722  ,I05        ,182     ,  2,10         ,10         ,2,20230907,1310, -32.4249,  33.0392,     3535,   1702.9,2,   3.3074,2,  34.6436,2,  34.6431,2,    161.8,2,    161.5,2,    73.50,2,    33.11,2,     0.00,2,     2.35,2,    0.327,6,    0.175,6,   0.0000,6,   2253.4,2,   2342.8,2,   7.5733,2,    24.99,2,     -999,1,   3.3033,2,     -999,9,     -999,9,     -999,9,     -999,9,     -999,9,   4.8045,1,   0.0112,1,     23.9,6,     -999,9,     -999,9,     -999,9,     -999,9,20230907,1350, -32.4249,  33.0392,-999          ,9,-999          ,9
33RR20230722  ,I05        ,182     ,  2,9          ,9          ,2,20230907,1310, -32.4249,  33.0392,     3535,   1821.4,2,   3.0837,2,  34.6779,2,  34.6791,2,    167.3,2,    167.2,2,    74.86,2,    32.40,2,     0.00,2,     2.30,2,     -999,9,     -999,9,     -999,9,   -999.0,9,     -999,9,     -999,9,     -999,9,     -999,1,   3.0841,2,     -999,9,     -999,9,     -999,9,     -999,9,     -999,9,   4.6930,1,   0.0130,1,     -999,9,     -999,9,     -999,9,     -999,9,     -999,9,20230907,1347, -32.4249,  33.0392,-999          ,9,-999          ,9
33RR20230722  ,I05        ,182     ,  2,8          ,8          ,2,20230907,1310, -32.4249,  33.0392,     3535,   1986.8,2,   2.8319,2,  34.7081,2,  34.7081,2,    178.2,2,    178.4,2,    73.10,2,    31.19,2,     0.00,2,     2.20,2,    0.146,2,    0.082,2,  -0.0100,2,   2245.3,2,   2343.2,2,   7.5992,2,    24.98,2,     -999,1,   2.8279,2,     -999,9,     -999,9,     -999,9,     -999,9,     -999,9,   4.9199,1,   0.0118,1,     21.6,2,     -999,9,     -999,9,     -999,9,     -999,9,20230907,1343, -32.4249,  33.0392,-999          ,9,-999          ,9
33RR20230722  ,I05        ,182     ,  2,7          ,7          ,2,20230907,1310, -32.4249,  33.0392,     3535,   2216.0,2,   2.6593,2,  34.7566,2,  34.7567,2,    189.3,2,    189.8,2,    71.34,2,    29.64,2,     0.00,2,     2.08,2,    0.073,2,    0.044,2,   0.0400,2,   2240.3,2,   2344.1,6,   7.6205,2,    25.01,2,     -999,1,   2.6599,2,     -999,9,     -999,9,     -999,9,     -999,9,     -999,9,   4.9738,1,   0.0111,1,     20.0,2,     -999,9,     -999,9,     -999,9,     -999,9,20230907,1338, -32.4249,  33.0392,-999          ,9,-999          ,9
33RR20230722  ,I05        ,182     ,  2,6          ,6          ,2,20230907,1310, -32.4249,  33.0392,     3535,   2504.3,2,   2.5406,2,  34.7849,2,  34.7856,2,    200.4,2,    200.9,2,    68.12,2,    28.31,2,     0.00,2,     1.98,2,     -999,9,     -999,9,     -999,9,   -999.0,9,     -999,9,     -999,9,     -999,9,     -999,1,   2.5406,2,     -999,9,     -999,9,     -999,9,     -999,9,     -999,9,   4.9737,1,   0.0114,1,     -999,9,     -999,9,     -999,9,     -999,9,     -999,9,20230907,1332, -32.4250,  33.0392,-999          ,9,-999          ,9
33RR20230722  ,I05        ,182     ,  2,5          ,5          ,2,20230907,1310, -32.4249,  33.0392,     3535,   2827.7,2,   2.3185,2,  34.8042,2,  34.8047,2,    211.9,2,    212.5,2,    67.63,2,    27.30,2,     0.00,2,     1.90,2,    0.049,2,    0.028,2,   0.0400,2,   2224.6,2,   2343.5,2,   7.6542,2,    25.00,2,     -999,1,   2.3191,2,     -999,9,     -999,9,     -999,9,     -999,9,     -999,9,   4.9439,1,   0.0122,1,     17.4,2,     -999,9,     -999,9,     -999,9,     -999,9,20230907,1326, -32.4250,  33.0392,-999          ,9,-999          ,9
33RR20230722  ,I05        ,182     ,  2,4          ,37         ,2,20230907,1310, -32.4249,  33.0392,     3535,   3142.3,2,   2.0093,2,  34.7996,2,  34.7999,2,    217.1,2,    217.4,2,    74.07,2,    27.32,2,     0.00,2,     1.89,2,    0.049,2,    0.030,2,   0.0000,2,   2226.3,2,   2347.2,2,   7.6574,2,    24.96,2,     -999,1,   2.0091,2,     -999,9,     -999,9,     -999,9,     -999,9,     -999,9,   4.7063,1,   0.0111,1,     17.1,2,     -999,9,     -999,9,     -999,9,     -999,9,20230907,1320, -32.4249,  33.0392,-999          ,9,-999          ,9
33RR20230722  ,I05        ,182     ,  2,3          ,3          ,2,20230907,1310, -32.4249,  33.0392,     3535,   3375.3,2,   1.6416,2,  34.7747,2,  34.7750,2,    216.7,2,    216.7,2,    86.37,2,    28.44,2,     0.00,2,     2.00,2,     -999,9,     -999,9,     -999,9,   -999.0,9,     -999,9,     -999,9,     -999,9,     -999,1,   1.6363,2,     -999,9,     -999,9,     -999,9,     -999,9,     -999,9,   4.9265,1,   0.0113,1,     -999,9,     -999,9,     -999,9,     -999,9,     -999,9,20230907,1315, -32.4249,  33.0392,-999          ,9,-999          ,9
33RR20230722  ,I05        ,182     ,  2,2          ,2          ,2,20230907,1310, -32.4249,  33.0392,     3535,   3504.9,2,   1.3978,2,  34.7570,2,  34.7573,2,    216.1,2,    216.0,2,    95.26,2,    29.39,2,     0.00,2,     2.05,2,    0.113,2,    0.063,2,   0.0300,2,   2244.1,2,   2358.1,2,   7.6378,2,    24.95,2,     -999,1,   1.3969,2,     -999,9,     -999,9,     -999,9,     -999,9,     -999,9,   4.1010,1,   0.0126,1,     17.6,2,     -999,9,     -999,9,     -999,9,     -999,9,20230907,1312, -32.4250,  33.0392,-999          ,9,-999          ,9