BOTTLE,20240422CCHHYDRO
EXPOCODE,SECT_ID,STNNBR,CASTNO,SAMPNO,BTLNBR,BTLNBR_FLAG_W,DATE,TIME,LATITUDE,LONGITUDE,DEPTH,CTDPRS,CTDPRS_FLAG_W,CTDTMP,CTDTMP_FLAG_W,CTDSAL,CTDSAL_FLAG_W,SALNTY,SALNTY_FLAG_W,CTDOXY,CTDOXY_FLAG_W,OXYGEN,OXYGEN_FLAG_W,SILCAT,SILCAT_FLAG_W,NITRAT,NITRAT_FLAG_W,NITRIT,NITRIT_FLAG_W,PHSPHT,PHSPHT_FLAG_W,CFC-11,CFC-11_FLAG_W,CFC-12,CFC-12_FLAG_W,SF6,SF6_FLAG_W,TCARBN,TCARBN_FLAG_W,ALKALI,ALKALI_FLAG_W,PH_TOT,PH_TOT_FLAG_W,PH_TMP,PH_TMP_FLAG_W,DOC,DOC_FLAG_W,REFTMP,REFTMP_FLAG_W,POC,POC_FLAG_W,PON,PON_FLAG_W,POP,POP_FLAG_W,DOP,DOP_FLAG_W,DELO18,DELO18_FLAG_W,CTDFLUOR,CTDFLUOR_FLAG_W,CTDXMISS,CTDXMISS_FLAG_W,N2O,N2O_FLAG_W,D15N_NO3,D15N_NO3_FLAG_W,D15N_NO2+NO3,D15N_NO2+NO3_FLAG_W,D18O_NO2+NO3,D18O_NO2+NO3_FLAG_W,D18O_NO3,D18O_NO3_FLAG_W,BTL_DATE,BTL_TIME,BTL_LAT,BTL_LON,HPLC,HPLC_FLAG_W,DNA,DNA_FLAG_W
,,,,,,,,,,,METERS,DBAR,,ITS-90,,PSS-78,,PSS-78,,UMOL/KG,,UMOL/KG,,UMOL/KG,,UMOL/KG,,UMOL/KG,,UMOL/KG,,PMOL/KG,,PMOL/KG,,FMOL/KG,,UMOL/KG,,UMOL/KG,,,,DEG C,,UMOL/KG,,ITS-90,,UG/KG,,UG/KG,,UG/L,,UMOL/KG,,/MILLE,,VOLTS,,VOLTS,,NMOL/KG,,/MILLE,,/MILLE,,/MILLE,,/MILLE,,,,,,,,,
33RR20230722  ,I05        ,153     ,  1,28         ,28         ,2,20230831,1756, -33.1511,  45.6603,     1747,      4.3,2,  17.8621,2,  35.6787,2,  35.6775,2,    236.6,2,    236.1,2,     2.05,2,     0.07,2,     0.02,2,     0.14,2,    1.236,2,    1.306,2,   2.2100,2,   2073.1,2,   2337.2,2,   7.9717,2,    25.02,2,     -999,1,  17.8607,2,     -999,9,     -999,9,     -999,9,     -999,9,     -999,1,   4.1281,1,   0.0484,1,      7.7,2,     -999,9,     -999,9,     -999,9,     -999,9,20230831,1858, -33.1511,  45.6603,-999          ,9,-999          ,9
33RR20230722  ,I05        ,153     ,  1,27         ,27         ,2,20230831,1756, -33.1511,  45.6603,     1747,     23.7,2,  17.8685,2,  35.6788,2,  35.6777,2,    236.8,2,    236.4,2,     2.05,2,     0.00,2,     0.00,2,     0.13,2,     -999,9,     -999,9,     -999,9,   -999.0,9,     -999,9,     -999,9,     -999,9,     -999,9,  17.8673,2,     -999,9,     -999,9,     -999,9,     -999,9,     -999,1,   4.7267,1,   0.0458,1,     -999,9,     -999,9,     -999,9,     -999,9,     -999,9,20230831,1856, -33.1511,  45.6603,-999          ,9,-999          ,9
33RR20230722  ,I05        ,153     ,  1,26         ,26         ,2,20230831,1756, -33.1511,  45.6603,     1747,     41.1,2,  17.8707,2,  35.6790,2,  35.6769,2,    236.8,2,    236.3,2,     2.05,2,     0.00,2,     0.00,2,     0.14,2,     -999,9,     -999,9,     -999,9,   -999.0,9,     -999,9,     -999,9,     -999,9,     -999,9,  17.8692,2,     -999,9,     -999,9,     -999,9,     -999,9,     -999,1,   4.9549,1,   0.0450,1,     -999,9,     -999,9,     -999,9,     -999,9,     -999,9,20230831,1855, -33.1511,  45.6602,-999          ,9,-999          ,9
33RR20230722  ,I05        ,153     ,  1,25         ,25         ,2,20230831,1756, -33.1511,  45.6603,     1747,     58.2,2,  17.8702,2,  35.6782,2,  35.6767,2,    236.4,2,    236.1,2,     2.05,2,     0.00,2,     0.00,2,     0.14,2,    1.507,2,    1.288,2,   2.1900,2,   2071.7,2,   2336.6,6,   7.9726,2,    25.02,2,     -999,9,  17.8690,2,     -999,9,     -999,9,     -999,9,     -999,9,     -999,1,   4.9745,1,   0.0481,1,      7.4,2,     -999,9,     -999,9,     -999,9,     -999,9,20230831,1853, -33.1511,  45.6602,-999          ,9,-999          ,9
33RR20230722  ,I05        ,153     ,  1,24         ,24         ,2,20230831,1756, -33.1511,  45.6603,     1747,     77.1,2,  17.6629,2,  35.6569,2,  35.6559,2,    229.3,2,    229.4,2,     1.95,2,     0.65,2,     0.15,2,     0.19,2,     -999,9,     -999,9,     -999,9,   -999.0,9,     -999,9,     -999,9,     -999,9,     -999,9,  17.6621,2,     -999,9,     -999,9,     -999,9,     -999,9,     -999,1,   4.9728,1,   0.0277,1,     -999,9,     -999,9,     -999,9,     -999,9,     -999,9,20230831,1851, -33.1511,  45.6602,-999          ,9,-999          ,9
33RR20230722  ,I05        ,153     ,  1,23         ,23         ,2,20230831,1756, -33.1511,  45.6603,     1747,     98.1,2,  17.4841,2,  35.6532,2,  35.6514,2,    230.6,2,    231.3,2,     2.05,2,     0.62,2,     0.26,2,     0.18,2,     -999,9,     -999,9,     -999,9,   2077.6,2,   2335.7,2,   7.9559,6,    25.01,2,     -999,9,  17.4834,2,     -999,9,     -999,9,     -999,9,     -999,9,     -999,1,   4.9725,1,   0.0193,1,     -999,9,     -999,9,     -999,9,     -999,9,     -999,9,20230831,1849, -33.1511,  45.6603,-999          ,9,-999          ,9
33RR20230722  ,I05        ,153     ,  1,22         ,22         ,2,20230831,1756, -33.1511,  45.6603,     1747,    121.7,2,  17.2626,2,  35.6207,2,  35.6202,2,    223.4,2,    223.7,2,     2.24,2,     1.88,2,     0.05,2,     0.25,2,    2.269,2,    1.289,2,   2.2000,2,   -999.0,9,     -999,9,     -999,9,     -999,9,     -999,9,  17.2616,2,     -999,9,     -999,9,     -999,9,     -999,9,     -999,1,   4.9710,1,   0.0137,1,      8.0,2,     -999,9,     -999,9,     -999,9,     -999,9,20230831,1847, -33.1511,  45.6603,-999          ,9,-999          ,9
33RR20230722  ,I05        ,153     ,  1,21         ,21         ,2,20230831,1756, -33.1511,  45.6603,     1747,    146.3,2,  17.1367,2,  35.6243,2,  35.6220,2,    228.2,2,    228.1,2,     2.44,2,     1.93,2,     0.05,2,     0.24,2,     -999,9,     -999,9,     -999,9,   -999.0,9,     -999,9,     -999,9,     -999,9,     -999,9,  17.1331,2,     -999,9,     -999,9,     -999,9,     -999,9,     -999,1,   4.9718,1,   0.0129,1,     -999,9,     -999,9,     -999,9,     -999,9,     -999,9,20230831,1846, -33.1511,  45.6603,-999          ,9,-999          ,9
33RR20230722  ,I05        ,153     ,  1,20         ,20         ,2,20230831,1756, -33.1511,  45.6603,     1747,    174.3,2,  17.0373,2,  35.6205,2,  35.6176,2,    228.5,2,    228.5,2,     2.54,2,     2.08,2,     0.02,2,     0.26,2,     -999,9,     -999,9,     -999,9,   2085.1,2,   2331.4,2,   7.9399,2,    25.00,2,     -999,9,  17.0408,2,     -999,9,     -999,9,     -999,9,     -999,9,     -999,1,   4.8429,1,   0.0128,1,     -999,9,     -999,9,     -999,9,     -999,9,     -999,9,20230831,1844, -33.1511,  45.6603,-999          ,9,-999          ,9
33RR20230722  ,I05        ,153     ,  1,19         ,19         ,2,20230831,1756, -33.1511,  45.6603,     1747,    203.7,2,  16.6285,2,  35.5668,2,  35.5602,2,    216.0,2,    214.9,2,     3.02,2,     4.01,2,     0.00,2,     0.38,2,    1.907,2,    1.354,2,   2.1900,2,   -999.0,9,     -999,9,     -999,9,     -999,9,     -999,9,  16.6370,2,     -999,9,     -999,9,     -999,9,     -999,9,     -999,1,   4.9693,1,   0.0118,1,      8.5,2,     -999,9,     -999,9,     -999,9,     -999,9,20230831,1842, -33.1511,  45.6602,-999          ,9,-999          ,9
33RR20230722  ,I05        ,153     ,  1,18         ,18         ,2,20230831,1756, -33.1511,  45.6603,     1747,    233.4,2,  16.0955,2,  35.5239,2,  35.5220,2,    211.8,2,    211.8,2,     3.02,2,     4.92,2,     0.00,2,     0.44,2,     -999,9,     -999,9,     -999,9,   2107.7,2,   2326.5,2,   7.8900,2,    25.03,2,     -999,9,  16.0942,2,     -999,9,     -999,9,     -999,9,     -999,9,     -999,1,   4.9702,1,   0.0119,1,     -999,9,     -999,9,     -999,9,     -999,9,     -999,9,20230831,1841, -33.1511,  45.6603,-999          ,9,-999          ,9
33RR20230722  ,I05        ,153     ,  1,17         ,17         ,2,20230831,1756, -33.1511,  45.6603,     1747,    265.2,2,  15.8620,2,  35.5052,2,  35.5020,2,    211.3,2,    211.6,2,     3.12,2,     5.33,2,     0.00,2,     0.48,2,     -999,9,     -999,9,     -999,9,   -999.0,9,     -999,9,     -999,9,     -999,9,     -999,9,  15.8545,2,     -999,9,     -999,9,     -999,9,     -999,9,     -999,1,   4.9682,1,   0.0116,1,     -999,9,     -999,9,     -999,9,     -999,9,     -999,9,20230831,1839, -33.1511,  45.6603,-999          ,9,-999          ,9
33RR20230722  ,I05        ,153     ,  1,16         ,16         ,2,20230831,1756, -33.1511,  45.6603,     1747,    302.4,2,  15.1829,2,  35.4450,2,  35.4415,2,    213.5,2,    213.7,2,     3.51,2,     6.14,2,     0.00,2,     0.52,2,    2.618,2,    1.488,2,   2.1400,2,   2115.3,2,   2322.2,2,   7.8711,2,    25.02,2,     -999,9,  15.1693,2,     -999,9,     -999,9,     -999,9,     -999,9,     -999,1,   4.9679,1,   0.0119,1,      9.3,2,     -999,9,     -999,9,     -999,9,     -999,9,20230831,1837, -33.1511,  45.6603,-999          ,9,-999          ,9
33RR20230722  ,I05        ,153     ,  1,15         ,15         ,2,20230831,1756, -33.1511,  45.6603,     1747,    344.6,2,  14.6503,2,  35.3894,2,  35.3878,2,    214.5,2,    215.0,2,     3.61,2,     6.89,2,     0.00,2,     0.58,2,     -999,9,     -999,9,     -999,9,   -999.0,9,     -999,9,     -999,9,     -999,9,     -999,9,  14.6514,2,     -999,9,     -999,9,     -999,9,     -999,9,     -999,1,   4.8065,1,   0.0116,1,     -999,9,     -999,9,     -999,9,     -999,9,     -999,9,20230831,1835, -33.1511,  45.6603,-999          ,9,-999          ,9
33RR20230722  ,I05        ,153     ,  1,14         ,14         ,2,20230831,1756, -33.1511,  45.6603,     1747,    397.0,2,  14.0301,2,  35.3229,2,  35.3212,2,    217.0,2,    217.0,2,     3.41,2,     7.80,2,     0.00,2,     0.63,2,    2.518,2,    1.640,2,   2.1300,2,   2120.5,2,   2317.8,2,   7.8456,2,    25.00,2,     -999,9,  14.0304,2,     -999,9,     -999,9,     -999,9,     -999,9,     -999,1,   4.9185,1,   0.0116,1,      9.9,2,     -999,9,     -999,9,     -999,9,     -999,9,20230831,1833, -33.1511,  45.6603,-999          ,9,-999          ,9
33RR20230722  ,I05        ,153     ,  1,13         ,13         ,2,20230831,1756, -33.1511,  45.6603,     1747,    460.0,2,  13.3828,2,  35.2524,2,  35.2542,2,    220.0,2,    219.8,2,     3.71,2,     8.80,2,     0.00,2,     0.70,2,    2.778,2,    1.634,2,   2.1100,2,   -999.0,9,     -999,9,     -999,9,     -999,9,     -999,9,  13.3903,2,     -999,9,     -999,9,     -999,9,     -999,9,     -999,1,   4.9236,1,   0.0114,1,     10.2,2,     -999,9,     -999,9,     -999,9,     -999,9,20230831,1831, -33.1511,  45.6603,-999          ,9,-999          ,9
33RR20230722  ,I05        ,153     ,  1,12         ,12         ,2,20230831,1756, -33.1511,  45.6603,     1747,    535.2,2,  12.6032,2,  35.1466,2,  35.1455,2,    222.5,2,    222.5,2,     3.80,2,    10.38,2,     0.00,2,     0.79,2,    2.859,2,    1.746,2,   2.0500,2,   2129.1,2,   2310.7,2,   7.8182,2,    25.02,2,     -999,9,  12.6032,2,     -999,9,     -999,9,     -999,9,     -999,9,     -999,1,   4.9669,1,   0.0116,1,     10.6,2,     -999,9,     -999,9,     -999,9,     -999,9,20230831,1828, -33.1511,  45.6603,-999          ,9,-999          ,9
33RR20230722  ,I05        ,153     ,  1,11         ,11         ,2,20230831,1756, -33.1511,  45.6603,     1747,    620.5,2,  11.8617,2,  35.0336,2,  35.0327,2,    220.8,2,    221.1,2,     4.59,2,    12.17,2,     0.00,2,     0.91,2,    2.822,2,    1.785,2,   1.9400,2,   -999.0,9,     -999,9,     -999,9,     -999,9,     -999,9,  11.8618,2,     -999,9,     -999,9,     -999,9,     -999,9,     -999,1,   4.7916,1,   0.0117,1,     11.3,2,     -999,9,     -999,9,     -999,9,     -999,9,20230831,1826, -33.1511,  45.6603,-999          ,9,-999          ,9
33RR20230722  ,I05        ,153     ,  1,10         ,10         ,2,20230831,1756, -33.1511,  45.6603,     1747,    718.2,2,  10.9385,2,  34.8993,2,  34.8987,2,    219.1,2,    219.3,2,     5.56,2,    14.38,2,     0.00,2,     1.04,2,     -999,9,     -999,9,     -999,9,   2138.8,2,   2290.8,6,   7.7751,2,    25.02,2,     -999,9,  10.9391,2,     -999,9,     -999,9,     -999,9,     -999,9,     -999,1,   4.9667,1,   0.0115,1,     -999,9,     -999,9,     -999,9,     -999,9,     -999,9,20230831,1823, -33.1511,  45.6603,-999          ,9,-999          ,9
33RR20230722  ,I05        ,153     ,  1,9          ,9          ,2,20230831,1756, -33.1511,  45.6603,     1747,    830.0,2,   9.5374,2,  34.7269,2,  34.7258,2,    214.9,2,    214.6,2,     8.29,2,    18.15,2,     0.00,2,     1.28,2,    2.979,2,    1.668,2,   1.5400,2,   -999.0,9,     -999,9,     -999,9,     -999,9,     -999,9,   9.5359,2,     -999,9,     -999,9,     -999,9,     -999,9,     -999,1,   4.3658,1,   0.0115,1,     13.0,2,     -999,9,     -999,9,     -999,9,     -999,9,20230831,1820, -33.1511,  45.6603,-999          ,9,-999          ,9
33RR20230722  ,I05        ,153     ,  1,8          ,8          ,2,20230831,1756, -33.1511,  45.6603,     1747,    949.5,2,   8.0234,2,  34.5764,2,  34.5753,2,    208.0,2,    207.5,2,    13.96,2,    22.48,2,     0.00,2,     1.56,2,     -999,9,     -999,9,     -999,9,   2163.4,2,   2290.6,2,   7.6933,2,    25.00,2,     -999,9,   8.0283,2,     -999,9,     -999,9,     -999,9,     -999,9,     -999,1,   4.9684,1,   0.0113,1,     -999,9,     -999,9,     -999,9,     -999,9,     -999,9,20230831,1817, -33.1511,  45.6603,-999          ,9,-999          ,9
33RR20230722  ,I05        ,153     ,  1,7          ,7          ,2,20230831,1756, -33.1511,  45.6603,     1747,   1068.4,2,   6.3006,2,  34.4475,2,  34.4467,2,    203.3,2,    203.3,2,    22.64,2,    26.84,2,     0.00,2,     1.85,2,     -999,9,     -999,9,     -999,9,   2182.7,2,   2291.3,2,   7.6485,2,    25.01,2,     -999,9,   6.3016,2,     -999,9,     -999,9,     -999,9,     -999,9,     -999,1,   4.9600,1,   0.0112,1,     -999,9,     -999,9,     -999,9,     -999,9,     -999,9,20230831,1814, -33.1511,  45.6603,-999          ,9,-999          ,9
33RR20230722  ,I05        ,153     ,  1,6          ,6          ,2,20230831,1756, -33.1511,  45.6603,     1747,   1195.7,2,   5.0633,2,  34.3909,2,  34.3908,2,    198.5,2,    198.9,2,    31.24,2,    29.75,2,     0.00,2,     2.06,2,    1.364,2,    1.164,6,   0.7100,6,   2197.6,2,   2297.2,2,   7.6202,2,    25.01,2,     -999,9,   5.0834,2,     -999,9,     -999,9,     -999,9,     -999,9,     -999,1,   4.9700,1,   0.0111,1,     17.8,6,     -999,9,     -999,9,     -999,9,     -999,9,20230831,1810, -33.1511,  45.6603,-999          ,9,-999          ,9
33RR20230722  ,I05        ,153     ,  1,5          ,5          ,2,20230831,1756, -33.1511,  45.6603,     1747,   1332.1,2,   4.1963,2,  34.4185,2,  34.4177,2,    188.2,2,    188.7,2,    44.22,2,    31.83,2,     0.00,2,     2.21,2,     -999,9,     -999,9,     -999,9,   2217.1,2,   2307.0,2,   7.5954,2,    25.00,2,     -999,9,   4.1954,2,     -999,9,     -999,9,     -999,9,     -999,9,     -999,1,   4.9566,1,   0.0115,1,     -999,9,     -999,9,     -999,9,     -999,9,     -999,9,20230831,1807, -33.1511,  45.6603,-999          ,9,-999          ,9
33RR20230722  ,I05        ,153     ,  1,4          ,37         ,2,20230831,1756, -33.1511,  45.6603,     1747,   1473.3,2,   3.5580,2,  34.4919,2,  34.4913,2,    177.7,2,    177.6,2,    56.61,2,    32.96,2,     0.00,2,     2.29,2,     -999,9,     -999,9,     -999,9,   -999.0,9,     -999,9,     -999,9,     -999,9,     -999,9,   3.5625,2,     -999,9,     -999,9,     -999,9,     -999,9,     -999,1,   4.9037,1,   0.0115,1,     -999,9,     -999,9,     -999,9,     -999,9,     -999,9,20230831,1804, -33.1511,  45.6603,-999          ,9,-999          ,9
33RR20230722  ,I05        ,153     ,  1,3          ,3          ,2,20230831,1756, -33.1511,  45.6603,     1747,   1594.8,2,   3.2746,2,  34.5442,2,  34.5437,2,    174.2,2,    174.1,2,    63.24,2,    33.13,2,     0.00,2,     2.30,2,    0.590,2,    0.353,2,   0.1700,2,   2241.4,2,   2327.8,2,   7.5784,2,    25.02,2,     -999,9,   3.2738,2,     -999,9,     -999,9,     -999,9,     -999,9,     -999,1,   4.9713,1,   0.0115,1,     20.6,2,     -999,9,     -999,9,     -999,9,     -999,9,20230831,1801, -33.1511,  45.6603,-999          ,9,-999          ,9
33RR20230722  ,I05        ,153     ,  1,2          ,2          ,2,20230831,1756, -33.1511,  45.6603,     1747,   1682.2,2,   3.1260,2,  34.5757,2,  34.5753,2,    173.9,2,    173.9,2,    66.37,2,    33.01,2,     0.00,2,     2.30,2,    0.342,2,    0.281,2,   0.1400,2,   2243.4,2,   2329.8,2,   7.5800,2,    25.00,2,     -999,9,   3.1257,2,     -999,9,     -999,9,     -999,9,     -999,9,     -999,1,   4.1765,1,   0.0116,1,     20.6,2,     -999,9,     -999,9,     -999,9,     -999,9,20230831,1758, -33.1511,  45.6602,-999          ,9,-999          ,9
33RR20230722  ,I05        ,153     ,  1,1          ,1          ,2,20230831,1756, -33.1511,  45.6603,     1747,   1755.6,2,   2.9507,2,  34.6229,2,  34.6215,2,    175.7,2,    175.9,2,    69.00,2,    32.44,2,     0.00,2,     2.25,2,    0.370,2,    0.227,2,   0.0700,2,   2245.6,6,   2334.8,2,   7.5876,6,    25.00,2,     -999,9,   2.9501,2,     -999,9,     -999,9,     -999,9,     -999,9,     -999,1,   0.5394,1,   0.0119,1,     19.7,2,     -999,9,     -999,9,     -999,9,     -999,9,20230831,1756, -33.1511,  45.6603,-999          ,9,-999          ,9