BOTTLE,20240422CCHHYDRO
EXPOCODE,SECT_ID,STNNBR,CASTNO,SAMPNO,BTLNBR,BTLNBR_FLAG_W,DATE,TIME,LATITUDE,LONGITUDE,DEPTH,CTDPRS,CTDPRS_FLAG_W,CTDTMP,CTDTMP_FLAG_W,CTDSAL,CTDSAL_FLAG_W,SALNTY,SALNTY_FLAG_W,CTDOXY,CTDOXY_FLAG_W,OXYGEN,OXYGEN_FLAG_W,SILCAT,SILCAT_FLAG_W,NITRAT,NITRAT_FLAG_W,NITRIT,NITRIT_FLAG_W,PHSPHT,PHSPHT_FLAG_W,CFC-11,CFC-11_FLAG_W,CFC-12,CFC-12_FLAG_W,SF6,SF6_FLAG_W,TCARBN,TCARBN_FLAG_W,ALKALI,ALKALI_FLAG_W,PH_TOT,PH_TOT_FLAG_W,PH_TMP,PH_TMP_FLAG_W,DOC,DOC_FLAG_W,REFTMP,REFTMP_FLAG_W,POC,POC_FLAG_W,PON,PON_FLAG_W,POP,POP_FLAG_W,DOP,DOP_FLAG_W,DELO18,DELO18_FLAG_W,CTDFLUOR,CTDFLUOR_FLAG_W,CTDXMISS,CTDXMISS_FLAG_W,N2O,N2O_FLAG_W,D15N_NO3,D15N_NO3_FLAG_W,D15N_NO2+NO3,D15N_NO2+NO3_FLAG_W,D18O_NO2+NO3,D18O_NO2+NO3_FLAG_W,D18O_NO3,D18O_NO3_FLAG_W,BTL_DATE,BTL_TIME,BTL_LAT,BTL_LON,HPLC,HPLC_FLAG_W,DNA,DNA_FLAG_W
,,,,,,,,,,,METERS,DBAR,,ITS-90,,PSS-78,,PSS-78,,UMOL/KG,,UMOL/KG,,UMOL/KG,,UMOL/KG,,UMOL/KG,,UMOL/KG,,PMOL/KG,,PMOL/KG,,FMOL/KG,,UMOL/KG,,UMOL/KG,,,,DEG C,,UMOL/KG,,ITS-90,,UG/KG,,UG/KG,,UG/L,,UMOL/KG,,/MILLE,,VOLTS,,VOLTS,,NMOL/KG,,/MILLE,,/MILLE,,/MILLE,,/MILLE,,,,,,,,,
33RR20230722  ,I05        ,95      ,  1,36         ,36         ,2,20230815,2158, -34.0072,  73.6992,     4880,      8.4,2,  15.0966,2,  35.2876,2,  35.2869,2,    252.3,2,    252.0,2,     1.27,2,     1.07,2,     0.08,2,     0.28,2,    2.151,2,    1.617,2,   2.5100,2,   2088.8,6,   2320.9,2,   7.9220,2,    25.01,2,     -999,1,  15.0973,2,     -999,9,     -999,9,     -999,9,     -999,1,     -999,9,   0.0688,1,   0.0565,1,      8.8,2,     -999,9,     -999,9,     -999,9,     -999,9,20230816,0004, -34.0072,  73.6992,-999          ,9,-999          ,9
33RR20230722  ,I05        ,95      ,  1,35         ,35         ,2,20230815,2158, -34.0072,  73.6992,     4880,     30.9,2,  14.9883,2,  35.2740,2,  35.2727,2,    252.7,2,    252.2,2,     1.27,2,     1.13,2,     0.09,2,     0.28,2,     -999,9,     -999,9,     -999,9,   2088.1,2,   2319.3,2,   7.9225,6,    25.00,2,     -999,9,  14.9875,2,     -999,9,     -999,9,     -999,9,     -999,1,     -999,9,   4.9419,1,   0.0674,1,     -999,9,     -999,9,     -999,9,     -999,9,     -999,9,20230816,0002, -34.0072,  73.6992,-999          ,9,-999          ,9
33RR20230722  ,I05        ,95      ,  1,34         ,34         ,2,20230815,2158, -34.0072,  73.6992,     4880,     52.1,2,  14.9748,2,  35.2745,2,  35.2739,2,    250.9,2,    250.9,2,     1.17,2,     1.21,2,     0.10,2,     0.26,2,    2.135,2,    1.468,2,   2.4500,2,   2089.3,2,   2319.3,6,   7.9195,2,    25.03,2,     -999,9,  14.9737,2,     -999,9,     -999,9,     -999,9,     -999,1,     -999,9,   4.9745,1,   0.0596,1,      8.8,2,     -999,9,     -999,9,     -999,9,     -999,9,20230816,0001, -34.0072,  73.6992,-999          ,9,-999          ,9
33RR20230722  ,I05        ,95      ,  1,33         ,33         ,2,20230815,2158, -34.0072,  73.6992,     4880,     76.7,2,  14.9573,2,  35.2735,2,  35.2727,2,    248.4,2,    248.9,2,     1.27,2,     1.34,2,     0.13,2,     0.26,2,     -999,9,     -999,9,     -999,9,   2089.7,2,   2320.1,2,   7.9179,2,    25.01,2,     -999,9,  14.9568,2,     -999,9,     -999,9,     -999,9,     -999,1,     -999,9,   4.9124,1,   0.0389,1,     -999,9,     -999,9,     -999,9,     -999,9,     -999,9,20230815,2359, -34.0072,  73.6992,-999          ,9,-999          ,9
33RR20230722  ,I05        ,95      ,  1,32         ,32         ,2,20230815,2158, -34.0072,  73.6992,     4880,    101.8,2,  14.5332,2,  35.2914,2,  35.2921,2,    234.0,3,    236.5,2,     1.95,2,     4.02,2,     0.13,2,     0.43,2,    2.281,2,    1.515,2,   2.3900,2,   2106.2,2,   2317.9,2,   7.8842,6,    25.01,2,     -999,9,  14.5263,2,     -999,9,     -999,9,     -999,9,     -999,9,     -999,9,   4.6875,1,   0.0188,1,      9.6,2,     -999,9,     -999,9,     -999,9,     -999,9,20230815,2357, -34.0072,  73.6992,-999          ,9,-999          ,9
33RR20230722  ,I05        ,95      ,  1,31         ,31         ,2,20230815,2158, -34.0072,  73.6992,     4880,    130.6,2,  13.8334,2,  35.3088,2,  35.3062,2,    227.5,2,    229.8,2,     2.93,2,     6.74,2,     0.02,2,     0.59,2,     -999,9,     -999,9,     -999,9,   2121.5,2,   2318.4,2,   7.8538,2,    25.00,2,     -999,9,  13.8328,2,     -999,9,     -999,9,     -999,9,     -999,1,     -999,9,   4.7255,1,   0.0127,1,     -999,9,     -999,9,     -999,9,     -999,9,     -999,9,20230815,2355, -34.0072,  73.6992,-999          ,9,-999          ,9
33RR20230722  ,I05        ,95      ,  1,30         ,30         ,2,20230815,2158, -34.0072,  73.6992,     4880,    159.2,2,  13.4897,2,  35.2683,2,  35.2668,2,    230.2,2,    232.1,2,     3.02,2,     7.25,2,     0.01,2,     0.61,2,    2.539,2,    1.585,6,   2.4100,6,   2119.1,2,   2316.2,2,   7.8477,2,    25.01,2,     -999,9,  13.4876,2,     -999,9,     -999,9,     -999,9,     -999,9,     -999,9,   4.9693,1,   0.0118,1,     10.4,6,     -999,9,     -999,9,     -999,9,     -999,9,20230815,2353, -34.0072,  73.6993,-999          ,9,-999          ,9
33RR20230722  ,I05        ,95      ,  1,29         ,29         ,2,20230815,2158, -34.0072,  73.6992,     4880,    188.4,2,  13.2460,2,  35.2376,2,  35.2377,2,    233.8,2,    234.4,2,     3.22,2,     7.76,2,     0.00,2,     0.64,2,     -999,9,     -999,9,     -999,9,   2120.7,2,   2314.7,2,   7.8445,2,    25.01,2,     -999,9,  13.2454,2,     -999,9,     -999,9,     -999,9,     -999,9,     -999,9,   4.9693,1,   0.0118,1,     -999,9,     -999,9,     -999,9,     -999,9,     -999,9,20230815,2352, -34.0072,  73.6992,-999          ,9,-999          ,9
33RR20230722  ,I05        ,95      ,  1,28         ,28         ,2,20230815,2158, -34.0072,  73.6992,     4880,    221.8,2,  13.1509,2,  35.2276,2,  35.2294,2,    235.5,2,    236.2,2,     3.22,2,     7.85,2,     0.00,2,     0.63,2,    2.576,2,    1.612,2,   2.4000,2,   2120.9,2,   2313.9,2,   7.8430,2,    25.01,2,     -999,9,  13.1505,2,     -999,9,     -999,9,     -999,9,     -999,9,     -999,9,   4.9693,1,   0.0118,1,     10.6,2,     -999,9,     -999,9,     -999,9,     -999,9,20230815,2350, -34.0072,  73.6992,-999          ,9,-999          ,9
33RR20230722  ,I05        ,95      ,  1,27         ,27         ,2,20230815,2158, -34.0072,  73.6992,     4880,    263.3,2,  12.8759,2,  35.1911,2,  35.1894,2,    236.9,2,    237.4,2,     3.22,2,     8.28,2,     0.00,2,     0.67,2,    2.642,2,    1.631,2,   2.4300,2,   2123.1,2,   2312.4,2,   7.8361,2,    25.01,2,     -999,9,  12.8748,2,     -999,9,     -999,9,     -999,9,     -999,1,     -999,9,   4.8637,1,   0.0113,1,     10.9,2,     -999,9,     -999,9,     -999,9,     -999,9,20230815,2348, -34.0072,  73.6992,-999          ,9,-999          ,9
33RR20230722  ,I05        ,95      ,  1,26         ,26         ,2,20230815,2158, -34.0072,  73.6992,     4880,    311.3,2,  12.6672,2,  35.1610,2,  35.1597,2,    237.8,2,    237.8,2,     3.22,2,     8.65,2,     0.00,2,     0.68,2,    2.660,2,    1.652,2,   2.3300,2,   2123.8,2,   2310.6,2,   7.8313,2,    25.01,2,     -999,9,  12.6661,2,     -999,9,     -999,9,     -999,9,     -999,9,     -999,9,   4.9177,1,   0.0114,1,     10.9,2,     -999,9,     -999,9,     -999,9,     -999,9,20230815,2346, -34.0072,  73.6992,-999          ,9,-999          ,9
33RR20230722  ,I05        ,95      ,  1,25         ,25         ,2,20230815,2158, -34.0072,  73.6992,     4880,    365.9,2,  12.3464,2,  35.1088,2,  35.1081,2,    235.9,2,    235.8,2,     3.42,2,     9.59,2,     0.00,2,     0.75,2,     -999,9,     -999,9,     -999,9,   2125.8,6,   2308.7,2,   7.8221,2,    25.02,2,     -999,9,  12.3448,2,     -999,9,     -999,9,     -999,9,     -999,9,     -999,9,   4.9685,1,   0.0114,1,     -999,9,     -999,9,     -999,9,     -999,9,     -999,9,20230815,2344, -34.0072,  73.6992,-999          ,9,-999          ,9
33RR20230722  ,I05        ,95      ,  1,24         ,24         ,2,20230815,2158, -34.0072,  73.6992,     4880,    426.4,2,  12.0428,2,  35.0592,2,  35.0577,2,    235.0,2,    235.0,2,     3.71,2,    10.45,2,     0.00,2,     0.78,2,    2.712,2,    1.706,2,   2.3600,2,   2126.4,2,   2306.2,2,   7.8132,2,    25.01,2,     -999,9,  12.0422,2,     -999,9,     -999,9,     -999,9,     -999,9,     -999,9,   4.9635,1,   0.0113,1,     11.2,2,     -999,9,     -999,9,     -999,9,     -999,9,20230815,2342, -34.0072,  73.6992,-999          ,9,-999          ,9
33RR20230722  ,I05        ,95      ,  1,23         ,23         ,2,20230815,2158, -34.0072,  73.6992,     4880,    493.2,2,  11.6696,2,  34.9999,2,  34.9943,2,    233.5,2,    234.0,2,     3.90,2,    11.53,2,     0.00,2,     0.86,2,     -999,9,     -999,9,     -999,9,   2129.2,2,   2303.1,2,   7.8023,2,    25.01,2,     -999,9,  11.6669,2,     -999,9,     -999,9,     -999,9,     -999,9,     -999,9,   4.9672,1,   0.0115,1,     -999,9,     -999,9,     -999,9,     -999,9,     -999,9,20230815,2340, -34.0072,  73.6992,-999          ,9,-999          ,9
33RR20230722  ,I05        ,95      ,  1,22         ,22         ,2,20230815,2158, -34.0072,  73.6992,     4880,    571.2,2,  10.9568,2,  34.8953,2,  34.8943,2,    228.6,2,    228.2,2,     4.68,2,    13.52,2,     0.00,2,     1.00,2,    2.877,2,    1.797,2,   2.0400,2,   2135.8,2,   2299.3,2,   7.7820,2,    25.01,2,     -999,9,  10.9587,2,     -999,9,     -999,9,     -999,9,     -999,9,     -999,9,   4.9666,1,   0.0105,1,     12.0,2,     -999,9,     -999,9,     -999,9,     -999,9,20230815,2337, -34.0072,  73.6992,-999          ,9,-999          ,9
33RR20230722  ,I05        ,95      ,  1,21         ,21         ,2,20230815,2158, -34.0072,  73.6992,     4880,    673.9,2,   9.9456,2,  34.7563,2,  34.7541,2,    220.0,2,    220.1,2,     6.44,2,    16.65,2,     0.00,2,     1.19,2,     -999,9,     -999,9,     -999,9,   2144.0,2,   2294.2,2,   7.7488,2,    25.01,2,     -999,9,   9.9423,2,     -999,9,     -999,9,     -999,9,     -999,9,     -999,9,   4.8468,1,   0.0112,1,     -999,9,     -999,9,     -999,9,     -999,9,     -999,9,20230815,2334, -34.0072,  73.6992,-999          ,9,-999          ,9
33RR20230722  ,I05        ,95      ,  1,20         ,20         ,2,20230815,2158, -34.0072,  73.6992,     4880,    815.5,2,   7.9110,2,  34.5441,2,  34.5439,2,    208.4,2,    208.8,2,    12.98,2,    22.62,2,     0.00,2,     1.58,2,    2.931,2,    1.715,2,   1.4300,2,   2162.7,2,   2288.6,2,   7.6868,2,    25.02,2,     -999,9,   7.9049,2,     -999,9,     -999,9,     -999,9,     -999,9,     -999,9,   4.9683,1,   0.0113,1,     16.1,2,     -999,9,     -999,9,     -999,9,     -999,9,20230815,2331, -34.0072,  73.6992,-999          ,9,-999          ,9
33RR20230722  ,I05        ,95      ,  1,19         ,19         ,2,20230815,2158, -34.0072,  73.6992,     4880,    947.8,2,   6.0422,2,  34.3941,2,  34.3906,2,    209.3,2,    209.3,2,    20.80,2,    26.97,2,     0.00,2,     1.87,2,    2.837,2,    1.593,2,   1.2300,2,   2180.9,2,   2287.9,2,   7.6425,6,    25.01,2,     -999,9,   6.0412,2,     -999,9,     -999,9,     -999,9,     -999,9,     -999,9,   4.9019,1,   0.0111,1,     17.8,2,     -999,9,     -999,9,     -999,9,     -999,9,20230815,2327, -34.0072,  73.6992,-999          ,9,-999          ,9
33RR20230722  ,I05        ,95      ,  1,18         ,18         ,2,20230815,2158, -34.0072,  73.6992,     4880,   1058.4,2,   4.7444,2,  34.3419,2,  34.3419,2,    206.4,2,    206.0,2,    30.37,2,    29.91,2,     0.00,2,     2.08,2,    2.508,2,    1.380,2,   0.9800,2,   2194.2,2,   2293.3,2,   7.6173,2,    25.02,2,     -999,9,   4.7424,2,     -999,9,     -999,9,     -999,9,     -999,9,     -999,9,   4.7466,1,   0.0111,1,     19.3,2,     -999,9,     -999,9,     -999,9,     -999,9,20230815,2324, -34.0072,  73.6992,-999          ,9,-999          ,9
33RR20230722  ,I05        ,95      ,  1,17         ,17         ,2,20230815,2158, -34.0072,  73.6992,     4880,   1170.1,2,   3.9745,2,  34.3658,2,  34.3619,2,    195.5,2,    196.3,2,    40.42,2,    31.76,2,     0.00,2,     2.26,2,    2.003,2,    1.081,2,  -0.0100,2,   2213.3,2,   2301.0,2,   7.5958,2,    25.00,2,     -999,9,   3.9690,2,     -999,9,     -999,9,     -999,9,     -999,9,     -999,9,   4.9352,1,   0.0110,1,     20.9,2,     -999,9,     -999,9,     -999,9,     -999,9,20230815,2321, -34.0072,  73.6993,-999          ,9,-999          ,9
33RR20230722  ,I05        ,95      ,  1,16         ,16         ,2,20230815,2158, -34.0072,  73.6992,     4880,   1284.8,2,   3.6032,2,  34.4136,2,  34.4147,2,    183.7,2,    183.8,2,    50.67,2,    33.08,2,     0.00,2,     2.32,2,     -999,9,     -999,9,     -999,9,   2225.6,2,   2312.0,2,   7.5810,6,    25.01,2,     -999,9,   3.6023,2,     -999,9,     -999,9,     -999,9,     -999,9,     -999,9,   4.9228,1,   0.0111,1,     -999,9,     -999,9,     -999,9,     -999,9,     -999,9,20230815,2318, -34.0072,  73.6992,-999          ,9,-999          ,9
33RR20230722  ,I05        ,95      ,  1,15         ,15         ,2,20230815,2158, -34.0072,  73.6992,     4880,   1393.0,2,   3.3199,2,  34.4721,2,  34.4718,2,    173.6,2,    173.9,2,    59.85,2,    33.68,2,     0.00,2,     2.36,2,    0.926,2,    0.473,2,   0.0000,2,   2239.0,2,   2320.9,6,   7.5696,2,    25.02,2,     -999,9,   3.3141,2,     -999,9,     -999,9,     -999,9,     -999,9,     -999,9,   4.9737,1,   0.0110,1,     22.5,2,     -999,9,     -999,9,     -999,9,     -999,9,20230815,2315, -34.0072,  73.6992,-999          ,9,-999          ,9
33RR20230722  ,I05        ,95      ,  1,14         ,14         ,2,20230815,2158, -34.0072,  73.6992,     4880,   1507.4,2,   3.0495,2,  34.5255,2,  34.5264,2,    170.7,2,    170.5,2,    66.00,2,    33.57,2,     0.00,2,     2.35,2,     -999,9,     -999,9,     -999,9,   2245.8,6,   2325.8,2,   7.5670,2,    25.02,2,     -999,9,   3.0523,2,     -999,9,     -999,9,     -999,9,     -999,9,     -999,9,   4.7821,1,   0.0111,1,     -999,9,     -999,9,     -999,9,     -999,9,     -999,9,20230815,2312, -34.0072,  73.6993,-999          ,9,-999          ,9
33RR20230722  ,I05        ,95      ,  1,13         ,13         ,2,20230815,2158, -34.0072,  73.6992,     4880,   1635.6,2,   2.8302,2,  34.5836,2,  34.5847,2,    170.4,2,    170.4,2,    70.78,2,    33.31,2,     0.00,2,     2.33,2,    0.413,2,    0.221,2,   0.0000,2,   2249.3,2,   2333.1,2,   7.5698,2,    25.01,2,     -999,9,   2.8285,2,     -999,9,     -999,9,     -999,9,     -999,9,     -999,9,   4.9104,1,   0.0113,1,     21.1,2,     -999,9,     -999,9,     -999,9,     -999,9,20230815,2309, -34.0072,  73.6993,-999          ,9,-999          ,9
33RR20230722  ,I05        ,95      ,  1,12         ,12         ,2,20230815,2158, -34.0072,  73.6992,     4880,   1778.3,2,   2.6577,2,  34.6364,2,  34.6366,2,    173.5,2,    173.5,2,    74.19,2,    32.60,2,     0.00,2,     2.28,2,     -999,9,     -999,9,     -999,9,   2249.6,2,   2337.8,2,   7.5795,2,    25.01,2,     -999,9,   2.6587,2,     -999,9,     -999,9,     -999,9,     -999,9,     -999,9,   4.9744,1,   0.0111,1,     -999,9,     -999,9,     -999,9,     -999,9,     -999,9,20230815,2305, -34.0072,  73.6993,-999          ,9,-999          ,9
33RR20230722  ,I05        ,95      ,  1,11         ,11         ,2,20230815,2158, -34.0072,  73.6992,     4880,   1954.4,2,   2.4760,2,  34.6846,2,  34.6842,2,    179.0,2,    179.3,2,    77.80,2,    31.77,2,     0.00,2,     2.24,2,    0.158,2,    0.086,2,   0.0000,2,   2246.8,2,   2341.9,2,   7.5912,2,    25.00,2,     -999,9,   2.4782,2,     -999,9,     -999,9,     -999,9,     -999,9,     -999,9,   4.8052,1,   0.0110,1,     20.7,2,     -999,9,     -999,9,     -999,9,     -999,9,20230815,2301, -34.0072,  73.6993,-999          ,9,-999          ,9
33RR20230722  ,I05        ,95      ,  1,10         ,10         ,2,20230815,2158, -34.0072,  73.6992,     4880,   2157.9,2,   2.2068,2,  34.7173,2,  34.7172,2,    182.5,2,    182.9,2,    88.34,2,    31.41,2,     0.00,2,     2.22,2,    0.066,2,    0.038,2,   0.0000,2,   2256.3,2,   2352.8,2,   7.6047,2,    25.02,2,     -999,9,   2.2078,2,     -999,9,     -999,9,     -999,9,     -999,9,     -999,9,   4.9745,1,   0.0111,1,     20.2,2,     -999,9,     -999,9,     -999,9,     -999,9,20230815,2256, -34.0072,  73.6992,-999          ,9,-999          ,9
33RR20230722  ,I05        ,95      ,  1,9          ,9          ,2,20230815,2158, -34.0072,  73.6992,     4880,   2414.6,2,   1.9814,2,  34.7271,2,  34.7264,2,    179.5,2,    179.5,2,   103.27,2,    32.13,2,     0.00,2,     2.25,2,    0.020,2,    0.013,2,   0.0300,2,   2270.2,2,   2367.6,2,   7.6070,2,    25.00,2,     -999,9,   1.9841,2,     -999,9,     -999,9,     -999,9,     -999,9,     -999,9,   4.9753,1,   0.0110,1,     20.1,2,     -999,9,     -999,9,     -999,9,     -999,9,20230815,2251, -34.0072,  73.6992,-999          ,9,-999          ,9
33RR20230722  ,I05        ,95      ,  1,8          ,8          ,2,20230815,2158, -34.0072,  73.6992,     4880,   2715.3,2,   1.7919,2,  34.7262,2,  34.7264,2,    177.8,2,    177.7,2,   114.21,2,    32.83,2,     0.00,2,     2.29,2,    0.010,2,    0.005,2,   0.0000,2,   2280.1,2,   2380.0,2,   7.6050,2,    25.01,2,     -999,9,   1.7924,2,     -999,9,     -999,9,     -999,9,     -999,9,     -999,9,   4.9357,1,   0.0110,1,     20.5,2,     -999,9,     -999,9,     -999,9,     -999,9,20230815,2245, -34.0072,  73.6992,-999          ,9,-999          ,9
33RR20230722  ,I05        ,95      ,  1,7          ,7          ,2,20230815,2158, -34.0072,  73.6992,     4880,   3085.7,2,   1.5901,2,  34.7221,2,  34.7215,2,    181.6,2,    181.4,2,   119.87,2,    32.90,2,     0.00,2,     2.31,2,    0.017,2,    0.009,2,   0.0000,2,   2282.5,2,   2380.6,2,   7.6067,2,    25.02,2,     -999,9,   1.5909,2,     -999,9,     -999,9,     -999,9,     -999,9,     -999,9,   4.6783,1,   0.0118,1,     19.8,2,     -999,9,     -999,9,     -999,9,     -999,9,20230815,2237, -34.0072,  73.6992,-999          ,9,-999          ,9
33RR20230722  ,I05        ,95      ,  1,6          ,6          ,2,20230815,2158, -34.0072,  73.6992,     4880,   3582.2,2,   1.3205,2,  34.7125,2,  34.7117,2,    190.4,2,    190.5,2,   123.68,2,    32.83,2,     0.00,2,     2.31,2,     -999,9,     -999,9,     -999,9,   2279.2,2,   2378.8,2,   7.6106,6,    25.02,2,     -999,9,   1.3205,2,     -999,9,     -999,9,     -999,9,     -999,9,     -999,9,   4.9764,1,   0.0111,1,     -999,9,     -999,9,     -999,9,     -999,9,     -999,9,20230815,2228, -34.0072,  73.6992,-999          ,9,-999          ,9
33RR20230722  ,I05        ,95      ,  1,5          ,5          ,2,20230815,2158, -34.0072,  73.6992,     4880,   4080.6,2,   1.1767,2,  34.7070,2,  34.7070,2,    196.2,2,    196.5,2,   125.43,2,    32.57,2,     0.00,2,     2.30,2,    0.044,2,    0.031,2,   0.0000,2,   2274.7,2,   2377.2,2,   7.6122,2,    25.01,2,     -999,9,   1.1764,2,     -999,9,     -999,9,     -999,9,     -999,9,     -999,9,   4.9766,1,   0.0111,1,     19.2,2,     -999,9,     -999,9,     -999,9,     -999,9,20230815,2218, -34.0072,  73.6993,-999          ,9,-999          ,9
33RR20230722  ,I05        ,95      ,  1,4          ,37         ,2,20230815,2158, -34.0072,  73.6992,     4880,   4432.5,2,   1.1049,2,  34.7041,2,  34.7042,2,    199.5,2,    199.7,2,   126.31,2,    32.50,2,     0.00,2,     2.28,2,    0.059,2,    0.042,2,   0.0000,2,   2272.8,2,   2376.3,2,   7.6128,2,    25.02,2,     -999,9,   1.1047,2,     -999,9,     -999,9,     -999,9,     -999,9,     -999,9,   4.9767,1,   0.0117,1,     18.9,2,     -999,9,     -999,9,     -999,9,     -999,9,20230815,2211, -34.0072,  73.6993,-999          ,9,-999          ,9
33RR20230722  ,I05        ,95      ,  1,3          ,3          ,2,20230815,2158, -34.0072,  73.6992,     4880,   4690.6,2,   1.1284,2,  34.7037,2,  34.7038,2,    199.8,2,    199.9,2,   126.31,2,    32.54,2,     0.00,2,     2.28,2,    0.055,2,    0.034,2,   0.0300,2,   2275.0,2,   2375.4,2,   7.6120,2,    25.02,2,     -999,9,   1.1283,2,     -999,9,     -999,9,     -999,9,     -999,9,     -999,9,   4.7820,1,   0.0112,1,     19.2,2,     -999,9,     -999,9,     -999,9,     -999,9,20230815,2206, -34.0072,  73.6992,-999          ,9,-999          ,9