BOTTLE,20240422CCHHYDRO
EXPOCODE,SECT_ID,STNNBR,CASTNO,SAMPNO,BTLNBR,BTLNBR_FLAG_W,DATE,TIME,LATITUDE,LONGITUDE,DEPTH,CTDPRS,CTDPRS_FLAG_W,CTDTMP,CTDTMP_FLAG_W,CTDSAL,CTDSAL_FLAG_W,SALNTY,SALNTY_FLAG_W,CTDOXY,CTDOXY_FLAG_W,OXYGEN,OXYGEN_FLAG_W,SILCAT,SILCAT_FLAG_W,NITRAT,NITRAT_FLAG_W,NITRIT,NITRIT_FLAG_W,PHSPHT,PHSPHT_FLAG_W,CFC-11,CFC-11_FLAG_W,CFC-12,CFC-12_FLAG_W,SF6,SF6_FLAG_W,TCARBN,TCARBN_FLAG_W,ALKALI,ALKALI_FLAG_W,PH_TOT,PH_TOT_FLAG_W,PH_TMP,PH_TMP_FLAG_W,DOC,DOC_FLAG_W,REFTMP,REFTMP_FLAG_W,POC,POC_FLAG_W,PON,PON_FLAG_W,POP,POP_FLAG_W,DOP,DOP_FLAG_W,DELO18,DELO18_FLAG_W,CTDFLUOR,CTDFLUOR_FLAG_W,CTDXMISS,CTDXMISS_FLAG_W,N2O,N2O_FLAG_W,D15N_NO3,D15N_NO3_FLAG_W,D15N_NO2+NO3,D15N_NO2+NO3_FLAG_W,D18O_NO2+NO3,D18O_NO2+NO3_FLAG_W,D18O_NO3,D18O_NO3_FLAG_W,BTL_DATE,BTL_TIME,BTL_LAT,BTL_LON,HPLC,HPLC_FLAG_W,DNA,DNA_FLAG_W
,,,,,,,,,,,METERS,DBAR,,ITS-90,,PSS-78,,PSS-78,,UMOL/KG,,UMOL/KG,,UMOL/KG,,UMOL/KG,,UMOL/KG,,UMOL/KG,,PMOL/KG,,PMOL/KG,,FMOL/KG,,UMOL/KG,,UMOL/KG,,,,DEG C,,UMOL/KG,,ITS-90,,UG/KG,,UG/KG,,UG/L,,UMOL/KG,,/MILLE,,VOLTS,,VOLTS,,NMOL/KG,,/MILLE,,/MILLE,,/MILLE,,/MILLE,,,,,,,,,
33RR20230722  ,I05        ,61      ,  1,36         ,36         ,2,20230807,1825, -32.0880,  90.2912,     4148,     21.0,2,  17.2191,2,  35.8660,2,  35.8657,2,    237.6,2,    237.4,2,     1.46,2,     0.08,2,     0.02,2,     0.14,2,    1.542,4,    1.354,2,   2.2200,2,   2095.8,2,   2354.8,6,   7.6238,6,    25.02,2,     -999,1,  17.2182,2,     -999,9,     -999,9,     -999,9,     -999,1,     -999,9,   4.6125,1,   0.0340,1,      8.0,2,     -999,1,     -999,1,     -999,1,     -999,1,20230807,2021, -32.0880,  90.2912,-999          ,9,-999          ,9
33RR20230722  ,I05        ,61      ,  1,35         ,35         ,2,20230807,1825, -32.0880,  90.2912,     4148,     36.1,2,  17.2242,2,  35.8661,2,  35.8645,2,    238.1,2,    237.4,2,     1.46,2,     0.03,2,     0.02,2,     0.13,2,    1.546,4,    1.333,2,   2.3000,2,   -999.0,9,     -999,9,     -999,9,     -999,9,     -999,9,  17.2191,2,     -999,9,     -999,9,     -999,9,     -999,9,     -999,9,   4.8903,1,   0.0371,1,      8.0,2,     -999,1,     -999,1,     -999,1,     -999,1,20230807,2019, -32.0880,  90.2912,-999          ,9,-999          ,9
33RR20230722  ,I05        ,61      ,  1,34         ,34         ,2,20230807,1825, -32.0880,  90.2912,     4148,     55.4,2,  17.2277,2,  35.8656,2,  35.8661,2,    237.5,2,    237.3,2,     1.46,2,     0.01,2,     0.02,2,     0.15,2,    2.947,4,    1.313,2,   2.3000,2,   2096.0,2,   2355.6,2,   7.9610,2,    25.01,2,     -999,9,  17.2263,2,     -999,9,     -999,9,     -999,9,     -999,1,     -999,9,   4.9748,1,   0.0347,1,      8.0,2,     -999,1,     -999,1,     -999,1,     -999,1,20230807,2017, -32.0880,  90.2912,-999          ,9,-999          ,9
33RR20230722  ,I05        ,61      ,  1,33         ,33         ,2,20230807,1825, -32.0880,  90.2912,     4148,     77.7,2,  17.2307,2,  35.8660,2,  35.8657,2,    237.4,2,    237.4,2,     1.46,2,     0.01,2,     0.02,2,     0.14,2,     -999,9,     -999,9,     -999,9,   2098.2,2,   2356.1,2,   7.9601,6,    25.02,2,     -999,9,  17.2300,2,     -999,9,     -999,9,     -999,9,     -999,1,     -999,9,   4.9452,1,   0.0336,1,     -999,9,     -999,1,     -999,1,     -999,1,     -999,1,20230807,2015, -32.0880,  90.2912,-999          ,9,-999          ,9
33RR20230722  ,I05        ,61      ,  1,32         ,32         ,2,20230807,1825, -32.0880,  90.2912,     4148,    111.2,2,  17.2323,2,  35.8659,2,  35.8661,2,    237.0,2,    237.4,2,     1.46,2,     0.00,2,     0.02,2,     0.14,2,    1.551,4,    1.327,2,   2.1200,2,   -999.0,9,     -999,9,     -999,9,     -999,9,     -999,9,  17.2314,2,     -999,9,     -999,9,     -999,9,     -999,1,     -999,9,   4.6129,1,   0.0349,1,      7.9,2,     -999,1,     -999,1,     -999,1,     -999,1,20230807,2013, -32.0880,  90.2912,-999          ,9,-999          ,9
33RR20230722  ,I05        ,61      ,  1,31         ,31         ,2,20230807,1825, -32.0880,  90.2912,     4148,    130.5,2,  17.2130,2,  35.8601,2,  35.8595,2,    236.4,2,    237.3,2,     1.46,2,     0.02,2,     0.03,2,     0.14,2,     -999,9,     -999,9,     -999,9,   2085.7,3,   2356.2,2,   7.9591,2,    25.03,2,     -999,9,  17.2157,2,     -999,9,     -999,9,     -999,9,     -999,9,     -999,9,   4.9738,1,   0.0356,1,     -999,9,     -999,1,     -999,1,     -999,1,     -999,1,20230807,2011, -32.0880,  90.2912,-999          ,9,-999          ,9
33RR20230722  ,I05        ,61      ,  1,30         ,30         ,2,20230807,1825, -32.0880,  90.2912,     4148,    162.0,2,  14.6037,2,  35.4700,2,  35.4726,2,    230.8,3,    233.4,2,     1.66,2,     3.38,2,     0.11,2,     0.42,2,    1.596,4,    1.538,2,   2.2300,2,   -999.0,9,     -999,9,     -999,9,     -999,9,     -999,9,  14.6002,2,     -999,9,     -999,9,     -999,9,     -999,1,     -999,9,   4.9704,1,   0.0170,1,      9.5,2,     -999,1,     -999,1,     -999,1,     -999,1,20230807,2009, -32.0880,  90.2912,-999          ,9,-999          ,9
33RR20230722  ,I05        ,61      ,  1,29         ,29         ,2,20230807,1825, -32.0880,  90.2912,     4148,    197.6,2,  13.8776,2,  35.3915,2,  35.3900,2,    230.9,2,    233.2,2,     1.66,2,     4.92,2,     0.02,2,     0.49,2,     -999,9,     -999,9,     -999,9,   2124.2,2,   2328.5,2,   7.8648,2,    25.03,2,     -999,9,  13.8801,2,     -999,9,     -999,9,     -999,9,     -999,9,     -999,9,   4.9415,1,   0.0125,1,     -999,9,     -999,1,     -999,1,     -999,1,     -999,1,20230807,2006, -32.0880,  90.2912,-999          ,9,-999          ,9
33RR20230722  ,I05        ,61      ,  1,28         ,28         ,2,20230807,1825, -32.0880,  90.2912,     4148,    229.7,2,  13.2930,2,  35.2923,2,  35.2911,2,    235.1,2,    236.2,2,     1.85,2,     5.91,2,     0.01,2,     0.55,2,    2.434,4,    1.616,6,   2.3900,6,   2124.1,2,   2322.0,2,   7.8531,2,    25.01,2,     -999,9,  13.2823,2,     -999,9,     -999,9,     -999,9,     -999,9,     -999,9,   4.9341,1,   0.0116,1,     10.7,6,     -999,1,     -999,1,     -999,1,     -999,1,20230807,2004, -32.0880,  90.2912,-999          ,9,-999          ,9
33RR20230722  ,I05        ,61      ,  1,27         ,27         ,2,20230807,1825, -32.0880,  90.2912,     4148,    271.7,2,  12.7036,2,  35.1921,2,  35.1928,2,    238.5,2,    238.7,2,     1.95,2,     6.98,2,     0.00,2,     0.61,2,     -999,9,     -999,9,     -999,9,   2126.1,2,   2318.2,2,   7.8415,2,    25.02,2,     -999,9,  12.7034,2,     -999,9,     -999,9,     -999,9,     -999,9,     -999,9,   4.8983,1,   0.0116,1,     -999,9,     -999,1,     -999,1,     -999,1,     -999,1,20230807,2002, -32.0880,  90.2912,-999          ,9,-999          ,9
33RR20230722  ,I05        ,61      ,  1,26         ,26         ,2,20230807,1825, -32.0880,  90.2912,     4148,    272.7,2,  12.6993,2,  35.1914,2,     -999,5,    238.4,2,    238.3,2,     2.05,2,     6.98,2,     0.00,2,     0.60,2,     -999,9,     -999,9,     -999,9,   -999.0,9,     -999,9,     -999,9,     -999,9,     -999,9,  12.7018,2,     -999,9,     -999,9,     -999,9,     -999,1,     -999,9,   4.6564,1,   0.0116,1,     -999,9,     -999,1,     -999,1,     -999,1,     -999,1,20230807,2002, -32.0880,  90.2912,-999          ,9,-999          ,9
33RR20230722  ,I05        ,61      ,  1,25         ,25         ,2,20230807,1825, -32.0880,  90.2912,     4148,    325.2,2,  11.8649,2,  35.0431,2,  35.0476,2,    241.4,2,    241.0,2,     2.24,2,     8.84,2,     0.00,2,     0.72,2,    3.255,4,    1.733,2,   2.4200,2,   2128.9,2,   2310.1,2,   7.8205,2,    25.01,2,     -999,9,  11.8753,2,     -999,9,     -999,9,     -999,9,     -999,9,     -999,9,   4.9686,1,   0.0116,1,     11.3,2,     -999,1,     -999,1,     -999,1,     -999,1,20230807,1958, -32.0880,  90.2912,-999          ,9,-999          ,9
33RR20230722  ,I05        ,61      ,  1,24         ,24         ,2,20230807,1825, -32.0880,  90.2912,     4148,    382.3,2,  11.1967,2,  34.9262,2,  34.9276,2,    242.6,2,    242.5,2,     3.22,2,    10.94,2,     0.00,2,     0.86,2,    1.844,4,    1.783,2,   2.3000,2,   2130.5,2,   2302.0,2,   7.8014,6,    25.02,2,     -999,9,  11.2046,2,     -999,9,     -999,9,     -999,9,     -999,9,     -999,9,   4.9681,1,   0.0115,1,     11.4,2,     -999,1,     -999,1,     -999,1,     -999,1,20230807,1956, -32.0880,  90.2912,-999          ,9,-999          ,9
33RR20230722  ,I05        ,61      ,  1,23         ,23         ,2,20230807,1825, -32.0880,  90.2912,     4148,    445.5,2,  10.8687,2,  34.8734,2,  34.8715,2,    242.8,2,    242.5,2,     3.32,2,    11.88,2,     0.00,2,     0.90,2,     -999,9,     -999,9,     -999,9,   2133.2,2,   2300.0,2,   7.7921,2,    25.02,2,     -999,9,  10.8650,2,     -999,9,     -999,9,     -999,9,     -999,9,     -999,9,   4.9678,1,   0.0115,1,     -999,9,     -999,1,     -999,1,     -999,1,     -999,1,20230807,1954, -32.0880,  90.2912,-999          ,9,-999          ,9
33RR20230722  ,I05        ,61      ,  1,22         ,22         ,2,20230807,1825, -32.0880,  90.2912,     4148,    526.8,2,  10.2499,2,  34.7844,2,  34.7846,2,    240.3,2,    240.1,2,     3.71,2,    13.69,2,     0.00,2,     1.00,2,    3.071,4,    1.890,2,   2.3500,2,   2136.2,2,   2295.3,2,   7.7735,2,    25.00,2,     -999,9,  10.2529,2,     -999,9,     -999,9,     -999,9,     -999,9,     -999,9,   4.9093,1,   0.0115,1,     12.3,2,     -999,1,     -999,1,     -999,1,     -999,1,20230807,1951, -32.0880,  90.2912,-999          ,9,-999          ,9
33RR20230722  ,I05        ,61      ,  1,21         ,21         ,2,20230807,1825, -32.0880,  90.2912,     4148,    611.5,2,   9.7060,2,  34.7198,2,  34.7189,2,    236.0,2,    235.8,2,     4.29,2,    15.67,2,     0.00,2,     1.13,2,    3.234,4,    1.929,2,   2.2200,2,   2141.4,2,   2293.1,2,   7.7552,2,    25.02,2,     -999,9,   9.7081,2,     -999,9,     -999,9,     -999,9,     -999,9,     -999,9,   4.8035,1,   0.0115,1,     13.0,2,     -999,1,     -999,1,     -999,1,     -999,1,20230807,1949, -32.0880,  90.2912,-999          ,9,-999          ,9
33RR20230722  ,I05        ,61      ,  1,20         ,20         ,2,20230807,1825, -32.0880,  90.2912,     4148,    705.1,2,   9.1597,2,  34.6516,2,  34.6496,2,    232.0,2,    231.9,2,     5.66,2,    17.68,2,     0.00,2,     1.23,2,     -999,9,     -999,9,     -999,9,   -999.0,9,     -999,9,     -999,9,     -999,9,     -999,9,   9.1570,2,     -999,9,     -999,9,     -999,9,     -999,9,     -999,9,   4.9177,1,   0.0113,1,     -999,9,     -999,1,     -999,1,     -999,1,     -999,1,20230807,1946, -32.0880,  90.2912,-999          ,9,-999          ,9
33RR20230722  ,I05        ,61      ,  1,19         ,19         ,2,20230807,1825, -32.0880,  90.2912,     4148,    814.2,2,   8.0765,2,  34.5445,2,  34.5417,2,    210.8,2,    211.3,2,    11.13,2,    22.18,2,     0.00,2,     1.54,2,    2.994,4,    1.717,2,   1.3800,2,   2161.5,2,   2288.6,2,   7.6945,2,    24.99,2,     -999,9,   8.1081,2,     -999,9,     -999,9,     -999,9,     -999,9,     -999,9,   4.6901,1,   0.0115,1,     14.8,2,     -999,1,     -999,1,     -999,1,     -999,1,20230807,1943, -32.0880,  90.2912,-999          ,9,-999          ,9
33RR20230722  ,I05        ,61      ,  1,18         ,18         ,2,20230807,1825, -32.0880,  90.2912,     4148,    925.6,2,   6.2963,2,  34.4232,2,  34.4230,2,    196.1,2,    197.3,2,    21.77,2,    27.33,2,     0.00,2,     1.87,2,    2.831,4,    1.294,2,   0.8300,2,   2184.2,2,   2288.6,2,   7.6421,2,    25.00,2,     -999,9,   6.2886,2,     -999,9,     -999,9,     -999,9,     -999,9,     -999,9,   4.9674,1,   0.0113,1,     17.6,2,     -999,1,     -999,1,     -999,1,     -999,1,20230807,1940, -32.0880,  90.2912,-999          ,9,-999          ,9
33RR20230722  ,I05        ,61      ,  1,17         ,17         ,2,20230807,1825, -32.0880,  90.2912,     4148,    996.8,2,   5.3836,2,  34.3801,2,  34.3806,2,    195.4,2,    195.8,2,    28.11,2,    29.32,2,     0.00,2,     2.02,2,     -999,9,     -999,9,     -999,9,   -999.0,9,     -999,9,     -999,9,     -999,9,     -999,9,   5.3793,2,     -999,9,     -999,9,     -999,9,     -999,9,     -999,9,   4.7156,1,   0.0112,1,     -999,9,     -999,1,     -999,1,     -999,1,     -999,1,20230807,1937, -32.0880,  90.2912,-999          ,9,-999          ,9
33RR20230722  ,I05        ,61      ,  1,16         ,16         ,2,20230807,1825, -32.0880,  90.2912,     4148,   1094.8,2,   4.5816,2,  34.3932,2,  34.3937,2,    183.8,2,    184.1,2,    40.80,2,    31.66,2,     0.00,2,     2.18,2,    1.078,4,    0.828,2,   0.4000,2,   2213.4,2,   2304.7,2,   7.5995,2,    25.00,2,     -999,9,   4.5753,2,     -999,9,     -999,9,     -999,9,     -999,9,     -999,9,   4.6951,1,   0.0113,1,     20.2,2,     -999,1,     -999,1,     -999,1,     -999,1,20230807,1934, -32.0880,  90.2912,-999          ,9,-999          ,9
33RR20230722  ,I05        ,61      ,  1,15         ,15         ,2,20230807,1825, -32.0880,  90.2912,     4148,   1248.9,2,   3.9282,2,  34.4704,2,  34.4699,2,    161.2,2,    161.3,2,    60.91,2,    33.96,2,     0.00,2,     2.37,2,    0.557,4,    0.365,2,   0.1200,2,   2242.3,6,   2324.1,2,   7.5693,2,    25.01,2,     -999,9,   3.9285,2,     -999,9,     -999,9,     -999,9,     -999,9,     -999,9,   4.7273,1,   0.0112,1,     22.5,2,     -999,1,     -999,1,     -999,1,     -999,1,20230807,1931, -32.0880,  90.2912,-999          ,9,-999          ,9
33RR20230722  ,I05        ,61      ,  1,14         ,14         ,2,20230807,1825, -32.0880,  90.2912,     4148,   1373.5,2,   3.6537,2,  34.5270,2,  34.5268,2,    150.0,2,    149.7,2,    72.42,2,    34.72,2,     0.00,2,     2.44,2,    0.308,4,    0.184,2,  -0.0100,2,   2260.2,2,   2334.7,2,   7.5566,2,    25.01,2,     -999,9,   3.6537,2,     -999,9,     -999,9,     -999,9,     -999,9,     -999,9,   4.9747,1,   0.0120,1,     23.5,2,     -999,1,     -999,1,     -999,1,     -999,1,20230807,1927, -32.0880,  90.2912,-999          ,9,-999          ,9
33RR20230722  ,I05        ,61      ,  1,13         ,13         ,2,20230807,1825, -32.0880,  90.2912,     4148,   1506.6,2,   3.2675,2,  34.5692,2,  34.5688,2,    151.4,2,    151.1,2,    78.08,2,    34.77,2,     0.00,2,     2.42,2,    0.154,4,    0.107,2,   0.0500,2,   2266.5,2,   2343.2,2,   7.5592,2,    25.01,2,     -999,9,   3.2682,2,     -999,9,     -999,9,     -999,9,     -999,9,     -999,9,   4.9748,1,   0.0118,1,     23.5,2,     -999,1,     -999,1,     -999,1,     -999,1,20230807,1924, -32.0880,  90.2912,-999          ,9,-999          ,9
33RR20230722  ,I05        ,61      ,  1,12         ,12         ,2,20230807,1825, -32.0880,  90.2912,     4148,   1605.2,2,   3.1105,2,  34.5966,2,  34.5950,2,    152.5,2,    152.3,2,    81.69,2,    34.63,2,     0.00,2,     2.45,2,    0.217,4,    0.083,2,   0.1400,2,   2267.3,2,   2348.0,2,   7.5614,2,    25.01,2,     -999,9,   3.1113,2,     -999,9,     -999,9,     -999,9,     -999,9,     -999,9,   4.9748,1,   0.0118,1,     22.5,2,     -999,1,     -999,1,     -999,1,     -999,1,20230807,1921, -32.0880,  90.2912,-999          ,9,-999          ,9
33RR20230722  ,I05        ,61      ,  1,11         ,11         ,2,20230807,1825, -32.0880,  90.2912,     4148,   1736.8,2,   2.8623,2,  34.6376,2,  34.6382,2,    155.9,2,    155.8,2,    87.25,2,    34.02,2,     0.00,2,     2.39,2,    0.056,4,    0.047,2,   0.0600,2,   2270.0,2,   2351.4,2,   7.5689,6,    25.00,2,     -999,9,   2.8617,2,     -999,9,     -999,9,     -999,9,     -999,9,     -999,9,   4.9429,1,   0.0113,1,     22.6,2,     -999,1,     -999,1,     -999,1,     -999,1,20230807,1918, -32.0880,  90.2912,-999          ,9,-999          ,9
33RR20230722  ,I05        ,61      ,  1,10         ,10         ,2,20230807,1825, -32.0880,  90.2912,     4148,   1825.5,2,   2.7604,2,  34.6551,2,  34.6553,2,    158.3,2,    158.2,2,    88.52,2,    33.80,2,     0.00,2,     2.36,2,     -999,9,     -999,9,     -999,9,   -999.0,9,     -999,9,     -999,9,     -999,9,     -999,9,   2.7606,2,     -999,9,     -999,9,     -999,9,     -999,9,     -999,9,   4.9285,1,   0.0120,1,     -999,9,     -999,1,     -999,1,     -999,1,     -999,1,20230807,1915, -32.0880,  90.2912,-999          ,9,-999          ,9
33RR20230722  ,I05        ,61      ,  1,9          ,9          ,2,20230807,1825, -32.0880,  90.2912,     4148,   2032.0,2,   2.4627,2,  34.6962,2,  34.6946,2,    170.7,2,    170.9,2,    89.00,2,    32.56,2,     0.00,2,     2.28,2,    0.093,4,    0.044,2,   0.0500,2,   2263.6,2,   2354.5,2,   7.5885,2,    24.99,2,     -999,9,   2.4636,2,     -999,9,     -999,9,     -999,9,     -999,9,     -999,9,   4.7383,1,   0.0116,1,     20.5,2,     -999,1,     -999,1,     -999,1,     -999,1,20230807,1910, -32.0880,  90.2912,-999          ,9,-999          ,9
33RR20230722  ,I05        ,61      ,  1,8          ,8          ,2,20230807,1825, -32.0880,  90.2912,     4148,   2164.0,2,   2.3334,2,  34.7119,2,  34.7117,2,    172.8,2,    173.0,2,    93.30,2,    32.36,2,     0.00,2,     2.25,2,     -999,9,     -999,9,     -999,9,   -999.0,9,     -999,9,     -999,9,     -999,9,     -999,9,   2.3330,2,     -999,9,     -999,9,     -999,9,     -999,9,     -999,9,   4.9744,1,   0.0116,1,     -999,9,     -999,1,     -999,1,     -999,1,     -999,1,20230807,1907, -32.0880,  90.2912,-999          ,9,-999          ,9
33RR20230722  ,I05        ,61      ,  1,7          ,7          ,2,20230807,1825, -32.0880,  90.2912,     4148,   2424.5,2,   2.1126,2,  34.7303,2,  34.7292,2,    184.0,2,    184.3,2,    93.20,2,    31.47,2,     0.00,2,     2.17,2,    0.057,4,    0.026,2,   0.0100,2,   2260.2,2,   2356.9,2,   7.6075,2,    25.00,2,     -999,9,   2.1130,2,     -999,9,     -999,9,     -999,9,     -999,9,     -999,9,   4.9747,1,   0.0112,1,     18.9,2,     -999,1,     -999,1,     -999,1,     -999,1,20230807,1902, -32.0880,  90.2912,-999          ,9,-999          ,9
33RR20230722  ,I05        ,61      ,  1,6          ,6          ,2,20230807,1825, -32.0880,  90.2912,     4148,   2742.3,2,   1.8485,2,  34.7379,2,  34.7376,2,    191.5,2,    191.8,2,    98.08,2,    30.94,2,     0.00,2,     2.14,2,    0.047,4,    0.023,2,   0.0000,2,   2257.4,2,   2359.3,6,   7.6179,2,    25.00,2,     -999,9,   1.8481,2,     -999,9,     -999,9,     -999,9,     -999,9,     -999,9,   4.9751,1,   0.0112,1,     18.8,2,     -999,1,     -999,1,     -999,1,     -999,1,20230807,1855, -32.0880,  90.2912,-999          ,9,-999          ,9
33RR20230722  ,I05        ,61      ,  1,5          ,5          ,2,20230807,1825, -32.0880,  90.2912,     4148,   3173.8,2,   1.5238,2,  34.7334,2,  34.7337,2,    198.3,2,    198.4,2,   106.66,2,    31.08,2,     0.00,2,     2.17,2,     -999,9,     -999,9,     -999,9,   -999.0,9,     -999,9,     -999,9,     -999,9,     -999,9,   1.5249,2,     -999,9,     -999,9,     -999,9,     -999,9,     -999,9,   4.9681,1,   0.0113,1,     -999,9,     -999,1,     -999,1,     -999,1,     -999,1,20230807,1847, -32.0880,  90.2912,-999          ,9,-999          ,9
33RR20230722  ,I05        ,61      ,  1,4          ,37         ,2,20230807,1825, -32.0880,  90.2912,     4148,   3484.1,2,   1.3410,2,  34.7262,2,  34.7264,2,    200.8,2,    200.9,2,   112.13,2,    31.36,2,     0.00,2,     2.18,2,    0.048,4,    0.039,2,   0.0600,2,   2260.7,2,   2365.8,2,   7.6172,2,    25.00,2,     -999,9,   1.3408,2,     -999,9,     -999,9,     -999,9,     -999,9,     -999,9,   4.9755,1,   0.0111,1,     18.2,2,     -999,1,     -999,1,     -999,1,     -999,1,20230807,1841, -32.0880,  90.2912,-999          ,9,-999          ,9
33RR20230722  ,I05        ,61      ,  1,3          ,3          ,2,20230807,1825, -32.0880,  90.2912,     4148,   3938.6,2,   1.2387,2,  34.7203,2,  34.7215,2,    202.1,2,    202.2,2,   116.13,2,    31.65,2,     0.00,2,     2.20,2,    0.111,4,    0.044,2,   0.1000,2,   2268.4,2,   2370.3,2,   7.6198,6,    25.00,2,     -999,9,   1.2387,2,     -999,9,     -999,9,     -999,9,     -999,9,     -999,9,   4.7695,1,   0.0111,1,     17.8,2,     -999,1,     -999,1,     -999,1,     -999,1,20230807,1832, -32.0880,  90.2912,-999          ,9,-999          ,9