BOTTLE,20240422CCHHYDRO
EXPOCODE,SECT_ID,STNNBR,CASTNO,SAMPNO,BTLNBR,BTLNBR_FLAG_W,DATE,TIME,LATITUDE,LONGITUDE,DEPTH,CTDPRS,CTDPRS_FLAG_W,CTDTMP,CTDTMP_FLAG_W,CTDSAL,CTDSAL_FLAG_W,SALNTY,SALNTY_FLAG_W,CTDOXY,CTDOXY_FLAG_W,OXYGEN,OXYGEN_FLAG_W,SILCAT,SILCAT_FLAG_W,NITRAT,NITRAT_FLAG_W,NITRIT,NITRIT_FLAG_W,PHSPHT,PHSPHT_FLAG_W,CFC-11,CFC-11_FLAG_W,CFC-12,CFC-12_FLAG_W,SF6,SF6_FLAG_W,TCARBN,TCARBN_FLAG_W,ALKALI,ALKALI_FLAG_W,PH_TOT,PH_TOT_FLAG_W,PH_TMP,PH_TMP_FLAG_W,DOC,DOC_FLAG_W,REFTMP,REFTMP_FLAG_W,POC,POC_FLAG_W,PON,PON_FLAG_W,POP,POP_FLAG_W,DOP,DOP_FLAG_W,DELO18,DELO18_FLAG_W,CTDFLUOR,CTDFLUOR_FLAG_W,CTDXMISS,CTDXMISS_FLAG_W,N2O,N2O_FLAG_W,D15N_NO3,D15N_NO3_FLAG_W,D15N_NO2+NO3,D15N_NO2+NO3_FLAG_W,D18O_NO2+NO3,D18O_NO2+NO3_FLAG_W,D18O_NO3,D18O_NO3_FLAG_W,BTL_DATE,BTL_TIME,BTL_LAT,BTL_LON,HPLC,HPLC_FLAG_W,DNA,DNA_FLAG_W
,,,,,,,,,,,METERS,DBAR,,ITS-90,,PSS-78,,PSS-78,,UMOL/KG,,UMOL/KG,,UMOL/KG,,UMOL/KG,,UMOL/KG,,UMOL/KG,,PMOL/KG,,PMOL/KG,,FMOL/KG,,UMOL/KG,,UMOL/KG,,,,DEG C,,UMOL/KG,,ITS-90,,UG/KG,,UG/KG,,UG/L,,UMOL/KG,,/MILLE,,VOLTS,,VOLTS,,NMOL/KG,,/MILLE,,/MILLE,,/MILLE,,/MILLE,,,,,,,,,
33RR20230722  ,I05        ,156     ,  1,19         ,19         ,2,20230901,0606, -32.9999,  43.9083,      810,      3.8,2,  18.0732,2,  35.6932,2,  35.6944,2,    237.6,2,    237.1,2,     1.76,2,     0.00,2,     0.00,2,     0.11,2,    2.413,2,    1.292,2,   2.1900,2,   2071.5,2,   2337.0,6,   7.9763,2,    25.04,2,     -999,1,  18.0731,2,     -999,9,     -999,9,     -999,9,     -999,9,     -999,9,   4.9213,1,   0.0210,1,      8.5,2,     -999,9,     -999,9,     -999,9,     -999,9,20230901,0641, -32.9999,  43.9083,-999          ,9,-999          ,9
33RR20230722  ,I05        ,156     ,  1,18         ,18         ,2,20230901,0606, -32.9999,  43.9083,      810,     18.3,2,  18.0386,2,  35.6935,2,  35.6936,2,    237.8,2,    237.1,2,     1.66,2,     0.00,2,     0.00,2,     0.11,2,     -999,9,     -999,9,     -999,9,   -999.0,9,     -999,9,     -999,9,     -999,9,     -999,1,  18.0341,2,     -999,9,     -999,9,     -999,9,     -999,9,     -999,9,   4.6688,1,   0.0277,1,     -999,9,     -999,9,     -999,9,     -999,9,     -999,9,20230901,0639, -32.9999,  43.9083,-999          ,9,-999          ,9
33RR20230722  ,I05        ,156     ,  1,17         ,17         ,2,20230901,0606, -32.9999,  43.9083,      810,     36.4,2,  17.9885,2,  35.6889,2,  35.6891,2,    238.1,2,    238.0,2,     1.76,2,     0.00,2,     0.00,2,     0.11,2,    2.433,2,    1.302,2,   2.2400,2,   2073.0,2,   2337.9,2,   7.9756,6,    25.03,2,     -999,1,  17.9885,2,     -999,9,     -999,9,     -999,9,     -999,9,     -999,9,   4.9753,1,   0.0415,1,      8.7,2,     -999,9,     -999,9,     -999,9,     -999,9,20230901,0637, -32.9999,  43.9083,-999          ,9,-999          ,9
33RR20230722  ,I05        ,156     ,  1,16         ,16         ,2,20230901,0606, -32.9999,  43.9083,      810,     61.6,2,  17.6749,2,  35.6593,2,  35.6593,2,    230.4,2,    230.7,2,     1.95,2,     0.66,2,     0.12,2,     0.17,2,     -999,9,     -999,9,     -999,9,   -999.0,9,     -999,9,     -999,9,     -999,9,     -999,1,  17.6735,2,     -999,9,     -999,9,     -999,9,     -999,9,     -999,9,   4.9733,1,   0.0316,1,     -999,9,     -999,9,     -999,9,     -999,9,     -999,9,20230901,0635, -32.9999,  43.9083,-999          ,9,-999          ,9
33RR20230722  ,I05        ,156     ,  1,15         ,15         ,2,20230901,0606, -32.9999,  43.9083,      810,     89.3,2,  17.6129,2,  35.6574,2,  35.6573,2,    229.2,2,    229.1,2,     1.95,2,     0.81,2,     0.16,2,     0.18,2,     -999,9,     -999,9,     -999,9,   2080.1,2,   2333.8,2,   7.9560,2,    25.02,2,     -999,1,  17.6132,2,     -999,9,     -999,9,     -999,9,     -999,9,     -999,9,   4.9200,1,   0.0218,1,     -999,9,     -999,9,     -999,9,     -999,9,     -999,9,20230901,0634, -32.9999,  43.9083,-999          ,9,-999          ,9
33RR20230722  ,I05        ,156     ,  1,14         ,14         ,2,20230901,0606, -32.9999,  43.9083,      810,    117.0,2,  17.5083,2,  35.6473,2,  35.6471,2,    227.7,2,    227.8,2,     2.05,2,     1.13,2,     0.13,2,     0.20,2,    2.286,2,    1.316,2,   2.1400,2,   -999.0,9,     -999,9,     -999,9,     -999,9,     -999,1,  17.5093,2,     -999,9,     -999,9,     -999,9,     -999,9,     -999,9,   4.9720,1,   0.0179,1,      8.4,2,     -999,9,     -999,9,     -999,9,     -999,9,20230901,0632, -32.9999,  43.9083,-999          ,9,-999          ,9
33RR20230722  ,I05        ,156     ,  1,13         ,13         ,2,20230901,0606, -32.9999,  43.9083,      810,    142.9,2,  17.3621,2,  35.6336,2,  35.6352,2,    225.8,2,    226.1,2,     2.15,2,     1.58,2,     0.09,2,     0.22,2,     -999,9,     -999,9,     -999,9,   2086.7,2,   2331.1,2,   7.9453,2,    25.04,2,     -999,1,  17.3665,2,     -999,9,     -999,9,     -999,9,     -999,9,     -999,9,   4.9717,1,   0.0164,1,     -999,9,     -999,9,     -999,9,     -999,9,     -999,9,20230901,0630, -32.9999,  43.9083,-999          ,9,-999          ,9
33RR20230722  ,I05        ,156     ,  1,12         ,12         ,2,20230901,0606, -32.9999,  43.9083,      810,    169.1,2,  17.2027,2,  35.6196,2,  35.6214,2,    223.7,2,    224.1,2,     2.24,2,     2.04,2,     0.04,2,     0.24,2,     -999,9,     -999,9,     -999,9,   -999.0,9,     -999,9,     -999,9,     -999,9,     -999,1,  17.2105,2,     -999,9,     -999,9,     -999,9,     -999,9,     -999,9,   4.9325,1,   0.0127,1,     -999,9,     -999,9,     -999,9,     -999,9,     -999,9,20230901,0629, -32.9999,  43.9083,-999          ,9,-999          ,9
33RR20230722  ,I05        ,156     ,  1,11         ,11         ,2,20230901,0606, -32.9999,  43.9083,      810,    196.3,2,  16.7489,2,  35.5799,2,  35.5800,2,    218.6,2,    219.0,2,     2.63,2,     3.27,2,     0.03,2,     0.34,2,    2.294,2,    1.376,2,   2.1400,2,   2096.3,2,   2329.2,2,   7.9184,6,    25.04,2,     -999,1,  16.7616,2,     -999,9,     -999,9,     -999,9,     -999,9,     -999,9,   4.6539,1,   0.0129,1,      9.2,2,     -999,9,     -999,9,     -999,9,     -999,9,20230901,0627, -32.9999,  43.9083,-999          ,9,-999          ,9
33RR20230722  ,I05        ,156     ,  1,10         ,10         ,2,20230901,0606, -32.9999,  43.9083,      810,    225.4,2,  16.5211,2,  35.5595,2,  35.5598,2,    216.1,2,    216.6,2,     2.73,2,     3.84,2,     0.02,2,     0.37,2,     -999,9,     -999,9,     -999,9,   2100.9,2,   2328.1,2,   7.9095,2,    25.03,2,     -999,1,  16.5206,2,     -999,9,     -999,9,     -999,9,     -999,9,     -999,9,   4.9238,1,   0.0127,1,     -999,9,     -999,9,     -999,9,     -999,9,     -999,9,20230901,0625, -32.9999,  43.9083,-999          ,9,-999          ,9
33RR20230722  ,I05        ,156     ,  1,9          ,9          ,2,20230901,0606, -32.9999,  43.9083,      810,    262.8,2,  15.7904,2,  35.4968,2,  35.4983,2,    212.8,2,    213.1,2,     3.12,2,     5.25,2,     0.00,2,     0.47,2,    2.310,2,    1.447,2,   2.1800,2,   2108.9,2,   2325.2,2,   7.8859,2,    25.03,2,     -999,1,  15.8104,2,     -999,9,     -999,9,     -999,9,     -999,9,     -999,9,   4.9683,1,   0.0118,1,      9.8,2,     -999,9,     -999,9,     -999,9,     -999,9,20230901,0624, -32.9999,  43.9083,-999          ,9,-999          ,9
33RR20230722  ,I05        ,156     ,  1,8          ,8          ,2,20230901,0606, -32.9999,  43.9083,      810,    310.5,2,  15.1505,2,  35.4387,2,  35.4397,2,    213.6,2,    213.6,2,     3.32,2,     6.24,2,     0.00,2,     0.54,2,     -999,9,     -999,9,     -999,9,   -999.0,9,     -999,9,     -999,9,     -999,9,     -999,1,  15.1544,2,     -999,9,     -999,9,     -999,9,     -999,9,     -999,9,   4.9189,1,   0.0117,1,     -999,9,     -999,9,     -999,9,     -999,9,     -999,9,20230901,0622, -32.9999,  43.9083,-999          ,9,-999          ,9
33RR20230722  ,I05        ,156     ,  1,7          ,7          ,2,20230901,0606, -32.9999,  43.9083,      810,    369.8,2,  14.2316,2,  35.3421,2,  35.3425,2,    217.6,2,    217.3,2,     3.51,2,     7.54,2,     0.00,2,     0.60,2,     -999,9,     -999,9,     -999,9,   2120.4,2,   2318.9,2,   7.8527,2,    25.02,2,     -999,1,  14.2307,2,     -999,9,     -999,9,     -999,9,     -999,9,     -999,9,   4.9681,1,   0.0116,1,     -999,9,     -999,9,     -999,9,     -999,9,     -999,9,20230901,0620, -32.9999,  43.9083,-999          ,9,-999          ,9
33RR20230722  ,I05        ,156     ,  1,6          ,6          ,2,20230901,0606, -32.9999,  43.9083,      810,    441.0,2,  13.5261,2,  35.2615,2,  35.2621,2,    219.7,2,    219.3,2,     3.81,2,     8.75,2,     0.00,2,     0.69,2,    2.575,2,    1.597,2,   2.0400,2,   -999.0,9,     -999,9,     -999,9,     -999,9,     -999,1,  13.5566,2,     -999,9,     -999,9,     -999,9,     -999,9,     -999,9,   4.9175,1,   0.0116,1,     10.9,2,     -999,9,     -999,9,     -999,9,     -999,9,20230901,0617, -32.9999,  43.9083,-999          ,9,-999          ,9
33RR20230722  ,I05        ,156     ,  1,5          ,5          ,2,20230901,0606, -32.9999,  43.9083,      810,    517.8,2,  13.0223,2,  35.2012,2,  35.2016,2,    221.8,2,    221.5,2,     3.90,2,     9.66,2,     0.00,2,     0.75,2,     -999,9,     -999,9,     -999,9,   2127.3,2,   2312.6,2,   7.8268,2,    25.03,2,     -999,1,  13.0210,2,     -999,9,     -999,9,     -999,9,     -999,9,     -999,9,   4.8745,1,   0.0116,1,     -999,9,     -999,9,     -999,9,     -999,9,     -999,9,20230901,0615, -32.9999,  43.9083,-999          ,9,-999          ,9
33RR20230722  ,I05        ,156     ,  1,4          ,37         ,2,20230901,0606, -32.9999,  43.9083,      810,    603.4,2,  11.9319,2,  35.0484,2,  35.0506,2,    222.5,2,    222.4,2,     4.59,2,    11.99,2,     0.00,2,     0.90,2,     -999,9,     -999,9,     -999,9,   -999.0,9,     -999,9,     -999,9,     -999,9,     -999,1,  11.9353,2,     -999,9,     -999,9,     -999,9,     -999,9,     -999,9,   4.8862,1,   0.0115,1,     -999,9,     -999,9,     -999,9,     -999,9,     -999,9,20230901,0613, -32.9999,  43.9083,-999          ,9,-999          ,9
33RR20230722  ,I05        ,156     ,  1,3          ,3          ,2,20230901,0606, -32.9999,  43.9083,      810,    688.7,2,  11.1524,2,  34.9385,2,  34.9370,2,    219.4,2,    219.7,2,     5.66,2,    14.06,2,     0.00,2,     1.03,2,    2.936,2,    1.767,2,   1.7700,2,   2138.0,2,   2301.5,2,   7.7816,2,    25.03,2,     -999,1,  11.1527,2,     -999,9,     -999,9,     -999,9,     -999,9,     -999,9,   4.9540,1,   0.0116,1,     13.2,2,     -999,9,     -999,9,     -999,9,     -999,9,20230901,0610, -32.9999,  43.9083,-999          ,9,-999          ,9
33RR20230722  ,I05        ,156     ,  1,2          ,2          ,2,20230901,0606, -32.9999,  43.9083,      810,    760.9,2,  10.5990,2,  34.8629,2,  34.8619,2,    217.8,2,    218.0,2,     6.54,2,    15.53,2,     0.00,2,     1.12,2,     -999,9,     -999,9,     -999,9,   -999.0,9,     -999,9,     -999,9,     -999,9,     -999,1,  10.6002,2,     -999,9,     -999,9,     -999,9,     -999,9,     -999,9,   2.7770,1,   0.0114,1,     -999,9,     -999,9,     -999,9,     -999,9,     -999,9,20230901,0608, -32.9999,  43.9083,-999          ,9,-999          ,9
33RR20230722  ,I05        ,156     ,  1,1          ,1          ,2,20230901,0606, -32.9999,  43.9083,      810,    808.3,2,  10.4794,2,  34.8466,2,  34.8485,2,    217.6,2,    217.7,2,     6.73,2,    15.81,2,     0.00,2,     1.13,2,    2.966,2,    1.792,2,   1.6800,2,   2144.6,6,   2297.6,2,   7.7634,2,    25.04,2,     -999,1,  10.4802,2,     -999,9,     -999,9,     -999,9,     -999,9,     -999,9,   0.4419,1,   0.0118,1,     13.4,2,     -999,9,     -999,9,     -999,9,     -999,9,20230901,0606, -32.9999,  43.9083,-999          ,9,-999          ,9
33RR20230722  ,I05        ,157     ,  1,8          ,8          ,2,20230901,0941, -32.9964,  43.3610,     -999,      8.7,2,  18.3677,2,  35.7008,2,     -999,9,    234.8,2,     -999,9,     -999,9,     -999,9,     -999,9,     -999,9,     -999,9,     -999,9,     -999,9,   -999.0,9,     -999,9,     -999,9,     -999,9,     -999,9,  18.3671,2,     -999,9,     -999,9,     -999,1,     -999,9,     -999,9,   4.8424,1,   0.0218,1,     -999,9,     -999,9,     -999,9,     -999,9,     -999,9,20230901,1004, -32.9963,  43.3610,-999          ,9,-999          ,9
33RR20230722  ,I05        ,157     ,  1,7          ,7          ,2,20230901,0941, -32.9964,  43.3610,     -999,      9.0,2,  18.3680,2,  35.7006,2,     -999,9,    234.8,2,     -999,9,     -999,9,     -999,9,     -999,9,     -999,9,     -999,9,     -999,9,     -999,9,   -999.0,9,     -999,9,     -999,9,     -999,9,     -999,9,  18.3663,2,     -999,1,     -999,1,     -999,9,     -999,9,     -999,9,   4.1699,1,   0.0218,1,     -999,9,     -999,9,     -999,9,     -999,9,     -999,9,20230901,1004, -32.9964,  43.3610,-999          ,9,-999          ,9
33RR20230722  ,I05        ,157     ,  1,6          ,6          ,2,20230901,0941, -32.9964,  43.3610,     -999,      9.1,2,  18.3634,2,  35.7009,2,     -999,9,    234.8,2,     -999,9,     -999,9,     -999,9,     -999,9,     -999,9,     -999,9,     -999,9,     -999,9,   -999.0,9,     -999,9,     -999,9,     -999,9,     -999,9,  18.3633,2,     -999,1,     -999,1,     -999,9,     -999,9,     -999,9,   4.9755,1,   0.0228,1,     -999,9,     -999,9,     -999,9,     -999,9,     -999,9,20230901,1003, -32.9964,  43.3610,-999          ,9,-999          ,9
33RR20230722  ,I05        ,157     ,  1,10         ,10         ,2,20230901,0941, -32.9964,  43.3610,     -999,      9.1,2,  18.3639,2,  35.7008,2,     -999,9,    234.9,2,     -999,9,     -999,9,     -999,9,     -999,9,     -999,9,     -999,9,     -999,9,     -999,9,   -999.0,9,     -999,9,     -999,9,     -999,9,     -999,9,  18.3652,2,     -999,9,     -999,9,     -999,1,     -999,9,     -999,9,   4.9753,1,   0.0213,1,     -999,9,     -999,9,     -999,9,     -999,9,     -999,9,20230901,1005, -32.9964,  43.3610,-999          ,9,-999          ,9
33RR20230722  ,I05        ,157     ,  1,11         ,11         ,2,20230901,0941, -32.9964,  43.3610,     -999,      9.2,2,  18.3715,2,  35.7007,2,     -999,9,    234.9,2,     -999,9,     -999,9,     -999,9,     -999,9,     -999,9,     -999,9,     -999,9,     -999,9,   -999.0,9,     -999,9,     -999,9,     -999,9,     -999,9,  18.3687,2,     -999,9,     -999,9,     -999,9,     -999,9,     -999,9,   4.9752,1,   0.0218,1,     -999,9,     -999,9,     -999,9,     -999,9,     -999,9,20230901,1005, -32.9964,  43.3610,-999          ,1,-999          ,9
33RR20230722  ,I05        ,157     ,  1,9          ,9          ,2,20230901,0941, -32.9964,  43.3610,     -999,      9.2,2,  18.3730,2,  35.7007,2,     -999,9,    234.9,2,     -999,9,     -999,9,     -999,9,     -999,9,     -999,9,     -999,9,     -999,9,     -999,9,   -999.0,9,     -999,9,     -999,9,     -999,9,     -999,9,  18.3692,2,     -999,9,     -999,9,     -999,1,     -999,9,     -999,9,   4.8276,1,   0.0219,1,     -999,9,     -999,9,     -999,9,     -999,9,     -999,9,20230901,1004, -32.9964,  43.3610,-999          ,9,-999          ,9
33RR20230722  ,I05        ,157     ,  1,4          ,37         ,2,20230901,0941, -32.9964,  43.3610,     -999,      9.4,2,  18.3608,2,  35.7007,2,     -999,9,    234.8,2,     -999,9,     -999,9,     -999,9,     -999,9,     -999,9,     -999,9,     -999,9,     -999,9,   -999.0,9,     -999,9,     -999,9,     -999,9,     -999,9,  18.3617,2,     -999,9,     -999,9,     -999,9,     -999,9,     -999,9,   4.3715,1,   0.0211,1,     -999,9,     -999,9,     -999,9,     -999,9,     -999,9,20230901,1003, -32.9964,  43.3610,-999          ,9,-999          ,1
33RR20230722  ,I05        ,157     ,  1,5          ,5          ,2,20230901,0941, -32.9964,  43.3610,     -999,      9.4,2,  18.3700,2,  35.7007,2,     -999,9,    234.8,2,     -999,9,     -999,9,     -999,9,     -999,9,     -999,9,     -999,9,     -999,9,     -999,9,   -999.0,9,     -999,9,     -999,9,     -999,9,     -999,9,  18.3642,2,     -999,1,     -999,1,     -999,9,     -999,9,     -999,9,   4.8892,1,   0.0227,1,     -999,9,     -999,9,     -999,9,     -999,9,     -999,9,20230901,1003, -32.9964,  43.3610,-999          ,9,-999          ,9
33RR20230722  ,I05        ,157     ,  1,3          ,3          ,2,20230901,0941, -32.9964,  43.3610,     -999,    105.5,2,  17.7356,2,  35.6832,2,     -999,9,    232.8,2,     -999,9,     -999,9,     -999,9,     -999,9,     -999,9,     -999,9,     -999,9,     -999,9,   -999.0,9,     -999,9,     -999,9,     -999,9,     -999,9,  17.7348,2,     -999,9,     -999,9,     -999,9,     -999,9,     -999,9,   4.9733,1,   0.0252,1,     -999,9,     -999,9,     -999,9,     -999,9,     -999,9,20230901,0958, -32.9964,  43.3610,-999          ,9,-999          ,1
33RR20230722  ,I05        ,157     ,  1,2          ,2          ,2,20230901,0941, -32.9964,  43.3610,     -999,    204.5,2,  16.7313,2,  35.5803,2,     -999,9,    218.5,2,     -999,9,     -999,9,     -999,9,     -999,9,     -999,9,     -999,9,     -999,9,     -999,9,   -999.0,9,     -999,9,     -999,9,     -999,9,     -999,9,  16.7307,2,     -999,9,     -999,9,     -999,9,     -999,9,     -999,9,   4.9701,1,   0.0119,1,     -999,9,     -999,9,     -999,9,     -999,9,     -999,9,20230901,0955, -32.9963,  43.3610,-999          ,9,-999          ,1
33RR20230722  ,I05        ,157     ,  1,1          ,1          ,2,20230901,0941, -32.9964,  43.3610,     -999,   1010.7,2,   7.1416,2,  34.5020,2,     -999,9,    205.6,2,     -999,9,     -999,9,     -999,9,     -999,9,     -999,9,     -999,9,     -999,9,     -999,9,   -999.0,9,     -999,9,     -999,9,     -999,9,     -999,9,   7.1404,2,     -999,9,     -999,9,     -999,9,     -999,9,     -999,9,   4.9674,1,   0.0116,1,     -999,9,     -999,9,     -999,9,     -999,9,     -999,9,20230901,0941, -32.9963,  43.3610,-999          ,9,-999          ,1