BOTTLE,20240422CCHHYDRO
EXPOCODE,SECT_ID,STNNBR,CASTNO,SAMPNO,BTLNBR,BTLNBR_FLAG_W,DATE,TIME,LATITUDE,LONGITUDE,DEPTH,CTDPRS,CTDPRS_FLAG_W,CTDTMP,CTDTMP_FLAG_W,CTDSAL,CTDSAL_FLAG_W,SALNTY,SALNTY_FLAG_W,CTDOXY,CTDOXY_FLAG_W,OXYGEN,OXYGEN_FLAG_W,SILCAT,SILCAT_FLAG_W,NITRAT,NITRAT_FLAG_W,NITRIT,NITRIT_FLAG_W,PHSPHT,PHSPHT_FLAG_W,CFC-11,CFC-11_FLAG_W,CFC-12,CFC-12_FLAG_W,SF6,SF6_FLAG_W,TCARBN,TCARBN_FLAG_W,ALKALI,ALKALI_FLAG_W,PH_TOT,PH_TOT_FLAG_W,PH_TMP,PH_TMP_FLAG_W,DOC,DOC_FLAG_W,REFTMP,REFTMP_FLAG_W,POC,POC_FLAG_W,PON,PON_FLAG_W,POP,POP_FLAG_W,DOP,DOP_FLAG_W,DELO18,DELO18_FLAG_W,CTDFLUOR,CTDFLUOR_FLAG_W,CTDXMISS,CTDXMISS_FLAG_W,N2O,N2O_FLAG_W,D15N_NO3,D15N_NO3_FLAG_W,D15N_NO2+NO3,D15N_NO2+NO3_FLAG_W,D18O_NO2+NO3,D18O_NO2+NO3_FLAG_W,D18O_NO3,D18O_NO3_FLAG_W,BTL_DATE,BTL_TIME,BTL_LAT,BTL_LON,HPLC,HPLC_FLAG_W,DNA,DNA_FLAG_W
,,,,,,,,,,,METERS,DBAR,,ITS-90,,PSS-78,,PSS-78,,UMOL/KG,,UMOL/KG,,UMOL/KG,,UMOL/KG,,UMOL/KG,,UMOL/KG,,PMOL/KG,,PMOL/KG,,FMOL/KG,,UMOL/KG,,UMOL/KG,,,,DEG C,,UMOL/KG,,ITS-90,,UG/KG,,UG/KG,,UG/L,,UMOL/KG,,/MILLE,,VOLTS,,VOLTS,,NMOL/KG,,/MILLE,,/MILLE,,/MILLE,,/MILLE,,,,,,,,,
33RR20230722  ,I05        ,160     ,  1,36         ,38         ,2,20230901,2335, -32.9984,  42.8327,     3522,      5.8,2,  18.2151,2,  35.6966,2,  35.6962,2,    237.0,2,    235.9,2,     1.66,2,     0.00,2,     0.00,2,     0.11,2,     -999,9,     -999,9,     -999,9,   2068.3,6,   2334.9,2,   7.9780,2,    25.06,2,     -999,1,     -999,1,     -999,9,     -999,9,     -999,9,     -999,1,     -999,9,   4.6024,1,   0.0270,1,     -999,9,     -999,9,     -999,9,     -999,9,     -999,9,20230902,0118, -32.9984,  42.8327,-999          ,9,-999          ,9
33RR20230722  ,I05        ,160     ,  1,35         ,35         ,2,20230901,2335, -32.9984,  42.8327,     3522,     17.3,2,  18.2180,2,  35.6966,2,  35.6958,2,    236.8,2,    236.2,2,     1.66,2,     0.00,2,     0.00,2,     0.11,2,     -999,9,     -999,9,     -999,9,   2067.8,2,   2336.9,2,   7.9777,2,    25.05,2,     -999,1,     -999,1,     -999,9,     -999,9,     -999,9,     -999,9,     -999,9,   4.9231,1,   0.0286,1,     -999,9,     -999,9,     -999,9,     -999,9,     -999,9,20230902,0116, -32.9984,  42.8328,-999          ,9,-999          ,9
33RR20230722  ,I05        ,160     ,  1,34         ,34         ,2,20230901,2335, -32.9984,  42.8327,     3522,     29.1,2,  18.2163,2,  35.6965,2,  35.7019,2,    236.9,2,    236.3,2,     1.76,2,     0.00,2,     0.00,2,     0.11,2,     -999,9,     -999,9,     -999,9,   2067.6,2,   2335.4,2,   7.9772,2,    25.04,2,     -999,1,     -999,1,     -999,9,     -999,9,     -999,9,     -999,1,     -999,9,   4.9417,1,   0.0256,1,     -999,9,     -999,9,     -999,9,     -999,9,     -999,9,20230902,0114, -32.9984,  42.8328,-999          ,9,-999          ,9
33RR20230722  ,I05        ,160     ,  1,33         ,33         ,2,20230901,2335, -32.9984,  42.8327,     3522,     47.8,2,  17.9144,2,  35.6879,2,  35.6879,2,    238.5,2,    237.1,2,     1.76,2,     0.00,2,     0.00,2,     0.13,2,     -999,9,     -999,9,     -999,9,   2071.2,2,   2335.2,2,   7.9740,2,    25.03,2,     -999,1,     -999,1,     -999,9,     -999,9,     -999,9,     -999,1,     -999,9,   4.6819,1,   0.0405,1,     -999,9,     -999,9,     -999,9,     -999,9,     -999,9,20230902,0113, -32.9984,  42.8328,-999          ,9,-999          ,9
33RR20230722  ,I05        ,160     ,  1,32         ,32         ,2,20230901,2335, -32.9984,  42.8327,     3522,     72.2,2,  17.6571,2,  35.6708,2,  35.6698,2,    232.5,2,    231.8,2,     1.95,2,     0.32,2,     0.22,2,     0.19,2,     -999,9,     -999,9,     -999,9,   2073.8,2,   2334.5,2,   7.9608,2,    25.04,2,     -999,1,     -999,1,     -999,9,     -999,9,     -999,9,     -999,1,     -999,9,   4.9732,1,   0.0299,1,     -999,9,     -999,9,     -999,9,     -999,9,     -999,9,20230902,0111, -32.9984,  42.8328,-999          ,9,-999          ,9
33RR20230722  ,I05        ,160     ,  1,31         ,31         ,2,20230901,2335, -32.9984,  42.8327,     3522,     99.3,2,  17.3965,2,  35.6441,2,  35.6443,2,    227.0,2,    227.6,2,     2.15,2,     1.36,2,     0.12,2,     0.21,2,     -999,9,     -999,9,     -999,9,   2078.0,2,   2331.3,2,   7.9476,2,    25.02,2,     -999,1,     -999,1,     -999,9,     -999,9,     -999,9,     -999,1,     -999,9,   4.9719,1,   0.0153,1,     -999,9,     -999,9,     -999,9,     -999,9,     -999,9,20230902,0109, -32.9984,  42.8327,-999          ,9,-999          ,9
33RR20230722  ,I05        ,160     ,  1,30         ,30         ,2,20230901,2335, -32.9984,  42.8327,     3522,    127.6,2,  17.1041,2,  35.6135,2,  35.6133,2,    222.8,2,    224.2,2,     2.44,2,     2.39,2,     0.02,2,     0.28,2,     -999,9,     -999,9,     -999,9,   2083.7,2,   2330.2,2,   7.9337,2,    25.02,2,     -999,1,     -999,1,     -999,9,     -999,9,     -999,9,     -999,1,     -999,9,   4.8278,1,   0.0128,1,     -999,9,     -999,9,     -999,9,     -999,9,     -999,9,20230902,0107, -32.9984,  42.8328,-999          ,9,-999          ,9
33RR20230722  ,I05        ,160     ,  1,29         ,29         ,2,20230901,2335, -32.9984,  42.8327,     3522,    159.6,2,  16.7083,2,  35.5810,2,  35.5821,2,    217.9,3,    220.1,2,     2.63,2,     3.13,2,     0.00,2,     0.33,2,     -999,9,     -999,9,     -999,9,   2089.7,2,   2329.2,2,   7.9186,6,    25.02,2,     -999,1,     -999,1,     -999,9,     -999,9,     -999,9,     -999,1,     -999,9,   4.9383,1,   0.0117,1,     -999,9,     -999,9,     -999,9,     -999,9,     -999,9,20230902,0106, -32.9984,  42.8328,-999          ,9,-999          ,9
33RR20230722  ,I05        ,160     ,  1,28         ,28         ,2,20230901,2335, -32.9984,  42.8327,     3522,    194.6,2,  16.0910,2,  35.5271,2,  35.5277,2,    210.6,3,    212.9,2,     3.12,2,     4.79,2,     0.00,2,     0.43,2,     -999,9,     -999,9,     -999,9,   2104.0,2,   2324.8,6,   7.8916,2,    25.04,2,     -999,1,     -999,1,     -999,9,     -999,9,     -999,9,     -999,1,     -999,9,   4.9243,1,   0.0118,1,     -999,9,     -999,9,     -999,9,     -999,9,     -999,9,20230902,0104, -32.9984,  42.8328,-999          ,9,-999          ,9
33RR20230722  ,I05        ,160     ,  1,27         ,27         ,2,20230901,2335, -32.9984,  42.8327,     3522,    234.5,2,  15.6907,2,  35.4946,2,  35.4930,2,    213.3,2,    215.1,2,     3.12,2,     5.29,2,     0.00,2,     0.46,2,     -999,9,     -999,9,     -999,9,   2108.5,6,   2324.1,2,   7.8846,2,    25.01,2,     -999,1,     -999,1,     -999,9,     -999,9,     -999,9,     -999,1,     -999,9,   4.8233,1,   0.0117,1,     -999,9,     -999,9,     -999,9,     -999,9,     -999,9,20230902,0102, -32.9984,  42.8328,-999          ,9,-999          ,9
33RR20230722  ,I05        ,160     ,  1,26         ,26         ,2,20230901,2335, -32.9984,  42.8327,     3522,    281.8,2,  15.1144,2,  35.4416,2,  35.4444,2,    216.0,2,    216.8,2,     3.12,2,     5.83,2,     0.00,2,     0.49,2,     -999,9,     -999,9,     -999,9,   2114.2,2,   2320.5,2,   7.8742,6,    25.02,2,     -999,1,     -999,1,     -999,9,     -999,9,     -999,9,     -999,1,     -999,9,   4.9680,1,   0.0116,1,     -999,9,     -999,9,     -999,9,     -999,9,     -999,9,20230902,0100, -32.9984,  42.8328,-999          ,9,-999          ,9
33RR20230722  ,I05        ,160     ,  1,25         ,25         ,2,20230901,2335, -32.9984,  42.8327,     3522,    335.0,2,  14.5898,2,  35.3881,2,  35.3888,2,    216.4,2,    216.9,2,     3.22,2,     6.68,2,     0.00,2,     0.56,2,     -999,9,     -999,9,     -999,9,   2118.2,2,   2319.4,6,   7.8604,2,    25.00,2,     -999,1,     -999,1,     -999,9,     -999,9,     -999,9,     -999,9,     -999,9,   4.9677,1,   0.0115,1,     -999,9,     -999,9,     -999,9,     -999,9,     -999,9,20230902,0058, -32.9984,  42.8328,-999          ,9,-999          ,9
33RR20230722  ,I05        ,160     ,  1,24         ,24         ,2,20230901,2335, -32.9984,  42.8327,     3522,    399.6,2,  13.9530,2,  35.3166,2,  35.3165,2,    217.5,2,    217.6,2,     3.61,2,     7.89,2,     0.00,2,     0.63,2,    2.769,2,    1.591,2,   2.1600,2,   2125.9,2,   2316.1,2,   7.8452,2,    25.00,2,     -999,1,     -999,1,     -999,9,     -999,9,     -999,9,     -999,9,     -999,9,   4.9485,1,   0.0115,1,     10.8,2,     -999,9,     -999,9,     -999,9,     -999,9,20230902,0056, -32.9984,  42.8328,-999          ,9,-999          ,9
33RR20230722  ,I05        ,160     ,  1,23         ,23         ,2,20230901,2335, -32.9984,  42.8327,     3522,    472.5,2,  13.2658,2,  35.2414,2,  35.2412,2,    224.1,2,    223.3,2,     3.61,2,     8.86,2,     0.00,2,     0.68,2,     -999,9,     -999,9,     -999,9,   2128.0,2,   2313.9,2,   7.8341,2,    25.01,2,     -999,1,     -999,1,     -999,9,     -999,9,     -999,9,     -999,9,     -999,9,   4.9071,1,   0.0113,1,     -999,9,     -999,9,     -999,9,     -999,9,     -999,9,20230902,0053, -32.9984,  42.8328,-999          ,9,-999          ,9
33RR20230722  ,I05        ,160     ,  1,22         ,22         ,2,20230901,2335, -32.9984,  42.8327,     3522,    559.3,2,  12.6382,2,  35.1552,2,  35.1561,2,    224.6,2,    223.8,2,     3.90,2,    10.20,2,     0.00,2,     0.76,2,     -999,9,     -999,9,     -999,9,   2128.1,2,   2309.1,2,   7.8195,2,    25.02,2,     -999,1,     -999,1,     -999,9,     -999,9,     -999,9,     -999,9,     -999,9,   4.9668,1,   0.0114,1,     -999,9,     -999,9,     -999,9,     -999,9,     -999,9,20230902,0050, -32.9984,  42.8328,-999          ,9,-999          ,9
33RR20230722  ,I05        ,160     ,  1,21         ,21         ,2,20230901,2335, -32.9984,  42.8327,     3522,    663.1,2,  11.6753,2,  35.0101,2,  35.0114,2,    223.0,2,    222.3,2,     4.49,2,    12.47,2,     0.00,2,     0.92,2,    2.939,2,    1.766,2,   1.8900,2,   2137.6,2,   2302.5,2,   7.7959,2,    25.03,2,     -999,1,     -999,1,     -999,9,     -999,9,     -999,9,     -999,9,     -999,9,   4.8080,1,   0.0114,1,     12.1,2,     -999,9,     -999,9,     -999,9,     -999,9,20230902,0047, -32.9984,  42.8328,-999          ,9,-999          ,9
33RR20230722  ,I05        ,160     ,  1,20         ,20         ,2,20230901,2335, -32.9984,  42.8327,     3522,    762.1,2,  10.7548,2,  34.8775,2,  34.8772,2,    219.8,2,    219.7,2,     5.76,2,    14.97,2,     0.00,2,     1.06,2,     -999,9,     -999,9,     -999,9,   2141.7,2,   2297.3,2,   7.7694,2,    25.05,2,     -999,1,     -999,1,     -999,9,     -999,9,     -999,9,     -999,9,     -999,9,   4.7064,1,   0.0113,1,     -999,9,     -999,9,     -999,9,     -999,9,     -999,9,20230902,0045, -32.9984,  42.8328,-999          ,9,-999          ,9
33RR20230722  ,I05        ,160     ,  1,19         ,19         ,2,20230901,2335, -32.9984,  42.8327,     3522,    832.7,2,  10.0112,2,  34.7824,2,  34.7850,2,    217.2,2,    217.0,2,     7.22,2,    16.92,2,     0.00,2,     1.19,2,     -999,9,     -999,9,     -999,9,   2145.2,2,   2294.9,2,   7.7510,2,    25.04,2,     -999,1,     -999,1,     -999,9,     -999,9,     -999,9,     -999,9,     -999,9,   4.3666,1,   0.0114,1,     -999,9,     -999,9,     -999,9,     -999,9,     -999,9,20230902,0042, -32.9984,  42.8328,-999          ,9,-999          ,9
33RR20230722  ,I05        ,160     ,  1,18         ,18         ,2,20230901,2335, -32.9984,  42.8327,     3522,    910.9,2,   9.0319,2,  34.6706,2,  34.6702,2,    212.5,2,    212.5,2,     9.86,2,    19.70,2,     0.00,2,     1.38,2,    3.083,2,    1.749,2,   1.4100,2,   2155.2,2,   2290.0,2,   7.7230,6,    25.02,2,     -999,1,     -999,1,     -999,9,     -999,9,     -999,9,     -999,9,     -999,9,   4.9678,1,   0.0112,1,     15.2,2,     -999,9,     -999,9,     -999,9,     -999,9,20230902,0040, -32.9984,  42.8328,-999          ,9,-999          ,9
33RR20230722  ,I05        ,160     ,  1,17         ,17         ,2,20230901,2335, -32.9984,  42.8327,     3522,   1007.6,2,   7.7446,2,  34.5513,2,  34.5525,2,    206.1,2,    207.1,2,    15.13,2,    23.31,2,     0.00,2,     1.62,2,     -999,9,     -999,9,     -999,9,   2166.6,2,   2289.4,2,   7.6852,2,    25.02,2,     -999,1,     -999,1,     -999,9,     -999,9,     -999,9,     -999,9,     -999,9,   4.9110,1,   0.0112,1,     -999,9,     -999,9,     -999,9,     -999,9,     -999,9,20230902,0037, -32.9984,  42.8328,-999          ,9,-999          ,9
33RR20230722  ,I05        ,160     ,  1,16         ,16         ,2,20230901,2335, -32.9984,  42.8327,     3522,   1112.5,2,   6.3865,2,  34.4519,2,  34.4510,2,    202.1,2,    202.2,2,    22.35,2,    26.88,2,     0.00,2,     1.84,2,     -999,9,     -999,9,     -999,9,   2187.6,2,   2290.1,2,   7.6487,2,    25.00,2,     -999,1,     -999,1,     -999,9,     -999,9,     -999,9,     -999,9,     -999,9,   4.7794,1,   0.0112,1,     -999,9,     -999,9,     -999,9,     -999,9,     -999,9,20230902,0034, -32.9984,  42.8328,-999          ,9,-999          ,9
33RR20230722  ,I05        ,160     ,  1,15         ,15         ,2,20230901,2335, -32.9984,  42.8327,     3522,   1229.8,2,   4.9367,2,  34.3899,2,  34.3947,2,    199.0,2,    199.6,2,    33.19,2,    30.02,2,     0.00,2,     2.08,2,    2.317,2,    1.257,2,   0.7900,2,   2202.4,2,   2296.3,2,   7.6156,2,    25.01,2,     -999,1,     -999,1,     -999,9,     -999,9,     -999,9,     -999,9,     -999,9,   4.9706,1,   0.0112,1,     20.1,2,     -999,9,     -999,9,     -999,9,     -999,9,20230902,0031, -32.9984,  42.8328,-999          ,9,-999          ,9
33RR20230722  ,I05        ,160     ,  1,14         ,14         ,2,20230901,2335, -32.9984,  42.8327,     3522,   1361.0,2,   4.0880,2,  34.4296,2,  34.4308,2,    185.2,2,    185.4,2,    46.76,2,    32.20,2,     0.00,2,     2.24,2,     -999,9,     -999,9,     -999,9,   2222.2,2,   2308.9,2,   7.5920,2,    25.01,2,     -999,1,     -999,1,     -999,9,     -999,9,     -999,9,     -999,9,     -999,9,   4.9228,1,   0.0112,1,     -999,9,     -999,9,     -999,9,     -999,9,     -999,9,20230902,0027, -32.9984,  42.8328,-999          ,9,-999          ,9
33RR20230722  ,I05        ,160     ,  1,13         ,13         ,2,20230901,2335, -32.9984,  42.8327,     3522,   1495.6,2,   3.5546,2,  34.4892,2,  34.4903,2,    178.4,2,    178.5,2,    56.61,2,    32.95,2,     0.00,2,     2.28,2,     -999,9,     -999,9,     -999,9,   2231.7,2,   2318.8,2,   7.5821,2,    25.02,2,     -999,1,     -999,1,     -999,9,     -999,9,     -999,9,     -999,9,     -999,9,   4.9731,1,   0.0112,1,     -999,9,     -999,9,     -999,9,     -999,9,     -999,9,20230902,0024, -32.9984,  42.8327,-999          ,9,-999          ,9
33RR20230722  ,I05        ,160     ,  1,12         ,12         ,2,20230901,2335, -32.9984,  42.8327,     3522,   1628.4,2,   3.2448,2,  34.5530,2,  34.5543,2,    173.9,2,    173.7,2,    64.81,2,    33.12,2,     0.00,2,     2.30,2,    0.719,2,    0.343,2,   0.1400,2,   2244.7,6,   2326.4,2,   7.5797,2,    25.02,2,     -999,1,     -999,1,     -999,9,     -999,9,     -999,9,     -999,9,     -999,9,   4.9737,1,   0.0122,1,     23.0,2,     -999,9,     -999,9,     -999,9,     -999,9,20230902,0021, -32.9984,  42.8328,-999          ,9,-999          ,9
33RR20230722  ,I05        ,160     ,  1,11         ,11         ,2,20230901,2335, -32.9984,  42.8327,     3522,   1775.4,2,   3.0066,2,  34.6003,2,  34.6007,2,    175.0,2,    174.7,2,    69.30,2,    32.78,2,     0.00,2,     2.27,2,    0.463,2,    0.236,2,   0.1100,2,   2244.2,2,   2333.2,6,   7.5828,2,    25.00,2,     -999,1,     -999,1,     -999,9,     -999,9,     -999,9,     -999,9,     -999,9,   4.8493,1,   0.0115,1,     22.8,2,     -999,9,     -999,9,     -999,9,     -999,9,20230902,0017, -32.9984,  42.8328,-999          ,9,-999          ,9
33RR20230722  ,I05        ,160     ,  1,10         ,10         ,2,20230901,2335, -32.9984,  42.8327,     3522,   1948.8,2,   2.8014,2,  34.6629,2,  34.6627,2,    178.4,2,    178.3,2,    73.00,2,    31.94,2,     0.00,2,     2.23,2,    0.261,2,    0.135,2,   0.0500,2,   2247.7,2,   2338.1,2,   7.5958,6,    25.02,2,     -999,1,     -999,1,     -999,9,     -999,9,     -999,9,     -999,9,     -999,9,   4.7502,1,   0.0113,1,     22.1,2,     -999,9,     -999,9,     -999,9,     -999,9,20230902,0013, -32.9984,  42.8328,-999          ,9,-999          ,9
33RR20230722  ,I05        ,160     ,  1,9          ,9          ,2,20230901,2335, -32.9984,  42.8327,     3522,   2137.0,2,   2.6701,2,  34.7162,2,  34.7160,2,    184.6,2,    184.3,2,    74.07,2,    30.83,2,     0.00,2,     2.16,2,     -999,9,     -999,9,     -999,9,   2243.6,2,   2340.0,2,   7.6092,2,    25.00,2,     -999,1,     -999,1,     -999,9,     -999,9,     -999,9,     -999,9,     -999,9,   4.8481,1,   0.0113,1,     -999,9,     -999,9,     -999,9,     -999,9,     -999,9,20230902,0009, -32.9984,  42.8328,-999          ,9,-999          ,9
33RR20230722  ,I05        ,160     ,  1,8          ,8          ,2,20230901,2335, -32.9984,  42.8327,     3522,   2322.0,2,   2.5985,2,  34.7638,2,  34.7632,2,    193.6,2,    193.9,2,    71.14,2,    29.38,2,     0.00,2,     2.03,2,    0.065,2,    0.039,2,  -0.0100,2,   2238.0,2,   2342.3,2,   7.6297,2,    25.00,2,     -999,1,     -999,1,     -999,9,     -999,9,     -999,9,     -999,9,     -999,9,   4.8318,1,   0.0113,1,     20.1,2,     -999,9,     -999,9,     -999,9,     -999,9,20230902,0005, -32.9984,  42.8328,-999          ,9,-999          ,9
33RR20230722  ,I05        ,160     ,  1,7          ,7          ,2,20230901,2335, -32.9984,  42.8327,     3522,   2584.3,2,   2.3972,2,  34.7934,2,  34.7931,2,    204.7,2,    205.2,2,    70.17,2,    28.11,2,     0.00,2,     1.95,2,     -999,9,     -999,9,     -999,9,   2232.1,2,   2344.0,2,   7.6466,2,    25.01,2,     -999,1,     -999,1,     -999,9,     -999,9,     -999,9,     -999,9,     -999,9,   4.8323,1,   0.0121,1,     -999,9,     -999,9,     -999,9,     -999,9,     -999,9,20230901,2359, -32.9984,  42.8328,-999          ,9,-999          ,9
33RR20230722  ,I05        ,160     ,  1,6          ,6          ,2,20230901,2335, -32.9984,  42.8327,     3522,   2932.8,2,   2.1697,2,  34.7964,2,  34.7968,2,    210.4,2,    210.7,2,    73.97,2,    27.93,2,     0.00,2,     1.92,2,     -999,9,     -999,9,     -999,9,   2232.7,2,   2346.3,2,   7.6542,2,    24.99,2,     -999,1,     -999,1,     -999,9,     -999,9,     -999,9,     -999,9,     -999,9,   4.8128,1,   0.0115,1,     -999,9,     -999,9,     -999,9,     -999,9,     -999,9,20230901,2352, -32.9984,  42.8327,-999          ,9,-999          ,9
33RR20230722  ,I05        ,160     ,  1,5          ,5          ,2,20230901,2335, -32.9984,  42.8327,     3522,   3173.8,2,   2.0376,2,  34.7929,2,  34.7933,2,    212.9,2,    213.1,2,    76.90,2,    28.01,2,     0.00,2,     1.94,2,    0.026,2,    0.019,2,   0.0000,2,   2230.8,2,   2347.8,2,   7.6540,2,    25.01,2,     -999,1,     -999,1,     -999,9,     -999,9,     -999,9,     -999,9,     -999,9,   4.9740,1,   0.0111,1,     17.5,2,     -999,9,     -999,9,     -999,9,     -999,9,20230901,2347, -32.9984,  42.8328,-999          ,9,-999          ,9
33RR20230722  ,I05        ,160     ,  1,4          ,37         ,2,20230901,2335, -32.9984,  42.8327,     3522,   3304.0,2,   1.9361,2,  34.7874,2,  34.7868,2,    213.3,2,    213.7,2,    80.41,2,    28.30,2,     0.00,2,     1.96,2,     -999,9,     -999,9,     -999,9,   2233.7,2,   2349.5,2,   7.6516,2,    25.04,2,     -999,1,     -999,1,     -999,9,     -999,9,     -999,9,     -999,9,     -999,9,   4.8469,1,   0.0110,1,     -999,9,     -999,9,     -999,9,     -999,9,     -999,9,20230901,2343, -32.9984,  42.8327,-999          ,9,-999          ,9
33RR20230722  ,I05        ,160     ,  1,3          ,3          ,2,20230901,2335, -32.9984,  42.8327,     3522,   3420.9,2,   1.8928,2,  34.7845,2,  34.7856,2,    213.7,2,    213.9,2,    81.58,2,    28.38,2,     0.00,2,     1.96,2,    0.032,2,    0.022,2,   0.0100,2,   2234.8,2,   2349.7,2,   7.6507,2,    25.02,2,     -999,1,     -999,1,     -999,9,     -999,9,     -999,9,     -999,9,     -999,9,   4.8757,1,   0.0111,1,     17.8,2,     -999,9,     -999,9,     -999,9,     -999,9,20230901,2340, -32.9984,  42.8328,-999          ,9,-999          ,9