BOTTLE,20240422CCHHYDRO
EXPOCODE,SECT_ID,STNNBR,CASTNO,SAMPNO,BTLNBR,BTLNBR_FLAG_W,DATE,TIME,LATITUDE,LONGITUDE,DEPTH,CTDPRS,CTDPRS_FLAG_W,CTDTMP,CTDTMP_FLAG_W,CTDSAL,CTDSAL_FLAG_W,SALNTY,SALNTY_FLAG_W,CTDOXY,CTDOXY_FLAG_W,OXYGEN,OXYGEN_FLAG_W,SILCAT,SILCAT_FLAG_W,NITRAT,NITRAT_FLAG_W,NITRIT,NITRIT_FLAG_W,PHSPHT,PHSPHT_FLAG_W,CFC-11,CFC-11_FLAG_W,CFC-12,CFC-12_FLAG_W,SF6,SF6_FLAG_W,TCARBN,TCARBN_FLAG_W,ALKALI,ALKALI_FLAG_W,PH_TOT,PH_TOT_FLAG_W,PH_TMP,PH_TMP_FLAG_W,DOC,DOC_FLAG_W,REFTMP,REFTMP_FLAG_W,POC,POC_FLAG_W,PON,PON_FLAG_W,POP,POP_FLAG_W,DOP,DOP_FLAG_W,DELO18,DELO18_FLAG_W,CTDFLUOR,CTDFLUOR_FLAG_W,CTDXMISS,CTDXMISS_FLAG_W,N2O,N2O_FLAG_W,D15N_NO3,D15N_NO3_FLAG_W,D15N_NO2+NO3,D15N_NO2+NO3_FLAG_W,D18O_NO2+NO3,D18O_NO2+NO3_FLAG_W,D18O_NO3,D18O_NO3_FLAG_W,BTL_DATE,BTL_TIME,BTL_LAT,BTL_LON,HPLC,HPLC_FLAG_W,DNA,DNA_FLAG_W
,,,,,,,,,,,METERS,DBAR,,ITS-90,,PSS-78,,PSS-78,,UMOL/KG,,UMOL/KG,,UMOL/KG,,UMOL/KG,,UMOL/KG,,UMOL/KG,,PMOL/KG,,PMOL/KG,,FMOL/KG,,UMOL/KG,,UMOL/KG,,,,DEG C,,UMOL/KG,,ITS-90,,UG/KG,,UG/KG,,UG/L,,UMOL/KG,,/MILLE,,VOLTS,,VOLTS,,NMOL/KG,,/MILLE,,/MILLE,,/MILLE,,/MILLE,,,,,,,,,
33RR20230722  ,I05        ,111     ,  1,36         ,38         ,2,20230820,1641, -33.9981,  65.6978,     4467,      6.5,2,  16.0976,2,  35.4316,2,  35.4314,2,    248.5,2,    247.4,2,     1.07,2,     0.06,2,     0.02,2,     0.16,2,    2.003,2,    1.151,2,   2.3900,2,   2082.1,6,   2330.3,2,   7.9452,2,    25.00,2,     -999,1,  16.0966,2,     -999,9,     -999,9,     -999,9,     -999,9,     -999,1,   4.6510,1,   0.0468,1,      8.5,2,     -999,9,     -999,9,     -999,9,     -999,9,20230820,1838, -33.9981,  65.6978,-999          ,9,-999          ,9
33RR20230722  ,I05        ,111     ,  1,35         ,35         ,2,20230820,1641, -33.9981,  65.6978,     4467,     22.2,2,  15.9271,2,  35.4250,2,  35.4253,2,    250.3,2,    249.0,2,     1.07,2,     0.09,2,     0.02,2,     0.18,2,     -999,9,     -999,9,     -999,9,   2082.0,2,   2325.4,2,   7.9423,2,    24.98,2,     -999,9,  15.9254,2,     -999,9,     -999,9,     -999,9,     -999,9,     -999,1,   4.9757,1,   0.0537,1,     -999,9,     -999,9,     -999,9,     -999,9,     -999,9,20230820,1836, -33.9981,  65.6978,-999          ,9,-999          ,9
33RR20230722  ,I05        ,111     ,  1,34         ,34         ,2,20230820,1641, -33.9981,  65.6978,     4467,     42.0,2,  15.9081,2,  35.4247,2,  35.4192,2,    249.6,2,    249.0,2,     1.17,2,     0.26,2,     0.05,2,     0.19,2,    2.250,2,    1.486,2,   2.4100,2,   2083.8,2,   2329.1,2,   7.9399,2,    24.99,2,     -999,9,  15.9091,2,     -999,9,     -999,9,     -999,9,     -999,9,     -999,1,   4.9755,1,   0.0554,1,      8.6,2,     -999,9,     -999,9,     -999,9,     -999,9,20230820,1835, -33.9981,  65.6978,-999          ,9,-999          ,9
33RR20230722  ,I05        ,111     ,  1,33         ,33         ,2,20230820,1641, -33.9981,  65.6978,     4467,     62.3,2,  15.6799,2,  35.4167,2,  35.4168,2,    247.6,2,    247.2,2,     1.27,2,     0.58,2,     0.10,2,     0.21,2,    2.051,2,    1.453,2,   2.4000,2,   2087.9,2,   2325.9,2,   7.9319,2,    24.98,2,     -999,9,  15.6813,2,     -999,9,     -999,9,     -999,9,     -999,9,     -999,1,   4.8635,1,   0.0491,1,      8.5,2,     -999,9,     -999,9,     -999,9,     -999,9,20230820,1833, -33.9981,  65.6978,-999          ,9,-999          ,9
33RR20230722  ,I05        ,111     ,  1,32         ,32         ,2,20230820,1641, -33.9981,  65.6978,     4467,     87.5,2,  15.1956,2,  35.3865,2,  35.3875,2,    239.9,2,    241.3,2,     1.56,2,     2.17,2,     0.25,2,     0.32,2,     -999,9,     -999,9,     -999,9,   2097.2,2,   2323.6,2,   7.9091,2,    24.99,2,     -999,9,  15.1800,2,     -999,9,     -999,9,     -999,9,     -999,9,     -999,1,   4.9724,1,   0.0288,1,     -999,9,     -999,9,     -999,9,     -999,9,     -999,9,20230820,1831, -33.9981,  65.6978,-999          ,9,-999          ,9
33RR20230722  ,I05        ,111     ,  1,31         ,31         ,2,20230820,1641, -33.9981,  65.6978,     4467,    113.0,2,  14.2752,2,  35.3169,2,  35.3165,2,    231.9,2,    232.9,2,     2.24,2,     5.26,2,     0.06,2,     0.50,2,    1.872,2,    1.387,2,   2.2400,2,   2114.1,2,   2320.0,2,   7.8662,2,    24.99,2,     -999,9,  14.2682,2,     -999,9,     -999,9,     -999,9,     -999,9,     -999,1,   4.9535,1,   0.0184,1,     10.2,2,     -999,9,     -999,9,     -999,9,     -999,9,20230820,1829, -33.9981,  65.6978,-999          ,9,-999          ,9
33RR20230722  ,I05        ,111     ,  1,30         ,30         ,2,20230820,1641, -33.9981,  65.6978,     4467,    142.0,2,  13.9070,2,  35.2945,2,  35.2936,2,    228.8,2,    229.6,2,     2.63,2,     6.50,2,     0.01,2,     0.57,2,     -999,9,     -999,9,     -999,9,   2119.1,2,   2317.9,2,   7.8533,2,    24.99,2,     -999,9,  13.9037,2,     -999,9,     -999,9,     -999,9,     -999,9,     -999,1,   4.9695,1,   0.0138,1,     -999,9,     -999,9,     -999,9,     -999,9,     -999,9,20230820,1827, -33.9981,  65.6978,-999          ,9,-999          ,9
33RR20230722  ,I05        ,111     ,  1,29         ,29         ,2,20230820,1641, -33.9981,  65.6978,     4467,    172.3,2,  13.5475,2,  35.2576,2,  35.2570,2,    225.2,2,    226.6,2,     3.22,2,     7.77,2,     0.00,2,     0.62,2,     -999,9,     -999,9,     -999,9,   2123.1,2,   2314.4,2,   7.8436,2,    24.99,2,     -999,9,  13.5444,2,     -999,9,     -999,9,     -999,9,     -999,9,     -999,1,   4.9686,1,   0.0119,1,     -999,9,     -999,9,     -999,9,     -999,9,     -999,9,20230820,1825, -33.9981,  65.6979,-999          ,9,-999          ,9
33RR20230722  ,I05        ,111     ,  1,28         ,28         ,2,20230820,1641, -33.9981,  65.6978,     4467,    206.1,2,  13.2806,2,  35.2358,2,  35.2359,2,    230.6,2,    230.8,2,     3.22,2,     7.97,2,     0.00,2,     0.64,2,    2.568,2,    1.715,2,   2.3200,2,   -999.0,9,     -999,9,     -999,9,     -999,9,     -999,9,  13.2811,2,     -999,9,     -999,9,     -999,9,     -999,9,     -999,1,   4.9688,1,   0.0116,1,     10.7,2,     -999,9,     -999,9,     -999,9,     -999,9,20230820,1823, -33.9982,  65.6979,-999          ,9,-999          ,9
33RR20230722  ,I05        ,111     ,  1,27         ,27         ,2,20230820,1641, -33.9981,  65.6978,     4467,    239.0,2,  13.0807,2,  35.2148,2,  35.2125,2,    231.8,2,    232.0,2,     3.32,2,     8.40,2,     0.00,2,     0.66,2,     -999,9,     -999,9,     -999,9,   2125.3,2,   2313.6,6,   7.8377,2,    24.98,2,     -999,9,  13.0809,2,     -999,9,     -999,9,     -999,9,     -999,9,     -999,1,   4.9686,1,   0.0117,1,     -999,9,     -999,9,     -999,9,     -999,9,     -999,9,20230820,1822, -33.9982,  65.6978,-999          ,9,-999          ,9
33RR20230722  ,I05        ,111     ,  1,26         ,26         ,2,20230820,1641, -33.9981,  65.6978,     4467,    275.6,2,  12.8482,2,  35.1831,2,  35.1788,2,    232.6,2,    232.0,2,     3.32,2,     8.93,2,     0.00,2,     0.70,2,    2.337,2,    1.635,2,   2.1800,2,   -999.0,9,     -999,9,     -999,9,     -999,9,     -999,9,  12.8431,2,     -999,9,     -999,9,     -999,9,     -999,9,     -999,1,   4.8616,1,   0.0114,1,     10.7,2,     -999,9,     -999,9,     -999,9,     -999,9,20230820,1820, -33.9982,  65.6979,-999          ,9,-999          ,9
33RR20230722  ,I05        ,111     ,  1,25         ,25         ,2,20230820,1641, -33.9981,  65.6978,     4467,    328.1,2,  12.4950,2,  35.1242,2,  35.1238,2,    225.4,2,    226.1,2,     4.00,2,    10.35,2,     0.00,2,     0.77,2,     -999,9,     -999,9,     -999,9,   2129.2,2,   2309.8,2,   7.8191,6,    24.99,2,     -999,9,  12.4945,2,     -999,9,     -999,9,     -999,9,     -999,9,     -999,1,   4.9675,1,   0.0114,1,     -999,9,     -999,9,     -999,9,     -999,9,     -999,9,20230820,1818, -33.9982,  65.6979,-999          ,9,-999          ,9
33RR20230722  ,I05        ,111     ,  1,24         ,24         ,2,20230820,1641, -33.9981,  65.6978,     4467,    386.6,2,  12.0164,2,  35.0516,2,  35.0502,2,    226.8,2,    226.9,2,     4.10,2,    11.32,2,     0.00,2,     0.85,2,    2.427,2,    1.452,2,   2.0900,2,   -999.0,9,     -999,9,     -999,9,     -999,9,     -999,9,  12.0188,2,     -999,9,     -999,9,     -999,9,     -999,9,     -999,1,   4.9673,1,   0.0116,1,     11.6,2,     -999,9,     -999,9,     -999,9,     -999,9,20230820,1816, -33.9981,  65.6978,-999          ,9,-999          ,9
33RR20230722  ,I05        ,111     ,  1,23         ,23         ,2,20230820,1641, -33.9981,  65.6978,     4467,    458.6,2,  11.3848,2,  34.9562,2,  34.9553,2,    226.0,2,    225.7,2,     4.59,2,    12.87,2,     0.00,2,     0.96,2,    2.523,2,    1.788,2,   2.0300,2,   2137.3,2,   2302.1,2,   7.7917,2,    24.98,2,     -999,9,  11.3816,2,     -999,9,     -999,9,     -999,9,     -999,9,     -999,1,   4.9667,1,   0.0116,1,     12.0,2,     -999,9,     -999,9,     -999,9,     -999,9,20230820,1813, -33.9981,  65.6978,-999          ,9,-999          ,9
33RR20230722  ,I05        ,111     ,  1,22         ,22         ,2,20230820,1641, -33.9981,  65.6978,     4467,    541.9,2,  10.5867,2,  34.8430,2,  34.8408,2,    222.7,2,    222.5,2,     5.56,2,    15.02,2,     0.00,2,     1.07,2,    2.964,2,    1.787,2,   1.7300,2,   2142.3,2,   2297.4,2,   7.7680,2,    24.98,2,     -999,9,  10.5854,2,     -999,9,     -999,9,     -999,9,     -999,9,     -999,1,   4.9666,1,   0.0115,1,     12.8,2,     -999,9,     -999,9,     -999,9,     -999,9,20230820,1811, -33.9981,  65.6978,-999          ,9,-999          ,9
33RR20230722  ,I05        ,111     ,  1,21         ,21         ,2,20230820,1641, -33.9981,  65.6978,     4467,    633.6,2,   9.5459,2,  34.7110,2,  34.7134,2,    218.2,2,    218.2,2,     7.12,2,    17.78,2,     0.00,2,     1.25,2,    2.955,2,    1.894,2,   1.7300,2,   2150.1,2,   2291.3,2,   7.7391,2,    24.99,2,     -999,9,   9.5497,2,     -999,9,     -999,9,     -999,9,     -999,9,     -999,1,   4.9669,1,   0.0115,1,     13.6,2,     -999,9,     -999,9,     -999,9,     -999,9,20230820,1808, -33.9981,  65.6978,-999          ,9,-999          ,9
33RR20230722  ,I05        ,111     ,  1,20         ,20         ,2,20230820,1641, -33.9981,  65.6978,     4467,    735.0,2,   8.3788,2,  34.5881,2,  34.5869,2,    210.6,2,    211.1,2,    11.13,2,    21.37,2,     0.00,2,     1.48,2,    4.480,3,    1.889,2,   1.4400,2,   -999.0,9,     -999,9,     -999,9,     -999,9,     -999,9,   8.3772,2,     -999,9,     -999,9,     -999,9,     -999,9,     -999,1,   4.6731,1,   0.0112,1,     15.2,2,     -999,9,     -999,9,     -999,9,     -999,9,20230820,1806, -33.9982,  65.6979,-999          ,9,-999          ,9
33RR20230722  ,I05        ,111     ,  1,19         ,19         ,2,20230820,1641, -33.9981,  65.6978,     4467,    846.2,2,   7.0400,2,  34.4729,2,  34.4746,2,    206.1,2,    206.1,2,    16.30,2,    24.90,2,     0.00,2,     1.73,2,    3.023,2,    1.651,2,   1.2300,2,   2172.6,2,   2288.4,2,   7.6649,2,    24.99,2,     -999,9,   7.0537,2,     -999,9,     -999,9,     -999,9,     -999,9,     -999,1,   4.9689,1,   0.0111,1,     16.9,2,     -999,9,     -999,9,     -999,9,     -999,9,20230820,1803, -33.9981,  65.6978,-999          ,9,-999          ,9
33RR20230722  ,I05        ,111     ,  1,18         ,18         ,2,20230820,1641, -33.9981,  65.6978,     4467,    970.4,2,   5.3854,2,  34.3647,2,  34.3641,2,    207.7,2,    207.3,2,    25.18,2,    28.63,2,     0.00,2,     1.98,2,    3.507,2,    1.597,2,   1.2000,2,   -999.0,9,     -999,9,     -999,9,     -999,9,     -999,9,   5.3914,2,     -999,9,     -999,9,     -999,9,     -999,9,     -999,1,   4.9240,1,   0.0112,1,     18.2,2,     -999,9,     -999,9,     -999,9,     -999,9,20230820,1800, -33.9981,  65.6978,-999          ,9,-999          ,9
33RR20230722  ,I05        ,111     ,  1,17         ,17         ,2,20230820,1641, -33.9981,  65.6978,     4467,   1089.5,2,   4.4420,2,  34.3436,2,  34.3433,2,    205.0,2,    205.2,2,    33.77,2,    30.57,2,     0.00,2,     2.14,2,     -999,9,     -999,9,     -999,9,   2202.8,2,   2296.7,2,   7.6097,2,    25.01,2,     -999,9,   4.4422,2,     -999,9,     -999,9,     -999,9,     -999,9,     -999,1,   4.9703,1,   0.0112,1,     -999,9,     -999,9,     -999,9,     -999,9,     -999,9,20230820,1757, -33.9981,  65.6978,-999          ,9,-999          ,9
33RR20230722  ,I05        ,111     ,  1,16         ,16         ,2,20230820,1641, -33.9981,  65.6978,     4467,   1224.7,2,   3.7887,2,  34.3885,2,  34.3886,2,    189.3,2,    189.6,2,    45.97,2,    32.48,2,     0.00,2,     2.27,2,    1.455,6,    0.788,2,   0.4900,6,   2221.1,2,   2307.3,2,   7.5868,2,    25.01,2,     -999,9,   3.7916,2,     -999,9,     -999,9,     -999,9,     -999,9,     -999,1,   4.6524,1,   0.0113,1,     21.1,6,     -999,9,     -999,9,     -999,9,     -999,9,20230820,1753, -33.9981,  65.6978,-999          ,9,-999          ,9
33RR20230722  ,I05        ,111     ,  1,15         ,15         ,2,20230820,1641, -33.9981,  65.6978,     4467,   1360.7,2,   3.3866,2,  34.4526,2,  34.4532,2,    177.6,2,    177.8,2,    56.71,2,    33.54,2,     0.00,2,     2.35,2,     -999,9,     -999,9,     -999,9,   2235.1,2,   2317.9,2,   7.5712,2,    25.01,2,     -999,9,   3.3845,2,     -999,9,     -999,9,     -999,9,     -999,9,     -999,1,   4.9729,1,   0.0112,1,     -999,9,     -999,9,     -999,9,     -999,9,     -999,9,20230820,1750, -33.9981,  65.6978,-999          ,9,-999          ,9
33RR20230722  ,I05        ,111     ,  1,14         ,14         ,2,20230820,1641, -33.9981,  65.6978,     4467,   1494.4,2,   3.0825,2,  34.5253,2,  34.5262,2,    169.9,2,    169.9,2,    66.36,2,    33.87,2,     0.00,2,     2.36,2,    0.540,2,    0.271,2,   0.1300,2,   2248.4,2,   2326.5,2,   7.5683,6,    25.01,2,     -999,9,   3.0816,2,     -999,9,     -999,9,     -999,9,     -999,9,     -999,1,   4.9740,1,   0.0116,1,     22.8,2,     -999,9,     -999,9,     -999,9,     -999,9,20230820,1746, -33.9981,  65.6978,-999          ,9,-999          ,9
33RR20230722  ,I05        ,111     ,  1,13         ,13         ,2,20230820,1641, -33.9981,  65.6978,     4467,   1636.9,2,   2.8238,2,  34.5916,2,  34.5893,2,    170.3,2,    170.1,2,    71.83,2,    33.42,2,     0.00,2,     2.33,2,    0.361,2,    0.195,2,   0.1200,2,   2250.2,2,   2335.1,2,   7.5712,2,    25.02,2,     -999,9,   2.8248,2,     -999,9,     -999,9,     -999,9,     -999,9,     -999,1,   4.9242,1,   0.0111,1,     21.9,2,     -999,9,     -999,9,     -999,9,     -999,9,20230820,1743, -33.9981,  65.6978,-999          ,9,-999          ,9
33RR20230722  ,I05        ,111     ,  1,12         ,12         ,2,20230820,1641, -33.9981,  65.6978,     4467,   1784.7,2,   2.6541,2,  34.6397,2,  34.6388,2,    173.4,2,    173.7,2,    75.43,2,    32.70,2,     0.00,2,     2.28,2,    0.185,2,    0.093,2,   0.0600,2,   -999.0,9,     -999,9,     -999,9,     -999,9,     -999,9,   2.6541,2,     -999,9,     -999,9,     -999,9,     -999,9,     -999,1,   4.6769,1,   0.0111,1,     21.2,2,     -999,9,     -999,9,     -999,9,     -999,9,20230820,1739, -33.9981,  65.6978,-999          ,9,-999          ,9
33RR20230722  ,I05        ,111     ,  1,11         ,11         ,2,20230820,1641, -33.9981,  65.6978,     4467,   1956.4,2,   2.4932,2,  34.6796,2,  34.6793,2,    178.2,2,    178.3,2,    78.75,2,    31.89,2,     0.00,2,     2.22,2,     -999,9,     -999,9,     -999,9,   2252.3,2,   2344.7,2,   7.5923,2,    24.97,2,     -999,9,   2.4927,2,     -999,9,     -999,9,     -999,9,     -999,9,     -999,1,   4.9742,1,   0.0111,1,     -999,9,     -999,9,     -999,9,     -999,9,     -999,9,20230820,1735, -33.9982,  65.6978,-999          ,9,-999          ,9
33RR20230722  ,I05        ,111     ,  1,10         ,10         ,2,20230820,1641, -33.9981,  65.6978,     4467,   2189.3,2,   2.2106,2,  34.7185,2,  34.7176,2,    182.5,2,    182.9,2,    88.99,2,    31.49,2,     0.00,2,     2.20,2,    0.057,2,    0.032,2,  -0.0100,2,   -999.0,9,     -999,9,     -999,9,     -999,9,     -999,9,   2.2141,2,     -999,9,     -999,9,     -999,9,     -999,9,     -999,1,   4.9743,1,   0.0111,1,     19.6,2,     -999,9,     -999,9,     -999,9,     -999,9,20230820,1730, -33.9981,  65.6979,-999          ,9,-999          ,9
33RR20230722  ,I05        ,111     ,  1,9          ,9          ,2,20230820,1641, -33.9981,  65.6978,     4467,   2451.7,2,   2.0035,2,  34.7262,2,  34.7254,2,    179.0,2,    179.1,2,   104.12,2,    32.18,2,     0.00,2,     2.27,2,     -999,9,     -999,9,     -999,9,   2272.5,2,   2369.1,2,   7.6073,2,    24.99,2,     -999,9,   2.0041,2,     -999,9,     -999,9,     -999,9,     -999,9,     -999,1,   4.9749,1,   0.0112,1,     -999,9,     -999,9,     -999,9,     -999,9,     -999,9,20230820,1724, -33.9981,  65.6978,-999          ,9,-999          ,9
33RR20230722  ,I05        ,111     ,  1,8          ,8          ,2,20230820,1641, -33.9981,  65.6978,     4467,   2765.6,2,   1.8261,2,  34.7264,2,  34.7258,2,    177.8,2,    177.6,2,   113.88,2,    32.79,2,     0.00,2,     2.30,2,    0.017,2,    0.007,2,   0.0000,2,   -999.0,9,     -999,9,     -999,9,     -999,9,     -999,9,   1.8255,2,     -999,9,     -999,9,     -999,9,     -999,9,     -999,1,   4.9755,1,   0.0118,1,     20.1,2,     -999,9,     -999,9,     -999,9,     -999,9,20230820,1718, -33.9981,  65.6978,-999          ,9,-999          ,9
33RR20230722  ,I05        ,111     ,  1,7          ,7          ,2,20230820,1641, -33.9981,  65.6978,     4467,   3086.8,2,   1.6630,2,  34.7247,2,  34.7243,2,    180.3,2,    180.1,2,   118.95,2,    32.95,2,     0.00,2,     2.31,2,     -999,9,     -999,9,     -999,9,   2284.6,2,   2380.7,2,   7.6075,2,    24.99,2,     -999,9,   1.6635,2,     -999,9,     -999,9,     -999,9,     -999,9,     -999,1,   4.9759,1,   0.0117,1,     -999,9,     -999,9,     -999,9,     -999,9,     -999,9,20230820,1711, -33.9981,  65.6978,-999          ,9,-999          ,9
33RR20230722  ,I05        ,111     ,  1,6          ,6          ,2,20230820,1641, -33.9981,  65.6978,     4467,   3426.1,2,   1.4631,2,  34.7193,2,  34.7189,2,    186.6,2,    187.0,2,   122.17,2,    32.87,2,     0.00,2,     2.30,2,    0.031,2,    0.008,2,  -0.0100,2,   -999.0,9,     -999,9,     -999,9,     -999,9,     -999,9,   1.4626,2,     -999,9,     -999,9,     -999,9,     -999,9,     -999,1,   4.9761,1,   0.0112,1,     19.4,2,     -999,9,     -999,9,     -999,9,     -999,9,20230820,1705, -33.9981,  65.6978,-999          ,9,-999          ,9
33RR20230722  ,I05        ,111     ,  1,5          ,5          ,2,20230820,1641, -33.9981,  65.6978,     4467,   3755.8,2,   1.1266,2,  34.7080,2,  34.7076,2,    197.9,2,    198.2,2,   125.59,2,    32.73,2,     0.00,2,     2.29,2,     -999,9,     -999,9,     -999,9,   2275.6,2,   2372.5,2,   7.6100,6,    25.00,2,     -999,9,   1.1257,2,     -999,9,     -999,9,     -999,9,     -999,9,     -999,1,   4.9678,1,   0.0111,1,     -999,9,     -999,9,     -999,9,     -999,9,     -999,9,20230820,1658, -33.9981,  65.6978,-999          ,9,-999          ,9
33RR20230722  ,I05        ,111     ,  1,4          ,37         ,2,20230820,1641, -33.9981,  65.6978,     4467,   4053.2,2,   0.8714,2,  34.6989,2,  34.6985,2,    205.9,2,    206.0,2,   127.93,2,    32.54,2,     0.00,2,     2.28,2,    0.096,2,    0.047,2,  -0.0600,2,   2272.1,2,   2370.0,2,   7.6124,2,    25.02,2,     -999,9,   0.8698,2,     -999,9,     -999,9,     -999,9,     -999,9,     -999,1,   4.7984,1,   0.0111,1,     18.5,2,     -999,9,     -999,9,     -999,9,     -999,9,20230820,1652, -33.9981,  65.6978,-999          ,9,-999          ,9
33RR20230722  ,I05        ,111     ,  1,3          ,3          ,2,20230820,1641, -33.9981,  65.6978,     4467,   4277.0,2,   0.7445,2,  34.6931,2,  34.6928,2,    210.1,2,    210.5,2,   129.30,2,    32.55,2,     0.00,2,     2.27,2,    0.112,2,    0.062,2,   0.0800,2,   2270.3,2,   2368.5,6,   7.6123,2,    25.01,2,     -999,9,   0.7440,2,     -999,9,     -999,9,     -999,9,     -999,9,     -999,1,   4.8938,1,   0.0111,1,     18.3,2,     -999,9,     -999,9,     -999,9,     -999,9,20230820,1647, -33.9981,  65.6978,-999          ,9,-999          ,9