BOTTLE,20240422CCHHYDRO
EXPOCODE,SECT_ID,STNNBR,CASTNO,SAMPNO,BTLNBR,BTLNBR_FLAG_W,DATE,TIME,LATITUDE,LONGITUDE,DEPTH,CTDPRS,CTDPRS_FLAG_W,CTDTMP,CTDTMP_FLAG_W,CTDSAL,CTDSAL_FLAG_W,SALNTY,SALNTY_FLAG_W,CTDOXY,CTDOXY_FLAG_W,OXYGEN,OXYGEN_FLAG_W,SILCAT,SILCAT_FLAG_W,NITRAT,NITRAT_FLAG_W,NITRIT,NITRIT_FLAG_W,PHSPHT,PHSPHT_FLAG_W,CFC-11,CFC-11_FLAG_W,CFC-12,CFC-12_FLAG_W,SF6,SF6_FLAG_W,TCARBN,TCARBN_FLAG_W,ALKALI,ALKALI_FLAG_W,PH_TOT,PH_TOT_FLAG_W,PH_TMP,PH_TMP_FLAG_W,DOC,DOC_FLAG_W,REFTMP,REFTMP_FLAG_W,POC,POC_FLAG_W,PON,PON_FLAG_W,POP,POP_FLAG_W,DOP,DOP_FLAG_W,DELO18,DELO18_FLAG_W,CTDFLUOR,CTDFLUOR_FLAG_W,CTDXMISS,CTDXMISS_FLAG_W,N2O,N2O_FLAG_W,D15N_NO3,D15N_NO3_FLAG_W,D15N_NO2+NO3,D15N_NO2+NO3_FLAG_W,D18O_NO2+NO3,D18O_NO2+NO3_FLAG_W,D18O_NO3,D18O_NO3_FLAG_W,BTL_DATE,BTL_TIME,BTL_LAT,BTL_LON,HPLC,HPLC_FLAG_W,DNA,DNA_FLAG_W
,,,,,,,,,,,METERS,DBAR,,ITS-90,,PSS-78,,PSS-78,,UMOL/KG,,UMOL/KG,,UMOL/KG,,UMOL/KG,,UMOL/KG,,UMOL/KG,,PMOL/KG,,PMOL/KG,,FMOL/KG,,UMOL/KG,,UMOL/KG,,,,DEG C,,UMOL/KG,,ITS-90,,UG/KG,,UG/KG,,UG/L,,UMOL/KG,,/MILLE,,VOLTS,,VOLTS,,NMOL/KG,,/MILLE,,/MILLE,,/MILLE,,/MILLE,,,,,,,,,
33RR20230722  ,I05        ,27      ,  1,36         ,36         ,2,20230729,1257, -31.2127, 104.8239,     5757,      3.2,2,  18.7140,2,  35.6946,2,  35.6968,2,    230.3,2,    229.6,2,     2.05,2,     0.07,2,     0.01,2,     0.10,2,    2.178,2,    1.224,2,   2.0300,2,   2060.9,6,   2337.8,2,   7.9941,2,    24.99,2,     -999,1,  18.7205,2,     -999,9,     -999,9,     -999,9,     -999,9,     -999,1,   4.6679,1,   0.0348,1,      7.6,2,     -999,9,     -999,9,     -999,9,     -999,9,20230729,1518, -31.2127, 104.8239,-999          ,9,-999          ,9
33RR20230722  ,I05        ,27      ,  1,35         ,35         ,2,20230729,1257, -31.2127, 104.8239,     5757,     18.2,2,  18.7151,2,  35.6946,2,  35.6919,2,    230.3,2,    229.7,2,     1.95,2,     0.02,2,     0.01,2,     0.09,2,    2.241,2,    1.246,2,   2.0500,2,   2059.6,2,   2341.6,2,   7.9937,6,    24.98,2,     -999,9,  18.7181,2,     -999,9,     -999,9,     -999,9,     -999,9,     -999,1,   4.9751,1,   0.0421,1,      7.8,2,     -999,9,     -999,9,     -999,9,     -999,9,20230729,1517, -31.2127, 104.8239,-999          ,9,-999          ,9
33RR20230722  ,I05        ,27      ,  1,34         ,34         ,2,20230729,1257, -31.2127, 104.8239,     5757,     28.4,2,  18.7257,2,  35.6946,2,  35.6958,2,    230.0,2,    229.7,2,     2.05,2,     0.00,2,     0.01,2,     0.09,2,     -999,9,     -999,9,     -999,9,   2059.8,2,   2340.2,2,   7.9903,2,    24.98,2,     -999,9,  18.7252,2,     -999,9,     -999,9,     -999,9,     -999,9,     -999,1,   4.8649,1,   0.0422,1,     -999,9,     -999,9,     -999,9,     -999,9,     -999,9,20230729,1515, -31.2127, 104.8239,-999          ,9,-999          ,9
33RR20230722  ,I05        ,27      ,  1,33         ,33         ,2,20230729,1257, -31.2127, 104.8239,     5757,     41.8,2,  18.7295,2,  35.6945,2,  35.6917,2,    230.0,2,    229.7,2,     2.15,2,     0.00,2,     0.01,2,     0.08,2,    2.212,2,    1.208,2,   2.0200,2,   2058.0,2,   2339.4,2,   7.9940,2,    24.98,2,     -999,9,  18.7286,2,     -999,9,     -999,9,     -999,9,     -999,9,     -999,1,   4.9746,1,   0.0356,1,      7.4,2,     -999,9,     -999,9,     -999,9,     -999,9,20230729,1514, -31.2127, 104.8239,-999          ,9,-999          ,9
33RR20230722  ,I05        ,27      ,  1,32         ,32         ,2,20230729,1257, -31.2127, 104.8239,     5757,     53.1,2,  18.7302,2,  35.6944,2,  35.6929,2,    229.8,2,    229.8,2,     2.05,2,     0.00,2,     0.01,2,     0.09,2,     -999,9,     -999,9,     -999,9,   2059.1,2,   2339.5,2,   7.9932,2,    24.98,2,     -999,9,  18.7285,2,     -999,9,     -999,9,     -999,9,     -999,9,     -999,1,   4.9746,1,   0.0387,1,     -999,9,     -999,9,     -999,9,     -999,9,     -999,9,20230729,1512, -31.2127, 104.8239,-999          ,9,-999          ,9
33RR20230722  ,I05        ,27      ,  1,31         ,31         ,2,20230729,1257, -31.2127, 104.8239,     5757,     80.2,2,  18.0941,2,  35.8154,2,  35.8137,2,    219.9,2,    221.0,2,     1.95,2,     0.77,2,     0.08,2,     0.17,2,    2.127,2,    1.276,2,   2.1200,2,   2088.7,2,   2349.4,2,   7.9578,2,    25.00,2,     -999,9,  18.0885,2,     -999,9,     -999,9,     -999,9,     -999,9,     -999,1,   4.9719,1,   0.0154,1,      7.9,2,     -999,9,     -999,9,     -999,9,     -999,9,20230729,1510, -31.2127, 104.8239,-999          ,9,-999          ,9
33RR20230722  ,I05        ,27      ,  1,30         ,30         ,2,20230729,1257, -31.2127, 104.8239,     5757,    111.0,2,  17.3684,2,  35.7702,2,  35.7786,2,    212.3,3,    215.2,2,     2.54,2,     1.86,2,     0.03,2,     0.23,2,     -999,9,     -999,9,     -999,9,   2101.9,2,   2346.9,2,   7.9335,2,    25.00,2,     -999,9,  17.3818,2,     -999,9,     -999,9,     -999,9,     -999,9,     -999,1,   4.9701,1,   0.0144,1,     -999,9,     -999,9,     -999,9,     -999,9,     -999,9,20230729,1508, -31.2127, 104.8239,-999          ,9,-999          ,9
33RR20230722  ,I05        ,27      ,  1,29         ,29         ,2,20230729,1257, -31.2127, 104.8239,     5757,    142.8,2,  16.3826,2,  35.6984,2,  35.6958,2,    223.6,2,    225.7,2,     1.66,2,     1.63,2,     0.08,2,     0.25,2,     -999,5,     -999,5,     -999,5,   2105.8,2,   2344.5,2,   7.9223,2,    24.98,2,     -999,9,  16.3884,2,     -999,9,     -999,9,     -999,9,     -999,9,     -999,1,   4.9707,1,   0.0128,1,     -999,5,     -999,9,     -999,9,     -999,9,     -999,9,20230729,1507, -31.2127, 104.8239,-999          ,9,-999          ,9
33RR20230722  ,I05        ,27      ,  1,28         ,28         ,2,20230729,1257, -31.2127, 104.8239,     5757,    178.2,2,  15.3513,2,  35.5911,2,  35.5861,2,    223.6,2,    225.0,2,     1.46,2,     3.06,2,     0.01,2,     0.33,2,     -999,9,     -999,9,     -999,9,   2112.0,2,   2336.6,2,   7.8938,2,    24.99,2,     -999,9,  15.3635,2,     -999,9,     -999,9,     -999,9,     -999,9,     -999,1,   4.9696,1,   0.0116,1,     -999,9,     -999,9,     -999,9,     -999,9,     -999,9,20230729,1505, -31.2127, 104.8239,-999          ,9,-999          ,9
33RR20230722  ,I05        ,27      ,  1,27         ,27         ,2,20230729,1257, -31.2127, 104.8239,     5757,    216.5,2,  14.2121,2,  35.4303,2,  35.4312,2,    229.5,2,    229.9,2,     1.56,2,     4.45,2,     0.01,2,     0.45,2,    2.769,2,    1.555,2,   2.2700,2,   2115.0,2,   2329.6,6,   7.8756,2,    25.00,2,     -999,9,  14.2062,2,     -999,9,     -999,9,     -999,9,     -999,9,     -999,1,   4.9694,1,   0.0117,1,      9.6,2,     -999,9,     -999,9,     -999,9,     -999,9,20230729,1503, -31.2127, 104.8239,-999          ,9,-999          ,9
33RR20230722  ,I05        ,27      ,  1,26         ,26         ,2,20230729,1257, -31.2127, 104.8239,     5757,    262.0,2,  13.3122,2,  35.2815,2,  35.2907,2,    234.1,2,    234.7,2,     1.85,2,     5.77,2,     0.00,2,     0.52,2,     -999,9,     -999,9,     -999,9,   2120.4,2,   2324.2,2,   7.8585,6,    24.98,2,     -999,9,  13.3301,2,     -999,9,     -999,9,     -999,9,     -999,9,     -999,1,   4.9694,1,   0.0115,1,     -999,9,     -999,9,     -999,9,     -999,9,     -999,9,20230729,1502, -31.2127, 104.8239,-999          ,9,-999          ,9
33RR20230722  ,I05        ,27      ,  1,25         ,25         ,2,20230729,1257, -31.2127, 104.8239,     5757,    318.4,2,  11.8000,2,  34.9989,2,  34.9965,2,    243.9,2,    243.3,2,     1.76,2,     8.55,2,     0.00,2,     0.66,2,    2.705,2,    1.708,2,   2.4600,2,   2124.4,6,   2307.1,2,   7.8197,2,    25.00,2,     -999,9,  11.8117,2,     -999,9,     -999,9,     -999,9,     -999,9,     -999,1,   4.9008,1,   0.0115,1,     11.0,2,     -999,9,     -999,9,     -999,9,     -999,9,20230729,1500, -31.2127, 104.8239,-999          ,9,-999          ,9
33RR20230722  ,I05        ,27      ,  1,24         ,24         ,2,20230729,1257, -31.2127, 104.8239,     5757,    386.4,2,  10.5857,2,  34.8187,2,  34.8159,2,    242.5,2,    241.5,2,     2.64,2,    12.13,2,     0.00,2,     0.91,2,     -999,9,     -999,9,     -999,9,   2134.8,2,   2295.9,2,   7.7853,2,    24.99,2,     -999,9,  10.5855,2,     -999,9,     -999,9,     -999,9,     -999,9,     -999,1,   4.8747,1,   0.0115,1,     -999,9,     -999,9,     -999,9,     -999,9,     -999,9,20230729,1457, -31.2127, 104.8239,-999          ,9,-999          ,9
33RR20230722  ,I05        ,27      ,  1,23         ,23         ,2,20230729,1257, -31.2127, 104.8239,     5757,    464.6,2,  10.0733,2,  34.7679,2,  34.7665,2,    239.0,2,    238.1,2,     3.32,2,    14.27,2,     0.00,2,     1.02,2,    2.953,2,    1.868,2,   2.4300,2,   2138.6,2,   2293.4,2,   7.7629,2,    24.99,2,     -999,9,  10.0825,2,     -999,9,     -999,9,     -999,9,     -999,9,     -999,1,   4.8175,1,   0.0115,1,     13.3,2,     -999,9,     -999,9,     -999,9,     -999,9,20230729,1455, -31.2127, 104.8239,-999          ,9,-999          ,9
33RR20230722  ,I05        ,27      ,  1,22         ,22         ,2,20230729,1257, -31.2127, 104.8239,     5757,    558.8,2,   9.5844,2,  34.7198,2,  34.7164,2,    237.6,2,    237.2,2,     4.00,2,    15.98,2,     0.00,2,     1.13,2,     -999,9,     -999,9,     -999,9,   2144.2,2,   2289.1,2,   7.7486,2,    25.00,2,     -999,9,   9.5892,2,     -999,9,     -999,9,     -999,9,     -999,9,     -999,1,   4.9669,1,   0.0114,1,     -999,9,     -999,9,     -999,9,     -999,9,     -999,9,20230729,1452, -31.2127, 104.8239,-999          ,9,-999          ,9
33RR20230722  ,I05        ,27      ,  1,21         ,21         ,2,20230729,1257, -31.2127, 104.8239,     5757,    661.1,2,   9.0606,2,  34.6411,2,  34.6411,2,    233.5,2,    234.4,2,     5.27,2,    17.80,2,     0.00,2,     1.24,2,    3.050,6,    1.909,6,   2.0300,6,   2146.3,2,   2288.9,2,   7.7375,2,    25.00,2,     -999,9,   9.0439,2,     -999,9,     -999,9,     -999,9,     -999,9,     -999,1,   4.9059,1,   0.0112,1,     12.9,6,     -999,9,     -999,9,     -999,9,     -999,9,20230729,1449, -31.2127, 104.8239,-999          ,9,-999          ,9
33RR20230722  ,I05        ,27      ,  1,20         ,20         ,2,20230729,1257, -31.2127, 104.8239,     5757,    779.3,2,   7.6202,2,  34.5009,2,  34.4976,2,    206.9,2,    208.2,2,    12.30,2,    23.51,2,     0.00,2,     1.60,2,     -999,9,     -999,9,     -999,9,   2167.2,2,   2286.6,2,   7.6824,2,    24.96,2,     -999,9,   7.6282,2,     -999,9,     -999,9,     -999,9,     -999,9,     -999,1,   4.9683,1,   0.0112,1,     -999,9,     -999,9,     -999,9,     -999,9,     -999,9,20230729,1446, -31.2127, 104.8239,-999          ,9,-999          ,9
33RR20230722  ,I05        ,27      ,  1,19         ,19         ,2,20230729,1257, -31.2127, 104.8239,     5757,    902.7,2,   5.4385,2,  34.3885,2,  34.3788,2,    196.6,2,    196.9,2,    26.46,2,    29.11,2,     0.00,2,     2.04,2,    2.116,2,    1.169,2,   0.6500,2,   2191.1,2,   2292.4,2,   7.6240,2,    24.98,2,     -999,9,   5.4486,2,     -999,9,     -999,9,     -999,9,     -999,9,     -999,1,   4.9673,1,   0.0114,1,     18.8,2,     -999,9,     -999,9,     -999,9,     -999,9,20230729,1443, -31.2127, 104.8239,-999          ,9,-999          ,9
33RR20230722  ,I05        ,27      ,  1,18         ,18         ,2,20230729,1257, -31.2127, 104.8239,     5757,   1029.6,2,   4.3538,2,  34.4011,2,  34.4045,2,    179.8,2,    179.7,2,    45.01,2,    32.21,2,     0.00,2,     2.26,2,     -999,9,     -999,9,     -999,9,   2221.1,2,   2308.0,2,   7.5905,6,    24.98,2,     -999,9,   4.3376,2,     -999,9,     -999,9,     -999,9,     -999,9,     -999,1,   4.9635,1,   0.0111,1,     -999,9,     -999,9,     -999,9,     -999,9,     -999,9,20230729,1440, -31.2127, 104.8239,-999          ,9,-999          ,9
33RR20230722  ,I05        ,27      ,  1,17         ,17         ,2,20230729,1257, -31.2127, 104.8239,     5757,   1159.7,2,   3.8621,2,  34.4612,2,  34.4601,2,    164.0,2,    164.5,2,    58.77,2,    33.69,2,     0.00,2,     2.39,2,    0.804,2,    0.403,2,   0.1100,2,   2240.6,2,   2324.6,2,   7.5680,2,    24.98,2,     -999,9,   3.8627,2,     -999,9,     -999,9,     -999,9,     -999,9,     -999,1,   4.9415,1,   0.0112,1,     23.0,2,     -999,9,     -999,9,     -999,9,     -999,9,20230729,1436, -31.2127, 104.8239,-999          ,9,-999          ,9
33RR20230722  ,I05        ,27      ,  1,16         ,16         ,2,20230729,1257, -31.2127, 104.8239,     5757,   1297.8,2,   3.4890,2,  34.5280,2,  34.5268,2,    152.3,2,    152.1,2,    73.51,2,    34.58,2,     0.00,2,     2.48,2,     -999,9,     -999,9,     -999,9,   2259.4,2,   2335.2,2,   7.5577,2,    24.97,2,     -999,9,   3.4882,2,     -999,9,     -999,9,     -999,9,     -999,9,     -999,1,   4.9747,1,   0.0112,1,     -999,9,     -999,9,     -999,9,     -999,9,     -999,9,20230729,1433, -31.2127, 104.8239,-999          ,9,-999          ,9
33RR20230722  ,I05        ,27      ,  1,15         ,15         ,2,20230729,1257, -31.2127, 104.8239,     5757,   1441.3,2,   3.1732,2,  34.5711,2,  34.5694,2,    151.9,2,    151.9,2,    77.02,2,    34.61,2,     0.00,2,     2.45,2,    0.190,2,    0.100,2,   0.0300,2,   2265.0,6,   2344.2,2,   7.5572,2,    24.96,2,     -999,9,   3.1742,2,     -999,9,     -999,9,     -999,9,     -999,9,     -999,1,   4.9748,1,   0.0123,1,     23.7,2,     -999,9,     -999,9,     -999,9,     -999,9,20230729,1429, -31.2127, 104.8239,-999          ,9,-999          ,9
33RR20230722  ,I05        ,27      ,  1,14         ,14         ,2,20230729,1257, -31.2127, 104.8239,     5757,   1588.6,2,   2.9324,2,  34.6200,2,  34.6181,2,    152.6,2,    152.2,2,    84.44,2,    34.36,2,     0.00,2,     2.46,2,     -999,9,     -999,9,     -999,9,   2271.6,2,   2351.8,2,   7.5616,6,    24.99,2,     -999,9,   2.9342,2,     -999,9,     -999,9,     -999,9,     -999,9,     -999,1,   4.9750,1,   0.0110,1,     -999,9,     -999,9,     -999,9,     -999,9,     -999,9,20230729,1426, -31.2127, 104.8239,-999          ,9,-999          ,9
33RR20230722  ,I05        ,27      ,  1,13         ,13         ,4,20230729,1257, -31.2127, 104.8239,     5757,   1747.6,3,   2.7481,3,  34.6597,3,  34.6592,3,    153.9,3,    153.4,3,    89.91,3,    34.09,3,     0.00,3,     2.41,3,    0.009,3,    0.020,3,   0.0300,3,   2275.1,4,   2358.8,3,   7.5683,3,    25.00,3,     -999,9,   2.7492,3,     -999,9,     -999,9,     -999,9,     -999,9,     -999,1,   4.6602,1,   0.0119,1,     23.3,3,     -999,9,     -999,9,     -999,9,     -999,9,20230729,1421, -31.2127, 104.8239,-999          ,9,-999          ,9
33RR20230722  ,I05        ,27      ,  1,12         ,12         ,2,20230729,1257, -31.2127, 104.8239,     5757,   1935.0,2,   2.5394,2,  34.6943,2,     -999,9,    157.2,2,     -999,9,     -999,9,     -999,9,     -999,9,     -999,9,     -999,9,     -999,9,     -999,9,   -999.0,9,     -999,9,     -999,9,     -999,9,     -999,9,   2.5393,2,     -999,9,     -999,9,     -999,9,     -999,9,     -999,9,   4.9755,1,   0.0117,1,     -999,9,     -999,9,     -999,9,     -999,9,     -999,9,20230729,1417, -31.2127, 104.8239,-999          ,9,-999          ,9
33RR20230722  ,I05        ,27      ,  1,11         ,11         ,2,20230729,1257, -31.2127, 104.8239,     5757,   2177.1,2,   2.2579,2,  34.7165,2,  34.7164,2,    162.6,2,    162.3,2,   105.42,2,    33.40,2,     0.00,2,     2.36,2,    0.001,2,    0.005,2,   0.0600,2,   2283.7,2,   2372.5,2,   7.5870,2,    24.97,2,     -999,9,   2.2578,2,     -999,9,     -999,9,     -999,9,     -999,9,     -999,1,   4.9758,1,   0.0119,1,     21.8,2,     -999,9,     -999,9,     -999,9,     -999,9,20230729,1411, -31.2127, 104.8239,-999          ,9,-999          ,9
33RR20230722  ,I05        ,27      ,  1,10         ,10         ,2,20230729,1257, -31.2127, 104.8239,     5757,   2490.5,2,   2.0031,2,  34.7275,3,  34.7248,2,    169.4,2,    170.0,2,   108.94,2,    33.10,2,     0.00,2,     2.34,2,     -999,9,     -999,9,     -999,9,   2283.7,2,   2380.4,2,   7.5958,2,    24.97,2,     -999,9,   2.0040,2,     -999,9,     -999,9,     -999,9,     -999,9,     -999,1,   4.9759,1,   0.0112,1,     -999,9,     -999,9,     -999,9,     -999,9,     -999,9,20230729,1405, -31.2127, 104.8239,-999          ,9,-999          ,9
33RR20230722  ,I05        ,27      ,  1,9          ,9          ,2,20230729,1257, -31.2127, 104.8239,     5757,   2850.5,2,   1.7432,2,  34.7304,3,  34.7272,2,    178.6,2,    178.8,2,   111.18,2,    32.56,2,     0.00,2,     2.30,2,    0.000,2,    0.005,2,   0.0300,2,   2281.6,2,   2382.7,2,   7.6047,2,    24.96,2,     -999,9,   1.7432,2,     -999,9,     -999,9,     -999,9,     -999,9,     -999,1,   4.9758,1,   0.0117,1,     19.8,2,     -999,9,     -999,9,     -999,9,     -999,9,20230729,1357, -31.2127, 104.8239,-999          ,9,-999          ,9
33RR20230722  ,I05        ,27      ,  1,8          ,8          ,2,20230729,1257, -31.2127, 104.8239,     5757,   3263.8,2,   1.5955,2,  34.7298,3,  34.7268,2,    184.9,2,    184.9,2,   113.82,2,    32.39,2,     0.00,2,     2.29,2,    0.001,2,    0.008,2,   0.0000,2,   2277.3,2,   2380.5,2,   7.6115,2,    24.98,2,     -999,9,   1.5957,2,     -999,9,     -999,9,     -999,9,     -999,9,     -999,1,   4.8151,1,   0.0113,1,     19.1,2,     -999,9,     -999,9,     -999,9,     -999,9,20230729,1349, -31.2126, 104.8239,-999          ,9,-999          ,9
33RR20230722  ,I05        ,27      ,  1,7          ,7          ,2,20230729,1257, -31.2127, 104.8239,     5757,   3691.9,2,   1.3665,2,  34.7243,3,  34.7215,2,    191.4,2,    191.4,2,   114.21,2,    32.32,2,     0.00,2,     2.28,2,     -999,5,     -999,5,     -999,5,   2278.2,2,   2381.9,2,   7.6179,2,    24.98,2,     -999,9,   1.3667,2,     -999,9,     -999,9,     -999,9,     -999,9,     -999,1,   4.9765,1,   0.0118,1,     -999,5,     -999,9,     -999,9,     -999,9,     -999,9,20230729,1341, -31.2127, 104.8239,-999          ,9,-999          ,9
33RR20230722  ,I05        ,27      ,  1,6          ,6          ,2,20230729,1257, -31.2127, 104.8239,     5757,   4121.0,2,   1.1828,2,  34.7201,2,  34.7186,2,    202.8,2,    203.1,2,   115.67,2,    31.72,2,     0.00,2,     2.25,2,    0.041,2,    0.037,2,  -0.0100,2,   2267.3,2,   2368.7,6,   7.6192,2,    24.98,2,     -999,9,   1.1830,2,     -999,9,     -999,9,     -999,9,     -999,9,     -999,1,   4.9766,1,   0.0111,1,     18.5,2,     -999,9,     -999,9,     -999,9,     -999,9,20230729,1333, -31.2127, 104.8239,-999          ,9,-999          ,9
33RR20230722  ,I05        ,27      ,  1,5          ,5          ,2,20230729,1257, -31.2127, 104.8239,     5757,   4550.2,2,   1.0810,2,  34.7147,3,  34.7125,2,    205.4,2,    205.7,2,   117.72,2,    31.89,2,     0.00,2,     2.24,2,    0.065,2,    0.054,2,   0.0200,2,   2268.6,2,   2372.4,2,   7.6208,6,    24.97,2,     -999,9,   1.0816,2,     -999,9,     -999,9,     -999,9,     -999,9,     -999,1,   4.9710,1,   0.0111,1,     18.1,2,     -999,9,     -999,9,     -999,9,     -999,9,20230729,1324, -31.2127, 104.8239,-999          ,9,-999          ,9
33RR20230722  ,I05        ,27      ,  1,4          ,37         ,2,20230729,1257, -31.2127, 104.8239,     5757,   4980.8,2,   1.0636,2,  34.7111,3,  34.7083,2,    206.4,2,    206.5,2,   119.68,2,    31.93,2,     0.00,2,     2.25,2,    0.122,2,    0.067,2,  -0.0300,2,   2267.1,2,   2370.8,2,   7.6200,2,    24.99,2,     -999,9,   1.0640,2,     -999,9,     -999,9,     -999,9,     -999,9,     -999,1,   4.8760,1,   0.0112,1,     18.2,2,     -999,9,     -999,9,     -999,9,     -999,9,20230729,1316, -31.2127, 104.8239,-999          ,9,-999          ,9
33RR20230722  ,I05        ,27      ,  1,3          ,3          ,2,20230729,1257, -31.2127, 104.8239,     5757,   5410.1,2,   1.0859,2,  34.7093,2,  34.7074,2,    206.9,2,    207.0,2,   120.75,2,    32.13,2,     0.00,2,     2.26,2,     -999,5,     -999,5,     -999,5,   2269.0,2,   2370.7,2,   7.6171,2,    24.96,2,     -999,9,   1.0861,2,     -999,9,     -999,9,     -999,9,     -999,9,     -999,1,   4.8893,1,   0.0111,1,     -999,5,     -999,9,     -999,9,     -999,9,     -999,9,20230729,1308, -31.2127, 104.8239,-999          ,9,-999          ,9