BOTTLE,20240422CCHHYDRO
EXPOCODE,SECT_ID,STNNBR,CASTNO,SAMPNO,BTLNBR,BTLNBR_FLAG_W,DATE,TIME,LATITUDE,LONGITUDE,DEPTH,CTDPRS,CTDPRS_FLAG_W,CTDTMP,CTDTMP_FLAG_W,CTDSAL,CTDSAL_FLAG_W,SALNTY,SALNTY_FLAG_W,CTDOXY,CTDOXY_FLAG_W,OXYGEN,OXYGEN_FLAG_W,SILCAT,SILCAT_FLAG_W,NITRAT,NITRAT_FLAG_W,NITRIT,NITRIT_FLAG_W,PHSPHT,PHSPHT_FLAG_W,CFC-11,CFC-11_FLAG_W,CFC-12,CFC-12_FLAG_W,SF6,SF6_FLAG_W,TCARBN,TCARBN_FLAG_W,ALKALI,ALKALI_FLAG_W,PH_TOT,PH_TOT_FLAG_W,PH_TMP,PH_TMP_FLAG_W,DOC,DOC_FLAG_W,REFTMP,REFTMP_FLAG_W,POC,POC_FLAG_W,PON,PON_FLAG_W,POP,POP_FLAG_W,DOP,DOP_FLAG_W,DELO18,DELO18_FLAG_W,CTDFLUOR,CTDFLUOR_FLAG_W,CTDXMISS,CTDXMISS_FLAG_W,N2O,N2O_FLAG_W,D15N_NO3,D15N_NO3_FLAG_W,D15N_NO2+NO3,D15N_NO2+NO3_FLAG_W,D18O_NO2+NO3,D18O_NO2+NO3_FLAG_W,D18O_NO3,D18O_NO3_FLAG_W,BTL_DATE,BTL_TIME,BTL_LAT,BTL_LON,HPLC,HPLC_FLAG_W,DNA,DNA_FLAG_W
,,,,,,,,,,,METERS,DBAR,,ITS-90,,PSS-78,,PSS-78,,UMOL/KG,,UMOL/KG,,UMOL/KG,,UMOL/KG,,UMOL/KG,,UMOL/KG,,PMOL/KG,,PMOL/KG,,FMOL/KG,,UMOL/KG,,UMOL/KG,,,,DEG C,,UMOL/KG,,ITS-90,,UG/KG,,UG/KG,,UG/L,,UMOL/KG,,/MILLE,,VOLTS,,VOLTS,,NMOL/KG,,/MILLE,,/MILLE,,/MILLE,,/MILLE,,,,,,,,,
33RR20230722  ,I05        ,155     ,  1,20         ,20         ,2,20230901,0218, -32.9964,  44.4823,      960,      5.3,2,  18.0020,2,  35.6894,2,  35.6887,2,    236.2,2,    235.7,2,     1.66,2,     0.00,2,     0.00,2,     0.13,2,    2.364,2,    1.297,2,   2.2300,2,   2073.4,2,   2334.2,2,   7.9747,6,    25.00,2,     -999,1,  18.0005,2,     -999,9,     -999,9,     -999,9,     -999,9,     -999,9,   3.7955,1,   0.0326,1,      7.7,2,     -999,1,     -999,1,     -999,1,     -999,1,20230901,0257, -32.9964,  44.4823,-999          ,9,-999          ,9
33RR20230722  ,I05        ,155     ,  1,19         ,19         ,2,20230901,0218, -32.9964,  44.4823,      960,     24.2,2,  18.0000,2,  35.6891,2,  35.6889,2,    236.2,2,    235.8,2,     1.66,2,     0.00,2,     0.00,2,     0.11,2,     -999,9,     -999,9,     -999,9,   2070.3,2,   2336.6,6,   7.9750,2,    25.04,2,     -999,9,  18.0001,2,     -999,9,     -999,9,     -999,9,     -999,9,     -999,9,   4.9748,1,   0.0315,1,     -999,9,     -999,1,     -999,1,     -999,1,     -999,1,20230901,0255, -32.9964,  44.4823,-999          ,9,-999          ,9
33RR20230722  ,I05        ,155     ,  1,18         ,18         ,2,20230901,0218, -32.9964,  44.4823,      960,     46.6,2,  17.9731,2,  35.6877,2,  35.6899,2,    236.2,2,    235.6,2,     1.66,2,     0.00,2,     0.00,2,     0.10,2,     -999,9,     -999,9,     -999,9,   2073.2,2,   2335.8,2,   7.9751,2,    25.00,2,     -999,9,  17.9693,2,     -999,9,     -999,9,     -999,9,     -999,9,     -999,9,   4.8725,1,   0.0400,1,     -999,9,     -999,1,     -999,1,     -999,1,     -999,1,20230901,0253, -32.9964,  44.4823,-999          ,9,-999          ,9
33RR20230722  ,I05        ,155     ,  1,17         ,17         ,2,20230901,0218, -32.9964,  44.4823,      960,     76.8,2,  17.8546,2,  35.6832,2,  35.6844,2,    233.9,2,    234.0,2,     1.76,2,     0.03,2,     0.12,2,     0.11,2,    2.343,2,    1.304,2,   2.1500,2,   2069.6,2,   2336.2,2,   7.9698,2,    25.00,2,     -999,9,  17.8540,2,     -999,9,     -999,9,     -999,9,     -999,9,     -999,9,   4.9741,1,   0.0320,1,      7.8,2,     -999,1,     -999,1,     -999,1,     -999,1,20230901,0251, -32.9964,  44.4823,-999          ,9,-999          ,9
33RR20230722  ,I05        ,155     ,  1,16         ,16         ,2,20230901,0218, -32.9964,  44.4823,      960,    105.2,2,  17.6752,2,  35.6774,2,  35.6775,2,    233.2,2,    233.3,2,     1.76,2,     0.10,2,     0.18,2,     0.14,2,     -999,9,     -999,9,     -999,9,   2074.3,2,   2335.5,2,   7.9651,2,    25.03,2,     -999,9,  17.6739,2,     -999,9,     -999,9,     -999,9,     -999,9,     -999,9,   4.9733,1,   0.0212,1,     -999,9,     -999,1,     -999,1,     -999,1,     -999,1,20230901,0249, -32.9964,  44.4823,-999          ,9,-999          ,9
33RR20230722  ,I05        ,155     ,  1,15         ,15         ,2,20230901,0218, -32.9964,  44.4823,      960,    128.3,2,  17.5941,2,  35.6680,2,  35.6702,2,    232.0,2,    232.4,2,     1.85,2,     0.32,2,     0.22,2,     0.16,2,     -999,9,     -999,9,     -999,9,   2075.4,2,   2333.3,2,   7.9619,2,    24.96,2,     -999,9,  17.5863,2,     -999,9,     -999,9,     -999,9,     -999,9,     -999,9,   4.9730,1,   0.0169,1,     -999,9,     -999,1,     -999,1,     -999,1,     -999,1,20230901,0248, -32.9964,  44.4824,-999          ,9,-999          ,9
33RR20230722  ,I05        ,155     ,  1,14         ,14         ,2,20230901,0218, -32.9964,  44.4823,      960,    154.7,2,  17.3573,2,  35.6398,2,  35.6394,2,    229.1,2,    229.0,2,     2.15,2,     1.34,2,     0.06,2,     0.20,2,    2.255,6,    1.322,6,   2.1900,6,   2081.8,2,   2332.7,2,   7.9497,2,    25.01,2,     -999,9,  17.3575,2,     -999,9,     -999,9,     -999,9,     -999,9,     -999,9,   4.9579,1,   0.0138,1,      8.0,6,     -999,1,     -999,1,     -999,1,     -999,1,20230901,0246, -32.9964,  44.4823,-999          ,9,-999          ,9
33RR20230722  ,I05        ,155     ,  1,13         ,13         ,2,20230901,0218, -32.9964,  44.4823,      960,    181.1,2,  17.2772,2,  35.6342,2,  35.6344,2,    229.9,2,    229.8,2,     2.05,2,     1.30,2,     0.10,2,     0.20,2,     -999,9,     -999,9,     -999,9,   2080.7,2,   2333.8,2,   7.9490,2,    25.01,2,     -999,9,  17.2762,2,     -999,9,     -999,9,     -999,9,     -999,9,     -999,9,   4.9672,1,   0.0132,1,     -999,9,     -999,1,     -999,1,     -999,1,     -999,1,20230901,0245, -32.9964,  44.4823,-999          ,9,-999          ,9
33RR20230722  ,I05        ,155     ,  1,12         ,12         ,2,20230901,0218, -32.9964,  44.4823,      960,    209.7,2,  17.1312,2,  35.6232,2,  35.6228,2,    229.2,2,    229.1,2,     2.15,2,     1.57,2,     0.03,2,     0.20,2,     -999,9,     -999,9,     -999,9,   2081.3,2,   2331.7,2,   7.9455,2,    25.03,2,     -999,9,  17.1305,2,     -999,9,     -999,9,     -999,9,     -999,9,     -999,9,   4.9717,1,   0.0129,1,     -999,9,     -999,1,     -999,1,     -999,1,     -999,1,20230901,0243, -32.9964,  44.4823,-999          ,9,-999          ,9
33RR20230722  ,I05        ,155     ,  1,11         ,11         ,2,20230901,0218, -32.9964,  44.4823,      960,    240.0,2,  16.8483,2,  35.5918,2,  35.5922,2,    222.4,2,    223.4,2,     2.44,2,     2.62,2,     0.01,2,     0.30,2,    2.193,2,    1.371,2,   2.1900,2,   2091.1,6,   2329.4,2,   7.9288,2,    25.03,2,     -999,9,  16.8462,2,     -999,9,     -999,9,     -999,9,     -999,9,     -999,9,   4.8525,1,   0.0115,1,      8.5,2,     -999,1,     -999,1,     -999,1,     -999,1,20230901,0242, -32.9964,  44.4823,-999          ,9,-999          ,9
33RR20230722  ,I05        ,155     ,  1,10         ,10         ,2,20230901,0218, -32.9964,  44.4823,      960,    280.3,2,  16.2926,2,  35.5390,2,  35.5379,2,    212.0,2,    213.1,2,     3.02,2,     4.55,2,     0.00,2,     0.41,2,     -999,9,     -999,9,     -999,9,   2102.6,2,   2326.8,2,   7.8977,2,    25.01,2,     -999,9,  16.2752,2,     -999,9,     -999,9,     -999,9,     -999,9,     -999,9,   4.9684,1,   0.0117,1,     -999,9,     -999,1,     -999,1,     -999,1,     -999,1,20230901,0240, -32.9964,  44.4823,-999          ,9,-999          ,9
33RR20230722  ,I05        ,155     ,  1,9          ,9          ,2,20230901,0218, -32.9964,  44.4823,      960,    334.7,2,  15.0769,2,  35.4330,2,  35.4340,2,    214.1,2,    214.9,2,     3.41,2,     6.21,2,     0.00,2,     0.51,2,    2.459,2,    1.495,2,   2.1600,2,   2113.0,2,   2322.7,2,   7.8707,2,    25.00,2,     -999,9,  15.0808,2,     -999,9,     -999,9,     -999,9,     -999,9,     -999,9,   4.9681,1,   0.0117,1,     10.2,2,     -999,1,     -999,1,     -999,1,     -999,1,20230901,0238, -32.9964,  44.4823,-999          ,9,-999          ,9
33RR20230722  ,I05        ,155     ,  1,8          ,8          ,2,20230901,0218, -32.9964,  44.4823,      960,    399.9,2,  14.2542,2,  35.3477,2,  35.3470,2,    216.8,2,    216.8,2,     3.51,2,     7.46,2,     0.00,2,     0.61,2,     -999,9,     -999,9,     -999,9,   2120.2,2,   2320.1,2,   7.8516,2,    25.00,2,     -999,9,  14.2519,2,     -999,9,     -999,9,     -999,9,     -999,9,     -999,9,   4.8078,1,   0.0113,1,     -999,9,     -999,1,     -999,1,     -999,1,     -999,1,20230901,0235, -32.9964,  44.4823,-999          ,9,-999          ,9
33RR20230722  ,I05        ,155     ,  1,7          ,7          ,2,20230901,0218, -32.9964,  44.4823,      960,    473.8,2,  13.4371,2,  35.2565,2,  35.2566,2,    220.4,2,    219.8,2,     3.71,2,     8.80,2,     0.00,2,     0.67,2,    2.679,2,    1.625,2,   2.1200,2,   2120.7,2,   2314.4,2,   7.8358,2,    25.00,2,     -999,9,  13.4457,2,     -999,9,     -999,9,     -999,9,     -999,9,     -999,9,   4.9673,1,   0.0115,1,     10.7,2,     -999,1,     -999,1,     -999,1,     -999,1,20230901,0233, -32.9964,  44.4823,-999          ,9,-999          ,9
33RR20230722  ,I05        ,155     ,  1,6          ,6          ,2,20230901,0218, -32.9964,  44.4823,      960,    552.7,2,  12.9426,2,  35.1934,2,  35.1935,2,    223.1,2,    222.6,2,     3.90,2,     9.71,2,     0.00,2,     0.74,2,     -999,9,     -999,9,     -999,9,   2126.2,2,   2311.7,2,   7.8264,2,    25.02,2,     -999,9,  12.9415,2,     -999,9,     -999,9,     -999,9,     -999,9,     -999,9,   4.9671,1,   0.0115,1,     -999,9,     -999,1,     -999,1,     -999,1,     -999,1,20230901,0230, -32.9964,  44.4823,-999          ,9,-999          ,9
33RR20230722  ,I05        ,155     ,  1,5          ,5          ,2,20230901,0218, -32.9964,  44.4823,      960,    639.7,2,  12.1084,2,  35.0730,2,  35.0738,2,    222.8,2,    222.7,2,     4.39,2,    11.57,2,     0.00,2,     0.85,2,     -999,9,     -999,9,     -999,9,   2126.2,2,   2306.2,2,   7.8060,2,    25.01,2,     -999,9,  12.0954,2,     -999,9,     -999,9,     -999,9,     -999,9,     -999,9,   4.7653,1,   0.0116,1,     -999,9,     -999,1,     -999,1,     -999,1,     -999,1,20230901,0228, -32.9964,  44.4825,-999          ,9,-999          ,9
33RR20230722  ,I05        ,155     ,  1,4          ,37         ,2,20230901,0218, -32.9964,  44.4823,      960,    739.5,2,  10.9366,2,  34.9043,2,  34.9040,2,    219.8,2,    219.7,2,     5.76,2,    14.53,2,     0.00,2,     1.05,2,    3.001,2,    1.788,2,   1.7800,2,   2142.0,2,   2300.0,2,   7.7767,2,    25.00,2,     -999,9,  10.9420,2,     -999,9,     -999,9,     -999,9,     -999,9,     -999,9,   4.9665,1,   0.0117,1,     12.0,2,     -999,1,     -999,1,     -999,1,     -999,1,20230901,0225, -32.9963,  44.4827,-999          ,9,-999          ,9
33RR20230722  ,I05        ,155     ,  1,3          ,3          ,2,20230901,0218, -32.9964,  44.4823,      960,    836.9,2,   9.7337,2,  34.7526,2,  34.7516,2,    215.2,2,    215.6,2,     8.20,2,    17.77,2,     0.00,2,     1.26,2,     -999,9,     -999,9,     -999,9,   2149.5,2,   2294.3,2,   7.7432,2,    24.99,2,     -999,9,   9.7339,2,     -999,9,     -999,9,     -999,9,     -999,9,     -999,9,   4.9667,1,   0.0116,1,     -999,9,     -999,1,     -999,1,     -999,1,     -999,1,20230901,0222, -32.9963,  44.4828,-999          ,9,-999          ,9
33RR20230722  ,I05        ,155     ,  1,2          ,2          ,2,20230901,0218, -32.9964,  44.4823,      960,    911.4,2,   8.6625,2,  34.6402,2,  34.6396,2,    210.1,2,    210.5,2,    11.81,2,    20.79,2,     0.00,2,     1.44,2,     -999,9,     -999,9,     -999,9,   2159.2,2,   2292.4,2,   7.7122,6,    25.00,2,     -999,9,   8.6616,2,     -999,9,     -999,9,     -999,9,     -999,9,     -999,9,   2.8544,1,   0.0114,1,     -999,9,     -999,1,     -999,1,     -999,1,     -999,1,20230901,0220, -32.9963,  44.4828,-999          ,9,-999          ,9
33RR20230722  ,I05        ,155     ,  1,1          ,1          ,2,20230901,0218, -32.9964,  44.4823,      960,    960.2,2,   8.5604,2,  34.6303,2,  34.6315,2,    209.8,2,    209.7,2,    12.20,2,    21.08,2,     0.00,2,     1.47,2,    3.023,2,    1.696,2,   1.3600,2,   2155.9,6,   2292.0,2,   7.7080,2,    24.97,2,     -999,9,   8.5600,2,     -999,9,     -999,9,     -999,9,     -999,9,     -999,9,   0.4490,1,   0.0113,1,     15.5,2,     -999,1,     -999,1,     -999,1,     -999,1,20230901,0218, -32.9963,  44.4828,-999          ,9,-999          ,9