BOTTLE,20240422CCHHYDRO
EXPOCODE,SECT_ID,STNNBR,CASTNO,SAMPNO,BTLNBR,BTLNBR_FLAG_W,DATE,TIME,LATITUDE,LONGITUDE,DEPTH,CTDPRS,CTDPRS_FLAG_W,CTDTMP,CTDTMP_FLAG_W,CTDSAL,CTDSAL_FLAG_W,SALNTY,SALNTY_FLAG_W,CTDOXY,CTDOXY_FLAG_W,OXYGEN,OXYGEN_FLAG_W,SILCAT,SILCAT_FLAG_W,NITRAT,NITRAT_FLAG_W,NITRIT,NITRIT_FLAG_W,PHSPHT,PHSPHT_FLAG_W,CFC-11,CFC-11_FLAG_W,CFC-12,CFC-12_FLAG_W,SF6,SF6_FLAG_W,TCARBN,TCARBN_FLAG_W,ALKALI,ALKALI_FLAG_W,PH_TOT,PH_TOT_FLAG_W,PH_TMP,PH_TMP_FLAG_W,DOC,DOC_FLAG_W,REFTMP,REFTMP_FLAG_W,POC,POC_FLAG_W,PON,PON_FLAG_W,POP,POP_FLAG_W,DOP,DOP_FLAG_W,DELO18,DELO18_FLAG_W,CTDFLUOR,CTDFLUOR_FLAG_W,CTDXMISS,CTDXMISS_FLAG_W,N2O,N2O_FLAG_W,D15N_NO3,D15N_NO3_FLAG_W,D15N_NO2+NO3,D15N_NO2+NO3_FLAG_W,D18O_NO2+NO3,D18O_NO2+NO3_FLAG_W,D18O_NO3,D18O_NO3_FLAG_W,BTL_DATE,BTL_TIME,BTL_LAT,BTL_LON,HPLC,HPLC_FLAG_W,DNA,DNA_FLAG_W
,,,,,,,,,,,METERS,DBAR,,ITS-90,,PSS-78,,PSS-78,,UMOL/KG,,UMOL/KG,,UMOL/KG,,UMOL/KG,,UMOL/KG,,UMOL/KG,,PMOL/KG,,PMOL/KG,,FMOL/KG,,UMOL/KG,,UMOL/KG,,,,DEG C,,UMOL/KG,,ITS-90,,UG/KG,,UG/KG,,UG/L,,UMOL/KG,,/MILLE,,VOLTS,,VOLTS,,NMOL/KG,,/MILLE,,/MILLE,,/MILLE,,/MILLE,,,,,,,,,
33RR20230722  ,I05        ,177     ,  1,1          ,1          ,2,20230906,1000, -32.8851,  35.0348,     1581,   1590.4,2,   3.7430,2,  34.5530,2,  34.5543,2,    166.2,2,    165.6,2,    63.64,2,    33.22,2,     0.00,2,     2.31,2,    0.700,2,    0.395,2,   0.1800,2,   2240.7,6,   2328.6,2,   7.5741,2,    25.02,2,     -999,9,   3.7431,2,     -999,9,     -999,9,     -999,9,     -999,9,     -999,1,   0.4070,1,   0.0119,1,     23.9,2,     -999,1,     -999,1,     -999,1,     -999,1,20230906,1000, -32.8851,  35.0348,-999          ,9,-999          ,1
33RR20230722  ,I05        ,178     ,  1,26         ,26         ,2,20230906,1449, -32.7734,  34.4860,     1520,      4.6,2,  18.8005,2,  35.6854,2,  35.6852,2,    233.9,2,    233.3,2,     1.85,2,     0.07,2,     0.00,2,     0.12,2,    1.863,2,    1.253,2,   2.1900,2,   2060.3,6,   2335.8,2,   7.9823,2,    24.97,2,     -999,1,  18.7972,2,     -999,9,     -999,9,     -999,9,     -999,9,     -999,9,   4.9335,1,   0.0309,1,      8.1,2,     -999,9,     -999,9,     -999,9,     -999,9,20230906,1547, -32.7734,  34.4860,-999          ,9,-999          ,9
33RR20230722  ,I05        ,178     ,  1,25         ,25         ,2,20230906,1449, -32.7734,  34.4860,     1520,     15.4,2,  18.8042,2,  35.6854,2,  35.6854,2,    233.8,2,    233.4,2,     1.85,2,     0.00,2,     0.00,2,     0.10,2,     -999,9,     -999,9,     -999,9,   2067.1,2,   2335.5,2,   7.9827,6,    24.94,2,     -999,1,  18.8031,2,     -999,9,     -999,9,     -999,9,     -999,9,     -999,9,   4.9060,1,   0.0304,1,     -999,9,     -999,9,     -999,9,     -999,9,     -999,9,20230906,1545, -32.7734,  34.4860,-999          ,9,-999          ,9
33RR20230722  ,I05        ,178     ,  1,24         ,24         ,2,20230906,1449, -32.7734,  34.4860,     1520,     26.8,2,  18.7684,2,  35.6864,2,  35.6869,2,    233.6,2,    233.3,2,     1.66,2,     0.00,2,     0.02,2,     0.11,2,     -999,9,     -999,9,     -999,9,   -999.0,9,     -999,9,     -999,9,     -999,9,     -999,1,  18.7678,2,     -999,9,     -999,9,     -999,9,     -999,9,     -999,9,   4.9748,1,   0.0329,1,     -999,9,     -999,9,     -999,9,     -999,9,     -999,9,20230906,1544, -32.7734,  34.4860,-999          ,9,-999          ,9
33RR20230722  ,I05        ,178     ,  1,23         ,23         ,2,20230906,1449, -32.7734,  34.4860,     1520,     44.4,2,  18.6891,2,  35.6857,2,  35.6854,2,    232.7,2,    233.1,2,     1.66,2,     0.00,2,     0.03,2,     0.11,2,    1.949,2,    1.239,2,   2.0800,2,   2063.9,2,   2336.6,2,   7.9800,2,    24.95,2,     -999,1,  18.6924,2,     -999,9,     -999,9,     -999,9,     -999,9,     -999,9,   4.8338,1,   0.0313,1,      8.0,2,     -999,9,     -999,9,     -999,9,     -999,9,20230906,1542, -32.7734,  34.4860,-999          ,9,-999          ,9
33RR20230722  ,I05        ,178     ,  1,22         ,22         ,2,20230906,1449, -32.7734,  34.4860,     1520,     68.7,2,  18.4496,2,  35.6891,2,  35.6885,2,    231.0,2,    231.0,2,     1.85,2,     0.06,2,     0.15,2,     0.12,2,     -999,9,     -999,9,     -999,9,   -999.0,9,     -999,9,     -999,9,     -999,9,     -999,1,  18.4624,2,     -999,9,     -999,9,     -999,9,     -999,9,     -999,9,   4.9737,1,   0.0251,1,     -999,9,     -999,9,     -999,9,     -999,9,     -999,9,20230906,1540, -32.7734,  34.4860,-999          ,9,-999          ,9
33RR20230722  ,I05        ,178     ,  1,21         ,21         ,2,20230906,1449, -32.7734,  34.4860,     1520,     92.8,2,  18.2678,2,  35.6881,2,  35.6887,2,    230.2,2,    230.3,2,     1.85,2,     0.15,2,     0.27,2,     0.14,2,    1.819,2,    1.243,2,   2.0700,2,   2067.0,2,   2335.2,2,   7.9686,2,    24.95,2,     -999,1,  18.2751,2,     -999,9,     -999,9,     -999,9,     -999,9,     -999,9,   4.9732,1,   0.0198,1,      8.1,2,     -999,9,     -999,9,     -999,9,     -999,9,20230906,1538, -32.7734,  34.4860,-999          ,9,-999          ,9
33RR20230722  ,I05        ,178     ,  1,20         ,20         ,2,20230906,1449, -32.7734,  34.4860,     1520,    117.4,2,  18.0812,2,  35.6787,2,  35.6792,2,    229.5,2,    229.6,2,     1.95,2,     0.43,2,     0.31,2,     0.16,2,     -999,9,     -999,9,     -999,9,   2068.6,2,   2334.3,2,   7.9646,2,    24.93,2,     -999,1,  18.0792,2,     -999,9,     -999,9,     -999,9,     -999,9,     -999,9,   4.6476,1,   0.0148,1,     -999,9,     -999,9,     -999,9,     -999,9,     -999,9,20230906,1536, -32.7734,  34.4860,-999          ,9,-999          ,9
33RR20230722  ,I05        ,178     ,  1,19         ,19         ,2,20230906,1449, -32.7734,  34.4860,     1520,    147.0,2,  17.9666,2,  35.6803,2,  35.6792,2,    229.9,2,    230.1,2,     1.95,2,     0.47,2,     0.33,2,     0.16,2,    1.891,2,    1.265,2,   2.1600,2,   2074.4,2,   2335.0,2,   7.9615,6,    24.95,2,     -999,1,  17.9657,2,     -999,9,     -999,9,     -999,9,     -999,9,     -999,9,   4.9703,1,   0.0130,1,      8.2,2,     -999,9,     -999,9,     -999,9,     -999,9,20230906,1534, -32.7734,  34.4860,-999          ,9,-999          ,9
33RR20230722  ,I05        ,178     ,  1,18         ,18         ,2,20230906,1449, -32.7734,  34.4860,     1520,    180.1,2,  17.8028,2,  35.6655,2,  35.6658,2,    227.0,2,    227.4,2,     2.05,2,     1.06,2,     0.12,2,     0.19,2,     -999,9,     -999,9,     -999,9,   -999.0,9,     -999,9,     -999,9,     -999,9,     -999,1,  17.7981,2,     -999,9,     -999,9,     -999,9,     -999,9,     -999,9,   4.8678,1,   0.0129,1,     -999,9,     -999,9,     -999,9,     -999,9,     -999,9,20230906,1532, -32.7734,  34.4860,-999          ,9,-999          ,9
33RR20230722  ,I05        ,178     ,  1,17         ,17         ,2,20230906,1449, -32.7734,  34.4860,     1520,    216.6,2,  17.1209,2,  35.5952,2,  35.5952,2,    210.2,2,    210.7,2,     2.73,2,     3.61,2,     0.02,2,     0.34,2,    2.031,2,    1.350,2,   2.0600,2,   2093.0,2,   2329.8,6,   7.9106,2,    24.96,2,     -999,1,  17.1270,2,     -999,9,     -999,9,     -999,9,     -999,9,     -999,9,   4.6853,1,   0.0118,1,      9.3,2,     -999,9,     -999,9,     -999,9,     -999,9,20230906,1530, -32.7734,  34.4860,-999          ,9,-999          ,9
33RR20230722  ,I05        ,178     ,  1,16         ,16         ,2,20230906,1449, -32.7734,  34.4860,     1520,    261.4,2,  16.3398,2,  35.5465,2,  35.5478,2,    212.4,2,    212.4,2,     2.93,2,     4.61,2,     0.00,2,     0.40,2,     -999,9,     -999,9,     -999,9,   -999.0,9,     -999,9,     -999,9,     -999,9,     -999,1,  16.3367,2,     -999,9,     -999,9,     -999,9,     -999,9,     -999,9,   4.9683,1,   0.0116,1,     -999,9,     -999,9,     -999,9,     -999,9,     -999,9,20230906,1529, -32.7734,  34.4860,-999          ,9,-999          ,9
33RR20230722  ,I05        ,178     ,  1,15         ,15         ,2,20230906,1449, -32.7734,  34.4860,     1520,    318.9,2,  15.4473,2,  35.4743,2,  35.4744,2,    216.3,2,    216.7,2,     3.22,2,     5.59,2,     0.00,2,     0.47,2,    2.333,2,    1.454,2,   2.1700,2,   2103.5,2,   2324.8,2,   7.8784,6,    24.96,2,     -999,1,  15.4457,2,     -999,9,     -999,9,     -999,9,     -999,9,     -999,9,   4.9681,1,   0.0116,1,      9.9,2,     -999,9,     -999,9,     -999,9,     -999,9,20230906,1526, -32.7734,  34.4860,-999          ,9,-999          ,9
33RR20230722  ,I05        ,178     ,  1,14         ,14         ,2,20230906,1449, -32.7734,  34.4860,     1520,    383.2,2,  14.6542,2,  35.3909,2,  35.3906,2,    217.4,2,    217.5,2,     3.32,2,     6.73,2,     0.00,2,     0.55,2,     -999,9,     -999,9,     -999,9,   -999.0,9,     -999,9,     -999,9,     -999,9,     -999,1,  14.6530,2,     -999,9,     -999,9,     -999,9,     -999,9,     -999,9,   4.9676,1,   0.0116,1,     -999,9,     -999,9,     -999,9,     -999,9,     -999,9,20230906,1524, -32.7734,  34.4860,-999          ,9,-999          ,9
33RR20230722  ,I05        ,178     ,  1,13         ,13         ,2,20230906,1449, -32.7734,  34.4860,     1520,    455.3,2,  13.9221,2,  35.3138,2,  35.3149,2,    220.3,2,    219.9,2,     3.41,2,     7.82,2,     0.00,2,     0.61,2,    2.601,2,    1.553,2,   2.0500,2,   2119.1,2,   2317.9,2,   7.8443,2,    24.97,2,     -999,1,  13.9214,2,     -999,9,     -999,9,     -999,9,     -999,9,     -999,9,   4.6814,1,   0.0115,1,     10.8,2,     -999,9,     -999,9,     -999,9,     -999,9,20230906,1522, -32.7734,  34.4860,-999          ,9,-999          ,9
33RR20230722  ,I05        ,178     ,  1,12         ,12         ,2,20230906,1449, -32.7734,  34.4860,     1520,    532.2,2,  13.1336,2,  35.2282,2,  35.2286,2,    226.3,2,    226.4,2,     3.61,2,     8.95,2,     0.00,2,     0.69,2,     -999,9,     -999,9,     -999,9,   -999.0,9,     -999,9,     -999,9,     -999,9,     -999,1,  13.1279,2,     -999,9,     -999,9,     -999,9,     -999,9,     -999,9,   4.9675,1,   0.0113,1,     -999,9,     -999,9,     -999,9,     -999,9,     -999,9,20230906,1519, -32.7734,  34.4860,-999          ,9,-999          ,9
33RR20230722  ,I05        ,178     ,  1,11         ,11         ,2,20230906,1449, -32.7734,  34.4860,     1520,    612.5,2,  12.5477,2,  35.1414,2,  35.1412,2,    225.1,2,    225.4,2,     3.90,2,    10.39,2,     0.00,2,     0.79,2,    2.755,2,    1.705,2,   2.0000,2,   2126.0,2,   2307.8,2,   7.8147,2,    24.99,2,     -999,1,  12.5372,2,     -999,9,     -999,9,     -999,9,     -999,9,     -999,9,   4.9119,1,   0.0116,1,     11.5,2,     -999,9,     -999,9,     -999,9,     -999,9,20230906,1517, -32.7734,  34.4860,-999          ,9,-999          ,9
33RR20230722  ,I05        ,178     ,  1,10         ,10         ,2,20230906,1449, -32.7734,  34.4860,     1520,    702.8,2,  11.3886,2,  34.9661,2,  34.9658,2,    221.4,2,    221.4,2,     4.98,2,    13.33,2,     0.00,2,     0.97,2,     -999,9,     -999,9,     -999,9,   -999.0,9,     -999,9,     -999,9,     -999,9,     -999,1,  11.3888,2,     -999,9,     -999,9,     -999,9,     -999,9,     -999,9,   4.7373,1,   0.0114,1,     -999,9,     -999,9,     -999,9,     -999,9,     -999,9,20230906,1514, -32.7734,  34.4860,-999          ,9,-999          ,9
33RR20230722  ,I05        ,178     ,  1,9          ,9          ,2,20230906,1449, -32.7734,  34.4860,     1520,    798.9,2,  10.1160,2,  34.7941,2,  34.7948,2,    217.8,2,    217.3,2,     6.93,2,    16.62,2,     0.00,2,     1.18,2,    2.884,2,    1.787,2,   1.6300,2,   2145.7,2,   2296.3,2,   7.7499,2,    24.97,2,     -999,1,  10.0966,2,     -999,9,     -999,9,     -999,9,     -999,9,     -999,9,   4.9380,1,   0.0113,1,     13.9,2,     -999,9,     -999,9,     -999,9,     -999,9,20230906,1511, -32.7734,  34.4860,-999          ,9,-999          ,9
33RR20230722  ,I05        ,178     ,  1,8          ,8          ,2,20230906,1449, -32.7734,  34.4860,     1520,    903.9,2,   8.6073,2,  34.6290,2,  34.6297,2,    210.6,2,    210.6,2,    11.42,2,    20.86,2,     0.00,2,     1.45,2,     -999,9,     -999,9,     -999,9,   -999.0,9,     -999,9,     -999,9,     -999,9,     -999,1,   8.6044,2,     -999,9,     -999,9,     -999,9,     -999,9,     -999,9,   4.9679,1,   0.0112,1,     -999,9,     -999,9,     -999,9,     -999,9,     -999,9,20230906,1508, -32.7734,  34.4860,-999          ,9,-999          ,9
33RR20230722  ,I05        ,178     ,  1,7          ,7          ,2,20230906,1449, -32.7734,  34.4860,     1520,   1010.3,2,   6.9602,2,  34.4905,2,  34.4924,2,    205.0,2,    204.7,2,    18.74,2,    25.20,2,     0.00,2,     1.75,2,    2.711,2,    1.544,2,   1.1300,2,   2167.4,2,   2291.4,2,   7.6611,2,    24.99,2,     -999,1,   6.9646,2,     -999,9,     -999,9,     -999,9,     -999,9,     -999,9,   4.9703,1,   0.0112,1,     17.7,2,     -999,9,     -999,9,     -999,9,     -999,9,20230906,1505, -32.7734,  34.4860,-999          ,9,-999          ,9
33RR20230722  ,I05        ,178     ,  1,6          ,6          ,2,20230906,1449, -32.7734,  34.4860,     1520,   1119.7,2,   5.8525,2,  34.4235,2,  34.4247,2,    201.2,2,    201.4,2,    25.86,2,    28.01,2,     0.00,2,     1.93,2,     -999,9,     -999,9,     -999,9,   2188.8,2,   2293.8,2,   7.6346,6,    24.97,2,     -999,1,   5.8464,2,     -999,9,     -999,9,     -999,9,     -999,9,     -999,9,   4.9693,1,   0.0111,1,     -999,9,     -999,9,     -999,9,     -999,9,     -999,9,20230906,1502, -32.7734,  34.4860,-999          ,9,-999          ,9
33RR20230722  ,I05        ,178     ,  1,5          ,5          ,2,20230906,1449, -32.7734,  34.4860,     1520,   1237.0,2,   5.0400,2,  34.4019,2,  34.4023,2,    196.4,2,    197.4,2,    33.48,2,    29.95,2,     0.00,2,     2.09,2,    2.124,2,    1.188,2,   0.6800,2,   2197.4,2,   2298.9,2,   7.6141,2,    24.97,2,     -999,1,   5.0382,2,     -999,9,     -999,9,     -999,9,     -999,9,     -999,9,   4.9286,1,   0.0112,1,     20.3,2,     -999,9,     -999,9,     -999,9,     -999,9,20230906,1458, -32.7734,  34.4860,-999          ,9,-999          ,9
33RR20230722  ,I05        ,178     ,  1,4          ,37         ,2,20230906,1449, -32.7734,  34.4860,     1520,   1357.9,2,   4.4715,2,  34.4200,2,  34.4210,2,    187.6,2,    187.8,2,    41.87,2,    31.47,2,     0.00,2,     2.21,2,     -999,9,     -999,9,     -999,9,   -999.0,9,     -999,9,     -999,9,     -999,9,     -999,1,   4.4698,2,     -999,9,     -999,9,     -999,9,     -999,9,     -999,9,   4.9703,1,   0.0119,1,     -999,9,     -999,9,     -999,9,     -999,9,     -999,9,20230906,1455, -32.7734,  34.4860,-999          ,9,-999          ,9
33RR20230722  ,I05        ,178     ,  1,3          ,3          ,2,20230906,1449, -32.7734,  34.4860,     1520,   1450.1,2,   3.9677,2,  34.4591,2,  34.4604,2,    179.6,2,    180.0,2,    50.95,2,    32.60,2,     0.00,2,     2.28,2,    1.234,2,    0.678,2,   0.2600,2,   2226.1,6,   2317.0,2,   7.5824,2,    24.96,2,     -999,1,   3.9677,2,     -999,9,     -999,9,     -999,9,     -999,9,     -999,9,   4.2355,1,   0.0114,1,     22.7,2,     -999,9,     -999,9,     -999,9,     -999,9,20230906,1453, -32.7734,  34.4860,-999          ,9,-999          ,9
33RR20230722  ,I05        ,178     ,  1,2          ,2          ,2,20230906,1449, -32.7734,  34.4860,     1520,   1503.9,2,   3.8718,2,  34.5037,2,  34.5058,2,    171.4,2,    170.9,2,    57.19,2,    33.15,2,     0.00,2,     2.34,2,     -999,9,     -999,9,     -999,9,   -999.0,9,     -999,9,     -999,9,     -999,9,     -999,1,   3.8737,2,     -999,9,     -999,9,     -999,9,     -999,9,     -999,9,   1.6161,1,   0.0111,1,     -999,9,     -999,9,     -999,9,     -999,9,     -999,9,20230906,1451, -32.7734,  34.4860,-999          ,9,-999          ,9
33RR20230722  ,I05        ,178     ,  1,1          ,1          ,2,20230906,1449, -32.7734,  34.4860,     1520,   1527.2,2,   3.6885,2,  34.5050,2,  34.5056,2,    173.5,2,    173.1,2,    58.27,2,    33.12,2,     0.00,2,     2.34,2,    0.924,6,    0.499,6,   0.2200,6,   2238.7,2,   2322.2,2,   7.5757,2,    24.98,2,     -999,1,   3.6904,2,     -999,9,     -999,9,     -999,9,     -999,9,     -999,9,   0.4634,1,   0.0116,1,     23.2,6,     -999,9,     -999,9,     -999,9,     -999,9,20230906,1449, -32.7734,  34.4860,-999          ,9,-999          ,9