BOTTLE,20240422CCHHYDRO
EXPOCODE,SECT_ID,STNNBR,CASTNO,SAMPNO,BTLNBR,BTLNBR_FLAG_W,DATE,TIME,LATITUDE,LONGITUDE,DEPTH,CTDPRS,CTDPRS_FLAG_W,CTDTMP,CTDTMP_FLAG_W,CTDSAL,CTDSAL_FLAG_W,SALNTY,SALNTY_FLAG_W,CTDOXY,CTDOXY_FLAG_W,OXYGEN,OXYGEN_FLAG_W,SILCAT,SILCAT_FLAG_W,NITRAT,NITRAT_FLAG_W,NITRIT,NITRIT_FLAG_W,PHSPHT,PHSPHT_FLAG_W,CFC-11,CFC-11_FLAG_W,CFC-12,CFC-12_FLAG_W,SF6,SF6_FLAG_W,TCARBN,TCARBN_FLAG_W,ALKALI,ALKALI_FLAG_W,PH_TOT,PH_TOT_FLAG_W,PH_TMP,PH_TMP_FLAG_W,DOC,DOC_FLAG_W,REFTMP,REFTMP_FLAG_W,POC,POC_FLAG_W,PON,PON_FLAG_W,POP,POP_FLAG_W,DOP,DOP_FLAG_W,DELO18,DELO18_FLAG_W,CTDFLUOR,CTDFLUOR_FLAG_W,CTDXMISS,CTDXMISS_FLAG_W,N2O,N2O_FLAG_W,D15N_NO3,D15N_NO3_FLAG_W,D15N_NO2+NO3,D15N_NO2+NO3_FLAG_W,D18O_NO2+NO3,D18O_NO2+NO3_FLAG_W,D18O_NO3,D18O_NO3_FLAG_W,BTL_DATE,BTL_TIME,BTL_LAT,BTL_LON,HPLC,HPLC_FLAG_W,DNA,DNA_FLAG_W
,,,,,,,,,,,METERS,DBAR,,ITS-90,,PSS-78,,PSS-78,,UMOL/KG,,UMOL/KG,,UMOL/KG,,UMOL/KG,,UMOL/KG,,UMOL/KG,,PMOL/KG,,PMOL/KG,,FMOL/KG,,UMOL/KG,,UMOL/KG,,,,DEG C,,UMOL/KG,,ITS-90,,UG/KG,,UG/KG,,UG/L,,UMOL/KG,,/MILLE,,VOLTS,,VOLTS,,NMOL/KG,,/MILLE,,/MILLE,,/MILLE,,/MILLE,,,,,,,,,
33RR20230722  ,I05        ,195     ,  2,20         ,20         ,2,20230910,1433, -31.1079,  30.3391,      867,      3.3,2,  22.1234,2,  35.4119,2,  35.4121,2,    220.1,2,    220.0,2,     1.27,2,     0.03,2,     0.03,2,     0.16,2,    1.693,2,    1.090,2,   1.8900,2,   2026.3,6,   2321.4,2,   8.0232,2,    24.97,2,     -999,1,  22.1259,2,     -999,9,     -999,9,     -999,9,     -999,9,     -999,1,   4.8621,1,   0.0672,1,      7.5,2,     -999,9,     -999,9,     -999,9,     -999,9,20230910,1514, -31.1079,  30.3391,-999          ,9,-999          ,9
33RR20230722  ,I05        ,195     ,  2,19         ,19         ,2,20230910,1433, -31.1079,  30.3391,      867,     19.3,2,  22.1269,2,  35.4116,2,  35.4117,2,    220.4,2,    219.9,2,     1.27,2,     0.00,2,     0.03,2,     0.15,2,     -999,9,     -999,9,     -999,9,   2029.0,2,   2322.6,6,   8.0232,2,    24.98,2,     -999,9,  22.1287,2,     -999,9,     -999,9,     -999,9,     -999,9,     -999,1,   4.8289,1,   0.0647,1,     -999,9,     -999,9,     -999,9,     -999,9,     -999,9,20230910,1512, -31.1074,  30.3397,-999          ,9,-999          ,9
33RR20230722  ,I05        ,195     ,  2,18         ,18         ,2,20230910,1433, -31.1079,  30.3391,      867,     32.1,2,  22.0549,2,  35.4172,2,  35.4170,2,    219.1,2,    218.7,2,     1.46,2,     0.05,2,     0.03,2,     0.15,2,     -999,9,     -999,9,     -999,9,   2028.7,2,   2322.9,2,   8.0198,6,    24.98,2,     -999,9,  22.0410,2,     -999,9,     -999,9,     -999,9,     -999,9,     -999,1,   4.8790,1,   0.0665,1,     -999,9,     -999,9,     -999,9,     -999,9,     -999,9,20230910,1510, -31.1065,  30.3408,-999          ,9,-999          ,9
33RR20230722  ,I05        ,195     ,  2,17         ,17         ,2,20230910,1433, -31.1079,  30.3391,      867,     52.0,2,  21.2242,2,  35.4072,2,  35.4072,2,    191.2,3,    194.5,2,     2.93,2,     2.68,2,     0.13,2,     0.32,2,    1.734,2,    1.125,2,   1.8700,2,   2055.2,2,   2321.5,2,   7.9723,2,    25.02,2,     -999,9,  21.2572,2,     -999,9,     -999,9,     -999,9,     -999,9,     -999,1,   4.9694,1,   0.0273,1,      9.2,2,     -999,9,     -999,9,     -999,9,     -999,9,20230910,1508, -31.1060,  30.3414,-999          ,9,-999          ,9
33RR20230722  ,I05        ,195     ,  2,16         ,16         ,2,20230910,1433, -31.1079,  30.3391,      867,     70.5,2,  20.9454,2,  35.4397,2,  35.4407,2,    187.3,2,    188.4,2,     3.41,2,     3.35,2,     0.08,2,     0.33,2,     -999,9,     -999,9,     -999,9,   2061.6,2,   2324.4,2,   7.9606,2,    24.97,2,     -999,9,  20.9427,2,     -999,9,     -999,9,     -999,9,     -999,9,     -999,1,   4.6669,1,   0.0177,1,     -999,9,     -999,9,     -999,9,     -999,9,     -999,9,20230910,1506, -31.1052,  30.3423,-999          ,9,-999          ,9
33RR20230722  ,I05        ,195     ,  2,15         ,15         ,2,20230910,1433, -31.1079,  30.3391,      867,     91.0,2,  19.8342,2,  35.4367,2,  35.4381,2,    168.8,2,    170.4,2,     5.27,2,     6.17,2,     0.05,2,     0.52,2,     -999,9,     -999,9,     -999,9,   2089.4,2,   2323.1,2,   7.9095,2,    24.99,2,     -999,9,  19.8241,2,     -999,9,     -999,9,     -999,9,     -999,9,     -999,1,   4.8995,1,   0.0153,1,     -999,9,     -999,9,     -999,9,     -999,9,     -999,9,20230910,1504, -31.1045,  30.3431,-999          ,9,-999          ,9
33RR20230722  ,I05        ,195     ,  2,14         ,14         ,2,20230910,1433, -31.1079,  30.3391,      867,    113.1,2,  18.2786,2,  35.4690,2,  35.4691,2,    165.1,2,    165.1,2,     6.44,2,     7.77,2,     0.02,2,     0.63,2,     -999,9,     -999,9,     -999,9,   2111.3,2,   2329.2,2,   7.8702,2,    24.99,2,     -999,9,  18.2759,2,     -999,9,     -999,9,     -999,9,     -999,9,     -999,1,   4.8150,1,   0.0127,1,     -999,9,     -999,9,     -999,9,     -999,9,     -999,9,20230910,1502, -31.1038,  30.3438,-999          ,9,-999          ,9
33RR20230722  ,I05        ,195     ,  2,13         ,13         ,2,20230910,1433, -31.1079,  30.3391,      867,    138.8,2,  17.4559,2,  35.4405,2,  35.4464,2,    160.8,2,    160.6,2,     7.41,2,     9.12,2,     0.01,2,     0.71,2,    2.245,2,    1.500,2,   1.6900,2,   2121.5,2,   2324.2,2,   7.8468,2,    24.98,2,     -999,9,  17.4545,2,     -999,9,     -999,9,     -999,9,     -999,9,     -999,1,   4.5756,1,   0.0125,1,     15.3,2,     -999,9,     -999,9,     -999,9,     -999,9,20230910,1500, -31.1032,  30.3446,-999          ,9,-999          ,9
33RR20230722  ,I05        ,195     ,  2,12         ,12         ,2,20230910,1433, -31.1079,  30.3391,      867,    168.8,2,  16.1589,2,  35.3624,2,  35.3666,2,    156.5,2,    155.6,2,     9.07,2,    11.31,2,     0.00,2,     0.86,2,     -999,9,     -999,9,     -999,9,   2137.9,2,   2325.4,2,   7.8132,6,    24.98,2,     -999,9,  16.1639,2,     -999,9,     -999,9,     -999,9,     -999,9,     -999,1,   4.8522,1,   0.0115,1,     -999,9,     -999,9,     -999,9,     -999,9,     -999,9,20230910,1459, -31.1026,  30.3452,-999          ,9,-999          ,9
33RR20230722  ,I05        ,195     ,  2,11         ,11         ,2,20230910,1433, -31.1079,  30.3391,      867,    201.5,2,  15.1088,2,  35.3280,2,  35.3289,2,    168.4,2,    168.5,2,     8.49,2,    11.30,2,     0.00,2,     0.86,2,     -999,9,     -999,9,     -999,9,   2138.0,2,   2324.5,2,   7.8064,2,    25.02,2,     -999,9,  15.1027,2,     -999,9,     -999,9,     -999,9,     -999,9,     -999,1,   4.9671,1,   0.0117,1,     -999,9,     -999,9,     -999,9,     -999,9,     -999,9,20230910,1457, -31.1021,  30.3459,-999          ,9,-999          ,9
33RR20230722  ,I05        ,195     ,  2,10         ,10         ,2,20230910,1433, -31.1079,  30.3391,      867,    238.2,2,  14.3855,2,  35.2741,2,  35.2741,2,    173.3,2,    173.2,2,     8.49,2,    11.95,2,     0.00,2,     0.91,2,     -999,9,     -999,9,     -999,9,   2141.8,2,   2320.4,2,   7.7970,2,    24.96,2,     -999,9,  14.3834,2,     -999,9,     -999,9,     -999,9,     -999,9,     -999,1,   4.9671,1,   0.0116,1,     -999,9,     -999,9,     -999,9,     -999,9,     -999,9,20230910,1455, -31.1015,  30.3466,-999          ,9,-999          ,9
33RR20230722  ,I05        ,195     ,  2,9          ,9          ,2,20230910,1433, -31.1079,  30.3391,      867,    285.0,2,  13.4643,2,  35.2009,2,  35.2018,2,    185.4,2,    184.9,2,     7.90,2,    12.33,2,     0.00,2,     0.93,2,    2.651,2,    1.662,2,   1.6300,2,   2142.7,2,   2317.7,2,   7.7904,6,    24.98,2,     -999,9,  13.4648,2,     -999,9,     -999,9,     -999,9,     -999,9,     -999,1,   4.9666,1,   0.0115,1,     14.6,2,     -999,9,     -999,9,     -999,9,     -999,9,20230910,1454, -31.1008,  30.3474,-999          ,9,-999          ,9
33RR20230722  ,I05        ,195     ,  2,8          ,8          ,2,20230910,1433, -31.1079,  30.3391,      867,    343.6,2,  12.4319,2,  35.0935,2,  35.0951,2,    187.0,2,    186.8,2,     8.88,2,    14.13,2,     0.00,2,     1.04,2,     -999,9,     -999,9,     -999,9,   2146.9,2,   2313.9,2,   7.7684,2,    24.99,2,     -999,9,  12.4370,2,     -999,9,     -999,9,     -999,9,     -999,9,     -999,1,   4.7424,1,   0.0114,1,     -999,9,     -999,9,     -999,9,     -999,9,     -999,9,20230910,1451, -31.1000,  30.3483,-999          ,9,-999          ,9
33RR20230722  ,I05        ,195     ,  2,7          ,7          ,2,20230910,1433, -31.1079,  30.3391,      867,    409.8,2,  11.3941,2,  34.9762,2,  34.9784,2,    204.9,2,    204.8,2,     7.42,2,    14.56,2,     0.00,2,     1.07,2,    2.414,2,    1.367,2,   0.9500,2,   2143.2,2,   2305.7,2,   7.7685,2,    24.98,2,     -999,9,  11.3735,2,     -999,9,     -999,9,     -999,9,     -999,9,     -999,1,   4.9666,1,   0.0115,1,     19.2,2,     -999,9,     -999,9,     -999,9,     -999,9,20230910,1449, -31.0992,  30.3493,-999          ,9,-999          ,9
33RR20230722  ,I05        ,195     ,  2,6          ,6          ,2,20230910,1433, -31.1079,  30.3391,      867,    498.5,2,   9.7623,2,  34.7957,2,  34.7952,2,    195.1,2,    195.4,2,    13.08,2,    19.23,2,     0.00,2,     1.37,2,     -999,9,     -999,9,     -999,9,   2159.7,2,   2302.2,2,   7.7212,2,    24.97,2,     -999,9,   9.7316,2,     -999,9,     -999,9,     -999,9,     -999,9,     -999,1,   4.9487,1,   0.0112,1,     -999,9,     -999,9,     -999,9,     -999,9,     -999,9,20230910,1446, -31.0980,  30.3507,-999          ,9,-999          ,9
33RR20230722  ,I05        ,195     ,  2,5          ,5          ,2,20230910,1433, -31.1079,  30.3391,      867,    579.1,2,   8.3744,2,  34.6779,2,  34.6798,2,    184.3,2,    184.6,2,    20.49,2,    23.38,2,     0.00,2,     1.66,2,    1.876,2,    1.273,2,   1.6500,2,   2176.2,2,   2301.1,2,   7.6786,2,    24.98,2,     -999,9,   8.3862,2,     -999,9,     -999,9,     -999,9,     -999,9,     -999,1,   4.8694,1,   0.0113,1,     14.3,2,     -999,9,     -999,9,     -999,9,     -999,9,20230910,1443, -31.0969,  30.3519,-999          ,9,-999          ,9
33RR20230722  ,I05        ,195     ,  2,4          ,37         ,2,20230910,1433, -31.1079,  30.3391,      867,    665.9,2,   7.4710,2,  34.6143,2,  34.6170,2,    178.7,2,    179.0,2,    26.64,2,    25.89,2,     0.00,2,     1.84,2,     -999,9,     -999,9,     -999,9,   2186.4,2,   2304.8,2,   7.6529,6,    24.98,2,     -999,9,   7.4331,2,     -999,9,     -999,9,     -999,9,     -999,9,     -999,1,   4.9682,1,   0.0119,1,     -999,9,     -999,9,     -999,9,     -999,9,     -999,9,20230910,1440, -31.0959,  30.3530,-999          ,9,-999          ,9
33RR20230722  ,I05        ,195     ,  2,3          ,3          ,2,20230910,1433, -31.1079,  30.3391,      867,    725.5,2,   6.4875,2,  34.5728,2,  34.5755,2,    166.4,2,    166.8,2,    36.01,2,    29.00,2,     0.00,2,     2.05,2,    1.849,2,    0.946,2,   0.5500,2,   2206.5,2,   2308.2,2,     -999,1,     -999,5,     -999,9,   6.4895,2,     -999,9,     -999,9,     -999,9,     -999,9,     -999,1,   4.9274,1,   0.0112,1,     22.2,2,     -999,9,     -999,9,     -999,9,     -999,9,20230910,1438, -31.0951,  30.3539,-999          ,9,-999          ,9
33RR20230722  ,I05        ,195     ,  2,2          ,2          ,2,20230910,1433, -31.1079,  30.3391,      867,    807.3,2,   5.9785,2,  34.5901,2,  34.5918,2,    154.1,2,    153.9,2,    44.99,2,    30.93,2,     0.00,2,     2.22,2,     -999,9,     -999,9,     -999,9,   2224.2,2,   2317.2,2,   7.5912,2,    24.98,2,     -999,9,   5.9815,2,     -999,9,     -999,9,     -999,9,     -999,9,     -999,1,   3.4232,1,   0.0111,1,     -999,9,     -999,9,     -999,9,     -999,9,     -999,9,20230910,1435, -31.0942,  30.3550,-999          ,9,-999          ,9
33RR20230722  ,I05        ,195     ,  2,1          ,1          ,2,20230910,1433, -31.1079,  30.3391,      867,    862.1,2,   5.6868,2,  34.5779,2,  34.5794,2,    154.7,2,    154.4,2,    47.34,2,    31.37,2,     0.00,2,     2.24,2,    1.212,2,    0.683,2,   0.4100,2,   2225.2,6,   2317.4,2,   7.5878,2,    24.99,2,     -999,9,   5.6875,2,     -999,9,     -999,9,     -999,9,     -999,9,     -999,1,   0.6148,1,   0.0120,1,     24.5,2,     -999,9,     -999,9,     -999,9,     -999,9,20230910,1433, -31.0934,  30.3559,-999          ,9,-999          ,9
33RR20230722  ,I05        ,196     ,  1,11         ,11         ,2,20230910,1726, -31.0816,  30.3395,      282,      3.3,2,  21.6233,2,  35.4300,2,  35.4312,2,    215.5,2,    215.4,2,     1.95,2,     0.75,2,     0.09,2,     0.20,2,    1.683,2,    1.114,2,   1.8500,2,   2042.2,6,   2322.2,2,   8.0076,6,    25.00,2,     -999,1,  21.6218,2,     -999,9,     -999,9,     -999,9,     -999,9,     -999,9,   4.1918,1,   0.0556,1,      7.9,2,     -999,1,     -999,1,     -999,1,     -999,1,20230910,1747, -31.0816,  30.3395,-999          ,9,-999          ,9
33RR20230722  ,I05        ,196     ,  1,10         ,10         ,2,20230910,1726, -31.0816,  30.3395,      282,     26.8,2,  21.6402,2,  35.4309,2,  35.4296,2,    215.4,2,    215.0,2,     1.95,2,     0.73,2,     0.09,2,     0.21,2,     -999,9,     -999,9,     -999,9,   2042.0,2,   2323.0,2,   8.0064,2,    24.99,2,     -999,1,  21.6384,2,     -999,9,     -999,9,     -999,9,     -999,9,     -999,9,   4.5500,1,   0.0679,1,     -999,9,     -999,1,     -999,1,     -999,1,     -999,1,20230910,1743, -31.0805,  30.3405,-999          ,9,-999          ,9
33RR20230722  ,I05        ,196     ,  1,9          ,9          ,2,20230910,1726, -31.0816,  30.3395,      282,     56.8,2,  21.5749,2,  35.4188,2,  35.4184,2,    215.1,2,    214.9,2,     1.76,2,     0.77,2,     0.09,2,     0.23,2,    1.900,2,    1.108,2,   1.9300,2,   2040.8,2,   2321.0,2,   8.0037,2,    25.01,2,     -999,1,  21.5738,2,     -999,9,     -999,9,     -999,9,     -999,9,     -999,9,   4.9732,1,   0.0449,1,      8.0,2,     -999,1,     -999,1,     -999,1,     -999,1,20230910,1741, -31.0798,  30.3413,-999          ,9,-999          ,9
33RR20230722  ,I05        ,196     ,  1,8          ,8          ,2,20230910,1726, -31.0816,  30.3395,      282,     81.8,2,  20.4163,2,  35.4250,2,  35.4261,2,    207.6,2,    208.3,2,     2.54,2,     2.08,2,     0.20,2,     0.39,2,     -999,9,     -999,9,     -999,9,   2064.2,2,   2325.7,2,   7.9698,2,    25.00,2,     -999,1,  20.3398,2,     -999,9,     -999,9,     -999,9,     -999,9,     -999,9,   4.9621,1,   0.0266,1,     -999,9,     -999,1,     -999,1,     -999,1,     -999,1,20230910,1739, -31.0791,  30.3421,-999          ,9,-999          ,9
33RR20230722  ,I05        ,196     ,  1,7          ,7          ,2,20230910,1726, -31.0816,  30.3395,      282,    103.7,2,  18.4204,2,  35.4461,2,  35.4364,2,    164.3,2,    164.9,2,     6.53,2,     7.84,2,     0.09,2,     0.64,2,    1.964,2,    1.212,2,   1.6800,2,   2111.5,2,   2324.7,2,   7.8733,2,    24.98,2,     -999,1,  18.4783,2,     -999,9,     -999,9,     -999,9,     -999,9,     -999,9,   4.9566,1,   0.0137,1,     12.7,2,     -999,1,     -999,1,     -999,1,     -999,1,20230910,1736, -31.0782,  30.3430,-999          ,9,-999          ,9
33RR20230722  ,I05        ,196     ,  1,6          ,6          ,2,20230910,1726, -31.0816,  30.3395,      282,    127.1,2,  17.5044,2,  35.4171,2,  35.4192,2,    160.4,2,    160.2,2,     7.61,2,     9.33,2,     0.04,2,     0.73,2,     -999,9,     -999,9,     -999,9,   2126.7,2,   2325.6,2,   7.8456,2,    24.99,2,     -999,1,  17.5008,2,     -999,9,     -999,9,     -999,9,     -999,9,     -999,9,   4.7853,1,   0.0128,1,     -999,9,     -999,1,     -999,1,     -999,1,     -999,1,20230910,1734, -31.0777,  30.3435,-999          ,9,-999          ,9
33RR20230722  ,I05        ,196     ,  1,4          ,37         ,2,20230910,1726, -31.0816,  30.3395,      282,    155.4,2,  16.0879,2,  35.3707,2,     -999,9,    166.7,2,     -999,9,     -999,9,     -999,9,     -999,9,     -999,9,     -999,9,     -999,9,     -999,9,   -999.0,9,     -999,9,     -999,9,     -999,9,     -999,9,  16.0892,2,     -999,9,     -999,9,     -999,9,     -999,9,     -999,9,   4.9667,1,   0.0130,1,     -999,9,     -999,9,     -999,9,     -999,9,     -999,9,20230910,1732, -31.0771,  30.3442,-999          ,9,-999          ,9
33RR20230722  ,I05        ,196     ,  1,5          ,5          ,2,20230910,1726, -31.0816,  30.3395,      282,    156.8,2,  16.0706,2,  35.3703,2,  35.3723,2,    166.7,2,    166.2,2,     7.90,2,    10.38,2,     0.03,2,     0.80,2,    2.158,2,    1.340,2,   1.6700,2,   2136.6,2,   2321.5,2,   7.8245,6,    25.00,2,     -999,1,  16.0839,2,     -999,9,     -999,9,     -999,9,     -999,9,     -999,9,   4.9193,1,   0.0130,1,     14.8,2,     -999,1,     -999,1,     -999,1,     -999,1,20230910,1732, -31.0771,  30.3441,-999          ,9,-999          ,9
33RR20230722  ,I05        ,196     ,  1,3          ,3          ,2,20230910,1726, -31.0816,  30.3395,      282,    186.0,2,  15.2915,2,  35.3256,2,  35.3309,2,    171.1,2,    171.2,2,     8.00,2,    10.97,2,     0.02,2,     0.85,2,     -999,9,     -999,9,     -999,9,   2139.1,2,   2323.3,6,   7.8141,2,    25.00,2,     -999,1,  15.3206,2,     -999,9,     -999,9,     -999,9,     -999,9,     -999,9,   4.7946,1,   0.0124,1,     -999,9,     -999,1,     -999,1,     -999,1,     -999,1,20230910,1730, -31.0766,  30.3447,-999          ,9,-999          ,9
33RR20230722  ,I05        ,196     ,  1,2          ,2          ,2,20230910,1726, -31.0816,  30.3395,      282,    231.7,2,  13.9363,2,  35.2140,2,  35.2156,2,    180.3,2,    180.5,2,     8.49,2,    12.38,2,     0.00,2,     0.94,2,    2.291,2,    1.442,2,   1.6000,2,   2142.9,2,   2317.9,2,   7.7952,2,    25.03,2,     -999,1,  13.9072,2,     -999,9,     -999,9,     -999,9,     -999,9,     -999,9,   2.6200,1,   0.0120,1,     15.1,2,     -999,1,     -999,1,     -999,1,     -999,1,20230910,1728, -31.0759,  30.3454,-999          ,9,-999          ,9
33RR20230722  ,I05        ,196     ,  1,1          ,1          ,2,20230910,1726, -31.0816,  30.3395,      282,    272.9,2,  13.1163,2,  35.1454,2,  35.1496,2,    184.6,2,    184.7,2,     8.98,2,    13.34,2,     0.00,2,     1.00,2,    2.464,2,    1.491,2,   1.7300,2,   2145.9,2,   2314.6,2,   7.7844,6,    25.01,2,     -999,1,  13.1514,2,     -999,9,     -999,9,     -999,9,     -999,9,     -999,9,   0.5495,1,   0.0119,1,     15.1,2,     -999,1,     -999,1,     -999,1,     -999,1,20230910,1726, -31.0752,  30.3461,-999          ,9,-999          ,9