BOTTLE,20240422CCHHYDRO
EXPOCODE,SECT_ID,STNNBR,CASTNO,SAMPNO,BTLNBR,BTLNBR_FLAG_W,DATE,TIME,LATITUDE,LONGITUDE,DEPTH,CTDPRS,CTDPRS_FLAG_W,CTDTMP,CTDTMP_FLAG_W,CTDSAL,CTDSAL_FLAG_W,SALNTY,SALNTY_FLAG_W,CTDOXY,CTDOXY_FLAG_W,OXYGEN,OXYGEN_FLAG_W,SILCAT,SILCAT_FLAG_W,NITRAT,NITRAT_FLAG_W,NITRIT,NITRIT_FLAG_W,PHSPHT,PHSPHT_FLAG_W,CFC-11,CFC-11_FLAG_W,CFC-12,CFC-12_FLAG_W,SF6,SF6_FLAG_W,TCARBN,TCARBN_FLAG_W,ALKALI,ALKALI_FLAG_W,PH_TOT,PH_TOT_FLAG_W,PH_TMP,PH_TMP_FLAG_W,DOC,DOC_FLAG_W,REFTMP,REFTMP_FLAG_W,POC,POC_FLAG_W,PON,PON_FLAG_W,POP,POP_FLAG_W,DOP,DOP_FLAG_W,DELO18,DELO18_FLAG_W,CTDFLUOR,CTDFLUOR_FLAG_W,CTDXMISS,CTDXMISS_FLAG_W,N2O,N2O_FLAG_W,D15N_NO3,D15N_NO3_FLAG_W,D15N_NO2+NO3,D15N_NO2+NO3_FLAG_W,D18O_NO2+NO3,D18O_NO2+NO3_FLAG_W,D18O_NO3,D18O_NO3_FLAG_W,BTL_DATE,BTL_TIME,BTL_LAT,BTL_LON,HPLC,HPLC_FLAG_W,DNA,DNA_FLAG_W
,,,,,,,,,,,METERS,DBAR,,ITS-90,,PSS-78,,PSS-78,,UMOL/KG,,UMOL/KG,,UMOL/KG,,UMOL/KG,,UMOL/KG,,UMOL/KG,,PMOL/KG,,PMOL/KG,,FMOL/KG,,UMOL/KG,,UMOL/KG,,,,DEG C,,UMOL/KG,,ITS-90,,UG/KG,,UG/KG,,UG/L,,UMOL/KG,,/MILLE,,VOLTS,,VOLTS,,NMOL/KG,,/MILLE,,/MILLE,,/MILLE,,/MILLE,,,,,,,,,
33RR20230722  ,I05        ,48      ,  2,36         ,36         ,2,20230804,0712, -33.9970,  97.2761,     4440,      4.9,2,  14.0335,2,  35.3176,2,  35.3159,2,    253.3,2,    253.4,2,     0.78,2,     2.78,2,     0.15,2,     0.37,2,    2.698,2,    1.527,2,   2.6600,2,   2103.4,6,   2329.1,2,   7.8989,2,    25.03,2,     -999,1,  14.0375,2,     -999,9,     -999,9,     -999,9,     -999,9,     -999,1,   4.6262,1,   0.0316,1,      9.2,2,     -999,9,     -999,9,     -999,9,     -999,9,20230804,0904, -33.9970,  97.2761,-999          ,9,-999          ,9
33RR20230722  ,I05        ,48      ,  2,35         ,35         ,2,20230804,0712, -33.9970,  97.2761,     4440,     24.4,2,  13.9674,2,  35.2995,2,  35.2988,2,    253.5,2,    254.0,2,     0.78,2,     2.85,2,     0.15,2,     0.36,2,     -999,9,     -999,9,     -999,9,   2101.4,2,   2329.8,2,   7.8968,2,    25.03,2,     -999,1,  13.9692,2,     -999,9,     -999,9,     -999,9,     -999,9,     -999,1,   4.9747,1,   0.0350,1,     -999,9,     -999,9,     -999,9,     -999,9,     -999,9,20230804,0903, -33.9970,  97.2761,-999          ,9,-999          ,9
33RR20230722  ,I05        ,48      ,  2,34         ,34         ,2,20230804,0712, -33.9970,  97.2761,     4440,     42.6,2,  13.9026,2,  35.2818,2,  35.2824,2,    253.4,2,    254.0,2,     1.07,2,     2.95,2,     0.15,2,     0.38,2,     -999,9,     -999,9,     -999,9,   -999.0,9,     -999,9,     -999,9,     -999,9,     -999,1,  13.9092,2,     -999,9,     -999,9,     -999,9,     -999,9,     -999,1,   4.9746,1,   0.0374,1,     -999,9,     -999,9,     -999,9,     -999,9,     -999,9,20230804,0901, -33.9970,  97.2761,-999          ,9,-999          ,9
33RR20230722  ,I05        ,48      ,  2,33         ,33         ,2,20230804,0712, -33.9970,  97.2761,     4440,     65.0,2,  13.9044,2,  35.2885,2,  35.2899,2,    253.2,2,    253.3,2,     0.78,2,     2.88,2,     0.15,2,     0.37,2,     -999,9,     -999,9,     -999,9,   2101.0,2,   2326.5,2,   7.8969,2,    25.02,2,     -999,1,  13.9035,2,     -999,9,     -999,9,     -999,9,     -999,9,     -999,1,   4.9395,1,   0.0419,1,     -999,9,     -999,9,     -999,9,     -999,9,     -999,9,20230804,0859, -33.9970,  97.2761,-999          ,9,-999          ,9
33RR20230722  ,I05        ,48      ,  2,32         ,32         ,2,20230804,0712, -33.9970,  97.2761,     4440,     88.7,2,  13.9735,2,  35.3098,2,  35.3086,2,    252.8,2,    253.0,2,     0.88,2,     2.75,2,     0.15,2,     0.36,2,     -999,9,     -999,9,     -999,9,   2102.1,2,   2328.2,2,   7.8976,2,    25.03,2,     -999,1,  13.9725,2,     -999,9,     -999,9,     -999,9,     -999,9,     -999,1,   4.9421,1,   0.0417,1,     -999,9,     -999,9,     -999,9,     -999,9,     -999,9,20230804,0857, -33.9970,  97.2761,-999          ,9,-999          ,9
33RR20230722  ,I05        ,48      ,  2,31         ,31         ,2,20230804,0712, -33.9970,  97.2761,     4440,    107.9,2,  14.0429,2,  35.3321,2,     -999,9,    252.7,2,     -999,9,     -999,9,     -999,9,     -999,9,     -999,9,     -999,9,     -999,9,     -999,9,   -999.0,9,     -999,9,     -999,9,     -999,9,     -999,9,  14.0408,2,     -999,9,     -999,9,     -999,9,     -999,9,     -999,9,   4.9740,1,   0.0413,1,     -999,9,     -999,9,     -999,9,     -999,9,     -999,9,20230804,0856, -33.9970,  97.2761,-999          ,9,-999          ,1
33RR20230722  ,I05        ,48      ,  2,30         ,30         ,2,20230804,0712, -33.9970,  97.2761,     4440,    117.7,2,  14.1392,2,  35.3622,2,  35.3644,2,    251.6,2,    251.5,2,     0.78,2,     2.44,2,     0.14,2,     0.33,2,     -999,9,     -999,9,     -999,9,   2103.3,2,   2331.7,2,   7.9017,2,    25.04,2,     -999,1,  14.1390,2,     -999,9,     -999,9,     -999,9,     -999,9,     -999,1,   4.9740,1,   0.0397,1,     -999,9,     -999,9,     -999,9,     -999,9,     -999,9,20230804,0854, -33.9971,  97.2761,-999          ,9,-999          ,9
33RR20230722  ,I05        ,48      ,  2,29         ,29         ,2,20230804,0712, -33.9970,  97.2761,     4440,    144.3,2,  14.1224,2,  35.3720,2,  35.3792,2,    248.1,3,    250.8,2,     0.68,2,     2.44,2,     0.13,2,     0.33,2,     -999,9,     -999,9,     -999,9,   -999.0,9,     -999,9,     -999,9,     -999,9,     -999,1,  14.1454,2,     -999,9,     -999,9,     -999,9,     -999,9,     -999,1,   4.9732,1,   0.0330,1,     -999,9,     -999,9,     -999,9,     -999,9,     -999,9,20230804,0853, -33.9970,  97.2761,-999          ,9,-999          ,9
33RR20230722  ,I05        ,48      ,  2,28         ,28         ,2,20230804,0712, -33.9970,  97.2761,     4440,    179.5,2,  12.5025,2,  35.1594,2,  35.1603,2,    241.3,2,    241.5,2,     1.66,2,     7.31,2,     0.01,2,     0.61,2,    2.659,2,    1.662,2,   2.6700,2,   2123.3,2,   2317.2,2,   7.8357,6,    25.01,2,     -999,1,  12.5035,2,     -999,9,     -999,9,     -999,9,     -999,9,     -999,1,   4.9698,1,   0.0123,1,     11.1,2,     -999,9,     -999,9,     -999,9,     -999,9,20230804,0851, -33.9970,  97.2761,-999          ,9,-999          ,9
33RR20230722  ,I05        ,48      ,  2,27         ,27         ,2,20230804,0712, -33.9970,  97.2761,     4440,    206.4,2,  12.3411,2,  35.1339,2,  35.1327,2,    243.3,2,    243.4,2,     1.85,2,     7.66,2,     0.00,2,     0.62,2,     -999,9,     -999,9,     -999,9,   -999.0,9,     -999,9,     -999,9,     -999,9,     -999,1,  12.3419,2,     -999,9,     -999,9,     -999,9,     -999,9,     -999,1,   4.9698,1,   0.0114,1,     -999,9,     -999,9,     -999,9,     -999,9,     -999,9,20230804,0850, -33.9970,  97.2761,-999          ,9,-999          ,9
33RR20230722  ,I05        ,48      ,  2,26         ,26         ,2,20230804,0712, -33.9970,  97.2761,     4440,    208.0,2,  12.3419,2,  35.1335,2,     -999,9,    243.2,2,     -999,9,     -999,9,     -999,9,     -999,9,     -999,9,     -999,9,     -999,9,     -999,9,   -999.0,9,     -999,9,     -999,9,     -999,9,     -999,9,  12.3429,2,     -999,9,     -999,9,     -999,9,     -999,9,     -999,9,   4.9698,1,   0.0113,1,     -999,9,     -999,9,     -999,9,     -999,9,     -999,9,20230804,0849, -33.9970,  97.2761,-999          ,9,-999          ,1
33RR20230722  ,I05        ,48      ,  2,25         ,25         ,2,20230804,0712, -33.9970,  97.2761,     4440,    246.1,2,  12.1150,2,  35.0932,2,  35.0894,2,    244.5,2,    244.5,2,     1.95,2,     8.19,2,     0.00,2,     0.67,2,     -999,9,     -999,9,     -999,9,   2123.0,2,   2312.9,2,   7.8286,6,    25.03,2,     -999,1,  12.1157,2,     -999,9,     -999,9,     -999,9,     -999,9,     -999,1,   4.9696,1,   0.0115,1,     -999,9,     -999,9,     -999,9,     -999,9,     -999,9,20230804,0848, -33.9970,  97.2761,-999          ,9,-999          ,9
33RR20230722  ,I05        ,48      ,  2,24         ,24         ,2,20230804,0712, -33.9970,  97.2761,     4440,    291.2,2,  11.5578,2,  34.9976,2,  34.9959,2,    246.7,2,    246.3,2,     2.24,2,     9.51,2,     0.00,2,     0.73,2,     -999,9,     -999,9,     -999,9,   -999.0,9,     -999,9,     -999,9,     -999,9,     -999,1,  11.5616,2,     -999,9,     -999,9,     -999,9,     -999,9,     -999,1,   4.9281,1,   0.0114,1,     -999,9,     -999,9,     -999,9,     -999,9,     -999,9,20230804,0846, -33.9970,  97.2761,-999          ,9,-999          ,9
33RR20230722  ,I05        ,48      ,  2,23         ,23         ,2,20230804,0712, -33.9970,  97.2761,     4440,    345.7,2,  11.1026,2,  34.9192,2,  34.9201,2,    247.6,2,    246.8,2,     2.63,2,    10.67,2,     0.00,2,     0.82,2,     -999,9,     -999,9,     -999,9,   2127.4,2,   2303.0,6,   7.8046,2,    25.02,2,     -999,1,  11.1019,2,     -999,9,     -999,9,     -999,9,     -999,9,     -999,1,   4.9687,1,   0.0115,1,     -999,9,     -999,9,     -999,9,     -999,9,     -999,9,20230804,0844, -33.9970,  97.2761,-999          ,9,-999          ,9
33RR20230722  ,I05        ,48      ,  2,22         ,22         ,4,20230804,0712, -33.9970,  97.2761,     4440,    405.3,3,  10.7385,3,  34.8560,3,     -999,9,    246.9,3,     -999,9,     -999,9,     -999,9,     -999,9,     -999,9,     -999,9,     -999,9,     -999,9,   -999.0,4,     -999,9,     -999,9,     -999,9,     -999,9,  10.7378,3,     -999,9,     -999,9,     -999,9,     -999,9,     -999,9,   4.9682,1,   0.0114,1,     -999,9,     -999,9,     -999,9,     -999,9,     -999,9,20230804,0842, -33.9970,  97.2761,-999          ,9,-999          ,9
33RR20230722  ,I05        ,48      ,  2,21         ,21         ,2,20230804,0712, -33.9970,  97.2761,     4440,    478.7,2,  10.3116,2,  34.7841,2,  34.7834,2,    246.1,2,    244.7,2,     3.32,2,    13.12,2,     0.00,2,     0.97,2,    2.979,2,    1.844,2,   2.6100,2,   2129.8,2,   2297.2,2,   7.7813,2,    25.02,2,     -999,1,  10.3117,2,     -999,9,     -999,9,     -999,9,     -999,9,     -999,1,   4.9677,1,   0.0113,1,     12.0,2,     -999,9,     -999,9,     -999,9,     -999,9,20230804,0839, -33.9970,  97.2761,-999          ,9,-999          ,9
33RR20230722  ,I05        ,48      ,  2,20         ,20         ,2,20230804,0712, -33.9970,  97.2761,     4440,    558.7,2,   9.8984,2,  34.7381,2,  34.7390,2,    236.0,2,    236.0,2,     4.00,2,    15.17,2,     0.00,2,     1.07,2,     -999,9,     -999,9,     -999,9,   2136.3,2,   2295.7,2,   7.7607,2,    25.01,2,     -999,1,   9.9104,2,     -999,9,     -999,9,     -999,9,     -999,9,     -999,1,   4.9667,1,   0.0114,1,     -999,9,     -999,9,     -999,9,     -999,9,     -999,9,20230804,0837, -33.9970,  97.2761,-999          ,9,-999          ,9
33RR20230722  ,I05        ,48      ,  2,19         ,19         ,2,20230804,0712, -33.9970,  97.2761,     4440,    646.4,2,   9.4496,2,  34.6849,2,  34.6816,2,    234.9,2,    234.7,2,     4.59,2,    16.59,2,     0.00,2,     1.18,2,     -999,9,     -999,9,     -999,9,   2142.7,2,   2290.7,2,   7.7470,2,    25.02,2,     -999,1,   9.4474,2,     -999,9,     -999,9,     -999,9,     -999,9,     -999,1,   4.9666,1,   0.0114,1,     -999,9,     -999,9,     -999,9,     -999,9,     -999,9,20230804,0834, -33.9970,  97.2761,-999          ,9,-999          ,9
33RR20230722  ,I05        ,48      ,  2,18         ,18         ,2,20230804,0712, -33.9970,  97.2761,     4440,    746.7,2,   8.7890,2,  34.6082,2,  34.6071,2,    224.8,2,    225.1,2,     6.93,2,    19.16,2,     0.00,2,     1.33,2,     -999,9,     -999,9,     -999,9,   2146.3,2,   2288.6,2,   7.7250,2,    25.03,2,     -999,1,   8.7870,2,     -999,9,     -999,9,     -999,9,     -999,9,     -999,1,   4.9670,1,   0.0114,1,     -999,9,     -999,9,     -999,9,     -999,9,     -999,9,20230804,0832, -33.9970,  97.2761,-999          ,9,-999          ,9
33RR20230722  ,I05        ,48      ,  2,17         ,17         ,2,20230804,0712, -33.9970,  97.2761,     4440,    859.9,2,   6.9965,2,  34.4585,2,  34.4593,2,    200.5,2,    201.4,2,    16.10,2,    25.45,2,     0.00,2,     1.75,2,     -999,9,     -999,9,     -999,9,   2169.5,2,   2286.7,2,   7.6620,2,    25.03,2,     -999,1,   7.0165,2,     -999,9,     -999,9,     -999,9,     -999,9,     -999,1,   4.9289,1,   0.0113,1,     -999,9,     -999,9,     -999,9,     -999,9,     -999,9,20230804,0829, -33.9970,  97.2761,-999          ,9,-999          ,9
33RR20230722  ,I05        ,48      ,  2,16         ,16         ,2,20230804,0712, -33.9970,  97.2761,     4440,    984.0,2,   5.2039,2,  34.3705,2,  34.3709,2,    196.2,2,    196.4,2,    29.28,2,    29.58,2,     0.00,2,     2.02,2,    2.074,2,    1.135,2,   0.5900,2,   2189.9,2,   2294.3,2,   7.6213,2,    25.03,2,     -999,1,   5.2054,2,     -999,9,     -999,9,     -999,9,     -999,9,     -999,1,   4.9703,1,   0.0113,1,     19.8,2,     -999,9,     -999,9,     -999,9,     -999,9,20230804,0826, -33.9970,  97.2761,-999          ,9,-999          ,9
33RR20230722  ,I05        ,48      ,  2,15         ,15         ,2,20230804,0712, -33.9970,  97.2761,     4440,   1013.5,2,   4.9149,2,  34.3666,2,     -999,9,    194.8,2,     -999,9,     -999,9,     -999,9,     -999,9,     -999,9,     -999,9,     -999,9,     -999,9,   -999.0,9,     -999,9,     -999,9,     -999,9,     -999,9,   4.9172,2,     -999,9,     -999,9,     -999,9,     -999,9,     -999,9,   4.9181,1,   0.0112,1,     -999,9,     -999,9,     -999,9,     -999,9,     -999,9,20230804,0824, -33.9970,  97.2761,-999          ,9,-999          ,1
33RR20230722  ,I05        ,48      ,  2,14         ,14         ,2,20230804,0712, -33.9970,  97.2761,     4440,   1183.2,2,   3.9325,2,  34.4080,2,  34.4090,2,    179.2,2,    179.0,2,    48.79,2,    32.90,2,     0.00,2,     2.28,2,     -999,9,     -999,9,     -999,9,   2221.9,2,   2311.4,2,   7.5846,2,    25.02,2,     -999,1,   3.9304,2,     -999,9,     -999,9,     -999,9,     -999,9,     -999,1,   4.9144,1,   0.0111,1,     -999,9,     -999,9,     -999,9,     -999,9,     -999,9,20230804,0820, -33.9970,  97.2761,-999          ,9,-999          ,9
33RR20230722  ,I05        ,48      ,  2,13         ,13         ,2,20230804,0712, -33.9970,  97.2761,     4440,   1303.3,2,   3.5724,2,  34.4676,2,  34.4675,2,    165.6,2,    165.6,2,    61.09,2,    33.92,2,     0.00,2,     2.37,2,     -999,9,     -999,9,     -999,9,   2240.4,2,   2323.9,6,   7.5681,2,    25.03,2,     -999,1,   3.5714,2,     -999,9,     -999,9,     -999,9,     -999,9,     -999,1,   4.9737,1,   0.0116,1,     -999,9,     -999,9,     -999,9,     -999,9,     -999,9,20230804,0817, -33.9970,  97.2761,-999          ,9,-999          ,9
33RR20230722  ,I05        ,48      ,  2,12         ,12         ,2,20230804,0712, -33.9970,  97.2761,     4440,   1425.1,2,   3.3159,2,  34.5256,2,  34.5252,2,    156.9,2,    156.7,2,    71.72,2,    34.56,2,     0.00,2,     2.42,2,    0.376,2,    0.190,2,   0.1100,2,   2252.2,2,   2336.1,2,   7.5593,2,    25.03,2,     -999,1,   3.3174,2,     -999,9,     -999,9,     -999,9,     -999,9,     -999,1,   4.9745,1,   0.0114,1,     23.8,2,     -999,9,     -999,9,     -999,9,     -999,9,20230804,0814, -33.9971,  97.2761,-999          ,9,-999          ,9
33RR20230722  ,I05        ,48      ,  2,11         ,11         ,2,20230804,0712, -33.9970,  97.2761,     4440,   1567.4,2,   3.0703,2,  34.5871,2,  34.5865,2,    152.9,2,    153.0,2,    80.11,2,    34.52,2,     0.00,2,     2.44,2,     -999,9,     -999,9,     -999,9,   2262.8,2,   2346.3,2,   7.5608,2,    25.04,2,     -999,1,   3.0761,2,     -999,9,     -999,9,     -999,9,     -999,9,     -999,1,   4.9560,1,   0.0119,1,     -999,9,     -999,9,     -999,9,     -999,9,     -999,9,20230804,0811, -33.9970,  97.2761,-999          ,9,-999          ,9
33RR20230722  ,I05        ,48      ,  2,10         ,10         ,2,20230804,0712, -33.9970,  97.2761,     4440,   1687.0,2,   2.9224,2,  34.6172,2,  34.6205,2,    155.1,2,    155.0,2,    82.94,2,    34.42,2,     0.00,2,     2.41,2,     -999,9,     -999,9,     -999,9,   2263.5,2,   2349.9,2,   7.5656,2,    25.04,2,     -999,1,   2.9230,2,     -999,9,     -999,9,     -999,9,     -999,9,     -999,1,   4.8369,1,   0.0113,1,     -999,9,     -999,9,     -999,9,     -999,9,     -999,9,20230804,0808, -33.9970,  97.2761,-999          ,9,-999          ,9
33RR20230722  ,I05        ,48      ,  2,9          ,9          ,2,20230804,0712, -33.9970,  97.2761,     4440,   1832.7,2,   2.7728,2,  34.6465,2,  34.6462,2,    158.3,2,    158.3,2,    85.86,2,    33.84,2,     0.00,2,     2.38,2,     -999,9,     -999,9,     -999,9,   2264.5,2,   2352.5,2,   7.5724,6,    25.03,2,     -999,1,   2.7728,2,     -999,9,     -999,9,     -999,9,     -999,9,     -999,1,   4.9751,1,   0.0119,1,     -999,9,     -999,9,     -999,9,     -999,9,     -999,9,20230804,0804, -33.9970,  97.2761,-999          ,9,-999          ,9
33RR20230722  ,I05        ,48      ,  2,8          ,8          ,2,20230804,0712, -33.9970,  97.2761,     4440,   2025.5,2,   2.5287,2,  34.6864,2,  34.6863,2,    166.1,2,    166.3,2,    89.28,2,    33.02,2,     0.00,2,     2.30,2,    0.050,2,    0.037,2,   0.0000,2,   2260.9,2,   2354.4,2,   7.5850,2,    25.02,2,     -999,1,   2.5297,2,     -999,9,     -999,9,     -999,9,     -999,9,     -999,1,   4.9750,1,   0.0114,1,     22.1,2,     -999,9,     -999,9,     -999,9,     -999,9,20230804,0800, -33.9970,  97.2761,-999          ,9,-999          ,9
33RR20230722  ,I05        ,48      ,  2,7          ,7          ,2,20230804,0712, -33.9970,  97.2761,     4440,   2284.4,2,   2.2502,2,  34.7218,2,     -999,5,    179.9,2,    180.0,2,    88.20,2,    31.58,2,     0.00,2,     2.20,2,    0.048,2,    0.032,2,   0.0600,2,   2254.6,2,   2356.6,2,   7.6022,2,    25.02,2,     -999,1,   2.2511,2,     -999,9,     -999,9,     -999,9,     -999,9,     -999,1,   4.6698,1,   0.0111,1,     20.6,2,     -999,9,     -999,9,     -999,9,     -999,9,20230804,0755, -33.9970,  97.2761,-999          ,9,-999          ,9
33RR20230722  ,I05        ,48      ,  2,6          ,6          ,2,20230804,0712, -33.9970,  97.2761,     4440,   2570.8,2,   1.9592,2,  34.7387,2,  34.7382,2,    189.8,2,    189.8,2,    94.25,2,    30.88,2,     0.00,2,     2.18,2,    0.045,2,    0.029,2,   0.0500,2,   -999.0,9,     -999,9,     -999,9,     -999,9,     -999,1,   1.9623,2,     -999,9,     -999,9,     -999,9,     -999,9,     -999,1,   4.9746,1,   0.0111,1,     20.0,2,     -999,9,     -999,9,     -999,9,     -999,9,20230804,0749, -33.9970,  97.2761,-999          ,9,-999          ,9
33RR20230722  ,I05        ,48      ,  2,5          ,5          ,2,20230804,0712, -33.9970,  97.2761,     4440,   2941.0,2,   1.6129,2,  34.7369,2,  34.7366,2,    196.9,2,    197.2,2,   102.64,2,    31.11,2,     0.00,2,     2.15,2,     -999,9,     -999,9,     -999,9,   2253.4,2,   2357.5,6,   7.6173,2,    25.02,2,     -999,1,   1.6132,2,     -999,9,     -999,9,     -999,9,     -999,9,     -999,1,   4.9583,1,   0.0111,1,     -999,9,     -999,9,     -999,9,     -999,9,     -999,9,20230804,0742, -33.9970,  97.2761,-999          ,9,-999          ,9
33RR20230722  ,I05        ,48      ,  2,4          ,37         ,2,20230804,0712, -33.9970,  97.2761,     4440,   3580.4,2,   1.1836,2,  34.7202,2,  34.7201,2,    202.7,2,    202.9,2,   115.32,2,    31.57,2,     0.00,2,     2.21,2,    0.070,2,    0.043,2,   0.0300,2,   2260.8,2,   2368.8,2,     -999,1,     -999,5,     -999,1,   1.1830,2,     -999,9,     -999,9,     -999,9,     -999,9,     -999,1,   4.7910,1,   0.0113,1,     19.2,2,     -999,9,     -999,9,     -999,9,     -999,9,20230804,0730, -33.9971,  97.2762,-999          ,9,-999          ,9
33RR20230722  ,I05        ,48      ,  2,3          ,3          ,2,20230804,0712, -33.9970,  97.2761,     4440,   4043.2,2,   1.0905,2,  34.7139,2,  34.7146,2,    204.1,2,    204.3,2,   117.96,2,    31.88,2,     0.00,2,     2.20,2,    0.063,2,    0.051,2,   0.0000,2,   2263.1,2,   2371.2,2,   7.6214,2,    25.04,2,     -999,1,   1.0904,2,     -999,9,     -999,9,     -999,9,     -999,9,     -999,1,   4.9145,1,   0.0118,1,     19.0,2,     -999,9,     -999,9,     -999,9,     -999,9,20230804,0721, -33.9971,  97.2762,-999          ,9,-999          ,9