BOTTLE,20240422CCHHYDRO
EXPOCODE,SECT_ID,STNNBR,CASTNO,SAMPNO,BTLNBR,BTLNBR_FLAG_W,DATE,TIME,LATITUDE,LONGITUDE,DEPTH,CTDPRS,CTDPRS_FLAG_W,CTDTMP,CTDTMP_FLAG_W,CTDSAL,CTDSAL_FLAG_W,SALNTY,SALNTY_FLAG_W,CTDOXY,CTDOXY_FLAG_W,OXYGEN,OXYGEN_FLAG_W,SILCAT,SILCAT_FLAG_W,NITRAT,NITRAT_FLAG_W,NITRIT,NITRIT_FLAG_W,PHSPHT,PHSPHT_FLAG_W,CFC-11,CFC-11_FLAG_W,CFC-12,CFC-12_FLAG_W,SF6,SF6_FLAG_W,TCARBN,TCARBN_FLAG_W,ALKALI,ALKALI_FLAG_W,PH_TOT,PH_TOT_FLAG_W,PH_TMP,PH_TMP_FLAG_W,DOC,DOC_FLAG_W,REFTMP,REFTMP_FLAG_W,POC,POC_FLAG_W,PON,PON_FLAG_W,POP,POP_FLAG_W,DOP,DOP_FLAG_W,DELO18,DELO18_FLAG_W,CTDFLUOR,CTDFLUOR_FLAG_W,CTDXMISS,CTDXMISS_FLAG_W,N2O,N2O_FLAG_W,D15N_NO3,D15N_NO3_FLAG_W,D15N_NO2+NO3,D15N_NO2+NO3_FLAG_W,D18O_NO2+NO3,D18O_NO2+NO3_FLAG_W,D18O_NO3,D18O_NO3_FLAG_W,BTL_DATE,BTL_TIME,BTL_LAT,BTL_LON,HPLC,HPLC_FLAG_W,DNA,DNA_FLAG_W
,,,,,,,,,,,METERS,DBAR,,ITS-90,,PSS-78,,PSS-78,,UMOL/KG,,UMOL/KG,,UMOL/KG,,UMOL/KG,,UMOL/KG,,UMOL/KG,,PMOL/KG,,PMOL/KG,,FMOL/KG,,UMOL/KG,,UMOL/KG,,,,DEG C,,UMOL/KG,,ITS-90,,UG/KG,,UG/KG,,UG/L,,UMOL/KG,,/MILLE,,VOLTS,,VOLTS,,NMOL/KG,,/MILLE,,/MILLE,,/MILLE,,/MILLE,,,,,,,,,
33RR20230722  ,I05        ,7       ,  1,35         ,35         ,2,20230723,1000, -32.5176, 114.1210,     3220,     10.5,2,  20.1425,2,  35.4329,3,  35.4020,2,    222.5,3,    224.7,2,     3.02,2,     0.00,2,     0.01,2,     0.06,2,    1.549,2,    0.991,2,   2.0400,2,   2037.3,3,   2323.9,2,   8.0193,2,    25.00,2,     -999,1,  20.1586,2,     -999,9,     -999,9,     -999,9,     -999,9,     -999,1,   4.9759,1,   0.0267,1,      7.5,2,     -999,9,     -999,9,     -999,9,     -999,9,20230723,1143, -32.5176, 114.1210,-999          ,9,-999          ,9
33RR20230722  ,I05        ,7       ,  1,36         ,36         ,2,20230723,1000, -32.5176, 114.1210,     3220,     12.0,2,  20.1592,2,  35.4260,2,     -999,9,    222.4,2,     -999,9,     3.12,2,     0.04,2,     0.02,2,     0.04,2,     -999,9,     -999,9,     -999,9,   -999.0,9,     -999,9,     -999,9,     -999,9,     -999,1,  20.1559,2,     -999,9,     -999,9,     -999,9,     -999,9,     -999,1,   4.8930,1,   0.0278,1,     -999,9,     -999,9,     -999,9,     -999,9,     -999,9,20230723,1143, -32.5176, 114.1210,-999          ,1,-999          ,9
33RR20230722  ,I05        ,7       ,  1,34         ,34         ,2,20230723,1000, -32.5176, 114.1210,     3220,     20.0,2,  19.7886,2,  35.4830,2,  35.4750,2,    223.9,3,    226.2,2,     2.73,2,     0.00,2,     0.01,2,     0.06,2,     -999,9,     -999,9,     -999,9,   -999.0,9,     -999,9,     -999,9,     -999,9,     -999,1,  19.8816,2,     -999,9,     -999,9,     -999,9,     -999,9,     -999,1,   4.9760,1,   0.0283,1,     -999,9,     -999,9,     -999,9,     -999,9,     -999,9,20230723,1141, -32.5176, 114.1210,-999          ,9,-999          ,9
33RR20230722  ,I05        ,7       ,  1,33         ,33         ,2,20230723,1000, -32.5176, 114.1210,     3220,     47.1,2,  18.6497,2,  35.5837,2,  35.5667,2,    229.6,2,    230.9,2,     3.32,2,     0.00,2,     0.01,2,     0.06,2,     -999,9,     -999,9,     -999,9,   2056.6,3,   2336.1,2,   7.9983,2,    24.98,2,     -999,1,  18.6362,2,     -999,9,     -999,9,     -999,9,     -999,9,     -999,1,   4.9759,1,   0.0304,1,     -999,9,     -999,9,     -999,9,     -999,9,     -999,9,20230723,1139, -32.5176, 114.1210,-999          ,9,-999          ,9
33RR20230722  ,I05        ,7       ,  1,32         ,32         ,2,20230723,1000, -32.5176, 114.1210,     3220,     63.5,2,  17.4941,2,  35.6649,3,  35.6238,2,    234.1,2,     -999,9,     3.02,2,     0.00,2,     0.02,2,     0.09,2,     -999,9,     -999,9,     -999,9,   -999.0,9,     -999,9,     -999,9,     -999,9,     -999,1,  17.5067,2,     -999,9,     -999,9,     -999,9,     -999,9,     -999,1,   4.9756,1,   0.0336,1,     -999,9,     -999,9,     -999,9,     -999,9,     -999,9,20230723,1137, -32.5176, 114.1209,-999          ,1,-999          ,9
33RR20230722  ,I05        ,7       ,  1,31         ,31         ,2,20230723,1000, -32.5176, 114.1210,     3220,     64.1,2,  17.2853,2,  35.6772,2,  35.6674,2,    235.0,2,    235.7,2,     2.53,2,     0.00,2,     0.02,2,     0.06,2,    1.878,2,    1.216,2,   2.3400,2,   -999.0,9,     -999,9,     -999,9,     -999,9,     -999,1,  17.3928,2,     -999,9,     -999,9,     -999,9,     -999,9,     -999,1,   4.9756,1,   0.0343,1,      8.3,2,     -999,9,     -999,9,     -999,9,     -999,9,20230723,1137, -32.5176, 114.1210,-999          ,9,-999          ,9
33RR20230722  ,I05        ,7       ,  1,30         ,30         ,2,20230723,1000, -32.5176, 114.1210,     3220,     89.7,2,  17.0751,2,  35.7000,2,  35.6948,2,    236.1,2,    236.7,2,     2.34,2,     0.03,2,     0.03,2,     0.10,2,     -999,9,     -999,9,     -999,9,   2078.8,2,   2345.1,2,   7.9749,6,    24.99,2,     -999,1,  17.0741,2,     -999,9,     -999,9,     -999,9,     -999,9,     -999,1,   4.5634,1,   0.0293,1,     -999,9,     -999,9,     -999,9,     -999,9,     -999,9,20230723,1135, -32.5177, 114.1210,-999          ,9,-999          ,9
33RR20230722  ,I05        ,7       ,  1,29         ,29         ,4,20230723,1000, -32.5176, 114.1210,     3220,    126.3,3,  16.9842,3,  35.6973,3,     -999,9,    234.4,3,     -999,9,     -999,9,     -999,9,     -999,9,     -999,9,     -999,9,     -999,9,     -999,9,   -999.0,4,     -999,9,     -999,9,     -999,9,     -999,1,  17.0311,3,     -999,9,     -999,9,     -999,9,     -999,9,     -999,1,   4.9169,1,   0.0201,1,     -999,9,     -999,9,     -999,9,     -999,9,     -999,9,20230723,1133, -32.5177, 114.1210,-999          ,9,-999          ,9
33RR20230722  ,I05        ,7       ,  1,28         ,28         ,2,20230723,1000, -32.5176, 114.1210,     3220,    149.7,2,  15.9780,2,  35.6237,2,  35.6194,2,    235.9,2,    236.9,2,     1.46,2,     0.70,2,     0.19,2,     0.18,2,    2.083,2,    1.267,2,   2.2800,2,   2096.2,3,   2342.9,2,   7.9422,2,    24.98,2,     -999,1,  15.9918,2,     -999,9,     -999,9,     -999,9,     -999,9,     -999,1,   4.9735,1,   0.0141,1,      8.8,2,     -999,9,     -999,9,     -999,9,     -999,9,20230723,1131, -32.5177, 114.1210,-999          ,9,-999          ,9
33RR20230722  ,I05        ,7       ,  1,27         ,27         ,2,20230723,1000, -32.5176, 114.1210,     3220,    179.0,2,  15.5122,2,  35.6315,2,  35.6250,2,    239.7,2,    239.6,2,     1.66,2,     0.75,2,     0.22,2,     0.19,2,     -999,9,     -999,9,     -999,9,   -999.0,9,     -999,9,     -999,9,     -999,9,     -999,1,  15.5198,2,     -999,9,     -999,9,     -999,9,     -999,9,     -999,1,   4.3704,1,   0.0150,1,     -999,9,     -999,9,     -999,9,     -999,9,     -999,9,20230723,1129, -32.5177, 114.1210,-999          ,9,-999          ,9
33RR20230722  ,I05        ,7       ,  1,26         ,26         ,2,20230723,1000, -32.5176, 114.1210,     3220,    208.0,2,  15.0760,2,  35.5583,2,  35.5602,2,    237.5,2,    238.3,2,     1.37,2,     1.54,2,     0.10,2,     0.24,2,     -999,9,     -999,9,     -999,9,   -999.0,9,     -999,9,     -999,9,     -999,9,     -999,1,  15.0941,2,     -999,9,     -999,9,     -999,9,     -999,9,     -999,1,   4.7986,1,   0.0124,1,     -999,9,     -999,9,     -999,9,     -999,9,     -999,9,20230723,1127, -32.5176, 114.1210,-999          ,9,-999          ,9
33RR20230722  ,I05        ,7       ,  1,25         ,25         ,2,20230723,1000, -32.5176, 114.1210,     3220,    250.1,2,  13.8110,2,  35.3217,2,  35.3206,2,    240.1,2,    240.6,2,     0.88,2,     3.74,2,     0.03,2,     0.38,2,    2.397,2,    1.494,2,   2.6300,2,   2109.2,2,   2328.8,2,   7.8870,2,    25.00,2,     -999,1,  13.8197,2,     -999,9,     -999,9,     -999,9,     -999,9,     -999,1,   4.2224,1,   0.0124,1,      9.8,2,     -999,9,     -999,9,     -999,9,     -999,9,20230723,1125, -32.5177, 114.1210,-999          ,9,-999          ,9
33RR20230722  ,I05        ,7       ,  1,24         ,24         ,2,20230723,1000, -32.5176, 114.1210,     3220,    284.5,2,  12.9711,2,  35.1670,2,  35.1664,2,    239.3,2,    240.0,2,     2.15,2,     5.64,2,     0.03,2,     0.51,2,     -999,9,     -999,9,     -999,9,   -999.0,9,     -999,9,     -999,9,     -999,9,     -999,1,  12.9620,2,     -999,9,     -999,9,     -999,9,     -999,9,     -999,1,   4.9704,1,   0.0115,1,     -999,9,     -999,9,     -999,9,     -999,9,     -999,9,20230723,1123, -32.5176, 114.1209,-999          ,9,-999          ,9
33RR20230722  ,I05        ,7       ,  1,23         ,23         ,2,20230723,1000, -32.5176, 114.1210,     3220,    350.8,2,  10.8699,2,  34.8382,2,  34.8414,2,    247.8,2,    246.8,2,     2.73,2,    10.51,2,     0.02,2,     0.79,2,     -999,9,     -999,9,     -999,9,   -999.0,9,     -999,9,     -999,9,     -999,9,     -999,1,  10.8979,2,     -999,9,     -999,9,     -999,9,     -999,9,     -999,1,   4.9693,1,   0.0115,1,     -999,9,     -999,9,     -999,9,     -999,9,     -999,9,20230723,1120, -32.5176, 114.1210,-999          ,9,-999          ,9
33RR20230722  ,I05        ,7       ,  1,22         ,22         ,2,20230723,1000, -32.5176, 114.1210,     3220,    410.1,2,  10.4125,2,  34.8138,2,  34.8119,2,    238.5,2,    238.4,2,     3.41,2,    13.17,2,     0.01,2,     0.93,2,    3.011,2,    1.747,2,   2.3800,2,   2137.0,3,   2296.7,2,   7.7736,2,    24.98,2,     -999,1,  10.4105,2,     -999,9,     -999,9,     -999,9,     -999,9,     -999,1,   4.9678,1,   0.0115,1,     13.7,2,     -999,9,     -999,9,     -999,9,     -999,9,20230723,1118, -32.5176, 114.1210,-999          ,9,-999          ,9
33RR20230722  ,I05        ,7       ,  1,21         ,21         ,2,20230723,1000, -32.5176, 114.1210,     3220,    459.1,2,  10.0820,2,  34.7885,2,  34.7868,2,    235.8,2,    235.8,2,     4.00,2,    14.49,2,     0.00,2,     1.01,2,     -999,9,     -999,9,     -999,9,   -999.0,9,     -999,9,     -999,9,     -999,9,     -999,1,  10.0809,2,     -999,9,     -999,9,     -999,9,     -999,9,     -999,1,   4.9674,1,   0.0114,1,     -999,9,     -999,9,     -999,9,     -999,9,     -999,9,20230723,1116, -32.5177, 114.1210,-999          ,9,-999          ,9
33RR20230722  ,I05        ,7       ,  1,20         ,20         ,2,20230723,1000, -32.5176, 114.1210,     3220,    580.5,2,   9.3048,2,  34.6882,2,  34.6863,2,    237.7,2,    238.0,2,     4.98,2,    16.79,2,     0.00,2,     1.16,2,     -999,9,     -999,9,     -999,9,   -999.0,9,     -999,9,     -999,9,     -999,9,     -999,1,   9.3036,2,     -999,9,     -999,9,     -999,9,     -999,9,     -999,1,   4.9667,1,   0.0113,1,     -999,9,     -999,9,     -999,9,     -999,9,     -999,9,20230723,1112, -32.5176, 114.1210,-999          ,9,-999          ,9
33RR20230722  ,I05        ,7       ,  1,19         ,19         ,2,20230723,1000, -32.5176, 114.1210,     3220,    586.0,2,   9.2216,2,  34.6770,2,  34.6759,2,    237.3,2,    237.2,2,     5.56,2,    16.96,2,     0.00,2,     1.17,2,    3.107,2,    1.806,2,   2.1500,2,   2146.3,3,   2290.9,2,   7.7429,2,    25.00,2,     -999,1,   9.2310,2,     -999,9,     -999,9,     -999,9,     -999,9,     -999,1,   4.9667,1,   0.0114,1,     13.2,2,     -999,9,     -999,9,     -999,9,     -999,9,20230723,1111, -32.5176, 114.1210,-999          ,9,-999          ,9
33RR20230722  ,I05        ,7       ,  1,18         ,18         ,2,20230723,1000, -32.5176, 114.1210,     3220,    661.0,2,   8.4259,2,  34.5727,2,  34.5712,2,    224.6,2,    225.5,2,     8.39,2,    19.90,2,     0.00,2,     1.36,2,     -999,9,     -999,9,     -999,9,   -999.0,9,     -999,9,     -999,9,     -999,9,     -999,1,   8.4254,2,     -999,9,     -999,9,     -999,9,     -999,9,     -999,1,   4.9429,1,   0.0113,1,     -999,9,     -999,9,     -999,9,     -999,9,     -999,9,20230723,1108, -32.5176, 114.1210,-999          ,9,-999          ,9
33RR20230722  ,I05        ,7       ,  1,17         ,17         ,2,20230723,1000, -32.5176, 114.1210,     3220,    739.6,2,   7.1585,2,  34.4733,2,  34.4708,2,    203.1,2,    204.5,2,    15.52,2,    24.69,2,     0.00,2,     1.66,2,     -999,9,     -999,9,     -999,9,   -999.0,9,     -999,9,     -999,9,     -999,9,     -999,1,   7.1867,2,     -999,9,     -999,9,     -999,9,     -999,9,     -999,1,   4.9683,1,   0.0112,1,     -999,9,     -999,9,     -999,9,     -999,9,     -999,9,20230723,1105, -32.5176, 114.1209,-999          ,9,-999          ,9
33RR20230722  ,I05        ,7       ,  1,16         ,16         ,2,20230723,1000, -32.5176, 114.1210,     3220,    813.0,2,   5.8809,2,  34.4077,2,  34.4065,2,    194.6,2,    195.0,2,    25.18,2,    28.09,2,     0.00,2,     1.90,2,    1.198,2,    0.667,2,   0.7300,2,   2190.2,3,   2293.6,2,   7.6337,2,    25.00,2,     -999,1,   5.8819,2,     -999,9,     -999,9,     -999,9,     -999,9,     -999,1,   4.8866,1,   0.0112,1,     18.0,2,     -999,9,     -999,9,     -999,9,     -999,9,20230723,1102, -32.5176, 114.1210,-999          ,9,-999          ,9
33RR20230722  ,I05        ,7       ,  1,15         ,15         ,2,20230723,1000, -32.5176, 114.1210,     3220,    888.2,2,   4.8595,2,  34.3682,2,  34.3670,2,    193.9,2,    195.2,2,    34.16,2,    30.39,2,     0.00,2,     2.06,2,     -999,9,     -999,9,     -999,9,   -999.0,9,     -999,9,     -999,9,     -999,9,     -999,1,   4.8567,2,     -999,9,     -999,9,     -999,9,     -999,9,     -999,1,   4.9702,1,   0.0111,1,     -999,9,     -999,9,     -999,9,     -999,9,     -999,9,20230723,1100, -32.5176, 114.1209,-999          ,9,-999          ,9
33RR20230722  ,I05        ,7       ,  1,14         ,14         ,4,20230723,1000, -32.5176, 114.1210,     3220,    966.0,3,   4.3148,3,  34.3871,3,     -999,9,    185.9,3,     -999,9,     -999,9,     -999,9,     -999,9,     -999,9,     -999,9,     -999,9,     -999,9,   -999.0,4,     -999,9,     -999,9,     -999,9,     -999,1,   4.3336,3,     -999,9,     -999,9,     -999,9,     -999,9,     -999,1,   4.8523,1,   0.0112,1,     -999,9,     -999,9,     -999,9,     -999,9,     -999,9,20230723,1057, -32.5176, 114.1210,-999          ,9,-999          ,9
33RR20230722  ,I05        ,7       ,  1,13         ,13         ,2,20230723,1000, -32.5176, 114.1210,     3220,   1039.1,2,   3.8051,2,  34.4143,2,  34.4125,2,    177.6,2,    178.6,2,    52.70,2,    32.93,2,     0.00,2,     2.25,2,    1.065,2,    0.568,2,   0.3900,2,   2228.7,2,   2314.5,2,   7.5825,2,    25.00,2,     -999,1,   3.7919,2,     -999,9,     -999,9,     -999,9,     -999,9,     -999,1,   4.9720,1,   0.0111,1,     22.3,2,     -999,9,     -999,9,     -999,9,     -999,9,20230723,1054, -32.5176, 114.1209,-999          ,9,-999          ,9
33RR20230722  ,I05        ,7       ,  1,12         ,12         ,2,20230723,1000, -32.5176, 114.1210,     3220,   1116.6,2,   3.6686,2,  34.4822,2,  34.4791,2,    160.4,2,    160.3,2,    66.07,2,    33.91,2,     0.00,2,     2.37,2,     -999,9,     -999,9,     -999,9,   -999.0,9,     -999,9,     -999,9,     -999,9,     -999,1,   3.6718,2,     -999,9,     -999,9,     -999,9,     -999,9,     -999,1,   4.8251,1,   0.0112,1,     -999,9,     -999,9,     -999,9,     -999,9,     -999,9,20230723,1051, -32.5176, 114.1209,-999          ,9,-999          ,9
33RR20230722  ,I05        ,7       ,  1,11         ,11         ,2,20230723,1000, -32.5176, 114.1210,     3220,   1190.6,2,   3.5328,2,  34.5181,2,  34.5166,2,    153.3,2,    153.0,2,    72.50,2,    34.60,2,     0.00,2,     2.40,2,     -999,9,     -999,9,     -999,9,   -999.0,9,     -999,9,     -999,9,     -999,9,     -999,1,   3.5325,2,     -999,9,     -999,9,     -999,9,     -999,9,     -999,1,   4.9738,1,   0.0118,1,     -999,9,     -999,9,     -999,9,     -999,9,     -999,9,20230723,1049, -32.5176, 114.1209,-999          ,9,-999          ,9
33RR20230722  ,I05        ,7       ,  1,10         ,10         ,2,20230723,1000, -32.5176, 114.1210,     3220,   1265.5,2,   3.3590,2,  34.5475,2,  34.5449,2,    150.8,2,    150.7,2,    76.80,2,    34.80,2,     0.00,2,     2.41,2,     -999,9,     -999,9,     -999,9,   -999.0,9,     -999,9,     -999,9,     -999,9,     -999,1,   3.3584,2,     -999,9,     -999,9,     -999,9,     -999,9,     -999,1,   4.9742,1,   0.0114,1,     -999,9,     -999,9,     -999,9,     -999,9,     -999,9,20230723,1046, -32.5176, 114.1210,-999          ,9,-999          ,9
33RR20230722  ,I05        ,7       ,  1,9          ,9          ,2,20230723,1000, -32.5176, 114.1210,     3220,   1417.8,2,   3.0825,2,  34.5838,2,  35.0118,4,    152.2,2,    151.9,2,    81.58,2,    34.51,2,     0.00,2,     2.42,2,    0.102,2,    0.038,2,   0.0000,2,   2267.0,3,   2349.9,6,   7.5596,2,    25.00,2,     -999,1,   3.0772,2,     -999,9,     -999,9,     -999,9,     -999,9,     -999,1,   4.9494,1,   0.0118,1,     23.1,2,     -999,9,     -999,9,     -999,9,     -999,9,20230723,1042, -32.5176, 114.1210,-999          ,9,-999          ,9
33RR20230722  ,I05        ,7       ,  1,8          ,8          ,2,20230723,1000, -32.5176, 114.1210,     3220,   1570.6,2,   2.8343,2,  34.6337,2,  34.6311,2,    153.8,2,    153.7,2,    89.48,2,    34.33,2,     0.00,2,     2.37,2,     -999,9,     -999,9,     -999,9,   -999.0,9,     -999,9,     -999,9,     -999,9,     -999,1,   2.8343,2,     -999,9,     -999,9,     -999,9,     -999,9,     -999,1,   4.9645,1,   0.0112,1,     -999,9,     -999,9,     -999,9,     -999,9,     -999,9,20230723,1038, -32.5176, 114.1210,-999          ,9,-999          ,9
33RR20230722  ,I05        ,7       ,  1,7          ,7          ,2,20230723,1000, -32.5176, 114.1210,     3220,   1725.3,2,   2.6251,2,  34.6746,2,  34.6714,2,    156.3,2,    156.2,2,    96.99,2,    33.93,2,     0.00,2,     2.36,2,     -999,9,     -999,9,     -999,9,   -999.0,9,     -999,9,     -999,9,     -999,9,     -999,1,   2.6276,2,     -999,9,     -999,9,     -999,9,     -999,9,     -999,1,   4.6820,1,   0.0123,1,     -999,9,     -999,9,     -999,9,     -999,9,     -999,9,20230723,1034, -32.5176, 114.1210,-999          ,9,-999          ,9
33RR20230722  ,I05        ,7       ,  1,6          ,6          ,2,20230723,1000, -32.5176, 114.1210,     3220,   1876.2,2,   2.4458,2,  34.6984,2,  34.6956,2,    159.5,2,    159.5,2,    98.94,2,    33.05,2,     0.00,2,     2.35,2,   -0.011,2,    0.012,2,   0.0000,2,   2278.2,2,   2369.1,2,   7.5824,6,    25.00,2,     -999,1,   2.4464,2,     -999,9,     -999,9,     -999,9,     -999,9,     -999,1,   4.9748,1,   0.0118,1,     22.4,2,     -999,9,     -999,9,     -999,9,     -999,9,20230723,1030, -32.5177, 114.1209,-999          ,9,-999          ,9
33RR20230722  ,I05        ,7       ,  1,5          ,5          ,2,20230723,1000, -32.5176, 114.1210,     3220,   2126.8,2,   2.2174,2,  34.7175,3,  34.7148,2,    164.3,2,    164.3,2,   106.25,2,    32.94,2,     0.00,2,     2.32,2,     -999,9,     -999,9,     -999,9,   -999.0,9,     -999,9,     -999,9,     -999,9,     -999,1,   2.2163,2,     -999,9,     -999,9,     -999,9,     -999,9,     -999,1,   4.9750,1,   0.0112,1,     -999,9,     -999,9,     -999,9,     -999,9,     -999,9,20230723,1024, -32.5176, 114.1210,-999          ,9,-999          ,9
33RR20230722  ,I05        ,7       ,  1,4          ,4          ,2,20230723,1000, -32.5176, 114.1210,     3220,   2357.8,2,   2.0517,2,  34.7237,3,  34.7215,2,    167.4,2,    167.7,2,   111.72,2,    33.12,2,     0.00,2,     2.30,2,   -0.026,2,    0.007,2,   0.0300,2,   2283.5,3,   2381.5,2,   7.5954,2,    24.98,2,     -999,1,   2.0514,2,     -999,9,     -999,9,     -999,9,     -999,9,     -999,1,   4.9751,1,   0.0118,1,     21.4,2,     -999,9,     -999,9,     -999,9,     -999,9,20230723,1019, -32.5177, 114.1210,-999          ,9,-999          ,9
33RR20230722  ,I05        ,7       ,  1,3          ,3          ,2,20230723,1000, -32.5176, 114.1210,     3220,   2802.3,2,   1.7054,2,  34.7272,3,  34.7248,2,    177.8,2,    178.3,2,   111.03,2,    32.83,2,     0.00,2,     2.27,2,   -0.027,2,    0.004,2,   0.0200,2,   -999.0,9,     -999,9,     -999,9,     -999,9,     -999,1,   1.7072,2,     -999,9,     -999,9,     -999,9,     -999,9,     -999,1,   4.9593,1,   0.0119,1,     19.9,2,     -999,9,     -999,9,     -999,9,     -999,9,20230723,1011, -32.5176, 114.1210,-999          ,9,-999          ,9