BOTTLE,20240422CCHHYDRO
EXPOCODE,SECT_ID,STNNBR,CASTNO,SAMPNO,BTLNBR,BTLNBR_FLAG_W,DATE,TIME,LATITUDE,LONGITUDE,DEPTH,CTDPRS,CTDPRS_FLAG_W,CTDTMP,CTDTMP_FLAG_W,CTDSAL,CTDSAL_FLAG_W,SALNTY,SALNTY_FLAG_W,CTDOXY,CTDOXY_FLAG_W,OXYGEN,OXYGEN_FLAG_W,SILCAT,SILCAT_FLAG_W,NITRAT,NITRAT_FLAG_W,NITRIT,NITRIT_FLAG_W,PHSPHT,PHSPHT_FLAG_W,CFC-11,CFC-11_FLAG_W,CFC-12,CFC-12_FLAG_W,SF6,SF6_FLAG_W,TCARBN,TCARBN_FLAG_W,ALKALI,ALKALI_FLAG_W,PH_TOT,PH_TOT_FLAG_W,PH_TMP,PH_TMP_FLAG_W,DOC,DOC_FLAG_W,REFTMP,REFTMP_FLAG_W,POC,POC_FLAG_W,PON,PON_FLAG_W,POP,POP_FLAG_W,DOP,DOP_FLAG_W,DELO18,DELO18_FLAG_W,CTDFLUOR,CTDFLUOR_FLAG_W,CTDXMISS,CTDXMISS_FLAG_W,N2O,N2O_FLAG_W,D15N_NO3,D15N_NO3_FLAG_W,D15N_NO2+NO3,D15N_NO2+NO3_FLAG_W,D18O_NO2+NO3,D18O_NO2+NO3_FLAG_W,D18O_NO3,D18O_NO3_FLAG_W,BTL_DATE,BTL_TIME,BTL_LAT,BTL_LON,HPLC,HPLC_FLAG_W,DNA,DNA_FLAG_W
,,,,,,,,,,,METERS,DBAR,,ITS-90,,PSS-78,,PSS-78,,UMOL/KG,,UMOL/KG,,UMOL/KG,,UMOL/KG,,UMOL/KG,,UMOL/KG,,PMOL/KG,,PMOL/KG,,FMOL/KG,,UMOL/KG,,UMOL/KG,,,,DEG C,,UMOL/KG,,ITS-90,,UG/KG,,UG/KG,,UG/L,,UMOL/KG,,/MILLE,,VOLTS,,VOLTS,,NMOL/KG,,/MILLE,,/MILLE,,/MILLE,,/MILLE,,,,,,,,,
33RR20230722  ,I05        ,142     ,  1,36         ,38         ,2,20230828,2234, -33.9991,  52.1659,     4440,      7.7,2,  17.0995,2,  35.6304,2,  35.6317,2,    241.0,2,    240.9,2,     1.56,2,     0.05,2,     0.00,2,     0.12,2,     -999,9,     -999,9,     -999,9,   2081.8,2,   2335.8,2,   7.9598,2,    25.04,2,     -999,1,  17.1035,2,     -999,9,     -999,9,     -999,9,     -999,9,     -999,9,   4.6164,1,   0.0360,1,     -999,9,     -999,1,     -999,1,     -999,1,     -999,1,20230829,0035, -33.9991,  52.1659,-999          ,9,-999          ,9
33RR20230722  ,I05        ,142     ,  1,35         ,35         ,2,20230828,2234, -33.9991,  52.1659,     4440,     16.8,2,  17.1210,2,  35.6333,2,  35.6328,2,    241.1,2,    240.9,2,     1.56,2,     0.00,2,     0.00,2,     0.12,2,     -999,9,     -999,9,     -999,9,   -999.0,9,     -999,9,     -999,9,     -999,9,     -999,1,  17.1191,2,     -999,9,     -999,9,     -999,9,     -999,9,     -999,9,   4.8581,1,   0.0373,1,     -999,9,     -999,1,     -999,1,     -999,1,     -999,1,20230829,0034, -33.9991,  52.1659,-999          ,9,-999          ,9
33RR20230722  ,I05        ,142     ,  1,34         ,34         ,2,20230828,2234, -33.9991,  52.1659,     4440,     25.7,2,  16.9922,2,  35.6177,2,  35.6281,2,    241.3,2,    241.4,2,     1.56,2,     0.00,2,     0.00,2,     0.11,2,     -999,9,     -999,9,     -999,9,   -999.0,9,     -999,9,     -999,9,     -999,9,     -999,1,  16.9800,2,     -999,9,     -999,9,     -999,9,     -999,9,     -999,9,   4.9746,1,   0.0405,1,     -999,9,     -999,1,     -999,1,     -999,1,     -999,1,20230829,0033, -33.9991,  52.1659,-999          ,9,-999          ,9
33RR20230722  ,I05        ,142     ,  1,33         ,33         ,2,20230828,2234, -33.9991,  52.1659,     4440,     40.9,2,  16.4188,2,  35.5581,2,  35.5584,2,    246.3,2,    245.1,2,     1.76,2,     0.21,2,     0.06,2,     0.15,2,     -999,9,     -999,9,     -999,9,   2082.0,2,   2331.2,2,   7.9473,2,    25.02,2,     -999,1,  16.4147,2,     -999,9,     -999,9,     -999,9,     -999,9,     -999,9,   4.9753,1,   0.0472,1,     -999,9,     -999,1,     -999,1,     -999,1,     -999,1,20230829,0031, -33.9991,  52.1659,-999          ,9,-999          ,9
33RR20230722  ,I05        ,142     ,  1,32         ,32         ,2,20230828,2234, -33.9991,  52.1659,     4440,     63.8,2,  16.0275,2,  35.5309,2,  35.5318,2,    246.5,2,    245.3,2,     1.85,2,     0.55,2,     0.16,2,     0.17,2,     -999,9,     -999,9,     -999,9,   -999.0,9,     -999,9,     -999,9,     -999,9,     -999,1,  16.0291,2,     -999,9,     -999,9,     -999,9,     -999,9,     -999,9,   4.9746,1,   0.0411,1,     -999,9,     -999,1,     -999,1,     -999,1,     -999,1,20230829,0029, -33.9991,  52.1659,-999          ,9,-999          ,9
33RR20230722  ,I05        ,142     ,  1,31         ,31         ,2,20230828,2234, -33.9991,  52.1659,     4440,     89.9,2,  15.9564,2,  35.5355,2,  35.5362,2,    244.4,2,    242.9,2,     1.95,2,     0.78,2,     0.22,2,     0.17,2,     -999,9,     -999,9,     -999,9,   -999.0,9,     -999,9,     -999,9,     -999,9,     -999,1,  15.9555,2,     -999,9,     -999,9,     -999,9,     -999,9,     -999,9,   4.9739,1,   0.0316,1,     -999,9,     -999,1,     -999,1,     -999,1,     -999,1,20230829,0027, -33.9991,  52.1659,-999          ,9,-999          ,9
33RR20230722  ,I05        ,142     ,  1,30         ,30         ,2,20230828,2234, -33.9991,  52.1659,     4440,    119.1,2,  15.8246,2,  35.5293,2,  35.5308,2,    236.5,2,    237.9,2,     2.05,2,     1.82,2,     0.24,2,     0.24,2,     -999,9,     -999,9,     -999,9,   -999.0,9,     -999,9,     -999,9,     -999,9,     -999,1,  15.8454,2,     -999,9,     -999,9,     -999,9,     -999,9,     -999,9,   4.9720,1,   0.0151,1,     -999,9,     -999,1,     -999,1,     -999,1,     -999,1,20230829,0025, -33.9991,  52.1659,-999          ,9,-999          ,9
33RR20230722  ,I05        ,142     ,  1,29         ,29         ,2,20230828,2234, -33.9991,  52.1659,     4440,    140.3,2,  15.6217,2,  35.5209,2,  35.5241,2,    234.8,2,    235.4,2,     2.34,2,     2.94,2,     0.06,2,     0.29,2,     -999,9,     -999,9,     -999,9,   2097.8,2,   2328.2,2,   7.9136,2,    25.01,2,     -999,1,  15.6245,2,     -999,9,     -999,9,     -999,9,     -999,9,     -999,9,   4.8817,1,   0.0130,1,     -999,9,     -999,1,     -999,1,     -999,1,     -999,1,20230829,0023, -33.9991,  52.1659,-999          ,9,-999          ,9
33RR20230722  ,I05        ,142     ,  1,28         ,28         ,2,20230828,2234, -33.9991,  52.1659,     4440,    161.3,2,  15.6364,2,  35.5373,2,  35.5322,2,    238.3,2,    237.9,2,     2.44,2,     2.86,2,     0.07,2,     0.27,2,     -999,9,     -999,9,     -999,9,   -999.0,9,     -999,9,     -999,9,     -999,9,     -999,1,  15.6313,2,     -999,9,     -999,9,     -999,9,     -999,9,     -999,9,   4.9719,1,   0.0137,1,     -999,9,     -999,1,     -999,1,     -999,1,     -999,1,20230829,0022, -33.9991,  52.1660,-999          ,9,-999          ,9
33RR20230722  ,I05        ,142     ,  1,27         ,27         ,2,20230828,2234, -33.9991,  52.1659,     4440,    190.5,2,  15.6275,2,  35.5407,2,  35.5401,2,    239.2,2,    239.1,2,     2.34,2,     2.84,2,     0.07,2,     0.27,2,     -999,9,     -999,9,     -999,9,   2096.5,2,   2328.9,2,   7.9170,2,    25.04,2,     -999,1,  15.6263,2,     -999,9,     -999,9,     -999,9,     -999,9,     -999,9,   4.9719,1,   0.0149,1,     -999,9,     -999,1,     -999,1,     -999,1,     -999,1,20230829,0020, -33.9991,  52.1659,-999          ,9,-999          ,9
33RR20230722  ,I05        ,142     ,  1,26         ,26         ,2,20230828,2234, -33.9991,  52.1659,     4440,    228.7,2,  15.5296,2,  35.5272,2,  35.5277,2,    237.3,2,    237.9,2,     2.54,2,     3.08,2,     0.02,2,     0.27,2,    2.171,2,    1.426,2,   2.3400,2,   -999.0,9,     -999,9,     -999,9,     -999,9,     -999,1,  15.5256,2,     -999,9,     -999,9,     -999,9,     -999,9,     -999,9,   4.9594,1,   0.0122,1,      8.9,2,     -999,1,     -999,1,     -999,1,     -999,1,20230829,0019, -33.9991,  52.1660,-999          ,9,-999          ,9
33RR20230722  ,I05        ,142     ,  1,25         ,25         ,2,20230828,2234, -33.9991,  52.1659,     4440,    277.9,2,  14.7173,2,  35.4190,2,  35.4237,2,    225.3,2,    227.1,2,     2.93,2,     5.52,2,     0.00,2,     0.45,2,     -999,9,     -999,9,     -999,9,   -999.0,9,     -999,9,     -999,9,     -999,9,     -999,1,  14.7173,2,     -999,9,     -999,9,     -999,9,     -999,9,     -999,9,   4.6728,1,   0.0120,1,     -999,9,     -999,1,     -999,1,     -999,1,     -999,1,20230829,0017, -33.9991,  52.1660,-999          ,9,-999          ,9
33RR20230722  ,I05        ,142     ,  1,24         ,24         ,2,20230828,2234, -33.9991,  52.1659,     4440,    335.9,2,  14.0900,2,  35.3459,2,  35.3461,2,    225.0,2,    226.4,2,     3.12,2,     6.82,2,     0.00,2,     0.55,2,     -999,9,     -999,9,     -999,9,   -999.0,9,     -999,9,     -999,9,     -999,9,     -999,1,  14.0890,2,     -999,9,     -999,9,     -999,9,     -999,9,     -999,9,   4.9683,1,   0.0118,1,     -999,9,     -999,1,     -999,1,     -999,1,     -999,1,20230829,0014, -33.9991,  52.1659,-999          ,9,-999          ,9
33RR20230722  ,I05        ,142     ,  1,23         ,23         ,2,20230828,2234, -33.9991,  52.1659,     4440,    405.6,2,  13.6949,2,  35.3122,2,  35.3131,2,    234.3,2,    234.0,2,     3.12,2,     7.06,2,     0.00,2,     0.55,2,    2.484,2,    1.571,2,   2.3600,2,   2118.5,2,   2317.9,2,   7.8573,2,    25.01,2,     -999,1,  13.6952,2,     -999,9,     -999,9,     -999,9,     -999,9,     -999,9,   4.9684,1,   0.0117,1,      9.8,2,     -999,1,     -999,1,     -999,1,     -999,1,20230829,0012, -33.9991,  52.1659,-999          ,9,-999          ,9
33RR20230722  ,I05        ,142     ,  1,22         ,22         ,2,20230828,2234, -33.9991,  52.1659,     4440,    486.0,2,  13.0980,2,  35.2244,2,  35.2264,2,    231.5,2,    231.3,2,     3.61,2,     8.60,2,     0.00,2,     0.64,2,     -999,9,     -999,9,     -999,9,   -999.0,9,     -999,9,     -999,9,     -999,9,     -999,1,  13.0969,2,     -999,9,     -999,9,     -999,9,     -999,9,     -999,9,   4.8291,1,   0.0117,1,     -999,9,     -999,1,     -999,1,     -999,1,     -999,1,20230829,0009, -33.9991,  52.1659,-999          ,9,-999          ,9
33RR20230722  ,I05        ,142     ,  1,21         ,21         ,2,20230828,2234, -33.9991,  52.1659,     4440,    575.8,2,  12.3780,2,  35.1093,2,  35.1100,2,    225.7,2,    225.7,2,     4.00,2,    10.75,2,     0.00,2,     0.79,2,     -999,9,     -999,9,     -999,9,   2129.2,2,   2309.4,2,   7.8149,2,    25.02,2,     -999,1,  12.3778,2,     -999,9,     -999,9,     -999,9,     -999,9,     -999,9,   4.9667,1,   0.0114,1,     -999,9,     -999,1,     -999,1,     -999,1,     -999,1,20230829,0006, -33.9991,  52.1660,-999          ,9,-999          ,9
33RR20230722  ,I05        ,142     ,  1,20         ,20         ,2,20230828,2234, -33.9991,  52.1659,     4440,    674.7,2,  11.2011,2,  34.9321,2,  34.9331,2,    221.8,2,    222.0,2,     4.98,2,    13.73,2,     0.00,2,     0.98,2,    2.827,2,    1.763,2,   1.9000,2,   -999.0,9,     -999,9,     -999,9,     -999,9,     -999,1,  11.2031,2,     -999,9,     -999,9,     -999,9,     -999,9,     -999,9,   4.9665,1,   0.0116,1,     12.2,2,     -999,1,     -999,1,     -999,1,     -999,1,20230829,0003, -33.9991,  52.1659,-999          ,9,-999          ,9
33RR20230722  ,I05        ,142     ,  1,19         ,19         ,2,20230828,2234, -33.9991,  52.1659,     4440,    780.6,2,   9.9378,2,  34.7647,2,  34.7657,2,    218.5,2,    218.2,2,     6.93,2,    16.99,2,     0.00,2,     1.19,2,     -999,9,     -999,9,     -999,9,   2145.6,2,   2292.9,2,   7.7488,2,    25.01,2,     -999,1,   9.9383,2,     -999,9,     -999,9,     -999,9,     -999,9,     -999,9,   4.9670,1,   0.0113,1,     -999,9,     -999,1,     -999,1,     -999,1,     -999,1,20230829,0000, -33.9991,  52.1659,-999          ,9,-999          ,9
33RR20230722  ,I05        ,142     ,  1,18         ,18         ,2,20230828,2234, -33.9991,  52.1659,     4440,    895.0,2,   8.6460,2,  34.6283,2,  34.6286,2,    211.2,2,    211.1,2,    10.64,2,    20.75,2,     0.00,2,     1.42,2,     -999,9,     -999,9,     -999,9,   -999.0,9,     -999,9,     -999,9,     -999,9,     -999,1,   8.6481,2,     -999,9,     -999,9,     -999,9,     -999,9,     -999,9,   4.9681,1,   0.0116,1,     -999,9,     -999,1,     -999,1,     -999,1,     -999,1,20230828,2357, -33.9991,  52.1659,-999          ,9,-999          ,9
33RR20230722  ,I05        ,142     ,  1,17         ,17         ,2,20230828,2234, -33.9991,  52.1659,     4440,   1012.1,2,   7.3089,2,  34.5093,2,  34.5101,2,    206.2,2,    206.6,2,    16.49,2,    24.39,2,     0.00,2,     1.67,2,    2.763,2,    1.586,2,   1.2100,2,   2171.3,2,   2289.5,2,   7.6741,2,    25.02,2,     -999,1,   7.3131,2,     -999,9,     -999,9,     -999,9,     -999,9,     -999,9,   4.9690,1,   0.0120,1,     16.5,2,     -999,1,     -999,1,     -999,1,     -999,1,20230828,2353, -33.9991,  52.1659,-999          ,9,-999          ,9
33RR20230722  ,I05        ,142     ,  1,16         ,16         ,2,20230828,2234, -33.9991,  52.1659,     4440,   1133.8,2,   5.4607,2,  34.3981,2,  34.3986,2,    201.0,2,    201.0,2,    28.31,2,    28.95,2,     0.00,2,     1.99,2,     -999,9,     -999,9,     -999,9,   -999.0,9,     -999,9,     -999,9,     -999,9,     -999,1,   5.4564,2,     -999,9,     -999,9,     -999,9,     -999,9,     -999,9,   4.9704,1,   0.0113,1,     -999,9,     -999,1,     -999,1,     -999,1,     -999,1,20230828,2350, -33.9991,  52.1660,-999          ,9,-999          ,9
33RR20230722  ,I05        ,142     ,  1,15         ,15         ,2,20230828,2234, -33.9991,  52.1659,     4440,   1267.3,2,   4.5456,2,  34.3924,2,  34.3929,2,    193.6,2,    194.0,2,    38.07,2,    31.08,2,     0.00,2,     2.17,2,    1.646,2,    1.034,2,   0.4800,2,   2209.8,2,   2302.8,2,   7.6074,6,    25.04,2,     -999,1,   4.5427,2,     -999,9,     -999,9,     -999,9,     -999,9,     -999,9,   4.9713,1,   0.0124,1,     20.5,2,     -999,1,     -999,1,     -999,1,     -999,1,20230828,2346, -33.9991,  52.1660,-999          ,9,-999          ,9
33RR20230722  ,I05        ,142     ,  1,14         ,14         ,2,20230828,2234, -33.9991,  52.1659,     4440,   1407.1,2,   3.8533,2,  34.4336,2,  34.4349,2,    182.9,2,    183.2,2,    49.78,2,    32.73,2,     0.00,2,     2.25,2,     -999,9,     -999,9,     -999,9,   -999.0,9,     -999,9,     -999,9,     -999,9,     -999,1,   3.8523,2,     -999,9,     -999,9,     -999,9,     -999,9,     -999,9,   4.6102,1,   0.0111,1,     -999,9,     -999,1,     -999,1,     -999,1,     -999,1,20230828,2343, -33.9991,  52.1659,-999          ,9,-999          ,9
33RR20230722  ,I05        ,142     ,  1,13         ,13         ,2,20230828,2234, -33.9991,  52.1659,     4440,   1552.3,2,   3.3287,2,  34.5053,2,  34.5076,2,    175.7,2,    175.4,2,    60.71,2,    33.37,2,     0.00,2,     2.29,2,    0.828,2,    0.426,2,   0.1800,2,   2239.4,6,   2323.1,2,   7.5782,2,    25.00,2,     -999,1,   3.3291,2,     -999,9,     -999,9,     -999,9,     -999,9,     -999,9,   4.9084,1,   0.0112,1,     21.9,2,     -999,1,     -999,1,     -999,1,     -999,1,20230828,2339, -33.9991,  52.1659,-999          ,9,-999          ,9
33RR20230722  ,I05        ,142     ,  1,12         ,12         ,2,20230828,2234, -33.9991,  52.1659,     4440,   1697.1,2,   3.0233,2,  34.5633,2,  34.5629,2,    173.9,2,    173.9,2,    68.41,2,    33.36,2,     0.00,2,     2.30,2,     -999,9,     -999,9,     -999,9,   -999.0,9,     -999,9,     -999,9,     -999,9,     -999,1,   3.0278,2,     -999,9,     -999,9,     -999,9,     -999,9,     -999,9,   4.9744,1,   0.0113,1,     -999,9,     -999,1,     -999,1,     -999,1,     -999,1,20230828,2335, -33.9991,  52.1659,-999          ,9,-999          ,9
33RR20230722  ,I05        ,142     ,  1,11         ,11         ,2,20230828,2234, -33.9991,  52.1659,     4440,   1855.3,2,   2.7965,2,  34.6142,2,  34.6142,2,    175.5,2,    175.6,2,    73.49,2,    32.87,2,     0.00,2,     2.29,2,    0.352,2,    0.179,2,   0.0700,2,   2248.6,2,   2337.7,6,   7.5851,2,    25.03,2,     -999,1,   2.7972,2,     -999,9,     -999,9,     -999,9,     -999,9,     -999,9,   4.9316,1,   0.0113,1,     21.7,2,     -999,1,     -999,1,     -999,1,     -999,1,20230828,2331, -33.9991,  52.1659,-999          ,9,-999          ,9
33RR20230722  ,I05        ,142     ,  1,10         ,10         ,2,20230828,2234, -33.9991,  52.1659,     4440,   2044.4,2,   2.5997,2,  34.6610,2,  34.6624,2,    179.1,2,    178.8,2,    78.46,2,    32.25,2,     0.00,2,     2.23,2,     -999,9,     -999,9,     -999,9,   -999.0,9,     -999,9,     -999,9,     -999,9,     -999,1,   2.5995,2,     -999,9,     -999,9,     -999,9,     -999,9,     -999,9,   4.9742,1,   0.0118,1,     -999,9,     -999,1,     -999,1,     -999,1,     -999,1,20230828,2327, -33.9991,  52.1660,-999          ,9,-999          ,9
33RR20230722  ,I05        ,142     ,  1,9          ,9          ,2,20230828,2234, -33.9991,  52.1659,     4440,   2277.5,2,   2.3856,2,  34.7050,2,  34.7056,2,    184.7,2,    185.0,2,    83.14,2,    31.49,2,     0.00,2,     2.19,2,    0.124,2,    0.073,2,   0.0300,2,   2251.8,2,   2349.0,2,   7.6070,6,    25.02,2,     -999,1,   2.3847,2,     -999,9,     -999,9,     -999,9,     -999,9,     -999,9,   4.6614,1,   0.0113,1,     19.9,2,     -999,1,     -999,1,     -999,1,     -999,1,20230828,2322, -33.9990,  52.1659,-999          ,9,-999          ,9
33RR20230722  ,I05        ,142     ,  1,8          ,8          ,2,20230828,2234, -33.9991,  52.1659,     4440,   2550.3,2,   2.1474,2,  34.7340,2,  34.7343,2,    191.8,2,    192.0,2,    87.63,2,    30.85,2,     0.00,2,     2.15,2,     -999,9,     -999,9,     -999,9,   -999.0,9,     -999,9,     -999,9,     -999,9,     -999,1,   2.1475,2,     -999,9,     -999,9,     -999,9,     -999,9,     -999,9,   4.9151,1,   0.0112,1,     -999,9,     -999,1,     -999,1,     -999,1,     -999,1,20230828,2316, -33.9991,  52.1659,-999          ,9,-999          ,9
33RR20230722  ,I05        ,142     ,  1,7          ,7          ,2,20230828,2234, -33.9991,  52.1659,     4440,   2860.9,2,   1.8613,2,  34.7391,2,  34.7394,2,    194.5,2,    194.5,2,    97.00,2,    31.05,2,     0.00,2,     2.15,2,    0.089,2,    0.045,2,   0.0000,2,   2249.4,2,   2357.5,2,   7.6193,2,    25.02,2,     -999,1,   1.8622,2,     -999,9,     -999,9,     -999,9,     -999,9,     -999,9,   4.9015,1,   0.0120,1,     18.7,2,     -999,1,     -999,1,     -999,1,     -999,1,20230828,2309, -33.9991,  52.1659,-999          ,9,-999          ,9
33RR20230722  ,I05        ,142     ,  1,6          ,6          ,2,20230828,2234, -33.9991,  52.1659,     4440,   3203.9,2,   1.5720,2,  34.7307,2,  34.7317,2,    197.9,2,    198.2,2,   105.10,2,    31.48,2,     0.00,2,     2.17,2,     -999,9,     -999,9,     -999,9,   -999.0,9,     -999,9,     -999,9,     -999,9,     -999,1,   1.5726,2,     -999,9,     -999,9,     -999,9,     -999,9,     -999,9,   4.9753,1,   0.0112,1,     -999,9,     -999,1,     -999,1,     -999,1,     -999,1,20230828,2302, -33.9991,  52.1660,-999          ,9,-999          ,9
33RR20230722  ,I05        ,142     ,  1,5          ,5          ,2,20230828,2234, -33.9991,  52.1659,     4440,   3549.7,2,   1.3208,2,  34.7213,2,  34.7217,2,    202.6,2,    202.8,2,   112.22,2,    31.72,2,     0.00,2,     2.19,2,    0.116,2,    0.068,2,   0.0200,2,   2260.4,2,   2362.0,2,   7.6168,2,    25.02,2,     -999,1,   1.3207,2,     -999,9,     -999,9,     -999,9,     -999,9,     -999,9,   4.9755,1,   0.0113,1,     18.8,2,     -999,1,     -999,1,     -999,1,     -999,1,20230828,2255, -33.9991,  52.1660,-999          ,9,-999          ,9
33RR20230722  ,I05        ,142     ,  1,4          ,37         ,2,20230828,2234, -33.9991,  52.1659,     4440,   3891.7,2,   1.2095,2,  34.7161,2,  34.7164,2,    205.1,2,    205.5,2,   115.34,2,    31.83,2,     0.00,2,     2.20,2,    0.154,2,    0.077,2,   0.0700,2,   -999.0,9,     -999,9,     -999,9,     -999,9,     -999,1,   1.2093,2,     -999,9,     -999,9,     -999,9,     -999,9,     -999,9,   4.9758,1,   0.0113,1,     18.4,2,     -999,1,     -999,1,     -999,1,     -999,1,20230828,2248, -33.9991,  52.1659,-999          ,9,-999          ,9
33RR20230722  ,I05        ,142     ,  1,3          ,3          ,2,20230828,2234, -33.9991,  52.1659,     4440,   4186.0,2,   1.1461,2,  34.7122,2,  34.7138,2,    206.3,2,    206.7,2,   117.78,2,    31.96,2,     0.00,2,     2.22,2,     -999,9,     -999,9,     -999,9,   2262.2,2,   2362.2,2,   7.6148,2,    24.99,2,     -999,1,   1.1458,2,     -999,9,     -999,9,     -999,9,     -999,9,     -999,9,   4.8323,1,   0.0112,1,     -999,9,     -999,1,     -999,1,     -999,1,     -999,1,20230828,2242, -33.9991,  52.1659,-999          ,9,-999          ,9