BOTTLE,20240422CCHHYDRO
EXPOCODE,SECT_ID,STNNBR,CASTNO,SAMPNO,BTLNBR,BTLNBR_FLAG_W,DATE,TIME,LATITUDE,LONGITUDE,DEPTH,CTDPRS,CTDPRS_FLAG_W,CTDTMP,CTDTMP_FLAG_W,CTDSAL,CTDSAL_FLAG_W,SALNTY,SALNTY_FLAG_W,CTDOXY,CTDOXY_FLAG_W,OXYGEN,OXYGEN_FLAG_W,SILCAT,SILCAT_FLAG_W,NITRAT,NITRAT_FLAG_W,NITRIT,NITRIT_FLAG_W,PHSPHT,PHSPHT_FLAG_W,CFC-11,CFC-11_FLAG_W,CFC-12,CFC-12_FLAG_W,SF6,SF6_FLAG_W,TCARBN,TCARBN_FLAG_W,ALKALI,ALKALI_FLAG_W,PH_TOT,PH_TOT_FLAG_W,PH_TMP,PH_TMP_FLAG_W,DOC,DOC_FLAG_W,REFTMP,REFTMP_FLAG_W,POC,POC_FLAG_W,PON,PON_FLAG_W,POP,POP_FLAG_W,DOP,DOP_FLAG_W,DELO18,DELO18_FLAG_W,CTDFLUOR,CTDFLUOR_FLAG_W,CTDXMISS,CTDXMISS_FLAG_W,N2O,N2O_FLAG_W,D15N_NO3,D15N_NO3_FLAG_W,D15N_NO2+NO3,D15N_NO2+NO3_FLAG_W,D18O_NO2+NO3,D18O_NO2+NO3_FLAG_W,D18O_NO3,D18O_NO3_FLAG_W,BTL_DATE,BTL_TIME,BTL_LAT,BTL_LON,HPLC,HPLC_FLAG_W,DNA,DNA_FLAG_W
,,,,,,,,,,,METERS,DBAR,,ITS-90,,PSS-78,,PSS-78,,UMOL/KG,,UMOL/KG,,UMOL/KG,,UMOL/KG,,UMOL/KG,,UMOL/KG,,PMOL/KG,,PMOL/KG,,FMOL/KG,,UMOL/KG,,UMOL/KG,,,,DEG C,,UMOL/KG,,ITS-90,,UG/KG,,UG/KG,,UG/L,,UMOL/KG,,/MILLE,,VOLTS,,VOLTS,,NMOL/KG,,/MILLE,,/MILLE,,/MILLE,,/MILLE,,,,,,,,,
33RR20230722  ,I05        ,87      ,  1,33         ,33         ,2,20230813,1921, -31.3030,  77.4004,     3123,      5.1,2,  17.9282,2,  35.7274,2,  35.7278,2,    236.8,2,    236.3,2,     1.07,2,     0.06,2,     0.00,2,     0.12,2,    1.601,4,    1.293,2,   2.2400,2,   2077.9,6,   2346.2,2,   7.9708,2,    24.99,2,     -999,1,  17.9233,2,     -999,9,     -999,9,     -999,9,     -999,1,     -999,1,   4.9752,1,   0.0153,1,      7.7,2,     -999,9,     -999,9,     -999,9,     -999,9,20230813,2100, -31.3030,  77.4004,-999          ,9,-999          ,9
33RR20230722  ,I05        ,87      ,  1,32         ,32         ,2,20230813,1921, -31.3030,  77.4004,     3123,     19.1,2,  17.9328,2,  35.7286,2,  35.7286,2,    236.6,2,    236.5,2,     1.07,2,     0.03,2,     0.00,2,     0.10,2,     -999,9,     -999,9,     -999,9,   -999.0,9,     -999,9,     -999,9,     -999,9,     -999,9,  17.9324,2,     -999,9,     -999,9,     -999,9,     -999,9,     -999,1,   4.9751,1,   0.0159,1,     -999,9,     -999,9,     -999,9,     -999,9,     -999,9,20230813,2058, -31.3030,  77.4005,-999          ,9,-999          ,9
33RR20230722  ,I05        ,87      ,  1,31         ,31         ,2,20230813,1921, -31.3030,  77.4004,     3123,     34.8,2,  17.9367,2,  35.7291,2,  35.7239,2,    236.7,2,    236.9,2,     0.98,2,     0.00,2,     0.00,2,     0.10,2,    2.017,3,    1.284,2,   2.2900,2,   2076.2,2,   2344.8,2,   7.9708,2,    25.01,2,     -999,9,  17.9357,2,     -999,9,     -999,9,     -999,9,     -999,1,     -999,1,   4.9559,1,   0.0153,1,      7.8,2,     -999,9,     -999,9,     -999,9,     -999,9,20230813,2056, -31.3030,  77.4005,-999          ,9,-999          ,9
33RR20230722  ,I05        ,87      ,  1,30         ,30         ,2,20230813,1921, -31.3030,  77.4004,     3123,     57.1,2,  17.6083,2,  35.6610,2,  35.6538,2,    239.0,2,    238.6,2,     0.88,2,     0.00,2,     0.00,2,     0.13,2,     -999,9,     -999,9,     -999,9,   -999.0,9,     -999,9,     -999,9,     -999,9,     -999,9,  17.6065,2,     -999,9,     -999,9,     -999,9,     -999,1,     -999,1,   4.8698,1,   0.0176,1,     -999,9,     -999,9,     -999,9,     -999,9,     -999,9,20230813,2055, -31.3030,  77.4005,-999          ,9,-999          ,9
33RR20230722  ,I05        ,87      ,  1,29         ,29         ,2,20230813,1921, -31.3030,  77.4004,     3123,     79.0,2,  17.2317,2,  35.5929,2,     -999,5,    240.7,2,    240.5,2,     0.78,2,     0.00,2,     0.00,2,     0.13,2,    1.715,3,    1.341,2,   2.3000,2,   2081.1,2,   2338.8,2,   7.9566,2,    25.02,2,     -999,9,  17.2299,2,     -999,9,     -999,9,     -999,9,     -999,1,     -999,1,   4.8340,1,   0.0323,1,      8.0,2,     -999,9,     -999,9,     -999,9,     -999,9,20230813,2052, -31.3030,  77.4005,-999          ,9,-999          ,9
33RR20230722  ,I05        ,87      ,  1,28         ,28         ,2,20230813,1921, -31.3030,  77.4004,     3123,    102.9,2,  15.8092,2,  35.5222,2,  35.5214,2,    241.5,2,    242.0,2,     0.88,2,     0.51,2,     0.11,2,     0.24,2,     -999,9,     -999,9,     -999,9,   -999.0,9,     -999,9,     -999,9,     -999,9,     -999,9,  15.7631,2,     -999,9,     -999,9,     -999,9,     -999,9,     -999,1,   4.9733,1,   0.0377,1,     -999,9,     -999,9,     -999,9,     -999,9,     -999,9,20230813,2050, -31.3030,  77.4005,-999          ,9,-999          ,9
33RR20230722  ,I05        ,87      ,  1,27         ,27         ,2,20230813,1921, -31.3030,  77.4004,     3123,    133.9,2,  14.7967,2,  35.4389,2,  35.4411,2,    230.6,2,    232.0,2,     1.17,2,     2.66,2,     0.05,2,     0.37,2,     -999,9,     -999,9,     -999,9,   2109.4,2,   2328.3,2,   7.8848,6,    25.00,2,     -999,9,  14.8011,2,     -999,9,     -999,9,     -999,9,     -999,1,     -999,1,   4.8604,1,   0.0267,1,     -999,9,     -999,9,     -999,9,     -999,9,     -999,9,20230813,2048, -31.3030,  77.4004,-999          ,9,-999          ,9
33RR20230722  ,I05        ,87      ,  1,26         ,26         ,2,20230813,1921, -31.3030,  77.4004,     3123,    165.4,2,  13.9136,2,  35.3189,2,  35.3124,2,    230.8,2,    232.0,2,     1.37,2,     4.85,2,     0.01,2,     0.47,2,    2.089,3,    1.560,2,   2.4200,2,   2117.7,2,   2322.0,2,   7.8585,6,    24.99,2,     -999,9,  13.9236,2,     -999,9,     -999,9,     -999,9,     -999,9,     -999,1,   4.9156,1,   0.0148,1,     10.1,2,     -999,9,     -999,9,     -999,9,     -999,9,20230813,2046, -31.3030,  77.4004,-999          ,9,-999          ,9
33RR20230722  ,I05        ,87      ,  1,25         ,25         ,2,20230813,1921, -31.3030,  77.4004,     3123,    199.5,2,  13.3229,2,  35.2303,2,  35.2306,2,    234.2,2,    234.8,2,     1.95,2,     6.36,2,     0.00,2,     0.56,2,     -999,9,     -999,9,     -999,9,   2118.3,2,   2317.1,6,   7.8455,2,    25.01,2,     -999,9,  13.3215,2,     -999,9,     -999,9,     -999,9,     -999,9,     -999,1,   4.9694,1,   0.0142,1,     -999,9,     -999,9,     -999,9,     -999,9,     -999,9,20230813,2040, -31.3030,  77.4004,-999          ,9,-999          ,9
33RR20230722  ,I05        ,87      ,  1,24         ,24         ,2,20230813,1921, -31.3030,  77.4004,     3123,    237.6,2,  12.9032,2,  35.1803,2,  35.1800,2,    236.4,2,    236.9,2,     2.54,2,     7.56,2,     0.00,2,     0.64,2,    2.721,4,    1.640,2,   2.4900,2,   -999.0,9,     -999,9,     -999,9,     -999,9,     -999,9,  12.9043,2,     -999,9,     -999,9,     -999,9,     -999,9,     -999,1,   4.8720,1,   0.0116,1,     10.8,2,     -999,9,     -999,9,     -999,9,     -999,9,20230813,2039, -31.3030,  77.4004,-999          ,9,-999          ,9
33RR20230722  ,I05        ,87      ,  1,23         ,23         ,2,20230813,1921, -31.3030,  77.4004,     3123,    271.9,2,  12.6008,2,  35.1378,2,  35.1368,2,    237.4,2,    237.4,2,     2.54,2,     8.21,2,     0.00,2,     0.66,2,    2.235,3,    1.661,2,   2.4600,2,   2121.1,2,   2310.4,2,   7.8284,2,    25.01,2,     -999,9,  12.6011,2,     -999,9,     -999,9,     -999,9,     -999,1,     -999,1,   4.9348,1,   0.0117,1,     11.1,2,     -999,9,     -999,9,     -999,9,     -999,9,20230813,2037, -31.3030,  77.4004,-999          ,9,-999          ,9
33RR20230722  ,I05        ,87      ,  1,22         ,22         ,2,20230813,1921, -31.3030,  77.4004,     3123,    321.9,2,  12.2825,2,  35.0899,2,  35.0896,2,    238.5,2,    238.4,2,     2.73,2,     8.95,2,     0.00,2,     0.71,2,     -999,9,     -999,9,     -999,9,   -999.0,9,     -999,9,     -999,9,     -999,9,     -999,9,  12.2790,2,     -999,9,     -999,9,     -999,9,     -999,9,     -999,1,   4.9684,1,   0.0115,1,     -999,9,     -999,9,     -999,9,     -999,9,     -999,9,20230813,2035, -31.3030,  77.4004,-999          ,9,-999          ,9
33RR20230722  ,I05        ,87      ,  1,21         ,21         ,2,20230813,1921, -31.3030,  77.4004,     3123,    395.8,2,  11.8371,2,  35.0244,2,  35.0258,2,    236.1,2,    236.3,2,     3.03,2,    10.24,2,     0.00,2,     0.80,2,    2.453,3,    1.741,6,   2.3200,6,   2124.2,2,   2306.7,2,   7.8108,2,    25.01,2,     -999,9,  11.8360,2,     -999,9,     -999,9,     -999,9,     -999,9,     -999,1,   4.6681,1,   0.0115,1,     11.2,6,     -999,9,     -999,9,     -999,9,     -999,9,20230813,2032, -31.3030,  77.4005,-999          ,9,-999          ,9
33RR20230722  ,I05        ,87      ,  1,20         ,20         ,2,20230813,1921, -31.3030,  77.4004,     3123,    452.7,2,  11.5255,2,  34.9782,2,  34.9750,2,    236.2,2,    236.3,2,     3.22,2,    11.11,2,     0.00,2,     0.84,2,    2.331,3,    1.763,2,   2.2500,2,   -999.0,9,     -999,9,     -999,9,     -999,9,     -999,9,  11.5197,2,     -999,9,     -999,9,     -999,9,     -999,9,     -999,1,   4.9676,1,   0.0117,1,     11.4,2,     -999,9,     -999,9,     -999,9,     -999,9,20230813,2030, -31.3030,  77.4005,-999          ,9,-999          ,9
33RR20230722  ,I05        ,87      ,  1,19         ,19         ,2,20230813,1921, -31.3030,  77.4004,     3123,    513.4,2,  11.1666,2,  34.9212,2,  34.9197,2,    235.8,2,    235.5,2,     -999,5,     -999,5,     -999,5,     -999,5,     -999,9,     -999,9,     -999,9,   2127.9,2,   2300.6,2,   7.7916,2,    25.02,2,     -999,9,  11.1668,2,     -999,9,     -999,9,     -999,9,     -999,9,     -999,1,   4.9670,1,   0.0113,1,     -999,9,     -999,9,     -999,9,     -999,9,     -999,9,20230813,2027, -31.3030,  77.4005,-999          ,9,-999          ,9
33RR20230722  ,I05        ,87      ,  1,18         ,18         ,2,20230813,1921, -31.3030,  77.4004,     3123,    587.3,2,  10.6584,2,  34.8503,2,  34.8475,2,    232.9,2,    232.7,2,     4.00,2,    13.70,2,     0.00,2,     1.01,2,    2.625,3,    1.835,2,   2.1600,2,   2130.7,2,   2297.8,2,   7.7770,2,    24.98,2,     -999,9,  10.6564,2,     -999,9,     -999,9,     -999,9,     -999,9,     -999,1,   4.9545,1,   0.0112,1,     11.9,2,     -999,9,     -999,9,     -999,9,     -999,9,20230813,2024, -31.3030,  77.4004,-999          ,9,-999          ,9
33RR20230722  ,I05        ,87      ,  1,17         ,17         ,2,20230813,1921, -31.3030,  77.4004,     3123,    681.1,2,   9.7570,2,  34.7321,2,  34.7321,2,    226.7,2,    227.1,2,     5.27,2,    16.35,2,     0.00,2,     1.16,2,     -999,9,     -999,9,     -999,9,   2138.3,2,   2292.1,2,   7.7512,2,    25.01,2,     -999,9,   9.7562,2,     -999,9,     -999,9,     -999,9,     -999,9,     -999,1,   4.9667,1,   0.0112,1,     -999,9,     -999,9,     -999,9,     -999,9,     -999,9,20230813,2021, -31.3030,  77.4005,-999          ,9,-999          ,9
33RR20230722  ,I05        ,87      ,  1,16         ,16         ,2,20230813,1921, -31.3030,  77.4004,     3123,    781.4,2,   8.8380,2,  34.6266,2,  34.6219,2,    215.6,2,    215.7,2,     8.39,2,    19.88,2,     0.00,2,     1.39,2,    3.353,3,    1.798,2,   1.5100,2,   -999.0,9,     -999,9,     -999,9,     -999,9,     -999,9,   8.8368,2,     -999,9,     -999,9,     -999,9,     -999,9,     -999,1,   4.9376,1,   0.0112,1,     14.4,2,     -999,9,     -999,9,     -999,9,     -999,9,20230813,2018, -31.3030,  77.4004,-999          ,9,-999          ,9
33RR20230722  ,I05        ,87      ,  1,15         ,15         ,2,20230813,1921, -31.3030,  77.4004,     3123,    888.1,2,   7.3527,2,  34.4963,2,  34.4976,2,    203.3,2,    204.0,2,    14.84,2,    24.35,2,     0.00,2,     1.69,2,    2.827,3,    1.604,2,   1.0000,2,   2166.7,2,   2287.0,2,   7.6728,2,    25.00,2,     -999,9,   7.3670,2,     -999,9,     -999,9,     -999,9,     -999,9,     -999,1,   4.9689,1,   0.0111,1,     16.2,2,     -999,9,     -999,9,     -999,9,     -999,9,20230813,2015, -31.3030,  77.4005,-999          ,9,-999          ,9
33RR20230722  ,I05        ,87      ,  1,14         ,14         ,2,20230813,1921, -31.3030,  77.4004,     3123,    990.4,2,   5.8176,2,  34.3933,2,  34.3923,2,    201.5,2,    201.2,2,    23.43,2,    28.14,2,     0.00,2,     1.93,2,     -999,9,     -999,9,     -999,9,   -999.0,9,     -999,9,     -999,9,     -999,9,     -999,9,   5.8267,2,     -999,9,     -999,9,     -999,9,     -999,9,     -999,1,   4.9234,1,   0.0110,1,     -999,9,     -999,9,     -999,9,     -999,9,     -999,9,20230813,2012, -31.3030,  77.4005,-999          ,9,-999          ,9
33RR20230722  ,I05        ,87      ,  1,13         ,13         ,2,20230813,1921, -31.3030,  77.4004,     3123,   1080.1,2,   4.7709,2,  34.3613,2,  34.3619,2,    197.6,2,    197.5,2,    32.51,2,    30.43,2,     0.00,2,     2.08,2,    2.288,3,    1.139,2,   0.7700,2,   2197.2,2,   2293.7,2,   7.6101,6,    25.01,2,     -999,9,   4.7691,2,     -999,9,     -999,9,     -999,9,     -999,9,     -999,1,   4.9707,1,   0.0110,1,     19.5,2,     -999,9,     -999,9,     -999,9,     -999,9,20230813,2009, -31.3030,  77.4005,-999          ,9,-999          ,9
33RR20230722  ,I05        ,87      ,  1,12         ,12         ,2,20230813,1921, -31.3030,  77.4004,     3123,   1180.8,2,   4.0458,2,  34.3765,2,  34.3772,2,    190.5,2,    190.5,2,    42.47,2,    32.06,2,     0.00,2,     2.22,2,    1.417,2,    0.914,2,   0.5300,2,   2212.0,2,   2304.4,2,   7.5925,2,    25.01,2,     -999,9,   4.0469,2,     -999,9,     -999,9,     -999,9,     -999,9,     -999,1,   4.9714,1,   0.0111,1,     20.7,2,     -999,9,     -999,9,     -999,9,     -999,9,20230813,2006, -31.3030,  77.4004,-999          ,9,-999          ,9
33RR20230722  ,I05        ,87      ,  1,11         ,11         ,2,20230813,1921, -31.3030,  77.4004,     3123,   1291.7,2,   3.6096,2,  34.4272,2,  34.4267,2,    178.6,2,    178.9,2,    53.01,2,    33.26,2,     0.00,2,     2.30,2,    1.013,2,    0.626,2,   0.3200,2,   2226.6,2,   2315.4,2,   7.5769,6,    25.00,2,     -999,9,   3.6126,2,     -999,9,     -999,9,     -999,9,     -999,9,     -999,1,   4.8864,1,   0.0117,1,     21.9,2,     -999,9,     -999,9,     -999,9,     -999,9,20230813,2003, -31.3030,  77.4004,-999          ,9,-999          ,9
33RR20230722  ,I05        ,87      ,  1,10         ,10         ,2,20230813,1921, -31.3030,  77.4004,     3123,   1410.5,2,   3.3049,2,  34.4935,2,  34.4928,2,    167.7,2,    167.5,2,    63.65,2,    33.97,2,     0.00,2,     2.38,2,     -999,9,     -999,9,     -999,9,   2242.6,2,   2325.9,6,   7.5659,2,    25.00,2,     -999,9,   3.3096,2,     -999,9,     -999,9,     -999,9,     -999,9,     -999,1,   4.6690,1,   0.0112,1,     -999,9,     -999,9,     -999,9,     -999,9,     -999,9,20230813,2000, -31.3030,  77.4004,-999          ,9,-999          ,9
33RR20230722  ,I05        ,87      ,  1,9          ,9          ,2,20230813,1921, -31.3030,  77.4004,     3123,   1521.6,2,   3.0162,2,  34.5448,2,  34.5447,2,    166.5,2,    166.3,2,    69.21,2,    33.98,2,     0.00,2,     2.36,2,    0.438,2,    0.256,2,   0.0300,2,   2247.8,6,   2330.6,2,   7.5643,2,    25.02,2,     -999,9,   3.0157,2,     -999,9,     -999,9,     -999,9,     -999,9,     -999,1,   4.9740,1,   0.0111,1,     22.6,2,     -999,9,     -999,9,     -999,9,     -999,9,20230813,1957, -31.3030,  77.4004,-999          ,9,-999          ,9
33RR20230722  ,I05        ,87      ,  1,8          ,8          ,2,20230813,1921, -31.3030,  77.4004,     3123,   1638.4,2,   2.8295,2,  34.5918,2,  34.5924,2,    167.5,2,    167.6,2,    73.70,2,    33.52,2,     0.00,2,     2.34,2,    0.307,2,    0.187,2,   0.0600,2,   -999.0,9,     -999,9,     -999,9,     -999,9,     -999,9,   2.8278,2,     -999,9,     -999,9,     -999,9,     -999,9,     -999,1,   4.9741,1,   0.0111,1,     22.5,2,     -999,9,     -999,9,     -999,9,     -999,9,20230813,1954, -31.3030,  77.4005,-999          ,9,-999          ,9
33RR20230722  ,I05        ,87      ,  1,7          ,7          ,2,20230813,1921, -31.3030,  77.4004,     3123,   1763.7,2,   2.6625,2,  34.6408,2,  34.6411,2,    170.8,2,    170.9,2,    76.53,2,    32.81,2,     0.00,2,     2.28,2,    0.213,2,    0.125,2,   0.0100,2,   2249.9,2,   2339.1,2,   7.5769,2,    24.98,2,     -999,9,   2.6618,2,     -999,9,     -999,9,     -999,9,     -999,9,     -999,1,   4.9743,1,   0.0111,1,     21.5,2,     -999,9,     -999,9,     -999,9,     -999,9,20230813,1951, -31.3030,  77.4005,-999          ,9,-999          ,9
33RR20230722  ,I05        ,87      ,  1,6          ,6          ,2,20230813,1921, -31.3030,  77.4004,     3123,   1919.8,2,   2.4979,2,  34.6857,2,  34.6865,2,    175.9,2,    176.3,2,    79.74,2,    32.00,2,     0.00,2,     2.22,2,    0.135,2,    0.080,2,   0.0000,2,   2251.8,2,   2343.4,2,   7.5899,2,    25.02,2,     -999,9,   2.4976,2,     -999,9,     -999,9,     -999,9,     -999,9,     -999,1,   4.6735,1,   0.0119,1,     20.4,2,     -999,9,     -999,9,     -999,9,     -999,9,20230813,1947, -31.3030,  77.4004,-999          ,9,-999          ,9
33RR20230722  ,I05        ,87      ,  1,5          ,5          ,2,20230813,1921, -31.3030,  77.4004,     3123,   2114.5,2,   2.2357,2,  34.7265,2,  34.7266,2,    186.6,2,    186.6,2,    82.87,2,    30.82,2,     0.00,2,     2.14,2,     -999,9,     -999,9,     -999,9,   2244.0,2,   2346.5,2,   7.6060,2,    24.99,2,     -999,9,   2.2351,2,     -999,9,     -999,9,     -999,9,     -999,9,     -999,1,   4.7241,1,   0.0112,1,     -999,9,     -999,9,     -999,9,     -999,9,     -999,9,20230813,1943, -31.3030,  77.4004,-999          ,9,-999          ,9
33RR20230722  ,I05        ,87      ,  1,4          ,37         ,2,20230813,1921, -31.3030,  77.4004,     3123,   2357.2,2,   1.9389,2,  34.7372,2,  34.7376,2,    191.3,2,    191.5,2,    92.72,2,    30.77,2,     0.00,2,     2.15,2,    0.065,2,    0.045,2,   0.0000,2,   -999.0,9,     -999,9,     -999,9,     -999,9,     -999,9,   1.9384,2,     -999,9,     -999,9,     -999,9,     -999,9,     -999,1,   4.8856,1,   0.0112,1,     18.8,2,     -999,9,     -999,9,     -999,9,     -999,9,20230813,1938, -31.3030,  77.4005,-999          ,9,-999          ,9
33RR20230722  ,I05        ,87      ,  1,3          ,3          ,2,20230813,1921, -31.3030,  77.4004,     3123,   2605.7,2,   1.7498,2,  34.7331,2,  34.7339,2,    191.2,2,    191.4,2,   101.51,2,    31.27,2,     0.00,2,     2.19,2,    0.054,2,    0.033,2,   0.0300,2,   2256.7,2,   2361.3,2,   7.6136,2,    25.00,2,     -999,9,   1.7504,2,     -999,9,     -999,9,     -999,9,     -999,9,     -999,1,   4.9743,1,   0.0111,1,     18.9,2,     -999,9,     -999,9,     -999,9,     -999,9,20230813,1932, -31.3030,  77.4004,-999          ,9,-999          ,9
33RR20230722  ,I05        ,87      ,  1,2          ,2          ,2,20230813,1921, -31.3030,  77.4004,     3123,   2881.0,2,   1.6893,2,  34.7322,2,  34.7325,2,    192.0,2,    192.2,2,   104.04,2,    31.38,2,     0.00,2,     2.19,2,     -999,9,     -999,9,     -999,9,   -999.0,9,     -999,9,     -999,9,     -999,9,     -999,9,   1.6908,2,     -999,9,     -999,9,     -999,9,     -999,9,     -999,1,   4.9225,1,   0.0116,1,     -999,9,     -999,9,     -999,9,     -999,9,     -999,9,20230813,1927, -31.3030,  77.4005,-999          ,9,-999          ,9
33RR20230722  ,I05        ,87      ,  1,1          ,1          ,2,20230813,1921, -31.3030,  77.4004,     3123,   3159.9,2,   1.6842,2,  34.7308,2,  34.7313,2,    191.8,2,    191.8,2,   105.80,2,    31.46,2,     0.00,2,     2.21,2,    0.047,2,    0.029,2,   0.0300,2,   2262.8,6,   2365.5,2,   7.6135,2,    25.00,2,     -999,9,   1.6840,2,     -999,9,     -999,9,     -999,9,     -999,9,     -999,1,   0.4319,1,   0.0110,1,     18.8,2,     -999,9,     -999,9,     -999,9,     -999,9,20230813,1921, -31.3030,  77.4004,-999          ,9,-999          ,9