BOTTLE,20240422CCHHYDRO
EXPOCODE,SECT_ID,STNNBR,CASTNO,SAMPNO,BTLNBR,BTLNBR_FLAG_W,DATE,TIME,LATITUDE,LONGITUDE,DEPTH,CTDPRS,CTDPRS_FLAG_W,CTDTMP,CTDTMP_FLAG_W,CTDSAL,CTDSAL_FLAG_W,SALNTY,SALNTY_FLAG_W,CTDOXY,CTDOXY_FLAG_W,OXYGEN,OXYGEN_FLAG_W,SILCAT,SILCAT_FLAG_W,NITRAT,NITRAT_FLAG_W,NITRIT,NITRIT_FLAG_W,PHSPHT,PHSPHT_FLAG_W,CFC-11,CFC-11_FLAG_W,CFC-12,CFC-12_FLAG_W,SF6,SF6_FLAG_W,TCARBN,TCARBN_FLAG_W,ALKALI,ALKALI_FLAG_W,PH_TOT,PH_TOT_FLAG_W,PH_TMP,PH_TMP_FLAG_W,DOC,DOC_FLAG_W,REFTMP,REFTMP_FLAG_W,POC,POC_FLAG_W,PON,PON_FLAG_W,POP,POP_FLAG_W,DOP,DOP_FLAG_W,DELO18,DELO18_FLAG_W,CTDFLUOR,CTDFLUOR_FLAG_W,CTDXMISS,CTDXMISS_FLAG_W,N2O,N2O_FLAG_W,D15N_NO3,D15N_NO3_FLAG_W,D15N_NO2+NO3,D15N_NO2+NO3_FLAG_W,D18O_NO2+NO3,D18O_NO2+NO3_FLAG_W,D18O_NO3,D18O_NO3_FLAG_W,BTL_DATE,BTL_TIME,BTL_LAT,BTL_LON,HPLC,HPLC_FLAG_W,DNA,DNA_FLAG_W
,,,,,,,,,,,METERS,DBAR,,ITS-90,,PSS-78,,PSS-78,,UMOL/KG,,UMOL/KG,,UMOL/KG,,UMOL/KG,,UMOL/KG,,UMOL/KG,,PMOL/KG,,PMOL/KG,,FMOL/KG,,UMOL/KG,,UMOL/KG,,,,DEG C,,UMOL/KG,,ITS-90,,UG/KG,,UG/KG,,UG/L,,UMOL/KG,,/MILLE,,VOLTS,,VOLTS,,NMOL/KG,,/MILLE,,/MILLE,,/MILLE,,/MILLE,,,,,,,,,
33RR20230722  ,I05        ,35      ,  1,34         ,34         ,2,20230731,1111, -32.0060, 101.8687,     2969,     10.9,2,  17.0816,2,  35.8257,2,  35.8266,2,    239.0,2,    239.1,2,     1.37,2,     0.02,2,     0.00,2,     0.12,2,     -999,9,     -999,9,     -999,9,   2087.1,6,   2350.9,2,   7.9685,2,    24.98,2,     -999,1,  17.0802,2,     -999,9,     -999,9,     -999,9,     -999,9,     -999,1,   4.9756,1,   0.0508,1,     -999,9,     -999,9,     -999,9,     -999,9,     -999,9,20230731,1243, -32.0060, 101.8687,-999          ,9,-999          ,9
33RR20230722  ,I05        ,35      ,  1,33         ,33         ,2,20230731,1111, -32.0060, 101.8687,     2969,     20.7,2,  17.0707,2,  35.8282,2,  35.8295,2,    239.0,2,    238.8,2,     1.37,2,    -0.02,2,     0.00,2,     0.12,2,     -999,9,     -999,9,     -999,9,   2087.7,2,   2349.4,2,   7.9674,2,    24.98,2,     -999,9,  17.0708,2,     -999,9,     -999,9,     -999,9,     -999,9,     -999,1,   4.9756,1,   0.0470,1,     -999,9,     -999,9,     -999,9,     -999,9,     -999,9,20230731,1242, -32.0060, 101.8687,-999          ,9,-999          ,9
33RR20230722  ,I05        ,35      ,  1,32         ,32         ,2,20230731,1111, -32.0060, 101.8687,     2969,     38.8,2,  17.0177,2,  35.8339,2,  35.8345,2,    238.2,2,    237.9,2,     1.46,2,    -0.02,2,     0.01,2,     0.10,2,     -999,9,     -999,9,     -999,9,   2091.2,2,   2351.2,6,   7.9644,6,    24.98,2,     -999,9,  17.0156,2,     -999,9,     -999,9,     -999,9,     -999,9,     -999,1,   4.9751,1,   0.0439,1,     -999,9,     -999,9,     -999,9,     -999,9,     -999,9,20230731,1240, -32.0060, 101.8687,-999          ,9,-999          ,9
33RR20230722  ,I05        ,35      ,  1,31         ,31         ,2,20230731,1111, -32.0060, 101.8687,     2969,     55.5,2,  17.0039,2,  35.8365,2,  35.8372,2,    236.6,2,    236.6,2,     1.56,2,     0.03,2,     0.03,2,     0.11,2,     -999,9,     -999,9,     -999,9,   2095.8,2,   2351.8,2,   7.9623,6,    24.98,2,     -999,9,  17.0025,2,     -999,9,     -999,9,     -999,9,     -999,9,     -999,1,   4.9751,1,   0.0292,1,     -999,9,     -999,9,     -999,9,     -999,9,     -999,9,20230731,1238, -32.0060, 101.8687,-999          ,9,-999          ,9
33RR20230722  ,I05        ,35      ,  1,30         ,30         ,2,20230731,1111, -32.0060, 101.8687,     2969,     76.5,2,  16.9569,2,  35.8339,2,  35.8339,2,    237.7,2,    237.4,2,     1.46,2,     0.02,2,     0.02,2,     0.11,2,    2.298,2,    1.331,2,   2.0800,2,   2092.5,2,   2352.9,2,   7.9619,2,    25.00,2,     -999,9,  16.9557,2,     -999,9,     -999,9,     -999,9,     -999,9,     -999,1,   4.9745,1,   0.0349,1,      7.8,2,     -999,9,     -999,9,     -999,9,     -999,9,20230731,1236, -32.0060, 101.8687,-999          ,9,-999          ,9
33RR20230722  ,I05        ,35      ,  1,29         ,29         ,2,20230731,1111, -32.0060, 101.8687,     2969,     98.0,2,  16.8913,2,  35.8280,2,  35.8352,3,    237.1,2,    237.0,2,     1.37,2,     0.05,2,     0.03,2,     0.12,2,     -999,9,     -999,9,     -999,9,   2093.9,2,   2350.0,2,   7.9595,2,    25.00,2,     -999,9,  16.8892,2,     -999,9,     -999,9,     -999,9,     -999,9,     -999,1,   4.9743,1,   0.0299,1,     -999,9,     -999,9,     -999,9,     -999,9,     -999,9,20230731,1234, -32.0060, 101.8687,-999          ,9,-999          ,9
33RR20230722  ,I05        ,35      ,  1,28         ,28         ,2,20230731,1111, -32.0060, 101.8687,     2969,    119.9,2,  16.8556,2,  35.8228,2,  35.8198,2,    236.6,2,    236.5,2,     1.56,2,     0.15,2,     0.03,2,     0.12,2,     -999,9,     -999,9,     -999,9,   2095.0,2,   2349.2,2,   7.9578,2,    24.97,2,     -999,9,  16.8505,2,     -999,9,     -999,9,     -999,9,     -999,9,     -999,1,   4.9273,1,   0.0246,1,     -999,9,     -999,9,     -999,9,     -999,9,     -999,9,20230731,1233, -32.0060, 101.8687,-999          ,9,-999          ,9
33RR20230722  ,I05        ,35      ,  1,27         ,27         ,2,20230731,1111, -32.0060, 101.8687,     2969,    145.5,2,  16.4110,2,  35.7487,2,  35.7525,2,    232.8,2,    233.6,2,     1.27,2,     0.74,2,     0.07,2,     0.17,2,     -999,9,     -999,9,     -999,9,   2101.7,2,   2348.8,2,   7.9408,2,    24.99,2,     -999,9,  16.3902,2,     -999,9,     -999,9,     -999,9,     -999,9,     -999,1,   4.9725,1,   0.0174,1,     -999,9,     -999,9,     -999,9,     -999,9,     -999,9,20230731,1231, -32.0060, 101.8687,-999          ,9,-999          ,9
33RR20230722  ,I05        ,35      ,  1,26         ,26         ,2,20230731,1111, -32.0060, 101.8687,     2969,    172.2,2,  15.0559,2,  35.5556,2,  35.5537,2,    229.4,2,    230.0,2,     1.27,2,     2.84,2,     0.01,2,     0.30,2,     -999,9,     -999,9,     -999,9,   2113.6,2,   2336.4,2,   7.8961,2,    25.00,2,     -999,9,  15.0343,2,     -999,9,     -999,9,     -999,9,     -999,9,     -999,1,   4.9707,1,   0.0131,1,     -999,9,     -999,9,     -999,9,     -999,9,     -999,9,20230731,1229, -32.0060, 101.8687,-999          ,9,-999          ,9
33RR20230722  ,I05        ,35      ,  1,25         ,25         ,2,20230731,1111, -32.0060, 101.8687,     2969,    199.4,2,  14.3692,2,  35.4677,2,  35.4592,2,    231.3,2,    231.9,2,     1.27,2,     4.01,2,     0.00,2,     0.38,2,    2.483,2,    1.550,2,   2.3400,2,   2118.2,2,   2331.8,2,   7.8793,2,    24.99,2,     -999,9,  14.3366,2,     -999,9,     -999,9,     -999,9,     -999,9,     -999,1,   4.9700,1,   0.0126,1,      9.6,2,     -999,9,     -999,9,     -999,9,     -999,9,20230731,1228, -32.0060, 101.8687,-999          ,9,-999          ,9
33RR20230722  ,I05        ,35      ,  1,24         ,24         ,2,20230731,1111, -32.0060, 101.8687,     2969,    230.6,2,  13.7761,2,  35.3779,2,  35.3807,2,    232.3,2,    233.7,2,     1.37,2,     4.93,2,     0.00,2,     0.45,2,     -999,9,     -999,9,     -999,9,   2120.7,2,   2328.7,2,   7.8672,2,    25.01,2,     -999,9,  13.8065,2,     -999,9,     -999,9,     -999,9,     -999,9,     -999,1,   4.9695,1,   0.0114,1,     -999,9,     -999,9,     -999,9,     -999,9,     -999,9,20230731,1226, -32.0060, 101.8687,-999          ,9,-999          ,9
33RR20230722  ,I05        ,35      ,  1,23         ,23         ,2,20230731,1111, -32.0060, 101.8687,     2969,    263.8,2,  13.1403,2,  35.2672,2,  35.2680,2,    236.2,2,    236.7,2,     1.56,2,     5.96,2,     0.00,2,     0.50,2,     -999,9,     -999,9,     -999,9,   2121.3,2,   2321.8,2,   7.8527,2,    25.01,2,     -999,9,  13.1456,2,     -999,9,     -999,9,     -999,9,     -999,9,     -999,1,   4.9695,1,   0.0117,1,     -999,9,     -999,9,     -999,9,     -999,9,     -999,9,20230731,1224, -32.0060, 101.8687,-999          ,9,-999          ,9
33RR20230722  ,I05        ,35      ,  1,22         ,22         ,2,20230731,1111, -32.0060, 101.8687,     2969,    305.8,2,  12.2514,2,  35.1078,2,  35.1118,2,    241.2,2,    241.1,2,     1.95,2,     7.51,2,     0.00,2,     0.62,2,     -999,9,     -999,9,     -999,9,   2124.4,2,   2313.1,2,   7.8332,2,    24.98,2,     -999,9,  12.2487,2,     -999,9,     -999,9,     -999,9,     -999,9,     -999,1,   4.9694,1,   0.0117,1,     -999,9,     -999,9,     -999,9,     -999,9,     -999,9,20230731,1222, -32.0060, 101.8687,-999          ,9,-999          ,9
33RR20230722  ,I05        ,35      ,  1,21         ,21         ,2,20230731,1111, -32.0060, 101.8687,     2969,    352.8,2,  11.5224,2,  34.9809,2,  34.9776,2,    242.7,2,    242.7,2,     2.15,2,     9.43,2,     0.00,2,     0.72,2,     -999,9,     -999,9,     -999,9,   2126.2,2,   2306.2,2,   7.8126,2,    25.02,2,     -999,9,  11.5290,2,     -999,9,     -999,9,     -999,9,     -999,9,     -999,1,   4.9225,1,   0.0117,1,     -999,9,     -999,9,     -999,9,     -999,9,     -999,9,20230731,1220, -32.0060, 101.8687,-999          ,9,-999          ,9
33RR20230722  ,I05        ,35      ,  1,20         ,20         ,2,20230731,1111, -32.0060, 101.8687,     2969,    406.0,2,  10.7302,2,  34.8489,2,  34.8485,2,    242.2,2,    242.4,2,     2.83,2,    11.64,2,     0.00,2,     0.89,2,     -999,9,     -999,9,     -999,9,   2130.2,2,   2298.4,2,   7.7891,6,    25.00,2,     -999,9,  10.7269,2,     -999,9,     -999,9,     -999,9,     -999,9,     -999,1,   4.9680,1,   0.0115,1,     -999,9,     -999,9,     -999,9,     -999,9,     -999,9,20230731,1218, -32.0060, 101.8687,-999          ,9,-999          ,9
33RR20230722  ,I05        ,35      ,  1,19         ,19         ,2,20230731,1111, -32.0060, 101.8687,     2969,    466.3,2,  10.2598,2,  34.7840,2,  34.7858,2,    241.1,2,    240.8,2,     3.32,2,    13.29,2,     0.00,2,     0.97,2,    3.014,2,    1.872,2,   2.3500,2,   2133.6,2,   2296.7,2,   7.7753,2,    25.02,2,     -999,9,  10.2602,2,     -999,9,     -999,9,     -999,9,     -999,9,     -999,1,   4.9674,1,   0.0115,1,     12.8,2,     -999,9,     -999,9,     -999,9,     -999,9,20230731,1216, -32.0060, 101.8687,-999          ,9,-999          ,9
33RR20230722  ,I05        ,35      ,  1,18         ,18         ,2,20230731,1111, -32.0060, 101.8687,     2969,    532.2,2,   9.8894,2,  34.7407,2,  34.7398,2,    237.9,2,    237.6,2,     3.71,2,    14.79,2,     0.00,2,     1.06,2,     -999,9,     -999,9,     -999,9,   2137.8,2,   2293.2,2,   7.7592,2,    25.00,2,     -999,9,   9.8863,2,     -999,9,     -999,9,     -999,9,     -999,9,     -999,1,   4.9667,1,   0.0116,1,     -999,9,     -999,9,     -999,9,     -999,9,     -999,9,20230731,1214, -32.0060, 101.8687,-999          ,9,-999          ,9
33RR20230722  ,I05        ,35      ,  1,17         ,17         ,2,20230731,1111, -32.0060, 101.8687,     2969,    604.4,2,   9.5073,2,  34.6955,2,  34.6948,2,    237.6,2,    237.2,2,     4.29,2,    15.89,2,     0.00,2,     1.12,2,     -999,9,     -999,9,     -999,9,   2141.2,6,   2290.8,2,   7.7501,2,    25.01,2,     -999,9,   9.4995,2,     -999,9,     -999,9,     -999,9,     -999,9,     -999,1,   4.9666,1,   0.0115,1,     -999,9,     -999,9,     -999,9,     -999,9,     -999,9,20230731,1212, -32.0060, 101.8687,-999          ,9,-999          ,9
33RR20230722  ,I05        ,35      ,  1,16         ,16         ,2,20230731,1111, -32.0060, 101.8687,     2969,    686.7,2,   8.9656,2,  34.6280,2,  34.6291,2,    231.9,2,    232.6,2,     5.47,2,    17.67,2,     0.00,2,     1.25,2,     -999,9,     -999,9,     -999,9,   2144.2,2,   2288.4,2,   7.7347,2,    25.00,2,     -999,9,   8.9539,2,     -999,9,     -999,9,     -999,9,     -999,9,     -999,1,   4.9062,1,   0.0113,1,     -999,9,     -999,9,     -999,9,     -999,9,     -999,9,20230731,1209, -32.0060, 101.8687,-999          ,9,-999          ,9
33RR20230722  ,I05        ,35      ,  1,15         ,15         ,2,20230731,1111, -32.0060, 101.8687,     2969,    770.4,2,   8.0813,2,  34.5376,2,  34.5370,2,    215.3,2,    215.4,2,     9.86,2,    21.55,2,     0.00,2,     1.48,2,    2.898,2,    1.725,2,   1.4700,2,   2158.5,2,   2285.8,2,   7.6987,2,    25.01,2,     -999,9,   8.0751,2,     -999,9,     -999,9,     -999,9,     -999,9,     -999,1,   4.9675,1,   0.0114,1,     15.6,2,     -999,9,     -999,9,     -999,9,     -999,9,20230731,1206, -32.0060, 101.8687,-999          ,9,-999          ,9
33RR20230722  ,I05        ,35      ,  1,14         ,14         ,2,20230731,1111, -32.0060, 101.8687,     2969,    863.4,2,   6.6388,2,  34.4375,2,  34.4387,2,    199.3,2,    199.1,2,    18.25,2,    26.22,2,     0.00,2,     1.80,2,     -999,9,     -999,9,     -999,9,   2177.4,2,   2288.8,2,   7.6507,2,    25.00,2,     -999,9,   6.6501,2,     -999,9,     -999,9,     -999,9,     -999,9,     -999,1,   4.9692,1,   0.0113,1,     -999,9,     -999,9,     -999,9,     -999,9,     -999,9,20230731,1204, -32.0060, 101.8687,-999          ,9,-999          ,9
33RR20230722  ,I05        ,35      ,  1,13         ,13         ,2,20230731,1111, -32.0060, 101.8687,     2969,    954.1,2,   5.2530,2,  34.3828,2,  34.3831,2,    192.9,2,    193.7,2,    29.28,2,    29.27,2,     0.00,2,     2.03,2,     -999,9,     -999,9,     -999,9,   2193.7,2,   2293.7,2,   7.6200,2,    25.00,2,     -999,9,   5.2510,2,     -999,9,     -999,9,     -999,9,     -999,9,     -999,1,   4.9704,1,   0.0112,1,     -999,9,     -999,9,     -999,9,     -999,9,     -999,9,20230731,1201, -32.0060, 101.8687,-999          ,9,-999          ,9
33RR20230722  ,I05        ,35      ,  1,12         ,12         ,2,20230731,1111, -32.0060, 101.8687,     2969,   1049.1,2,   4.4508,2,  34.4018,2,  34.4018,2,    180.1,2,    181.2,2,    43.24,2,    31.49,2,     0.00,2,     2.24,2,    1.456,2,    0.749,2,   0.2800,2,   2216.0,2,   2306.0,2,   7.5965,2,    25.02,2,     -999,9,   4.4502,2,     -999,9,     -999,9,     -999,9,     -999,9,     -999,1,   4.6728,1,   0.0111,1,     21.4,2,     -999,9,     -999,9,     -999,9,     -999,9,20230731,1158, -32.0060, 101.8687,-999          ,9,-999          ,9
33RR20230722  ,I05        ,35      ,  1,11         ,11         ,2,20230731,1111, -32.0060, 101.8687,     2969,   1145.5,2,   4.0569,2,  34.4528,2,  34.4524,2,    164.5,2,    164.8,2,    56.71,2,    33.03,2,     0.00,2,     2.36,2,     -999,9,     -999,9,     -999,9,   2235.8,2,   2320.5,2,   7.5742,2,    25.00,2,     -999,9,   4.0562,2,     -999,9,     -999,9,     -999,9,     -999,9,     -999,1,   4.8284,1,   0.0111,1,     -999,9,     -999,9,     -999,9,     -999,9,     -999,9,20230731,1155, -32.0059, 101.8687,-999          ,9,-999          ,9
33RR20230722  ,I05        ,35      ,  1,10         ,10         ,2,20230731,1111, -32.0060, 101.8687,     2969,   1245.4,2,   3.8122,2,  34.4941,2,  34.4940,2,    155.1,2,    155.0,2,    65.49,2,    33.97,2,     0.00,2,     2.42,2,     -999,9,     -999,9,     -999,9,   2250.0,2,   2328.7,2,   7.5654,6,    25.00,2,     -999,9,   3.8106,2,     -999,9,     -999,9,     -999,9,     -999,9,     -999,1,   4.9592,1,   0.0111,1,     -999,9,     -999,9,     -999,9,     -999,9,     -999,9,20230731,1152, -32.0060, 101.8687,-999          ,9,-999          ,9
33RR20230722  ,I05        ,35      ,  1,9          ,9          ,2,20230731,1111, -32.0060, 101.8687,     2969,   1347.5,2,   3.5621,2,  34.5099,2,  34.5089,2,    155.3,2,    155.2,2,    68.91,2,    34.17,2,     0.00,2,     2.44,2,    0.474,2,    0.232,2,   0.0700,2,   2253.7,2,   2333.2,6,   7.5611,2,    25.00,2,     -999,9,   3.5601,2,     -999,9,     -999,9,     -999,9,     -999,9,     -999,1,   4.9280,1,   0.0118,1,     24.0,2,     -999,9,     -999,9,     -999,9,     -999,9,20230731,1149, -32.0060, 101.8687,-999          ,9,-999          ,9
33RR20230722  ,I05        ,35      ,  1,8          ,8          ,2,20230731,1111, -32.0060, 101.8687,     2969,   1454.3,2,   3.3835,2,  34.5544,2,  34.5537,2,    149.3,2,    149.1,2,    76.42,2,    34.61,2,     0.00,2,     2.49,2,     -999,9,     -999,9,     -999,9,   2261.0,2,   2344.1,2,   7.5564,2,    25.02,2,     -999,9,   3.3896,2,     -999,9,     -999,9,     -999,9,     -999,9,     -999,1,   4.8773,1,   0.0117,1,     -999,9,     -999,9,     -999,9,     -999,9,     -999,9,20230731,1146, -32.0060, 101.8687,-999          ,9,-999          ,9
33RR20230722  ,I05        ,35      ,  1,7          ,7          ,2,20230731,1111, -32.0060, 101.8687,     2969,   1674.6,2,   2.9625,2,  34.6189,2,  34.6179,2,    152.2,2,    152.1,2,    84.62,2,    34.21,2,     0.00,2,     2.46,2,    0.085,2,    0.048,2,  -0.0200,2,   2269.9,2,   2352.0,2,   7.5639,6,    25.00,2,     -999,9,   2.9622,2,     -999,9,     -999,9,     -999,9,     -999,9,     -999,1,   4.9748,1,   0.0122,1,     23.6,2,     -999,9,     -999,9,     -999,9,     -999,9,20230731,1141, -32.0060, 101.8687,-999          ,9,-999          ,9
33RR20230722  ,I05        ,35      ,  1,6          ,6          ,2,20230731,1111, -32.0060, 101.8687,     2969,   1942.4,2,   2.6715,2,  34.6782,2,  34.6777,2,    154.3,2,    154.2,2,    95.25,2,    33.78,2,     0.00,2,     2.43,2,     -999,9,     -999,9,     -999,9,   2275.2,2,   2364.4,2,   7.5062,4,    24.98,2,     -999,9,   2.6711,2,     -999,9,     -999,9,     -999,9,     -999,9,     -999,1,   4.9668,1,   0.0117,1,     -999,9,     -999,9,     -999,9,     -999,9,     -999,9,20230731,1135, -32.0060, 101.8687,-999          ,9,-999          ,9
33RR20230722  ,I05        ,35      ,  1,5          ,5          ,2,20230731,1111, -32.0060, 101.8687,     2969,   2121.0,2,   2.4679,2,  34.7017,2,  34.7009,2,    158.4,2,    158.6,2,   100.71,2,    33.62,2,     0.00,2,     2.39,2,    0.005,2,    0.011,2,   0.0100,2,   2279.7,2,   2369.1,2,   7.5812,2,    24.99,2,     -999,9,   2.4685,2,     -999,9,     -999,9,     -999,9,     -999,9,     -999,1,   4.9721,1,   0.0118,1,     22.6,2,     -999,9,     -999,9,     -999,9,     -999,9,20230731,1131, -32.0060, 101.8687,-999          ,9,-999          ,9
33RR20230722  ,I05        ,35      ,  1,4          ,37         ,2,20230731,1111, -32.0060, 101.8687,     2969,   2328.1,2,   2.2724,2,  34.7161,2,  34.7158,2,    163.4,2,    163.4,2,   105.69,2,    33.19,2,     0.00,2,     2.39,2,     -999,9,     -999,9,     -999,9,   2279.5,2,   2373.9,2,   7.5895,2,    24.98,2,     -999,9,   2.2723,2,     -999,9,     -999,9,     -999,9,     -999,9,     -999,1,   4.8727,1,   0.0113,1,     -999,9,     -999,9,     -999,9,     -999,9,     -999,9,20230731,1126, -32.0060, 101.8687,-999          ,9,-999          ,9
33RR20230722  ,I05        ,35      ,  1,3          ,3          ,2,20230731,1111, -32.0060, 101.8687,     2969,   2642.9,2,   1.9868,2,  34.7261,2,  34.7258,2,    173.4,2,    173.7,2,   108.23,2,    32.61,2,     0.00,2,     2.33,2,     -999,9,     -999,9,     -999,9,   2276.6,2,   2375.8,2,   7.6005,2,    24.99,2,     -999,9,   1.9866,2,     -999,9,     -999,9,     -999,9,     -999,9,     -999,1,   4.9747,1,   0.0111,1,     -999,9,     -999,9,     -999,9,     -999,9,     -999,9,20230731,1120, -32.0060, 101.8687,-999          ,9,-999          ,9
33RR20230722  ,I05        ,35      ,  1,2          ,2          ,2,20230731,1111, -32.0060, 101.8687,     2969,   2819.5,2,   1.8750,2,  34.7276,2,  34.7278,2,    177.5,2,    177.8,2,   109.98,2,    32.17,2,     0.00,2,     2.31,2,    0.005,2,    0.013,2,  -0.0100,2,   2277.7,2,   2374.9,2,   7.6051,2,    24.98,2,     -999,9,   1.8743,2,     -999,9,     -999,9,     -999,9,     -999,9,     -999,1,   4.9077,1,   0.0117,1,     20.0,2,     -999,9,     -999,9,     -999,9,     -999,9,20230731,1115, -32.0060, 101.8687,-999          ,9,-999          ,9
33RR20230722  ,I05        ,35      ,  1,1          ,1          ,2,20230731,1111, -32.0060, 101.8687,     2969,   2999.4,2,   1.7153,2,  34.7304,2,  34.7315,2,    186.7,2,    186.6,2,   108.03,2,    31.67,2,     0.00,2,     2.24,2,    0.008,2,    0.013,2,   0.0000,2,   2269.9,6,   2368.6,2,   7.6119,2,    25.01,2,     -999,9,   1.7126,2,     -999,9,     -999,9,     -999,9,     -999,9,     -999,1,   0.5629,1,   0.0117,1,     20.0,2,     -999,9,     -999,9,     -999,9,     -999,9,20230731,1111, -32.0060, 101.8687,-999          ,9,-999          ,9