BOTTLE,20240422CCHHYDRO
EXPOCODE,SECT_ID,STNNBR,CASTNO,SAMPNO,BTLNBR,BTLNBR_FLAG_W,DATE,TIME,LATITUDE,LONGITUDE,DEPTH,CTDPRS,CTDPRS_FLAG_W,CTDTMP,CTDTMP_FLAG_W,CTDSAL,CTDSAL_FLAG_W,SALNTY,SALNTY_FLAG_W,CTDOXY,CTDOXY_FLAG_W,OXYGEN,OXYGEN_FLAG_W,SILCAT,SILCAT_FLAG_W,NITRAT,NITRAT_FLAG_W,NITRIT,NITRIT_FLAG_W,PHSPHT,PHSPHT_FLAG_W,CFC-11,CFC-11_FLAG_W,CFC-12,CFC-12_FLAG_W,SF6,SF6_FLAG_W,TCARBN,TCARBN_FLAG_W,ALKALI,ALKALI_FLAG_W,PH_TOT,PH_TOT_FLAG_W,PH_TMP,PH_TMP_FLAG_W,DOC,DOC_FLAG_W,REFTMP,REFTMP_FLAG_W,POC,POC_FLAG_W,PON,PON_FLAG_W,POP,POP_FLAG_W,DOP,DOP_FLAG_W,DELO18,DELO18_FLAG_W,CTDFLUOR,CTDFLUOR_FLAG_W,CTDXMISS,CTDXMISS_FLAG_W,N2O,N2O_FLAG_W,D15N_NO3,D15N_NO3_FLAG_W,D15N_NO2+NO3,D15N_NO2+NO3_FLAG_W,D18O_NO2+NO3,D18O_NO2+NO3_FLAG_W,D18O_NO3,D18O_NO3_FLAG_W,BTL_DATE,BTL_TIME,BTL_LAT,BTL_LON,HPLC,HPLC_FLAG_W,DNA,DNA_FLAG_W
,,,,,,,,,,,METERS,DBAR,,ITS-90,,PSS-78,,PSS-78,,UMOL/KG,,UMOL/KG,,UMOL/KG,,UMOL/KG,,UMOL/KG,,UMOL/KG,,PMOL/KG,,PMOL/KG,,FMOL/KG,,UMOL/KG,,UMOL/KG,,,,DEG C,,UMOL/KG,,ITS-90,,UG/KG,,UG/KG,,UG/L,,UMOL/KG,,/MILLE,,VOLTS,,VOLTS,,NMOL/KG,,/MILLE,,/MILLE,,/MILLE,,/MILLE,,,,,,,,,
33RR20230722  ,I05        ,159     ,  1,32         ,32         ,2,20230901,1852, -32.9972,  42.8682,     2948,      5.3,2,  18.2040,2,  35.6966,2,  35.6954,2,    237.9,2,    236.7,2,     1.56,2,     0.01,2,     0.00,2,     0.12,2,    1.796,2,    1.293,2,   2.1800,2,   2069.5,6,   2335.8,2,   7.9736,2,    25.02,2,     -999,1,     -999,1,     -999,9,     -999,9,     -999,9,     -999,9,     -999,1,   4.4492,1,   0.0263,1,      8.6,2,     -999,9,     -999,9,     -999,9,     -999,9,20230901,2021, -32.9972,  42.8682,-999          ,9,-999          ,9
33RR20230722  ,I05        ,159     ,  1,31         ,31         ,2,20230901,1852, -32.9972,  42.8682,     2948,     32.9,2,  18.0889,2,  35.6957,2,  35.6948,2,    238.5,2,    236.9,2,     1.56,2,     0.00,2,     0.00,2,     0.11,2,     -999,9,     -999,9,     -999,9,   -999.0,9,     -999,9,     -999,9,     -999,9,     -999,9,     -999,1,     -999,9,     -999,9,     -999,9,     -999,9,     -999,1,   4.9748,1,   0.0252,1,     -999,9,     -999,9,     -999,9,     -999,9,     -999,9,20230901,2019, -32.9972,  42.8682,-999          ,9,-999          ,9
33RR20230722  ,I05        ,159     ,  1,30         ,30         ,2,20230901,1852, -32.9972,  42.8682,     2948,     56.9,2,  17.7922,2,  35.6759,2,  35.6753,2,    235.0,2,    234.2,2,     1.66,2,     0.19,2,     0.08,2,     0.13,2,    2.352,2,    1.301,2,   2.2000,2,   2073.1,2,   2335.3,2,   7.9676,2,    25.02,2,     -999,9,     -999,1,     -999,9,     -999,9,     -999,9,     -999,9,     -999,1,   4.5980,1,   0.0543,1,      8.4,2,     -999,9,     -999,9,     -999,9,     -999,9,20230901,2017, -32.9972,  42.8682,-999          ,9,-999          ,9
33RR20230722  ,I05        ,159     ,  1,29         ,29         ,2,20230901,1852, -32.9972,  42.8682,     2948,     82.7,2,  17.6180,2,  35.6687,2,  35.6674,2,    232.0,2,    231.6,2,     1.76,2,     0.41,2,     0.27,2,     0.16,2,     -999,9,     -999,9,     -999,9,   -999.0,9,     -999,9,     -999,9,     -999,9,     -999,9,     -999,1,     -999,9,     -999,9,     -999,9,     -999,9,     -999,1,   4.6764,1,   0.0274,1,     -999,9,     -999,9,     -999,9,     -999,9,     -999,9,20230901,2015, -32.9972,  42.8682,-999          ,9,-999          ,9
33RR20230722  ,I05        ,159     ,  1,28         ,28         ,2,20230901,1852, -32.9972,  42.8682,     2948,    108.0,2,  17.4279,2,  35.6458,2,  35.6453,2,    227.0,2,    227.3,2,     1.95,2,     1.31,2,     0.14,2,     0.21,2,    2.261,2,    1.303,2,   2.2100,2,   2081.9,2,   2333.5,2,   7.9471,6,    25.02,2,     -999,9,     -999,1,     -999,9,     -999,9,     -999,9,     -999,9,     -999,1,   4.9207,1,   0.0167,1,      8.5,2,     -999,9,     -999,9,     -999,9,     -999,9,20230901,2013, -32.9972,  42.8682,-999          ,9,-999          ,9
33RR20230722  ,I05        ,159     ,  1,27         ,27         ,2,20230901,1852, -32.9972,  42.8682,     2948,    136.9,2,  17.2036,2,  35.6258,2,  35.6250,2,    226.1,2,    226.5,2,     2.05,2,     2.01,2,     0.02,2,     0.23,2,     -999,9,     -999,9,     -999,9,   -999.0,9,     -999,9,     -999,9,     -999,9,     -999,9,     -999,1,     -999,9,     -999,9,     -999,9,     -999,9,     -999,1,   4.9711,1,   0.0127,1,     -999,9,     -999,9,     -999,9,     -999,9,     -999,9,20230901,2011, -32.9972,  42.8682,-999          ,9,-999          ,9
33RR20230722  ,I05        ,159     ,  1,26         ,26         ,2,20230901,1852, -32.9972,  42.8682,     2948,    170.8,2,  16.8043,2,  35.5938,2,  35.5932,2,    223.7,2,    223.6,2,     2.24,2,     2.60,2,     0.00,2,     0.28,2,     -999,9,     -999,9,     -999,9,   2090.8,2,   2330.4,6,   7.9262,2,    25.05,2,     -999,9,     -999,1,     -999,9,     -999,9,     -999,9,     -999,9,     -999,1,   4.9707,1,   0.0116,1,     -999,9,     -999,9,     -999,9,     -999,9,     -999,9,20230901,2009, -32.9972,  42.8682,-999          ,9,-999          ,9
33RR20230722  ,I05        ,159     ,  1,25         ,25         ,2,20230901,1852, -32.9972,  42.8682,     2948,    206.6,2,  16.3171,2,  35.5441,2,  35.5440,2,    212.7,2,    214.3,2,     2.73,2,     4.38,2,     0.00,2,     0.39,2,     -999,9,     -999,9,     -999,9,   2100.7,2,   2327.1,2,   7.9007,2,    25.04,2,     -999,9,     -999,1,     -999,9,     -999,9,     -999,9,     -999,9,     -999,1,   4.8635,1,   0.0117,1,     -999,9,     -999,9,     -999,9,     -999,9,     -999,9,20230901,2007, -32.9972,  42.8682,-999          ,9,-999          ,9
33RR20230722  ,I05        ,159     ,  1,24         ,24         ,2,20230901,1852, -32.9972,  42.8682,     2948,    250.5,2,  15.7724,2,  35.5013,2,  35.5001,2,    211.7,2,    213.2,2,     3.02,2,     5.30,2,     0.00,2,     0.46,2,    2.283,2,    1.438,2,   2.1700,2,   -999.0,9,     -999,9,     -999,9,     -999,9,     -999,9,  15.7742,2,     -999,9,     -999,9,     -999,9,     -999,9,     -999,1,   4.9682,1,   0.0115,1,      9.8,2,     -999,9,     -999,9,     -999,9,     -999,9,20230901,2005, -32.9972,  42.8682,-999          ,9,-999          ,9
33RR20230722  ,I05        ,159     ,  1,23         ,23         ,2,20230901,1852, -32.9972,  42.8682,     2948,    301.5,2,  15.1196,2,  35.4406,2,  35.4405,2,    212.8,2,    214.0,2,     3.12,2,     6.11,2,     0.00,2,     0.53,2,     -999,9,     -999,9,     -999,9,   2114.0,2,   2322.9,2,   7.8687,2,    25.02,2,     -999,9,  15.1100,2,     -999,9,     -999,9,     -999,9,     -999,9,     -999,1,   4.9053,1,   0.0115,1,     -999,9,     -999,9,     -999,9,     -999,9,     -999,9,20230901,2002, -32.9972,  42.8682,-999          ,9,-999          ,9
33RR20230722  ,I05        ,159     ,  1,22         ,22         ,2,20230901,1852, -32.9972,  42.8682,     2948,    359.5,2,  14.3477,2,  35.3607,2,  35.3589,2,    215.0,2,    215.8,2,     3.32,2,     7.25,2,     0.00,2,     0.59,2,    2.517,2,    1.542,2,   2.0400,2,   2120.6,2,   2319.7,2,   7.8525,6,    25.00,2,     -999,9,  14.3471,2,     -999,9,     -999,9,     -999,9,     -999,9,     -999,1,   4.6654,1,   0.0115,1,     11.1,2,     -999,9,     -999,9,     -999,9,     -999,9,20230901,2000, -32.9972,  42.8682,-999          ,9,-999          ,9
33RR20230722  ,I05        ,159     ,  1,21         ,21         ,2,20230901,1852, -32.9972,  42.8682,     2948,    425.9,2,  13.6457,2,  35.2840,2,  35.2850,2,    219.5,2,    219.6,2,     3.41,2,     8.31,2,     0.00,2,     0.67,2,     -999,9,     -999,9,     -999,9,   -999.0,9,     -999,9,     -999,9,     -999,9,     -999,9,  13.6486,2,     -999,9,     -999,9,     -999,9,     -999,9,     -999,1,   4.9674,1,   0.0113,1,     -999,9,     -999,9,     -999,9,     -999,9,     -999,9,20230901,1958, -32.9972,  42.8682,-999          ,9,-999          ,9
33RR20230722  ,I05        ,159     ,  1,20         ,20         ,2,20230901,1852, -32.9972,  42.8682,     2948,    502.1,2,  13.1035,2,  35.2210,2,  35.2190,2,    224.2,2,    223.9,2,     3.51,2,     9.19,2,     0.00,2,     0.70,2,    2.688,2,    1.650,2,   2.1100,2,   2124.6,2,   2312.0,2,   7.8302,2,    25.01,2,     -999,9,  13.1025,2,     -999,9,     -999,9,     -999,9,     -999,9,     -999,1,   4.8884,1,   0.0117,1,     11.1,2,     -999,9,     -999,9,     -999,9,     -999,9,20230901,1955, -32.9972,  42.8682,-999          ,9,-999          ,9
33RR20230722  ,I05        ,159     ,  1,19         ,19         ,2,20230901,1852, -32.9972,  42.8682,     2948,    596.9,2,  12.2231,2,  35.0929,2,  35.0929,2,    223.5,2,    223.1,2,     3.90,2,    11.21,2,     0.00,2,     0.84,2,    2.873,2,    1.709,2,   1.9700,2,   2129.7,2,   2307.7,2,   7.8085,2,    25.05,2,     -999,9,  12.2219,2,     -999,9,     -999,9,     -999,9,     -999,9,     -999,1,   4.9667,1,   0.0112,1,     12.2,2,     -999,9,     -999,9,     -999,9,     -999,9,20230901,1952, -32.9972,  42.8682,-999          ,9,-999          ,9
33RR20230722  ,I05        ,159     ,  1,18         ,18         ,2,20230901,1852, -32.9972,  42.8682,     2948,    716.3,2,  11.1032,2,  34.9268,2,  34.9244,2,    220.4,2,    219.9,2,     5.07,2,    14.07,2,     0.00,2,     1.02,2,     -999,9,     -999,9,     -999,9,   -999.0,9,     -999,9,     -999,9,     -999,9,     -999,9,  11.1023,2,     -999,9,     -999,9,     -999,9,     -999,9,     -999,1,   4.8573,1,   0.0113,1,     -999,9,     -999,9,     -999,9,     -999,9,     -999,9,20230901,1949, -32.9972,  42.8682,-999          ,9,-999          ,9
33RR20230722  ,I05        ,159     ,  1,17         ,17         ,2,20230901,1852, -32.9972,  42.8682,     2948,    841.4,2,   9.7567,2,  34.7543,2,  34.7551,2,    215.6,2,    216.0,2,     7.71,2,    17.59,2,     0.00,2,     1.25,2,    2.988,6,    1.769,6,   1.5400,6,   2147.2,2,   2293.6,2,   7.7444,2,    24.99,2,     -999,9,   9.7687,2,     -999,9,     -999,9,     -999,9,     -999,9,     -999,1,   4.9499,1,   0.0113,1,     14.2,6,     -999,9,     -999,9,     -999,9,     -999,9,20230901,1945, -32.9972,  42.8682,-999          ,9,-999          ,9
33RR20230722  ,I05        ,159     ,  1,16         ,16         ,2,20230901,1852, -32.9972,  42.8682,     2948,    949.8,2,   8.3388,2,  34.6042,2,  34.5983,2,    208.5,2,    208.9,2,    12.69,2,    21.87,2,     0.00,2,     1.51,2,     -999,9,     -999,9,     -999,9,   2162.2,2,   2292.3,2,   7.6986,2,    25.02,2,     -999,9,   8.3289,2,     -999,9,     -999,9,     -999,9,     -999,9,     -999,1,   4.9682,1,   0.0112,1,     -999,9,     -999,9,     -999,9,     -999,9,     -999,9,20230901,1942, -32.9972,  42.8682,-999          ,9,-999          ,9
33RR20230722  ,I05        ,159     ,  1,15         ,15         ,2,20230901,1852, -32.9972,  42.8682,     2948,   1049.6,2,   6.9718,2,  34.4889,2,  34.4895,2,    204.1,2,    204.5,2,    18.55,2,    25.29,2,     0.00,2,     1.75,2,    2.796,2,    1.553,2,   1.1400,2,   2174.6,2,   2290.4,2,   7.6640,2,    24.98,2,     -999,9,   6.9714,2,     -999,9,     -999,9,     -999,9,     -999,9,     -999,1,   4.8657,1,   0.0111,1,     16.3,2,     -999,9,     -999,9,     -999,9,     -999,9,20230901,1939, -32.9972,  42.8682,-999          ,9,-999          ,9
33RR20230722  ,I05        ,159     ,  1,14         ,14         ,2,20230901,1852, -32.9972,  42.8682,     2948,   1147.9,2,   5.8656,2,  34.4252,2,  34.4255,2,    200.4,2,    200.7,2,    25.77,2,    28.03,2,     0.00,2,     1.93,2,     -999,9,     -999,9,     -999,9,   2187.2,2,   2291.7,2,   7.6366,2,    25.04,2,     -999,9,   5.8666,2,     -999,9,     -999,9,     -999,9,     -999,9,     -999,1,   4.9703,1,   0.0112,1,     -999,9,     -999,9,     -999,9,     -999,9,     -999,9,20230901,1937, -32.9972,  42.8682,-999          ,9,-999          ,9
33RR20230722  ,I05        ,159     ,  1,13         ,13         ,2,20230901,1852, -32.9972,  42.8682,     2948,   1271.2,2,   4.7988,2,  34.3989,2,  34.3980,2,    195.3,2,    195.9,2,    35.44,2,    30.44,2,     0.00,2,     2.11,2,    2.136,2,    1.134,2,   0.6600,2,   2202.6,2,   2299.6,2,   7.6117,2,    25.00,2,     -999,9,   4.8040,2,     -999,9,     -999,9,     -999,9,     -999,9,     -999,1,   4.9710,1,   0.0111,1,     20.4,2,     -999,9,     -999,9,     -999,9,     -999,9,20230901,1934, -32.9972,  42.8682,-999          ,9,-999          ,9
33RR20230722  ,I05        ,159     ,  1,12         ,12         ,2,20230901,1852, -32.9972,  42.8682,     2948,   1425.6,2,   3.9255,2,  34.4498,2,  34.4491,2,    182.2,2,    182.1,2,    50.18,2,    32.59,2,     0.00,2,     2.26,2,     -999,9,     -999,9,     -999,9,   -999.0,9,     -999,9,     -999,9,     -999,9,     -999,9,   3.9255,2,     -999,9,     -999,9,     -999,9,     -999,9,     -999,1,   4.9451,1,   0.0111,1,     -999,9,     -999,9,     -999,9,     -999,9,     -999,9,20230901,1930, -32.9972,  42.8682,-999          ,9,-999          ,9
33RR20230722  ,I05        ,159     ,  1,11         ,11         ,2,20230901,1852, -32.9972,  42.8682,     2948,   1545.2,2,   3.4961,2,  34.4989,2,  34.4981,2,    176.6,2,    176.6,2,    58.67,2,    33.21,2,     0.00,2,     2.30,2,     -999,9,     -999,9,     -999,9,   2236.4,2,   2322.4,2,   7.5796,6,    25.01,2,     -999,9,   3.4954,2,     -999,9,     -999,9,     -999,9,     -999,9,     -999,1,   4.8661,1,   0.0112,1,     -999,9,     -999,9,     -999,9,     -999,9,     -999,9,20230901,1927, -32.9972,  42.8682,-999          ,9,-999          ,9
33RR20230722  ,I05        ,159     ,  1,10         ,10         ,2,20230901,1852, -32.9972,  42.8682,     2948,   1665.8,2,   3.2314,2,  34.5604,2,  34.5600,2,    173.4,2,    173.1,2,    64.92,2,    33.20,2,     0.00,2,     2.30,2,    0.658,2,    0.332,2,   0.1300,2,   -999.0,9,     -999,9,     -999,9,     -999,9,     -999,9,   3.2314,2,     -999,9,     -999,9,     -999,9,     -999,9,     -999,1,   4.7151,1,   0.0123,1,     22.5,2,     -999,9,     -999,9,     -999,9,     -999,9,20230901,1924, -32.9972,  42.8682,-999          ,9,-999          ,9
33RR20230722  ,I05        ,159     ,  1,9          ,9          ,2,20230901,1852, -32.9972,  42.8682,     2948,   1851.7,2,   2.8436,2,  34.6403,2,  34.6392,2,    177.5,2,    176.7,2,    71.74,2,    32.32,2,     0.00,2,     2.26,2,     -999,9,     -999,9,     -999,9,   2246.0,2,   2337.6,6,   7.5911,2,    25.01,2,     -999,9,   2.8435,2,     -999,9,     -999,9,     -999,9,     -999,9,     -999,1,   4.8951,1,   0.0117,1,     -999,9,     -999,9,     -999,9,     -999,9,     -999,9,20230901,1920, -32.9972,  42.8682,-999          ,9,-999          ,9
33RR20230722  ,I05        ,159     ,  1,8          ,8          ,2,20230901,1852, -32.9972,  42.8682,     2948,   2036.7,2,   2.7367,2,  34.6999,2,  34.6987,2,    182.0,2,    181.7,2,    73.30,2,    31.25,2,     0.00,2,     2.17,2,    0.172,2,    0.095,2,   0.0400,2,   -999.0,9,     -999,9,     -999,9,     -999,9,     -999,9,   2.7360,2,     -999,9,     -999,9,     -999,9,     -999,9,     -999,1,   4.7127,1,   0.0112,1,     21.3,2,     -999,9,     -999,9,     -999,9,     -999,9,20230901,1916, -32.9972,  42.8682,-999          ,9,-999          ,9
33RR20230722  ,I05        ,159     ,  1,7          ,7          ,2,20230901,1852, -32.9972,  42.8682,     2948,   2206.7,2,   2.6079,2,  34.7409,2,  34.7396,2,    188.6,2,    188.4,2,    73.79,2,    30.20,2,     0.00,2,     2.11,2,     -999,9,     -999,9,     -999,9,   2243.0,2,   2343.8,2,   7.6210,2,    25.02,2,     -999,9,   2.6079,2,     -999,9,     -999,9,     -999,9,     -999,9,     -999,1,   4.9735,1,   0.0112,1,     -999,9,     -999,9,     -999,9,     -999,9,     -999,9,20230901,1912, -32.9972,  42.8682,-999          ,9,-999          ,9
33RR20230722  ,I05        ,159     ,  1,6          ,6          ,2,20230901,1852, -32.9972,  42.8682,     2948,   2374.6,2,   2.5147,2,  34.7762,2,  34.7752,2,    198.6,2,    198.7,2,    69.98,2,    28.81,2,     0.00,2,     2.00,2,    0.056,2,    0.033,2,   0.0300,2,   -999.0,9,     -999,9,     -999,9,     -999,9,     -999,9,   2.5146,2,     -999,9,     -999,9,     -999,9,     -999,9,     -999,1,   4.8692,1,   0.0113,1,     18.9,2,     -999,9,     -999,9,     -999,9,     -999,9,20230901,1908, -32.9972,  42.8682,-999          ,9,-999          ,9
33RR20230722  ,I05        ,159     ,  1,5          ,5          ,2,20230901,1852, -32.9972,  42.8682,     2948,   2571.3,2,   2.3791,2,  34.7903,2,  34.7893,2,    204.0,2,    204.7,2,    71.05,2,    28.27,2,     0.00,2,     1.95,2,     -999,9,     -999,9,     -999,9,   2231.9,2,   2345.2,2,   7.6465,2,    25.01,2,     -999,9,   2.3784,2,     -999,9,     -999,9,     -999,9,     -999,9,     -999,1,   4.8624,1,   0.0113,1,     -999,9,     -999,9,     -999,9,     -999,9,     -999,9,20230901,1903, -32.9972,  42.8682,-999          ,9,-999          ,9
33RR20230722  ,I05        ,159     ,  1,4          ,37         ,2,20230901,1852, -32.9972,  42.8682,     2948,   2666.1,2,   2.3289,2,  34.7945,2,  34.7938,2,    206.1,2,    206.4,2,    71.54,2,    28.08,2,     0.00,2,     1.93,2,    0.025,2,    0.021,2,   0.0300,2,   -999.0,9,     -999,9,     -999,9,     -999,9,     -999,9,   2.3281,2,     -999,9,     -999,9,     -999,9,     -999,9,     -999,1,   4.8610,1,   0.0111,1,     18.2,2,     -999,9,     -999,9,     -999,9,     -999,9,20230901,1901, -32.9972,  42.8682,-999          ,9,-999          ,9
33RR20230722  ,I05        ,159     ,  1,3          ,3          ,2,20230901,1852, -32.9972,  42.8682,     2948,   2759.6,2,   2.2719,2,  34.7968,2,  34.7960,2,    208.2,2,    208.5,2,    72.13,2,    27.91,2,     0.00,2,     1.92,2,    0.015,2,    0.021,2,   0.0200,2,   2231.3,2,   2345.3,2,   7.6530,2,    25.03,2,     -999,9,   2.2714,2,     -999,9,     -999,9,     -999,9,     -999,9,     -999,1,   4.9732,1,   0.0112,1,     17.8,2,     -999,9,     -999,9,     -999,9,     -999,9,20230901,1858, -32.9972,  42.8682,-999          ,9,-999          ,9
33RR20230722  ,I05        ,159     ,  1,2          ,2          ,2,20230901,1852, -32.9972,  42.8682,     2948,   2899.0,2,   2.1543,2,  34.7951,2,  34.7942,2,    210.1,2,    210.5,2,    74.57,2,    27.98,2,     0.00,2,     1.92,2,    0.014,2,    0.021,2,   0.0000,2,   2232.0,2,   2348.2,2,   7.6535,2,    25.00,2,     -999,9,   2.1541,2,     -999,9,     -999,9,     -999,9,     -999,9,     -999,1,   4.3837,1,   0.0115,1,     17.5,2,     -999,9,     -999,9,     -999,9,     -999,9,20230901,1855, -32.9972,  42.8682,-999          ,9,-999          ,9
33RR20230722  ,I05        ,159     ,  1,1          ,1          ,2,20230901,1852, -32.9972,  42.8682,     2948,   2979.7,2,   2.1009,2,  34.7941,2,  34.7940,2,    211.1,2,    211.3,2,    75.84,2,    28.03,2,     0.00,2,     1.92,2,    0.020,2,    0.018,2,   0.0100,2,   2233.0,6,   2346.2,2,   7.6539,2,    25.02,2,     -999,9,   2.1010,2,     -999,9,     -999,9,     -999,9,     -999,9,     -999,1,   0.4811,1,   0.0116,1,     17.0,2,     -999,9,     -999,9,     -999,9,     -999,9,20230901,1852, -32.9972,  42.8682,-999          ,9,-999          ,9