BOTTLE,20240422CCHHYDRO
EXPOCODE,SECT_ID,STNNBR,CASTNO,SAMPNO,BTLNBR,BTLNBR_FLAG_W,DATE,TIME,LATITUDE,LONGITUDE,DEPTH,CTDPRS,CTDPRS_FLAG_W,CTDTMP,CTDTMP_FLAG_W,CTDSAL,CTDSAL_FLAG_W,SALNTY,SALNTY_FLAG_W,CTDOXY,CTDOXY_FLAG_W,OXYGEN,OXYGEN_FLAG_W,SILCAT,SILCAT_FLAG_W,NITRAT,NITRAT_FLAG_W,NITRIT,NITRIT_FLAG_W,PHSPHT,PHSPHT_FLAG_W,CFC-11,CFC-11_FLAG_W,CFC-12,CFC-12_FLAG_W,SF6,SF6_FLAG_W,TCARBN,TCARBN_FLAG_W,ALKALI,ALKALI_FLAG_W,PH_TOT,PH_TOT_FLAG_W,PH_TMP,PH_TMP_FLAG_W,DOC,DOC_FLAG_W,REFTMP,REFTMP_FLAG_W,POC,POC_FLAG_W,PON,PON_FLAG_W,POP,POP_FLAG_W,DOP,DOP_FLAG_W,DELO18,DELO18_FLAG_W,CTDFLUOR,CTDFLUOR_FLAG_W,CTDXMISS,CTDXMISS_FLAG_W,N2O,N2O_FLAG_W,D15N_NO3,D15N_NO3_FLAG_W,D15N_NO2+NO3,D15N_NO2+NO3_FLAG_W,D18O_NO2+NO3,D18O_NO2+NO3_FLAG_W,D18O_NO3,D18O_NO3_FLAG_W,BTL_DATE,BTL_TIME,BTL_LAT,BTL_LON,HPLC,HPLC_FLAG_W,DNA,DNA_FLAG_W
,,,,,,,,,,,METERS,DBAR,,ITS-90,,PSS-78,,PSS-78,,UMOL/KG,,UMOL/KG,,UMOL/KG,,UMOL/KG,,UMOL/KG,,UMOL/KG,,PMOL/KG,,PMOL/KG,,FMOL/KG,,UMOL/KG,,UMOL/KG,,,,DEG C,,UMOL/KG,,ITS-90,,UG/KG,,UG/KG,,UG/L,,UMOL/KG,,/MILLE,,VOLTS,,VOLTS,,NMOL/KG,,/MILLE,,/MILLE,,/MILLE,,/MILLE,,,,,,,,,
33RR20230722  ,I05        ,46      ,  1,36         ,36         ,2,20230803,1807, -33.9982,  98.4191,     4763,      5.9,2,  13.7086,2,  35.2643,2,  35.2668,2,    254.5,2,    254.5,2,     1.07,2,     3.13,2,     0.16,2,     0.40,2,    2.701,2,    1.535,2,   2.5200,2,   2114.1,2,   2326.4,2,   7.8929,2,    25.02,2,     -999,9,  13.7068,2,     -999,9,     -999,9,     -999,9,     -999,9,     -999,9,   4.9748,1,   0.0418,1,      9.2,2,     -999,9,     -999,9,     -999,9,     -999,9,20230803,2012, -33.9982,  98.4191,-999          ,9,-999          ,9
33RR20230722  ,I05        ,46      ,  1,35         ,35         ,2,20230803,1807, -33.9982,  98.4191,     4763,     18.7,2,  13.7097,2,  35.2645,2,  35.2653,2,    254.5,2,    254.6,2,     1.07,2,     3.09,2,     0.16,2,     0.39,2,     -999,9,     -999,9,     -999,9,   2110.4,2,   2327.3,2,   7.8924,2,    25.02,2,     -999,9,  13.7088,2,     -999,9,     -999,9,     -999,9,     -999,9,     -999,9,   4.9258,1,   0.0402,1,     -999,9,     -999,9,     -999,9,     -999,9,     -999,9,20230803,2009, -33.9982,  98.4191,-999          ,9,-999          ,9
33RR20230722  ,I05        ,46      ,  1,34         ,34         ,2,20230803,1807, -33.9982,  98.4191,     4763,     37.0,2,  13.7134,2,  35.2646,2,  35.2655,2,    254.4,2,    254.4,2,     1.07,2,     3.08,2,     0.16,2,     0.38,2,     -999,9,     -999,9,     -999,9,   -999.0,9,     -999,9,     -999,9,     -999,9,     -999,9,  13.7130,2,     -999,9,     -999,9,     -999,9,     -999,9,     -999,9,   4.9745,1,   0.0442,1,     -999,9,     -999,9,     -999,9,     -999,9,     -999,9,20230803,2008, -33.9982,  98.4191,-999          ,9,-999          ,9
33RR20230722  ,I05        ,46      ,  1,33         ,33         ,2,20230803,1807, -33.9982,  98.4191,     4763,     59.3,2,  13.7181,2,  35.2642,2,  35.2647,2,    254.2,2,    254.3,2,     1.07,2,     3.09,2,     0.16,2,     0.40,2,    2.695,2,    1.530,2,   2.5200,2,   2110.8,2,   2324.8,2,   7.8941,2,    25.03,2,     -999,9,  13.7174,2,     -999,9,     -999,9,     -999,9,     -999,9,     -999,9,   4.9744,1,   0.0432,1,      9.1,2,     -999,9,     -999,9,     -999,9,     -999,9,20230803,2006, -33.9982,  98.4191,-999          ,9,-999          ,9
33RR20230722  ,I05        ,46      ,  1,32         ,32         ,2,20230803,1807, -33.9982,  98.4191,     4763,     82.4,2,  13.7172,2,  35.2633,2,  35.2641,2,    254.1,2,    254.2,2,     1.17,2,     3.08,2,     0.16,2,     0.41,2,     -999,9,     -999,9,     -999,9,   2109.4,2,   2326.8,2,   7.8939,2,    25.02,2,     -999,9,  13.7162,2,     -999,9,     -999,9,     -999,9,     -999,9,     -999,9,   4.9742,1,   0.0415,1,     -999,9,     -999,9,     -999,9,     -999,9,     -999,9,20230803,2004, -33.9982,  98.4191,-999          ,9,-999          ,9
33RR20230722  ,I05        ,46      ,  1,31         ,31         ,2,20230803,1807, -33.9982,  98.4191,     4763,    109.8,2,  13.6981,2,  35.2595,2,  35.2635,2,    253.7,2,    253.9,2,     1.07,2,     3.14,2,     0.16,2,     0.39,2,     -999,9,     -999,9,     -999,9,   2108.0,2,   2324.8,2,   7.8915,2,    25.02,2,     -999,9,  13.6993,2,     -999,9,     -999,9,     -999,9,     -999,9,     -999,9,   4.9219,1,   0.0392,1,     -999,9,     -999,9,     -999,9,     -999,9,     -999,9,20230803,2002, -33.9982,  98.4191,-999          ,9,-999          ,9
33RR20230722  ,I05        ,46      ,  1,30         ,30         ,2,20230803,1807, -33.9982,  98.4191,     4763,    127.8,2,  13.6858,2,  35.2567,2,  35.2572,2,    253.6,2,    254.1,2,     1.17,2,     3.19,2,     0.16,2,     0.40,2,     -999,9,     -999,9,     -999,9,   2107.2,2,   2325.7,2,   7.8916,2,    25.04,2,     -999,9,  13.6852,2,     -999,9,     -999,9,     -999,9,     -999,9,     -999,9,   4.9733,1,   0.0396,1,     -999,9,     -999,9,     -999,9,     -999,9,     -999,9,20230803,2000, -33.9982,  98.4191,-999          ,9,-999          ,9
33RR20230722  ,I05        ,46      ,  1,29         ,29         ,2,20230803,1807, -33.9982,  98.4191,     4763,    168.5,2,  12.8015,2,  35.2100,2,  35.2044,2,    235.5,3,    238.3,2,     2.05,2,     6.97,2,     0.02,2,     0.61,2,    2.594,2,    1.626,2,   2.5300,2,   2128.1,2,   2315.9,2,   7.8412,2,    25.04,2,     -999,9,  12.7877,2,     -999,9,     -999,9,     -999,9,     -999,9,     -999,9,   4.9695,1,   0.0126,1,     11.0,2,     -999,9,     -999,9,     -999,9,     -999,9,20230803,1958, -33.9982,  98.4191,-999          ,9,-999          ,9
33RR20230722  ,I05        ,46      ,  1,28         ,28         ,2,20230803,1807, -33.9982,  98.4191,     4763,    192.1,2,  12.3978,2,  35.1398,2,  35.1398,2,    238.0,2,    240.0,2,     1.95,2,     7.69,2,     0.01,2,     0.65,2,     -999,9,     -999,9,     -999,9,   2124.8,2,   2313.8,2,   7.8343,2,    25.04,2,     -999,9,  12.3909,2,     -999,9,     -999,9,     -999,9,     -999,9,     -999,9,   4.9696,1,   0.0115,1,     -999,9,     -999,9,     -999,9,     -999,9,     -999,9,20230803,1957, -33.9982,  98.4191,-999          ,9,-999          ,9
33RR20230722  ,I05        ,46      ,  1,27         ,27         ,2,20230803,1807, -33.9982,  98.4191,     4763,    233.1,2,  11.8860,2,  35.0525,2,  35.0583,2,    243.5,2,    244.2,2,     2.34,2,     8.63,2,     0.00,2,     0.72,2,     -999,9,     -999,9,     -999,9,   2125.9,2,   2311.8,2,   7.8241,6,    25.02,2,     -999,9,  11.8982,2,     -999,9,     -999,9,     -999,9,     -999,9,     -999,9,   4.9695,1,   0.0116,1,     -999,9,     -999,9,     -999,9,     -999,9,     -999,9,20230803,1955, -33.9982,  98.4191,-999          ,9,-999          ,9
33RR20230722  ,I05        ,46      ,  1,26         ,26         ,2,20230803,1807, -33.9982,  98.4191,     4763,    276.2,2,  11.5068,2,  34.9880,2,  34.9799,2,    244.6,2,    244.7,2,     2.44,2,     9.81,2,     0.00,2,     0.77,2,    2.837,2,    1.746,2,   2.5400,2,   -999.0,9,     -999,9,     -999,9,     -999,9,     -999,9,  11.5095,2,     -999,9,     -999,9,     -999,9,     -999,9,     -999,9,   4.9692,1,   0.0118,1,     11.9,2,     -999,9,     -999,9,     -999,9,     -999,9,20230803,1953, -33.9982,  98.4191,-999          ,9,-999          ,9
33RR20230722  ,I05        ,46      ,  1,25         ,25         ,2,20230803,1807, -33.9982,  98.4191,     4763,    310.9,2,  11.2209,2,  34.9390,2,  34.9382,2,    245.4,2,    245.0,2,     2.93,2,    10.40,2,     0.00,2,     0.83,2,     -999,9,     -999,9,     -999,9,   2131.5,2,   2305.0,6,   7.8064,2,    25.03,2,     -999,9,  11.2056,2,     -999,9,     -999,9,     -999,9,     -999,9,     -999,9,   4.9689,1,   0.0117,1,     -999,9,     -999,9,     -999,9,     -999,9,     -999,9,20230803,1951, -33.9982,  98.4191,-999          ,9,-999          ,9
33RR20230722  ,I05        ,46      ,  1,24         ,24         ,2,20230803,1807, -33.9982,  98.4191,     4763,    384.3,2,  10.6883,2,  34.8463,2,  34.8469,2,    243.8,2,    243.2,2,     3.32,2,    12.13,2,     0.00,2,     0.93,2,     -999,9,     -999,9,     -999,9,   -999.0,9,     -999,9,     -999,9,     -999,9,     -999,9,  10.6871,2,     -999,9,     -999,9,     -999,9,     -999,9,     -999,9,   4.9680,1,   0.0117,1,     -999,9,     -999,9,     -999,9,     -999,9,     -999,9,20230803,1949, -33.9982,  98.4191,-999          ,9,-999          ,9
33RR20230722  ,I05        ,46      ,  1,23         ,23         ,2,20230803,1807, -33.9982,  98.4191,     4763,    454.1,2,  10.2149,2,  34.7741,2,  34.7728,2,    242.4,2,    241.6,2,     3.71,2,    13.88,2,     0.00,2,     1.03,2,    2.996,2,    1.862,2,   2.4400,2,   2139.4,2,   2294.9,6,   7.7755,2,    25.04,2,     -999,9,  10.2156,2,     -999,9,     -999,9,     -999,9,     -999,9,     -999,9,   4.9676,1,   0.0116,1,     12.5,2,     -999,9,     -999,9,     -999,9,     -999,9,20230803,1946, -33.9982,  98.4191,-999          ,9,-999          ,9
33RR20230722  ,I05        ,46      ,  1,22         ,22         ,2,20230803,1807, -33.9982,  98.4191,     4763,    532.2,2,   9.8367,2,  34.7342,2,  34.7331,2,    235.2,2,    235.2,2,     4.59,2,    15.53,2,     0.00,2,     1.12,2,     -999,9,     -999,9,     -999,9,   2140.4,2,   2293.0,2,   7.7592,2,    25.02,2,     -999,9,   9.8366,2,     -999,9,     -999,9,     -999,9,     -999,9,     -999,9,   4.9667,1,   0.0116,1,     -999,9,     -999,9,     -999,9,     -999,9,     -999,9,20230803,1944, -33.9982,  98.4191,-999          ,9,-999          ,9
33RR20230722  ,I05        ,46      ,  1,21         ,21         ,2,20230803,1807, -33.9982,  98.4191,     4763,    618.1,2,   9.2559,2,  34.6638,2,  34.6651,2,    231.6,2,    231.9,2,     5.27,2,    17.37,2,     0.00,2,     1.24,2,    3.122,2,    1.916,2,   2.0100,2,   2144.1,2,   2289.2,2,   7.7431,6,    25.02,2,     -999,9,   9.2921,2,     -999,9,     -999,9,     -999,9,     -999,9,     -999,9,   4.9668,1,   0.0116,1,     13.6,2,     -999,9,     -999,9,     -999,9,     -999,9,20230803,1941, -33.9982,  98.4191,-999          ,9,-999          ,9
33RR20230722  ,I05        ,46      ,  1,20         ,20         ,2,20230803,1807, -33.9982,  98.4191,     4763,    713.7,2,   8.6057,2,  34.5913,2,  34.5895,2,    221.1,2,    221.0,2,     8.29,2,    19.93,2,     0.00,2,     1.41,2,     -999,9,     -999,9,     -999,9,   -999.0,9,     -999,9,     -999,9,     -999,9,     -999,9,   8.6179,2,     -999,9,     -999,9,     -999,9,     -999,9,     -999,9,   4.9671,1,   0.0116,1,     -999,9,     -999,9,     -999,9,     -999,9,     -999,9,20230803,1938, -33.9982,  98.4191,-999          ,9,-999          ,9
33RR20230722  ,I05        ,46      ,  1,19         ,19         ,2,20230803,1807, -33.9982,  98.4191,     4763,    818.8,2,   7.4410,2,  34.4922,2,  34.4919,2,    203.3,2,    204.0,2,    14.25,2,    24.28,2,     0.00,2,     1.68,2,    2.762,2,    1.561,2,   1.2200,2,   2170.5,2,   2285.8,2,   7.6736,2,    25.04,2,     -999,9,   7.4383,2,     -999,9,     -999,9,     -999,9,     -999,9,     -999,9,   4.9687,1,   0.0114,1,     16.8,2,     -999,9,     -999,9,     -999,9,     -999,9,20230803,1935, -33.9982,  98.4191,-999          ,9,-999          ,9
33RR20230722  ,I05        ,46      ,  1,18         ,18         ,2,20230803,1807, -33.9982,  98.4191,     4763,    901.6,2,   6.1571,2,  34.4092,2,  34.4086,2,    198.1,2,    198.8,2,    21.47,2,    27.59,2,     0.00,2,     1.91,2,     -999,9,     -999,9,     -999,9,   2184.7,2,   2287.2,2,   7.6410,2,    25.03,2,     -999,9,   6.1651,2,     -999,9,     -999,9,     -999,9,     -999,9,     -999,9,   4.9698,1,   0.0116,1,     -999,9,     -999,9,     -999,9,     -999,9,     -999,9,20230803,1933, -33.9982,  98.4191,-999          ,9,-999          ,9
33RR20230722  ,I05        ,46      ,  1,17         ,17         ,2,20230803,1807, -33.9982,  98.4191,     4763,   1026.4,2,   4.7275,2,  34.3695,2,  34.3707,2,    192.7,2,    192.5,2,    35.23,2,    30.87,2,     0.00,2,     2.16,2,     -999,9,     -999,9,     -999,9,   2208.1,2,   2296.3,2,   7.6082,2,    25.02,2,     -999,9,   4.7276,2,     -999,9,     -999,9,     -999,9,     -999,9,     -999,9,   4.9710,1,   0.0115,1,     -999,9,     -999,9,     -999,9,     -999,9,     -999,9,20230803,1930, -33.9982,  98.4191,-999          ,9,-999          ,9
33RR20230722  ,I05        ,46      ,  1,16         ,16         ,2,20230803,1807, -33.9982,  98.4191,     4763,   1145.9,2,   4.1021,2,  34.4054,2,  34.4065,2,    179.6,2,    179.2,2,    47.91,2,    32.75,2,     0.00,2,     2.32,2,    1.285,2,    0.670,2,   0.3300,2,   -999.0,9,     -999,9,     -999,9,     -999,9,     -999,9,   4.1015,2,     -999,9,     -999,9,     -999,9,     -999,9,     -999,9,   4.9723,1,   0.0114,1,     22.1,2,     -999,9,     -999,9,     -999,9,     -999,9,20230803,1927, -33.9982,  98.4191,-999          ,9,-999          ,9
33RR20230722  ,I05        ,46      ,  1,15         ,15         ,2,20230803,1807, -33.9982,  98.4191,     4763,   1265.2,2,   3.6790,2,  34.4699,2,  34.4697,2,    163.6,2,    163.8,2,    61.57,2,    33.92,2,     0.00,2,     2.42,2,     -999,9,     -999,9,     -999,9,   2246.2,2,   2324.0,2,   7.5690,2,    25.01,2,     -999,9,   3.6781,2,     -999,9,     -999,9,     -999,9,     -999,9,     -999,9,   4.9617,1,   0.0113,1,     -999,9,     -999,9,     -999,9,     -999,9,     -999,9,20230803,1923, -33.9982,  98.4191,-999          ,9,-999          ,9
33RR20230722  ,I05        ,46      ,  1,14         ,14         ,2,20230803,1807, -33.9982,  98.4191,     4763,   1385.2,2,   3.3779,2,  34.5220,2,  34.5225,2,    157.0,2,    156.8,2,    70.55,2,    34.29,2,     0.00,2,     2.46,2,    0.391,2,    0.196,2,   0.1000,2,   2257.5,6,   2332.8,2,   7.5625,6,    25.02,2,     -999,9,   3.3792,2,     -999,9,     -999,9,     -999,9,     -999,9,     -999,9,   4.9089,1,   0.0112,1,     23.7,2,     -999,9,     -999,9,     -999,9,     -999,9,20230803,1920, -33.9982,  98.4191,-999          ,9,-999          ,9
33RR20230722  ,I05        ,46      ,  1,13         ,13         ,2,20230803,1807, -33.9982,  98.4191,     4763,   1509.4,2,   3.1244,2,  34.5691,2,  34.5692,2,    155.3,2,    155.1,2,    76.89,2,    34.55,2,     0.00,2,     2.46,2,     -999,9,     -999,9,     -999,9,   2263.7,2,   2340.8,2,   7.5601,2,    25.03,2,     -999,9,   3.1239,2,     -999,9,     -999,9,     -999,9,     -999,9,     -999,9,   4.9754,1,   0.0112,1,     -999,9,     -999,9,     -999,9,     -999,9,     -999,9,20230803,1917, -33.9982,  98.4191,-999          ,9,-999          ,9
33RR20230722  ,I05        ,46      ,  1,12         ,12         ,2,20230803,1807, -33.9982,  98.4191,     4763,   1656.0,2,   2.9275,2,  34.6093,2,     -999,9,    156.9,2,     -999,9,     -999,9,     -999,9,     -999,9,     -999,9,     -999,9,     -999,9,     -999,9,   -999.0,9,     -999,9,     -999,9,     -999,9,     -999,9,   2.9277,2,     -999,9,     -999,9,     -999,9,     -999,9,     -999,9,   4.9747,1,   0.0116,1,     -999,9,     -999,9,     -999,9,     -999,9,     -999,9,20230803,1913, -33.9982,  98.4191,-999          ,9,-999          ,9
33RR20230722  ,I05        ,46      ,  1,11         ,11         ,2,20230803,1807, -33.9982,  98.4191,     4763,   1747.7,2,   2.7874,2,  34.6387,2,  34.6384,2,    158.9,2,    159.1,2,    85.17,2,    33.64,2,     0.00,2,     2.40,2,    0.086,2,    0.052,2,   0.0100,2,   2264.4,2,   2348.8,2,   7.5713,2,    25.02,2,     -999,9,   2.7894,2,     -999,9,     -999,9,     -999,9,     -999,9,     -999,9,   4.6866,1,   0.0119,1,     22.6,2,     -999,9,     -999,9,     -999,9,     -999,9,20230803,1910, -33.9982,  98.4191,-999          ,9,-999          ,9
33RR20230722  ,I05        ,46      ,  1,10         ,10         ,2,20230803,1807, -33.9982,  98.4191,     4763,   1889.8,2,   2.6121,2,  34.6720,2,  34.6722,2,    164.4,2,    164.4,2,    88.69,2,    32.95,2,     0.00,2,     2.38,2,     -999,9,     -999,9,     -999,9,   2265.9,2,   2350.9,2,   7.5811,2,    25.01,2,     -999,9,   2.6120,2,     -999,9,     -999,9,     -999,9,     -999,9,     -999,9,   4.9749,1,   0.0118,1,     -999,9,     -999,9,     -999,9,     -999,9,     -999,9,20230803,1907, -33.9982,  98.4191,-999          ,9,-999          ,9
33RR20230722  ,I05        ,46      ,  1,9          ,9          ,2,20230803,1807, -33.9982,  98.4191,     4763,   2102.7,2,   2.3912,2,  34.7050,2,  34.7052,2,    173.1,2,    173.2,2,    89.37,2,    32.22,2,     0.00,2,     2.29,2,    0.041,2,    0.034,2,  -0.0300,2,   2267.8,2,   2355.7,2,   7.5940,2,    25.02,2,     -999,9,   2.3912,2,     -999,9,     -999,9,     -999,9,     -999,9,     -999,9,   4.8121,1,   0.0119,1,     21.4,2,     -999,9,     -999,9,     -999,9,     -999,9,20230803,1902, -33.9982,  98.4191,-999          ,9,-999          ,9
33RR20230722  ,I05        ,46      ,  1,8          ,8          ,2,20230803,1807, -33.9982,  98.4191,     4763,   2382.4,2,   2.1154,2,  34.7313,2,  34.7309,2,    184.8,2,    184.9,2,    91.22,2,    31.00,2,     0.00,2,     2.23,2,     -999,9,     -999,9,     -999,9,   -999.0,9,     -999,9,     -999,9,     -999,9,     -999,9,   2.1174,2,     -999,9,     -999,9,     -999,9,     -999,9,     -999,9,   4.9747,1,   0.0113,1,     -999,9,     -999,9,     -999,9,     -999,9,     -999,9,20230803,1856, -33.9982,  98.4191,-999          ,9,-999          ,9
33RR20230722  ,I05        ,46      ,  1,7          ,7          ,2,20230803,1807, -33.9982,  98.4191,     4763,   2729.7,2,   1.8170,2,  34.7396,2,  34.7400,2,    193.2,2,    193.3,2,    97.27,2,    30.85,2,     0.00,2,     2.18,2,    0.036,2,    0.027,2,   0.0200,2,   2257.8,2,   2357.4,2,   7.6169,6,    25.02,2,     -999,9,   1.8168,2,     -999,9,     -999,9,     -999,9,     -999,9,     -999,9,   4.9214,1,   0.0121,1,     19.0,2,     -999,9,     -999,9,     -999,9,     -999,9,20230803,1849, -33.9982,  98.4191,-999          ,9,-999          ,9
33RR20230722  ,I05        ,46      ,  1,6          ,6          ,2,20230803,1807, -33.9982,  98.4191,     4763,   3048.3,2,   1.5597,2,  34.7350,2,  34.7351,2,    197.7,2,    197.8,2,   103.90,2,    31.20,2,     0.00,2,     2.20,2,     -999,9,     -999,9,     -999,9,   -999.0,9,     -999,9,     -999,9,     -999,9,     -999,9,   1.5596,2,     -999,9,     -999,9,     -999,9,     -999,9,     -999,9,   4.9754,1,   0.0111,1,     -999,9,     -999,9,     -999,9,     -999,9,     -999,9,20230803,1843, -33.9982,  98.4191,-999          ,9,-999          ,9
33RR20230722  ,I05        ,46      ,  1,5          ,5          ,2,20230803,1807, -33.9982,  98.4191,     4763,   3464.8,2,   1.2943,2,  34.7250,2,  34.7262,2,    201.7,2,    201.8,2,   111.61,2,    31.52,2,     0.00,2,     2.22,2,    0.060,2,    0.040,2,   0.0400,2,   2265.4,2,   2362.1,6,   7.6190,2,    25.02,2,     -999,9,   1.2955,2,     -999,9,     -999,9,     -999,9,     -999,9,     -999,9,   4.9760,1,   0.0113,1,     18.4,2,     -999,9,     -999,9,     -999,9,     -999,9,20230803,1835, -33.9982,  98.4191,-999          ,9,-999          ,9
33RR20230722  ,I05        ,46      ,  1,4          ,37         ,2,20230803,1807, -33.9982,  98.4191,     4763,   3815.8,2,   1.1651,2,  34.7183,2,  34.7180,2,    203.3,2,    203.4,2,   116.39,2,    31.93,2,     0.00,2,     2.24,2,     -999,9,     -999,9,     -999,9,   -999.0,9,     -999,9,     -999,9,     -999,9,     -999,9,   1.1651,2,     -999,9,     -999,9,     -999,9,     -999,9,     -999,9,   4.9371,1,   0.0112,1,     -999,9,     -999,9,     -999,9,     -999,9,     -999,9,20230803,1828, -33.9982,  98.4191,-999          ,9,-999          ,9
33RR20230722  ,I05        ,46      ,  1,3          ,3          ,2,20230803,1807, -33.9982,  98.4191,     4763,   4328.6,2,   1.0873,2,  34.7125,2,  34.7123,2,    205.0,2,    205.2,2,   119.80,2,    32.12,2,     0.00,2,     2.26,2,    0.082,2,    0.055,2,   0.0800,2,   2270.3,2,   2370.5,2,   7.6204,2,    25.03,2,     -999,9,   1.0872,2,     -999,9,     -999,9,     -999,9,     -999,9,     -999,9,   4.9770,1,   0.0112,1,     19.0,2,     -999,9,     -999,9,     -999,9,     -999,9,20230803,1818, -33.9982,  98.4191,-999          ,9,-999          ,9