BOTTLE,20240422CCHHYDRO
EXPOCODE,SECT_ID,STNNBR,CASTNO,SAMPNO,BTLNBR,BTLNBR_FLAG_W,DATE,TIME,LATITUDE,LONGITUDE,DEPTH,CTDPRS,CTDPRS_FLAG_W,CTDTMP,CTDTMP_FLAG_W,CTDSAL,CTDSAL_FLAG_W,SALNTY,SALNTY_FLAG_W,CTDOXY,CTDOXY_FLAG_W,OXYGEN,OXYGEN_FLAG_W,SILCAT,SILCAT_FLAG_W,NITRAT,NITRAT_FLAG_W,NITRIT,NITRIT_FLAG_W,PHSPHT,PHSPHT_FLAG_W,CFC-11,CFC-11_FLAG_W,CFC-12,CFC-12_FLAG_W,SF6,SF6_FLAG_W,TCARBN,TCARBN_FLAG_W,ALKALI,ALKALI_FLAG_W,PH_TOT,PH_TOT_FLAG_W,PH_TMP,PH_TMP_FLAG_W,DOC,DOC_FLAG_W,REFTMP,REFTMP_FLAG_W,POC,POC_FLAG_W,PON,PON_FLAG_W,POP,POP_FLAG_W,DOP,DOP_FLAG_W,DELO18,DELO18_FLAG_W,CTDFLUOR,CTDFLUOR_FLAG_W,CTDXMISS,CTDXMISS_FLAG_W,N2O,N2O_FLAG_W,D15N_NO3,D15N_NO3_FLAG_W,D15N_NO2+NO3,D15N_NO2+NO3_FLAG_W,D18O_NO2+NO3,D18O_NO2+NO3_FLAG_W,D18O_NO3,D18O_NO3_FLAG_W,BTL_DATE,BTL_TIME,BTL_LAT,BTL_LON,HPLC,HPLC_FLAG_W,DNA,DNA_FLAG_W
,,,,,,,,,,,METERS,DBAR,,ITS-90,,PSS-78,,PSS-78,,UMOL/KG,,UMOL/KG,,UMOL/KG,,UMOL/KG,,UMOL/KG,,UMOL/KG,,PMOL/KG,,PMOL/KG,,FMOL/KG,,UMOL/KG,,UMOL/KG,,,,DEG C,,UMOL/KG,,ITS-90,,UG/KG,,UG/KG,,UG/L,,UMOL/KG,,/MILLE,,VOLTS,,VOLTS,,NMOL/KG,,/MILLE,,/MILLE,,/MILLE,,/MILLE,,,,,,,,,
33RR20230722  ,I05        ,164     ,  1,36         ,38         ,2,20230903,0032, -32.9972,  40.9867,     4968,      5.1,2,  18.7756,2,  35.6993,2,  35.6980,2,    235.9,2,    234.7,2,     1.56,2,     0.01,2,     0.00,2,     0.10,2,     -999,9,     -999,9,     -999,9,   2068.4,2,   2334.7,2,   7.9768,2,    25.06,2,     -999,1,  18.7746,2,     -999,9,     -999,9,     -999,9,     -999,1,     -999,9,   4.6827,1,   0.0184,1,     -999,9,     -999,9,     -999,9,     -999,9,     -999,9,20230903,0241, -32.9972,  40.9867,-999          ,9,-999          ,9
33RR20230722  ,I05        ,164     ,  1,35         ,35         ,2,20230903,0032, -32.9972,  40.9867,     4968,     23.2,2,  18.3716,2,  35.7003,2,  35.6984,2,    237.9,2,    236.9,2,     1.56,2,     0.00,2,     0.00,2,     0.09,2,     -999,9,     -999,9,     -999,9,   2068.2,2,   2336.8,2,   7.9776,2,    25.05,2,     -999,1,  18.3661,2,     -999,9,     -999,9,     -999,9,     -999,1,     -999,9,   4.9635,1,   0.0176,1,     -999,9,     -999,9,     -999,9,     -999,9,     -999,9,20230903,0239, -32.9972,  40.9867,-999          ,9,-999          ,9
33RR20230722  ,I05        ,164     ,  1,34         ,34         ,2,20230903,0032, -32.9972,  40.9867,     4968,     41.3,2,  18.1773,2,  35.6971,2,  35.6970,2,    238.2,2,    237.5,2,     1.66,2,     0.00,2,     0.00,2,     0.08,2,     -999,9,     -999,9,     -999,9,   -999.0,9,     -999,9,     -999,9,     -999,9,     -999,1,  18.1767,2,     -999,9,     -999,9,     -999,9,     -999,1,     -999,9,   4.9749,1,   0.0203,1,     -999,9,     -999,9,     -999,9,     -999,9,     -999,9,20230903,0237, -32.9972,  40.9867,-999          ,9,-999          ,9
33RR20230722  ,I05        ,164     ,  1,33         ,33         ,2,20230903,0032, -32.9972,  40.9867,     4968,     62.1,2,  17.9890,2,  35.6890,2,  35.6883,2,    237.7,2,    236.8,2,     1.66,2,     0.00,2,     0.00,2,     0.09,2,     -999,9,     -999,9,     -999,9,   2069.2,2,   2336.1,2,   7.9730,6,    25.04,2,     -999,1,  17.9890,2,     -999,9,     -999,9,     -999,9,     -999,1,     -999,9,   4.6963,1,   0.0302,1,     -999,9,     -999,9,     -999,9,     -999,9,     -999,9,20230903,0235, -32.9972,  40.9867,-999          ,9,-999          ,9
33RR20230722  ,I05        ,164     ,  1,32         ,32         ,2,20230903,0032, -32.9972,  40.9867,     4968,     85.4,2,  17.7964,2,  35.6689,2,  35.6727,2,    232.4,2,    231.8,2,     1.76,2,     0.27,2,     0.19,2,     0.13,2,     -999,9,     -999,9,     -999,9,   -999.0,9,     -999,9,     -999,9,     -999,9,     -999,1,  17.7943,2,     -999,9,     -999,9,     -999,9,     -999,1,     -999,9,   4.9175,1,   0.0350,1,     -999,9,     -999,9,     -999,9,     -999,9,     -999,9,20230903,0233, -32.9972,  40.9867,-999          ,9,-999          ,9
33RR20230722  ,I05        ,164     ,  1,31         ,31         ,2,20230903,0032, -32.9972,  40.9867,     4968,    111.3,2,  17.5822,2,  35.6552,2,  35.6548,2,    229.2,2,    229.6,2,     1.85,2,     0.82,2,     0.20,2,     0.16,2,     -999,9,     -999,9,     -999,9,   2076.9,2,   2332.7,6,   7.9537,2,    25.01,2,     -999,1,  17.5795,2,     -999,9,     -999,9,     -999,9,     -999,1,     -999,9,   4.9721,1,   0.0189,1,     -999,9,     -999,9,     -999,9,     -999,9,     -999,9,20230903,0231, -32.9972,  40.9867,-999          ,9,-999          ,9
33RR20230722  ,I05        ,164     ,  1,30         ,30         ,2,20230903,0032, -32.9972,  40.9867,     4968,    140.9,2,  17.2635,2,  35.6267,2,  35.6326,2,    225.5,2,    225.5,2,     2.15,2,     1.80,2,     0.04,2,     0.20,2,     -999,9,     -999,9,     -999,9,   2083.8,2,   2331.1,2,   7.9400,2,    25.01,2,     -999,1,  17.2617,2,     -999,9,     -999,9,     -999,9,     -999,1,     -999,9,   4.9709,1,   0.0166,1,     -999,9,     -999,9,     -999,9,     -999,9,     -999,9,20230903,0229, -32.9972,  40.9867,-999          ,9,-999          ,9
33RR20230722  ,I05        ,164     ,  1,29         ,29         ,2,20230903,0032, -32.9972,  40.9867,     4968,    174.8,2,  16.7318,2,  35.5714,2,  35.5776,2,    215.2,2,    216.5,2,     2.73,2,     3.59,2,     0.00,2,     0.32,2,     -999,9,     -999,9,     -999,9,   2093.6,2,   2328.6,2,   7.9132,2,    25.02,2,     -999,1,  16.7396,2,     -999,9,     -999,9,     -999,9,     -999,1,     -999,9,   4.9664,1,   0.0118,1,     -999,9,     -999,9,     -999,9,     -999,9,     -999,9,20230903,0228, -32.9972,  40.9867,-999          ,9,-999          ,9
33RR20230722  ,I05        ,164     ,  1,28         ,28         ,2,20230903,0032, -32.9972,  40.9867,     4968,    211.5,2,  16.3139,2,  35.5487,2,  35.5484,2,    213.5,2,    214.2,2,     3.02,2,     4.43,2,     0.00,2,     0.36,2,     -999,9,     -999,9,     -999,9,   -999.0,9,     -999,9,     -999,9,     -999,9,     -999,1,  16.3131,2,     -999,9,     -999,9,     -999,9,     -999,1,     -999,9,   4.9592,1,   0.0116,1,     -999,9,     -999,9,     -999,9,     -999,9,     -999,9,20230903,0226, -32.9972,  40.9867,-999          ,9,-999          ,9
33RR20230722  ,I05        ,164     ,  1,27         ,27         ,2,20230903,0032, -32.9972,  40.9867,     4968,    250.7,2,  15.8004,2,  35.4979,2,  35.5001,2,    212.3,2,    213.3,2,     3.22,2,     5.25,2,     0.00,2,     0.43,2,     -999,9,     -999,9,     -999,9,   2106.0,2,   2324.2,2,   7.8858,2,    25.00,2,     -999,1,  15.7992,2,     -999,9,     -999,9,     -999,9,     -999,1,     -999,9,   4.9681,1,   0.0117,1,     -999,9,     -999,9,     -999,9,     -999,9,     -999,9,20230903,0224, -32.9972,  40.9867,-999          ,9,-999          ,9
33RR20230722  ,I05        ,164     ,  1,26         ,26         ,2,20230903,0032, -32.9972,  40.9867,     4968,    300.0,2,  15.1986,2,  35.4439,2,  35.4462,2,    213.5,2,    214.4,2,     3.41,2,     6.07,2,     0.00,2,     0.48,2,    2.275,3,    1.476,2,   2.0600,2,   2111.5,2,   2322.1,2,   7.8708,2,    25.03,2,     -999,1,  15.2111,2,     -999,9,     -999,9,     -999,9,     -999,9,     -999,9,   4.8156,1,   0.0115,1,     10.6,3,     -999,9,     -999,9,     -999,9,     -999,9,20230903,0222, -32.9972,  40.9867,-999          ,9,-999          ,9
33RR20230722  ,I05        ,164     ,  1,25         ,25         ,2,20230903,0032, -32.9972,  40.9867,     4968,    356.3,2,  14.4815,2,  35.3746,2,  35.3738,2,    216.7,2,    217.3,2,     3.41,2,     6.99,2,     0.00,2,     0.54,2,     -999,9,     -999,9,     -999,9,   2115.7,2,   2319.8,2,   7.8577,2,    25.00,2,     -999,1,  14.4700,2,     -999,9,     -999,9,     -999,9,     -999,9,     -999,9,   4.6902,1,   0.0116,1,     -999,9,     -999,9,     -999,9,     -999,9,     -999,9,20230903,0220, -32.9972,  40.9867,-999          ,9,-999          ,9
33RR20230722  ,I05        ,164     ,  1,24         ,24         ,2,20230903,0032, -32.9972,  40.9867,     4968,    425.2,2,  13.7602,2,  35.2982,2,  35.2974,2,    221.4,2,    221.9,2,     3.41,2,     7.96,2,     0.00,2,     0.60,2,    2.489,3,    1.596,2,   2.1200,2,   -999.0,9,     -999,9,     -999,9,     -999,9,     -999,1,  13.7532,2,     -999,9,     -999,9,     -999,9,     -999,9,     -999,9,   4.9674,1,   0.0115,1,     10.9,3,     -999,9,     -999,9,     -999,9,     -999,9,20230903,0217, -32.9972,  40.9867,-999          ,9,-999          ,9
33RR20230722  ,I05        ,164     ,  1,23         ,23         ,2,20230903,0032, -32.9972,  40.9867,     4968,    503.2,2,  13.1570,2,  35.2292,2,  35.2292,2,    226.1,2,    226.5,2,     3.51,2,     8.87,2,     0.00,2,     0.67,2,     -999,9,     -999,9,     -999,9,   2120.5,2,   2312.4,2,   7.8325,2,    25.01,2,     -999,1,  13.1562,2,     -999,9,     -999,9,     -999,9,     -999,9,     -999,9,   4.8901,1,   0.0115,1,     -999,9,     -999,9,     -999,9,     -999,9,     -999,9,20230903,0214, -32.9972,  40.9867,-999          ,9,-999          ,9
33RR20230722  ,I05        ,164     ,  1,22         ,22         ,2,20230903,0032, -32.9972,  40.9867,     4968,    587.9,2,  12.5416,2,  35.1413,2,  35.1415,2,    225.6,2,    225.3,2,     3.71,2,    10.31,2,     0.00,2,     0.75,2,    2.705,3,    1.689,2,   2.0800,2,   2123.5,6,   2308.4,2,   7.8180,6,    25.02,2,     -999,1,  12.5416,2,     -999,9,     -999,9,     -999,9,     -999,9,     -999,9,   4.9667,1,   0.0107,1,     12.4,3,     -999,9,     -999,9,     -999,9,     -999,9,20230903,0212, -32.9972,  40.9867,-999          ,9,-999          ,9
33RR20230722  ,I05        ,164     ,  1,21         ,21         ,2,20230903,0032, -32.9972,  40.9867,     4968,    678.8,2,  11.6738,2,  35.0095,2,  35.0087,2,    222.7,2,    222.7,2,     4.39,2,    12.55,2,     0.00,2,     0.90,2,     -999,9,     -999,9,     -999,9,   2130.9,2,   2302.2,2,   7.7952,2,    25.04,2,     -999,1,  11.6709,2,     -999,9,     -999,9,     -999,9,     -999,9,     -999,9,   4.7609,1,   0.0114,1,     -999,9,     -999,9,     -999,9,     -999,9,     -999,9,20230903,0209, -32.9972,  40.9867,-999          ,9,-999          ,9
33RR20230722  ,I05        ,164     ,  1,20         ,20         ,2,20230903,0032, -32.9972,  40.9867,     4968,    773.6,2,  10.4200,2,  34.8375,2,  34.8367,2,    218.8,2,    218.5,2,     6.25,2,    15.79,2,     0.00,2,     1.10,2,    2.866,3,    1.786,2,   1.6400,2,   -999.0,9,     -999,9,     -999,9,     -999,9,     -999,1,  10.4199,2,     -999,9,     -999,9,     -999,9,     -999,9,     -999,9,   4.6546,1,   0.0112,1,     14.1,3,     -999,9,     -999,9,     -999,9,     -999,9,20230903,0206, -32.9972,  40.9867,-999          ,9,-999          ,9
33RR20230722  ,I05        ,164     ,  1,19         ,19         ,2,20230903,0032, -32.9972,  40.9867,     4968,    870.4,2,   9.0691,2,  34.6722,2,  34.6724,2,    213.2,2,    213.3,2,     9.27,2,    19.48,2,     0.00,2,     1.36,2,     -999,9,     -999,9,     -999,9,   2152.0,2,   2290.5,2,   7.7233,2,    24.98,2,     -999,1,   9.0720,2,     -999,9,     -999,9,     -999,9,     -999,9,     -999,9,   4.9229,1,   0.0113,1,     -999,9,     -999,9,     -999,9,     -999,9,     -999,9,20230903,0204, -32.9972,  40.9867,-999          ,9,-999          ,9
33RR20230722  ,I05        ,164     ,  1,18         ,18         ,2,20230903,0032, -32.9972,  40.9867,     4968,    965.5,2,   7.9560,2,  34.5671,2,  34.5669,2,    208.2,2,    207.8,2,    13.57,2,    22.65,2,     0.00,2,     1.54,2,    2.910,3,    1.651,2,   1.2600,2,   2161.6,2,   2289.3,6,   7.6902,2,    25.00,2,     -999,1,   7.9645,2,     -999,9,     -999,9,     -999,9,     -999,9,     -999,9,   4.8972,1,   0.0112,1,     18.1,3,     -999,9,     -999,9,     -999,9,     -999,9,20230903,0201, -32.9972,  40.9867,-999          ,9,-999          ,9
33RR20230722  ,I05        ,164     ,  1,17         ,17         ,2,20230903,0032, -32.9972,  40.9867,     4968,   1065.1,2,   6.5057,2,  34.4533,2,  34.4538,2,    204.2,2,    204.1,2,    20.79,2,    26.43,2,     0.00,2,     1.81,2,     -999,9,     -999,9,     -999,9,   2179.0,2,   2289.8,2,   7.6520,2,    24.99,2,     -999,1,   6.5045,2,     -999,9,     -999,9,     -999,9,     -999,9,     -999,9,   4.9269,1,   0.0111,1,     -999,9,     -999,9,     -999,9,     -999,9,     -999,9,20230903,0158, -32.9972,  40.9867,-999          ,9,-999          ,9
33RR20230722  ,I05        ,164     ,  1,16         ,16         ,2,20230903,0032, -32.9972,  40.9867,     4968,   1171.6,2,   5.3068,2,  34.3963,2,  34.3994,2,    200.4,2,    200.7,2,    29.28,2,    29.22,2,     0.00,2,     1.99,2,    2.425,3,    1.319,2,   0.8000,2,   2193.9,2,   2293.0,2,   7.6236,2,    25.01,2,     -999,1,   5.3084,2,     -999,9,     -999,9,     -999,9,     -999,9,     -999,9,   4.9718,1,   0.0112,1,     22.6,3,     -999,9,     -999,9,     -999,9,     -999,9,20230903,0155, -32.9972,  40.9867,-999          ,9,-999          ,9
33RR20230722  ,I05        ,164     ,  1,15         ,15         ,2,20230903,0032, -32.9972,  40.9867,     4968,   1288.3,2,   4.4409,2,  34.4059,2,  34.4061,2,    191.3,2,    191.8,2,    39.83,2,    31.31,2,     0.00,2,     2.16,2,     -999,9,     -999,9,     -999,9,   2206.7,2,   2303.6,2,   7.6015,2,    24.96,2,     -999,1,   4.4494,2,     -999,9,     -999,9,     -999,9,     -999,9,     -999,9,   4.8155,1,   0.0111,1,     -999,9,     -999,9,     -999,9,     -999,9,     -999,9,20230903,0152, -32.9972,  40.9867,-999          ,9,-999          ,9
33RR20230722  ,I05        ,164     ,  1,14         ,14         ,2,20230903,0032, -32.9972,  40.9867,     4968,   1416.5,2,   3.8428,2,  34.4625,2,  34.4632,2,    179.1,2,    179.1,2,    52.22,2,    32.80,2,     0.00,2,     2.27,2,    1.283,3,    0.665,2,   0.3200,2,   -999.0,9,     -999,9,     -999,9,     -999,9,     -999,1,   3.8477,2,     -999,9,     -999,9,     -999,9,     -999,9,     -999,9,   4.9729,1,   0.0112,1,     25.3,3,     -999,9,     -999,9,     -999,9,     -999,9,20230903,0149, -32.9972,  40.9867,-999          ,9,-999          ,9
33RR20230722  ,I05        ,164     ,  1,13         ,13         ,2,20230903,0032, -32.9972,  40.9867,     4968,   1554.5,2,   3.4713,2,  34.5167,2,  34.5162,2,    174.1,2,    173.9,2,    59.93,2,    33.22,2,     0.00,2,     2.29,2,    0.858,3,    0.444,2,   0.2000,2,   2236.5,2,   2322.8,2,   7.5777,2,    25.01,2,     -999,1,   3.4721,2,     -999,9,     -999,9,     -999,9,     -999,9,     -999,9,   4.9734,1,   0.0112,1,     24.8,3,     -999,9,     -999,9,     -999,9,     -999,9,20230903,0145, -32.9972,  40.9867,-999          ,9,-999          ,9
33RR20230722  ,I05        ,164     ,  1,12         ,12         ,2,20230903,0032, -32.9972,  40.9867,     4968,   1693.1,2,   3.2696,2,  34.5986,2,  34.5991,2,    167.7,2,    167.3,2,    68.71,2,    33.25,2,     0.00,2,     2.31,2,    0.465,3,    0.242,2,   0.0900,2,   2247.0,2,   2334.1,2,   7.5770,2,    25.02,2,     -999,1,   3.2701,2,     -999,9,     -999,9,     -999,9,     -999,9,     -999,9,   4.9742,1,   0.0118,1,     26.4,3,     -999,9,     -999,9,     -999,9,     -999,9,20230903,0142, -32.9972,  40.9867,-999          ,9,-999          ,9
33RR20230722  ,I05        ,164     ,  1,11         ,11         ,2,20230903,0032, -32.9972,  40.9867,     4968,   1845.1,2,   3.0849,2,  34.6646,2,  34.6651,2,    167.5,2,    167.6,2,    74.27,2,    32.71,2,     0.00,2,     2.27,2,     -999,9,     -999,9,     -999,9,   2251.2,2,   2341.4,2,   7.5843,2,    25.02,2,     -999,1,   3.0840,2,     -999,9,     -999,9,     -999,9,     -999,9,     -999,9,   4.9746,1,   0.0116,1,     -999,9,     -999,9,     -999,9,     -999,9,     -999,9,20230903,0138, -32.9972,  40.9867,-999          ,9,-999          ,9
33RR20230722  ,I05        ,164     ,  1,10         ,10         ,2,20230903,0032, -32.9972,  40.9867,     4968,   2027.9,2,   2.8120,2,  34.7070,2,  34.7074,2,    176.5,2,    176.5,2,    75.44,2,    31.58,2,     0.00,2,     2.21,2,    0.123,3,    0.077,2,   0.0100,2,   -999.0,9,     -999,9,     -999,9,     -999,9,     -999,1,   2.8122,2,     -999,9,     -999,9,     -999,9,     -999,9,     -999,9,   4.9745,1,   0.0117,1,     25.8,3,     -999,9,     -999,9,     -999,9,     -999,9,20230903,0134, -32.9972,  40.9867,-999          ,9,-999          ,9
33RR20230722  ,I05        ,164     ,  1,9          ,9          ,2,20230903,0032, -32.9972,  40.9867,     4968,   2244.8,2,   2.6654,2,  34.7493,2,  34.7492,2,    184.7,2,    185.1,2,    75.14,2,    30.38,2,     0.00,2,     2.12,2,     -999,9,     -999,9,     -999,9,   2242.0,2,   2346.1,2,   7.6173,2,    25.02,2,     -999,1,   2.6665,2,     -999,9,     -999,9,     -999,9,     -999,9,     -999,9,   4.7089,1,   0.0116,1,     -999,9,     -999,9,     -999,9,     -999,9,     -999,9,20230903,0129, -32.9972,  40.9867,-999          ,9,-999          ,9
33RR20230722  ,I05        ,164     ,  1,8          ,8          ,2,20230903,0032, -32.9972,  40.9867,     4968,   2499.8,2,   2.5238,2,  34.7797,2,  34.7791,2,    196.6,2,    196.8,2,    71.92,2,    28.99,2,     0.00,2,     2.01,2,    0.038,3,    0.027,2,   0.0000,2,   2233.3,2,   2346.8,2,   7.6355,2,    25.02,2,     -999,1,   2.5239,2,     -999,9,     -999,9,     -999,9,     -999,9,     -999,9,   4.9097,1,   0.0114,1,     19.5,3,     -999,9,     -999,9,     -999,9,     -999,9,20230903,0123, -32.9972,  40.9867,-999          ,9,-999          ,9
33RR20230722  ,I05        ,164     ,  1,7          ,7          ,2,20230903,0032, -32.9972,  40.9867,     4968,   2795.0,2,   2.3557,2,  34.7922,2,  34.7915,2,    203.7,2,    203.8,2,    72.51,2,    28.40,2,     0.00,2,     1.96,2,     -999,9,     -999,9,     -999,9,   2232.6,2,   2345.2,2,   7.6452,2,    25.03,2,     -999,1,   2.3552,2,     -999,9,     -999,9,     -999,9,     -999,9,     -999,9,   4.9745,1,   0.0111,1,     -999,9,     -999,9,     -999,9,     -999,9,     -999,9,20230903,0117, -32.9972,  40.9867,-999          ,9,-999          ,9
33RR20230722  ,I05        ,164     ,  1,6          ,6          ,2,20230903,0032, -32.9972,  40.9867,     4968,   3149.9,2,   2.1691,2,  34.7992,2,  34.7992,2,    212.1,2,    212.3,2,    72.90,2,    27.78,2,     0.00,2,     1.90,2,    0.025,3,    0.020,2,   0.0100,2,   -999.0,9,     -999,9,     -999,9,     -999,9,     -999,1,   2.1701,2,     -999,9,     -999,9,     -999,9,     -999,9,     -999,9,   4.9747,1,   0.0112,1,     19.0,3,     -999,9,     -999,9,     -999,9,     -999,9,20230903,0110, -32.9972,  40.9867,-999          ,9,-999          ,9
33RR20230722  ,I05        ,164     ,  1,5          ,5          ,2,20230903,0032, -32.9972,  40.9867,     4968,   3566.6,2,   1.8405,2,  34.7830,2,  34.7826,2,    214.9,2,    215.0,2,    82.56,2,    28.43,2,     0.00,2,     1.94,2,     -999,9,     -999,9,     -999,9,   2232.2,2,   2349.4,2,   7.6508,2,    25.02,2,     -999,1,   1.8447,2,     -999,9,     -999,9,     -999,9,     -999,9,     -999,9,   4.9495,1,   0.0111,1,     -999,9,     -999,9,     -999,9,     -999,9,     -999,9,20230903,0102, -32.9972,  40.9867,-999          ,9,-999          ,9
33RR20230722  ,I05        ,164     ,  1,4          ,37         ,2,20230903,0032, -32.9972,  40.9867,     4968,   3999.1,2,   1.3579,2,  34.7502,2,  34.7498,2,    216.2,2,    216.5,2,    97.49,2,    29.84,2,     0.00,2,     2.06,2,    0.050,3,    0.050,2,   0.0100,2,   -999.0,9,     -999,9,     -999,9,     -999,9,     -999,1,   1.3581,2,     -999,9,     -999,9,     -999,9,     -999,9,     -999,9,   4.9588,1,   0.0112,1,     21.7,3,     -999,9,     -999,9,     -999,9,     -999,9,20230903,0054, -32.9972,  40.9867,-999          ,9,-999          ,9
33RR20230722  ,I05        ,164     ,  1,3          ,3          ,2,20230903,0032, -32.9972,  40.9867,     4968,   4400.1,2,   0.9233,2,  34.7182,2,  34.7166,2,    217.6,2,    218.0,2,   111.84,2,    31.20,2,     0.00,2,     2.17,2,     -999,9,     -999,9,     -999,9,   2254.0,2,   2360.9,2,   7.6282,2,    25.04,2,     -999,1,   0.9232,2,     -999,9,     -999,9,     -999,9,     -999,9,     -999,9,   4.8160,1,   0.0111,1,     -999,9,     -999,9,     -999,9,     -999,9,     -999,9,20230903,0045, -32.9972,  40.9867,-999          ,9,-999          ,9