BOTTLE,20240422CCHHYDRO
EXPOCODE,SECT_ID,STNNBR,CASTNO,SAMPNO,BTLNBR,BTLNBR_FLAG_W,DATE,TIME,LATITUDE,LONGITUDE,DEPTH,CTDPRS,CTDPRS_FLAG_W,CTDTMP,CTDTMP_FLAG_W,CTDSAL,CTDSAL_FLAG_W,SALNTY,SALNTY_FLAG_W,CTDOXY,CTDOXY_FLAG_W,OXYGEN,OXYGEN_FLAG_W,SILCAT,SILCAT_FLAG_W,NITRAT,NITRAT_FLAG_W,NITRIT,NITRIT_FLAG_W,PHSPHT,PHSPHT_FLAG_W,CFC-11,CFC-11_FLAG_W,CFC-12,CFC-12_FLAG_W,SF6,SF6_FLAG_W,TCARBN,TCARBN_FLAG_W,ALKALI,ALKALI_FLAG_W,PH_TOT,PH_TOT_FLAG_W,PH_TMP,PH_TMP_FLAG_W,DOC,DOC_FLAG_W,REFTMP,REFTMP_FLAG_W,POC,POC_FLAG_W,PON,PON_FLAG_W,POP,POP_FLAG_W,DOP,DOP_FLAG_W,DELO18,DELO18_FLAG_W,CTDFLUOR,CTDFLUOR_FLAG_W,CTDXMISS,CTDXMISS_FLAG_W,N2O,N2O_FLAG_W,D15N_NO3,D15N_NO3_FLAG_W,D15N_NO2+NO3,D15N_NO2+NO3_FLAG_W,D18O_NO2+NO3,D18O_NO2+NO3_FLAG_W,D18O_NO3,D18O_NO3_FLAG_W,BTL_DATE,BTL_TIME,BTL_LAT,BTL_LON,HPLC,HPLC_FLAG_W,DNA,DNA_FLAG_W
,,,,,,,,,,,METERS,DBAR,,ITS-90,,PSS-78,,PSS-78,,UMOL/KG,,UMOL/KG,,UMOL/KG,,UMOL/KG,,UMOL/KG,,UMOL/KG,,PMOL/KG,,PMOL/KG,,FMOL/KG,,UMOL/KG,,UMOL/KG,,,,DEG C,,UMOL/KG,,ITS-90,,UG/KG,,UG/KG,,UG/L,,UMOL/KG,,/MILLE,,VOLTS,,VOLTS,,NMOL/KG,,/MILLE,,/MILLE,,/MILLE,,/MILLE,,,,,,,,,
33RR20230722  ,I05        ,10      ,  2,36         ,36         ,2,20230724,0521, -32.2636, 112.8528,     4764,      4.2,2,  18.3269,2,  35.6317,2,  35.6212,3,    231.6,2,    233.7,2,     2.54,2,     0.06,2,     0.00,2,     0.10,2,    1.913,2,    1.284,2,   2.1400,2,   2062.8,6,   2338.6,2,   7.9947,2,    24.99,2,     -999,1,  18.3158,2,     -999,9,     -999,9,     -999,9,     -999,9,     -999,1,   4.9769,1,   0.0194,1,      7.7,2,     -999,9,     -999,9,     -999,9,     -999,9,20230724,0724, -32.2636, 112.8528,-999          ,9,-999          ,9
33RR20230722  ,I05        ,10      ,  2,35         ,35         ,2,20230724,0521, -32.2636, 112.8528,     4764,     24.3,2,  18.0157,2,  35.6513,2,  35.6376,3,    232.8,2,    234.5,2,     2.54,2,     0.01,2,     0.00,2,     0.08,2,     -999,9,     -999,9,     -999,9,   2067.4,2,   2340.9,2,   7.9913,6,    24.99,2,     -999,9,  18.0239,2,     -999,9,     -999,9,     -999,9,     -999,9,     -999,1,   4.9760,1,   0.0197,1,     -999,9,     -999,9,     -999,9,     -999,9,     -999,9,20230724,0722, -32.2635, 112.8528,-999          ,9,-999          ,9
33RR20230722  ,I05        ,10      ,  2,34         ,34         ,2,20230724,0521, -32.2636, 112.8528,     4764,     44.7,2,  17.4422,2,  35.7052,2,  35.6936,3,    235.1,2,    236.8,2,     2.34,2,     0.00,2,     0.00,2,     0.09,2,    1.945,2,    1.273,2,   2.3300,2,   2074.6,2,   2345.0,6,   7.9811,2,    24.99,2,     -999,9,  17.4405,2,     -999,9,     -999,9,     -999,9,     -999,9,     -999,1,   4.9758,1,   0.0192,1,      8.1,2,     -999,9,     -999,9,     -999,9,     -999,9,20230724,0720, -32.2635, 112.8528,-999          ,9,-999          ,9
33RR20230722  ,I05        ,10      ,  2,33         ,33         ,2,20230724,0521, -32.2636, 112.8528,     4764,     63.6,2,  17.3886,2,  35.7034,2,  35.6938,3,    233.9,2,    235.5,2,     2.73,2,     0.00,2,     0.00,2,     0.10,2,     -999,9,     -999,9,     -999,9,   2079.1,2,   2348.0,2,   7.9782,6,    25.01,2,     -999,9,  17.3847,2,     -999,9,     -999,9,     -999,9,     -999,9,     -999,1,   4.9755,1,   0.0325,1,     -999,9,     -999,9,     -999,9,     -999,9,     -999,9,20230724,0719, -32.2635, 112.8528,-999          ,9,-999          ,9
33RR20230722  ,I05        ,10      ,  2,32         ,32         ,2,20230724,0521, -32.2636, 112.8528,     4764,     85.6,2,  16.8582,2,  35.6874,2,  35.6773,3,    225.8,3,    228.6,2,     2.54,2,     0.80,2,     0.07,2,     0.17,2,     -999,9,     -999,9,     -999,9,   2094.0,2,   2344.5,2,   7.9462,2,    25.00,2,     -999,9,  16.8654,2,     -999,9,     -999,9,     -999,9,     -999,9,     -999,1,   4.9730,1,   0.0252,1,     -999,9,     -999,9,     -999,9,     -999,9,     -999,9,20230724,0716, -32.2635, 112.8528,-999          ,9,-999          ,9
33RR20230722  ,I05        ,10      ,  2,31         ,31         ,2,20230724,0521, -32.2636, 112.8528,     4764,    103.8,2,  16.4055,2,  35.6436,2,  35.6368,3,    229.1,2,    231.4,2,     2.24,2,     0.85,2,     0.06,2,     0.18,2,    2.116,2,    1.374,2,   2.1800,2,   2092.3,2,   2343.0,2,   7.9417,2,    25.01,2,     -999,9,  16.4051,2,     -999,9,     -999,9,     -999,9,     -999,9,     -999,1,   4.9728,1,   0.0194,1,      8.6,2,     -999,9,     -999,9,     -999,9,     -999,9,20230724,0715, -32.2635, 112.8528,-999          ,9,-999          ,9
33RR20230722  ,I05        ,10      ,  2,30         ,30         ,2,20230724,0521, -32.2636, 112.8528,     4764,    145.2,2,  14.5583,2,  35.4018,2,  35.3963,3,    230.7,2,    232.8,2,     1.76,2,     2.89,2,     0.02,2,     0.32,2,     -999,9,     -999,9,     -999,9,   2114.8,2,   2334.1,2,   7.8936,2,    25.01,2,     -999,9,  14.5668,2,     -999,9,     -999,9,     -999,9,     -999,9,     -999,1,   4.9709,1,   0.0127,1,     -999,9,     -999,9,     -999,9,     -999,9,     -999,9,20230724,0713, -32.2635, 112.8528,-999          ,9,-999          ,9
33RR20230722  ,I05        ,10      ,  2,29         ,29         ,2,20230724,0521, -32.2636, 112.8528,     4764,    175.6,2,  13.7375,2,  35.2785,2,  35.2723,3,    234.5,2,    235.4,2,     2.05,2,     4.11,2,     0.02,2,     0.41,2,     -999,9,     -999,9,     -999,9,   2115.4,2,   2328.2,2,   7.8748,2,    25.01,2,     -999,9,  13.7534,2,     -999,9,     -999,9,     -999,9,     -999,9,     -999,1,   4.9707,1,   0.0117,1,     -999,9,     -999,9,     -999,9,     -999,9,     -999,9,20230724,0711, -32.2635, 112.8528,-999          ,9,-999          ,9
33RR20230722  ,I05        ,10      ,  2,28         ,28         ,2,20230724,0521, -32.2636, 112.8528,     4764,    205.6,2,  12.9434,2,  35.1545,2,  35.1508,3,    237.8,2,    238.3,2,     2.05,2,     5.53,2,     0.02,2,     0.49,2,    2.494,6,    1.583,6,   2.6600,6,   2121.9,2,   2319.9,2,   7.8535,2,    25.02,2,     -999,9,  12.9568,2,     -999,9,     -999,9,     -999,9,     -999,9,     -999,1,   4.9703,1,   0.0118,1,     10.5,6,     -999,9,     -999,9,     -999,9,     -999,9,20230724,0710, -32.2635, 112.8528,-999          ,9,-999          ,9
33RR20230722  ,I05        ,10      ,  2,27         ,27         ,2,20230724,0521, -32.2636, 112.8528,     4764,    243.9,2,  12.0632,2,  35.0190,2,  35.0201,3,    240.4,2,    240.3,2,     1.85,2,     7.37,2,     0.02,2,     0.60,2,     -999,9,     -999,9,     -999,9,   2125.7,2,   2312.5,2,   7.8313,2,    25.02,2,     -999,9,  12.0764,2,     -999,9,     -999,9,     -999,9,     -999,9,     -999,1,   4.9695,1,   0.0118,1,     -999,9,     -999,9,     -999,9,     -999,9,     -999,9,20230724,0708, -32.2635, 112.8528,-999          ,9,-999          ,9
33RR20230722  ,I05        ,10      ,  2,26         ,26         ,2,20230724,0521, -32.2636, 112.8528,     4764,    285.2,2,  11.1522,2,  34.8965,2,  34.8928,3,    238.9,2,    238.6,2,     2.44,2,    10.30,2,     0.01,2,     0.80,2,     -999,9,     -999,9,     -999,9,   2133.2,2,   2304.9,2,   7.7986,2,    24.99,2,     -999,9,  11.1740,2,     -999,9,     -999,9,     -999,9,     -999,9,     -999,1,   4.9684,1,   0.0117,1,     -999,9,     -999,9,     -999,9,     -999,9,     -999,9,20230724,0706, -32.2635, 112.8528,-999          ,9,-999          ,9
33RR20230722  ,I05        ,10      ,  2,25         ,25         ,2,20230724,0521, -32.2636, 112.8528,     4764,    343.5,2,  10.2774,2,  34.7969,2,  34.7927,3,    238.7,2,    238.2,2,     3.61,2,    13.31,2,     0.00,2,     0.97,2,    2.852,2,    1.747,2,   2.2000,2,   2138.3,6,   2299.5,2,   7.7707,2,    25.01,2,     -999,9,  10.2797,2,     -999,9,     -999,9,     -999,9,     -999,9,     -999,1,   4.9678,1,   0.0118,1,     13.6,2,     -999,9,     -999,9,     -999,9,     -999,9,20230724,0704, -32.2635, 112.8528,-999          ,9,-999          ,9
33RR20230722  ,I05        ,10      ,  2,24         ,24         ,2,20230724,0521, -32.2636, 112.8528,     4764,    402.9,2,  10.0185,2,  34.7884,2,  34.7817,3,    235.0,2,    234.2,2,     4.10,2,    14.71,2,     0.00,2,     1.03,2,     -999,9,     -999,9,     -999,9,   2136.8,2,   2297.8,2,   7.7576,2,    24.99,2,     -999,9,  10.0192,2,     -999,9,     -999,9,     -999,9,     -999,9,     -999,1,   4.9672,1,   0.0116,1,     -999,9,     -999,9,     -999,9,     -999,9,     -999,9,20230724,0702, -32.2635, 112.8528,-999          ,9,-999          ,9
33RR20230722  ,I05        ,10      ,  2,23         ,23         ,2,20230724,0521, -32.2636, 112.8528,     4764,    454.5,2,   9.5732,2,  34.7218,2,  34.7136,3,    237.4,2,    236.8,2,     4.20,2,    15.89,2,     0.00,2,     1.11,2,     -999,9,     -999,9,     -999,9,   2138.2,2,   2294.0,2,   7.7498,2,    25.00,2,     -999,9,   9.5733,2,     -999,9,     -999,9,     -999,9,     -999,9,     -999,1,   4.9670,1,   0.0115,1,     -999,9,     -999,9,     -999,9,     -999,9,     -999,9,20230724,0700, -32.2635, 112.8528,-999          ,9,-999          ,9
33RR20230722  ,I05        ,10      ,  2,22         ,22         ,2,20230724,0521, -32.2636, 112.8528,     4764,    508.7,2,   9.3879,2,  34.7007,2,  34.6930,3,    237.7,2,    237.2,2,     4.68,2,    16.43,2,     0.00,2,     1.14,2,    3.021,2,    1.808,2,   2.2700,2,   2138.8,2,   2293.8,2,   7.7464,2,    25.00,2,     -999,9,   9.3877,2,     -999,9,     -999,9,     -999,9,     -999,9,     -999,1,   4.9669,1,   0.0117,1,     13.3,2,     -999,9,     -999,9,     -999,9,     -999,9,20230724,0658, -32.2635, 112.8528,-999          ,9,-999          ,9
33RR20230722  ,I05        ,10      ,  2,21         ,21         ,2,20230724,0521, -32.2636, 112.8528,     4764,    587.5,2,   8.8421,2,  34.6246,2,  34.6172,3,    232.3,2,    232.1,2,     6.15,2,    18.21,2,     0.00,2,     1.27,2,     -999,9,     -999,9,     -999,9,   2141.7,2,   2292.0,2,   7.7311,2,    25.01,2,     -999,9,   8.8353,2,     -999,9,     -999,9,     -999,9,     -999,9,     -999,1,   4.9665,1,   0.0113,1,     -999,9,     -999,9,     -999,9,     -999,9,     -999,9,20230724,0655, -32.2635, 112.8528,-999          ,9,-999          ,9
33RR20230722  ,I05        ,10      ,  2,20         ,20         ,2,20230724,0521, -32.2636, 112.8528,     4764,    660.9,2,   7.9162,2,  34.5215,2,  34.5142,3,    213.7,2,    214.5,2,    10.64,2,    22.04,2,     0.00,2,     1.50,2,     -999,9,     -999,9,     -999,9,   2156.5,2,   2289.4,2,   7.6937,2,    25.00,2,     -999,9,   7.9169,2,     -999,9,     -999,9,     -999,9,     -999,9,     -999,1,   4.9675,1,   0.0114,1,     -999,9,     -999,9,     -999,9,     -999,9,     -999,9,20230724,0653, -32.2635, 112.8528,-999          ,9,-999          ,9
33RR20230722  ,I05        ,10      ,  2,19         ,19         ,2,20230724,0521, -32.2636, 112.8528,     4764,    737.8,2,   6.8174,2,  34.4461,2,  34.4383,3,    199.2,2,    200.2,2,    18.06,2,    25.84,2,     0.00,2,     1.79,2,    2.366,2,    1.355,2,   0.8800,2,   2173.4,2,   2289.2,2,   7.6565,6,    25.01,2,     -999,9,   6.8155,2,     -999,9,     -999,9,     -999,9,     -999,9,     -999,1,   4.9689,1,   0.0116,1,     17.7,2,     -999,9,     -999,9,     -999,9,     -999,9,20230724,0651, -32.2635, 112.8528,-999          ,9,-999          ,9
33RR20230722  ,I05        ,10      ,  2,18         ,18         ,2,20230724,0521, -32.2636, 112.8528,     4764,    802.7,2,   5.7782,2,  34.3956,2,  34.3894,3,    194.9,2,    196.1,2,    25.47,2,    28.34,2,     0.00,2,     1.94,2,     -999,9,     -999,9,     -999,9,   2185.5,2,   2293.1,2,   7.6320,2,    25.01,2,     -999,9,   5.7799,2,     -999,9,     -999,9,     -999,9,     -999,9,     -999,1,   4.9697,1,   0.0113,1,     -999,9,     -999,9,     -999,9,     -999,9,     -999,9,20230724,0649, -32.2635, 112.8528,-999          ,9,-999          ,9
33RR20230722  ,I05        ,10      ,  2,17         ,17         ,2,20230724,0521, -32.2636, 112.8528,     4764,    890.1,2,   4.7343,2,  34.3864,2,  34.3788,3,    187.2,2,    187.8,2,    36.89,2,    31.00,2,     0.00,2,     2.12,2,     -999,9,     -999,9,     -999,9,   2202.0,2,   2303.4,2,   7.6056,2,    25.00,2,     -999,9,   4.7376,2,     -999,9,     -999,9,     -999,9,     -999,9,     -999,1,   4.9709,1,   0.0112,1,     -999,9,     -999,9,     -999,9,     -999,9,     -999,9,20230724,0646, -32.2635, 112.8528,-999          ,9,-999          ,9
33RR20230722  ,I05        ,10      ,  2,16         ,16         ,2,20230724,0521, -32.2636, 112.8528,     4764,   1035.3,2,   4.0120,2,  34.4444,2,  34.4347,3,    167.8,2,    168.1,2,    54.17,2,    33.36,2,     0.00,2,     2.34,2,    0.927,2,    0.486,2,   0.0800,2,   2231.7,2,   2322.1,2,   7.5768,2,    25.01,2,     -999,9,   4.0123,2,     -999,9,     -999,9,     -999,9,     -999,9,     -999,1,   4.9727,1,   0.0112,1,     23.0,2,     -999,9,     -999,9,     -999,9,     -999,9,20230724,0643, -32.2635, 112.8528,-999          ,9,-999          ,9
33RR20230722  ,I05        ,10      ,  2,15         ,15         ,2,20230724,0521, -32.2636, 112.8528,     4764,   1113.9,2,   3.7989,2,  34.4880,2,  34.4777,3,    156.9,2,    157.5,2,    62.95,2,    34.08,2,     0.00,2,     2.40,2,     -999,9,     -999,9,     -999,9,   2245.7,6,   2329.8,2,   7.5652,2,    25.01,2,     -999,9,   3.7896,2,     -999,9,     -999,9,     -999,9,     -999,9,     -999,1,   4.9738,1,   0.0118,1,     -999,9,     -999,9,     -999,9,     -999,9,     -999,9,20230724,0640, -32.2635, 112.8528,-999          ,9,-999          ,9
33RR20230722  ,I05        ,10      ,  2,14         ,14         ,2,20230724,0521, -32.2636, 112.8528,     4764,   1189.6,2,   3.6391,2,  34.5253,2,  34.5170,3,    149.8,2,    149.5,2,    70.17,2,    34.61,2,     0.00,2,     2.43,2,     -999,9,     -999,9,     -999,9,   2259.3,2,   2341.0,2,   7.5587,2,    25.02,2,     -999,9,   3.6392,2,     -999,9,     -999,9,     -999,9,     -999,9,     -999,1,   4.9742,1,   0.0119,1,     -999,9,     -999,9,     -999,9,     -999,9,     -999,9,20230724,0638, -32.2635, 112.8528,-999          ,9,-999          ,9
33RR20230722  ,I05        ,10      ,  2,13         ,13         ,2,20230724,0521, -32.2636, 112.8528,     4764,   1269.4,2,   3.4089,2,  34.5384,2,  34.5288,3,    151.5,2,    151.6,2,    73.68,2,    34.66,2,     0.00,2,     2.44,2,    0.326,2,    0.168,2,   0.0600,2,   2258.1,2,   2342.6,2,   7.5584,2,    25.00,2,     -999,9,   3.4084,2,     -999,9,     -999,9,     -999,9,     -999,9,     -999,1,   4.9744,1,   0.0113,1,     24.1,2,     -999,9,     -999,9,     -999,9,     -999,9,20230724,0635, -32.2635, 112.8528,-999          ,9,-999          ,9
33RR20230722  ,I05        ,10      ,  2,12         ,12         ,2,20230724,0521, -32.2636, 112.8528,     4764,   1414.9,2,   3.1112,2,  34.5873,2,  34.5802,3,    150.7,2,    150.0,2,    80.41,2,    34.63,2,     0.00,2,     2.44,2,     -999,9,     -999,9,     -999,9,   2264.7,2,   2351.2,6,   7.5585,2,    25.01,2,     -999,9,   3.1116,2,     -999,9,     -999,9,     -999,9,     -999,9,     -999,1,   4.9749,1,   0.0120,1,     -999,9,     -999,9,     -999,9,     -999,9,     -999,9,20230724,0632, -32.2635, 112.8528,-999          ,9,-999          ,9
33RR20230722  ,I05        ,10      ,  2,11         ,11         ,2,20230724,0521, -32.2636, 112.8528,     4764,   1569.2,2,   2.8696,2,  34.6288,2,  34.6209,3,    153.3,2,    153.1,2,    86.95,2,    34.29,2,     0.00,2,     2.42,2,     -999,9,     -999,9,     -999,9,   2266.3,2,   2355.8,2,   7.5652,2,    25.01,2,     -999,9,   2.8708,2,     -999,9,     -999,9,     -999,9,     -999,9,     -999,1,   4.9749,1,   0.0124,1,     -999,9,     -999,9,     -999,9,     -999,9,     -999,9,20230724,0628, -32.2635, 112.8528,-999          ,9,-999          ,9
33RR20230722  ,I05        ,10      ,  2,10         ,10         ,2,20230724,0521, -32.2636, 112.8528,     4764,   1712.5,2,   2.7047,2,  34.6612,2,  34.6539,3,    155.4,2,    155.2,2,    91.73,2,    33.87,2,     0.00,2,     2.40,2,    0.045,2,    0.021,2,  -0.0600,2,   2270.2,2,   2361.5,2,   7.5711,2,    25.00,2,     -999,9,   2.7041,2,     -999,9,     -999,9,     -999,9,     -999,9,     -999,1,   4.9751,1,   0.0124,1,     23.2,2,     -999,9,     -999,9,     -999,9,     -999,9,20230724,0624, -32.2635, 112.8528,-999          ,9,-999          ,9
33RR20230722  ,I05        ,10      ,  2,9          ,9          ,2,20230724,0521, -32.2636, 112.8528,     4764,   1871.5,2,   2.4901,2,  34.6942,2,  34.6869,3,    159.3,2,    159.3,2,    99.14,2,    33.62,2,     0.00,2,     2.38,2,     -999,9,     -999,9,     -999,9,   2272.1,2,   2369.2,6,   7.5801,2,    25.02,2,     -999,9,   2.4898,2,     -999,9,     -999,9,     -999,9,     -999,9,     -999,1,   4.9750,1,   0.0111,1,     -999,9,     -999,9,     -999,9,     -999,9,     -999,9,20230724,0621, -32.2635, 112.8528,-999          ,9,-999          ,9
33RR20230722  ,I05        ,10      ,  2,8          ,8          ,2,20230724,0521, -32.2636, 112.8528,     4764,   2108.5,2,   2.2819,2,  34.7146,2,  34.7070,3,    162.5,2,    162.1,2,   105.58,2,    33.49,2,     0.00,2,     2.38,2,     -999,9,     -999,9,     -999,9,   2278.4,2,   2376.1,2,   7.5878,2,    25.01,2,     -999,9,   2.2816,2,     -999,9,     -999,9,     -999,9,     -999,9,     -999,1,   4.9754,1,   0.0116,1,     -999,9,     -999,9,     -999,9,     -999,9,     -999,9,20230724,0615, -32.2635, 112.8528,-999          ,9,-999          ,9
33RR20230722  ,I05        ,10      ,  2,7          ,7          ,2,20230724,0521, -32.2636, 112.8528,     4764,   2337.4,2,   2.0940,2,  34.7233,2,  34.7154,3,    166.5,2,    166.6,2,   109.68,2,    33.44,2,     0.00,2,     2.37,2,    0.007,2,    0.001,2,  -0.0600,2,   2278.5,2,   2381.6,2,   7.5942,2,    25.01,2,     -999,9,   2.0953,2,     -999,9,     -999,9,     -999,9,     -999,9,     -999,1,   4.9757,1,   0.0117,1,     21.5,2,     -999,9,     -999,9,     -999,9,     -999,9,20230724,0611, -32.2635, 112.8528,-999          ,9,-999          ,9
33RR20230722  ,I05        ,10      ,  2,6          ,6          ,2,20230724,0521, -32.2636, 112.8528,     4764,   2802.8,2,   1.8056,2,  34.7285,2,  34.7209,3,    177.0,2,    176.7,2,   109.68,2,    32.89,2,     0.00,2,     2.32,2,     -999,9,     -999,9,     -999,9,   2276.0,2,   2382.0,2,   7.6053,2,    25.01,2,     -999,9,   1.8064,2,     -999,9,     -999,9,     -999,9,     -999,9,     -999,1,   4.9759,1,   0.0122,1,     -999,9,     -999,9,     -999,9,     -999,9,     -999,9,20230724,0602, -32.2635, 112.8528,-999          ,9,-999          ,9
33RR20230722  ,I05        ,10      ,  2,5          ,5          ,2,20230724,0521, -32.2636, 112.8528,     4764,   3298.6,2,   1.4812,2,  34.7263,2,  34.7188,3,    188.0,2,    188.3,2,   112.90,2,    32.47,2,     0.00,2,     2.29,2,    0.014,2,    0.005,2,  -0.0500,2,   2270.5,2,   2378.5,2,   7.6160,6,    25.01,2,     -999,9,   1.4811,2,     -999,9,     -999,9,     -999,9,     -999,9,     -999,1,   4.9758,1,   0.0111,1,     19.8,2,     -999,9,     -999,9,     -999,9,     -999,9,20230724,0552, -32.2635, 112.8528,-999          ,9,-999          ,9
33RR20230722  ,I05        ,10      ,  2,4          ,4          ,2,20230724,0521, -32.2636, 112.8528,     4764,   3880.5,2,   1.2706,2,  34.7179,2,  34.7105,3,    190.9,2,    191.1,2,   121.49,2,    32.91,2,     0.00,2,     2.28,2,     -999,9,     -999,9,     -999,9,   2277.7,2,   2390.9,2,   7.6199,2,    25.02,2,     -999,9,   1.2710,2,     -999,9,     -999,9,     -999,9,     -999,9,     -999,1,   4.9765,1,   0.0118,1,     -999,9,     -999,9,     -999,9,     -999,9,     -999,9,20230724,0542, -32.2635, 112.8528,-999          ,9,-999          ,9
33RR20230722  ,I05        ,10      ,  2,3          ,3          ,2,20230724,0521, -32.2636, 112.8528,     4764,   4364.3,2,   1.1789,2,  34.7140,2,  34.7211,3,    195.7,2,    195.9,2,   124.51,2,    32.85,2,     0.00,2,     2.27,2,    0.017,2,    0.006,2,  -0.0600,2,   2276.5,2,   2390.8,6,   7.6230,2,    25.01,2,     -999,9,   1.1791,2,     -999,9,     -999,9,     -999,9,     -999,9,     -999,1,   4.9769,1,   0.0113,1,     18.9,2,     -999,9,     -999,9,     -999,9,     -999,9,20230724,0532, -32.2635, 112.8528,-999          ,9,-999          ,9