BOTTLE,20240422CCHHYDRO
EXPOCODE,SECT_ID,STNNBR,CASTNO,SAMPNO,BTLNBR,BTLNBR_FLAG_W,DATE,TIME,LATITUDE,LONGITUDE,DEPTH,CTDPRS,CTDPRS_FLAG_W,CTDTMP,CTDTMP_FLAG_W,CTDSAL,CTDSAL_FLAG_W,SALNTY,SALNTY_FLAG_W,CTDOXY,CTDOXY_FLAG_W,OXYGEN,OXYGEN_FLAG_W,SILCAT,SILCAT_FLAG_W,NITRAT,NITRAT_FLAG_W,NITRIT,NITRIT_FLAG_W,PHSPHT,PHSPHT_FLAG_W,CFC-11,CFC-11_FLAG_W,CFC-12,CFC-12_FLAG_W,SF6,SF6_FLAG_W,TCARBN,TCARBN_FLAG_W,ALKALI,ALKALI_FLAG_W,PH_TOT,PH_TOT_FLAG_W,PH_TMP,PH_TMP_FLAG_W,DOC,DOC_FLAG_W,REFTMP,REFTMP_FLAG_W,POC,POC_FLAG_W,PON,PON_FLAG_W,POP,POP_FLAG_W,DOP,DOP_FLAG_W,DELO18,DELO18_FLAG_W,CTDFLUOR,CTDFLUOR_FLAG_W,CTDXMISS,CTDXMISS_FLAG_W,N2O,N2O_FLAG_W,D15N_NO3,D15N_NO3_FLAG_W,D15N_NO2+NO3,D15N_NO2+NO3_FLAG_W,D18O_NO2+NO3,D18O_NO2+NO3_FLAG_W,D18O_NO3,D18O_NO3_FLAG_W,BTL_DATE,BTL_TIME,BTL_LAT,BTL_LON,HPLC,HPLC_FLAG_W,DNA,DNA_FLAG_W
,,,,,,,,,,,METERS,DBAR,,ITS-90,,PSS-78,,PSS-78,,UMOL/KG,,UMOL/KG,,UMOL/KG,,UMOL/KG,,UMOL/KG,,UMOL/KG,,PMOL/KG,,PMOL/KG,,FMOL/KG,,UMOL/KG,,UMOL/KG,,,,DEG C,,UMOL/KG,,ITS-90,,UG/KG,,UG/KG,,UG/L,,UMOL/KG,,/MILLE,,VOLTS,,VOLTS,,NMOL/KG,,/MILLE,,/MILLE,,/MILLE,,/MILLE,,,,,,,,,
33RR20230722  ,I05        ,42      ,  1,36         ,36         ,2,20230802,1635, -32.8843, 100.1110,     5727,      6.5,2,  15.2473,2,  35.6762,2,  35.6761,2,    245.1,2,    244.8,2,     0.98,2,     0.73,2,     0.13,2,     0.20,2,    2.436,2,    1.426,2,   2.3500,2,   2100.9,6,   2347.0,2,   7.9327,2,    24.96,2,     -999,1,  15.2443,2,     -999,9,     -999,9,     -999,9,     -999,1,     -999,1,   4.7164,1,   0.0299,1,      8.6,2,     -999,9,     -999,9,     -999,9,     -999,9,20230802,1856, -32.8843, 100.1110,-999          ,9,-999          ,9
33RR20230722  ,I05        ,42      ,  1,35         ,35         ,2,20230802,1635, -32.8843, 100.1110,     5727,     27.1,2,  15.2431,2,  35.6761,2,  35.6761,2,    245.0,2,    245.2,2,     0.98,2,     0.69,2,     0.13,2,     0.19,2,     -999,9,     -999,9,     -999,9,   2098.3,2,   2345.8,2,   7.9324,2,    24.97,2,     -999,1,  15.2413,2,     -999,9,     -999,9,     -999,9,     -999,1,     -999,1,   4.9745,1,   0.0334,1,     -999,9,     -999,9,     -999,9,     -999,9,     -999,9,20230802,1854, -32.8843, 100.1110,-999          ,9,-999          ,9
33RR20230722  ,I05        ,42      ,  1,34         ,34         ,2,20230802,1635, -32.8843, 100.1110,     5727,     46.4,2,  15.2465,2,  35.6754,2,  35.6755,2,    244.8,2,    244.7,2,     1.07,2,     0.68,2,     0.13,2,     0.20,2,     -999,9,     -999,9,     -999,9,   2099.4,2,   2347.6,2,   7.9248,2,    24.96,2,     -999,1,  15.2430,2,     -999,9,     -999,9,     -999,9,     -999,1,     -999,1,   4.9744,1,   0.0332,1,     -999,9,     -999,9,     -999,9,     -999,9,     -999,9,20230802,1852, -32.8843, 100.1110,-999          ,9,-999          ,9
33RR20230722  ,I05        ,42      ,  1,32         ,32         ,2,20230802,1635, -32.8843, 100.1110,     5727,     67.1,2,  15.2448,2,  35.6758,2,  35.6747,2,    244.7,2,    244.7,2,     1.07,2,     0.68,2,     0.12,2,     0.19,2,     -999,9,     -999,9,     -999,9,   2100.3,2,   2346.8,2,   7.9328,2,    24.97,2,     -999,1,  15.2438,2,     -999,9,     -999,9,     -999,9,     -999,1,     -999,1,   4.9451,1,   0.0312,1,     -999,9,     -999,9,     -999,9,     -999,9,     -999,9,20230802,1848, -32.8843, 100.1110,-999          ,9,-999          ,9
33RR20230722  ,I05        ,42      ,  1,33         ,33         ,2,20230802,1635, -32.8843, 100.1110,     5727,     67.7,2,  15.2454,2,  35.6750,2,  35.6749,2,    244.8,2,    244.5,2,     1.07,2,     0.68,2,     0.13,2,     0.19,2,     -999,9,     -999,9,     -999,9,   -999.0,9,     -999,9,     -999,9,     -999,9,     -999,9,  15.2441,2,     -999,9,     -999,9,     -999,9,     -999,9,     -999,9,   4.9743,1,   0.0301,1,     -999,9,     -999,9,     -999,9,     -999,9,     -999,9,20230802,1850, -32.8843, 100.1110,-999          ,9,-999          ,9
33RR20230722  ,I05        ,42      ,  1,31         ,31         ,2,20230802,1635, -32.8843, 100.1110,     5727,     94.4,2,  15.2543,2,  35.6753,2,  35.6747,2,    244.6,2,    244.9,2,     1.17,2,     0.67,2,     0.12,2,     0.20,2,     -999,9,     -999,9,     -999,9,   2103.2,2,   2344.2,2,   7.9323,2,    24.97,2,     -999,1,  15.2535,2,     -999,9,     -999,9,     -999,9,     -999,1,     -999,1,   4.9741,1,   0.0317,1,     -999,9,     -999,9,     -999,9,     -999,9,     -999,9,20230802,1846, -32.8843, 100.1110,-999          ,9,-999          ,9
33RR20230722  ,I05        ,42      ,  1,30         ,30         ,2,20230802,1635, -32.8843, 100.1110,     5727,    117.6,2,  15.2595,2,  35.6755,2,  35.6751,2,    244.6,2,    244.6,2,     1.07,2,     0.67,2,     0.12,2,     0.18,2,    2.445,2,    1.431,2,   2.3100,2,   2100.1,2,   2345.1,2,   7.9325,2,    24.96,2,     -999,1,  15.2591,2,     -999,9,     -999,9,     -999,9,     -999,9,     -999,1,   4.9736,1,   0.0328,1,      8.7,2,     -999,9,     -999,9,     -999,9,     -999,9,20230802,1844, -32.8843, 100.1110,-999          ,9,-999          ,9
33RR20230722  ,I05        ,42      ,  1,29         ,29         ,2,20230802,1635, -32.8843, 100.1110,     5727,    182.1,2,  15.2049,2,  35.6609,2,  35.6627,2,    243.0,2,    244.2,2,     0.98,2,     0.82,2,     0.12,2,     0.20,2,     -999,9,     -999,9,     -999,9,   2102.2,2,   2345.3,2,   7.9296,2,    24.95,2,     -999,1,  15.2112,2,     -999,9,     -999,9,     -999,9,     -999,9,     -999,1,   4.5274,1,   0.0272,1,     -999,9,     -999,9,     -999,9,     -999,9,     -999,9,20230802,1841, -32.8843, 100.1110,-999          ,9,-999          ,9
33RR20230722  ,I05        ,42      ,  1,28         ,28         ,2,20230802,1635, -32.8843, 100.1110,     5727,    211.8,2,  14.7125,2,  35.5462,3,  35.4933,2,    234.9,3,    237.4,2,     1.17,2,     2.99,2,     0.06,2,     0.33,2,     -999,9,     -999,9,     -999,9,   2110.5,2,   2335.5,2,   7.8948,2,    24.97,2,     -999,1,  14.5982,3,     -999,9,     -999,9,     -999,9,     -999,9,     -999,1,   4.9710,1,   0.0175,1,     -999,9,     -999,9,     -999,9,     -999,9,     -999,9,20230802,1839, -32.8843, 100.1110,-999          ,9,-999          ,9
33RR20230722  ,I05        ,42      ,  1,27         ,27         ,2,20230802,1635, -32.8843, 100.1110,     5727,    252.4,2,  12.6335,2,  35.1469,2,  35.1486,2,    237.9,2,    239.4,2,     1.46,2,     6.49,2,     0.00,2,     0.57,2,     -999,9,     -999,9,     -999,9,   2122.0,2,   2315.3,2,   7.8437,2,    24.97,2,     -999,1,  12.6522,2,     -999,9,     -999,9,     -999,9,     -999,1,     -999,1,   4.9695,1,   0.0113,1,     -999,9,     -999,9,     -999,9,     -999,9,     -999,9,20230802,1837, -32.8843, 100.1110,-999          ,9,-999          ,9
33RR20230722  ,I05        ,42      ,  1,26         ,26         ,2,20230802,1635, -32.8843, 100.1110,     5727,    296.3,2,  12.1549,2,  35.0779,2,  35.0716,2,    239.7,2,    241.5,2,     1.66,2,     7.73,2,     0.00,2,     0.64,2,    2.670,2,    1.682,2,   2.4900,2,   2122.3,2,   2311.4,2,   7.8297,2,    24.96,2,     -999,1,  12.1519,2,     -999,9,     -999,9,     -999,9,     -999,9,     -999,1,   4.9049,1,   0.0114,1,     11.2,2,     -999,9,     -999,9,     -999,9,     -999,9,20230802,1835, -32.8843, 100.1110,-999          ,9,-999          ,9
33RR20230722  ,I05        ,42      ,  1,25         ,25         ,2,20230802,1635, -32.8843, 100.1110,     5727,    352.0,2,  11.1759,2,  34.9113,2,  34.9107,2,    247.4,2,    246.1,2,     2.05,2,     9.86,2,     0.00,2,     0.80,2,     -999,9,     -999,9,     -999,9,   2125.0,2,   2302.0,2,   7.8058,2,    24.97,2,     -999,1,  11.1789,2,     -999,9,     -999,9,     -999,9,     -999,9,     -999,1,   4.9686,1,   0.0116,1,     -999,9,     -999,9,     -999,9,     -999,9,     -999,9,20230802,1833, -32.8843, 100.1110,-999          ,9,-999          ,9
33RR20230722  ,I05        ,42      ,  1,24         ,24         ,2,20230802,1635, -32.8843, 100.1110,     5727,    414.0,2,  10.2905,2,  34.7655,2,  34.7651,2,    248.7,2,    247.6,2,     2.93,2,    12.46,2,     0.00,2,     0.98,2,    2.952,2,    1.824,2,   2.7100,2,   2129.8,2,   2296.7,2,   7.7851,2,    24.95,2,     -999,1,  10.2892,2,     -999,9,     -999,9,     -999,9,     -999,9,     -999,1,   4.9680,1,   0.0114,1,     12.3,2,     -999,9,     -999,9,     -999,9,     -999,9,20230802,1831, -32.8843, 100.1110,-999          ,9,-999          ,9
33RR20230722  ,I05        ,42      ,  1,23         ,23         ,2,20230802,1635, -32.8843, 100.1110,     5727,    486.6,2,   9.9318,2,  34.7300,2,  34.7304,2,    242.7,2,    242.8,2,     3.41,2,    14.21,2,     0.00,2,     1.04,2,     -999,9,     -999,9,     -999,9,   -999.0,9,     -999,9,     -999,9,     -999,9,     -999,1,   9.9406,2,     -999,9,     -999,9,     -999,9,     -999,9,     -999,1,   4.8905,1,   0.0113,1,     -999,9,     -999,9,     -999,9,     -999,9,     -999,9,20230802,1829, -32.8843, 100.1110,-999          ,9,-999          ,9
33RR20230722  ,I05        ,42      ,  1,22         ,22         ,2,20230802,1635, -32.8843, 100.1110,     5727,    566.6,2,   9.5146,2,  34.6958,2,  34.6958,2,    236.3,2,    236.2,2,     4.20,2,    16.04,2,     0.00,2,     1.18,2,    3.070,2,    1.914,2,   2.2700,2,   2139.2,2,   2289.1,2,   7.7495,2,    24.97,2,     -999,1,   9.5137,2,     -999,9,     -999,9,     -999,9,     -999,9,     -999,1,   4.9666,1,   0.0114,1,     13.8,2,     -999,9,     -999,9,     -999,9,     -999,9,20230802,1826, -32.8843, 100.1110,-999          ,9,-999          ,9
33RR20230722  ,I05        ,42      ,  1,21         ,21         ,2,20230802,1635, -32.8843, 100.1110,     5727,    656.1,2,   9.1740,2,  34.6539,2,  34.6555,2,    235.9,2,    235.9,2,     4.68,2,    16.97,2,     0.00,2,     1.22,2,     -999,9,     -999,9,     -999,9,   -999.0,9,     -999,9,     -999,9,     -999,9,     -999,1,   9.1732,2,     -999,9,     -999,9,     -999,9,     -999,9,     -999,1,   4.9663,1,   0.0113,1,     -999,9,     -999,9,     -999,9,     -999,9,     -999,9,20230802,1824, -32.8843, 100.1110,-999          ,9,-999          ,9
33RR20230722  ,I05        ,42      ,  1,20         ,20         ,2,20230802,1635, -32.8843, 100.1110,     5727,    755.1,2,   8.3014,2,  34.5564,2,  34.5545,2,    217.5,2,    218.9,2,     8.49,2,    20.86,2,     0.00,2,     1.44,2,    3.007,2,    1.760,2,   1.6000,2,   2154.0,2,   2285.8,2,   7.7071,2,    24.96,2,     -999,1,   8.2882,2,     -999,9,     -999,9,     -999,9,     -999,9,     -999,1,   4.9673,1,   0.0113,1,     14.9,2,     -999,9,     -999,9,     -999,9,     -999,9,20230802,1821, -32.8843, 100.1110,-999          ,9,-999          ,9
33RR20230722  ,I05        ,42      ,  1,19         ,19         ,2,20230802,1635, -32.8843, 100.1110,     5727,    865.7,2,   6.5272,2,  34.4252,2,  34.4255,2,    199.7,2,    200.3,2,    18.35,2,    26.53,2,     0.00,2,     1.83,2,    2.506,2,    1.395,2,   0.8900,2,   2179.6,2,   2286.6,2,   7.6495,6,    24.96,2,     -999,1,   6.5568,2,     -999,9,     -999,9,     -999,9,     -999,9,     -999,1,   4.9694,1,   0.0117,1,     18.0,2,     -999,9,     -999,9,     -999,9,     -999,9,20230802,1818, -32.8843, 100.1110,-999          ,9,-999          ,9
33RR20230722  ,I05        ,42      ,  1,18         ,18         ,2,20230802,1635, -32.8843, 100.1110,     5727,    974.5,2,   4.8338,2,  34.3589,2,  34.3586,2,    197.3,2,    197.3,2,    31.43,2,    30.20,2,     0.00,2,     2.11,2,     -999,9,     -999,9,     -999,9,   -999.0,9,     -999,9,     -999,9,     -999,9,     -999,1,   4.8335,2,     -999,9,     -999,9,     -999,9,     -999,9,     -999,1,   4.9705,1,   0.0113,1,     -999,9,     -999,9,     -999,9,     -999,9,     -999,9,20230802,1815, -32.8843, 100.1110,-999          ,9,-999          ,9
33RR20230722  ,I05        ,42      ,  1,17         ,17         ,2,20230802,1635, -32.8843, 100.1110,     5727,   1081.7,2,   4.2003,2,  34.3905,2,  34.3892,2,    184.3,2,    184.7,2,    43.14,2,    32.04,2,     0.00,2,     2.24,2,    1.487,2,    0.766,2,   0.2600,2,   2217.3,2,   2305.0,2,   7.5946,2,    24.97,2,     -999,1,   4.1999,2,     -999,9,     -999,9,     -999,9,     -999,9,     -999,1,   4.9720,1,   0.0112,1,     21.7,2,     -999,9,     -999,9,     -999,9,     -999,9,20230802,1812, -32.8843, 100.1110,-999          ,9,-999          ,9
33RR20230722  ,I05        ,42      ,  1,16         ,16         ,2,20230802,1635, -32.8843, 100.1110,     5727,   1198.6,2,   3.8499,2,  34.4454,2,  34.4449,2,    169.3,2,    168.9,2,    55.82,2,    33.40,2,     0.00,2,     2.35,2,     -999,9,     -999,9,     -999,9,   -999.0,9,     -999,9,     -999,9,     -999,9,     -999,1,   3.8530,2,     -999,9,     -999,9,     -999,9,     -999,9,     -999,1,   4.9733,1,   0.0119,1,     -999,9,     -999,9,     -999,9,     -999,9,     -999,9,20230802,1809, -32.8843, 100.1110,-999          ,9,-999          ,9
33RR20230722  ,I05        ,42      ,  1,15         ,15         ,2,20230802,1635, -32.8843, 100.1110,     5727,   1311.1,2,   3.5517,2,  34.5065,2,  34.5078,2,    156.1,2,    156.2,2,    68.12,2,    34.29,2,     0.00,2,     2.44,2,    0.461,2,    0.234,2,   0.1100,2,   2256.3,2,   2333.1,2,   7.5618,2,    24.97,2,     -999,1,   3.5448,2,     -999,9,     -999,9,     -999,9,     -999,9,     -999,1,   4.9213,1,   0.0116,1,     23.8,2,     -999,9,     -999,9,     -999,9,     -999,9,20230802,1806, -32.8843, 100.1110,-999          ,9,-999          ,9
33RR20230722  ,I05        ,42      ,  1,14         ,14         ,2,20230802,1635, -32.8843, 100.1110,     5727,   1442.4,2,   3.2861,2,  34.5505,2,  34.5506,2,    152.8,2,    152.6,2,    75.04,2,    34.40,2,     0.00,2,     2.44,2,    0.253,2,    0.130,2,   0.1800,2,   2259.4,2,   2340.6,2,   7.5603,6,    24.98,2,     -999,1,   3.2886,2,     -999,9,     -999,9,     -999,9,     -999,9,     -999,1,   4.9748,1,   0.0112,1,     23.9,2,     -999,9,     -999,9,     -999,9,     -999,9,20230802,1803, -32.8843, 100.1110,-999          ,9,-999          ,9
33RR20230722  ,I05        ,42      ,  1,13         ,13         ,2,20230802,1635, -32.8843, 100.1110,     5727,   1569.1,2,   3.0708,2,  34.5905,2,  34.5906,2,    152.6,2,    152.6,2,    81.19,2,    34.32,2,     0.00,2,     2.46,2,     -999,9,     -999,9,     -999,9,   -999.0,9,     -999,9,     -999,9,     -999,9,     -999,1,   3.0699,2,     -999,9,     -999,9,     -999,9,     -999,9,     -999,1,   4.9750,1,   0.0113,1,     -999,9,     -999,9,     -999,9,     -999,9,     -999,9,20230802,1800, -32.8843, 100.1110,-999          ,9,-999          ,9
33RR20230722  ,I05        ,42      ,  1,12         ,12         ,2,20230802,1635, -32.8843, 100.1110,     5727,   1704.4,2,   2.8730,2,  34.6296,2,  34.6289,2,    155.4,2,    155.3,2,    84.80,2,    33.96,2,     0.00,2,     2.41,2,     -999,9,     -999,9,     -999,9,   2267.1,2,   2351.3,6,   7.5683,6,    24.98,2,     -999,1,   2.8819,2,     -999,9,     -999,9,     -999,9,     -999,9,     -999,1,   4.9752,1,   0.0112,1,     -999,9,     -999,9,     -999,9,     -999,9,     -999,9,20230802,1756, -32.8843, 100.1110,-999          ,9,-999          ,9
33RR20230722  ,I05        ,42      ,  1,11         ,11         ,2,20230802,1635, -32.8843, 100.1110,     5727,   2043.7,2,   2.4650,2,  34.6952,2,  34.6958,2,    168.6,2,    168.9,2,    89.67,2,    32.37,2,     0.00,2,     2.29,2,     -999,9,     -999,9,     -999,9,   -999.0,9,     -999,9,     -999,9,     -999,9,     -999,1,   2.4652,2,     -999,9,     -999,9,     -999,9,     -999,9,     -999,1,   4.9750,1,   0.0112,1,     -999,9,     -999,9,     -999,9,     -999,9,     -999,9,20230802,1750, -32.8843, 100.1110,-999          ,9,-999          ,9
33RR20230722  ,I05        ,42      ,  1,10         ,10         ,2,20230802,1635, -32.8843, 100.1110,     5727,   2276.0,2,   2.2277,2,  34.7229,2,  34.7223,2,    179.8,2,    180.0,2,    91.91,2,    31.32,2,     0.00,2,     2.22,2,    0.014,2,    0.031,2,   0.0000,2,   2258.7,2,   2358.6,2,   7.6027,2,    24.97,2,     -999,1,   2.2279,2,     -999,9,     -999,9,     -999,9,     -999,9,     -999,1,   4.9750,1,   0.0118,1,     20.4,2,     -999,9,     -999,9,     -999,9,     -999,9,20230802,1745, -32.8843, 100.1110,-999          ,9,-999          ,9
33RR20230722  ,I05        ,42      ,  1,9          ,9          ,2,20230802,1635, -32.8843, 100.1110,     5727,   2555.1,2,   1.9507,2,  34.7380,2,  34.7372,2,    189.6,2,    189.9,2,    93.67,2,    30.68,2,     0.00,2,     2.18,2,    0.009,2,    0.027,2,   0.0200,2,   2256.2,2,   2358.4,2,   7.6162,2,    24.96,2,     -999,1,   1.9508,2,     -999,9,     -999,9,     -999,9,     -999,9,     -999,1,   4.9668,1,   0.0112,1,     19.7,2,     -999,9,     -999,9,     -999,9,     -999,9,20230802,1739, -32.8843, 100.1110,-999          ,9,-999          ,9
33RR20230722  ,I05        ,42      ,  1,8          ,8          ,2,20230802,1635, -32.8843, 100.1110,     5727,   3230.3,2,   1.3913,2,  34.7295,2,  34.7290,2,    200.4,2,    200.7,2,   107.43,2,    30.98,2,     0.00,2,     2.21,2,     -999,9,     -999,9,     -999,9,   -999.0,9,     -999,9,     -999,9,     -999,9,     -999,1,   1.3912,2,     -999,9,     -999,9,     -999,9,     -999,9,     -999,1,   4.9755,1,   0.0113,1,     -999,9,     -999,9,     -999,9,     -999,9,     -999,9,20230802,1726, -32.8843, 100.1110,-999          ,9,-999          ,9
33RR20230722  ,I05        ,42      ,  1,7          ,7          ,2,20230802,1635, -32.8843, 100.1110,     5727,   3599.2,2,   1.1906,2,  34.7207,2,  34.7197,2,    203.2,2,    203.4,2,   114.45,2,    31.38,2,     0.00,2,     2.22,2,    0.054,2,    0.043,2,   0.0000,2,   2263.2,2,   2367.9,2,   7.6193,2,    24.96,2,     -999,1,   1.1907,2,     -999,9,     -999,9,     -999,9,     -999,9,     -999,1,   4.9761,1,   0.0112,1,     18.8,2,     -999,9,     -999,9,     -999,9,     -999,9,20230802,1719, -32.8843, 100.1110,-999          ,9,-999          ,9
33RR20230722  ,I05        ,42      ,  1,6          ,6          ,2,20230802,1635, -32.8843, 100.1110,     5727,   3974.3,2,   1.0943,2,  34.7147,2,  34.7142,2,    204.6,2,    204.8,2,   116.60,2,    31.71,2,     0.00,2,     2.22,2,     -999,9,     -999,9,     -999,9,   -999.0,9,     -999,9,     -999,9,     -999,9,     -999,1,   1.0943,2,     -999,9,     -999,9,     -999,9,     -999,9,     -999,1,   4.9765,1,   0.0112,1,     -999,9,     -999,9,     -999,9,     -999,9,     -999,9,20230802,1712, -32.8843, 100.1110,-999          ,9,-999          ,9
33RR20230722  ,I05        ,42      ,  1,5          ,5          ,2,20230802,1635, -32.8843, 100.1110,     5727,   4445.4,2,   1.0596,2,  34.7108,2,  34.7105,2,    205.7,2,    205.8,2,   119.82,2,    31.78,2,     0.00,2,     2.29,2,    0.063,2,    0.058,2,   0.0600,2,   2265.1,2,   2371.8,2,   7.6219,2,    24.98,2,     -999,1,   1.0600,2,     -999,9,     -999,9,     -999,9,     -999,9,     -999,1,   4.7697,1,   0.0111,1,     18.7,2,     -999,9,     -999,9,     -999,9,     -999,9,20230802,1703, -32.8843, 100.1110,-999          ,9,-999          ,9
33RR20230722  ,I05        ,42      ,  1,4          ,37         ,2,20230802,1635, -32.8843, 100.1110,     5727,   4914.5,2,   1.0676,2,  34.7083,2,  34.7081,2,    206.2,2,    206.5,2,   120.11,2,    31.98,2,     0.00,2,     2.29,2,    0.124,2,    0.068,2,   0.1100,2,   -999.0,9,     -999,9,     -999,9,     -999,9,     -999,1,   1.0681,2,     -999,9,     -999,9,     -999,9,     -999,9,     -999,1,   4.9773,1,   0.0111,1,     18.9,2,     -999,9,     -999,9,     -999,9,     -999,9,20230802,1654, -32.8843, 100.1110,-999          ,9,-999          ,9
33RR20230722  ,I05        ,42      ,  1,3          ,3          ,2,20230802,1635, -32.8843, 100.1110,     5727,   5389.5,2,   1.0937,2,  34.7064,2,  34.7070,2,    206.6,2,    206.9,2,   121.67,2,    31.99,2,     0.00,2,     2.29,2,    0.137,2,    0.075,2,   0.0500,2,   2269.7,2,   2369.3,2,   7.6180,6,    24.98,2,     -999,1,   1.0937,2,     -999,9,     -999,9,     -999,9,     -999,9,     -999,1,   4.9780,1,   0.0112,1,     18.7,2,     -999,9,     -999,9,     -999,9,     -999,9,20230802,1645, -32.8843, 100.1110,-999          ,9,-999          ,9