BOTTLE,20240422CCHHYDRO
EXPOCODE,SECT_ID,STNNBR,CASTNO,SAMPNO,BTLNBR,BTLNBR_FLAG_W,DATE,TIME,LATITUDE,LONGITUDE,DEPTH,CTDPRS,CTDPRS_FLAG_W,CTDTMP,CTDTMP_FLAG_W,CTDSAL,CTDSAL_FLAG_W,SALNTY,SALNTY_FLAG_W,CTDOXY,CTDOXY_FLAG_W,OXYGEN,OXYGEN_FLAG_W,SILCAT,SILCAT_FLAG_W,NITRAT,NITRAT_FLAG_W,NITRIT,NITRIT_FLAG_W,PHSPHT,PHSPHT_FLAG_W,CFC-11,CFC-11_FLAG_W,CFC-12,CFC-12_FLAG_W,SF6,SF6_FLAG_W,TCARBN,TCARBN_FLAG_W,ALKALI,ALKALI_FLAG_W,PH_TOT,PH_TOT_FLAG_W,PH_TMP,PH_TMP_FLAG_W,DOC,DOC_FLAG_W,REFTMP,REFTMP_FLAG_W,POC,POC_FLAG_W,PON,PON_FLAG_W,POP,POP_FLAG_W,DOP,DOP_FLAG_W,DELO18,DELO18_FLAG_W,CTDFLUOR,CTDFLUOR_FLAG_W,CTDXMISS,CTDXMISS_FLAG_W,N2O,N2O_FLAG_W,D15N_NO3,D15N_NO3_FLAG_W,D15N_NO2+NO3,D15N_NO2+NO3_FLAG_W,D18O_NO2+NO3,D18O_NO2+NO3_FLAG_W,D18O_NO3,D18O_NO3_FLAG_W,BTL_DATE,BTL_TIME,BTL_LAT,BTL_LON,HPLC,HPLC_FLAG_W,DNA,DNA_FLAG_W
,,,,,,,,,,,METERS,DBAR,,ITS-90,,PSS-78,,PSS-78,,UMOL/KG,,UMOL/KG,,UMOL/KG,,UMOL/KG,,UMOL/KG,,UMOL/KG,,PMOL/KG,,PMOL/KG,,FMOL/KG,,UMOL/KG,,UMOL/KG,,,,DEG C,,UMOL/KG,,ITS-90,,UG/KG,,UG/KG,,UG/L,,UMOL/KG,,/MILLE,,VOLTS,,VOLTS,,NMOL/KG,,/MILLE,,/MILLE,,/MILLE,,/MILLE,,,,,,,,,
33RR20230722  ,I05        ,102     ,  1,36         ,38         ,2,20230818,0400, -33.9995,  70.8413,     4665,      6.7,2,  16.3951,2,  35.5045,2,  35.5040,2,    245.8,2,    245.4,2,     1.07,2,     0.06,2,     0.01,2,     0.18,2,    1.654,2,    1.352,2,   2.2900,2,   2081.5,2,   2332.5,2,   7.9484,2,    25.01,2,     -999,1,  16.3944,2,     -999,9,     -999,9,     -999,9,     -999,9,     -999,1,   4.6883,1,   0.0205,1,      7.2,2,     -999,9,     -999,9,     -999,9,     -999,9,20230818,0602, -33.9995,  70.8413,-999          ,9,-999          ,9
33RR20230722  ,I05        ,102     ,  1,35         ,35         ,2,20230818,0400, -33.9995,  70.8413,     4665,     22.2,2,  16.3843,2,  35.5019,2,  35.5036,2,    245.8,2,    245.9,2,     0.88,2,     0.01,2,     0.01,2,     0.17,2,     -999,9,     -999,9,     -999,9,   -999.0,9,     -999,9,     -999,9,     -999,9,     -999,1,  16.3824,2,     -999,9,     -999,9,     -999,9,     -999,9,     -999,1,   4.8563,1,   0.0317,1,     -999,9,     -999,9,     -999,9,     -999,9,     -999,9,20230818,0559, -33.9995,  70.8413,-999          ,9,-999          ,9
33RR20230722  ,I05        ,102     ,  1,34         ,34         ,2,20230818,0400, -33.9995,  70.8413,     4665,     38.5,2,  16.3691,2,  35.4999,2,  35.4987,2,    245.6,2,    245.6,2,     0.98,2,     0.00,2,     0.01,2,     0.17,2,     -999,9,     -999,9,     -999,9,   -999.0,9,     -999,9,     -999,9,     -999,9,     -999,1,  16.3675,2,     -999,9,     -999,9,     -999,9,     -999,9,     -999,1,   4.9751,1,   0.0375,1,     -999,9,     -999,9,     -999,9,     -999,9,     -999,9,20230818,0558, -33.9995,  70.8412,-999          ,9,-999          ,9
33RR20230722  ,I05        ,102     ,  1,33         ,33         ,2,20230818,0400, -33.9995,  70.8413,     4665,     56.6,2,  16.3402,2,  35.4937,2,  35.4930,2,    245.1,2,    245.4,2,     0.98,2,     0.02,2,     0.01,2,     0.18,2,    1.747,2,    1.384,2,   2.2500,2,   2083.5,2,   2330.8,2,   7.9455,2,    25.04,2,     -999,1,  16.3354,2,     -999,9,     -999,9,     -999,9,     -999,9,     -999,1,   4.9734,1,   0.0409,1,      7.3,2,     -999,9,     -999,9,     -999,9,     -999,9,20230818,0556, -33.9995,  70.8412,-999          ,9,-999          ,9
33RR20230722  ,I05        ,102     ,  1,32         ,32         ,2,20230818,0400, -33.9995,  70.8413,     4665,     80.7,2,  15.8506,2,  35.4324,2,  35.4300,2,    246.8,2,    246.8,2,     0.98,2,     0.27,2,     0.05,2,     0.20,2,     -999,9,     -999,9,     -999,9,   -999.0,9,     -999,9,     -999,9,     -999,9,     -999,1,  15.8509,2,     -999,9,     -999,9,     -999,9,     -999,9,     -999,1,   4.9745,1,   0.0475,1,     -999,9,     -999,9,     -999,9,     -999,9,     -999,9,20230818,0554, -33.9995,  70.8412,-999          ,9,-999          ,9
33RR20230722  ,I05        ,102     ,  1,31         ,31         ,2,20230818,0400, -33.9995,  70.8413,     4665,    105.0,2,  15.2231,2,  35.3814,2,  35.3871,2,    240.6,2,    242.2,2,     1.27,2,     1.63,2,     0.21,2,     0.29,2,     -999,9,     -999,9,     -999,9,   -999.0,9,     -999,9,     -999,9,     -999,9,     -999,1,  15.1956,2,     -999,9,     -999,9,     -999,9,     -999,9,     -999,1,   4.9724,1,   0.0315,1,     -999,9,     -999,9,     -999,9,     -999,9,     -999,9,20230818,0552, -33.9995,  70.8413,-999          ,9,-999          ,9
33RR20230722  ,I05        ,102     ,  1,30         ,30         ,2,20230818,0400, -33.9995,  70.8413,     4665,    132.0,2,  13.8372,2,  35.2987,2,  35.2986,2,    233.0,2,    233.6,2,     2.34,2,     6.04,2,     0.02,2,     0.54,2,     -999,9,     -999,9,     -999,9,   -999.0,9,     -999,9,     -999,9,     -999,9,     -999,1,  13.8312,2,     -999,9,     -999,9,     -999,9,     -999,9,     -999,1,   4.9697,1,   0.0159,1,     -999,9,     -999,9,     -999,9,     -999,9,     -999,9,20230818,0551, -33.9995,  70.8412,-999          ,9,-999          ,9
33RR20230722  ,I05        ,102     ,  1,29         ,29         ,2,20230818,0400, -33.9995,  70.8413,     4665,    162.2,2,  13.4903,2,  35.2681,2,  35.2682,2,    233.3,2,    234.1,2,     2.54,2,     6.91,2,     0.00,2,     0.59,2,    3.065,3,    1.608,2,   2.2500,2,   2117.1,2,   2316.9,2,   7.8494,2,    25.01,2,     -999,1,  13.4964,2,     -999,9,     -999,9,     -999,9,     -999,9,     -999,1,   4.8394,1,   0.0125,1,      9.7,2,     -999,9,     -999,9,     -999,9,     -999,9,20230818,0549, -33.9995,  70.8412,-999          ,9,-999          ,9
33RR20230722  ,I05        ,102     ,  1,28         ,28         ,2,20230818,0400, -33.9995,  70.8413,     4665,    193.9,2,  13.3505,2,  35.2658,2,  35.2641,2,    237.3,2,    237.2,2,     2.83,2,     7.26,2,     0.00,2,     0.60,2,     -999,9,     -999,9,     -999,9,   -999.0,9,     -999,9,     -999,9,     -999,9,     -999,1,  13.3484,2,     -999,9,     -999,9,     -999,9,     -999,9,     -999,1,   4.9695,1,   0.0121,1,     -999,9,     -999,9,     -999,9,     -999,9,     -999,9,20230818,0548, -33.9995,  70.8413,-999          ,9,-999          ,9
33RR20230722  ,I05        ,102     ,  1,27         ,27         ,2,20230818,0400, -33.9995,  70.8413,     4665,    228.5,2,  13.1434,2,  35.2328,2,  35.2312,2,    236.7,2,    237.1,2,     2.93,2,     7.69,2,     0.00,2,     0.62,2,     -999,9,     -999,9,     -999,9,   -999.0,9,     -999,9,     -999,9,     -999,9,     -999,1,  13.1427,2,     -999,9,     -999,9,     -999,9,     -999,9,     -999,1,   4.9694,1,   0.0119,1,     -999,9,     -999,9,     -999,9,     -999,9,     -999,9,20230818,0545, -33.9995,  70.8413,-999          ,9,-999          ,9
33RR20230722  ,I05        ,102     ,  1,26         ,26         ,2,20230818,0400, -33.9995,  70.8413,     4665,    269.7,2,  12.9177,2,  35.1991,2,  35.1991,2,    236.8,2,    236.6,2,     2.93,2,     8.17,2,     0.00,2,     0.65,2,     -999,9,     -999,9,     -999,9,   -999.0,9,     -999,9,     -999,9,     -999,9,     -999,1,  12.9232,2,     -999,9,     -999,9,     -999,9,     -999,9,     -999,1,   4.9688,1,   0.0116,1,     -999,9,     -999,9,     -999,9,     -999,9,     -999,9,20230818,0543, -33.9995,  70.8412,-999          ,9,-999          ,9
33RR20230722  ,I05        ,102     ,  1,25         ,25         ,2,20230818,0400, -33.9995,  70.8413,     4665,    315.8,2,  12.6844,2,  35.1638,2,  35.1624,2,    237.6,2,    237.1,2,     3.12,2,     8.73,2,     0.00,2,     0.69,2,    2.807,3,    1.677,2,   2.3300,2,   2122.2,2,   2311.7,2,   7.8312,2,    25.00,2,     -999,1,  12.6822,2,     -999,9,     -999,9,     -999,9,     -999,9,     -999,1,   4.6588,1,   0.0114,1,     10.4,2,     -999,9,     -999,9,     -999,9,     -999,9,20230818,0541, -33.9995,  70.8413,-999          ,9,-999          ,9
33RR20230722  ,I05        ,102     ,  1,24         ,24         ,2,20230818,0400, -33.9995,  70.8413,     4665,    374.6,2,  12.3737,2,  35.1124,2,  35.1110,2,    236.8,2,    236.6,2,     3.22,2,     9.56,2,     0.00,2,     0.74,2,     -999,9,     -999,9,     -999,9,   -999.0,9,     -999,9,     -999,9,     -999,9,     -999,1,  12.3817,2,     -999,9,     -999,9,     -999,9,     -999,9,     -999,1,   4.8950,1,   0.0116,1,     -999,9,     -999,9,     -999,9,     -999,9,     -999,9,20230818,0539, -33.9995,  70.8413,-999          ,9,-999          ,9
33RR20230722  ,I05        ,102     ,  1,23         ,23         ,2,20230818,0400, -33.9995,  70.8413,     4665,    437.7,2,  11.9850,2,  35.0491,2,  35.0472,2,    236.1,2,    236.1,2,     3.41,2,    10.61,2,     0.00,2,     0.78,2,     -999,9,     -999,9,     -999,9,   -999.0,9,     -999,9,     -999,9,     -999,9,     -999,1,  11.9835,2,     -999,9,     -999,9,     -999,9,     -999,9,     -999,1,   4.9678,1,   0.0116,1,     -999,9,     -999,9,     -999,9,     -999,9,     -999,9,20230818,0537, -33.9994,  70.8413,-999          ,9,-999          ,9
33RR20230722  ,I05        ,102     ,  1,22         ,22         ,2,20230818,0400, -33.9995,  70.8413,     4665,    515.9,2,  11.5231,2,  34.9782,2,  34.9762,2,    232.9,2,    232.6,2,     3.90,2,    12.02,2,     0.00,2,     0.90,2,    2.738,3,    1.777,2,   2.0800,2,   2131.4,2,   2302.8,2,   7.7978,2,    25.02,2,     -999,1,  11.5209,2,     -999,9,     -999,9,     -999,9,     -999,9,     -999,1,   4.9672,1,   0.0115,1,     10.9,2,     -999,9,     -999,9,     -999,9,     -999,9,20230818,0534, -33.9995,  70.8412,-999          ,9,-999          ,9
33RR20230722  ,I05        ,102     ,  1,21         ,21         ,2,20230818,0400, -33.9995,  70.8413,     4665,    601.1,2,  10.9094,2,  34.8884,2,  34.8879,2,    228.2,2,    228.5,2,     4.49,2,    13.80,2,     0.00,2,     1.01,2,     -999,9,     -999,9,     -999,9,   -999.0,9,     -999,9,     -999,9,     -999,9,     -999,1,  10.9034,2,     -999,9,     -999,9,     -999,9,     -999,9,     -999,1,   4.9667,1,   0.0116,1,     -999,9,     -999,9,     -999,9,     -999,9,     -999,9,20230818,0532, -33.9994,  70.8413,-999          ,9,-999          ,9
33RR20230722  ,I05        ,102     ,  1,20         ,20         ,2,20230818,0400, -33.9995,  70.8413,     4665,    706.7,2,   9.8938,2,  34.7517,2,  34.7496,2,    220.2,2,    220.7,2,     6.15,2,    16.92,2,     0.00,2,     1.20,2,     -999,9,     -999,9,     -999,9,   -999.0,9,     -999,9,     -999,9,     -999,9,     -999,1,   9.9063,2,     -999,9,     -999,9,     -999,9,     -999,9,     -999,1,   4.8796,1,   0.0114,1,     -999,9,     -999,9,     -999,9,     -999,9,     -999,9,20230818,0529, -33.9995,  70.8412,-999          ,9,-999          ,9
33RR20230722  ,I05        ,102     ,  1,19         ,19         ,2,20230818,0400, -33.9995,  70.8413,     4665,    815.3,2,   8.5471,2,  34.6055,2,  34.6011,2,    210.8,2,    211.1,2,    10.25,2,    21.05,2,     0.00,2,     1.45,2,    3.313,3,    1.753,2,   1.1600,2,   2156.0,2,   2289.3,2,   7.7065,2,    25.00,2,     -999,1,   8.5378,2,     -999,9,     -999,9,     -999,9,     -999,9,     -999,1,   4.9189,1,   0.0116,1,     14.0,2,     -999,9,     -999,9,     -999,9,     -999,9,20230818,0526, -33.9995,  70.8413,-999          ,9,-999          ,9
33RR20230722  ,I05        ,102     ,  1,18         ,18         ,2,20230818,0400, -33.9995,  70.8413,     4665,    938.7,2,   6.8177,2,  34.4594,2,  34.4581,2,    203.5,2,    203.8,2,    17.77,2,    25.79,2,     0.00,2,     1.75,2,     -999,9,     -999,9,     -999,9,   -999.0,9,     -999,9,     -999,9,     -999,9,     -999,1,   6.8180,2,     -999,9,     -999,9,     -999,9,     -999,9,     -999,1,   4.9695,1,   0.0112,1,     -999,9,     -999,9,     -999,9,     -999,9,     -999,9,20230818,0522, -33.9995,  70.8413,-999          ,9,-999          ,9
33RR20230722  ,I05        ,102     ,  1,17         ,17         ,2,20230818,0400, -33.9995,  70.8413,     4665,   1058.3,2,   5.1913,2,  34.3731,2,  34.3713,2,    200.2,2,    200.2,2,    28.50,2,    29.60,2,     0.00,2,     2.01,2,     -999,9,     -999,9,     -999,9,   -999.0,9,     -999,9,     -999,9,     -999,9,     -999,1,   5.1902,2,     -999,9,     -999,9,     -999,9,     -999,9,     -999,1,   4.9230,1,   0.0113,1,     -999,9,     -999,9,     -999,9,     -999,9,     -999,9,20230818,0519, -33.9994,  70.8413,-999          ,9,-999          ,9
33RR20230722  ,I05        ,102     ,  1,16         ,16         ,2,20230818,0400, -33.9995,  70.8413,     4665,   1177.4,2,   4.2145,2,  34.3733,2,  34.3725,2,    193.3,2,    193.2,2,    39.44,2,    31.77,2,     0.00,2,     2.20,2,    1.862,2,    0.994,2,   0.3900,2,   2213.2,2,   2301.6,2,   7.5996,6,    25.01,2,     -999,1,   4.2211,2,     -999,9,     -999,9,     -999,9,     -999,9,     -999,1,   4.9715,1,   0.0113,1,     19.3,2,     -999,9,     -999,9,     -999,9,     -999,9,20230818,0516, -33.9995,  70.8413,-999          ,9,-999          ,9
33RR20230722  ,I05        ,102     ,  1,15         ,15         ,2,20230818,0400, -33.9995,  70.8413,     4665,   1303.6,2,   3.6950,2,  34.4104,2,  34.4110,2,    184.1,2,    184.2,2,    49.39,2,    33.10,2,     0.00,2,     2.29,2,     -999,9,     -999,9,     -999,9,   -999.0,9,     -999,9,     -999,9,     -999,9,     -999,1,   3.6955,2,     -999,9,     -999,9,     -999,9,     -999,9,     -999,1,   4.9292,1,   0.0111,1,     -999,9,     -999,9,     -999,9,     -999,9,     -999,9,20230818,0513, -33.9995,  70.8413,-999          ,9,-999          ,9
33RR20230722  ,I05        ,102     ,  1,14         ,14         ,2,20230818,0400, -33.9995,  70.8413,     4665,   1425.0,2,   3.3133,2,  34.4709,2,  34.4720,2,    175.2,2,    174.9,2,    58.86,2,    33.76,2,     0.00,2,     2.34,2,     -999,9,     -999,9,     -999,9,   -999.0,9,     -999,9,     -999,9,     -999,9,     -999,1,   3.3074,2,     -999,9,     -999,9,     -999,9,     -999,9,     -999,1,   4.9736,1,   0.0112,1,     -999,9,     -999,9,     -999,9,     -999,9,     -999,9,20230818,0509, -33.9995,  70.8413,-999          ,9,-999          ,9
33RR20230722  ,I05        ,102     ,  1,13         ,13         ,2,20230818,0400, -33.9995,  70.8413,     4665,   1552.9,2,   3.0334,2,  34.5330,2,  34.5325,2,    171.0,2,    171.1,2,    65.79,2,    33.82,2,     0.00,2,     2.36,2,    0.671,2,    0.323,2,   0.0700,2,   2247.2,2,   2327.5,6,   7.5672,2,    25.02,2,     -999,1,   3.0349,2,     -999,9,     -999,9,     -999,9,     -999,9,     -999,1,   4.9494,1,   0.0118,1,     21.2,2,     -999,9,     -999,9,     -999,9,     -999,9,20230818,0506, -33.9995,  70.8412,-999          ,9,-999          ,9
33RR20230722  ,I05        ,102     ,  1,12         ,12         ,2,20230818,0400, -33.9995,  70.8413,     4665,   1686.9,2,   2.8332,2,  34.5868,2,  34.5867,2,    171.1,2,    171.0,2,    70.08,2,    33.49,2,     0.00,2,     2.31,2,     -999,9,     -999,9,     -999,9,   2250.9,6,   2333.4,2,   7.5710,2,    24.99,2,     -999,1,   2.8334,2,     -999,9,     -999,9,     -999,9,     -999,9,     -999,1,   4.9742,1,   0.0113,1,     -999,9,     -999,9,     -999,9,     -999,9,     -999,9,20230818,0503, -33.9995,  70.8412,-999          ,9,-999          ,9
33RR20230722  ,I05        ,102     ,  1,11         ,11         ,2,20230818,0400, -33.9995,  70.8413,     4665,   1832.7,2,   2.6636,2,  34.6377,2,  34.6360,2,    174.4,2,    174.4,2,    73.39,2,    32.79,2,     0.00,2,     2.28,2,    0.228,3,    0.135,2,   0.0900,2,   -999.0,9,     -999,9,     -999,9,     -999,9,     -999,1,   2.6640,2,     -999,9,     -999,9,     -999,9,     -999,9,     -999,1,   4.9106,1,   0.0117,1,     19.4,2,     -999,9,     -999,9,     -999,9,     -999,9,20230818,0459, -33.9995,  70.8412,-999          ,9,-999          ,9
33RR20230722  ,I05        ,102     ,  1,10         ,10         ,2,20230818,0400, -33.9995,  70.8413,     4665,   2024.4,2,   2.4259,2,  34.6935,2,  34.6930,2,    180.4,2,    180.6,2,    79.35,2,    31.86,2,     0.00,2,     2.21,2,     -999,9,     -999,9,     -999,9,   -999.0,9,     -999,9,     -999,9,     -999,9,     -999,1,   2.4261,2,     -999,9,     -999,9,     -999,9,     -999,9,     -999,1,   4.9743,1,   0.0113,1,     -999,9,     -999,9,     -999,9,     -999,9,     -999,9,20230818,0455, -33.9995,  70.8412,-999          ,9,-999          ,9
33RR20230722  ,I05        ,102     ,  1,9          ,9          ,2,20230818,0400, -33.9995,  70.8413,     4665,   2258.6,2,   2.1910,2,  34.7184,2,  34.7195,2,    182.4,2,    182.5,2,    89.49,2,    31.81,2,     0.00,2,     2.20,2,    0.042,2,    0.028,2,   0.0300,2,   2260.7,2,   2353.2,2,   7.6038,2,    25.01,2,     -999,1,   2.1905,2,     -999,9,     -999,9,     -999,9,     -999,9,     -999,1,   4.9748,1,   0.0111,1,     17.8,2,     -999,9,     -999,9,     -999,9,     -999,9,20230818,0450, -33.9994,  70.8414,-999          ,9,-999          ,9
33RR20230722  ,I05        ,102     ,  1,8          ,8          ,2,20230818,0400, -33.9995,  70.8413,     4665,   2521.8,2,   1.9650,2,  34.7255,2,  34.7245,2,    179.0,2,    179.4,2,   104.42,2,    32.58,2,     0.00,2,     2.29,2,    0.014,2,    0.009,2,   0.0500,2,   2272.1,2,   2368.7,2,   7.6064,2,    25.00,2,     -999,1,   1.9646,2,     -999,9,     -999,9,     -999,9,     -999,9,     -999,1,   4.8475,1,   0.0111,1,     16.0,2,     -999,9,     -999,9,     -999,9,     -999,9,20230818,0444, -33.9995,  70.8413,-999          ,9,-999          ,9
33RR20230722  ,I05        ,102     ,  1,7          ,7          ,2,20230818,0400, -33.9995,  70.8413,     4665,   2827.8,2,   1.7933,2,  34.7255,2,  34.7248,2,    178.1,2,    178.5,2,   113.89,2,    32.92,2,     0.00,2,     2.32,2,     -999,9,     -999,9,     -999,9,   -999.0,9,     -999,9,     -999,9,     -999,9,     -999,1,   1.7938,2,     -999,9,     -999,9,     -999,9,     -999,9,     -999,1,   4.7885,1,   0.0111,1,     -999,9,     -999,9,     -999,9,     -999,9,     -999,9,20230818,0438, -33.9995,  70.8413,-999          ,9,-999          ,9
33RR20230722  ,I05        ,102     ,  1,6          ,6          ,2,20230818,0400, -33.9995,  70.8413,     4665,   3155.1,2,   1.6439,2,  34.7234,2,  34.7225,2,    181.0,2,    180.9,2,   118.28,2,    33.10,2,     0.00,2,     2.30,2,    0.011,2,    0.009,2,   0.0000,2,   -999.0,9,     -999,9,     -999,9,     -999,9,     -999,1,   1.6439,2,     -999,9,     -999,9,     -999,9,     -999,9,     -999,1,   4.9761,1,   0.0111,1,     17.1,2,     -999,9,     -999,9,     -999,9,     -999,9,20230818,0432, -33.9995,  70.8413,-999          ,9,-999          ,9
33RR20230722  ,I05        ,102     ,  1,5          ,5          ,2,20230818,0400, -33.9995,  70.8413,     4665,   3498.5,2,   1.4253,2,  34.7174,2,  34.7160,2,    187.8,2,    187.6,2,   121.41,2,    33.06,2,     0.00,2,     2.30,2,    0.031,2,    0.021,2,   0.0000,2,   2279.2,2,   2378.7,2,   7.6082,6,    25.02,2,     -999,1,   1.4249,2,     -999,9,     -999,9,     -999,9,     -999,9,     -999,1,   4.9082,1,   0.0112,1,     18.3,2,     -999,9,     -999,9,     -999,9,     -999,9,20230818,0425, -33.9995,  70.8412,-999          ,9,-999          ,9
33RR20230722  ,I05        ,102     ,  1,4          ,37         ,2,20230818,0400, -33.9995,  70.8413,     4665,   4050.4,2,   1.0421,2,  34.7034,2,  34.7028,2,    200.9,2,    201.1,2,   125.21,2,    32.85,2,     0.00,2,     2.27,2,     -999,9,     -999,9,     -999,9,   -999.0,9,     -999,9,     -999,9,     -999,9,     -999,1,   1.0421,2,     -999,9,     -999,9,     -999,9,     -999,9,     -999,1,   4.9763,1,   0.0112,1,     -999,9,     -999,9,     -999,9,     -999,9,     -999,9,20230818,0414, -33.9994,  70.8413,-999          ,9,-999          ,9
33RR20230722  ,I05        ,102     ,  1,3          ,3          ,2,20230818,0400, -33.9995,  70.8413,     4665,   4215.5,2,   1.0009,2,  34.7018,2,  34.7013,2,    202.8,2,    203.1,2,   125.70,2,    32.76,2,     0.00,2,     2.29,2,    0.048,2,    0.039,2,  -0.0200,2,   2273.5,2,   2373.0,2,   7.6119,2,    25.00,2,     -999,1,   1.0007,2,     -999,9,     -999,9,     -999,9,     -999,9,     -999,1,   4.9765,1,   0.0111,1,     16.3,2,     -999,9,     -999,9,     -999,9,     -999,9,20230818,0411, -33.9994,  70.8413,-999          ,9,-999          ,9