BOTTLE,20240422CCHHYDRO
EXPOCODE,SECT_ID,STNNBR,CASTNO,SAMPNO,BTLNBR,BTLNBR_FLAG_W,DATE,TIME,LATITUDE,LONGITUDE,DEPTH,CTDPRS,CTDPRS_FLAG_W,CTDTMP,CTDTMP_FLAG_W,CTDSAL,CTDSAL_FLAG_W,SALNTY,SALNTY_FLAG_W,CTDOXY,CTDOXY_FLAG_W,OXYGEN,OXYGEN_FLAG_W,SILCAT,SILCAT_FLAG_W,NITRAT,NITRAT_FLAG_W,NITRIT,NITRIT_FLAG_W,PHSPHT,PHSPHT_FLAG_W,CFC-11,CFC-11_FLAG_W,CFC-12,CFC-12_FLAG_W,SF6,SF6_FLAG_W,TCARBN,TCARBN_FLAG_W,ALKALI,ALKALI_FLAG_W,PH_TOT,PH_TOT_FLAG_W,PH_TMP,PH_TMP_FLAG_W,DOC,DOC_FLAG_W,REFTMP,REFTMP_FLAG_W,POC,POC_FLAG_W,PON,PON_FLAG_W,POP,POP_FLAG_W,DOP,DOP_FLAG_W,DELO18,DELO18_FLAG_W,CTDFLUOR,CTDFLUOR_FLAG_W,CTDXMISS,CTDXMISS_FLAG_W,N2O,N2O_FLAG_W,D15N_NO3,D15N_NO3_FLAG_W,D15N_NO2+NO3,D15N_NO2+NO3_FLAG_W,D18O_NO2+NO3,D18O_NO2+NO3_FLAG_W,D18O_NO3,D18O_NO3_FLAG_W,BTL_DATE,BTL_TIME,BTL_LAT,BTL_LON,HPLC,HPLC_FLAG_W,DNA,DNA_FLAG_W
,,,,,,,,,,,METERS,DBAR,,ITS-90,,PSS-78,,PSS-78,,UMOL/KG,,UMOL/KG,,UMOL/KG,,UMOL/KG,,UMOL/KG,,UMOL/KG,,PMOL/KG,,PMOL/KG,,FMOL/KG,,UMOL/KG,,UMOL/KG,,,,DEG C,,UMOL/KG,,ITS-90,,UG/KG,,UG/KG,,UG/L,,UMOL/KG,,/MILLE,,VOLTS,,VOLTS,,NMOL/KG,,/MILLE,,/MILLE,,/MILLE,,/MILLE,,,,,,,,,
33RR20230722  ,I05        ,21      ,  2,36         ,36         ,2,20230728,0537, -31.2242, 106.6347,     5077,      5.2,2,  16.9028,2,  35.8146,2,  35.8133,2,    237.5,2,    237.3,2,     1.56,2,     0.12,2,     0.04,2,     0.14,2,    1.855,2,    1.390,2,   2.2900,2,   2093.2,6,   2352.1,2,   7.9593,2,    24.99,2,     -999,1,  16.9026,2,     -999,9,     -999,9,     -999,9,     -999,9,     -999,1,   4.7744,1,   0.0160,1,      7.7,2,     -999,9,     -999,9,     -999,9,     -999,9,20230728,0746, -31.2242, 106.6347,-999          ,9,-999          ,9
33RR20230722  ,I05        ,21      ,  2,35         ,35         ,2,20230728,0537, -31.2242, 106.6347,     5077,     25.5,2,  16.8762,2,  35.8215,2,  35.8190,2,    238.8,2,    238.6,2,     1.76,2,     0.04,2,     0.02,2,     0.13,2,     -999,9,     -999,9,     -999,9,   -999.0,9,     -999,9,     -999,9,     -999,9,     -999,9,  16.8780,2,     -999,9,     -999,9,     -999,9,     -999,9,     -999,1,   4.8572,1,   0.0228,1,     -999,9,     -999,9,     -999,9,     -999,9,     -999,9,20230728,0743, -31.2242, 106.6347,-999          ,9,-999          ,9
33RR20230722  ,I05        ,21      ,  2,34         ,34         ,2,20230728,0537, -31.2242, 106.6347,     5077,     36.9,2,  16.8698,2,  35.8223,2,  35.8214,2,    238.9,2,    238.9,2,     1.37,2,     0.00,2,     0.02,2,     0.13,2,     -999,9,     -999,9,     -999,9,   2089.5,2,   2352.1,2,   7.9628,2,    25.00,2,     -999,9,  16.8655,2,     -999,9,     -999,9,     -999,9,     -999,9,     -999,1,   4.8631,1,   0.0275,1,     -999,9,     -999,9,     -999,9,     -999,9,     -999,9,20230728,0742, -31.2242, 106.6347,-999          ,9,-999          ,9
33RR20230722  ,I05        ,21      ,  2,33         ,33         ,2,20230728,0537, -31.2242, 106.6347,     5077,     64.9,2,  16.8254,2,  35.8217,2,  35.8196,2,    238.5,2,    238.5,2,     1.56,2,     0.00,2,     0.02,2,     0.13,2,     -999,9,     -999,9,     -999,9,   2090.7,2,   2351.9,2,   7.9612,2,    25.02,2,     -999,9,  16.8254,2,     -999,9,     -999,9,     -999,9,     -999,9,     -999,1,   4.9748,1,   0.0314,1,     -999,9,     -999,9,     -999,9,     -999,9,     -999,9,20230728,0740, -31.2242, 106.6347,-999          ,9,-999          ,9
33RR20230722  ,I05        ,21      ,  2,32         ,32         ,2,20230728,0537, -31.2242, 106.6347,     5077,     92.8,2,  16.8212,2,  35.8218,2,  35.8194,2,    238.3,2,    238.5,2,     1.76,2,     0.00,2,     0.02,2,     0.11,2,     -999,9,     -999,9,     -999,9,   2092.6,2,   2351.4,2,   7.9623,6,    25.00,2,     -999,9,  16.8202,2,     -999,9,     -999,9,     -999,9,     -999,9,     -999,1,   4.9745,1,   0.0314,1,     -999,9,     -999,9,     -999,9,     -999,9,     -999,9,20230728,0738, -31.2242, 106.6347,-999          ,9,-999          ,9
33RR20230722  ,I05        ,21      ,  2,31         ,31         ,2,20230728,0537, -31.2242, 106.6347,     5077,    132.1,2,  15.6602,2,  35.6251,3,  35.6682,2,    233.1,2,    234.2,2,     1.56,2,     1.20,2,     0.05,2,     0.23,2,     -999,9,     -999,9,     -999,9,   2104.6,2,   2345.7,2,   7.9281,2,    24.99,2,     -999,9,  15.6700,2,     -999,9,     -999,9,     -999,9,     -999,9,     -999,1,   4.9720,1,   0.0169,1,     -999,9,     -999,9,     -999,9,     -999,9,     -999,9,20230728,0736, -31.2242, 106.6347,-999          ,9,-999          ,9
33RR20230722  ,I05        ,21      ,  2,30         ,30         ,2,20230728,0537, -31.2242, 106.6347,     5077,    156.0,2,  14.6843,2,  35.4843,2,  35.4841,2,    231.3,2,    231.9,2,     1.76,2,     3.11,2,     0.01,2,     0.35,2,    2.336,2,    1.526,2,   2.5100,2,   2115.0,2,   2336.2,2,   7.8919,2,    24.97,2,     -999,9,  14.6834,2,     -999,9,     -999,9,     -999,9,     -999,9,     -999,1,   4.9707,1,   0.0125,1,      8.9,2,     -999,9,     -999,9,     -999,9,     -999,9,20230728,0735, -31.2242, 106.6347,-999          ,9,-999          ,9
33RR20230722  ,I05        ,21      ,  2,29         ,29         ,2,20230728,0537, -31.2242, 106.6347,     5077,    178.4,2,  14.3002,2,  35.4333,2,  35.4344,2,    230.2,2,    231.2,2,     1.56,2,     3.88,2,     0.00,2,     0.42,2,     -999,9,     -999,9,     -999,9,   2117.8,2,   2329.3,2,   7.8821,2,    25.00,2,     -999,9,  14.3499,2,     -999,9,     -999,9,     -999,9,     -999,9,     -999,1,   4.9700,1,   0.0119,1,     -999,9,     -999,9,     -999,9,     -999,9,     -999,9,20230728,0733, -31.2242, 106.6347,-999          ,9,-999          ,9
33RR20230722  ,I05        ,21      ,  2,28         ,28         ,2,20230728,0537, -31.2242, 106.6347,     5077,    204.8,2,  13.7025,2,  35.3403,2,  35.3224,2,    232.6,2,    233.6,2,     1.76,2,     5.02,2,     0.00,2,     0.48,2,     -999,9,     -999,9,     -999,9,   2122.5,2,   2324.0,2,   7.8655,2,    24.99,2,     -999,9,  13.6964,2,     -999,9,     -999,9,     -999,9,     -999,9,     -999,1,   4.8775,1,   0.0116,1,     -999,9,     -999,9,     -999,9,     -999,9,     -999,9,20230728,0731, -31.2242, 106.6347,-999          ,9,-999          ,9
33RR20230722  ,I05        ,21      ,  2,27         ,27         ,2,20230728,0537, -31.2242, 106.6347,     5077,    236.0,2,  12.8815,2,  35.1873,2,  35.1916,2,    239.1,2,    238.7,2,     1.85,2,     5.84,2,     0.00,2,     0.54,2,     -999,9,     -999,9,     -999,9,   2122.1,2,   2318.6,2,   7.8526,2,    25.01,2,     -999,9,  12.8944,2,     -999,9,     -999,9,     -999,9,     -999,9,     -999,1,   4.9266,1,   0.0116,1,     -999,9,     -999,9,     -999,9,     -999,9,     -999,9,20230728,0730, -31.2242, 106.6347,-999          ,9,-999          ,9
33RR20230722  ,I05        ,21      ,  2,26         ,26         ,2,20230728,0537, -31.2242, 106.6347,     5077,    272.6,2,  12.4712,2,  35.1319,2,  35.1315,2,    241.0,2,    240.6,2,     1.46,2,     6.90,2,     0.00,2,     0.59,2,     -999,9,     -999,9,     -999,9,   2125.0,2,   2315.3,2,   7.8404,2,    24.98,2,     -999,9,  12.4761,2,     -999,9,     -999,9,     -999,9,     -999,9,     -999,1,   4.9567,1,   0.0116,1,     -999,9,     -999,9,     -999,9,     -999,9,     -999,9,20230728,0728, -31.2243, 106.6347,-999          ,9,-999          ,9
33RR20230722  ,I05        ,21      ,  2,25         ,25         ,2,20230728,0537, -31.2242, 106.6347,     5077,    314.6,2,  11.6416,2,  34.9972,2,  35.0006,2,    245.4,2,    244.5,2,     2.15,2,     8.67,2,     0.00,2,     0.71,2,    2.654,2,    1.774,2,   2.6300,2,   2130.2,2,   2308.1,2,   7.8198,6,    24.99,2,     -999,9,  11.6475,2,     -999,9,     -999,9,     -999,9,     -999,9,     -999,1,   4.9694,1,   0.0114,1,     10.9,2,     -999,9,     -999,9,     -999,9,     -999,9,20230728,0726, -31.2242, 106.6347,-999          ,9,-999          ,9
33RR20230722  ,I05        ,21      ,  2,24         ,24         ,2,20230728,0537, -31.2242, 106.6347,     5077,    369.7,2,  10.8330,2,  34.8607,2,  34.8595,2,    246.6,2,    245.7,2,     2.64,2,    10.94,2,     0.00,2,     0.84,2,     -999,9,     -999,9,     -999,9,   -999.0,9,     -999,9,     -999,9,     -999,9,     -999,9,  10.8225,2,     -999,9,     -999,9,     -999,9,     -999,9,     -999,1,   4.9683,1,   0.0112,1,     -999,9,     -999,9,     -999,9,     -999,9,     -999,9,20230728,0724, -31.2242, 106.6347,-999          ,9,-999          ,9
33RR20230722  ,I05        ,21      ,  2,23         ,23         ,2,20230728,0537, -31.2242, 106.6347,     5077,    456.8,2,  10.1273,2,  34.7652,2,  34.7606,2,    241.3,2,    240.9,2,     3.51,2,    13.66,2,     0.00,2,     1.02,2,     -999,9,     -999,9,     -999,9,   2138.3,2,   2293.9,2,   7.7697,2,    24.95,2,     -999,9,  10.1173,2,     -999,9,     -999,9,     -999,9,     -999,9,     -999,1,   4.9676,1,   0.0114,1,     -999,9,     -999,9,     -999,9,     -999,9,     -999,9,20230728,0722, -31.2242, 106.6347,-999          ,9,-999          ,9
33RR20230722  ,I05        ,21      ,  2,22         ,22         ,2,20230728,0537, -31.2242, 106.6347,     5077,    538.5,2,   9.6672,2,  34.7181,2,  34.7203,2,    237.2,2,    236.7,2,     4.29,2,    15.46,2,     0.00,2,     1.11,2,    3.006,2,    1.941,2,   2.3100,2,   2144.0,2,   2287.6,2,   7.7534,2,    24.99,2,     -999,9,   9.6846,2,     -999,9,     -999,9,     -999,9,     -999,9,     -999,1,   4.9668,1,   0.0113,1,     12.7,2,     -999,9,     -999,9,     -999,9,     -999,9,20230728,0719, -31.2242, 106.6347,-999          ,9,-999          ,9
33RR20230722  ,I05        ,21      ,  2,21         ,21         ,2,20230728,0537, -31.2242, 106.6347,     5077,    644.3,2,   9.0361,2,  34.6380,2,  34.6378,2,    233.9,2,    234.0,2,     5.37,2,    17.52,2,     0.00,2,     1.24,2,     -999,9,     -999,9,     -999,9,   2147.2,2,   2288.8,2,   7.7373,2,    24.99,2,     -999,9,   9.0335,2,     -999,9,     -999,9,     -999,9,     -999,9,     -999,1,   4.9667,1,   0.0112,1,     -999,9,     -999,9,     -999,9,     -999,9,     -999,9,20230728,0716, -31.2242, 106.6347,-999          ,9,-999          ,9
33RR20230722  ,I05        ,21      ,  2,20         ,20         ,2,20230728,0537, -31.2242, 106.6347,     5077,    751.8,2,   7.6370,2,  34.4964,2,  34.4974,2,    208.1,2,    209.2,2,    12.01,2,    22.94,2,     0.01,2,     1.63,2,     -999,9,     -999,9,     -999,9,   2167.2,2,   2284.8,6,   7.6819,2,    25.01,2,     -999,9,   7.6336,2,     -999,9,     -999,9,     -999,9,     -999,9,     -999,1,   4.8433,1,   0.0113,1,     -999,9,     -999,9,     -999,9,     -999,9,     -999,9,20230728,0713, -31.2242, 106.6347,-999          ,9,-999          ,9
33RR20230722  ,I05        ,21      ,  2,19         ,19         ,2,20230728,0537, -31.2242, 106.6347,     5077,    874.8,2,   5.7229,2,  34.3900,2,  34.3876,2,    195.9,2,    197.4,2,    25.58,2,    28.36,2,     0.00,2,     1.96,2,     -999,9,     -999,9,     -999,9,   2189.7,2,   2288.5,2,   7.6305,6,    24.92,2,     -999,9,   5.7226,2,     -999,9,     -999,9,     -999,9,     -999,9,     -999,1,   4.9701,1,   0.0111,1,     -999,9,     -999,9,     -999,9,     -999,9,     -999,9,20230728,0710, -31.2242, 106.6347,-999          ,9,-999          ,9
33RR20230722  ,I05        ,21      ,  2,18         ,18         ,2,20230728,0537, -31.2242, 106.6347,     5077,   1013.4,2,   4.3432,2,  34.3893,2,  34.3900,2,    183.9,2,    184.8,2,    43.05,2,    31.94,2,     0.00,2,     2.20,2,     -999,9,     -999,9,     -999,9,   -999.0,9,     -999,9,     -999,9,     -999,9,     -999,9,   4.3359,2,     -999,9,     -999,9,     -999,9,     -999,9,     -999,1,   4.9716,1,   0.0112,1,     -999,9,     -999,9,     -999,9,     -999,9,     -999,9,20230728,0707, -31.2242, 106.6348,-999          ,9,-999          ,9
33RR20230722  ,I05        ,21      ,  2,17         ,17         ,2,20230728,0537, -31.2242, 106.6347,     5077,   1158.2,2,   3.7454,2,  34.4725,2,  34.4722,2,    161.8,2,    161.8,2,    61.70,2,    33.92,2,     0.00,2,     2.37,2,     -999,9,     -999,9,     -999,9,   2244.7,2,   2328.5,2,   7.5676,2,    24.97,2,     -999,9,   3.7459,2,     -999,9,     -999,9,     -999,9,     -999,9,     -999,1,   4.8396,1,   0.0112,1,     -999,9,     -999,9,     -999,9,     -999,9,     -999,9,20230728,0703, -31.2242, 106.6347,-999          ,9,-999          ,9
33RR20230722  ,I05        ,21      ,  2,16         ,16         ,2,20230728,0537, -31.2242, 106.6347,     5077,   1234.6,2,   3.5561,2,  34.5082,2,  34.5074,2,    155.4,2,    155.2,2,    68.53,2,    34.25,2,     0.00,2,     2.42,2,     -999,9,     -999,9,     -999,9,   -999.0,9,     -999,9,     -999,9,     -999,9,     -999,9,   3.5575,2,     -999,9,     -999,9,     -999,9,     -999,9,     -999,1,   4.9744,1,   0.0116,1,     -999,9,     -999,9,     -999,9,     -999,9,     -999,9,20230728,0701, -31.2242, 106.6347,-999          ,9,-999          ,9
33RR20230722  ,I05        ,21      ,  2,15         ,15         ,2,20230728,0537, -31.2242, 106.6347,     5077,   1304.3,2,   3.4122,2,  34.5337,2,  34.5333,2,    152.6,2,    152.4,2,    72.63,2,    34.48,2,     0.00,2,     2.43,2,     -999,9,     -999,9,     -999,9,   2257.5,2,   2337.7,2,   7.5579,2,    24.95,2,     -999,9,   3.4117,2,     -999,9,     -999,9,     -999,9,     -999,9,     -999,1,   4.9747,1,   0.0115,1,     -999,9,     -999,9,     -999,9,     -999,9,     -999,9,20230728,0659, -31.2242, 106.6347,-999          ,9,-999          ,9
33RR20230722  ,I05        ,21      ,  2,14         ,14         ,2,20230728,0537, -31.2242, 106.6347,     5077,   1472.6,2,   3.0860,2,  34.6046,2,  34.6050,2,    149.1,2,    148.6,2,    82.58,2,    34.54,2,     0.00,2,     2.43,2,     -999,9,     -999,9,     -999,9,   2268.2,2,   2347.9,2,   7.5594,6,    24.98,2,     -999,9,   3.0860,2,     -999,9,     -999,9,     -999,9,     -999,9,     -999,1,   4.9750,1,   0.0120,1,     -999,9,     -999,9,     -999,9,     -999,9,     -999,9,20230728,0655, -31.2242, 106.6347,-999          ,9,-999          ,9
33RR20230722  ,I05        ,21      ,  2,13         ,13         ,2,20230728,0537, -31.2242, 106.6347,     5077,   1620.8,2,   2.8570,2,  34.6363,2,     -999,9,    152.9,2,     -999,9,     -999,9,     -999,9,     -999,9,     -999,9,     -999,9,     -999,9,     -999,9,   -999.0,9,     -999,9,     -999,9,     -999,9,     -999,9,   2.8573,2,     -999,9,     -999,9,     -999,9,     -999,9,     -999,1,   4.9753,1,   0.0119,1,     -999,9,     -999,9,     -999,9,     -999,9,     -999,9,20230728,0651, -31.2242, 106.6347,-999          ,9,-999          ,9
33RR20230722  ,I05        ,21      ,  2,12         ,12         ,2,20230728,0537, -31.2242, 106.6347,     5077,   1774.2,2,   2.6783,2,  34.6724,2,  34.6724,2,    154.7,2,    154.4,2,    94.00,2,    33.74,2,     0.00,2,     2.39,2,     -999,9,     -999,9,     -999,9,   2276.4,2,   2358.4,2,   7.5717,2,    24.97,2,     -999,9,   2.6792,2,     -999,9,     -999,9,     -999,9,     -999,9,     -999,1,   4.9754,1,   0.0113,1,     -999,9,     -999,9,     -999,9,     -999,9,     -999,9,20230728,0647, -31.2242, 106.6347,-999          ,9,-999          ,9
33RR20230722  ,I05        ,21      ,  2,11         ,11         ,2,20230728,0537, -31.2242, 106.6347,     5077,   1979.8,2,   2.4098,2,  34.7050,2,  34.7052,2,    160.1,2,    159.9,2,   100.14,2,    33.24,2,     0.00,2,     2.35,2,     -999,9,     -999,9,     -999,9,   2281.5,2,   2368.9,6,   7.5823,2,    25.01,2,     -999,9,   2.4112,2,     -999,9,     -999,9,     -999,9,     -999,9,     -999,1,   4.9755,1,   0.0123,1,     -999,9,     -999,9,     -999,9,     -999,9,     -999,9,20230728,0643, -31.2242, 106.6347,-999          ,9,-999          ,9
33RR20230722  ,I05        ,21      ,  2,10         ,10         ,2,20230728,0537, -31.2242, 106.6347,     5077,   2261.2,2,   2.1418,2,  34.7214,2,  34.7211,2,    165.7,2,    165.7,2,   108.05,2,    32.76,2,     0.00,2,     2.34,2,     -999,9,     -999,9,     -999,9,   -999.0,9,     -999,9,     -999,9,     -999,9,     -999,9,   2.1418,2,     -999,9,     -999,9,     -999,9,     -999,9,     -999,1,   4.9757,1,   0.0113,1,     -999,9,     -999,9,     -999,9,     -999,9,     -999,9,20230728,0637, -31.2242, 106.6347,-999          ,9,-999          ,9
33RR20230722  ,I05        ,21      ,  2,9          ,9          ,2,20230728,0537, -31.2242, 106.6347,     5077,   2607.6,2,   1.8857,2,  34.7272,2,  34.7268,2,    173.3,2,    173.4,2,   113.12,2,    32.27,2,     0.00,2,     2.31,2,     -999,9,     -999,9,     -999,9,   -999.0,9,     -999,9,     -999,9,     -999,9,     -999,9,   1.8864,2,     -999,9,     -999,9,     -999,9,     -999,9,     -999,1,   4.9756,1,   0.0118,1,     -999,9,     -999,9,     -999,9,     -999,9,     -999,9,20230728,0630, -31.2242, 106.6347,-999          ,9,-999          ,9
33RR20230722  ,I05        ,21      ,  2,8          ,8          ,2,20230728,0537, -31.2242, 106.6347,     5077,   2980.7,2,   1.6404,2,  34.7280,2,  34.7274,2,    182.4,2,    182.7,2,   116.05,2,    32.03,2,     0.00,2,     2.26,2,    0.000,2,    0.006,2,   0.0200,2,   2277.9,2,   2376.9,2,   7.6096,6,    24.96,2,     -999,9,   1.6411,2,     -999,9,     -999,9,     -999,9,     -999,9,     -999,1,   4.8147,1,   0.0110,1,     18.7,2,     -999,9,     -999,9,     -999,9,     -999,9,20230728,0622, -31.2242, 106.6347,-999          ,9,-999          ,9
33RR20230722  ,I05        ,21      ,  2,7          ,7          ,2,20230728,0537, -31.2242, 106.6347,     5077,   3347.8,2,   1.4364,2,  34.7239,2,  34.7231,2,    187.5,2,    187.8,2,   118.10,2,    32.23,2,     0.00,2,     2.25,2,     -999,9,     -999,9,     -999,9,   -999.0,9,     -999,9,     -999,9,     -999,9,     -999,9,   1.4363,2,     -999,9,     -999,9,     -999,9,     -999,9,     -999,1,   4.9761,1,   0.0112,1,     -999,9,     -999,9,     -999,9,     -999,9,     -999,9,20230728,0615, -31.2242, 106.6347,-999          ,9,-999          ,9
33RR20230722  ,I05        ,21      ,  2,6          ,6          ,2,20230728,0537, -31.2242, 106.6347,     5077,   3705.3,2,   1.2880,2,  34.7198,2,  34.7191,2,    192.5,2,    193.0,2,   120.05,2,    31.95,2,     0.00,2,     2.24,2,     -999,9,     -999,9,     -999,9,   -999.0,9,     -999,9,     -999,9,     -999,9,     -999,9,   1.2880,2,     -999,9,     -999,9,     -999,9,     -999,9,     -999,1,   4.8942,1,   0.0112,1,     -999,9,     -999,9,     -999,9,     -999,9,     -999,9,20230728,0608, -31.2242, 106.6347,-999          ,9,-999          ,9
33RR20230722  ,I05        ,21      ,  2,5          ,5          ,2,20230728,0537, -31.2242, 106.6347,     5077,   4031.2,2,   1.1848,2,  34.7158,2,  34.7152,2,    196.6,2,    196.6,2,   124.05,2,    31.71,2,     0.00,2,     2.24,2,    0.000,2,    0.010,2,   0.0000,2,   2277.1,2,   2382.3,2,   7.6202,2,    24.98,2,     -999,9,   1.1858,2,     -999,9,     -999,9,     -999,9,     -999,9,     -999,1,   4.9766,1,   0.0112,1,     17.7,2,     -999,9,     -999,9,     -999,9,     -999,9,20230728,0601, -31.2242, 106.6347,-999          ,9,-999          ,9
33RR20230722  ,I05        ,21      ,  2,4          ,37         ,2,20230728,0537, -31.2242, 106.6347,     5077,   4385.4,2,   1.0934,2,  34.7121,2,  34.7115,2,    202.4,2,    202.8,2,   122.40,2,    31.81,2,     0.00,2,     2.23,2,     -999,9,     -999,9,     -999,9,   -999.0,9,     -999,9,     -999,9,     -999,9,     -999,9,   1.0937,2,     -999,9,     -999,9,     -999,9,     -999,9,     -999,1,   4.9422,1,   0.0120,1,     -999,9,     -999,9,     -999,9,     -999,9,     -999,9,20230728,0554, -31.2242, 106.6347,-999          ,9,-999          ,9
33RR20230722  ,I05        ,21      ,  2,3          ,3          ,2,20230728,0537, -31.2242, 106.6347,     5077,   4762.8,2,   1.0523,2,  34.7088,2,  34.7085,2,    205.0,2,    205.1,2,   123.27,2,    31.73,2,     0.00,2,     2.23,2,    0.048,2,    0.045,2,   0.0600,2,   2271.2,2,   2371.8,2,   7.6192,2,    25.00,2,     -999,9,   1.0528,2,     -999,9,     -999,9,     -999,9,     -999,9,     -999,1,   4.9768,1,   0.0111,1,     18.0,2,     -999,9,     -999,9,     -999,9,     -999,9,20230728,0547, -31.2242, 106.6347,-999          ,9,-999          ,9