BOTTLE,20240422CCHHYDRO
EXPOCODE,SECT_ID,STNNBR,CASTNO,SAMPNO,BTLNBR,BTLNBR_FLAG_W,DATE,TIME,LATITUDE,LONGITUDE,DEPTH,CTDPRS,CTDPRS_FLAG_W,CTDTMP,CTDTMP_FLAG_W,CTDSAL,CTDSAL_FLAG_W,SALNTY,SALNTY_FLAG_W,CTDOXY,CTDOXY_FLAG_W,OXYGEN,OXYGEN_FLAG_W,SILCAT,SILCAT_FLAG_W,NITRAT,NITRAT_FLAG_W,NITRIT,NITRIT_FLAG_W,PHSPHT,PHSPHT_FLAG_W,CFC-11,CFC-11_FLAG_W,CFC-12,CFC-12_FLAG_W,SF6,SF6_FLAG_W,TCARBN,TCARBN_FLAG_W,ALKALI,ALKALI_FLAG_W,PH_TOT,PH_TOT_FLAG_W,PH_TMP,PH_TMP_FLAG_W,DOC,DOC_FLAG_W,REFTMP,REFTMP_FLAG_W,POC,POC_FLAG_W,PON,PON_FLAG_W,POP,POP_FLAG_W,DOP,DOP_FLAG_W,DELO18,DELO18_FLAG_W,CTDFLUOR,CTDFLUOR_FLAG_W,CTDXMISS,CTDXMISS_FLAG_W,N2O,N2O_FLAG_W,D15N_NO3,D15N_NO3_FLAG_W,D15N_NO2+NO3,D15N_NO2+NO3_FLAG_W,D18O_NO2+NO3,D18O_NO2+NO3_FLAG_W,D18O_NO3,D18O_NO3_FLAG_W,BTL_DATE,BTL_TIME,BTL_LAT,BTL_LON,HPLC,HPLC_FLAG_W,DNA,DNA_FLAG_W
,,,,,,,,,,,METERS,DBAR,,ITS-90,,PSS-78,,PSS-78,,UMOL/KG,,UMOL/KG,,UMOL/KG,,UMOL/KG,,UMOL/KG,,UMOL/KG,,PMOL/KG,,PMOL/KG,,FMOL/KG,,UMOL/KG,,UMOL/KG,,,,DEG C,,UMOL/KG,,ITS-90,,UG/KG,,UG/KG,,UG/L,,UMOL/KG,,/MILLE,,VOLTS,,VOLTS,,NMOL/KG,,/MILLE,,/MILLE,,/MILLE,,/MILLE,,,,,,,,,
33RR20230722  ,I05        ,91      ,  1,35         ,35         ,2,20230814,1831, -32.4201,  75.5003,     3555,      5.7,2,  16.9324,2,  35.5682,2,  35.5677,2,    242.0,2,    241.6,2,     0.98,2,     0.06,2,     0.00,2,     0.11,2,    1.793,2,    1.412,2,   2.3600,2,   2080.3,2,   2337.9,2,   7.9546,2,    25.01,2,     -999,1,  16.9317,2,     -999,9,     -999,9,     -999,9,     -999,1,     -999,1,   4.9173,1,   0.0277,1,      8.2,2,     -999,9,     -999,9,     -999,9,     -999,9,20230814,2012, -32.4201,  75.5003,-999          ,9,-999          ,9
33RR20230722  ,I05        ,91      ,  1,34         ,34         ,2,20230814,1831, -32.4201,  75.5003,     3555,     24.3,2,  16.9229,2,  35.5671,2,  35.5671,2,    241.9,2,    241.9,2,     0.98,2,     0.02,2,     0.00,2,     0.13,2,     -999,9,     -999,9,     -999,9,   2081.5,2,   2338.9,2,   7.9552,2,    24.99,2,     -999,9,  16.9184,2,     -999,9,     -999,9,     -999,9,     -999,1,     -999,1,   4.9751,1,   0.0296,1,     -999,9,     -999,9,     -999,9,     -999,9,     -999,9,20230814,2010, -32.4201,  75.5003,-999          ,9,-999          ,9
33RR20230722  ,I05        ,91      ,  1,33         ,33         ,2,20230814,1831, -32.4201,  75.5003,     3555,     41.9,2,  16.8854,2,  35.5576,2,  35.5581,2,    242.0,2,    241.7,2,     0.98,2,     0.01,2,     0.00,2,     0.12,2,    1.949,3,    1.536,2,   2.4700,2,   -999.0,9,     -999,9,     -999,9,     -999,9,     -999,9,  16.8817,2,     -999,9,     -999,9,     -999,9,     -999,9,     -999,1,   4.9748,1,   0.0324,1,      8.1,2,     -999,9,     -999,9,     -999,9,     -999,9,20230814,2008, -32.4201,  75.5003,-999          ,9,-999          ,9
33RR20230722  ,I05        ,91      ,  1,32         ,32         ,2,20230814,1831, -32.4201,  75.5003,     3555,     61.3,2,  16.8108,2,  35.5405,2,  35.5379,2,    242.0,2,    242.1,2,     0.88,2,     0.00,2,     0.00,2,     0.13,2,     -999,9,     -999,9,     -999,9,   2083.9,2,   2336.9,2,   7.9524,2,    25.00,2,     -999,9,  16.8117,2,     -999,9,     -999,9,     -999,9,     -999,1,     -999,1,   4.7706,1,   0.0350,1,     -999,9,     -999,9,     -999,9,     -999,9,     -999,9,20230814,2007, -32.4201,  75.5002,-999          ,9,-999          ,9
33RR20230722  ,I05        ,91      ,  1,31         ,31         ,2,20230814,1831, -32.4201,  75.5003,     3555,     87.0,2,  16.6306,2,  35.5027,2,  35.5048,2,    242.3,2,    242.7,2,     0.88,2,     0.01,2,     0.00,2,     0.13,2,    1.993,2,    1.360,2,   2.3500,2,   2083.7,2,   2334.7,2,   7.9485,2,    25.00,2,     -999,9,  16.6289,2,     -999,9,     -999,9,     -999,9,     -999,1,     -999,1,   4.9743,1,   0.0410,1,      7.8,2,     -999,9,     -999,9,     -999,9,     -999,9,20230814,2005, -32.4201,  75.5003,-999          ,9,-999          ,9
33RR20230722  ,I05        ,91      ,  1,30         ,30         ,2,20230814,1831, -32.4201,  75.5003,     3555,    115.7,2,  14.7915,2,  35.3823,2,  35.3815,2,    240.4,2,    240.6,2,     1.37,2,     2.35,2,     0.23,2,     0.33,2,     -999,9,     -999,9,     -999,9,   2107.2,2,   2326.4,2,   7.8890,2,    25.00,2,     -999,9,  14.7909,2,     -999,9,     -999,9,     -999,9,     -999,1,     -999,1,   4.3660,1,   0.0285,1,     -999,9,     -999,9,     -999,9,     -999,9,     -999,9,20230814,2003, -32.4201,  75.5002,-999          ,9,-999          ,9
33RR20230722  ,I05        ,91      ,  1,29         ,29         ,2,20230814,1831, -32.4201,  75.5003,     3555,    146.7,2,  13.9622,2,  35.3183,2,  35.3258,2,    233.3,2,    234.1,2,     1.56,2,     4.58,2,     0.02,2,     0.43,2,    2.246,2,    1.556,2,   2.6100,2,   2117.4,2,   2322.4,2,   7.8645,2,    25.00,2,     -999,9,  13.9660,2,     -999,9,     -999,9,     -999,9,     -999,9,     -999,1,   4.9699,1,   0.0172,1,     10.1,2,     -999,9,     -999,9,     -999,9,     -999,9,20230814,2002, -32.4201,  75.5003,-999          ,9,-999          ,9
33RR20230722  ,I05        ,91      ,  1,28         ,28         ,2,20230814,1831, -32.4201,  75.5003,     3555,    179.4,2,  13.5330,2,  35.2648,2,  35.2645,2,    233.1,2,    233.7,2,     2.15,2,     6.15,2,     0.01,2,     0.51,2,     -999,9,     -999,9,     -999,9,   2121.2,2,   2317.5,2,   7.8495,2,    24.99,2,     -999,9,  13.5492,2,     -999,9,     -999,9,     -999,9,     -999,9,     -999,1,   4.9695,1,   0.0134,1,     -999,9,     -999,9,     -999,9,     -999,9,     -999,9,20230814,2000, -32.4201,  75.5003,-999          ,9,-999          ,9
33RR20230722  ,I05        ,91      ,  1,27         ,27         ,2,20230814,1831, -32.4201,  75.5003,     3555,    208.9,2,  13.2347,2,  35.2250,2,  35.2255,2,    234.3,2,    234.8,2,     2.15,2,     6.69,2,     0.01,2,     0.55,2,    2.489,2,    1.607,2,   2.5200,2,   2120.9,2,   2316.8,2,   7.8434,6,    25.00,2,     -999,9,  13.2356,2,     -999,9,     -999,9,     -999,9,     -999,9,     -999,1,   4.9698,1,   0.0124,1,     10.4,2,     -999,9,     -999,9,     -999,9,     -999,9,20230814,1958, -32.4201,  75.5003,-999          ,9,-999          ,9
33RR20230722  ,I05        ,91      ,  1,26         ,26         ,2,20230814,1831, -32.4201,  75.5003,     3555,    244.7,2,  12.8881,2,  35.1799,2,  35.1790,2,    236.2,2,    236.1,2,     2.54,2,     7.65,2,     0.00,2,     0.60,2,    2.406,2,    1.641,2,   2.4900,2,   -999.0,9,     -999,9,     -999,9,     -999,9,     -999,9,  12.8852,2,     -999,9,     -999,9,     -999,9,     -999,1,     -999,1,   4.9692,1,   0.0117,1,     10.8,2,     -999,9,     -999,9,     -999,9,     -999,9,20230814,1956, -32.4201,  75.5003,-999          ,9,-999          ,9
33RR20230722  ,I05        ,91      ,  1,25         ,25         ,2,20230814,1831, -32.4201,  75.5003,     3555,    292.5,2,  12.4647,2,  35.1166,2,  35.1158,2,    237.8,2,    237.4,2,     2.73,2,     8.67,2,     0.00,2,     0.67,2,    2.676,2,    1.674,2,   2.5400,2,   2125.4,2,     -999,5,   7.8255,2,    25.00,2,     -999,9,  12.4632,2,     -999,9,     -999,9,     -999,9,     -999,9,     -999,1,   4.6438,1,   0.0117,1,     11.2,2,     -999,9,     -999,9,     -999,9,     -999,9,20230814,1954, -32.4201,  75.5003,-999          ,9,-999          ,9
33RR20230722  ,I05        ,91      ,  1,24         ,24         ,2,20230814,1831, -32.4201,  75.5003,     3555,    350.4,2,  12.0951,2,  35.0617,2,  35.0596,2,    238.5,2,    238.3,2,     2.93,2,     9.63,2,     0.00,2,     0.74,2,    2.508,2,    1.705,2,   2.4200,2,   2126.6,2,   2307.5,2,   7.8143,2,    25.00,2,     -999,9,  12.0937,2,     -999,9,     -999,9,     -999,9,     -999,9,     -999,1,   4.9682,1,   0.0114,1,     11.2,2,     -999,9,     -999,9,     -999,9,     -999,9,20230814,1952, -32.4201,  75.5003,-999          ,9,-999          ,9
33RR20230722  ,I05        ,91      ,  1,23         ,23         ,2,20230814,1831, -32.4201,  75.5003,     3555,    409.7,2,  11.7894,2,  35.0173,2,  35.0207,2,    241.8,2,    240.6,2,     3.32,2,    10.37,2,     0.00,2,     0.77,2,    2.882,2,    1.725,2,   2.5200,2,   2126.1,2,   2306.0,2,   7.8129,2,    25.00,2,     -999,9,  11.7916,2,     -999,9,     -999,9,     -999,9,     -999,9,     -999,1,   4.9682,1,   0.0113,1,     10.7,2,     -999,9,     -999,9,     -999,9,     -999,9,20230814,1950, -32.4201,  75.5003,-999          ,9,-999          ,9
33RR20230722  ,I05        ,91      ,  1,22         ,22         ,2,20230814,1831, -32.4201,  75.5003,     3555,    470.6,2,  11.4254,2,  34.9600,2,  34.9597,2,    239.0,2,    238.3,2,     3.51,2,    11.44,2,     0.00,2,     0.83,2,     -999,9,     -999,9,     -999,9,   -999.0,9,     -999,9,     -999,9,     -999,9,     -999,9,  11.4429,2,     -999,9,     -999,9,     -999,9,     -999,9,     -999,1,   4.8931,1,   0.0114,1,     -999,9,     -999,9,     -999,9,     -999,9,     -999,9,20230814,1948, -32.4201,  75.5003,-999          ,9,-999          ,9
33RR20230722  ,I05        ,91      ,  1,21         ,21         ,2,20230814,1831, -32.4201,  75.5003,     3555,    539.2,2,  11.0180,2,  34.9010,2,  34.9000,2,    234.5,2,    234.2,2,     3.90,2,    12.82,2,     0.00,2,     0.92,2,    2.746,2,    1.798,2,   2.2100,2,   2133.1,2,   2299.8,2,   7.7864,2,    25.00,2,     -999,9,  11.0176,2,     -999,9,     -999,9,     -999,9,     -999,9,     -999,1,   4.9668,1,   0.0115,1,     11.4,2,     -999,9,     -999,9,     -999,9,     -999,9,20230814,1946, -32.4201,  75.5003,-999          ,9,-999          ,9
33RR20230722  ,I05        ,91      ,  1,20         ,20         ,2,20230814,1831, -32.4201,  75.5003,     3555,    626.3,2,  10.3237,2,  34.8063,2,  34.8037,2,    226.2,2,    226.6,2,     5.08,2,    15.23,2,     0.00,2,     1.07,2,    3.109,2,    1.838,2,   1.9800,2,   2141.0,2,   2295.2,2,   7.7638,2,    25.00,2,     -999,9,  10.3168,2,     -999,9,     -999,9,     -999,9,     -999,9,     -999,1,   4.6909,1,   0.0116,1,     12.2,2,     -999,9,     -999,9,     -999,9,     -999,9,20230814,1943, -32.4201,  75.5003,-999          ,9,-999          ,9
33RR20230722  ,I05        ,91      ,  1,19         ,19         ,2,20230814,1831, -32.4201,  75.5003,     3555,    718.8,2,   9.2122,2,  34.6668,2,  34.6677,2,    218.5,2,    219.4,2,     7.22,2,    18.51,2,     0.00,2,     1.30,2,     -999,9,     -999,9,     -999,9,   2148.9,2,   2289.3,2,   7.7281,2,    25.00,2,     -999,9,   9.2023,2,     -999,9,     -999,9,     -999,9,     -999,9,     -999,1,   4.7632,1,   0.0112,1,     -999,9,     -999,9,     -999,9,     -999,9,     -999,9,20230814,1940, -32.4201,  75.5003,-999          ,9,-999          ,9
33RR20230722  ,I05        ,91      ,  1,18         ,18         ,2,20230814,1831, -32.4201,  75.5003,     3555,    817.2,2,   8.1544,2,  34.5649,2,  34.5643,2,    207.6,2,    208.2,2,    11.62,2,    22.09,2,     0.00,2,     1.53,2,    2.928,2,    1.709,2,   1.3300,2,   -999.0,9,     -999,9,     -999,9,     -999,9,     -999,9,   8.1575,2,     -999,9,     -999,9,     -999,9,     -999,9,     -999,1,   4.9681,1,   0.0113,1,     15.1,2,     -999,9,     -999,9,     -999,9,     -999,9,20230814,1938, -32.4201,  75.5002,-999          ,9,-999          ,9
33RR20230722  ,I05        ,91      ,  1,17         ,17         ,2,20230814,1831, -32.4201,  75.5003,     3555,    909.0,2,   6.9742,2,  34.4671,2,  34.4663,2,    203.1,2,    203.8,2,    16.79,2,    25.31,2,     0.00,2,     1.75,2,     -999,9,     -999,9,     -999,9,   2173.1,2,   2287.5,2,   7.6621,2,    25.00,2,     -999,9,   6.9945,2,     -999,9,     -999,9,     -999,9,     -999,9,     -999,1,   4.9691,1,   0.0112,1,     -999,9,     -999,9,     -999,9,     -999,9,     -999,9,20230814,1935, -32.4201,  75.5003,-999          ,9,-999          ,9
33RR20230722  ,I05        ,91      ,  1,16         ,16         ,2,20230814,1831, -32.4201,  75.5003,     3555,   1001.8,2,   5.6238,2,  34.3809,2,  34.3808,2,    203.1,2,    203.1,2,    24.22,2,    28.43,2,     0.00,2,     1.96,2,    2.637,3,    1.396,2,   0.9300,2,   2186.6,2,   2290.6,6,   7.6326,2,    25.00,2,     -999,9,   5.6191,2,     -999,9,     -999,9,     -999,9,     -999,9,     -999,1,   4.6581,1,   0.0113,1,     17.9,2,     -999,9,     -999,9,     -999,9,     -999,9,20230814,1932, -32.4201,  75.5003,-999          ,9,-999          ,9
33RR20230722  ,I05        ,91      ,  1,15         ,15         ,2,20230814,1831, -32.4201,  75.5003,     3555,   1122.2,2,   4.4950,2,  34.3593,2,  34.3592,2,    197.4,2,    197.4,2,    35.15,2,    31.06,2,     0.00,2,     2.15,2,    2.032,2,    1.113,6,   0.6200,6,   2203.6,2,   2298.4,2,   7.6053,6,    24.99,2,     -999,9,   4.4986,2,     -999,9,     -999,9,     -999,9,     -999,9,     -999,1,   4.9710,1,   0.0113,1,     19.6,6,     -999,9,     -999,9,     -999,9,     -999,9,20230814,1929, -32.4201,  75.5003,-999          ,9,-999          ,9
33RR20230722  ,I05        ,91      ,  1,14         ,14         ,2,20230814,1831, -32.4201,  75.5003,     3555,   1243.3,2,   3.9160,2,  34.4023,2,  34.4041,2,    183.8,2,    182.8,2,    47.94,2,    32.90,2,     0.00,2,     2.31,2,     -999,9,     -999,9,     -999,9,   -999.0,9,     -999,9,     -999,9,     -999,9,     -999,9,   3.9175,2,     -999,9,     -999,9,     -999,9,     -999,9,     -999,1,   4.9083,1,   0.0112,1,     -999,9,     -999,9,     -999,9,     -999,9,     -999,9,20230814,1926, -32.4201,  75.5003,-999          ,9,-999          ,9
33RR20230722  ,I05        ,91      ,  1,13         ,13         ,2,20230814,1831, -32.4201,  75.5003,     3555,   1346.3,2,   3.6075,2,  34.4699,2,  34.4701,2,    166.4,2,    166.3,2,    60.73,2,    34.24,2,     0.00,2,     2.40,2,    0.752,2,    0.389,2,   0.1200,2,   2240.6,6,   2322.9,2,   7.5689,2,    25.00,2,     -999,9,   3.6076,2,     -999,9,     -999,9,     -999,9,     -999,9,     -999,1,   4.9738,1,   0.0112,1,     22.3,2,     -999,9,     -999,9,     -999,9,     -999,9,20230814,1923, -32.4201,  75.5003,-999          ,9,-999          ,9
33RR20230722  ,I05        ,91      ,  1,12         ,12         ,2,20230814,1831, -32.4201,  75.5003,     3555,   1456.7,2,   3.3565,2,  34.5132,2,  34.5146,2,    161.4,2,    161.3,2,    67.86,2,    34.61,2,     0.00,2,     2.43,2,     -999,9,     -999,9,     -999,9,   2252.1,2,   2331.0,2,   7.5642,6,    25.01,2,     -999,9,   3.3571,2,     -999,9,     -999,9,     -999,9,     -999,9,     -999,1,   4.6942,1,   0.0121,1,     -999,9,     -999,9,     -999,9,     -999,9,     -999,9,20230814,1920, -32.4201,  75.5003,-999          ,9,-999          ,9
33RR20230722  ,I05        ,91      ,  1,11         ,11         ,2,20230814,1831, -32.4201,  75.5003,     3555,   1569.5,2,   3.0418,2,  34.5551,2,  34.5545,2,    163.2,2,    163.5,2,    71.66,2,    34.39,2,     0.00,2,     2.42,2,    0.411,2,    0.210,2,   0.1500,2,   2254.1,2,   2333.4,2,   7.5642,2,    25.01,2,     -999,9,   3.0464,2,     -999,9,     -999,9,     -999,9,     -999,9,     -999,1,   4.8879,1,   0.0112,1,     22.8,2,     -999,9,     -999,9,     -999,9,     -999,9,20230814,1917, -32.4201,  75.5003,-999          ,9,-999          ,9
33RR20230722  ,I05        ,91      ,  1,10         ,10         ,2,20230814,1831, -32.4201,  75.5003,     3555,   1692.8,2,   2.8267,2,  34.6129,2,  34.6130,2,    164.1,2,    164.3,2,    77.32,2,    33.93,2,     0.00,2,     2.37,2,    0.236,2,    0.132,2,   0.0300,2,   -999.0,9,     -999,9,     -999,9,     -999,9,     -999,9,   2.8263,2,     -999,9,     -999,9,     -999,9,     -999,9,     -999,1,   4.9743,1,   0.0113,1,     21.8,2,     -999,9,     -999,9,     -999,9,     -999,9,20230814,1914, -32.4201,  75.5003,-999          ,9,-999          ,9
33RR20230722  ,I05        ,91      ,  1,9          ,9          ,2,20230814,1831, -32.4201,  75.5003,     3555,   1844.3,2,   2.5988,2,  34.6634,2,  34.6631,2,    171.7,2,    171.8,2,    78.88,2,    32.89,2,     0.00,2,     2.29,2,     -999,9,     -999,9,     -999,9,   2254.5,2,   2342.9,2,   7.5831,2,    25.02,2,     -999,9,   2.5980,2,     -999,9,     -999,9,     -999,9,     -999,9,     -999,1,   4.9596,1,   0.0111,1,     -999,9,     -999,9,     -999,9,     -999,9,     -999,9,20230814,1910, -32.4201,  75.5003,-999          ,9,-999          ,9
33RR20230722  ,I05        ,91      ,  1,8          ,8          ,2,20230814,1831, -32.4201,  75.5003,     3555,   2029.7,2,   2.3855,2,  34.7050,2,  34.7050,2,    181.4,2,    181.4,2,    80.34,2,    31.80,2,     0.00,2,     2.19,2,    0.137,2,    0.069,2,   0.1000,2,   2249.4,2,   2343.9,2,   7.5977,2,    25.00,2,     -999,9,   2.3867,2,     -999,9,     -999,9,     -999,9,     -999,9,     -999,1,   4.8220,1,   0.0118,1,     20.2,2,     -999,9,     -999,9,     -999,9,     -999,9,20230814,1906, -32.4201,  75.5003,-999          ,9,-999          ,9
33RR20230722  ,I05        ,91      ,  1,7          ,7          ,2,20230814,1831, -32.4201,  75.5003,     3555,   2269.4,2,   2.0526,2,  34.7248,2,  34.7250,2,    183.4,2,    184.4,2,    94.79,2,    31.92,2,     0.00,2,     2.22,2,     -999,9,     -999,9,     -999,9,   2262.5,2,   2358.9,2,   7.6078,2,    25.02,2,     -999,9,   2.0526,2,     -999,9,     -999,9,     -999,9,     -999,9,     -999,1,   4.8516,1,   0.0118,1,     -999,9,     -999,9,     -999,9,     -999,9,     -999,9,20230814,1900, -32.4201,  75.5003,-999          ,9,-999          ,9
33RR20230722  ,I05        ,91      ,  1,6          ,6          ,2,20230814,1831, -32.4201,  75.5003,     3555,   2562.7,2,   1.8073,2,  34.7236,2,  34.7233,2,    178.2,2,    178.1,2,   112.26,2,    32.90,2,     0.00,2,     2.31,2,    0.016,2,    0.011,2,   0.0300,2,   -999.0,9,     -999,9,     -999,9,     -999,9,     -999,9,   1.8072,2,     -999,9,     -999,9,     -999,9,     -999,9,     -999,1,   4.9752,1,   0.0117,1,     19.5,2,     -999,9,     -999,9,     -999,9,     -999,9,20230814,1854, -32.4201,  75.5003,-999          ,9,-999          ,9
33RR20230722  ,I05        ,91      ,  1,5          ,5          ,2,20230814,1831, -32.4201,  75.5003,     3555,   2822.7,2,   1.6698,2,  34.7212,2,  34.7211,2,    180.6,2,    180.8,2,   116.27,2,    32.97,2,     0.00,2,     2.31,2,    0.019,2,    0.013,2,   0.0100,2,   2281.5,2,   2377.6,2,   7.6060,2,    24.99,2,     -999,9,   1.6694,2,     -999,9,     -999,9,     -999,9,     -999,9,     -999,1,   4.9754,1,   0.0117,1,     19.6,2,     -999,9,     -999,9,     -999,9,     -999,9,20230814,1849, -32.4201,  75.5003,-999          ,9,-999          ,9
33RR20230722  ,I05        ,91      ,  1,4          ,37         ,2,20230814,1831, -32.4201,  75.5003,     3555,   3040.6,2,   1.6040,2,  34.7191,2,  34.7191,2,    182.5,2,    182.5,2,   117.73,2,    32.95,2,     0.00,2,     2.30,2,    0.017,2,    0.012,2,  -0.0100,2,   -999.0,9,     -999,9,     -999,9,     -999,9,     -999,9,   1.6036,2,     -999,9,     -999,9,     -999,9,     -999,9,     -999,1,   4.6534,1,   0.0117,1,     19.4,2,     -999,9,     -999,9,     -999,9,     -999,9,20230814,1844, -32.4201,  75.5003,-999          ,9,-999          ,9
33RR20230722  ,I05        ,91      ,  1,3          ,3          ,2,20230814,1831, -32.4201,  75.5003,     3555,   3232.6,2,   1.5581,2,  34.7180,2,  34.7180,2,    183.6,2,    183.7,2,   119.29,2,    32.95,2,     0.00,2,     2.31,2,    0.028,2,    0.018,2,   0.0800,2,   2280.6,2,   2379.7,6,   7.6093,2,    25.00,2,     -999,9,   1.5576,2,     -999,9,     -999,9,     -999,9,     -999,9,     -999,1,   4.6340,1,   0.0111,1,     19.4,2,     -999,9,     -999,9,     -999,9,     -999,9,20230814,1840, -32.4201,  75.5002,-999          ,9,-999          ,9
33RR20230722  ,I05        ,91      ,  1,2          ,2          ,2,20230814,1831, -32.4201,  75.5003,     3555,   3435.9,2,   1.5092,2,  34.7167,2,  34.7164,2,    185.2,2,    185.3,2,   120.76,2,    32.98,2,     0.00,2,     2.30,2,    0.025,2,    0.015,2,  -0.0100,2,   2279.4,2,   2380.1,2,   7.6095,6,    25.00,2,     -999,9,   1.5088,2,     -999,9,     -999,9,     -999,9,     -999,9,     -999,1,   4.8148,1,   0.0111,1,     19.3,2,     -999,9,     -999,9,     -999,9,     -999,9,20230814,1835, -32.4201,  75.5003,-999          ,9,-999          ,9