BOTTLE,20240422CCHHYDRO
EXPOCODE,SECT_ID,STNNBR,CASTNO,SAMPNO,BTLNBR,BTLNBR_FLAG_W,DATE,TIME,LATITUDE,LONGITUDE,DEPTH,CTDPRS,CTDPRS_FLAG_W,CTDTMP,CTDTMP_FLAG_W,CTDSAL,CTDSAL_FLAG_W,SALNTY,SALNTY_FLAG_W,CTDOXY,CTDOXY_FLAG_W,OXYGEN,OXYGEN_FLAG_W,SILCAT,SILCAT_FLAG_W,NITRAT,NITRAT_FLAG_W,NITRIT,NITRIT_FLAG_W,PHSPHT,PHSPHT_FLAG_W,CFC-11,CFC-11_FLAG_W,CFC-12,CFC-12_FLAG_W,SF6,SF6_FLAG_W,TCARBN,TCARBN_FLAG_W,ALKALI,ALKALI_FLAG_W,PH_TOT,PH_TOT_FLAG_W,PH_TMP,PH_TMP_FLAG_W,DOC,DOC_FLAG_W,REFTMP,REFTMP_FLAG_W,POC,POC_FLAG_W,PON,PON_FLAG_W,POP,POP_FLAG_W,DOP,DOP_FLAG_W,DELO18,DELO18_FLAG_W,CTDFLUOR,CTDFLUOR_FLAG_W,CTDXMISS,CTDXMISS_FLAG_W,N2O,N2O_FLAG_W,D15N_NO3,D15N_NO3_FLAG_W,D15N_NO2+NO3,D15N_NO2+NO3_FLAG_W,D18O_NO2+NO3,D18O_NO2+NO3_FLAG_W,D18O_NO3,D18O_NO3_FLAG_W,BTL_DATE,BTL_TIME,BTL_LAT,BTL_LON,HPLC,HPLC_FLAG_W,DNA,DNA_FLAG_W
,,,,,,,,,,,METERS,DBAR,,ITS-90,,PSS-78,,PSS-78,,UMOL/KG,,UMOL/KG,,UMOL/KG,,UMOL/KG,,UMOL/KG,,UMOL/KG,,PMOL/KG,,PMOL/KG,,FMOL/KG,,UMOL/KG,,UMOL/KG,,,,DEG C,,UMOL/KG,,ITS-90,,UG/KG,,UG/KG,,UG/L,,UMOL/KG,,/MILLE,,VOLTS,,VOLTS,,NMOL/KG,,/MILLE,,/MILLE,,/MILLE,,/MILLE,,,,,,,,,
33RR20230722  ,I05        ,134     ,  1,34         ,34         ,2,20230827,0012, -33.9971,  55.7513,     4364,      6.5,2,  16.3073,2,  35.4810,2,  35.4809,2,    247.0,2,    246.8,2,     1.56,2,     0.07,2,     0.01,2,     0.14,2,     -999,9,     -999,9,     -999,9,   2081.3,6,   2326.6,2,   7.9449,2,    25.00,2,     -999,1,  16.3063,2,     -999,9,     -999,9,     -999,9,     -999,1,     -999,9,   4.9754,1,   0.0294,1,     -999,9,     -999,9,     -999,9,     -999,9,     -999,9,20230827,0205, -33.9971,  55.7513,-999          ,9,-999          ,9
33RR20230722  ,I05        ,134     ,  1,33         ,33         ,2,20230827,0012, -33.9971,  55.7513,     4364,     23.2,2,  16.2996,2,  35.4803,2,  35.4799,2,    246.8,2,    246.8,2,     1.46,2,     0.01,2,     0.01,2,     0.14,2,     -999,9,     -999,9,     -999,9,   2079.1,2,   2327.3,2,   7.9443,6,    25.00,2,     -999,1,  16.2936,2,     -999,9,     -999,9,     -999,9,     -999,1,     -999,9,   4.9754,1,   0.0283,1,     -999,9,     -999,9,     -999,9,     -999,9,     -999,9,20230827,0203, -33.9971,  55.7513,-999          ,9,-999          ,9
33RR20230722  ,I05        ,134     ,  1,32         ,32         ,2,20230827,0012, -33.9971,  55.7513,     4364,     42.5,2,  16.1958,2,  35.4763,2,  35.4760,2,    246.4,2,    246.2,2,     1.37,2,     0.00,2,     0.01,2,     0.15,2,     -999,9,     -999,9,     -999,9,   -999.0,9,     -999,9,     -999,9,     -999,9,     -999,1,  16.1942,2,     -999,9,     -999,9,     -999,9,     -999,1,     -999,9,   4.9751,1,   0.0410,1,     -999,9,     -999,9,     -999,9,     -999,9,     -999,9,20230827,0202, -33.9971,  55.7513,-999          ,9,-999          ,9
33RR20230722  ,I05        ,134     ,  1,31         ,31         ,2,20230827,0012, -33.9971,  55.7513,     4364,     68.0,2,  16.1919,2,  35.4811,2,  35.4815,2,    245.6,2,    245.6,2,     1.46,2,     0.00,2,     0.01,2,     0.14,2,     -999,9,     -999,9,     -999,9,   2080.9,2,   2327.0,6,   7.9440,2,    24.99,2,     -999,1,  16.1890,2,     -999,9,     -999,9,     -999,9,     -999,1,     -999,9,   4.9746,1,   0.0435,1,     -999,9,     -999,9,     -999,9,     -999,9,     -999,9,20230827,0200, -33.9971,  55.7513,-999          ,9,-999          ,9
33RR20230722  ,I05        ,134     ,  1,30         ,30         ,2,20230827,0012, -33.9971,  55.7513,     4364,     98.4,2,  16.0293,2,  35.5254,2,  35.5247,2,    240.4,2,    241.0,2,     1.56,2,     0.84,2,     0.17,2,     0.20,2,     -999,9,     -999,9,     -999,9,   -999.0,9,     -999,9,     -999,9,     -999,9,     -999,1,  16.0298,2,     -999,9,     -999,9,     -999,9,     -999,1,     -999,9,   4.9733,1,   0.0237,1,     -999,9,     -999,9,     -999,9,     -999,9,     -999,9,20230827,0158, -33.9971,  55.7513,-999          ,9,-999          ,9
33RR20230722  ,I05        ,134     ,  1,29         ,29         ,2,20230827,0012, -33.9971,  55.7513,     4364,    131.2,2,  14.9335,2,  35.4296,2,  35.4255,2,    228.0,2,    229.7,2,     2.44,2,     4.50,2,     0.03,2,     0.42,2,     -999,9,     -999,9,     -999,9,   2111.6,2,   2323.6,2,   7.8825,6,    24.99,2,     -999,1,  14.9361,2,     -999,9,     -999,9,     -999,9,     -999,1,     -999,9,   4.9701,1,   0.0154,1,     -999,9,     -999,9,     -999,9,     -999,9,     -999,9,20230827,0156, -33.9971,  55.7513,-999          ,9,-999          ,9
33RR20230722  ,I05        ,134     ,  1,28         ,28         ,2,20230827,0012, -33.9971,  55.7513,     4364,    166.2,2,  14.2718,2,  35.3751,2,  35.3746,2,    227.7,2,    228.9,2,     2.83,2,     6.01,2,     0.02,2,     0.49,2,     -999,9,     -999,9,     -999,9,   -999.0,9,     -999,9,     -999,9,     -999,9,     -999,1,  14.2714,2,     -999,9,     -999,9,     -999,9,     -999,9,     -999,9,   4.9693,1,   0.0121,1,     -999,9,     -999,9,     -999,9,     -999,9,     -999,9,20230827,0155, -33.9971,  55.7513,-999          ,9,-999          ,9
33RR20230722  ,I05        ,134     ,  1,27         ,27         ,2,20230827,0012, -33.9971,  55.7513,     4364,    204.8,2,  14.0288,2,  35.3549,2,  35.3537,2,    230.6,2,    231.0,2,     3.02,2,     6.44,2,     0.01,2,     0.52,2,     -999,9,     -999,9,     -999,9,   2116.3,2,   2320.2,2,   7.8630,2,    25.00,2,     -999,1,  14.0286,2,     -999,9,     -999,9,     -999,9,     -999,1,     -999,9,   4.9694,1,   0.0119,1,     -999,9,     -999,9,     -999,9,     -999,9,     -999,9,20230827,0153, -33.9971,  55.7513,-999          ,9,-999          ,9
33RR20230722  ,I05        ,134     ,  1,26         ,26         ,2,20230827,0012, -33.9971,  55.7513,     4364,    246.4,2,  13.8713,2,  35.3364,2,  35.3338,2,    232.4,2,    232.3,2,     3.12,2,     6.65,2,     0.00,2,     0.53,2,     -999,9,     -999,9,     -999,9,   2116.4,2,   2319.2,2,   7.8606,2,    25.02,2,     -999,1,  13.8680,2,     -999,9,     -999,9,     -999,9,     -999,1,     -999,9,   4.9691,1,   0.0113,1,     -999,9,     -999,9,     -999,9,     -999,9,     -999,9,20230827,0151, -33.9971,  55.7513,-999          ,9,-999          ,9
33RR20230722  ,I05        ,134     ,  1,25         ,25         ,2,20230827,0012, -33.9971,  55.7513,     4364,    300.5,2,  13.4753,2,  35.2823,2,  35.2816,2,    235.5,2,    235.1,2,     3.22,2,     7.31,2,     0.00,2,     0.60,2,     -999,9,     -999,9,     -999,9,   2119.3,2,   2318.0,2,   7.8530,2,    25.00,2,     -999,1,  13.4741,2,     -999,9,     -999,9,     -999,9,     -999,9,     -999,9,   4.9689,1,   0.0115,1,     -999,9,     -999,9,     -999,9,     -999,9,     -999,9,20230827,0149, -33.9971,  55.7513,-999          ,9,-999          ,9
33RR20230722  ,I05        ,134     ,  1,24         ,24         ,2,20230827,0012, -33.9971,  55.7513,     4364,    365.6,2,  13.0560,2,  35.2221,2,  35.2197,2,    234.0,2,    233.6,2,     3.41,2,     8.44,2,     0.00,2,     0.66,2,     -999,9,     -999,9,     -999,9,   -999.0,9,     -999,9,     -999,9,     -999,9,     -999,1,  13.0577,2,     -999,9,     -999,9,     -999,9,     -999,9,     -999,9,   4.9683,1,   0.0115,1,     -999,9,     -999,9,     -999,9,     -999,9,     -999,9,20230827,0147, -33.9971,  55.7513,-999          ,9,-999          ,9
33RR20230722  ,I05        ,134     ,  1,23         ,23         ,2,20230827,0012, -33.9971,  55.7513,     4364,    435.8,2,  12.5648,2,  35.1440,2,  35.1435,2,    229.7,2,    230.4,2,     3.80,2,     9.88,2,     0.00,2,     0.73,2,     -999,9,     -999,9,     -999,9,   2126.6,2,   2310.4,2,   7.8222,2,    24.98,2,     -999,1,  12.5623,2,     -999,9,     -999,9,     -999,9,     -999,9,     -999,9,   4.9674,1,   0.0111,1,     -999,9,     -999,9,     -999,9,     -999,9,     -999,9,20230827,0144, -33.9971,  55.7513,-999          ,9,-999          ,9
33RR20230722  ,I05        ,134     ,  1,22         ,22         ,2,20230827,0012, -33.9971,  55.7513,     4364,    516.5,2,  11.7723,2,  35.0159,2,  35.0154,2,    226.2,2,    225.9,2,     4.39,2,    12.09,2,     0.00,2,     0.88,2,     -999,9,     -999,9,     -999,9,   2132.5,2,   2304.8,2,   7.7990,2,    25.00,2,     -999,1,  11.7727,2,     -999,9,     -999,9,     -999,9,     -999,9,     -999,9,   4.9666,1,   0.0113,1,     -999,9,     -999,9,     -999,9,     -999,9,     -999,9,20230827,0142, -33.9971,  55.7513,-999          ,9,-999          ,9
33RR20230722  ,I05        ,134     ,  1,21         ,21         ,2,20230827,0012, -33.9971,  55.7513,     4364,    607.2,2,  10.4755,2,  34.8311,2,  34.8310,2,    220.4,2,    220.4,2,     5.85,2,    15.50,2,     0.00,2,     1.10,2,     -999,9,     -999,9,     -999,9,   2143.4,2,   2298.0,2,   7.7635,2,    24.98,2,     -999,1,  10.4739,2,     -999,9,     -999,9,     -999,9,     -999,9,     -999,9,   4.9665,1,   0.0113,1,     -999,9,     -999,9,     -999,9,     -999,9,     -999,9,20230827,0139, -33.9971,  55.7513,-999          ,9,-999          ,9
33RR20230722  ,I05        ,134     ,  1,20         ,20         ,2,20230827,0012, -33.9971,  55.7513,     4364,    705.3,2,   9.5141,2,  34.7141,2,  34.7138,2,    216.1,2,    216.0,2,     8.00,2,    18.15,2,     0.00,2,     1.26,2,     -999,9,     -999,9,     -999,9,   -999.0,9,     -999,9,     -999,9,     -999,9,     -999,1,   9.5173,2,     -999,9,     -999,9,     -999,9,     -999,9,     -999,9,   4.9671,1,   0.0111,1,     -999,9,     -999,9,     -999,9,     -999,9,     -999,9,20230827,0137, -33.9971,  55.7513,-999          ,9,-999          ,9
33RR20230722  ,I05        ,134     ,  1,19         ,19         ,2,20230827,0012, -33.9971,  55.7513,     4364,    814.3,2,   8.2074,2,  34.5794,2,  34.5789,2,    208.7,2,    209.6,2,    12.20,2,    21.92,2,     0.00,2,     1.53,2,     -999,9,     -999,9,     -999,9,   2163.7,2,   2290.4,2,   7.6982,2,    25.00,2,     -999,1,   8.2074,2,     -999,9,     -999,9,     -999,9,     -999,9,     -999,9,   4.9681,1,   0.0112,1,     -999,9,     -999,9,     -999,9,     -999,9,     -999,9,20230827,0133, -33.9971,  55.7513,-999          ,9,-999          ,9
33RR20230722  ,I05        ,134     ,  1,18         ,18         ,2,20230827,0012, -33.9971,  55.7513,     4364,    931.1,2,   6.5055,2,  34.4436,2,  34.4434,2,    205.4,2,    205.4,2,    20.01,2,    26.25,2,     0.00,2,     1.82,2,     -999,9,     -999,9,     -999,9,   2178.8,2,   2288.4,2,   7.6530,2,    25.01,2,     -999,1,   6.5050,2,     -999,9,     -999,9,     -999,9,     -999,9,     -999,9,   4.9691,1,   0.0106,1,     -999,9,     -999,9,     -999,9,     -999,9,     -999,9,20230827,0130, -33.9971,  55.7513,-999          ,9,-999          ,9
33RR20230722  ,I05        ,134     ,  1,17         ,17         ,2,20230827,0012, -33.9971,  55.7513,     4364,   1050.8,2,   5.0558,2,  34.3638,2,  34.3633,2,    204.3,2,    204.8,2,    28.89,2,    29.38,2,     0.00,2,     2.02,2,     -999,9,     -999,9,     -999,9,   2193.0,2,   2294.0,2,   7.6208,2,    25.00,2,     -999,1,   5.0545,2,     -999,9,     -999,9,     -999,9,     -999,9,     -999,9,   4.9701,1,   0.0112,1,     -999,9,     -999,9,     -999,9,     -999,9,     -999,9,20230827,0127, -33.9971,  55.7513,-999          ,9,-999          ,9
33RR20230722  ,I05        ,134     ,  1,16         ,16         ,2,20230827,0012, -33.9971,  55.7513,     4364,   1176.8,2,   4.4286,2,  34.3938,2,  34.3935,2,    193.6,2,    193.3,2,    39.34,2,    31.16,2,     0.00,2,     2.16,2,     -999,9,     -999,9,     -999,9,   -999.0,9,     -999,9,     -999,9,     -999,9,     -999,1,   4.4288,2,     -999,9,     -999,9,     -999,9,     -999,9,     -999,9,   4.9714,1,   0.0111,1,     -999,9,     -999,9,     -999,9,     -999,9,     -999,9,20230827,0124, -33.9971,  55.7513,-999          ,9,-999          ,9
33RR20230722  ,I05        ,134     ,  1,15         ,15         ,2,20230827,0012, -33.9971,  55.7513,     4364,   1310.2,2,   3.8105,2,  34.4136,2,  34.4149,2,    186.4,2,    186.8,2,    48.32,2,    32.59,2,     0.00,2,     2.25,2,     -999,9,     -999,9,     -999,9,   2221.4,2,   2310.8,2,   7.5851,2,    25.01,2,     -999,1,   3.8096,2,     -999,9,     -999,9,     -999,9,     -999,9,     -999,9,   4.9722,1,   0.0111,1,     -999,9,     -999,9,     -999,9,     -999,9,     -999,9,20230827,0121, -33.9971,  55.7513,-999          ,9,-999          ,9
33RR20230722  ,I05        ,134     ,  1,14         ,14         ,4,20230827,0012, -33.9971,  55.7513,     4364,   1454.4,3,   3.3936,3,  34.4766,3,  34.4108,4,    177.8,3,    187.1,3,    47.63,3,    32.51,3,     0.00,3,     2.24,3,    1.562,3,    0.851,3,   0.4600,3,   2225.0,4,   2309.3,3,   7.5874,3,    25.00,3,     -999,1,   3.3936,3,     -999,9,     -999,9,     -999,9,     -999,9,     -999,9,   4.9731,1,   0.0113,1,     20.7,3,     -999,9,     -999,9,     -999,9,     -999,9,20230827,0117, -33.9971,  55.7513,-999          ,9,-999          ,9
33RR20230722  ,I05        ,134     ,  1,13         ,13         ,2,20230827,0012, -33.9971,  55.7513,     4364,   1606.9,2,   3.0092,2,  34.5599,2,  34.5602,2,    174.3,2,    174.0,2,    68.03,2,    33.16,2,     0.00,2,     2.30,2,    0.545,2,    0.301,2,   0.1600,2,   2246.9,6,   2329.2,2,   7.5772,2,    25.00,2,     -999,1,   3.0095,2,     -999,9,     -999,9,     -999,9,     -999,9,     -999,9,   4.9738,1,   0.0111,1,     21.6,2,     -999,9,     -999,9,     -999,9,     -999,9,20230827,0113, -33.9971,  55.7513,-999          ,9,-999          ,9
33RR20230722  ,I05        ,134     ,  1,12         ,12         ,2,20230827,0012, -33.9971,  55.7513,     4364,   1772.3,2,   2.7211,2,  34.6273,2,  34.6278,2,    176.9,2,    176.6,2,    74.95,2,    32.51,2,     0.00,2,     2.25,2,     -999,9,     -999,9,     -999,9,   -999.0,9,     -999,9,     -999,9,     -999,9,     -999,1,   2.7202,2,     -999,9,     -999,9,     -999,9,     -999,9,     -999,9,   4.9740,1,   0.0112,1,     -999,9,     -999,9,     -999,9,     -999,9,     -999,9,20230827,0109, -33.9971,  55.7513,-999          ,9,-999          ,9
33RR20230722  ,I05        ,134     ,  1,11         ,11         ,2,20230827,0012, -33.9971,  55.7513,     4364,   1966.5,2,   2.5326,2,  34.6699,2,  34.6702,2,    178.5,2,    178.6,2,    81.20,2,    32.16,2,     0.00,2,     2.23,2,    0.165,2,    0.094,2,   0.0300,2,   2253.5,2,   2347.3,2,   7.5966,6,    24.99,2,     -999,1,   2.5323,2,     -999,9,     -999,9,     -999,9,     -999,9,     -999,9,   4.9741,1,   0.0117,1,     20.5,2,     -999,9,     -999,9,     -999,9,     -999,9,20230827,0105, -33.9971,  55.7513,-999          ,9,-999          ,9
33RR20230722  ,I05        ,134     ,  1,10         ,10         ,2,20230827,0012, -33.9971,  55.7513,     4364,   2191.7,2,   2.3204,2,  34.7078,2,  34.7076,2,    184.8,2,    184.8,2,    84.90,2,    31.38,2,     0.00,2,     2.17,2,    0.111,2,    0.071,2,   0.0000,2,   2252.8,2,   2350.1,2,   7.6083,6,    25.02,2,     -999,1,   2.3200,2,     -999,9,     -999,9,     -999,9,     -999,9,     -999,9,   4.9743,1,   0.0111,1,     19.6,2,     -999,9,     -999,9,     -999,9,     -999,9,20230827,0059, -33.9971,  55.7513,-999          ,9,-999          ,9
33RR20230722  ,I05        ,134     ,  1,9          ,9          ,2,20230827,0012, -33.9971,  55.7513,     4364,   2401.4,2,   2.1699,2,  34.7279,2,  34.7278,2,    187.1,2,    187.1,2,    89.88,2,    31.14,2,     0.00,2,     2.16,2,     -999,9,     -999,9,     -999,9,   2257.3,2,   2356.3,2,   7.6134,2,    25.00,2,     -999,1,   2.1690,2,     -999,9,     -999,9,     -999,9,     -999,9,     -999,9,   4.9746,1,   0.0111,1,     -999,9,     -999,9,     -999,9,     -999,9,     -999,9,20230827,0055, -33.9971,  55.7513,-999          ,9,-999          ,9
33RR20230722  ,I05        ,134     ,  1,8          ,8          ,2,20230827,0012, -33.9971,  55.7513,     4364,   2652.5,2,   1.9471,2,  34.7341,2,  34.7339,2,    193.1,2,    193.5,2,    93.20,2,    30.87,2,     0.00,2,     2.13,2,    0.095,2,    0.058,2,   0.0400,2,   -999.0,9,     -999,9,     -999,9,     -999,9,     -999,1,   1.9470,2,     -999,9,     -999,9,     -999,9,     -999,9,     -999,9,   4.9747,1,   0.0110,1,     18.7,2,     -999,9,     -999,9,     -999,9,     -999,9,20230827,0049, -33.9971,  55.7513,-999          ,9,-999          ,9
33RR20230722  ,I05        ,134     ,  1,7          ,7          ,2,20230827,0012, -33.9971,  55.7513,     4364,   3034.4,2,   1.6099,2,  34.7331,2,  34.7325,2,    199.0,2,    199.2,2,   101.10,2,    31.02,2,     0.00,2,     2.14,2,    0.114,2,    0.068,2,   0.0400,2,   2255.5,2,   2359.2,2,   7.6178,2,    25.05,2,     -999,1,   1.6086,2,     -999,9,     -999,9,     -999,9,     -999,9,     -999,9,   4.9749,1,   0.0111,1,     18.4,2,     -999,9,     -999,9,     -999,9,     -999,9,20230827,0042, -33.9971,  55.7513,-999          ,9,-999          ,9
33RR20230722  ,I05        ,134     ,  1,6          ,6          ,2,20230827,0012, -33.9971,  55.7513,     4364,   3274.8,2,   1.3877,2,  34.7254,2,  34.7250,2,    203.2,2,    203.6,2,   106.57,2,    31.24,2,     0.00,2,     2.16,2,     -999,9,     -999,9,     -999,9,   2258.1,2,   2358.2,2,   7.6167,2,    25.05,2,     -999,1,   1.3888,2,     -999,9,     -999,9,     -999,9,     -999,9,     -999,9,   4.9751,1,   0.0122,1,     -999,9,     -999,9,     -999,9,     -999,9,     -999,9,20230827,0037, -33.9971,  55.7513,-999          ,9,-999          ,9
33RR20230722  ,I05        ,134     ,  1,5          ,5          ,2,20230827,0012, -33.9971,  55.7513,     4364,   3507.0,2,   1.3332,2,  34.7225,2,  34.7215,2,    204.6,2,    205.0,2,   108.71,2,    31.31,2,     0.00,2,     2.16,2,    0.171,2,    0.090,2,   0.0300,2,   2257.9,2,   2358.8,2,   7.6168,2,    25.04,2,     -999,1,   1.3328,2,     -999,9,     -999,9,     -999,9,     -999,9,     -999,9,   4.9754,1,   0.0113,1,     18.1,2,     -999,9,     -999,9,     -999,9,     -999,9,20230827,0032, -33.9971,  55.7513,-999          ,9,-999          ,9
33RR20230722  ,I05        ,134     ,  1,4          ,37         ,2,20230827,0012, -33.9971,  55.7513,     4364,   3718.0,2,   1.3128,2,  34.7207,2,  34.7205,2,    205.3,2,    205.6,2,   109.88,2,    31.33,2,     0.00,2,     2.17,2,    0.173,2,    0.093,2,   0.0300,2,   -999.0,9,     -999,9,     -999,9,     -999,9,     -999,1,   1.3123,2,     -999,9,     -999,9,     -999,9,     -999,9,     -999,9,   4.9754,1,   0.0117,1,     18.2,2,     -999,9,     -999,9,     -999,9,     -999,9,20230827,0027, -33.9971,  55.7513,-999          ,9,-999          ,9
33RR20230722  ,I05        ,134     ,  1,3          ,3          ,2,20230827,0012, -33.9971,  55.7513,     4364,   3923.4,2,   1.3097,2,  34.7198,2,  34.7197,2,    205.8,2,    206.1,2,   110.57,2,    31.35,2,     0.00,2,     2.17,2,     -999,9,     -999,9,     -999,9,   2258.8,2,   2359.4,2,   7.6156,2,    25.04,2,     -999,1,   1.3096,2,     -999,9,     -999,9,     -999,9,     -999,9,     -999,9,   4.9756,1,   0.0111,1,     -999,9,     -999,9,     -999,9,     -999,9,     -999,9,20230827,0023, -33.9971,  55.7513,-999          ,9,-999          ,9
33RR20230722  ,I05        ,134     ,  1,2          ,2          ,2,20230827,0012, -33.9971,  55.7513,     4364,   4221.1,2,   1.3084,2,  34.7184,2,  34.7186,2,    206.6,2,    206.5,2,   111.06,2,    31.39,2,     0.00,2,     2.18,2,    0.177,2,    0.100,2,   0.0300,2,   -999.0,9,     -999,9,     -999,9,     -999,9,     -999,1,   1.3080,2,     -999,9,     -999,9,     -999,9,     -999,9,     -999,9,   4.9757,1,   0.0112,1,     18.1,2,     -999,9,     -999,9,     -999,9,     -999,9,20230827,0017, -33.9971,  55.7513,-999          ,9,-999          ,9
33RR20230722  ,I05        ,134     ,  1,1          ,1          ,2,20230827,0012, -33.9971,  55.7513,     4364,   4430.0,2,   1.3268,2,  34.7180,2,  34.7186,2,    207.1,2,    206.7,2,   111.35,2,    31.39,2,     0.00,2,     2.18,2,    0.175,2,    0.099,2,   0.0200,2,   2258.2,6,   2359.7,2,   7.6172,2,    25.02,2,     -999,1,   1.3261,2,     -999,9,     -999,9,     -999,9,     -999,9,     -999,9,   0.5554,1,   0.0119,1,     18.0,2,     -999,9,     -999,9,     -999,9,     -999,9,20230827,0012, -33.9971,  55.7513,-999          ,9,-999          ,9