BOTTLE,20240422CCHHYDRO
EXPOCODE,SECT_ID,STNNBR,CASTNO,SAMPNO,BTLNBR,BTLNBR_FLAG_W,DATE,TIME,LATITUDE,LONGITUDE,DEPTH,CTDPRS,CTDPRS_FLAG_W,CTDTMP,CTDTMP_FLAG_W,CTDSAL,CTDSAL_FLAG_W,SALNTY,SALNTY_FLAG_W,CTDOXY,CTDOXY_FLAG_W,OXYGEN,OXYGEN_FLAG_W,SILCAT,SILCAT_FLAG_W,NITRAT,NITRAT_FLAG_W,NITRIT,NITRIT_FLAG_W,PHSPHT,PHSPHT_FLAG_W,CFC-11,CFC-11_FLAG_W,CFC-12,CFC-12_FLAG_W,SF6,SF6_FLAG_W,TCARBN,TCARBN_FLAG_W,ALKALI,ALKALI_FLAG_W,PH_TOT,PH_TOT_FLAG_W,PH_TMP,PH_TMP_FLAG_W,DOC,DOC_FLAG_W,REFTMP,REFTMP_FLAG_W,POC,POC_FLAG_W,PON,PON_FLAG_W,POP,POP_FLAG_W,DOP,DOP_FLAG_W,DELO18,DELO18_FLAG_W,CTDFLUOR,CTDFLUOR_FLAG_W,CTDXMISS,CTDXMISS_FLAG_W,N2O,N2O_FLAG_W,D15N_NO3,D15N_NO3_FLAG_W,D15N_NO2+NO3,D15N_NO2+NO3_FLAG_W,D18O_NO2+NO3,D18O_NO2+NO3_FLAG_W,D18O_NO3,D18O_NO3_FLAG_W,BTL_DATE,BTL_TIME,BTL_LAT,BTL_LON,HPLC,HPLC_FLAG_W,DNA,DNA_FLAG_W
,,,,,,,,,,,METERS,DBAR,,ITS-90,,PSS-78,,PSS-78,,UMOL/KG,,UMOL/KG,,UMOL/KG,,UMOL/KG,,UMOL/KG,,UMOL/KG,,PMOL/KG,,PMOL/KG,,FMOL/KG,,UMOL/KG,,UMOL/KG,,,,DEG C,,UMOL/KG,,ITS-90,,UG/KG,,UG/KG,,UG/L,,UMOL/KG,,/MILLE,,VOLTS,,VOLTS,,NMOL/KG,,/MILLE,,/MILLE,,/MILLE,,/MILLE,,,,,,,,,
33RR20230722  ,I05        ,143     ,  1,36         ,38         ,2,20230829,0503, -33.9202,  51.5710,     4183,      7.3,2,  16.9120,2,  35.6069,2,  35.6068,2,    242.9,2,    242.7,2,     1.56,2,     0.04,2,     0.00,2,     0.15,2,    2.044,2,    1.343,2,   2.2600,2,   2081.3,6,   2333.6,2,   7.9568,6,    25.00,2,     -999,1,  16.9091,2,     -999,9,     -999,9,     -999,9,     -999,1,     -999,9,   4.9763,1,   0.0222,1,      8.2,2,     -999,9,     -999,9,     -999,9,     -999,9,20230829,0654, -33.9202,  51.5710,-999          ,9,-999          ,9
33RR20230722  ,I05        ,143     ,  1,35         ,35         ,2,20230829,0503, -33.9202,  51.5710,     4183,     22.2,2,  16.9032,2,  35.6069,2,  35.6062,2,    242.8,2,    243.2,2,     1.66,2,     0.00,2,     0.00,2,     0.15,2,     -999,9,     -999,9,     -999,9,   2080.2,2,   2333.8,2,   7.9563,2,    25.01,2,     -999,9,  16.9033,2,     -999,9,     -999,9,     -999,9,     -999,1,     -999,9,   4.9754,1,   0.0341,1,     -999,9,     -999,9,     -999,9,     -999,9,     -999,9,20230829,0653, -33.9202,  51.5710,-999          ,9,-999          ,9
33RR20230722  ,I05        ,143     ,  1,34         ,34         ,2,20230829,0503, -33.9202,  51.5710,     4183,     37.2,2,  16.7619,2,  35.5904,2,  35.5912,2,    243.2,2,    243.6,2,     1.66,2,     0.03,2,     0.03,2,     0.15,2,    2.061,6,    1.371,6,   2.3200,6,   -999.0,9,     -999,9,     -999,9,     -999,9,     -999,9,  16.7681,2,     -999,9,     -999,9,     -999,9,     -999,9,     -999,9,   4.6843,1,   0.0373,1,      8.2,6,     -999,9,     -999,9,     -999,9,     -999,9,20230829,0651, -33.9202,  51.5710,-999          ,9,-999          ,9
33RR20230722  ,I05        ,143     ,  1,33         ,33         ,2,20230829,0503, -33.9202,  51.5710,     4183,     55.3,2,  16.5451,2,  35.5881,2,  35.5859,2,    242.4,2,    243.4,2,     1.76,2,     0.20,2,     0.05,2,     0.16,2,     -999,9,     -999,9,     -999,9,   2084.2,2,   2332.3,2,   7.9488,2,    24.98,2,     -999,9,  16.5562,2,     -999,9,     -999,9,     -999,9,     -999,1,     -999,9,   4.9569,1,   0.0383,1,     -999,9,     -999,9,     -999,9,     -999,9,     -999,9,20230829,0650, -33.9202,  51.5710,-999          ,9,-999          ,9
33RR20230722  ,I05        ,143     ,  1,32         ,32         ,2,20230829,0503, -33.9202,  51.5710,     4183,     79.3,2,  16.2052,2,  35.5651,2,  35.5634,2,    242.7,2,    242.6,2,     1.76,2,     0.52,2,     0.15,2,     0.18,2,    2.125,2,    1.397,2,   2.3200,2,   2087.7,2,   2330.7,2,   7.9410,2,    25.00,2,     -999,9,  16.2132,2,     -999,9,     -999,9,     -999,9,     -999,1,     -999,9,   4.9739,1,   0.0301,1,      8.4,2,     -999,9,     -999,9,     -999,9,     -999,9,20230829,0648, -33.9202,  51.5710,-999          ,9,-999          ,9
33RR20230722  ,I05        ,143     ,  1,31         ,31         ,2,20230829,0503, -33.9202,  51.5710,     4183,    105.0,2,  15.9314,2,  35.5268,2,  35.5259,2,    243.3,2,    242.8,2,     1.85,2,     0.85,2,     0.23,2,     0.21,2,     -999,9,     -999,9,     -999,9,   2089.5,2,   2328.9,2,   7.9325,2,    24.99,2,     -999,9,  15.9283,2,     -999,9,     -999,9,     -999,9,     -999,1,     -999,9,   4.9734,1,   0.0274,1,     -999,9,     -999,9,     -999,9,     -999,9,     -999,9,20230829,0646, -33.9202,  51.5710,-999          ,9,-999          ,9
33RR20230722  ,I05        ,143     ,  1,30         ,30         ,2,20230829,0503, -33.9202,  51.5710,     4183,    130.9,2,  15.8088,2,  35.5373,2,  35.5364,2,    242.5,2,    242.0,2,     1.95,2,     1.31,2,     0.33,2,     0.23,2,    2.080,2,    1.417,2,   2.3800,2,   -999.0,9,     -999,9,     -999,9,     -999,9,     -999,9,  15.8097,2,     -999,9,     -999,9,     -999,9,     -999,1,     -999,9,   4.9730,1,   0.0193,1,      8.4,2,     -999,9,     -999,9,     -999,9,     -999,9,20230829,0644, -33.9202,  51.5710,-999          ,9,-999          ,9
33RR20230722  ,I05        ,143     ,  1,29         ,29         ,2,20230829,0503, -33.9202,  51.5710,     4183,    153.2,2,  15.7487,2,  35.5374,2,  35.5367,2,    241.8,2,    241.6,2,     2.05,2,     1.72,2,     0.35,2,     0.25,2,     -999,9,     -999,9,     -999,9,   2093.9,2,   2329.5,2,   7.9242,2,    24.99,2,     -999,9,  15.7475,2,     -999,9,     -999,9,     -999,9,     -999,9,     -999,9,   4.8787,1,   0.0201,1,     -999,9,     -999,9,     -999,9,     -999,9,     -999,9,20230829,0643, -33.9202,  51.5710,-999          ,9,-999          ,9
33RR20230722  ,I05        ,143     ,  1,28         ,28         ,2,20230829,0503, -33.9202,  51.5710,     4183,    178.4,2,  15.6940,2,  35.5357,2,  35.5352,2,    239.8,2,    240.2,2,     2.05,2,     2.24,2,     0.20,2,     0.26,2,    2.142,2,    1.416,2,   2.3100,2,   2095.8,2,   2328.3,2,   7.9213,2,    25.00,2,     -999,9,  15.6941,2,     -999,9,     -999,9,     -999,9,     -999,9,     -999,9,   4.6425,1,   0.0169,1,      8.6,2,     -999,9,     -999,9,     -999,9,     -999,9,20230829,0641, -33.9202,  51.5710,-999          ,9,-999          ,9
33RR20230722  ,I05        ,143     ,  1,27         ,27         ,2,20230829,0503, -33.9202,  51.5710,     4183,    199.7,2,  15.5524,2,  35.5269,2,  35.5271,2,    236.7,2,    237.2,2,     2.34,2,     3.08,2,     0.02,2,     0.31,2,     -999,9,     -999,9,     -999,9,   2097.4,2,   2328.2,2,   7.9143,6,    24.99,2,     -999,9,  15.5624,2,     -999,9,     -999,9,     -999,9,     -999,1,     -999,9,   4.9712,1,   0.0127,1,     -999,9,     -999,9,     -999,9,     -999,9,     -999,9,20230829,0640, -33.9202,  51.5710,-999          ,9,-999          ,9
33RR20230722  ,I05        ,143     ,  1,26         ,26         ,2,20230829,0503, -33.9202,  51.5710,     4183,    220.3,2,  15.3705,2,  35.4951,2,  35.4813,2,    229.9,2,    230.1,2,     2.54,2,     4.05,2,     0.00,2,     0.38,2,    2.279,2,    1.467,2,   2.2900,2,   -999.0,9,     -999,9,     -999,9,     -999,9,     -999,9,  15.3480,2,     -999,9,     -999,9,     -999,9,     -999,9,     -999,9,   4.9701,1,   0.0128,1,      9.2,2,     -999,9,     -999,9,     -999,9,     -999,9,20230829,0638, -33.9201,  51.5710,-999          ,9,-999          ,9
33RR20230722  ,I05        ,143     ,  1,25         ,25         ,2,20230829,0503, -33.9202,  51.5710,     4183,    256.3,2,  14.5445,2,  35.3919,2,  35.3892,2,    222.8,2,    224.4,2,     3.02,2,     6.04,2,     0.00,2,     0.50,2,     -999,9,     -999,9,     -999,9,   2118.3,2,   2321.0,6,   7.8673,2,    25.01,2,     -999,9,  14.5371,2,     -999,9,     -999,9,     -999,9,     -999,1,     -999,9,   4.9683,1,   0.0118,1,     -999,9,     -999,9,     -999,9,     -999,9,     -999,9,20230829,0637, -33.9201,  51.5711,-999          ,9,-999          ,9
33RR20230722  ,I05        ,143     ,  1,24         ,24         ,2,20230829,0503, -33.9202,  51.5710,     4183,    310.4,2,  14.1467,2,  35.3578,2,  35.3563,2,    226.8,2,    228.2,2,     3.12,2,     6.48,2,     0.00,2,     0.53,2,    2.357,2,    1.544,2,   2.3700,2,   -999.0,9,     -999,9,     -999,9,     -999,9,     -999,9,  14.1467,2,     -999,9,     -999,9,     -999,9,     -999,9,     -999,9,   4.9691,1,   0.0113,1,     10.0,2,     -999,9,     -999,9,     -999,9,     -999,9,20230829,0635, -33.9201,  51.5710,-999          ,9,-999          ,9
33RR20230722  ,I05        ,143     ,  1,23         ,23         ,2,20230829,0503, -33.9202,  51.5710,     4183,    372.9,2,  13.4589,2,  35.2737,2,  35.2808,2,    229.4,2,    230.0,2,     3.02,2,     7.53,2,     0.00,2,     0.60,2,    2.582,2,    1.613,2,   2.2500,2,   2124.2,2,   2314.6,2,   7.8471,2,    25.02,2,     -999,9,  13.4505,2,     -999,9,     -999,9,     -999,9,     -999,9,     -999,9,   4.7370,1,   0.0115,1,     10.3,2,     -999,9,     -999,9,     -999,9,     -999,9,20230829,0632, -33.9202,  51.5710,-999          ,9,-999          ,9
33RR20230722  ,I05        ,143     ,  1,22         ,22         ,2,20230829,0503, -33.9202,  51.5710,     4183,    450.9,2,  13.0176,2,  35.2150,2,  35.2158,2,    231.6,2,    231.5,2,     3.32,2,     8.55,2,     0.00,2,     0.67,2,     -999,9,     -999,9,     -999,9,   2125.0,2,   2313.4,2,   7.8375,2,    25.02,2,     -999,9,  13.0144,2,     -999,9,     -999,9,     -999,9,     -999,9,     -999,9,   4.9678,1,   0.0114,1,     -999,9,     -999,9,     -999,9,     -999,9,     -999,9,20230829,0630, -33.9202,  51.5710,-999          ,9,-999          ,9
33RR20230722  ,I05        ,143     ,  1,21         ,21         ,2,20230829,0503, -33.9202,  51.5710,     4183,    535.1,2,  12.3216,2,  35.1092,2,  35.1083,2,    229.9,2,    229.8,2,     3.61,2,    10.38,2,     0.00,2,     0.78,2,    2.641,2,    1.707,2,   2.1000,2,   2130.1,2,   2306.6,2,   7.8171,2,    25.01,2,     -999,9,  12.3164,2,     -999,9,     -999,9,     -999,9,     -999,9,     -999,9,   4.8333,1,   0.0108,1,     10.8,2,     -999,9,     -999,9,     -999,9,     -999,9,20230829,0627, -33.9202,  51.5710,-999          ,9,-999          ,9
33RR20230722  ,I05        ,143     ,  1,20         ,20         ,2,20230829,0503, -33.9202,  51.5710,     4183,    632.3,2,  11.5427,2,  34.9884,2,  34.9878,2,    227.2,2,    227.1,2,     4.29,2,    12.37,2,     0.00,2,     0.89,2,     -999,9,     -999,9,     -999,9,   -999.0,9,     -999,9,     -999,9,     -999,9,     -999,9,  11.5380,2,     -999,9,     -999,9,     -999,9,     -999,9,     -999,9,   4.9666,1,   0.0114,1,     -999,9,     -999,9,     -999,9,     -999,9,     -999,9,20230829,0624, -33.9202,  51.5710,-999          ,9,-999          ,9
33RR20230722  ,I05        ,143     ,  1,19         ,19         ,2,20230829,0503, -33.9202,  51.5710,     4183,    736.6,2,  10.6747,2,  34.8623,2,  34.8637,2,    225.9,2,    225.4,2,     4.88,2,    14.48,2,     0.00,2,     1.04,2,    2.958,2,    1.829,2,   1.8000,2,   2140.4,2,   2296.2,2,   7.7745,2,    24.98,2,     -999,9,  10.6820,2,     -999,9,     -999,9,     -999,9,     -999,9,     -999,9,   4.9666,1,   0.0115,1,     12.2,2,     -999,9,     -999,9,     -999,9,     -999,9,20230829,0621, -33.9202,  51.5710,-999          ,9,-999          ,9
33RR20230722  ,I05        ,143     ,  1,18         ,18         ,2,20230829,0503, -33.9202,  51.5710,     4183,    846.5,2,   9.2574,2,  34.6863,2,  34.6840,2,    217.1,2,    216.8,2,     8.10,2,    18.77,2,     0.00,2,     1.31,2,    3.000,2,    1.808,2,   1.5200,2,   2151.7,2,   2291.0,2,   7.7331,2,    24.98,2,     -999,9,   9.2538,2,     -999,9,     -999,9,     -999,9,     -999,9,     -999,9,   4.9672,1,   0.0113,1,     13.9,2,     -999,9,     -999,9,     -999,9,     -999,9,20230829,0618, -33.9202,  51.5710,-999          ,9,-999          ,9
33RR20230722  ,I05        ,143     ,  1,17         ,17         ,2,20230829,0503, -33.9202,  51.5710,     4183,    963.5,2,   7.5926,2,  34.5281,2,  34.5280,2,    206.0,2,    206.5,2,    14.74,2,    23.67,2,     0.00,2,     1.64,2,     -999,9,     -999,9,     -999,9,   2170.5,2,   2288.9,2,   7.6829,6,    25.01,2,     -999,9,   7.5967,2,     -999,9,     -999,9,     -999,9,     -999,9,     -999,9,   4.9181,1,   0.0114,1,     -999,9,     -999,9,     -999,9,     -999,9,     -999,9,20230829,0615, -33.9202,  51.5710,-999          ,9,-999          ,9
33RR20230722  ,I05        ,143     ,  1,16         ,16         ,2,20230829,0503, -33.9202,  51.5710,     4183,   1080.3,2,   6.2196,2,  34.4329,2,  34.4320,2,    202.6,2,    203.0,2,    22.55,2,    27.19,2,     0.00,2,     1.88,2,    2.502,2,    1.426,2,   0.9500,2,   -999.0,9,     -999,9,     -999,9,     -999,9,     -999,9,   6.2026,2,     -999,9,     -999,9,     -999,9,     -999,9,     -999,9,   4.9700,1,   0.0112,1,     17.7,2,     -999,9,     -999,9,     -999,9,     -999,9,20230829,0612, -33.9202,  51.5711,-999          ,9,-999          ,9
33RR20230722  ,I05        ,143     ,  1,15         ,15         ,2,20230829,0503, -33.9202,  51.5710,     4183,   1214.8,2,   4.9140,2,  34.3865,2,  34.3857,2,    197.2,2,    197.5,2,    32.99,2,    30.18,2,     0.00,2,     2.09,2,    2.094,2,    1.147,2,   0.6600,2,   2201.6,2,   2298.7,2,   7.6168,2,    25.00,2,     -999,9,   4.9292,2,     -999,9,     -999,9,     -999,9,     -999,9,     -999,9,   4.8611,1,   0.0112,1,     19.6,2,     -999,9,     -999,9,     -999,9,     -999,9,20230829,0609, -33.9202,  51.5710,-999          ,9,-999          ,9
33RR20230722  ,I05        ,143     ,  1,14         ,14         ,2,20230829,0503, -33.9202,  51.5710,     4183,   1349.5,2,   4.1421,2,  34.4063,2,  34.4071,2,    188.4,2,    188.7,2,    44.22,2,    32.05,2,     0.00,2,     2.24,2,     -999,9,     -999,9,     -999,9,   2219.9,2,   2306.8,2,   7.5961,2,    25.00,2,     -999,9,   4.1384,2,     -999,9,     -999,9,     -999,9,     -999,9,     -999,9,   4.8013,1,   0.0113,1,     -999,9,     -999,9,     -999,9,     -999,9,     -999,9,20230829,0605, -33.9202,  51.5710,-999          ,9,-999          ,9
33RR20230722  ,I05        ,143     ,  1,13         ,13         ,2,20230829,0503, -33.9202,  51.5710,     4183,   1490.8,2,   3.4107,2,  34.4888,2,  34.4889,2,    176.7,2,    176.5,2,    59.34,2,    33.33,2,     0.00,2,     2.32,2,    0.908,2,    0.483,2,   0.2300,2,   2238.3,2,   2321.9,2,   7.5784,6,    25.00,2,     -999,9,   3.4094,2,     -999,9,     -999,9,     -999,9,     -999,9,     -999,9,   4.9733,1,   0.0112,1,     22.1,2,     -999,9,     -999,9,     -999,9,     -999,9,20230829,0602, -33.9202,  51.5710,-999          ,9,-999          ,9
33RR20230722  ,I05        ,143     ,  1,12         ,12         ,2,20230829,0503, -33.9202,  51.5710,     4183,   1637.0,2,   3.1148,2,  34.5509,2,  34.5512,2,    174.0,2,    174.0,2,    66.56,2,    33.32,2,     0.00,2,     2.34,2,    0.575,2,    0.306,2,   0.1300,2,   -999.0,9,     -999,9,     -999,9,     -999,9,     -999,9,   3.1145,2,     -999,9,     -999,9,     -999,9,     -999,9,     -999,9,   4.9738,1,   0.0113,1,     22.0,2,     -999,9,     -999,9,     -999,9,     -999,9,20230829,0558, -33.9202,  51.5711,-999          ,9,-999          ,9
33RR20230722  ,I05        ,143     ,  1,11         ,11         ,2,20230829,0503, -33.9202,  51.5710,     4183,   1789.5,2,   2.8824,2,  34.6001,2,  34.5995,2,    175.2,2,    175.4,2,    71.54,2,    32.97,2,     0.00,2,     2.29,2,    0.401,2,    0.210,2,   0.1000,2,   2250.5,6,   2335.7,6,   7.5829,2,    25.00,2,     -999,9,   2.8824,2,     -999,9,     -999,9,     -999,9,     -999,9,     -999,9,   4.9559,1,   0.0119,1,     21.6,2,     -999,9,     -999,9,     -999,9,     -999,9,20230829,0555, -33.9202,  51.5710,-999          ,9,-999          ,9
33RR20230722  ,I05        ,143     ,  1,10         ,10         ,2,20230829,0503, -33.9202,  51.5710,     4183,   1965.9,2,   2.6367,2,  34.6516,2,  34.6510,2,    179.0,2,    178.8,2,    76.90,2,    32.34,2,     0.00,2,     2.24,2,    0.260,2,    0.139,2,   0.0600,2,   -999.0,9,     -999,9,     -999,9,     -999,9,     -999,9,   2.6370,2,     -999,9,     -999,9,     -999,9,     -999,9,     -999,9,   4.7014,1,   0.0112,1,     21.0,2,     -999,9,     -999,9,     -999,9,     -999,9,20230829,0551, -33.9202,  51.5710,-999          ,9,-999          ,9
33RR20230722  ,I05        ,143     ,  1,9          ,9          ,2,20230829,0503, -33.9202,  51.5710,     4183,   2184.9,2,   2.4352,2,  34.6983,2,  34.6979,2,    185.9,2,    185.7,2,    79.24,2,    31.38,2,     0.00,2,     2.18,2,    0.184,2,    0.097,2,   0.0500,2,   2250.7,2,   2343.7,2,   7.6054,2,    24.99,2,     -999,9,   2.4355,2,     -999,9,     -999,9,     -999,9,     -999,9,     -999,9,   4.7706,1,   0.0118,1,     20.2,2,     -999,9,     -999,9,     -999,9,     -999,9,20230829,0546, -33.9202,  51.5710,-999          ,9,-999          ,9
33RR20230722  ,I05        ,143     ,  1,8          ,8          ,2,20230829,0503, -33.9202,  51.5710,     4183,   2446.0,2,   2.2282,2,  34.7288,2,  34.7282,2,    190.5,2,    190.7,2,    84.02,2,    30.87,2,     0.00,2,     2.15,2,     -999,9,     -999,9,     -999,9,   -999.0,9,     -999,9,     -999,9,     -999,9,     -999,9,   2.2278,2,     -999,9,     -999,9,     -999,9,     -999,9,     -999,9,   4.8978,1,   0.0118,1,     -999,9,     -999,9,     -999,9,     -999,9,     -999,9,20230829,0540, -33.9202,  51.5710,-999          ,9,-999          ,9
33RR20230722  ,I05        ,143     ,  1,7          ,7          ,2,20230829,0503, -33.9202,  51.5710,     4183,   2747.2,2,   1.9852,2,  34.7400,2,  34.7394,2,    194.4,2,    194.6,2,    92.31,2,    30.82,2,     0.00,2,     2.15,2,    0.081,2,    0.051,2,   0.0200,2,   2253.5,2,   2355.3,2,   7.6194,2,    25.00,2,     -999,9,   1.9848,2,     -999,9,     -999,9,     -999,9,     -999,9,     -999,9,   4.9744,1,   0.0112,1,     18.7,2,     -999,9,     -999,9,     -999,9,     -999,9,20230829,0534, -33.9202,  51.5710,-999          ,9,-999          ,9
33RR20230722  ,I05        ,143     ,  1,6          ,6          ,2,20230829,0503, -33.9202,  51.5710,     4183,   3079.9,2,   1.6940,2,  34.7354,2,  34.7349,2,    196.9,2,    197.0,2,   101.88,2,    31.26,2,     0.00,2,     2.17,2,    0.095,2,    0.052,2,  -0.0100,2,   2260.3,2,   2359.8,2,   7.6183,2,    24.98,2,     -999,9,   1.6936,2,     -999,9,     -999,9,     -999,9,     -999,9,     -999,9,   4.3748,1,   0.0110,1,     18.8,2,     -999,9,     -999,9,     -999,9,     -999,9,20230829,0528, -33.9202,  51.5710,-999          ,9,-999          ,9
33RR20230722  ,I05        ,143     ,  1,5          ,5          ,2,20230829,0503, -33.9202,  51.5710,     4183,   3430.9,2,   1.3923,2,  34.7241,2,  34.7233,2,    200.0,2,    200.2,2,   110.37,2,    31.78,2,     0.00,2,     2.21,2,    0.108,2,    0.057,2,   0.0000,2,   2264.8,2,   2362.7,2,   7.6159,2,    25.01,2,     -999,9,   1.3924,2,     -999,9,     -999,9,     -999,9,     -999,9,     -999,9,   4.9484,1,   0.0113,1,     18.7,2,     -999,9,     -999,9,     -999,9,     -999,9,20230829,0521, -33.9202,  51.5710,-999          ,9,-999          ,9
33RR20230722  ,I05        ,143     ,  1,4          ,37         ,2,20230829,0503, -33.9202,  51.5710,     4183,   3768.3,2,   1.2313,2,  34.7169,2,  34.7162,2,    203.3,2,    203.6,2,   115.64,2,    31.91,2,     0.00,2,     2.22,2,     -999,9,     -999,9,     -999,9,   -999.0,9,     -999,9,     -999,9,     -999,9,     -999,9,   1.2303,2,     -999,9,     -999,9,     -999,9,     -999,9,     -999,9,   4.8011,1,   0.0113,1,     -999,9,     -999,9,     -999,9,     -999,9,     -999,9,20230829,0514, -33.9202,  51.5710,-999          ,9,-999          ,9
33RR20230722  ,I05        ,143     ,  1,3          ,3          ,2,20230829,0503, -33.9202,  51.5710,     4183,   4035.9,2,   1.1572,2,  34.7130,2,  34.7121,2,    205.4,2,    205.6,2,   116.61,2,    31.97,2,     0.00,2,     2.22,2,    0.141,2,    0.073,2,   0.0100,2,   2263.6,2,   2362.6,2,   7.6156,2,    25.01,2,     -999,9,   1.1569,2,     -999,9,     -999,9,     -999,9,     -999,9,     -999,9,   4.8991,1,   0.0118,1,     18.6,2,     -999,9,     -999,9,     -999,9,     -999,9,20230829,0508, -33.9202,  51.5710,-999          ,9,-999          ,9