BOTTLE,20240422CCHHYDRO
EXPOCODE,SECT_ID,STNNBR,CASTNO,SAMPNO,BTLNBR,BTLNBR_FLAG_W,DATE,TIME,LATITUDE,LONGITUDE,DEPTH,CTDPRS,CTDPRS_FLAG_W,CTDTMP,CTDTMP_FLAG_W,CTDSAL,CTDSAL_FLAG_W,SALNTY,SALNTY_FLAG_W,CTDOXY,CTDOXY_FLAG_W,OXYGEN,OXYGEN_FLAG_W,SILCAT,SILCAT_FLAG_W,NITRAT,NITRAT_FLAG_W,NITRIT,NITRIT_FLAG_W,PHSPHT,PHSPHT_FLAG_W,CFC-11,CFC-11_FLAG_W,CFC-12,CFC-12_FLAG_W,SF6,SF6_FLAG_W,TCARBN,TCARBN_FLAG_W,ALKALI,ALKALI_FLAG_W,PH_TOT,PH_TOT_FLAG_W,PH_TMP,PH_TMP_FLAG_W,DOC,DOC_FLAG_W,REFTMP,REFTMP_FLAG_W,POC,POC_FLAG_W,PON,PON_FLAG_W,POP,POP_FLAG_W,DOP,DOP_FLAG_W,DELO18,DELO18_FLAG_W,CTDFLUOR,CTDFLUOR_FLAG_W,CTDXMISS,CTDXMISS_FLAG_W,N2O,N2O_FLAG_W,D15N_NO3,D15N_NO3_FLAG_W,D15N_NO2+NO3,D15N_NO2+NO3_FLAG_W,D18O_NO2+NO3,D18O_NO2+NO3_FLAG_W,D18O_NO3,D18O_NO3_FLAG_W,BTL_DATE,BTL_TIME,BTL_LAT,BTL_LON,HPLC,HPLC_FLAG_W,DNA,DNA_FLAG_W
,,,,,,,,,,,METERS,DBAR,,ITS-90,,PSS-78,,PSS-78,,UMOL/KG,,UMOL/KG,,UMOL/KG,,UMOL/KG,,UMOL/KG,,UMOL/KG,,PMOL/KG,,PMOL/KG,,FMOL/KG,,UMOL/KG,,UMOL/KG,,,,DEG C,,UMOL/KG,,ITS-90,,UG/KG,,UG/KG,,UG/L,,UMOL/KG,,/MILLE,,VOLTS,,VOLTS,,NMOL/KG,,/MILLE,,/MILLE,,/MILLE,,/MILLE,,,,,,,,,
33RR20230722  ,I05        ,166     ,  2,36         ,38         ,2,20230903,1453, -32.9975,  39.8348,     5100,      3.1,2,  17.7032,2,  35.6455,2,  35.6437,2,    245.3,2,    244.4,2,     2.34,2,     0.22,2,     0.04,2,     0.15,2,    1.310,2,    1.290,2,   2.2000,2,   2068.7,6,   2333.9,2,   7.9649,2,    24.97,2,     -999,1,  17.6803,2,     -999,9,     -999,9,     -999,9,     -999,9,     -999,9,   4.9765,1,   0.0500,1,      7.4,3,     -999,1,     -999,1,     -999,1,     -999,1,20230903,1703, -32.9975,  39.8348,-999          ,9,-999          ,9
33RR20230722  ,I05        ,166     ,  2,35         ,35         ,2,20230903,1453, -32.9975,  39.8348,     5100,     39.0,2,  17.3715,2,  35.6438,2,  35.6427,2,    241.9,2,    241.7,2,     2.34,2,     0.51,2,     0.14,2,     0.18,2,     -999,9,     -999,9,     -999,9,   2074.8,2,   2333.7,2,   7.9610,2,    24.97,2,     -999,1,  17.3698,2,     -999,9,     -999,9,     -999,9,     -999,9,     -999,9,   4.9752,1,   0.0546,1,     -999,9,     -999,1,     -999,1,     -999,1,     -999,1,20230903,1700, -32.9975,  39.8347,-999          ,9,-999          ,9
33RR20230722  ,I05        ,166     ,  2,34         ,34         ,2,20230903,1453, -32.9975,  39.8348,     5100,     65.0,2,  17.2649,2,  35.6345,2,  35.6317,2,    238.2,2,    238.2,2,     2.34,2,     0.85,2,     0.22,2,     0.20,2,     -999,9,     -999,9,     -999,9,   2077.6,2,   2332.2,2,   7.9558,2,    24.99,2,     -999,1,  17.2626,2,     -999,9,     -999,9,     -999,9,     -999,9,     -999,9,   4.9743,1,   0.0413,1,     -999,9,     -999,1,     -999,1,     -999,1,     -999,1,20230903,1658, -32.9975,  39.8348,-999          ,9,-999          ,9
33RR20230722  ,I05        ,166     ,  2,33         ,33         ,2,20230903,1453, -32.9975,  39.8348,     5100,     89.6,2,  17.2355,2,  35.6311,2,  35.6281,2,    234.3,2,    234.4,2,     2.34,2,     1.09,2,     0.37,2,     0.21,2,     -999,9,     -999,9,     -999,9,   2082.2,2,   2336.8,2,   7.9512,6,    24.98,2,     -999,1,  17.2317,2,     -999,9,     -999,9,     -999,9,     -999,9,     -999,9,   4.9732,1,   0.0257,1,     -999,9,     -999,1,     -999,1,     -999,1,     -999,1,20230903,1657, -32.9975,  39.8347,-999          ,9,-999          ,9
33RR20230722  ,I05        ,166     ,  2,32         ,32         ,2,20230903,1453, -32.9975,  39.8348,     5100,    116.8,2,  17.2573,2,  35.6409,2,  35.6386,2,    234.3,2,    234.7,2,     2.34,2,     0.94,2,     0.40,2,     0.20,2,    2.321,2,    1.295,2,   2.1400,2,   2078.9,2,   2332.9,2,     -999,1,     -999,5,     -999,1,  17.2571,2,     -999,9,     -999,9,     -999,9,     -999,9,     -999,9,   4.9729,1,   0.0214,1,      7.5,3,     -999,1,     -999,1,     -999,1,     -999,1,20230903,1655, -32.9975,  39.8348,-999          ,9,-999          ,9
33RR20230722  ,I05        ,166     ,  2,31         ,31         ,2,20230903,1453, -32.9975,  39.8348,     5100,    146.4,2,  17.2451,2,  35.6414,2,  35.6384,2,    233.7,2,    233.5,2,     2.34,2,     1.12,2,     0.30,2,     0.21,2,     -999,9,     -999,9,     -999,9,   2074.5,2,   2334.0,2,   7.9508,2,    25.00,2,     -999,1,  17.2404,2,     -999,9,     -999,9,     -999,9,     -999,9,     -999,9,   4.8943,1,   0.0180,1,     -999,9,     -999,1,     -999,1,     -999,1,     -999,1,20230903,1653, -32.9975,  39.8348,-999          ,9,-999          ,9
33RR20230722  ,I05        ,166     ,  2,30         ,30         ,2,20230903,1453, -32.9975,  39.8348,     5100,    179.5,2,  17.1772,2,  35.6335,2,  35.6305,2,    232.0,2,    232.0,2,     2.34,2,     1.52,2,     0.16,2,     0.22,2,     -999,9,     -999,9,     -999,9,   2076.1,2,   2332.1,2,   7.9469,2,    25.04,2,     -999,1,  17.1756,2,     -999,9,     -999,9,     -999,9,     -999,9,     -999,9,   4.8198,1,   0.0141,1,     -999,9,     -999,1,     -999,1,     -999,1,     -999,1,20230903,1651, -32.9975,  39.8347,-999          ,9,-999          ,9
33RR20230722  ,I05        ,166     ,  2,29         ,29         ,2,20230903,1453, -32.9975,  39.8348,     5100,    216.6,2,  16.5715,2,  35.5626,2,  35.5573,2,    209.7,2,    210.7,2,     3.22,2,     4.54,2,     0.01,2,     0.41,2,    2.188,2,    1.371,2,   1.9900,2,   2102.8,2,   2328.9,2,   7.8989,2,    24.99,2,     -999,1,  16.5938,2,     -999,9,     -999,9,     -999,9,     -999,9,     -999,9,   4.6763,1,   0.0118,1,      8.4,3,     -999,1,     -999,1,     -999,1,     -999,1,20230903,1649, -32.9975,  39.8348,-999          ,9,-999          ,9
33RR20230722  ,I05        ,166     ,  2,28         ,28         ,2,20230903,1453, -32.9975,  39.8348,     5100,    257.5,2,  16.0128,2,  35.5174,2,  35.5117,2,    209.2,2,    209.8,2,     3.51,2,     5.46,2,     0.00,2,     0.46,2,     -999,9,     -999,9,     -999,9,   -999.0,9,     -999,9,     -999,9,     -999,9,     -999,1,  16.0120,2,     -999,9,     -999,9,     -999,9,     -999,9,     -999,9,   4.9681,1,   0.0120,1,     -999,9,     -999,1,     -999,1,     -999,1,     -999,1,20230903,1647, -32.9975,  39.8347,-999          ,9,-999          ,9
33RR20230722  ,I05        ,166     ,  2,27         ,27         ,2,20230903,1453, -32.9975,  39.8348,     5100,    309.2,2,  15.2333,2,  35.4482,2,  35.4440,2,    212.0,2,    213.0,2,     3.61,2,     6.28,2,     0.00,2,     0.54,2,    2.333,2,    1.502,2,   2.0300,2,   2113.7,2,   2321.6,2,   7.8694,6,    24.98,2,     -999,1,  15.2346,2,     -999,9,     -999,9,     -999,9,     -999,9,     -999,9,   4.6642,1,   0.0115,1,      9.0,3,     -999,1,     -999,1,     -999,1,     -999,1,20230903,1645, -32.9975,  39.8347,-999          ,9,-999          ,9
33RR20230722  ,I05        ,166     ,  2,26         ,26         ,2,20230903,1453, -32.9975,  39.8348,     5100,    367.3,2,  14.4798,2,  35.3666,2,  35.3622,2,    212.0,2,    212.9,2,     3.80,2,     7.51,2,     0.00,2,     0.60,2,     -999,9,     -999,9,     -999,9,   -999.0,9,     -999,9,     -999,9,     -999,9,     -999,1,  14.4710,2,     -999,9,     -999,9,     -999,9,     -999,9,     -999,9,   4.9030,1,   0.0119,1,     -999,9,     -999,1,     -999,1,     -999,1,     -999,1,20230903,1643, -32.9975,  39.8347,-999          ,9,-999          ,9
33RR20230722  ,I05        ,166     ,  2,25         ,25         ,2,20230903,1453, -32.9975,  39.8348,     5100,    437.6,2,  13.5948,2,  35.2739,2,  35.2700,2,    218.6,2,    218.8,2,     3.71,2,     8.60,2,     0.00,2,     0.67,2,    2.622,2,    1.606,2,   1.9700,2,   2120.0,2,   2315.9,6,   7.8358,2,    25.04,2,     -999,1,  13.6063,2,     -999,9,     -999,9,     -999,9,     -999,9,     -999,9,   4.7170,1,   0.0109,1,      9.6,3,     -999,1,     -999,1,     -999,1,     -999,1,20230903,1640, -32.9975,  39.8347,-999          ,9,-999          ,9
33RR20230722  ,I05        ,166     ,  2,24         ,24         ,2,20230903,1453, -32.9975,  39.8348,     5100,    516.5,2,  12.8834,2,  35.1865,2,  35.1868,2,    222.6,2,    222.1,2,     4.00,2,     9.79,2,     0.00,2,     0.75,2,     -999,9,     -999,9,     -999,9,   2127.2,2,   2312.2,2,   7.8232,2,    25.02,2,     -999,1,  12.8859,2,     -999,9,     -999,9,     -999,9,     -999,9,     -999,9,   4.9670,1,   0.0117,1,     -999,9,     -999,1,     -999,1,     -999,1,     -999,1,20230903,1638, -32.9975,  39.8348,-999          ,9,-999          ,9
33RR20230722  ,I05        ,166     ,  2,23         ,23         ,2,20230903,1453, -32.9975,  39.8348,     5100,    602.7,2,  12.0208,2,  35.0587,2,  35.0624,2,    222.2,2,    221.9,2,     4.59,2,    11.72,2,     0.00,2,     0.87,2,     -999,9,     -999,9,     -999,9,   -999.0,9,     -999,9,     -999,9,     -999,9,     -999,1,  12.0384,2,     -999,9,     -999,9,     -999,9,     -999,9,     -999,9,   4.7811,1,   0.0116,1,     -999,9,     -999,1,     -999,1,     -999,1,     -999,1,20230903,1635, -32.9975,  39.8347,-999          ,9,-999          ,9
33RR20230722  ,I05        ,166     ,  2,22         ,22         ,2,20230903,1453, -32.9975,  39.8348,     5100,    694.2,2,  11.1776,2,  34.9351,2,  34.9345,2,    220.5,2,    220.3,2,     5.37,2,    13.80,2,     0.00,2,     1.01,2,    2.932,2,    1.790,2,   1.7300,2,   2137.6,2,   2301.4,2,   7.7816,2,    25.02,2,     -999,1,  11.1842,2,     -999,9,     -999,9,     -999,9,     -999,9,     -999,9,   4.9501,1,   0.0116,1,     11.0,3,     -999,1,     -999,1,     -999,1,     -999,1,20230903,1632, -32.9975,  39.8347,-999          ,9,-999          ,9
33RR20230722  ,I05        ,166     ,  2,21         ,21         ,2,20230903,1453, -32.9975,  39.8348,     5100,    790.2,2,   9.9898,2,  34.7791,2,  34.7756,2,    217.4,2,    216.8,2,     7.32,2,    16.91,2,     0.00,2,     1.21,2,     -999,9,     -999,9,     -999,9,   2140.3,2,   2295.1,2,   7.7496,2,    25.04,2,     -999,1,   9.9896,2,     -999,9,     -999,9,     -999,9,     -999,9,     -999,9,   4.8151,1,   0.0114,1,     -999,9,     -999,1,     -999,1,     -999,1,     -999,1,20230903,1629, -32.9975,  39.8348,-999          ,9,-999          ,9
33RR20230722  ,I05        ,166     ,  2,20         ,20         ,2,20230903,1453, -32.9975,  39.8348,     5100,    889.1,2,   8.8108,2,  34.6488,2,  34.6464,2,    210.8,2,    210.7,2,    10.83,2,    20.35,2,     0.00,2,     1.43,2,     -999,9,     -999,9,     -999,9,   2156.7,2,   2290.2,2,   7.7138,2,    25.02,2,     -999,1,   8.8095,2,     -999,9,     -999,9,     -999,9,     -999,9,     -999,9,   4.9240,1,   0.0114,1,     -999,9,     -999,1,     -999,1,     -999,1,     -999,1,20230903,1627, -32.9975,  39.8347,-999          ,9,-999          ,9
33RR20230722  ,I05        ,166     ,  2,19         ,19         ,2,20230903,1453, -32.9975,  39.8348,     5100,    987.1,2,   7.3854,2,  34.5189,2,  34.5190,2,    205.2,2,    205.7,2,    16.59,2,    24.21,2,     0.00,2,     1.69,2,    2.749,2,    1.566,2,   1.1500,2,   2170.5,2,   2289.8,2,   7.6728,2,    25.01,2,     -999,1,   7.3885,2,     -999,9,     -999,9,     -999,9,     -999,9,     -999,9,   4.8725,1,   0.0112,1,     14.8,3,     -999,1,     -999,1,     -999,1,     -999,1,20230903,1624, -32.9975,  39.8347,-999          ,9,-999          ,9
33RR20230722  ,I05        ,166     ,  2,18         ,18         ,2,20230903,1453, -32.9975,  39.8348,     5100,   1087.1,2,   5.9166,2,  34.4133,2,  34.4110,2,    204.3,2,    204.4,2,    24.60,2,    27.75,2,     0.00,2,     1.93,2,     -999,9,     -999,9,     -999,9,   2181.8,2,   2291.0,2,   7.6359,2,    25.00,2,     -999,1,   5.9098,2,     -999,9,     -999,9,     -999,9,     -999,9,     -999,9,   4.8593,1,   0.0106,1,     -999,9,     -999,1,     -999,1,     -999,1,     -999,1,20230903,1621, -32.9975,  39.8347,-999          ,9,-999          ,9
33RR20230722  ,I05        ,166     ,  2,17         ,17         ,2,20230903,1453, -32.9975,  39.8348,     5100,   1198.4,2,   4.8047,2,  34.3967,2,  34.3959,2,    195.3,2,    196.1,2,    35.63,2,    30.40,2,     0.00,2,     2.13,2,     -999,9,     -999,9,     -999,9,   2198.9,2,   2298.6,2,   7.6096,2,    25.00,2,     -999,1,   4.8039,2,     -999,9,     -999,9,     -999,9,     -999,9,     -999,9,   4.9712,1,   0.0113,1,     -999,9,     -999,1,     -999,1,     -999,1,     -999,1,20230903,1618, -32.9975,  39.8347,-999          ,9,-999          ,9
33RR20230722  ,I05        ,166     ,  2,16         ,16         ,2,20230903,1453, -32.9975,  39.8348,     5100,   1317.4,2,   4.1691,2,  34.4285,2,  34.4267,2,    185.7,2,    185.9,2,    45.68,2,    32.01,2,     0.00,2,     2.23,2,    1.522,2,    0.829,2,   0.3600,2,   2218.1,2,   2309.1,2,   7.5925,6,    25.01,2,     -999,1,   4.1780,2,     -999,9,     -999,9,     -999,9,     -999,9,     -999,9,   4.9724,1,   0.0112,1,     18.5,3,     -999,1,     -999,1,     -999,1,     -999,1,20230903,1615, -32.9975,  39.8347,-999          ,9,-999          ,9
33RR20230722  ,I05        ,166     ,  2,15         ,15         ,2,20230903,1453, -32.9975,  39.8348,     5100,   1446.3,2,   3.6220,2,  34.4948,2,  34.4958,2,    174.7,2,    174.0,2,    57.68,2,    33.25,2,     0.00,2,     2.32,2,     -999,9,     -999,9,     -999,9,   -999.0,9,     -999,9,     -999,9,     -999,9,     -999,1,   3.6218,2,     -999,9,     -999,9,     -999,9,     -999,9,     -999,9,   4.8421,1,   0.0110,1,     -999,9,     -999,1,     -999,1,     -999,1,     -999,1,20230903,1612, -32.9975,  39.8347,-999          ,9,-999          ,9
33RR20230722  ,I05        ,166     ,  2,14         ,14         ,2,20230903,1453, -32.9975,  39.8348,     5100,   1582.5,2,   3.3708,2,  34.5634,2,  34.5624,2,    168.9,2,    168.5,2,    65.49,2,    33.35,2,     0.00,2,     2.33,2,     -999,9,     -999,9,     -999,9,   2243.5,2,   2329.8,2,   7.5743,2,    25.02,2,     -999,1,   3.3717,2,     -999,9,     -999,9,     -999,9,     -999,9,     -999,9,   4.9283,1,   0.0117,1,     -999,9,     -999,1,     -999,1,     -999,1,     -999,1,20230903,1608, -32.9975,  39.8347,-999          ,9,-999          ,9
33RR20230722  ,I05        ,166     ,  2,13         ,13         ,2,20230903,1453, -32.9975,  39.8348,     5100,   1726.3,2,   3.0852,2,  34.6387,2,  34.6366,2,    169.3,2,    168.7,2,    72.12,2,    32.79,2,     0.00,2,     2.28,2,    0.174,2,    0.165,2,  -0.0400,2,   -999.0,9,     -999,9,     -999,9,     -999,9,     -999,1,   3.0891,2,     -999,9,     -999,9,     -999,9,     -999,9,     -999,9,   4.9746,1,   0.0117,1,     19.1,3,     -999,1,     -999,1,     -999,1,     -999,1,20230903,1605, -32.9975,  39.8347,-999          ,9,-999          ,9
33RR20230722  ,I05        ,166     ,  2,12         ,12         ,2,20230903,1453, -32.9975,  39.8348,     5100,   1885.2,2,   2.8677,2,  34.6865,2,  34.6851,2,    175.7,2,    175.5,2,    73.68,2,    31.81,2,     0.00,2,     2.22,2,     -999,9,     -999,9,     -999,9,   2244.9,2,   2341.5,2,   7.5965,2,    24.98,2,     -999,1,   2.8673,2,     -999,9,     -999,9,     -999,9,     -999,9,     -999,9,   4.9746,1,   0.0116,1,     -999,9,     -999,1,     -999,1,     -999,1,     -999,1,20230903,1601, -32.9975,  39.8348,-999          ,9,-999          ,9
33RR20230722  ,I05        ,166     ,  2,11         ,11         ,2,20230903,1453, -32.9975,  39.8348,     5100,   2078.9,2,   2.7208,2,  34.7309,3,  34.7286,2,    180.5,2,    180.8,2,    76.61,2,    30.96,2,     0.00,2,     2.16,2,     -999,9,     -999,9,     -999,9,   -999.0,9,     -999,9,     -999,9,     -999,9,     -999,1,   2.7218,2,     -999,9,     -999,9,     -999,9,     -999,9,     -999,9,   4.9747,1,   0.0118,1,     -999,9,     -999,1,     -999,1,     -999,1,     -999,1,20230903,1556, -32.9975,  39.8348,-999          ,9,-999          ,9
33RR20230722  ,I05        ,166     ,  2,10         ,10         ,2,20230903,1453, -32.9975,  39.8348,     5100,   2308.7,2,   2.5575,2,  34.7627,2,  34.7610,2,    190.0,2,    190.3,2,    75.43,2,    29.78,2,     0.00,2,     2.09,2,    0.023,2,    0.031,2,  -0.0200,2,   2243.1,2,   2347.4,2,   7.6257,2,    25.02,2,     -999,1,   2.5575,2,     -999,9,     -999,9,     -999,9,     -999,9,     -999,9,   4.9745,1,   0.0116,1,     16.9,3,     -999,1,     -999,1,     -999,1,     -999,1,20230903,1551, -32.9975,  39.8348,-999          ,9,-999          ,9
33RR20230722  ,I05        ,166     ,  2,9          ,9          ,2,20230903,1453, -32.9975,  39.8348,     5100,   2582.7,2,   2.4177,2,  34.7877,2,  34.7862,2,    201.1,2,    201.7,2,    72.31,2,    28.51,2,     0.00,2,     1.97,2,     -999,9,     -999,9,     -999,9,   -999.0,9,     -999,9,     -999,9,     -999,9,     -999,1,   2.4181,2,     -999,9,     -999,9,     -999,9,     -999,9,     -999,9,   4.6843,1,   0.0113,1,     -999,9,     -999,1,     -999,1,     -999,1,     -999,1,20230903,1545, -32.9975,  39.8347,-999          ,9,-999          ,9
33RR20230722  ,I05        ,166     ,  2,8          ,8          ,2,20230903,1453, -32.9975,  39.8348,     5100,   2905.4,2,   2.2319,2,  34.7954,2,  34.7937,2,    207.9,2,    208.4,2,    74.07,2,    28.03,2,     0.00,2,     1.96,2,     -999,9,     -999,9,     -999,9,   2227.4,2,   2347.8,2,   7.6510,6,    25.02,2,     -999,1,   2.2330,2,     -999,9,     -999,9,     -999,9,     -999,9,     -999,9,   4.8841,1,   0.0117,1,     -999,9,     -999,1,     -999,1,     -999,1,     -999,1,20230903,1539, -32.9975,  39.8347,-999          ,9,-999          ,9
33RR20230722  ,I05        ,166     ,  2,7          ,7          ,2,20230903,1453, -32.9975,  39.8348,     5100,   3281.3,2,   1.9997,2,  34.7912,2,  34.7893,2,    212.9,2,    213.1,2,    77.68,2,    28.08,2,     0.00,2,     1.96,2,   -0.004,2,    0.014,2,  -0.0600,2,   -999.0,9,     -999,9,     -999,9,     -999,9,     -999,1,   1.9997,2,     -999,9,     -999,9,     -999,9,     -999,9,     -999,9,   4.8664,1,   0.0111,1,     15.0,3,     -999,1,     -999,1,     -999,1,     -999,1,20230903,1532, -32.9975,  39.8348,-999          ,9,-999          ,9
33RR20230722  ,I05        ,166     ,  2,6          ,6          ,2,20230903,1453, -32.9975,  39.8348,     5100,   3686.2,2,   1.6167,2,  34.7681,2,  34.7661,2,    214.9,2,    215.2,2,    89.78,2,    29.08,2,     0.00,2,     2.00,2,     -999,9,     -999,9,     -999,9,   2237.0,2,   2355.1,6,   7.6456,2,    25.00,2,     -999,1,   1.6185,2,     -999,9,     -999,9,     -999,9,     -999,9,     -999,9,   4.9166,1,   0.0117,1,     -999,9,     -999,1,     -999,1,     -999,1,     -999,1,20230903,1524, -32.9975,  39.8348,-999          ,9,-999          ,9
33RR20230722  ,I05        ,166     ,  2,5          ,5          ,2,20230903,1453, -32.9975,  39.8348,     5100,   4098.6,2,   1.2001,2,  34.7385,2,  34.7368,2,    216.4,2,    216.8,2,   102.86,2,    30.32,2,     0.00,2,     2.10,2,    0.092,2,    0.053,2,  -0.0700,2,   -999.0,9,     -999,9,     -999,9,     -999,9,     -999,1,   1.2019,2,     -999,9,     -999,9,     -999,9,     -999,9,     -999,9,   4.9758,1,   0.0112,1,     15.2,3,     -999,1,     -999,1,     -999,1,     -999,1,20230903,1516, -32.9975,  39.8347,-999          ,9,-999          ,9
33RR20230722  ,I05        ,166     ,  2,4          ,37         ,2,20230903,1453, -32.9975,  39.8348,     5100,   4495.1,2,   0.8400,2,  34.7112,2,  34.7095,2,    217.7,2,    217.9,2,   115.35,2,    31.43,2,     0.00,2,     2.20,2,    0.077,2,    0.084,2,  -0.0100,2,   2253.0,2,   2365.3,2,   7.6246,2,    24.98,2,     -999,1,   0.8423,2,     -999,9,     -999,9,     -999,9,     -999,9,     -999,9,   4.9762,1,   0.0117,1,     16.0,3,     -999,1,     -999,1,     -999,1,     -999,1,20230903,1508, -32.9975,  39.8348,-999          ,9,-999          ,9
33RR20230722  ,I05        ,166     ,  2,3          ,3          ,2,20230903,1453, -32.9975,  39.8348,     5100,   4826.6,2,   0.7267,2,  34.7004,2,  34.6989,2,    218.4,2,    218.4,2,   119.74,2,    31.88,2,     0.00,2,     2.22,2,    0.134,2,    0.115,2,  -0.0300,2,   2254.9,2,   2365.0,2,   7.6208,2,    25.02,2,     -999,1,   0.7268,2,     -999,9,     -999,9,     -999,9,     -999,9,     -999,9,   4.9206,1,   0.0111,1,     15.9,3,     -999,1,     -999,1,     -999,1,     -999,1,20230903,1502, -32.9975,  39.8348,-999          ,9,-999          ,9