BOTTLE,20240422CCHHYDRO
EXPOCODE,SECT_ID,STNNBR,CASTNO,SAMPNO,BTLNBR,BTLNBR_FLAG_W,DATE,TIME,LATITUDE,LONGITUDE,DEPTH,CTDPRS,CTDPRS_FLAG_W,CTDTMP,CTDTMP_FLAG_W,CTDSAL,CTDSAL_FLAG_W,SALNTY,SALNTY_FLAG_W,CTDOXY,CTDOXY_FLAG_W,OXYGEN,OXYGEN_FLAG_W,SILCAT,SILCAT_FLAG_W,NITRAT,NITRAT_FLAG_W,NITRIT,NITRIT_FLAG_W,PHSPHT,PHSPHT_FLAG_W,CFC-11,CFC-11_FLAG_W,CFC-12,CFC-12_FLAG_W,SF6,SF6_FLAG_W,TCARBN,TCARBN_FLAG_W,ALKALI,ALKALI_FLAG_W,PH_TOT,PH_TOT_FLAG_W,PH_TMP,PH_TMP_FLAG_W,DOC,DOC_FLAG_W,REFTMP,REFTMP_FLAG_W,POC,POC_FLAG_W,PON,PON_FLAG_W,POP,POP_FLAG_W,DOP,DOP_FLAG_W,DELO18,DELO18_FLAG_W,CTDFLUOR,CTDFLUOR_FLAG_W,CTDXMISS,CTDXMISS_FLAG_W,N2O,N2O_FLAG_W,D15N_NO3,D15N_NO3_FLAG_W,D15N_NO2+NO3,D15N_NO2+NO3_FLAG_W,D18O_NO2+NO3,D18O_NO2+NO3_FLAG_W,D18O_NO3,D18O_NO3_FLAG_W,BTL_DATE,BTL_TIME,BTL_LAT,BTL_LON,HPLC,HPLC_FLAG_W,DNA,DNA_FLAG_W
,,,,,,,,,,,METERS,DBAR,,ITS-90,,PSS-78,,PSS-78,,UMOL/KG,,UMOL/KG,,UMOL/KG,,UMOL/KG,,UMOL/KG,,UMOL/KG,,PMOL/KG,,PMOL/KG,,FMOL/KG,,UMOL/KG,,UMOL/KG,,,,DEG C,,UMOL/KG,,ITS-90,,UG/KG,,UG/KG,,UG/L,,UMOL/KG,,/MILLE,,VOLTS,,VOLTS,,NMOL/KG,,/MILLE,,/MILLE,,/MILLE,,/MILLE,,,,,,,,,
33RR20230722  ,I05        ,30      ,  1,36         ,36         ,2,20230730,0936, -31.8029, 103.4499,     5255,      4.3,2,  16.7773,2,  35.8258,2,  35.8246,2,    239.6,2,    238.9,2,     1.56,2,     0.15,2,     0.03,2,     0.16,2,    2.335,2,    1.356,2,   2.2800,2,   2093.3,6,   2353.2,2,   7.9578,2,    24.98,2,     -999,1,  16.7750,2,     -999,9,     -999,9,     -999,9,     -999,9,     -999,1,   4.3725,1,   0.0343,1,      8.1,2,     -999,9,     -999,9,     -999,9,     -999,9,20230730,1147, -31.8029, 103.4499,-999          ,9,-999          ,9
33RR20230722  ,I05        ,30      ,  1,35         ,35         ,2,20230730,0936, -31.8029, 103.4499,     5255,     34.6,2,  16.7207,2,  35.8231,2,  35.8220,2,    239.1,2,    238.2,2,     1.56,2,     0.11,2,     0.04,2,     0.14,2,     -999,9,     -999,9,     -999,9,   2092.5,2,   2351.2,2,   7.9583,6,    24.99,2,     -999,1,  16.7210,2,     -999,9,     -999,9,     -999,9,     -999,9,     -999,1,   4.9748,1,   0.0396,1,     -999,9,     -999,9,     -999,9,     -999,9,     -999,9,20230730,1145, -31.8029, 103.4499,-999          ,9,-999          ,9
33RR20230722  ,I05        ,30      ,  1,34         ,34         ,2,20230730,0936, -31.8029, 103.4499,     5255,     51.6,2,  16.7255,2,  35.8238,2,  35.8226,2,    239.0,2,    238.5,2,     1.56,2,     0.09,2,     0.04,2,     0.12,2,     -999,9,     -999,9,     -999,9,   2093.6,2,   2352.8,2,   7.9584,2,    24.98,2,     -999,1,  16.7242,2,     -999,9,     -999,9,     -999,9,     -999,9,     -999,1,   4.9748,1,   0.0388,1,     -999,9,     -999,9,     -999,9,     -999,9,     -999,9,20230730,1143, -31.8029, 103.4500,-999          ,9,-999          ,9
33RR20230722  ,I05        ,30      ,  1,33         ,33         ,2,20230730,0936, -31.8029, 103.4499,     5255,     63.0,2,  16.7272,2,  35.8243,2,  35.8230,2,    238.9,2,    238.2,2,     1.76,2,     0.09,2,     0.04,2,     0.14,2,    2.337,2,    1.348,2,   2.2800,2,   2093.4,2,   2350.6,2,   7.9577,2,    24.98,2,     -999,1,  16.7258,2,     -999,9,     -999,9,     -999,9,     -999,9,     -999,1,   4.9745,1,   0.0398,1,      8.0,2,     -999,9,     -999,9,     -999,9,     -999,9,20230730,1142, -31.8029, 103.4499,-999          ,9,-999          ,9
33RR20230722  ,I05        ,30      ,  1,32         ,32         ,2,20230730,0936, -31.8029, 103.4499,     5255,     89.5,2,  16.7296,2,  35.8245,2,  35.8236,2,    238.6,2,    238.3,2,     1.85,2,     0.08,2,     0.04,2,     0.14,2,     -999,9,     -999,9,     -999,9,   2093.9,2,   2351.6,2,   7.9571,2,    25.00,2,     -999,1,  16.7287,2,     -999,9,     -999,9,     -999,9,     -999,9,     -999,1,   4.8574,1,   0.0347,1,     -999,9,     -999,9,     -999,9,     -999,9,     -999,9,20230730,1140, -31.8029, 103.4499,-999          ,9,-999          ,9
33RR20230722  ,I05        ,30      ,  1,31         ,31         ,2,20230730,0936, -31.8029, 103.4499,     5255,    119.1,2,  16.6874,2,  35.8171,2,  35.8169,2,    238.0,2,    238.0,2,     1.56,2,     0.12,2,     0.05,2,     0.13,2,     -999,9,     -999,9,     -999,9,   2095.4,2,   2352.0,2,   7.9564,2,    24.99,2,     -999,1,  16.6863,2,     -999,9,     -999,9,     -999,9,     -999,9,     -999,1,   4.8603,1,   0.0300,1,     -999,9,     -999,9,     -999,9,     -999,9,     -999,9,20230730,1138, -31.8029, 103.4499,-999          ,9,-999          ,9
33RR20230722  ,I05        ,30      ,  1,30         ,30         ,2,20230730,0936, -31.8029, 103.4499,     5255,    148.2,2,  16.4997,2,  35.8008,2,  35.8013,2,    238.7,2,    238.8,2,     1.37,2,     0.12,2,     0.04,2,     0.18,2,     -999,9,     -999,9,     -999,9,   2094.4,2,   2353.2,2,   7.9537,2,    25.00,2,     -999,1,  16.4933,2,     -999,9,     -999,9,     -999,9,     -999,9,     -999,1,   4.9736,1,   0.0251,1,     -999,9,     -999,9,     -999,9,     -999,9,     -999,9,20230730,1136, -31.8029, 103.4500,-999          ,9,-999          ,9
33RR20230722  ,I05        ,30      ,  1,29         ,29         ,2,20230730,0936, -31.8029, 103.4499,     5255,    187.1,2,  14.8590,2,  35.5379,2,  35.5407,2,    230.2,2,    231.2,2,     1.46,2,     3.04,2,     0.02,2,     0.33,2,    2.378,2,    1.503,2,   2.3800,2,   2115.9,2,   2337.5,2,   7.8953,2,    24.98,2,     -999,1,  14.8326,2,     -999,9,     -999,9,     -999,9,     -999,9,     -999,1,   4.9198,1,   0.0125,1,      9.3,2,     -999,9,     -999,9,     -999,9,     -999,9,20230730,1135, -31.8029, 103.4499,-999          ,9,-999          ,9
33RR20230722  ,I05        ,30      ,  1,28         ,28         ,2,20230730,0936, -31.8029, 103.4499,     5255,    222.2,2,  13.9430,2,  35.4050,2,  35.4060,2,    232.5,2,    232.9,2,     1.46,2,     4.70,2,     0.01,2,     0.44,2,     -999,9,     -999,9,     -999,9,   2124.4,2,   2329.1,2,   7.8707,2,    24.98,2,     -999,1,  13.9368,2,     -999,9,     -999,9,     -999,9,     -999,9,     -999,1,   4.9694,1,   0.0120,1,     -999,9,     -999,9,     -999,9,     -999,9,     -999,9,20230730,1133, -31.8029, 103.4499,-999          ,9,-999          ,9
33RR20230722  ,I05        ,30      ,  1,27         ,27         ,2,20230730,0936, -31.8029, 103.4499,     5255,    269.3,2,  13.0339,2,  35.2488,2,  35.2556,2,    237.1,2,    237.6,2,     1.85,2,     6.11,2,     0.00,2,     0.52,2,     -999,9,     -999,9,     -999,9,   2122.6,6,   2321.6,2,   7.8533,2,    24.98,2,     -999,1,  13.0630,2,     -999,9,     -999,9,     -999,9,     -999,9,     -999,1,   4.9694,1,   0.0116,1,     -999,9,     -999,9,     -999,9,     -999,9,     -999,9,20230730,1131, -31.8029, 103.4499,-999          ,9,-999          ,9
33RR20230722  ,I05        ,30      ,  1,26         ,26         ,2,20230730,0936, -31.8029, 103.4499,     5255,    336.3,2,  11.7436,2,  35.0084,2,  35.0069,2,    241.3,2,    241.2,2,     2.05,2,     8.91,2,     0.00,2,     0.71,2,     -999,9,     -999,9,     -999,9,   2126.8,2,   2307.3,2,   7.8190,6,    25.00,2,     -999,1,  11.7398,2,     -999,9,     -999,9,     -999,9,     -999,9,     -999,1,   4.8894,1,   0.0116,1,     -999,9,     -999,9,     -999,9,     -999,9,     -999,9,20230730,1129, -31.8029, 103.4499,-999          ,9,-999          ,9
33RR20230722  ,I05        ,30      ,  1,25         ,25         ,2,20230730,0936, -31.8029, 103.4499,     5255,    399.3,2,  10.7582,2,  34.8520,2,  34.8540,2,    240.9,2,    240.1,2,     2.54,2,    11.66,2,     0.00,2,     0.88,2,     -999,9,     -999,9,     -999,9,   2129.4,2,   2299.1,2,   7.7892,2,    24.98,2,     -999,1,  10.7712,2,     -999,9,     -999,9,     -999,9,     -999,9,     -999,1,   4.3650,1,   0.0115,1,     -999,9,     -999,9,     -999,9,     -999,9,     -999,9,20230730,1127, -31.8029, 103.4499,-999          ,9,-999          ,9
33RR20230722  ,I05        ,30      ,  1,24         ,24         ,2,20230730,0936, -31.8029, 103.4499,     5255,    467.4,2,  10.1487,2,  34.7725,2,  34.7722,2,    239.0,2,    238.6,2,     3.71,2,    13.89,2,     0.00,2,     1.01,2,    2.957,2,    1.870,2,   2.4800,2,   2135.9,2,   2294.9,2,   7.7686,6,    24.99,2,     -999,1,  10.1479,2,     -999,9,     -999,9,     -999,9,     -999,9,     -999,1,   4.7368,1,   0.0114,1,     12.6,2,     -999,9,     -999,9,     -999,9,     -999,9,20230730,1124, -31.8029, 103.4499,-999          ,9,-999          ,9
33RR20230722  ,I05        ,30      ,  1,23         ,23         ,2,20230730,0936, -31.8029, 103.4499,     5255,    578.9,2,   9.4906,2,  34.6972,2,  34.6987,2,    237.4,2,    237.4,2,     4.39,2,    16.16,2,     0.00,2,     1.13,2,     -999,9,     -999,9,     -999,9,   2140.1,2,   2291.4,6,   7.7497,2,    24.99,2,     -999,1,   9.4956,2,     -999,9,     -999,9,     -999,9,     -999,9,     -999,1,   4.3696,1,   0.0114,1,     -999,9,     -999,9,     -999,9,     -999,9,     -999,9,20230730,1121, -31.8029, 103.4500,-999          ,9,-999          ,9
33RR20230722  ,I05        ,30      ,  1,22         ,22         ,2,20230730,0936, -31.8029, 103.4499,     5255,    686.4,2,   8.8014,2,  34.6116,2,  34.6128,2,    230.7,2,    230.5,2,     6.25,2,    18.64,2,     0.00,2,     1.28,2,     -999,9,     -999,9,     -999,9,   2144.6,2,   2288.2,2,   7.7284,2,    24.99,2,     -999,1,   8.8367,2,     -999,9,     -999,9,     -999,9,     -999,9,     -999,1,   4.9370,1,   0.0114,1,     -999,9,     -999,9,     -999,9,     -999,9,     -999,9,20230730,1119, -31.8029, 103.4499,-999          ,9,-999          ,9
33RR20230722  ,I05        ,30      ,  1,21         ,21         ,2,20230730,0936, -31.8029, 103.4499,     5255,    786.8,2,   7.4240,2,  34.4905,2,  34.4932,2,    204.3,2,    205.3,2,    13.67,2,    23.93,2,     0.00,2,     1.63,2,    2.667,2,    1.556,2,   1.2000,2,   2167.0,2,   2287.2,2,   7.6752,2,    24.99,2,     -999,1,   7.4730,2,     -999,9,     -999,9,     -999,9,     -999,9,     -999,1,   4.9685,1,   0.0114,1,     16.7,2,     -999,9,     -999,9,     -999,9,     -999,9,20230730,1116, -31.8029, 103.4499,-999          ,9,-999          ,9
33RR20230722  ,I05        ,30      ,  1,20         ,20         ,2,20230730,0936, -31.8029, 103.4499,     5255,    893.1,2,   5.7506,2,  34.3925,2,  34.3951,2,    195.1,2,    196.4,2,    25.87,2,    28.48,2,     0.00,2,     1.99,2,    2.143,2,    1.193,2,   0.4200,2,   2186.6,2,   2291.3,2,   7.6288,2,    24.99,2,     -999,1,   5.7277,2,     -999,9,     -999,9,     -999,9,     -999,9,     -999,1,   4.9700,1,   0.0113,1,     19.1,2,     -999,9,     -999,9,     -999,9,     -999,9,20230730,1113, -31.8029, 103.4499,-999          ,9,-999          ,9
33RR20230722  ,I05        ,30      ,  1,19         ,19         ,2,20230730,0936, -31.8029, 103.4499,     5255,   1021.9,2,   4.6390,2,  34.3874,2,  34.3862,2,    185.4,2,    186.4,2,    39.63,2,    31.33,2,     0.00,2,     2.17,2,     -999,9,     -999,9,     -999,9,   2210.8,2,   2302.6,2,   7.6014,2,    25.00,2,     -999,1,   4.6370,2,     -999,9,     -999,9,     -999,9,     -999,9,     -999,1,   4.9719,1,   0.0113,1,     -999,9,     -999,9,     -999,9,     -999,9,     -999,9,20230730,1110, -31.8029, 103.4499,-999          ,9,-999          ,9
33RR20230722  ,I05        ,30      ,  1,18         ,18         ,2,20230730,0936, -31.8029, 103.4499,     5255,   1186.7,2,   3.8453,2,  34.4612,2,  34.4608,2,    163.7,2,    163.9,2,    60.81,2,    33.64,2,     0.00,2,     2.39,2,     -999,9,     -999,9,     -999,9,   2239.2,2,   2324.0,2,   7.5697,2,    24.99,2,     -999,1,   3.8471,2,     -999,9,     -999,9,     -999,9,     -999,9,     -999,1,   4.9736,1,   0.0112,1,     -999,9,     -999,9,     -999,9,     -999,9,     -999,9,20230730,1106, -31.8029, 103.4499,-999          ,9,-999          ,9
33RR20230722  ,I05        ,30      ,  1,17         ,17         ,2,20230730,0936, -31.8029, 103.4499,     5255,   1319.9,2,   3.5380,2,  34.5111,2,  34.5117,2,    155.0,2,    154.8,2,    69.89,2,    34.57,2,     0.00,2,     2.43,2,    0.436,2,    0.225,2,   0.0600,2,   2253.4,2,   2333.9,2,   7.5594,2,    24.98,2,     -999,1,   3.5338,2,     -999,9,     -999,9,     -999,9,     -999,9,     -999,1,   4.9743,1,   0.0120,1,     23.9,2,     -999,9,     -999,9,     -999,9,     -999,9,20230730,1102, -31.8029, 103.4499,-999          ,9,-999          ,9
33RR20230722  ,I05        ,30      ,  1,16         ,16         ,2,20230730,0936, -31.8029, 103.4499,     5255,   1452.0,2,   3.2469,2,  34.5747,2,  34.5734,2,    149.1,2,    148.6,2,    80.03,2,    34.85,2,     0.00,2,     2.46,2,     -999,9,     -999,9,     -999,9,   2267.1,2,   2344.3,2,   7.5556,2,    24.98,2,     -999,1,   3.2468,2,     -999,9,     -999,9,     -999,9,     -999,9,     -999,1,   4.9104,1,   0.0118,1,     -999,9,     -999,9,     -999,9,     -999,9,     -999,9,20230730,1059, -31.8029, 103.4499,-999          ,9,-999          ,9
33RR20230722  ,I05        ,30      ,  1,15         ,15         ,2,20230730,0936, -31.8029, 103.4499,     5255,   1588.3,2,   3.0152,2,  34.6111,2,  34.6097,2,    151.0,2,    150.6,2,    86.08,2,    34.49,2,     0.00,2,     2.50,2,    0.070,2,    0.049,2,   0.0500,2,   2269.7,6,   2352.4,2,   7.5603,2,    24.98,2,     -999,1,   3.0154,2,     -999,9,     -999,9,     -999,9,     -999,9,     -999,1,   4.9751,1,   0.0118,1,     23.6,2,     -999,9,     -999,9,     -999,9,     -999,9,20230730,1056, -31.8029, 103.4499,-999          ,9,-999          ,9
33RR20230722  ,I05        ,30      ,  1,14         ,14         ,2,20230730,0936, -31.8029, 103.4499,     5255,   1738.1,2,   2.8389,2,  34.6423,2,  34.6413,2,    153.6,2,    153.1,2,    90.86,2,    34.29,2,     0.00,2,     2.47,2,     -999,9,     -999,9,     -999,9,   2272.9,2,   2353.8,2,   7.5672,2,    24.98,2,     -999,1,   2.8390,2,     -999,9,     -999,9,     -999,9,     -999,9,     -999,1,   4.9633,1,   0.0123,1,     -999,9,     -999,9,     -999,9,     -999,9,     -999,9,20230730,1052, -31.8029, 103.4499,-999          ,9,-999          ,9
33RR20230722  ,I05        ,30      ,  1,13         ,13         ,2,20230730,0936, -31.8029, 103.4499,     5255,   1900.8,2,   2.6652,2,  34.6731,2,  34.6728,2,    156.1,2,    155.9,2,    94.67,2,    33.87,2,     0.00,2,     2.41,2,    0.010,2,    0.020,2,  -0.0200,2,   2275.2,2,   2361.6,2,   7.5729,2,    24.99,2,     -999,1,   2.6656,2,     -999,9,     -999,9,     -999,9,     -999,9,     -999,1,   4.9754,1,   0.0114,1,     23.1,2,     -999,9,     -999,9,     -999,9,     -999,9,20230730,1048, -31.8029, 103.4499,-999          ,9,-999          ,9
33RR20230722  ,I05        ,30      ,  1,12         ,12         ,2,20230730,0936, -31.8029, 103.4499,     5255,   2172.0,2,   2.3494,2,  34.7093,2,  34.7085,2,    167.7,2,    167.4,2,    98.96,2,    33.02,2,     0.00,2,     2.33,2,     -999,9,     -999,9,     -999,9,   2272.9,2,   2363.7,2,   7.5896,2,    24.98,2,     -999,1,   2.3501,2,     -999,9,     -999,9,     -999,9,     -999,9,     -999,1,   4.9752,1,   0.0112,1,     -999,9,     -999,9,     -999,9,     -999,9,     -999,9,20230730,1043, -31.8029, 103.4499,-999          ,9,-999          ,9
33RR20230722  ,I05        ,30      ,  1,11         ,11         ,2,20230730,0936, -31.8029, 103.4499,     5255,   2325.8,2,   2.1955,2,  34.7227,2,  34.7217,2,    177.8,2,    178.0,2,    95.15,2,    32.09,2,     0.00,2,     2.26,2,     -999,9,     -999,9,     -999,9,   2263.1,2,   2358.1,2,   7.6014,2,    25.00,2,     -999,1,   2.1939,2,     -999,9,     -999,9,     -999,9,     -999,9,     -999,1,   4.9564,1,   0.0118,1,     -999,9,     -999,9,     -999,9,     -999,9,     -999,9,20230730,1039, -31.8029, 103.4499,-999          ,9,-999          ,9
33RR20230722  ,I05        ,30      ,  1,10         ,10         ,2,20230730,0936, -31.8029, 103.4499,     5255,   2511.0,2,   1.9820,2,  34.7348,2,  34.7335,2,    186.5,2,    187.1,2,    95.93,2,    31.42,2,     0.00,2,     2.19,2,     -999,9,     -999,9,     -999,9,   2259.2,2,   2359.9,2,   7.6114,2,    24.97,2,     -999,1,   1.9815,2,     -999,9,     -999,9,     -999,9,     -999,9,     -999,1,   4.9749,1,   0.0111,1,     -999,9,     -999,9,     -999,9,     -999,9,     -999,9,20230730,1035, -31.8029, 103.4499,-999          ,9,-999          ,9
33RR20230722  ,I05        ,30      ,  1,9          ,9          ,2,20230730,0936, -31.8029, 103.4499,     5255,   2874.6,2,   1.6652,2,  34.7359,2,  34.7343,2,    194.5,2,    195.2,2,   102.96,2,    31.41,2,     0.00,2,     2.20,2,     -999,9,     -999,9,     -999,9,   2257.8,2,   2359.5,2,   7.6162,6,    24.99,2,     -999,1,   1.6655,2,     -999,9,     -999,9,     -999,9,     -999,9,     -999,1,   4.9752,1,   0.0112,1,     -999,9,     -999,9,     -999,9,     -999,9,     -999,9,20230730,1028, -31.8029, 103.4499,-999          ,9,-999          ,9
33RR20230722  ,I05        ,30      ,  1,8          ,8          ,2,20230730,0936, -31.8029, 103.4499,     5255,   3263.0,2,   1.3430,2,  34.7271,2,  34.7260,2,    200.4,2,    201.2,2,   110.38,2,    31.66,2,     0.00,2,     2.19,2,    0.043,2,    0.039,2,   0.0000,2,   2261.3,2,   2363.2,6,   7.6178,2,    25.00,2,     -999,1,   1.3433,2,     -999,9,     -999,9,     -999,9,     -999,9,     -999,1,   4.9756,1,   0.0111,1,     18.9,2,     -999,9,     -999,9,     -999,9,     -999,9,20230730,1020, -31.8029, 103.4499,-999          ,9,-999          ,9
33RR20230722  ,I05        ,30      ,  1,7          ,7          ,2,20230730,0936, -31.8029, 103.4499,     5255,   3676.5,2,   1.1359,2,  34.7174,2,  34.7170,2,    203.3,2,    203.7,2,   117.01,2,    31.89,2,     0.00,2,     2.20,2,     -999,9,     -999,9,     -999,9,   2265.1,2,   2370.4,2,   7.6203,2,    24.98,2,     -999,1,   1.1361,2,     -999,9,     -999,9,     -999,9,     -999,9,     -999,1,   4.9759,1,   0.0111,1,     -999,9,     -999,9,     -999,9,     -999,9,     -999,9,20230730,1012, -31.8029, 103.4500,-999          ,9,-999          ,9
33RR20230722  ,I05        ,30      ,  1,6          ,6          ,2,20230730,0936, -31.8029, 103.4499,     5255,   4137.7,2,   1.0622,2,  34.7120,2,  34.7109,2,    205.1,2,    205.4,2,   120.04,2,    32.13,2,     0.00,2,     2.23,2,    0.084,2,    0.054,2,  -0.0200,2,   2268.1,2,   2370.7,2,   7.6210,6,    24.98,2,     -999,1,   1.0623,2,     -999,9,     -999,9,     -999,9,     -999,9,     -999,1,   4.8392,1,   0.0112,1,     18.9,2,     -999,9,     -999,9,     -999,9,     -999,9,20230730,1003, -31.8029, 103.4499,-999          ,9,-999          ,9
33RR20230722  ,I05        ,30      ,  1,5          ,5          ,2,20230730,0936, -31.8029, 103.4499,     5255,   4510.7,2,   1.0383,2,  34.7089,2,  34.7083,2,    206.2,2,    206.6,2,   120.82,2,    32.08,2,     0.00,2,     2.23,2,     -999,9,     -999,9,     -999,9,   2266.4,2,   2370.6,2,   7.6198,2,    24.99,2,     -999,1,   1.0383,2,     -999,9,     -999,9,     -999,9,     -999,9,     -999,1,   4.9766,1,   0.0112,1,     -999,9,     -999,9,     -999,9,     -999,9,     -999,9,20230730,0956, -31.8029, 103.4499,-999          ,9,-999          ,9
33RR20230722  ,I05        ,30      ,  1,4          ,37         ,2,20230730,0936, -31.8029, 103.4499,     5255,   4977.0,2,   1.0355,2,  34.7058,2,  34.7058,2,    207.2,2,    207.3,2,   123.16,2,    32.09,2,     0.00,2,     2.23,2,    0.138,2,    0.074,2,   0.0300,2,   2266.6,2,   2370.8,2,   7.6180,2,    24.98,2,     -999,1,   1.0354,2,     -999,9,     -999,9,     -999,9,     -999,9,     -999,1,   4.9771,1,   0.0118,1,     18.6,2,     -999,9,     -999,9,     -999,9,     -999,9,20230730,0947, -31.8029, 103.4499,-999          ,9,-999          ,9
33RR20230722  ,I05        ,30      ,  1,3          ,3          ,2,20230730,0936, -31.8029, 103.4499,     5255,   5182.3,2,   1.0479,2,  34.7052,2,  34.7050,2,    207.5,2,    207.3,2,   123.84,2,    32.26,2,     0.00,2,     2.23,2,    0.159,2,    0.083,2,   0.0700,2,   2267.0,2,   2370.9,2,   7.6172,2,    24.99,2,     -999,1,   1.0481,2,     -999,9,     -999,9,     -999,9,     -999,9,     -999,1,   4.9774,1,   0.0111,1,     18.2,2,     -999,9,     -999,9,     -999,9,     -999,9,20230730,0942, -31.8029, 103.4499,-999          ,9,-999          ,9