BOTTLE,20240422CCHHYDRO
EXPOCODE,SECT_ID,STNNBR,CASTNO,SAMPNO,BTLNBR,BTLNBR_FLAG_W,DATE,TIME,LATITUDE,LONGITUDE,DEPTH,CTDPRS,CTDPRS_FLAG_W,CTDTMP,CTDTMP_FLAG_W,CTDSAL,CTDSAL_FLAG_W,SALNTY,SALNTY_FLAG_W,CTDOXY,CTDOXY_FLAG_W,OXYGEN,OXYGEN_FLAG_W,SILCAT,SILCAT_FLAG_W,NITRAT,NITRAT_FLAG_W,NITRIT,NITRIT_FLAG_W,PHSPHT,PHSPHT_FLAG_W,CFC-11,CFC-11_FLAG_W,CFC-12,CFC-12_FLAG_W,SF6,SF6_FLAG_W,TCARBN,TCARBN_FLAG_W,ALKALI,ALKALI_FLAG_W,PH_TOT,PH_TOT_FLAG_W,PH_TMP,PH_TMP_FLAG_W,DOC,DOC_FLAG_W,REFTMP,REFTMP_FLAG_W,POC,POC_FLAG_W,PON,PON_FLAG_W,POP,POP_FLAG_W,DOP,DOP_FLAG_W,DELO18,DELO18_FLAG_W,CTDFLUOR,CTDFLUOR_FLAG_W,CTDXMISS,CTDXMISS_FLAG_W,N2O,N2O_FLAG_W,D15N_NO3,D15N_NO3_FLAG_W,D15N_NO2+NO3,D15N_NO2+NO3_FLAG_W,D18O_NO2+NO3,D18O_NO2+NO3_FLAG_W,D18O_NO3,D18O_NO3_FLAG_W,BTL_DATE,BTL_TIME,BTL_LAT,BTL_LON,HPLC,HPLC_FLAG_W,DNA,DNA_FLAG_W
,,,,,,,,,,,METERS,DBAR,,ITS-90,,PSS-78,,PSS-78,,UMOL/KG,,UMOL/KG,,UMOL/KG,,UMOL/KG,,UMOL/KG,,UMOL/KG,,PMOL/KG,,PMOL/KG,,FMOL/KG,,UMOL/KG,,UMOL/KG,,,,DEG C,,UMOL/KG,,ITS-90,,UG/KG,,UG/KG,,UG/L,,UMOL/KG,,/MILLE,,VOLTS,,VOLTS,,NMOL/KG,,/MILLE,,/MILLE,,/MILLE,,/MILLE,,,,,,,,,
33RR20230722  ,I05        ,149     ,  1,36         ,38         ,2,20230830,1941, -33.4574,  48.0225,     3860,      6.4,2,  16.9951,2,  35.6157,2,  35.6159,2,    243.4,2,    241.9,2,     2.24,2,     1.11,2,     0.13,2,     0.19,2,    1.636,4,    1.323,2,   2.2800,2,   2080.2,6,   2335.3,2,   7.9553,6,    25.01,2,     -999,1,     -999,1,     -999,9,     -999,9,     -999,9,     -999,9,     -999,9,   4.9753,1,   0.0442,1,      7.5,2,     -999,9,     -999,9,     -999,9,     -999,9,20230830,2130, -33.4574,  48.0225,-999          ,9,-999          ,9
33RR20230722  ,I05        ,149     ,  1,35         ,35         ,2,20230830,1941, -33.4574,  48.0225,     3860,     17.2,2,  16.9970,2,  35.6144,2,  35.6127,2,    243.2,2,    242.3,2,     2.15,2,     1.07,2,     0.14,2,     0.22,2,    2.335,4,    1.285,2,   2.3400,2,   2079.3,2,   2335.0,2,   7.9546,2,    25.02,2,     -999,9,     -999,1,     -999,9,     -999,9,     -999,9,     -999,9,     -999,9,   4.7978,1,   0.0449,1,      8.1,2,     -999,9,     -999,9,     -999,9,     -999,9,20230830,2128, -33.4574,  48.0225,-999          ,9,-999          ,9
33RR20230722  ,I05        ,149     ,  1,34         ,34         ,2,20230830,1941, -33.4574,  48.0225,     3860,     32.2,2,  16.9583,2,  35.6091,2,  35.6086,2,    242.2,2,    241.6,2,     2.24,2,     1.11,2,     0.15,2,     0.20,2,     -999,9,     -999,9,     -999,9,   -999.0,9,     -999,9,     -999,9,     -999,9,     -999,9,     -999,1,     -999,9,     -999,9,     -999,9,     -999,9,     -999,9,   4.9748,1,   0.0445,1,     -999,9,     -999,9,     -999,9,     -999,9,     -999,9,20230830,2127, -33.4574,  48.0225,-999          ,9,-999          ,9
33RR20230722  ,I05        ,149     ,  1,33         ,33         ,2,20230830,1941, -33.4574,  48.0225,     3860,     49.2,2,  16.9582,2,  35.6095,2,  35.6098,2,    241.6,2,    240.7,2,     2.24,2,     1.14,2,     0.16,2,     0.20,2,    3.271,4,    1.290,2,   2.2500,2,   2083.2,2,   2334.7,6,   7.9507,6,    25.01,2,     -999,9,     -999,1,     -999,9,     -999,9,     -999,9,     -999,9,     -999,9,   4.9746,1,   0.0464,1,      7.4,2,     -999,9,     -999,9,     -999,9,     -999,9,20230830,2125, -33.4574,  48.0225,-999          ,9,-999          ,9
33RR20230722  ,I05        ,149     ,  1,32         ,32         ,2,20230830,1941, -33.4574,  48.0225,     3860,     68.8,2,  16.9430,2,  35.6063,2,  35.6072,2,    239.8,2,    239.6,2,     2.34,2,     1.27,2,     0.20,2,     0.18,2,     -999,9,     -999,9,     -999,9,   2080.4,2,   2334.6,2,   7.9473,2,    24.99,2,     -999,9,     -999,1,     -999,9,     -999,9,     -999,9,     -999,9,     -999,9,   4.9743,1,   0.0353,1,     -999,9,     -999,9,     -999,9,     -999,9,     -999,9,20230830,2123, -33.4574,  48.0226,-999          ,9,-999          ,9
33RR20230722  ,I05        ,149     ,  1,31         ,31         ,2,20230830,1941, -33.4574,  48.0225,     3860,     91.1,2,  16.9178,2,  35.6011,2,  35.6011,2,    237.7,2,    237.6,2,     2.44,2,     1.56,2,     0.26,2,     0.20,2,    3.407,4,    1.343,6,   2.2700,6,   2084.4,2,   2334.4,2,   7.9456,2,    25.02,2,     -999,9,     -999,1,     -999,9,     -999,9,     -999,9,     -999,9,     -999,9,   4.9733,1,   0.0259,1,      8.0,6,     -999,9,     -999,9,     -999,9,     -999,9,20230830,2121, -33.4573,  48.0225,-999          ,9,-999          ,9
33RR20230722  ,I05        ,149     ,  1,30         ,30         ,2,20230830,1941, -33.4574,  48.0225,     3860,    113.9,2,  16.8537,2,  35.6015,2,  35.6025,2,    234.9,2,    235.0,2,     2.44,2,     1.87,2,     0.21,2,     0.20,2,     -999,9,     -999,9,     -999,9,   2087.3,2,   2332.9,2,   7.9429,2,    25.04,2,     -999,9,     -999,1,     -999,9,     -999,9,     -999,9,     -999,9,     -999,9,   4.9725,1,   0.0194,1,     -999,9,     -999,9,     -999,9,     -999,9,     -999,9,20230830,2119, -33.4573,  48.0225,-999          ,9,-999          ,9
33RR20230722  ,I05        ,149     ,  1,29         ,29         ,2,20230830,1941, -33.4574,  48.0225,     3860,    137.0,2,  16.8432,2,  35.6024,2,  35.6017,2,    234.6,2,    234.7,2,     2.44,2,     1.96,2,     0.22,2,     0.20,2,    1.922,4,    1.266,2,   2.3400,2,   -999.0,9,     -999,9,     -999,9,     -999,9,     -999,9,     -999,1,     -999,9,     -999,9,     -999,9,     -999,9,     -999,9,   4.9616,1,   0.0168,1,      7.8,2,     -999,9,     -999,9,     -999,9,     -999,9,20230830,2117, -33.4573,  48.0225,-999          ,9,-999          ,9
33RR20230722  ,I05        ,149     ,  1,28         ,28         ,2,20230830,1941, -33.4574,  48.0225,     3860,    158.7,2,  16.8317,2,  35.5990,2,  35.5991,2,    234.0,2,    234.2,2,     2.54,2,     2.08,2,     0.17,2,     0.22,2,     -999,9,     -999,9,     -999,9,   2087.1,2,   2332.6,2,   7.9416,2,    25.03,2,     -999,9,     -999,1,     -999,9,     -999,9,     -999,9,     -999,9,     -999,9,   4.9720,1,   0.0153,1,     -999,9,     -999,9,     -999,9,     -999,9,     -999,9,20230830,2116, -33.4574,  48.0225,-999          ,9,-999          ,9
33RR20230722  ,I05        ,149     ,  1,27         ,27         ,2,20230830,1941, -33.4574,  48.0225,     3860,    176.1,2,  16.8285,2,  35.6010,2,  35.6005,2,    233.9,2,    234.2,2,     2.54,2,     2.00,2,     0.20,2,     0.21,2,    3.499,4,    1.191,2,   2.2200,2,   -999.0,9,     -999,9,     -999,9,     -999,9,     -999,9,     -999,1,     -999,9,     -999,9,     -999,9,     -999,9,     -999,9,   4.9720,1,   0.0154,1,      7.7,2,     -999,9,     -999,9,     -999,9,     -999,9,20230830,2114, -33.4573,  48.0225,-999          ,9,-999          ,9
33RR20230722  ,I05        ,149     ,  1,26         ,26         ,2,20230830,1941, -33.4574,  48.0225,     3860,    194.6,2,  16.6674,2,  35.5784,2,  35.5804,2,    225.1,3,    227.7,2,     2.63,2,     2.87,2,     0.07,2,     0.27,2,     -999,9,     -999,9,     -999,9,   2091.2,2,   2331.5,2,   7.9281,2,    25.01,2,     -999,9,     -999,1,     -999,9,     -999,9,     -999,9,     -999,9,     -999,9,   4.9706,1,   0.0127,1,     -999,9,     -999,9,     -999,9,     -999,9,     -999,9,20230830,2113, -33.4574,  48.0225,-999          ,9,-999          ,9
33RR20230722  ,I05        ,149     ,  1,25         ,25         ,2,20230830,1941, -33.4574,  48.0225,     3860,    217.2,2,  16.3202,2,  35.5400,2,  35.5364,2,    213.2,3,    216.9,2,     2.93,2,     4.35,2,     0.02,2,     0.35,2,    2.077,4,    1.337,2,   2.2500,2,   -999.0,9,     -999,9,     -999,9,     -999,9,     -999,9,     -999,1,     -999,9,     -999,9,     -999,9,     -999,9,     -999,9,   4.9683,1,   0.0115,1,      8.7,2,     -999,9,     -999,9,     -999,9,     -999,9,20230830,2111, -33.4574,  48.0225,-999          ,9,-999          ,9
33RR20230722  ,I05        ,149     ,  1,24         ,24         ,2,20230830,1941, -33.4574,  48.0225,     3860,    248.4,2,  15.9015,2,  35.5080,2,  35.5076,2,    218.6,2,    220.6,2,     3.12,2,     4.58,2,     0.07,2,     0.38,2,     -999,9,     -999,9,     -999,9,   2104.1,2,   2329.1,2,   7.8989,2,    25.01,2,     -999,9,  15.9012,2,     -999,9,     -999,9,     -999,9,     -999,9,     -999,9,   4.6612,1,   0.0120,1,     -999,9,     -999,9,     -999,9,     -999,9,     -999,9,20230830,2109, -33.4574,  48.0225,-999          ,9,-999          ,9
33RR20230722  ,I05        ,149     ,  1,23         ,23         ,2,20230830,1941, -33.4574,  48.0225,     3860,    292.0,2,  15.6581,2,  35.5208,2,  35.5202,2,    237.8,2,    237.4,2,     2.73,2,     3.48,2,     0.02,2,     0.30,2,    5.951,4,    1.336,2,   2.3100,2,   -999.0,9,     -999,9,     -999,9,     -999,9,     -999,9,  15.6553,2,     -999,9,     -999,9,     -999,9,     -999,9,     -999,9,   4.8153,1,   0.0122,1,      8.5,2,     -999,9,     -999,9,     -999,9,     -999,9,20230830,2107, -33.4574,  48.0226,-999          ,9,-999          ,9
33RR20230722  ,I05        ,149     ,  1,22         ,22         ,2,20230830,1941, -33.4574,  48.0225,     3860,    355.5,2,  15.2657,2,  35.4629,2,  35.4632,2,    230.9,2,    231.5,2,     2.93,2,     4.53,2,     0.00,2,     0.38,2,    8.622,4,    1.289,2,   2.2500,2,   2104.5,2,   2327.7,2,   7.8985,2,    25.03,2,     -999,9,  15.2663,2,     -999,9,     -999,9,     -999,9,     -999,9,     -999,9,   4.9694,1,   0.0118,1,      8.5,2,     -999,9,     -999,9,     -999,9,     -999,9,20230830,2105, -33.4574,  48.0225,-999          ,9,-999          ,9
33RR20230722  ,I05        ,149     ,  1,21         ,21         ,2,20230830,1941, -33.4574,  48.0225,     3860,    431.0,2,  13.9826,2,  35.3039,2,  35.3053,2,    215.3,2,    216.3,2,     3.71,2,     8.04,2,     0.00,2,     0.60,2,    2.472,4,    1.442,2,   2.1000,2,   2125.7,2,   2320.7,2,   7.8440,2,    25.01,2,     -999,9,  14.0032,2,     -999,9,     -999,9,     -999,9,     -999,9,     -999,9,   4.9557,1,   0.0118,1,      9.9,2,     -999,9,     -999,9,     -999,9,     -999,9,20230830,2103, -33.4573,  48.0225,-999          ,9,-999          ,9
33RR20230722  ,I05        ,149     ,  1,20         ,20         ,2,20230830,1941, -33.4574,  48.0225,     3860,    505.8,2,  13.1556,2,  35.2165,2,  35.2162,2,    218.8,2,    219.3,2,     3.90,2,     9.51,2,     0.00,2,     0.69,2,    6.321,4,    1.612,2,   2.0300,2,   -999.0,9,     -999,9,     -999,9,     -999,9,     -999,9,  13.1533,2,     -999,9,     -999,9,     -999,9,     -999,9,     -999,9,   4.9537,1,   0.0118,1,     10.5,2,     -999,9,     -999,9,     -999,9,     -999,9,20230830,2100, -33.4574,  48.0226,-999          ,9,-999          ,9
33RR20230722  ,I05        ,149     ,  1,19         ,19         ,2,20230830,1941, -33.4574,  48.0225,     3860,    588.1,2,  12.1960,2,  35.0809,2,  35.0799,2,    221.5,2,    221.4,2,     4.29,2,    11.45,2,     0.00,2,     0.82,2,    7.063,4,    1.587,2,   2.0000,2,   2133.4,2,   2309.5,2,   7.8058,2,    25.01,2,     -999,9,  12.1890,2,     -999,9,     -999,9,     -999,9,     -999,9,     -999,9,   4.9166,1,   0.0115,1,     11.0,2,     -999,9,     -999,9,     -999,9,     -999,9,20230830,2057, -33.4574,  48.0225,-999          ,9,-999          ,9
33RR20230722  ,I05        ,149     ,  1,18         ,18         ,2,20230830,1941, -33.4574,  48.0225,     3860,    681.8,2,  11.2537,2,  34.9433,2,  34.9427,2,    221.2,2,    220.8,2,     4.98,2,    13.60,2,     0.00,2,     0.97,2,    2.865,4,    1.745,2,   1.9100,2,   -999.0,9,     -999,9,     -999,9,     -999,9,     -999,9,  11.2498,2,     -999,9,     -999,9,     -999,9,     -999,9,     -999,9,   4.9665,1,   0.0116,1,     11.6,2,     -999,9,     -999,9,     -999,9,     -999,9,20230830,2055, -33.4574,  48.0225,-999          ,9,-999          ,9
33RR20230722  ,I05        ,149     ,  1,17         ,17         ,2,20230830,1941, -33.4574,  48.0225,     3860,    790.7,2,   9.8267,2,  34.7567,2,  34.7573,2,    216.6,2,    216.4,2,     7.51,2,    17.37,2,     0.00,2,     1.20,2,    4.992,4,    1.799,2,   1.6100,2,   2150.1,2,   2295.5,2,   7.7450,2,    25.02,2,     -999,9,   9.8230,2,     -999,9,     -999,9,     -999,9,     -999,9,     -999,9,   4.8965,1,   0.0112,1,     12.9,2,     -999,9,     -999,9,     -999,9,     -999,9,20230830,2052, -33.4573,  48.0225,-999          ,9,-999          ,9
33RR20230722  ,I05        ,149     ,  1,16         ,16         ,2,20230830,1941, -33.4574,  48.0225,     3860,    906.8,2,   8.1585,2,  34.5786,2,  34.5800,2,    210.0,2,    210.3,2,    12.59,2,    21.98,2,     0.00,2,     1.50,2,     -999,9,     -999,9,     -999,9,   -999.0,9,     -999,9,     -999,9,     -999,9,     -999,9,   8.1789,2,     -999,9,     -999,9,     -999,9,     -999,9,     -999,9,   4.8222,1,   0.0111,1,     -999,9,     -999,9,     -999,9,     -999,9,     -999,9,20230830,2048, -33.4574,  48.0225,-999          ,9,-999          ,9
33RR20230722  ,I05        ,149     ,  1,15         ,15         ,2,20230830,1941, -33.4574,  48.0225,     3860,   1023.2,2,   6.3855,2,  34.4324,2,  34.4324,2,    207.5,2,    207.4,2,    20.30,2,    26.50,2,     0.00,2,     1.81,2,    3.396,4,    1.380,2,   1.2600,2,   2182.7,2,   2292.0,2,   7.6495,2,    25.00,2,     -999,9,   6.3783,2,     -999,9,     -999,9,     -999,9,     -999,9,     -999,9,   4.6912,1,   0.0115,1,     16.6,2,     -999,9,     -999,9,     -999,9,     -999,9,20230830,2045, -33.4574,  48.0225,-999          ,9,-999          ,9
33RR20230722  ,I05        ,149     ,  1,14         ,14         ,2,20230830,1941, -33.4574,  48.0225,     3860,   1148.4,2,   5.0299,2,  34.3655,2,  34.3649,2,    206.0,2,    206.4,2,    29.29,2,    29.47,2,     0.00,2,     2.03,2,     -999,9,     -999,9,     -999,9,   2197.0,2,   2295.0,2,   7.6214,2,    25.02,2,     -999,9,   5.0252,2,     -999,9,     -999,9,     -999,9,     -999,9,     -999,9,   4.3084,1,   0.0113,1,     -999,9,     -999,9,     -999,9,     -999,9,     -999,9,20230830,2042, -33.4573,  48.0225,-999          ,9,-999          ,9
33RR20230722  ,I05        ,149     ,  1,13         ,13         ,2,20230830,1941, -33.4574,  48.0225,     3860,   1282.2,2,   4.1570,2,  34.3952,2,  34.3947,2,    192.5,2,    192.6,2,    42.07,2,    31.79,2,     0.00,2,     2.19,2,   10.194,4,    0.882,2,   0.6600,2,   2216.5,6,   2307.4,2,   7.5948,2,    25.00,2,     -999,9,   4.1561,2,     -999,9,     -999,9,     -999,9,     -999,9,     -999,9,   4.7146,1,   0.0112,1,     18.7,2,     -999,9,     -999,9,     -999,9,     -999,9,20230830,2039, -33.4574,  48.0225,-999          ,9,-999          ,9
33RR20230722  ,I05        ,149     ,  1,12         ,12         ,2,20230830,1941, -33.4574,  48.0225,     3860,   1421.6,2,   3.6034,2,  34.4504,2,  34.4498,2,    181.9,2,    181.9,2,    52.91,2,    33.09,2,     0.00,2,     2.28,2,     -999,9,     -999,9,     -999,9,   2233.7,2,   2315.9,2,   7.5776,2,    25.02,2,     -999,9,   3.6029,2,     -999,9,     -999,9,     -999,9,     -999,9,     -999,9,   4.9727,1,   0.0113,1,     -999,9,     -999,9,     -999,9,     -999,9,     -999,9,20230830,2035, -33.4574,  48.0225,-999          ,9,-999          ,9
33RR20230722  ,I05        ,149     ,  1,11         ,11         ,2,20230830,1941, -33.4574,  48.0225,     3860,   1567.3,2,   3.2402,2,  34.5301,2,  34.5309,2,    174.9,2,    174.6,2,    63.35,2,    33.34,2,     0.00,2,     2.30,2,    2.588,4,    0.381,2,   0.1800,2,   -999.0,9,     -999,9,     -999,9,     -999,9,     -999,9,   3.2402,2,     -999,9,     -999,9,     -999,9,     -999,9,     -999,9,   4.9645,1,   0.0112,1,     20.8,2,     -999,9,     -999,9,     -999,9,     -999,9,20230830,2032, -33.4574,  48.0225,-999          ,9,-999          ,9
33RR20230722  ,I05        ,149     ,  1,10         ,10         ,2,20230830,1941, -33.4574,  48.0225,     3860,   1717.6,2,   2.9690,2,  34.6045,2,  34.6040,2,    175.5,2,    175.7,2,    67.05,2,    32.79,2,     0.00,2,     2.25,2,     -999,9,     -999,9,     -999,9,   2247.9,2,   2334.7,2,   7.5824,2,    25.01,2,     -999,9,   2.9676,2,     -999,9,     -999,9,     -999,9,     -999,9,     -999,9,   4.9738,1,   0.0113,1,     -999,9,     -999,9,     -999,9,     -999,9,     -999,9,20230830,2028, -33.4573,  48.0225,-999          ,9,-999          ,9
33RR20230722  ,I05        ,149     ,  1,9          ,9          ,2,20230830,1941, -33.4574,  48.0225,     3860,   1891.5,2,   2.7058,2,  34.6471,2,  34.6468,2,    178.8,2,    178.9,2,    73.88,2,    32.27,2,     0.00,2,     2.24,2,    2.326,4,    0.136,2,   0.0800,2,   -999.0,9,     -999,9,     -999,9,     -999,9,     -999,9,   2.7038,2,     -999,9,     -999,9,     -999,9,     -999,9,     -999,9,   4.9734,1,   0.0120,1,     19.8,2,     -999,9,     -999,9,     -999,9,     -999,9,20230830,2024, -33.4574,  48.0225,-999          ,9,-999          ,9
33RR20230722  ,I05        ,149     ,  1,8          ,8          ,2,20230830,1941, -33.4574,  48.0225,     3860,   2107.3,2,   2.4948,2,  34.6999,2,  34.6995,2,    183.5,2,    183.7,2,    79.25,2,    31.44,2,     0.00,2,     2.19,2,     -999,9,     -999,9,     -999,9,   2251.8,2,   2348.4,2,   7.6058,6,    25.00,2,     -999,9,   2.4947,2,     -999,9,     -999,9,     -999,9,     -999,9,     -999,9,   4.9740,1,   0.0117,1,     -999,9,     -999,9,     -999,9,     -999,9,     -999,9,20230830,2019, -33.4573,  48.0225,-999          ,9,-999          ,9
33RR20230722  ,I05        ,149     ,  1,7          ,7          ,2,20230830,1941, -33.4574,  48.0225,     3860,   2365.3,2,   2.3194,2,  34.7422,2,  34.7416,2,    191.5,2,    191.6,2,    81.30,2,    30.39,2,     0.00,2,     2.09,2,    0.309,4,    0.041,2,   0.0700,2,   -999.0,9,     -999,9,     -999,9,     -999,9,     -999,9,   2.3186,2,     -999,9,     -999,9,     -999,9,     -999,9,     -999,9,   4.9439,1,   0.0113,1,     17.9,2,     -999,9,     -999,9,     -999,9,     -999,9,20230830,2014, -33.4573,  48.0225,-999          ,9,-999          ,9
33RR20230722  ,I05        ,149     ,  1,6          ,6          ,2,20230830,1941, -33.4574,  48.0225,     3860,   2672.0,2,   2.0924,2,  34.7609,2,  34.7596,2,    198.9,2,    199.3,2,    84.81,2,    29.77,2,     0.00,2,     2.07,2,     -999,9,     -999,9,     -999,9,   2246.2,2,   2354.3,2,   7.6305,2,    25.01,2,     -999,9,   2.0926,2,     -999,9,     -999,9,     -999,9,     -999,9,     -999,9,   4.8828,1,   0.0113,1,     -999,9,     -999,9,     -999,9,     -999,9,     -999,9,20230830,2007, -33.4574,  48.0225,-999          ,9,-999          ,9
33RR20230722  ,I05        ,149     ,  1,5          ,5          ,2,20230830,1941, -33.4574,  48.0225,     3860,   3009.9,2,   1.7327,2,  34.7440,2,  34.7435,2,    198.7,2,    199.1,2,    98.28,2,    30.86,2,     0.00,2,     2.14,2,    0.154,4,    0.035,2,   0.0000,2,   -999.0,9,     -999,9,     -999,9,     -999,9,     -999,9,   1.7330,2,     -999,9,     -999,9,     -999,9,     -999,9,     -999,9,   4.9552,1,   0.0119,1,     17.2,2,     -999,9,     -999,9,     -999,9,     -999,9,20230830,2001, -33.4574,  48.0225,-999          ,9,-999          ,9
33RR20230722  ,I05        ,149     ,  1,4          ,37         ,2,20230830,1941, -33.4574,  48.0225,     3860,   3358.0,2,   1.3973,2,  34.7265,2,  34.7256,2,    200.5,2,    200.9,2,   109.99,2,    31.67,2,     0.00,2,     2.20,2,    0.523,4,    0.049,2,   0.0200,2,   2263.1,2,   2365.7,6,   7.6160,2,    25.00,2,     -999,9,   1.3994,2,     -999,9,     -999,9,     -999,9,     -999,9,     -999,9,   4.8637,1,   0.0111,1,     17.2,2,     -999,9,     -999,9,     -999,9,     -999,9,20230830,1953, -33.4574,  48.0225,-999          ,9,-999          ,9
33RR20230722  ,I05        ,149     ,  1,3          ,3          ,2,20230830,1941, -33.4574,  48.0225,     3860,   3635.5,2,   1.1900,2,  34.7161,2,  34.7150,2,    203.5,2,    203.8,2,   116.24,2,    31.98,2,     0.00,2,     2.22,2,    1.191,4,    0.071,2,  -0.0100,2,   2265.3,2,   2366.8,2,   7.6148,6,    25.00,2,     -999,9,   1.1897,2,     -999,9,     -999,9,     -999,9,     -999,9,     -999,9,   4.9755,1,   0.0111,1,     17.4,2,     -999,9,     -999,9,     -999,9,     -999,9,20230830,1948, -33.4573,  48.0225,-999          ,9,-999          ,9