BOTTLE,20240422CCHHYDRO
EXPOCODE,SECT_ID,STNNBR,CASTNO,SAMPNO,BTLNBR,BTLNBR_FLAG_W,DATE,TIME,LATITUDE,LONGITUDE,DEPTH,CTDPRS,CTDPRS_FLAG_W,CTDTMP,CTDTMP_FLAG_W,CTDSAL,CTDSAL_FLAG_W,SALNTY,SALNTY_FLAG_W,CTDOXY,CTDOXY_FLAG_W,OXYGEN,OXYGEN_FLAG_W,SILCAT,SILCAT_FLAG_W,NITRAT,NITRAT_FLAG_W,NITRIT,NITRIT_FLAG_W,PHSPHT,PHSPHT_FLAG_W,CFC-11,CFC-11_FLAG_W,CFC-12,CFC-12_FLAG_W,SF6,SF6_FLAG_W,TCARBN,TCARBN_FLAG_W,ALKALI,ALKALI_FLAG_W,PH_TOT,PH_TOT_FLAG_W,PH_TMP,PH_TMP_FLAG_W,DOC,DOC_FLAG_W,REFTMP,REFTMP_FLAG_W,POC,POC_FLAG_W,PON,PON_FLAG_W,POP,POP_FLAG_W,DOP,DOP_FLAG_W,DELO18,DELO18_FLAG_W,CTDFLUOR,CTDFLUOR_FLAG_W,CTDXMISS,CTDXMISS_FLAG_W,N2O,N2O_FLAG_W,D15N_NO3,D15N_NO3_FLAG_W,D15N_NO2+NO3,D15N_NO2+NO3_FLAG_W,D18O_NO2+NO3,D18O_NO2+NO3_FLAG_W,D18O_NO3,D18O_NO3_FLAG_W,BTL_DATE,BTL_TIME,BTL_LAT,BTL_LON,HPLC,HPLC_FLAG_W,DNA,DNA_FLAG_W
,,,,,,,,,,,METERS,DBAR,,ITS-90,,PSS-78,,PSS-78,,UMOL/KG,,UMOL/KG,,UMOL/KG,,UMOL/KG,,UMOL/KG,,UMOL/KG,,PMOL/KG,,PMOL/KG,,FMOL/KG,,UMOL/KG,,UMOL/KG,,,,DEG C,,UMOL/KG,,ITS-90,,UG/KG,,UG/KG,,UG/L,,UMOL/KG,,/MILLE,,VOLTS,,VOLTS,,NMOL/KG,,/MILLE,,/MILLE,,/MILLE,,/MILLE,,,,,,,,,
33RR20230722  ,I05        ,84      ,  1,36         ,36         ,2,20230813,0215, -30.6104,  78.7909,     3487,      4.5,2,  18.9838,2,  35.8161,2,  35.8131,2,    231.4,2,    230.9,2,     1.17,2,     0.08,2,     0.00,2,     0.11,2,     -999,9,     -999,9,     -999,9,   2070.7,2,   2349.8,2,   7.9904,2,    25.00,2,     -999,1,  18.9840,2,     -999,9,     -999,9,     -999,9,     -999,9,     -999,1,   4.9573,1,   0.0127,1,     -999,9,     -999,9,     -999,9,     -999,9,     -999,9,20230813,0352, -30.6104,  78.7909,-999          ,9,-999          ,9
33RR20230722  ,I05        ,84      ,  1,35         ,35         ,2,20230813,0215, -30.6104,  78.7909,     3487,     21.7,2,  18.9890,2,  35.8157,2,  35.8121,2,    231.2,2,    231.0,2,     1.17,2,     0.02,2,     0.00,2,     0.10,2,     -999,9,     -999,9,     -999,9,   -999.0,9,     -999,9,     -999,9,     -999,9,     -999,1,  18.9873,2,     -999,9,     -999,9,     -999,9,     -999,9,     -999,1,   4.8705,1,   0.0146,1,     -999,9,     -999,9,     -999,9,     -999,9,     -999,9,20230813,0351, -30.6104,  78.7909,-999          ,9,-999          ,9
33RR20230722  ,I05        ,84      ,  1,34         ,34         ,2,20230813,0215, -30.6104,  78.7909,     3487,     37.5,2,  18.9904,2,  35.8160,2,  35.8121,2,    231.3,2,    230.8,2,     1.17,2,     0.01,2,     0.00,2,     0.10,2,     -999,9,     -999,9,     -999,9,   -999.0,9,     -999,9,     -999,9,     -999,9,     -999,1,  18.9896,2,     -999,9,     -999,9,     -999,9,     -999,9,     -999,1,   4.9746,1,   0.0155,1,     -999,9,     -999,9,     -999,9,     -999,9,     -999,9,20230813,0349, -30.6104,  78.7909,-999          ,9,-999          ,9
33RR20230722  ,I05        ,84      ,  1,33         ,33         ,2,20230813,0215, -30.6104,  78.7909,     3487,     59.0,2,  18.9924,2,  35.8159,2,  35.8125,2,    231.0,2,    230.6,2,     1.17,2,     0.00,2,     0.00,2,     0.09,2,     -999,9,     -999,9,     -999,9,   2072.0,2,   2352.0,2,   7.9893,2,    25.02,2,     -999,1,  18.9888,2,     -999,9,     -999,9,     -999,9,     -999,9,     -999,1,   4.9744,1,   0.0154,1,     -999,9,     -999,9,     -999,9,     -999,9,     -999,9,20230813,0348, -30.6104,  78.7909,-999          ,9,-999          ,9
33RR20230722  ,I05        ,84      ,  1,32         ,32         ,2,20230813,0215, -30.6104,  78.7909,     3487,     80.8,2,  18.9970,2,  35.8159,2,  35.8123,2,    230.6,2,    230.8,2,     1.17,2,     0.00,2,     0.00,2,     0.09,2,     -999,9,     -999,9,     -999,9,   -999.0,9,     -999,9,     -999,9,     -999,9,     -999,1,  18.9964,2,     -999,9,     -999,9,     -999,9,     -999,9,     -999,1,   4.9744,1,   0.0162,1,     -999,9,     -999,9,     -999,9,     -999,9,     -999,9,20230813,0346, -30.6104,  78.7909,-999          ,9,-999          ,9
33RR20230722  ,I05        ,84      ,  1,31         ,31         ,2,20230813,0215, -30.6104,  78.7909,     3487,    106.8,2,  18.1103,2,  35.7506,2,  35.7448,2,    236.2,2,    237.0,2,     1.07,2,     0.00,2,     0.01,2,     0.14,2,     -999,9,     -999,9,     -999,9,   2084.9,2,   2347.3,2,   7.9649,2,    25.00,2,     -999,1,  18.1857,2,     -999,9,     -999,9,     -999,9,     -999,9,     -999,1,   4.9745,1,   0.0324,1,     -999,9,     -999,9,     -999,9,     -999,9,     -999,9,20230813,0344, -30.6104,  78.7909,-999          ,9,-999          ,9
33RR20230722  ,I05        ,84      ,  1,30         ,30         ,2,20230813,0215, -30.6104,  78.7909,     3487,    135.0,2,  16.2979,2,  35.6048,2,  35.6026,2,    235.9,2,    236.1,2,     1.07,2,     0.55,2,     0.11,2,     0.24,2,     -999,9,     -999,9,     -999,9,   -999.0,9,     -999,9,     -999,9,     -999,9,     -999,1,  16.2851,2,     -999,9,     -999,9,     -999,9,     -999,9,     -999,1,   4.9721,1,   0.0292,1,     -999,9,     -999,9,     -999,9,     -999,9,     -999,9,20230813,0343, -30.6104,  78.7909,-999          ,9,-999          ,9
33RR20230722  ,I05        ,84      ,  1,29         ,29         ,2,20230813,0215, -30.6104,  78.7909,     3487,    166.1,2,  15.2186,2,  35.4999,2,  35.4967,2,    228.8,2,    230.0,2,     1.27,2,     2.36,2,     0.05,2,     0.34,2,     -999,9,     -999,9,     -999,9,   2108.9,2,   2334.5,2,   7.8916,2,    25.00,2,     -999,1,  15.2103,2,     -999,9,     -999,9,     -999,9,     -999,9,     -999,1,   4.9702,1,   0.0178,1,     -999,9,     -999,9,     -999,9,     -999,9,     -999,9,20230813,0341, -30.6104,  78.7909,-999          ,9,-999          ,9
33RR20230722  ,I05        ,84      ,  1,28         ,28         ,2,20230813,0215, -30.6104,  78.7909,     3487,    202.1,2,  14.2932,2,  35.3818,2,  35.3670,2,    228.1,2,    229.1,2,     1.46,2,     4.54,2,     0.01,2,     0.45,2,     -999,9,     -999,9,     -999,9,   -999.0,9,     -999,9,     -999,9,     -999,9,     -999,1,  14.2923,2,     -999,9,     -999,9,     -999,9,     -999,9,     -999,1,   4.9165,1,   0.0125,1,     -999,9,     -999,9,     -999,9,     -999,9,     -999,9,20230813,0340, -30.6104,  78.7909,-999          ,9,-999          ,9
33RR20230722  ,I05        ,84      ,  1,27         ,27         ,2,20230813,0215, -30.6104,  78.7909,     3487,    240.1,2,  13.4306,2,  35.2705,2,  35.2751,2,    231.0,2,    231.9,2,     1.66,2,     5.91,2,     0.01,2,     0.54,2,     -999,9,     -999,9,     -999,9,   2125.7,6,   2320.8,2,   7.8497,2,    25.00,2,     -999,1,  13.4844,2,     -999,9,     -999,9,     -999,9,     -999,9,     -999,1,   4.9689,1,   0.0128,1,     -999,9,     -999,9,     -999,9,     -999,9,     -999,9,20230813,0338, -30.6104,  78.7909,-999          ,9,-999          ,9
33RR20230722  ,I05        ,84      ,  1,26         ,26         ,2,20230813,0215, -30.6104,  78.7909,     3487,    282.6,2,  12.8185,2,  35.1670,2,  35.1670,2,    234.8,2,    235.0,2,     2.24,2,     7.70,2,     0.00,2,     0.64,2,     -999,9,     -999,9,     -999,9,   -999.0,9,     -999,9,     -999,9,     -999,9,     -999,1,  12.8023,2,     -999,9,     -999,9,     -999,9,     -999,9,     -999,1,   4.9687,1,   0.0114,1,     -999,9,     -999,9,     -999,9,     -999,9,     -999,9,20230813,0336, -30.6104,  78.7909,-999          ,9,-999          ,9
33RR20230722  ,I05        ,84      ,  1,25         ,25         ,2,20230813,0215, -30.6104,  78.7909,     3487,    327.5,2,  12.3964,2,  35.1084,2,  35.1041,2,    237.6,2,    237.2,2,     2.63,2,     8.84,2,     0.00,2,     0.70,2,     -999,9,     -999,9,     -999,9,   -999.0,9,     -999,9,     -999,9,     -999,9,     -999,1,  12.4005,2,     -999,9,     -999,9,     -999,9,     -999,9,     -999,1,   4.8198,1,   0.0117,1,     -999,9,     -999,9,     -999,9,     -999,9,     -999,9,20230813,0334, -30.6104,  78.7909,-999          ,9,-999          ,9
33RR20230722  ,I05        ,84      ,  1,24         ,24         ,2,20230813,0215, -30.6104,  78.7909,     3487,    371.4,2,  12.0567,2,  35.0555,2,  35.0537,2,    236.5,2,    236.1,2,     2.93,2,     9.83,2,     0.00,2,     0.75,2,     -999,9,     -999,9,     -999,9,   -999.0,9,     -999,9,     -999,9,     -999,9,     -999,1,  12.0527,2,     -999,9,     -999,9,     -999,9,     -999,9,     -999,1,   4.9680,1,   0.0117,1,     -999,9,     -999,9,     -999,9,     -999,9,     -999,9,20230813,0332, -30.6104,  78.7909,-999          ,9,-999          ,9
33RR20230722  ,I05        ,84      ,  1,23         ,23         ,2,20230813,0215, -30.6104,  78.7909,     3487,    418.4,2,  11.6894,2,  35.0021,2,  34.9957,2,    240.7,2,    239.9,2,     3.32,2,    10.68,2,     0.00,2,     0.80,2,     -999,9,     -999,9,     -999,9,   2126.4,2,   2306.1,2,   7.8089,2,    24.99,2,     -999,1,  11.6890,2,     -999,9,     -999,9,     -999,9,     -999,9,     -999,1,   4.9681,1,   0.0117,1,     -999,9,     -999,9,     -999,9,     -999,9,     -999,9,20230813,0330, -30.6104,  78.7909,-999          ,9,-999          ,9
33RR20230722  ,I05        ,84      ,  1,22         ,22         ,2,20230813,0215, -30.6104,  78.7909,     3487,    470.0,2,  11.2333,2,  34.9315,2,  34.9252,2,    237.7,2,    237.1,2,     3.42,2,    11.95,2,     0.00,2,     0.89,2,     -999,9,     -999,9,     -999,9,   -999.0,9,     -999,9,     -999,9,     -999,9,     -999,1,  11.2249,2,     -999,9,     -999,9,     -999,9,     -999,9,     -999,1,   4.9675,1,   0.0115,1,     -999,9,     -999,9,     -999,9,     -999,9,     -999,9,20230813,0328, -30.6104,  78.7909,-999          ,9,-999          ,9
33RR20230722  ,I05        ,84      ,  1,21         ,21         ,2,20230813,0215, -30.6104,  78.7909,     3487,    529.9,2,  10.9357,2,  34.8953,2,  34.8914,2,    234.8,2,    234.4,2,     3.71,2,    12.76,2,     0.00,2,     0.95,2,     -999,9,     -999,9,     -999,9,   -999.0,9,     -999,9,     -999,9,     -999,9,     -999,1,  10.9389,2,     -999,9,     -999,9,     -999,9,     -999,9,     -999,1,   4.9668,1,   0.0116,1,     -999,9,     -999,9,     -999,9,     -999,9,     -999,9,20230813,0326, -30.6104,  78.7909,-999          ,9,-999          ,9
33RR20230722  ,I05        ,84      ,  1,20         ,20         ,2,20230813,0215, -30.6104,  78.7909,     3487,    607.2,2,  10.3591,2,  34.8136,2,  34.8084,2,    233.6,2,    234.0,2,     4.10,2,    14.25,2,     0.00,2,     1.03,2,     -999,5,     -999,5,     -999,5,   2137.5,2,   2297.0,2,   7.7729,6,    24.99,2,     -999,1,  10.3690,2,     -999,9,     -999,9,     -999,9,     -999,9,     -999,1,   4.8888,1,   0.0114,1,     -999,5,     -999,9,     -999,9,     -999,9,     -999,9,20230813,0324, -30.6104,  78.7909,-999          ,9,-999          ,9
33RR20230722  ,I05        ,84      ,  1,19         ,19         ,2,20230813,0215, -30.6104,  78.7909,     3487,    693.8,2,   9.8472,2,  34.7437,2,  34.7408,2,    231.0,2,    230.8,2,     4.69,2,    15.75,2,     0.00,2,     1.12,2,     -999,9,     -999,9,     -999,9,   -999.0,9,     -999,9,     -999,9,     -999,9,     -999,1,   9.8544,2,     -999,9,     -999,9,     -999,9,     -999,9,     -999,1,   4.9665,1,   0.0113,1,     -999,9,     -999,9,     -999,9,     -999,9,     -999,9,20230813,0322, -30.6104,  78.7909,-999          ,9,-999          ,9
33RR20230722  ,I05        ,84      ,  1,18         ,18         ,2,20230813,0215, -30.6104,  78.7909,     3487,    796.4,2,   8.8548,2,  34.6277,2,  34.6207,2,    217.4,2,    217.7,2,     8.00,2,    19.65,2,     0.00,2,     1.36,2,    3.131,3,    1.815,2,   1.4900,2,   -999.0,9,     -999,9,     -999,9,     -999,9,     -999,1,   8.8844,2,     -999,9,     -999,9,     -999,9,     -999,9,     -999,1,   4.6889,1,   0.0112,1,     14.0,2,     -999,9,     -999,9,     -999,9,     -999,9,20230813,0319, -30.6104,  78.7909,-999          ,9,-999          ,9
33RR20230722  ,I05        ,84      ,  1,17         ,17         ,2,20230813,0215, -30.6104,  78.7909,     3487,    918.5,2,   6.9699,2,  34.4669,2,  34.4628,2,    202.0,2,    203.2,2,    17.08,2,    25.48,2,     0.00,2,     1.76,2,    2.637,3,    1.508,2,   0.9600,2,   2171.4,2,   2289.4,2,   7.6612,2,    24.98,2,     -999,1,   6.9689,2,     -999,9,     -999,9,     -999,9,     -999,9,     -999,1,   4.8194,1,   0.0113,1,     16.8,2,     -999,9,     -999,9,     -999,9,     -999,9,20230813,0316, -30.6104,  78.7910,-999          ,9,-999          ,9
33RR20230722  ,I05        ,84      ,  1,16         ,16         ,2,20230813,0215, -30.6104,  78.7909,     3487,   1013.5,2,   5.6745,2,  34.3938,2,  34.3910,2,    197.9,2,    198.1,2,    25.68,2,    28.75,2,     0.00,2,     1.98,2,     -999,9,     -999,9,     -999,9,   -999.0,9,     -999,9,     -999,9,     -999,9,     -999,1,   5.6808,2,     -999,9,     -999,9,     -999,9,     -999,9,     -999,1,   4.9702,1,   0.0114,1,     -999,9,     -999,9,     -999,9,     -999,9,     -999,9,20230813,0313, -30.6104,  78.7909,-999          ,9,-999          ,9
33RR20230722  ,I05        ,84      ,  1,15         ,15         ,2,20230813,0215, -30.6104,  78.7909,     3487,   1109.9,2,   4.6581,2,  34.3832,2,  34.3811,2,    189.2,2,    189.7,2,    37.29,2,    31.25,2,     0.00,2,     2.17,2,    1.692,2,    0.933,2,   0.4600,2,   2218.9,2,   2301.8,2,   7.6048,2,    24.99,2,     -999,1,   4.6610,2,     -999,9,     -999,9,     -999,9,     -999,9,     -999,1,   4.8794,1,   0.0113,1,     20.5,2,     -999,9,     -999,9,     -999,9,     -999,9,20230813,0310, -30.6104,  78.7909,-999          ,9,-999          ,9
33RR20230722  ,I05        ,84      ,  1,14         ,14         ,2,20230813,0215, -30.6104,  78.7909,     3487,   1205.6,2,   4.0553,2,  34.4135,2,  34.4116,2,    178.3,2,    178.3,2,    48.72,2,    32.94,2,     0.00,2,     2.29,2,    1.213,2,    0.662,2,   0.2900,2,   -999.0,9,     -999,9,     -999,9,     -999,9,     -999,1,   4.0543,2,     -999,9,     -999,9,     -999,9,     -999,9,     -999,1,   4.8840,1,   0.0111,1,     21.4,2,     -999,9,     -999,9,     -999,9,     -999,9,20230813,0308, -30.6104,  78.7909,-999          ,9,-999          ,9
33RR20230722  ,I05        ,84      ,  1,13         ,13         ,2,20230813,0215, -30.6104,  78.7909,     3487,   1308.4,2,   3.6891,2,  34.4625,2,  34.4614,2,    167.4,2,    167.2,2,    59.26,2,    33.98,2,     0.00,2,     2.37,2,     -999,9,     -999,9,     -999,9,   -999.0,9,     -999,9,     -999,9,     -999,9,     -999,1,   3.6925,2,     -999,9,     -999,9,     -999,9,     -999,9,     -999,1,   4.9025,1,   0.0112,1,     -999,9,     -999,9,     -999,9,     -999,9,     -999,9,20230813,0305, -30.6104,  78.7909,-999          ,9,-999          ,9
33RR20230722  ,I05        ,84      ,  1,12         ,12         ,2,20230813,0215, -30.6104,  78.7909,     3487,   1429.0,2,   3.3586,2,  34.5123,2,  34.5123,2,    161.6,2,    161.7,2,    67.65,2,    34.38,2,     0.00,2,     2.41,2,     -999,9,     -999,9,     -999,9,   -999.0,9,     -999,9,     -999,9,     -999,9,     -999,1,   3.3593,2,     -999,9,     -999,9,     -999,9,     -999,9,     -999,1,   4.9741,1,   0.0115,1,     -999,9,     -999,9,     -999,9,     -999,9,     -999,9,20230813,0302, -30.6104,  78.7909,-999          ,9,-999          ,9
33RR20230722  ,I05        ,84      ,  1,11         ,11         ,2,20230813,0215, -30.6104,  78.7909,     3487,   1548.6,2,   3.0406,2,  34.5597,2,  34.5572,2,    162.9,2,    162.6,2,    72.33,2,    34.20,2,     0.00,2,     2.39,2,    0.374,2,    0.200,2,   0.0800,2,   2263.8,2,   2336.3,2,   7.5634,2,    24.99,2,     -999,1,   3.0418,2,     -999,9,     -999,9,     -999,9,     -999,9,     -999,1,   4.9741,1,   0.0112,1,     22.4,2,     -999,9,     -999,9,     -999,9,     -999,9,20230813,0259, -30.6104,  78.7910,-999          ,9,-999          ,9
33RR20230722  ,I05        ,84      ,  1,10         ,10         ,2,20230813,0215, -30.6104,  78.7909,     3487,   1667.4,2,   2.9034,2,  34.6147,2,  34.6134,2,    160.5,2,    160.4,2,    79.56,2,    33.91,2,     0.00,2,     2.38,2,     -999,9,     -999,9,     -999,9,   -999.0,9,     -999,9,     -999,9,     -999,9,     -999,1,   2.9034,2,     -999,9,     -999,9,     -999,9,     -999,9,     -999,1,   4.9610,1,   0.0115,1,     -999,9,     -999,9,     -999,9,     -999,9,     -999,9,20230813,0256, -30.6104,  78.7909,-999          ,9,-999          ,9
33RR20230722  ,I05        ,84      ,  1,9          ,9          ,2,20230813,0215, -30.6104,  78.7909,     3487,   1782.5,2,   2.7226,2,  34.6424,2,  34.6417,2,    166.5,2,    166.5,2,    79.75,2,    33.30,2,     0.00,2,     2.33,2,     -999,9,     -999,9,     -999,9,   -999.0,9,     -999,9,     -999,9,     -999,9,     -999,1,   2.7239,2,     -999,9,     -999,9,     -999,9,     -999,9,     -999,1,   4.9743,1,   0.0120,1,     -999,9,     -999,9,     -999,9,     -999,9,     -999,9,20230813,0253, -30.6104,  78.7909,-999          ,9,-999          ,9
33RR20230722  ,I05        ,84      ,  1,8          ,8          ,2,20230813,0215, -30.6104,  78.7909,     3487,   1922.9,2,   2.5232,2,  34.6820,2,  34.6808,2,    174.2,2,    174.5,2,    80.92,2,    32.26,2,     0.00,2,     2.25,2,    0.126,2,    0.076,2,   0.0600,2,   2265.7,2,   2347.5,2,   7.5870,2,    24.98,2,     -999,1,   2.5228,2,     -999,9,     -999,9,     -999,9,     -999,9,     -999,1,   4.7628,1,   0.0122,1,     20.7,2,     -999,9,     -999,9,     -999,9,     -999,9,20230813,0249, -30.6104,  78.7910,-999          ,9,-999          ,9
33RR20230722  ,I05        ,84      ,  1,7          ,7          ,2,20230813,0215, -30.6104,  78.7909,     3487,   2122.1,2,   2.2436,2,  34.7259,2,  34.7248,2,    185.8,2,    186.0,2,    83.55,2,    31.01,2,     0.00,2,     2.16,2,     -999,9,     -999,9,     -999,9,   -999.0,9,     -999,9,     -999,9,     -999,9,     -999,1,   2.2438,2,     -999,9,     -999,9,     -999,9,     -999,9,     -999,1,   4.9741,1,   0.0112,1,     -999,9,     -999,9,     -999,9,     -999,9,     -999,9,20230813,0244, -30.6104,  78.7910,-999          ,9,-999          ,9
33RR20230722  ,I05        ,84      ,  1,6          ,6          ,2,20230813,0215, -30.6104,  78.7909,     3487,   2356.5,2,   1.9929,2,  34.7395,2,  34.7388,2,    191.9,2,    192.0,2,    89.89,2,    30.70,2,     0.00,2,     2.14,2,     -999,9,     -999,9,     -999,9,   -999.0,9,     -999,9,     -999,9,     -999,9,     -999,1,   1.9967,2,     -999,9,     -999,9,     -999,9,     -999,9,     -999,1,   4.8992,1,   0.0112,1,     -999,9,     -999,9,     -999,9,     -999,9,     -999,9,20230813,0239, -30.6104,  78.7910,-999          ,9,-999          ,9
33RR20230722  ,I05        ,84      ,  1,5          ,5          ,2,20230813,0215, -30.6104,  78.7909,     3487,   2649.3,2,   1.7244,2,  34.7345,2,  34.7339,2,    192.7,2,    192.8,2,   101.41,2,    31.21,2,     0.00,2,     2.18,2,    0.053,2,    0.033,2,  -0.0500,2,   2265.6,2,   2363.3,6,   7.6155,2,    25.00,2,     -999,1,   1.7226,2,     -999,9,     -999,9,     -999,9,     -999,9,     -999,1,   4.9744,1,   0.0118,1,     18.4,2,     -999,9,     -999,9,     -999,9,     -999,9,20230813,0233, -30.6104,  78.7910,-999          ,9,-999          ,9
33RR20230722  ,I05        ,84      ,  1,4          ,37         ,2,20230813,0215, -30.6104,  78.7909,     3487,   2981.7,2,   1.5896,2,  34.7315,2,  34.7304,2,    194.3,2,    194.5,2,   106.29,2,    31.45,2,     0.00,2,     2.20,2,     -999,9,     -999,9,     -999,9,   -999.0,9,     -999,9,     -999,9,     -999,9,     -999,1,   1.5896,2,     -999,9,     -999,9,     -999,9,     -999,9,     -999,1,   4.9749,1,   0.0115,1,     -999,9,     -999,9,     -999,9,     -999,9,     -999,9,20230813,0227, -30.6104,  78.7909,-999          ,9,-999          ,9
33RR20230722  ,I05        ,84      ,  1,3          ,3          ,2,20230813,0215, -30.6104,  78.7909,     3487,   3226.9,2,   1.5155,2,  34.7295,2,  34.7288,2,    195.2,2,    195.5,2,   109.22,2,    31.62,2,     0.00,2,     2.20,2,     -999,9,     -999,9,     -999,9,   -999.0,9,     -999,9,     -999,9,     -999,9,     -999,1,   1.5151,2,     -999,9,     -999,9,     -999,9,     -999,9,     -999,1,   4.9563,1,   0.0114,1,     -999,9,     -999,9,     -999,9,     -999,9,     -999,9,20230813,0222, -30.6104,  78.7909,-999          ,9,-999          ,9