BOTTLE,20240422CCHHYDRO
EXPOCODE,SECT_ID,STNNBR,CASTNO,SAMPNO,BTLNBR,BTLNBR_FLAG_W,DATE,TIME,LATITUDE,LONGITUDE,DEPTH,CTDPRS,CTDPRS_FLAG_W,CTDTMP,CTDTMP_FLAG_W,CTDSAL,CTDSAL_FLAG_W,SALNTY,SALNTY_FLAG_W,CTDOXY,CTDOXY_FLAG_W,OXYGEN,OXYGEN_FLAG_W,SILCAT,SILCAT_FLAG_W,NITRAT,NITRAT_FLAG_W,NITRIT,NITRIT_FLAG_W,PHSPHT,PHSPHT_FLAG_W,CFC-11,CFC-11_FLAG_W,CFC-12,CFC-12_FLAG_W,SF6,SF6_FLAG_W,TCARBN,TCARBN_FLAG_W,ALKALI,ALKALI_FLAG_W,PH_TOT,PH_TOT_FLAG_W,PH_TMP,PH_TMP_FLAG_W,DOC,DOC_FLAG_W,REFTMP,REFTMP_FLAG_W,POC,POC_FLAG_W,PON,PON_FLAG_W,POP,POP_FLAG_W,DOP,DOP_FLAG_W,DELO18,DELO18_FLAG_W,CTDFLUOR,CTDFLUOR_FLAG_W,CTDXMISS,CTDXMISS_FLAG_W,N2O,N2O_FLAG_W,D15N_NO3,D15N_NO3_FLAG_W,D15N_NO2+NO3,D15N_NO2+NO3_FLAG_W,D18O_NO2+NO3,D18O_NO2+NO3_FLAG_W,D18O_NO3,D18O_NO3_FLAG_W,BTL_DATE,BTL_TIME,BTL_LAT,BTL_LON,HPLC,HPLC_FLAG_W,DNA,DNA_FLAG_W
,,,,,,,,,,,METERS,DBAR,,ITS-90,,PSS-78,,PSS-78,,UMOL/KG,,UMOL/KG,,UMOL/KG,,UMOL/KG,,UMOL/KG,,UMOL/KG,,PMOL/KG,,PMOL/KG,,FMOL/KG,,UMOL/KG,,UMOL/KG,,,,DEG C,,UMOL/KG,,ITS-90,,UG/KG,,UG/KG,,UG/L,,UMOL/KG,,/MILLE,,VOLTS,,VOLTS,,NMOL/KG,,/MILLE,,/MILLE,,/MILLE,,/MILLE,,,,,,,,,
33RR20230722  ,I05        ,32      ,  1,2          ,2          ,2,20230730,2225, -32.0028, 102.4314,     5130,   5020.2,2,   1.0693,2,  34.7072,2,  34.7074,2,    206.8,2,    206.5,2,   123.57,2,    32.24,2,     0.00,2,     2.24,2,    0.121,2,    0.057,2,  -0.0200,2,   2267.9,2,   2369.6,2,   7.6198,2,    25.00,2,     -999,1,   1.0694,2,     -999,9,     -999,9,     -999,9,     -999,9,     -999,1,   4.9735,1,   0.0112,1,     18.7,2,     -999,1,     -999,1,     -999,1,     -999,1,20230730,2229, -32.0028, 102.4314,-999          ,9,-999          ,9
33RR20230722  ,I05        ,32      ,  1,1          ,1          ,2,20230730,2225, -32.0028, 102.4314,     5130,   5219.5,2,   1.0719,2,  34.7060,2,  34.7070,2,    207.1,2,    207.3,2,   123.77,2,    32.29,2,     0.00,2,     2.24,2,    0.129,2,    0.065,2,   0.0300,2,   2269.4,2,   2370.5,2,   7.6186,2,    25.00,2,     -999,1,   1.0715,2,     -999,9,     -999,9,     -999,9,     -999,9,     -999,1,   0.4721,1,   0.0111,1,     18.9,2,     -999,1,     -999,1,     -999,1,     -999,1,20230730,2225, -32.0028, 102.4314,-999          ,9,-999          ,9
33RR20230722  ,I05        ,33      ,  1,23         ,23         ,2,20230731,0348, -32.0068, 102.0841,     4454,     11.6,2,  17.0354,2,  35.8425,2,     -999,9,    237.7,2,     -999,9,     -999,9,     -999,9,     -999,9,     -999,9,     -999,9,     -999,9,     -999,9,   -999.0,9,     -999,9,     -999,9,     -999,9,     -999,9,  17.0352,2,     -999,9,     -999,9,     -999,1,     -999,9,     -999,9,   4.9753,1,   0.0240,1,     -999,9,     -999,9,     -999,9,     -999,9,     -999,9,20230731,0526, -32.0069, 102.0840,-999          ,9,-999          ,9
33RR20230722  ,I05        ,33      ,  1,18         ,18         ,2,20230731,0348, -32.0068, 102.0841,     4454,     11.9,2,  17.0335,2,  35.8428,2,  35.8416,2,    237.7,2,    237.1,2,     1.36,2,     0.09,2,     0.02,2,     0.11,2,    2.311,2,    1.321,2,   2.2800,2,   2092.1,2,   2352.3,2,   7.9633,6,    25.00,2,     -999,1,  17.0355,2,     -999,9,     -999,9,     -999,9,     -999,9,     -999,1,   4.9719,1,   0.0247,1,      8.1,2,     -999,9,     -999,9,     -999,9,     -999,9,20230731,0524, -32.0068, 102.0840,-999          ,9,-999          ,9
33RR20230722  ,I05        ,33      ,  1,26         ,26         ,2,20230731,0348, -32.0068, 102.0841,     4454,     12.0,2,  17.0337,2,  35.8428,2,     -999,9,    237.8,2,     -999,9,     -999,9,     -999,9,     -999,9,     -999,9,     -999,9,     -999,9,     -999,9,   -999.0,9,     -999,9,     -999,9,     -999,9,     -999,9,  17.0340,2,     -999,9,     -999,9,     -999,9,     -999,9,     -999,9,   4.9751,1,   0.0221,1,     -999,9,     -999,9,     -999,9,     -999,9,     -999,9,20230731,0527, -32.0068, 102.0841,-999          ,1,-999          ,9
33RR20230722  ,I05        ,33      ,  1,24         ,24         ,2,20230731,0348, -32.0068, 102.0841,     4454,     12.1,2,  17.0355,2,  35.8423,2,     -999,9,    237.7,2,     -999,9,     -999,9,     -999,9,     -999,9,     -999,9,     -999,9,     -999,9,     -999,9,   -999.0,9,     -999,9,     -999,9,     -999,9,     -999,9,  17.0350,2,     -999,9,     -999,9,     -999,1,     -999,9,     -999,9,   4.9752,1,   0.0242,1,     -999,9,     -999,9,     -999,9,     -999,9,     -999,9,20230731,0526, -32.0068, 102.0841,-999          ,9,-999          ,9
33RR20230722  ,I05        ,33      ,  1,25         ,25         ,2,20230731,0348, -32.0068, 102.0841,     4454,     12.1,2,  17.0343,2,  35.8428,2,     -999,9,    237.7,2,     -999,9,     -999,9,     -999,9,     -999,9,     -999,9,     -999,9,     -999,9,     -999,9,   -999.0,9,     -999,9,     -999,9,     -999,9,     -999,9,  17.0339,2,     -999,9,     -999,9,     -999,1,     -999,9,     -999,9,   4.9750,1,   0.0228,1,     -999,9,     -999,9,     -999,9,     -999,9,     -999,9,20230731,0527, -32.0068, 102.0840,-999          ,9,-999          ,9
33RR20230722  ,I05        ,33      ,  1,19         ,19         ,2,20230731,0348, -32.0068, 102.0841,     4454,     12.2,2,  17.0345,2,  35.8421,2,     -999,9,    237.6,2,     -999,9,     -999,9,     -999,9,     -999,9,     -999,9,     -999,9,     -999,9,     -999,9,   -999.0,9,     -999,9,     -999,9,     -999,9,     -999,9,  17.0351,2,     -999,9,     -999,9,     -999,9,     -999,9,     -999,9,   4.9751,1,   0.0254,1,     -999,9,     -999,9,     -999,9,     -999,9,     -999,9,20230731,0524, -32.0069, 102.0840,-999          ,9,-999          ,1
33RR20230722  ,I05        ,33      ,  1,22         ,22         ,2,20230731,0348, -32.0068, 102.0841,     4454,     12.4,2,  17.0361,2,  35.8426,2,     -999,9,    237.8,2,     -999,9,     -999,9,     -999,9,     -999,9,     -999,9,     -999,9,     -999,9,     -999,9,   -999.0,9,     -999,9,     -999,9,     -999,9,     -999,9,  17.0355,2,     -999,1,     -999,1,     -999,9,     -999,9,     -999,9,   4.9753,1,   0.0232,1,     -999,9,     -999,9,     -999,9,     -999,9,     -999,9,20230731,0525, -32.0068, 102.0840,-999          ,9,-999          ,9
33RR20230722  ,I05        ,33      ,  1,20         ,20         ,2,20230731,0348, -32.0068, 102.0841,     4454,     12.4,2,  17.0381,2,  35.8424,2,     -999,9,    237.7,2,     -999,9,     -999,9,     -999,9,     -999,9,     -999,9,     -999,9,     -999,9,     -999,9,   -999.0,9,     -999,9,     -999,9,     -999,9,     -999,9,  17.0371,2,     -999,1,     -999,1,     -999,9,     -999,9,     -999,9,   4.8716,1,   0.0252,1,     -999,9,     -999,9,     -999,9,     -999,9,     -999,9,20230731,0525, -32.0068, 102.0840,-999          ,9,-999          ,9
33RR20230722  ,I05        ,33      ,  1,21         ,21         ,2,20230731,0348, -32.0068, 102.0841,     4454,     12.7,2,  17.0367,2,  35.8427,2,     -999,9,    237.7,2,     -999,9,     -999,9,     -999,9,     -999,9,     -999,9,     -999,9,     -999,9,     -999,9,   -999.0,9,     -999,9,     -999,9,     -999,9,     -999,9,  17.0360,2,     -999,1,     -999,1,     -999,9,     -999,9,     -999,9,   4.9750,1,   0.0232,1,     -999,9,     -999,9,     -999,9,     -999,9,     -999,9,20230731,0525, -32.0068, 102.0841,-999          ,9,-999          ,9
33RR20230722  ,I05        ,33      ,  1,17         ,17         ,2,20230731,0348, -32.0068, 102.0841,     4454,     85.8,2,  17.0502,2,  35.8421,2,  35.8410,2,    237.3,2,    237.0,2,     1.36,2,     0.05,2,     0.02,2,     0.11,2,    2.332,2,    1.296,2,   2.2500,2,   2088.1,2,   2350.5,2,   7.9625,2,    25.00,2,     -999,9,  17.0490,2,     -999,9,     -999,9,     -999,9,     -999,9,     -999,1,   4.9294,1,   0.0327,1,      8.0,2,     -999,9,     -999,9,     -999,9,     -999,9,20230731,0521, -32.0068, 102.0840,-999          ,9,-999          ,9
33RR20230722  ,I05        ,33      ,  1,16         ,16         ,2,20230731,0348, -32.0068, 102.0841,     4454,    107.8,2,  17.0520,2,  35.8421,2,     -999,9,    237.0,2,     -999,9,     -999,9,     -999,9,     -999,9,     -999,9,     -999,9,     -999,9,     -999,9,   -999.0,9,     -999,9,     -999,9,     -999,9,     -999,9,  17.0494,2,     -999,9,     -999,9,     -999,9,     -999,9,     -999,9,   4.9742,1,   0.0317,1,     -999,9,     -999,9,     -999,9,     -999,9,     -999,9,20230731,0519, -32.0068, 102.0840,-999          ,9,-999          ,1
33RR20230722  ,I05        ,33      ,  1,15         ,15         ,2,20230731,0348, -32.0068, 102.0841,     4454,    144.9,2,  17.0503,2,  35.8402,2,  35.8388,2,    236.7,2,    236.8,2,     1.46,2,     0.04,2,     0.03,2,     0.10,2,    2.301,2,    1.316,2,   2.3200,2,   2089.4,2,   2352.4,2,   7.9618,2,    25.03,2,     -999,9,  17.0482,2,     -999,9,     -999,9,     -999,9,     -999,9,     -999,1,   4.9737,1,   0.0335,1,      8.0,2,     -999,9,     -999,9,     -999,9,     -999,9,20230731,0517, -32.0069, 102.0841,-999          ,9,-999          ,9
33RR20230722  ,I05        ,33      ,  1,14         ,14         ,2,20230731,0348, -32.0068, 102.0841,     4454,    206.6,2,  14.9730,2,  35.5523,2,     -999,9,    229.3,2,     -999,9,     -999,9,     -999,9,     -999,9,     -999,9,     -999,9,     -999,9,     -999,9,   -999.0,9,     -999,9,     -999,9,     -999,9,     -999,9,  14.9518,2,     -999,9,     -999,9,     -999,9,     -999,9,     -999,9,   4.9703,1,   0.0126,1,     -999,9,     -999,9,     -999,9,     -999,9,     -999,9,20230731,0513, -32.0069, 102.0840,-999          ,9,-999          ,1
33RR20230722  ,I05        ,33      ,  1,13         ,13         ,2,20230731,0348, -32.0068, 102.0841,     4454,    218.0,2,  14.6584,2,  35.5100,2,  35.5109,2,    230.3,2,    231.1,2,     1.07,2,     3.45,2,     0.01,2,     0.36,2,    2.340,2,    1.443,2,   2.4700,2,   2120.0,2,   2338.4,2,   7.8876,2,    25.01,2,     -999,9,  14.6308,2,     -999,9,     -999,9,     -999,9,     -999,9,     -999,1,   4.9698,1,   0.0122,1,      9.6,2,     -999,9,     -999,9,     -999,9,     -999,9,20230731,0512, -32.0068, 102.0840,-999          ,9,-999          ,9
33RR20230722  ,I05        ,33      ,  1,12         ,12         ,2,20230731,0348, -32.0068, 102.0841,     4454,    330.7,2,  12.1894,2,  35.0992,2,  35.1012,2,    242.9,2,    242.3,2,     1.56,2,     7.75,2,     0.00,2,     0.62,2,    2.677,2,    1.684,2,   2.7500,2,   2129.0,2,   2314.0,2,   7.8307,6,    25.19,2,     -999,9,  12.1914,2,     -999,9,     -999,9,     -999,9,     -999,9,     -999,1,   4.9160,1,   0.0113,1,     11.3,2,     -999,9,     -999,9,     -999,9,     -999,9,20230731,0509, -32.0069, 102.0840,-999          ,9,-999          ,9
33RR20230722  ,I05        ,33      ,  1,11         ,11         ,2,20230731,0348, -32.0068, 102.0841,     4454,    679.6,2,   9.0942,2,  34.6462,2,  34.6484,2,    234.6,2,    234.6,2,     5.27,2,    17.28,2,     0.00,2,     1.22,2,    3.131,2,    1.914,2,   2.0200,2,   2147.7,2,   2286.6,2,   7.7393,2,    25.05,2,     -999,9,   9.1181,2,     -999,9,     -999,9,     -999,9,     -999,9,     -999,1,   4.9665,1,   0.0113,1,     13.4,2,     -999,9,     -999,9,     -999,9,     -999,9,20230731,0502, -32.0068, 102.0840,-999          ,9,-999          ,9
33RR20230722  ,I05        ,33      ,  1,10         ,10         ,2,20230731,0348, -32.0068, 102.0841,     4454,   1015.8,2,   4.8249,2,  34.3863,2,     -999,9,    187.7,2,     -999,9,     -999,9,     -999,9,     -999,9,     -999,9,     -999,9,     -999,9,     -999,9,   -999.0,9,     -999,9,     -999,9,     -999,9,     -999,9,   4.8625,2,     -999,9,     -999,9,     -999,9,     -999,9,     -999,9,   4.8302,1,   0.0112,1,     -999,9,     -999,9,     -999,9,     -999,9,     -999,9,20230731,0455, -32.0069, 102.0840,-999          ,9,-999          ,1
33RR20230722  ,I05        ,33      ,  1,9          ,9          ,2,20230731,0348, -32.0068, 102.0841,     4454,   1313.5,2,   3.7097,2,  34.5299,2,  34.5300,2,    147.2,2,    147.3,2,    72.89,2,    34.82,2,     0.00,2,     2.46,2,    0.362,2,    0.179,2,   0.1100,2,   2262.0,2,   2337.7,2,   7.5563,2,    25.04,2,     -999,9,   3.7120,2,     -999,9,     -999,9,     -999,9,     -999,9,     -999,1,   4.9746,1,   0.0118,1,     25.1,2,     -999,9,     -999,9,     -999,9,     -999,9,20230731,0449, -32.0069, 102.0840,-999          ,9,-999          ,9
33RR20230722  ,I05        ,33      ,  1,8          ,8          ,2,20230731,0348, -32.0068, 102.0841,     4454,   1736.6,2,   2.9322,2,  34.6463,2,  34.6460,2,    148.4,2,    148.2,2,    91.23,2,    34.24,2,     0.00,2,     2.44,2,    0.017,6,    0.025,6,   0.0000,6,   2279.0,2,   2358.6,2,   7.5639,2,    25.04,2,     -999,9,   2.9328,2,     -999,9,     -999,9,     -999,9,     -999,9,     -999,1,   4.7598,1,   0.0118,1,     24.1,6,     -999,9,     -999,9,     -999,9,     -999,9,20230731,0441, -32.0069, 102.0841,-999          ,9,-999          ,9
33RR20230722  ,I05        ,33      ,  1,7          ,7          ,2,20230731,0348, -32.0068, 102.0841,     4454,   2158.9,2,   2.4215,2,  34.7069,2,  34.7058,2,    158.6,2,    158.4,2,   103.91,2,    33.37,2,     0.00,2,     2.37,2,    0.002,2,    0.008,2,  -0.0300,2,   2282.8,2,   2372.1,2,   7.5821,2,    25.04,2,     -999,9,   2.4212,2,     -999,9,     -999,9,     -999,9,     -999,9,     -999,1,   4.9508,1,   0.0118,1,     22.6,2,     -999,9,     -999,9,     -999,9,     -999,9,20230731,0433, -32.0069, 102.0840,-999          ,9,-999          ,9
33RR20230722  ,I05        ,33      ,  1,6          ,6          ,2,20230731,0348, -32.0068, 102.0841,     4454,   2862.3,2,   1.8579,2,  34.7269,2,  34.7262,2,    175.7,2,    175.7,2,   112.30,2,    32.59,2,     0.00,2,     2.30,2,    0.002,2,    0.005,2,   0.0100,2,   2282.7,2,   2379.1,6,   7.6037,2,    25.04,2,     -999,9,   1.8577,2,     -999,9,     -999,9,     -999,9,     -999,9,     -999,1,   4.6511,1,   0.0124,1,     20.4,2,     -999,9,     -999,9,     -999,9,     -999,9,20230731,0420, -32.0068, 102.0840,-999          ,9,-999          ,9
33RR20230722  ,I05        ,33      ,  1,5          ,5          ,2,20230731,0348, -32.0068, 102.0841,     4454,   3298.6,2,   1.5453,2,  34.7285,2,  34.7282,2,    190.8,2,    191.0,2,   111.91,2,    31.61,2,     0.00,2,     2.23,2,    0.008,2,    0.015,2,   0.0500,2,   2271.2,2,   2377.1,2,   7.6147,2,    25.05,2,     -999,9,   1.5456,2,     -999,9,     -999,9,     -999,9,     -999,9,     -999,1,   4.9756,1,   0.0118,1,     19.6,2,     -999,9,     -999,9,     -999,9,     -999,9,20230731,0412, -32.0069, 102.0840,-999          ,9,-999          ,9
33RR20230722  ,I05        ,33      ,  1,4          ,37         ,2,20230731,0348, -32.0068, 102.0841,     4454,   3658.2,2,   1.3206,2,  34.7225,2,  34.7223,2,    197.2,2,    197.5,2,   115.72,2,    31.90,2,     0.00,2,     2.23,2,    0.021,2,    0.019,2,   0.0100,2,   2271.3,2,   2374.0,2,   7.6189,6,    25.03,2,     -999,9,   1.3210,2,     -999,9,     -999,9,     -999,9,     -999,9,     -999,1,   4.9358,1,   0.0114,1,     19.1,2,     -999,9,     -999,9,     -999,9,     -999,9,20230731,0405, -32.0068, 102.0840,-999          ,9,-999          ,9
33RR20230722  ,I05        ,33      ,  1,3          ,3          ,2,20230731,0348, -32.0068, 102.0841,     4454,   4097.0,2,   1.1607,2,  34.7163,2,  34.7158,2,    204.0,2,    204.2,2,   117.18,2,    31.36,2,     0.00,2,     2.23,2,    0.056,2,    0.041,2,   0.0700,2,   2268.0,2,   2370.3,2,   7.6203,2,    25.03,2,     -999,9,   1.1607,2,     -999,9,     -999,9,     -999,9,     -999,9,     -999,1,   4.9681,1,   0.0113,1,     18.5,2,     -999,9,     -999,9,     -999,9,     -999,9,20230731,0357, -32.0068, 102.0840,-999          ,9,-999          ,9
33RR20230722  ,I05        ,33      ,  1,2          ,2          ,2,20230731,0348, -32.0068, 102.0841,     4454,   4315.8,2,   1.0997,2,  34.7125,2,  34.7119,2,    205.4,2,    205.0,2,   119.33,2,    31.43,2,     0.00,2,     2.23,2,    0.075,2,    0.050,2,   0.0000,2,   2267.4,2,   2368.6,2,   7.6204,2,    25.04,2,     -999,9,   1.1010,2,     -999,9,     -999,9,     -999,9,     -999,9,     -999,1,   4.9762,1,   0.0117,1,     18.7,2,     -999,9,     -999,9,     -999,9,     -999,9,20230731,0352, -32.0068, 102.0841,-999          ,9,-999          ,9
33RR20230722  ,I05        ,33      ,  1,1          ,1          ,2,20230731,0348, -32.0068, 102.0841,     4454,   4518.4,2,   1.0678,2,  34.7096,2,  34.7097,2,    206.3,2,    206.1,2,   120.79,2,    31.53,2,     0.00,2,     2.24,2,    0.085,2,    0.059,2,   0.0500,2,   2268.6,6,   2371.8,2,   7.6201,2,    25.03,2,     -999,9,   1.0648,2,     -999,9,     -999,9,     -999,9,     -999,9,     -999,1,   0.6740,1,   0.0117,1,     18.3,2,     -999,9,     -999,9,     -999,9,     -999,9,20230731,0348, -32.0068, 102.0841,-999          ,9,-999          ,9