BOTTLE,20240422CCHHYDRO
EXPOCODE,SECT_ID,STNNBR,CASTNO,SAMPNO,BTLNBR,BTLNBR_FLAG_W,DATE,TIME,LATITUDE,LONGITUDE,DEPTH,CTDPRS,CTDPRS_FLAG_W,CTDTMP,CTDTMP_FLAG_W,CTDSAL,CTDSAL_FLAG_W,SALNTY,SALNTY_FLAG_W,CTDOXY,CTDOXY_FLAG_W,OXYGEN,OXYGEN_FLAG_W,SILCAT,SILCAT_FLAG_W,NITRAT,NITRAT_FLAG_W,NITRIT,NITRIT_FLAG_W,PHSPHT,PHSPHT_FLAG_W,CFC-11,CFC-11_FLAG_W,CFC-12,CFC-12_FLAG_W,SF6,SF6_FLAG_W,TCARBN,TCARBN_FLAG_W,ALKALI,ALKALI_FLAG_W,PH_TOT,PH_TOT_FLAG_W,PH_TMP,PH_TMP_FLAG_W,DOC,DOC_FLAG_W,REFTMP,REFTMP_FLAG_W,POC,POC_FLAG_W,PON,PON_FLAG_W,POP,POP_FLAG_W,DOP,DOP_FLAG_W,DELO18,DELO18_FLAG_W,CTDFLUOR,CTDFLUOR_FLAG_W,CTDXMISS,CTDXMISS_FLAG_W,N2O,N2O_FLAG_W,D15N_NO3,D15N_NO3_FLAG_W,D15N_NO2+NO3,D15N_NO2+NO3_FLAG_W,D18O_NO2+NO3,D18O_NO2+NO3_FLAG_W,D18O_NO3,D18O_NO3_FLAG_W,BTL_DATE,BTL_TIME,BTL_LAT,BTL_LON,HPLC,HPLC_FLAG_W,DNA,DNA_FLAG_W
,,,,,,,,,,,METERS,DBAR,,ITS-90,,PSS-78,,PSS-78,,UMOL/KG,,UMOL/KG,,UMOL/KG,,UMOL/KG,,UMOL/KG,,UMOL/KG,,PMOL/KG,,PMOL/KG,,FMOL/KG,,UMOL/KG,,UMOL/KG,,,,DEG C,,UMOL/KG,,ITS-90,,UG/KG,,UG/KG,,UG/L,,UMOL/KG,,/MILLE,,VOLTS,,VOLTS,,NMOL/KG,,/MILLE,,/MILLE,,/MILLE,,/MILLE,,,,,,,,,
33RR20230722  ,I05        ,130     ,  1,33         ,33         ,2,20230826,0224, -33.7000,  57.0341,     5008,      6.9,2,  16.8005,2,  35.6207,2,  35.6198,2,    242.3,2,    241.9,2,     1.46,2,     0.07,2,     0.00,2,     0.14,2,    1.896,2,    1.360,2,   2.3800,2,   2084.3,6,   2335.2,2,   7.9519,2,    25.00,2,     -999,1,  16.7978,2,     -999,9,     -999,9,     -999,9,     -999,1,     -999,9,   4.9747,1,   0.0245,1,      8.2,2,     -999,9,     -999,9,     -999,9,     -999,9,20230826,0426, -33.7000,  57.0341,-999          ,9,-999          ,9
33RR20230722  ,I05        ,130     ,  1,32         ,32         ,2,20230826,0224, -33.7000,  57.0341,     5008,     34.3,2,  16.7538,2,  35.6168,2,  35.6169,2,    242.0,2,    241.7,2,     1.37,2,     0.00,2,     0.00,2,     0.14,2,     -999,9,     -999,9,     -999,9,   2085.0,2,   2335.4,6,   7.9519,2,    25.00,2,     -999,1,  16.7524,2,     -999,9,     -999,9,     -999,9,     -999,1,     -999,9,   4.9745,1,   0.0309,1,     -999,9,     -999,9,     -999,9,     -999,9,     -999,9,20230826,0424, -33.7000,  57.0341,-999          ,9,-999          ,9
33RR20230722  ,I05        ,130     ,  1,31         ,31         ,2,20230826,0224, -33.7000,  57.0341,     5008,     60.8,2,  16.7305,2,  35.6137,2,  35.6125,2,    241.2,2,    241.0,2,     1.27,2,     0.01,2,     0.00,2,     0.15,2,    2.086,2,    1.362,2,   2.2700,2,   2083.2,2,   2335.2,2,   7.9507,6,    25.00,2,     -999,1,  16.7288,2,     -999,9,     -999,9,     -999,9,     -999,1,     -999,9,   4.9745,1,   0.0335,1,      8.1,2,     -999,9,     -999,9,     -999,9,     -999,9,20230826,0422, -33.6999,  57.0341,-999          ,9,-999          ,9
33RR20230722  ,I05        ,130     ,  1,30         ,30         ,2,20230826,0224, -33.7000,  57.0341,     5008,     88.5,2,  16.6413,2,  35.5990,2,  35.5981,2,    240.4,2,    240.6,2,     1.46,2,     0.12,2,     0.03,2,     0.15,2,     -999,9,     -999,9,     -999,9,   2085.2,2,   2334.3,2,   7.9475,6,    25.01,2,     -999,1,  16.6392,2,     -999,9,     -999,9,     -999,9,     -999,1,     -999,9,   4.9736,1,   0.0276,1,     -999,9,     -999,9,     -999,9,     -999,9,     -999,9,20230826,0420, -33.6999,  57.0341,-999          ,9,-999          ,9
33RR20230722  ,I05        ,130     ,  1,29         ,29         ,2,20230826,0224, -33.7000,  57.0341,     5008,    121.6,2,  15.7755,2,  35.5063,2,  35.5064,2,    234.1,2,    235.3,2,     1.76,2,     1.92,2,     0.16,2,     0.27,2,     -999,9,     -999,9,     -999,9,   2097.6,2,   2328.3,2,   7.9159,2,    25.01,2,     -999,1,  15.7802,2,     -999,9,     -999,9,     -999,9,     -999,1,     -999,9,   4.9717,1,   0.0203,1,     -999,9,     -999,9,     -999,9,     -999,9,     -999,9,20230826,0418, -33.7000,  57.0341,-999          ,9,-999          ,9
33RR20230722  ,I05        ,130     ,  1,28         ,28         ,2,20230826,0224, -33.7000,  57.0341,     5008,    157.4,2,  14.8704,2,  35.4332,2,  35.4322,2,    229.6,2,    230.6,2,     2.05,2,     3.94,2,     0.03,2,     0.40,2,    2.446,2,    1.518,2,   2.3600,2,   2111.4,2,   2326.0,2,   7.8803,2,    25.05,2,     -999,1,  14.8708,2,     -999,9,     -999,9,     -999,9,     -999,1,     -999,9,   4.9700,1,   0.0179,1,      9.8,2,     -999,9,     -999,9,     -999,9,     -999,9,20230826,0416, -33.7000,  57.0341,-999          ,9,-999          ,9
33RR20230722  ,I05        ,130     ,  1,27         ,27         ,2,20230826,0224, -33.7000,  57.0341,     5008,    196.0,2,  14.4462,2,  35.3939,2,  35.3936,2,    227.2,2,    228.4,2,     2.34,2,     5.15,2,     0.01,2,     0.48,2,     -999,9,     -999,9,     -999,9,   2118.1,2,   2322.2,2,   7.8684,2,    25.02,2,     -999,1,  14.4486,2,     -999,9,     -999,9,     -999,9,     -999,1,     -999,9,   4.9693,1,   0.0141,1,     -999,9,     -999,9,     -999,9,     -999,9,     -999,9,20230826,0414, -33.6999,  57.0341,-999          ,9,-999          ,9
33RR20230722  ,I05        ,130     ,  1,26         ,26         ,2,20230826,0224, -33.7000,  57.0341,     5008,    233.6,2,  13.9668,2,  35.3424,2,  35.3447,2,    230.0,2,    230.1,2,     2.63,2,     6.17,2,     0.00,2,     0.53,2,     -999,9,     -999,9,     -999,9,   2118.2,2,   2319.9,2,   7.8595,2,    25.03,2,     -999,1,  13.9559,2,     -999,9,     -999,9,     -999,9,     -999,9,     -999,9,   4.9691,1,   0.0113,1,     -999,9,     -999,9,     -999,9,     -999,9,     -999,9,20230826,0413, -33.6999,  57.0341,-999          ,9,-999          ,9
33RR20230722  ,I05        ,130     ,  1,25         ,25         ,2,20230826,0224, -33.7000,  57.0341,     5008,    283.4,2,  13.4949,2,  35.2826,2,  35.2808,2,    233.8,2,    233.1,2,     2.93,2,     7.25,2,     0.00,2,     0.59,2,     -999,9,     -999,9,     -999,9,   2118.5,2,   2316.4,2,   7.8485,2,    25.01,2,     -999,1,  13.4934,2,     -999,9,     -999,9,     -999,9,     -999,1,     -999,9,   4.9686,1,   0.0116,1,     -999,9,     -999,9,     -999,9,     -999,9,     -999,9,20230826,0411, -33.7000,  57.0341,-999          ,9,-999          ,9
33RR20230722  ,I05        ,130     ,  1,24         ,24         ,2,20230826,0224, -33.7000,  57.0341,     5008,    340.3,2,  13.1376,2,  35.2319,2,  35.2306,2,    233.6,2,    233.2,2,     3.12,2,     8.05,2,     0.00,2,     0.63,2,    2.522,2,    1.621,2,   2.3700,2,   2120.2,2,   2314.3,2,   7.8403,2,    25.03,2,     -999,1,  13.1368,2,     -999,9,     -999,9,     -999,9,     -999,9,     -999,9,   4.9683,1,   0.0114,1,     10.7,2,     -999,9,     -999,9,     -999,9,     -999,9,20230826,0409, -33.6999,  57.0341,-999          ,9,-999          ,9
33RR20230722  ,I05        ,130     ,  1,23         ,23         ,2,20230826,0224, -33.7000,  57.0341,     5008,    408.9,2,  12.6974,2,  35.1666,2,  35.1697,2,    232.5,2,    232.1,2,     3.41,2,     9.15,2,     0.00,2,     0.71,2,     -999,9,     -999,9,     -999,9,   2123.9,2,   2310.7,2,   7.8279,2,    25.02,2,     -999,1,  12.6963,2,     -999,9,     -999,9,     -999,9,     -999,9,     -999,9,   4.9678,1,   0.0114,1,     -999,9,     -999,9,     -999,9,     -999,9,     -999,9,20230826,0406, -33.7000,  57.0341,-999          ,9,-999          ,9
33RR20230722  ,I05        ,130     ,  1,22         ,22         ,2,20230826,0224, -33.7000,  57.0341,     5008,    485.5,2,  12.1841,2,  35.0883,2,  35.0876,2,    230.3,2,    229.8,2,     3.71,2,    10.56,2,     0.00,2,     0.77,2,    2.745,2,    1.725,2,   2.2200,2,   2130.1,2,   2306.6,2,   7.8130,2,    25.04,2,     -999,1,  12.1893,2,     -999,9,     -999,9,     -999,9,     -999,9,     -999,9,   4.9673,1,   0.0114,1,     11.1,2,     -999,9,     -999,9,     -999,9,     -999,9,20230826,0404, -33.7000,  57.0341,-999          ,9,-999          ,9
33RR20230722  ,I05        ,130     ,  1,21         ,21         ,2,20230826,0224, -33.7000,  57.0341,     5008,    570.7,2,  11.4307,2,  34.9725,2,  34.9723,2,    227.7,2,    227.3,2,     4.20,2,    12.50,2,     0.00,2,     0.91,2,     -999,9,     -999,9,     -999,9,   2134.2,2,   2302.5,2,   7.7653,4,    25.04,2,     -999,1,  11.4287,2,     -999,9,     -999,9,     -999,9,     -999,9,     -999,9,   4.9667,1,   0.0114,1,     -999,9,     -999,9,     -999,9,     -999,9,     -999,9,20230826,0401, -33.6999,  57.0341,-999          ,9,-999          ,9
33RR20230722  ,I05        ,130     ,  1,20         ,20         ,2,20230826,0224, -33.7000,  57.0341,     5008,    666.2,2,  10.5268,2,  34.8387,2,  34.8375,2,    221.2,2,    221.2,2,     5.66,2,    15.21,2,     0.00,2,     1.08,2,     -999,9,     -999,9,     -999,9,   2139.9,2,   2297.5,2,   7.7696,2,    25.02,2,     -999,1,  10.5243,2,     -999,9,     -999,9,     -999,9,     -999,9,     -999,9,   4.9667,1,   0.0115,1,     -999,9,     -999,9,     -999,9,     -999,9,     -999,9,20230826,0359, -33.6999,  57.0341,-999          ,9,-999          ,9
33RR20230722  ,I05        ,130     ,  1,19         ,19         ,2,20230826,0224, -33.7000,  57.0341,     5008,    773.2,2,   9.2779,2,  34.6855,2,  34.6838,2,    214.1,2,    214.8,2,     8.69,2,    18.82,2,     0.00,2,     1.31,2,    3.190,2,    1.792,2,   1.6200,2,   2151.1,2,   2291.9,2,   7.7269,2,    25.02,2,     -999,1,   9.2708,2,     -999,9,     -999,9,     -999,9,     -999,9,     -999,9,   4.9673,1,   0.0114,1,     14.3,2,     -999,9,     -999,9,     -999,9,     -999,9,20230826,0356, -33.6999,  57.0341,-999          ,9,-999          ,9
33RR20230722  ,I05        ,130     ,  1,18         ,18         ,2,20230826,0224, -33.7000,  57.0341,     5008,    888.6,2,   7.7074,2,  34.5370,2,  34.5374,2,    207.1,2,    207.6,2,    14.35,2,    23.10,2,     0.00,2,     1.58,2,     -999,9,     -999,9,     -999,9,   2167.9,2,   2288.3,2,   7.6814,2,    25.03,2,     -999,1,   7.7231,2,     -999,9,     -999,9,     -999,9,     -999,9,     -999,9,   4.9688,1,   0.0112,1,     -999,9,     -999,9,     -999,9,     -999,9,     -999,9,20230826,0352, -33.7000,  57.0341,-999          ,9,-999          ,9
33RR20230722  ,I05        ,130     ,  1,17         ,17         ,2,20230826,0224, -33.7000,  57.0341,     5008,   1006.1,2,   5.9959,2,  34.4130,2,  34.4112,2,    204.7,2,    204.8,2,    22.65,2,    27.25,2,     0.00,2,     1.87,2,     -999,9,     -999,9,     -999,9,   2184.3,2,   2289.3,2,   7.6409,2,    25.04,2,     -999,1,   6.0240,2,     -999,9,     -999,9,     -999,9,     -999,9,     -999,9,   4.3709,1,   0.0112,1,     -999,9,     -999,9,     -999,9,     -999,9,     -999,9,20230826,0349, -33.6999,  57.0341,-999          ,9,-999          ,9
33RR20230722  ,I05        ,130     ,  1,16         ,16         ,2,20230826,0224, -33.7000,  57.0341,     5008,   1125.7,2,   4.7247,2,  34.3605,2,  34.3598,2,    202.4,2,    202.3,2,    32.41,2,    30.03,2,     0.00,2,     2.07,2,    1.999,2,    1.284,2,   0.8100,2,   2200.6,2,   2296.9,2,   7.6135,2,    25.03,2,     -999,1,   4.7213,2,     -999,9,     -999,9,     -999,9,     -999,9,     -999,9,   4.9708,1,   0.0112,1,     19.1,2,     -999,9,     -999,9,     -999,9,     -999,9,20230826,0346, -33.6999,  57.0341,-999          ,9,-999          ,9
33RR20230722  ,I05        ,130     ,  1,15         ,15         ,2,20230826,0224, -33.7000,  57.0341,     5008,   1255.3,2,   4.0110,2,  34.3881,2,  34.3872,2,    191.3,2,    191.6,2,    43.25,2,    31.87,2,     0.00,2,     2.20,2,     -999,9,     -999,9,     -999,9,   2218.1,2,   2305.0,2,   7.5925,2,    25.03,2,     -999,1,   4.0104,2,     -999,9,     -999,9,     -999,9,     -999,9,     -999,9,   4.9719,1,   0.0111,1,     -999,9,     -999,9,     -999,9,     -999,9,     -999,9,20230826,0343, -33.6999,  57.0341,-999          ,9,-999          ,9
33RR20230722  ,I05        ,130     ,  1,14         ,14         ,2,20230826,0224, -33.7000,  57.0341,     5008,   1393.9,2,   3.5287,2,  34.4473,2,  34.4477,2,    179.4,2,    179.5,2,    54.57,2,    33.06,2,     0.00,2,     2.31,2,     -999,9,     -999,9,     -999,9,   2233.4,2,   2315.9,6,   7.5716,2,    25.02,2,     -999,1,   3.5166,2,     -999,9,     -999,9,     -999,9,     -999,9,     -999,9,   4.9732,1,   0.0112,1,     -999,9,     -999,9,     -999,9,     -999,9,     -999,9,20230826,0339, -33.6999,  57.0341,-999          ,9,-999          ,9
33RR20230722  ,I05        ,130     ,  1,13         ,13         ,2,20230826,0224, -33.7000,  57.0341,     5008,   1546.1,2,   3.1005,2,  34.5259,2,  34.5248,2,    173.0,2,    173.1,2,    64.03,2,    33.38,2,     0.00,2,     2.34,2,    0.724,2,    0.368,2,   0.1500,2,   2246.1,2,   2325.6,2,   7.5680,6,    25.04,2,     -999,1,   3.1008,2,     -999,9,     -999,9,     -999,9,     -999,9,     -999,9,   4.9737,1,   0.0115,1,     22.0,2,     -999,9,     -999,9,     -999,9,     -999,9,20230826,0336, -33.6999,  57.0341,-999          ,9,-999          ,9
33RR20230722  ,I05        ,130     ,  1,12         ,12         ,2,20230826,0224, -33.7000,  57.0341,     5008,   1705.9,2,   2.8694,2,  34.5888,2,  34.5885,2,    172.7,2,    172.7,2,    69.98,2,    33.00,2,     0.00,2,     2.30,2,     -999,9,     -999,9,     -999,9,   2249.4,6,   2333.4,2,   7.5741,2,    25.04,2,     -999,1,   2.8679,2,     -999,9,     -999,9,     -999,9,     -999,9,     -999,9,   4.9742,1,   0.0112,1,     -999,9,     -999,9,     -999,9,     -999,9,     -999,9,20230826,0332, -33.6999,  57.0341,-999          ,9,-999          ,9
33RR20230722  ,I05        ,130     ,  1,11         ,11         ,2,20230826,0224, -33.7000,  57.0341,     5008,   1891.1,2,   2.6742,2,  34.6438,2,  34.6427,2,    175.8,2,    176.0,2,    74.57,2,    32.29,2,     0.00,2,     2.24,2,    0.255,2,    0.129,2,   0.0700,2,   2250.5,2,   2339.6,2,   7.5850,2,    25.03,2,     -999,1,   2.6736,2,     -999,9,     -999,9,     -999,9,     -999,9,     -999,9,   4.9744,1,   0.0112,1,     21.0,2,     -999,9,     -999,9,     -999,9,     -999,9,20230826,0328, -33.7000,  57.0341,-999          ,9,-999          ,9
33RR20230722  ,I05        ,130     ,  1,10         ,10         ,2,20230826,0224, -33.7000,  57.0341,     5008,   2122.1,2,   2.4248,2,  34.6933,2,  34.6922,2,    179.9,2,    179.9,2,    82.86,2,    31.72,2,     0.00,2,     2.18,2,     -999,9,     -999,9,     -999,9,   2254.3,2,   2348.8,2,   7.5994,2,    25.01,2,     -999,1,   2.4244,2,     -999,9,     -999,9,     -999,9,     -999,9,     -999,9,   4.9745,1,   0.0112,1,     -999,9,     -999,9,     -999,9,     -999,9,     -999,9,20230826,0323, -33.6999,  57.0341,-999          ,9,-999          ,9
33RR20230722  ,I05        ,130     ,  1,9          ,9          ,2,20230826,0224, -33.7000,  57.0341,     5008,   2406.9,2,   2.1690,2,  34.7259,2,  34.7254,2,    183.6,2,    183.6,2,    93.01,2,    31.40,2,     0.00,2,     2.15,2,    0.064,2,    0.036,2,   0.0100,2,   2260.4,2,   2359.2,2,   7.6095,6,    25.01,2,     -999,1,   2.1687,2,     -999,9,     -999,9,     -999,9,     -999,9,     -999,9,   4.9748,1,   0.0110,1,     19.7,2,     -999,9,     -999,9,     -999,9,     -999,9,20230826,0317, -33.6999,  57.0341,-999          ,9,-999          ,9
33RR20230722  ,I05        ,130     ,  1,8          ,8          ,2,20230826,0224, -33.7000,  57.0341,     5008,   2746.9,2,   1.9432,2,  34.7369,2,  34.7372,2,    186.3,2,    186.3,2,   100.82,2,    31.43,2,     0.00,2,     2.17,2,     -999,9,     -999,9,     -999,9,   2265.6,2,   2365.0,2,   7.6120,2,    25.05,2,     -999,1,   1.9429,2,     -999,9,     -999,9,     -999,9,     -999,9,     -999,9,   4.9755,1,   0.0114,1,     -999,9,     -999,9,     -999,9,     -999,9,     -999,9,20230826,0310, -33.6999,  57.0341,-999          ,9,-999          ,9
33RR20230722  ,I05        ,130     ,  1,7          ,7          ,2,20230826,0224, -33.7000,  57.0341,     5008,   3134.0,2,   1.6691,2,  34.7386,2,  34.7378,2,    197.6,2,    197.6,2,   101.30,2,    30.79,2,     0.00,2,     2.13,2,     -999,9,     -999,9,     -999,9,   2258.3,2,   2360.6,2,   7.6188,2,    25.04,2,     -999,1,   1.6689,2,     -999,9,     -999,9,     -999,9,     -999,9,     -999,9,   4.9755,1,   0.0118,1,     -999,9,     -999,9,     -999,9,     -999,9,     -999,9,20230826,0302, -33.6999,  57.0341,-999          ,9,-999          ,9
33RR20230722  ,I05        ,130     ,  1,6          ,6          ,2,20230826,0224, -33.7000,  57.0341,     5008,   3551.0,2,   1.1852,2,  34.7203,2,  34.7201,2,    207.5,2,    207.6,2,   110.87,2,    31.06,2,     0.00,2,     2.15,2,    0.155,2,    0.101,2,   0.0900,2,   2256.6,2,   2357.5,2,   7.6152,2,    25.01,2,     -999,1,   1.1850,2,     -999,9,     -999,9,     -999,9,     -999,9,     -999,9,   4.9758,1,   0.0110,1,     18.0,2,     -999,9,     -999,9,     -999,9,     -999,9,20230826,0254, -33.6999,  57.0341,-999          ,9,-999          ,9
33RR20230722  ,I05        ,130     ,  1,5          ,5          ,2,20230826,0224, -33.7000,  57.0341,     5008,   3981.4,2,   0.8383,2,  34.7016,2,  34.7019,2,    212.3,2,    212.3,2,   122.39,2,    31.70,2,     0.00,2,     2.19,2,     -999,9,     -999,9,     -999,9,   2258.8,2,   2358.6,2,   7.6091,2,    25.02,2,     -999,1,   0.8377,2,     -999,9,     -999,9,     -999,9,     -999,9,     -999,9,   4.9760,1,   0.0111,1,     -999,9,     -999,9,     -999,9,     -999,9,     -999,9,20230826,0246, -33.6999,  57.0341,-999          ,9,-999          ,9
33RR20230722  ,I05        ,130     ,  1,4          ,37         ,2,20230826,0224, -33.7000,  57.0341,     5008,   4410.5,2,   0.7006,2,  34.6926,2,  34.6922,2,    214.9,2,    215.2,2,   127.17,2,    32.00,2,     0.00,2,     2.21,2,     -999,9,     -999,9,     -999,9,   2260.5,2,   2358.2,2,   7.6051,2,    25.03,2,     -999,1,   0.7005,2,     -999,9,     -999,9,     -999,9,     -999,9,     -999,9,   4.9766,1,   0.0111,1,     -999,9,     -999,9,     -999,9,     -999,9,     -999,9,20230826,0238, -33.6999,  57.0341,-999          ,9,-999          ,9
33RR20230722  ,I05        ,130     ,  1,3          ,3          ,2,20230826,0224, -33.7000,  57.0341,     5008,   4758.4,2,   0.6688,2,  34.6889,2,  34.6887,2,    215.9,2,    216.1,2,   129.32,2,    32.13,2,     0.00,2,     2.22,2,    0.283,2,    0.150,2,   0.0600,2,   2260.3,2,   2357.4,2,   7.6057,2,    25.02,2,     -999,1,   0.6684,2,     -999,9,     -999,9,     -999,9,     -999,9,     -999,9,   4.9765,1,   0.0111,1,     17.8,2,     -999,9,     -999,9,     -999,9,     -999,9,20230826,0231, -33.6999,  57.0341,-999          ,9,-999          ,9
33RR20230722  ,I05        ,130     ,  1,2          ,2          ,2,20230826,0224, -33.7000,  57.0341,     5008,   4965.5,2,   0.6874,2,  34.6883,2,  34.6889,2,    216.1,2,    216.3,2,   129.22,2,    32.14,2,     0.00,2,     2.23,2,    0.259,2,    0.150,2,   0.0700,2,   2261.1,2,   2359.4,2,   7.6058,2,    25.01,2,     -999,1,   0.6871,2,     -999,9,     -999,9,     -999,9,     -999,9,     -999,9,   4.9767,1,   0.0111,1,     18.0,2,     -999,9,     -999,9,     -999,9,     -999,9,20230826,0227, -33.6999,  57.0341,-999          ,9,-999          ,9
33RR20230722  ,I05        ,130     ,  1,1          ,1          ,2,20230826,0224, -33.7000,  57.0341,     5008,   5092.5,2,   0.6999,2,  34.6878,2,  34.6891,2,    216.2,2,    216.1,2,   129.90,2,    32.19,2,     0.00,2,     2.24,2,    0.276,2,    0.151,2,   0.0400,2,   2260.5,6,   2359.4,2,   7.6062,2,    25.01,2,     -999,1,   0.6990,2,     -999,9,     -999,9,     -999,9,     -999,9,     -999,9,   0.5474,1,   0.0111,1,     18.0,2,     -999,9,     -999,9,     -999,9,     -999,9,20230826,0224, -33.6999,  57.0341,-999          ,9,-999          ,9