BOTTLE,20240422CCHHYDRO
EXPOCODE,SECT_ID,STNNBR,CASTNO,SAMPNO,BTLNBR,BTLNBR_FLAG_W,DATE,TIME,LATITUDE,LONGITUDE,DEPTH,CTDPRS,CTDPRS_FLAG_W,CTDTMP,CTDTMP_FLAG_W,CTDSAL,CTDSAL_FLAG_W,SALNTY,SALNTY_FLAG_W,CTDOXY,CTDOXY_FLAG_W,OXYGEN,OXYGEN_FLAG_W,SILCAT,SILCAT_FLAG_W,NITRAT,NITRAT_FLAG_W,NITRIT,NITRIT_FLAG_W,PHSPHT,PHSPHT_FLAG_W,CFC-11,CFC-11_FLAG_W,CFC-12,CFC-12_FLAG_W,SF6,SF6_FLAG_W,TCARBN,TCARBN_FLAG_W,ALKALI,ALKALI_FLAG_W,PH_TOT,PH_TOT_FLAG_W,PH_TMP,PH_TMP_FLAG_W,DOC,DOC_FLAG_W,REFTMP,REFTMP_FLAG_W,POC,POC_FLAG_W,PON,PON_FLAG_W,POP,POP_FLAG_W,DOP,DOP_FLAG_W,DELO18,DELO18_FLAG_W,CTDFLUOR,CTDFLUOR_FLAG_W,CTDXMISS,CTDXMISS_FLAG_W,N2O,N2O_FLAG_W,D15N_NO3,D15N_NO3_FLAG_W,D15N_NO2+NO3,D15N_NO2+NO3_FLAG_W,D18O_NO2+NO3,D18O_NO2+NO3_FLAG_W,D18O_NO3,D18O_NO3_FLAG_W,BTL_DATE,BTL_TIME,BTL_LAT,BTL_LON,HPLC,HPLC_FLAG_W,DNA,DNA_FLAG_W
,,,,,,,,,,,METERS,DBAR,,ITS-90,,PSS-78,,PSS-78,,UMOL/KG,,UMOL/KG,,UMOL/KG,,UMOL/KG,,UMOL/KG,,UMOL/KG,,PMOL/KG,,PMOL/KG,,FMOL/KG,,UMOL/KG,,UMOL/KG,,,,DEG C,,UMOL/KG,,ITS-90,,UG/KG,,UG/KG,,UG/L,,UMOL/KG,,/MILLE,,VOLTS,,VOLTS,,NMOL/KG,,/MILLE,,/MILLE,,/MILLE,,/MILLE,,,,,,,,,
33RR20230722  ,I05        ,145     ,  1,36         ,38         ,2,20230829,1829, -33.7669,  50.3864,     4367,      7.7,2,  17.5345,2,  35.6454,2,  35.6461,2,    239.6,2,    238.6,2,     1.46,2,     0.08,2,     0.00,2,     0.12,2,    1.551,4,    1.326,2,   2.2200,2,   2073.9,6,   2334.7,2,   7.9634,2,    25.03,2,     -999,1,  17.5320,2,     -999,9,     -999,9,     -999,9,     -999,9,     -999,9,   4.5635,1,   0.0270,1,      7.8,2,     -999,9,     -999,9,     -999,9,     -999,9,20230829,2026, -33.7669,  50.3864,-999          ,9,-999          ,9
33RR20230722  ,I05        ,145     ,  1,35         ,35         ,2,20230829,1829, -33.7669,  50.3864,     4367,     23.8,2,  17.5310,2,  35.6453,2,  35.6463,2,    239.5,2,    238.5,2,     1.46,2,     0.02,2,     0.00,2,     0.12,2,    2.428,4,    1.317,2,   2.2100,2,   2075.2,2,   2334.5,2,   7.9628,6,    25.00,2,     -999,9,  17.5318,2,     -999,9,     -999,9,     -999,9,     -999,9,     -999,9,   4.8601,1,   0.0269,1,      7.8,2,     -999,9,     -999,9,     -999,9,     -999,9,20230829,2024, -33.7669,  50.3864,-999          ,9,-999          ,9
33RR20230722  ,I05        ,145     ,  1,34         ,34         ,2,20230829,1829, -33.7669,  50.3864,     4367,     40.4,2,  17.5328,2,  35.6455,2,  35.6463,2,    239.5,2,    238.9,2,     1.46,2,     0.00,2,     0.00,2,     0.12,2,     -999,9,     -999,9,     -999,9,   2074.5,2,   2334.1,6,   7.9635,2,    25.00,2,     -999,9,  17.5299,2,     -999,9,     -999,9,     -999,9,     -999,9,     -999,9,   4.9751,1,   0.0265,1,     -999,9,     -999,9,     -999,9,     -999,9,     -999,9,20230829,2022, -33.7669,  50.3864,-999          ,9,-999          ,9
33RR20230722  ,I05        ,145     ,  1,33         ,33         ,2,20230829,1829, -33.7669,  50.3864,     4367,     59.8,2,  17.5378,2,  35.6457,2,  35.6473,2,    239.3,2,    238.2,2,     1.46,2,     0.00,2,     0.00,2,     0.10,2,    1.569,4,    1.321,2,   2.2700,2,   2074.8,2,   2335.2,2,   7.9631,2,    25.02,2,     -999,9,  17.5372,2,     -999,9,     -999,9,     -999,9,     -999,9,     -999,9,   4.9744,1,   0.0280,1,      7.7,2,     -999,9,     -999,9,     -999,9,     -999,9,20230829,2020, -33.7669,  50.3864,-999          ,9,-999          ,9
33RR20230722  ,I05        ,145     ,  1,32         ,32         ,2,20230829,1829, -33.7669,  50.3864,     4367,     83.0,2,  17.5702,2,  35.6719,2,  35.6727,2,    236.7,2,    236.4,2,     1.46,2,     0.00,2,     0.02,2,     0.11,2,     -999,9,     -999,9,     -999,9,   2076.7,2,   2336.2,2,   7.9623,2,    25.03,2,     -999,9,  17.5703,2,     -999,9,     -999,9,     -999,9,     -999,9,     -999,9,   4.9737,1,   0.0324,1,     -999,9,     -999,9,     -999,9,     -999,9,     -999,9,20230829,2018, -33.7669,  50.3864,-999          ,9,-999          ,9
33RR20230722  ,I05        ,145     ,  1,31         ,31         ,2,20230829,1829, -33.7669,  50.3864,     4367,    108.3,2,  17.5629,2,  35.6755,2,  35.6769,2,    235.5,2,    235.5,2,     1.46,2,     0.02,2,     0.03,2,     0.10,2,     -999,5,     -999,5,     -999,5,   2080.2,2,   2335.5,2,   7.9602,2,    25.03,2,     -999,9,  17.5592,2,     -999,9,     -999,9,     -999,9,     -999,9,     -999,9,   4.9732,1,   0.0254,1,     -999,5,     -999,9,     -999,9,     -999,9,     -999,9,20230829,2016, -33.7669,  50.3864,-999          ,9,-999          ,9
33RR20230722  ,I05        ,145     ,  1,30         ,30         ,2,20230829,1829, -33.7669,  50.3864,     4367,    132.1,2,  17.2289,2,  35.6310,2,  35.6338,2,    227.5,2,    228.6,2,     1.66,2,     1.18,2,     0.14,2,     0.19,2,     -999,9,     -999,9,     -999,9,   2086.9,2,   2333.8,2,   7.9404,6,    25.02,2,     -999,9,  17.2307,2,     -999,9,     -999,9,     -999,9,     -999,9,     -999,9,   4.9719,1,   0.0157,1,     -999,9,     -999,9,     -999,9,     -999,9,     -999,9,20230829,2015, -33.7670,  50.3864,-999          ,9,-999          ,9
33RR20230722  ,I05        ,145     ,  1,29         ,29         ,2,20230829,1829, -33.7669,  50.3864,     4367,    155.6,2,  16.2329,2,  35.5340,2,  35.5348,2,    216.7,3,    218.9,2,     2.34,2,     3.66,2,     0.02,2,     0.33,2,    1.667,4,    1.412,2,   2.1900,2,   2104.0,2,   2328.2,2,   7.8999,2,    25.02,2,     -999,9,  16.2311,2,     -999,9,     -999,9,     -999,9,     -999,9,     -999,9,   4.8287,1,   0.0144,1,      9.2,2,     -999,9,     -999,9,     -999,9,     -999,9,20230829,2013, -33.7670,  50.3864,-999          ,9,-999          ,9
33RR20230722  ,I05        ,145     ,  1,28         ,28         ,2,20230829,1829, -33.7669,  50.3864,     4367,    179.3,2,  15.6961,2,  35.4995,2,  35.5012,2,    217.7,2,    219.2,2,     2.54,2,     4.33,2,     0.02,2,     0.39,2,     -999,9,     -999,9,     -999,9,   2107.3,2,   2327.1,2,   7.8886,2,    25.02,2,     -999,9,  15.7200,2,     -999,9,     -999,9,     -999,9,     -999,9,     -999,9,   4.9691,1,   0.0127,1,     -999,9,     -999,9,     -999,9,     -999,9,     -999,9,20230829,2011, -33.7670,  50.3864,-999          ,9,-999          ,9
33RR20230722  ,I05        ,145     ,  1,27         ,27         ,2,20230829,1829, -33.7669,  50.3864,     4367,    204.5,2,  15.1372,2,  35.4505,2,  35.4529,2,    219.0,2,    220.1,2,     2.83,2,     5.28,2,     0.02,2,     0.45,2,    2.340,4,    1.494,2,   2.2000,2,   2112.2,2,   2323.8,2,   7.8764,2,    24.98,2,     -999,9,  15.1415,2,     -999,9,     -999,9,     -999,9,     -999,9,     -999,9,   4.9684,1,   0.0113,1,      9.4,2,     -999,9,     -999,9,     -999,9,     -999,9,20230829,2009, -33.7669,  50.3864,-999          ,9,-999          ,9
33RR20230722  ,I05        ,145     ,  1,26         ,26         ,2,20230829,1829, -33.7669,  50.3864,     4367,    232.4,2,  14.7379,2,  35.4067,2,  35.4054,2,    218.4,2,    219.7,2,     3.12,2,     6.24,2,     0.00,2,     0.51,2,     -999,9,     -999,9,     -999,9,   2115.6,2,   2321.6,2,   7.8642,2,    25.01,2,     -999,9,  14.7303,2,     -999,9,     -999,9,     -999,9,     -999,9,     -999,9,   4.9683,1,   0.0114,1,     -999,9,     -999,9,     -999,9,     -999,9,     -999,9,20230829,2007, -33.7669,  50.3864,-999          ,9,-999          ,9
33RR20230722  ,I05        ,145     ,  1,25         ,25         ,2,20230829,1829, -33.7669,  50.3864,     4367,    269.3,2,  14.2811,2,  35.3609,2,  35.3587,2,    221.1,2,    221.7,2,     3.22,2,     6.87,2,     0.00,2,     0.55,2,    2.495,4,    1.557,6,   2.2100,6,   2118.2,2,   2319.0,2,   7.8575,2,    24.99,2,     -999,9,  14.2666,2,     -999,9,     -999,9,     -999,9,     -999,9,     -999,9,   4.9680,1,   0.0115,1,      9.9,6,     -999,9,     -999,9,     -999,9,     -999,9,20230829,2005, -33.7669,  50.3864,-999          ,9,-999          ,9
33RR20230722  ,I05        ,145     ,  1,24         ,24         ,2,20230829,1829, -33.7669,  50.3864,     4367,    321.0,2,  13.6830,2,  35.2956,2,  35.2972,2,    223.7,2,    223.9,2,     3.41,2,     7.82,2,     0.00,2,     0.61,2,     -999,9,     -999,9,     -999,9,   2123.0,2,   2316.2,2,   7.8442,2,    24.97,2,     -999,9,  13.6812,2,     -999,9,     -999,9,     -999,9,     -999,9,     -999,9,   4.8656,1,   0.0115,1,     -999,9,     -999,9,     -999,9,     -999,9,     -999,9,20230829,2003, -33.7669,  50.3864,-999          ,9,-999          ,9
33RR20230722  ,I05        ,145     ,  1,23         ,23         ,2,20230829,1829, -33.7669,  50.3864,     4367,    385.4,2,  13.1572,2,  35.2320,2,  35.2306,2,    225.8,2,    226.1,2,     3.51,2,     8.91,2,     0.00,2,     0.66,2,    1.932,4,    1.630,2,   2.1500,2,   2124.6,6,   2314.1,2,   7.8344,6,    24.97,2,     -999,9,  13.1558,2,     -999,9,     -999,9,     -999,9,     -999,9,     -999,9,   4.9677,1,   0.0115,1,     10.6,2,     -999,9,     -999,9,     -999,9,     -999,9,20230829,2001, -33.7669,  50.3864,-999          ,9,-999          ,9
33RR20230722  ,I05        ,145     ,  1,22         ,22         ,2,20230829,1829, -33.7669,  50.3864,     4367,    463.8,2,  12.6544,2,  35.1604,2,  35.1610,2,    228.7,2,    228.2,2,     3.71,2,     9.88,2,     0.00,2,     0.72,2,    2.947,4,    1.664,2,   2.0900,2,   2126.7,2,   2310.0,2,   7.8235,2,    25.00,2,     -999,9,  12.6561,2,     -999,9,     -999,9,     -999,9,     -999,9,     -999,9,   4.9010,1,   0.0112,1,     10.7,2,     -999,9,     -999,9,     -999,9,     -999,9,20230829,1958, -33.7669,  50.3864,-999          ,9,-999          ,9
33RR20230722  ,I05        ,145     ,  1,21         ,21         ,2,20230829,1829, -33.7669,  50.3864,     4367,    551.0,2,  11.8361,2,  35.0349,2,  35.0360,2,    225.1,2,    224.5,2,     4.29,2,    11.98,2,     0.00,2,     0.86,2,    3.136,4,    1.743,2,   1.8900,2,   2132.1,2,   2306.0,2,   7.8008,2,    24.98,2,     -999,9,  11.8370,2,     -999,9,     -999,9,     -999,9,     -999,9,     -999,9,   4.9668,1,   0.0114,1,     11.4,2,     -999,9,     -999,9,     -999,9,     -999,9,20230829,1956, -33.7669,  50.3864,-999          ,9,-999          ,9
33RR20230722  ,I05        ,145     ,  1,20         ,20         ,2,20230829,1829, -33.7669,  50.3864,     4367,    646.2,2,  10.9775,2,  34.9090,2,  34.9138,2,    223.5,2,    223.3,2,     4.88,2,    13.99,2,     0.00,2,     0.99,2,    2.928,4,    1.808,2,   1.8400,2,   2137.8,2,   2301.7,2,   7.7807,2,    24.98,2,     -999,9,  10.9893,2,     -999,9,     -999,9,     -999,9,     -999,9,     -999,9,   4.9665,1,   0.0114,1,     12.1,2,     -999,9,     -999,9,     -999,9,     -999,9,20230829,1953, -33.7669,  50.3864,-999          ,9,-999          ,9
33RR20230722  ,I05        ,145     ,  1,19         ,19         ,2,20230829,1829, -33.7669,  50.3864,     4367,    750.4,2,   9.6889,2,  34.7386,2,  34.7388,2,    218.7,2,    218.6,2,     7.12,2,    17.53,2,     0.00,2,     1.20,2,    3.316,4,    1.811,2,   1.5100,2,   2146.8,2,   2293.1,2,   7.7460,2,    24.96,2,     -999,9,   9.6847,2,     -999,9,     -999,9,     -999,9,     -999,9,     -999,9,   4.8579,1,   0.0113,1,     13.5,2,     -999,9,     -999,9,     -999,9,     -999,9,20230829,1950, -33.7669,  50.3864,-999          ,9,-999          ,9
33RR20230722  ,I05        ,145     ,  1,18         ,18         ,2,20230829,1829, -33.7669,  50.3864,     4367,    864.4,2,   8.3307,2,  34.5990,2,  34.5997,2,    209.0,2,    209.2,2,    12.20,2,    21.69,2,     0.00,2,     1.48,2,    2.910,4,    1.693,2,   1.2800,2,   2161.7,2,   2290.1,2,   7.7034,2,    24.98,2,     -999,9,   8.3204,2,     -999,9,     -999,9,     -999,9,     -999,9,     -999,9,   4.9681,1,   0.0112,1,     15.3,2,     -999,9,     -999,9,     -999,9,     -999,9,20230829,1947, -33.7669,  50.3864,-999          ,9,-999          ,9
33RR20230722  ,I05        ,145     ,  1,17         ,17         ,2,20230829,1829, -33.7669,  50.3864,     4367,    983.5,2,   6.8847,2,  34.4797,2,  34.4824,2,    202.7,2,    203.7,2,    18.55,2,    25.58,2,     0.00,2,     1.74,2,    2.680,4,    1.493,2,   1.0100,2,   2176.7,2,   2290.4,2,   7.6637,2,    24.99,2,     -999,9,   6.8468,2,     -999,9,     -999,9,     -999,9,     -999,9,     -999,9,   4.9692,1,   0.0114,1,     16.9,2,     -999,9,     -999,9,     -999,9,     -999,9,20230829,1943, -33.7669,  50.3864,-999          ,9,-999          ,9
33RR20230722  ,I05        ,145     ,  1,16         ,16         ,2,20230829,1829, -33.7669,  50.3864,     4367,   1106.6,2,   5.2969,2,  34.3902,2,  34.3915,2,    202.5,2,    202.3,2,    28.70,2,    29.12,2,     0.00,2,     2.00,2,     -999,9,     -999,9,     -999,9,   2193.7,2,   2295.3,2,   7.6272,2,    25.01,2,     -999,9,   5.3002,2,     -999,9,     -999,9,     -999,9,     -999,9,     -999,9,   4.6267,1,   0.0113,1,     -999,9,     -999,9,     -999,9,     -999,9,     -999,9,20230829,1940, -33.7669,  50.3864,-999          ,9,-999          ,9
33RR20230722  ,I05        ,145     ,  1,15         ,15         ,2,20230829,1829, -33.7669,  50.3864,     4367,   1237.0,2,   4.3260,2,  34.3981,2,  34.3976,2,    192.2,2,    192.6,2,    40.42,2,    31.52,2,     0.00,2,     2.16,2,    1.868,4,    0.986,2,   0.5800,2,   2212.5,2,   2303.4,2,   7.6014,2,    24.99,2,     -999,9,   4.3415,2,     -999,9,     -999,9,     -999,9,     -999,9,     -999,9,   4.7790,1,   0.0112,1,     20.5,2,     -999,9,     -999,9,     -999,9,     -999,9,20230829,1937, -33.7669,  50.3864,-999          ,9,-999          ,9
33RR20230722  ,I05        ,145     ,  1,14         ,14         ,2,20230829,1829, -33.7669,  50.3864,     4367,   1373.6,2,   3.6336,2,  34.4533,2,  34.4579,2,    180.4,2,    180.4,2,    54.28,2,    33.07,2,     0.00,2,     2.28,2,     -999,9,     -999,9,     -999,9,   2232.5,2,   2316.0,2,   7.5824,2,    24.98,2,     -999,9,   3.6331,2,     -999,9,     -999,9,     -999,9,     -999,9,     -999,9,   4.9130,1,   0.0113,1,     -999,9,     -999,9,     -999,9,     -999,9,     -999,9,20230829,1934, -33.7669,  50.3864,-999          ,9,-999          ,9
33RR20230722  ,I05        ,145     ,  1,13         ,13         ,2,20230829,1829, -33.7669,  50.3864,     4367,   1516.5,2,   3.2281,2,  34.5172,2,  34.5150,2,    175.7,2,    175.1,2,    62.77,2,    33.40,2,     0.00,2,     2.30,2,    0.835,4,    0.401,2,   0.2300,2,   2240.2,6,   2325.9,2,   7.5765,2,    25.01,2,     -999,9,   3.2321,2,     -999,9,     -999,9,     -999,9,     -999,9,     -999,9,   4.7089,1,   0.0118,1,     21.7,2,     -999,9,     -999,9,     -999,9,     -999,9,20230829,1930, -33.7669,  50.3864,-999          ,9,-999          ,9
33RR20230722  ,I05        ,145     ,  1,12         ,12         ,2,20230829,1829, -33.7669,  50.3864,     4367,   1663.1,2,   2.9805,2,  34.5814,2,  34.5824,2,    176.2,2,    176.0,2,    67.55,2,    32.93,2,     0.00,2,     2.27,2,     -999,9,     -999,9,     -999,9,   2243.6,2,   2331.7,2,   7.5810,2,    25.01,2,     -999,9,   2.9837,2,     -999,9,     -999,9,     -999,9,     -999,9,     -999,9,   4.6373,1,   0.0112,1,     -999,9,     -999,9,     -999,9,     -999,9,     -999,9,20230829,1927, -33.7669,  50.3864,-999          ,9,-999          ,9
33RR20230722  ,I05        ,145     ,  1,11         ,11         ,2,20230829,1829, -33.7669,  50.3864,     4367,   1819.6,2,   2.7452,2,  34.6344,2,  34.6345,2,    178.2,2,    178.2,2,    72.91,2,    32.40,2,     0.00,2,     2.24,2,    0.326,4,    0.174,2,   0.0800,2,   2247.1,2,   2339.8,2,   7.5901,2,    24.97,2,     -999,9,   2.7461,2,     -999,9,     -999,9,     -999,9,     -999,9,     -999,9,   4.9740,1,   0.0112,1,     21.1,2,     -999,9,     -999,9,     -999,9,     -999,9,20230829,1923, -33.7669,  50.3864,-999          ,9,-999          ,9
33RR20230722  ,I05        ,145     ,  1,10         ,10         ,2,20230829,1829, -33.7669,  50.3864,     4367,   2008.6,2,   2.5418,2,  34.6786,2,  34.6794,2,    182.0,2,    181.8,2,    78.18,2,    31.80,2,     0.00,2,     2.20,2,     -999,9,     -999,9,     -999,9,   2249.4,2,   2344.8,2,   7.5991,2,    24.98,2,     -999,9,   2.5417,2,     -999,9,     -999,9,     -999,9,     -999,9,     -999,9,   4.8894,1,   0.0111,1,     -999,9,     -999,9,     -999,9,     -999,9,     -999,9,20230829,1919, -33.7669,  50.3864,-999          ,9,-999          ,9
33RR20230722  ,I05        ,145     ,  1,9          ,9          ,2,20230829,1829, -33.7669,  50.3864,     4367,   2243.7,2,   2.3684,2,  34.7098,2,  34.7107,2,    187.3,2,    187.5,2,    81.11,2,    31.16,2,     0.00,2,     2.13,2,    0.099,4,    0.081,2,   0.0400,2,   2248.8,2,   2346.0,2,   7.6096,2,    25.01,2,     -999,9,   2.3680,2,     -999,9,     -999,9,     -999,9,     -999,9,     -999,9,   4.9743,1,   0.0113,1,     19.6,2,     -999,9,     -999,9,     -999,9,     -999,9,20230829,1914, -33.7669,  50.3864,-999          ,9,-999          ,9
33RR20230722  ,I05        ,145     ,  1,8          ,8          ,2,20230829,1829, -33.7669,  50.3864,     4367,   2518.5,2,   2.1504,2,  34.7383,2,  34.7384,2,    192.1,2,    192.5,2,    87.25,2,    30.68,2,     0.00,2,     2.11,2,     -999,9,     -999,9,     -999,9,   2251.0,2,   2354.2,2,   7.6179,2,    24.98,2,     -999,9,   2.1506,2,     -999,9,     -999,9,     -999,9,     -999,9,     -999,9,   4.9744,1,   0.0112,1,     -999,9,     -999,9,     -999,9,     -999,9,     -999,9,20230829,1909, -33.7669,  50.3865,-999          ,9,-999          ,9
33RR20230722  ,I05        ,145     ,  1,7          ,7          ,2,20230829,1829, -33.7669,  50.3864,     4367,   2829.3,2,   1.9050,2,  34.7462,2,  34.7469,2,    193.7,2,    193.9,2,    96.72,2,    30.92,2,     0.00,2,     2.14,2,     -999,5,     -999,5,     -999,5,   2257.9,2,   2362.2,2,   7.6206,2,    25.01,2,     -999,9,   1.9052,2,     -999,9,     -999,9,     -999,9,     -999,9,     -999,9,   4.7739,1,   0.0112,1,     -999,5,     -999,9,     -999,9,     -999,9,     -999,9,20230829,1902, -33.7669,  50.3864,-999          ,9,-999          ,9
33RR20230722  ,I05        ,145     ,  1,6          ,6          ,2,20230829,1829, -33.7669,  50.3864,     4367,   3175.5,2,   1.5487,2,  34.7317,2,  34.7323,2,    195.4,2,    195.4,2,   108.73,2,    31.73,2,     0.00,2,     2.19,2,     -999,9,     -999,9,     -999,9,   2264.4,2,   2367.8,2,   7.6165,6,    24.99,2,     -999,9,   1.5511,2,     -999,9,     -999,9,     -999,9,     -999,9,     -999,9,   4.9754,1,   0.0112,1,     -999,9,     -999,9,     -999,9,     -999,9,     -999,9,20230829,1855, -33.7669,  50.3864,-999          ,9,-999          ,9
33RR20230722  ,I05        ,145     ,  1,5          ,5          ,2,20230829,1829, -33.7669,  50.3864,     4367,   3525.5,2,   1.2926,2,  34.7203,2,  34.7201,2,    200.3,2,    200.5,2,   115.17,2,    32.01,2,     0.00,2,     2.23,2,    0.073,4,    0.053,2,   0.0000,2,   2263.2,2,   2366.2,2,   7.6139,2,    25.00,2,     -999,9,   1.2924,2,     -999,9,     -999,9,     -999,9,     -999,9,     -999,9,   4.9755,1,   0.0117,1,     18.5,2,     -999,9,     -999,9,     -999,9,     -999,9,20230829,1848, -33.7669,  50.3865,-999          ,9,-999          ,9
33RR20230722  ,I05        ,145     ,  1,4          ,37         ,2,20230829,1829, -33.7669,  50.3864,     4367,   3853.2,2,   1.1530,2,  34.7136,2,  34.7144,2,    204.1,2,    204.5,2,   117.61,2,    32.10,2,     0.00,2,     2.23,2,    0.072,4,    0.066,2,   0.0300,2,   2261.5,2,   2365.4,2,   7.6138,2,    25.00,2,     -999,9,   1.1528,2,     -999,9,     -999,9,     -999,9,     -999,9,     -999,9,   4.8550,1,   0.0111,1,     18.1,2,     -999,9,     -999,9,     -999,9,     -999,9,20230829,1842, -33.7669,  50.3864,-999          ,9,-999          ,9
33RR20230722  ,I05        ,145     ,  1,3          ,3          ,2,20230829,1829, -33.7669,  50.3864,     4367,   4118.4,2,   1.1113,2,  34.7107,2,  34.7109,2,    205.5,2,    205.7,2,   119.17,2,    32.19,2,     0.00,2,     2.23,2,    0.074,4,    0.069,2,   0.0100,2,   2263.3,2,   2365.0,6,   7.6135,2,    25.00,2,     -999,9,   1.1107,2,     -999,9,     -999,9,     -999,9,     -999,9,     -999,9,   4.8209,1,   0.0117,1,     17.9,2,     -999,9,     -999,9,     -999,9,     -999,9,20230829,1836, -33.7669,  50.3865,-999          ,9,-999          ,9