BOTTLE,20240422CCHHYDRO
EXPOCODE,SECT_ID,STNNBR,CASTNO,SAMPNO,BTLNBR,BTLNBR_FLAG_W,DATE,TIME,LATITUDE,LONGITUDE,DEPTH,CTDPRS,CTDPRS_FLAG_W,CTDTMP,CTDTMP_FLAG_W,CTDSAL,CTDSAL_FLAG_W,SALNTY,SALNTY_FLAG_W,CTDOXY,CTDOXY_FLAG_W,OXYGEN,OXYGEN_FLAG_W,SILCAT,SILCAT_FLAG_W,NITRAT,NITRAT_FLAG_W,NITRIT,NITRIT_FLAG_W,PHSPHT,PHSPHT_FLAG_W,CFC-11,CFC-11_FLAG_W,CFC-12,CFC-12_FLAG_W,SF6,SF6_FLAG_W,TCARBN,TCARBN_FLAG_W,ALKALI,ALKALI_FLAG_W,PH_TOT,PH_TOT_FLAG_W,PH_TMP,PH_TMP_FLAG_W,DOC,DOC_FLAG_W,REFTMP,REFTMP_FLAG_W,POC,POC_FLAG_W,PON,PON_FLAG_W,POP,POP_FLAG_W,DOP,DOP_FLAG_W,DELO18,DELO18_FLAG_W,CTDFLUOR,CTDFLUOR_FLAG_W,CTDXMISS,CTDXMISS_FLAG_W,N2O,N2O_FLAG_W,D15N_NO3,D15N_NO3_FLAG_W,D15N_NO2+NO3,D15N_NO2+NO3_FLAG_W,D18O_NO2+NO3,D18O_NO2+NO3_FLAG_W,D18O_NO3,D18O_NO3_FLAG_W,BTL_DATE,BTL_TIME,BTL_LAT,BTL_LON,HPLC,HPLC_FLAG_W,DNA,DNA_FLAG_W
,,,,,,,,,,,METERS,DBAR,,ITS-90,,PSS-78,,PSS-78,,UMOL/KG,,UMOL/KG,,UMOL/KG,,UMOL/KG,,UMOL/KG,,UMOL/KG,,PMOL/KG,,PMOL/KG,,FMOL/KG,,UMOL/KG,,UMOL/KG,,,,DEG C,,UMOL/KG,,ITS-90,,UG/KG,,UG/KG,,UG/L,,UMOL/KG,,/MILLE,,VOLTS,,VOLTS,,NMOL/KG,,/MILLE,,/MILLE,,/MILLE,,/MILLE,,,,,,,,,
33RR20230722  ,I05        ,71      ,  1,36         ,36         ,2,20230809,1851, -31.2912,  85.5378,     3896,      5.1,2,  16.9729,2,  35.6525,2,  35.6538,2,    240.7,2,    240.4,2,     0.88,2,     0.04,2,     0.02,2,     0.17,2,    2.391,3,    1.346,2,   2.1700,2,   2093.4,2,   2345.4,2,   7.9533,2,    25.00,2,     -999,1,  16.9701,2,     -999,9,     -999,9,     -999,9,     -999,1,     -999,1,   4.7659,1,   0.0399,1,      7.8,2,     -999,1,     -999,1,     -999,1,     -999,1,20230809,2043, -31.2912,  85.5378,-999          ,9,-999          ,9
33RR20230722  ,I05        ,71      ,  1,35         ,35         ,2,20230809,1851, -31.2912,  85.5378,     3896,     22.2,2,  16.9734,2,  35.6515,2,  35.6550,2,    240.3,2,    240.3,2,     0.98,2,     0.00,2,     0.02,2,     0.17,2,     -999,9,     -999,9,     -999,9,   2090.4,2,   2345.1,2,   7.9416,2,    25.01,2,     -999,9,  16.9801,2,     -999,9,     -999,9,     -999,9,     -999,1,     -999,1,   4.9664,1,   0.0402,1,     -999,9,     -999,1,     -999,1,     -999,1,     -999,1,20230809,2040, -31.2913,  85.5379,-999          ,9,-999          ,9
33RR20230722  ,I05        ,71      ,  1,34         ,34         ,2,20230809,1851, -31.2912,  85.5378,     3896,     46.9,2,  16.9914,2,  35.6544,2,  35.6557,2,    240.2,2,    240.5,2,     0.88,2,     0.00,2,     0.02,2,     0.18,2,    2.416,3,    1.348,2,   2.2400,2,   -999.0,9,     -999,9,     -999,9,     -999,9,     -999,9,  16.9901,2,     -999,9,     -999,9,     -999,9,     -999,1,     -999,1,   4.8038,1,   0.0414,1,      8.1,2,     -999,1,     -999,1,     -999,1,     -999,1,20230809,2039, -31.2912,  85.5378,-999          ,9,-999          ,9
33RR20230722  ,I05        ,71      ,  1,33         ,33         ,2,20230809,1851, -31.2912,  85.5378,     3896,     72.0,2,  17.0467,2,  35.6768,2,  35.6840,2,    239.6,2,    240.2,2,     0.88,2,     0.00,2,     0.01,2,     0.17,2,     -999,9,     -999,9,     -999,9,   2092.4,2,   2349.2,2,   7.9637,2,    25.01,2,     -999,9,  17.0461,2,     -999,9,     -999,9,     -999,9,     -999,1,     -999,1,   4.9746,1,   0.0380,1,     -999,9,     -999,1,     -999,1,     -999,1,     -999,1,20230809,2037, -31.2912,  85.5378,-999          ,9,-999          ,9
33RR20230722  ,I05        ,71      ,  1,32         ,32         ,2,20230809,1851, -31.2912,  85.5378,     3896,     98.6,2,  15.7815,2,  35.5319,2,  35.5421,2,    241.3,2,    240.7,2,     1.07,2,     1.24,2,     0.20,2,     0.30,2,    2.349,3,    1.467,2,   2.2300,2,   2106.4,2,   2340.3,2,   7.9196,2,    25.01,2,     -999,9,  15.9132,3,     -999,9,     -999,9,     -999,9,     -999,9,     -999,1,   4.9732,1,   0.0351,1,      8.5,2,     -999,1,     -999,1,     -999,1,     -999,1,20230809,2035, -31.2912,  85.5378,-999          ,9,-999          ,9
33RR20230722  ,I05        ,71      ,  1,31         ,31         ,2,20230809,1851, -31.2912,  85.5378,     3896,    112.1,2,  14.3130,2,  35.3646,2,  35.3612,2,    238.0,2,    238.5,2,     1.37,2,     3.52,2,     0.31,2,     0.46,2,     -999,9,     -999,9,     -999,9,   2118.5,2,   2330.2,2,   7.8750,2,    25.00,2,     -999,9,  14.2966,2,     -999,9,     -999,9,     -999,9,     -999,9,     -999,1,   4.9715,1,   0.0291,1,     -999,9,     -999,1,     -999,1,     -999,1,     -999,1,20230809,2033, -31.2912,  85.5378,-999          ,9,-999          ,9
33RR20230722  ,I05        ,71      ,  1,30         ,30         ,2,20230809,1851, -31.2912,  85.5378,     3896,    139.1,2,  13.5784,2,  35.2781,2,  35.2769,2,    236.1,2,    236.6,2,     1.66,2,     5.41,2,     0.08,2,     0.54,2,    2.570,3,    1.610,2,   2.4300,2,   -999.0,9,     -999,9,     -999,9,     -999,9,     -999,9,  13.5663,2,     -999,9,     -999,9,     -999,9,     -999,1,     -999,1,   4.9368,1,   0.0199,1,     10.5,2,     -999,1,     -999,1,     -999,1,     -999,1,20230809,2031, -31.2912,  85.5378,-999          ,9,-999          ,9
33RR20230722  ,I05        ,71      ,  1,29         ,29         ,2,20230809,1851, -31.2912,  85.5378,     3896,    172.9,2,  12.7483,2,  35.1511,2,  35.1603,2,    238.8,2,    238.9,2,     2.15,2,     7.21,2,     0.02,2,     0.64,2,     -999,9,     -999,9,     -999,9,   2126.8,2,   2315.8,2,   7.8383,2,    25.01,2,     -999,9,  12.7808,2,     -999,9,     -999,9,     -999,9,     -999,9,     -999,1,   4.9291,1,   0.0125,1,     -999,9,     -999,1,     -999,1,     -999,1,     -999,1,20230809,2030, -31.2912,  85.5378,-999          ,9,-999          ,9
33RR20230722  ,I05        ,71      ,  1,28         ,28         ,2,20230809,1851, -31.2912,  85.5378,     3896,    215.3,2,  12.3870,2,  35.0984,2,  35.0967,2,    240.9,2,    241.2,2,     2.44,2,     8.19,2,     0.02,2,     0.70,2,    2.617,3,    1.694,2,   2.4000,2,   2126.9,2,   2308.3,2,   7.8279,2,    25.00,2,     -999,9,  12.3842,2,     -999,9,     -999,9,     -999,9,     -999,9,     -999,1,   4.9695,1,   0.0120,1,     10.7,2,     -999,1,     -999,1,     -999,1,     -999,1,20230809,2027, -31.2912,  85.5379,-999          ,9,-999          ,9
33RR20230722  ,I05        ,71      ,  1,27         ,27         ,2,20230809,1851, -31.2912,  85.5378,     3896,    254.1,2,  11.9770,2,  35.0364,2,  35.0384,2,    243.7,2,    243.2,2,     2.73,2,     9.24,2,     0.01,2,     0.75,2,    2.740,3,    1.721,2,   2.4700,2,   2126.4,2,   2307.3,6,   7.8204,2,    25.02,2,     -999,9,  11.9776,2,     -999,9,     -999,9,     -999,9,     -999,1,     -999,1,   4.6684,1,   0.0114,1,     11.0,2,     -999,1,     -999,1,     -999,1,     -999,1,20230809,2025, -31.2913,  85.5378,-999          ,9,-999          ,9
33RR20230722  ,I05        ,71      ,  1,26         ,26         ,2,20230809,1851, -31.2912,  85.5378,     3896,    303.2,2,  11.7797,2,  35.0051,2,  35.0061,2,    242.5,2,    242.1,2,     2.93,2,     9.86,2,     0.00,2,     0.78,2,     -999,9,     -999,9,     -999,9,   -999.0,9,     -999,9,     -999,9,     -999,9,     -999,9,  11.7806,2,     -999,9,     -999,9,     -999,9,     -999,9,     -999,1,   4.9685,1,   0.0116,1,     -999,9,     -999,1,     -999,1,     -999,1,     -999,1,20230809,2024, -31.2913,  85.5378,-999          ,9,-999          ,9
33RR20230722  ,I05        ,71      ,  1,25         ,25         ,2,20230809,1851, -31.2912,  85.5378,     3896,    359.8,2,  11.4575,2,  34.9577,2,  34.9541,2,    241.6,2,    241.2,2,     3.22,2,    11.01,2,     0.00,2,     0.84,2,    2.825,3,    1.779,2,   2.3900,2,   2130.5,2,   2304.1,2,   7.8054,6,    25.01,2,     -999,9,  11.4556,2,     -999,9,     -999,9,     -999,9,     -999,9,     -999,1,   4.9683,1,   0.0115,1,     11.6,2,     -999,1,     -999,1,     -999,1,     -999,1,20230809,2021, -31.2913,  85.5378,-999          ,9,-999          ,9
33RR20230722  ,I05        ,71      ,  1,24         ,24         ,2,20230809,1851, -31.2912,  85.5378,     3896,    425.2,2,  11.1349,2,  34.9115,2,  34.9109,2,    239.7,2,    239.3,2,     3.61,2,    11.92,2,     0.00,2,     0.90,2,    2.847,3,    1.813,6,   2.2900,6,   -999.0,9,     -999,9,     -999,9,     -999,9,     -999,9,  11.1324,2,     -999,9,     -999,9,     -999,9,     -999,9,     -999,1,   4.7009,1,   0.0115,1,     11.2,6,     -999,1,     -999,1,     -999,1,     -999,1,20230809,2019, -31.2912,  85.5378,-999          ,9,-999          ,9
33RR20230722  ,I05        ,71      ,  1,23         ,23         ,2,20230809,1851, -31.2912,  85.5378,     3896,    495.4,2,  10.7264,2,  34.8561,2,  34.8574,2,    237.1,2,    236.7,2,     3.81,2,    13.09,2,     0.00,2,     0.97,2,     -999,9,     -999,9,     -999,9,   2135.6,2,   2298.4,2,   7.7836,2,    25.00,2,     -999,9,  10.7299,2,     -999,9,     -999,9,     -999,9,     -999,9,     -999,1,   4.6966,1,   0.0113,1,     -999,9,     -999,1,     -999,1,     -999,1,     -999,1,20230809,2017, -31.2912,  85.5378,-999          ,9,-999          ,9
33RR20230722  ,I05        ,71      ,  1,22         ,22         ,2,20230809,1851, -31.2912,  85.5378,     3896,    579.4,2,  10.1659,2,  34.7806,2,  34.7795,2,    233.5,2,    233.4,2,     4.29,2,    14.84,2,     0.00,2,     1.06,2,    3.045,3,    1.908,2,   2.0500,2,   2139.9,2,   2295.3,2,   7.7676,2,    25.01,2,     -999,9,  10.1628,2,     -999,9,     -999,9,     -999,9,     -999,9,     -999,1,   4.9390,1,   0.0113,1,     11.8,2,     -999,1,     -999,1,     -999,1,     -999,1,20230809,2014, -31.2912,  85.5379,-999          ,9,-999          ,9
33RR20230722  ,I05        ,71      ,  1,21         ,21         ,2,20230809,1851, -31.2912,  85.5378,     3896,    675.6,2,   9.4223,2,  34.6873,2,  34.6871,2,    225.2,2,    226.0,2,     5.86,2,    17.43,2,     0.00,2,     1.24,2,    3.043,3,    1.906,2,   1.8100,2,   2147.0,2,   2291.4,2,   7.7415,2,    25.01,2,     -999,9,   9.4217,2,     -999,9,     -999,9,     -999,9,     -999,9,     -999,1,   4.9235,1,   0.0111,1,     13.6,2,     -999,1,     -999,1,     -999,1,     -999,1,20230809,2011, -31.2912,  85.5378,-999          ,9,-999          ,9
33RR20230722  ,I05        ,71      ,  1,20         ,20         ,2,20230809,1851, -31.2912,  85.5378,     3896,    792.1,2,   8.0250,2,  34.5461,2,  34.5474,2,    207.8,2,    209.5,2,    11.52,2,    22.40,2,     0.00,2,     1.54,2,     -999,9,     -999,9,     -999,9,   -999.0,9,     -999,9,     -999,9,     -999,9,     -999,9,   8.0232,2,     -999,9,     -999,9,     -999,9,     -999,9,     -999,1,   4.9681,1,   0.0113,1,     -999,9,     -999,1,     -999,1,     -999,1,     -999,1,20230809,2008, -31.2912,  85.5378,-999          ,9,-999          ,9
33RR20230722  ,I05        ,71      ,  1,19         ,19         ,2,20230809,1851, -31.2912,  85.5378,     3896,    883.0,2,   6.7701,2,  34.4490,2,  34.4520,2,    201.2,2,    201.8,2,    17.77,2,    25.83,2,     0.00,2,     1.79,2,    2.569,3,    1.513,2,   0.9300,2,   2178.1,2,   2288.6,2,   7.6581,2,    25.02,2,     -999,9,   6.7661,2,     -999,9,     -999,9,     -999,9,     -999,9,     -999,1,   4.6622,1,   0.0112,1,     16.3,2,     -999,1,     -999,1,     -999,1,     -999,1,20230809,2005, -31.2912,  85.5378,-999          ,9,-999          ,9
33RR20230722  ,I05        ,71      ,  1,18         ,18         ,2,20230809,1851, -31.2912,  85.5378,     3896,   1024.6,2,   4.9385,2,  34.3745,2,  34.3764,2,    194.2,2,    194.6,2,    32.61,2,    30.34,2,     0.00,2,     2.12,2,    2.005,3,    1.087,2,   0.1200,2,   -999.0,9,     -999,9,     -999,9,     -999,9,     -999,9,   4.9391,2,     -999,9,     -999,9,     -999,9,     -999,9,     -999,1,   4.7819,1,   0.0112,1,     18.4,2,     -999,1,     -999,1,     -999,1,     -999,1,20230809,2002, -31.2912,  85.5378,-999          ,9,-999          ,9
33RR20230722  ,I05        ,71      ,  1,17         ,17         ,2,20230809,1851, -31.2912,  85.5378,     3896,   1139.9,2,   4.2986,2,  34.4043,2,  34.4069,2,    180.4,2,    181.1,2,    44.71,2,    32.32,2,     0.00,2,     2.25,2,    1.655,3,    0.733,2,   0.0100,2,   2221.6,2,   2308.4,2,   7.5895,2,    25.01,2,     -999,9,   4.3001,2,     -999,9,     -999,9,     -999,9,     -999,9,     -999,1,   4.9073,1,   0.0112,1,     21.1,2,     -999,1,     -999,1,     -999,1,     -999,1,20230809,1958, -31.2912,  85.5379,-999          ,9,-999          ,9
33RR20230722  ,I05        ,71      ,  1,16         ,16         ,2,20230809,1851, -31.2912,  85.5378,     3896,   1222.7,2,   3.8877,2,  34.4442,2,  34.4455,2,    169.7,2,    169.7,2,    55.06,2,    33.44,2,     0.00,2,     2.34,2,    1.042,3,    0.490,2,   0.1200,2,   2237.4,6,   2318.9,2,   7.5762,2,    25.00,2,     -999,9,   3.8912,2,     -999,9,     -999,9,     -999,9,     -999,9,     -999,1,   4.8100,1,   0.0111,1,     22.3,2,     -999,1,     -999,1,     -999,1,     -999,1,20230809,1956, -31.2912,  85.5378,-999          ,9,-999          ,9
33RR20230722  ,I05        ,71      ,  1,15         ,15         ,2,20230809,1851, -31.2912,  85.5378,     3896,   1281.9,2,   3.6387,2,  34.4803,2,  34.4799,2,    163.5,2,    163.6,2,    61.79,2,    34.05,2,     0.00,2,     2.39,2,     -999,9,     -999,9,     -999,9,   2246.4,2,   2327.0,2,   7.5689,6,    25.00,2,     -999,9,   3.6454,2,     -999,9,     -999,9,     -999,9,     -999,9,     -999,1,   4.8999,1,   0.0111,1,     -999,9,     -999,1,     -999,1,     -999,1,     -999,1,20230809,1954, -31.2912,  85.5378,-999          ,9,-999          ,9
33RR20230722  ,I05        ,71      ,  1,14         ,14         ,2,20230809,1851, -31.2912,  85.5378,     3896,   1338.9,2,   3.4888,2,  34.5095,2,  34.5115,2,    158.9,2,    158.4,2,    67.25,2,    34.38,2,     0.00,2,     2.41,2,    0.585,3,    0.242,2,   0.0100,2,   -999.0,9,     -999,9,     -999,9,     -999,9,     -999,9,   3.4942,2,     -999,9,     -999,9,     -999,9,     -999,9,     -999,1,   4.9740,1,   0.0115,1,     23.1,2,     -999,1,     -999,1,     -999,1,     -999,1,20230809,1951, -31.2912,  85.5378,-999          ,9,-999          ,9
33RR20230722  ,I05        ,71      ,  1,13         ,13         ,2,20230809,1851, -31.2912,  85.5378,     3896,   1455.4,2,   3.2258,2,  34.5586,2,  34.5604,2,    155.7,2,    155.1,2,    74.67,2,    34.42,2,     0.00,2,     2.43,2,     -999,9,     -999,9,     -999,9,   2262.0,2,   2341.2,6,   7.5615,2,    25.00,2,     -999,9,   3.2263,2,     -999,9,     -999,9,     -999,9,     -999,9,     -999,1,   4.6317,1,   0.0111,1,     -999,9,     -999,1,     -999,1,     -999,1,     -999,1,20230809,1948, -31.2912,  85.5378,-999          ,9,-999          ,9
33RR20230722  ,I05        ,71      ,  1,12         ,12         ,2,20230809,1851, -31.2912,  85.5378,     3896,   1654.5,2,   2.8758,2,  34.6245,2,  34.6262,2,    158.6,2,    158.6,2,    81.69,2,    33.99,2,     0.00,2,     2.41,2,    0.030,3,    0.075,2,   0.0200,2,   2265.0,2,   2348.2,2,   7.5681,2,    25.01,2,     -999,9,   2.8770,2,     -999,9,     -999,9,     -999,9,     -999,9,     -999,1,   4.9753,1,   0.0122,1,     23.0,2,     -999,1,     -999,1,     -999,1,     -999,1,20230809,1943, -31.2912,  85.5378,-999          ,9,-999          ,9
33RR20230722  ,I05        ,71      ,  1,11         ,11         ,2,20230809,1851, -31.2912,  85.5378,     3896,   1787.6,2,   2.6673,2,  34.6648,2,  34.6663,2,    163.2,2,    163.3,2,    86.08,2,    33.35,2,     0.00,2,     2.36,2,    0.017,3,    0.050,2,   0.0000,2,   2267.8,2,   2351.6,2,   7.5797,2,    25.02,2,     -999,9,   2.6684,2,     -999,9,     -999,9,     -999,9,     -999,9,     -999,1,   4.9326,1,   0.0111,1,     22.4,2,     -999,1,     -999,1,     -999,1,     -999,1,20230809,1939, -31.2912,  85.5378,-999          ,9,-999          ,9
33RR20230722  ,I05        ,71      ,  1,10         ,10         ,2,20230809,1851, -31.2912,  85.5378,     3896,   1943.8,2,   2.4697,2,  34.6978,2,  34.7001,2,    165.4,2,    165.6,2,    93.40,2,    33.13,2,     0.00,2,     2.34,2,     -999,9,     -999,9,     -999,9,   -999.0,9,     -999,9,     -999,9,     -999,9,     -999,9,   2.4706,2,     -999,9,     -999,9,     -999,9,     -999,9,     -999,1,   4.8586,1,   0.0112,1,     -999,9,     -999,1,     -999,1,     -999,1,     -999,1,20230809,1936, -31.2912,  85.5379,-999          ,9,-999          ,9
33RR20230722  ,I05        ,71      ,  1,9          ,9          ,2,20230809,1851, -31.2912,  85.5378,     3896,   2067.5,2,   2.3176,2,  34.7113,2,  34.7127,2,    168.7,2,    168.6,2,    97.60,2,    32.78,2,     0.00,2,     2.30,2,    0.008,3,    0.014,2,   0.0400,2,   2274.9,2,   2365.9,2,   7.5911,2,    25.01,2,     -999,9,   2.3170,2,     -999,9,     -999,9,     -999,9,     -999,9,     -999,1,   4.9748,1,   0.0111,1,     21.3,2,     -999,1,     -999,1,     -999,1,     -999,1,20230809,1932, -31.2912,  85.5378,-999          ,9,-999          ,9
33RR20230722  ,I05        ,71      ,  1,8          ,8          ,2,20230809,1851, -31.2912,  85.5378,     3896,   2268.0,2,   2.0924,2,  34.7226,2,  34.7239,2,    176.3,2,    176.4,2,   100.13,2,    32.24,2,     0.00,2,     2.27,2,     -999,9,     -999,9,     -999,9,   2272.0,2,   2366.2,2,   7.6015,2,    25.01,2,     -999,9,   2.0928,2,     -999,9,     -999,9,     -999,9,     -999,9,     -999,1,   4.9748,1,   0.0113,1,     -999,9,     -999,1,     -999,1,     -999,1,     -999,1,20230809,1928, -31.2913,  85.5378,-999          ,9,-999          ,9
33RR20230722  ,I05        ,71      ,  1,7          ,7          ,2,20230809,1851, -31.2912,  85.5378,     3896,   2423.1,2,   1.9484,2,  34.7281,2,  34.7288,2,    181.5,2,    181.7,2,   101.01,2,    31.94,2,     0.00,2,     2.24,2,    0.002,3,    0.016,2,   0.0300,2,   2268.3,2,   2365.3,2,   7.6076,2,    25.00,2,     -999,9,   1.9492,2,     -999,9,     -999,9,     -999,9,     -999,9,     -999,1,   4.9280,1,   0.0117,1,     20.2,2,     -999,1,     -999,1,     -999,1,     -999,1,20230809,1924, -31.2913,  85.5378,-999          ,9,-999          ,9
33RR20230722  ,I05        ,71      ,  1,6          ,6          ,2,20230809,1851, -31.2912,  85.5378,     3896,   2573.6,2,   1.8406,2,  34.7292,2,  34.7304,2,    183.8,2,    184.4,2,   103.55,2,    31.95,2,     0.00,2,     2.24,2,    0.003,3,    0.008,2,   0.0000,2,   -999.0,9,     -999,9,     -999,9,     -999,9,     -999,9,   1.8414,2,     -999,9,     -999,9,     -999,9,     -999,9,     -999,1,   4.6951,1,   0.0117,1,     19.6,2,     -999,1,     -999,1,     -999,1,     -999,1,20230809,1920, -31.2912,  85.5379,-999          ,9,-999          ,9
33RR20230722  ,I05        ,71      ,  1,5          ,5          ,2,20230809,1851, -31.2912,  85.5378,     3896,   2768.8,2,   1.7029,2,  34.7301,2,  34.7309,2,    187.5,2,    187.7,2,   106.48,2,    31.80,2,     0.00,2,     2.23,2,    0.004,3,    0.009,2,   0.0200,2,   2269.7,2,   2368.8,2,   7.6143,6,    25.00,2,     -999,9,   1.7029,2,     -999,9,     -999,9,     -999,9,     -999,9,     -999,1,   4.9732,1,   0.0115,1,     18.8,2,     -999,1,     -999,1,     -999,1,     -999,1,20230809,1916, -31.2913,  85.5379,-999          ,9,-999          ,9
33RR20230722  ,I05        ,71      ,  1,4          ,37         ,2,20230809,1851, -31.2912,  85.5378,     3896,   2977.3,2,   1.5810,2,  34.7289,2,  34.7298,2,    190.2,2,    190.3,2,   109.21,2,    31.91,2,     0.00,2,     2.23,2,     -999,9,     -999,9,     -999,9,   2271.9,2,   2371.4,2,   7.6156,2,    25.01,2,     -999,9,   1.5806,2,     -999,9,     -999,9,     -999,9,     -999,9,     -999,1,   4.9755,1,   0.0111,1,     -999,9,     -999,1,     -999,1,     -999,1,     -999,1,20230809,1911, -31.2913,  85.5378,-999          ,9,-999          ,9
33RR20230722  ,I05        ,71      ,  1,3          ,3          ,2,20230809,1851, -31.2912,  85.5378,     3896,   3290.5,2,   1.4434,2,  34.7258,2,  34.7268,2,    192.9,2,    193.1,2,   113.02,2,    32.02,2,     0.00,2,     2.26,2,    0.002,3,    0.010,2,   0.0300,2,   2275.0,2,   2375.2,6,   7.6184,2,    25.02,2,     -999,9,   1.4435,2,     -999,9,     -999,9,     -999,9,     -999,9,     -999,1,   4.7879,1,   0.0111,1,     18.6,2,     -999,1,     -999,1,     -999,1,     -999,1,20230809,1905, -31.2913,  85.5378,-999          ,9,-999          ,9