BOTTLE,20240422CCHHYDRO
EXPOCODE,SECT_ID,STNNBR,CASTNO,SAMPNO,BTLNBR,BTLNBR_FLAG_W,DATE,TIME,LATITUDE,LONGITUDE,DEPTH,CTDPRS,CTDPRS_FLAG_W,CTDTMP,CTDTMP_FLAG_W,CTDSAL,CTDSAL_FLAG_W,SALNTY,SALNTY_FLAG_W,CTDOXY,CTDOXY_FLAG_W,OXYGEN,OXYGEN_FLAG_W,SILCAT,SILCAT_FLAG_W,NITRAT,NITRAT_FLAG_W,NITRIT,NITRIT_FLAG_W,PHSPHT,PHSPHT_FLAG_W,CFC-11,CFC-11_FLAG_W,CFC-12,CFC-12_FLAG_W,SF6,SF6_FLAG_W,TCARBN,TCARBN_FLAG_W,ALKALI,ALKALI_FLAG_W,PH_TOT,PH_TOT_FLAG_W,PH_TMP,PH_TMP_FLAG_W,DOC,DOC_FLAG_W,REFTMP,REFTMP_FLAG_W,POC,POC_FLAG_W,PON,PON_FLAG_W,POP,POP_FLAG_W,DOP,DOP_FLAG_W,DELO18,DELO18_FLAG_W,CTDFLUOR,CTDFLUOR_FLAG_W,CTDXMISS,CTDXMISS_FLAG_W,N2O,N2O_FLAG_W,D15N_NO3,D15N_NO3_FLAG_W,D15N_NO2+NO3,D15N_NO2+NO3_FLAG_W,D18O_NO2+NO3,D18O_NO2+NO3_FLAG_W,D18O_NO3,D18O_NO3_FLAG_W,BTL_DATE,BTL_TIME,BTL_LAT,BTL_LON,HPLC,HPLC_FLAG_W,DNA,DNA_FLAG_W
,,,,,,,,,,,METERS,DBAR,,ITS-90,,PSS-78,,PSS-78,,UMOL/KG,,UMOL/KG,,UMOL/KG,,UMOL/KG,,UMOL/KG,,UMOL/KG,,PMOL/KG,,PMOL/KG,,FMOL/KG,,UMOL/KG,,UMOL/KG,,,,DEG C,,UMOL/KG,,ITS-90,,UG/KG,,UG/KG,,UG/L,,UMOL/KG,,/MILLE,,VOLTS,,VOLTS,,NMOL/KG,,/MILLE,,/MILLE,,/MILLE,,/MILLE,,,,,,,,,
33RR20230722  ,I05        ,70      ,  1,34         ,34         ,2,20230809,1324, -31.3844,  86.0898,     3069,      9.6,2,  17.4058,2,  35.8601,2,  35.8599,2,    237.6,2,    237.4,2,     1.46,2,     0.07,2,     0.00,2,     0.15,2,    2.390,3,    1.305,2,   2.2700,2,   2094.6,6,   2354.8,2,     -999,5,     -999,5,     -999,1,  17.4043,2,     -999,9,     -999,9,     -999,9,     -999,9,     -999,9,   4.9750,1,   0.0350,1,      8.0,2,     -999,9,     -999,9,     -999,9,     -999,9,20230809,1456, -31.3844,  86.0898,-999          ,9,-999          ,9
33RR20230722  ,I05        ,70      ,  1,33         ,33         ,2,20230809,1324, -31.3844,  86.0898,     3069,     21.5,2,  17.4048,2,  35.8595,2,  35.8603,2,    237.9,2,    237.5,2,     1.37,2,     0.03,2,     0.00,2,     0.14,2,     -999,9,     -999,9,     -999,9,   2097.0,2,   2355.9,2,   7.9614,2,    25.00,2,     -999,1,  17.4091,2,     -999,9,     -999,9,     -999,9,     -999,9,     -999,9,   4.9760,1,   0.0387,1,     -999,9,     -999,9,     -999,9,     -999,9,     -999,9,20230809,1454, -31.3844,  86.0898,-999          ,9,-999          ,9
33RR20230722  ,I05        ,70      ,  1,32         ,32         ,2,20230809,1324, -31.3844,  86.0898,     3069,     36.4,2,  17.4133,2,  35.8605,2,  35.8601,2,    237.5,2,    237.6,2,     1.46,2,     0.01,2,     0.00,2,     0.15,2,     -999,9,     -999,9,     -999,9,   2094.6,2,   2356.1,2,   7.9618,2,    25.01,2,     -999,1,  17.4125,2,     -999,9,     -999,9,     -999,9,     -999,9,     -999,9,   4.9749,1,   0.0374,1,     -999,9,     -999,9,     -999,9,     -999,9,     -999,9,20230809,1452, -31.3845,  86.0898,-999          ,9,-999          ,9
33RR20230722  ,I05        ,70      ,  1,31         ,31         ,2,20230809,1324, -31.3844,  86.0898,     3069,     57.6,2,  17.3479,2,  35.8524,2,  35.8530,2,    237.4,2,    237.5,2,     1.37,2,     0.00,2,     0.00,2,     0.15,2,    1.645,3,    1.307,2,   2.2000,2,   2095.7,2,   2354.7,2,   7.9603,2,    25.00,2,     -999,1,  17.3461,2,     -999,9,     -999,9,     -999,9,     -999,9,     -999,9,   4.9747,1,   0.0420,1,      8.0,2,     -999,9,     -999,9,     -999,9,     -999,9,20230809,1450, -31.3845,  86.0898,-999          ,9,-999          ,9
33RR20230722  ,I05        ,70      ,  1,30         ,30         ,2,20230809,1324, -31.3844,  86.0898,     3069,     84.4,2,  17.3405,2,  35.8521,2,  35.8520,2,    236.9,2,    237.4,2,     1.46,2,     0.00,2,     0.01,2,     0.17,2,     -999,9,     -999,9,     -999,9,   2092.9,2,   2354.6,2,   7.9599,6,    25.00,2,     -999,1,  17.3387,2,     -999,9,     -999,9,     -999,9,     -999,9,     -999,9,   4.9745,1,   0.0384,1,     -999,9,     -999,9,     -999,9,     -999,9,     -999,9,20230809,1448, -31.3845,  86.0898,-999          ,9,-999          ,9
33RR20230722  ,I05        ,70      ,  1,29         ,29         ,2,20230809,1324, -31.3844,  86.0898,     3069,    109.1,2,  16.4327,2,  35.6690,2,  35.6713,2,    240.3,2,    240.3,2,     1.17,2,     0.36,2,     0.05,2,     0.20,2,    2.417,3,    1.365,2,   2.3700,2,   2097.1,2,   2347.2,2,   7.9407,2,    25.00,2,     -999,1,  16.4330,2,     -999,9,     -999,9,     -999,9,     -999,9,     -999,9,   4.9333,1,   0.0307,1,      8.3,2,     -999,9,     -999,9,     -999,9,     -999,9,20230809,1446, -31.3845,  86.0898,-999          ,9,-999          ,9
33RR20230722  ,I05        ,70      ,  1,28         ,28         ,2,20230809,1324, -31.3844,  86.0898,     3069,    130.5,2,  16.0725,2,  35.6013,2,  35.5900,2,    242.4,2,    242.7,2,     1.07,2,     0.50,2,     0.07,2,     0.20,2,     -999,9,     -999,9,     -999,9,   2100.0,2,   2342.6,2,   7.9341,2,    24.99,2,     -999,1,  16.0671,2,     -999,9,     -999,9,     -999,9,     -999,9,     -999,9,   4.9534,1,   0.0292,1,     -999,9,     -999,9,     -999,9,     -999,9,     -999,9,20230809,1445, -31.3845,  86.0898,-999          ,9,-999          ,9
33RR20230722  ,I05        ,70      ,  1,27         ,27         ,2,20230809,1324, -31.3844,  86.0898,     3069,    165.6,2,  15.8846,2,  35.5649,2,  35.5663,2,    242.3,2,    242.5,2,     1.17,2,     0.65,2,     0.08,2,     0.22,2,     -999,9,     -999,9,     -999,9,   2099.2,2,   2342.0,6,   7.9302,2,    25.00,2,     -999,1,  15.8804,2,     -999,9,     -999,9,     -999,9,     -999,9,     -999,9,   4.9731,1,   0.0232,1,     -999,9,     -999,9,     -999,9,     -999,9,     -999,9,20230809,1443, -31.3844,  86.0898,-999          ,9,-999          ,9
33RR20230722  ,I05        ,70      ,  1,26         ,26         ,2,20230809,1324, -31.3844,  86.0898,     3069,    195.0,2,  14.4475,2,  35.4325,2,  35.4156,2,    228.6,2,    230.5,2,     1.76,2,     4.37,2,     0.05,2,     0.45,2,     -999,9,     -999,9,     -999,9,   2116.0,2,   2328.3,2,   7.8697,2,    25.01,2,     -999,1,  14.4454,2,     -999,9,     -999,9,     -999,9,     -999,9,     -999,9,   4.1086,1,   0.0148,1,     -999,9,     -999,9,     -999,9,     -999,9,     -999,9,20230809,1442, -31.3845,  86.0898,-999          ,9,-999          ,9
33RR20230722  ,I05        ,70      ,  1,25         ,25         ,2,20230809,1324, -31.3844,  86.0898,     3069,    233.0,2,  13.4074,2,  35.2892,2,  35.2903,2,    232.3,2,    233.3,2,     1.95,2,     5.96,2,     0.01,2,     0.55,2,    2.611,3,    1.601,2,   2.3900,2,   2121.5,2,   2322.5,2,   7.8506,6,    25.00,2,     -999,1,  13.4186,2,     -999,9,     -999,9,     -999,9,     -999,9,     -999,9,   4.7907,1,   0.0124,1,     10.7,2,     -999,9,     -999,9,     -999,9,     -999,9,20230809,1440, -31.3845,  86.0898,-999          ,9,-999          ,9
33RR20230722  ,I05        ,70      ,  1,24         ,24         ,2,20230809,1324, -31.3844,  86.0898,     3069,    272.0,2,  12.8665,2,  35.2038,2,  35.2044,2,    235.1,2,    235.5,2,     2.15,2,     6.96,2,     0.01,2,     0.62,2,     -999,9,     -999,9,     -999,9,   2122.6,2,   2319.1,2,   7.8373,2,    25.02,2,     -999,1,  12.8657,2,     -999,9,     -999,9,     -999,9,     -999,9,     -999,9,   4.9689,1,   0.0115,1,     -999,9,     -999,9,     -999,9,     -999,9,     -999,9,20230809,1438, -31.3844,  86.0898,-999          ,9,-999          ,9
33RR20230722  ,I05        ,70      ,  1,23         ,23         ,2,20230809,1324, -31.3844,  86.0898,     3069,    324.7,2,  11.9668,2,  35.0502,2,  35.0535,2,    237.5,2,    237.6,2,     2.63,2,     9.08,2,     0.00,2,     0.72,2,    2.840,3,    1.732,2,   2.4300,2,   2125.7,6,   2310.8,6,   7.8171,2,    24.97,2,     -999,1,  11.9758,2,     -999,9,     -999,9,     -999,9,     -999,9,     -999,9,   4.7905,1,   0.0113,1,     12.1,2,     -999,9,     -999,9,     -999,9,     -999,9,20230809,1437, -31.3845,  86.0898,-999          ,9,-999          ,9
33RR20230722  ,I05        ,70      ,  1,22         ,22         ,2,20230809,1324, -31.3844,  86.0898,     3069,    382.8,2,  11.2816,2,  34.9364,2,  34.9392,2,    239.9,2,    239.5,2,     3.12,2,    10.95,2,     0.00,2,     0.83,2,     -999,9,     -999,9,     -999,9,   2128.9,2,   2301.5,2,   7.7999,2,    25.00,2,     -999,1,  11.2581,2,     -999,9,     -999,9,     -999,9,     -999,9,     -999,9,   4.8400,1,   0.0113,1,     -999,9,     -999,9,     -999,9,     -999,9,     -999,9,20230809,1435, -31.3845,  86.0898,-999          ,9,-999          ,9
33RR20230722  ,I05        ,70      ,  1,21         ,21         ,2,20230809,1324, -31.3844,  86.0898,     3069,    450.7,2,  10.8351,2,  34.8727,2,  34.8753,2,    239.4,2,    238.6,2,     3.42,2,    12.15,2,     0.00,2,     0.92,2,    2.986,3,    1.813,2,   2.3300,2,   2124.9,2,   2298.0,2,   7.7888,2,    25.01,2,     -999,1,  10.8364,2,     -999,9,     -999,9,     -999,9,     -999,9,     -999,9,   4.7627,1,   0.0114,1,     12.3,2,     -999,9,     -999,9,     -999,9,     -999,9,20230809,1432, -31.3845,  86.0898,-999          ,9,-999          ,9
33RR20230722  ,I05        ,70      ,  1,20         ,20         ,2,20230809,1324, -31.3844,  86.0898,     3069,    525.5,2,  10.3289,2,  34.8028,2,  34.8047,2,    238.6,2,    238.0,2,     3.81,2,    13.62,2,     0.00,2,     1.00,2,     -999,9,     -999,9,     -999,9,   2132.4,2,   2296.1,2,   7.7746,2,    25.01,2,     -999,1,  10.3274,2,     -999,9,     -999,9,     -999,9,     -999,9,     -999,9,   4.9670,1,   0.0113,1,     -999,9,     -999,9,     -999,9,     -999,9,     -999,9,20230809,1430, -31.3844,  86.0898,-999          ,9,-999          ,9
33RR20230722  ,I05        ,70      ,  1,19         ,19         ,2,20230809,1324, -31.3844,  86.0898,     3069,    614.0,2,   9.7859,2,  34.7326,2,  34.7364,2,    235.5,2,    235.0,2,     4.39,2,    15.34,2,     0.00,2,     1.10,2,    3.058,3,    1.943,2,   2.1100,2,   2137.0,2,   2291.9,2,   7.7588,2,    25.01,2,     -999,1,   9.7851,2,     -999,9,     -999,9,     -999,9,     -999,9,     -999,9,   4.9139,1,   0.0115,1,     11.5,2,     -999,9,     -999,9,     -999,9,     -999,9,20230809,1428, -31.3845,  86.0898,-999          ,9,-999          ,9
33RR20230722  ,I05        ,70      ,  1,18         ,18         ,2,20230809,1324, -31.3844,  86.0898,     3069,    704.8,2,   9.1206,2,  34.6487,3,  34.6606,2,    228.1,2,    228.4,2,     5.95,2,    17.91,2,     0.00,2,     1.25,2,     -999,9,     -999,9,     -999,9,   2142.9,2,   2288.2,2,   7.7358,2,    25.01,2,     -999,1,   9.1203,2,     -999,9,     -999,9,     -999,9,     -999,9,     -999,9,   4.9669,1,   0.0114,1,     -999,9,     -999,9,     -999,9,     -999,9,     -999,9,20230809,1425, -31.3845,  86.0898,-999          ,9,-999          ,9
33RR20230722  ,I05        ,70      ,  1,17         ,17         ,2,20230809,1324, -31.3844,  86.0898,     3069,    772.0,2,   8.3590,2,  34.5715,2,  34.5728,2,    215.6,2,    216.3,2,     9.37,2,    20.87,2,     0.00,2,     1.43,2,     -999,9,     -999,9,     -999,9,   2153.4,2,   2287.9,2,   7.7087,6,    25.01,2,     -999,1,   8.3581,2,     -999,9,     -999,9,     -999,9,     -999,9,     -999,9,   4.9676,1,   0.0111,1,     -999,9,     -999,9,     -999,9,     -999,9,     -999,9,20230809,1423, -31.3845,  86.0898,-999          ,9,-999          ,9
33RR20230722  ,I05        ,70      ,  1,16         ,16         ,2,20230809,1324, -31.3844,  86.0898,     3069,    852.0,2,   6.9352,2,  34.4643,2,  34.4661,2,    199.8,2,    200.7,2,    17.76,2,    25.64,2,     0.00,2,     1.79,2,    2.527,3,    1.435,2,   0.9600,2,   2171.4,2,   2286.6,2,   7.6602,2,    25.02,2,     -999,1,   6.9409,2,     -999,9,     -999,9,     -999,9,     -999,9,     -999,9,   4.9694,1,   0.0111,1,     17.0,2,     -999,9,     -999,9,     -999,9,     -999,9,20230809,1421, -31.3844,  86.0898,-999          ,9,-999          ,9
33RR20230722  ,I05        ,70      ,  1,15         ,15         ,2,20230809,1324, -31.3844,  86.0898,     3069,    923.0,2,   5.9687,2,  34.4123,2,  34.4124,2,    196.2,2,    196.7,2,    24.40,2,    28.11,2,     0.00,2,     1.93,2,     -999,9,     -999,9,     -999,9,   2185.1,2,   2290.7,2,   7.6353,2,    25.02,2,     -999,1,   5.9768,2,     -999,9,     -999,9,     -999,9,     -999,9,     -999,9,   4.8687,1,   0.0112,1,     -999,9,     -999,9,     -999,9,     -999,9,     -999,9,20230809,1418, -31.3844,  86.0898,-999          ,9,-999          ,9
33RR20230722  ,I05        ,70      ,  1,14         ,14         ,2,20230809,1324, -31.3844,  86.0898,     3069,   1004.9,2,   5.0621,2,  34.3800,2,  34.3813,2,    194.7,2,    194.8,2,    31.82,2,    29.96,2,     0.00,2,     2.08,2,     -999,9,     -999,9,     -999,9,   2195.2,2,   2293.5,2,   7.6155,2,    25.01,2,     -999,1,   5.0548,2,     -999,9,     -999,9,     -999,9,     -999,9,     -999,9,   4.8658,1,   0.0111,1,     -999,9,     -999,9,     -999,9,     -999,9,     -999,9,20230809,1416, -31.3844,  86.0898,-999          ,9,-999          ,9
33RR20230722  ,I05        ,70      ,  1,13         ,13         ,2,20230809,1324, -31.3844,  86.0898,     3069,   1081.7,2,   4.3440,2,  34.3883,2,  34.3892,2,    186.9,2,    187.0,2,    41.87,2,    31.88,2,     0.00,2,     2.24,2,    1.584,3,    0.852,2,   0.3100,2,   2211.2,2,   2304.5,2,   7.5972,2,    25.00,2,     -999,1,   4.3412,2,     -999,9,     -999,9,     -999,9,     -999,9,     -999,9,   4.9718,1,   0.0110,1,     20.2,2,     -999,9,     -999,9,     -999,9,     -999,9,20230809,1414, -31.3845,  86.0898,-999          ,9,-999          ,9
33RR20230722  ,I05        ,70      ,  1,12         ,12         ,2,20230809,1324, -31.3844,  86.0898,     3069,   1166.6,2,   3.8951,2,  34.4293,2,  34.4312,2,    174.3,2,    174.2,2,    53.19,2,    33.45,2,     0.00,2,     2.33,2,     -999,9,     -999,9,     -999,9,   2227.2,2,   2316.2,2,   7.5786,2,    25.02,2,     -999,1,   3.8946,2,     -999,9,     -999,9,     -999,9,     -999,9,     -999,9,   4.9729,1,   0.0111,1,     -999,9,     -999,9,     -999,9,     -999,9,     -999,9,20230809,1411, -31.3845,  86.0899,-999          ,9,-999          ,9
33RR20230722  ,I05        ,70      ,  1,11         ,11         ,2,20230809,1324, -31.3844,  86.0898,     3069,   1255.1,2,   3.5973,2,  34.4709,2,  34.4752,2,    166.0,2,    165.6,2,    61.98,2,    34.16,2,     0.00,2,     2.38,2,    0.707,3,    0.370,2,   0.0800,2,   2242.6,6,   2324.3,2,   7.5680,2,    25.02,2,     -999,1,   3.5956,2,     -999,9,     -999,9,     -999,9,     -999,9,     -999,9,   4.9736,1,   0.0111,1,     22.2,2,     -999,9,     -999,9,     -999,9,     -999,9,20230809,1409, -31.3845,  86.0898,-999          ,9,-999          ,9
33RR20230722  ,I05        ,70      ,  1,10         ,10         ,2,20230809,1324, -31.3844,  86.0898,     3069,   1368.3,2,   3.3091,2,  34.5283,2,  34.5305,2,    158.6,2,    158.7,2,    70.27,2,    34.72,2,     0.00,2,     2.44,2,     -999,9,     -999,9,     -999,9,   2251.6,2,   2335.0,2,   7.5619,2,    25.02,2,     -999,1,   3.3092,2,     -999,9,     -999,9,     -999,9,     -999,9,     -999,9,   4.6903,1,   0.0111,1,     -999,9,     -999,9,     -999,9,     -999,9,     -999,9,20230809,1406, -31.3845,  86.0898,-999          ,9,-999          ,9
33RR20230722  ,I05        ,70      ,  1,9          ,9          ,2,20230809,1324, -31.3844,  86.0898,     3069,   1494.7,2,   3.0727,2,  34.5762,2,  34.5767,2,    157.5,2,    157.3,2,    77.20,2,    34.65,2,     0.00,2,     2.43,2,    0.212,3,    0.127,2,   0.0400,2,   2253.3,2,   2341.2,2,   7.5632,6,    25.00,2,     -999,1,   3.0731,2,     -999,9,     -999,9,     -999,9,     -999,9,     -999,9,   4.7927,1,   0.0112,1,     23.0,2,     -999,9,     -999,9,     -999,9,     -999,9,20230809,1402, -31.3845,  86.0898,-999          ,9,-999          ,9
33RR20230722  ,I05        ,70      ,  1,8          ,8          ,2,20230809,1324, -31.3844,  86.0898,     3069,   1582.6,2,   2.8579,2,  34.6205,2,  34.6213,2,    159.9,2,    159.7,2,    81.49,2,    34.13,2,     0.00,2,     2.40,2,     -999,9,     -999,9,     -999,9,   2261.8,2,   2346.2,2,   7.5690,2,    25.00,2,     -999,1,   2.8586,2,     -999,9,     -999,9,     -999,9,     -999,9,     -999,9,   4.9746,1,   0.0112,1,     -999,9,     -999,9,     -999,9,     -999,9,     -999,9,20230809,1400, -31.3845,  86.0898,-999          ,9,-999          ,9
33RR20230722  ,I05        ,70      ,  1,7          ,7          ,2,20230809,1324, -31.3844,  86.0898,     3069,   1739.6,2,   2.6590,2,  34.6681,2,  34.6690,2,    162.8,2,    162.7,2,    87.93,2,    33.67,2,     0.00,2,     2.35,2,     -999,9,     -999,9,     -999,9,   2263.6,2,   2353.2,2,   7.5784,2,    25.01,2,     -999,1,   2.6594,2,     -999,9,     -999,9,     -999,9,     -999,9,     -999,9,   4.9748,1,   0.0112,1,     -999,9,     -999,9,     -999,9,     -999,9,     -999,9,20230809,1356, -31.3844,  86.0898,-999          ,9,-999          ,9
33RR20230722  ,I05        ,70      ,  1,6          ,6          ,2,20230809,1324, -31.3844,  86.0898,     3069,   1841.6,2,   2.5149,2,  34.6906,2,  34.6910,2,    164.7,2,    164.8,2,    92.90,2,    33.41,2,     0.00,2,     2.34,2,    0.042,3,    0.028,2,   0.0000,2,   2268.9,2,   2360.2,2,   7.5846,2,    25.02,2,     -999,1,   2.5148,2,     -999,9,     -999,9,     -999,9,     -999,9,     -999,9,   4.9748,1,   0.0111,1,     20.2,2,     -999,9,     -999,9,     -999,9,     -999,9,20230809,1353, -31.3845,  86.0898,-999          ,9,-999          ,9
33RR20230722  ,I05        ,70      ,  1,5          ,5          ,2,20230809,1324, -31.3844,  86.0898,     3069,   2007.6,2,   2.3261,2,  34.7101,2,  34.7111,2,    170.3,2,    170.5,2,    95.93,2,    32.87,2,     0.00,2,     2.31,2,     -999,9,     -999,9,     -999,9,   2265.0,2,   2362.3,2,   7.5931,6,    25.01,2,     -999,1,   2.3257,2,     -999,9,     -999,9,     -999,9,     -999,9,     -999,9,   4.8841,1,   0.0117,1,     -999,9,     -999,9,     -999,9,     -999,9,     -999,9,20230809,1349, -31.3845,  86.0898,-999          ,9,-999          ,9
33RR20230722  ,I05        ,70      ,  1,4          ,37         ,2,20230809,1324, -31.3844,  86.0898,     3069,   2206.3,2,   2.1004,2,  34.7228,2,  34.7241,2,    176.9,2,    176.9,2,    99.63,2,    32.43,2,     0.00,2,     2.27,2,    0.017,3,    0.013,2,  -0.0200,2,   2264.0,2,   2364.7,2,   7.6023,2,    25.01,2,     -999,1,   2.1002,2,     -999,9,     -999,9,     -999,9,     -999,9,     -999,9,   4.9746,1,   0.0115,1,     19.9,2,     -999,9,     -999,9,     -999,9,     -999,9,20230809,1345, -31.3845,  86.0898,-999          ,9,-999          ,9
33RR20230722  ,I05        ,70      ,  1,3          ,3          ,2,20230809,1324, -31.3844,  86.0898,     3069,   2639.6,2,   1.7414,2,  34.7308,2,  34.7315,2,    187.4,2,    187.4,2,   105.88,2,    32.01,2,     0.00,2,     2.22,2,     -999,9,     -999,9,     -999,9,   2268.0,2,   2368.2,6,   7.6132,2,    25.01,2,     -999,1,   1.7414,2,     -999,9,     -999,9,     -999,9,     -999,9,     -999,9,   4.9748,1,   0.0111,1,     -999,9,     -999,9,     -999,9,     -999,9,     -999,9,20230809,1337, -31.3845,  86.0898,-999          ,9,-999          ,9
33RR20230722  ,I05        ,70      ,  1,2          ,2          ,2,20230809,1324, -31.3844,  86.0898,     3069,   2864.3,2,   1.5924,2,  34.7274,2,  34.7284,2,    187.9,2,    188.9,2,   112.12,2,    32.28,2,     0.00,2,     2.25,2,    0.006,3,    0.007,2,  -0.0100,2,   2272.7,2,   2374.9,2,   7.6146,2,    25.00,2,     -999,1,   1.5921,2,     -999,9,     -999,9,     -999,9,     -999,9,     -999,9,   4.8081,1,   0.0120,1,     18.8,2,     -999,9,     -999,9,     -999,9,     -999,9,20230809,1330, -31.3845,  86.0899,-999          ,9,-999          ,9
33RR20230722  ,I05        ,70      ,  1,1          ,1          ,2,20230809,1324, -31.3844,  86.0898,     3069,   3102.5,2,   1.4602,2,  34.7251,2,  34.7270,2,    191.3,2,    190.7,2,   115.25,2,    32.21,2,     0.00,2,     2.24,2,    0.009,3,    0.008,2,  -0.0300,2,   2272.7,6,   2374.4,2,   7.6181,2,    25.00,2,     -999,1,   1.4603,2,     -999,9,     -999,9,     -999,9,     -999,9,     -999,9,   0.4964,1,   0.0117,1,     17.5,2,     -999,9,     -999,9,     -999,9,     -999,9,20230809,1324, -31.3845,  86.0898,-999          ,9,-999          ,9