BOTTLE,20240422CCHHYDRO
EXPOCODE,SECT_ID,STNNBR,CASTNO,SAMPNO,BTLNBR,BTLNBR_FLAG_W,DATE,TIME,LATITUDE,LONGITUDE,DEPTH,CTDPRS,CTDPRS_FLAG_W,CTDTMP,CTDTMP_FLAG_W,CTDSAL,CTDSAL_FLAG_W,SALNTY,SALNTY_FLAG_W,CTDOXY,CTDOXY_FLAG_W,OXYGEN,OXYGEN_FLAG_W,SILCAT,SILCAT_FLAG_W,NITRAT,NITRAT_FLAG_W,NITRIT,NITRIT_FLAG_W,PHSPHT,PHSPHT_FLAG_W,CFC-11,CFC-11_FLAG_W,CFC-12,CFC-12_FLAG_W,SF6,SF6_FLAG_W,TCARBN,TCARBN_FLAG_W,ALKALI,ALKALI_FLAG_W,PH_TOT,PH_TOT_FLAG_W,PH_TMP,PH_TMP_FLAG_W,DOC,DOC_FLAG_W,REFTMP,REFTMP_FLAG_W,POC,POC_FLAG_W,PON,PON_FLAG_W,POP,POP_FLAG_W,DOP,DOP_FLAG_W,DELO18,DELO18_FLAG_W,CTDFLUOR,CTDFLUOR_FLAG_W,CTDXMISS,CTDXMISS_FLAG_W,N2O,N2O_FLAG_W,D15N_NO3,D15N_NO3_FLAG_W,D15N_NO2+NO3,D15N_NO2+NO3_FLAG_W,D18O_NO2+NO3,D18O_NO2+NO3_FLAG_W,D18O_NO3,D18O_NO3_FLAG_W,BTL_DATE,BTL_TIME,BTL_LAT,BTL_LON,HPLC,HPLC_FLAG_W,DNA,DNA_FLAG_W
,,,,,,,,,,,METERS,DBAR,,ITS-90,,PSS-78,,PSS-78,,UMOL/KG,,UMOL/KG,,UMOL/KG,,UMOL/KG,,UMOL/KG,,UMOL/KG,,PMOL/KG,,PMOL/KG,,FMOL/KG,,UMOL/KG,,UMOL/KG,,,,DEG C,,UMOL/KG,,ITS-90,,UG/KG,,UG/KG,,UG/L,,UMOL/KG,,/MILLE,,VOLTS,,VOLTS,,NMOL/KG,,/MILLE,,/MILLE,,/MILLE,,/MILLE,,,,,,,,,
33RR20230722  ,I05        ,168     ,  1,36         ,38         ,2,20230904,0355, -32.9980,  38.6796,     5036,      5.1,2,  18.5951,2,  35.6841,2,  35.6852,2,    236.3,2,    235.4,2,     1.95,2,     0.00,2,     0.00,2,     0.13,2,     -999,9,     -999,9,     -999,9,   2072.5,6,   2336.9,2,   7.9761,2,    25.00,2,     -999,1,  18.5952,2,     -999,9,     -999,9,     -999,9,     -999,9,     -999,1,   4.9750,1,   0.0168,1,     -999,9,     -999,9,     -999,9,     -999,9,     -999,9,20230904,0600, -32.9980,  38.6796,-999          ,9,-999          ,9
33RR20230722  ,I05        ,168     ,  1,35         ,35         ,2,20230904,0355, -32.9980,  38.6796,     5036,     24.0,2,  18.5671,2,  35.6876,2,  35.6877,2,    234.4,2,    234.4,2,     1.95,2,     0.00,2,     0.00,2,     0.14,2,     -999,9,     -999,9,     -999,9,   2068.9,2,   2335.9,2,   7.9766,6,    25.01,2,     -999,1,  18.5684,2,     -999,9,     -999,9,     -999,9,     -999,9,     -999,1,   4.9323,1,   0.0214,1,     -999,9,     -999,9,     -999,9,     -999,9,     -999,9,20230904,0558, -32.9980,  38.6795,-999          ,9,-999          ,9
33RR20230722  ,I05        ,168     ,  1,34         ,34         ,2,20230904,0355, -32.9980,  38.6796,     5036,     43.9,2,  18.1610,2,  35.6795,2,  35.6804,2,    237.0,2,    236.7,2,     1.95,2,     0.00,2,     0.01,2,     0.13,2,     -999,9,     -999,9,     -999,9,   -999.0,9,     -999,9,     -999,9,     -999,9,     -999,1,  18.1558,2,     -999,9,     -999,9,     -999,9,     -999,9,     -999,1,   4.8226,1,   0.0329,1,     -999,9,     -999,9,     -999,9,     -999,9,     -999,9,20230904,0556, -32.9980,  38.6796,-999          ,9,-999          ,9
33RR20230722  ,I05        ,168     ,  1,33         ,33         ,2,20230904,0355, -32.9980,  38.6796,     5036,     67.6,2,  17.7732,2,  35.6669,2,  35.6684,2,    233.4,2,    233.4,2,     2.05,2,     0.30,2,     0.10,2,     0.15,2,     -999,9,     -999,9,     -999,9,   2078.4,2,   2336.5,2,   7.9613,2,    24.99,2,     -999,1,  17.7674,2,     -999,9,     -999,9,     -999,9,     -999,9,     -999,1,   4.8998,1,   0.0347,1,     -999,9,     -999,9,     -999,9,     -999,9,     -999,9,20230904,0554, -32.9980,  38.6796,-999          ,9,-999          ,9
33RR20230722  ,I05        ,168     ,  1,32         ,32         ,2,20230904,0355, -32.9980,  38.6796,     5036,     94.4,2,  17.5213,2,  35.6662,2,  35.6664,2,    235.7,2,    235.5,2,     2.15,2,     0.29,2,     0.25,2,     0.17,2,     -999,9,     -999,9,     -999,9,   -999.0,9,     -999,9,     -999,9,     -999,9,     -999,1,  17.5200,2,     -999,9,     -999,9,     -999,9,     -999,9,     -999,1,   4.9201,1,   0.0282,1,     -999,9,     -999,9,     -999,9,     -999,9,     -999,9,20230904,0553, -32.9980,  38.6796,-999          ,9,-999          ,9
33RR20230722  ,I05        ,168     ,  1,31         ,31         ,2,20230904,0355, -32.9980,  38.6796,     5036,    120.7,2,  17.3562,2,  35.6543,2,  35.6546,2,    233.2,2,    232.7,2,     2.44,2,     0.91,2,     0.31,2,     0.19,2,     -999,9,     -999,9,     -999,9,   2083.0,2,   2333.4,2,   7.9504,2,    25.00,2,     -999,1,  17.3518,2,     -999,9,     -999,9,     -999,9,     -999,9,     -999,1,   4.9723,1,   0.0177,1,     -999,9,     -999,9,     -999,9,     -999,9,     -999,9,20230904,0551, -32.9980,  38.6796,-999          ,9,-999          ,9
33RR20230722  ,I05        ,168     ,  1,30         ,30         ,2,20230904,0355, -32.9980,  38.6796,     5036,    153.4,2,  17.0240,2,  35.6065,2,  35.6060,2,    218.2,2,    219.7,2,     2.83,2,     2.90,2,     0.02,2,     0.30,2,     -999,9,     -999,9,     -999,9,   -999.0,9,     -999,9,     -999,9,     -999,9,     -999,1,  17.0235,2,     -999,9,     -999,9,     -999,9,     -999,9,     -999,1,   4.9697,1,   0.0134,1,     -999,9,     -999,9,     -999,9,     -999,9,     -999,9,20230904,0549, -32.9980,  38.6796,-999          ,9,-999          ,9
33RR20230722  ,I05        ,168     ,  1,29         ,29         ,2,20230904,0355, -32.9980,  38.6796,     5036,    187.0,2,  16.2290,2,  35.5378,2,  35.5377,2,    209.7,3,    212.2,2,     3.22,2,     4.75,2,     0.01,2,     0.42,2,     -999,9,     -999,9,     -999,9,   2106.3,2,   2327.0,2,   7.8916,2,    25.00,2,     -999,1,  16.2271,2,     -999,9,     -999,9,     -999,9,     -999,9,     -999,1,   4.9683,1,   0.0119,1,     -999,9,     -999,9,     -999,9,     -999,9,     -999,9,20230904,0548, -32.9980,  38.6796,-999          ,9,-999          ,9
33RR20230722  ,I05        ,168     ,  1,28         ,28         ,2,20230904,0355, -32.9980,  38.6796,     5036,    223.1,2,  15.6644,2,  35.4903,2,  35.4894,2,    209.7,3,    211.8,2,     3.41,2,     5.53,2,     0.01,2,     0.48,2,     -999,9,     -999,9,     -999,9,   2113.0,2,   2325.3,2,   7.8770,2,    25.01,2,     -999,1,  15.6613,2,     -999,9,     -999,9,     -999,9,     -999,9,     -999,1,   4.9679,1,   0.0115,1,     -999,9,     -999,9,     -999,9,     -999,9,     -999,9,20230904,0546, -32.9980,  38.6796,-999          ,9,-999          ,9
33RR20230722  ,I05        ,168     ,  1,27         ,27         ,2,20230904,0355, -32.9980,  38.6796,     5036,    265.5,2,  15.1033,2,  35.4386,2,  35.4391,2,    213.5,2,    215.5,2,     3.51,2,     6.16,2,     0.00,2,     0.52,2,     -999,9,     -999,9,     -999,9,   2118.4,2,   2322.4,2,   7.8683,2,    25.02,2,     -999,1,  15.1062,2,     -999,9,     -999,9,     -999,9,     -999,9,     -999,1,   4.9680,1,   0.0120,1,     -999,9,     -999,9,     -999,9,     -999,9,     -999,9,20230904,0544, -32.9980,  38.6796,-999          ,9,-999          ,9
33RR20230722  ,I05        ,168     ,  1,26         ,26         ,2,20230904,0355, -32.9980,  38.6796,     5036,    317.6,2,  14.4341,2,  35.3687,2,  35.3705,2,    215.4,2,    216.5,2,     3.61,2,     7.13,2,     0.00,2,     0.59,2,     -999,9,     -999,9,     -999,9,   -999.0,9,     -999,9,     -999,9,     -999,9,     -999,1,  14.4332,2,     -999,9,     -999,9,     -999,9,     -999,9,     -999,1,   4.9676,1,   0.0112,1,     -999,9,     -999,9,     -999,9,     -999,9,     -999,9,20230904,0542, -32.9980,  38.6795,-999          ,9,-999          ,9
33RR20230722  ,I05        ,168     ,  1,25         ,25         ,2,20230904,0355, -32.9980,  38.6796,     5036,    378.1,2,  13.7322,2,  35.2921,2,  35.2936,2,    216.5,2,    217.5,2,     4.00,2,     8.39,2,     0.00,2,     0.67,2,     -999,9,     -999,9,     -999,9,   2124.6,2,   2316.8,2,   7.8373,6,    25.00,2,     -999,1,  13.7322,2,     -999,9,     -999,9,     -999,9,     -999,9,     -999,1,   4.9636,1,   0.0117,1,     -999,9,     -999,9,     -999,9,     -999,9,     -999,9,20230904,0540, -32.9980,  38.6796,-999          ,9,-999          ,9
33RR20230722  ,I05        ,168     ,  1,24         ,24         ,2,20230904,0355, -32.9980,  38.6796,     5036,    448.8,2,  13.1778,2,  35.2283,2,  35.2308,2,    221.7,2,    222.0,2,     4.00,2,     9.18,2,     0.00,2,     0.72,2,     -999,9,     -999,9,     -999,9,   2129.2,2,   2312.1,6,   7.8295,2,    25.01,2,     -999,1,  13.1771,2,     -999,9,     -999,9,     -999,9,     -999,9,     -999,1,   4.7425,1,   0.0114,1,     -999,9,     -999,9,     -999,9,     -999,9,     -999,9,20230904,0538, -32.9980,  38.6795,-999          ,9,-999          ,9
33RR20230722  ,I05        ,168     ,  1,23         ,23         ,2,20230904,0355, -32.9980,  38.6796,     5036,    530.8,2,  12.5925,2,  35.1482,2,  35.1492,2,    224.6,2,    224.4,2,     4.20,2,    10.33,2,     0.00,2,     0.78,2,     -999,9,     -999,9,     -999,9,   2131.2,2,   2309.9,2,   7.8177,2,    25.00,2,     -999,1,  12.5940,2,     -999,9,     -999,9,     -999,9,     -999,9,     -999,1,   4.9013,1,   0.0115,1,     -999,9,     -999,9,     -999,9,     -999,9,     -999,9,20230904,0535, -32.9980,  38.6796,-999          ,9,-999          ,9
33RR20230722  ,I05        ,168     ,  1,22         ,22         ,2,20230904,0355, -32.9980,  38.6796,     5036,    616.7,2,  11.9285,2,  35.0467,2,  35.0490,2,    222.7,2,    222.8,2,     4.68,2,    12.02,2,     0.00,2,     0.88,2,     -999,9,     -999,9,     -999,9,   2133.1,2,   2306.4,2,   7.7989,2,    24.99,2,     -999,1,  11.9286,2,     -999,9,     -999,9,     -999,9,     -999,9,     -999,1,   4.9666,1,   0.0115,1,     -999,9,     -999,9,     -999,9,     -999,9,     -999,9,20230904,0533, -32.9980,  38.6796,-999          ,9,-999          ,9
33RR20230722  ,I05        ,168     ,  1,21         ,21         ,2,20230904,0355, -32.9980,  38.6796,     5036,    709.3,2,  10.9715,2,  34.9082,2,  34.9099,2,    220.1,2,    219.9,2,     5.66,2,    14.37,2,     0.00,2,     1.03,2,     -999,9,     -999,9,     -999,9,   2141.3,2,   2300.6,2,   7.7750,2,    25.03,2,     -999,1,  10.9703,2,     -999,9,     -999,9,     -999,9,     -999,9,     -999,1,   4.9667,1,   0.0114,1,     -999,9,     -999,9,     -999,9,     -999,9,     -999,9,20230904,0530, -32.9981,  38.6796,-999          ,9,-999          ,9
33RR20230722  ,I05        ,168     ,  1,20         ,20         ,2,20230904,0355, -32.9980,  38.6796,     5036,    807.5,2,   9.9171,2,  34.7711,2,  34.7714,2,    217.2,2,    217.8,2,     7.51,2,    17.14,2,     0.00,2,     1.21,2,     -999,9,     -999,9,     -999,9,   -999.0,9,     -999,9,     -999,9,     -999,9,     -999,1,   9.9145,2,     -999,9,     -999,9,     -999,9,     -999,9,     -999,1,   4.9670,1,   0.0115,1,     -999,9,     -999,9,     -999,9,     -999,9,     -999,9,20230904,0527, -32.9980,  38.6796,-999          ,9,-999          ,9
33RR20230722  ,I05        ,168     ,  1,19         ,19         ,2,20230904,0355, -32.9980,  38.6796,     5036,    909.2,2,   8.5980,2,  34.6287,2,  34.6284,2,    210.4,2,    210.1,2,    11.81,2,    20.91,2,     0.00,2,     1.45,2,     -999,9,     -999,9,     -999,9,   2155.8,2,   2290.8,2,   7.7086,6,    24.99,2,     -999,1,   8.5991,2,     -999,9,     -999,9,     -999,9,     -999,9,     -999,1,   4.9682,1,   0.0112,1,     -999,9,     -999,9,     -999,9,     -999,9,     -999,9,20230904,0524, -32.9980,  38.6796,-999          ,9,-999          ,9
33RR20230722  ,I05        ,168     ,  1,18         ,18         ,2,20230904,0355, -32.9980,  38.6796,     5036,   1010.3,2,   7.3118,2,  34.5224,2,  34.5225,2,    202.9,2,    202.7,2,    18.25,2,    24.62,2,     0.00,2,     1.72,2,     -999,9,     -999,9,     -999,9,   -999.0,9,     -999,9,     -999,9,     -999,9,     -999,1,   7.3101,2,     -999,9,     -999,9,     -999,9,     -999,9,     -999,1,   4.9694,1,   0.0113,1,     -999,9,     -999,9,     -999,9,     -999,9,     -999,9,20230904,0522, -32.9980,  38.6796,-999          ,9,-999          ,9
33RR20230722  ,I05        ,168     ,  1,17         ,17         ,2,20230904,0355, -32.9980,  38.6796,     5036,   1114.3,2,   5.8759,2,  34.4227,2,  34.4241,2,    202.3,2,    202.6,2,    25.67,2,    27.88,2,     0.00,2,     1.94,2,     -999,9,     -999,9,     -999,9,   2191.0,2,   2293.1,2,   7.6371,2,    25.00,2,     -999,1,   5.8707,2,     -999,9,     -999,9,     -999,9,     -999,9,     -999,1,   4.9703,1,   0.0111,1,     -999,9,     -999,9,     -999,9,     -999,9,     -999,9,20230904,0519, -32.9980,  38.6796,-999          ,9,-999          ,9
33RR20230722  ,I05        ,168     ,  1,16         ,16         ,2,20230904,0355, -32.9980,  38.6796,     5036,   1226.5,2,   4.8695,2,  34.3955,2,  34.3963,2,    196.6,2,    196.5,2,    35.05,2,    30.26,2,     0.00,2,     2.12,2,     -999,9,     -999,9,     -999,9,   -999.0,9,     -999,9,     -999,9,     -999,9,     -999,1,   4.8695,2,     -999,9,     -999,9,     -999,9,     -999,9,     -999,1,   4.9712,1,   0.0111,1,     -999,9,     -999,9,     -999,9,     -999,9,     -999,9,20230904,0516, -32.9980,  38.6796,-999          ,9,-999          ,9
33RR20230722  ,I05        ,168     ,  1,15         ,15         ,2,20230904,0355, -32.9980,  38.6796,     5036,   1346.2,2,   4.1084,2,  34.4303,2,  34.4304,2,    184.7,2,    184.8,2,    46.96,2,    32.26,2,     0.00,2,     2.26,2,     -999,9,     -999,9,     -999,9,   2221.4,2,   2308.1,2,   7.5883,2,    25.00,2,     -999,1,   4.1084,2,     -999,9,     -999,9,     -999,9,     -999,9,     -999,1,   4.6602,1,   0.0118,1,     -999,9,     -999,9,     -999,9,     -999,9,     -999,9,20230904,0513, -32.9980,  38.6796,-999          ,9,-999          ,9
33RR20230722  ,I05        ,168     ,  1,14         ,14         ,2,20230904,0355, -32.9980,  38.6796,     5036,   1474.1,2,   3.6531,2,  34.4880,2,  34.4897,2,    176.1,2,    176.0,2,    56.71,2,    33.09,2,     0.00,2,     2.32,2,     -999,9,     -999,9,     -999,9,   2237.2,2,   2318.9,2,   7.5767,2,    24.99,2,     -999,1,   3.6527,2,     -999,9,     -999,9,     -999,9,     -999,9,     -999,1,   4.9733,1,   0.0112,1,     -999,9,     -999,9,     -999,9,     -999,9,     -999,9,20230904,0509, -32.9980,  38.6796,-999          ,9,-999          ,9
33RR20230722  ,I05        ,168     ,  1,13         ,13         ,2,20230904,0355, -32.9980,  38.6796,     5036,   1610.8,2,   3.3062,2,  34.5606,2,  34.5616,2,    170.3,2,    170.1,2,    65.59,2,    33.30,2,     0.00,2,     2.34,2,     -999,9,     -999,9,     -999,9,   2248.5,2,   2328.2,2,   7.5693,2,    25.01,2,     -999,1,   3.3068,2,     -999,9,     -999,9,     -999,9,     -999,9,     -999,1,   4.9339,1,   0.0121,1,     -999,9,     -999,9,     -999,9,     -999,9,     -999,9,20230904,0506, -32.9980,  38.6796,-999          ,9,-999          ,9
33RR20230722  ,I05        ,168     ,  1,12         ,12         ,2,20230904,0355, -32.9980,  38.6796,     5036,   1756.5,2,   3.1173,2,  34.6300,2,  34.6305,2,    169.0,2,    169.0,2,    71.35,2,    32.86,2,     0.00,2,     2.30,2,     -999,9,     -999,9,     -999,9,   2250.0,6,   2337.2,2,   7.5805,2,    25.01,2,     -999,1,   3.1170,2,     -999,9,     -999,9,     -999,9,     -999,9,     -999,1,   4.9714,1,   0.0111,1,     -999,9,     -999,9,     -999,9,     -999,9,     -999,9,20230904,0503, -32.9980,  38.6796,-999          ,9,-999          ,9
33RR20230722  ,I05        ,168     ,  1,11         ,11         ,2,20230904,0355, -32.9980,  38.6796,     5036,   1925.1,2,   2.8789,2,  34.6873,2,  34.6883,2,    176.1,2,    176.1,2,    73.10,2,    31.74,2,     0.00,2,     2.24,2,     -999,9,     -999,9,     -999,9,   2249.5,2,   2339.9,2,   7.5950,6,    25.00,2,     -999,1,   2.8784,2,     -999,9,     -999,9,     -999,9,     -999,9,     -999,1,   4.9742,1,   0.0117,1,     -999,9,     -999,9,     -999,9,     -999,9,     -999,9,20230904,0459, -32.9980,  38.6796,-999          ,9,-999          ,9
33RR20230722  ,I05        ,168     ,  1,10         ,10         ,2,20230904,0355, -32.9980,  38.6796,     5036,   2131.5,2,   2.7173,2,  34.7373,2,  34.7386,2,    186.3,2,    186.7,2,    71.64,2,    30.25,2,     0.00,2,     2.11,2,     -999,9,     -999,9,     -999,9,   2241.6,2,   2340.9,6,   7.6153,6,    25.00,2,     -999,1,   2.7174,2,     -999,9,     -999,9,     -999,9,     -999,9,     -999,1,   4.9741,1,   0.0114,1,     -999,9,     -999,9,     -999,9,     -999,9,     -999,9,20230904,0454, -32.9980,  38.6796,-999          ,9,-999          ,9
33RR20230722  ,I05        ,168     ,  1,9          ,9          ,2,20230904,0355, -32.9980,  38.6796,     5036,   2379.1,2,   2.5630,2,  34.7742,2,  34.7740,2,    195.9,2,    195.9,2,    71.54,2,    29.00,2,     0.00,2,     2.03,2,     -999,9,     -999,9,     -999,9,   2238.3,2,   2341.5,2,   7.6329,2,    25.01,2,     -999,1,   2.5631,2,     -999,9,     -999,9,     -999,9,     -999,9,     -999,1,   4.9741,1,   0.0119,1,     -999,9,     -999,9,     -999,9,     -999,9,     -999,9,20230904,0449, -32.9980,  38.6796,-999          ,9,-999          ,9
33RR20230722  ,I05        ,168     ,  1,8          ,8          ,2,20230904,0355, -32.9980,  38.6796,     5036,   2678.7,2,   2.3859,2,  34.7983,2,  34.7986,2,    207.6,2,    207.7,2,    69.49,2,    27.78,2,     0.00,2,     1.93,2,     -999,9,     -999,9,     -999,9,   -999.0,9,     -999,9,     -999,9,     -999,9,     -999,1,   2.3868,2,     -999,9,     -999,9,     -999,9,     -999,9,     -999,1,   4.9742,1,   0.0112,1,     -999,9,     -999,9,     -999,9,     -999,9,     -999,9,20230904,0443, -32.9980,  38.6796,-999          ,9,-999          ,9
33RR20230722  ,I05        ,168     ,  1,7          ,7          ,2,20230904,0355, -32.9980,  38.6796,     5036,   3023.6,2,   2.2048,2,  34.8035,2,  34.8031,2,    213.8,2,    214.0,2,    71.14,2,    27.41,2,     0.00,2,     1.91,2,     -999,9,     -999,9,     -999,9,   2229.3,2,   2342.4,2,   7.6570,2,    25.02,2,     -999,1,   2.2046,2,     -999,9,     -999,9,     -999,9,     -999,9,     -999,1,   4.9745,1,   0.0124,1,     -999,9,     -999,9,     -999,9,     -999,9,     -999,9,20230904,0436, -32.9980,  38.6796,-999          ,9,-999          ,9
33RR20230722  ,I05        ,168     ,  1,6          ,6          ,2,20230904,0355, -32.9980,  38.6796,     5036,   3406.0,2,   1.8788,2,  34.7859,2,  34.7860,2,    215.0,2,    215.1,2,    81.49,2,    28.26,2,     0.00,2,     1.95,2,     -999,9,     -999,9,     -999,9,   -999.0,9,     -999,9,     -999,9,     -999,9,     -999,1,   1.8793,2,     -999,9,     -999,9,     -999,9,     -999,9,     -999,1,   4.9752,1,   0.0112,1,     -999,9,     -999,9,     -999,9,     -999,9,     -999,9,20230904,0428, -32.9980,  38.6796,-999          ,9,-999          ,9
33RR20230722  ,I05        ,168     ,  1,5          ,5          ,2,20230904,0355, -32.9980,  38.6796,     5036,   3805.4,2,   1.4663,2,  34.7581,2,  34.7579,2,    216.1,2,    216.1,2,    94.86,2,    29.52,2,     0.00,2,     2.07,2,     -999,9,     -999,9,     -999,9,   2243.6,2,   2353.8,2,   7.6419,2,    25.00,2,     -999,1,   1.4663,2,     -999,9,     -999,9,     -999,9,     -999,9,     -999,1,   4.9755,1,   0.0111,1,     -999,9,     -999,9,     -999,9,     -999,9,     -999,9,20230904,0421, -32.9980,  38.6796,-999          ,9,-999          ,9
33RR20230722  ,I05        ,168     ,  1,4          ,37         ,2,20230904,0355, -32.9980,  38.6796,     5036,   4212.8,2,   1.0662,2,  34.7288,2,  34.7284,2,    217.2,2,    217.4,2,   107.94,2,    30.72,2,     0.00,2,     2.15,2,     -999,9,     -999,9,     -999,9,   2254.0,2,   2360.7,2,   7.6308,2,    24.99,2,     -999,1,   1.0663,2,     -999,9,     -999,9,     -999,9,     -999,9,     -999,1,   4.9702,1,   0.0113,1,     -999,9,     -999,9,     -999,9,     -999,9,     -999,9,20230904,0413, -32.9980,  38.6796,-999          ,9,-999          ,9
33RR20230722  ,I05        ,168     ,  1,3          ,3          ,2,20230904,0355, -32.9980,  38.6796,     5036,   4579.8,2,   0.7817,2,  34.7065,2,  34.7058,2,    218.2,2,    218.7,2,   117.41,2,    31.60,2,     0.00,2,     2.21,2,     -999,9,     -999,9,     -999,9,   2258.4,2,   2364.8,2,   7.6230,2,    25.00,2,     -999,1,   0.7816,2,     -999,9,     -999,9,     -999,9,     -999,9,     -999,1,   4.8909,1,   0.0115,1,     -999,9,     -999,9,     -999,9,     -999,9,     -999,9,20230904,0406, -32.9980,  38.6796,-999          ,9,-999          ,9