BOTTLE,20240422CCHHYDRO
EXPOCODE,SECT_ID,STNNBR,CASTNO,SAMPNO,BTLNBR,BTLNBR_FLAG_W,DATE,TIME,LATITUDE,LONGITUDE,DEPTH,CTDPRS,CTDPRS_FLAG_W,CTDTMP,CTDTMP_FLAG_W,CTDSAL,CTDSAL_FLAG_W,SALNTY,SALNTY_FLAG_W,CTDOXY,CTDOXY_FLAG_W,OXYGEN,OXYGEN_FLAG_W,SILCAT,SILCAT_FLAG_W,NITRAT,NITRAT_FLAG_W,NITRIT,NITRIT_FLAG_W,PHSPHT,PHSPHT_FLAG_W,CFC-11,CFC-11_FLAG_W,CFC-12,CFC-12_FLAG_W,SF6,SF6_FLAG_W,TCARBN,TCARBN_FLAG_W,ALKALI,ALKALI_FLAG_W,PH_TOT,PH_TOT_FLAG_W,PH_TMP,PH_TMP_FLAG_W,DOC,DOC_FLAG_W,REFTMP,REFTMP_FLAG_W,POC,POC_FLAG_W,PON,PON_FLAG_W,POP,POP_FLAG_W,DOP,DOP_FLAG_W,DELO18,DELO18_FLAG_W,CTDFLUOR,CTDFLUOR_FLAG_W,CTDXMISS,CTDXMISS_FLAG_W,N2O,N2O_FLAG_W,D15N_NO3,D15N_NO3_FLAG_W,D15N_NO2+NO3,D15N_NO2+NO3_FLAG_W,D18O_NO2+NO3,D18O_NO2+NO3_FLAG_W,D18O_NO3,D18O_NO3_FLAG_W,BTL_DATE,BTL_TIME,BTL_LAT,BTL_LON,HPLC,HPLC_FLAG_W,DNA,DNA_FLAG_W
,,,,,,,,,,,METERS,DBAR,,ITS-90,,PSS-78,,PSS-78,,UMOL/KG,,UMOL/KG,,UMOL/KG,,UMOL/KG,,UMOL/KG,,UMOL/KG,,PMOL/KG,,PMOL/KG,,FMOL/KG,,UMOL/KG,,UMOL/KG,,,,DEG C,,UMOL/KG,,ITS-90,,UG/KG,,UG/KG,,UG/L,,UMOL/KG,,/MILLE,,VOLTS,,VOLTS,,NMOL/KG,,/MILLE,,/MILLE,,/MILLE,,/MILLE,,,,,,,,,
33RR20230722  ,I05        ,6       ,  2,27         ,27         ,2,20230723,0601, -32.5352, 114.1861,     2573,      5.6,2,  20.2998,2,  35.3874,2,  35.3837,2,    223.7,2,    224.5,2,     2.05,2,     0.04,2,     0.01,2,     0.10,2,    1.016,2,    0.713,2,   1.8000,2,   2031.4,6,   2320.6,2,   8.0210,2,    25.00,2,     -999,9,  20.3027,2,     -999,9,     -999,9,     -999,9,     -999,9,     -999,9,   4.9759,1,   0.0227,1,      7.0,2,     -999,9,     -999,9,     -999,9,     -999,9,20230723,0718, -32.5352, 114.1861,-999          ,9,-999          ,9
33RR20230722  ,I05        ,6       ,  2,26         ,26         ,2,20230723,0601, -32.5352, 114.1861,     2573,     31.8,2,  19.1342,2,  35.5271,2,  35.5208,2,    228.9,2,    229.2,2,     3.51,2,     0.00,2,     0.01,2,     0.11,2,     -999,9,     -999,9,     -999,9,   2050.1,2,   2331.2,2,   8.0046,2,    24.98,2,     -999,9,  19.1764,2,     -999,9,     -999,9,     -999,9,     -999,9,     -999,9,   4.9758,1,   0.0300,1,     -999,9,     -999,9,     -999,9,     -999,9,     -999,9,20230723,0716, -32.5352, 114.1861,-999          ,9,-999          ,9
33RR20230722  ,I05        ,6       ,  2,25         ,25         ,2,20230723,0601, -32.5352, 114.1861,     2573,     52.5,2,  17.9774,2,  35.6327,2,  35.6263,2,    233.8,2,    233.8,2,     2.63,2,     0.00,2,     0.01,2,     0.10,2,     -999,9,     -999,9,     -999,9,   2066.2,2,   2340.2,2,   7.9878,2,    25.00,2,     -999,9,  17.9881,2,     -999,9,     -999,9,     -999,9,     -999,9,     -999,9,   4.9758,1,   0.0388,1,     -999,9,     -999,9,     -999,9,     -999,9,     -999,9,20230723,0714, -32.5352, 114.1861,-999          ,9,-999          ,9
33RR20230722  ,I05        ,6       ,  2,24         ,24         ,2,20230723,0601, -32.5352, 114.1861,     2573,     73.1,2,  17.0891,2,  35.6982,2,  35.6940,2,    237.5,2,    237.0,2,     2.63,2,     0.00,2,     0.03,2,     0.10,2,     -999,9,     -999,9,     -999,9,   2072.8,2,   2345.6,2,   7.9740,6,    25.00,2,     -999,9,  17.0889,2,     -999,9,     -999,9,     -999,9,     -999,9,     -999,9,   4.9210,1,   0.0329,1,     -999,9,     -999,9,     -999,9,     -999,9,     -999,9,20230723,0712, -32.5352, 114.1861,-999          ,9,-999          ,9
33RR20230722  ,I05        ,6       ,  2,23         ,23         ,2,20230723,0601, -32.5352, 114.1861,     2573,     93.5,2,  17.0738,2,  35.6990,2,  35.6948,2,    237.2,2,    236.7,2,     2.83,2,     0.00,2,     0.04,2,     0.10,2,     -999,9,     -999,9,     -999,9,   2074.3,2,   2343.8,6,   7.9746,2,    25.00,2,     -999,9,  17.0732,2,     -999,9,     -999,9,     -999,9,     -999,9,     -999,9,   4.9751,1,   0.0261,1,     -999,9,     -999,9,     -999,9,     -999,9,     -999,9,20230723,0711, -32.5352, 114.1861,-999          ,9,-999          ,9
33RR20230722  ,I05        ,6       ,  2,22         ,22         ,2,20230723,0601, -32.5352, 114.1861,     2573,    108.2,2,  17.0713,2,  35.6993,2,  35.6954,2,    237.0,2,    236.6,2,     2.83,2,     0.00,2,     0.04,2,     0.11,2,     -999,9,     -999,9,     -999,9,   2073.0,2,   2342.2,2,   7.9740,6,    25.00,2,     -999,9,  17.0704,2,     -999,9,     -999,9,     -999,9,     -999,9,     -999,9,   4.8377,1,   0.0274,1,     -999,9,     -999,9,     -999,9,     -999,9,     -999,9,20230723,0709, -32.5352, 114.1861,-999          ,9,-999          ,9
33RR20230722  ,I05        ,6       ,  2,21         ,21         ,2,20230723,0601, -32.5352, 114.1861,     2573,    138.9,2,  16.9731,2,  35.6973,2,  35.6944,2,    234.9,2,    235.6,2,     2.34,2,     0.04,2,     0.10,2,     0.11,2,     -999,9,     -999,9,     -999,9,   2079.4,2,   2343.8,2,   7.9702,2,    25.00,2,     -999,9,  16.9750,2,     -999,9,     -999,9,     -999,9,     -999,9,     -999,9,   4.9742,1,   0.0199,1,     -999,9,     -999,9,     -999,9,     -999,9,     -999,9,20230723,0707, -32.5352, 114.1861,-999          ,9,-999          ,9
33RR20230722  ,I05        ,6       ,  2,20         ,20         ,2,20230723,0601, -32.5352, 114.1861,     2573,    166.8,2,  15.5429,2,  35.5884,2,  35.5849,2,    239.1,2,    238.3,2,     2.73,2,     0.99,2,     0.14,2,     0.20,2,    1.986,2,    1.375,2,   2.4500,2,   2095.6,2,   2341.9,2,   7.9351,2,    24.99,2,     -999,9,  15.5283,2,     -999,9,     -999,9,     -999,9,     -999,9,     -999,9,   4.9731,1,   0.0156,1,      8.6,2,     -999,9,     -999,9,     -999,9,     -999,9,20230723,0706, -32.5352, 114.1861,-999          ,9,-999          ,9
33RR20230722  ,I05        ,6       ,  2,19         ,19         ,2,20230723,0601, -32.5352, 114.1861,     2573,    192.6,2,  15.4728,2,  35.6172,2,  35.6092,2,    239.2,2,    239.4,2,     1.85,2,     0.92,2,     0.19,2,     0.19,2,     -999,9,     -999,9,     -999,9,   2096.3,2,   2342.2,2,   7.9345,2,    24.99,2,     -999,9,  15.4649,2,     -999,9,     -999,9,     -999,9,     -999,9,     -999,9,   4.9732,1,   0.0143,1,     -999,9,     -999,9,     -999,9,     -999,9,     -999,9,20230723,0704, -32.5352, 114.1861,-999          ,9,-999          ,9
33RR20230722  ,I05        ,6       ,  2,18         ,18         ,2,20230723,0601, -32.5352, 114.1861,     2573,    227.7,2,  14.6826,2,  35.4565,2,  35.4553,2,    238.2,2,    239.2,2,     2.24,2,     2.11,2,     0.05,2,     0.25,2,     -999,9,     -999,9,     -999,9,   2100.8,2,   2333.4,2,   7.9111,2,    25.00,2,     -999,9,  14.6841,2,     -999,9,     -999,9,     -999,9,     -999,9,     -999,9,   4.8980,1,   0.0124,1,     -999,9,     -999,9,     -999,9,     -999,9,     -999,9,20230723,0703, -32.5352, 114.1861,-999          ,9,-999          ,9
33RR20230722  ,I05        ,6       ,  2,17         ,17         ,2,20230723,0601, -32.5352, 114.1861,     2573,    268.4,2,  13.8247,2,  35.3229,2,  35.3234,2,    241.5,2,    241.1,2,     2.54,2,     3.72,2,     0.03,2,     0.38,2,     -999,9,     -999,9,     -999,9,   2106.2,2,   2328.7,2,   7.8879,2,    24.99,2,     -999,9,  13.8293,2,     -999,9,     -999,9,     -999,9,     -999,9,     -999,9,   4.9711,1,   0.0122,1,     -999,9,     -999,9,     -999,9,     -999,9,     -999,9,20230723,0701, -32.5352, 114.1861,-999          ,9,-999          ,9
33RR20230722  ,I05        ,6       ,  2,16         ,16         ,2,20230723,0601, -32.5352, 114.1861,     2573,    308.6,2,  12.1574,2,  35.0267,2,  35.0295,2,    241.4,2,    241.0,2,     2.44,2,     7.27,2,     0.02,2,     0.60,2,    2.146,2,    1.402,2,   2.4400,2,   2116.9,2,   2314.2,2,   7.8330,2,    25.00,2,     -999,9,  12.1620,2,     -999,9,     -999,9,     -999,9,     -999,9,     -999,9,   4.9684,1,   0.0115,1,     10.5,2,     -999,9,     -999,9,     -999,9,     -999,9,20230723,0659, -32.5351, 114.1861,-999          ,9,-999          ,9
33RR20230722  ,I05        ,6       ,  2,15         ,15         ,2,20230723,0601, -32.5352, 114.1861,     2573,    428.2,2,  10.2690,2,  34.8067,2,  34.8058,2,    238.0,2,    237.7,2,     3.41,2,    13.66,2,     0.00,2,     0.93,2,     -999,9,     -999,9,     -999,9,   2136.8,2,   2296.6,6,   7.7682,2,    25.00,2,     -999,9,  10.2701,2,     -999,9,     -999,9,     -999,9,     -999,9,     -999,9,   4.9676,1,   0.0114,1,     -999,9,     -999,9,     -999,9,     -999,9,     -999,9,20230723,0656, -32.5352, 114.1861,-999          ,9,-999          ,9
33RR20230722  ,I05        ,6       ,  2,14         ,14         ,2,20230723,0601, -32.5352, 114.1861,     2573,    559.7,2,   9.4083,2,  34.7030,2,  34.7017,2,    237.8,2,    237.8,2,     5.56,2,    16.38,2,     0.00,2,     1.13,2,     -999,9,     -999,9,     -999,9,   2140.0,2,   2290.5,2,   7.7474,2,    25.00,2,     -999,9,   9.4097,2,     -999,9,     -999,9,     -999,9,     -999,9,     -999,9,   4.9667,1,   0.0114,1,     -999,9,     -999,9,     -999,9,     -999,9,     -999,9,20230723,0653, -32.5352, 114.1861,-999          ,9,-999          ,9
33RR20230722  ,I05        ,6       ,  2,13         ,13         ,2,20230723,0601, -32.5352, 114.1861,     2573,    710.6,2,   7.4380,2,  34.4865,2,  34.4848,2,    205.6,2,    206.3,2,    13.56,2,    23.95,2,     0.00,2,     1.60,2,    2.553,2,    1.594,2,   1.2700,6,   2161.6,2,   2285.9,2,   7.6756,2,    25.00,2,     -999,9,   7.4366,2,     -999,9,     -999,9,     -999,9,     -999,9,     -999,9,   4.9681,1,   0.0112,1,     16.3,2,     -999,9,     -999,9,     -999,9,     -999,9,20230723,0649, -32.5352, 114.1861,-999          ,9,-999          ,9
33RR20230722  ,I05        ,6       ,  2,12         ,12         ,2,20230723,0601, -32.5352, 114.1861,     2573,    864.3,2,   5.1429,2,  34.3769,2,  34.3755,2,    194.0,2,    194.8,2,    31.03,2,    29.83,2,     0.00,2,     1.99,2,     -999,9,     -999,9,     -999,9,   2191.4,2,   2294.6,2,   7.6197,2,    25.00,2,     -999,9,   5.1419,2,     -999,9,     -999,9,     -999,9,     -999,9,     -999,9,   4.9702,1,   0.0111,1,     -999,9,     -999,9,     -999,9,     -999,9,     -999,9,20230723,0645, -32.5352, 114.1861,-999          ,9,-999          ,9
33RR20230722  ,I05        ,6       ,  2,11         ,11         ,2,20230723,0601, -32.5352, 114.1861,     2573,   1014.8,2,   3.8827,2,  34.4063,2,  34.4035,2,    180.6,2,    181.7,2,    47.14,2,    32.78,2,     0.00,2,     2.22,2,     -999,9,     -999,9,     -999,9,   2223.6,2,   2313.0,2,   7.5867,2,    25.01,2,     -999,9,   3.8880,2,     -999,9,     -999,9,     -999,9,     -999,9,     -999,9,   4.9716,1,   0.0118,1,     -999,9,     -999,9,     -999,9,     -999,9,     -999,9,20230723,0642, -32.5352, 114.1861,-999          ,9,-999          ,9
33RR20230722  ,I05        ,6       ,  2,10         ,10         ,2,20230723,0601, -32.5352, 114.1861,     2573,   1165.3,2,   3.6447,2,  34.5109,2,  34.5089,2,    153.1,2,    152.8,2,    70.26,2,    34.54,2,     0.00,2,     2.36,2,    0.485,2,    0.222,2,   0.0000,2,   2252.5,3,   2336.0,2,   7.5606,2,    25.02,2,     -999,9,   3.6478,2,     -999,9,     -999,9,     -999,9,     -999,9,     -999,9,   4.9738,1,   0.0116,1,     23.9,2,     -999,9,     -999,9,     -999,9,     -999,9,20230723,0638, -32.5352, 114.1861,-999          ,9,-999          ,9
33RR20230722  ,I05        ,6       ,  2,9          ,9          ,2,20230723,0601, -32.5352, 114.1861,     2573,   1317.0,2,   3.2579,2,  34.5674,2,  34.5657,2,    149.5,2,    148.9,2,    78.45,2,    34.89,2,     0.00,2,     2.40,2,     -999,9,     -999,9,     -999,9,   2263.0,2,   2345.1,2,   7.5579,2,    25.00,2,     -999,9,   3.2599,2,     -999,9,     -999,9,     -999,9,     -999,9,     -999,9,   4.9749,1,   0.0111,1,     -999,9,     -999,9,     -999,9,     -999,9,     -999,9,20230723,0634, -32.5352, 114.1861,-999          ,9,-999          ,9
33RR20230722  ,I05        ,6       ,  2,8          ,8          ,2,20230723,0601, -32.5352, 114.1861,     2573,   1469.1,2,   2.9749,2,  34.6074,2,  34.6056,2,    152.0,2,    151.8,2,    80.89,2,    34.77,2,     0.00,2,     2.38,2,    0.487,2,    0.222,2,   0.0000,2,   2267.0,2,   2349.1,2,   7.5621,2,    25.02,2,     -999,9,   2.9753,2,     -999,9,     -999,9,     -999,9,     -999,9,     -999,9,   4.9745,1,   0.0111,1,     23.4,2,     -999,9,     -999,9,     -999,9,     -999,9,20230723,0630, -32.5352, 114.1861,-999          ,9,-999          ,9
33RR20230722  ,I05        ,6       ,  2,7          ,7          ,2,20230723,0601, -32.5352, 114.1861,     2573,   1621.6,2,   2.7646,2,  34.6499,2,  34.6488,2,    154.0,2,    154.1,2,    88.79,2,    34.30,2,     0.00,2,     2.36,2,     -999,9,     -999,9,     -999,9,   2271.0,2,   2356.5,2,   7.5693,2,    25.00,2,     -999,9,   2.7643,2,     -999,9,     -999,9,     -999,9,     -999,9,     -999,9,   4.9746,1,   0.0124,1,     -999,9,     -999,9,     -999,9,     -999,9,     -999,9,20230723,0627, -32.5352, 114.1861,-999          ,9,-999          ,9
33RR20230722  ,I05        ,6       ,  2,6          ,6          ,2,20230723,0601, -32.5352, 114.1861,     2573,   1772.3,2,   2.5676,2,  34.6822,2,  34.6812,2,    157.5,2,    157.3,2,    94.64,2,    33.81,2,     0.00,2,     2.33,2,    0.117,2,    0.034,2,   0.0000,2,   2275.0,2,   2364.9,2,   7.5770,6,    25.01,2,     -999,9,   2.5664,2,     -999,9,     -999,9,     -999,9,     -999,9,     -999,9,   4.9744,1,   0.0112,1,     22.3,2,     -999,9,     -999,9,     -999,9,     -999,9,20230723,0623, -32.5352, 114.1861,-999          ,9,-999          ,9
33RR20230722  ,I05        ,6       ,  2,5          ,5          ,2,20230723,0601, -32.5352, 114.1861,     2573,   1823.6,2,   2.4887,2,  34.6928,2,  34.6918,2,    158.8,2,    158.8,2,    95.62,2,    33.81,2,     0.00,2,     2.32,2,   -0.004,2,    0.005,2,   0.0000,2,   2273.5,2,   2366.3,2,   7.5795,2,    25.00,2,     -999,9,   2.4888,2,     -999,9,     -999,9,     -999,9,     -999,9,     -999,9,   4.9746,1,   0.0121,1,     22.0,2,     -999,9,     -999,9,     -999,9,     -999,9,20230723,0621, -32.5352, 114.1861,-999          ,9,-999          ,9
33RR20230722  ,I05        ,6       ,  2,4          ,4          ,2,20230723,0601, -32.5352, 114.1861,     2573,   2027.5,2,   2.3064,2,  34.7122,2,  34.7119,2,    161.3,2,    161.4,2,   101.57,2,    33.53,2,     0.00,2,     2.30,2,    0.003,2,    0.017,2,   0.0000,3,   2280.3,2,   2375.7,2,   7.5857,2,    25.00,2,     -999,9,   2.3059,2,     -999,9,     -999,9,     -999,9,     -999,9,     -999,9,   4.9300,1,   0.0111,1,     21.6,2,     -999,9,     -999,9,     -999,9,     -999,9,20230723,0616, -32.5352, 114.1861,-999          ,9,-999          ,9
33RR20230722  ,I05        ,6       ,  2,3          ,3          ,2,20230723,0601, -32.5352, 114.1861,     2573,   2249.2,2,   2.0562,2,  34.7233,2,  34.7223,2,    167.0,2,    167.1,2,   105.76,2,    33.29,2,     0.00,2,     2.27,2,   -0.007,2,    0.009,2,   0.1200,2,   2280.3,2,   2379.8,2,   7.5941,2,    24.99,2,     -999,9,   2.0566,2,     -999,9,     -999,9,     -999,9,     -999,9,     -999,9,   4.9745,1,   0.0123,1,     20.7,2,     -999,9,     -999,9,     -999,9,     -999,9,20230723,0611, -32.5352, 114.1861,-999          ,9,-999          ,9
33RR20230722  ,I05        ,6       ,  2,2          ,2          ,2,20230723,0601, -32.5352, 114.1861,     2573,   2465.6,2,   1.8861,2,  34.7265,2,  34.7252,2,    171.8,2,    172.0,2,   108.59,2,    33.05,2,     0.00,2,     2.24,2,    0.017,3,    0.012,3,   0.0000,3,   2282.4,3,   2381.9,2,   7.6014,2,    25.00,2,     -999,9,   1.8872,2,     -999,9,     -999,9,     -999,9,     -999,9,     -999,9,   4.8435,1,   0.0123,1,     11.6,3,     -999,9,     -999,9,     -999,9,     -999,9,20230723,0606, -32.5352, 114.1861,-999          ,9,-999          ,9
33RR20230722  ,I05        ,6       ,  2,1          ,1          ,2,20230723,0601, -32.5352, 114.1861,     2573,   2595.5,2,   1.8133,2,  34.7271,2,  34.7264,2,    174.4,2,    174.5,2,   110.25,2,    32.90,2,     0.00,2,     2.24,2,   -0.002,3,    0.007,3,   0.0600,3,   2282.0,6,   2381.3,2,   7.6041,2,    24.99,2,     -999,9,   1.8130,2,     -999,9,     -999,9,     -999,9,     -999,9,     -999,9,   0.5851,1,   0.0117,1,     12.6,3,     -999,9,     -999,9,     -999,9,     -999,9,20230723,0601, -32.5352, 114.1861,-999          ,9,-999          ,9