BOTTLE,20240422CCHHYDRO
EXPOCODE,SECT_ID,STNNBR,CASTNO,SAMPNO,BTLNBR,BTLNBR_FLAG_W,DATE,TIME,LATITUDE,LONGITUDE,DEPTH,CTDPRS,CTDPRS_FLAG_W,CTDTMP,CTDTMP_FLAG_W,CTDSAL,CTDSAL_FLAG_W,SALNTY,SALNTY_FLAG_W,CTDOXY,CTDOXY_FLAG_W,OXYGEN,OXYGEN_FLAG_W,SILCAT,SILCAT_FLAG_W,NITRAT,NITRAT_FLAG_W,NITRIT,NITRIT_FLAG_W,PHSPHT,PHSPHT_FLAG_W,CFC-11,CFC-11_FLAG_W,CFC-12,CFC-12_FLAG_W,SF6,SF6_FLAG_W,TCARBN,TCARBN_FLAG_W,ALKALI,ALKALI_FLAG_W,PH_TOT,PH_TOT_FLAG_W,PH_TMP,PH_TMP_FLAG_W,DOC,DOC_FLAG_W,REFTMP,REFTMP_FLAG_W,POC,POC_FLAG_W,PON,PON_FLAG_W,POP,POP_FLAG_W,DOP,DOP_FLAG_W,DELO18,DELO18_FLAG_W,CTDFLUOR,CTDFLUOR_FLAG_W,CTDXMISS,CTDXMISS_FLAG_W,N2O,N2O_FLAG_W,D15N_NO3,D15N_NO3_FLAG_W,D15N_NO2+NO3,D15N_NO2+NO3_FLAG_W,D18O_NO2+NO3,D18O_NO2+NO3_FLAG_W,D18O_NO3,D18O_NO3_FLAG_W,BTL_DATE,BTL_TIME,BTL_LAT,BTL_LON,HPLC,HPLC_FLAG_W,DNA,DNA_FLAG_W
,,,,,,,,,,,METERS,DBAR,,ITS-90,,PSS-78,,PSS-78,,UMOL/KG,,UMOL/KG,,UMOL/KG,,UMOL/KG,,UMOL/KG,,UMOL/KG,,PMOL/KG,,PMOL/KG,,FMOL/KG,,UMOL/KG,,UMOL/KG,,,,DEG C,,UMOL/KG,,ITS-90,,UG/KG,,UG/KG,,UG/L,,UMOL/KG,,/MILLE,,VOLTS,,VOLTS,,NMOL/KG,,/MILLE,,/MILLE,,/MILLE,,/MILLE,,,,,,,,,
33RR20230722  ,I05        ,184     ,  1,36         ,38         ,2,20230908,0038, -32.1798,  32.3194,     3551,      3.9,2,  19.2520,2,  35.5611,2,  35.5610,2,    233.4,2,    232.1,2,     1.85,2,     0.01,2,     0.03,2,     0.13,2,    1.976,2,    1.235,2,   2.1000,2,   2053.5,2,   2327.3,2,   7.9913,2,    24.99,2,     -999,1,     -999,1,     -999,9,     -999,9,     -999,9,     -999,1,     -999,9,   3.7150,1,   0.0406,1,      7.7,2,     -999,9,     -999,9,     -999,9,     -999,9,20230908,0222, -32.1798,  32.3194,-999          ,9,-999          ,9
33RR20230722  ,I05        ,184     ,  1,35         ,35         ,2,20230908,0038, -32.1798,  32.3194,     3551,      4.2,2,  19.2530,2,  35.5611,2,     -999,9,    233.5,2,     -999,9,     -999,9,     -999,9,     -999,9,     -999,9,     -999,9,     -999,9,     -999,9,   -999.0,9,     -999,9,     -999,9,     -999,9,     -999,9,  19.2512,2,     -999,9,     -999,9,     -999,9,     -999,9,     -999,9,   4.1770,1,   0.0411,1,     -999,9,     -999,9,     -999,9,     -999,9,     -999,9,20230908,0221, -32.1798,  32.3194,-999          ,1,-999          ,9
33RR20230722  ,I05        ,184     ,  1,34         ,34         ,2,20230908,0038, -32.1798,  32.3194,     3551,     23.8,2,  19.2439,2,  35.5564,2,  35.5559,2,    233.2,2,    232.4,2,     1.85,2,     0.00,2,     0.02,2,     0.13,2,    2.000,2,    1.222,2,   2.2900,2,   -999.0,9,     -999,9,     -999,9,     -999,9,     -999,1,  19.2435,2,     -999,9,     -999,9,     -999,9,     -999,9,     -999,9,   4.6743,1,   0.0445,1,      7.6,2,     -999,9,     -999,9,     -999,9,     -999,9,20230908,0220, -32.1798,  32.3194,-999          ,9,-999          ,9
33RR20230722  ,I05        ,184     ,  1,33         ,33         ,2,20230908,0038, -32.1798,  32.3194,     3551,     38.8,2,  19.2069,2,  35.5562,2,  35.5565,2,    231.3,2,    230.8,2,     1.85,2,     0.01,2,     0.06,2,     0.13,2,     -999,9,     -999,9,     -999,9,   2054.3,6,   2328.0,2,   7.9904,2,    24.99,2,     -999,1,  19.2022,2,     -999,9,     -999,9,     -999,9,     -999,1,     -999,9,   4.9745,1,   0.0453,1,     -999,9,     -999,9,     -999,9,     -999,9,     -999,9,20230908,0218, -32.1798,  32.3194,-999          ,9,-999          ,9
33RR20230722  ,I05        ,184     ,  1,32         ,32         ,2,20230908,0038, -32.1798,  32.3194,     3551,     47.0,2,  19.0479,2,  35.5620,2,     -999,9,    232.1,2,     -999,9,     -999,9,     -999,9,     -999,9,     -999,9,     -999,9,     -999,9,     -999,9,   -999.0,9,     -999,9,     -999,9,     -999,9,     -999,9,  19.0470,2,     -999,9,     -999,9,     -999,9,     -999,9,     -999,9,   4.9707,1,   0.0442,1,     -999,9,     -999,9,     -999,9,     -999,9,     -999,9,20230908,0216, -32.1798,  32.3194,-999          ,1,-999          ,9
33RR20230722  ,I05        ,184     ,  1,31         ,31         ,2,20230908,0038, -32.1798,  32.3194,     3551,     56.4,2,  18.7130,2,  35.5758,2,  35.5768,2,    232.9,2,    231.6,2,     1.85,2,     0.16,2,     0.13,2,     0.17,2,    2.008,2,    1.259,2,   2.2900,2,   2062.4,2,   2328.5,2,   7.9806,6,    24.99,2,     -999,1,  18.7010,2,     -999,9,     -999,9,     -999,9,     -999,1,     -999,9,   4.9743,1,   0.0435,1,      8.0,2,     -999,9,     -999,9,     -999,9,     -999,9,20230908,0215, -32.1798,  32.3194,-999          ,9,-999          ,9
33RR20230722  ,I05        ,184     ,  1,30         ,30         ,2,20230908,0038, -32.1798,  32.3194,     3551,     76.3,2,  18.3917,2,  35.5832,2,  35.5833,2,    228.6,2,    228.1,2,     1.95,2,     0.67,2,     0.24,2,     0.19,2,     -999,9,     -999,9,     -999,9,   -999.0,9,     -999,9,     -999,9,     -999,9,     -999,1,  18.3887,2,     -999,9,     -999,9,     -999,9,     -999,1,     -999,9,   4.9730,1,   0.0256,1,     -999,9,     -999,9,     -999,9,     -999,9,     -999,9,20230908,0213, -32.1798,  32.3194,-999          ,9,-999          ,9
33RR20230722  ,I05        ,184     ,  1,29         ,29         ,2,20230908,0038, -32.1798,  32.3194,     3551,     99.2,2,  18.1095,2,  35.5930,2,  35.5938,2,    224.4,2,    225.3,2,     2.24,2,     1.45,2,     0.10,2,     0.22,2,    1.975,2,    1.281,2,   2.2100,2,   2074.0,2,   2328.3,2,   7.9586,2,    25.00,2,     -999,1,  18.1224,2,     -999,9,     -999,9,     -999,9,     -999,9,     -999,9,   4.9258,1,   0.0201,1,      8.3,2,     -999,9,     -999,9,     -999,9,     -999,9,20230908,0212, -32.1798,  32.3194,-999          ,9,-999          ,9
33RR20230722  ,I05        ,184     ,  1,28         ,28         ,2,20230908,0038, -32.1798,  32.3194,     3551,    124.1,2,  17.7860,2,  35.6330,2,  35.6332,2,    225.3,2,    225.5,2,     2.44,2,     1.67,2,     0.02,2,     0.22,2,    1.966,2,    1.293,2,   2.1300,2,   2078.4,2,   2329.4,2,   7.9489,2,    24.99,2,     -999,1,  17.7861,2,     -999,9,     -999,9,     -999,9,     -999,1,     -999,9,   4.9026,1,   0.0127,1,      8.3,2,     -999,9,     -999,9,     -999,9,     -999,9,20230908,0210, -32.1798,  32.3194,-999          ,9,-999          ,9
33RR20230722  ,I05        ,184     ,  1,27         ,27         ,2,20230908,0038, -32.1798,  32.3194,     3551,    152.8,2,  17.6664,2,  35.6286,2,  35.6279,2,    222.3,2,    222.7,2,     2.54,2,     2.08,2,     0.00,2,     0.23,2,    1.948,2,    1.299,2,   2.1100,2,   2084.1,2,   2330.5,2,   7.9380,2,    25.00,2,     -999,1,  17.6572,2,     -999,9,     -999,9,     -999,9,     -999,1,     -999,9,   4.9707,1,   0.0122,1,      8.3,2,     -999,9,     -999,9,     -999,9,     -999,9,20230908,0209, -32.1798,  32.3194,-999          ,9,-999          ,9
33RR20230722  ,I05        ,184     ,  1,26         ,26         ,2,20230908,0038, -32.1798,  32.3194,     3551,    185.8,2,  17.0025,2,  35.5775,2,  35.5776,2,    202.7,3,    205.5,2,     3.22,2,     4.23,2,     0.00,2,     0.39,2,     -999,9,     -999,9,     -999,9,   2100.7,2,   2327.8,2,   7.9019,2,    24.99,2,     -999,1,  16.9964,2,     -999,9,     -999,9,     -999,9,     -999,9,     -999,9,   4.9137,1,   0.0117,1,     -999,9,     -999,9,     -999,9,     -999,9,     -999,9,20230908,0207, -32.1798,  32.3195,-999          ,9,-999          ,9
33RR20230722  ,I05        ,184     ,  1,25         ,25         ,2,20230908,0038, -32.1798,  32.3194,     3551,    223.5,2,  16.5235,2,  35.5493,2,  35.5515,2,    203.7,3,    206.0,2,     3.41,2,     4.83,2,     0.00,2,     0.43,2,    2.296,2,    1.378,2,   2.0200,2,   2105.4,2,   2324.6,2,   7.8912,6,    25.00,2,     -999,1,  16.5360,2,     -999,9,     -999,9,     -999,9,     -999,1,     -999,9,   4.6716,1,   0.0118,1,      9.7,2,     -999,9,     -999,9,     -999,9,     -999,9,20230908,0205, -32.1798,  32.3194,-999          ,9,-999          ,9
33RR20230722  ,I05        ,184     ,  1,24         ,24         ,2,20230908,0038, -32.1798,  32.3194,     3551,    266.7,2,  15.7906,2,  35.4874,2,  35.4878,2,    203.2,3,    205.3,2,     3.80,2,     6.05,2,     0.00,2,     0.50,2,     -999,9,     -999,9,     -999,9,   -999.0,9,     -999,9,     -999,9,     -999,9,     -999,1,  15.7877,2,     -999,9,     -999,9,     -999,9,     -999,1,     -999,9,   4.9674,1,   0.0119,1,     -999,9,     -999,9,     -999,9,     -999,9,     -999,9,20230908,0203, -32.1798,  32.3194,-999          ,9,-999          ,9
33RR20230722  ,I05        ,184     ,  1,23         ,23         ,2,20230908,0038, -32.1798,  32.3194,     3551,    321.2,2,  14.9576,2,  35.4153,2,  35.4210,2,    207.3,2,    208.2,2,     3.80,2,     6.86,2,     0.00,2,     0.57,2,    2.459,2,    1.495,6,   2.0900,6,   2119.3,2,     -999,5,   7.8557,2,    24.99,2,     -999,1,  14.9540,2,     -999,9,     -999,9,     -999,9,     -999,9,     -999,9,   4.9481,1,   0.0116,1,     10.4,6,     -999,9,     -999,9,     -999,9,     -999,9,20230908,0201, -32.1798,  32.3194,-999          ,9,-999          ,9
33RR20230722  ,I05        ,184     ,  1,22         ,22         ,2,20230908,0038, -32.1798,  32.3194,     3551,    384.6,2,  13.9856,2,  35.3114,2,  35.3096,2,    209.7,2,    210.5,2,     4.20,2,     8.46,2,     0.00,2,     0.65,2,    2.636,2,    1.559,2,   1.9400,2,   -999.0,9,     -999,9,     -999,9,     -999,9,     -999,1,  13.9640,2,     -999,9,     -999,9,     -999,9,     -999,9,     -999,9,   4.9512,1,   0.0115,1,     11.4,2,     -999,9,     -999,9,     -999,9,     -999,9,20230908,0159, -32.1798,  32.3194,-999          ,9,-999          ,9
33RR20230722  ,I05        ,184     ,  1,21         ,21         ,2,20230908,0038, -32.1798,  32.3194,     3551,    459.5,2,  13.3350,2,  35.2438,2,  35.2461,2,    217.3,2,    217.0,2,     3.90,2,     9.09,2,     0.00,2,     0.71,2,     -999,9,     -999,9,     -999,9,   2127.9,2,   2314.2,2,   7.8261,6,    25.00,2,     -999,1,  13.3355,2,     -999,9,     -999,9,     -999,9,     -999,9,     -999,9,   4.6750,1,   0.0116,1,     -999,9,     -999,9,     -999,9,     -999,9,     -999,9,20230908,0156, -32.1798,  32.3195,-999          ,9,-999          ,9
33RR20230722  ,I05        ,184     ,  1,20         ,20         ,2,20230908,0038, -32.1798,  32.3194,     3551,    539.5,2,  12.5772,2,  35.1445,2,  35.1427,2,    223.0,2,    222.3,2,     3.90,2,    10.45,2,     0.00,2,     0.79,2,    2.630,2,    1.689,2,   2.0800,2,   2129.5,2,   2308.5,6,   7.8132,2,    24.99,2,     -999,1,  12.5655,2,     -999,9,     -999,9,     -999,9,     -999,9,     -999,9,   4.9668,1,   0.0115,1,     11.2,2,     -999,9,     -999,9,     -999,9,     -999,9,20230908,0154, -32.1798,  32.3194,-999          ,9,-999          ,9
33RR20230722  ,I05        ,184     ,  1,19         ,19         ,2,20230908,0038, -32.1798,  32.3194,     3551,    625.0,2,  11.5342,2,  34.9904,2,  34.9904,2,    219.8,2,    219.0,2,     4.88,2,    12.94,2,     0.00,2,     0.95,2,     -999,9,     -999,9,     -999,9,   2135.0,2,   2302.8,2,   7.7854,2,    24.98,2,     -999,1,  11.5303,2,     -999,9,     -999,9,     -999,9,     -999,9,     -999,9,   4.8722,1,   0.0115,1,     -999,9,     -999,9,     -999,9,     -999,9,     -999,9,20230908,0151, -32.1798,  32.3194,-999          ,9,-999          ,9
33RR20230722  ,I05        ,184     ,  1,18         ,18         ,2,20230908,0038, -32.1798,  32.3194,     3551,    717.9,2,  10.5666,2,  34.8558,2,  34.8564,2,    219.6,2,    218.8,2,     5.86,2,    15.20,2,     0.00,2,     1.08,2,    2.779,2,    1.794,2,   1.6100,2,   -999.0,9,     -999,9,     -999,9,     -999,9,     -999,1,  10.5712,2,     -999,9,     -999,9,     -999,9,     -999,9,     -999,9,   4.9669,1,   0.0114,1,     13.1,2,     -999,9,     -999,9,     -999,9,     -999,9,20230908,0149, -32.1798,  32.3195,-999          ,9,-999          ,9
33RR20230722  ,I05        ,184     ,  1,17         ,17         ,2,20230908,0038, -32.1798,  32.3194,     3551,    817.3,2,   9.3384,2,  34.7064,2,  34.7036,2,    213.8,2,    213.2,2,     9.27,2,    18.85,2,     0.00,2,     1.32,2,     -999,9,     -999,9,     -999,9,   2150.2,2,   2291.7,2,   7.7266,2,    25.00,2,     -999,1,   9.3389,2,     -999,9,     -999,9,     -999,9,     -999,9,     -999,9,   4.7330,1,   0.0113,1,     -999,9,     -999,9,     -999,9,     -999,9,     -999,9,20230908,0146, -32.1798,  32.3194,-999          ,9,-999          ,9
33RR20230722  ,I05        ,184     ,  1,16         ,16         ,2,20230908,0038, -32.1798,  32.3194,     3551,    922.4,2,   7.9945,2,  34.5806,2,  34.5834,2,    204.3,2,    204.6,2,    14.74,2,    22.71,2,     0.00,2,     1.58,2,    2.832,2,    1.608,2,   1.2300,2,   2166.6,2,   2290.9,2,   7.6861,6,    24.99,2,     -999,1,   7.9875,2,     -999,9,     -999,9,     -999,9,     -999,9,     -999,9,   4.9687,1,   0.0114,1,     16.4,2,     -999,9,     -999,9,     -999,9,     -999,9,20230908,0143, -32.1798,  32.3195,-999          ,9,-999          ,9
33RR20230722  ,I05        ,184     ,  1,15         ,15         ,2,20230908,0038, -32.1798,  32.3194,     3551,   1031.3,2,   7.0649,2,  34.6053,2,  34.6003,2,    164.3,3,    166.5,2,    32.21,2,    27.99,2,     0.00,2,     1.95,2,     -999,9,     -999,9,     -999,9,   2202.6,2,   2305.0,2,   7.6246,2,    25.00,2,     -999,1,   7.0544,2,     -999,9,     -999,9,     -999,9,     -999,9,     -999,9,   4.8988,1,   0.0112,1,     -999,9,     -999,9,     -999,9,     -999,9,     -999,9,20230908,0140, -32.1798,  32.3194,-999          ,9,-999          ,9
33RR20230722  ,I05        ,184     ,  1,14         ,14         ,2,20230908,0038, -32.1798,  32.3194,     3551,   1140.5,2,   5.5219,2,  34.4831,2,  34.4803,2,    176.4,2,    177.7,2,    38.27,2,    30.31,2,     0.00,2,     2.11,2,    1.625,2,    0.953,2,   0.5700,2,   -999.0,9,     -999,9,     -999,9,     -999,9,     -999,1,   5.5065,2,     -999,9,     -999,9,     -999,9,     -999,9,     -999,9,   4.9717,1,   0.0114,1,     21.7,2,     -999,9,     -999,9,     -999,9,     -999,9,20230908,0137, -32.1798,  32.3194,-999          ,9,-999          ,9
33RR20230722  ,I05        ,184     ,  1,13         ,13         ,2,20230908,0038, -32.1798,  32.3194,     3551,   1254.1,2,   4.6861,2,  34.4798,2,  34.4820,2,    172.9,2,    172.9,2,    47.54,2,    31.99,2,     0.00,2,     2.25,2,     -999,9,     -999,9,     -999,9,   2224.9,6,   2313.5,2,   7.5868,2,    25.00,2,     -999,1,   4.7043,2,     -999,9,     -999,9,     -999,9,     -999,9,     -999,9,   4.9727,1,   0.0113,1,     -999,9,     -999,9,     -999,9,     -999,9,     -999,9,20230908,0134, -32.1798,  32.3194,-999          ,9,-999          ,9
33RR20230722  ,I05        ,184     ,  1,12         ,12         ,2,20230908,0038, -32.1798,  32.3194,     3551,   1367.1,2,   4.2193,2,  34.5197,3,  34.5254,2,    164.3,2,    164.0,2,    56.91,2,    33.02,2,     0.00,2,     2.31,2,    0.973,2,    0.522,2,   0.2400,2,   -999.0,9,     -999,9,     -999,9,     -999,9,     -999,1,   4.2487,2,     -999,9,     -999,9,     -999,9,     -999,9,     -999,9,   4.9517,1,   0.0110,1,     23.9,2,     -999,9,     -999,9,     -999,9,     -999,9,20230908,0131, -32.1798,  32.3195,-999          ,9,-999          ,9
33RR20230722  ,I05        ,184     ,  1,11         ,11         ,2,20230908,0038, -32.1798,  32.3194,     3551,   1478.7,2,   4.0317,2,  34.6037,2,  34.6024,2,    151.9,2,    151.5,2,    67.84,2,    33.76,2,     0.00,2,     2.38,2,     -999,9,     -999,9,     -999,9,   2252.1,2,   2335.8,2,   7.5650,2,    25.01,2,     -999,1,   4.0363,2,     -999,9,     -999,9,     -999,9,     -999,9,     -999,9,   4.9743,1,   0.0112,1,     -999,9,     -999,9,     -999,9,     -999,9,     -999,9,20230908,0127, -32.1798,  32.3195,-999          ,9,-999          ,9
33RR20230722  ,I05        ,184     ,  1,10         ,10         ,2,20230908,0038, -32.1798,  32.3194,     3551,   1588.9,2,   3.6865,2,  34.6301,2,  34.6307,2,    154.2,2,    153.9,2,    72.33,2,    33.66,2,     0.00,2,     2.37,2,    0.401,2,    0.212,2,   0.0500,2,   2255.9,2,   2340.5,2,   7.5676,2,    24.99,2,     -999,1,   3.6853,2,     -999,9,     -999,9,     -999,9,     -999,9,     -999,9,   4.9566,1,   0.0112,1,     24.5,2,     -999,9,     -999,9,     -999,9,     -999,9,20230908,0124, -32.1798,  32.3195,-999          ,9,-999          ,9
33RR20230722  ,I05        ,184     ,  1,9          ,9          ,2,20230908,0038, -32.1798,  32.3194,     3551,   1703.7,2,   3.3793,2,  34.6609,2,  34.6614,2,    158.7,2,    157.9,2,    75.45,2,    33.26,2,     0.00,2,     2.32,2,    0.303,2,    0.150,2,   0.0800,2,   2258.6,2,   2347.4,2,   7.5740,2,    24.97,2,     -999,1,   3.3790,2,     -999,9,     -999,9,     -999,9,     -999,9,     -999,9,   4.9629,1,   0.0117,1,     24.1,2,     -999,9,     -999,9,     -999,9,     -999,9,20230908,0121, -32.1798,  32.3194,-999          ,9,-999          ,9
33RR20230722  ,I05        ,184     ,  1,8          ,8          ,2,20230908,0038, -32.1798,  32.3194,     3551,   1829.3,2,   3.0882,2,  34.6903,2,  34.6906,2,    166.6,2,    166.2,2,    76.91,2,    32.46,2,     0.00,2,     2.27,2,     -999,9,     -999,9,     -999,9,   -999.0,9,     -999,9,     -999,9,     -999,9,     -999,1,   3.0855,2,     -999,9,     -999,9,     -999,9,     -999,9,     -999,9,   4.8396,1,   0.0120,1,     -999,9,     -999,9,     -999,9,     -999,9,     -999,9,20230908,0117, -32.1798,  32.3194,-999          ,9,-999          ,9
33RR20230722  ,I05        ,184     ,  1,7          ,7          ,2,20230908,0038, -32.1798,  32.3194,     3551,   1988.5,2,   2.8295,2,  34.7245,2,  34.7262,2,    177.9,2,    177.8,2,    75.35,2,    31.22,2,     0.00,2,     2.17,2,    0.114,2,    0.062,2,   0.0400,2,   2246.5,2,   2347.5,2,   7.6029,2,    25.00,2,     -999,1,   2.8273,2,     -999,9,     -999,9,     -999,9,     -999,9,     -999,9,   4.9740,1,   0.0123,1,     21.3,2,     -999,9,     -999,9,     -999,9,     -999,9,20230908,0113, -32.1798,  32.3194,-999          ,9,-999          ,9
33RR20230722  ,I05        ,184     ,  1,6          ,6          ,2,20230908,0038, -32.1798,  32.3194,     3551,   2199.9,2,   2.6616,2,  34.7684,2,  34.7685,2,    194.9,2,    195.4,2,    67.64,2,    29.05,2,     0.00,2,     2.01,2,     -999,9,     -999,9,     -999,9,   -999.0,9,     -999,9,     -999,9,     -999,9,     -999,1,   2.6614,2,     -999,9,     -999,9,     -999,9,     -999,9,     -999,9,   4.8764,1,   0.0112,1,     -999,9,     -999,9,     -999,9,     -999,9,     -999,9,20230908,0108, -32.1798,  32.3195,-999          ,9,-999          ,9
33RR20230722  ,I05        ,184     ,  1,5          ,5          ,2,20230908,0038, -32.1798,  32.3194,     3551,   2465.7,2,   2.5172,2,  34.7964,2,  34.7964,2,    205.6,2,    206.1,2,    65.39,2,    27.73,2,     0.00,2,     1.92,2,    0.048,2,    0.028,2,   0.0300,2,   2225.7,2,   2340.8,2,   7.6460,2,    25.01,2,     -999,1,   2.5170,2,     -999,9,     -999,9,     -999,9,     -999,9,     -999,9,   4.9737,1,   0.0114,1,     17.9,2,     -999,9,     -999,9,     -999,9,     -999,9,20230908,0102, -32.1798,  32.3194,-999          ,9,-999          ,9
33RR20230722  ,I05        ,184     ,  1,4          ,37         ,2,20230908,0038, -32.1798,  32.3194,     3551,   2763.1,2,   2.3543,2,  34.8118,2,  34.8123,2,    214.2,2,    214.7,2,    65.00,2,    26.88,2,     0.00,2,     1.85,2,    0.039,2,    0.021,2,   0.0300,2,   2215.4,2,   2340.8,2,   7.6601,6,    24.99,2,     -999,1,   2.3522,2,     -999,9,     -999,9,     -999,9,     -999,9,     -999,9,   4.9734,1,   0.0112,1,     17.1,2,     -999,9,     -999,9,     -999,9,     -999,9,20230908,0056, -32.1798,  32.3194,-999          ,9,-999          ,9
33RR20230722  ,I05        ,184     ,  1,3          ,3          ,2,20230908,0038, -32.1798,  32.3194,     3551,   3062.9,2,   2.1332,2,  34.8082,2,  34.8094,2,    217.5,2,    218.0,2,    70.37,2,    27.00,2,     0.00,2,     1.86,2,    0.043,2,    0.025,2,   0.0100,2,   2224.4,2,   2345.0,2,   7.6610,2,    24.99,2,     -999,1,   2.1311,2,     -999,9,     -999,9,     -999,9,     -999,9,     -999,9,   4.9738,1,   0.0112,1,     16.8,2,     -999,9,     -999,9,     -999,9,     -999,9,20230908,0050, -32.1798,  32.3195,-999          ,9,-999          ,9