BOTTLE,20240422CCHHYDRO
EXPOCODE,SECT_ID,STNNBR,CASTNO,SAMPNO,BTLNBR,BTLNBR_FLAG_W,DATE,TIME,LATITUDE,LONGITUDE,DEPTH,CTDPRS,CTDPRS_FLAG_W,CTDTMP,CTDTMP_FLAG_W,CTDSAL,CTDSAL_FLAG_W,SALNTY,SALNTY_FLAG_W,CTDOXY,CTDOXY_FLAG_W,OXYGEN,OXYGEN_FLAG_W,SILCAT,SILCAT_FLAG_W,NITRAT,NITRAT_FLAG_W,NITRIT,NITRIT_FLAG_W,PHSPHT,PHSPHT_FLAG_W,CFC-11,CFC-11_FLAG_W,CFC-12,CFC-12_FLAG_W,SF6,SF6_FLAG_W,TCARBN,TCARBN_FLAG_W,ALKALI,ALKALI_FLAG_W,PH_TOT,PH_TOT_FLAG_W,PH_TMP,PH_TMP_FLAG_W,DOC,DOC_FLAG_W,REFTMP,REFTMP_FLAG_W,POC,POC_FLAG_W,PON,PON_FLAG_W,POP,POP_FLAG_W,DOP,DOP_FLAG_W,DELO18,DELO18_FLAG_W,CTDFLUOR,CTDFLUOR_FLAG_W,CTDXMISS,CTDXMISS_FLAG_W,N2O,N2O_FLAG_W,D15N_NO3,D15N_NO3_FLAG_W,D15N_NO2+NO3,D15N_NO2+NO3_FLAG_W,D18O_NO2+NO3,D18O_NO2+NO3_FLAG_W,D18O_NO3,D18O_NO3_FLAG_W,BTL_DATE,BTL_TIME,BTL_LAT,BTL_LON,HPLC,HPLC_FLAG_W,DNA,DNA_FLAG_W
,,,,,,,,,,,METERS,DBAR,,ITS-90,,PSS-78,,PSS-78,,UMOL/KG,,UMOL/KG,,UMOL/KG,,UMOL/KG,,UMOL/KG,,UMOL/KG,,PMOL/KG,,PMOL/KG,,FMOL/KG,,UMOL/KG,,UMOL/KG,,,,DEG C,,UMOL/KG,,ITS-90,,UG/KG,,UG/KG,,UG/L,,UMOL/KG,,/MILLE,,VOLTS,,VOLTS,,NMOL/KG,,/MILLE,,/MILLE,,/MILLE,,/MILLE,,,,,,,,,
33RR20230722  ,I05        ,85      ,  2,34         ,34         ,2,20230813,0850, -30.8399,  78.3274,     3250,      3.0,2,  19.4321,2,  35.7928,2,  35.7922,2,    230.7,2,    230.3,2,     1.17,2,     0.08,2,     0.00,2,     0.10,2,    1.636,2,    1.233,2,   2.2600,2,   2065.4,6,   2346.7,2,   7.9957,2,    25.00,2,     -999,1,  19.4353,2,     -999,9,     -999,9,     -999,9,     -999,9,     -999,1,   4.7739,1,   0.0129,1,      7.5,2,     -999,1,     -999,1,     -999,1,     -999,1,20230813,1022, -30.8399,  78.3274,-999          ,9,-999          ,9
33RR20230722  ,I05        ,85      ,  2,33         ,33         ,2,20230813,0850, -30.8399,  78.3274,     3250,     30.2,2,  18.8604,2,  35.7950,2,  35.7930,2,    231.6,2,    232.0,2,     1.07,2,     0.03,2,     0.00,2,     0.11,2,     -999,9,     -999,9,     -999,9,   -999.0,9,     -999,9,     -999,9,     -999,9,     -999,9,  18.8581,2,     -999,9,     -999,9,     -999,9,     -999,9,     -999,1,   4.9749,1,   0.0129,1,     -999,9,     -999,1,     -999,1,     -999,1,     -999,1,20230813,1020, -30.8399,  78.3273,-999          ,9,-999          ,9
33RR20230722  ,I05        ,85      ,  2,32         ,32         ,2,20230813,0850, -30.8399,  78.3274,     3250,     49.1,2,  18.1101,2,  35.7453,2,  35.7448,2,    235.4,2,    235.5,2,     0.88,2,     0.01,2,     0.00,2,     0.12,2,     -999,9,     -999,9,     -999,9,   -999.0,9,     -999,9,     -999,9,     -999,9,     -999,9,  18.0869,2,     -999,9,     -999,9,     -999,9,     -999,9,     -999,1,   4.9748,1,   0.0150,1,     -999,9,     -999,1,     -999,1,     -999,1,     -999,1,20230813,1018, -30.8399,  78.3274,-999          ,9,-999          ,9
33RR20230722  ,I05        ,85      ,  2,31         ,31         ,2,20230813,0850, -30.8399,  78.3274,     3250,     71.6,2,  17.8779,2,  35.7118,2,  35.8139,4,    236.6,2,    236.9,2,     0.78,2,     0.00,2,     0.00,2,     0.12,2,    1.614,2,    1.303,2,   2.2300,2,   2081.7,2,   2345.8,2,   7.9701,2,    24.99,2,     -999,9,  17.8874,2,     -999,9,     -999,9,     -999,9,     -999,9,     -999,1,   4.8653,1,   0.0173,1,      7.9,2,     -999,1,     -999,1,     -999,1,     -999,1,20230813,1017, -30.8399,  78.3274,-999          ,9,-999          ,9
33RR20230722  ,I05        ,85      ,  2,30         ,30         ,2,20230813,0850, -30.8399,  78.3274,     3250,     95.2,2,  17.4926,2,  35.6396,2,  35.6429,2,    239.0,2,    238.8,2,     0.78,2,     0.01,2,     0.00,2,     0.14,2,     -999,9,     -999,9,     -999,9,   -999.0,9,     -999,9,     -999,9,     -999,9,     -999,9,  17.4907,2,     -999,9,     -999,9,     -999,9,     -999,9,     -999,1,   4.9347,1,   0.0290,1,     -999,9,     -999,1,     -999,1,     -999,1,     -999,1,20230813,1015, -30.8399,  78.3274,-999          ,9,-999          ,9
33RR20230722  ,I05        ,85      ,  2,29         ,29         ,2,20230813,0850, -30.8399,  78.3274,     3250,    123.9,2,  16.8430,2,  35.5500,2,  35.5579,2,    241.1,2,    241.3,2,     0.78,2,     0.11,2,     0.03,2,     0.18,2,    1.796,2,    1.391,2,   2.3500,2,   -999.0,9,     -999,9,     -999,9,     -999,9,     -999,9,  16.8465,2,     -999,9,     -999,9,     -999,9,     -999,9,     -999,1,   4.9742,1,   0.0394,1,      8.4,2,     -999,1,     -999,1,     -999,1,     -999,1,20230813,1013, -30.8399,  78.3274,-999          ,9,-999          ,9
33RR20230722  ,I05        ,85      ,  2,28         ,28         ,2,20230813,0850, -30.8399,  78.3274,     3250,    154.1,2,  15.1098,2,  35.4693,2,  35.4697,2,    236.3,2,    237.5,2,     0.88,2,     1.73,2,     0.20,2,     0.33,2,     -999,9,     -999,9,     -999,9,   -999.0,9,     -999,9,     -999,9,     -999,9,     -999,9,  15.0983,2,     -999,9,     -999,9,     -999,9,     -999,9,     -999,1,   4.9714,1,   0.0219,1,     -999,9,     -999,1,     -999,1,     -999,1,     -999,1,20230813,1011, -30.8399,  78.3274,-999          ,9,-999          ,9
33RR20230722  ,I05        ,85      ,  2,27         ,27         ,2,20230813,0850, -30.8399,  78.3274,     3250,    187.0,2,  14.1235,2,  35.3648,2,  35.3642,2,    232.3,2,    233.1,2,     1.27,2,     4.48,2,     0.01,2,     0.44,2,    2.498,3,    1.564,2,   2.4000,2,   2116.7,2,   2327.0,2,   7.8671,2,    24.99,2,     -999,9,  14.1191,2,     -999,9,     -999,9,     -999,9,     -999,9,     -999,1,   4.8118,1,   0.0137,1,     10.1,2,     -999,1,     -999,1,     -999,1,     -999,1,20230813,1010, -30.8399,  78.3274,-999          ,9,-999          ,9
33RR20230722  ,I05        ,85      ,  2,26         ,26         ,2,20230813,0850, -30.8399,  78.3274,     3250,    225.9,2,  13.4358,2,  35.2548,2,  35.2589,2,    233.2,2,    233.7,2,     1.85,2,     6.32,2,     0.01,2,     0.54,2,     -999,9,     -999,9,     -999,9,   -999.0,9,     -999,9,     -999,9,     -999,9,     -999,9,  13.4514,2,     -999,9,     -999,9,     -999,9,     -999,9,     -999,1,   4.8791,1,   0.0126,1,     -999,9,     -999,1,     -999,1,     -999,1,     -999,1,20230813,1008, -30.8398,  78.3274,-999          ,9,-999          ,9
33RR20230722  ,I05        ,85      ,  2,25         ,25         ,2,20230813,0850, -30.8399,  78.3274,     3250,    267.3,2,  12.9774,2,  35.1951,2,  35.1971,2,    236.7,2,    236.9,2,     2.54,2,     7.79,2,     0.00,2,     0.62,2,    2.240,2,    1.642,2,   2.5200,2,   2119.8,2,   2315.2,2,   7.8382,2,    24.99,2,     -999,9,  12.9831,2,     -999,9,     -999,9,     -999,9,     -999,9,     -999,1,   4.9691,1,   0.0120,1,     10.9,2,     -999,1,     -999,1,     -999,1,     -999,1,20230813,1006, -30.8399,  78.3274,-999          ,9,-999          ,9
33RR20230722  ,I05        ,85      ,  2,24         ,24         ,2,20230813,0850, -30.8399,  78.3274,     3250,    306.4,2,  12.6252,2,  35.1471,2,  35.1425,2,    239.1,2,    238.8,2,     2.73,2,     8.61,2,     0.00,2,     0.67,2,     -999,9,     -999,9,     -999,9,   -999.0,9,     -999,9,     -999,9,     -999,9,     -999,9,  12.6234,2,     -999,9,     -999,9,     -999,9,     -999,9,     -999,1,   4.9688,1,   0.0115,1,     -999,9,     -999,1,     -999,1,     -999,1,     -999,1,20230813,1004, -30.8399,  78.3274,-999          ,9,-999          ,9
33RR20230722  ,I05        ,85      ,  2,23         ,23         ,2,20230813,0850, -30.8399,  78.3274,     3250,    349.1,2,  12.2553,2,  35.0869,2,  35.0854,2,    240.2,2,    239.9,2,     2.73,2,     9.16,2,     0.00,2,     0.72,2,    2.888,4,    1.713,2,   2.6100,2,   2121.5,2,   2308.7,2,   7.8231,2,    24.99,2,     -999,9,  12.2527,2,     -999,9,     -999,9,     -999,9,     -999,9,     -999,1,   4.9685,1,   0.0117,1,     11.2,2,     -999,1,     -999,1,     -999,1,     -999,1,20230813,1002, -30.8399,  78.3274,-999          ,9,-999          ,9
33RR20230722  ,I05        ,85      ,  2,22         ,22         ,2,20230813,0850, -30.8399,  78.3274,     3250,    395.4,2,  11.9822,2,  35.0446,2,  35.0466,2,    240.6,2,    240.1,2,     2.93,2,     9.83,2,     0.00,2,     0.74,2,     -999,9,     -999,9,     -999,9,   -999.0,9,     -999,9,     -999,9,     -999,9,     -999,9,  11.9895,2,     -999,9,     -999,9,     -999,9,     -999,9,     -999,1,   4.8256,1,   0.0115,1,     -999,9,     -999,1,     -999,1,     -999,1,     -999,1,20230813,1001, -30.8399,  78.3274,-999          ,9,-999          ,9
33RR20230722  ,I05        ,85      ,  2,21         ,21         ,2,20230813,0850, -30.8399,  78.3274,     3250,    445.3,2,  11.6939,2,  35.0009,2,  35.0014,2,    240.6,2,    240.2,2,     3.12,2,    10.61,2,     0.00,2,     0.80,2,    3.166,2,    1.742,6,   2.4900,6,   2125.4,2,   2306.0,2,   7.8102,2,    24.99,2,     -999,9,  11.6895,2,     -999,9,     -999,9,     -999,9,     -999,9,     -999,1,   4.9680,1,   0.0115,1,     11.4,6,     -999,1,     -999,1,     -999,1,     -999,1,20230813,0959, -30.8399,  78.3274,-999          ,9,-999          ,9
33RR20230722  ,I05        ,85      ,  2,20         ,20         ,2,20230813,0850, -30.8399,  78.3274,     3250,    502.2,2,  11.3632,2,  34.9508,2,  34.9490,2,    237.9,2,    237.5,2,     3.42,2,    11.74,2,     0.00,2,     0.86,2,     -999,9,     -999,9,     -999,9,   -999.0,9,     -999,9,     -999,9,     -999,9,     -999,9,  11.3651,2,     -999,9,     -999,9,     -999,9,     -999,9,     -999,1,   4.9674,1,   0.0116,1,     -999,9,     -999,1,     -999,1,     -999,1,     -999,1,20230813,0957, -30.8399,  78.3275,-999          ,9,-999          ,9
33RR20230722  ,I05        ,85      ,  2,19         ,19         ,2,20230813,0850, -30.8399,  78.3274,     3250,    570.4,2,  10.8722,2,  34.8833,2,  34.8837,2,    233.5,2,    233.8,2,     3.71,2,    13.09,2,     0.00,2,     0.97,2,    3.514,2,    1.841,2,   2.1800,2,   2132.0,2,   2299.6,2,   7.7858,2,    24.98,2,     -999,9,  10.8677,2,     -999,9,     -999,9,     -999,9,     -999,9,     -999,1,   4.7603,1,   0.0117,1,     11.9,2,     -999,1,     -999,1,     -999,1,     -999,1,20230813,0954, -30.8399,  78.3274,-999          ,9,-999          ,9
33RR20230722  ,I05        ,85      ,  2,18         ,18         ,2,20230813,0850, -30.8399,  78.3274,     3250,    655.0,2,  10.1128,2,  34.7764,2,  34.7765,2,    235.0,2,    234.7,2,     3.90,2,    14.75,2,     0.00,2,     1.06,2,    2.908,2,    1.918,2,   2.2300,2,   -999.0,9,     -999,9,     -999,9,     -999,9,     -999,9,  10.1179,2,     -999,9,     -999,9,     -999,9,     -999,9,     -999,1,   4.8446,1,   0.0115,1,     12.6,2,     -999,1,     -999,1,     -999,1,     -999,1,20230813,0952, -30.8399,  78.3274,-999          ,9,-999          ,9
33RR20230722  ,I05        ,85      ,  2,17         ,17         ,2,20230813,0850, -30.8399,  78.3274,     3250,    751.3,2,   9.2485,2,  34.6643,2,  34.6631,2,    226.9,2,    227.4,2,     5.47,2,    17.70,2,     0.00,2,     1.24,2,    3.150,2,    1.853,2,   1.6900,2,   2142.5,2,   2290.2,2,   7.7388,2,    24.99,2,     -999,9,   9.2377,2,     -999,9,     -999,9,     -999,9,     -999,9,     -999,1,   4.9085,1,   0.0116,1,     13.4,2,     -999,1,     -999,1,     -999,1,     -999,1,20230813,0949, -30.8399,  78.3274,-999          ,9,-999          ,9
33RR20230722  ,I05        ,85      ,  2,16         ,16         ,2,20230813,0850, -30.8399,  78.3274,     3250,    867.2,2,   7.8694,2,  34.5357,2,  34.5355,2,    206.2,2,    207.3,2,    12.10,2,    22.89,2,     0.00,2,     1.58,2,    3.471,4,    1.686,2,   1.2200,2,   -999.0,9,     -999,9,     -999,9,     -999,9,     -999,9,   7.9008,2,     -999,9,     -999,9,     -999,9,     -999,9,     -999,1,   4.9682,1,   0.0112,1,     16.2,2,     -999,1,     -999,1,     -999,1,     -999,1,20230813,0946, -30.8399,  78.3274,-999          ,9,-999          ,9
33RR20230722  ,I05        ,85      ,  2,15         ,15         ,2,20230813,0850, -30.8399,  78.3274,     3250,    969.5,2,   6.2079,2,  34.4187,2,  34.4210,2,    199.5,2,    199.5,2,    20.89,2,    27.31,2,     0.00,2,     1.87,2,     -999,9,     -999,9,     -999,9,   -999.0,9,     -999,9,     -999,9,     -999,9,     -999,9,   6.2430,2,     -999,9,     -999,9,     -999,9,     -999,9,     -999,1,   4.9101,1,   0.0112,1,     -999,9,     -999,1,     -999,1,     -999,1,     -999,1,20230813,0943, -30.8399,  78.3274,-999          ,9,-999          ,9
33RR20230722  ,I05        ,85      ,  2,14         ,14         ,2,20230813,0850, -30.8399,  78.3274,     3250,   1068.9,2,   5.0445,2,  34.3796,2,  34.3790,2,    193.3,2,    193.1,2,    32.12,2,    30.22,2,     0.00,2,     2.07,2,    1.882,2,    1.063,2,   0.5200,2,   2194.1,2,   2297.7,2,   7.6133,2,    25.00,2,     -999,9,   5.0478,2,     -999,9,     -999,9,     -999,9,     -999,9,     -999,1,   4.9676,1,   0.0113,1,     19.4,2,     -999,1,     -999,1,     -999,1,     -999,1,20230813,0941, -30.8399,  78.3274,-999          ,9,-999          ,9
33RR20230722  ,I05        ,85      ,  2,13         ,13         ,2,20230813,0850, -30.8399,  78.3274,     3250,   1161.9,2,   4.3058,2,  34.3987,2,  34.3984,2,    182.1,2,    182.1,2,    43.83,2,    32.14,2,     0.00,2,     2.22,2,    1.394,2,    0.756,2,   0.4200,2,   -999.0,9,     -999,9,     -999,9,     -999,9,     -999,9,   4.3102,2,     -999,9,     -999,9,     -999,9,     -999,9,     -999,1,   4.6444,1,   0.0114,1,     21.0,2,     -999,1,     -999,1,     -999,1,     -999,1,20230813,0938, -30.8399,  78.3274,-999          ,9,-999          ,9
33RR20230722  ,I05        ,85      ,  2,12         ,12         ,2,20230813,0850, -30.8399,  78.3274,     3250,   1263.9,2,   3.8872,2,  34.4456,2,  34.4471,2,    169.4,2,    169.1,2,    55.83,2,    33.49,2,     0.00,2,     2.34,2,    0.946,2,    0.476,2,   0.3100,2,   2232.1,2,   2319.1,2,   7.5742,2,    25.00,2,     -999,9,   3.8862,2,     -999,9,     -999,9,     -999,9,     -999,9,     -999,1,   4.9732,1,   0.0112,1,     22.1,2,     -999,1,     -999,1,     -999,1,     -999,1,20230813,0935, -30.8399,  78.3274,-999          ,9,-999          ,9
33RR20230722  ,I05        ,85      ,  2,11         ,11         ,2,20230813,0850, -30.8399,  78.3274,     3250,   1381.4,2,   3.5417,2,  34.5138,2,  34.5129,2,    156.1,2,    156.5,2,    68.71,2,    34.45,2,     0.00,2,     2.42,2,    0.394,2,    0.228,2,   0.1000,2,   2250.3,2,   2334.7,2,   7.5622,2,    24.99,2,     -999,9,   3.5410,2,     -999,9,     -999,9,     -999,9,     -999,9,     -999,1,   4.9744,1,   0.0118,1,     23.5,2,     -999,1,     -999,1,     -999,1,     -999,1,20230813,0932, -30.8399,  78.3274,-999          ,9,-999          ,9
33RR20230722  ,I05        ,85      ,  2,10         ,10         ,2,20230813,0850, -30.8399,  78.3274,     3250,   1501.9,2,   3.3065,2,  34.5633,2,  34.5639,2,    152.6,2,    152.2,2,    76.03,2,    34.40,2,     0.00,2,     2.42,2,     -999,9,     -999,9,     -999,9,   -999.0,9,     -999,9,     -999,9,     -999,9,     -999,9,   3.3058,2,     -999,9,     -999,9,     -999,9,     -999,9,     -999,1,   4.8810,1,   0.0120,1,     -999,9,     -999,1,     -999,1,     -999,1,     -999,1,20230813,0929, -30.8399,  78.3274,-999          ,9,-999          ,9
33RR20230722  ,I05        ,85      ,  2,9          ,9          ,2,20230813,0850, -30.8399,  78.3274,     3250,   1617.7,2,   3.0562,2,  34.6154,2,  34.6146,2,    153.8,2,    154.1,2,    81.69,2,    34.09,2,     0.00,2,     2.40,2,    0.134,2,    0.077,2,   0.0700,2,   2262.8,2,   2347.1,2,   7.5662,6,    25.01,2,     -999,9,   3.0566,2,     -999,9,     -999,9,     -999,9,     -999,9,     -999,1,   4.9747,1,   0.0120,1,     23.4,2,     -999,1,     -999,1,     -999,1,     -999,1,20230813,0926, -30.8398,  78.3274,-999          ,9,-999          ,9
33RR20230722  ,I05        ,85      ,  2,8          ,8          ,2,20230813,0850, -30.8399,  78.3274,     3250,   1731.9,2,   2.7756,2,  34.6335,2,  34.6325,2,    164.7,2,    164.6,2,    79.54,2,    33.38,2,     0.00,2,     2.34,2,    0.197,2,    0.111,2,   0.0900,2,   -999.0,9,     -999,9,     -999,9,     -999,9,     -999,9,   2.7746,2,     -999,9,     -999,9,     -999,9,     -999,9,     -999,1,   4.6946,1,   0.0117,1,     21.9,2,     -999,1,     -999,1,     -999,1,     -999,1,20230813,0923, -30.8399,  78.3274,-999          ,9,-999          ,9
33RR20230722  ,I05        ,85      ,  2,7          ,7          ,2,20230813,0850, -30.8399,  78.3274,     3250,   1867.0,2,   2.5778,2,  34.6719,2,  34.6714,2,    171.8,2,    171.9,2,    80.61,2,    32.50,2,     0.00,2,     2.28,2,    0.147,2,    0.084,2,   0.0600,2,   2254.5,2,   2347.5,6,   7.5831,2,    24.99,2,     -999,9,   2.5779,2,     -999,9,     -999,9,     -999,9,     -999,9,     -999,1,   4.8074,1,   0.0112,1,     21.7,2,     -999,1,     -999,1,     -999,1,     -999,1,20230813,0920, -30.8399,  78.3274,-999          ,9,-999          ,9
33RR20230722  ,I05        ,85      ,  2,6          ,6          ,2,20230813,0850, -30.8399,  78.3274,     3250,   2051.6,2,   2.3481,2,  34.7114,2,  34.7113,2,    180.6,2,    180.8,2,    83.34,2,    31.62,2,     0.00,2,     2.20,2,    0.091,2,    0.053,2,   0.0800,2,   -999.0,9,     -999,9,     -999,9,     -999,9,     -999,9,   2.3506,2,     -999,9,     -999,9,     -999,9,     -999,9,     -999,1,   4.9528,1,   0.0112,1,     20.1,2,     -999,1,     -999,1,     -999,1,     -999,1,20230813,0916, -30.8399,  78.3274,-999          ,9,-999          ,9
33RR20230722  ,I05        ,85      ,  2,5          ,5          ,2,20230813,0850, -30.8399,  78.3274,     3250,   2275.2,2,   2.0841,2,  34.7344,2,  34.7343,2,    189.2,2,    189.6,2,    87.83,2,    30.95,2,     0.00,2,     2.17,2,     -999,9,     -999,9,     -999,9,   -999.0,9,     -999,9,     -999,9,     -999,9,     -999,9,   2.0839,2,     -999,9,     -999,9,     -999,9,     -999,9,     -999,1,   4.6023,1,   0.0111,1,     -999,9,     -999,1,     -999,1,     -999,1,     -999,1,20230813,0911, -30.8399,  78.3274,-999          ,9,-999          ,9
33RR20230722  ,I05        ,85      ,  2,4          ,37         ,2,20230813,0850, -30.8399,  78.3274,     3250,   2553.5,2,   1.8131,2,  34.7348,2,  34.7349,2,    191.1,2,    191.3,2,    98.96,2,    31.27,2,     0.00,2,     2.18,2,    0.051,2,    0.034,2,   0.0400,2,   -999.0,9,     -999,9,     -999,9,     -999,9,     -999,9,   1.8124,2,     -999,9,     -999,9,     -999,9,     -999,9,     -999,1,   4.9745,1,   0.0116,1,     19.0,2,     -999,1,     -999,1,     -999,1,     -999,1,20230813,0905, -30.8399,  78.3274,-999          ,9,-999          ,9
33RR20230722  ,I05        ,85      ,  2,3          ,3          ,2,20230813,0850, -30.8399,  78.3274,     3250,   2842.7,2,   1.6424,2,  34.7312,2,  34.7313,2,    192.4,2,    193.0,2,   105.50,2,    31.56,2,     0.00,2,     2.21,2,    0.039,2,    0.027,2,   0.0600,2,   2261.0,2,   2367.4,2,   7.6152,6,    25.01,2,     -999,9,   1.6421,2,     -999,9,     -999,9,     -999,9,     -999,9,     -999,1,   4.7569,1,   0.0111,1,     18.7,2,     -999,1,     -999,1,     -999,1,     -999,1,20230813,0900, -30.8399,  78.3274,-999          ,9,-999          ,9
33RR20230722  ,I05        ,85      ,  2,2          ,2          ,2,20230813,0850, -30.8399,  78.3274,     3250,   3086.0,2,   1.5596,2,  34.7296,2,  34.7296,2,    193.6,2,    193.4,2,   108.52,2,    31.71,2,     0.00,2,     2.21,2,    0.037,2,    0.022,2,   0.0300,2,   -999.0,9,     -999,9,     -999,9,     -999,9,     -999,9,   1.5593,2,     -999,9,     -999,9,     -999,9,     -999,9,     -999,1,   4.9744,1,   0.0111,1,     18.6,2,     -999,1,     -999,1,     -999,1,     -999,1,20230813,0854, -30.8399,  78.3274,-999          ,9,-999          ,9
33RR20230722  ,I05        ,85      ,  2,1          ,1          ,2,20230813,0850, -30.8399,  78.3274,     3250,   3286.9,2,   1.5295,2,  34.7287,2,  34.7290,2,    194.5,2,    194.1,2,   109.50,2,    31.71,2,     0.00,2,     2.20,2,    0.033,2,    0.020,2,   0.0600,2,   2264.1,2,   2371.5,2,   7.6188,2,    25.00,2,     -999,9,   1.5288,2,     -999,9,     -999,9,     -999,9,     -999,9,     -999,1,   0.5339,1,   0.0110,1,     18.2,2,     -999,1,     -999,1,     -999,1,     -999,1,20230813,0850, -30.8398,  78.3274,-999          ,9,-999          ,9