BOTTLE,20240422CCHHYDRO
EXPOCODE,SECT_ID,STNNBR,CASTNO,SAMPNO,BTLNBR,BTLNBR_FLAG_W,DATE,TIME,LATITUDE,LONGITUDE,DEPTH,CTDPRS,CTDPRS_FLAG_W,CTDTMP,CTDTMP_FLAG_W,CTDSAL,CTDSAL_FLAG_W,SALNTY,SALNTY_FLAG_W,CTDOXY,CTDOXY_FLAG_W,OXYGEN,OXYGEN_FLAG_W,SILCAT,SILCAT_FLAG_W,NITRAT,NITRAT_FLAG_W,NITRIT,NITRIT_FLAG_W,PHSPHT,PHSPHT_FLAG_W,CFC-11,CFC-11_FLAG_W,CFC-12,CFC-12_FLAG_W,SF6,SF6_FLAG_W,TCARBN,TCARBN_FLAG_W,ALKALI,ALKALI_FLAG_W,PH_TOT,PH_TOT_FLAG_W,PH_TMP,PH_TMP_FLAG_W,DOC,DOC_FLAG_W,REFTMP,REFTMP_FLAG_W,POC,POC_FLAG_W,PON,PON_FLAG_W,POP,POP_FLAG_W,DOP,DOP_FLAG_W,DELO18,DELO18_FLAG_W,CTDFLUOR,CTDFLUOR_FLAG_W,CTDXMISS,CTDXMISS_FLAG_W,N2O,N2O_FLAG_W,D15N_NO3,D15N_NO3_FLAG_W,D15N_NO2+NO3,D15N_NO2+NO3_FLAG_W,D18O_NO2+NO3,D18O_NO2+NO3_FLAG_W,D18O_NO3,D18O_NO3_FLAG_W,BTL_DATE,BTL_TIME,BTL_LAT,BTL_LON,HPLC,HPLC_FLAG_W,DNA,DNA_FLAG_W
,,,,,,,,,,,METERS,DBAR,,ITS-90,,PSS-78,,PSS-78,,UMOL/KG,,UMOL/KG,,UMOL/KG,,UMOL/KG,,UMOL/KG,,UMOL/KG,,PMOL/KG,,PMOL/KG,,FMOL/KG,,UMOL/KG,,UMOL/KG,,,,DEG C,,UMOL/KG,,ITS-90,,UG/KG,,UG/KG,,UG/L,,UMOL/KG,,/MILLE,,VOLTS,,VOLTS,,NMOL/KG,,/MILLE,,/MILLE,,/MILLE,,/MILLE,,,,,,,,,
33RR20230722  ,I05        ,161     ,  1,36         ,38         ,2,20230902,0436, -32.9965,  42.7141,     4388,      6.2,2,  18.2663,2,  35.7014,2,  35.7000,2,    237.1,2,    236.4,2,     1.66,2,     0.01,2,     0.00,2,     0.10,2,    1.752,2,    1.289,2,   2.1600,2,   2071.2,6,   2336.7,2,   7.9772,2,    25.00,2,     -999,1,     -999,1,     -999,9,     -999,9,     -999,9,     -999,9,     -999,9,   4.8130,1,   0.0154,1,      7.7,2,     -999,1,     -999,1,     -999,1,     -999,1,20230902,0631, -32.9965,  42.7141,-999          ,9,-999          ,9
33RR20230722  ,I05        ,161     ,  1,35         ,35         ,2,20230902,0436, -32.9965,  42.7141,     4388,     24.3,2,  18.2547,2,  35.7018,2,  35.7009,2,    237.1,2,    236.2,2,     1.66,2,     0.00,2,     0.00,2,     0.10,2,     -999,9,     -999,9,     -999,9,   -999.0,9,     -999,9,     -999,9,     -999,9,     -999,9,     -999,1,     -999,9,     -999,9,     -999,9,     -999,9,     -999,9,   4.9750,1,   0.0194,1,     -999,9,     -999,1,     -999,1,     -999,1,     -999,1,20230902,0629, -32.9964,  42.7141,-999          ,9,-999          ,9
33RR20230722  ,I05        ,161     ,  1,34         ,34         ,2,20230902,0436, -32.9965,  42.7141,     4388,     41.6,2,  18.1072,2,  35.6961,2,  35.6958,2,    237.1,2,    236.7,2,     1.66,2,     0.00,2,     0.00,2,     0.10,2,    1.714,2,    1.289,2,   2.2400,2,   2070.9,2,   2336.7,2,   7.9759,2,    25.00,2,     -999,9,     -999,1,     -999,9,     -999,9,     -999,9,     -999,9,     -999,9,   4.9748,1,   0.0268,1,      7.7,2,     -999,1,     -999,1,     -999,1,     -999,1,20230902,0628, -32.9964,  42.7141,-999          ,9,-999          ,9
33RR20230722  ,I05        ,161     ,  1,33         ,33         ,2,20230902,0436, -32.9965,  42.7141,     4388,     63.3,2,  18.0171,2,  35.6858,2,  35.6846,2,    236.1,2,    235.4,2,     1.66,2,     0.00,2,     0.00,2,     0.12,2,     -999,9,     -999,9,     -999,9,   -999.0,9,     -999,9,     -999,9,     -999,9,     -999,9,     -999,1,     -999,9,     -999,9,     -999,9,     -999,9,     -999,9,   4.8596,1,   0.0398,1,     -999,9,     -999,1,     -999,1,     -999,1,     -999,1,20230902,0626, -32.9964,  42.7141,-999          ,9,-999          ,9
33RR20230722  ,I05        ,161     ,  1,32         ,32         ,2,20230902,0436, -32.9965,  42.7141,     4388,     88.5,2,  17.7468,2,  35.6698,2,  35.6684,2,    230.9,2,    230.4,2,     1.76,2,     0.39,2,     0.28,2,     0.15,2,     -999,9,     -999,9,     -999,9,   -999.0,9,     -999,9,     -999,9,     -999,9,     -999,9,     -999,1,     -999,9,     -999,9,     -999,9,     -999,9,     -999,9,   4.6686,1,   0.0221,1,     -999,9,     -999,1,     -999,1,     -999,1,     -999,1,20230902,0624, -32.9964,  42.7141,-999          ,9,-999          ,9
33RR20230722  ,I05        ,161     ,  1,31         ,31         ,2,20230902,0436, -32.9965,  42.7141,     4388,    116.2,2,  17.5257,2,  35.6511,2,  35.6512,2,    229.4,2,    228.8,2,     1.95,2,     0.98,2,     0.18,2,     0.18,2,    1.790,2,    1.306,2,   2.1800,2,   2080.7,2,   2331.4,2,   7.9542,2,    25.00,2,     -999,9,     -999,1,     -999,9,     -999,9,     -999,9,     -999,9,     -999,9,   4.9719,1,   0.0162,1,      8.0,2,     -999,1,     -999,1,     -999,1,     -999,1,20230902,0622, -32.9964,  42.7141,-999          ,9,-999          ,9
33RR20230722  ,I05        ,161     ,  1,30         ,30         ,2,20230902,0436, -32.9965,  42.7141,     4388,    146.5,2,  17.2272,2,  35.6244,2,  35.6234,2,    225.5,2,    225.6,2,     2.24,2,     2.02,2,     0.03,2,     0.23,2,    2.221,3,    1.332,2,   2.2400,2,   2084.0,2,   2333.0,2,   7.9389,2,    24.99,2,     -999,9,     -999,1,     -999,9,     -999,9,     -999,9,     -999,9,     -999,9,   4.9729,1,   0.0135,1,      8.2,2,     -999,1,     -999,1,     -999,1,     -999,1,20230902,0621, -32.9964,  42.7141,-999          ,9,-999          ,9
33RR20230722  ,I05        ,161     ,  1,29         ,29         ,2,20230902,0436, -32.9965,  42.7141,     4388,    180.4,2,  16.8066,2,  35.5895,2,  35.5882,2,    220.3,2,    221.0,2,     2.63,2,     3.15,2,     0.00,2,     0.30,2,    2.255,3,    1.362,2,   2.1300,2,   2094.0,2,   2330.4,2,   7.9214,2,    25.00,2,     -999,9,     -999,1,     -999,9,     -999,9,     -999,9,     -999,9,     -999,9,   4.9107,1,   0.0117,1,      8.5,2,     -999,1,     -999,1,     -999,1,     -999,1,20230902,0619, -32.9964,  42.7141,-999          ,9,-999          ,9
33RR20230722  ,I05        ,161     ,  1,28         ,28         ,2,20230902,0436, -32.9965,  42.7141,     4388,    217.3,2,  16.1930,2,  35.5341,2,  35.5354,2,    212.1,2,    213.0,2,     3.02,2,     4.74,2,     0.00,2,     0.40,2,     -999,9,     -999,9,     -999,9,   -999.0,9,     -999,9,     -999,9,     -999,9,     -999,9,     -999,1,     -999,9,     -999,9,     -999,9,     -999,9,     -999,9,   4.9683,1,   0.0116,1,     -999,9,     -999,1,     -999,1,     -999,1,     -999,1,20230902,0617, -32.9964,  42.7141,-999          ,9,-999          ,9
33RR20230722  ,I05        ,161     ,  1,27         ,27         ,2,20230902,0436, -32.9965,  42.7141,     4388,    261.6,2,  15.7122,2,  35.4961,2,  35.4951,2,    213.4,2,    213.9,2,     3.22,2,     5.35,2,     0.00,2,     0.45,2,    2.316,3,    1.445,2,   2.0800,2,   2110.7,2,   2324.7,2,   7.8841,2,    25.00,2,     -999,9,     -999,1,     -999,9,     -999,9,     -999,9,     -999,9,     -999,9,   4.9203,1,   0.0121,1,      9.3,2,     -999,1,     -999,1,     -999,1,     -999,1,20230902,0615, -32.9964,  42.7141,-999          ,9,-999          ,9
33RR20230722  ,I05        ,161     ,  1,26         ,26         ,2,20230902,0436, -32.9965,  42.7141,     4388,    312.6,2,  14.9972,2,  35.4264,2,  35.4267,2,    211.5,2,    212.6,2,     3.41,2,     6.41,2,     0.00,2,     0.52,2,     -999,9,     -999,9,     -999,9,   -999.0,9,     -999,9,     -999,9,     -999,9,     -999,9,     -999,1,     -999,9,     -999,9,     -999,9,     -999,9,     -999,9,   4.9629,1,   0.0118,1,     -999,9,     -999,1,     -999,1,     -999,1,     -999,1,20230902,0613, -32.9964,  42.7141,-999          ,9,-999          ,9
33RR20230722  ,I05        ,161     ,  1,25         ,25         ,2,20230902,0436, -32.9965,  42.7141,     4388,    373.5,2,  14.1768,2,  35.3428,2,  35.3431,2,    216.6,2,    217.3,2,     3.41,2,     7.47,2,     0.00,2,     0.59,2,    2.370,2,    1.563,2,   2.1200,2,   2124.0,2,   2317.0,2,   7.8499,2,    25.00,2,     -999,9,     -999,1,     -999,9,     -999,9,     -999,9,     -999,9,     -999,9,   4.7940,1,   0.0119,1,      9.9,2,     -999,1,     -999,1,     -999,1,     -999,1,20230902,0611, -32.9964,  42.7141,-999          ,9,-999          ,9
33RR20230722  ,I05        ,161     ,  1,24         ,24         ,2,20230902,0436, -32.9965,  42.7141,     4388,    440.8,2,  13.5862,2,  35.2763,2,  35.2771,2,    220.0,2,    220.3,2,     3.61,2,     8.44,2,     0.00,2,     0.64,2,    2.589,2,    1.617,2,   2.1300,2,   2125.7,2,   2315.4,2,   7.8383,2,    24.99,2,     -999,9,     -999,1,     -999,9,     -999,9,     -999,9,     -999,9,     -999,9,   4.6885,1,   0.0115,1,     10.3,2,     -999,1,     -999,1,     -999,1,     -999,1,20230902,0609, -32.9964,  42.7141,-999          ,9,-999          ,9
33RR20230722  ,I05        ,161     ,  1,23         ,23         ,2,20230902,0436, -32.9965,  42.7141,     4388,    522.7,2,  12.9508,2,  35.1986,2,  35.1931,2,    224.4,2,    224.8,2,     3.71,2,     9.63,2,     0.00,2,     0.72,2,    2.652,2,    1.659,2,   2.1100,2,   2129.2,2,   2310.3,2,   7.8257,6,    25.01,2,     -999,9,     -999,1,     -999,9,     -999,9,     -999,9,     -999,9,     -999,9,   4.9572,1,   0.0116,1,     10.6,2,     -999,1,     -999,1,     -999,1,     -999,1,20230902,0606, -32.9964,  42.7141,-999          ,9,-999          ,9
33RR20230722  ,I05        ,161     ,  1,22         ,22         ,2,20230902,0436, -32.9965,  42.7141,     4388,    617.8,2,  12.2013,2,  35.0886,2,  35.0850,2,    222.9,2,    222.9,2,     4.10,2,    11.38,2,     0.00,2,     0.85,2,     -999,9,     -999,9,     -999,9,   -999.0,9,     -999,9,     -999,9,     -999,9,     -999,9,     -999,1,     -999,9,     -999,9,     -999,9,     -999,9,     -999,9,   4.8842,1,   0.0119,1,     -999,9,     -999,1,     -999,1,     -999,1,     -999,1,20230902,0604, -32.9964,  42.7141,-999          ,9,-999          ,9
33RR20230722  ,I05        ,161     ,  1,21         ,21         ,2,20230902,0436, -32.9965,  42.7141,     4388,    714.8,2,  11.2922,2,  34.9549,2,  34.9551,2,    221.8,2,    221.6,2,     4.78,2,    13.44,2,     0.00,2,     0.97,2,    2.939,2,    1.780,2,   1.8100,2,   2136.1,2,   2300.6,6,   7.7867,2,    25.01,2,     -999,9,     -999,1,     -999,9,     -999,9,     -999,9,     -999,9,     -999,9,   4.6329,1,   0.0115,1,     11.8,2,     -999,1,     -999,1,     -999,1,     -999,1,20230902,0601, -32.9964,  42.7141,-999          ,9,-999          ,9
33RR20230722  ,I05        ,161     ,  1,20         ,20         ,2,20230902,0436, -32.9965,  42.7141,     4388,    803.1,2,  10.2844,2,  34.8168,2,  34.8165,2,    218.8,2,    218.7,2,     6.34,2,    16.14,2,     0.00,2,     1.13,2,     -999,9,     -999,9,     -999,9,   -999.0,9,     -999,9,     -999,9,     -999,9,     -999,9,     -999,1,     -999,9,     -999,9,     -999,9,     -999,9,     -999,9,   4.9669,1,   0.0115,1,     -999,9,     -999,1,     -999,1,     -999,1,     -999,1,20230902,0558, -32.9964,  42.7141,-999          ,9,-999          ,9
33RR20230722  ,I05        ,161     ,  1,19         ,19         ,2,20230902,0436, -32.9965,  42.7141,     4388,    885.3,2,   9.3092,2,  34.7015,2,  34.7032,2,    214.2,2,    213.8,2,     9.08,2,    18.96,2,     0.00,2,     1.32,2,    2.951,2,    1.751,2,   1.4500,2,   2152.7,2,   2292.2,2,   7.7289,2,    24.97,2,     -999,9,     -999,1,     -999,9,     -999,9,     -999,9,     -999,9,     -999,9,   4.9590,1,   0.0113,1,     14.0,2,     -999,1,     -999,1,     -999,1,     -999,1,20230902,0556, -32.9964,  42.7141,-999          ,9,-999          ,9
33RR20230722  ,I05        ,161     ,  1,18         ,18         ,2,20230902,0436, -32.9965,  42.7141,     4388,    973.7,2,   8.2698,2,  34.5978,2,  34.5989,2,    208.5,2,    208.5,2,    12.89,2,    21.92,2,     0.00,2,     1.52,2,    2.953,2,    1.666,2,   1.3100,2,   2161.5,2,   2288.9,2,   7.6999,6,    24.98,2,     -999,9,     -999,1,     -999,9,     -999,9,     -999,9,     -999,9,     -999,9,   4.6161,1,   0.0113,1,     15.3,2,     -999,1,     -999,1,     -999,1,     -999,1,20230902,0553, -32.9965,  42.7141,-999          ,9,-999          ,9
33RR20230722  ,I05        ,161     ,  1,17         ,17         ,2,20230902,0436, -32.9965,  42.7141,     4388,   1073.3,2,   6.8686,2,  34.4856,2,  34.4875,2,    203.1,2,    202.7,2,    19.82,2,    25.75,2,     0.00,2,     1.78,2,    2.768,2,    1.509,2,   1.1200,2,   2176.8,2,   2288.7,2,   7.6596,2,    25.01,2,     -999,9,     -999,1,     -999,9,     -999,9,     -999,9,     -999,9,     -999,9,   4.9702,1,   0.0114,1,     17.2,2,     -999,1,     -999,1,     -999,1,     -999,1,20230902,0550, -32.9964,  42.7141,-999          ,9,-999          ,9
33RR20230722  ,I05        ,161     ,  1,16         ,16         ,2,20230902,0436, -32.9965,  42.7141,     4388,   1184.6,2,   5.4619,2,  34.4026,2,  34.4035,2,    200.7,2,    201.3,2,    28.41,2,    28.98,2,     0.00,2,     1.99,2,     -999,9,     -999,9,     -999,9,   -999.0,9,     -999,9,     -999,9,     -999,9,     -999,9,     -999,1,     -999,9,     -999,9,     -999,9,     -999,9,     -999,9,   4.9705,1,   0.0119,1,     -999,9,     -999,1,     -999,1,     -999,1,     -999,1,20230902,0547, -32.9964,  42.7141,-999          ,9,-999          ,9
33RR20230722  ,I05        ,161     ,  1,15         ,15         ,2,20230902,0436, -32.9965,  42.7141,     4388,   1307.4,2,   4.5558,2,  34.4044,2,  34.4045,2,    192.8,2,    193.1,2,    38.96,2,    31.17,2,     0.00,2,     2.15,2,    1.968,2,    1.062,2,   0.5700,2,   2209.8,2,   2302.3,2,   7.6032,2,    25.01,2,     -999,9,     -999,1,     -999,9,     -999,9,     -999,9,     -999,9,     -999,9,   4.6930,1,   0.0113,1,     20.2,2,     -999,1,     -999,1,     -999,1,     -999,1,20230902,0544, -32.9964,  42.7141,-999          ,9,-999          ,9
33RR20230722  ,I05        ,161     ,  1,14         ,14         ,2,20230902,0436, -32.9965,  42.7141,     4388,   1440.3,2,   3.7716,2,  34.4600,2,  34.4599,2,    181.4,2,    181.9,2,    52.14,2,    32.81,2,     0.00,2,     2.27,2,     -999,9,     -999,9,     -999,9,   2228.1,2,   2314.2,2,   7.5854,2,    24.96,2,     -999,9,     -999,1,     -999,9,     -999,9,     -999,9,     -999,9,     -999,9,   4.9728,1,   0.0113,1,     -999,9,     -999,1,     -999,1,     -999,1,     -999,1,20230902,0541, -32.9964,  42.7141,-999          ,9,-999          ,9
33RR20230722  ,I05        ,161     ,  1,13         ,13         ,2,20230902,0436, -32.9965,  42.7141,     4388,   1575.5,2,   3.3562,2,  34.5208,2,  34.5211,2,    176.1,2,    176.3,2,    60.82,2,    33.21,2,     0.00,2,     2.30,2,    0.816,2,    0.440,2,   0.2100,2,   2241.5,6,   2323.1,2,   7.5846,2,    24.98,2,     -999,9,     -999,1,     -999,9,     -999,9,     -999,9,     -999,9,     -999,9,   4.7942,1,   0.0112,1,     21.5,2,     -999,1,     -999,1,     -999,1,     -999,1,20230902,0537, -32.9964,  42.7141,-999          ,9,-999          ,9
33RR20230722  ,I05        ,161     ,  1,12         ,12         ,2,20230902,0436, -32.9965,  42.7141,     4388,   1715.6,2,   3.1179,2,  34.5778,2,  34.5777,2,    173.8,2,    173.9,2,    67.46,2,    33.09,2,     0.00,2,     2.30,2,    0.534,2,    0.278,2,   0.1400,2,   2244.1,2,   2332.1,2,   7.5811,2,    25.00,2,     -999,9,     -999,1,     -999,9,     -999,9,     -999,9,     -999,9,     -999,9,   4.8888,1,   0.0116,1,     21.7,2,     -999,1,     -999,1,     -999,1,     -999,1,20230902,0534, -32.9964,  42.7141,-999          ,9,-999          ,9
33RR20230722  ,I05        ,161     ,  1,11         ,11         ,2,20230902,0436, -32.9965,  42.7141,     4388,   1874.0,2,   2.9021,2,  34.6280,2,  34.6280,2,    176.0,2,    176.2,2,    71.36,2,    32.56,2,     0.00,2,     2.27,2,     -999,9,     -999,9,     -999,9,   -999.0,9,     -999,9,     -999,9,     -999,9,     -999,9,     -999,1,     -999,9,     -999,9,     -999,9,     -999,9,     -999,9,   4.9741,1,   0.0113,1,     -999,9,     -999,1,     -999,1,     -999,1,     -999,1,20230902,0530, -32.9964,  42.7141,-999          ,9,-999          ,9
33RR20230722  ,I05        ,161     ,  1,10         ,10         ,2,20230902,0436, -32.9965,  42.7141,     4388,   2055.7,2,   2.7981,2,  34.6804,2,  34.6796,2,    179.5,2,    179.2,2,    72.82,2,    31.79,2,     0.00,2,     2.22,2,    0.203,6,    0.115,6,   0.0500,6,   2247.7,2,   2341.9,2,   7.5985,2,    24.99,2,     -999,9,     -999,1,     -999,9,     -999,9,     -999,9,     -999,9,     -999,9,   4.9743,1,   0.0114,1,     20.5,6,     -999,1,     -999,1,     -999,1,     -999,1,20230902,0526, -32.9964,  42.7141,-999          ,9,-999          ,9
33RR20230722  ,I05        ,161     ,  1,9          ,9          ,2,20230902,0436, -32.9965,  42.7141,     4388,   2258.4,2,   2.6722,2,  34.7285,2,  34.7290,2,    186.9,2,    187.1,2,    72.62,2,    30.56,2,     0.00,2,     2.11,2,    0.115,2,    0.067,2,   0.0500,2,   2241.8,2,   2341.2,2,   7.6151,2,    24.97,2,     -999,9,     -999,1,     -999,9,     -999,9,     -999,9,     -999,9,     -999,9,   4.9743,1,   0.0121,1,     19.7,2,     -999,1,     -999,1,     -999,1,     -999,1,20230902,0521, -32.9964,  42.7141,-999          ,9,-999          ,9
33RR20230722  ,I05        ,161     ,  1,8          ,8          ,2,20230902,0436, -32.9965,  42.7141,     4388,   2498.3,2,   2.4710,2,  34.7771,2,  34.7767,2,    199.0,2,    199.0,2,    71.94,2,    28.96,2,     0.00,2,     2.01,2,     -999,9,     -999,9,     -999,9,   -999.0,9,     -999,9,     -999,9,     -999,9,     -999,9,     -999,1,     -999,9,     -999,9,     -999,9,     -999,9,     -999,9,   4.9742,1,   0.0111,1,     -999,9,     -999,1,     -999,1,     -999,1,     -999,1,20230902,0516, -32.9964,  42.7141,-999          ,9,-999          ,9
33RR20230722  ,I05        ,161     ,  1,7          ,7          ,2,20230902,0436, -32.9965,  42.7141,     4388,   2788.1,2,   2.2399,2,  34.7923,2,  34.7921,2,    207.6,2,    207.6,2,    73.79,2,    28.28,2,     0.00,2,     1.95,2,    0.024,2,    0.021,2,   0.0300,2,   2232.6,2,   2347.0,2,   7.6505,2,    24.97,2,     -999,9,     -999,1,     -999,9,     -999,9,     -999,9,     -999,9,     -999,9,   4.9742,1,   0.0112,1,     16.9,2,     -999,1,     -999,1,     -999,1,     -999,1,20230902,0510, -32.9964,  42.7141,-999          ,9,-999          ,9
33RR20230722  ,I05        ,161     ,  1,6          ,6          ,2,20230902,0436, -32.9965,  42.7141,     4388,   3187.9,2,   1.7973,2,  34.7804,2,  34.7799,2,    214.1,2,    214.2,2,    83.46,2,    28.65,2,     0.00,2,     1.98,2,     -999,9,     -999,9,     -999,9,   -999.0,9,     -999,9,     -999,9,     -999,9,     -999,9,     -999,1,     -999,9,     -999,9,     -999,9,     -999,9,     -999,9,   4.9745,1,   0.0116,1,     -999,9,     -999,1,     -999,1,     -999,1,     -999,1,20230902,0503, -32.9964,  42.7141,-999          ,9,-999          ,9
33RR20230722  ,I05        ,161     ,  1,5          ,5          ,2,20230902,0436, -32.9965,  42.7141,     4388,   3651.7,2,   1.3474,2,  34.7510,2,  34.7510,2,    216.1,2,    216.4,2,    97.12,2,    29.89,2,     0.00,2,     2.06,2,    0.072,2,    0.043,2,   0.0200,2,   2246.2,2,   2356.4,2,   7.6409,6,    25.00,2,     -999,9,     -999,1,     -999,9,     -999,9,     -999,9,     -999,9,     -999,9,   4.7748,1,   0.0112,1,     16.9,2,     -999,1,     -999,1,     -999,1,     -999,1,20230902,0453, -32.9964,  42.7141,-999          ,9,-999          ,9
33RR20230722  ,I05        ,161     ,  1,4          ,37         ,2,20230902,0436, -32.9965,  42.7141,     4388,   3951.3,2,   1.0544,2,  34.7293,2,  34.7294,2,    216.9,2,    217.3,2,   107.18,2,    30.80,2,     0.00,2,     2.11,2,    0.101,2,    0.063,2,   0.0200,2,   2252.7,2,   2360.8,6,   7.6329,2,    24.99,2,     -999,9,     -999,1,     -999,9,     -999,9,     -999,9,     -999,9,     -999,9,   4.9755,1,   0.0111,1,     17.0,2,     -999,1,     -999,1,     -999,1,     -999,1,20230902,0447, -32.9964,  42.7141,-999          ,9,-999          ,9
33RR20230722  ,I05        ,161     ,  1,3          ,3          ,2,20230902,0436, -32.9965,  42.7141,     4388,   4124.4,2,   0.9213,2,  34.7190,3,  34.7160,2,    217.4,2,    217.6,2,   111.57,2,    31.24,2,     0.00,2,     2.17,2,    0.134,2,    0.083,2,   0.0100,2,   2257.3,2,   2362.8,2,   7.6299,2,    25.01,2,     -999,9,     -999,1,     -999,9,     -999,9,     -999,9,     -999,9,     -999,9,   4.9758,1,   0.0113,1,     17.1,2,     -999,1,     -999,1,     -999,1,     -999,1,20230902,0443, -32.9964,  42.7141,-999          ,9,-999          ,9