BOTTLE,20240422CCHHYDRO
EXPOCODE,SECT_ID,STNNBR,CASTNO,SAMPNO,BTLNBR,BTLNBR_FLAG_W,DATE,TIME,LATITUDE,LONGITUDE,DEPTH,CTDPRS,CTDPRS_FLAG_W,CTDTMP,CTDTMP_FLAG_W,CTDSAL,CTDSAL_FLAG_W,SALNTY,SALNTY_FLAG_W,CTDOXY,CTDOXY_FLAG_W,OXYGEN,OXYGEN_FLAG_W,SILCAT,SILCAT_FLAG_W,NITRAT,NITRAT_FLAG_W,NITRIT,NITRIT_FLAG_W,PHSPHT,PHSPHT_FLAG_W,CFC-11,CFC-11_FLAG_W,CFC-12,CFC-12_FLAG_W,SF6,SF6_FLAG_W,TCARBN,TCARBN_FLAG_W,ALKALI,ALKALI_FLAG_W,PH_TOT,PH_TOT_FLAG_W,PH_TMP,PH_TMP_FLAG_W,DOC,DOC_FLAG_W,REFTMP,REFTMP_FLAG_W,POC,POC_FLAG_W,PON,PON_FLAG_W,POP,POP_FLAG_W,DOP,DOP_FLAG_W,DELO18,DELO18_FLAG_W,CTDFLUOR,CTDFLUOR_FLAG_W,CTDXMISS,CTDXMISS_FLAG_W,N2O,N2O_FLAG_W,D15N_NO3,D15N_NO3_FLAG_W,D15N_NO2+NO3,D15N_NO2+NO3_FLAG_W,D18O_NO2+NO3,D18O_NO2+NO3_FLAG_W,D18O_NO3,D18O_NO3_FLAG_W,BTL_DATE,BTL_TIME,BTL_LAT,BTL_LON,HPLC,HPLC_FLAG_W,DNA,DNA_FLAG_W
,,,,,,,,,,,METERS,DBAR,,ITS-90,,PSS-78,,PSS-78,,UMOL/KG,,UMOL/KG,,UMOL/KG,,UMOL/KG,,UMOL/KG,,UMOL/KG,,PMOL/KG,,PMOL/KG,,FMOL/KG,,UMOL/KG,,UMOL/KG,,,,DEG C,,UMOL/KG,,ITS-90,,UG/KG,,UG/KG,,UG/L,,UMOL/KG,,/MILLE,,VOLTS,,VOLTS,,NMOL/KG,,/MILLE,,/MILLE,,/MILLE,,/MILLE,,,,,,,,,
33RR20230722  ,I05        ,67      ,  1,28         ,28         ,2,20230809,0015, -31.5710,  87.2055,     1987,      4.2,2,  17.6124,2,  35.8795,2,  35.8771,2,    235.4,2,    235.2,2,     1.27,2,     0.04,2,     0.01,2,     0.16,2,    2.338,2,    1.296,2,   2.1500,2,   2095.9,2,   2358.2,2,   7.9633,2,    25.02,2,     -999,1,  17.6138,2,     -999,9,     -999,9,     -999,9,     -999,9,     -999,9,   4.5675,1,   0.0290,1,      7.9,2,     -999,9,     -999,9,     -999,9,     -999,9,20230809,0119, -31.5710,  87.2055,-999          ,9,-999          ,9
33RR20230722  ,I05        ,67      ,  1,27         ,27         ,2,20230809,0015, -31.5710,  87.2055,     1987,     16.9,2,  17.6183,2,  35.8794,2,  35.8777,2,    235.9,2,    235.2,2,     1.17,2,     0.00,2,     0.01,2,     0.14,2,     -999,9,     -999,9,     -999,9,   -999.0,9,     -999,9,     -999,9,     -999,9,     -999,9,  17.6170,2,     -999,9,     -999,9,     -999,9,     -999,9,     -999,9,   4.9749,1,   0.0303,1,     -999,9,     -999,9,     -999,9,     -999,9,     -999,9,20230809,0117, -31.5710,  87.2056,-999          ,9,-999          ,9
33RR20230722  ,I05        ,67      ,  1,26         ,26         ,2,20230809,0015, -31.5710,  87.2055,     1987,     33.1,2,  17.6194,2,  35.8793,2,  35.8783,2,    235.4,2,    234.9,2,     1.17,2,     0.00,2,     0.01,2,     0.16,2,     -999,9,     -999,9,     -999,9,   -999.0,9,     -999,9,     -999,9,     -999,9,     -999,9,  17.6184,2,     -999,9,     -999,9,     -999,9,     -999,9,     -999,9,   4.8581,1,   0.0317,1,     -999,9,     -999,9,     -999,9,     -999,9,     -999,9,20230809,0116, -31.5710,  87.2056,-999          ,9,-999          ,9
33RR20230722  ,I05        ,67      ,  1,25         ,25         ,2,20230809,0015, -31.5710,  87.2055,     1987,     52.4,2,  17.6133,2,  35.8794,2,  35.8773,2,    235.4,2,    235.1,2,     1.27,2,     0.00,2,     0.01,2,     0.15,2,     -999,9,     -999,9,     -999,9,   2095.1,6,   2356.0,2,   7.9622,2,    25.00,2,     -999,9,  17.6148,2,     -999,9,     -999,9,     -999,9,     -999,9,     -999,9,   4.7573,1,   0.0300,1,     -999,9,     -999,9,     -999,9,     -999,9,     -999,9,20230809,0114, -31.5710,  87.2056,-999          ,9,-999          ,9
33RR20230722  ,I05        ,67      ,  1,24         ,24         ,2,20230809,0015, -31.5710,  87.2055,     1987,     82.6,2,  17.6239,2,  35.8790,2,  35.8753,2,    235.1,2,    235.0,2,     1.27,2,     0.00,2,     0.01,2,     0.14,2,     -999,9,     -999,9,     -999,9,   -999.0,9,     -999,9,     -999,9,     -999,9,     -999,9,  17.6228,2,     -999,9,     -999,9,     -999,9,     -999,9,     -999,9,   4.9744,1,   0.0334,1,     -999,9,     -999,9,     -999,9,     -999,9,     -999,9,20230809,0112, -31.5710,  87.2056,-999          ,9,-999          ,9
33RR20230722  ,I05        ,67      ,  1,23         ,23         ,2,20230809,0015, -31.5710,  87.2055,     1987,    106.3,2,  17.6130,2,  35.8755,2,  35.8742,2,    234.6,2,    234.8,2,     1.37,2,     0.00,2,     0.01,2,     0.15,2,    2.243,2,    1.301,2,   2.1100,2,   2099.0,2,   2353.9,2,   7.9605,6,    25.00,2,     -999,9,  17.6187,2,     -999,9,     -999,9,     -999,9,     -999,9,     -999,9,   4.9424,1,   0.0296,1,      7.9,2,     -999,9,     -999,9,     -999,9,     -999,9,20230809,0110, -31.5710,  87.2056,-999          ,9,-999          ,9
33RR20230722  ,I05        ,67      ,  1,22         ,22         ,2,20230809,0015, -31.5710,  87.2055,     1987,    126.6,2,  17.4312,2,  35.8341,2,  35.8339,2,    233.4,2,    234.3,2,     1.17,2,     0.13,2,     0.03,2,     0.16,2,     -999,9,     -999,9,     -999,9,   -999.0,9,     -999,9,     -999,9,     -999,9,     -999,9,  17.4330,2,     -999,9,     -999,9,     -999,9,     -999,9,     -999,9,   4.9732,1,   0.0220,1,     -999,9,     -999,9,     -999,9,     -999,9,     -999,9,20230809,0109, -31.5710,  87.2055,-999          ,9,-999          ,9
33RR20230722  ,I05        ,67      ,  1,21         ,21         ,2,20230809,0015, -31.5710,  87.2055,     1987,    163.2,2,  16.5041,2,  35.6709,2,  35.6818,2,    239.7,2,    238.7,2,     0.98,2,     0.33,2,     0.06,2,     0.19,2,     -999,9,     -999,9,     -999,9,   2097.5,2,   2348.8,6,   7.9401,2,    25.00,2,     -999,9,  16.5073,2,     -999,9,     -999,9,     -999,9,     -999,9,     -999,9,   4.9731,1,   0.0220,1,     -999,9,     -999,9,     -999,9,     -999,9,     -999,9,20230809,0108, -31.5710,  87.2055,-999          ,9,-999          ,9
33RR20230722  ,I05        ,67      ,  1,20         ,20         ,2,20230809,0015, -31.5710,  87.2055,     1987,    187.7,2,  14.7923,2,  35.4048,2,  35.4119,2,    241.1,2,    242.4,2,     1.17,2,     2.11,2,     0.36,2,     0.34,2,    2.548,2,    1.507,2,   2.3300,2,   -999.0,9,     -999,9,     -999,9,     -999,9,     -999,9,  14.7662,2,     -999,9,     -999,9,     -999,9,     -999,9,     -999,9,   4.9475,1,   0.0225,1,      9.8,2,     -999,9,     -999,9,     -999,9,     -999,9,20230809,0106, -31.5710,  87.2056,-999          ,9,-999          ,9
33RR20230722  ,I05        ,67      ,  1,19         ,19         ,2,20230809,0015, -31.5710,  87.2055,     1987,    226.2,2,  13.7296,2,  35.3326,2,  35.3319,2,    228.9,2,    230.6,2,     1.76,2,     5.51,2,     0.02,2,     0.50,2,     -999,9,     -999,9,     -999,9,   2130.1,2,   2326.6,2,   7.8551,2,    25.00,2,     -999,9,  13.7281,2,     -999,9,     -999,9,     -999,9,     -999,9,     -999,9,   4.9693,1,   0.0132,1,     -999,9,     -999,9,     -999,9,     -999,9,     -999,9,20230809,0104, -31.5710,  87.2056,-999          ,9,-999          ,9
33RR20230722  ,I05        ,67      ,  1,18         ,18         ,2,20230809,0015, -31.5710,  87.2055,     1987,    266.1,2,  12.8296,2,  35.1935,2,  35.1947,2,    234.0,2,    233.9,2,     1.85,2,     7.17,2,     0.00,2,     0.61,2,    2.571,2,    1.659,6,   2.2800,6,   -999.0,9,     -999,9,     -999,9,     -999,9,     -999,9,  12.8263,2,     -999,9,     -999,9,     -999,9,     -999,9,     -999,9,   4.9688,1,   0.0115,1,     11.1,6,     -999,9,     -999,9,     -999,9,     -999,9,20230809,0102, -31.5710,  87.2056,-999          ,9,-999          ,9
33RR20230722  ,I05        ,67      ,  1,17         ,17         ,2,20230809,0015, -31.5710,  87.2055,     1987,    320.1,2,  12.0327,2,  35.0606,2,  35.0610,2,    236.2,2,    237.0,2,     2.24,2,     9.01,2,     0.00,2,     0.69,2,     -999,9,     -999,9,     -999,9,   2129.1,2,   2304.8,2,   7.8182,2,    25.00,2,     -999,9,  12.0326,2,     -999,9,     -999,9,     -999,9,     -999,9,     -999,9,   4.9682,1,   0.0113,1,     -999,9,     -999,9,     -999,9,     -999,9,     -999,9,20230809,0100, -31.5710,  87.2055,-999          ,9,-999          ,9
33RR20230722  ,I05        ,67      ,  1,16         ,16         ,2,20230809,0015, -31.5710,  87.2055,     1987,    374.0,2,  11.2207,2,  34.9358,2,  34.9337,2,    237.0,2,    237.0,2,     2.93,2,    11.18,2,     0.00,2,     0.85,2,    2.798,2,    1.802,2,   2.2700,2,   -999.0,9,     -999,9,     -999,9,     -999,9,     -999,9,  11.2198,2,     -999,9,     -999,9,     -999,9,     -999,9,     -999,9,   4.9677,1,   0.0114,1,     11.9,2,     -999,9,     -999,9,     -999,9,     -999,9,20230809,0058, -31.5710,  87.2055,-999          ,9,-999          ,9
33RR20230722  ,I05        ,67      ,  1,15         ,15         ,2,20230809,0015, -31.5710,  87.2055,     1987,    439.9,2,  10.6309,2,  34.8515,2,  34.8528,2,    237.6,2,    237.6,2,     3.12,2,    12.60,2,     0.00,2,     0.94,2,    2.976,2,    1.853,2,   2.1800,2,   2137.1,2,   2297.7,2,   7.7832,2,    25.01,2,     -999,9,  10.6371,2,     -999,9,     -999,9,     -999,9,     -999,9,     -999,9,   4.7212,1,   0.0115,1,     12.2,2,     -999,9,     -999,9,     -999,9,     -999,9,20230809,0056, -31.5710,  87.2055,-999          ,9,-999          ,9
33RR20230722  ,I05        ,67      ,  1,14         ,14         ,2,20230809,0015, -31.5710,  87.2055,     1987,    518.0,2,   9.9100,2,  34.7521,2,  34.7510,2,    235.8,2,    235.4,2,     4.00,2,    14.97,2,     0.00,2,     1.08,2,     -999,9,     -999,9,     -999,9,   -999.0,9,     -999,9,     -999,9,     -999,9,     -999,9,   9.9062,2,     -999,9,     -999,9,     -999,9,     -999,9,     -999,9,   4.9668,1,   0.0113,1,     -999,9,     -999,9,     -999,9,     -999,9,     -999,9,20230809,0054, -31.5710,  87.2056,-999          ,9,-999          ,9
33RR20230722  ,I05        ,67      ,  1,13         ,13         ,2,20230809,0015, -31.5710,  87.2055,     1987,    604.5,2,   9.2259,2,  34.6634,2,  34.6633,2,    231.2,2,    231.1,2,     5.17,2,    17.34,2,     0.00,2,     1.21,2,    2.943,2,    1.939,2,   2.0600,2,   2145.3,2,   2289.3,2,   7.7414,2,    25.00,2,     -999,9,   9.2270,2,     -999,9,     -999,9,     -999,9,     -999,9,     -999,9,   4.9666,1,   0.0114,1,     13.3,2,     -999,9,     -999,9,     -999,9,     -999,9,20230809,0051, -31.5710,  87.2055,-999          ,9,-999          ,9
33RR20230722  ,I05        ,67      ,  1,12         ,12         ,2,20230809,0015, -31.5710,  87.2055,     1987,    752.5,2,   7.4884,2,  34.5066,2,  34.5082,2,    204.6,2,    205.3,2,    14.15,2,    23.84,2,     0.00,2,     1.62,2,     -999,9,     -999,9,     -999,9,   -999.0,9,     -999,9,     -999,9,     -999,9,     -999,9,   7.4998,2,     -999,9,     -999,9,     -999,9,     -999,9,     -999,9,   4.9682,1,   0.0113,1,     -999,9,     -999,9,     -999,9,     -999,9,     -999,9,20230809,0048, -31.5710,  87.2056,-999          ,9,-999          ,9
33RR20230722  ,I05        ,67      ,  1,11         ,11         ,2,20230809,0015, -31.5710,  87.2055,     1987,    913.8,2,   5.4097,2,  34.4055,2,  34.4037,2,    186.8,2,    186.9,2,    31.63,2,    30.14,2,     0.00,2,     2.05,2,    1.878,2,    0.997,2,   0.4700,2,   2200.2,2,   2298.9,2,   7.6178,2,    25.01,2,     -999,9,   5.4026,2,     -999,9,     -999,9,     -999,9,     -999,9,     -999,9,   4.9705,1,   0.0113,1,     19.7,2,     -999,9,     -999,9,     -999,9,     -999,9,20230809,0044, -31.5710,  87.2056,-999          ,9,-999          ,9
33RR20230722  ,I05        ,67      ,  1,10         ,10         ,2,20230809,0015, -31.5710,  87.2055,     1987,    991.0,2,   4.8444,2,  34.4030,2,  34.4021,2,    181.7,2,    182.0,2,    38.95,2,    31.44,2,     0.00,2,     2.19,2,    1.544,2,    0.839,2,   0.4300,2,   -999.0,9,     -999,9,     -999,9,     -999,9,     -999,9,   4.8439,2,     -999,9,     -999,9,     -999,9,     -999,9,     -999,9,   4.9713,1,   0.0119,1,     20.4,2,     -999,9,     -999,9,     -999,9,     -999,9,20230809,0041, -31.5710,  87.2056,-999          ,9,-999          ,9
33RR20230722  ,I05        ,67      ,  1,9          ,9          ,2,20230809,0015, -31.5710,  87.2055,     1987,   1091.8,2,   4.1272,2,  34.4404,2,  34.4406,2,    168.6,2,    168.4,2,    53.59,2,    33.44,2,     0.00,2,     2.30,2,     -999,9,     -999,9,     -999,9,   2232.2,2,   2318.5,2,   7.5798,2,    25.01,2,     -999,9,   4.1289,2,     -999,9,     -999,9,     -999,9,     -999,9,     -999,9,   4.9405,1,   0.0112,1,     -999,9,     -999,9,     -999,9,     -999,9,     -999,9,20230809,0039, -31.5710,  87.2055,-999          ,9,-999          ,9
33RR20230722  ,I05        ,67      ,  1,8          ,8          ,2,20230809,0015, -31.5710,  87.2055,     1987,   1244.6,2,   3.5715,2,  34.4851,2,  34.4840,2,    162.6,2,    162.4,2,    63.74,2,    34.38,2,     0.00,2,     2.40,2,    0.554,2,    0.319,2,   0.1300,2,   -999.0,9,     -999,9,     -999,9,     -999,9,     -999,9,   3.5717,2,     -999,9,     -999,9,     -999,9,     -999,9,     -999,9,   4.9251,1,   0.0112,1,     23.0,2,     -999,9,     -999,9,     -999,9,     -999,9,20230809,0035, -31.5710,  87.2056,-999          ,9,-999          ,9
33RR20230722  ,I05        ,67      ,  1,7          ,7          ,2,20230809,0015, -31.5710,  87.2055,     1987,   1377.4,2,   3.2112,2,  34.5471,2,  34.5466,2,    157.7,2,    157.5,2,    73.21,2,    34.62,2,     0.00,2,     2.43,2,     -999,9,     -999,9,     -999,9,   2258.0,2,   2340.6,6,   7.5608,2,    25.00,2,     -999,9,   3.2109,2,     -999,9,     -999,9,     -999,9,     -999,9,     -999,9,   4.9737,1,   0.0118,1,     -999,9,     -999,9,     -999,9,     -999,9,     -999,9,20230809,0032, -31.5710,  87.2055,-999          ,9,-999          ,9
33RR20230722  ,I05        ,67      ,  1,6          ,6          ,2,20230809,0015, -31.5710,  87.2055,     1987,   1484.1,2,   2.9703,2,  34.5974,2,  34.5963,2,    158.0,2,    158.1,2,    78.97,2,    34.34,2,     0.00,2,     2.40,2,    0.153,2,    0.103,2,   0.0500,2,   -999.0,9,     -999,9,     -999,9,     -999,9,     -999,9,   2.9707,2,     -999,9,     -999,9,     -999,9,     -999,9,     -999,9,   4.9737,1,   0.0117,1,     22.5,2,     -999,9,     -999,9,     -999,9,     -999,9,20230809,0029, -31.5710,  87.2055,-999          ,9,-999          ,9
33RR20230722  ,I05        ,67      ,  1,5          ,5          ,2,20230809,0015, -31.5710,  87.2055,     1987,   1583.4,2,   2.8046,2,  34.6322,2,  34.6299,2,    160.3,2,    160.2,2,    83.75,2,    34.10,2,     0.00,2,     2.37,2,    0.123,2,    0.070,2,   0.0200,2,   2268.4,2,   2348.1,2,   7.5718,6,    25.01,2,     -999,9,   2.8030,2,     -999,9,     -999,9,     -999,9,     -999,9,     -999,9,   4.9267,1,   0.0116,1,     22.4,2,     -999,9,     -999,9,     -999,9,     -999,9,20230809,0026, -31.5710,  87.2055,-999          ,9,-999          ,9
33RR20230722  ,I05        ,67      ,  1,4          ,37         ,2,20230809,0015, -31.5710,  87.2055,     1987,   1718.4,2,   2.6526,2,  34.6686,2,  34.6679,2,    162.0,2,    162.2,2,    88.14,2,    33.80,2,     0.00,2,     2.32,2,     -999,9,     -999,9,     -999,9,   -999.0,9,     -999,9,     -999,9,     -999,9,     -999,9,   2.6522,2,     -999,9,     -999,9,     -999,9,     -999,9,     -999,9,   4.9735,1,   0.0112,1,     -999,9,     -999,9,     -999,9,     -999,9,     -999,9,20230809,0023, -31.5710,  87.2056,-999          ,9,-999          ,9
33RR20230722  ,I05        ,67      ,  1,3          ,3          ,2,20230809,0015, -31.5710,  87.2055,     1987,   1845.1,2,   2.5066,2,  34.6896,2,  34.6871,2,    166.2,2,    166.5,2,    90.28,2,    33.27,2,     0.00,2,     2.30,2,    0.028,2,    0.036,2,   0.0300,2,   2272.0,2,   2358.6,2,   7.5853,2,    24.98,2,     -999,9,   2.5061,2,     -999,9,     -999,9,     -999,9,     -999,9,     -999,9,   4.9444,1,   0.0119,1,     21.0,2,     -999,9,     -999,9,     -999,9,     -999,9,20230809,0020, -31.5710,  87.2055,-999          ,9,-999          ,9
33RR20230722  ,I05        ,67      ,  1,2          ,2          ,2,20230809,0015, -31.5710,  87.2055,     1987,   1925.5,2,   2.3832,2,  34.7024,2,  34.7013,2,    168.4,2,    168.8,2,    94.28,2,    33.07,2,     0.00,2,     2.30,2,     -999,9,     -999,9,     -999,9,   -999.0,9,     -999,9,     -999,9,     -999,9,     -999,9,   2.3832,2,     -999,9,     -999,9,     -999,9,     -999,9,     -999,9,   4.1909,1,   0.0117,1,     -999,9,     -999,9,     -999,9,     -999,9,     -999,9,20230809,0018, -31.5710,  87.2055,-999          ,9,-999          ,9
33RR20230722  ,I05        ,67      ,  1,1          ,1          ,2,20230809,0015, -31.5710,  87.2055,     1987,   2002.0,2,   2.2815,2,  34.7115,3,  34.7081,2,    169.5,2,    169.5,2,    97.70,2,    33.16,2,     0.00,2,     2.29,2,    0.021,2,    0.017,2,   0.0000,2,   2273.2,2,   2364.2,2,   7.5940,2,    24.99,2,     -999,9,   2.2821,2,     -999,9,     -999,9,     -999,9,     -999,9,     -999,9,   0.3983,1,   0.0115,1,     20.8,2,     -999,9,     -999,9,     -999,9,     -999,9,20230809,0015, -31.5710,  87.2055,-999          ,9,-999          ,9