BOTTLE,20240422CCHHYDRO
EXPOCODE,SECT_ID,STNNBR,CASTNO,SAMPNO,BTLNBR,BTLNBR_FLAG_W,DATE,TIME,LATITUDE,LONGITUDE,DEPTH,CTDPRS,CTDPRS_FLAG_W,CTDTMP,CTDTMP_FLAG_W,CTDSAL,CTDSAL_FLAG_W,SALNTY,SALNTY_FLAG_W,CTDOXY,CTDOXY_FLAG_W,OXYGEN,OXYGEN_FLAG_W,SILCAT,SILCAT_FLAG_W,NITRAT,NITRAT_FLAG_W,NITRIT,NITRIT_FLAG_W,PHSPHT,PHSPHT_FLAG_W,CFC-11,CFC-11_FLAG_W,CFC-12,CFC-12_FLAG_W,SF6,SF6_FLAG_W,TCARBN,TCARBN_FLAG_W,ALKALI,ALKALI_FLAG_W,PH_TOT,PH_TOT_FLAG_W,PH_TMP,PH_TMP_FLAG_W,DOC,DOC_FLAG_W,REFTMP,REFTMP_FLAG_W,POC,POC_FLAG_W,PON,PON_FLAG_W,POP,POP_FLAG_W,DOP,DOP_FLAG_W,DELO18,DELO18_FLAG_W,CTDFLUOR,CTDFLUOR_FLAG_W,CTDXMISS,CTDXMISS_FLAG_W,N2O,N2O_FLAG_W,D15N_NO3,D15N_NO3_FLAG_W,D15N_NO2+NO3,D15N_NO2+NO3_FLAG_W,D18O_NO2+NO3,D18O_NO2+NO3_FLAG_W,D18O_NO3,D18O_NO3_FLAG_W,BTL_DATE,BTL_TIME,BTL_LAT,BTL_LON,HPLC,HPLC_FLAG_W,DNA,DNA_FLAG_W
,,,,,,,,,,,METERS,DBAR,,ITS-90,,PSS-78,,PSS-78,,UMOL/KG,,UMOL/KG,,UMOL/KG,,UMOL/KG,,UMOL/KG,,UMOL/KG,,PMOL/KG,,PMOL/KG,,FMOL/KG,,UMOL/KG,,UMOL/KG,,,,DEG C,,UMOL/KG,,ITS-90,,UG/KG,,UG/KG,,UG/L,,UMOL/KG,,/MILLE,,VOLTS,,VOLTS,,NMOL/KG,,/MILLE,,/MILLE,,/MILLE,,/MILLE,,,,,,,,,
33RR20230722  ,I05        ,31      ,  1,36         ,36         ,2,20230730,1555, -31.9987, 102.9903,     5251,      5.4,2,  16.8561,2,  35.8209,2,  35.8319,2,    239.1,2,    238.5,2,     1.66,2,     0.16,2,     0.02,2,     0.11,2,    2.394,2,    1.339,2,   2.2200,2,   2091.7,6,   2350.6,2,   7.9630,2,    25.00,2,     -999,1,  16.8562,2,     -999,9,     -999,9,     -999,9,     -999,9,     -999,9,   4.9754,1,   0.0408,1,      8.2,2,     -999,9,     -999,9,     -999,9,     -999,9,20230730,1803, -31.9987, 102.9903,-999          ,9,-999          ,9
33RR20230722  ,I05        ,31      ,  1,35         ,35         ,2,20230730,1555, -31.9987, 102.9903,     5251,     22.2,2,  16.8645,2,  35.8217,2,  35.8198,2,    239.0,2,    238.7,2,     1.66,2,     0.11,2,     0.02,2,     0.13,2,     -999,9,     -999,9,     -999,9,   2090.5,2,   2352.3,2,   7.9601,6,    24.99,2,     -999,9,  16.8632,2,     -999,9,     -999,9,     -999,9,     -999,9,     -999,9,   4.9751,1,   0.0363,1,     -999,9,     -999,9,     -999,9,     -999,9,     -999,9,20230730,1802, -31.9987, 102.9903,-999          ,9,-999          ,9
33RR20230722  ,I05        ,31      ,  1,34         ,34         ,2,20230730,1555, -31.9987, 102.9903,     5251,     38.3,2,  16.8726,2,  35.8205,2,  35.8188,2,    238.9,2,    238.4,2,     1.56,2,     0.11,2,     0.02,2,     0.11,2,    2.316,2,    1.331,2,   2.1800,2,   2089.9,2,   2349.6,6,   7.9609,2,    24.98,2,     -999,9,  16.8709,2,     -999,9,     -999,9,     -999,9,     -999,9,     -999,9,   4.9748,1,   0.0367,1,      8.1,2,     -999,9,     -999,9,     -999,9,     -999,9,20230730,1800, -31.9987, 102.9903,-999          ,9,-999          ,9
33RR20230722  ,I05        ,31      ,  1,33         ,33         ,2,20230730,1555, -31.9987, 102.9903,     5251,     52.9,2,  16.8406,2,  35.8163,2,  35.8159,2,    238.6,2,    238.2,2,     1.56,2,     0.11,2,     0.02,2,     0.11,2,     -999,9,     -999,9,     -999,9,   2091.4,2,   2349.3,2,   7.9621,2,    24.97,2,     -999,9,  16.8421,2,     -999,9,     -999,9,     -999,9,     -999,9,     -999,9,   4.9749,1,   0.0404,1,     -999,9,     -999,9,     -999,9,     -999,9,     -999,9,20230730,1759, -31.9987, 102.9902,-999          ,9,-999          ,9
33RR20230722  ,I05        ,31      ,  1,32         ,32         ,2,20230730,1555, -31.9987, 102.9903,     5251,     74.8,2,  16.8317,2,  35.8168,2,  35.8159,2,    238.1,2,    238.1,2,     1.56,2,     0.11,2,     0.02,2,     0.10,2,    2.309,2,    1.320,2,   2.2300,2,   2091.5,2,   2351.8,2,   7.9597,2,    24.97,2,     -999,9,  16.8306,2,     -999,9,     -999,9,     -999,9,     -999,9,     -999,9,   4.9745,1,   0.0425,1,      8.1,2,     -999,9,     -999,9,     -999,9,     -999,9,20230730,1757, -31.9988, 102.9903,-999          ,9,-999          ,9
33RR20230722  ,I05        ,31      ,  1,31         ,31         ,2,20230730,1555, -31.9987, 102.9903,     5251,    103.7,2,  16.7067,2,  35.8002,2,  35.8032,2,    236.4,2,    236.9,2,     1.56,2,     0.22,2,     0.03,2,     0.13,2,     -999,9,     -999,9,     -999,9,   2094.6,2,   2349.7,2,   7.9556,6,    24.98,2,     -999,9,  16.7088,2,     -999,9,     -999,9,     -999,9,     -999,9,     -999,9,   4.8939,1,   0.0267,1,     -999,9,     -999,9,     -999,9,     -999,9,     -999,9,20230730,1755, -31.9988, 102.9903,-999          ,9,-999          ,9
33RR20230722  ,I05        ,31      ,  1,30         ,30         ,2,20230730,1555, -31.9987, 102.9903,     5251,    133.8,2,  16.1641,2,  35.7021,2,  35.7211,2,    231.2,2,    232.5,2,     1.46,2,     1.00,2,     0.07,2,     0.20,2,    2.317,2,    1.401,2,   2.2400,2,   2100.4,2,   2346.8,2,   7.9349,2,    24.98,2,     -999,9,  16.1637,2,     -999,9,     -999,9,     -999,9,     -999,9,     -999,9,   4.9719,1,   0.0162,1,      8.7,2,     -999,9,     -999,9,     -999,9,     -999,9,20230730,1754, -31.9988, 102.9903,-999          ,9,-999          ,9
33RR20230722  ,I05        ,31      ,  1,29         ,29         ,2,20230730,1555, -31.9987, 102.9903,     5251,    165.1,2,  15.3482,2,  35.5994,2,  35.6026,2,    229.1,2,    230.8,2,     1.46,2,     2.31,2,     0.03,2,     0.27,2,     -999,9,     -999,9,     -999,9,   2111.2,2,   2339.8,2,   7.9058,2,    25.00,2,     -999,9,  15.3488,2,     -999,9,     -999,9,     -999,9,     -999,9,     -999,9,   4.8659,1,   0.0128,1,     -999,9,     -999,9,     -999,9,     -999,9,     -999,9,20230730,1752, -31.9987, 102.9903,-999          ,9,-999          ,9
33RR20230722  ,I05        ,31      ,  1,28         ,28         ,2,20230730,1555, -31.9987, 102.9903,     5251,    204.6,2,  14.3698,2,  35.4701,2,  35.4734,2,    230.1,2,    231.0,2,     1.85,2,     3.92,2,     0.01,2,     0.36,2,    2.406,2,    1.527,2,   2.2800,2,   2121.3,2,   2332.2,2,   7.8817,2,    24.98,2,     -999,9,  14.3551,2,     -999,9,     -999,9,     -999,9,     -999,9,     -999,9,   4.9104,1,   0.0121,1,      9.7,2,     -999,9,     -999,9,     -999,9,     -999,9,20230730,1751, -31.9987, 102.9903,-999          ,9,-999          ,9
33RR20230722  ,I05        ,31      ,  1,27         ,27         ,2,20230730,1555, -31.9987, 102.9903,     5251,    247.7,2,  13.2343,2,  35.2799,2,  35.2785,2,    235.0,2,    236.0,2,     1.56,2,     5.83,2,     0.00,2,     0.50,2,     -999,9,     -999,9,     -999,9,   2122.4,2,   2322.3,2,   7.8543,2,    24.98,2,     -999,9,  13.2294,2,     -999,9,     -999,9,     -999,9,     -999,9,     -999,9,   4.9695,1,   0.0113,1,     -999,9,     -999,9,     -999,9,     -999,9,     -999,9,20230730,1749, -31.9988, 102.9903,-999          ,9,-999          ,9
33RR20230722  ,I05        ,31      ,  1,26         ,26         ,2,20230730,1555, -31.9987, 102.9903,     5251,    293.7,2,  12.2479,2,  35.1057,2,  35.1136,2,    240.9,2,    240.5,2,     2.05,2,     7.65,2,     0.00,2,     0.61,2,    2.654,2,    1.677,2,   2.4700,2,   2124.4,2,   2311.9,2,   7.8332,2,    24.99,2,     -999,9,  12.2482,2,     -999,9,     -999,9,     -999,9,     -999,9,     -999,9,   4.9693,1,   0.0115,1,     11.1,2,     -999,9,     -999,9,     -999,9,     -999,9,20230730,1747, -31.9987, 102.9903,-999          ,9,-999          ,9
33RR20230722  ,I05        ,31      ,  1,25         ,25         ,2,20230730,1555, -31.9987, 102.9903,     5251,    350.3,2,  11.2032,2,  34.9206,2,  34.9213,2,    244.5,2,    243.3,2,     2.24,2,    10.05,2,     0.00,2,     0.78,2,    2.827,2,    1.762,2,   2.5400,2,   2128.9,2,   2303.2,2,   7.8060,2,    24.99,2,     -999,9,  11.1968,2,     -999,9,     -999,9,     -999,9,     -999,9,     -999,9,   4.8320,1,   0.0113,1,     11.8,2,     -999,9,     -999,9,     -999,9,     -999,9,20230730,1745, -31.9987, 102.9903,-999          ,9,-999          ,9
33RR20230722  ,I05        ,31      ,  1,24         ,24         ,2,20230730,1555, -31.9987, 102.9903,     5251,    438.5,2,  10.3716,2,  34.7915,2,  34.7954,2,    244.8,2,    243.1,2,     3.22,2,    12.68,2,     0.00,2,     0.91,2,    3.012,2,    1.887,2,   2.5400,2,   -999.0,9,     -999,9,     -999,9,     -999,9,     -999,9,  10.3865,2,     -999,9,     -999,9,     -999,9,     -999,9,     -999,9,   4.9677,1,   0.0113,1,     12.7,2,     -999,9,     -999,9,     -999,9,     -999,9,20230730,1743, -31.9988, 102.9903,-999          ,9,-999          ,9
33RR20230722  ,I05        ,31      ,  1,23         ,23         ,2,20230730,1555, -31.9987, 102.9903,     5251,    511.3,2,   9.8812,2,  34.7387,2,  34.7386,2,    238.1,2,    237.6,2,     4.00,2,    14.97,2,     0.00,2,     1.04,2,     -999,9,     -999,9,     -999,9,   2137.9,2,   2292.8,2,   7.7606,2,    24.99,2,     -999,9,   9.8775,2,     -999,9,     -999,9,     -999,9,     -999,9,     -999,9,   4.9583,1,   0.0113,1,     -999,9,     -999,9,     -999,9,     -999,9,     -999,9,20230730,1740, -31.9987, 102.9903,-999          ,9,-999          ,9
33RR20230722  ,I05        ,31      ,  1,22         ,22         ,2,20230730,1555, -31.9987, 102.9903,     5251,    603.4,2,   9.3862,2,  34.6809,2,  34.6802,2,    237.5,2,    236.8,2,     4.59,2,    16.50,2,     0.00,2,     1.14,2,    3.160,2,    1.909,2,   2.1000,2,   -999.0,9,     -999,9,     -999,9,     -999,9,     -999,9,   9.3827,2,     -999,9,     -999,9,     -999,9,     -999,9,     -999,9,   4.9666,1,   0.0113,1,     13.2,2,     -999,9,     -999,9,     -999,9,     -999,9,20230730,1738, -31.9987, 102.9903,-999          ,9,-999          ,9
33RR20230722  ,I05        ,31      ,  1,21         ,21         ,2,20230730,1555, -31.9987, 102.9903,     5251,    714.5,2,   8.5841,2,  34.5865,2,  34.5875,2,    224.9,2,    225.9,2,     7.22,2,    19.38,2,     0.00,2,     1.34,2,    3.024,2,    1.849,2,   1.8300,2,   2149.3,2,   2285.0,2,   7.7201,6,    24.99,2,     -999,9,   8.5871,2,     -999,9,     -999,9,     -999,9,     -999,9,     -999,9,   4.9642,1,   0.0112,1,     14.0,2,     -999,9,     -999,9,     -999,9,     -999,9,20230730,1735, -31.9987, 102.9903,-999          ,9,-999          ,9
33RR20230722  ,I05        ,31      ,  1,20         ,20         ,2,20230730,1555, -31.9987, 102.9903,     5251,    849.6,2,   6.8032,2,  34.4473,2,  34.4467,2,    198.4,2,    199.9,2,    17.67,2,    25.88,2,     0.00,2,     1.77,2,    2.506,6,    1.405,6,   0.9700,6,   -999.0,9,     -999,9,     -999,9,     -999,9,     -999,9,   6.7844,2,     -999,9,     -999,9,     -999,9,     -999,9,     -999,9,   4.8739,1,   0.0111,1,     17.7,6,     -999,9,     -999,9,     -999,9,     -999,9,20230730,1732, -31.9987, 102.9903,-999          ,9,-999          ,9
33RR20230722  ,I05        ,31      ,  1,19         ,19         ,2,20230730,1555, -31.9987, 102.9903,     5251,    976.8,2,   4.9942,2,  34.3794,2,  34.3800,2,    190.5,2,    191.6,2,    33.58,2,    30.48,2,     0.00,2,     2.07,2,     -999,9,     -999,9,     -999,9,   2202.2,2,   2296.9,2,   7.6138,2,    24.98,2,     -999,9,   4.9881,2,     -999,9,     -999,9,     -999,9,     -999,9,     -999,9,   4.9709,1,   0.0112,1,     -999,9,     -999,9,     -999,9,     -999,9,     -999,9,20230730,1729, -31.9988, 102.9903,-999          ,9,-999          ,9
33RR20230722  ,I05        ,31      ,  1,18         ,18         ,2,20230730,1555, -31.9987, 102.9903,     5251,   1096.2,2,   4.1773,2,  34.4225,2,  34.4224,2,    173.1,2,    173.8,2,    49.49,2,    33.00,2,     0.00,2,     2.28,2,    1.166,2,    0.605,2,   0.2400,2,   2226.7,2,   2313.0,2,   7.5849,2,    25.00,2,     -999,9,   4.1716,2,     -999,9,     -999,9,     -999,9,     -999,9,     -999,9,   4.8329,1,   0.0113,1,     22.4,2,     -999,9,     -999,9,     -999,9,     -999,9,20230730,1726, -31.9987, 102.9903,-999          ,9,-999          ,9
33RR20230722  ,I05        ,31      ,  1,17         ,17         ,2,20230730,1555, -31.9987, 102.9903,     5251,   1222.3,2,   3.7814,2,  34.4918,2,  34.4915,2,    155.5,2,    155.8,2,    65.40,2,    34.49,2,     0.00,2,     2.41,2,     -999,9,     -999,9,     -999,9,   2247.2,2,   2331.7,2,   7.5640,2,    24.99,2,     -999,9,   3.7830,2,     -999,9,     -999,9,     -999,9,     -999,9,     -999,9,   4.9740,1,   0.0114,1,     -999,9,     -999,9,     -999,9,     -999,9,     -999,9,20230730,1723, -31.9987, 102.9903,-999          ,9,-999          ,9
33RR20230722  ,I05        ,31      ,  1,16         ,16         ,2,20230730,1555, -31.9987, 102.9903,     5251,   1361.1,2,   3.4219,2,  34.5279,2,  34.5268,2,    153.2,2,    153.4,2,    71.74,2,    34.96,2,     0.00,2,     2.45,2,    0.358,2,    0.181,2,   0.0200,2,   2256.8,2,   2335.3,2,   7.5594,6,    24.99,2,     -999,9,   3.4216,2,     -999,9,     -999,9,     -999,9,     -999,9,     -999,9,   4.9745,1,   0.0112,1,     24.2,2,     -999,9,     -999,9,     -999,9,     -999,9,20230730,1719, -31.9988, 102.9903,-999          ,9,-999          ,9
33RR20230722  ,I05        ,31      ,  1,15         ,15         ,2,20230730,1555, -31.9987, 102.9903,     5251,   1534.4,2,   3.1361,2,  34.5912,2,  34.5901,2,    149.3,2,    149.1,2,    81.59,2,    34.99,2,     0.00,2,     2.45,2,    0.088,2,    0.067,2,  -0.0100,2,   2267.6,2,   2346.8,6,   7.5590,2,    24.99,2,     -999,9,   3.1352,2,     -999,9,     -999,9,     -999,9,     -999,9,     -999,9,   4.9750,1,   0.0113,1,     24.2,2,     -999,9,     -999,9,     -999,9,     -999,9,20230730,1715, -31.9988, 102.9903,-999          ,9,-999          ,9
33RR20230722  ,I05        ,31      ,  1,14         ,14         ,2,20230730,1555, -31.9987, 102.9903,     5251,   1680.1,2,   2.9569,2,  34.6396,2,  34.6382,2,    148.3,2,    147.9,2,    91.45,2,    34.79,2,     0.00,2,     2.46,2,     -999,9,     -999,9,     -999,9,   -999.0,9,     -999,9,     -999,9,     -999,9,     -999,9,   2.9567,2,     -999,9,     -999,9,     -999,9,     -999,9,     -999,9,   4.9757,1,   0.0111,1,     -999,9,     -999,9,     -999,9,     -999,9,     -999,9,20230730,1712, -31.9988, 102.9903,-999          ,9,-999          ,9
33RR20230722  ,I05        ,31      ,  1,13         ,13         ,2,20230730,1555, -31.9987, 102.9903,     5251,   1797.2,2,   2.7902,2,  34.6666,2,  34.6655,2,    150.6,2,    150.1,2,    94.37,2,    34.60,2,     0.00,2,     2.42,2,    0.005,2,    0.009,2,   0.0200,2,   2275.7,2,   2362.3,2,   7.5689,2,    24.98,2,     -999,9,   2.7945,2,     -999,9,     -999,9,     -999,9,     -999,9,     -999,9,   4.8819,1,   0.0111,1,     23.6,2,     -999,9,     -999,9,     -999,9,     -999,9,20230730,1709, -31.9988, 102.9903,-999          ,9,-999          ,9
33RR20230722  ,I05        ,31      ,  1,12         ,12         ,2,20230730,1555, -31.9987, 102.9903,     5251,   1942.5,2,   2.5809,2,  34.6911,2,  34.6910,2,    155.3,2,    155.2,2,    99.15,2,    33.91,2,     0.00,2,     2.42,2,    0.004,2,    0.008,2,   0.0000,2,   -999.0,9,     -999,9,     -999,9,     -999,9,     -999,9,   2.5811,2,     -999,9,     -999,9,     -999,9,     -999,9,     -999,9,   4.8088,1,   0.0111,1,     22.9,2,     -999,9,     -999,9,     -999,9,     -999,9,20230730,1705, -31.9987, 102.9903,-999          ,9,-999          ,9
33RR20230722  ,I05        ,31      ,  1,11         ,11         ,2,20230730,1555, -31.9987, 102.9903,     5251,   2084.4,2,   2.4474,2,  34.7043,2,  34.7048,2,    158.1,2,    157.8,2,   103.25,2,    33.94,2,     0.00,2,     2.38,2,     -999,9,     -999,9,     -999,9,   2281.0,2,   2370.1,2,   7.5826,6,    24.99,2,     -999,9,   2.4471,2,     -999,9,     -999,9,     -999,9,     -999,9,     -999,9,   4.9758,1,   0.0124,1,     -999,9,     -999,9,     -999,9,     -999,9,     -999,9,20230730,1701, -31.9987, 102.9903,-999          ,9,-999          ,9
33RR20230722  ,I05        ,31      ,  1,10         ,10         ,2,20230730,1555, -31.9987, 102.9903,     5251,   2244.9,2,   2.2768,2,  34.7154,2,  34.7150,2,    162.1,2,    162.2,2,   106.08,2,    33.40,2,     0.00,2,     2.35,2,    0.003,2,    0.003,2,   0.0700,2,   -999.0,9,     -999,9,     -999,9,     -999,9,     -999,9,   2.2763,2,     -999,9,     -999,9,     -999,9,     -999,9,     -999,9,   4.9453,1,   0.0112,1,     22.2,2,     -999,9,     -999,9,     -999,9,     -999,9,20230730,1657, -31.9987, 102.9902,-999          ,9,-999          ,9
33RR20230722  ,I05        ,31      ,  1,9          ,9          ,2,20230730,1555, -31.9987, 102.9903,     5251,   2611.0,2,   1.9688,2,  34.7262,2,  34.7260,2,    173.9,2,    173.8,2,   109.79,2,    32.81,2,     0.00,2,     2.30,2,    0.003,2,    0.007,2,   0.0900,2,   2278.1,2,   2374.8,2,   7.6032,2,    24.98,2,     -999,9,   1.9690,2,     -999,9,     -999,9,     -999,9,     -999,9,     -999,9,   4.9561,1,   0.0113,1,     20.9,2,     -999,9,     -999,9,     -999,9,     -999,9,20230730,1650, -31.9987, 102.9902,-999          ,9,-999          ,9
33RR20230722  ,I05        ,31      ,  1,8          ,8          ,2,20230730,1555, -31.9987, 102.9903,     5251,   2992.0,2,   1.6698,2,  34.7288,2,  34.7282,2,    184.5,2,    184.7,2,   111.54,2,    32.25,2,     0.00,2,     2.26,2,    0.004,2,    0.007,2,   0.0000,2,   -999.0,9,     -999,9,     -999,9,     -999,9,     -999,9,   1.6690,2,     -999,9,     -999,9,     -999,9,     -999,9,     -999,9,   4.9733,1,   0.0117,1,     19.7,2,     -999,9,     -999,9,     -999,9,     -999,9,20230730,1642, -31.9987, 102.9902,-999          ,9,-999          ,9
33RR20230722  ,I05        ,31      ,  1,7          ,7          ,2,20230730,1555, -31.9987, 102.9903,     5251,   3395.4,2,   1.4243,2,  34.7253,2,  34.7250,2,    193.3,2,    193.5,2,   112.23,2,    31.83,2,     0.00,2,     2.23,2,    0.006,2,    0.013,2,   0.0000,2,   2269.1,2,   2370.5,2,   7.6185,2,    24.98,2,     -999,9,   1.4242,2,     -999,9,     -999,9,     -999,9,     -999,9,     -999,9,   4.9760,1,   0.0112,1,     19.3,2,     -999,9,     -999,9,     -999,9,     -999,9,20230730,1635, -31.9988, 102.9902,-999          ,9,-999          ,9
33RR20230722  ,I05        ,31      ,  1,6          ,6          ,2,20230730,1555, -31.9987, 102.9903,     5251,   3778.4,2,   1.2512,2,  34.7216,2,  34.7215,2,    202.5,2,    202.8,2,   113.50,2,    31.58,2,     0.00,2,     2.22,2,     -999,9,     -999,9,     -999,9,   -999.0,9,     -999,9,     -999,9,     -999,9,     -999,9,   1.2512,2,     -999,9,     -999,9,     -999,9,     -999,9,     -999,9,   4.9305,1,   0.0111,1,     -999,9,     -999,9,     -999,9,     -999,9,     -999,9,20230730,1627, -31.9987, 102.9902,-999          ,9,-999          ,9
33RR20230722  ,I05        ,31      ,  1,5          ,5          ,2,20230730,1555, -31.9987, 102.9903,     5251,   4021.4,2,   1.1747,2,  34.7175,2,  34.7178,2,    203.7,2,    203.9,2,   116.52,2,    31.73,2,     0.00,2,     2.21,2,    0.056,4,    0.041,4,   0.0100,4,   2263.2,2,   2369.4,2,   7.6226,2,    24.99,2,     -999,9,   1.1748,2,     -999,9,     -999,9,     -999,9,     -999,9,     -999,9,   4.9764,1,   0.0112,1,     17.9,4,     -999,9,     -999,9,     -999,9,     -999,9,20230730,1622, -31.9987, 102.9902,-999          ,9,-999          ,9
33RR20230722  ,I05        ,31      ,  1,4          ,37         ,2,20230730,1555, -31.9987, 102.9903,     5251,   4372.7,2,   1.0863,2,  34.7119,2,  34.7121,2,    205.3,2,    205.3,2,   119.16,2,    31.87,2,     0.00,2,     2.21,2,    0.075,2,    0.051,2,   0.0600,2,   -999.0,9,     -999,9,     -999,9,     -999,9,     -999,9,   1.0864,2,     -999,9,     -999,9,     -999,9,     -999,9,     -999,9,   4.8687,1,   0.0111,1,     18.9,2,     -999,9,     -999,9,     -999,9,     -999,9,20230730,1615, -31.9988, 102.9902,-999          ,9,-999          ,9
33RR20230722  ,I05        ,31      ,  1,3          ,3          ,2,20230730,1555, -31.9987, 102.9903,     5251,   4685.0,2,   1.0565,2,  34.7088,2,  34.7083,2,    206.2,2,    206.3,2,   121.40,2,    31.79,2,     0.00,2,     2.23,2,    0.109,2,    0.059,2,   0.0100,2,   2266.2,2,   2369.9,2,   7.6204,2,    24.99,2,     -999,9,   1.0566,2,     -999,9,     -999,9,     -999,9,     -999,9,     -999,9,   4.8796,1,   0.0111,1,     18.8,2,     -999,9,     -999,9,     -999,9,     -999,9,20230730,1608, -31.9987, 102.9902,-999          ,9,-999          ,9