BOTTLE,20240422CCHHYDRO
EXPOCODE,SECT_ID,STNNBR,CASTNO,SAMPNO,BTLNBR,BTLNBR_FLAG_W,DATE,TIME,LATITUDE,LONGITUDE,DEPTH,CTDPRS,CTDPRS_FLAG_W,CTDTMP,CTDTMP_FLAG_W,CTDSAL,CTDSAL_FLAG_W,SALNTY,SALNTY_FLAG_W,CTDOXY,CTDOXY_FLAG_W,OXYGEN,OXYGEN_FLAG_W,SILCAT,SILCAT_FLAG_W,NITRAT,NITRAT_FLAG_W,NITRIT,NITRIT_FLAG_W,PHSPHT,PHSPHT_FLAG_W,CFC-11,CFC-11_FLAG_W,CFC-12,CFC-12_FLAG_W,SF6,SF6_FLAG_W,TCARBN,TCARBN_FLAG_W,ALKALI,ALKALI_FLAG_W,PH_TOT,PH_TOT_FLAG_W,PH_TMP,PH_TMP_FLAG_W,DOC,DOC_FLAG_W,REFTMP,REFTMP_FLAG_W,POC,POC_FLAG_W,PON,PON_FLAG_W,POP,POP_FLAG_W,DOP,DOP_FLAG_W,DELO18,DELO18_FLAG_W,CTDFLUOR,CTDFLUOR_FLAG_W,CTDXMISS,CTDXMISS_FLAG_W,N2O,N2O_FLAG_W,D15N_NO3,D15N_NO3_FLAG_W,D15N_NO2+NO3,D15N_NO2+NO3_FLAG_W,D18O_NO2+NO3,D18O_NO2+NO3_FLAG_W,D18O_NO3,D18O_NO3_FLAG_W,BTL_DATE,BTL_TIME,BTL_LAT,BTL_LON,HPLC,HPLC_FLAG_W,DNA,DNA_FLAG_W
,,,,,,,,,,,METERS,DBAR,,ITS-90,,PSS-78,,PSS-78,,UMOL/KG,,UMOL/KG,,UMOL/KG,,UMOL/KG,,UMOL/KG,,UMOL/KG,,PMOL/KG,,PMOL/KG,,FMOL/KG,,UMOL/KG,,UMOL/KG,,,,DEG C,,UMOL/KG,,ITS-90,,UG/KG,,UG/KG,,UG/L,,UMOL/KG,,/MILLE,,VOLTS,,VOLTS,,NMOL/KG,,/MILLE,,/MILLE,,/MILLE,,/MILLE,,,,,,,,,
33RR20230722  ,I05        ,43      ,  1,36         ,36         ,2,20230802,2330, -33.2564,  99.7368,     4541,      5.4,2,  14.9017,2,  35.5829,2,  35.5825,2,    246.7,2,    246.3,2,     1.07,2,     1.37,2,     0.08,2,     0.26,2,    2.546,2,    1.471,2,   2.4700,2,   2107.8,2,   2339.8,2,   7.9194,2,    24.96,2,     -999,9,  14.9005,2,     -999,9,     -999,9,     -999,9,     -999,9,     -999,9,   4.9746,1,   0.0307,1,      8.6,2,     -999,9,     -999,9,     -999,9,     -999,9,20230803,0125, -33.2564,  99.7368,-999          ,9,-999          ,9
33RR20230722  ,I05        ,43      ,  1,35         ,35         ,2,20230802,2330, -33.2564,  99.7368,     4541,     19.3,2,  14.9007,2,  35.5831,2,  35.5829,2,    246.5,2,    246.4,2,     1.07,2,     1.32,2,     0.09,2,     0.26,2,     -999,9,     -999,9,     -999,9,   2107.4,6,   2340.9,2,   7.9198,2,    24.96,2,     -999,9,  14.8994,2,     -999,9,     -999,9,     -999,9,     -999,9,     -999,9,   4.9744,1,   0.0321,1,     -999,9,     -999,9,     -999,9,     -999,9,     -999,9,20230803,0124, -33.2565,  99.7368,-999          ,9,-999          ,9
33RR20230722  ,I05        ,43      ,  1,34         ,34         ,2,20230802,2330, -33.2564,  99.7368,     4541,     35.6,2,  14.8999,2,  35.5830,2,  35.5845,2,    246.4,2,    246.5,2,     1.07,2,     1.33,2,     0.09,2,     0.25,2,    2.556,6,    1.466,6,   2.4700,6,   -999.0,9,     -999,9,     -999,9,     -999,9,     -999,9,  14.8991,2,     -999,9,     -999,9,     -999,9,     -999,9,     -999,9,   4.9745,1,   0.0367,1,      8.6,6,     -999,9,     -999,9,     -999,9,     -999,9,20230803,0122, -33.2565,  99.7368,-999          ,9,-999          ,9
33RR20230722  ,I05        ,43      ,  1,33         ,33         ,2,20230802,2330, -33.2564,  99.7368,     4541,     57.3,2,  14.8989,2,  35.5808,2,  35.5811,2,    246.2,2,    246.6,2,     1.07,2,     1.37,2,     0.08,2,     0.24,2,     -999,9,     -999,9,     -999,9,   2107.7,2,   2340.0,2,   7.9199,2,    24.97,2,     -999,9,  14.8976,2,     -999,9,     -999,9,     -999,9,     -999,9,     -999,9,   4.3715,1,   0.0349,1,     -999,9,     -999,9,     -999,9,     -999,9,     -999,9,20230803,0121, -33.2565,  99.7368,-999          ,9,-999          ,9
33RR20230722  ,I05        ,43      ,  1,32         ,32         ,2,20230802,2330, -33.2564,  99.7368,     4541,     78.3,2,  14.9062,2,  35.5828,2,  35.5829,2,    246.2,2,    246.4,2,     1.07,2,     1.33,2,     0.09,2,     0.26,2,    2.515,2,    1.461,2,   2.4400,2,   -999.0,9,     -999,9,     -999,9,     -999,9,     -999,9,  14.9060,2,     -999,9,     -999,9,     -999,9,     -999,9,     -999,9,   4.8712,1,   0.0342,1,      8.8,2,     -999,9,     -999,9,     -999,9,     -999,9,20230803,0119, -33.2565,  99.7368,-999          ,9,-999          ,9
33RR20230722  ,I05        ,43      ,  1,31         ,31         ,2,20230802,2330, -33.2564,  99.7368,     4541,    109.1,2,  14.9107,2,  35.5822,2,  35.5839,2,    246.0,2,    245.7,2,     0.98,2,     1.32,2,     0.08,2,     0.24,2,     -999,9,     -999,9,     -999,9,   2106.8,2,   2341.3,2,   7.9193,2,    24.96,2,     -999,9,  14.9100,2,     -999,9,     -999,9,     -999,9,     -999,9,     -999,9,   4.9737,1,   0.0346,1,     -999,9,     -999,9,     -999,9,     -999,9,     -999,9,20230803,0117, -33.2565,  99.7368,-999          ,9,-999          ,9
33RR20230722  ,I05        ,43      ,  1,30         ,30         ,2,20230802,2330, -33.2564,  99.7368,     4541,    128.0,2,  14.9234,2,  35.5855,2,  35.5847,2,    245.7,2,    246.4,2,     1.07,2,     1.28,2,     0.09,2,     0.25,2,    2.547,2,    1.472,2,   2.4900,2,   2107.2,2,   2340.8,6,   7.9194,6,    24.97,2,     -999,9,  14.9220,2,     -999,9,     -999,9,     -999,9,     -999,9,     -999,9,   4.9736,1,   0.0371,1,      8.8,2,     -999,9,     -999,9,     -999,9,     -999,9,20230803,0115, -33.2565,  99.7368,-999          ,9,-999          ,9
33RR20230722  ,I05        ,43      ,  1,29         ,29         ,2,20230802,2330, -33.2564,  99.7368,     4541,    149.6,2,  14.5963,2,  35.5225,2,  35.5141,2,    241.8,2,    243.4,2,     1.17,2,     2.37,2,     0.08,2,     0.32,2,     -999,9,     -999,9,     -999,9,   2112.9,2,   2335.2,2,   7.9034,2,    24.94,2,     -999,9,  14.6121,2,     -999,9,     -999,9,     -999,9,     -999,9,     -999,9,   4.9724,1,   0.0288,1,     -999,9,     -999,9,     -999,9,     -999,9,     -999,9,20230803,0114, -33.2565,  99.7368,-999          ,9,-999          ,9
33RR20230722  ,I05        ,43      ,  1,28         ,28         ,2,20230802,2330, -33.2564,  99.7368,     4541,    168.3,2,  13.2377,2,  35.2807,2,  35.2639,2,    235.6,2,    237.0,2,     1.66,2,     6.03,2,     0.01,2,     0.55,2,    2.640,2,    1.621,2,   2.5400,2,   2123.2,2,   2321.6,2,   7.8452,2,    25.00,2,     -999,9,  13.2255,2,     -999,9,     -999,9,     -999,9,     -999,9,     -999,9,   4.9698,1,   0.0133,1,     10.5,2,     -999,9,     -999,9,     -999,9,     -999,9,20230803,0113, -33.2565,  99.7368,-999          ,9,-999          ,9
33RR20230722  ,I05        ,43      ,  1,27         ,27         ,2,20230802,2330, -33.2564,  99.7368,     4541,    191.3,2,  12.5830,2,  35.1693,2,  35.1624,2,    238.4,2,    239.0,2,     1.76,2,     7.10,2,     0.00,2,     0.61,2,     -999,9,     -999,9,     -999,9,   2126.5,2,   2314.8,2,   7.8370,2,    24.95,2,     -999,9,  12.5892,2,     -999,9,     -999,9,     -999,9,     -999,9,     -999,9,   4.9696,1,   0.0116,1,     -999,9,     -999,9,     -999,9,     -999,9,     -999,9,20230803,0111, -33.2565,  99.7368,-999          ,9,-999          ,9
33RR20230722  ,I05        ,43      ,  1,26         ,26         ,2,20230802,2330, -33.2564,  99.7368,     4541,    229.7,2,  12.1304,2,  35.0931,2,  35.0911,2,    243.5,2,    243.2,2,     1.95,2,     7.99,2,     0.00,2,     0.64,2,    2.768,2,    1.699,2,   2.6700,2,   -999.0,9,     -999,9,     -999,9,     -999,9,     -999,9,  12.1285,2,     -999,9,     -999,9,     -999,9,     -999,9,     -999,9,   4.9696,1,   0.0116,1,     11.4,2,     -999,9,     -999,9,     -999,9,     -999,9,20230803,0110, -33.2565,  99.7368,-999          ,9,-999          ,9
33RR20230722  ,I05        ,43      ,  1,25         ,25         ,2,20230802,2330, -33.2564,  99.7368,     4541,    271.1,2,  11.7873,2,  35.0357,2,  35.0368,2,    246.7,2,    245.9,2,     2.24,2,     8.76,2,     0.00,2,     0.72,2,    2.752,2,    1.728,2,   2.6400,2,   2127.6,2,   2308.8,2,   7.8212,2,    24.93,2,     -999,9,  11.7621,2,     -999,9,     -999,9,     -999,9,     -999,9,     -999,9,   4.8284,1,   0.0115,1,     11.2,2,     -999,9,     -999,9,     -999,9,     -999,9,20230803,0108, -33.2565,  99.7368,-999          ,9,-999          ,9
33RR20230722  ,I05        ,43      ,  1,24         ,24         ,2,20230802,2330, -33.2564,  99.7368,     4541,    314.8,2,  11.3881,2,  34.9675,2,  34.9689,2,    248.0,2,    247.2,2,     2.34,2,     9.74,2,     0.00,2,     0.77,2,     -999,9,     -999,9,     -999,9,   2129.0,2,   2305.0,2,   7.8121,6,    24.94,2,     -999,9,  11.3963,2,     -999,9,     -999,9,     -999,9,     -999,9,     -999,9,   4.9693,1,   0.0116,1,     -999,9,     -999,9,     -999,9,     -999,9,     -999,9,20230803,0106, -33.2565,  99.7368,-999          ,9,-999          ,9
33RR20230722  ,I05        ,43      ,  1,23         ,23         ,2,20230802,2330, -33.2564,  99.7368,     4541,    380.3,2,  10.8840,2,  34.8802,2,  34.8776,2,    248.8,2,    247.8,2,     2.83,2,    11.14,2,     0.00,2,     0.85,2,    2.878,2,    1.795,2,   2.6900,2,   2131.0,2,   2301.0,2,   7.8003,2,    24.95,2,     -999,9,  10.8828,2,     -999,9,     -999,9,     -999,9,     -999,9,     -999,9,   4.8222,1,   0.0110,1,     11.8,2,     -999,9,     -999,9,     -999,9,     -999,9,20230803,0104, -33.2565,  99.7368,-999          ,9,-999          ,9
33RR20230722  ,I05        ,43      ,  1,22         ,22         ,2,20230802,2330, -33.2564,  99.7368,     4541,    449.9,2,  10.3283,2,  34.7898,2,  34.7891,2,    243.4,2,    242.5,2,     3.22,2,    13.10,2,     0.00,2,     0.97,2,    2.991,2,    1.852,2,   2.4800,2,   2130.7,2,   2294.2,2,   7.7793,2,    24.95,2,     -999,9,  10.3291,2,     -999,9,     -999,9,     -999,9,     -999,9,     -999,9,   4.9629,1,   0.0118,1,     12.5,2,     -999,9,     -999,9,     -999,9,     -999,9,20230803,0102, -33.2565,  99.7368,-999          ,9,-999          ,9
33RR20230722  ,I05        ,43      ,  1,21         ,21         ,2,20230802,2330, -33.2564,  99.7368,     4541,    531.6,2,   9.9407,2,  34.7470,2,  34.7451,2,    237.5,2,    237.1,2,     4.00,2,    14.78,2,     0.00,2,     1.08,2,     -999,9,     -999,9,     -999,9,   2139.9,2,   2294.3,6,   7.7617,2,    24.96,2,     -999,9,   9.9435,2,     -999,9,     -999,9,     -999,9,     -999,9,     -999,9,   4.9041,1,   0.0116,1,     -999,9,     -999,9,     -999,9,     -999,9,     -999,9,20230803,0100, -33.2564,  99.7368,-999          ,9,-999          ,9
33RR20230722  ,I05        ,43      ,  1,20         ,20         ,2,20230802,2330, -33.2564,  99.7368,     4541,    609.7,2,   9.5730,2,  34.7034,2,  34.7022,2,    236.0,2,    235.7,2,     4.39,2,    16.08,2,     0.00,2,     1.16,2,    3.122,2,    1.929,2,   2.2700,2,   -999.0,9,     -999,9,     -999,9,     -999,9,     -999,9,   9.5700,2,     -999,9,     -999,9,     -999,9,     -999,9,     -999,9,   4.9666,1,   0.0115,1,     13.4,2,     -999,9,     -999,9,     -999,9,     -999,9,20230803,0057, -33.2564,  99.7368,-999          ,9,-999          ,9
33RR20230722  ,I05        ,43      ,  1,19         ,19         ,2,20230802,2330, -33.2564,  99.7368,     4541,    706.0,2,   9.0119,2,  34.6351,2,  34.6343,2,    230.7,2,    230.9,2,     5.66,2,    18.05,2,     0.00,2,     1.28,2,    3.103,2,    1.908,2,   1.9500,2,   2147.7,2,   2288.2,2,   7.7341,2,    24.96,2,     -999,9,   9.0111,2,     -999,9,     -999,9,     -999,9,     -999,9,     -999,9,   4.8169,1,   0.0113,1,     13.7,2,     -999,9,     -999,9,     -999,9,     -999,9,20230803,0055, -33.2565,  99.7368,-999          ,9,-999          ,9
33RR20230722  ,I05        ,43      ,  1,18         ,18         ,2,20230802,2330, -33.2564,  99.7368,     4541,    808.8,2,   7.8946,2,  34.5290,2,  34.5290,2,    209.0,2,    210.4,2,    11.13,2,    22.60,2,     0.00,2,     1.57,2,     -999,9,     -999,9,     -999,9,   2162.4,2,   2284.9,2,   7.6917,2,    24.96,2,     -999,9,   7.9155,2,     -999,9,     -999,9,     -999,9,     -999,9,     -999,9,   4.9681,1,   0.0113,1,     -999,9,     -999,9,     -999,9,     -999,9,     -999,9,20230803,0052, -33.2565,  99.7368,-999          ,9,-999          ,9
33RR20230722  ,I05        ,43      ,  1,17         ,17         ,2,20230802,2330, -33.2564,  99.7368,     4541,    910.4,2,   6.3189,2,  34.4197,2,  34.4186,2,    197.1,2,    198.6,2,    20.30,2,    27.32,2,     0.00,2,     1.88,2,    2.413,2,    1.345,2,   0.9100,2,   2182.0,2,   2289.0,2,   7.6438,2,    24.96,2,     -999,9,   6.3279,2,     -999,9,     -999,9,     -999,9,     -999,9,     -999,9,   4.9696,1,   0.0111,1,     18.4,2,     -999,9,     -999,9,     -999,9,     -999,9,20230803,0049, -33.2565,  99.7368,-999          ,9,-999          ,9
33RR20230722  ,I05        ,43      ,  1,16         ,16         ,2,20230802,2330, -33.2564,  99.7368,     4541,   1023.7,2,   4.8026,2,  34.3657,2,  34.3651,2,    194.1,2,    194.4,2,    32.89,2,    30.94,2,     0.00,2,     2.15,2,    1.928,2,    1.046,2,   0.5200,2,   -999.0,9,     -999,9,     -999,9,     -999,9,     -999,9,   4.8041,2,     -999,9,     -999,9,     -999,9,     -999,9,     -999,9,   4.8892,1,   0.0112,1,     20.2,2,     -999,9,     -999,9,     -999,9,     -999,9,20230803,0046, -33.2565,  99.7368,-999          ,9,-999          ,9
33RR20230722  ,I05        ,43      ,  1,15         ,15         ,2,20230802,2330, -33.2564,  99.7368,     4541,   1138.6,2,   4.1683,2,  34.3944,2,  34.3941,2,    182.7,2,    182.9,2,    44.70,2,    32.65,2,     0.00,2,     2.29,2,    1.407,2,    0.740,2,   0.4300,2,   2220.4,2,   2305.2,2,   7.5913,2,    24.96,2,     -999,9,   4.1671,2,     -999,9,     -999,9,     -999,9,     -999,9,     -999,9,   4.9721,1,   0.0112,1,     21.3,2,     -999,9,     -999,9,     -999,9,     -999,9,20230803,0043, -33.2565,  99.7368,-999          ,9,-999          ,9
33RR20230722  ,I05        ,43      ,  1,14         ,14         ,2,20230802,2330, -33.2564,  99.7368,     4541,   1258.0,2,   3.7021,2,  34.4664,2,  34.4661,2,    164.1,2,    164.0,2,    60.41,2,    34.46,2,     0.00,2,     2.43,2,     -999,9,     -999,9,     -999,9,   2242.7,2,   2325.0,2,   7.5696,6,    24.96,2,     -999,9,   3.7012,2,     -999,9,     -999,9,     -999,9,     -999,9,     -999,9,   4.9383,1,   0.0112,1,     -999,9,     -999,9,     -999,9,     -999,9,     -999,9,20230803,0040, -33.2565,  99.7368,-999          ,9,-999          ,9
33RR20230722  ,I05        ,43      ,  1,13         ,13         ,2,20230802,2330, -33.2564,  99.7368,     4541,   1379.6,2,   3.4596,2,  34.5185,2,  34.5170,2,    155.4,2,    155.1,2,    69.88,2,    35.00,2,     0.00,2,     2.48,2,    0.396,2,    0.203,2,   0.1400,2,   2256.3,2,   2334.7,6,   7.5607,2,    24.96,2,     -999,9,   3.4605,2,     -999,9,     -999,9,     -999,9,     -999,9,     -999,9,   4.8808,1,   0.0119,1,     24.1,2,     -999,9,     -999,9,     -999,9,     -999,9,20230803,0037, -33.2565,  99.7368,-999          ,9,-999          ,9
33RR20230722  ,I05        ,43      ,  1,12         ,12         ,2,20230802,2330, -33.2564,  99.7368,     4541,   1499.6,2,   3.2128,2,  34.5672,2,  34.5673,2,    152.1,2,    151.9,2,    77.29,2,    35.19,2,     0.00,2,     2.50,2,    0.199,2,    0.107,2,   0.1100,2,   2265.1,6,   2341.7,2,   7.5597,2,    24.97,2,     -999,9,   3.2116,2,     -999,9,     -999,9,     -999,9,     -999,9,     -999,9,   4.9749,1,   0.0118,1,     24.0,2,     -999,9,     -999,9,     -999,9,     -999,9,20230803,0034, -33.2565,  99.7368,-999          ,9,-999          ,9
33RR20230722  ,I05        ,43      ,  1,11         ,11         ,2,20230802,2330, -33.2564,  99.7368,     4541,   1638.4,2,   2.9629,2,  34.6107,2,  34.6081,2,    154.5,2,    154.3,2,    81.78,2,    34.71,2,     0.00,2,     2.46,2,     -999,9,     -999,9,     -999,9,   2268.6,2,   2346.6,2,   7.5635,6,    24.96,2,     -999,9,   2.9665,2,     -999,9,     -999,9,     -999,9,     -999,9,     -999,9,   4.9151,1,   0.0112,1,     -999,9,     -999,9,     -999,9,     -999,9,     -999,9,20230803,0030, -33.2564,  99.7368,-999          ,9,-999          ,9
33RR20230722  ,I05        ,43      ,  1,10         ,10         ,2,20230802,2330, -33.2564,  99.7368,     4541,   1876.8,2,   2.6565,2,  34.6668,2,  34.6661,2,    161.6,2,    161.4,2,    87.82,2,    33.82,2,     0.00,2,     2.38,2,    0.047,2,    0.037,2,   0.0300,2,   -999.0,9,     -999,9,     -999,9,     -999,9,     -999,9,   2.6563,2,     -999,9,     -999,9,     -999,9,     -999,9,     -999,9,   4.9753,1,   0.0114,1,     22.6,2,     -999,9,     -999,9,     -999,9,     -999,9,20230803,0025, -33.2565,  99.7368,-999          ,9,-999          ,9
33RR20230722  ,I05        ,43      ,  1,9          ,9          ,2,20230802,2330, -33.2564,  99.7368,     4541,   2101.1,2,   2.4271,2,  34.7006,2,  34.6997,2,    170.4,2,    170.3,2,    89.77,2,    32.86,2,     0.00,2,     2.33,2,    0.040,2,    0.032,2,  -0.0100,2,   2265.3,2,   2353.6,2,   7.5909,2,    24.96,2,     -999,9,   2.4269,2,     -999,9,     -999,9,     -999,9,     -999,9,     -999,9,   4.9311,1,   0.0111,1,     21.6,2,     -999,9,     -999,9,     -999,9,     -999,9,20230803,0020, -33.2565,  99.7368,-999          ,9,-999          ,9
33RR20230722  ,I05        ,43      ,  1,8          ,8          ,2,20230802,2330, -33.2564,  99.7368,     4541,   2407.7,2,   2.1320,2,  34.7300,2,  34.7298,2,    183.9,2,    184.3,2,    90.85,2,    31.71,2,     0.00,2,     2.21,2,     -999,9,     -999,9,     -999,9,   -999.0,9,     -999,9,     -999,9,     -999,9,     -999,9,   2.1321,2,     -999,9,     -999,9,     -999,9,     -999,9,     -999,9,   4.9748,1,   0.0113,1,     -999,9,     -999,9,     -999,9,     -999,9,     -999,9,20230803,0014, -33.2565,  99.7368,-999          ,9,-999          ,9
33RR20230722  ,I05        ,43      ,  1,7          ,7          ,2,20230802,2330, -33.2564,  99.7368,     4541,   2705.7,2,   1.8406,2,  34.7389,2,  34.7382,2,    192.2,2,    192.6,2,    95.72,2,    31.25,2,     0.00,2,     2.18,2,    0.010,2,    0.023,2,  -0.0100,2,   2256.6,2,   2356.9,2,   7.6153,2,    24.95,2,     -999,9,   1.8416,2,     -999,9,     -999,9,     -999,9,     -999,9,     -999,9,   4.9752,1,   0.0115,1,     19.4,2,     -999,9,     -999,9,     -999,9,     -999,9,20230803,0008, -33.2565,  99.7368,-999          ,9,-999          ,9
33RR20230722  ,I05        ,43      ,  1,6          ,6          ,2,20230802,2330, -33.2564,  99.7368,     4541,   3046.9,2,   1.5530,2,  34.7344,2,  34.7337,2,    197.6,2,    197.9,2,   102.85,2,    31.38,2,     0.00,2,     2.20,2,    0.036,2,    0.029,2,   0.0900,2,   -999.0,9,     -999,9,     -999,9,     -999,9,     -999,9,   1.5525,2,     -999,9,     -999,9,     -999,9,     -999,9,     -999,9,   4.9318,1,   0.0112,1,     19.4,2,     -999,9,     -999,9,     -999,9,     -999,9,20230803,0001, -33.2565,  99.7368,-999          ,9,-999          ,9
33RR20230722  ,I05        ,43      ,  1,5          ,5          ,2,20230802,2330, -33.2564,  99.7368,     4541,   3449.5,2,   1.2915,2,  34.7245,2,  34.7243,2,    201.4,2,    201.6,2,   111.34,2,    31.73,2,     0.00,2,     2.21,2,    0.048,2,    0.033,2,  -0.0100,2,   2262.3,2,   2364.0,2,   7.6194,2,    24.97,2,     -999,9,   1.2906,2,     -999,9,     -999,9,     -999,9,     -999,9,     -999,9,   4.9759,1,   0.0113,1,     19.0,2,     -999,9,     -999,9,     -999,9,     -999,9,20230802,2354, -33.2565,  99.7368,-999          ,9,-999          ,9
33RR20230722  ,I05        ,43      ,  1,4          ,37         ,2,20230802,2330, -33.2564,  99.7368,     4541,   3815.9,2,   1.1577,2,  34.7180,2,  34.7174,2,    203.6,2,    203.7,2,   115.34,2,    32.02,2,     0.00,2,     2.23,2,    0.058,2,    0.048,2,   0.0400,2,   2264.1,2,   2366.2,6,   7.6199,2,    24.95,2,     -999,9,   1.1579,2,     -999,9,     -999,9,     -999,9,     -999,9,     -999,9,   4.9758,1,   0.0112,1,     18.8,2,     -999,9,     -999,9,     -999,9,     -999,9,20230802,2346, -33.2565,  99.7368,-999          ,9,-999          ,9
33RR20230722  ,I05        ,43      ,  1,3          ,3          ,2,20230802,2330, -33.2564,  99.7368,     4541,   4283.4,2,   1.0772,2,  34.7122,2,  34.7119,2,    205.0,2,    205.2,2,   118.85,2,    32.05,2,     0.00,2,     2.25,2,    0.076,2,    0.051,2,   0.0500,2,   2270.5,2,   2372.3,2,   7.6219,2,    24.97,2,     -999,9,   1.0773,2,     -999,9,     -999,9,     -999,9,     -999,9,     -999,9,   4.7137,1,   0.0112,1,     18.6,2,     -999,9,     -999,9,     -999,9,     -999,9,20230802,2338, -33.2565,  99.7368,-999          ,9,-999          ,9