BOTTLE,20240422CCHHYDRO
EXPOCODE,SECT_ID,STNNBR,CASTNO,SAMPNO,BTLNBR,BTLNBR_FLAG_W,DATE,TIME,LATITUDE,LONGITUDE,DEPTH,CTDPRS,CTDPRS_FLAG_W,CTDTMP,CTDTMP_FLAG_W,CTDSAL,CTDSAL_FLAG_W,SALNTY,SALNTY_FLAG_W,CTDOXY,CTDOXY_FLAG_W,OXYGEN,OXYGEN_FLAG_W,SILCAT,SILCAT_FLAG_W,NITRAT,NITRAT_FLAG_W,NITRIT,NITRIT_FLAG_W,PHSPHT,PHSPHT_FLAG_W,CFC-11,CFC-11_FLAG_W,CFC-12,CFC-12_FLAG_W,SF6,SF6_FLAG_W,TCARBN,TCARBN_FLAG_W,ALKALI,ALKALI_FLAG_W,PH_TOT,PH_TOT_FLAG_W,PH_TMP,PH_TMP_FLAG_W,DOC,DOC_FLAG_W,REFTMP,REFTMP_FLAG_W,POC,POC_FLAG_W,PON,PON_FLAG_W,POP,POP_FLAG_W,DOP,DOP_FLAG_W,DELO18,DELO18_FLAG_W,CTDFLUOR,CTDFLUOR_FLAG_W,CTDXMISS,CTDXMISS_FLAG_W,N2O,N2O_FLAG_W,D15N_NO3,D15N_NO3_FLAG_W,D15N_NO2+NO3,D15N_NO2+NO3_FLAG_W,D18O_NO2+NO3,D18O_NO2+NO3_FLAG_W,D18O_NO3,D18O_NO3_FLAG_W,BTL_DATE,BTL_TIME,BTL_LAT,BTL_LON,HPLC,HPLC_FLAG_W,DNA,DNA_FLAG_W
,,,,,,,,,,,METERS,DBAR,,ITS-90,,PSS-78,,PSS-78,,UMOL/KG,,UMOL/KG,,UMOL/KG,,UMOL/KG,,UMOL/KG,,UMOL/KG,,PMOL/KG,,PMOL/KG,,FMOL/KG,,UMOL/KG,,UMOL/KG,,,,DEG C,,UMOL/KG,,ITS-90,,UG/KG,,UG/KG,,UG/L,,UMOL/KG,,/MILLE,,VOLTS,,VOLTS,,NMOL/KG,,/MILLE,,/MILLE,,/MILLE,,/MILLE,,,,,,,,,
33RR20230722  ,I05        ,62      ,  1,36         ,36         ,2,20230808,0023, -31.9980,  89.7601,     3712,      4.3,2,  17.3881,2,  35.8470,2,  35.8481,2,    237.9,2,    237.1,2,     1.46,2,     0.06,2,     0.01,2,     0.15,2,    1.662,4,    1.325,2,   2.2100,2,   2095.4,2,   2353.9,2,   7.9646,2,    25.04,2,     -999,1,  17.3869,2,     -999,9,     -999,9,     -999,9,     -999,9,     -999,1,   4.7473,1,   0.0259,1,      8.0,2,     -999,9,     -999,9,     -999,9,     -999,9,20230808,0202, -31.9980,  89.7601,-999          ,9,-999          ,9
33RR20230722  ,I05        ,62      ,  1,35         ,35         ,2,20230808,0023, -31.9980,  89.7601,     3712,     31.5,2,  17.4057,2,  35.8508,2,  35.8526,2,    237.7,2,    237.4,2,     1.46,2,     0.02,2,     0.01,2,     0.15,2,     -999,9,     -999,9,     -999,9,   -999.0,9,     -999,9,     -999,9,     -999,9,     -999,1,  17.4044,2,     -999,9,     -999,9,     -999,9,     -999,9,     -999,1,   4.9749,1,   0.0282,1,     -999,9,     -999,9,     -999,9,     -999,9,     -999,9,20230808,0201, -31.9980,  89.7601,-999          ,9,-999          ,9
33RR20230722  ,I05        ,62      ,  1,34         ,34         ,2,20230808,0023, -31.9980,  89.7601,     3712,     49.2,2,  17.4128,2,  35.8528,2,  35.8528,2,    237.5,2,    237.1,2,     1.36,2,     0.01,2,     0.01,2,     0.15,2,     -999,9,     -999,9,     -999,9,   -999.0,9,     -999,9,     -999,9,     -999,9,     -999,1,  17.4104,2,     -999,9,     -999,9,     -999,9,     -999,9,     -999,1,   4.9746,1,   0.0282,1,     -999,9,     -999,9,     -999,9,     -999,9,     -999,9,20230808,0159, -31.9980,  89.7601,-999          ,9,-999          ,9
33RR20230722  ,I05        ,62      ,  1,33         ,33         ,2,20230808,0023, -31.9980,  89.7601,     3712,     72.1,2,  17.4178,2,  35.8530,2,  35.8538,2,    237.4,2,    237.1,2,     1.36,2,     0.00,2,     0.01,2,     0.14,2,     -999,9,     -999,9,     -999,9,   2095.1,2,   2354.8,2,   7.9639,2,    25.04,2,     -999,1,  17.4161,2,     -999,9,     -999,9,     -999,9,     -999,9,     -999,1,   4.9104,1,   0.0293,1,     -999,9,     -999,9,     -999,9,     -999,9,     -999,9,20230808,0157, -31.9980,  89.7601,-999          ,9,-999          ,9
33RR20230722  ,I05        ,62      ,  1,32         ,32         ,2,20230808,0023, -31.9980,  89.7601,     3712,     96.6,2,  17.4160,2,  35.8525,2,  35.8522,2,    236.9,2,    237.2,2,     1.36,2,     0.00,2,     0.01,2,     0.15,2,     -999,9,     -999,9,     -999,9,   -999.0,9,     -999,9,     -999,9,     -999,9,     -999,1,  17.4161,2,     -999,9,     -999,9,     -999,9,     -999,9,     -999,1,   4.6454,1,   0.0295,1,     -999,9,     -999,9,     -999,9,     -999,9,     -999,9,20230808,0155, -31.9980,  89.7601,-999          ,9,-999          ,9
33RR20230722  ,I05        ,62      ,  1,31         ,31         ,2,20230808,0023, -31.9980,  89.7601,     3712,    140.3,2,  15.4370,2,  35.5323,2,  35.5409,2,    238.1,2,    239.3,2,     1.37,2,     1.45,2,     0.20,2,     0.29,2,     -999,9,     -999,9,     -999,9,   2107.7,2,   2336.3,2,   7.9086,2,    25.03,2,     -999,1,  15.4024,2,     -999,9,     -999,9,     -999,9,     -999,9,     -999,1,   4.9722,1,   0.0316,1,     -999,9,     -999,9,     -999,9,     -999,9,     -999,9,20230808,0153, -31.9980,  89.7601,-999          ,9,-999          ,9
33RR20230722  ,I05        ,62      ,  1,30         ,30         ,2,20230808,0023, -31.9980,  89.7601,     3712,    156.3,2,  14.6533,2,  35.4503,2,  35.4399,2,    232.6,2,    234.3,2,     1.76,2,     3.25,2,     0.19,2,     0.40,2,    2.827,2,    1.531,2,   2.2400,2,   -999.0,9,     -999,9,     -999,9,     -999,9,     -999,1,  14.6469,2,     -999,9,     -999,9,     -999,9,     -999,9,     -999,1,   4.8761,1,   0.0226,1,      9.9,2,     -999,9,     -999,9,     -999,9,     -999,9,20230808,0152, -31.9980,  89.7601,-999          ,9,-999          ,9
33RR20230722  ,I05        ,62      ,  1,29         ,29         ,2,20230808,0023, -31.9980,  89.7601,     3712,    170.5,2,  14.1609,2,  35.3906,2,  35.3896,2,    234.0,2,    235.2,2,     1.66,2,     4.10,2,     0.15,2,     0.44,2,     -999,9,     -999,9,     -999,9,   2120.5,2,   2327.7,2,   7.8695,6,    25.02,2,     -999,1,  14.1325,2,     -999,9,     -999,9,     -999,9,     -999,9,     -999,1,   4.9705,1,   0.0223,1,     -999,9,     -999,9,     -999,9,     -999,9,     -999,9,20230808,0151, -31.9980,  89.7601,-999          ,9,-999          ,9
33RR20230722  ,I05        ,62      ,  1,28         ,28         ,2,20230808,0023, -31.9980,  89.7601,     3712,    219.6,2,  13.2096,2,  35.2526,2,  35.2589,2,    231.7,2,    232.2,2,     1.95,2,     6.40,2,     0.01,2,     0.56,2,     -999,9,     -999,9,     -999,9,   -999.0,9,     -999,9,     -999,9,     -999,9,     -999,1,  13.2134,2,     -999,9,     -999,9,     -999,9,     -999,9,     -999,1,   4.9691,1,   0.0134,1,     -999,9,     -999,9,     -999,9,     -999,9,     -999,9,20230808,0149, -31.9980,  89.7601,-999          ,9,-999          ,9
33RR20230722  ,I05        ,62      ,  1,27         ,27         ,2,20230808,0023, -31.9980,  89.7601,     3712,    255.5,2,  12.7160,2,  35.1739,2,  35.1699,2,    228.9,2,    229.9,2,     2.24,2,     7.97,2,     0.01,2,     0.65,2,     -999,9,     -999,9,     -999,9,   2127.0,2,   2314.8,2,   7.8277,2,    25.03,2,     -999,1,  12.7205,2,     -999,9,     -999,9,     -999,9,     -999,9,     -999,1,   4.9683,1,   0.0116,1,     -999,9,     -999,9,     -999,9,     -999,9,     -999,9,20230808,0147, -31.9980,  89.7601,-999          ,9,-999          ,9
33RR20230722  ,I05        ,62      ,  1,26         ,26         ,2,20230808,0023, -31.9980,  89.7601,     3712,    305.4,2,  12.0359,2,  35.0651,2,  35.0632,2,    232.2,2,    232.6,2,     2.73,2,     9.44,2,     0.00,2,     0.74,2,    2.992,2,    1.734,2,   2.1100,2,   -999.0,9,     -999,9,     -999,9,     -999,9,     -999,1,  12.0252,2,     -999,9,     -999,9,     -999,9,     -999,9,     -999,1,   4.8426,1,   0.0117,1,     11.7,2,     -999,9,     -999,9,     -999,9,     -999,9,20230808,0145, -31.9980,  89.7601,-999          ,9,-999          ,9
33RR20230722  ,I05        ,62      ,  1,25         ,25         ,2,20230808,0023, -31.9980,  89.7601,     3712,    361.2,2,  11.3902,2,  34.9646,2,  34.9660,2,    235.3,2,    235.1,2,     3.12,2,    10.98,2,     0.00,2,     0.84,2,     -999,9,     -999,9,     -999,9,   2132.0,2,   2305.2,2,   7.8013,2,    25.03,2,     -999,1,  11.3907,2,     -999,9,     -999,9,     -999,9,     -999,9,     -999,1,   4.9678,1,   0.0114,1,     -999,9,     -999,9,     -999,9,     -999,9,     -999,9,20230808,0143, -31.9981,  89.7601,-999          ,9,-999          ,9
33RR20230722  ,I05        ,62      ,  1,24         ,24         ,2,20230808,0023, -31.9980,  89.7601,     3712,    423.5,2,  10.9070,2,  34.8921,2,  34.8928,2,    237.0,2,    236.6,2,     3.51,2,    12.22,2,     0.00,2,     0.92,2,     -999,9,     -999,9,     -999,9,   -999.0,9,     -999,9,     -999,9,     -999,9,     -999,1,  10.9050,2,     -999,9,     -999,9,     -999,9,     -999,9,     -999,1,   4.7489,1,   0.0114,1,     -999,9,     -999,9,     -999,9,     -999,9,     -999,9,20230808,0141, -31.9981,  89.7601,-999          ,9,-999          ,9
33RR20230722  ,I05        ,62      ,  1,23         ,23         ,2,20230808,0023, -31.9980,  89.7601,     3712,    498.7,2,  10.4404,2,  34.8236,2,  34.8229,2,    237.5,2,    236.8,2,     3.90,2,    13.45,2,     0.00,2,     0.99,2,    3.015,2,    1.877,2,   2.2300,2,   2135.4,2,   2297.7,2,   7.7773,2,    25.02,2,     -999,1,  10.4346,2,     -999,9,     -999,9,     -999,9,     -999,9,     -999,1,   4.9670,1,   0.0110,1,     11.9,2,     -999,9,     -999,9,     -999,9,     -999,9,20230808,0139, -31.9980,  89.7601,-999          ,9,-999          ,9
33RR20230722  ,I05        ,62      ,  1,22         ,22         ,2,20230808,0023, -31.9980,  89.7601,     3712,    582.9,2,   9.8658,2,  34.7432,2,  34.7435,2,    234.7,2,    234.2,2,     4.59,2,    15.25,2,     0.00,2,     1.09,2,     -999,9,     -999,9,     -999,9,   -999.0,9,     -999,9,     -999,9,     -999,9,     -999,1,   9.8752,2,     -999,9,     -999,9,     -999,9,     -999,9,     -999,1,   4.6173,1,   0.0114,1,     -999,9,     -999,9,     -999,9,     -999,9,     -999,9,20230808,0136, -31.9980,  89.7601,-999          ,9,-999          ,9
33RR20230722  ,I05        ,62      ,  1,21         ,21         ,2,20230808,0023, -31.9980,  89.7601,     3712,    671.3,2,   9.3725,2,  34.6796,2,  34.6793,2,    230.7,2,    230.4,2,     5.46,2,    17.01,2,     0.00,2,     1.21,2,     -999,9,     -999,9,     -999,9,   2144.1,2,   2288.8,2,   7.7451,2,    25.02,2,     -999,1,   9.3755,2,     -999,9,     -999,9,     -999,9,     -999,9,     -999,1,   4.9066,1,   0.0115,1,     -999,9,     -999,9,     -999,9,     -999,9,     -999,9,20230808,0133, -31.9980,  89.7601,-999          ,9,-999          ,9
33RR20230722  ,I05        ,62      ,  1,20         ,20         ,2,20230808,0023, -31.9980,  89.7601,     3712,    778.8,2,   8.4051,2,  34.5758,2,  34.5751,2,    214.8,2,    215.0,2,     9.47,2,    20.92,2,     0.00,2,     1.46,2,    2.741,2,    1.769,2,   1.4200,2,   -999.0,9,     -999,9,     -999,9,     -999,9,     -999,1,   8.4005,2,     -999,9,     -999,9,     -999,9,     -999,9,     -999,1,   4.8808,1,   0.0113,1,     14.2,2,     -999,9,     -999,9,     -999,9,     -999,9,20230808,0131, -31.9980,  89.7601,-999          ,9,-999          ,9
33RR20230722  ,I05        ,62      ,  1,19         ,19         ,2,20230808,0023, -31.9980,  89.7601,     3712,    887.4,2,   6.9289,2,  34.4597,2,  34.4622,2,    200.8,2,    201.2,2,    16.98,2,    25.50,2,     0.00,2,     1.75,2,     -999,9,     -999,9,     -999,9,   2175.0,2,   2288.5,2,   7.6616,2,    25.02,2,     -999,1,   6.9390,2,     -999,9,     -999,9,     -999,9,     -999,9,     -999,1,   4.7742,1,   0.0112,1,     -999,9,     -999,9,     -999,9,     -999,9,     -999,9,20230808,0128, -31.9980,  89.7601,-999          ,9,-999          ,9
33RR20230722  ,I05        ,62      ,  1,18         ,18         ,2,20230808,0023, -31.9980,  89.7601,     3712,    948.2,2,   6.2033,2,  34.4159,2,  34.4122,2,    197.0,2,    197.7,2,    22.45,2,    27.59,2,     0.00,2,     1.91,2,    2.472,2,    1.300,2,   0.8000,2,   -999.0,9,     -999,9,     -999,9,     -999,9,     -999,1,   6.1891,2,     -999,9,     -999,9,     -999,9,     -999,9,     -999,1,   4.9698,1,   0.0114,1,     17.6,2,     -999,9,     -999,9,     -999,9,     -999,9,20230808,0126, -31.9980,  89.7601,-999          ,9,-999          ,9
33RR20230722  ,I05        ,62      ,  1,17         ,17         ,2,20230808,0023, -31.9980,  89.7601,     3712,   1032.4,2,   5.0526,2,  34.3873,2,  34.3870,2,    190.2,2,    190.5,2,    33.38,2,    30.36,2,     0.00,2,     2.11,2,     -999,9,     -999,9,     -999,9,   2203.6,2,   2298.3,2,   7.6133,2,    25.02,2,     -999,1,   5.0544,2,     -999,9,     -999,9,     -999,9,     -999,9,     -999,1,   4.7612,1,   0.0114,1,     -999,9,     -999,9,     -999,9,     -999,9,     -999,9,20230808,0124, -31.9980,  89.7601,-999          ,9,-999          ,9
33RR20230722  ,I05        ,62      ,  1,16         ,16         ,2,20230808,0023, -31.9980,  89.7601,     3712,   1133.6,2,   4.3185,2,  34.4060,2,  34.4065,2,    178.9,2,    179.6,2,    46.65,2,    32.39,2,     0.00,2,     2.24,2,    1.233,3,    0.707,2,   0.2800,2,   -999.0,9,     -999,9,     -999,9,     -999,9,     -999,1,   4.3186,2,     -999,9,     -999,9,     -999,9,     -999,9,     -999,1,   4.9721,1,   0.0112,1,     20.9,2,     -999,9,     -999,9,     -999,9,     -999,9,20230808,0121, -31.9980,  89.7601,-999          ,9,-999          ,9
33RR20230722  ,I05        ,62      ,  1,15         ,15         ,2,20230808,0023, -31.9980,  89.7601,     3712,   1210.3,2,   4.0062,2,  34.4337,2,  34.4345,2,    170.8,2,    171.1,2,    53.58,2,    33.35,2,     0.00,2,     2.34,2,     -999,9,     -999,9,     -999,9,   2234.6,2,   2318.2,2,   7.5782,2,    25.02,2,     -999,1,   3.9984,2,     -999,9,     -999,9,     -999,9,     -999,9,     -999,1,   4.8575,1,   0.0112,1,     -999,9,     -999,9,     -999,9,     -999,9,     -999,9,20230808,0119, -31.9980,  89.7601,-999          ,9,-999          ,9
33RR20230722  ,I05        ,62      ,  1,14         ,14         ,2,20230808,0023, -31.9980,  89.7601,     3712,   1331.0,2,   3.7810,2,  34.5121,2,  34.5117,2,    151.2,2,    151.0,2,    70.07,2,    34.73,2,     0.00,2,     2.46,2,    0.420,3,    0.232,2,   0.1500,2,   -999.0,9,     -999,9,     -999,9,     -999,9,     -999,1,   3.7854,2,     -999,9,     -999,9,     -999,9,     -999,9,     -999,1,   4.9541,1,   0.0118,1,     23.6,2,     -999,9,     -999,9,     -999,9,     -999,9,20230808,0116, -31.9980,  89.7601,-999          ,9,-999          ,9
33RR20230722  ,I05        ,62      ,  1,13         ,13         ,2,20230808,0023, -31.9980,  89.7601,     3712,   1459.5,2,   3.4661,2,  34.5511,2,  34.5514,2,    148.4,2,    148.4,2,    76.51,2,    34.89,2,     0.00,2,     2.45,2,     -999,9,     -999,9,     -999,9,   2264.3,2,   2342.5,2,   7.5580,2,    25.01,2,     -999,1,   3.4661,2,     -999,9,     -999,9,     -999,9,     -999,9,     -999,1,   4.9748,1,   0.0115,1,     -999,9,     -999,9,     -999,9,     -999,9,     -999,9,20230808,0112, -31.9981,  89.7601,-999          ,9,-999          ,9
33RR20230722  ,I05        ,62      ,  1,12         ,12         ,2,20230808,0023, -31.9980,  89.7601,     3712,   1533.3,2,   3.3399,2,  34.5816,2,  34.5818,2,    146.6,2,    146.1,2,    81.59,2,    35.01,2,     0.00,2,     2.49,2,    0.129,2,    0.073,2,   0.0200,2,   -999.0,9,     -999,9,     -999,9,     -999,9,     -999,1,   3.3391,2,     -999,9,     -999,9,     -999,9,     -999,9,     -999,1,   4.9715,1,   0.0112,1,     23.4,2,     -999,9,     -999,9,     -999,9,     -999,9,20230808,0110, -31.9980,  89.7601,-999          ,9,-999          ,9
33RR20230722  ,I05        ,62      ,  1,11         ,11         ,2,20230808,0023, -31.9980,  89.7601,     3712,   1649.5,2,   3.0718,2,  34.6091,2,  34.6093,2,    151.1,2,    151.2,2,    84.41,2,    34.61,2,     0.00,2,     2.48,2,     -999,9,     -999,9,     -999,9,   2270.5,2,   2350.8,2,   7.5637,6,    25.02,2,     -999,1,   3.0711,2,     -999,9,     -999,9,     -999,9,     -999,9,     -999,1,   4.6936,1,   0.0113,1,     -999,9,     -999,9,     -999,9,     -999,9,     -999,9,20230808,0107, -31.9980,  89.7601,-999          ,9,-999          ,9
33RR20230722  ,I05        ,62      ,  1,10         ,10         ,2,20230808,0023, -31.9980,  89.7601,     3712,   1787.1,2,   2.8021,2,  34.6425,2,  34.6425,2,    158.8,2,    158.7,2,    86.85,2,    33.86,2,     0.00,2,     2.43,2,    0.048,2,    0.057,2,   0.1100,2,   -999.0,9,     -999,9,     -999,9,     -999,9,     -999,1,   2.8038,2,     -999,9,     -999,9,     -999,9,     -999,9,     -999,1,   4.9750,1,   0.0118,1,     22.2,2,     -999,9,     -999,9,     -999,9,     -999,9,20230808,0104, -31.9980,  89.7601,-999          ,9,-999          ,9
33RR20230722  ,I05        ,62      ,  1,9          ,9          ,2,20230808,0023, -31.9980,  89.7601,     3712,   1927.4,2,   2.5940,2,  34.6727,2,  34.6724,2,    166.7,2,    166.9,2,    86.17,2,    33.07,2,     0.00,2,     2.32,2,     -999,9,     -999,9,     -999,9,   2263.2,2,   2353.3,6,   7.5810,2,    25.02,2,     -999,1,   2.5944,2,     -999,9,     -999,9,     -999,9,     -999,9,     -999,1,   4.9748,1,   0.0115,1,     -999,9,     -999,9,     -999,9,     -999,9,     -999,9,20230808,0101, -31.9980,  89.7601,-999          ,9,-999          ,9
33RR20230722  ,I05        ,62      ,  1,8          ,8          ,2,20230808,0023, -31.9980,  89.7601,     3712,   2100.7,2,   2.3905,2,  34.7059,2,  34.7058,2,    175.5,2,    175.7,2,    87.34,2,    32.10,2,     0.00,2,     2.26,2,     -999,9,     -999,9,     -999,9,   -999.0,9,     -999,9,     -999,9,     -999,9,     -999,1,   2.3891,2,     -999,9,     -999,9,     -999,9,     -999,9,     -999,1,   4.9413,1,   0.0112,1,     -999,9,     -999,9,     -999,9,     -999,9,     -999,9,20230808,0057, -31.9981,  89.7601,-999          ,9,-999          ,9
33RR20230722  ,I05        ,62      ,  1,7          ,7          ,2,20230808,0023, -31.9980,  89.7601,     3712,   2335.6,2,   2.1719,2,  34.7328,2,  34.7325,2,    186.5,2,    186.8,2,    87.92,2,    31.12,2,     0.00,2,     2.17,2,    0.075,2,    0.036,2,  -0.0100,2,   2253.2,2,   2352.1,6,   7.6098,2,    25.03,2,     -999,1,   2.1729,2,     -999,9,     -999,9,     -999,9,     -999,9,     -999,1,   4.9718,1,   0.0116,1,     19.1,2,     -999,9,     -999,9,     -999,9,     -999,9,20230808,0052, -31.9981,  89.7601,-999          ,9,-999          ,9
33RR20230722  ,I05        ,62      ,  1,6          ,6          ,2,20230808,0023, -31.9980,  89.7601,     3712,   2631.5,2,   1.8369,2,  34.7396,2,  34.7396,2,    193.1,2,    193.0,2,    96.21,2,    30.92,2,     0.00,2,     2.16,2,     -999,9,     -999,9,     -999,9,   -999.0,9,     -999,9,     -999,9,     -999,9,     -999,1,   1.8367,2,     -999,9,     -999,9,     -999,9,     -999,9,     -999,1,   4.9001,1,   0.0111,1,     -999,9,     -999,9,     -999,9,     -999,9,     -999,9,20230808,0046, -31.9980,  89.7601,-999          ,9,-999          ,9
33RR20230722  ,I05        ,62      ,  1,5          ,5          ,2,20230808,0023, -31.9980,  89.7601,     3712,   2858.4,2,   1.6004,2,  34.7351,2,  34.7351,2,    195.9,2,    196.0,2,   103.92,2,    31.26,2,     0.00,2,     2.18,2,    0.048,2,    0.032,2,   0.0400,2,   2259.6,2,   2363.0,2,   7.6175,2,    25.02,2,     -999,1,   1.5998,2,     -999,9,     -999,9,     -999,9,     -999,9,     -999,1,   4.9748,1,   0.0119,1,     17.9,2,     -999,9,     -999,9,     -999,9,     -999,9,20230808,0041, -31.9980,  89.7601,-999          ,9,-999          ,9
33RR20230722  ,I05        ,62      ,  1,4          ,37         ,2,20230808,0023, -31.9980,  89.7601,     3712,   3127.6,2,   1.4072,2,  34.7291,2,  34.7296,2,    199.3,2,    199.6,2,   108.80,2,    31.40,2,     0.00,2,     2.19,2,     -999,9,     -999,9,     -999,9,   -999.0,9,     -999,9,     -999,9,     -999,9,     -999,1,   1.4089,2,     -999,9,     -999,9,     -999,9,     -999,9,     -999,1,   4.8254,1,   0.0114,1,     -999,9,     -999,9,     -999,9,     -999,9,     -999,9,20230808,0035, -31.9980,  89.7601,-999          ,9,-999          ,9
33RR20230722  ,I05        ,62      ,  1,3          ,3          ,2,20230808,0023, -31.9980,  89.7601,     3712,   3389.1,2,   1.2498,2,  34.7232,2,  34.7231,2,    201.6,2,    201.7,2,   113.88,2,    31.69,2,     0.00,2,     2.22,2,     -999,9,     -999,9,     -999,9,   2263.9,2,   2367.5,2,   7.6185,2,    25.02,2,     -999,1,   1.2509,2,     -999,9,     -999,9,     -999,9,     -999,9,     -999,1,   4.9754,1,   0.0112,1,     -999,9,     -999,9,     -999,9,     -999,9,     -999,9,20230808,0031, -31.9980,  89.7601,-999          ,9,-999          ,9