BOTTLE,20240422CCHHYDRO
EXPOCODE,SECT_ID,STNNBR,CASTNO,SAMPNO,BTLNBR,BTLNBR_FLAG_W,DATE,TIME,LATITUDE,LONGITUDE,DEPTH,CTDPRS,CTDPRS_FLAG_W,CTDTMP,CTDTMP_FLAG_W,CTDSAL,CTDSAL_FLAG_W,SALNTY,SALNTY_FLAG_W,CTDOXY,CTDOXY_FLAG_W,OXYGEN,OXYGEN_FLAG_W,SILCAT,SILCAT_FLAG_W,NITRAT,NITRAT_FLAG_W,NITRIT,NITRIT_FLAG_W,PHSPHT,PHSPHT_FLAG_W,CFC-11,CFC-11_FLAG_W,CFC-12,CFC-12_FLAG_W,SF6,SF6_FLAG_W,TCARBN,TCARBN_FLAG_W,ALKALI,ALKALI_FLAG_W,PH_TOT,PH_TOT_FLAG_W,PH_TMP,PH_TMP_FLAG_W,DOC,DOC_FLAG_W,REFTMP,REFTMP_FLAG_W,POC,POC_FLAG_W,PON,PON_FLAG_W,POP,POP_FLAG_W,DOP,DOP_FLAG_W,DELO18,DELO18_FLAG_W,CTDFLUOR,CTDFLUOR_FLAG_W,CTDXMISS,CTDXMISS_FLAG_W,N2O,N2O_FLAG_W,D15N_NO3,D15N_NO3_FLAG_W,D15N_NO2+NO3,D15N_NO2+NO3_FLAG_W,D18O_NO2+NO3,D18O_NO2+NO3_FLAG_W,D18O_NO3,D18O_NO3_FLAG_W,BTL_DATE,BTL_TIME,BTL_LAT,BTL_LON,HPLC,HPLC_FLAG_W,DNA,DNA_FLAG_W
,,,,,,,,,,,METERS,DBAR,,ITS-90,,PSS-78,,PSS-78,,UMOL/KG,,UMOL/KG,,UMOL/KG,,UMOL/KG,,UMOL/KG,,UMOL/KG,,PMOL/KG,,PMOL/KG,,FMOL/KG,,UMOL/KG,,UMOL/KG,,,,DEG C,,UMOL/KG,,ITS-90,,UG/KG,,UG/KG,,UG/L,,UMOL/KG,,/MILLE,,VOLTS,,VOLTS,,NMOL/KG,,/MILLE,,/MILLE,,/MILLE,,/MILLE,,,,,,,,,
33RR20230722  ,I05        ,16      ,  1,36         ,36         ,2,20230726,1652, -31.5942, 109.5508,     5242,      8.6,2,  18.5681,2,  35.6562,2,  35.6544,2,    230.8,2,    229.6,2,     2.34,2,     0.09,2,     0.02,2,     0.12,2,     -999,9,     -999,9,     -999,9,   2058.2,2,   2341.0,6,   7.9939,6,    25.02,2,     -999,1,  18.5657,2,     -999,9,     -999,9,     -999,9,     -999,9,     -999,1,   3.9912,1,   0.0287,1,     -999,9,     -999,1,     -999,9,     -999,1,     -999,1,20230726,1902, -31.5942, 109.5508,-999          ,9,-999          ,9
33RR20230722  ,I05        ,16      ,  1,35         ,35         ,2,20230726,1652, -31.5942, 109.5508,     5242,     46.0,2,  18.5758,2,  35.6560,2,  35.6538,2,    230.5,2,    230.2,2,     2.73,2,     0.05,2,     0.02,2,     0.12,2,     -999,9,     -999,9,     -999,9,   2059.3,6,   2341.2,2,   7.9943,2,    25.00,2,     -999,1,  18.5739,2,     -999,9,     -999,9,     -999,9,     -999,9,     -999,1,   4.9746,1,   0.0291,1,     -999,9,     -999,1,     -999,9,     -999,1,     -999,1,20230726,1859, -31.5942, 109.5508,-999          ,9,-999          ,9
33RR20230722  ,I05        ,16      ,  1,34         ,34         ,2,20230726,1652, -31.5942, 109.5508,     5242,     67.5,2,  18.5798,2,  35.6557,2,  35.6534,2,    230.2,2,    229.7,2,     2.63,2,     0.02,2,     0.03,2,     0.13,2,     -999,9,     -999,9,     -999,9,   2061.0,2,   2340.2,2,   7.9944,6,    24.99,2,     -999,1,  18.5801,2,     -999,9,     -999,9,     -999,9,     -999,9,     -999,1,   4.8329,1,   0.0275,1,     -999,9,     -999,1,     -999,9,     -999,1,     -999,1,20230726,1857, -31.5942, 109.5508,-999          ,9,-999          ,9
33RR20230722  ,I05        ,16      ,  1,33         ,33         ,2,20230726,1652, -31.5942, 109.5508,     5242,    101.0,2,  17.5730,2,  35.6994,2,  35.7025,2,    226.9,2,    227.7,2,     2.34,2,     0.41,2,     0.15,2,     0.18,2,     -999,9,     -999,9,     -999,9,   2078.6,2,   2344.8,2,   7.9667,2,    25.00,2,     -999,1,  17.5642,2,     -999,9,     -999,9,     -999,9,     -999,9,     -999,1,   4.9730,1,   0.0148,1,     -999,9,     -999,1,     -999,9,     -999,1,     -999,1,20230726,1855, -31.5942, 109.5508,-999          ,9,-999          ,9
33RR20230722  ,I05        ,16      ,  1,32         ,32         ,2,20230726,1652, -31.5942, 109.5508,     5242,    137.5,2,  16.3342,2,  35.6671,2,  35.6694,2,    229.4,2,    230.3,2,     1.56,2,     1.09,2,     0.04,2,     0.24,2,     -999,9,     -999,9,     -999,9,   2098.2,2,   2346.9,2,   7.9368,2,    25.01,2,     -999,1,  16.3663,2,     -999,9,     -999,9,     -999,9,     -999,9,     -999,1,   4.9719,1,   0.0122,1,     -999,9,     -999,1,     -999,9,     -999,1,     -999,1,20230726,1853, -31.5942, 109.5508,-999          ,9,-999          ,9
33RR20230722  ,I05        ,16      ,  1,31         ,31         ,2,20230726,1652, -31.5942, 109.5508,     5242,    175.6,2,  14.4889,2,  35.4246,2,  35.4220,2,    230.0,2,    231.4,2,     2.05,2,     3.58,2,     0.02,2,     0.41,2,     -999,9,     -999,9,     -999,9,   2109.6,2,   2334.2,2,   7.8873,2,    24.99,2,     -999,1,  14.4575,2,     -999,9,     -999,9,     -999,9,     -999,9,     -999,1,   4.9703,1,   0.0114,1,     -999,9,     -999,1,     -999,9,     -999,1,     -999,1,20230726,1852, -31.5942, 109.5508,-999          ,9,-999          ,9
33RR20230722  ,I05        ,16      ,  1,30         ,30         ,2,20230726,1652, -31.5942, 109.5508,     5242,    222.9,2,  13.0849,2,  35.2056,2,  35.2182,2,    235.5,2,    235.5,2,     1.95,2,     5.79,2,     0.02,2,     0.60,2,     -999,9,     -999,9,     -999,9,   2119.4,2,   2321.5,2,   7.8572,2,    25.00,2,     -999,1,  13.1183,2,     -999,9,     -999,9,     -999,9,     -999,9,     -999,1,   4.9694,1,   0.0114,1,     -999,9,     -999,1,     -999,9,     -999,1,     -999,1,20230726,1850, -31.5942, 109.5508,-999          ,9,-999          ,9
33RR20230722  ,I05        ,16      ,  1,29         ,29         ,2,20230726,1652, -31.5942, 109.5508,     5242,    253.4,2,  12.0108,2,  35.0302,2,  35.0319,2,    239.4,2,    239.6,2,     2.63,2,     8.13,2,     0.01,2,     0.71,2,     -999,9,     -999,9,     -999,9,   2125.6,2,   2311.8,2,   7.8268,2,    25.02,2,     -999,1,  12.0072,2,     -999,9,     -999,9,     -999,9,     -999,9,     -999,1,   4.9694,1,   0.0115,1,     -999,9,     -999,1,     -999,9,     -999,1,     -999,1,20230726,1848, -31.5942, 109.5508,-999          ,9,-999          ,9
33RR20230722  ,I05        ,16      ,  1,28         ,28         ,2,20230726,1652, -31.5942, 109.5508,     5242,    291.8,2,  10.9046,2,  34.8623,2,  34.8627,2,    241.2,2,    240.8,2,     2.44,2,    11.12,2,     0.01,2,     0.88,2,     -999,9,     -999,9,     -999,9,   -999.0,9,     -999,9,     -999,9,     -999,9,     -999,1,  10.8756,2,     -999,9,     -999,9,     -999,9,     -999,9,     -999,1,   4.9684,1,   0.0115,1,     -999,9,     -999,1,     -999,9,     -999,1,     -999,1,20230726,1846, -31.5942, 109.5508,-999          ,9,-999          ,9
33RR20230722  ,I05        ,16      ,  1,27         ,27         ,2,20230726,1652, -31.5942, 109.5508,     5242,    343.1,2,  10.2331,2,  34.7781,2,  34.7805,2,    242.0,2,    240.8,2,     3.61,2,    13.36,2,     0.00,2,     1.00,2,     -999,9,     -999,9,     -999,9,   2134.5,2,   2297.5,2,   7.7530,2,    25.01,2,     -999,1,  10.2488,2,     -999,9,     -999,9,     -999,9,     -999,9,     -999,1,   4.9679,1,   0.0114,1,     -999,9,     -999,1,     -999,9,     -999,1,     -999,1,20230726,1844, -31.5942, 109.5508,-999          ,9,-999          ,9
33RR20230722  ,I05        ,16      ,  1,26         ,26         ,2,20230726,1652, -31.5942, 109.5508,     5242,    415.5,2,   9.7525,2,  34.7349,2,  34.7370,2,    237.0,2,    236.6,2,     4.00,2,    15.45,2,     0.00,2,     1.11,2,     -999,9,     -999,9,     -999,9,   2143.4,2,   2293.3,2,   7.7728,2,    25.00,2,     -999,1,   9.7519,2,     -999,9,     -999,9,     -999,9,     -999,9,     -999,1,   4.9671,1,   0.0113,1,     -999,9,     -999,1,     -999,9,     -999,1,     -999,1,20230726,1842, -31.5942, 109.5508,-999          ,9,-999          ,9
33RR20230722  ,I05        ,16      ,  1,25         ,25         ,2,20230726,1652, -31.5942, 109.5508,     5242,    464.2,2,   9.4242,2,  34.6968,2,  34.6981,2,    238.1,2,    237.6,2,     4.68,2,    16.32,2,     0.00,2,     1.16,2,     -999,9,     -999,9,     -999,9,   2143.6,2,   2293.2,2,   7.7468,2,    25.02,2,     -999,1,   9.4230,2,     -999,9,     -999,9,     -999,9,     -999,9,     -999,1,   4.9671,1,   0.0114,1,     -999,9,     -999,1,     -999,9,     -999,1,     -999,1,20230726,1840, -31.5942, 109.5508,-999          ,9,-999          ,9
33RR20230722  ,I05        ,16      ,  1,24         ,24         ,2,20230726,1652, -31.5942, 109.5508,     5242,    562.9,2,   8.4334,2,  34.5745,2,  34.5747,2,    224.4,2,    225.3,2,     8.10,2,    19.99,2,     0.00,2,     1.42,2,     -999,9,     -999,9,     -999,9,   -999.0,9,     -999,9,     -999,9,     -999,9,     -999,1,   8.4352,2,     -999,9,     -999,9,     -999,9,     -999,9,     -999,1,   4.6595,1,   0.0112,1,     -999,9,     -999,1,     -999,9,     -999,1,     -999,1,20230726,1837, -31.5942, 109.5508,-999          ,9,-999          ,9
33RR20230722  ,I05        ,16      ,  1,23         ,23         ,2,20230726,1652, -31.5942, 109.5508,     5242,    705.1,2,   5.9534,2,  34.4052,2,  34.4049,2,    196.1,2,    196.7,2,    23.53,2,    28.05,2,     0.00,2,     1.94,2,     -999,9,     -999,9,     -999,9,   2185.9,2,   2293.2,2,   7.6349,2,    25.01,2,     -999,1,   5.9391,2,     -999,9,     -999,9,     -999,9,     -999,9,     -999,1,   4.9698,1,   0.0110,1,     -999,9,     -999,1,     -999,9,     -999,1,     -999,1,20230726,1834, -31.5942, 109.5508,-999          ,9,-999          ,9
33RR20230722  ,I05        ,16      ,  1,22         ,22         ,2,20230726,1652, -31.5942, 109.5508,     5242,    824.9,2,   4.6258,2,  34.3845,2,  34.3831,2,    187.8,2,    187.9,2,    38.46,2,    31.31,2,     0.00,2,     2.21,2,     -999,9,     -999,9,     -999,9,   2209.7,2,   2305.6,2,   7.6028,2,    25.01,2,     -999,1,   4.6286,2,     -999,9,     -999,9,     -999,9,     -999,9,     -999,1,   4.9712,1,   0.0111,1,     -999,9,     -999,1,     -999,9,     -999,1,     -999,1,20230726,1831, -31.5942, 109.5508,-999          ,9,-999          ,9
33RR20230722  ,I05        ,16      ,  1,21         ,21         ,2,20230726,1652, -31.5942, 109.5508,     5242,    911.6,2,   4.1682,2,  34.4308,2,  34.4304,2,    171.2,2,    171.3,2,    50.96,2,    33.06,2,     0.00,2,     2.31,2,     -999,9,     -999,9,     -999,9,   2230.9,2,   2318.8,2,   7.5803,2,    25.00,2,     -999,1,   4.1685,2,     -999,9,     -999,9,     -999,9,     -999,9,     -999,1,   4.9726,1,   0.0111,1,     -999,9,     -999,1,     -999,9,     -999,1,     -999,1,20230726,1828, -31.5942, 109.5508,-999          ,9,-999          ,9
33RR20230722  ,I05        ,16      ,  1,20         ,20         ,2,20230726,1652, -31.5942, 109.5508,     5242,   1034.4,2,   3.9058,2,  34.5110,2,  34.5097,2,    148.5,2,    149.0,2,    68.62,2,    34.61,2,     0.00,2,     2.45,2,     -999,9,     -999,9,     -999,9,   2256.0,2,   2337.4,2,   7.5584,2,    25.00,2,     -999,1,   3.9027,2,     -999,9,     -999,9,     -999,9,     -999,9,     -999,1,   4.9750,1,   0.0116,1,     -999,9,     -999,1,     -999,9,     -999,1,     -999,1,20230726,1825, -31.5942, 109.5508,-999          ,9,-999          ,9
33RR20230722  ,I05        ,16      ,  1,19         ,19         ,2,20230726,1652, -31.5942, 109.5508,     5242,   1105.1,2,   3.8055,2,  34.5274,2,  34.5268,2,    145.8,2,    146.0,2,    70.67,2,    34.89,2,     0.00,2,     2.50,2,     -999,9,     -999,9,     -999,9,   2254.7,2,   2341.0,2,   7.5554,2,    25.00,2,     -999,1,   3.8069,2,     -999,9,     -999,9,     -999,9,     -999,9,     -999,1,   4.9745,1,   0.0110,1,     -999,9,     -999,1,     -999,9,     -999,1,     -999,1,20230726,1823, -31.5942, 109.5508,-999          ,9,-999          ,9
33RR20230722  ,I05        ,16      ,  1,18         ,18         ,2,20230726,1652, -31.5942, 109.5508,     5242,   1181.6,2,   3.5487,2,  34.5417,2,  34.5409,2,    147.3,2,    147.1,2,    73.21,2,    34.96,2,     0.00,2,     2.50,2,     -999,9,     -999,9,     -999,9,   -999.0,9,     -999,9,     -999,9,     -999,9,     -999,1,   3.5477,2,     -999,9,     -999,9,     -999,9,     -999,9,     -999,1,   4.9437,1,   0.0117,1,     -999,9,     -999,1,     -999,9,     -999,1,     -999,1,20230726,1820, -31.5942, 109.5508,-999          ,9,-999          ,9
33RR20230722  ,I05        ,16      ,  1,17         ,17         ,2,20230726,1652, -31.5942, 109.5508,     5242,   1262.7,2,   3.2950,2,  34.5586,2,  34.5578,2,    150.1,2,    150.1,2,    76.33,2,    34.96,2,     0.00,2,     2.50,2,     -999,9,     -999,9,     -999,9,   2264.0,2,   2345.8,2,   7.5565,2,    25.00,2,     -999,1,   3.2952,2,     -999,9,     -999,9,     -999,9,     -999,9,     -999,1,   4.9276,1,   0.0122,1,     -999,9,     -999,1,     -999,9,     -999,1,     -999,1,20230726,1817, -31.5942, 109.5508,-999          ,9,-999          ,9
33RR20230722  ,I05        ,16      ,  1,16         ,16         ,2,20230726,1652, -31.5942, 109.5508,     5242,   1344.8,2,   3.1870,2,  34.5720,2,  34.5702,2,    150.7,2,    150.8,2,    77.21,2,    34.87,2,     0.00,2,     2.48,2,     -999,9,     -999,9,     -999,9,   -999.0,9,     -999,9,     -999,9,     -999,9,     -999,1,   3.1946,2,     -999,9,     -999,9,     -999,9,     -999,9,     -999,1,   4.9748,1,   0.0111,1,     -999,9,     -999,1,     -999,9,     -999,1,     -999,1,20230726,1815, -31.5942, 109.5508,-999          ,9,-999          ,9
33RR20230722  ,I05        ,16      ,  1,15         ,15         ,2,20230726,1652, -31.5942, 109.5508,     5242,   1423.7,2,   3.0534,2,  34.5999,2,  34.5989,2,    150.2,2,    150.1,2,    82.48,2,    34.96,2,     0.00,2,     2.49,2,     -999,9,     -999,9,     -999,9,   2269.4,2,   2352.0,2,   7.5588,2,    25.00,2,     -999,1,   3.0558,2,     -999,9,     -999,9,     -999,9,     -999,9,     -999,1,   4.9748,1,   0.0122,1,     -999,9,     -999,1,     -999,9,     -999,1,     -999,1,20230726,1813, -31.5942, 109.5508,-999          ,9,-999          ,9
33RR20230722  ,I05        ,16      ,  1,14         ,14         ,2,20230726,1652, -31.5942, 109.5508,     5242,   1569.7,2,   2.8097,2,  34.6405,2,  34.6403,2,    153.5,2,    153.3,2,    87.45,2,    34.52,2,     0.00,2,     2.48,2,     -999,9,     -999,9,     -999,9,   -999.0,9,     -999,9,     -999,9,     -999,9,     -999,1,   2.8084,2,     -999,9,     -999,9,     -999,9,     -999,9,     -999,1,   4.9751,1,   0.0111,1,     -999,9,     -999,1,     -999,9,     -999,1,     -999,1,20230726,1809, -31.5942, 109.5508,-999          ,9,-999          ,9
33RR20230722  ,I05        ,16      ,  1,13         ,13         ,2,20230726,1652, -31.5942, 109.5508,     5242,   1727.6,2,   2.6065,2,  34.6719,2,  34.6718,2,    158.4,2,    158.4,2,    93.89,2,    33.98,2,     0.00,2,     2.46,2,     -999,9,     -999,9,     -999,9,   2270.2,2,   2362.5,2,   7.5744,2,    24.99,2,     -999,1,   2.6068,2,     -999,9,     -999,9,     -999,9,     -999,9,     -999,1,   4.9752,1,   0.0113,1,     -999,9,     -999,1,     -999,9,     -999,1,     -999,1,20230726,1805, -31.5942, 109.5508,-999          ,9,-999          ,9
33RR20230722  ,I05        ,16      ,  1,12         ,12         ,2,20230726,1652, -31.5942, 109.5508,     5242,   1824.9,2,   2.4979,2,  34.6899,2,  34.6895,2,    160.0,2,    159.8,2,    97.79,2,    33.75,2,     0.00,2,     2.46,2,     -999,9,     -999,9,     -999,9,   -999.0,9,     -999,9,     -999,9,     -999,9,     -999,1,   2.4982,2,     -999,9,     -999,9,     -999,9,     -999,9,     -999,1,   4.9752,1,   0.0123,1,     -999,9,     -999,1,     -999,9,     -999,1,     -999,1,20230726,1803, -31.5942, 109.5508,-999          ,9,-999          ,9
33RR20230722  ,I05        ,16      ,  1,11         ,11         ,2,20230726,1652, -31.5942, 109.5508,     5242,   1934.6,2,   2.3568,2,  34.7068,2,  34.7060,2,    161.8,2,    161.8,2,   101.70,2,    33.55,2,     0.00,2,     2.41,2,     -999,9,     -999,9,     -999,9,   2278.4,2,   2372.9,2,   7.5846,2,    25.00,2,     -999,1,   2.3567,2,     -999,9,     -999,9,     -999,9,     -999,9,     -999,1,   4.9590,1,   0.0117,1,     -999,9,     -999,1,     -999,9,     -999,1,     -999,1,20230726,1800, -31.5942, 109.5508,-999          ,9,-999          ,9
33RR20230722  ,I05        ,16      ,  1,10         ,10         ,2,20230726,1652, -31.5942, 109.5508,     5242,   2058.0,2,   2.2511,2,  34.7153,2,  34.7146,2,    163.3,2,    163.5,2,   107.26,2,    33.57,2,     0.00,2,     2.42,2,     -999,9,     -999,9,     -999,9,   -999.0,9,     -999,9,     -999,9,     -999,9,     -999,1,   2.2510,2,     -999,9,     -999,9,     -999,9,     -999,9,     -999,1,   4.8291,1,   0.0118,1,     -999,9,     -999,1,     -999,9,     -999,1,     -999,1,20230726,1756, -31.5942, 109.5508,-999          ,9,-999          ,9
33RR20230722  ,I05        ,16      ,  1,9          ,9          ,2,20230726,1652, -31.5942, 109.5508,     5242,   2500.3,2,   1.9292,2,  34.7269,2,  34.7264,2,    171.9,2,    172.0,2,   114.58,2,    33.14,2,     0.00,2,     2.37,2,     -999,9,     -999,9,     -999,9,   2279.5,2,   2380.7,6,   7.5995,6,    25.01,2,     -999,1,   1.9296,2,     -999,9,     -999,9,     -999,9,     -999,9,     -999,1,   4.9756,1,   0.0123,1,     -999,9,     -999,1,     -999,9,     -999,1,     -999,1,20230726,1748, -31.5942, 109.5508,-999          ,9,-999          ,9
33RR20230722  ,I05        ,16      ,  1,8          ,8          ,2,20230726,1652, -31.5942, 109.5508,     5242,   2875.6,2,   1.6912,2,  34.7277,2,  34.7268,2,    179.2,2,    179.2,2,   118.68,2,    33.00,2,     0.00,2,     2.34,2,     -999,9,     -999,9,     -999,9,   -999.0,9,     -999,9,     -999,9,     -999,9,     -999,1,   1.6919,2,     -999,9,     -999,9,     -999,9,     -999,9,     -999,1,   4.9759,1,   0.0112,1,     -999,9,     -999,1,     -999,9,     -999,1,     -999,1,20230726,1740, -31.5942, 109.5508,-999          ,9,-999          ,9
33RR20230722  ,I05        ,16      ,  1,7          ,7          ,2,20230726,1652, -31.5942, 109.5508,     5242,   3101.6,2,   1.5692,2,  34.7269,2,  34.7260,2,    184.3,2,    184.6,2,   118.09,2,    32.84,2,     0.00,2,     2.30,2,     -999,9,     -999,9,     -999,9,   2277.3,2,   2384.7,2,   7.6109,6,    24.99,2,     -999,1,   1.5694,2,     -999,9,     -999,9,     -999,9,     -999,9,     -999,1,   4.9759,1,   0.0111,1,     -999,9,     -999,1,     -999,9,     -999,1,     -999,1,20230726,1736, -31.5942, 109.5508,-999          ,9,-999          ,9
33RR20230722  ,I05        ,16      ,  1,6          ,6          ,2,20230726,1652, -31.5942, 109.5508,     5242,   3470.0,2,   1.3879,2,  34.7234,2,  34.7221,2,    190.4,2,    190.5,2,   121.80,2,    32.62,2,     0.00,2,     2.28,2,     -999,9,     -999,9,     -999,9,   -999.0,9,     -999,9,     -999,9,     -999,9,     -999,1,   1.3881,2,     -999,9,     -999,9,     -999,9,     -999,9,     -999,1,   4.9764,1,   0.0112,1,     -999,9,     -999,1,     -999,9,     -999,1,     -999,1,20230726,1728, -31.5942, 109.5508,-999          ,9,-999          ,9
33RR20230722  ,I05        ,16      ,  1,5          ,5          ,2,20230726,1652, -31.5942, 109.5508,     5242,   3920.1,2,   1.2448,2,  34.7176,2,  34.7170,2,    193.3,2,    193.4,2,   122.97,2,    32.72,2,     0.00,2,     2.29,2,     -999,9,     -999,9,     -999,9,   2279.9,2,   2387.7,2,   7.6188,2,    24.98,2,     -999,1,   1.2451,2,     -999,9,     -999,9,     -999,9,     -999,9,     -999,1,   4.9767,1,   0.0111,1,     -999,9,     -999,1,     -999,9,     -999,1,     -999,1,20230726,1720, -31.5942, 109.5508,-999          ,9,-999          ,9
33RR20230722  ,I05        ,16      ,  1,4          ,4          ,2,20230726,1652, -31.5942, 109.5508,     5242,   4259.3,2,   1.1900,2,  34.7153,2,  34.7142,2,    197.0,2,    197.1,2,   123.46,2,    32.49,2,     0.00,2,     2.28,2,     -999,9,     -999,9,     -999,9,   2275.1,2,   2387.2,2,   7.6216,2,    25.01,2,     -999,1,   1.1904,2,     -999,9,     -999,9,     -999,9,     -999,9,     -999,1,   4.5804,1,   0.0111,1,     -999,9,     -999,1,     -999,9,     -999,1,     -999,1,20230726,1713, -31.5942, 109.5508,-999          ,9,-999          ,9
33RR20230722  ,I05        ,16      ,  1,3          ,3          ,2,20230726,1652, -31.5942, 109.5508,     5242,   4513.2,2,   1.1464,2,  34.7130,2,  34.7119,2,    199.5,2,    199.5,2,   123.17,2,    32.41,2,     0.00,2,     2.29,2,     -999,9,     -999,9,     -999,9,   2274.4,2,   2387.1,2,   7.6222,2,    25.00,2,     -999,1,   1.1471,2,     -999,9,     -999,9,     -999,9,     -999,9,     -999,1,   4.8249,1,   0.0112,1,     -999,9,     -999,1,     -999,9,     -999,1,     -999,1,20230726,1708, -31.5942, 109.5508,-999          ,9,-999          ,9