BOTTLE,20240422CCHHYDRO
EXPOCODE,SECT_ID,STNNBR,CASTNO,SAMPNO,BTLNBR,BTLNBR_FLAG_W,DATE,TIME,LATITUDE,LONGITUDE,DEPTH,CTDPRS,CTDPRS_FLAG_W,CTDTMP,CTDTMP_FLAG_W,CTDSAL,CTDSAL_FLAG_W,SALNTY,SALNTY_FLAG_W,CTDOXY,CTDOXY_FLAG_W,OXYGEN,OXYGEN_FLAG_W,SILCAT,SILCAT_FLAG_W,NITRAT,NITRAT_FLAG_W,NITRIT,NITRIT_FLAG_W,PHSPHT,PHSPHT_FLAG_W,CFC-11,CFC-11_FLAG_W,CFC-12,CFC-12_FLAG_W,SF6,SF6_FLAG_W,TCARBN,TCARBN_FLAG_W,ALKALI,ALKALI_FLAG_W,PH_TOT,PH_TOT_FLAG_W,PH_TMP,PH_TMP_FLAG_W,DOC,DOC_FLAG_W,REFTMP,REFTMP_FLAG_W,POC,POC_FLAG_W,PON,PON_FLAG_W,POP,POP_FLAG_W,DOP,DOP_FLAG_W,DELO18,DELO18_FLAG_W,CTDFLUOR,CTDFLUOR_FLAG_W,CTDXMISS,CTDXMISS_FLAG_W,N2O,N2O_FLAG_W,D15N_NO3,D15N_NO3_FLAG_W,D15N_NO2+NO3,D15N_NO2+NO3_FLAG_W,D18O_NO2+NO3,D18O_NO2+NO3_FLAG_W,D18O_NO3,D18O_NO3_FLAG_W,BTL_DATE,BTL_TIME,BTL_LAT,BTL_LON,HPLC,HPLC_FLAG_W,DNA,DNA_FLAG_W
,,,,,,,,,,,METERS,DBAR,,ITS-90,,PSS-78,,PSS-78,,UMOL/KG,,UMOL/KG,,UMOL/KG,,UMOL/KG,,UMOL/KG,,UMOL/KG,,PMOL/KG,,PMOL/KG,,FMOL/KG,,UMOL/KG,,UMOL/KG,,,,DEG C,,UMOL/KG,,ITS-90,,UG/KG,,UG/KG,,UG/L,,UMOL/KG,,/MILLE,,VOLTS,,VOLTS,,NMOL/KG,,/MILLE,,/MILLE,,/MILLE,,/MILLE,,,,,,,,,
33RR20230722  ,I05        ,86      ,  1,34         ,34         ,2,20230813,1408, -31.0719,  77.8634,     3270,      5.0,2,  19.0141,2,  35.8088,2,  35.8109,2,    231.5,2,    231.2,2,     1.27,2,     0.06,2,     0.00,2,     0.11,2,    1.640,3,    1.225,2,   2.1300,2,   2071.2,6,   2349.5,2,   7.9908,2,    25.00,2,     -999,1,     -999,1,     -999,9,     -999,9,     -999,9,     -999,9,     -999,9,   4.8804,1,   0.0143,1,      7.6,2,     -999,9,     -999,9,     -999,9,     -999,9,20230813,1544, -31.0719,  77.8634,-999          ,9,-999          ,9
33RR20230722  ,I05        ,86      ,  1,33         ,33         ,2,20230813,1408, -31.0719,  77.8634,     3270,     23.9,2,  19.0186,2,  35.8089,2,  35.8094,2,    231.4,2,    231.1,2,     1.17,2,     0.02,2,     0.00,2,     0.10,2,     -999,9,     -999,9,     -999,9,   -999.0,9,     -999,9,     -999,9,     -999,9,     -999,1,     -999,1,     -999,9,     -999,9,     -999,9,     -999,9,     -999,9,   4.8932,1,   0.0141,1,     -999,9,     -999,9,     -999,9,     -999,9,     -999,9,20230813,1541, -31.0719,  77.8634,-999          ,9,-999          ,9
33RR20230722  ,I05        ,86      ,  1,32         ,32         ,2,20230813,1408, -31.0719,  77.8634,     3270,     41.1,2,  19.0178,2,  35.8090,2,  35.8084,2,    231.2,2,    231.1,2,     1.17,2,     0.00,2,     0.00,2,     0.10,2,     -999,9,     -999,9,     -999,9,   -999.0,9,     -999,9,     -999,9,     -999,9,     -999,1,     -999,1,     -999,9,     -999,9,     -999,9,     -999,9,     -999,9,   4.8953,1,   0.0144,1,     -999,9,     -999,9,     -999,9,     -999,9,     -999,9,20230813,1540, -31.0719,  77.8634,-999          ,9,-999          ,9
33RR20230722  ,I05        ,86      ,  1,31         ,31         ,2,20230813,1408, -31.0719,  77.8634,     3270,     65.0,2,  18.6822,2,  35.7932,2,  35.7947,2,    232.7,2,    232.6,2,     1.17,2,     0.00,2,     0.00,2,     0.12,2,    1.574,3,    1.250,2,   2.2600,2,   2075.6,2,   2349.4,2,   7.9849,2,    25.00,2,     -999,1,     -999,1,     -999,9,     -999,9,     -999,9,     -999,9,     -999,9,   4.9745,1,   0.0143,1,      7.6,2,     -999,9,     -999,9,     -999,9,     -999,9,20230813,1538, -31.0719,  77.8634,-999          ,9,-999          ,9
33RR20230722  ,I05        ,86      ,  1,30         ,30         ,2,20230813,1408, -31.0719,  77.8634,     3270,     87.1,2,  17.6735,2,  35.6987,2,  35.7079,2,    236.3,2,    236.5,2,     1.17,2,     0.03,2,     0.01,2,     0.17,2,     -999,9,     -999,9,     -999,9,   -999.0,9,     -999,9,     -999,9,     -999,9,     -999,1,     -999,1,     -999,9,     -999,9,     -999,9,     -999,9,     -999,9,   4.9745,1,   0.0479,1,     -999,9,     -999,9,     -999,9,     -999,9,     -999,9,20230813,1536, -31.0719,  77.8634,-999          ,9,-999          ,9
33RR20230722  ,I05        ,86      ,  1,29         ,29         ,2,20230813,1408, -31.0719,  77.8634,     3270,    114.7,2,  15.4866,2,  35.4907,2,  35.4985,2,    243.3,2,    241.4,2,     0.98,2,     0.84,2,     0.14,2,     0.29,2,    1.861,3,    1.477,2,   2.3400,2,   2109.2,2,   2337.1,2,   7.9078,2,    25.01,2,     -999,1,     -999,1,     -999,9,     -999,9,     -999,9,     -999,9,     -999,9,   4.9740,1,   0.0325,1,      9.1,2,     -999,9,     -999,9,     -999,9,     -999,9,20230813,1534, -31.0719,  77.8634,-999          ,9,-999          ,9
33RR20230722  ,I05        ,86      ,  1,28         ,28         ,2,20230813,1408, -31.0719,  77.8634,     3270,    142.5,2,  14.6982,2,  35.4274,2,  35.4176,2,    235.1,2,    235.9,2,     1.17,2,     2.79,2,     0.19,2,     0.40,2,     -999,9,     -999,9,     -999,9,   -999.0,9,     -999,9,     -999,9,     -999,9,     -999,1,     -999,1,     -999,9,     -999,9,     -999,9,     -999,9,     -999,9,   4.9708,1,   0.0196,1,     -999,9,     -999,9,     -999,9,     -999,9,     -999,9,20230813,1533, -31.0719,  77.8634,-999          ,9,-999          ,9
33RR20230722  ,I05        ,86      ,  1,27         ,27         ,2,20230813,1408, -31.0719,  77.8634,     3270,    177.6,2,  14.0069,2,  35.3327,2,  35.3366,2,    233.3,2,    233.5,2,     1.56,2,     4.68,2,     0.02,2,     0.49,2,     -999,9,     -999,9,     -999,9,   2121.8,2,   2324.3,2,   7.8638,2,    24.99,2,     -999,1,  14.0074,2,     -999,9,     -999,9,     -999,9,     -999,9,     -999,9,   4.8112,1,   0.0153,1,     -999,9,     -999,9,     -999,9,     -999,9,     -999,9,20230813,1531, -31.0719,  77.8634,-999          ,9,-999          ,9
33RR20230722  ,I05        ,86      ,  1,26         ,26         ,2,20230813,1408, -31.0719,  77.8634,     3270,    214.1,2,  13.2907,2,  35.2404,2,  35.2485,2,    230.9,2,    231.9,2,     1.95,2,     6.59,2,     0.01,2,     0.59,2,     -999,9,     -999,9,     -999,9,   -999.0,9,     -999,9,     -999,9,     -999,9,     -999,1,  13.2999,2,     -999,9,     -999,9,     -999,9,     -999,9,     -999,9,   4.9688,1,   0.0118,1,     -999,9,     -999,9,     -999,9,     -999,9,     -999,9,20230813,1529, -31.0719,  77.8634,-999          ,9,-999          ,9
33RR20230722  ,I05        ,86      ,  1,25         ,25         ,2,20230813,1408, -31.0719,  77.8634,     3270,    249.2,2,  12.8437,2,  35.1752,2,  35.1752,2,    233.0,2,    233.3,2,     2.24,2,     7.82,2,     0.01,2,     0.65,2,     -999,9,     -999,9,     -999,9,   -999.0,9,     -999,9,     -999,9,     -999,9,     -999,1,  12.8430,2,     -999,9,     -999,9,     -999,9,     -999,9,     -999,9,   4.9686,1,   0.0113,1,     -999,9,     -999,9,     -999,9,     -999,9,     -999,9,20230813,1528, -31.0719,  77.8634,-999          ,9,-999          ,9
33RR20230722  ,I05        ,86      ,  1,24         ,24         ,2,20230813,1408, -31.0719,  77.8634,     3270,    290.3,2,  12.4970,2,  35.1235,2,  35.1248,2,    235.0,2,    235.1,2,     2.44,2,     8.57,2,     0.00,2,     0.70,2,    2.386,3,    1.695,2,   2.4800,2,   2126.5,2,   2312.2,2,   7.8257,2,    24.98,2,     -999,1,  12.5007,2,     -999,9,     -999,9,     -999,9,     -999,9,     -999,9,   4.9683,1,   0.0116,1,     11.4,2,     -999,9,     -999,9,     -999,9,     -999,9,20230813,1526, -31.0719,  77.8634,-999          ,9,-999          ,9
33RR20230722  ,I05        ,86      ,  1,23         ,23         ,2,20230813,1408, -31.0719,  77.8634,     3270,    328.8,2,  12.1690,2,  35.0736,2,  35.0756,2,    236.2,2,    236.5,2,     2.83,2,     9.55,2,     0.00,2,     0.75,2,     -999,9,     -999,9,     -999,9,   -999.0,9,     -999,9,     -999,9,     -999,9,     -999,1,  12.1739,2,     -999,9,     -999,9,     -999,9,     -999,9,     -999,9,   4.9682,1,   0.0116,1,     -999,9,     -999,9,     -999,9,     -999,9,     -999,9,20230813,1524, -31.0719,  77.8634,-999          ,9,-999          ,9
33RR20230722  ,I05        ,86      ,  1,22         ,22         ,2,20230813,1408, -31.0719,  77.8634,     3270,    373.1,2,  11.8817,2,  35.0313,2,  35.0327,2,    237.5,2,    237.1,2,     3.12,2,    10.29,2,     0.00,2,     0.79,2,    2.856,2,    1.714,2,   2.3200,2,   -999.0,9,     -999,9,     -999,9,     -999,9,     -999,1,  11.9009,2,     -999,9,     -999,9,     -999,9,     -999,9,     -999,9,   4.9681,1,   0.0113,1,     11.8,2,     -999,9,     -999,9,     -999,9,     -999,9,20230813,1523, -31.0719,  77.8634,-999          ,9,-999          ,9
33RR20230722  ,I05        ,86      ,  1,21         ,21         ,2,20230813,1408, -31.0719,  77.8634,     3270,    417.5,2,  11.5273,2,  34.9742,2,  34.9744,2,    238.2,2,    237.9,2,     3.12,2,    10.99,2,     0.00,2,     0.85,2,     -999,9,     -999,9,     -999,9,   2131.4,2,   2306.2,2,   7.8035,2,    25.01,2,     -999,1,  11.5294,2,     -999,9,     -999,9,     -999,9,     -999,9,     -999,9,   4.9678,1,   0.0115,1,     -999,9,     -999,9,     -999,9,     -999,9,     -999,9,20230813,1521, -31.0719,  77.8634,-999          ,9,-999          ,9
33RR20230722  ,I05        ,86      ,  1,20         ,20         ,2,20230813,1408, -31.0719,  77.8634,     3270,    478.9,2,  11.1494,2,  34.9184,2,  34.9191,2,    236.8,2,    236.4,2,     3.51,2,    12.21,2,     0.00,2,     0.92,2,    2.831,2,    1.792,2,   2.2800,2,   -999.0,9,     -999,9,     -999,9,     -999,9,     -999,1,  11.1530,2,     -999,9,     -999,9,     -999,9,     -999,9,     -999,9,   4.9673,1,   0.0116,1,     11.7,2,     -999,9,     -999,9,     -999,9,     -999,9,20230813,1519, -31.0719,  77.8634,-999          ,9,-999          ,9
33RR20230722  ,I05        ,86      ,  1,19         ,19         ,2,20230813,1408, -31.0719,  77.8634,     3270,    547.6,2,  10.7455,2,  34.8630,2,  34.8641,2,    235.4,2,    235.2,2,     3.71,2,    13.17,2,     0.00,2,     0.99,2,     -999,9,     -999,9,     -999,9,   2137.9,2,   2301.0,2,   7.7825,2,    25.00,2,     -999,1,  10.7445,2,     -999,9,     -999,9,     -999,9,     -999,9,     -999,9,   4.9667,1,   0.0114,1,     -999,9,     -999,9,     -999,9,     -999,9,     -999,9,20230813,1516, -31.0719,  77.8634,-999          ,9,-999          ,9
33RR20230722  ,I05        ,86      ,  1,18         ,18         ,2,20230813,1408, -31.0719,  77.8634,     3270,    625.8,2,  10.1294,2,  34.7779,2,  34.7781,2,    232.0,2,    231.7,2,     4.49,2,    15.06,2,     0.00,2,     1.10,2,    2.819,2,    1.890,2,   2.1500,2,   -999.0,9,     -999,9,     -999,9,     -999,9,     -999,1,  10.1358,2,     -999,9,     -999,9,     -999,9,     -999,9,     -999,9,   4.7221,1,   0.0115,1,     12.6,2,     -999,9,     -999,9,     -999,9,     -999,9,20230813,1514, -31.0719,  77.8634,-999          ,9,-999          ,9
33RR20230722  ,I05        ,86      ,  1,17         ,17         ,2,20230813,1408, -31.0719,  77.8634,     3270,    717.6,2,   9.4093,2,  34.6839,2,  34.6848,2,    229.7,2,    229.7,2,     5.17,2,    17.01,2,     0.00,2,     1.21,2,    2.548,2,    1.888,2,   1.8700,2,   2147.4,2,   2292.8,2,   7.7449,2,    25.01,2,     -999,1,   9.4052,2,     -999,9,     -999,9,     -999,9,     -999,9,     -999,9,   4.7212,1,   0.0112,1,     13.0,2,     -999,9,     -999,9,     -999,9,     -999,9,20230813,1511, -31.0719,  77.8634,-999          ,9,-999          ,9
33RR20230722  ,I05        ,86      ,  1,16         ,16         ,2,20230813,1408, -31.0719,  77.8634,     3270,    819.5,2,   8.2685,2,  34.5691,2,  34.5684,2,    210.2,2,    211.4,2,    10.25,2,    21.55,2,     0.00,2,     1.47,2,    2.977,2,    1.731,2,   1.3800,2,   -999.0,9,     -999,9,     -999,9,     -999,9,     -999,1,   8.2674,2,     -999,9,     -999,9,     -999,9,     -999,9,     -999,9,   4.9679,1,   0.0112,1,     14.9,2,     -999,9,     -999,9,     -999,9,     -999,9,20230813,1509, -31.0719,  77.8634,-999          ,9,-999          ,9
33RR20230722  ,I05        ,86      ,  1,15         ,15         ,2,20230813,1408, -31.0719,  77.8634,     3270,    926.7,2,   6.8255,2,  34.4565,2,  34.4583,2,    201.7,2,    202.3,2,    17.67,2,    25.70,2,     0.00,2,     1.76,2,    2.302,3,    1.492,2,   0.9500,2,   2179.5,2,   2288.9,2,   7.6590,6,    25.01,2,     -999,1,   6.8272,2,     -999,9,     -999,9,     -999,9,     -999,9,     -999,9,   4.9693,1,   0.0111,1,     17.2,2,     -999,9,     -999,9,     -999,9,     -999,9,20230813,1506, -31.0719,  77.8634,-999          ,9,-999          ,9
33RR20230722  ,I05        ,86      ,  1,14         ,14         ,2,20230813,1408, -31.0719,  77.8634,     3270,   1028.7,2,   5.3250,2,  34.3727,2,  34.3737,2,    199.7,2,    199.7,2,    27.33,2,    29.21,2,     0.00,2,     1.99,2,     -999,9,     -999,9,     -999,9,   -999.0,9,     -999,9,     -999,9,     -999,9,     -999,1,   5.3278,2,     -999,9,     -999,9,     -999,9,     -999,9,     -999,9,   4.7738,1,   0.0112,1,     -999,9,     -999,9,     -999,9,     -999,9,     -999,9,20230813,1503, -31.0719,  77.8634,-999          ,9,-999          ,9
33RR20230722  ,I05        ,86      ,  1,13         ,13         ,2,20230813,1408, -31.0719,  77.8634,     3270,   1118.8,2,   4.5317,2,  34.3701,2,  34.3713,2,    193.0,2,    193.1,2,    36.90,2,    31.10,2,     0.00,2,     2.18,2,     -999,9,     -999,9,     -999,9,   2209.2,2,   2301.7,2,   7.6041,2,    24.99,2,     -999,1,   4.5324,2,     -999,9,     -999,9,     -999,9,     -999,9,     -999,9,   4.9714,1,   0.0111,1,     -999,9,     -999,9,     -999,9,     -999,9,     -999,9,20230813,1500, -31.0719,  77.8634,-999          ,9,-999          ,9
33RR20230722  ,I05        ,86      ,  1,12         ,12         ,2,20230813,1408, -31.0719,  77.8634,     3270,   1219.4,2,   4.0219,2,  34.4213,2,  34.4216,2,    176.8,2,    176.0,2,    50.47,2,    32.79,2,     0.00,2,     2.31,2,     -999,9,     -999,9,     -999,9,   -999.0,9,     -999,9,     -999,9,     -999,9,     -999,1,   4.0214,2,     -999,9,     -999,9,     -999,9,     -999,9,     -999,9,   4.9725,1,   0.0111,1,     -999,9,     -999,9,     -999,9,     -999,9,     -999,9,20230813,1457, -31.0719,  77.8634,-999          ,9,-999          ,9
33RR20230722  ,I05        ,86      ,  1,11         ,11         ,2,20230813,1408, -31.0719,  77.8634,     3270,   1336.8,2,   3.6887,2,  34.4946,2,  34.4944,2,    158.9,2,    158.7,2,    65.30,2,    34.09,2,     0.00,2,     2.40,2,     -999,9,     -999,9,     -999,9,   2252.0,2,   2330.2,2,   7.5647,2,    24.99,2,     -999,1,   3.6879,2,     -999,9,     -999,9,     -999,9,     -999,9,     -999,9,   4.9740,1,   0.0113,1,     -999,9,     -999,9,     -999,9,     -999,9,     -999,9,20230813,1454, -31.0719,  77.8634,-999          ,9,-999          ,9
33RR20230722  ,I05        ,86      ,  1,10         ,10         ,2,20230813,1408, -31.0719,  77.8634,     3270,   1455.1,2,   3.3898,2,  34.5469,2,  34.5466,2,    154.2,2,    154.9,2,    73.99,2,    34.41,2,     0.00,2,     2.43,2,     -999,9,     -999,9,     -999,9,   -999.0,9,     -999,9,     -999,9,     -999,9,     -999,1,   3.3907,2,     -999,9,     -999,9,     -999,9,     -999,9,     -999,9,   4.9744,1,   0.0119,1,     -999,9,     -999,9,     -999,9,     -999,9,     -999,9,20230813,1451, -31.0719,  77.8634,-999          ,9,-999          ,9
33RR20230722  ,I05        ,86      ,  1,9          ,9          ,2,20230813,1408, -31.0719,  77.8634,     3270,   1570.4,2,   3.0901,2,  34.5860,2,  34.5849,2,    157.9,2,    157.3,2,    77.30,2,    34.12,2,     0.00,2,     2.39,2,     -999,9,     -999,9,     -999,9,   2264.5,2,   2342.4,2,   7.5629,2,    24.99,2,     -999,1,   3.0892,2,     -999,9,     -999,9,     -999,9,     -999,9,     -999,9,   4.6590,1,   0.0121,1,     -999,9,     -999,9,     -999,9,     -999,9,     -999,9,20230813,1448, -31.0719,  77.8634,-999          ,9,-999          ,9
33RR20230722  ,I05        ,86      ,  1,8          ,8          ,2,20230813,1408, -31.0719,  77.8634,     3270,   1682.6,2,   2.8260,2,  34.6196,2,  34.6195,2,    164.5,2,    165.2,2,    78.38,2,    33.51,2,     0.00,2,     2.34,2,     -999,9,     -999,9,     -999,9,   -999.0,9,     -999,9,     -999,9,     -999,9,     -999,1,   2.8279,2,     -999,9,     -999,9,     -999,9,     -999,9,     -999,9,   4.9744,1,   0.0112,1,     -999,9,     -999,9,     -999,9,     -999,9,     -999,9,20230813,1445, -31.0719,  77.8634,-999          ,9,-999          ,9
33RR20230722  ,I05        ,86      ,  1,7          ,7          ,2,20230813,1408, -31.0719,  77.8634,     3270,   1811.1,2,   2.6405,2,  34.6534,2,  34.6531,2,    171.0,2,    170.6,2,    78.86,2,    32.76,2,     0.00,2,     2.29,2,     -999,9,     -999,9,     -999,9,   2259.6,2,   2343.2,2,   7.5795,2,    25.00,2,     -999,1,   2.6394,2,     -999,9,     -999,9,     -999,9,     -999,9,     -999,9,   4.9355,1,   0.0112,1,     -999,9,     -999,9,     -999,9,     -999,9,     -999,9,20230813,1442, -31.0719,  77.8634,-999          ,9,-999          ,9
33RR20230722  ,I05        ,86      ,  1,6          ,6          ,2,20230813,1408, -31.0719,  77.8634,     3270,   1979.7,2,   2.4070,2,  34.7022,2,  34.7015,2,    178.8,2,    178.4,2,    82.86,2,    31.85,2,     0.00,2,     2.23,2,     -999,9,     -999,9,     -999,9,   -999.0,9,     -999,9,     -999,9,     -999,9,     -999,1,   2.4067,2,     -999,9,     -999,9,     -999,9,     -999,9,     -999,9,   4.7725,1,   0.0112,1,     -999,9,     -999,9,     -999,9,     -999,9,     -999,9,20230813,1437, -31.0719,  77.8634,-999          ,9,-999          ,9
33RR20230722  ,I05        ,86      ,  1,5          ,5          ,2,20230813,1408, -31.0719,  77.8634,     3270,   2194.6,2,   2.1721,2,  34.7291,2,  34.7292,2,    187.3,2,    188.2,2,    85.98,2,    30.98,2,     0.00,2,     2.16,2,     -999,9,     -999,9,     -999,9,   2253.1,2,   2350.7,6,   7.6093,6,    25.01,2,     -999,1,   2.1715,2,     -999,9,     -999,9,     -999,9,     -999,9,     -999,9,   4.7448,1,   0.0117,1,     -999,9,     -999,9,     -999,9,     -999,9,     -999,9,20230813,1432, -31.0719,  77.8634,-999          ,9,-999          ,9
33RR20230722  ,I05        ,86      ,  1,4          ,37         ,2,20230813,1408, -31.0719,  77.8634,     3270,   2457.3,2,   1.8837,2,  34.7366,2,  34.7359,2,    191.6,2,    191.7,2,    95.35,2,    31.01,2,     0.00,2,     2.16,2,     -999,9,     -999,9,     -999,9,   -999.0,9,     -999,9,     -999,9,     -999,9,     -999,1,   1.8849,2,     -999,9,     -999,9,     -999,9,     -999,9,     -999,9,   4.9743,1,   0.0114,1,     -999,9,     -999,9,     -999,9,     -999,9,     -999,9,20230813,1426, -31.0719,  77.8634,-999          ,9,-999          ,9
33RR20230722  ,I05        ,86      ,  1,3          ,3          ,2,20230813,1408, -31.0719,  77.8634,     3270,   2732.0,2,   1.7093,2,  34.7322,2,  34.7325,2,    191.6,2,    191.8,2,   103.84,2,    31.47,2,     0.00,2,     2.21,2,     -999,9,     -999,9,     -999,9,   2264.7,2,   2365.0,2,   7.6148,2,    25.00,2,     -999,1,   1.7091,2,     -999,9,     -999,9,     -999,9,     -999,9,     -999,9,   4.8609,1,   0.0111,1,     -999,9,     -999,9,     -999,9,     -999,9,     -999,9,20230813,1420, -31.0719,  77.8634,-999          ,9,-999          ,9
33RR20230722  ,I05        ,86      ,  1,2          ,2          ,2,20230813,1408, -31.0719,  77.8634,     3270,   3003.4,2,   1.6160,2,  34.7303,2,  34.7294,2,    192.7,2,    192.7,2,   107.35,2,    31.72,2,     0.00,2,     2.21,2,     -999,9,     -999,9,     -999,9,   2268.9,2,   2368.6,2,   7.6155,2,    24.99,2,     -999,1,   1.6149,2,     -999,9,     -999,9,     -999,9,     -999,9,     -999,9,   4.7790,1,   0.0112,1,     -999,9,     -999,9,     -999,9,     -999,9,     -999,9,20230813,1414, -31.0719,  77.8634,-999          ,9,-999          ,9
33RR20230722  ,I05        ,86      ,  1,1          ,1          ,2,20230813,1408, -31.0719,  77.8634,     3270,   3306.8,2,   1.5945,2,  34.7289,2,  34.7286,2,    193.0,2,    192.8,2,   109.40,2,    31.73,2,     0.00,2,     2.21,2,     -999,9,     -999,9,     -999,9,   2268.3,6,   2370.2,2,   7.6173,6,    25.00,2,     -999,1,   1.5942,2,     -999,9,     -999,9,     -999,9,     -999,9,     -999,9,   0.5732,1,   0.0110,1,     -999,9,     -999,9,     -999,9,     -999,9,     -999,9,20230813,1408, -31.0719,  77.8634,-999          ,9,-999          ,9