BOTTLE,20240422CCHHYDRO
EXPOCODE,SECT_ID,STNNBR,CASTNO,SAMPNO,BTLNBR,BTLNBR_FLAG_W,DATE,TIME,LATITUDE,LONGITUDE,DEPTH,CTDPRS,CTDPRS_FLAG_W,CTDTMP,CTDTMP_FLAG_W,CTDSAL,CTDSAL_FLAG_W,SALNTY,SALNTY_FLAG_W,CTDOXY,CTDOXY_FLAG_W,OXYGEN,OXYGEN_FLAG_W,SILCAT,SILCAT_FLAG_W,NITRAT,NITRAT_FLAG_W,NITRIT,NITRIT_FLAG_W,PHSPHT,PHSPHT_FLAG_W,CFC-11,CFC-11_FLAG_W,CFC-12,CFC-12_FLAG_W,SF6,SF6_FLAG_W,TCARBN,TCARBN_FLAG_W,ALKALI,ALKALI_FLAG_W,PH_TOT,PH_TOT_FLAG_W,PH_TMP,PH_TMP_FLAG_W,DOC,DOC_FLAG_W,REFTMP,REFTMP_FLAG_W,POC,POC_FLAG_W,PON,PON_FLAG_W,POP,POP_FLAG_W,DOP,DOP_FLAG_W,DELO18,DELO18_FLAG_W,CTDFLUOR,CTDFLUOR_FLAG_W,CTDXMISS,CTDXMISS_FLAG_W,N2O,N2O_FLAG_W,D15N_NO3,D15N_NO3_FLAG_W,D15N_NO2+NO3,D15N_NO2+NO3_FLAG_W,D18O_NO2+NO3,D18O_NO2+NO3_FLAG_W,D18O_NO3,D18O_NO3_FLAG_W,BTL_DATE,BTL_TIME,BTL_LAT,BTL_LON,HPLC,HPLC_FLAG_W,DNA,DNA_FLAG_W
,,,,,,,,,,,METERS,DBAR,,ITS-90,,PSS-78,,PSS-78,,UMOL/KG,,UMOL/KG,,UMOL/KG,,UMOL/KG,,UMOL/KG,,UMOL/KG,,PMOL/KG,,PMOL/KG,,FMOL/KG,,UMOL/KG,,UMOL/KG,,,,DEG C,,UMOL/KG,,ITS-90,,UG/KG,,UG/KG,,UG/L,,UMOL/KG,,/MILLE,,VOLTS,,VOLTS,,NMOL/KG,,/MILLE,,/MILLE,,/MILLE,,/MILLE,,,,,,,,,
33RR20230722  ,I05        ,20      ,  1,36         ,36         ,2,20230727,2130, -31.2921, 107.2221,     5089,      6.1,2,  17.8157,2,  35.7978,2,  35.8052,2,    234.3,2,    234.1,2,     1.85,2,     0.08,2,     0.00,2,     0.10,2,     -999,9,     -999,9,     -999,9,   2072.3,2,   2346.2,2,   7.9814,2,    25.01,2,     -999,1,  17.8110,2,     -999,9,     -999,9,     -999,9,     -999,9,     -999,1,   4.8267,1,   0.0242,1,     -999,9,     -999,1,     -999,9,     -999,1,     -999,1,20230727,2336, -31.2921, 107.2221,-999          ,9,-999          ,9
33RR20230722  ,I05        ,20      ,  1,35         ,35         ,2,20230727,2130, -31.2921, 107.2221,     5089,     20.8,2,  17.8211,2,  35.7978,2,  35.7969,2,    234.4,2,    233.9,2,     1.46,2,     0.04,2,     0.00,2,     0.09,2,     -999,9,     -999,9,     -999,9,   2074.6,2,   2347.0,2,   7.9823,6,    25.00,2,     -999,1,  17.8173,2,     -999,9,     -999,9,     -999,9,     -999,9,     -999,1,   4.9756,1,   0.0230,1,     -999,9,     -999,1,     -999,9,     -999,1,     -999,1,20230727,2334, -31.2920, 107.2221,-999          ,9,-999          ,9
33RR20230722  ,I05        ,20      ,  1,34         ,34         ,2,20230727,2130, -31.2921, 107.2221,     5089,     34.6,2,  17.8213,2,  35.7978,2,  35.8030,2,    234.5,2,    234.1,2,     1.27,2,     0.02,2,     0.00,2,     0.07,2,     -999,9,     -999,9,     -999,9,   2077.7,3,   2347.1,2,   7.9814,2,    25.00,2,     -999,1,  17.8214,2,     -999,9,     -999,9,     -999,9,     -999,9,     -999,1,   4.9749,1,   0.0228,1,     -999,9,     -999,1,     -999,9,     -999,1,     -999,1,20230727,2332, -31.2920, 107.2221,-999          ,9,-999          ,9
33RR20230722  ,I05        ,20      ,  1,33         ,33         ,2,20230727,2130, -31.2921, 107.2221,     5089,     58.6,2,  17.8240,2,  35.7986,2,  35.7965,2,    234.5,2,    234.0,2,     1.46,2,     0.01,2,     0.00,2,     0.08,2,     -999,9,     -999,9,     -999,9,   2080.0,3,   2346.7,2,   7.9819,2,    25.00,2,     -999,1,  17.8232,2,     -999,9,     -999,9,     -999,9,     -999,9,     -999,1,   4.9748,1,   0.0221,1,     -999,9,     -999,1,     -999,9,     -999,1,     -999,1,20230727,2331, -31.2921, 107.2221,-999          ,9,-999          ,9
33RR20230722  ,I05        ,20      ,  1,32         ,32         ,2,20230727,2130, -31.2921, 107.2221,     5089,     77.2,2,  17.8257,2,  35.7985,2,  35.8175,3,    234.2,2,    234.1,2,     1.46,2,     0.00,2,     0.00,2,     0.09,2,     -999,9,     -999,9,     -999,9,   2081.9,3,   2347.5,6,   7.9818,2,    24.99,2,     -999,1,  17.8244,2,     -999,9,     -999,9,     -999,9,     -999,9,     -999,1,   4.9746,1,   0.0217,1,     -999,9,     -999,1,     -999,9,     -999,1,     -999,1,20230727,2329, -31.2921, 107.2221,-999          ,9,-999          ,9
33RR20230722  ,I05        ,20      ,  1,31         ,31         ,2,20230727,2130, -31.2921, 107.2221,     5089,    112.5,2,  17.8033,2,  35.8182,2,  35.8173,2,    231.9,2,    232.2,2,     1.56,2,     0.08,2,     0.03,2,     0.12,2,     -999,9,     -999,9,     -999,9,   2088.0,2,   2350.0,2,   7.9731,2,    25.01,2,     -999,1,  17.8029,2,     -999,9,     -999,9,     -999,9,     -999,9,     -999,1,   4.9740,1,   0.0200,1,     -999,9,     -999,1,     -999,9,     -999,1,     -999,1,20230727,2327, -31.2920, 107.2221,-999          ,9,-999          ,9
33RR20230722  ,I05        ,20      ,  1,30         ,30         ,2,20230727,2130, -31.2921, 107.2221,     5089,    147.6,2,  17.0612,2,  35.7522,2,  35.7537,2,    226.7,2,    228.0,2,     1.66,2,     0.81,2,     0.06,2,     0.19,2,     -999,9,     -999,9,     -999,9,   2098.6,3,   2346.4,2,   7.9472,6,    24.99,2,     -999,1,  17.0575,2,     -999,9,     -999,9,     -999,9,     -999,9,     -999,1,   4.9720,1,   0.0128,1,     -999,9,     -999,1,     -999,9,     -999,1,     -999,1,20230727,2325, -31.2920, 107.2221,-999          ,9,-999          ,9
33RR20230722  ,I05        ,20      ,  1,29         ,29         ,2,20230727,2130, -31.2921, 107.2221,     5089,    188.0,2,  15.9900,2,  35.6569,2,  35.6577,2,    229.1,2,    230.7,2,     1.27,2,     1.51,2,     0.03,2,     0.23,2,     -999,9,     -999,9,     -999,9,   2107.7,3,   2342.6,2,   7.9230,2,    24.98,2,     -999,1,  15.9913,2,     -999,9,     -999,9,     -999,9,     -999,9,     -999,1,   4.9714,1,   0.0148,1,     -999,9,     -999,1,     -999,9,     -999,1,     -999,1,20230727,2324, -31.2920, 107.2221,-999          ,9,-999          ,9
33RR20230722  ,I05        ,20      ,  1,28         ,28         ,2,20230727,2130, -31.2921, 107.2221,     5089,    216.0,2,  14.4966,2,  35.4495,2,  35.4460,2,    232.1,2,    232.6,2,     0.68,2,     3.42,2,     0.01,2,     0.35,2,     -999,9,     -999,9,     -999,9,   2116.7,3,   2332.3,2,   7.8880,2,    25.02,2,     -999,1,  14.4959,2,     -999,9,     -999,9,     -999,9,     -999,9,     -999,1,   4.9704,1,   0.0116,1,     -999,9,     -999,1,     -999,9,     -999,1,     -999,1,20230727,2322, -31.2920, 107.2221,-999          ,9,-999          ,9
33RR20230722  ,I05        ,20      ,  1,27         ,27         ,2,20230727,2130, -31.2921, 107.2221,     5089,    247.9,2,  13.8776,2,  35.3537,2,  35.3561,2,    234.5,2,    235.0,2,     1.37,2,     4.37,2,     0.01,2,     0.43,2,     -999,9,     -999,9,     -999,9,   2116.9,2,   2326.2,2,   7.8741,2,    25.01,2,     -999,1,  13.8771,2,     -999,9,     -999,9,     -999,9,     -999,9,     -999,1,   4.9698,1,   0.0118,1,     -999,9,     -999,1,     -999,9,     -999,1,     -999,1,20230727,2321, -31.2920, 107.2221,-999          ,9,-999          ,9
33RR20230722  ,I05        ,20      ,  1,26         ,26         ,2,20230727,2130, -31.2921, 107.2221,     5089,    287.2,2,  13.1591,2,  35.2496,2,  35.2519,2,    236.3,2,    236.4,2,     1.17,2,     5.82,2,     0.01,2,     0.53,2,     -999,9,     -999,9,     -999,9,   2122.4,2,   2322.6,2,   7.8550,2,    25.00,2,     -999,1,  13.1506,2,     -999,9,     -999,9,     -999,9,     -999,9,     -999,1,   4.9694,1,   0.0116,1,     -999,9,     -999,1,     -999,9,     -999,1,     -999,1,20230727,2319, -31.2920, 107.2221,-999          ,9,-999          ,9
33RR20230722  ,I05        ,20      ,  1,25         ,25         ,2,20230727,2130, -31.2921, 107.2221,     5089,    331.3,2,  12.1284,2,  35.0720,2,  35.0736,2,    242.0,2,    241.1,2,     1.56,2,     7.76,2,     0.00,2,     0.64,2,     -999,9,     -999,9,     -999,9,   2128.4,2,   2312.7,2,   7.8305,2,    25.00,2,     -999,1,  12.1282,2,     -999,9,     -999,9,     -999,9,     -999,9,     -999,1,   4.9293,1,   0.0116,1,     -999,9,     -999,1,     -999,9,     -999,1,     -999,1,20230727,2318, -31.2920, 107.2221,-999          ,9,-999          ,9
33RR20230722  ,I05        ,20      ,  1,24         ,24         ,2,20230727,2130, -31.2921, 107.2221,     5089,    395.8,2,  11.0779,2,  34.8988,2,  34.9008,2,    242.1,2,    241.7,2,     1.85,2,    10.58,2,     0.00,2,     0.79,2,     -999,9,     -999,9,     -999,9,   2131.9,2,   2302.9,2,   7.7995,2,    25.00,2,     -999,1,  11.0748,2,     -999,9,     -999,9,     -999,9,     -999,9,     -999,1,   4.9681,1,   0.0114,1,     -999,9,     -999,1,     -999,9,     -999,1,     -999,1,20230727,2316, -31.2920, 107.2221,-999          ,9,-999          ,9
33RR20230722  ,I05        ,20      ,  1,23         ,23         ,2,20230727,2130, -31.2921, 107.2221,     5089,    436.3,2,  10.4859,2,  34.8061,2,  34.8072,2,    243.0,2,    242.3,2,     2.44,2,    12.34,2,     0.00,2,     0.90,2,     -999,9,     -999,9,     -999,9,   2133.6,2,   2298.4,2,   7.7819,2,    24.99,2,     -999,1,  10.4853,2,     -999,9,     -999,9,     -999,9,     -999,9,     -999,1,   4.9414,1,   0.0114,1,     -999,9,     -999,1,     -999,9,     -999,1,     -999,1,20230727,2314, -31.2920, 107.2221,-999          ,9,-999          ,9
33RR20230722  ,I05        ,20      ,  1,22         ,22         ,2,20230727,2130, -31.2921, 107.2221,     5089,    507.4,2,  10.0300,2,  34.7544,2,  34.7555,2,    240.1,2,    239.6,2,     3.22,2,    14.21,2,     0.00,2,     1.00,2,     -999,9,     -999,9,     -999,9,   2138.6,2,   2294.9,2,   7.7646,2,    25.00,2,     -999,1,  10.0286,2,     -999,9,     -999,9,     -999,9,     -999,9,     -999,1,   4.9672,1,   0.0115,1,     -999,9,     -999,1,     -999,9,     -999,1,     -999,1,20230727,2312, -31.2920, 107.2221,-999          ,9,-999          ,9
33RR20230722  ,I05        ,20      ,  1,21         ,21         ,2,20230727,2130, -31.2921, 107.2221,     5089,    609.7,2,   9.4636,2,  34.6968,2,  34.6977,2,    238.3,2,    237.9,2,     4.00,2,    16.09,2,     0.00,2,     1.14,2,     -999,9,     -999,9,     -999,9,   2146.8,2,   2290.5,2,   7.7477,2,    25.00,2,     -999,1,   9.4648,2,     -999,9,     -999,9,     -999,9,     -999,9,     -999,1,   4.9667,1,   0.0115,1,     -999,9,     -999,1,     -999,9,     -999,1,     -999,1,20230727,2309, -31.2920, 107.2221,-999          ,9,-999          ,9
33RR20230722  ,I05        ,20      ,  1,20         ,20         ,2,20230727,2130, -31.2921, 107.2221,     5089,    681.8,2,   9.0406,2,  34.6408,2,  34.6425,2,    235.5,2,    236.0,2,     5.27,2,    17.42,2,     0.00,2,     1.25,2,     -999,9,     -999,9,     -999,9,   2148.7,2,   2288.4,2,   7.7379,6,    24.99,2,     -999,1,   9.0373,2,     -999,9,     -999,9,     -999,9,     -999,9,     -999,1,   4.9665,1,   0.0114,1,     -999,9,     -999,1,     -999,9,     -999,1,     -999,1,20230727,2307, -31.2921, 107.2221,-999          ,9,-999          ,9
33RR20230722  ,I05        ,20      ,  1,19         ,19         ,2,20230727,2130, -31.2921, 107.2221,     5089,    793.3,2,   7.4574,2,  34.4851,2,  34.4907,2,    205.9,2,    207.6,2,    12.50,2,    23.48,2,     0.00,2,     1.61,2,     -999,9,     -999,9,     -999,9,   2169.3,2,   2287.4,2,   7.6769,2,    24.98,2,     -999,1,   7.5275,2,     -999,9,     -999,9,     -999,9,     -999,9,     -999,1,   4.8530,1,   0.0111,1,     -999,9,     -999,1,     -999,9,     -999,1,     -999,1,20230727,2304, -31.2920, 107.2221,-999          ,9,-999          ,9
33RR20230722  ,I05        ,20      ,  1,18         ,18         ,2,20230727,2130, -31.2921, 107.2221,     5089,    963.3,2,   5.0992,2,  34.3787,2,  34.3800,2,    192.2,2,    192.9,2,    31.14,2,    29.81,2,     0.00,2,     2.02,2,     -999,9,     -999,9,     -999,9,   2203.0,2,   2298.1,2,   7.6161,2,    24.99,2,     -999,1,   5.1008,2,     -999,9,     -999,9,     -999,9,     -999,9,     -999,1,   4.9708,1,   0.0111,1,     -999,9,     -999,1,     -999,9,     -999,1,     -999,1,20230727,2300, -31.2920, 107.2221,-999          ,9,-999          ,9
33RR20230722  ,I05        ,20      ,  1,17         ,17         ,2,20230727,2130, -31.2921, 107.2221,     5089,   1062.8,2,   4.2679,2,  34.4065,2,  34.4078,2,    178.7,2,    179.4,2,    46.47,2,    31.98,2,     0.00,2,     2.22,2,     -999,9,     -999,9,     -999,9,   2226.2,2,   2309.2,6,   7.5903,2,    24.99,2,     -999,1,   4.2791,2,     -999,9,     -999,9,     -999,9,     -999,9,     -999,1,   4.9723,1,   0.0111,1,     -999,9,     -999,1,     -999,9,     -999,1,     -999,1,20230727,2257, -31.2921, 107.2221,-999          ,9,-999          ,9
33RR20230722  ,I05        ,20      ,  1,16         ,16         ,2,20230727,2130, -31.2921, 107.2221,     5089,   1206.7,2,   3.5045,2,  34.4513,2,  34.4522,2,    171.4,2,    172.0,2,    59.65,2,    33.28,2,     0.00,2,     2.34,2,     -999,9,     -999,9,     -999,9,   2240.8,2,   2320.9,2,   7.5727,6,    24.99,2,     -999,1,   3.5064,2,     -999,9,     -999,9,     -999,9,     -999,9,     -999,1,   4.9732,1,   0.0113,1,     -999,9,     -999,1,     -999,9,     -999,1,     -999,1,20230727,2254, -31.2921, 107.2221,-999          ,9,-999          ,9
33RR20230722  ,I05        ,20      ,  1,15         ,15         ,2,20230727,2130, -31.2921, 107.2221,     5089,   1385.1,2,   3.2243,2,  34.5387,2,  34.5392,2,    156.3,2,    155.5,2,    75.94,2,    34.36,2,     0.00,2,     2.40,2,     -999,9,     -999,9,     -999,9,   2260.5,6,   2338.2,2,   7.5590,2,    24.99,2,     -999,1,   3.2350,2,     -999,9,     -999,9,     -999,9,     -999,9,     -999,1,   4.9531,1,   0.0113,1,     -999,9,     -999,1,     -999,9,     -999,1,     -999,1,20230727,2250, -31.2920, 107.2221,-999          ,9,-999          ,9
33RR20230722  ,I05        ,20      ,  1,14         ,14         ,2,20230727,2130, -31.2921, 107.2221,     5089,   1518.5,2,   2.9698,2,  34.5892,2,  34.5906,2,    155.7,2,    155.3,2,    80.82,2,    34.32,2,     0.00,2,     2.38,2,     -999,9,     -999,9,     -999,9,   2267.3,2,   2344.5,2,   7.5604,2,    24.99,2,     -999,1,   2.9702,2,     -999,9,     -999,9,     -999,9,     -999,9,     -999,1,   4.9746,1,   0.0111,1,     -999,9,     -999,1,     -999,9,     -999,1,     -999,1,20230727,2246, -31.2920, 107.2221,-999          ,9,-999          ,9
33RR20230722  ,I05        ,20      ,  1,13         ,13         ,2,20230727,2130, -31.2921, 107.2221,     5089,   1673.5,2,   2.8052,2,  34.6449,3,  34.6543,2,    154.5,2,    153.5,2,    89.11,2,    34.00,2,     0.00,2,     2.36,2,     -999,9,     -999,9,     -999,9,   2277.2,2,   2356.5,2,   7.5701,2,    24.98,2,     -999,1,   2.8048,2,     -999,9,     -999,9,     -999,9,     -999,9,     -999,1,   4.9752,1,   0.0111,1,     -999,9,     -999,1,     -999,9,     -999,1,     -999,1,20230727,2243, -31.2921, 107.2221,-999          ,9,-999          ,9
33RR20230722  ,I05        ,20      ,  1,12         ,12         ,2,20230727,2130, -31.2921, 107.2221,     5089,   1906.4,2,   2.5027,2,  34.6972,2,  34.6979,2,    157.5,2,    157.3,2,    99.85,2,    33.59,2,     0.00,2,     2.35,2,     -999,9,     -999,9,     -999,9,   2283.5,2,   2368.6,2,   7.5791,2,    25.00,2,     -999,1,   2.5046,2,     -999,9,     -999,9,     -999,9,     -999,9,     -999,1,   4.9754,1,   0.0125,1,     -999,9,     -999,1,     -999,9,     -999,1,     -999,1,20230727,2238, -31.2920, 107.2222,-999          ,9,-999          ,9
33RR20230722  ,I05        ,20      ,  1,11         ,11         ,2,20230727,2130, -31.2921, 107.2221,     5089,   2154.2,2,   2.2419,2,  34.7164,3,  34.7355,2,    164.4,2,    164.7,2,   105.21,2,    33.03,2,     0.00,2,     2.32,2,     -999,9,     -999,9,     -999,9,   2281.9,2,   2373.8,2,   7.5892,2,    24.99,2,     -999,1,   2.2421,2,     -999,9,     -999,9,     -999,9,     -999,9,     -999,1,   4.9754,1,   0.0111,1,     -999,9,     -999,1,     -999,9,     -999,1,     -999,1,20230727,2232, -31.2921, 107.2221,-999          ,9,-999          ,9
33RR20230722  ,I05        ,20      ,  1,10         ,10         ,2,20230727,2130, -31.2921, 107.2221,     5089,   2370.3,2,   2.0553,2,  34.7242,2,  34.7245,2,    170.5,2,    170.6,2,   109.31,2,    32.75,2,     0.00,2,     2.28,2,     -999,9,     -999,9,     -999,9,   2281.5,2,   2374.8,2,   7.5978,2,    25.00,2,     -999,1,   2.0553,2,     -999,9,     -999,9,     -999,9,     -999,9,     -999,1,   4.9753,1,   0.0117,1,     -999,9,     -999,1,     -999,9,     -999,1,     -999,1,20230727,2227, -31.2920, 107.2221,-999          ,9,-999          ,9
33RR20230722  ,I05        ,20      ,  1,9          ,9          ,2,20230727,2130, -31.2921, 107.2221,     5089,   2737.4,2,   1.7928,2,  34.7279,2,  34.7282,2,    177.8,2,    178.1,2,   110.97,2,    32.50,2,     0.00,2,     2.25,2,     -999,9,     -999,9,     -999,9,   2280.3,2,   2378.6,2,   7.6070,2,    24.99,2,     -999,1,   1.7932,2,     -999,9,     -999,9,     -999,9,     -999,9,     -999,1,   4.9758,1,   0.0113,1,     -999,9,     -999,1,     -999,9,     -999,1,     -999,1,20230727,2220, -31.2920, 107.2221,-999          ,9,-999          ,9
33RR20230722  ,I05        ,20      ,  1,8          ,8          ,2,20230727,2130, -31.2921, 107.2221,     5089,   3230.7,2,   1.4912,2,  34.7253,2,  34.7254,2,    187.3,2,    187.8,2,   115.36,2,    32.38,2,     0.00,2,     2.24,2,     -999,9,     -999,9,     -999,9,   2278.0,2,   2379.7,2,   7.6135,2,    24.99,2,     -999,1,   1.4921,2,     -999,9,     -999,9,     -999,9,     -999,9,     -999,1,   4.9527,1,   0.0111,1,     -999,9,     -999,1,     -999,9,     -999,1,     -999,1,20230727,2211, -31.2921, 107.2221,-999          ,9,-999          ,9
33RR20230722  ,I05        ,20      ,  1,7          ,7          ,2,20230727,2130, -31.2921, 107.2221,     5089,   3588.4,2,   1.2931,2,  34.7203,2,  34.7207,2,    193.1,2,    193.6,2,   119.66,2,    32.35,2,     0.00,2,     2.23,2,     -999,9,     -999,9,     -999,9,   2275.3,2,   2381.5,2,   7.6181,2,    24.99,2,     -999,1,   1.2934,2,     -999,9,     -999,9,     -999,9,     -999,9,     -999,1,   4.9763,1,   0.0111,1,     -999,9,     -999,1,     -999,9,     -999,1,     -999,1,20230727,2204, -31.2920, 107.2222,-999          ,9,-999          ,9
33RR20230722  ,I05        ,20      ,  1,6          ,6          ,2,20230727,2130, -31.2921, 107.2221,     5089,   3817.0,2,   1.2427,2,  34.7180,2,  34.7182,2,    194.4,2,    194.6,2,   121.61,2,    32.46,2,     0.00,2,     2.22,2,     -999,9,     -999,9,     -999,9,   2277.5,2,   2382.4,6,   7.6205,6,    24.99,2,     -999,1,   1.2430,2,     -999,9,     -999,9,     -999,9,     -999,9,     -999,1,   4.9070,1,   0.0111,1,     -999,9,     -999,1,     -999,9,     -999,1,     -999,1,20230727,2159, -31.2921, 107.2221,-999          ,9,-999          ,9
33RR20230722  ,I05        ,20      ,  1,5          ,5          ,2,20230727,2130, -31.2921, 107.2221,     5089,   4134.1,2,   1.1378,2,  34.7140,2,  34.7131,2,    199.2,2,    199.3,2,   122.20,2,    32.46,2,     0.00,2,     2.23,2,     -999,9,     -999,9,     -999,9,   2275.0,2,   2379.8,2,   7.6217,2,    25.01,2,     -999,1,   1.1385,2,     -999,9,     -999,9,     -999,9,     -999,9,     -999,1,   4.9564,1,   0.0112,1,     -999,9,     -999,1,     -999,9,     -999,1,     -999,1,20230727,2152, -31.2921, 107.2221,-999          ,9,-999          ,9
33RR20230722  ,I05        ,20      ,  1,4          ,37         ,2,20230727,2130, -31.2921, 107.2221,     5089,   4646.0,2,   1.0457,2,  34.7088,2,  34.7091,2,    204.7,2,    204.9,2,   121.03,2,    32.24,2,     0.00,2,     2.22,2,     -999,9,     -999,9,     -999,9,   2270.7,2,   2375.9,2,   7.6210,2,    25.00,2,     -999,1,   1.0461,2,     -999,9,     -999,9,     -999,9,     -999,9,     -999,1,   4.9769,1,   0.0111,1,     -999,9,     -999,1,     -999,9,     -999,1,     -999,1,20230727,2143, -31.2921, 107.2221,-999          ,9,-999          ,9
33RR20230722  ,I05        ,20      ,  1,3          ,3          ,2,20230727,2130, -31.2921, 107.2221,     5089,   4971.4,2,   1.0563,2,  34.7073,3,  34.7191,2,    205.9,2,    205.9,2,   122.10,2,    32.28,2,     0.00,2,     2.22,2,     -999,9,     -999,9,     -999,9,   2269.0,2,   2373.7,2,   7.6196,2,    24.99,2,     -999,1,   1.0565,2,     -999,9,     -999,9,     -999,9,     -999,9,     -999,1,   4.9719,1,   0.0111,1,     -999,9,     -999,1,     -999,9,     -999,1,     -999,1,20230727,2136, -31.2921, 107.2221,-999          ,9,-999          ,9