BOTTLE,20240422CCHHYDRO
EXPOCODE,SECT_ID,STNNBR,CASTNO,SAMPNO,BTLNBR,BTLNBR_FLAG_W,DATE,TIME,LATITUDE,LONGITUDE,DEPTH,CTDPRS,CTDPRS_FLAG_W,CTDTMP,CTDTMP_FLAG_W,CTDSAL,CTDSAL_FLAG_W,SALNTY,SALNTY_FLAG_W,CTDOXY,CTDOXY_FLAG_W,OXYGEN,OXYGEN_FLAG_W,SILCAT,SILCAT_FLAG_W,NITRAT,NITRAT_FLAG_W,NITRIT,NITRIT_FLAG_W,PHSPHT,PHSPHT_FLAG_W,CFC-11,CFC-11_FLAG_W,CFC-12,CFC-12_FLAG_W,SF6,SF6_FLAG_W,TCARBN,TCARBN_FLAG_W,ALKALI,ALKALI_FLAG_W,PH_TOT,PH_TOT_FLAG_W,PH_TMP,PH_TMP_FLAG_W,DOC,DOC_FLAG_W,REFTMP,REFTMP_FLAG_W,POC,POC_FLAG_W,PON,PON_FLAG_W,POP,POP_FLAG_W,DOP,DOP_FLAG_W,DELO18,DELO18_FLAG_W,CTDFLUOR,CTDFLUOR_FLAG_W,CTDXMISS,CTDXMISS_FLAG_W,N2O,N2O_FLAG_W,D15N_NO3,D15N_NO3_FLAG_W,D15N_NO2+NO3,D15N_NO2+NO3_FLAG_W,D18O_NO2+NO3,D18O_NO2+NO3_FLAG_W,D18O_NO3,D18O_NO3_FLAG_W,BTL_DATE,BTL_TIME,BTL_LAT,BTL_LON,HPLC,HPLC_FLAG_W,DNA,DNA_FLAG_W
,,,,,,,,,,,METERS,DBAR,,ITS-90,,PSS-78,,PSS-78,,UMOL/KG,,UMOL/KG,,UMOL/KG,,UMOL/KG,,UMOL/KG,,UMOL/KG,,PMOL/KG,,PMOL/KG,,FMOL/KG,,UMOL/KG,,UMOL/KG,,,,DEG C,,UMOL/KG,,ITS-90,,UG/KG,,UG/KG,,UG/L,,UMOL/KG,,/MILLE,,VOLTS,,VOLTS,,NMOL/KG,,/MILLE,,/MILLE,,/MILLE,,/MILLE,,,,,,,,,
33RR20230722  ,I05        ,96      ,  1,36         ,36         ,2,20230816,0441, -34.4022,  73.2477,     4907,      6.4,2,  15.0588,2,  35.3201,2,  35.3200,2,    251.7,2,    251.0,2,     1.37,2,     1.23,2,     0.12,2,     0.25,2,     -999,9,     -999,9,     -999,9,   2087.9,2,   2325.7,2,   7.9205,2,    25.00,2,     -999,1,  15.0623,2,     -999,9,     -999,9,     -999,9,     -999,9,     -999,1,   4.7423,1,   0.0200,1,     -999,9,     -999,1,     -999,1,     -999,1,     -999,1,20230816,0645, -34.4022,  73.2477,-999          ,9,-999          ,9
33RR20230722  ,I05        ,96      ,  1,35         ,35         ,2,20230816,0441, -34.4022,  73.2477,     4907,     22.7,2,  14.9964,2,  35.3199,2,     -999,5,    251.2,2,    251.3,2,     1.37,2,     1.21,2,     0.13,2,     0.25,2,     -999,9,     -999,9,     -999,9,   2088.5,6,   2323.7,2,   7.9199,2,    25.01,2,     -999,1,  14.9959,2,     -999,9,     -999,9,     -999,9,     -999,9,     -999,1,   4.9749,1,   0.0396,1,     -999,9,     -999,1,     -999,1,     -999,1,     -999,1,20230816,0643, -34.4022,  73.2477,-999          ,9,-999          ,9
33RR20230722  ,I05        ,96      ,  1,34         ,34         ,2,20230816,0441, -34.4022,  73.2477,     4907,     42.2,2,  14.9660,2,  35.3188,2,  35.3191,2,    248.0,2,    248.4,2,     1.27,2,     1.35,2,     0.17,2,     0.27,2,     -999,9,     -999,9,     -999,9,   -999.0,9,     -999,9,     -999,9,     -999,9,     -999,1,  14.9652,2,     -999,9,     -999,9,     -999,9,     -999,9,     -999,1,   4.9203,1,   0.0417,1,     -999,9,     -999,1,     -999,1,     -999,1,     -999,1,20230816,0641, -34.4022,  73.2477,-999          ,9,-999          ,9
33RR20230722  ,I05        ,96      ,  1,33         ,33         ,2,20230816,0441, -34.4022,  73.2477,     4907,     63.3,2,  14.9608,2,  35.3180,2,  35.3179,2,    247.3,2,    247.6,2,     1.37,2,     1.37,2,     0.18,2,     0.26,2,     -999,9,     -999,9,     -999,9,   2091.5,2,   2320.9,2,   7.9156,6,    25.01,2,     -999,1,  14.9599,2,     -999,9,     -999,9,     -999,9,     -999,9,     -999,1,   4.9739,1,   0.0394,1,     -999,9,     -999,1,     -999,1,     -999,1,     -999,1,20230816,0640, -34.4022,  73.2477,-999          ,9,-999          ,9
33RR20230722  ,I05        ,96      ,  1,32         ,32         ,2,20230816,0441, -34.4022,  73.2477,     4907,     90.2,2,  14.9428,2,  35.3170,2,  35.3169,2,    247.8,2,    248.2,2,     1.37,2,     1.38,2,     0.16,2,     0.27,2,     -999,9,     -999,9,     -999,9,   -999.0,9,     -999,9,     -999,9,     -999,9,     -999,1,  14.9420,2,     -999,9,     -999,9,     -999,9,     -999,9,     -999,1,   4.9735,1,   0.0395,1,     -999,9,     -999,1,     -999,1,     -999,1,     -999,1,20230816,0638, -34.4022,  73.2477,-999          ,9,-999          ,9
33RR20230722  ,I05        ,96      ,  1,31         ,31         ,2,20230816,0441, -34.4022,  73.2477,     4907,    117.7,2,  14.8223,2,  35.3182,2,  35.3183,2,    247.4,2,    247.7,2,     1.46,2,     1.60,2,     0.18,2,     0.28,2,    2.493,3,    1.480,2,   2.4400,2,   2093.8,2,   2323.7,6,   7.9126,2,    25.00,2,     -999,1,  14.8202,2,     -999,9,     -999,9,     -999,9,     -999,9,     -999,1,   4.9732,1,   0.0298,1,      9.0,2,     -999,1,     -999,1,     -999,1,     -999,1,20230816,0636, -34.4022,  73.2477,-999          ,9,-999          ,9
33RR20230722  ,I05        ,96      ,  1,30         ,30         ,2,20230816,0441, -34.4022,  73.2477,     4907,    146.1,2,  14.6383,2,  35.2925,2,  35.2936,2,    247.1,2,    247.3,2,     1.46,2,     2.03,2,     0.20,2,     0.31,2,     -999,9,     -999,9,     -999,9,   2095.8,2,   2319.7,2,   7.9058,2,    25.00,2,     -999,1,  14.6382,2,     -999,9,     -999,9,     -999,9,     -999,9,     -999,1,   4.9073,1,   0.0224,1,     -999,9,     -999,1,     -999,1,     -999,1,     -999,1,20230816,0634, -34.4022,  73.2476,-999          ,9,-999          ,9
33RR20230722  ,I05        ,96      ,  1,29         ,29         ,2,20230816,0441, -34.4022,  73.2477,     4907,    177.2,2,  13.8625,2,  35.2951,2,  35.2942,2,    227.4,3,    230.0,2,     2.73,2,     6.49,2,     0.01,2,     0.56,2,     -999,9,     -999,9,     -999,9,   2118.8,2,   2317.2,2,   7.8538,2,    25.00,2,     -999,1,  13.8583,2,     -999,9,     -999,9,     -999,9,     -999,9,     -999,1,   4.6729,1,   0.0126,1,     -999,9,     -999,1,     -999,1,     -999,1,     -999,1,20230816,0632, -34.4022,  73.2477,-999          ,9,-999          ,9
33RR20230722  ,I05        ,96      ,  1,28         ,28         ,2,20230816,0441, -34.4022,  73.2477,     4907,    209.5,2,  13.4273,2,  35.2521,2,  35.2528,2,    230.9,2,    232.5,2,     3.03,2,     7.31,2,     0.00,2,     0.60,2,     -999,9,     -999,9,     -999,9,   2118.0,2,   2315.3,2,   7.8474,2,    24.99,2,     -999,1,  13.4265,2,     -999,9,     -999,9,     -999,9,     -999,9,     -999,1,   4.9693,1,   0.0118,1,     -999,9,     -999,1,     -999,1,     -999,1,     -999,1,20230816,0630, -34.4022,  73.2477,-999          ,9,-999          ,9
33RR20230722  ,I05        ,96      ,  1,27         ,27         ,2,20230816,0441, -34.4022,  73.2477,     4907,    244.8,2,  13.2236,2,  35.2338,2,  35.2339,2,    234.0,2,    235.0,2,     2.93,2,     7.49,2,     0.00,2,     0.61,2,    2.540,3,    1.610,2,   2.4000,2,   2119.4,2,   2316.9,6,   7.8433,2,    25.01,2,     -999,1,  13.2232,2,     -999,9,     -999,9,     -999,9,     -999,9,     -999,1,   4.9693,1,   0.0116,1,     10.6,2,     -999,1,     -999,1,     -999,1,     -999,1,20230816,0629, -34.4022,  73.2477,-999          ,9,-999          ,9
33RR20230722  ,I05        ,96      ,  1,26         ,26         ,2,20230816,0441, -34.4022,  73.2477,     4907,    288.4,2,  13.0202,2,  35.2095,2,  35.2091,2,    236.3,2,    236.9,2,     3.22,2,     7.95,2,     0.00,2,     0.64,2,     -999,9,     -999,9,     -999,9,   -999.0,9,     -999,9,     -999,9,     -999,9,     -999,1,  13.0195,2,     -999,9,     -999,9,     -999,9,     -999,9,     -999,1,   4.9690,1,   0.0120,1,     -999,9,     -999,1,     -999,1,     -999,1,     -999,1,20230816,0627, -34.4022,  73.2477,-999          ,9,-999          ,9
33RR20230722  ,I05        ,96      ,  1,25         ,25         ,2,20230816,0441, -34.4022,  73.2477,     4907,    340.0,2,  12.7295,2,  35.1679,2,  35.1693,2,    237.5,2,    237.6,2,     3.22,2,     8.47,2,     0.00,2,     0.68,2,     -999,9,     -999,9,     -999,9,   2122.6,2,   2311.8,2,   7.8339,6,    25.01,2,     -999,1,  12.7283,2,     -999,9,     -999,9,     -999,9,     -999,9,     -999,1,   4.7659,1,   0.0115,1,     -999,9,     -999,1,     -999,1,     -999,1,     -999,1,20230816,0625, -34.4022,  73.2477,-999          ,9,-999          ,9
33RR20230722  ,I05        ,96      ,  1,24         ,24         ,2,20230816,0441, -34.4022,  73.2477,     4907,    400.2,2,  12.3017,2,  35.0998,2,  35.1004,2,    236.5,2,    236.6,2,     3.51,2,     9.60,2,     0.00,2,     0.75,2,     -999,9,     -999,9,     -999,9,   2124.5,2,   2308.8,2,   7.8218,2,    25.00,2,     -999,1,  12.2998,2,     -999,9,     -999,9,     -999,9,     -999,9,     -999,1,   4.8896,1,   0.0116,1,     -999,9,     -999,1,     -999,1,     -999,1,     -999,1,20230816,0623, -34.4022,  73.2477,-999          ,9,-999          ,9
33RR20230722  ,I05        ,96      ,  1,23         ,23         ,2,20230816,0441, -34.4022,  73.2477,     4907,    466.3,2,  11.9143,2,  35.0389,2,  35.0394,2,    240.5,2,    239.7,2,     3.71,2,    10.30,2,     0.00,2,     0.78,2,    2.702,3,    1.717,2,   2.4200,2,   2125.9,2,   2307.2,2,   7.8148,2,    25.01,2,     -999,1,  11.9143,2,     -999,9,     -999,9,     -999,9,     -999,9,     -999,1,   4.7902,1,   0.0115,1,     10.8,2,     -999,1,     -999,1,     -999,1,     -999,1,20230816,0620, -34.4022,  73.2477,-999          ,9,-999          ,9
33RR20230722  ,I05        ,96      ,  1,22         ,22         ,2,20230816,0441, -34.4022,  73.2477,     4907,    545.5,2,  11.3897,2,  34.9559,2,  34.9593,2,    235.7,2,    235.0,2,     4.20,2,    11.97,2,     0.00,2,     0.88,2,     -999,9,     -999,9,     -999,9,   2133.0,2,   2301.7,2,   7.7986,2,    25.01,2,     -999,1,  11.3916,2,     -999,9,     -999,9,     -999,9,     -999,9,     -999,1,   4.9672,1,   0.0116,1,     -999,9,     -999,1,     -999,1,     -999,1,     -999,1,20230816,0618, -34.4022,  73.2477,-999          ,9,-999          ,9
33RR20230722  ,I05        ,96      ,  1,21         ,21         ,2,20230816,0441, -34.4022,  73.2477,     4907,    632.4,2,  10.5354,2,  34.8297,2,  34.8302,2,    225.4,2,    225.7,2,     5.27,2,    14.81,2,     0.00,2,     1.07,2,     -999,9,     -999,9,     -999,9,   2137.9,2,   2297.2,2,   7.7681,2,    25.01,2,     -999,1,  10.5347,2,     -999,9,     -999,9,     -999,9,     -999,9,     -999,1,   4.8455,1,   0.0114,1,     -999,9,     -999,1,     -999,1,     -999,1,     -999,1,20230816,0615, -34.4022,  73.2477,-999          ,9,-999          ,9
33RR20230722  ,I05        ,96      ,  1,20         ,20         ,2,20230816,0441, -34.4022,  73.2477,     4907,    748.6,2,   9.1528,2,  34.6637,2,  34.6637,2,    214.8,2,    215.3,2,     8.59,2,    19.00,2,     0.00,2,     1.35,2,    3.001,3,    1.798,2,   1.5800,2,   2151.6,2,   2292.5,2,   7.7234,2,    25.00,2,     -999,1,   9.1527,2,     -999,9,     -999,9,     -999,9,     -999,9,     -999,1,   4.7908,1,   0.0114,1,     14.4,2,     -999,1,     -999,1,     -999,1,     -999,1,20230816,0612, -34.4022,  73.2477,-999          ,9,-999          ,9
33RR20230722  ,I05        ,96      ,  1,19         ,19         ,2,20230816,0441, -34.4022,  73.2477,     4907,    875.5,2,   7.5621,2,  34.5132,2,  34.5166,2,    207.9,2,    208.4,2,    14.26,2,    23.41,2,     0.00,2,     1.62,2,     -999,9,     -999,9,     -999,9,   2168.2,2,   2289.0,2,   7.6795,2,    25.00,2,     -999,1,   7.5909,2,     -999,9,     -999,9,     -999,9,     -999,9,     -999,1,   4.9583,1,   0.0112,1,     -999,9,     -999,1,     -999,1,     -999,1,     -999,1,20230816,0609, -34.4022,  73.2477,-999          ,9,-999          ,9
33RR20230722  ,I05        ,96      ,  1,18         ,18         ,2,20230816,0441, -34.4022,  73.2477,     4907,    997.5,2,   5.6995,2,  34.3706,2,  34.3721,2,    210.2,2,    210.0,2,    22.26,2,    27.66,2,     0.00,2,     1.92,2,     -999,9,     -999,9,     -999,9,   -999.0,9,     -999,9,     -999,9,     -999,9,     -999,1,   5.6915,2,     -999,9,     -999,9,     -999,9,     -999,9,     -999,1,   4.9694,1,   0.0111,1,     -999,9,     -999,1,     -999,1,     -999,1,     -999,1,20230816,0606, -34.4022,  73.2477,-999          ,9,-999          ,9
33RR20230722  ,I05        ,96      ,  1,17         ,17         ,2,20230816,0441, -34.4022,  73.2477,     4907,   1124.7,2,   4.5541,2,  34.3416,2,  34.3429,2,    204.4,2,    204.2,2,    32.42,2,    30.40,2,     0.00,2,     2.09,2,    2.356,3,    1.327,2,   0.7700,2,   2199.8,2,   2295.4,2,   7.6098,2,    25.00,2,     -999,1,   4.5534,2,     -999,9,     -999,9,     -999,9,     -999,9,     -999,1,   4.6999,1,   0.0112,1,     19.4,2,     -999,1,     -999,1,     -999,1,     -999,1,20230816,0603, -34.4022,  73.2477,-999          ,9,-999          ,9
33RR20230722  ,I05        ,96      ,  1,16         ,16         ,2,20230816,0441, -34.4022,  73.2477,     4907,   1235.8,2,   3.9355,2,  34.3682,2,  34.3704,2,    193.5,2,    193.8,2,    42.38,2,    32.04,2,     0.00,2,     2.24,2,     -999,9,     -999,9,     -999,9,   -999.0,9,     -999,9,     -999,9,     -999,9,     -999,1,   3.9295,2,     -999,9,     -999,9,     -999,9,     -999,9,     -999,1,   4.9716,1,   0.0112,1,     -999,9,     -999,1,     -999,1,     -999,1,     -999,1,20230816,0600, -34.4022,  73.2477,-999          ,9,-999          ,9
33RR20230722  ,I05        ,96      ,  1,15         ,15         ,2,20230816,0441, -34.4022,  73.2477,     4907,   1349.8,2,   3.4691,2,  34.4290,2,  34.4296,2,    181.0,2,    181.8,2,    53.32,2,    33.37,2,     0.00,2,     2.30,2,     -999,9,     -999,9,     -999,9,   2230.9,2,   2314.5,2,   7.5743,2,    25.01,2,     -999,1,   3.4522,2,     -999,9,     -999,9,     -999,9,     -999,9,     -999,1,   4.8715,1,   0.0112,1,     -999,9,     -999,1,     -999,1,     -999,1,     -999,1,20230816,0556, -34.4022,  73.2477,-999          ,9,-999          ,9
33RR20230722  ,I05        ,96      ,  1,14         ,14         ,2,20230816,0441, -34.4022,  73.2477,     4907,   1470.0,2,   3.1746,2,  34.4863,2,  34.4895,2,    173.4,2,    173.2,2,    61.81,2,    33.93,2,     0.00,2,     2.35,2,     -999,9,     -999,9,     -999,9,   2241.3,2,   2323.7,2,   7.5668,2,    24.99,2,     -999,1,   3.1748,2,     -999,9,     -999,9,     -999,9,     -999,9,     -999,1,   4.1368,1,   0.0112,1,     -999,9,     -999,1,     -999,1,     -999,1,     -999,1,20230816,0553, -34.4022,  73.2477,-999          ,9,-999          ,9
33RR20230722  ,I05        ,96      ,  1,13         ,13         ,2,20230816,0441, -34.4022,  73.2477,     4907,   1594.2,2,   2.9431,2,  34.5529,2,  34.5547,2,    169.6,2,    169.5,2,    68.64,2,    33.70,2,     0.00,2,     2.35,2,    0.486,3,    0.269,2,   0.0600,2,   2249.3,2,   2330.9,2,   7.5687,6,    25.00,2,     -999,1,   2.9406,2,     -999,9,     -999,9,     -999,9,     -999,9,     -999,1,   4.9408,1,   0.0111,1,     22.0,2,     -999,1,     -999,1,     -999,1,     -999,1,20230816,0550, -34.4022,  73.2477,-999          ,9,-999          ,9
33RR20230722  ,I05        ,96      ,  1,12         ,12         ,2,20230816,0441, -34.4022,  73.2477,     4907,   1724.1,2,   2.7553,2,  34.6066,2,  34.6079,2,    171.3,2,    171.4,2,    72.54,2,    33.17,2,     0.00,2,     2.32,2,     -999,9,     -999,9,     -999,9,   -999.0,9,     -999,9,     -999,9,     -999,9,     -999,1,   2.7550,2,     -999,9,     -999,9,     -999,9,     -999,9,     -999,1,   4.9740,1,   0.0110,1,     -999,9,     -999,1,     -999,1,     -999,1,     -999,1,20230816,0547, -34.4022,  73.2477,-999          ,9,-999          ,9
33RR20230722  ,I05        ,96      ,  1,11         ,11         ,2,20230816,0441, -34.4022,  73.2477,     4907,   1872.4,2,   2.5994,2,  34.6546,2,  34.6565,2,    174.9,2,    174.8,2,    75.86,2,    32.44,2,     0.00,2,     2.26,2,    0.225,3,    0.116,2,   0.0500,2,   2252.7,2,   2339.9,2,   7.5837,2,    25.00,2,     -999,1,   2.5971,2,     -999,9,     -999,9,     -999,9,     -999,9,     -999,1,   4.9745,1,   0.0118,1,     20.6,2,     -999,1,     -999,1,     -999,1,     -999,1,20230816,0543, -34.4022,  73.2477,-999          ,9,-999          ,9
33RR20230722  ,I05        ,96      ,  1,10         ,10         ,2,20230816,0441, -34.4022,  73.2477,     4907,   2072.0,2,   2.3506,2,  34.7036,2,  34.7032,2,    181.3,2,    181.4,2,    81.62,2,    31.58,2,     0.00,2,     2.21,2,     -999,9,     -999,9,     -999,9,   2250.2,2,   2346.1,2,   7.5982,2,    25.02,2,     -999,1,   2.3535,2,     -999,9,     -999,9,     -999,9,     -999,9,     -999,1,   4.9745,1,   0.0111,1,     -999,9,     -999,1,     -999,1,     -999,1,     -999,1,20230816,0539, -34.4022,  73.2477,-999          ,9,-999          ,9
33RR20230722  ,I05        ,96      ,  1,9          ,9          ,2,20230816,0441, -34.4022,  73.2477,     4907,   2302.3,2,   2.1017,2,  34.7241,2,  34.7250,2,    183.5,2,    183.7,2,    92.65,2,    31.57,2,     0.00,2,     2.21,2,    0.043,3,    0.032,2,   0.0500,2,   2260.3,2,   2356.7,2,   7.6065,2,    25.00,2,     -999,1,   2.1009,2,     -999,9,     -999,9,     -999,9,     -999,9,     -999,1,   4.9748,1,   0.0113,1,     19.2,2,     -999,1,     -999,1,     -999,1,     -999,1,20230816,0534, -34.4022,  73.2476,-999          ,9,-999          ,9
33RR20230722  ,I05        ,96      ,  1,8          ,8          ,2,20230816,0441, -34.4022,  73.2477,     4907,   2597.0,2,   1.8795,2,  34.7264,2,  34.7262,2,    179.0,2,    179.0,2,   108.46,2,    32.50,2,     0.00,2,     2.26,2,     -999,9,     -999,9,     -999,9,   -999.0,9,     -999,9,     -999,9,     -999,9,     -999,1,   1.8803,2,     -999,9,     -999,9,     -999,9,     -999,9,     -999,1,   4.9752,1,   0.0112,1,     -999,9,     -999,1,     -999,1,     -999,1,     -999,1,20230816,0528, -34.4022,  73.2477,-999          ,9,-999          ,9
33RR20230722  ,I05        ,96      ,  1,7          ,7          ,2,20230816,0441, -34.4022,  73.2477,     4907,   2976.2,2,   1.6352,2,  34.7230,2,  34.7225,2,    180.6,2,    180.6,2,   118.32,2,    32.97,2,     0.00,2,     2.30,2,    0.004,3,    0.008,2,   0.0000,2,   2280.3,2,   2379.7,2,   7.6069,2,    25.00,2,     -999,1,   1.6339,2,     -999,9,     -999,9,     -999,9,     -999,9,     -999,1,   4.9760,1,   0.0112,1,     19.9,2,     -999,1,     -999,1,     -999,1,     -999,1,20230816,0520, -34.4022,  73.2477,-999          ,9,-999          ,9
33RR20230722  ,I05        ,96      ,  1,6          ,6          ,2,20230816,0441, -34.4022,  73.2477,     4907,   3369.4,2,   1.4007,2,  34.7158,2,  34.7156,2,    187.4,2,    187.4,2,   122.13,2,    32.99,2,     0.00,2,     2.31,2,     -999,9,     -999,9,     -999,9,   -999.0,9,     -999,9,     -999,9,     -999,9,     -999,1,   1.4033,2,     -999,9,     -999,9,     -999,9,     -999,9,     -999,1,   4.7960,1,   0.0118,1,     -999,9,     -999,1,     -999,1,     -999,1,     -999,1,20230816,0513, -34.4022,  73.2477,-999          ,9,-999          ,9
33RR20230722  ,I05        ,96      ,  1,5          ,5          ,2,20230816,0441, -34.4022,  73.2477,     4907,   3823.7,2,   1.1740,2,  34.7080,2,  34.7077,2,    195.4,2,    195.6,2,   124.77,2,    32.82,2,     0.00,2,     2.28,2,    0.029,3,    0.027,2,   0.0200,2,   2276.3,2,   2376.2,6,   7.6112,2,    25.01,2,     -999,1,   1.1739,2,     -999,9,     -999,9,     -999,9,     -999,9,     -999,1,   4.9764,1,   0.0111,1,     19.1,2,     -999,1,     -999,1,     -999,1,     -999,1,20230816,0504, -34.4022,  73.2476,-999          ,9,-999          ,9
33RR20230722  ,I05        ,96      ,  1,4          ,37         ,2,20230816,0441, -34.4022,  73.2477,     4907,   4221.8,2,   1.1016,2,  34.7047,2,  34.7054,2,    198.8,2,    198.9,2,   126.13,2,    32.77,2,     0.00,2,     2.30,2,     -999,9,     -999,9,     -999,9,   -999.0,9,     -999,9,     -999,9,     -999,9,     -999,1,   1.1016,2,     -999,9,     -999,9,     -999,9,     -999,9,     -999,1,   4.8539,1,   0.0117,1,     -999,9,     -999,1,     -999,1,     -999,1,     -999,1,20230816,0457, -34.4022,  73.2477,-999          ,9,-999          ,9
33RR20230722  ,I05        ,96      ,  1,3          ,3          ,2,20230816,0441, -34.4022,  73.2477,     4907,   4527.9,2,   1.0968,2,  34.7034,2,  34.7042,2,    200.0,2,    200.4,2,   126.04,2,    32.69,2,     0.00,2,     2.30,2,    0.056,3,    0.035,2,   0.0600,2,   2273.2,2,   2376.5,2,   7.6123,6,    25.00,2,     -999,1,   1.0966,2,     -999,9,     -999,9,     -999,9,     -999,9,     -999,1,   4.8658,1,   0.0113,1,     18.9,2,     -999,1,     -999,1,     -999,1,     -999,1,20230816,0450, -34.4022,  73.2477,-999          ,9,-999          ,9