BOTTLE,20240422CCHHYDRO
EXPOCODE,SECT_ID,STNNBR,CASTNO,SAMPNO,BTLNBR,BTLNBR_FLAG_W,DATE,TIME,LATITUDE,LONGITUDE,DEPTH,CTDPRS,CTDPRS_FLAG_W,CTDTMP,CTDTMP_FLAG_W,CTDSAL,CTDSAL_FLAG_W,SALNTY,SALNTY_FLAG_W,CTDOXY,CTDOXY_FLAG_W,OXYGEN,OXYGEN_FLAG_W,SILCAT,SILCAT_FLAG_W,NITRAT,NITRAT_FLAG_W,NITRIT,NITRIT_FLAG_W,PHSPHT,PHSPHT_FLAG_W,CFC-11,CFC-11_FLAG_W,CFC-12,CFC-12_FLAG_W,SF6,SF6_FLAG_W,TCARBN,TCARBN_FLAG_W,ALKALI,ALKALI_FLAG_W,PH_TOT,PH_TOT_FLAG_W,PH_TMP,PH_TMP_FLAG_W,DOC,DOC_FLAG_W,REFTMP,REFTMP_FLAG_W,POC,POC_FLAG_W,PON,PON_FLAG_W,POP,POP_FLAG_W,DOP,DOP_FLAG_W,DELO18,DELO18_FLAG_W,CTDFLUOR,CTDFLUOR_FLAG_W,CTDXMISS,CTDXMISS_FLAG_W,N2O,N2O_FLAG_W,D15N_NO3,D15N_NO3_FLAG_W,D15N_NO2+NO3,D15N_NO2+NO3_FLAG_W,D18O_NO2+NO3,D18O_NO2+NO3_FLAG_W,D18O_NO3,D18O_NO3_FLAG_W,BTL_DATE,BTL_TIME,BTL_LAT,BTL_LON,HPLC,HPLC_FLAG_W,DNA,DNA_FLAG_W
,,,,,,,,,,,METERS,DBAR,,ITS-90,,PSS-78,,PSS-78,,UMOL/KG,,UMOL/KG,,UMOL/KG,,UMOL/KG,,UMOL/KG,,UMOL/KG,,PMOL/KG,,PMOL/KG,,FMOL/KG,,UMOL/KG,,UMOL/KG,,,,DEG C,,UMOL/KG,,ITS-90,,UG/KG,,UG/KG,,UG/L,,UMOL/KG,,/MILLE,,VOLTS,,VOLTS,,NMOL/KG,,/MILLE,,/MILLE,,/MILLE,,/MILLE,,,,,,,,,
33RR20230722  ,I05        ,128     ,  2,36         ,38         ,2,20230825,1348, -33.2006,  57.0574,     -999,      3.4,2,  17.0315,2,  35.6173,2,  35.6167,2,    242.9,2,    241.2,2,     1.66,2,     0.18,2,     0.03,2,     0.16,2,    2.094,2,    1.338,2,   2.2800,2,   2078.8,6,   2336.2,2,   7.9532,2,    25.04,2,     -999,1,  17.0304,2,     -999,9,     -999,9,     -999,9,     -999,9,     -999,9,   4.9753,1,   0.0439,1,      8.2,2,     -999,9,     -999,9,     -999,9,     -999,9,20230825,1614, -33.2006,  57.0574,-999          ,9,-999          ,9
33RR20230722  ,I05        ,128     ,  2,35         ,35         ,2,20230825,1348, -33.2006,  57.0574,     -999,     29.1,2,  16.8309,2,  35.6077,2,  35.6070,2,    243.5,2,    242.6,2,     1.66,2,     0.09,2,     0.02,2,     0.15,2,     -999,9,     -999,9,     -999,9,   2076.8,2,   2333.4,2,   7.9541,2,    25.00,2,     -999,1,  16.8300,2,     -999,9,     -999,9,     -999,9,     -999,9,     -999,9,   4.9746,1,   0.0548,1,     -999,9,     -999,9,     -999,9,     -999,9,     -999,9,20230825,1611, -33.2005,  57.0574,-999          ,9,-999          ,9
33RR20230722  ,I05        ,128     ,  2,34         ,34         ,2,20230825,1348, -33.2006,  57.0574,     -999,     53.7,2,  16.4551,2,  35.5595,2,  35.5571,2,    229.4,2,    230.9,2,     2.05,2,     1.83,2,     0.08,2,     0.26,2,     -999,9,     -999,9,     -999,9,   -999.0,9,     -999,9,     -999,9,     -999,9,     -999,1,  16.4906,2,     -999,9,     -999,9,     -999,9,     -999,9,     -999,9,   4.9720,1,   0.0258,1,     -999,9,     -999,9,     -999,9,     -999,9,     -999,9,20230825,1609, -33.2005,  57.0574,-999          ,9,-999          ,9
33RR20230722  ,I05        ,128     ,  2,33         ,33         ,2,20230825,1348, -33.2006,  57.0574,     -999,     83.4,2,  15.9016,2,  35.5124,2,  35.5079,2,    227.1,2,    228.0,2,     2.34,2,     2.96,2,     0.03,2,     0.33,2,     -999,9,     -999,9,     -999,9,   2098.2,2,   2328.4,2,   7.9090,6,    25.00,2,     -999,1,  15.9033,2,     -999,9,     -999,9,     -999,9,     -999,9,     -999,9,   4.9708,1,   0.0177,1,     -999,9,     -999,9,     -999,9,     -999,9,     -999,9,20230825,1607, -33.2005,  57.0574,-999          ,9,-999          ,9
33RR20230722  ,I05        ,128     ,  2,32         ,32         ,2,20230825,1348, -33.2006,  57.0574,     -999,    116.7,2,  15.4830,2,  35.4760,2,  35.4744,2,    222.9,2,    224.5,2,     2.63,2,     4.14,2,     0.02,2,     0.40,2,    2.233,2,    1.449,2,   2.1900,2,   -999.0,9,     -999,9,     -999,9,     -999,9,     -999,1,  15.4813,2,     -999,9,     -999,9,     -999,9,     -999,9,     -999,9,   4.9695,1,   0.0128,1,      9.1,2,     -999,9,     -999,9,     -999,9,     -999,9,20230825,1605, -33.2006,  57.0574,-999          ,9,-999          ,9
33RR20230722  ,I05        ,128     ,  2,31         ,31         ,2,20230825,1348, -33.2006,  57.0574,     -999,    151.5,2,  15.2285,2,  35.4603,2,  35.4547,2,    224.1,2,    224.9,2,     2.73,2,     4.61,2,     0.02,2,     0.43,2,     -999,9,     -999,9,     -999,9,   2105.9,2,   2324.9,2,   7.8857,2,    25.00,2,     -999,1,  15.2208,2,     -999,9,     -999,9,     -999,9,     -999,9,     -999,9,   4.9694,1,   0.0126,1,     -999,9,     -999,9,     -999,9,     -999,9,     -999,9,20230825,1603, -33.2006,  57.0573,-999          ,9,-999          ,9
33RR20230722  ,I05        ,128     ,  2,30         ,30         ,2,20230825,1348, -33.2006,  57.0574,     -999,    189.3,2,  14.4630,2,  35.3820,2,  35.3827,2,    221.8,2,    222.7,2,     2.93,2,     6.20,2,     0.01,2,     0.55,2,     -999,9,     -999,9,     -999,9,   2111.2,2,   2325.0,2,   7.8636,2,    25.00,2,     -999,1,  14.4639,2,     -999,9,     -999,9,     -999,9,     -999,9,     -999,9,   4.9686,1,   0.0121,1,     -999,9,     -999,9,     -999,9,     -999,9,     -999,9,20230825,1601, -33.2006,  57.0573,-999          ,9,-999          ,9
33RR20230722  ,I05        ,128     ,  2,29         ,29         ,2,20230825,1348, -33.2006,  57.0574,     -999,    229.2,2,  14.1383,2,  35.3500,2,  35.3482,2,    223.2,2,    224.1,2,     3.02,2,     6.62,2,     0.01,2,     0.56,2,     -999,9,     -999,9,     -999,9,   2116.2,2,   2322.6,2,   7.8555,2,    25.01,2,     -999,1,  14.1270,2,     -999,9,     -999,9,     -999,9,     -999,9,     -999,9,   4.9684,1,   0.0115,1,     -999,9,     -999,9,     -999,9,     -999,9,     -999,9,20230825,1559, -33.2006,  57.0574,-999          ,9,-999          ,9
33RR20230722  ,I05        ,128     ,  2,28         ,28         ,2,20230825,1348, -33.2006,  57.0574,     -999,    275.5,2,  13.6514,2,  35.2978,2,  35.2988,2,    226.8,2,    226.4,2,     3.02,2,     7.22,2,     0.01,2,     0.60,2,    2.491,2,    1.577,2,   2.1900,2,   -999.0,9,     -999,9,     -999,9,     -999,9,     -999,1,  13.6678,2,     -999,9,     -999,9,     -999,9,     -999,9,     -999,9,   4.9683,1,   0.0118,1,     10.2,2,     -999,9,     -999,9,     -999,9,     -999,9,20230825,1557, -33.2005,  57.0574,-999          ,9,-999          ,9
33RR20230722  ,I05        ,128     ,  2,27         ,27         ,2,20230825,1348, -33.2006,  57.0574,     -999,    332.1,2,  13.3470,2,  35.2587,2,  35.2597,2,    229.6,2,    229.1,2,     3.02,2,     7.77,2,     0.01,2,     0.64,2,     -999,9,     -999,9,     -999,9,   2121.5,2,   2317.9,6,   7.8424,2,    25.01,2,     -999,1,  13.3449,2,     -999,9,     -999,9,     -999,9,     -999,9,     -999,9,   4.9680,1,   0.0116,1,     -999,9,     -999,9,     -999,9,     -999,9,     -999,9,20230825,1555, -33.2006,  57.0573,-999          ,9,-999          ,9
33RR20230722  ,I05        ,128     ,  2,26         ,26         ,2,20230825,1348, -33.2006,  57.0574,     -999,    395.8,2,  12.8486,2,  35.1916,2,  35.1914,2,    232.4,2,    231.5,2,     3.32,2,     8.78,2,     0.00,2,     0.70,2,    2.674,2,    1.642,2,   2.2100,2,   -999.0,9,     -999,9,     -999,9,     -999,9,     -999,1,  12.8437,2,     -999,9,     -999,9,     -999,9,     -999,9,     -999,9,   4.9679,1,   0.0114,1,     10.4,2,     -999,9,     -999,9,     -999,9,     -999,9,20230825,1553, -33.2005,  57.0573,-999          ,9,-999          ,9
33RR20230722  ,I05        ,128     ,  2,25         ,25         ,2,20230825,1348, -33.2006,  57.0574,     -999,    469.7,2,  12.2467,2,  35.0983,2,  35.1006,2,    231.5,2,    230.5,2,     3.71,2,    10.39,2,     0.00,2,     0.79,2,    2.698,2,    1.711,2,   2.1000,2,   2126.6,2,   2309.9,2,   7.8155,6,    25.01,2,     -999,1,  12.2452,2,     -999,9,     -999,9,     -999,9,     -999,9,     -999,9,   4.9674,1,   0.0115,1,     10.9,2,     -999,9,     -999,9,     -999,9,     -999,9,20230825,1550, -33.2006,  57.0574,-999          ,9,-999          ,9
33RR20230722  ,I05        ,128     ,  2,24         ,24         ,2,20230825,1348, -33.2006,  57.0574,     -999,    553.2,2,  11.5998,2,  34.9978,2,  34.9941,2,    228.9,2,    228.5,2,     4.10,2,    12.02,2,     0.00,2,     0.91,2,    2.862,2,    1.767,2,   2.0000,2,   2130.6,2,   2305.8,2,   7.7985,2,    24.99,2,     -999,1,  11.5998,2,     -999,9,     -999,9,     -999,9,     -999,9,     -999,9,   4.9667,1,   0.0115,1,     11.4,2,     -999,9,     -999,9,     -999,9,     -999,9,20230825,1548, -33.2006,  57.0574,-999          ,9,-999          ,9
33RR20230722  ,I05        ,128     ,  2,23         ,23         ,2,20230825,1348, -33.2006,  57.0574,     -999,    648.4,2,  10.5650,2,  34.8498,2,  34.8473,2,    222.4,2,    223.0,2,     5.56,2,    14.98,2,     0.00,2,     1.08,2,    2.827,2,    1.795,2,   1.8000,2,   2137.5,2,   2300.7,2,   7.7686,2,    25.00,2,     -999,1,  10.5443,2,     -999,9,     -999,9,     -999,9,     -999,9,     -999,9,   4.9666,1,   0.0114,1,     12.5,2,     -999,9,     -999,9,     -999,9,     -999,9,20230825,1545, -33.2006,  57.0574,-999          ,9,-999          ,9
33RR20230722  ,I05        ,128     ,  2,22         ,22         ,2,20230825,1348, -33.2006,  57.0574,     -999,    752.6,2,   9.3855,2,  34.7050,2,  34.7013,2,    215.5,2,    215.5,2,     8.49,2,    18.45,2,     0.00,2,     1.31,2,     -999,9,     -999,9,     -999,9,   -999.0,9,     -999,9,     -999,9,     -999,9,     -999,1,   9.3866,2,     -999,9,     -999,9,     -999,9,     -999,9,     -999,9,   4.9674,1,   0.0114,1,     -999,9,     -999,9,     -999,9,     -999,9,     -999,9,20230825,1542, -33.2006,  57.0574,-999          ,9,-999          ,9
33RR20230722  ,I05        ,128     ,  2,21         ,21         ,2,20230825,1348, -33.2006,  57.0574,     -999,    865.6,2,   7.8297,2,  34.5518,2,  34.5512,2,    206.8,2,    207.4,2,    13.86,2,    22.84,2,     0.00,2,     1.58,2,    2.795,2,    1.628,2,   1.1800,2,   2160.5,2,   2291.0,2,   7.6883,2,    25.01,2,     -999,1,   7.8284,2,     -999,9,     -999,9,     -999,9,     -999,9,     -999,9,   4.9689,1,   0.0113,1,     15.5,2,     -999,9,     -999,9,     -999,9,     -999,9,20230825,1539, -33.2006,  57.0574,-999          ,9,-999          ,9
33RR20230722  ,I05        ,128     ,  2,20         ,20         ,2,20230825,1348, -33.2006,  57.0574,     -999,    981.2,2,   6.1588,2,  34.4163,2,  34.4147,2,    206.0,2,    206.4,2,    21.57,2,    26.90,2,     0.00,2,     1.84,2,     -999,9,     -999,9,     -999,9,   -999.0,9,     -999,9,     -999,9,     -999,9,     -999,1,   6.1512,2,     -999,9,     -999,9,     -999,9,     -999,9,     -999,9,   4.9699,1,   0.0113,1,     -999,9,     -999,9,     -999,9,     -999,9,     -999,9,20230825,1536, -33.2006,  57.0573,-999          ,9,-999          ,9
33RR20230722  ,I05        ,128     ,  2,19         ,19         ,2,20230825,1348, -33.2006,  57.0574,     -999,   1101.9,2,   4.9441,2,  34.3722,2,  34.3709,2,    201.5,2,    201.4,2,    32.01,2,    29.81,2,     0.00,2,     2.06,2,     -999,9,     -999,9,     -999,9,   2197.4,2,   2295.7,2,   7.6170,2,    24.98,2,     -999,1,   4.9370,2,     -999,9,     -999,9,     -999,9,     -999,9,     -999,9,   4.9708,1,   0.0111,1,     -999,9,     -999,9,     -999,9,     -999,9,     -999,9,20230825,1532, -33.2006,  57.0574,-999          ,9,-999          ,9
33RR20230722  ,I05        ,128     ,  2,18         ,18         ,2,20230825,1348, -33.2006,  57.0574,     -999,   1231.6,2,   4.0958,2,  34.3843,2,  34.3849,2,    192.8,2,    193.1,2,    42.07,2,    31.67,2,     0.00,2,     2.21,2,    1.886,2,    1.007,2,   0.6300,2,   2213.5,2,   2305.5,2,   7.5936,2,    24.99,2,     -999,1,   4.0958,2,     -999,9,     -999,9,     -999,9,     -999,9,     -999,9,   4.9723,1,   0.0113,1,     20.7,2,     -999,9,     -999,9,     -999,9,     -999,9,20230825,1529, -33.2005,  57.0574,-999          ,9,-999          ,9
33RR20230722  ,I05        ,128     ,  2,17         ,17         ,2,20230825,1348, -33.2006,  57.0574,     -999,   1369.0,2,   3.6175,2,  34.4355,2,  34.4343,2,    182.1,2,    182.7,2,    52.02,2,    32.84,2,     0.00,2,     2.28,2,     -999,9,     -999,9,     -999,9,   2228.4,2,   2315.2,2,   7.5804,2,    25.00,2,     -999,1,   3.6122,2,     -999,9,     -999,9,     -999,9,     -999,9,     -999,9,   4.9731,1,   0.0111,1,     -999,9,     -999,9,     -999,9,     -999,9,     -999,9,20230825,1526, -33.2006,  57.0574,-999          ,9,-999          ,9
33RR20230722  ,I05        ,128     ,  2,16         ,16         ,2,20230825,1348, -33.2006,  57.0574,     -999,   1518.9,2,   3.1553,2,  34.5165,2,  34.5172,2,    173.8,2,    173.7,2,    63.53,2,    33.42,2,     0.00,2,     2.34,2,     -999,9,     -999,9,     -999,9,   2242.4,2,   2325.3,2,   7.5713,2,    25.01,2,     -999,1,   3.1540,2,     -999,9,     -999,9,     -999,9,     -999,9,     -999,9,   4.9741,1,   0.0111,1,     -999,9,     -999,9,     -999,9,     -999,9,     -999,9,20230825,1522, -33.2005,  57.0573,-999          ,9,-999          ,9
33RR20230722  ,I05        ,128     ,  2,15         ,15         ,2,20230825,1348, -33.2006,  57.0574,     -999,   1676.6,2,   2.9024,2,  34.5800,2,  34.5791,2,    173.1,2,    173.0,2,    69.58,2,    33.13,2,     0.00,2,     2.32,2,    0.449,2,    0.243,2,   0.1000,2,   2245.0,2,   2333.3,6,   7.5747,2,    24.98,2,     -999,1,   2.9020,2,     -999,9,     -999,9,     -999,9,     -999,9,     -999,9,   4.9746,1,   0.0111,1,     21.6,2,     -999,9,     -999,9,     -999,9,     -999,9,20230825,1518, -33.2005,  57.0574,-999          ,9,-999          ,9
33RR20230722  ,I05        ,128     ,  2,14         ,14         ,2,20230825,1348, -33.2006,  57.0574,     -999,   1849.7,2,   2.6801,2,  34.6423,2,  34.6419,2,    176.1,2,    176.2,2,    74.94,2,    32.34,2,     0.00,2,     2.25,2,     -999,9,     -999,9,     -999,9,   -999.0,9,     -999,9,     -999,9,     -999,9,     -999,1,   2.6799,2,     -999,9,     -999,9,     -999,9,     -999,9,     -999,9,   4.9747,1,   0.0113,1,     -999,9,     -999,9,     -999,9,     -999,9,     -999,9,20230825,1514, -33.2005,  57.0573,-999          ,9,-999          ,9
33RR20230722  ,I05        ,128     ,  2,13         ,13         ,2,20230825,1348, -33.2006,  57.0574,     -999,   2065.9,2,   2.4824,2,  34.6961,2,  34.6962,2,    182.0,2,    181.9,2,    79.14,2,    31.38,2,     0.00,2,     2.20,2,     -999,9,     -999,9,     -999,9,   2246.8,2,   2345.5,2,   7.6007,6,    25.00,2,     -999,1,   2.4821,2,     -999,9,     -999,9,     -999,9,     -999,9,     -999,9,   4.9750,1,   0.0119,1,     -999,9,     -999,9,     -999,9,     -999,9,     -999,9,20230825,1509, -33.2006,  57.0574,-999          ,9,-999          ,9
33RR20230722  ,I05        ,128     ,  2,12         ,12         ,2,20230825,1348, -33.2006,  57.0574,     -999,   2335.2,2,   2.1870,2,  34.7218,2,  34.7207,2,    185.0,2,    184.8,2,    90.26,2,    31.24,2,     0.00,2,     2.19,2,    0.086,2,    0.047,2,   0.0400,2,   -999.0,9,     -999,9,     -999,9,     -999,9,     -999,1,   2.1865,2,     -999,9,     -999,9,     -999,9,     -999,9,     -999,9,   4.9752,1,   0.0113,1,     19.7,2,     -999,9,     -999,9,     -999,9,     -999,9,20230825,1504, -33.2006,  57.0574,-999          ,9,-999          ,9
33RR20230722  ,I05        ,128     ,  2,11         ,11         ,2,20230825,1348, -33.2006,  57.0574,     -999,   2660.6,2,   2.0276,2,  34.7320,2,  34.7309,2,    187.0,2,    187.0,2,    96.70,2,    31.24,2,     0.00,2,     2.21,2,     -999,9,     -999,9,     -999,9,   2258.1,2,   2360.0,2,   7.6120,2,    25.01,2,     -999,1,   2.0264,2,     -999,9,     -999,9,     -999,9,     -999,9,     -999,9,   4.9757,1,   0.0111,1,     -999,9,     -999,9,     -999,9,     -999,9,     -999,9,20230825,1457, -33.2006,  57.0574,-999          ,9,-999          ,9
33RR20230722  ,I05        ,128     ,  2,10         ,10         ,2,20230825,1348, -33.2006,  57.0574,     -999,   3034.3,2,   1.7079,2,  34.7391,2,  34.7378,2,    196.0,2,    196.1,2,   101.87,2,    30.90,2,     0.00,2,     2.20,2,     -999,9,     -999,9,     -999,9,   -999.0,9,     -999,9,     -999,9,     -999,9,     -999,1,   1.7075,2,     -999,9,     -999,9,     -999,9,     -999,9,     -999,9,   4.9760,1,   0.0113,1,     -999,9,     -999,9,     -999,9,     -999,9,     -999,9,20230825,1450, -33.2005,  57.0574,-999          ,9,-999          ,9
33RR20230722  ,I05        ,128     ,  2,9          ,9          ,2,20230825,1348, -33.2006,  57.0574,     -999,   3436.4,2,   1.3100,2,  34.7261,2,  34.7254,2,    205.0,2,    205.1,2,   108.80,2,    31.02,2,     0.00,2,     2.18,2,    0.165,2,    0.087,2,   0.0500,2,   2252.6,2,   2359.2,2,   7.6160,2,    25.02,2,     -999,1,   1.3104,2,     -999,9,     -999,9,     -999,9,     -999,9,     -999,9,   4.9761,1,   0.0116,1,     18.1,2,     -999,9,     -999,9,     -999,9,     -999,9,20230825,1442, -33.2005,  57.0574,-999          ,9,-999          ,9
33RR20230722  ,I05        ,128     ,  2,8          ,8          ,2,20230825,1348, -33.2006,  57.0574,     -999,   3833.3,2,   0.9485,2,  34.7078,2,  34.7072,2,    210.7,2,    211.0,2,   118.75,2,    31.52,2,     0.00,2,     2.22,2,     -999,9,     -999,9,     -999,9,   -999.0,9,     -999,9,     -999,9,     -999,9,     -999,1,   0.9481,2,     -999,9,     -999,9,     -999,9,     -999,9,     -999,9,   4.9763,1,   0.0111,1,     -999,9,     -999,9,     -999,9,     -999,9,     -999,9,20230825,1435, -33.2006,  57.0573,-999          ,9,-999          ,9
33RR20230722  ,I05        ,128     ,  2,7          ,7          ,2,20230825,1348, -33.2006,  57.0574,     -999,   4288.4,2,   0.7407,2,  34.6956,2,  34.6956,2,    214.2,2,    214.2,2,   126.27,2,    31.96,2,     0.00,2,     2.25,2,     -999,9,     -999,9,     -999,9,   2256.8,2,   2359.1,2,   7.6068,6,    25.01,2,     -999,1,   0.7408,2,     -999,9,     -999,9,     -999,9,     -999,9,     -999,9,   4.9766,1,   0.0110,1,     -999,9,     -999,9,     -999,9,     -999,9,     -999,9,20230825,1426, -33.2006,  57.0573,-999          ,9,-999          ,9
33RR20230722  ,I05        ,128     ,  2,6          ,6          ,2,20230825,1348, -33.2006,  57.0574,     -999,   4771.3,2,   0.7115,2,  34.6913,2,  34.6910,2,    215.4,2,    215.7,2,   128.81,2,    32.10,2,     0.00,2,     2.25,2,    0.281,2,    0.147,2,   0.0800,2,   -999.0,9,     -999,9,     -999,9,     -999,9,     -999,1,   0.7120,2,     -999,9,     -999,9,     -999,9,     -999,9,     -999,9,   4.9771,1,   0.0111,1,     18.1,2,     -999,9,     -999,9,     -999,9,     -999,9,20230825,1417, -33.2006,  57.0573,-999          ,9,-999          ,9
33RR20230722  ,I05        ,128     ,  2,5          ,5          ,2,20230825,1348, -33.2006,  57.0574,     -999,   5131.9,2,   0.7243,2,  34.6894,2,  34.6899,2,    216.0,2,    216.2,2,   129.88,2,    32.10,2,     0.00,2,     2.26,2,    0.271,2,    0.150,2,   0.0800,2,   2259.2,2,   2359.2,2,   7.6046,2,    25.01,2,     -999,1,   0.7243,2,     -999,9,     -999,9,     -999,9,     -999,9,     -999,9,   4.9772,1,   0.0117,1,     18.1,2,     -999,9,     -999,9,     -999,9,     -999,9,20230825,1410, -33.2006,  57.0573,-999          ,9,-999          ,9
33RR20230722  ,I05        ,128     ,  2,4          ,37         ,2,20230825,1348, -33.2006,  57.0574,     -999,   5404.7,2,   0.7477,2,  34.6886,2,  34.6873,2,    216.1,2,    216.1,2,   130.37,2,    32.13,2,     0.00,2,     2.26,2,    0.281,2,    0.149,2,   0.0600,2,   2255.7,2,   2359.7,2,   7.6050,2,    25.02,2,     -999,1,   0.7475,2,     -999,9,     -999,9,     -999,9,     -999,9,     -999,9,   4.9775,1,   0.0111,1,     17.9,2,     -999,9,     -999,9,     -999,9,     -999,9,20230825,1404, -33.2005,  57.0573,-999          ,9,-999          ,9
33RR20230722  ,I05        ,128     ,  2,3          ,3          ,2,20230825,1348, -33.2006,  57.0574,     -999,   5643.4,2,   0.7727,2,  34.6879,2,  34.6881,2,    216.0,2,    216.3,2,   130.47,2,    32.14,2,     0.00,2,     2.26,2,    0.276,2,    0.149,2,   0.0300,2,   2261.0,2,   2358.7,2,   7.6035,2,    25.04,2,     -999,1,   0.7724,2,     -999,9,     -999,9,     -999,9,     -999,9,     -999,9,   4.9779,1,   0.0111,1,     18.1,2,     -999,9,     -999,9,     -999,9,     -999,9,20230825,1359, -33.2006,  57.0573,-999          ,9,-999          ,9