BOTTLE,20240422CCHHYDRO
EXPOCODE,SECT_ID,STNNBR,CASTNO,SAMPNO,BTLNBR,BTLNBR_FLAG_W,DATE,TIME,LATITUDE,LONGITUDE,DEPTH,CTDPRS,CTDPRS_FLAG_W,CTDTMP,CTDTMP_FLAG_W,CTDSAL,CTDSAL_FLAG_W,SALNTY,SALNTY_FLAG_W,CTDOXY,CTDOXY_FLAG_W,OXYGEN,OXYGEN_FLAG_W,SILCAT,SILCAT_FLAG_W,NITRAT,NITRAT_FLAG_W,NITRIT,NITRIT_FLAG_W,PHSPHT,PHSPHT_FLAG_W,CFC-11,CFC-11_FLAG_W,CFC-12,CFC-12_FLAG_W,SF6,SF6_FLAG_W,TCARBN,TCARBN_FLAG_W,ALKALI,ALKALI_FLAG_W,PH_TOT,PH_TOT_FLAG_W,PH_TMP,PH_TMP_FLAG_W,DOC,DOC_FLAG_W,REFTMP,REFTMP_FLAG_W,POC,POC_FLAG_W,PON,PON_FLAG_W,POP,POP_FLAG_W,DOP,DOP_FLAG_W,DELO18,DELO18_FLAG_W,CTDFLUOR,CTDFLUOR_FLAG_W,CTDXMISS,CTDXMISS_FLAG_W,N2O,N2O_FLAG_W,D15N_NO3,D15N_NO3_FLAG_W,D15N_NO2+NO3,D15N_NO2+NO3_FLAG_W,D18O_NO2+NO3,D18O_NO2+NO3_FLAG_W,D18O_NO3,D18O_NO3_FLAG_W,BTL_DATE,BTL_TIME,BTL_LAT,BTL_LON,HPLC,HPLC_FLAG_W,DNA,DNA_FLAG_W
,,,,,,,,,,,METERS,DBAR,,ITS-90,,PSS-78,,PSS-78,,UMOL/KG,,UMOL/KG,,UMOL/KG,,UMOL/KG,,UMOL/KG,,UMOL/KG,,PMOL/KG,,PMOL/KG,,FMOL/KG,,UMOL/KG,,UMOL/KG,,,,DEG C,,UMOL/KG,,ITS-90,,UG/KG,,UG/KG,,UG/L,,UMOL/KG,,/MILLE,,VOLTS,,VOLTS,,NMOL/KG,,/MILLE,,/MILLE,,/MILLE,,/MILLE,,,,,,,,,
33RR20230722  ,I05        ,104     ,  1,36         ,38         ,2,20230818,1801, -33.9996,  69.6982,     4485,      5.7,2,  17.2390,2,  35.6618,2,  35.6615,2,    240.2,2,    240.0,2,     1.07,2,     0.08,2,     0.00,2,     0.15,2,    1.585,2,    1.258,2,   2.2400,2,   2084.9,2,   2343.5,2,   7.9588,2,    25.00,2,     -999,1,  17.2403,2,     -999,9,     -999,9,     -999,9,     -999,9,     -999,9,   4.7245,1,   0.0199,1,      8.2,2,     -999,9,     -999,9,     -999,9,     -999,9,20230818,2000, -33.9996,  69.6982,-999          ,9,-999          ,9
33RR20230722  ,I05        ,104     ,  1,35         ,35         ,2,20230818,1801, -33.9996,  69.6982,     4485,     20.9,2,  17.2509,2,  35.6613,2,  35.6613,2,    240.0,2,    240.0,2,     1.07,2,     0.03,2,     0.00,2,     0.14,2,     -999,9,     -999,9,     -999,9,   2085.0,6,   2340.7,2,   7.9590,2,    24.99,2,     -999,1,  17.2494,2,     -999,9,     -999,9,     -999,9,     -999,9,     -999,9,   4.9147,1,   0.0201,1,     -999,9,     -999,9,     -999,9,     -999,9,     -999,9,20230818,1958, -33.9996,  69.6982,-999          ,9,-999          ,9
33RR20230722  ,I05        ,104     ,  1,34         ,34         ,2,20230818,1801, -33.9996,  69.6982,     4485,     42.0,2,  17.2498,2,  35.6596,2,  35.6607,2,    239.9,2,    240.0,2,     1.07,2,     0.02,2,     0.00,2,     0.16,2,     -999,9,     -999,9,     -999,9,   2086.9,2,   2342.1,2,   7.9586,6,    24.99,2,     -999,1,  17.2501,2,     -999,9,     -999,9,     -999,9,     -999,9,     -999,9,   4.9746,1,   0.0194,1,     -999,9,     -999,9,     -999,9,     -999,9,     -999,9,20230818,1956, -33.9996,  69.6982,-999          ,9,-999          ,9
33RR20230722  ,I05        ,104     ,  1,33         ,33         ,2,20230818,1801, -33.9996,  69.6982,     4485,     61.1,2,  17.2575,2,  35.6609,2,  35.6613,2,    239.9,2,    239.5,2,     1.17,2,     0.00,2,     0.00,2,     0.16,2,     -999,9,     -999,9,     -999,9,   2084.4,2,   2341.9,6,   7.9586,2,    24.99,2,     -999,1,  17.2551,2,     -999,9,     -999,9,     -999,9,     -999,9,     -999,9,   4.9741,1,   0.0202,1,     -999,9,     -999,9,     -999,9,     -999,9,     -999,9,20230818,1954, -33.9996,  69.6982,-999          ,9,-999          ,9
33RR20230722  ,I05        ,104     ,  1,32         ,32         ,2,20230818,1801, -33.9996,  69.6982,     4485,     81.4,2,  17.1748,2,  35.6450,2,  35.6421,2,    239.5,2,    239.7,2,     1.07,2,     0.00,2,     0.01,2,     0.15,2,     -999,9,     -999,9,     -999,9,   2084.4,2,   2340.4,2,   7.9547,2,    25.00,2,     -999,1,  17.1477,2,     -999,9,     -999,9,     -999,9,     -999,9,     -999,9,   4.9745,1,   0.0268,1,     -999,9,     -999,9,     -999,9,     -999,9,     -999,9,20230818,1951, -33.9996,  69.6982,-999          ,9,-999          ,9
33RR20230722  ,I05        ,104     ,  1,31         ,31         ,2,20230818,1801, -33.9996,  69.6982,     4485,    107.3,2,  15.4842,2,  35.4779,2,  35.4835,2,    242.1,2,    242.2,2,     1.27,2,     1.03,2,     0.21,2,     0.30,2,    2.092,3,    1.374,2,   2.3100,2,   2105.0,2,   2332.5,2,   7.9084,2,    25.00,2,     -999,1,  15.4567,2,     -999,9,     -999,9,     -999,9,     -999,9,     -999,9,   4.9730,1,   0.0280,1,      9.3,2,     -999,9,     -999,9,     -999,9,     -999,9,20230818,1949, -33.9996,  69.6982,-999          ,9,-999          ,9
33RR20230722  ,I05        ,104     ,  1,30         ,30         ,2,20230818,1801, -33.9996,  69.6982,     4485,    137.3,2,  14.3178,2,  35.3777,2,  35.3784,2,    231.5,2,    231.9,2,     2.34,2,     5.16,2,     0.02,2,     0.50,2,     -999,9,     -999,9,     -999,9,   2114.2,2,   2322.8,2,   7.8688,2,    24.99,2,     -999,1,  14.3165,2,     -999,9,     -999,9,     -999,9,     -999,9,     -999,9,   4.9699,1,   0.0173,1,     -999,9,     -999,9,     -999,9,     -999,9,     -999,9,20230818,1948, -33.9996,  69.6982,-999          ,9,-999          ,9
33RR20230722  ,I05        ,104     ,  1,29         ,29         ,2,20230818,1801, -33.9996,  69.6982,     4485,    164.8,2,  14.1016,2,  35.3615,2,  35.3604,2,    232.3,2,    232.7,2,     2.73,2,     5.90,2,     0.02,2,     0.54,2,     -999,9,     -999,9,     -999,9,   2115.9,2,   2322.2,2,   7.8633,2,    24.99,2,     -999,1,  14.0923,2,     -999,9,     -999,9,     -999,9,     -999,9,     -999,9,   4.9696,1,   0.0140,1,     -999,9,     -999,9,     -999,9,     -999,9,     -999,9,20230818,1946, -33.9996,  69.6982,-999          ,9,-999          ,9
33RR20230722  ,I05        ,104     ,  1,28         ,28         ,2,20230818,1801, -33.9996,  69.6982,     4485,    196.1,2,  13.8114,2,  35.3281,2,  35.3273,2,    234.7,2,    234.8,2,     2.73,2,     6.37,2,     0.01,2,     0.56,2,     -999,9,     -999,9,     -999,9,   2118.7,2,   2319.3,2,   7.8591,6,    25.00,2,     -999,1,  13.8037,2,     -999,9,     -999,9,     -999,9,     -999,9,     -999,9,   4.9696,1,   0.0116,1,     -999,9,     -999,9,     -999,9,     -999,9,     -999,9,20230818,1944, -33.9996,  69.6982,-999          ,9,-999          ,9
33RR20230722  ,I05        ,104     ,  1,27         ,27         ,2,20230818,1801, -33.9996,  69.6982,     4485,    231.9,2,  13.5528,2,  35.2928,2,  35.2940,2,    236.3,2,    236.1,2,     2.93,2,     6.91,2,     0.00,2,     0.57,2,    4.413,3,    1.637,2,   2.3600,2,   2116.7,2,   2317.3,2,   7.8555,2,    24.98,2,     -999,1,  13.5526,2,     -999,9,     -999,9,     -999,9,     -999,9,     -999,9,   4.8999,1,   0.0117,1,     10.2,2,     -999,9,     -999,9,     -999,9,     -999,9,20230818,1943, -33.9996,  69.6982,-999          ,9,-999          ,9
33RR20230722  ,I05        ,104     ,  1,26         ,26         ,2,20230818,1801, -33.9996,  69.6982,     4485,    273.6,2,  13.2589,2,  35.2541,2,  35.2552,2,    237.8,2,    237.4,2,     3.03,2,     7.54,2,     0.00,2,     0.62,2,     -999,9,     -999,9,     -999,9,   -999.0,9,     -999,9,     -999,9,     -999,9,     -999,1,  13.2603,2,     -999,9,     -999,9,     -999,9,     -999,9,     -999,9,   4.9692,1,   0.0117,1,     -999,9,     -999,9,     -999,9,     -999,9,     -999,9,20230818,1941, -33.9996,  69.6982,-999          ,9,-999          ,9
33RR20230722  ,I05        ,104     ,  1,25         ,25         ,2,20230818,1801, -33.9996,  69.6982,     4485,    322.1,2,  12.9511,2,  35.2046,2,  35.2042,2,    236.9,2,    236.6,2,     3.12,2,     8.26,2,     0.00,2,     0.67,2,    3.503,3,    1.647,2,   2.4200,2,   2123.2,2,   2313.5,2,   7.8373,2,    25.00,2,     -999,1,  12.9551,2,     -999,9,     -999,9,     -999,9,     -999,9,     -999,9,   4.8568,1,   0.0117,1,     10.6,2,     -999,9,     -999,9,     -999,9,     -999,9,20230818,1939, -33.9996,  69.6982,-999          ,9,-999          ,9
33RR20230722  ,I05        ,104     ,  1,24         ,24         ,2,20230818,1801, -33.9996,  69.6982,     4485,    380.3,2,  12.6070,2,  35.1498,2,  35.1500,2,    237.8,2,    237.4,2,     3.22,2,     8.94,2,     0.00,2,     0.69,2,     -999,9,     -999,9,     -999,9,   -999.0,9,     -999,9,     -999,9,     -999,9,     -999,1,  12.6051,2,     -999,9,     -999,9,     -999,9,     -999,9,     -999,9,   4.9080,1,   0.0116,1,     -999,9,     -999,9,     -999,9,     -999,9,     -999,9,20230818,1937, -33.9996,  69.6982,-999          ,9,-999          ,9
33RR20230722  ,I05        ,104     ,  1,23         ,23         ,2,20230818,1801, -33.9996,  69.6982,     4485,    448.7,2,  12.1681,2,  35.0797,2,  35.0815,2,    234.9,2,    235.4,2,     3.42,2,    10.16,2,     0.00,2,     0.77,2,    4.229,3,    1.787,2,   2.2100,2,   2129.3,2,   2306.9,2,   7.8160,2,    24.99,2,     -999,1,  12.1626,2,     -999,9,     -999,9,     -999,9,     -999,9,     -999,9,   4.9677,1,   0.0117,1,     11.2,2,     -999,9,     -999,9,     -999,9,     -999,9,20230818,1935, -33.9996,  69.6982,-999          ,9,-999          ,9
33RR20230722  ,I05        ,104     ,  1,22         ,22         ,2,20230818,1801, -33.9996,  69.6982,     4485,    530.3,2,  11.5997,2,  34.9899,2,  34.9913,2,    232.3,2,    232.3,2,     4.00,2,    11.87,2,     0.00,2,     0.87,2,     -999,9,     -999,9,     -999,9,   -999.0,9,     -999,9,     -999,9,     -999,9,     -999,1,  11.6087,2,     -999,9,     -999,9,     -999,9,     -999,9,     -999,9,   4.9429,1,   0.0116,1,     -999,9,     -999,9,     -999,9,     -999,9,     -999,9,20230818,1932, -33.9996,  69.6982,-999          ,9,-999          ,9
33RR20230722  ,I05        ,104     ,  1,21         ,21         ,2,20230818,1801, -33.9996,  69.6982,     4485,    617.4,2,  10.8477,2,  34.8784,2,  34.8786,2,    225.5,2,    225.8,2,     4.88,2,    14.23,2,     0.00,2,     1.02,2,    2.576,2,    1.682,2,   1.7700,2,   2140.3,2,   2299.4,2,   7.7762,2,    24.99,2,     -999,1,  10.8461,2,     -999,9,     -999,9,     -999,9,     -999,9,     -999,9,   4.9667,1,   0.0117,1,     12.4,2,     -999,9,     -999,9,     -999,9,     -999,9,20230818,1930, -33.9996,  69.6982,-999          ,9,-999          ,9
33RR20230722  ,I05        ,104     ,  1,20         ,20         ,2,20230818,1801, -33.9996,  69.6982,     4485,    719.9,2,   9.6640,2,  34.7263,2,  34.7233,2,    218.6,2,    218.8,2,     6.93,2,    17.62,2,     0.00,2,     1.25,2,     -999,9,     -999,9,     -999,9,   2147.3,2,   2293.4,2,   7.7412,2,    24.99,2,     -999,1,   9.6631,2,     -999,9,     -999,9,     -999,9,     -999,9,     -999,9,   4.9672,1,   0.0114,1,     -999,9,     -999,9,     -999,9,     -999,9,     -999,9,20230818,1927, -33.9996,  69.6982,-999          ,9,-999          ,9
33RR20230722  ,I05        ,104     ,  1,19         ,19         ,2,20230818,1801, -33.9996,  69.6982,     4485,    833.8,2,   8.2650,2,  34.5797,2,  34.5826,2,    208.1,2,    209.4,2,    11.52,2,    21.71,2,     0.00,2,     1.50,2,    4.136,2,    1.774,2,   1.3500,2,   -999.0,9,     -999,9,     -999,9,     -999,9,     -999,1,   8.2645,2,     -999,9,     -999,9,     -999,9,     -999,9,     -999,9,   4.7165,1,   0.0112,1,     15.1,2,     -999,9,     -999,9,     -999,9,     -999,9,20230818,1924, -33.9996,  69.6982,-999          ,9,-999          ,9
33RR20230722  ,I05        ,104     ,  1,18         ,18         ,2,20230818,1801, -33.9996,  69.6982,     4485,    955.3,2,   6.4092,2,  34.4298,2,  34.4300,2,    204.2,2,    204.0,2,    19.82,2,    26.62,2,     0.00,2,     1.82,2,     -999,9,     -999,9,     -999,9,   2180.5,2,   2287.0,2,   7.6500,2,    25.00,2,     -999,1,   6.4163,2,     -999,9,     -999,9,     -999,9,     -999,9,     -999,9,   4.8815,1,   0.0112,1,     -999,9,     -999,9,     -999,9,     -999,9,     -999,9,20230818,1921, -33.9996,  69.6982,-999          ,9,-999          ,9
33RR20230722  ,I05        ,104     ,  1,17         ,17         ,2,20230818,1801, -33.9996,  69.6982,     4485,   1074.4,2,   5.0267,2,  34.3529,2,  34.3541,2,    206.8,2,    206.6,2,    28.42,2,    29.34,2,     0.00,2,     2.02,2,     -999,9,     -999,9,     -999,9,   -999.0,9,     -999,9,     -999,9,     -999,9,     -999,1,   5.0302,2,     -999,9,     -999,9,     -999,9,     -999,9,     -999,9,   4.9702,1,   0.0111,1,     -999,9,     -999,9,     -999,9,     -999,9,     -999,9,20230818,1917, -33.9996,  69.6982,-999          ,9,-999          ,9
33RR20230722  ,I05        ,104     ,  1,16         ,16         ,2,20230818,1801, -33.9996,  69.6982,     4485,   1195.5,2,   4.2388,2,  34.3639,2,  34.3649,2,    196.8,2,    196.8,2,    38.57,2,    31.41,2,     0.00,2,     2.16,2,     -999,9,     -999,9,     -999,9,   2211.2,2,   2299.8,2,   7.5998,6,    24.98,2,     -999,1,   4.2364,2,     -999,9,     -999,9,     -999,9,     -999,9,     -999,9,   4.8485,1,   0.0117,1,     -999,9,     -999,9,     -999,9,     -999,9,     -999,9,20230818,1914, -33.9996,  69.6982,-999          ,9,-999          ,9
33RR20230722  ,I05        ,104     ,  1,15         ,15         ,2,20230818,1801, -33.9996,  69.6982,     4485,   1321.4,2,   3.6626,2,  34.4213,2,  34.4218,2,    181.1,2,    181.6,2,    51.75,2,    33.06,2,     0.00,2,     2.27,2,    1.636,2,    0.679,2,   0.3300,2,   2228.0,2,   2313.7,2,   7.5787,2,    24.99,2,     -999,1,   3.6669,2,     -999,9,     -999,9,     -999,9,     -999,9,     -999,9,   4.7829,1,   0.0113,1,     21.9,2,     -999,9,     -999,9,     -999,9,     -999,9,20230818,1911, -33.9996,  69.6982,-999          ,9,-999          ,9
33RR20230722  ,I05        ,104     ,  1,14         ,14         ,2,20230818,1801, -33.9996,  69.6982,     4485,   1455.1,2,   3.3062,2,  34.4889,2,  34.4891,2,    171.1,2,    171.1,2,    62.39,2,    33.77,2,     0.00,2,     2.34,2,     -999,9,     -999,9,     -999,9,   -999.0,9,     -999,9,     -999,9,     -999,9,     -999,1,   3.3074,2,     -999,9,     -999,9,     -999,9,     -999,9,     -999,9,   4.9738,1,   0.0115,1,     -999,9,     -999,9,     -999,9,     -999,9,     -999,9,20230818,1907, -33.9996,  69.6982,-999          ,9,-999          ,9
33RR20230722  ,I05        ,104     ,  1,13         ,13         ,2,20230818,1801, -33.9996,  69.6982,     4485,   1585.2,2,   3.0190,2,  34.5544,2,  34.5549,2,    167.4,2,    167.4,2,    70.20,2,    33.70,2,     0.00,2,     2.33,2,     -999,9,     -999,9,     -999,9,   2252.8,2,   2331.8,2,   7.5679,2,    25.00,2,     -999,1,   3.0212,2,     -999,9,     -999,9,     -999,9,     -999,9,     -999,9,   4.8582,1,   0.0113,1,     -999,9,     -999,9,     -999,9,     -999,9,     -999,9,20230818,1904, -33.9996,  69.6982,-999          ,9,-999          ,9
33RR20230722  ,I05        ,104     ,  1,12         ,12         ,2,20230818,1801, -33.9996,  69.6982,     4485,   1730.7,2,   2.7880,2,  34.6077,2,  34.6079,2,    169.6,2,    169.6,2,    74.59,2,    33.19,2,     0.00,2,     2.28,2,     -999,9,     -999,9,     -999,9,   2254.6,2,   2338.0,2,   7.5732,2,    24.98,2,     -999,1,   2.7888,2,     -999,9,     -999,9,     -999,9,     -999,9,     -999,9,   4.9745,1,   0.0114,1,     -999,9,     -999,9,     -999,9,     -999,9,     -999,9,20230818,1900, -33.9996,  69.6982,-999          ,9,-999          ,9
33RR20230722  ,I05        ,104     ,  1,11         ,11         ,2,20230818,1801, -33.9996,  69.6982,     4485,   1883.5,2,   2.5843,2,  34.6565,2,  34.6572,2,    174.5,2,    174.7,2,    78.40,2,    32.40,2,     0.00,2,     2.26,2,    0.283,2,    0.083,2,   0.0100,2,   2254.1,2,   2342.5,2,   7.5863,2,    25.01,2,     -999,1,   2.5831,2,     -999,9,     -999,9,     -999,9,     -999,9,     -999,9,   4.9694,1,   0.0111,1,     21.1,2,     -999,9,     -999,9,     -999,9,     -999,9,20230818,1857, -33.9996,  69.6982,-999          ,9,-999          ,9
33RR20230722  ,I05        ,104     ,  1,10         ,10         ,2,20230818,1801, -33.9996,  69.6982,     4485,   2079.9,2,   2.3635,2,  34.6948,2,  34.6952,2,    177.0,2,    177.3,2,    88.26,2,    32.06,2,     0.00,2,     2.23,2,     -999,9,     -999,9,     -999,9,   -999.0,9,     -999,9,     -999,9,     -999,9,     -999,1,   2.3636,2,     -999,9,     -999,9,     -999,9,     -999,9,     -999,9,   4.9746,1,   0.0118,1,     -999,9,     -999,9,     -999,9,     -999,9,     -999,9,20230818,1852, -33.9996,  69.6982,-999          ,9,-999          ,9
33RR20230722  ,I05        ,104     ,  1,9          ,9          ,2,20230818,1801, -33.9996,  69.6982,     4485,   2320.5,2,   2.1610,2,  34.7170,2,  34.7164,2,    177.3,2,    177.5,2,    98.70,2,    32.10,2,     0.00,2,     2.25,2,     -999,9,     -999,9,     -999,9,   2270.0,2,   2364.4,2,   7.6036,2,    25.00,2,     -999,1,   2.1638,2,     -999,9,     -999,9,     -999,9,     -999,9,     -999,9,   4.8478,1,   0.0117,1,     -999,9,     -999,9,     -999,9,     -999,9,     -999,9,20230818,1847, -33.9996,  69.6982,-999          ,9,-999          ,9
33RR20230722  ,I05        ,104     ,  1,8          ,8          ,2,20230818,1801, -33.9996,  69.6982,     4485,   2598.2,2,   1.9918,2,  34.7256,2,  34.7256,2,    176.8,2,    176.9,2,   107.88,2,    32.46,2,     0.00,2,     2.28,2,     -999,9,     -999,9,     -999,9,   2277.1,2,   2373.4,2,   7.6052,2,    24.99,2,     -999,1,   1.9922,2,     -999,9,     -999,9,     -999,9,     -999,9,     -999,9,   4.6734,1,   0.0112,1,     -999,9,     -999,9,     -999,9,     -999,9,     -999,9,20230818,1841, -33.9995,  69.6982,-999          ,9,-999          ,9
33RR20230722  ,I05        ,104     ,  1,7          ,7          ,2,20230818,1801, -33.9996,  69.6982,     4485,   2910.1,2,   1.8344,2,  34.7271,2,  34.7266,2,    177.4,2,    177.3,2,   115.00,2,    32.82,2,     0.00,2,     2.29,2,    0.013,2,   -0.005,2,  -0.0400,2,   -999.0,9,     -999,9,     -999,9,     -999,9,     -999,1,   1.8361,2,     -999,9,     -999,9,     -999,9,     -999,9,     -999,9,   4.9761,1,   0.0117,1,     20.3,2,     -999,9,     -999,9,     -999,9,     -999,9,20230818,1835, -33.9996,  69.6982,-999          ,9,-999          ,9
33RR20230722  ,I05        ,104     ,  1,6          ,6          ,2,20230818,1801, -33.9996,  69.6982,     4485,   3240.6,2,   1.6675,2,  34.7258,2,  34.7264,2,    181.1,2,    181.0,2,   119.20,2,    32.90,2,     0.00,2,     2.30,2,     -999,9,     -999,9,     -999,9,   2282.8,2,   2380.3,2,   7.6080,2,    25.01,2,     -999,1,   1.6687,2,     -999,9,     -999,9,     -999,9,     -999,9,     -999,9,   4.9761,1,   0.0114,1,     -999,9,     -999,9,     -999,9,     -999,9,     -999,9,20230818,1828, -33.9996,  69.6982,-999          ,9,-999          ,9
33RR20230722  ,I05        ,104     ,  1,5          ,5          ,2,20230818,1801, -33.9996,  69.6982,     4485,   3670.5,2,   1.3619,2,  34.7163,2,  34.7178,2,    190.9,2,    191.1,2,   123.21,2,    32.78,2,     0.00,2,     2.28,2,     -999,9,     -999,9,     -999,9,   2279.3,2,   2376.4,6,   7.6080,2,    24.99,2,     -999,1,   1.3611,2,     -999,9,     -999,9,     -999,9,     -999,9,     -999,9,   4.9762,1,   0.0111,1,     -999,9,     -999,9,     -999,9,     -999,9,     -999,9,20230818,1820, -33.9996,  69.6982,-999          ,9,-999          ,9
33RR20230722  ,I05        ,104     ,  1,4          ,37         ,2,20230818,1801, -33.9996,  69.6982,     4485,   3949.1,2,   1.0484,2,  34.7050,2,  34.7056,2,    200.9,2,    201.4,2,   125.84,2,    32.70,2,     0.00,2,     2.27,2,    0.094,2,    0.032,2,   0.0300,2,   -999.0,9,     -999,9,     -999,9,     -999,9,     -999,1,   1.0487,2,     -999,9,     -999,9,     -999,9,     -999,9,     -999,9,   4.8776,1,   0.0118,1,     18.8,2,     -999,9,     -999,9,     -999,9,     -999,9,20230818,1814, -33.9996,  69.6982,-999          ,9,-999          ,9
33RR20230722  ,I05        ,104     ,  1,3          ,3          ,2,20230818,1801, -33.9996,  69.6982,     4485,   4277.1,2,   0.8245,2,  34.6958,2,  34.6973,2,    208.2,2,    208.5,2,   127.70,2,    32.74,2,     0.00,2,     2.26,2,    0.160,2,    0.038,2,   0.0400,2,   2269.3,2,   2368.1,2,   7.6107,6,    24.99,2,     -999,1,   0.8237,2,     -999,9,     -999,9,     -999,9,     -999,9,     -999,9,   4.9436,1,   0.0111,1,     18.6,2,     -999,9,     -999,9,     -999,9,     -999,9,20230818,1808, -33.9996,  69.6982,-999          ,9,-999          ,9