BOTTLE,20240422CCHHYDRO
EXPOCODE,SECT_ID,STNNBR,CASTNO,SAMPNO,BTLNBR,BTLNBR_FLAG_W,DATE,TIME,LATITUDE,LONGITUDE,DEPTH,CTDPRS,CTDPRS_FLAG_W,CTDTMP,CTDTMP_FLAG_W,CTDSAL,CTDSAL_FLAG_W,SALNTY,SALNTY_FLAG_W,CTDOXY,CTDOXY_FLAG_W,OXYGEN,OXYGEN_FLAG_W,SILCAT,SILCAT_FLAG_W,NITRAT,NITRAT_FLAG_W,NITRIT,NITRIT_FLAG_W,PHSPHT,PHSPHT_FLAG_W,CFC-11,CFC-11_FLAG_W,CFC-12,CFC-12_FLAG_W,SF6,SF6_FLAG_W,TCARBN,TCARBN_FLAG_W,ALKALI,ALKALI_FLAG_W,PH_TOT,PH_TOT_FLAG_W,PH_TMP,PH_TMP_FLAG_W,DOC,DOC_FLAG_W,REFTMP,REFTMP_FLAG_W,POC,POC_FLAG_W,PON,PON_FLAG_W,POP,POP_FLAG_W,DOP,DOP_FLAG_W,DELO18,DELO18_FLAG_W,CTDFLUOR,CTDFLUOR_FLAG_W,CTDXMISS,CTDXMISS_FLAG_W,N2O,N2O_FLAG_W,D15N_NO3,D15N_NO3_FLAG_W,D15N_NO2+NO3,D15N_NO2+NO3_FLAG_W,D18O_NO2+NO3,D18O_NO2+NO3_FLAG_W,D18O_NO3,D18O_NO3_FLAG_W,BTL_DATE,BTL_TIME,BTL_LAT,BTL_LON,HPLC,HPLC_FLAG_W,DNA,DNA_FLAG_W
,,,,,,,,,,,METERS,DBAR,,ITS-90,,PSS-78,,PSS-78,,UMOL/KG,,UMOL/KG,,UMOL/KG,,UMOL/KG,,UMOL/KG,,UMOL/KG,,PMOL/KG,,PMOL/KG,,FMOL/KG,,UMOL/KG,,UMOL/KG,,,,DEG C,,UMOL/KG,,ITS-90,,UG/KG,,UG/KG,,UG/L,,UMOL/KG,,/MILLE,,VOLTS,,VOLTS,,NMOL/KG,,/MILLE,,/MILLE,,/MILLE,,/MILLE,,,,,,,,,
33RR20230722  ,I05        ,37      ,  1,30         ,30         ,2,20230731,2038, -32.0109, 100.9913,     2236,      7.5,2,  17.5310,2,  35.8106,2,  35.8098,2,    235.4,2,    235.6,2,     1.66,2,     0.03,2,     0.00,2,     0.12,2,    2.339,2,    1.292,2,   2.2200,2,   2081.1,2,   2349.2,2,   7.9745,6,    24.98,2,     -999,1,     -999,1,     -999,9,     -999,9,     -999,9,     -999,9,     -999,9,   4.5829,1,   0.0267,1,      7.9,2,     -999,9,     -999,9,     -999,9,     -999,9,20230731,2150, -32.0109, 100.9913,-999          ,9,-999          ,9
33RR20230722  ,I05        ,37      ,  1,29         ,29         ,2,20230731,2038, -32.0109, 100.9913,     2236,     16.6,2,  17.5448,2,  35.8113,2,  35.8102,2,    235.8,2,    235.5,2,     1.66,2,     0.00,2,     0.00,2,     0.09,2,     -999,9,     -999,9,     -999,9,   -999.0,9,     -999,9,     -999,9,     -999,9,     -999,9,     -999,1,     -999,9,     -999,9,     -999,9,     -999,1,     -999,9,   4.9751,1,   0.0261,1,     -999,9,     -999,9,     -999,9,     -999,9,     -999,9,20230731,2148, -32.0109, 100.9913,-999          ,9,-999          ,9
33RR20230722  ,I05        ,37      ,  1,28         ,28         ,2,20230731,2038, -32.0109, 100.9913,     2236,     27.0,2,  17.5552,2,  35.8114,2,  35.8098,2,    235.6,2,    235.5,2,     1.76,2,     0.00,2,     0.00,2,     0.11,2,     -999,9,     -999,9,     -999,9,   -999.0,9,     -999,9,     -999,9,     -999,9,     -999,9,     -999,1,     -999,9,     -999,9,     -999,9,     -999,1,     -999,9,   4.9749,1,   0.0264,1,     -999,9,     -999,9,     -999,9,     -999,9,     -999,9,20230731,2147, -32.0109, 100.9913,-999          ,9,-999          ,9
33RR20230722  ,I05        ,37      ,  1,27         ,27         ,2,20230731,2038, -32.0109, 100.9913,     2236,     52.8,2,  17.3251,2,  35.7824,2,  35.7811,2,    233.5,2,    234.1,2,     1.56,2,     0.13,2,     0.04,2,     0.14,2,     -999,9,     -999,9,     -999,9,   -999.0,9,     -999,9,     -999,9,     -999,9,     -999,9,     -999,1,     -999,9,     -999,9,     -999,9,     -999,1,     -999,9,   4.9741,1,   0.0316,1,     -999,9,     -999,9,     -999,9,     -999,9,     -999,9,20230731,2145, -32.0109, 100.9913,-999          ,9,-999          ,9
33RR20230722  ,I05        ,37      ,  1,26         ,26         ,2,20230731,2038, -32.0109, 100.9913,     2236,     84.2,2,  16.7235,2,  35.7298,2,  35.7292,2,    232.0,3,    234.7,2,     1.17,2,     0.27,2,     0.08,2,     0.18,2,    2.395,2,    1.362,2,   2.3300,2,   2101.9,2,   2348.2,2,   7.9428,2,    24.98,2,     -999,9,     -999,1,     -999,9,     -999,9,     -999,9,     -999,1,     -999,9,   4.9731,1,   0.0279,1,      8.3,2,     -999,9,     -999,9,     -999,9,     -999,9,20230731,2143, -32.0109, 100.9913,-999          ,9,-999          ,9
33RR20230722  ,I05        ,37      ,  1,25         ,25         ,2,20230731,2038, -32.0109, 100.9913,     2236,    109.7,2,  16.2291,2,  35.6795,2,  35.6810,2,    228.1,2,    228.5,2,     1.46,2,     1.43,2,     0.10,2,     0.24,2,     -999,9,     -999,9,     -999,9,   -999.0,9,     -999,9,     -999,9,     -999,9,     -999,9,     -999,1,     -999,9,     -999,9,     -999,9,     -999,9,     -999,9,   4.8949,1,   0.0198,1,     -999,9,     -999,9,     -999,9,     -999,9,     -999,9,20230731,2141, -32.0110, 100.9913,-999          ,9,-999          ,9
33RR20230722  ,I05        ,37      ,  1,24         ,24         ,2,20230731,2038, -32.0109, 100.9913,     2236,    154.2,2,  14.8702,2,  35.5278,2,  35.5267,2,    227.0,2,    227.6,2,     1.56,2,     3.42,2,     0.02,2,     0.37,2,    2.384,2,    1.508,2,   2.3800,2,   2117.7,2,   2335.2,2,   7.8895,2,    24.99,2,     -999,9,     -999,1,     -999,9,     -999,9,     -999,9,     -999,1,     -999,9,   4.9698,1,   0.0125,1,      9.5,2,     -999,9,     -999,9,     -999,9,     -999,9,20230731,2139, -32.0109, 100.9913,-999          ,9,-999          ,9
33RR20230722  ,I05        ,37      ,  1,23         ,23         ,2,20230731,2038, -32.0109, 100.9913,     2236,    194.1,2,  13.9724,2,  35.4039,2,  35.4034,2,    231.5,2,    231.6,2,     1.56,2,     4.67,2,     0.01,2,     0.45,2,     -999,9,     -999,9,     -999,9,   -999.0,9,     -999,9,     -999,9,     -999,9,     -999,9,     -999,1,     -999,9,     -999,9,     -999,9,     -999,9,     -999,9,   4.9696,1,   0.0115,1,     -999,9,     -999,9,     -999,9,     -999,9,     -999,9,20230731,2137, -32.0109, 100.9913,-999          ,9,-999          ,9
33RR20230722  ,I05        ,37      ,  1,22         ,22         ,2,20230731,2038, -32.0109, 100.9913,     2236,    222.3,2,  13.4476,2,  35.3170,2,  35.3173,2,    234.1,2,    234.2,2,     1.66,2,     5.48,2,     0.01,2,     0.51,2,    2.548,2,    1.591,2,   2.4300,2,   -999.0,9,     -999,9,     -999,9,     -999,9,     -999,9,     -999,1,     -999,9,     -999,9,     -999,9,     -999,9,     -999,9,   4.9695,1,   0.0114,1,     10.3,2,     -999,9,     -999,9,     -999,9,     -999,9,20230731,2136, -32.0110, 100.9913,-999          ,9,-999          ,9
33RR20230722  ,I05        ,37      ,  1,21         ,21         ,2,20230731,2038, -32.0109, 100.9913,     2236,    252.9,2,  12.6417,2,  35.1710,2,  35.1729,2,    236.5,2,    236.9,2,     1.85,2,     7.03,2,     0.00,2,     0.61,2,    2.640,2,    1.651,2,   2.5200,2,   2125.9,2,   2314.2,2,   7.8406,2,    24.96,2,     -999,9,     -999,1,     -999,9,     -999,9,     -999,9,     -999,1,     -999,9,   4.9294,1,   0.0114,1,     10.8,2,     -999,9,     -999,9,     -999,9,     -999,9,20230731,2134, -32.0110, 100.9913,-999          ,9,-999          ,9
33RR20230722  ,I05        ,37      ,  1,20         ,20         ,2,20230731,2038, -32.0109, 100.9913,     2236,    318.0,2,  11.4320,2,  34.9648,2,  34.9656,2,    244.1,2,    243.4,2,     2.24,2,     9.57,2,     0.00,2,     0.73,2,     -999,9,     -999,9,     -999,9,   -999.0,9,     -999,9,     -999,9,     -999,9,     -999,9,     -999,1,     -999,9,     -999,9,     -999,9,     -999,9,     -999,9,   4.9688,1,   0.0113,1,     -999,9,     -999,9,     -999,9,     -999,9,     -999,9,20230731,2132, -32.0109, 100.9913,-999          ,9,-999          ,9
33RR20230722  ,I05        ,37      ,  1,19         ,19         ,2,20230731,2038, -32.0109, 100.9913,     2236,    393.8,2,  10.6352,2,  34.8455,2,  34.8464,2,    239.2,2,    239.7,2,     3.02,2,    12.19,2,     0.00,2,     0.91,2,    2.952,2,    1.842,2,   2.4000,2,   2136.6,2,   2298.1,2,   7.7824,2,    24.96,2,     -999,9,     -999,1,     -999,9,     -999,9,     -999,9,     -999,9,     -999,9,   4.9677,1,   0.0114,1,     12.9,2,     -999,9,     -999,9,     -999,9,     -999,9,20230731,2130, -32.0109, 100.9913,-999          ,9,-999          ,9
33RR20230722  ,I05        ,37      ,  1,18         ,18         ,2,20230731,2038, -32.0109, 100.9913,     2236,    482.5,2,   9.8865,2,  34.7423,2,  34.7419,2,    238.7,2,    237.8,2,     3.90,2,    14.64,2,     0.00,2,     1.05,2,    3.065,2,    1.910,2,   2.3000,2,   -999.0,9,     -999,9,     -999,9,     -999,9,     -999,9,     -999,1,     -999,9,     -999,9,     -999,9,     -999,9,     -999,9,   4.9670,1,   0.0116,1,     13.4,2,     -999,9,     -999,9,     -999,9,     -999,9,20230731,2127, -32.0109, 100.9913,-999          ,9,-999          ,9
33RR20230722  ,I05        ,37      ,  1,17         ,17         ,2,20230731,2038, -32.0109, 100.9913,     2236,    583.7,2,   9.3604,2,  34.6791,2,  34.6789,2,    237.7,2,    237.3,2,     4.88,2,    16.28,2,     0.00,2,     1.17,2,     -999,9,     -999,9,     -999,9,   -999.0,9,     -999,9,     -999,9,     -999,9,     -999,9,     -999,1,     -999,9,     -999,9,     -999,9,     -999,9,     -999,9,   4.9046,1,   0.0113,1,     -999,9,     -999,9,     -999,9,     -999,9,     -999,9,20230731,2124, -32.0109, 100.9913,-999          ,9,-999          ,9
33RR20230722  ,I05        ,37      ,  1,16         ,16         ,2,20230731,2038, -32.0109, 100.9913,     2236,    665.5,2,   8.7463,2,  34.6045,2,  34.6046,2,    228.0,2,    228.4,2,     6.64,2,    18.77,2,     0.00,2,     1.32,2,    3.097,2,    1.861,2,   1.9300,2,   -999.0,9,     -999,9,     -999,9,     -999,9,     -999,9,     -999,1,     -999,9,     -999,9,     -999,9,     -999,9,     -999,9,   4.9667,1,   0.0112,1,     14.3,2,     -999,9,     -999,9,     -999,9,     -999,9,20230731,2122, -32.0109, 100.9913,-999          ,9,-999          ,9
33RR20230722  ,I05        ,37      ,  1,15         ,15         ,2,20230731,2038, -32.0109, 100.9913,     2236,    749.5,2,   7.5845,2,  34.5011,2,  34.5023,2,    207.0,2,    207.5,2,    12.88,2,    23.22,2,     0.00,2,     1.60,2,    2.734,2,    1.565,2,   1.2500,2,   2167.0,2,   2286.4,2,   7.6812,2,    24.97,2,     -999,9,     -999,1,     -999,9,     -999,9,     -999,9,     -999,9,     -999,9,   4.9682,1,   0.0112,1,     16.9,2,     -999,9,     -999,9,     -999,9,     -999,9,20230731,2119, -32.0109, 100.9912,-999          ,9,-999          ,9
33RR20230722  ,I05        ,37      ,  1,14         ,14         ,2,20230731,2038, -32.0109, 100.9913,     2236,    886.4,2,   5.5495,2,  34.3937,2,  34.3933,2,    192.9,2,    193.7,2,    27.62,2,    28.49,2,     0.00,2,     1.99,2,     -999,9,     -999,9,     -999,9,   -999.0,9,     -999,9,     -999,9,     -999,9,     -999,9,     -999,1,     -999,9,     -999,9,     -999,9,     -999,9,     -999,9,   4.9701,1,   0.0112,1,     -999,9,     -999,9,     -999,9,     -999,9,     -999,9,20230731,2116, -32.0109, 100.9912,-999          ,9,-999          ,9
33RR20230722  ,I05        ,37      ,  1,13         ,13         ,2,20230731,2038, -32.0109, 100.9913,     2236,   1003.8,2,   4.3679,2,  34.4074,2,  34.4057,2,    178.5,2,    179.4,2,    45.29,2,    31.62,2,     0.00,2,     2.25,2,    1.373,2,    0.718,2,   0.2500,2,   2221.3,2,   2306.2,2,   7.5915,2,    24.98,2,     -999,9,     -999,1,     -999,9,     -999,9,     -999,9,     -999,9,     -999,9,   4.9574,1,   0.0118,1,     21.9,2,     -999,9,     -999,9,     -999,9,     -999,9,20230731,2113, -32.0109, 100.9913,-999          ,9,-999          ,9
33RR20230722  ,I05        ,37      ,  1,12         ,12         ,2,20230731,2038, -32.0109, 100.9913,     2236,   1074.7,2,   4.1124,2,  34.4430,2,  34.4428,2,    167.1,2,    167.4,2,    54.95,2,    32.87,2,     0.00,2,     2.33,2,     -999,9,     -999,9,     -999,9,   -999.0,9,     -999,9,     -999,9,     -999,9,     -999,9,     -999,1,     -999,9,     -999,9,     -999,9,     -999,9,     -999,9,   4.9725,1,   0.0112,1,     -999,9,     -999,9,     -999,9,     -999,9,     -999,9,20230731,2110, -32.0109, 100.9913,-999          ,9,-999          ,9
33RR20230722  ,I05        ,37      ,  1,11         ,11         ,2,20230731,2038, -32.0109, 100.9913,     2236,   1196.2,2,   3.7060,2,  34.4964,2,  34.4950,2,    156.2,2,    156.7,2,    67.05,2,    33.85,2,     0.00,2,     2.44,2,    0.573,2,    0.285,2,   0.0900,2,   2251.5,2,   2331.6,2,   7.5623,2,    24.98,2,     -999,9,     -999,1,     -999,9,     -999,9,     -999,9,     -999,9,     -999,9,   4.9735,1,   0.0123,1,     24.1,2,     -999,9,     -999,9,     -999,9,     -999,9,20230731,2107, -32.0109, 100.9913,-999          ,9,-999          ,9
33RR20230722  ,I05        ,37      ,  1,10         ,10         ,2,20230731,2038, -32.0109, 100.9913,     2236,   1271.4,2,   3.5095,2,  34.5270,2,  34.5262,2,    152.1,2,    151.9,2,    73.01,2,    34.29,2,     0.00,2,     2.46,2,    0.441,2,    0.192,2,   0.0400,2,   -999.0,9,     -999,9,     -999,9,     -999,9,     -999,9,     -999,1,     -999,9,     -999,9,     -999,9,     -999,9,     -999,9,   4.9737,1,   0.0112,1,     24.6,2,     -999,9,     -999,9,     -999,9,     -999,9,20230731,2105, -32.0109, 100.9913,-999          ,9,-999          ,9
33RR20230722  ,I05        ,37      ,  1,9          ,9          ,2,20230731,2038, -32.0109, 100.9913,     2236,   1373.6,2,   3.2932,2,  34.5587,2,  34.5578,2,    151.0,2,    150.8,2,    77.79,2,    34.56,2,     0.00,2,     2.47,2,     -999,9,     -999,9,     -999,9,   -999.0,9,     -999,9,     -999,9,     -999,9,     -999,9,     -999,1,     -999,9,     -999,9,     -999,9,     -999,9,     -999,9,   4.9741,1,   0.0118,1,     -999,9,     -999,9,     -999,9,     -999,9,     -999,9,20230731,2102, -32.0109, 100.9913,-999          ,9,-999          ,9
33RR20230722  ,I05        ,37      ,  1,8          ,8          ,2,20230731,2038, -32.0109, 100.9913,     2236,   1481.0,2,   3.1034,2,  34.5990,2,  34.5987,2,    149.8,2,    149.5,2,    85.30,2,    34.45,2,     0.00,2,     2.47,2,    0.112,2,    0.059,2,   0.0000,2,   2269.4,2,   2347.1,2,   7.5567,2,    24.99,2,     -999,9,     -999,1,     -999,9,     -999,9,     -999,9,     -999,9,     -999,9,   4.9742,1,   0.0112,1,     24.5,2,     -999,9,     -999,9,     -999,9,     -999,9,20230731,2059, -32.0109, 100.9913,-999          ,9,-999          ,9
33RR20230722  ,I05        ,37      ,  1,7          ,7          ,2,20230731,2038, -32.0109, 100.9913,     2236,   1564.2,2,   2.9199,2,  34.6235,2,  34.6231,2,    152.1,2,    151.9,2,    87.83,2,    34.48,2,     0.00,2,     2.46,2,     -999,9,     -999,9,     -999,9,   -999.0,9,     -999,9,     -999,9,     -999,9,     -999,9,     -999,1,     -999,9,     -999,9,     -999,9,     -999,9,     -999,9,   4.9741,1,   0.0112,1,     -999,9,     -999,9,     -999,9,     -999,9,     -999,9,20230731,2057, -32.0110, 100.9913,-999          ,9,-999          ,9
33RR20230722  ,I05        ,37      ,  1,6          ,6          ,2,20230731,2038, -32.0109, 100.9913,     2236,   1646.5,2,   2.8252,2,  34.6451,2,  34.6443,2,    152.7,2,    152.6,2,    90.47,2,    34.26,2,     0.00,2,     2.45,2,    0.039,2,    0.027,2,   0.0000,2,   2274.0,2,   2355.2,2,   7.5661,2,    24.98,2,     -999,9,     -999,1,     -999,9,     -999,9,     -999,9,     -999,9,     -999,9,   4.9742,1,   0.0119,1,     23.7,2,     -999,9,     -999,9,     -999,9,     -999,9,20230731,2054, -32.0109, 100.9913,-999          ,9,-999          ,9
33RR20230722  ,I05        ,37      ,  1,5          ,5          ,2,20230731,2038, -32.0109, 100.9913,     2236,   1735.2,2,   2.7316,2,  34.6638,2,  34.6635,2,    153.6,2,    153.6,2,    94.37,2,    33.93,2,     0.00,2,     2.44,2,     -999,9,     -999,9,     -999,9,   -999.0,9,     -999,9,     -999,9,     -999,9,     -999,9,     -999,1,     -999,9,     -999,9,     -999,9,     -999,9,     -999,9,   4.8256,1,   0.0113,1,     -999,9,     -999,9,     -999,9,     -999,9,     -999,9,20230731,2052, -32.0109, 100.9913,-999          ,9,-999          ,9
33RR20230722  ,I05        ,37      ,  1,4          ,37         ,2,20230731,2038, -32.0109, 100.9913,     2236,   1868.5,2,   2.6147,2,  34.6818,2,  34.6816,2,    155.7,2,    155.6,2,    98.27,2,    33.74,2,     0.00,2,     2.41,2,    0.017,2,    0.015,2,   0.0300,2,   2280.1,2,   2363.5,2,   7.5750,2,    24.98,2,     -999,9,     -999,1,     -999,9,     -999,9,     -999,9,     -999,9,     -999,9,   4.8115,1,   0.0112,1,     23.3,2,     -999,9,     -999,9,     -999,9,     -999,9,20230731,2048, -32.0109, 100.9913,-999          ,9,-999          ,9
33RR20230722  ,I05        ,37      ,  1,3          ,3          ,2,20230731,2038, -32.0109, 100.9913,     2236,   2056.6,2,   2.4556,2,  34.7027,2,  34.7036,2,    158.3,2,    158.5,2,   103.44,2,    33.65,2,     0.00,2,     2.39,2,     -999,9,     -999,9,     -999,9,   2281.3,2,   2370.5,6,   7.5816,2,    25.01,2,     -999,9,     -999,1,     -999,9,     -999,9,     -999,9,     -999,9,     -999,9,   4.9739,1,   0.0113,1,     -999,9,     -999,9,     -999,9,     -999,9,     -999,9,20230731,2044, -32.0109, 100.9913,-999          ,9,-999          ,9
33RR20230722  ,I05        ,37      ,  1,2          ,2          ,2,20230731,2038, -32.0109, 100.9913,     2236,   2157.5,2,   2.3110,2,  34.7127,2,  34.7125,2,    168.6,2,    168.9,2,    98.86,2,    32.60,2,     0.00,2,     2.35,2,    0.024,2,    0.018,2,   0.1200,2,   -999.0,9,     -999,9,     -999,9,     -999,9,     -999,9,   2.3107,2,     -999,9,     -999,9,     -999,9,     -999,9,     -999,9,   4.9735,1,   0.0122,1,     22.2,2,     -999,9,     -999,9,     -999,9,     -999,9,20230731,2041, -32.0109, 100.9913,-999          ,9,-999          ,9
33RR20230722  ,I05        ,37      ,  1,1          ,1          ,2,20230731,2038, -32.0109, 100.9913,     2236,   2253.3,2,   2.2587,2,  34.7163,2,  34.7178,2,    166.6,2,    166.9,2,   103.83,2,    32.85,2,     0.00,2,     2.35,2,    0.011,2,    0.011,2,   0.0000,2,   2277.4,6,   2368.4,2,   7.5950,2,    24.99,2,     -999,9,   2.2584,2,     -999,9,     -999,9,     -999,9,     -999,9,     -999,9,   0.5018,1,   0.0115,1,     21.9,2,     -999,9,     -999,9,     -999,9,     -999,9,20230731,2038, -32.0109, 100.9913,-999          ,9,-999          ,9