BOTTLE,20240422CCHHYDRO
EXPOCODE,SECT_ID,STNNBR,CASTNO,SAMPNO,BTLNBR,BTLNBR_FLAG_W,DATE,TIME,LATITUDE,LONGITUDE,DEPTH,CTDPRS,CTDPRS_FLAG_W,CTDTMP,CTDTMP_FLAG_W,CTDSAL,CTDSAL_FLAG_W,SALNTY,SALNTY_FLAG_W,CTDOXY,CTDOXY_FLAG_W,OXYGEN,OXYGEN_FLAG_W,SILCAT,SILCAT_FLAG_W,NITRAT,NITRAT_FLAG_W,NITRIT,NITRIT_FLAG_W,PHSPHT,PHSPHT_FLAG_W,CFC-11,CFC-11_FLAG_W,CFC-12,CFC-12_FLAG_W,SF6,SF6_FLAG_W,TCARBN,TCARBN_FLAG_W,ALKALI,ALKALI_FLAG_W,PH_TOT,PH_TOT_FLAG_W,PH_TMP,PH_TMP_FLAG_W,DOC,DOC_FLAG_W,REFTMP,REFTMP_FLAG_W,POC,POC_FLAG_W,PON,PON_FLAG_W,POP,POP_FLAG_W,DOP,DOP_FLAG_W,DELO18,DELO18_FLAG_W,CTDFLUOR,CTDFLUOR_FLAG_W,CTDXMISS,CTDXMISS_FLAG_W,N2O,N2O_FLAG_W,D15N_NO3,D15N_NO3_FLAG_W,D15N_NO2+NO3,D15N_NO2+NO3_FLAG_W,D18O_NO2+NO3,D18O_NO2+NO3_FLAG_W,D18O_NO3,D18O_NO3_FLAG_W,BTL_DATE,BTL_TIME,BTL_LAT,BTL_LON,HPLC,HPLC_FLAG_W,DNA,DNA_FLAG_W
,,,,,,,,,,,METERS,DBAR,,ITS-90,,PSS-78,,PSS-78,,UMOL/KG,,UMOL/KG,,UMOL/KG,,UMOL/KG,,UMOL/KG,,UMOL/KG,,PMOL/KG,,PMOL/KG,,FMOL/KG,,UMOL/KG,,UMOL/KG,,,,DEG C,,UMOL/KG,,ITS-90,,UG/KG,,UG/KG,,UG/L,,UMOL/KG,,/MILLE,,VOLTS,,VOLTS,,NMOL/KG,,/MILLE,,/MILLE,,/MILLE,,/MILLE,,,,,,,,,
33RR20230722  ,I05        ,73      ,  2,36         ,36         ,2,20230810,0824, -31.1946,  84.3701,     4033,      4.0,2,  16.7230,2,  35.5693,2,     -999,9,    242.4,2,     -999,9,     -999,9,     -999,9,     -999,9,     -999,9,     -999,9,     -999,9,     -999,9,   -999.0,9,     -999,9,     -999,9,     -999,9,     -999,1,  16.7224,2,     -999,1,     -999,1,     -999,9,     -999,9,     -999,9,   4.4981,1,   0.0252,1,     -999,9,     -999,9,     -999,9,     -999,9,     -999,9,20230810,1011, -31.1946,  84.3701,-999          ,1,-999          ,9
33RR20230722  ,I05        ,73      ,  2,35         ,35         ,2,20230810,0824, -31.1946,  84.3701,     4033,      4.1,2,  16.7204,2,  35.5687,2,  35.5695,2,    242.5,2,    242.0,2,     0.88,2,     0.05,2,     0.00,2,     0.17,2,    1.281,3,    1.378,2,   2.3900,2,   2086.6,2,   2340.9,2,   7.9499,2,    25.00,2,     -999,9,  16.7211,2,     -999,9,     -999,9,     -999,9,     -999,9,     -999,9,   4.4531,1,   0.0263,1,      7.8,2,     -999,9,     -999,9,     -999,9,     -999,9,20230810,1010, -31.1946,  84.3701,-999          ,9,-999          ,9
33RR20230722  ,I05        ,73      ,  2,34         ,34         ,2,20230810,0824, -31.1946,  84.3701,     4033,     23.3,2,  16.7208,2,  35.5682,2,  35.5663,2,    242.4,2,    242.2,2,     0.88,2,     0.01,2,     0.00,2,     0.17,2,    1.671,3,    1.380,2,   2.1700,2,   -999.0,9,     -999,9,     -999,9,     -999,9,     -999,9,  16.7200,2,     -999,9,     -999,9,     -999,9,     -999,9,     -999,9,   4.9751,1,   0.0303,1,      7.6,2,     -999,9,     -999,9,     -999,9,     -999,9,20230810,1008, -31.1946,  84.3701,-999          ,9,-999          ,9
33RR20230722  ,I05        ,73      ,  2,33         ,33         ,2,20230810,0824, -31.1946,  84.3701,     4033,     35.6,2,  16.7091,2,  35.5650,2,  35.5661,2,    242.3,2,    242.0,2,     0.88,2,     0.00,2,     0.00,2,     0.16,2,     -999,9,     -999,9,     -999,9,   2087.4,6,   2341.6,2,   7.9500,2,    25.01,2,     -999,9,  16.7073,2,     -999,9,     -999,9,     -999,9,     -999,9,     -999,9,   4.9749,1,   0.0324,1,     -999,9,     -999,9,     -999,9,     -999,9,     -999,9,20230810,1007, -31.1946,  84.3701,-999          ,9,-999          ,9
33RR20230722  ,I05        ,73      ,  2,32         ,32         ,2,20230810,0824, -31.1946,  84.3701,     4033,     55.0,2,  16.7066,2,  35.5633,2,  35.5646,2,    242.1,2,    242.1,2,     0.98,2,     0.00,2,     0.00,2,     0.16,2,    0.628,3,    1.386,2,   2.0400,2,   2084.4,2,   2342.1,2,   7.9504,2,    24.99,2,     -999,9,  16.7058,2,     -999,9,     -999,9,     -999,9,     -999,9,     -999,9,   4.8334,1,   0.0340,1,      7.8,2,     -999,9,     -999,9,     -999,9,     -999,9,20230810,1005, -31.1946,  84.3701,-999          ,9,-999          ,9
33RR20230722  ,I05        ,73      ,  2,31         ,31         ,2,20230810,0824, -31.1946,  84.3701,     4033,     79.7,2,  16.5646,2,  35.5256,2,  35.5265,2,    242.6,2,    242.4,2,     0.98,2,     0.02,2,     0.00,2,     0.18,2,     -999,9,     -999,9,     -999,9,   2087.8,2,   2338.9,2,   7.9476,2,    25.00,2,     -999,9,  16.5678,2,     -999,9,     -999,9,     -999,9,     -999,9,     -999,9,   4.9423,1,   0.0376,1,     -999,9,     -999,9,     -999,9,     -999,9,     -999,9,20230810,1003, -31.1946,  84.3701,-999          ,9,-999          ,9
33RR20230722  ,I05        ,73      ,  2,30         ,30         ,2,20230810,0824, -31.1946,  84.3701,     4033,    102.8,2,  16.4282,2,  35.5038,2,     -999,9,    242.0,2,     -999,9,     -999,9,     -999,9,     -999,9,     -999,9,     -999,9,     -999,9,     -999,9,   -999.0,9,     -999,9,     -999,9,     -999,9,     -999,9,  16.4202,2,     -999,1,     -999,1,     -999,9,     -999,9,     -999,9,   4.8421,1,   0.0321,1,     -999,9,     -999,9,     -999,9,     -999,9,     -999,9,20230810,1002, -31.1946,  84.3701,-999          ,1,-999          ,9
33RR20230722  ,I05        ,73      ,  2,29         ,29         ,2,20230810,0824, -31.1946,  84.3701,     4033,    107.2,2,  15.7627,2,  35.4735,2,  35.4705,2,    242.2,2,    242.9,2,     1.17,2,     0.84,2,     0.16,2,     0.25,2,    0.247,4,    0.135,4,   0.1100,4,   2097.6,2,   2335.8,2,   7.9191,2,    25.00,2,     -999,9,  15.6761,3,     -999,9,     -999,9,     -999,9,     -999,9,     -999,9,   4.9734,1,   0.0302,1,      3.2,4,     -999,9,     -999,9,     -999,9,     -999,9,20230810,1001, -31.1946,  84.3701,-999          ,9,-999          ,9
33RR20230722  ,I05        ,73      ,  2,28         ,28         ,2,20230810,0824, -31.1946,  84.3701,     4033,    137.0,2,  13.9742,2,  35.3259,2,  35.3218,2,    235.1,2,    236.2,2,     1.56,2,     4.36,2,     0.15,2,     0.46,2,     -999,9,     -999,9,     -999,9,   2116.7,2,   2325.6,2,   7.8637,2,    25.01,2,     -999,9,  13.9732,2,     -999,9,     -999,9,     -999,9,     -999,9,     -999,9,   4.9706,1,   0.0232,1,     -999,9,     -999,9,     -999,9,     -999,9,     -999,9,20230810,0959, -31.1946,  84.3701,-999          ,9,-999          ,9
33RR20230722  ,I05        ,73      ,  2,27         ,27         ,2,20230810,0824, -31.1946,  84.3701,     4033,    168.2,2,  13.3799,2,  35.2479,2,  35.2485,2,    234.2,2,    235.5,2,     1.85,2,     5.91,2,     0.01,2,     0.54,2,    2.738,3,    1.600,2,   2.3400,2,   2117.9,2,   2321.7,2,   7.8485,2,    25.00,2,     -999,9,  13.3793,2,     -999,9,     -999,9,     -999,9,     -999,9,     -999,9,   4.8493,1,   0.0141,1,      9.9,2,     -999,9,     -999,9,     -999,9,     -999,9,20230810,0957, -31.1946,  84.3701,-999          ,9,-999          ,9
33RR20230722  ,I05        ,73      ,  2,26         ,26         ,2,20230810,0824, -31.1946,  84.3701,     4033,    214.4,2,  12.7854,2,  35.1694,2,  35.1740,2,    236.8,2,    237.1,2,     2.24,2,     7.22,2,     0.00,2,     0.61,2,     -999,9,     -999,9,     -999,9,   2125.9,2,   2316.4,2,   7.8364,2,    25.00,2,     -999,9,  12.7943,2,     -999,9,     -999,9,     -999,9,     -999,9,     -999,9,   4.9694,1,   0.0117,1,     -999,9,     -999,9,     -999,9,     -999,9,     -999,9,20230810,0955, -31.1946,  84.3701,-999          ,9,-999          ,9
33RR20230722  ,I05        ,73      ,  2,25         ,25         ,2,20230810,0824, -31.1946,  84.3701,     4033,    263.0,2,  12.3170,2,  35.0955,2,  35.1024,2,    242.2,2,    241.4,2,     2.24,2,     7.84,2,     0.00,2,     0.64,2,    2.426,3,    1.653,2,   2.3900,2,   2123.3,2,   2311.5,2,   7.8318,2,    25.00,2,     -999,9,  12.3910,2,     -999,9,     -999,9,     -999,9,     -999,9,     -999,9,   4.9113,1,   0.0116,1,     10.6,2,     -999,9,     -999,9,     -999,9,     -999,9,20230810,0953, -31.1946,  84.3701,-999          ,9,-999          ,9
33RR20230722  ,I05        ,73      ,  2,24         ,24         ,2,20230810,0824, -31.1946,  84.3701,     4033,    317.0,2,  11.9540,2,  35.0318,2,  35.0321,2,    241.9,2,    241.6,2,     2.73,2,     9.15,2,     0.00,2,     0.71,2,     -999,9,     -999,9,     -999,9,   -999.0,9,     -999,9,     -999,9,     -999,9,     -999,9,  11.9529,2,     -999,9,     -999,9,     -999,9,     -999,9,     -999,9,   4.9685,1,   0.0118,1,     -999,9,     -999,9,     -999,9,     -999,9,     -999,9,20230810,0951, -31.1946,  84.3701,-999          ,9,-999          ,9
33RR20230722  ,I05        ,73      ,  2,23         ,23         ,2,20230810,0824, -31.1946,  84.3701,     4033,    377.2,2,  11.5157,2,  34.9659,2,  35.0339,4,    243.4,2,    242.2,2,     2.63,2,     9.11,2,     0.00,2,     0.71,2,    2.853,3,    1.692,2,   2.4900,2,   2126.7,2,   2308.7,6,   7.8189,2,    25.02,2,     -999,9,  11.5225,2,     -999,9,     -999,9,     -999,9,     -999,9,     -999,9,   4.9682,1,   0.0115,1,     11.1,2,     -999,9,     -999,9,     -999,9,     -999,9,20230810,0949, -31.1946,  84.3701,-999          ,9,-999          ,9
33RR20230722  ,I05        ,73      ,  2,22         ,22         ,2,20230810,0824, -31.1946,  84.3701,     4033,    443.6,2,  11.2213,2,  34.9224,2,  34.9205,2,    241.6,2,    240.9,2,     3.81,2,    11.73,2,     0.00,2,     0.86,2,     -999,9,     -999,9,     -999,9,   2129.5,2,   2299.4,2,   7.7984,2,    25.01,2,     -999,9,  11.2227,2,     -999,9,     -999,9,     -999,9,     -999,9,     -999,9,   4.9517,1,   0.0116,1,     -999,9,     -999,9,     -999,9,     -999,9,     -999,9,20230810,0947, -31.1946,  84.3701,-999          ,9,-999          ,9
33RR20230722  ,I05        ,73      ,  2,21         ,21         ,2,20230810,0824, -31.1946,  84.3701,     4033,    520.0,2,  10.7456,2,  34.8554,2,  34.8566,2,    236.7,2,    236.7,2,     4.10,2,    13.14,2,     0.00,2,     0.96,2,    3.886,3,    1.681,2,   2.3500,2,   2134.4,2,   2297.9,2,   7.7841,2,    24.99,2,     -999,9,  10.7446,2,     -999,9,     -999,9,     -999,9,     -999,9,     -999,9,   4.9670,1,   0.0115,1,     11.5,2,     -999,9,     -999,9,     -999,9,     -999,9,20230810,0945, -31.1946,  84.3701,-999          ,9,-999          ,9
33RR20230722  ,I05        ,73      ,  2,20         ,20         ,2,20230810,0824, -31.1946,  84.3701,     4033,    604.3,2,  10.0747,2,  34.7679,2,  34.7703,2,    234.1,2,    234.0,2,     4.49,2,    14.84,2,     0.00,2,     1.08,2,     -999,9,     -999,9,     -999,9,   -999.0,9,     -999,9,     -999,9,     -999,9,     -999,9,  10.0786,2,     -999,9,     -999,9,     -999,9,     -999,9,     -999,9,   4.8489,1,   0.0113,1,     -999,9,     -999,9,     -999,9,     -999,9,     -999,9,20230810,0942, -31.1946,  84.3701,-999          ,9,-999          ,9
33RR20230722  ,I05        ,73      ,  2,19         ,19         ,2,20230810,0824, -31.1946,  84.3701,     4033,    706.1,2,   9.3279,2,  34.6762,2,  34.6777,2,    224.6,2,    225.0,2,     6.34,2,    17.64,2,     0.00,2,     1.27,2,    2.743,3,    1.771,2,   1.7500,2,   2146.1,2,   2289.6,2,   7.7380,2,    25.01,2,     -999,9,   9.3423,2,     -999,9,     -999,9,     -999,9,     -999,9,     -999,9,   4.8475,1,   0.0113,1,     12.7,2,     -999,9,     -999,9,     -999,9,     -999,9,20230810,0939, -31.1946,  84.3701,-999          ,9,-999          ,9
33RR20230722  ,I05        ,73      ,  2,18         ,18         ,2,20230810,0824, -31.1946,  84.3701,     4033,    795.3,2,   8.2028,2,  34.5604,2,  34.5657,2,    209.5,2,    210.6,2,    10.64,2,    21.63,2,     0.00,2,     1.49,2,     -999,9,     -999,9,     -999,9,   2158.6,2,   2288.7,2,   7.6990,2,    25.02,2,     -999,9,   8.2117,2,     -999,9,     -999,9,     -999,9,     -999,9,     -999,9,   4.9681,1,   0.0113,1,     -999,9,     -999,9,     -999,9,     -999,9,     -999,9,20230810,0937, -31.1946,  84.3701,-999          ,9,-999          ,9
33RR20230722  ,I05        ,73      ,  2,17         ,17         ,2,20230810,0824, -31.1946,  84.3701,     4033,    901.2,2,   6.6262,2,  34.4370,2,  34.4404,2,    201.2,2,    201.7,2,    18.65,2,    26.38,2,     0.00,2,     1.80,2,    2.753,3,    1.439,2,   0.9100,2,   2176.5,2,   2288.0,2,   7.6525,6,    25.01,2,     -999,9,   6.6234,2,     -999,9,     -999,9,     -999,9,     -999,9,     -999,9,   4.9331,1,   0.0112,1,     16.5,2,     -999,9,     -999,9,     -999,9,     -999,9,20230810,0934, -31.1946,  84.3701,-999          ,9,-999          ,9
33RR20230722  ,I05        ,73      ,  2,16         ,16         ,2,20230810,0824, -31.1946,  84.3701,     4033,   1011.0,2,   5.2019,2,  34.3644,2,  34.3682,2,    200.0,2,    200.0,2,    27.82,2,    29.45,2,     0.00,2,     2.01,2,     -999,9,     -999,9,     -999,9,   2192.9,2,   2292.2,2,   7.6246,2,    25.01,2,     -999,9,   5.2000,2,     -999,9,     -999,9,     -999,9,     -999,9,     -999,9,   4.9703,1,   0.0114,1,     -999,9,     -999,9,     -999,9,     -999,9,     -999,9,20230810,0931, -31.1946,  84.3701,-999          ,9,-999          ,9
33RR20230722  ,I05        ,73      ,  2,15         ,15         ,2,20230810,0824, -31.1946,  84.3701,     4033,   1115.1,2,   4.3490,2,  34.3852,2,  34.3882,2,    186.9,2,    186.4,2,    41.98,2,    31.99,2,     0.00,2,     2.22,2,    1.394,3,    0.824,6,   0.2900,6,   2214.3,2,   2304.9,2,   7.5950,6,    25.00,2,     -999,9,   4.3479,2,     -999,9,     -999,9,     -999,9,     -999,9,     -999,9,   4.9718,1,   0.0113,1,     19.2,6,     -999,9,     -999,9,     -999,9,     -999,9,20230810,0928, -31.1946,  84.3701,-999          ,9,-999          ,9
33RR20230722  ,I05        ,73      ,  2,14         ,14         ,2,20230810,0824, -31.1946,  84.3701,     4033,   1264.5,2,   3.7185,2,  34.4655,2,  34.4648,2,    165.9,2,    165.8,2,    60.04,2,    34.01,2,     0.00,2,     2.38,2,    0.682,3,    0.394,2,   0.1900,2,   2242.8,2,   2324.9,2,   7.5735,6,    25.01,2,     -999,9,   3.7239,2,     -999,9,     -999,9,     -999,9,     -999,9,     -999,9,   4.9732,1,   0.0118,1,     20.6,2,     -999,9,     -999,9,     -999,9,     -999,9,20230810,0924, -31.1946,  84.3701,-999          ,9,-999          ,9
33RR20230722  ,I05        ,73      ,  2,13         ,13         ,2,20230810,0824, -31.1946,  84.3701,     4033,   1373.6,2,   3.4194,2,  34.5193,2,  34.5213,2,    157.9,2,    157.6,2,    69.80,2,    34.55,2,     0.00,2,     2.43,2,    0.386,3,    0.224,2,   0.0800,2,   2252.5,2,   2334.6,6,   7.5622,2,    25.00,2,     -999,9,   3.4177,2,     -999,9,     -999,9,     -999,9,     -999,9,     -999,9,   4.9591,1,   0.0123,1,     21.5,2,     -999,9,     -999,9,     -999,9,     -999,9,20230810,0922, -31.1946,  84.3701,-999          ,9,-999          ,9
33RR20230722  ,I05        ,73      ,  2,12         ,12         ,2,20230810,0824, -31.1946,  84.3701,     4033,   1488.9,2,   3.1848,2,  34.5653,2,  34.5671,2,    155.7,2,    155.6,2,    76.04,2,    34.59,2,     0.00,2,     2.44,2,    0.292,3,    0.137,2,   0.0600,2,   2258.2,2,   2344.7,2,   7.5608,2,    25.01,2,     -999,9,   3.1841,2,     -999,9,     -999,9,     -999,9,     -999,9,     -999,9,   4.9745,1,   0.0111,1,     21.8,2,     -999,9,     -999,9,     -999,9,     -999,9,20230810,0919, -31.1946,  84.3701,-999          ,9,-999          ,9
33RR20230722  ,I05        ,73      ,  2,11         ,11         ,2,20230810,0824, -31.1946,  84.3701,     4033,   1672.5,2,   2.8684,2,  34.6324,3,  34.6512,2,    158.1,2,    158.0,2,    84.04,2,    34.05,2,     0.00,2,     2.38,2,    0.084,3,    0.068,2,   0.0400,2,   -999.0,9,     -999,9,     -999,9,     -999,9,     -999,9,   2.8689,2,     -999,9,     -999,9,     -999,9,     -999,9,     -999,9,   4.9639,1,   0.0118,1,     21.1,2,     -999,9,     -999,9,     -999,9,     -999,9,20230810,0915, -31.1946,  84.3701,-999          ,9,-999          ,9
33RR20230722  ,I05        ,73      ,  2,10         ,10         ,2,20230810,0824, -31.1946,  84.3701,     4033,   1803.2,2,   2.7021,2,  34.6624,2,  34.6631,2,    161.9,2,    161.8,2,    87.06,2,    33.70,2,     0.00,2,     2.37,2,     -999,9,     -999,9,     -999,9,   2264.8,2,   2352.9,2,   7.5772,2,    25.02,2,     -999,9,   2.7001,2,     -999,9,     -999,9,     -999,9,     -999,9,     -999,9,   4.6663,1,   0.0114,1,     -999,9,     -999,9,     -999,9,     -999,9,     -999,9,20230810,0911, -31.1946,  84.3700,-999          ,9,-999          ,9
33RR20230722  ,I05        ,73      ,  2,9          ,9          ,2,20230810,0824, -31.1946,  84.3701,     4033,   2004.7,2,   2.4288,2,  34.7022,2,  34.7028,2,    169.7,2,    169.8,2,    91.84,2,    32.83,2,     0.00,2,     2.30,2,    0.014,3,    0.022,2,  -0.0100,2,   -999.0,9,     -999,9,     -999,9,     -999,9,     -999,9,   2.4274,2,     -999,9,     -999,9,     -999,9,     -999,9,     -999,9,   4.9748,1,   0.0113,1,     19.7,2,     -999,9,     -999,9,     -999,9,     -999,9,20230810,0907, -31.1946,  84.3701,-999          ,9,-999          ,9
33RR20230722  ,I05        ,73      ,  2,8          ,8          ,2,20230810,0824, -31.1946,  84.3701,     4033,   2264.4,2,   2.1311,2,  34.7221,2,  34.7229,2,    175.8,2,    176.0,2,    99.46,2,    32.46,2,     0.00,2,     2.29,2,   -0.015,3,    0.009,2,  -0.0100,2,   2267.9,2,   2367.0,2,   7.6004,2,    25.01,2,     -999,9,   2.1300,2,     -999,9,     -999,9,     -999,9,     -999,9,     -999,9,   4.9639,1,   0.0115,1,     19.3,2,     -999,9,     -999,9,     -999,9,     -999,9,20230810,0902, -31.1946,  84.3701,-999          ,9,-999          ,9
33RR20230722  ,I05        ,73      ,  2,7          ,7          ,2,20230810,0824, -31.1946,  84.3701,     4033,   2639.0,2,   1.8140,2,  34.7332,2,  34.7339,2,    187.9,2,    187.9,2,   102.09,2,    31.76,2,     0.00,2,     2.23,2,    0.015,3,    0.028,2,  -0.0100,2,   -999.0,9,     -999,9,     -999,9,     -999,9,     -999,9,   1.8146,2,     -999,9,     -999,9,     -999,9,     -999,9,     -999,9,   4.8395,1,   0.0118,1,     18.0,2,     -999,9,     -999,9,     -999,9,     -999,9,20230810,0854, -31.1946,  84.3701,-999          ,9,-999          ,9
33RR20230722  ,I05        ,73      ,  2,6          ,6          ,2,20230810,0824, -31.1946,  84.3701,     4033,   2867.2,2,   1.6564,2,  34.7320,2,  34.7323,2,    190.8,2,    191.2,2,   105.99,2,    31.78,2,     0.00,2,     2.21,2,     -999,9,     -999,9,     -999,9,   2264.0,2,   2368.8,2,   7.6152,2,    25.01,2,     -999,9,   1.6568,2,     -999,9,     -999,9,     -999,9,     -999,9,     -999,9,   4.7983,1,   0.0111,1,     -999,9,     -999,9,     -999,9,     -999,9,     -999,9,20230810,0849, -31.1946,  84.3701,-999          ,9,-999          ,9
33RR20230722  ,I05        ,73      ,  2,5          ,5          ,2,20230810,0824, -31.1946,  84.3701,     4033,   3113.4,2,   1.4913,2,  34.7297,2,  34.7302,2,    195.1,2,    195.1,2,   109.41,2,    31.83,2,     0.00,2,     2.21,2,   -0.003,3,    0.029,2,   0.0500,2,   2265.1,2,   2367.1,2,   7.6174,2,    25.01,2,     -999,9,   1.4910,2,     -999,9,     -999,9,     -999,9,     -999,9,     -999,9,   4.3786,1,   0.0116,1,     17.8,2,     -999,9,     -999,9,     -999,9,     -999,9,20230810,0844, -31.1946,  84.3701,-999          ,9,-999          ,9
33RR20230722  ,I05        ,73      ,  2,4          ,37         ,2,20230810,0824, -31.1946,  84.3701,     4033,   3375.3,2,   1.3865,2,  34.7261,2,  34.7266,2,    196.8,2,    196.8,2,   112.53,2,    31.94,2,     0.00,2,     2.22,2,    0.001,3,    0.021,2,   0.0600,2,   -999.0,9,     -999,9,     -999,9,     -999,9,     -999,9,   1.3862,2,     -999,9,     -999,9,     -999,9,     -999,9,     -999,9,   4.9755,1,   0.0112,1,     17.5,2,     -999,9,     -999,9,     -999,9,     -999,9,20230810,0839, -31.1946,  84.3701,-999          ,9,-999          ,9
33RR20230722  ,I05        ,73      ,  2,3          ,3          ,2,20230810,0824, -31.1946,  84.3701,     4033,   3650.7,2,   1.3597,2,  34.7244,2,  34.7252,2,    197.9,2,    198.1,2,   113.22,2,    31.93,2,     0.00,2,     2.24,2,   -0.008,3,    0.023,2,  -0.0100,2,   2268.4,2,   2371.3,2,   7.6191,6,    25.01,2,     -999,9,   1.3593,2,     -999,9,     -999,9,     -999,9,     -999,9,     -999,9,   4.9479,1,   0.0112,1,     17.6,2,     -999,9,     -999,9,     -999,9,     -999,9,20230810,0833, -31.1946,  84.3701,-999          ,9,-999          ,9