BOTTLE,20240422CCHHYDRO
EXPOCODE,SECT_ID,STNNBR,CASTNO,SAMPNO,BTLNBR,BTLNBR_FLAG_W,DATE,TIME,LATITUDE,LONGITUDE,DEPTH,CTDPRS,CTDPRS_FLAG_W,CTDTMP,CTDTMP_FLAG_W,CTDSAL,CTDSAL_FLAG_W,SALNTY,SALNTY_FLAG_W,CTDOXY,CTDOXY_FLAG_W,OXYGEN,OXYGEN_FLAG_W,SILCAT,SILCAT_FLAG_W,NITRAT,NITRAT_FLAG_W,NITRIT,NITRIT_FLAG_W,PHSPHT,PHSPHT_FLAG_W,CFC-11,CFC-11_FLAG_W,CFC-12,CFC-12_FLAG_W,SF6,SF6_FLAG_W,TCARBN,TCARBN_FLAG_W,ALKALI,ALKALI_FLAG_W,PH_TOT,PH_TOT_FLAG_W,PH_TMP,PH_TMP_FLAG_W,DOC,DOC_FLAG_W,REFTMP,REFTMP_FLAG_W,POC,POC_FLAG_W,PON,PON_FLAG_W,POP,POP_FLAG_W,DOP,DOP_FLAG_W,DELO18,DELO18_FLAG_W,CTDFLUOR,CTDFLUOR_FLAG_W,CTDXMISS,CTDXMISS_FLAG_W,N2O,N2O_FLAG_W,D15N_NO3,D15N_NO3_FLAG_W,D15N_NO2+NO3,D15N_NO2+NO3_FLAG_W,D18O_NO2+NO3,D18O_NO2+NO3_FLAG_W,D18O_NO3,D18O_NO3_FLAG_W,BTL_DATE,BTL_TIME,BTL_LAT,BTL_LON,HPLC,HPLC_FLAG_W,DNA,DNA_FLAG_W
,,,,,,,,,,,METERS,DBAR,,ITS-90,,PSS-78,,PSS-78,,UMOL/KG,,UMOL/KG,,UMOL/KG,,UMOL/KG,,UMOL/KG,,UMOL/KG,,PMOL/KG,,PMOL/KG,,FMOL/KG,,UMOL/KG,,UMOL/KG,,,,DEG C,,UMOL/KG,,ITS-90,,UG/KG,,UG/KG,,UG/L,,UMOL/KG,,/MILLE,,VOLTS,,VOLTS,,NMOL/KG,,/MILLE,,/MILLE,,/MILLE,,/MILLE,,,,,,,,,
33RR20230722  ,I05        ,144     ,  2,36         ,38         ,2,20230829,1226, -33.8364,  50.9772,     4463,      4.5,2,  17.5847,2,  35.6723,2,  35.6719,2,    238.9,2,    238.7,2,     1.27,2,     0.00,2,     0.00,2,     0.11,2,     -999,9,     -999,9,     -999,9,   2083.8,2,   2337.7,2,   7.9649,2,    25.00,2,     -999,1,  17.5831,2,     -999,9,     -999,9,     -999,9,     -999,9,     -999,1,   4.9003,1,   0.0232,1,     -999,9,     -999,9,     -999,9,     -999,9,     -999,9,20230829,1421, -33.8364,  50.9772,-999          ,9,-999          ,9
33RR20230722  ,I05        ,144     ,  2,35         ,35         ,2,20230829,1226, -33.8364,  50.9772,     4463,     28.7,2,  17.5899,2,  35.6723,2,  35.6723,2,    238.7,2,    238.5,2,     1.37,2,     0.00,2,     0.00,2,     0.10,2,     -999,9,     -999,9,     -999,9,   2082.8,2,   2338.0,2,   7.9637,2,    25.00,2,     -999,1,  17.5876,2,     -999,9,     -999,9,     -999,9,     -999,9,     -999,1,   4.9747,1,   0.0252,1,     -999,9,     -999,9,     -999,9,     -999,9,     -999,9,20230829,1418, -33.8364,  50.9772,-999          ,9,-999          ,9
33RR20230722  ,I05        ,144     ,  2,34         ,34         ,2,20230829,1226, -33.8364,  50.9772,     4463,     47.0,2,  17.5306,2,  35.6674,2,  35.6678,2,    238.3,2,    238.6,2,     1.37,2,     0.00,2,     0.00,2,     0.11,2,     -999,9,     -999,9,     -999,9,   -999.0,9,     -999,9,     -999,9,     -999,9,     -999,1,  17.5307,2,     -999,9,     -999,9,     -999,9,     -999,9,     -999,1,   4.9746,1,   0.0257,1,     -999,9,     -999,9,     -999,9,     -999,9,     -999,9,20230829,1417, -33.8364,  50.9772,-999          ,9,-999          ,9
33RR20230722  ,I05        ,144     ,  2,33         ,33         ,2,20230829,1226, -33.8364,  50.9772,     4463,     69.5,2,  17.4877,2,  35.6832,2,  35.6802,2,    236.5,2,    236.9,2,     1.56,2,     0.00,2,     0.02,2,     0.11,2,     -999,9,     -999,9,     -999,9,   2082.1,2,   2337.8,2,   7.9617,2,    25.01,2,     -999,1,  17.4890,2,     -999,9,     -999,9,     -999,9,     -999,9,     -999,1,   4.8977,1,   0.0341,1,     -999,9,     -999,9,     -999,9,     -999,9,     -999,9,20230829,1415, -33.8364,  50.9772,-999          ,9,-999          ,9
33RR20230722  ,I05        ,144     ,  2,32         ,32         ,2,20230829,1226, -33.8364,  50.9772,     4463,     91.0,2,  17.3470,2,  35.6737,2,  35.6731,2,    234.6,2,    235.1,2,     1.46,2,     0.08,2,     0.12,2,     0.13,2,     -999,9,     -999,9,     -999,9,   2084.5,2,   2337.9,2,   7.9556,2,    24.99,2,     -999,1,  17.3407,2,     -999,9,     -999,9,     -999,9,     -999,9,     -999,1,   4.8861,1,   0.0248,1,     -999,9,     -999,9,     -999,9,     -999,9,     -999,9,20230829,1413, -33.8364,  50.9772,-999          ,9,-999          ,9
33RR20230722  ,I05        ,144     ,  2,31         ,31         ,2,20230829,1226, -33.8364,  50.9772,     4463,    117.4,2,  17.0751,2,  35.6362,2,  35.6297,2,    231.2,2,    231.1,2,     1.76,2,     0.88,2,     0.18,2,     0.18,2,    2.001,2,    1.353,2,   2.3200,2,   2094.3,2,   2335.6,2,   7.9401,2,    24.99,2,     -999,1,  17.0747,2,     -999,9,     -999,9,     -999,9,     -999,9,     -999,1,   4.9722,1,   0.0196,1,      8.5,2,     -999,9,     -999,9,     -999,9,     -999,9,20230829,1411, -33.8364,  50.9773,-999          ,9,-999          ,9
33RR20230722  ,I05        ,144     ,  2,30         ,30         ,2,20230829,1226, -33.8364,  50.9772,     4463,    140.8,2,  16.3361,2,  35.5466,2,  35.5444,2,    219.9,2,    221.6,2,     2.05,2,     3.06,2,     0.04,2,     0.32,2,     -999,9,     -999,9,     -999,9,   2105.3,2,   2330.3,2,   7.9045,2,    25.01,2,     -999,1,  16.3220,2,     -999,9,     -999,9,     -999,9,     -999,9,     -999,1,   4.9697,1,   0.0160,1,     -999,9,     -999,9,     -999,9,     -999,9,     -999,9,20230829,1410, -33.8364,  50.9773,-999          ,9,-999          ,9
33RR20230722  ,I05        ,144     ,  2,29         ,29         ,2,20230829,1226, -33.8364,  50.9772,     4463,    165.1,2,  15.7157,2,  35.5015,2,  35.4943,2,    219.0,2,    221.1,2,     2.44,2,     4.12,2,     0.02,2,     0.39,2,     -999,9,     -999,9,     -999,9,   -999.0,9,     -999,9,     -999,9,     -999,9,     -999,1,  15.7070,2,     -999,9,     -999,9,     -999,9,     -999,9,     -999,1,   4.7894,1,   0.0136,1,     -999,9,     -999,9,     -999,9,     -999,9,     -999,9,20230829,1409, -33.8364,  50.9772,-999          ,9,-999          ,9
33RR20230722  ,I05        ,144     ,  2,28         ,28         ,2,20230829,1226, -33.8364,  50.9772,     4463,    186.6,2,  15.0643,2,  35.4429,2,  35.4403,2,    218.9,2,    219.9,2,     2.83,2,     5.39,2,     0.02,2,     0.46,2,    2.421,2,    1.491,2,   2.2100,2,   2117.1,2,   2324.3,2,   7.8750,2,    25.00,2,     -999,1,  15.0581,2,     -999,9,     -999,9,     -999,9,     -999,9,     -999,1,   4.9686,1,   0.0119,1,      9.7,2,     -999,9,     -999,9,     -999,9,     -999,9,20230829,1407, -33.8364,  50.9773,-999          ,9,-999          ,9
33RR20230722  ,I05        ,144     ,  2,27         ,27         ,2,20230829,1226, -33.8364,  50.9772,     4463,    212.1,2,  14.6378,2,  35.3977,2,  35.3967,2,    219.1,2,    219.9,2,     3.22,2,     6.23,2,     0.02,2,     0.49,2,     -999,9,     -999,9,     -999,9,   2121.9,2,   2322.6,6,   7.8645,2,    24.98,2,     -999,1,  14.6350,2,     -999,9,     -999,9,     -999,9,     -999,9,     -999,1,   4.9681,1,   0.0118,1,     -999,9,     -999,9,     -999,9,     -999,9,     -999,9,20230829,1406, -33.8364,  50.9772,-999          ,9,-999          ,9
33RR20230722  ,I05        ,144     ,  2,26         ,26         ,2,20230829,1226, -33.8364,  50.9772,     4463,    244.1,2,  14.2831,2,  35.3632,2,  35.3638,2,    221.7,2,    222.0,2,     3.22,2,     6.64,2,     0.00,2,     0.54,2,     -999,9,     -999,9,     -999,9,   -999.0,9,     -999,9,     -999,9,     -999,9,     -999,1,  14.2981,2,     -999,9,     -999,9,     -999,9,     -999,9,     -999,1,   4.8890,1,   0.0115,1,     -999,9,     -999,9,     -999,9,     -999,9,     -999,9,20230829,1404, -33.8364,  50.9772,-999          ,9,-999          ,9
33RR20230722  ,I05        ,144     ,  2,25         ,25         ,2,20230829,1226, -33.8364,  50.9772,     4463,    286.8,2,  13.8503,2,  35.3164,2,  35.3155,2,    224.7,2,    224.8,2,     3.22,2,     7.34,2,     0.00,2,     0.59,2,    2.535,2,    1.583,2,   2.2700,2,   2123.9,2,   2317.0,2,   7.8510,6,    24.99,2,     -999,1,  13.8501,2,     -999,9,     -999,9,     -999,9,     -999,9,     -999,1,   4.9681,1,   0.0118,1,     10.3,2,     -999,9,     -999,9,     -999,9,     -999,9,20230829,1402, -33.8364,  50.9772,-999          ,9,-999          ,9
33RR20230722  ,I05        ,144     ,  2,24         ,24         ,2,20230829,1226, -33.8364,  50.9772,     4463,    346.4,2,  13.4366,2,  35.2663,2,  35.2664,2,    226.6,2,    226.4,2,     3.41,2,     8.14,2,     0.00,2,     0.62,2,     -999,9,     -999,9,     -999,9,   2125.7,2,   2315.5,2,   7.8422,2,    24.97,2,     -999,1,  13.4407,2,     -999,9,     -999,9,     -999,9,     -999,9,     -999,1,   4.9678,1,   0.0116,1,     -999,9,     -999,9,     -999,9,     -999,9,     -999,9,20230829,1400, -33.8364,  50.9773,-999          ,9,-999          ,9
33RR20230722  ,I05        ,144     ,  2,23         ,23         ,2,20230829,1226, -33.8364,  50.9772,     4463,    416.7,2,  12.9483,2,  35.2023,2,  35.2036,2,    228.2,2,    227.8,2,     3.51,2,     9.15,2,     0.00,2,     0.69,2,     -999,9,     -999,9,     -999,9,   -999.0,9,     -999,9,     -999,9,     -999,9,     -999,1,  12.9481,2,     -999,9,     -999,9,     -999,9,     -999,9,     -999,1,   4.9677,1,   0.0116,1,     -999,9,     -999,9,     -999,9,     -999,9,     -999,9,20230829,1358, -33.8364,  50.9772,-999          ,9,-999          ,9
33RR20230722  ,I05        ,144     ,  2,22         ,22         ,2,20230829,1226, -33.8364,  50.9772,     4463,    498.0,2,  12.3941,2,  35.1181,2,  35.1179,2,    227.1,2,    226.7,2,     3.90,2,    10.56,2,     0.00,2,     0.77,2,    3.141,2,    1.709,2,   2.1600,2,   2129.9,2,   2308.0,2,   7.8158,2,    24.97,2,     -999,1,  12.3942,2,     -999,9,     -999,9,     -999,9,     -999,9,     -999,1,   4.9671,1,   0.0115,1,     11.0,2,     -999,9,     -999,9,     -999,9,     -999,9,20230829,1355, -33.8364,  50.9772,-999          ,9,-999          ,9
33RR20230722  ,I05        ,144     ,  2,21         ,21         ,2,20230829,1226, -33.8364,  50.9772,     4463,    589.3,2,  11.5241,2,  34.9845,2,  34.9850,2,    223.5,2,    223.3,2,     4.68,2,    12.80,2,     0.00,2,     0.91,2,     -999,9,     -999,9,     -999,9,   2139.6,2,   2302.8,2,   7.7930,2,    25.00,2,     -999,1,  11.5188,2,     -999,9,     -999,9,     -999,9,     -999,9,     -999,1,   4.9666,1,   0.0115,1,     -999,9,     -999,9,     -999,9,     -999,9,     -999,9,20230829,1352, -33.8364,  50.9772,-999          ,9,-999          ,9
33RR20230722  ,I05        ,144     ,  2,20         ,20         ,2,20230829,1226, -33.8364,  50.9772,     4463,    690.3,2,  10.4183,2,  34.8290,2,  34.8285,2,    219.4,2,    219.3,2,     6.15,2,    15.76,2,     0.00,2,     1.10,2,     -999,9,     -999,9,     -999,9,   2144.5,2,   2295.3,2,   7.7621,2,    24.97,2,     -999,1,  10.4173,2,     -999,9,     -999,9,     -999,9,     -999,9,     -999,1,   4.9033,1,   0.0116,1,     -999,9,     -999,9,     -999,9,     -999,9,     -999,9,20230829,1350, -33.8364,  50.9773,-999          ,9,-999          ,9
33RR20230722  ,I05        ,144     ,  2,19         ,19         ,2,20230829,1226, -33.8364,  50.9772,     4463,    797.1,2,   8.9926,2,  34.6632,2,  34.6643,2,    213.4,2,    213.5,2,     9.27,2,    19.62,2,     0.00,2,     1.36,2,    3.345,2,    1.771,2,   1.4800,2,   2160.7,2,   2291.7,2,   7.7241,2,    24.99,2,     -999,1,   8.9927,2,     -999,9,     -999,9,     -999,9,     -999,9,     -999,1,   4.9264,1,   0.0117,1,     14.4,2,     -999,9,     -999,9,     -999,9,     -999,9,20230829,1347, -33.8365,  50.9772,-999          ,9,-999          ,9
33RR20230722  ,I05        ,144     ,  2,18         ,18         ,2,20230829,1226, -33.8364,  50.9772,     4463,    910.8,2,   7.6566,2,  34.5403,2,  34.5388,2,    205.4,2,    205.8,2,    14.93,2,    23.56,2,     0.00,2,     1.61,2,     -999,9,     -999,9,     -999,9,   2172.0,2,   2290.0,6,   7.6856,2,    24.99,2,     -999,1,   7.6491,2,     -999,9,     -999,9,     -999,9,     -999,9,     -999,1,   4.9689,1,   0.0114,1,     -999,9,     -999,9,     -999,9,     -999,9,     -999,9,20230829,1344, -33.8364,  50.9773,-999          ,9,-999          ,9
33RR20230722  ,I05        ,144     ,  2,17         ,17         ,2,20230829,1226, -33.8364,  50.9772,     4463,   1031.7,2,   6.1726,2,  34.4291,2,  34.4292,2,    204.0,2,    204.6,2,    22.35,2,    27.13,2,     0.00,2,     1.86,2,     -999,9,     -999,9,     -999,9,   2187.2,2,   2289.4,2,   7.6481,6,    24.99,2,     -999,1,   6.1693,2,     -999,9,     -999,9,     -999,9,     -999,9,     -999,1,   4.7318,1,   0.0114,1,     -999,9,     -999,9,     -999,9,     -999,9,     -999,9,20230829,1341, -33.8364,  50.9773,-999          ,9,-999          ,9
33RR20230722  ,I05        ,144     ,  2,16         ,16         ,2,20230829,1226, -33.8364,  50.9772,     4463,   1158.0,2,   5.0430,2,  34.4019,2,  34.4025,2,    195.1,2,    195.5,2,    33.38,2,    30.01,2,     0.00,2,     2.07,2,    2.263,2,    1.151,2,   0.6800,2,   2203.2,2,   2299.9,2,   7.6194,6,    24.99,2,     -999,1,   5.0485,2,     -999,9,     -999,9,     -999,9,     -999,9,     -999,1,   4.8688,1,   0.0113,1,     19.7,2,     -999,9,     -999,9,     -999,9,     -999,9,20230829,1338, -33.8364,  50.9772,-999          ,9,-999          ,9
33RR20230722  ,I05        ,144     ,  2,15         ,15         ,2,20230829,1226, -33.8364,  50.9772,     4463,   1292.4,2,   4.0680,2,  34.4142,2,  34.4133,2,    187.7,2,    187.9,2,    44.80,2,    32.16,2,     0.00,2,     2.23,2,     -999,9,     -999,9,     -999,9,   2224.5,6,   2308.6,2,   7.5943,2,    24.98,2,     -999,1,   4.0727,2,     -999,9,     -999,9,     -999,9,     -999,9,     -999,1,   4.9722,1,   0.0113,1,     -999,9,     -999,9,     -999,9,     -999,9,     -999,9,20230829,1334, -33.8364,  50.9772,-999          ,9,-999          ,9
33RR20230722  ,I05        ,144     ,  2,14         ,14         ,2,20230829,1226, -33.8364,  50.9772,     4463,   1429.7,2,   3.6015,2,  34.4643,2,  34.4650,2,    179.2,2,    179.3,2,    55.44,2,    33.13,2,     0.00,2,     2.29,2,     -999,9,     -999,9,     -999,9,   2234.8,2,   2317.0,2,   7.5820,2,    25.00,2,     -999,1,   3.6006,2,     -999,9,     -999,9,     -999,9,     -999,9,     -999,1,   4.9731,1,   0.0115,1,     -999,9,     -999,9,     -999,9,     -999,9,     -999,9,20230829,1331, -33.8364,  50.9773,-999          ,9,-999          ,9
33RR20230722  ,I05        ,144     ,  2,13         ,13         ,2,20230829,1226, -33.8364,  50.9772,     4463,   1575.0,2,   3.1871,2,  34.5335,2,  34.5341,2,    175.5,2,    175.3,2,    63.53,2,    33.30,2,     0.00,2,     2.30,2,     -999,9,     -999,9,     -999,9,   -999.0,9,     -999,9,     -999,9,     -999,9,     -999,1,   3.1855,2,     -999,9,     -999,9,     -999,9,     -999,9,     -999,1,   4.9107,1,   0.0112,1,     -999,9,     -999,9,     -999,9,     -999,9,     -999,9,20230829,1328, -33.8364,  50.9772,-999          ,9,-999          ,9
33RR20230722  ,I05        ,144     ,  2,12         ,12         ,2,20230829,1226, -33.8364,  50.9772,     4463,   1722.8,2,   2.8725,2,  34.5982,2,  34.5987,2,    175.3,2,    175.2,2,    71.53,2,    33.03,2,     0.00,2,     2.30,2,    0.412,2,    0.208,2,   0.0900,2,   2248.9,2,   2336.6,2,   7.5830,2,    25.02,2,     -999,1,   2.8709,2,     -999,9,     -999,9,     -999,9,     -999,9,     -999,1,   4.9740,1,   0.0117,1,     21.4,2,     -999,9,     -999,9,     -999,9,     -999,9,20230829,1324, -33.8364,  50.9773,-999          ,9,-999          ,9
33RR20230722  ,I05        ,144     ,  2,11         ,11         ,2,20230829,1226, -33.8364,  50.9772,     4463,   1892.7,2,   2.6746,2,  34.6439,2,  34.6445,2,    177.9,2,    177.6,2,    75.34,2,    32.51,2,     0.00,2,     2.24,2,     -999,9,     -999,9,     -999,9,   2252.9,2,   2338.5,2,   7.5907,2,    25.01,2,     -999,1,   2.6738,2,     -999,9,     -999,9,     -999,9,     -999,9,     -999,1,   4.7909,1,   0.0119,1,     -999,9,     -999,9,     -999,9,     -999,9,     -999,9,20230829,1320, -33.8364,  50.9772,-999          ,9,-999          ,9
33RR20230722  ,I05        ,144     ,  2,10         ,10         ,2,20230829,1226, -33.8364,  50.9772,     4463,   2094.2,2,   2.4880,2,  34.6922,2,  34.6914,2,    182.4,2,    182.6,2,    80.41,2,    31.70,2,     0.00,2,     2.22,2,     -999,9,     -999,9,     -999,9,   -999.0,9,     -999,9,     -999,9,     -999,9,     -999,1,   2.4849,2,     -999,9,     -999,9,     -999,9,     -999,9,     -999,1,   4.8816,1,   0.0113,1,     -999,9,     -999,9,     -999,9,     -999,9,     -999,9,20230829,1315, -33.8364,  50.9772,-999          ,9,-999          ,9
33RR20230722  ,I05        ,144     ,  2,9          ,9          ,2,20230829,1226, -33.8364,  50.9772,     4463,   2339.4,2,   2.2735,2,  34.7215,2,  34.7215,2,    188.6,2,    188.8,2,    84.02,2,    31.06,2,     0.00,2,     2.15,2,    0.128,2,    0.065,2,   0.0600,2,   2255.6,2,   2349.8,2,   7.6126,2,    24.99,2,     -999,1,   2.2749,2,     -999,9,     -999,9,     -999,9,     -999,9,     -999,1,   4.9742,1,   0.0115,1,     19.5,2,     -999,9,     -999,9,     -999,9,     -999,9,20230829,1310, -33.8364,  50.9773,-999          ,9,-999          ,9
33RR20230722  ,I05        ,144     ,  2,8          ,8          ,2,20230829,1226, -33.8364,  50.9772,     4463,   2627.2,2,   2.0602,2,  34.7408,2,  34.7404,2,    192.0,2,    192.1,2,    89.68,2,    30.84,2,     0.00,2,     2.14,2,     -999,9,     -999,9,     -999,9,   -999.0,9,     -999,9,     -999,9,     -999,9,     -999,1,   2.0610,2,     -999,9,     -999,9,     -999,9,     -999,9,     -999,1,   4.6650,1,   0.0113,1,     -999,9,     -999,9,     -999,9,     -999,9,     -999,9,20230829,1304, -33.8364,  50.9772,-999          ,9,-999          ,9
33RR20230722  ,I05        ,144     ,  2,7          ,7          ,2,20230829,1226, -33.8364,  50.9772,     4463,   2953.5,2,   1.7352,2,  34.7377,2,  34.7376,2,    195.0,2,    195.1,2,   101.19,2,    31.26,2,     0.00,2,     2.18,2,    0.091,2,    0.045,2,   0.0200,2,   2265.2,2,   2362.3,6,   7.6200,2,    24.98,2,     -999,1,   1.7356,2,     -999,9,     -999,9,     -999,9,     -999,9,     -999,1,   4.8894,1,   0.0118,1,     18.9,2,     -999,9,     -999,9,     -999,9,     -999,9,20230829,1258, -33.8364,  50.9773,-999          ,9,-999          ,9
33RR20230722  ,I05        ,144     ,  2,6          ,6          ,2,20230829,1226, -33.8364,  50.9772,     4463,   3304.3,2,   1.4763,2,  34.7274,2,  34.7274,2,    198.2,2,    198.5,2,   108.80,2,    31.68,2,     0.00,2,     2.21,2,     -999,9,     -999,9,     -999,9,   -999.0,9,     -999,9,     -999,9,     -999,9,     -999,1,   1.4761,2,     -999,9,     -999,9,     -999,9,     -999,9,     -999,1,   4.9078,1,   0.0111,1,     -999,9,     -999,9,     -999,9,     -999,9,     -999,9,20230829,1251, -33.8364,  50.9773,-999          ,9,-999          ,9
33RR20230722  ,I05        ,144     ,  2,5          ,5          ,2,20230829,1226, -33.8364,  50.9772,     4463,   3644.0,2,   1.2897,2,  34.7196,2,  34.7193,2,    201.3,2,    201.4,2,   113.88,2,    31.90,2,     0.00,2,     2.22,2,    0.124,2,    0.064,2,   0.0400,2,   2267.3,2,   2364.4,2,   7.6151,2,    24.96,2,     -999,1,   1.2892,2,     -999,9,     -999,9,     -999,9,     -999,9,     -999,1,   4.8842,1,   0.0120,1,     18.6,2,     -999,9,     -999,9,     -999,9,     -999,9,20230829,1245, -33.8364,  50.9772,-999          ,9,-999          ,9
33RR20230722  ,I05        ,144     ,  2,4          ,37         ,2,20230829,1226, -33.8364,  50.9772,     4463,   3959.8,2,   1.1816,2,  34.7140,2,  34.7131,2,    204.1,2,    204.3,2,   117.10,2,    32.03,2,     0.00,2,     2.22,2,     -999,9,     -999,9,     -999,9,   -999.0,9,     -999,9,     -999,9,     -999,9,     -999,1,   1.1815,2,     -999,9,     -999,9,     -999,9,     -999,9,     -999,1,   4.9758,1,   0.0112,1,     -999,9,     -999,9,     -999,9,     -999,9,     -999,9,20230829,1238, -33.8364,  50.9773,-999          ,9,-999          ,9
33RR20230722  ,I05        ,144     ,  2,3          ,3          ,2,20230829,1226, -33.8364,  50.9772,     4463,   4227.5,2,   1.1244,2,  34.7105,2,  34.7103,2,    205.6,2,    205.7,2,   118.46,2,    32.10,2,     0.00,2,     2.22,2,    0.138,2,    0.070,2,   0.0400,2,   2269.2,2,   2364.3,2,   7.6146,2,    24.99,2,     -999,1,   1.1239,2,     -999,9,     -999,9,     -999,9,     -999,9,     -999,1,   4.9760,1,   0.0111,1,     18.0,2,     -999,9,     -999,9,     -999,9,     -999,9,20230829,1233, -33.8364,  50.9772,-999          ,9,-999          ,9