BOTTLE,20240422CCHHYDRO
EXPOCODE,SECT_ID,STNNBR,CASTNO,SAMPNO,BTLNBR,BTLNBR_FLAG_W,DATE,TIME,LATITUDE,LONGITUDE,DEPTH,CTDPRS,CTDPRS_FLAG_W,CTDTMP,CTDTMP_FLAG_W,CTDSAL,CTDSAL_FLAG_W,SALNTY,SALNTY_FLAG_W,CTDOXY,CTDOXY_FLAG_W,OXYGEN,OXYGEN_FLAG_W,SILCAT,SILCAT_FLAG_W,NITRAT,NITRAT_FLAG_W,NITRIT,NITRIT_FLAG_W,PHSPHT,PHSPHT_FLAG_W,CFC-11,CFC-11_FLAG_W,CFC-12,CFC-12_FLAG_W,SF6,SF6_FLAG_W,TCARBN,TCARBN_FLAG_W,ALKALI,ALKALI_FLAG_W,PH_TOT,PH_TOT_FLAG_W,PH_TMP,PH_TMP_FLAG_W,DOC,DOC_FLAG_W,REFTMP,REFTMP_FLAG_W,POC,POC_FLAG_W,PON,PON_FLAG_W,POP,POP_FLAG_W,DOP,DOP_FLAG_W,DELO18,DELO18_FLAG_W,CTDFLUOR,CTDFLUOR_FLAG_W,CTDXMISS,CTDXMISS_FLAG_W,N2O,N2O_FLAG_W,D15N_NO3,D15N_NO3_FLAG_W,D15N_NO2+NO3,D15N_NO2+NO3_FLAG_W,D18O_NO2+NO3,D18O_NO2+NO3_FLAG_W,D18O_NO3,D18O_NO3_FLAG_W,BTL_DATE,BTL_TIME,BTL_LAT,BTL_LON,HPLC,HPLC_FLAG_W,DNA,DNA_FLAG_W
,,,,,,,,,,,METERS,DBAR,,ITS-90,,PSS-78,,PSS-78,,UMOL/KG,,UMOL/KG,,UMOL/KG,,UMOL/KG,,UMOL/KG,,UMOL/KG,,PMOL/KG,,PMOL/KG,,FMOL/KG,,UMOL/KG,,UMOL/KG,,,,DEG C,,UMOL/KG,,ITS-90,,UG/KG,,UG/KG,,UG/L,,UMOL/KG,,/MILLE,,VOLTS,,VOLTS,,NMOL/KG,,/MILLE,,/MILLE,,/MILLE,,/MILLE,,,,,,,,,
33RR20230722  ,I05        ,101     ,  1,36         ,38         ,2,20230817,2132, -34.0022,  71.4132,     4424,      8.8,2,  16.1395,2,  35.5030,2,  35.5008,2,    246.3,2,    246.3,2,     0.98,2,     0.12,2,     0.03,2,     0.18,2,    1.400,3,    1.456,2,   2.3100,2,   2085.0,2,   2333.6,2,   7.9438,2,    25.00,2,     -999,1,  16.1362,2,     -999,9,     -999,9,     -999,9,     -999,1,     -999,9,   4.4490,1,   0.0527,1,      7.9,2,     -999,9,     -999,9,     -999,9,     -999,9,20230817,2327, -34.0022,  71.4132,-999          ,9,-999          ,9
33RR20230722  ,I05        ,101     ,  1,35         ,35         ,2,20230817,2132, -34.0022,  71.4132,     4424,     25.9,2,  16.1373,2,  35.5018,2,  35.4989,2,    246.2,2,    246.3,2,     0.98,2,     0.07,2,     0.03,2,     0.17,2,     -999,9,     -999,9,     -999,9,   2083.9,2,   2332.3,2,   7.9436,2,    25.00,2,     -999,9,  16.1353,2,     -999,9,     -999,9,     -999,9,     -999,1,     -999,9,   4.9753,1,   0.0537,1,     -999,9,     -999,9,     -999,9,     -999,9,     -999,9,20230817,2325, -34.0022,  71.4132,-999          ,9,-999          ,9
33RR20230722  ,I05        ,101     ,  1,34         ,34         ,2,20230817,2132, -34.0022,  71.4132,     4424,     45.9,2,  16.1304,2,  35.5002,2,  35.4991,2,    246.3,2,    246.3,2,     0.98,2,     0.06,2,     0.03,2,     0.18,2,    1.585,3,    1.397,2,   2.3500,2,   -999.0,9,     -999,9,     -999,9,     -999,9,     -999,9,  16.1292,2,     -999,9,     -999,9,     -999,9,     -999,9,     -999,9,   4.9750,1,   0.0515,1,      8.3,2,     -999,9,     -999,9,     -999,9,     -999,9,20230817,2324, -34.0022,  71.4132,-999          ,9,-999          ,9
33RR20230722  ,I05        ,101     ,  1,33         ,33         ,2,20230817,2132, -34.0022,  71.4132,     4424,     66.9,2,  16.1211,2,  35.4983,2,  35.4957,2,    245.9,2,    246.2,2,     0.88,2,     0.07,2,     0.03,2,     0.20,2,     -999,9,     -999,9,     -999,9,   2086.1,2,   2332.4,2,   7.9438,6,    25.00,2,     -999,9,  16.1214,2,     -999,9,     -999,9,     -999,9,     -999,1,     -999,9,   4.9748,1,   0.0519,1,     -999,9,     -999,9,     -999,9,     -999,9,     -999,9,20230817,2322, -34.0022,  71.4132,-999          ,9,-999          ,9
33RR20230722  ,I05        ,101     ,  1,32         ,32         ,2,20230817,2132, -34.0022,  71.4132,     4424,     91.7,2,  16.0058,2,  35.4819,2,  35.4821,2,    245.8,2,    246.1,2,     0.88,2,     0.21,2,     0.05,2,     0.20,2,    1.657,3,    1.401,2,   2.2700,2,   2086.1,2,   2331.5,6,   7.9403,2,    25.00,2,     -999,9,  16.0176,2,     -999,9,     -999,9,     -999,9,     -999,1,     -999,9,   4.9744,1,   0.0536,1,      8.1,2,     -999,9,     -999,9,     -999,9,     -999,9,20230817,2320, -34.0022,  71.4132,-999          ,9,-999          ,9
33RR20230722  ,I05        ,101     ,  1,31         ,31         ,2,20230817,2132, -34.0022,  71.4132,     4424,    115.0,2,  14.6627,2,  35.3380,2,  35.3397,2,    230.6,3,    233.1,2,     1.85,2,     4.05,2,     0.09,2,     0.42,2,    1.871,3,    1.502,2,   2.2800,2,   2104.5,2,   2321.4,2,   7.8834,2,    24.98,2,     -999,9,  14.6314,2,     -999,9,     -999,9,     -999,9,     -999,9,     -999,9,   4.9705,1,   0.0181,1,      9.3,2,     -999,9,     -999,9,     -999,9,     -999,9,20230817,2318, -34.0022,  71.4132,-999          ,9,-999          ,9
33RR20230722  ,I05        ,101     ,  1,30         ,30         ,2,20230817,2132, -34.0022,  71.4132,     4424,    146.6,2,  14.1045,2,  35.3349,2,  35.3271,2,    232.4,2,    233.7,2,     1.85,2,     5.08,2,     0.03,2,     0.49,2,     -999,9,     -999,9,     -999,9,   -999.0,9,     -999,9,     -999,9,     -999,9,     -999,9,  14.1170,2,     -999,9,     -999,9,     -999,9,     -999,1,     -999,9,   4.9698,1,   0.0168,1,     -999,9,     -999,9,     -999,9,     -999,9,     -999,9,20230817,2316, -34.0022,  71.4132,-999          ,9,-999          ,9
33RR20230722  ,I05        ,101     ,  1,29         ,29         ,2,20230817,2132, -34.0022,  71.4132,     4424,    175.2,2,  13.6780,2,  35.2860,2,  35.2879,2,    232.0,2,    233.5,2,     2.24,2,     6.34,2,     0.02,2,     0.57,2,    2.455,3,    1.586,2,   2.2600,2,   2115.9,2,   2318.6,2,   7.8538,2,    25.01,2,     -999,9,  13.6803,2,     -999,9,     -999,9,     -999,9,     -999,9,     -999,9,   4.9335,1,   0.0146,1,      9.8,2,     -999,9,     -999,9,     -999,9,     -999,9,20230817,2315, -34.0022,  71.4132,-999          ,9,-999          ,9
33RR20230722  ,I05        ,101     ,  1,28         ,28         ,2,20230817,2132, -34.0022,  71.4132,     4424,    207.4,2,  13.3416,2,  35.2453,2,  35.2402,2,    234.3,2,    235.3,2,     2.54,2,     7.19,2,     0.00,2,     0.60,2,    2.456,3,    1.599,2,   2.3900,2,   2121.6,2,   2314.7,2,   7.8451,2,    24.98,2,     -999,9,  13.3342,2,     -999,9,     -999,9,     -999,9,     -999,1,     -999,9,   4.9694,1,   0.0117,1,      9.9,2,     -999,9,     -999,9,     -999,9,     -999,9,20230817,2313, -34.0022,  71.4132,-999          ,9,-999          ,9
33RR20230722  ,I05        ,101     ,  1,27         ,27         ,2,20230817,2132, -34.0022,  71.4132,     4424,    244.8,2,  13.0889,2,  35.2142,2,  35.2115,2,    235.5,2,    235.9,2,     2.44,2,     7.56,2,     0.00,2,     0.61,2,     -999,9,     -999,9,     -999,9,   2121.4,2,   2315.0,2,   7.8405,2,    24.99,2,     -999,9,  13.0844,2,     -999,9,     -999,9,     -999,9,     -999,9,     -999,9,   4.9047,1,   0.0119,1,     -999,9,     -999,9,     -999,9,     -999,9,     -999,9,20230817,2312, -34.0022,  71.4132,-999          ,9,-999          ,9
33RR20230722  ,I05        ,101     ,  1,26         ,26         ,2,20230817,2132, -34.0022,  71.4132,     4424,    285.4,2,  12.8753,2,  35.1904,2,  35.1845,2,    236.9,2,    236.9,2,     2.73,2,     8.17,2,     0.00,2,     0.65,2,    2.477,3,    1.621,2,   2.3600,2,   2124.0,2,   2311.3,2,   7.8361,2,    24.99,2,     -999,9,  12.8718,2,     -999,9,     -999,9,     -999,9,     -999,1,     -999,9,   4.9689,1,   0.0121,1,     10.3,2,     -999,9,     -999,9,     -999,9,     -999,9,20230817,2310, -34.0022,  71.4132,-999          ,9,-999          ,9
33RR20230722  ,I05        ,101     ,  1,25         ,25         ,2,20230817,2132, -34.0022,  71.4132,     4424,    338.3,2,  12.5616,2,  35.1411,2,  35.1402,2,    237.8,2,    237.8,2,     2.93,2,     8.84,2,     0.00,2,     0.70,2,    2.398,3,    1.681,2,   2.4500,2,   2122.5,2,   2310.1,2,   7.8294,2,    25.00,2,     -999,9,  12.5609,2,     -999,9,     -999,9,     -999,9,     -999,9,     -999,9,   4.9684,1,   0.0118,1,     10.7,2,     -999,9,     -999,9,     -999,9,     -999,9,20230817,2308, -34.0022,  71.4132,-999          ,9,-999          ,9
33RR20230722  ,I05        ,101     ,  1,24         ,24         ,2,20230817,2132, -34.0022,  71.4132,     4424,    399.3,2,  12.2391,2,  35.0881,2,  35.0862,2,    237.1,2,    236.7,2,     3.02,2,     9.68,2,     0.00,2,     0.75,2,     -999,9,     -999,9,     -999,9,   -999.0,9,     -999,9,     -999,9,     -999,9,     -999,9,  12.2404,2,     -999,9,     -999,9,     -999,9,     -999,9,     -999,9,   4.8601,1,   0.0117,1,     -999,9,     -999,9,     -999,9,     -999,9,     -999,9,20230817,2305, -34.0022,  71.4132,-999          ,9,-999          ,9
33RR20230722  ,I05        ,101     ,  1,23         ,23         ,2,20230817,2132, -34.0022,  71.4132,     4424,    465.9,2,  11.8428,2,  35.0256,2,  35.0238,2,    236.0,2,    235.8,2,     3.22,2,    10.76,2,     0.00,2,     0.82,2,    2.940,3,    1.703,2,   2.2200,2,   2128.1,2,   2304.4,2,   7.8095,6,    25.00,2,     -999,9,  11.8396,2,     -999,9,     -999,9,     -999,9,     -999,9,     -999,9,   4.9676,1,   0.0117,1,     10.9,2,     -999,9,     -999,9,     -999,9,     -999,9,20230817,2303, -34.0022,  71.4132,-999          ,9,-999          ,9
33RR20230722  ,I05        ,101     ,  1,22         ,22         ,2,20230817,2132, -34.0022,  71.4132,     4424,    549.9,2,  11.3276,2,  34.9486,2,  34.9477,2,    230.1,2,    230.0,2,     4.10,2,    12.62,2,     0.00,2,     0.94,2,    2.675,3,    1.782,2,   2.0700,2,   2132.0,2,   2301.9,2,   7.7938,2,    24.97,2,     -999,9,  11.3280,2,     -999,9,     -999,9,     -999,9,     -999,9,     -999,9,   4.9666,1,   0.0110,1,     10.9,2,     -999,9,     -999,9,     -999,9,     -999,9,20230817,2301, -34.0022,  71.4132,-999          ,9,-999          ,9
33RR20230722  ,I05        ,101     ,  1,21         ,21         ,2,20230817,2132, -34.0022,  71.4132,     4424,    640.5,2,  10.5907,2,  34.8446,2,  34.8408,2,    225.9,2,    225.8,2,     4.78,2,    14.69,2,     0.00,2,     1.05,2,    2.606,3,    1.915,2,   1.8200,2,   2139.1,2,   2297.8,2,   7.7700,2,    24.99,2,     -999,9,  10.5917,2,     -999,9,     -999,9,     -999,9,     -999,9,     -999,9,   4.9135,1,   0.0114,1,     11.6,2,     -999,9,     -999,9,     -999,9,     -999,9,20230817,2258, -34.0022,  71.4132,-999          ,9,-999          ,9
33RR20230722  ,I05        ,101     ,  1,20         ,20         ,2,20230817,2132, -34.0022,  71.4132,     4424,    747.4,2,   9.4875,2,  34.7051,2,  34.7024,2,    216.8,2,    217.3,2,     7.13,2,    18.11,2,     0.00,2,     1.27,2,     -999,9,     -999,9,     -999,9,   -999.0,9,     -999,9,     -999,9,     -999,9,     -999,9,   9.4841,2,     -999,9,     -999,9,     -999,9,     -999,9,     -999,9,   4.9629,1,   0.0114,1,     -999,9,     -999,9,     -999,9,     -999,9,     -999,9,20230817,2255, -34.0022,  71.4132,-999          ,9,-999          ,9
33RR20230722  ,I05        ,101     ,  1,19         ,19         ,2,20230817,2132, -34.0022,  71.4132,     4424,    869.4,2,   7.9647,2,  34.5523,2,  34.5482,2,    206.4,2,    206.7,2,    12.79,2,    22.82,2,     0.00,2,     1.58,2,    2.813,3,    1.691,2,   1.2400,2,   2167.8,2,   2288.0,2,   7.6873,2,    25.00,2,     -999,9,   7.9729,2,     -999,9,     -999,9,     -999,9,     -999,9,     -999,9,   4.9685,1,   0.0114,1,     15.3,2,     -999,9,     -999,9,     -999,9,     -999,9,20230817,2252, -34.0022,  71.4132,-999          ,9,-999          ,9
33RR20230722  ,I05        ,101     ,  1,18         ,18         ,2,20230817,2132, -34.0022,  71.4132,     4424,    988.6,2,   6.1680,2,  34.4121,2,  34.4102,2,    204.9,2,    204.9,2,    20.60,2,    27.09,2,     0.00,2,     1.85,2,     -999,9,     -999,9,     -999,9,   -999.0,9,     -999,9,     -999,9,     -999,9,     -999,9,   6.1648,2,     -999,9,     -999,9,     -999,9,     -999,9,     -999,9,   4.9696,1,   0.0115,1,     -999,9,     -999,9,     -999,9,     -999,9,     -999,9,20230817,2249, -34.0022,  71.4132,-999          ,9,-999          ,9
33RR20230722  ,I05        ,101     ,  1,17         ,17         ,2,20230817,2132, -34.0022,  71.4132,     4424,   1110.5,2,   4.8945,2,  34.3554,2,  34.3541,2,    203.0,2,    203.2,2,    29.68,2,    29.87,2,     0.00,2,     2.05,2,    2.174,3,    1.343,2,   0.8500,2,   2194.2,2,   2292.9,2,   7.6182,2,    25.00,2,     -999,9,   4.8967,2,     -999,9,     -999,9,     -999,9,     -999,9,     -999,9,   4.9689,1,   0.0112,1,     18.0,2,     -999,9,     -999,9,     -999,9,     -999,9,20230817,2245, -34.0022,  71.4132,-999          ,9,-999          ,9
33RR20230722  ,I05        ,101     ,  1,16         ,16         ,2,20230817,2132, -34.0022,  71.4132,     4424,   1234.9,2,   3.9687,2,  34.3800,2,  34.3788,2,    191.5,2,    191.5,2,    42.18,2,    32.14,2,     0.00,2,     2.24,2,     -999,9,     -999,9,     -999,9,   -999.0,9,     -999,9,     -999,9,     -999,9,     -999,9,   3.9691,2,     -999,9,     -999,9,     -999,9,     -999,9,     -999,9,   4.9720,1,   0.0114,1,     -999,9,     -999,9,     -999,9,     -999,9,     -999,9,20230817,2242, -34.0022,  71.4132,-999          ,9,-999          ,9
33RR20230722  ,I05        ,101     ,  1,15         ,15         ,2,20230817,2132, -34.0022,  71.4132,     4424,   1354.9,2,   3.5842,2,  34.4343,2,  34.4320,2,    178.6,2,    178.9,2,    53.11,2,    33.28,2,     0.00,2,     2.31,2,    1.077,3,    0.615,2,   0.3100,2,   2227.9,2,   2314.8,2,   7.5762,2,    25.00,2,     -999,9,   3.5864,2,     -999,9,     -999,9,     -999,9,     -999,9,     -999,9,   4.9731,1,   0.0114,1,     21.1,2,     -999,9,     -999,9,     -999,9,     -999,9,20230817,2239, -34.0022,  71.4132,-999          ,9,-999          ,9
33RR20230722  ,I05        ,101     ,  1,14         ,14         ,2,20230817,2132, -34.0022,  71.4132,     4424,   1479.5,2,   3.2330,2,  34.4970,2,     -999,5,    171.0,2,    171.1,2,    62.58,2,    33.81,2,     0.00,2,     2.36,2,    0.674,3,    0.389,2,   0.1700,2,   2242.5,2,   2324.9,2,   7.5673,6,    24.99,2,     -999,9,   3.2323,2,     -999,9,     -999,9,     -999,9,     -999,9,     -999,9,   4.6665,1,   0.0113,1,     21.9,2,     -999,9,     -999,9,     -999,9,     -999,9,20230817,2236, -34.0022,  71.4132,-999          ,9,-999          ,9
33RR20230722  ,I05        ,101     ,  1,13         ,13         ,2,20230817,2132, -34.0022,  71.4132,     4424,   1607.3,2,   2.9825,2,  34.5562,2,  34.5561,2,    168.5,2,    168.3,2,    68.82,2,    33.75,2,     0.00,2,     2.35,2,    0.364,6,    0.245,6,   0.1100,6,   2248.4,2,   2331.3,2,   7.5679,6,    24.99,2,     -999,9,   2.9827,2,     -999,9,     -999,9,     -999,9,     -999,9,     -999,9,   4.6822,1,   0.0112,1,     21.6,6,     -999,9,     -999,9,     -999,9,     -999,9,20230817,2232, -34.0022,  71.4132,-999          ,9,-999          ,9
33RR20230722  ,I05        ,101     ,  1,12         ,12         ,2,20230817,2132, -34.0022,  71.4132,     4424,   1742.4,2,   2.7626,2,  34.6112,2,  34.6109,2,    170.9,2,    171.2,2,    72.33,2,    33.18,2,     0.00,2,     2.31,2,     -999,9,     -999,9,     -999,9,   2252.8,6,   2336.0,2,   7.5752,2,    25.00,2,     -999,9,   2.7626,2,     -999,9,     -999,9,     -999,9,     -999,9,     -999,9,   4.9382,1,   0.0118,1,     -999,9,     -999,9,     -999,9,     -999,9,     -999,9,20230817,2229, -34.0022,  71.4133,-999          ,9,-999          ,9
33RR20230722  ,I05        ,101     ,  1,11         ,11         ,2,20230817,2132, -34.0022,  71.4132,     4424,   1909.2,2,   2.5248,2,  34.6700,2,  34.6684,2,    176.0,2,    176.1,2,    78.19,2,    32.29,2,     0.00,2,     2.25,2,    0.095,3,    0.074,2,   0.0100,2,   2252.3,2,   2342.1,6,   7.5894,2,    25.00,2,     -999,9,   2.5231,2,     -999,9,     -999,9,     -999,9,     -999,9,     -999,9,   4.9744,1,   0.0118,1,     19.2,2,     -999,9,     -999,9,     -999,9,     -999,9,20230817,2225, -34.0022,  71.4132,-999          ,9,-999          ,9
33RR20230722  ,I05        ,101     ,  1,10         ,10         ,2,20230817,2132, -34.0022,  71.4132,     4424,   2104.3,2,   2.3024,2,  34.7049,2,  34.7034,2,    179.0,2,    179.2,2,    87.55,2,    31.87,2,     0.00,2,     2.22,2,    0.047,3,    0.025,2,   0.0500,2,   -999.0,9,     -999,9,     -999,9,     -999,9,     -999,9,   2.3030,2,     -999,9,     -999,9,     -999,9,     -999,9,     -999,9,   4.9747,1,   0.0118,1,     18.3,2,     -999,9,     -999,9,     -999,9,     -999,9,20230817,2220, -34.0022,  71.4132,-999          ,9,-999          ,9
33RR20230722  ,I05        ,101     ,  1,9          ,9          ,2,20230817,2132, -34.0022,  71.4132,     4424,   2353.3,2,   2.0961,2,  34.7206,2,  34.7189,2,    177.1,2,    177.3,2,   100.73,2,    32.37,2,     0.00,2,     2.26,2,    0.011,3,    0.010,2,   0.0300,2,   2268.4,2,   2367.7,2,   7.6060,2,    24.97,2,     -999,9,   2.0959,2,     -999,9,     -999,9,     -999,9,     -999,9,     -999,9,   4.7614,1,   0.0112,1,     18.3,2,     -999,9,     -999,9,     -999,9,     -999,9,20230817,2215, -34.0022,  71.4132,-999          ,9,-999          ,9
33RR20230722  ,I05        ,101     ,  1,8          ,8          ,2,20230817,2132, -34.0022,  71.4132,     4424,   2622.1,2,   1.9548,2,  34.7262,2,  34.7243,2,    176.6,2,    176.7,2,   107.76,2,    32.68,2,     0.00,2,     2.27,2,    0.004,3,    0.002,2,   0.0600,2,   2278.4,2,   2374.7,2,   7.6064,2,    25.00,2,     -999,9,   1.9548,2,     -999,9,     -999,9,     -999,9,     -999,9,     -999,9,   4.9757,1,   0.0113,1,     18.8,2,     -999,9,     -999,9,     -999,9,     -999,9,20230817,2209, -34.0022,  71.4132,-999          ,9,-999          ,9
33RR20230722  ,I05        ,101     ,  1,7          ,7          ,2,20230817,2132, -34.0022,  71.4132,     4424,   2928.5,2,   1.7866,2,  34.7271,2,  34.7258,2,    178.1,2,    177.9,2,   114.59,2,    32.89,2,     0.00,2,     2.29,2,    0.014,3,    0.011,2,   0.0200,2,   2280.6,2,   2379.5,2,   7.6062,2,    24.99,2,     -999,9,   1.7877,2,     -999,9,     -999,9,     -999,9,     -999,9,     -999,9,   4.9762,1,   0.0119,1,     18.4,2,     -999,9,     -999,9,     -999,9,     -999,9,20230817,2203, -34.0022,  71.4132,-999          ,9,-999          ,9
33RR20230722  ,I05        ,101     ,  1,6          ,6          ,2,20230817,2132, -34.0022,  71.4132,     4424,   3272.5,2,   1.6140,2,  34.7238,2,  34.7221,2,    181.8,2,    181.7,2,   119.08,2,    33.03,2,     0.00,2,     2.30,2,    0.031,3,    0.012,2,   0.0200,2,   -999.0,9,     -999,9,     -999,9,     -999,9,     -999,9,   1.6143,2,     -999,9,     -999,9,     -999,9,     -999,9,     -999,9,   4.6664,1,   0.0123,1,     17.1,2,     -999,9,     -999,9,     -999,9,     -999,9,20230817,2156, -34.0022,  71.4132,-999          ,9,-999          ,9
33RR20230722  ,I05        ,101     ,  1,5          ,5          ,2,20230817,2132, -34.0022,  71.4132,     4424,   3634.0,2,   1.3910,2,  34.7148,2,  34.7136,2,    189.0,2,    189.1,2,   121.72,2,    33.04,2,     0.00,2,     2.29,2,     -999,9,     -999,9,     -999,9,   2278.3,2,   2379.1,2,   7.6083,2,    25.01,2,     -999,9,   1.3899,2,     -999,9,     -999,9,     -999,9,     -999,9,     -999,9,   4.8874,1,   0.0118,1,     -999,9,     -999,9,     -999,9,     -999,9,     -999,9,20230817,2148, -34.0022,  71.4132,-999          ,9,-999          ,9
33RR20230722  ,I05        ,101     ,  1,4          ,37         ,2,20230817,2132, -34.0022,  71.4132,     4424,   3958.9,2,   1.1231,2,  34.7059,2,  34.7040,2,    197.9,2,    198.2,2,   124.55,2,    32.86,2,     0.00,2,     2.28,2,    0.047,3,    0.024,2,   0.0200,2,   2274.7,2,   2375.7,2,   7.6119,2,    25.00,2,     -999,9,   1.1228,2,     -999,9,     -999,9,     -999,9,     -999,9,     -999,9,   4.9293,1,   0.0111,1,     17.2,2,     -999,9,     -999,9,     -999,9,     -999,9,20230817,2142, -34.0022,  71.4132,-999          ,9,-999          ,9
33RR20230722  ,I05        ,101     ,  1,2          ,2          ,2,20230817,2132, -34.0022,  71.4132,     4424,   4212.8,2,   1.0613,2,  34.7034,2,  34.7024,2,    200.7,2,    200.6,2,   125.52,2,    32.88,2,     0.00,2,     2.27,2,    0.046,3,    0.032,2,   0.0500,2,   -999.0,9,     -999,9,     -999,9,     -999,9,     -999,9,   1.0611,2,     -999,9,     -999,9,     -999,9,     -999,9,     -999,9,   4.8539,1,   0.0112,1,     17.4,2,     -999,9,     -999,9,     -999,9,     -999,9,20230817,2136, -34.0022,  71.4132,-999          ,9,-999          ,9