BOTTLE,20240422CCHHYDRO
EXPOCODE,SECT_ID,STNNBR,CASTNO,SAMPNO,BTLNBR,BTLNBR_FLAG_W,DATE,TIME,LATITUDE,LONGITUDE,DEPTH,CTDPRS,CTDPRS_FLAG_W,CTDTMP,CTDTMP_FLAG_W,CTDSAL,CTDSAL_FLAG_W,SALNTY,SALNTY_FLAG_W,CTDOXY,CTDOXY_FLAG_W,OXYGEN,OXYGEN_FLAG_W,SILCAT,SILCAT_FLAG_W,NITRAT,NITRAT_FLAG_W,NITRIT,NITRIT_FLAG_W,PHSPHT,PHSPHT_FLAG_W,CFC-11,CFC-11_FLAG_W,CFC-12,CFC-12_FLAG_W,SF6,SF6_FLAG_W,TCARBN,TCARBN_FLAG_W,ALKALI,ALKALI_FLAG_W,PH_TOT,PH_TOT_FLAG_W,PH_TMP,PH_TMP_FLAG_W,DOC,DOC_FLAG_W,REFTMP,REFTMP_FLAG_W,POC,POC_FLAG_W,PON,PON_FLAG_W,POP,POP_FLAG_W,DOP,DOP_FLAG_W,DELO18,DELO18_FLAG_W,CTDFLUOR,CTDFLUOR_FLAG_W,CTDXMISS,CTDXMISS_FLAG_W,N2O,N2O_FLAG_W,D15N_NO3,D15N_NO3_FLAG_W,D15N_NO2+NO3,D15N_NO2+NO3_FLAG_W,D18O_NO2+NO3,D18O_NO2+NO3_FLAG_W,D18O_NO3,D18O_NO3_FLAG_W,BTL_DATE,BTL_TIME,BTL_LAT,BTL_LON,HPLC,HPLC_FLAG_W,DNA,DNA_FLAG_W
,,,,,,,,,,,METERS,DBAR,,ITS-90,,PSS-78,,PSS-78,,UMOL/KG,,UMOL/KG,,UMOL/KG,,UMOL/KG,,UMOL/KG,,UMOL/KG,,PMOL/KG,,PMOL/KG,,FMOL/KG,,UMOL/KG,,UMOL/KG,,,,DEG C,,UMOL/KG,,ITS-90,,UG/KG,,UG/KG,,UG/L,,UMOL/KG,,/MILLE,,VOLTS,,VOLTS,,NMOL/KG,,/MILLE,,/MILLE,,/MILLE,,/MILLE,,,,,,,,,
33RR20230722  ,I05        ,75      ,  1,36         ,36         ,2,20230810,2057, -31.1933,  83.1654,     4012,      9.6,2,  18.1575,2,  35.7715,2,  35.7712,2,    234.6,2,    234.4,2,     1.07,2,     0.06,2,     0.00,2,     0.12,2,    1.906,3,    1.302,2,   2.1900,2,   2078.7,6,   2348.5,2,   7.9771,6,    25.00,2,     -999,1,  18.1585,2,     -999,9,     -999,9,     -999,9,     -999,1,     -999,1,   4.9750,1,   0.0180,1,      7.8,2,     -999,1,     -999,1,     -999,1,     -999,1,20230810,2247, -31.1933,  83.1654,-999          ,9,-999          ,9
33RR20230722  ,I05        ,75      ,  1,35         ,35         ,2,20230810,2057, -31.1933,  83.1654,     4012,     27.0,2,  18.1701,2,  35.7710,2,  35.7703,2,    234.1,2,    234.8,2,     1.07,2,     0.02,2,     0.00,2,     0.11,2,     -999,9,     -999,9,     -999,9,   2077.9,2,   2347.5,2,   7.9782,2,    25.01,2,     -999,9,  18.1690,2,     -999,9,     -999,9,     -999,9,     -999,9,     -999,1,   4.8424,1,   0.0176,1,     -999,9,     -999,1,     -999,1,     -999,1,     -999,1,20230810,2246, -31.1933,  83.1654,-999          ,9,-999          ,9
33RR20230722  ,I05        ,75      ,  1,34         ,34         ,2,20230810,2057, -31.1933,  83.1654,     4012,     42.1,2,  18.1735,2,  35.7728,2,  35.7754,2,    233.8,2,    234.6,2,     1.07,2,     0.01,2,     0.00,2,     0.11,2,    1.479,3,    1.270,2,   2.1700,2,   2078.7,2,   2347.8,2,   7.9775,6,    25.00,2,     -999,9,  18.1710,2,     -999,9,     -999,9,     -999,9,     -999,1,     -999,1,   4.9747,1,   0.0177,1,      7.4,2,     -999,1,     -999,1,     -999,1,     -999,1,20230810,2244, -31.1932,  83.1654,-999          ,9,-999          ,9
33RR20230722  ,I05        ,75      ,  1,33         ,33         ,2,20230810,2057, -31.1933,  83.1654,     4012,     64.8,2,  18.1670,2,  35.7709,2,  35.7716,2,    234.1,2,    234.2,2,     1.17,2,     0.00,2,     0.00,2,     0.11,2,    2.359,3,    1.314,2,   2.2900,2,   2077.5,2,   2348.6,2,   7.9764,2,    25.00,2,     -999,9,  18.1657,2,     -999,9,     -999,9,     -999,9,     -999,1,     -999,1,   4.9745,1,   0.0178,1,      7.9,2,     -999,1,     -999,1,     -999,1,     -999,1,20230810,2242, -31.1933,  83.1654,-999          ,9,-999          ,9
33RR20230722  ,I05        ,75      ,  1,32         ,32         ,2,20230810,2057, -31.1933,  83.1654,     4012,     90.9,2,  18.1766,2,  35.7719,2,  35.7716,2,    233.7,2,    234.3,2,     1.07,2,     0.00,2,     0.00,2,     0.10,2,     -999,9,     -999,9,     -999,9,   2078.1,2,   2348.6,2,   7.9764,2,    25.00,2,     -999,9,  18.1757,2,     -999,9,     -999,9,     -999,9,     -999,1,     -999,1,   4.9743,1,   0.0182,1,     -999,9,     -999,1,     -999,1,     -999,1,     -999,1,20230810,2240, -31.1933,  83.1654,-999          ,9,-999          ,9
33RR20230722  ,I05        ,75      ,  1,31         ,31         ,2,20230810,2057, -31.1933,  83.1654,     4012,    117.7,2,  17.5271,2,  35.6657,2,  35.6707,2,    237.9,2,    237.5,2,     0.78,2,     0.00,2,     0.01,2,     0.12,2,    1.513,3,    1.301,2,   2.3100,2,   2085.0,2,   2341.3,2,   7.9624,6,    25.00,2,     -999,9,  17.5488,2,     -999,9,     -999,9,     -999,9,     -999,9,     -999,1,   4.9742,1,   0.0274,1,      7.6,2,     -999,1,     -999,1,     -999,1,     -999,1,20230810,2238, -31.1933,  83.1654,-999          ,9,-999          ,9
33RR20230722  ,I05        ,75      ,  1,30         ,30         ,2,20230810,2057, -31.1933,  83.1654,     4012,    141.8,2,  16.9375,2,  35.6134,2,  35.6259,2,    239.1,2,    239.2,2,     0.88,2,     0.14,2,     0.04,2,     0.16,2,    1.698,3,    1.340,2,   2.3300,2,   2090.2,2,   2340.4,6,   7.9499,2,    25.00,2,     -999,9,  16.9197,2,     -999,9,     -999,9,     -999,9,     -999,1,     -999,1,   4.9736,1,   0.0264,1,      8.0,2,     -999,1,     -999,1,     -999,1,     -999,1,20230810,2236, -31.1933,  83.1654,-999          ,9,-999          ,9
33RR20230722  ,I05        ,75      ,  1,29         ,29         ,2,20230810,2057, -31.1933,  83.1654,     4012,    164.2,2,  15.5272,2,  35.5235,2,  35.5243,2,    236.5,2,    237.6,2,     0.98,2,     1.15,2,     0.17,2,     0.26,2,     -999,9,     -999,9,     -999,9,   2106.0,2,   2334.8,2,   7.9060,2,    25.01,2,     -999,9,  15.5974,2,     -999,9,     -999,9,     -999,9,     -999,9,     -999,1,   4.9271,1,   0.0226,1,     -999,9,     -999,1,     -999,1,     -999,1,     -999,1,20230810,2235, -31.1933,  83.1654,-999          ,9,-999          ,9
33RR20230722  ,I05        ,75      ,  1,28         ,28         ,2,20230810,2057, -31.1933,  83.1654,     4012,    178.9,2,  14.4171,2,  35.3845,2,  35.3766,2,    236.6,2,    237.3,2,     1.17,2,     3.05,2,     0.32,2,     0.39,2,    2.021,3,    1.477,2,   2.4100,2,   2116.3,2,   2328.0,2,   7.8770,2,    24.99,2,     -999,9,  14.4276,2,     -999,9,     -999,9,     -999,9,     -999,9,     -999,1,   4.9630,1,   0.0198,1,      8.9,2,     -999,1,     -999,1,     -999,1,     -999,1,20230810,2234, -31.1933,  83.1654,-999          ,9,-999          ,9
33RR20230722  ,I05        ,75      ,  1,27         ,27         ,2,20230810,2057, -31.1933,  83.1654,     4012,    200.0,2,  14.1427,2,  35.3820,2,  35.3782,2,    229.5,2,    230.7,2,     1.37,2,     4.61,2,     0.02,2,     0.44,2,     -999,9,     -999,9,     -999,9,   2123.6,2,   2326.5,2,   7.8655,2,    24.99,2,     -999,9,  14.1420,2,     -999,9,     -999,9,     -999,9,     -999,9,     -999,1,   4.8173,1,   0.0144,1,     -999,9,     -999,1,     -999,1,     -999,1,     -999,1,20230810,2232, -31.1933,  83.1654,-999          ,9,-999          ,9
33RR20230722  ,I05        ,75      ,  1,26         ,26         ,2,20230810,2057, -31.1933,  83.1654,     4012,    216.4,2,  13.8463,2,  35.3395,2,  35.3421,2,    230.1,2,    231.0,2,     1.37,2,     5.15,2,     0.01,2,     0.48,2,    4.751,4,    1.297,2,   2.3100,2,   2124.1,2,   2324.0,2,   7.8584,2,    24.98,2,     -999,9,  13.8505,2,     -999,9,     -999,9,     -999,9,     -999,9,     -999,1,   4.9694,1,   0.0126,1,      9.4,2,     -999,1,     -999,1,     -999,1,     -999,1,20230810,2231, -31.1933,  83.1654,-999          ,9,-999          ,9
33RR20230722  ,I05        ,75      ,  1,25         ,25         ,2,20230810,2057, -31.1933,  83.1654,     4012,    238.5,2,  13.4603,2,  35.2779,2,  35.2794,2,    232.7,2,    233.8,2,     1.56,2,     5.80,2,     0.00,2,     0.52,2,     -999,5,     -999,5,     -999,5,   2123.2,2,   2320.4,2,   7.8497,2,    24.99,2,     -999,9,  13.4566,2,     -999,9,     -999,9,     -999,9,     -999,1,     -999,1,   4.9693,1,   0.0120,1,     -999,5,     -999,1,     -999,1,     -999,1,     -999,1,20230810,2229, -31.1933,  83.1654,-999          ,9,-999          ,9
33RR20230722  ,I05        ,75      ,  1,24         ,24         ,2,20230810,2057, -31.1933,  83.1654,     4012,    280.0,2,  12.8067,2,  35.1736,2,  35.1711,2,    234.0,2,    234.7,2,     2.05,2,     7.44,2,     0.00,2,     0.61,2,     -999,9,     -999,9,     -999,9,   2128.7,2,   2312.1,2,   7.8333,2,    24.98,2,     -999,9,  12.7997,2,     -999,9,     -999,9,     -999,9,     -999,9,     -999,1,   4.9686,1,   0.0114,1,     -999,9,     -999,1,     -999,1,     -999,1,     -999,1,20230810,2227, -31.1933,  83.1654,-999          ,9,-999          ,9
33RR20230722  ,I05        ,75      ,  1,23         ,23         ,2,20230810,2057, -31.1933,  83.1654,     4012,    332.6,2,  12.1960,2,  35.0743,2,  35.0742,2,    236.9,2,    237.5,2,     2.54,2,     9.02,2,     0.00,2,     0.71,2,    2.054,3,    1.716,2,   2.5100,2,   2128.6,6,   2308.2,2,   7.8192,2,    25.00,2,     -999,9,  12.1990,2,     -999,9,     -999,9,     -999,9,     -999,9,     -999,1,   4.8713,1,   0.0117,1,     10.2,2,     -999,1,     -999,1,     -999,1,     -999,1,20230810,2225, -31.1933,  83.1654,-999          ,9,-999          ,9
33RR20230722  ,I05        ,75      ,  1,22         ,22         ,2,20230810,2057, -31.1933,  83.1654,     4012,    398.5,2,  11.6387,2,  34.9849,2,  34.9892,2,    241.1,2,    240.2,2,     2.83,2,    10.19,2,     0.00,2,     0.76,2,     -999,9,     -999,9,     -999,9,   2128.0,2,   2305.0,6,   7.8086,2,    24.98,2,     -999,9,  11.6530,2,     -999,9,     -999,9,     -999,9,     -999,9,     -999,1,   4.9682,1,   0.0120,1,     -999,9,     -999,1,     -999,1,     -999,1,     -999,1,20230810,2223, -31.1933,  83.1654,-999          ,9,-999          ,9
33RR20230722  ,I05        ,75      ,  1,21         ,21         ,2,20230810,2057, -31.1933,  83.1654,     4012,    463.9,2,  11.3059,2,  34.9406,2,  34.9416,2,    239.2,2,    238.5,2,     3.02,2,    11.23,2,     0.00,2,     0.83,2,    3.392,3,    1.767,2,   2.4100,2,   2132.6,2,   2302.8,2,   7.8004,6,    24.98,2,     -999,9,  11.2985,2,     -999,9,     -999,9,     -999,9,     -999,9,     -999,1,   4.9678,1,   0.0116,1,     10.9,2,     -999,1,     -999,1,     -999,1,     -999,1,20230810,2220, -31.1933,  83.1654,-999          ,9,-999          ,9
33RR20230722  ,I05        ,75      ,  1,20         ,20         ,2,20230810,2057, -31.1933,  83.1654,     4012,    541.5,2,  10.7973,2,  34.8685,2,  34.8727,2,    237.9,2,    237.5,2,     3.32,2,    12.63,2,     0.00,2,     0.93,2,    3.454,3,    1.789,2,   2.2900,2,   2133.7,2,   2299.0,2,   7.7878,2,    25.00,2,     -999,9,  10.8185,2,     -999,9,     -999,9,     -999,9,     -999,9,     -999,1,   4.8694,1,   0.0115,1,     11.3,2,     -999,1,     -999,1,     -999,1,     -999,1,20230810,2218, -31.1933,  83.1654,-999          ,9,-999          ,9
33RR20230722  ,I05        ,75      ,  1,19         ,19         ,2,20230810,2057, -31.1933,  83.1654,     4012,    626.8,2,  10.2217,2,  34.7885,2,  34.7891,2,    236.7,2,    236.5,2,     3.71,2,    14.25,2,     0.00,2,     1.02,2,    3.636,3,    1.872,2,   2.2500,2,   2138.8,2,   2295.3,2,   7.7721,2,    24.99,2,     -999,9,  10.2221,2,     -999,9,     -999,9,     -999,9,     -999,9,     -999,1,   4.9667,1,   0.0114,1,     12.2,2,     -999,1,     -999,1,     -999,1,     -999,1,20230810,2216, -31.1933,  83.1654,-999          ,9,-999          ,9
33RR20230722  ,I05        ,75      ,  1,18         ,18         ,2,20230810,2057, -31.1933,  83.1654,     4012,    718.2,2,   9.5505,2,  34.7011,2,  34.7015,2,    230.4,2,    230.2,2,     4.88,2,    16.70,2,     0.00,2,     1.17,2,    3.805,3,    1.950,2,   1.9300,2,   2143.5,2,   2289.9,2,   7.7483,2,    24.99,2,     -999,9,   9.5508,2,     -999,9,     -999,9,     -999,9,     -999,9,     -999,1,   4.7644,1,   0.0114,1,     12.2,2,     -999,1,     -999,1,     -999,1,     -999,1,20230810,2213, -31.1933,  83.1654,-999          ,9,-999          ,9
33RR20230722  ,I05        ,75      ,  1,17         ,17         ,2,20230810,2057, -31.1933,  83.1654,     4012,    819.1,2,   8.7407,2,  34.6087,2,  34.6103,2,    218.7,2,    219.4,2,     7.61,2,    19.84,2,     0.00,2,     1.38,2,    3.094,3,    1.752,2,   1.6200,2,   2153.5,2,   2286.4,2,   7.7198,2,    25.02,2,     -999,9,   8.7461,2,     -999,9,     -999,9,     -999,9,     -999,9,     -999,1,   4.9674,1,   0.0115,1,     13.2,2,     -999,1,     -999,1,     -999,1,     -999,1,20230810,2210, -31.1932,  83.1654,-999          ,9,-999          ,9
33RR20230722  ,I05        ,75      ,  1,16         ,16         ,2,20230810,2057, -31.1933,  83.1654,     4012,    926.5,2,   7.1635,2,  34.4788,2,  34.4748,2,    200.8,2,    201.5,2,    16.40,2,    25.27,2,     0.00,2,     1.74,2,     -999,9,     -999,9,     -999,9,   2173.4,2,   2286.7,2,   7.6642,2,    25.01,2,     -999,9,   7.1592,2,     -999,9,     -999,9,     -999,9,     -999,9,     -999,1,   4.9464,1,   0.0112,1,     -999,9,     -999,1,     -999,1,     -999,1,     -999,1,20230810,2207, -31.1933,  83.1654,-999          ,9,-999          ,9
33RR20230722  ,I05        ,75      ,  1,15         ,15         ,2,20230810,2057, -31.1933,  83.1654,     4012,   1042.9,2,   5.5990,2,  34.3926,2,  34.3925,2,    195.2,2,    195.7,2,    26.74,2,    29.30,2,     0.00,2,     1.99,2,    1.571,3,    1.175,2,   0.6900,2,   2191.5,2,   2292.0,2,   7.6272,2,    25.01,2,     -999,9,   5.5984,2,     -999,9,     -999,9,     -999,9,     -999,9,     -999,1,   4.9707,1,   0.0111,1,     16.8,2,     -999,1,     -999,1,     -999,1,     -999,1,20230810,2204, -31.1934,  83.1653,-999          ,9,-999          ,9
33RR20230722  ,I05        ,75      ,  1,14         ,14         ,2,20230810,2057, -31.1933,  83.1654,     4012,   1159.2,2,   4.4611,2,  34.3855,2,  34.3876,2,    186.3,2,    186.4,2,    40.31,2,    31.82,2,     0.00,2,     2.21,2,    3.603,3,    0.775,2,   0.3700,2,   2214.4,2,   2302.8,2,   7.5984,2,    24.99,2,     -999,9,   4.4592,2,     -999,9,     -999,9,     -999,9,     -999,9,     -999,1,   4.9722,1,   0.0112,1,     17.4,2,     -999,1,     -999,1,     -999,1,     -999,1,20230810,2201, -31.1933,  83.1653,-999          ,9,-999          ,9
33RR20230722  ,I05        ,75      ,  1,13         ,13         ,2,20230810,2057, -31.1933,  83.1654,     4012,   1271.7,2,   3.8868,2,  34.4457,2,  34.4477,2,    169.4,2,    169.1,2,    55.63,2,    33.66,2,     0.00,2,     2.34,2,     -999,9,     -999,9,     -999,9,   2237.3,2,   2316.4,2,   7.5756,2,    24.98,2,     -999,9,   3.8843,2,     -999,9,     -999,9,     -999,9,     -999,9,     -999,1,   4.9737,1,   0.0115,1,     -999,9,     -999,1,     -999,1,     -999,1,     -999,1,20230810,2158, -31.1934,  83.1654,-999          ,9,-999          ,9
33RR20230722  ,I05        ,75      ,  1,12         ,12         ,2,20230810,2057, -31.1933,  83.1654,     4012,   1396.9,2,   3.5152,2,  34.5061,2,  34.5072,2,    159.0,2,    158.6,2,    66.85,2,    34.47,2,     0.00,2,     2.42,2,    1.090,3,    0.124,2,   0.0100,2,   2253.8,2,   2331.1,2,   7.5645,2,    25.00,2,     -999,9,   3.5139,2,     -999,9,     -999,9,     -999,9,     -999,9,     -999,1,   4.9745,1,   0.0116,1,     20.9,2,     -999,1,     -999,1,     -999,1,     -999,1,20230810,2155, -31.1934,  83.1653,-999          ,9,-999          ,9
33RR20230722  ,I05        ,75      ,  1,11         ,11         ,2,20230810,2057, -31.1933,  83.1654,     4012,   1547.2,2,   3.1786,2,  34.5723,2,  34.5734,2,    154.7,2,    154.7,2,    76.51,2,    34.59,2,     0.00,2,     2.40,2,     -999,9,     -999,9,     -999,9,   2262.7,6,   2340.7,2,   7.5619,6,    25.01,2,     -999,9,   3.1794,2,     -999,9,     -999,9,     -999,9,     -999,9,     -999,1,   4.5767,1,   0.0115,1,     -999,9,     -999,1,     -999,1,     -999,1,     -999,1,20230810,2151, -31.1934,  83.1653,-999          ,9,-999          ,9
33RR20230722  ,I05        ,75      ,  1,10         ,10         ,2,20230810,2057, -31.1933,  83.1654,     4012,   1698.5,2,   2.9515,2,  34.6185,2,  34.6195,2,    156.0,2,    156.2,2,    82.26,2,    34.18,2,     0.00,2,     2.40,2,    0.197,3,    0.065,2,   0.0400,2,   2267.5,2,   2346.6,6,   7.5668,2,    25.01,2,     -999,9,   2.9509,2,     -999,9,     -999,9,     -999,9,     -999,9,     -999,1,   4.6335,1,   0.0122,1,     20.9,2,     -999,1,     -999,1,     -999,1,     -999,1,20230810,2147, -31.1934,  83.1654,-999          ,9,-999          ,9
33RR20230722  ,I05        ,75      ,  1,9          ,9          ,2,20230810,2057, -31.1933,  83.1654,     4012,   1871.6,2,   2.7062,2,  34.6707,2,  34.6722,2,    159.8,2,    159.9,2,    88.99,2,    33.58,2,     0.00,2,     2.35,2,    0.001,3,    0.021,2,   0.0200,2,   2272.1,2,   2355.6,6,   7.5806,6,    25.01,2,     -999,9,   2.7063,2,     -999,9,     -999,9,     -999,9,     -999,9,     -999,1,   4.9752,1,   0.0112,1,     19.0,2,     -999,1,     -999,1,     -999,1,     -999,1,20230810,2143, -31.1934,  83.1654,-999          ,9,-999          ,9
33RR20230722  ,I05        ,75      ,  1,8          ,8          ,2,20230810,2057, -31.1933,  83.1654,     4012,   2095.4,2,   2.3452,2,  34.7120,3,  34.7140,2,    177.8,2,    178.0,2,    86.45,2,    31.87,2,     0.00,2,     2.22,2,    0.084,3,    0.044,2,   0.0000,2,   2261.2,2,   2351.5,2,   7.5986,2,    25.01,2,     -999,9,   2.3460,2,     -999,9,     -999,9,     -999,9,     -999,9,     -999,1,   4.6500,1,   0.0113,1,     16.5,2,     -999,1,     -999,1,     -999,1,     -999,1,20230810,2138, -31.1934,  83.1653,-999          ,9,-999          ,9
33RR20230722  ,I05        ,75      ,  1,7          ,7          ,2,20230810,2057, -31.1933,  83.1654,     4012,   2363.1,2,   2.0603,2,  34.7328,2,  34.7345,2,    186.5,2,    186.3,2,    91.72,2,    31.28,2,     0.00,2,     2.18,2,     -999,9,     -999,9,     -999,9,   2258.6,2,   2353.8,2,   7.6116,2,    25.01,2,     -999,9,   2.0600,2,     -999,9,     -999,9,     -999,9,     -999,9,     -999,1,   4.9748,1,   0.0111,1,     -999,9,     -999,1,     -999,1,     -999,1,     -999,1,20230810,2133, -31.1934,  83.1653,-999          ,9,-999          ,9
33RR20230722  ,I05        ,75      ,  1,6          ,6          ,2,20230810,2057, -31.1933,  83.1654,     4012,   2646.4,2,   1.7888,2,  34.7382,2,  34.7394,2,    193.0,2,    193.0,2,    97.58,2,    31.16,2,     0.00,2,     2.15,2,    0.075,3,    0.027,2,   0.0400,2,   2259.7,2,   2357.6,2,   7.6155,2,    25.01,2,     -999,9,   1.7882,2,     -999,9,     -999,9,     -999,9,     -999,9,     -999,1,   4.6689,1,   0.0123,1,     17.2,2,     -999,1,     -999,1,     -999,1,     -999,1,20230810,2127, -31.1933,  83.1653,-999          ,9,-999          ,9
33RR20230722  ,I05        ,75      ,  1,5          ,5          ,2,20230810,2057, -31.1933,  83.1654,     4012,   2928.5,2,   1.5757,2,  34.7338,2,  34.7357,2,    195.6,2,    195.8,2,   104.41,2,    31.20,2,     0.00,2,     2.17,2,     -999,9,     -999,9,     -999,9,   2264.0,2,   2362.9,2,   7.6178,2,    24.98,2,     -999,9,   1.5754,2,     -999,9,     -999,9,     -999,9,     -999,9,     -999,1,   4.9747,1,   0.0113,1,     -999,9,     -999,1,     -999,1,     -999,1,     -999,1,20230810,2121, -31.1934,  83.1653,-999          ,9,-999          ,9
33RR20230722  ,I05        ,75      ,  1,4          ,37         ,2,20230810,2057, -31.1933,  83.1654,     4012,   3180.1,2,   1.4210,2,  34.7294,2,  34.7305,2,    198.0,2,    198.2,2,   108.89,2,    31.49,2,     0.00,2,     2.20,2,    0.120,3,    0.039,2,   0.0000,2,   2263.9,2,   2365.3,2,   7.6187,2,    25.00,2,     -999,9,   1.4209,2,     -999,9,     -999,9,     -999,9,     -999,9,     -999,1,   4.9751,1,   0.0113,1,     17.2,2,     -999,1,     -999,1,     -999,1,     -999,1,20230810,2116, -31.1933,  83.1654,-999          ,9,-999          ,9
33RR20230722  ,I05        ,75      ,  1,3          ,3          ,2,20230810,2057, -31.1933,  83.1654,     4012,   3420.8,2,   1.3749,2,  34.7265,2,  34.7280,2,    197.5,2,    197.9,2,   112.02,2,    31.71,2,     0.00,2,     2.22,2,     -999,9,     -999,9,     -999,9,   2268.9,2,   2368.1,2,   7.6188,2,    25.01,2,     -999,9,   1.3747,2,     -999,9,     -999,9,     -999,9,     -999,9,     -999,1,   4.8718,1,   0.0111,1,     -999,9,     -999,1,     -999,1,     -999,1,     -999,1,20230810,2110, -31.1933,  83.1654,-999          ,9,-999          ,9