BOTTLE,20240422CCHHYDRO
EXPOCODE,SECT_ID,STNNBR,CASTNO,SAMPNO,BTLNBR,BTLNBR_FLAG_W,DATE,TIME,LATITUDE,LONGITUDE,DEPTH,CTDPRS,CTDPRS_FLAG_W,CTDTMP,CTDTMP_FLAG_W,CTDSAL,CTDSAL_FLAG_W,SALNTY,SALNTY_FLAG_W,CTDOXY,CTDOXY_FLAG_W,OXYGEN,OXYGEN_FLAG_W,SILCAT,SILCAT_FLAG_W,NITRAT,NITRAT_FLAG_W,NITRIT,NITRIT_FLAG_W,PHSPHT,PHSPHT_FLAG_W,CFC-11,CFC-11_FLAG_W,CFC-12,CFC-12_FLAG_W,SF6,SF6_FLAG_W,TCARBN,TCARBN_FLAG_W,ALKALI,ALKALI_FLAG_W,PH_TOT,PH_TOT_FLAG_W,PH_TMP,PH_TMP_FLAG_W,DOC,DOC_FLAG_W,REFTMP,REFTMP_FLAG_W,POC,POC_FLAG_W,PON,PON_FLAG_W,POP,POP_FLAG_W,DOP,DOP_FLAG_W,DELO18,DELO18_FLAG_W,CTDFLUOR,CTDFLUOR_FLAG_W,CTDXMISS,CTDXMISS_FLAG_W,N2O,N2O_FLAG_W,D15N_NO3,D15N_NO3_FLAG_W,D15N_NO2+NO3,D15N_NO2+NO3_FLAG_W,D18O_NO2+NO3,D18O_NO2+NO3_FLAG_W,D18O_NO3,D18O_NO3_FLAG_W,BTL_DATE,BTL_TIME,BTL_LAT,BTL_LON,HPLC,HPLC_FLAG_W,DNA,DNA_FLAG_W
,,,,,,,,,,,METERS,DBAR,,ITS-90,,PSS-78,,PSS-78,,UMOL/KG,,UMOL/KG,,UMOL/KG,,UMOL/KG,,UMOL/KG,,UMOL/KG,,PMOL/KG,,PMOL/KG,,FMOL/KG,,UMOL/KG,,UMOL/KG,,,,DEG C,,UMOL/KG,,ITS-90,,UG/KG,,UG/KG,,UG/L,,UMOL/KG,,/MILLE,,VOLTS,,VOLTS,,NMOL/KG,,/MILLE,,/MILLE,,/MILLE,,/MILLE,,,,,,,,,
33RR20230722  ,I05        ,34      ,  1,16         ,16         ,2,20230731,0750, -32.0048, 101.9674,     3723,      5.0,2,  16.9681,2,  35.8299,2,  35.8283,2,    240.4,2,    239.8,2,     1.46,2,     0.00,2,     0.00,2,     0.14,2,     -999,9,     -999,9,     -999,9,   2090.7,6,   2352.2,2,   7.9659,2,    24.98,2,     -999,1,  16.9665,2,     -999,9,     -999,9,     -999,9,     -999,9,     -999,9,   4.9127,1,   0.0370,1,     -999,9,     -999,9,     -999,9,     -999,9,     -999,9,20230731,0911, -32.0048, 101.9674,-999          ,9,-999          ,9
33RR20230722  ,I05        ,34      ,  1,15         ,15         ,2,20230731,0750, -32.0048, 101.9674,     3723,     49.9,2,  16.9608,2,  35.8316,2,  35.8301,2,    239.4,2,    239.5,2,     1.27,2,     0.00,2,     0.00,2,     0.12,2,    2.323,2,    1.317,2,   2.3000,2,   2090.5,2,   2351.7,2,   7.9646,2,    24.99,2,     -999,1,  16.9572,2,     -999,9,     -999,9,     -999,9,     -999,9,     -999,9,   4.9750,1,   0.0407,1,      8.1,2,     -999,9,     -999,9,     -999,9,     -999,9,20230731,0908, -32.0047, 101.9674,-999          ,9,-999          ,9
33RR20230722  ,I05        ,34      ,  1,14         ,14         ,2,20230731,0750, -32.0048, 101.9674,     3723,    109.7,2,  16.9127,2,  35.8337,2,  35.8319,2,    236.5,2,    237.1,2,     1.36,2,     0.03,2,     0.02,2,     0.12,2,     -999,9,     -999,9,     -999,9,   2093.2,2,   2351.2,2,   7.9602,2,    24.98,2,     -999,1,  16.9111,2,     -999,9,     -999,9,     -999,9,     -999,9,     -999,9,   4.9422,1,   0.0263,1,     -999,9,     -999,9,     -999,9,     -999,9,     -999,9,20230731,0905, -32.0047, 101.9674,-999          ,9,-999          ,9
33RR20230722  ,I05        ,34      ,  1,13         ,13         ,2,20230731,0750, -32.0048, 101.9674,     3723,    253.3,2,  13.5476,2,  35.3379,2,  35.3551,2,    232.7,2,    234.4,2,     1.27,2,     5.06,2,     0.00,2,     0.47,2,    2.505,2,    1.579,2,   2.6000,2,   2122.5,2,   2327.3,6,   7.8653,2,    24.98,2,     -999,1,  13.5566,2,     -999,9,     -999,9,     -999,9,     -999,9,     -999,9,   4.9695,1,   0.0116,1,     10.1,2,     -999,9,     -999,9,     -999,9,     -999,9,20230731,0901, -32.0047, 101.9674,-999          ,9,-999          ,9
33RR20230722  ,I05        ,34      ,  1,12         ,12         ,2,20230731,0750, -32.0048, 101.9674,     3723,    592.9,2,   9.6076,2,  34.7085,2,  34.7064,2,    237.4,2,    237.3,2,     4.00,2,    15.48,2,     0.00,2,     1.12,2,     -999,9,     -999,9,     -999,9,   2144.8,2,   2292.2,2,   7.7527,6,    24.99,2,     -999,1,   9.6081,2,     -999,9,     -999,9,     -999,9,     -999,9,     -999,9,   4.9550,1,   0.0113,1,     -999,9,     -999,9,     -999,9,     -999,9,     -999,9,20230731,0854, -32.0048, 101.9675,-999          ,9,-999          ,9
33RR20230722  ,I05        ,34      ,  1,11         ,11         ,2,20230731,0750, -32.0048, 101.9674,     3723,    995.3,2,   4.9594,2,  34.3763,2,  34.3755,2,    191.9,2,    192.5,2,    32.50,2,    29.82,2,     0.00,2,     2.11,2,    1.871,2,    1.012,2,   0.3300,2,   2203.6,2,   2296.7,2,   7.6126,2,    24.99,2,     -999,1,   4.9623,2,     -999,9,     -999,9,     -999,9,     -999,9,     -999,9,   4.9286,1,   0.0113,1,     20.6,2,     -999,9,     -999,9,     -999,9,     -999,9,20230731,0847, -32.0048, 101.9674,-999          ,9,-999          ,9
33RR20230722  ,I05        ,34      ,  1,10         ,10         ,2,20230731,0750, -32.0048, 101.9674,     3723,   1204.8,2,   3.8699,2,  34.4707,2,  34.4707,2,    161.1,2,    160.7,2,    60.70,2,    33.37,2,     0.00,2,     2.39,2,     -999,9,     -999,9,     -999,9,   2244.9,2,   2325.5,2,   7.5680,2,    24.99,2,     -999,1,   3.8709,2,     -999,9,     -999,9,     -999,9,     -999,9,     -999,9,   4.9697,1,   0.0113,1,     -999,9,     -999,9,     -999,9,     -999,9,     -999,9,20230731,0842, -32.0048, 101.9674,-999          ,9,-999          ,9
33RR20230722  ,I05        ,34      ,  1,9          ,9          ,2,20230731,0750, -32.0048, 101.9674,     3723,   1561.9,2,   3.1023,2,  34.5945,2,  34.5934,2,    149.9,2,    150.2,2,    81.28,2,    34.30,2,     0.00,2,     2.45,2,    0.111,2,    0.067,2,   0.0300,2,   2271.8,2,   2348.4,2,   7.5592,2,    24.98,2,     -999,1,   3.1037,2,     -999,9,     -999,9,     -999,9,     -999,9,     -999,9,   4.9748,1,   0.0114,1,     24.6,2,     -999,9,     -999,9,     -999,9,     -999,9,20230731,0835, -32.0047, 101.9675,-999          ,9,-999          ,9
33RR20230722  ,I05        ,34      ,  1,8          ,8          ,2,20230731,0750, -32.0048, 101.9674,     3723,   2280.9,2,   2.2876,2,  34.7149,3,  34.7121,2,    162.4,2,    162.4,2,   104.50,2,    32.97,2,     0.00,2,     2.36,2,    0.001,2,    0.008,2,  -0.0400,2,   2284.0,2,   2373.4,2,   7.5876,2,    24.97,2,     -999,1,   2.2884,2,     -999,9,     -999,9,     -999,9,     -999,9,     -999,9,   4.9754,1,   0.0122,1,     21.7,2,     -999,9,     -999,9,     -999,9,     -999,9,20230731,0822, -32.0047, 101.9675,-999          ,9,-999          ,9
33RR20230722  ,I05        ,34      ,  1,7          ,7          ,2,20230731,0750, -32.0048, 101.9674,     3723,   2563.2,2,   2.0765,2,  34.7236,2,  34.7219,2,    168.9,2,    168.9,2,   108.30,2,    32.22,2,     0.00,2,     2.34,2,    0.000,2,    0.004,2,   0.0700,2,   2285.7,2,   2377.6,2,   7.5973,2,    25.01,2,     -999,1,   2.0763,2,     -999,9,     -999,9,     -999,9,     -999,9,     -999,9,   4.8426,1,   0.0113,1,     21.2,2,     -999,9,     -999,9,     -999,9,     -999,9,20230731,0816, -32.0048, 101.9675,-999          ,9,-999          ,9
33RR20230722  ,I05        ,34      ,  1,6          ,6          ,2,20230731,0750, -32.0048, 101.9674,     3723,   2993.2,2,   1.8263,2,  34.7289,2,  34.7284,2,    180.5,2,    180.7,2,   109.86,2,    31.58,2,     0.00,2,     2.28,2,    0.003,2,    0.007,2,   0.0000,2,   2277.6,2,   2375.8,2,   7.6079,6,    24.97,2,     -999,1,   1.8261,2,     -999,9,     -999,9,     -999,9,     -999,9,     -999,9,   4.9754,1,   0.0111,1,     20.4,2,     -999,9,     -999,9,     -999,9,     -999,9,20230731,0808, -32.0047, 101.9675,-999          ,9,-999          ,9
33RR20230722  ,I05        ,34      ,  1,5          ,5          ,2,20230731,0750, -32.0048, 101.9674,     3723,   3208.9,2,   1.6734,2,  34.7303,2,  34.7294,2,    188.5,2,    188.8,2,   107.62,2,    31.54,2,     0.00,2,     2.23,2,    0.007,2,    0.016,2,  -0.0400,2,   2269.4,2,   2367.3,2,   7.6128,2,    24.97,2,     -999,1,   1.6739,2,     -999,9,     -999,9,     -999,9,     -999,9,     -999,9,   4.9052,1,   0.0118,1,     19.7,2,     -999,9,     -999,9,     -999,9,     -999,9,20230731,0803, -32.0048, 101.9675,-999          ,9,-999          ,9
33RR20230722  ,I05        ,34      ,  1,4          ,37         ,2,20230731,0750, -32.0048, 101.9674,     3723,   3414.5,2,   1.4019,2,  34.7267,2,  34.7254,2,    197.8,2,    198.2,2,   110.16,2,    31.28,2,     0.00,2,     2.23,2,    0.031,2,    0.028,2,   0.1000,2,   2268.9,2,   2369.4,2,   7.6173,2,    24.97,2,     -999,1,   1.4008,2,     -999,9,     -999,9,     -999,9,     -999,9,     -999,9,   4.9753,1,   0.0112,1,     19.0,2,     -999,9,     -999,9,     -999,9,     -999,9,20230731,0759, -32.0047, 101.9675,-999          ,9,-999          ,9
33RR20230722  ,I05        ,34      ,  1,3          ,3          ,2,20230731,0750, -32.0048, 101.9674,     3723,   3594.4,2,   1.2223,2,  34.7201,2,  34.7191,2,    201.1,2,    201.3,2,   114.25,2,    31.44,2,     0.00,2,     2.24,2,    0.036,2,    0.028,2,   0.0500,2,   2269.4,2,   2371.8,2,   7.6189,2,    24.97,2,     -999,1,   1.2213,2,     -999,9,     -999,9,     -999,9,     -999,9,     -999,9,   4.9752,1,   0.0113,1,     19.4,2,     -999,9,     -999,9,     -999,9,     -999,9,20230731,0755, -32.0047, 101.9675,-999          ,9,-999          ,9
33RR20230722  ,I05        ,34      ,  1,2          ,2          ,2,20230731,0750, -32.0048, 101.9674,     3723,   3680.4,2,   1.2122,2,  34.7195,2,  34.7178,2,    201.5,2,    201.4,2,   114.64,2,    31.28,2,     0.00,2,     2.25,2,    0.042,2,    0.030,2,  -0.0200,2,   2268.3,2,   2369.6,2,   7.6187,2,    24.99,2,     -999,1,   1.2120,2,     -999,9,     -999,9,     -999,9,     -999,9,     -999,9,   4.9753,1,   0.0112,1,     19.5,2,     -999,9,     -999,9,     -999,9,     -999,9,20230731,0752, -32.0048, 101.9675,-999          ,9,-999          ,9
33RR20230722  ,I05        ,34      ,  1,1          ,1          ,2,20230731,0750, -32.0048, 101.9674,     3723,   3770.9,2,   1.2140,2,  34.7193,2,  34.7191,2,    201.8,2,    201.4,2,   114.64,2,    31.57,2,     0.00,2,     2.25,2,    0.038,2,    0.030,2,  -0.0200,2,   2271.0,2,   2368.6,2,   7.6187,2,    24.98,2,     -999,1,   1.2136,2,     -999,9,     -999,9,     -999,9,     -999,9,     -999,9,   0.5541,1,   0.0117,1,     19.1,2,     -999,9,     -999,9,     -999,9,     -999,9,20230731,0750, -32.0048, 101.9674,-999          ,9,-999          ,9