BOTTLE,20240422CCHHYDRO
EXPOCODE,SECT_ID,STNNBR,CASTNO,SAMPNO,BTLNBR,BTLNBR_FLAG_W,DATE,TIME,LATITUDE,LONGITUDE,DEPTH,CTDPRS,CTDPRS_FLAG_W,CTDTMP,CTDTMP_FLAG_W,CTDSAL,CTDSAL_FLAG_W,SALNTY,SALNTY_FLAG_W,CTDOXY,CTDOXY_FLAG_W,OXYGEN,OXYGEN_FLAG_W,SILCAT,SILCAT_FLAG_W,NITRAT,NITRAT_FLAG_W,NITRIT,NITRIT_FLAG_W,PHSPHT,PHSPHT_FLAG_W,CFC-11,CFC-11_FLAG_W,CFC-12,CFC-12_FLAG_W,SF6,SF6_FLAG_W,TCARBN,TCARBN_FLAG_W,ALKALI,ALKALI_FLAG_W,PH_TOT,PH_TOT_FLAG_W,PH_TMP,PH_TMP_FLAG_W,DOC,DOC_FLAG_W,REFTMP,REFTMP_FLAG_W,POC,POC_FLAG_W,PON,PON_FLAG_W,POP,POP_FLAG_W,DOP,DOP_FLAG_W,DELO18,DELO18_FLAG_W,CTDFLUOR,CTDFLUOR_FLAG_W,CTDXMISS,CTDXMISS_FLAG_W,N2O,N2O_FLAG_W,D15N_NO3,D15N_NO3_FLAG_W,D15N_NO2+NO3,D15N_NO2+NO3_FLAG_W,D18O_NO2+NO3,D18O_NO2+NO3_FLAG_W,D18O_NO3,D18O_NO3_FLAG_W,BTL_DATE,BTL_TIME,BTL_LAT,BTL_LON,HPLC,HPLC_FLAG_W,DNA,DNA_FLAG_W
,,,,,,,,,,,METERS,DBAR,,ITS-90,,PSS-78,,PSS-78,,UMOL/KG,,UMOL/KG,,UMOL/KG,,UMOL/KG,,UMOL/KG,,UMOL/KG,,PMOL/KG,,PMOL/KG,,FMOL/KG,,UMOL/KG,,UMOL/KG,,,,DEG C,,UMOL/KG,,ITS-90,,UG/KG,,UG/KG,,UG/L,,UMOL/KG,,/MILLE,,VOLTS,,VOLTS,,NMOL/KG,,/MILLE,,/MILLE,,/MILLE,,/MILLE,,,,,,,,,
33RR20230722  ,I05        ,12      ,  6,36         ,36         ,2,20230725,0731, -32.0304, 111.7995,     5006,     12.7,2,  19.3940,2,  35.5115,2,  35.5089,2,    226.8,2,    227.9,2,     2.63,2,     0.06,2,     0.03,2,     0.11,2,    2.053,2,    1.212,2,   1.8800,2,   2043.9,6,   2332.0,2,   8.0072,2,    25.00,2,     -999,1,  19.3925,2,     -999,9,     -999,9,     -999,9,     -999,9,     -999,9,   4.8524,1,   0.0316,1,      7.2,2,     -999,9,     -999,9,     -999,9,     -999,9,20230725,0948, -32.0304, 111.7995,-999          ,9,-999          ,9
33RR20230722  ,I05        ,12      ,  6,35         ,35         ,2,20230725,0731, -32.0304, 111.7995,     5006,     24.8,2,  19.3720,2,  35.5072,2,  35.5052,2,    227.7,2,    228.7,2,     2.44,2,     0.00,2,     0.02,2,     0.11,2,     -999,5,     -999,5,     -999,5,   2043.2,2,   2333.8,2,   8.0083,6,    25.01,2,     -999,1,  19.3737,2,     -999,9,     -999,9,     -999,9,     -999,9,     -999,9,   4.8639,1,   0.0322,1,     -999,5,     -999,9,     -999,9,     -999,9,     -999,9,20230725,0946, -32.0307, 111.7990,-999          ,9,-999          ,9
33RR20230722  ,I05        ,12      ,  6,34         ,34         ,2,20230725,0731, -32.0304, 111.7995,     5006,     44.7,2,  19.3721,2,  35.5755,2,  35.5567,2,    221.7,3,    224.6,2,     2.73,2,     0.15,2,     0.08,2,     0.13,2,     -999,5,     -999,5,     -999,5,   2051.7,2,   2337.2,2,   8.0000,2,    25.00,2,     -999,1,  19.3689,2,     -999,9,     -999,9,     -999,9,     -999,9,     -999,9,   4.9743,1,   0.0255,1,     -999,5,     -999,9,     -999,9,     -999,9,     -999,9,20230725,0944, -32.0308, 111.7985,-999          ,9,-999          ,9
33RR20230722  ,I05        ,12      ,  6,33         ,33         ,2,20230725,0731, -32.0304, 111.7995,     5006,     66.1,2,  18.4430,2,  35.7080,2,  35.7045,2,    223.9,2,    223.6,2,     2.63,2,     0.35,2,     0.14,2,     0.14,2,     -999,9,     -999,9,     -999,9,   2071.8,2,   2345.1,2,   7.9799,2,    25.00,2,     -999,1,  18.5040,2,     -999,9,     -999,9,     -999,9,     -999,9,     -999,9,   4.8552,1,   0.0143,1,     -999,9,     -999,9,     -999,9,     -999,9,     -999,9,20230725,0942, -32.0310, 111.7981,-999          ,9,-999          ,9
33RR20230722  ,I05        ,12      ,  6,32         ,32         ,2,20230725,0731, -32.0304, 111.7995,     5006,     89.6,2,  18.0464,2,  35.8271,2,  35.8262,2,    230.3,2,    229.8,2,     1.85,2,     0.00,2,     0.08,2,     0.12,2,     -999,5,     -999,5,     -999,5,   2077.3,2,   2355.0,6,   7.9770,2,    25.01,2,     -999,1,  18.0502,2,     -999,9,     -999,9,     -999,9,     -999,9,     -999,9,   4.9189,1,   0.0124,1,     -999,5,     -999,9,     -999,9,     -999,9,     -999,9,20230725,0940, -32.0312, 111.7977,-999          ,9,-999          ,9
33RR20230722  ,I05        ,12      ,  6,31         ,31         ,2,20230725,0731, -32.0304, 111.7995,     5006,    111.0,2,  17.8538,2,  35.8015,2,  35.8001,2,    230.0,2,    230.0,2,     2.54,2,     0.04,2,     0.17,2,     0.11,2,     -999,9,     -999,9,     -999,9,   2080.0,2,   2354.2,2,   7.9730,6,    25.01,2,     -999,1,  17.8514,2,     -999,9,     -999,9,     -999,9,     -999,9,     -999,9,   4.9750,1,   0.0128,1,     -999,9,     -999,9,     -999,9,     -999,9,     -999,9,20230725,0937, -32.0314, 111.7971,-999          ,9,-999          ,9
33RR20230722  ,I05        ,12      ,  6,30         ,30         ,2,20230725,0731, -32.0304, 111.7995,     5006,    132.8,2,  16.7584,2,  35.6614,2,  35.6605,2,    240.2,2,    239.2,2,     2.24,2,     0.00,2,     0.05,2,     0.13,2,     -999,5,     -999,5,     -999,5,   -999.0,9,     -999,9,     -999,9,     -999,9,     -999,1,  16.7612,2,     -999,9,     -999,9,     -999,9,     -999,9,     -999,9,   4.9746,1,   0.0221,1,     -999,5,     -999,9,     -999,9,     -999,9,     -999,9,20230725,0936, -32.0315, 111.7967,-999          ,9,-999          ,9
33RR20230722  ,I05        ,12      ,  6,29         ,29         ,2,20230725,0731, -32.0304, 111.7995,     5006,    163.3,2,  16.5551,2,  35.6393,2,  35.6384,2,    238.7,2,    238.4,2,     2.05,2,     0.15,2,     0.16,2,     0.14,2,     -999,9,     -999,9,     -999,9,   2079.5,2,   2345.4,2,   7.9639,2,    25.01,2,     -999,1,  16.5499,2,     -999,9,     -999,9,     -999,9,     -999,9,     -999,9,   4.9738,1,   0.0191,1,     -999,9,     -999,9,     -999,9,     -999,9,     -999,9,20230725,0934, -32.0317, 111.7964,-999          ,9,-999          ,9
33RR20230722  ,I05        ,12      ,  6,28         ,28         ,2,20230725,0731, -32.0304, 111.7995,     5006,    193.7,2,  16.0640,2,  35.5901,2,  35.5888,2,    240.0,2,    239.7,2,     1.76,2,     0.38,2,     0.18,2,     0.17,2,    2.018,2,    1.444,2,   2.5500,2,   2081.1,2,   2345.3,2,   7.9548,2,    25.00,2,     -999,1,  16.0626,2,     -999,9,     -999,9,     -999,9,     -999,9,     -999,9,   4.9734,1,   0.0198,1,      8.7,2,     -999,9,     -999,9,     -999,9,     -999,9,20230725,0933, -32.0319, 111.7960,-999          ,9,-999          ,9
33RR20230722  ,I05        ,12      ,  6,27         ,27         ,2,20230725,0731, -32.0304, 111.7995,     5006,    223.9,2,  15.5388,2,  35.5460,2,  35.5456,2,    237.8,2,    238.6,2,     1.85,2,     1.12,2,     0.09,2,     0.22,2,     -999,9,     -999,9,     -999,9,   -999.0,9,     -999,9,     -999,9,     -999,9,     -999,1,  15.5321,2,     -999,9,     -999,9,     -999,9,     -999,9,     -999,9,   4.9310,1,   0.0155,1,     -999,9,     -999,9,     -999,9,     -999,9,     -999,9,20230725,0931, -32.0320, 111.7955,-999          ,9,-999          ,9
33RR20230722  ,I05        ,12      ,  6,26         ,26         ,2,20230725,0731, -32.0304, 111.7995,     5006,    262.1,2,  14.3052,2,  35.3852,2,  35.3880,2,    233.1,2,    233.2,2,     1.76,2,     3.60,2,     0.02,2,     0.37,2,     -999,5,     -999,5,     -999,5,   2107.5,2,   2333.1,2,   7.8871,2,    24.99,2,     -999,1,  14.3280,2,     -999,9,     -999,9,     -999,9,     -999,9,     -999,9,   4.9597,1,   0.0116,1,     -999,5,     -999,9,     -999,9,     -999,9,     -999,9,20230725,0929, -32.0322, 111.7952,-999          ,9,-999          ,9
33RR20230722  ,I05        ,12      ,  6,25         ,25         ,2,20230725,0731, -32.0304, 111.7995,     5006,    299.2,2,  13.1164,2,  35.1792,2,  35.1794,2,    237.0,2,    237.5,2,     1.27,2,     5.28,2,     0.01,2,     0.51,2,     -999,9,     -999,9,     -999,9,   -999.0,9,     -999,9,     -999,9,     -999,9,     -999,1,  13.1173,2,     -999,9,     -999,9,     -999,9,     -999,9,     -999,9,   4.9695,1,   0.0113,1,     -999,9,     -999,9,     -999,9,     -999,9,     -999,9,20230725,0927, -32.0322, 111.7950,-999          ,9,-999          ,9
33RR20230722  ,I05        ,12      ,  6,24         ,24         ,2,20230725,0731, -32.0304, 111.7995,     5006,    359.4,2,  11.5203,2,  34.9422,2,  34.9433,2,    240.6,2,    239.7,2,     1.66,2,     9.30,2,     0.01,2,     0.72,2,    2.707,2,    1.845,2,   2.9300,2,   2124.7,2,   2310.9,2,   7.8090,2,    25.01,2,     -999,1,  11.5224,2,     -999,9,     -999,9,     -999,9,     -999,9,     -999,9,   4.9684,1,   0.0113,1,     12.3,2,     -999,9,     -999,9,     -999,9,     -999,9,20230725,0925, -32.0324, 111.7946,-999          ,9,-999          ,9
33RR20230722  ,I05        ,12      ,  6,23         ,23         ,2,20230725,0731, -32.0304, 111.7995,     5006,    428.3,2,  10.3071,2,  34.7795,2,  34.7807,2,    243.5,2,    242.6,2,     3.03,2,    12.99,2,     0.01,2,     0.95,2,     -999,9,     -999,9,     -999,9,   2133.3,2,   2300.5,2,   7.7746,2,    24.99,2,     -999,1,  10.3055,2,     -999,9,     -999,9,     -999,9,     -999,9,     -999,9,   4.9435,1,   0.0114,1,     -999,9,     -999,9,     -999,9,     -999,9,     -999,9,20230725,0923, -32.0326, 111.7941,-999          ,9,-999          ,9
33RR20230722  ,I05        ,12      ,  6,22         ,22         ,2,20230725,0731, -32.0304, 111.7995,     5006,    557.7,2,   9.5144,2,  34.7089,2,  34.7087,2,    238.1,2,    237.5,2,     4.49,2,    16.09,2,     0.00,2,     1.14,2,    3.102,3,    1.996,2,   2.4100,2,   2140.9,2,   2295.6,2,   7.7489,2,    24.98,2,     -999,1,   9.5131,2,     -999,9,     -999,9,     -999,9,     -999,9,     -999,9,   4.9668,1,   0.0113,1,     14.1,2,     -999,9,     -999,9,     -999,9,     -999,9,20230725,0919, -32.0329, 111.7933,-999          ,9,-999          ,9
33RR20230722  ,I05        ,12      ,  6,21         ,21         ,2,20230725,0731, -32.0304, 111.7995,     5006,    638.2,2,   9.0735,2,  34.6550,2,  34.6565,2,    236.1,2,    235.9,2,     4.78,2,    17.50,2,     0.00,2,     1.23,2,    3.033,2,    1.981,2,   2.2500,2,   2144.1,2,   2290.9,2,   7.7389,2,    24.98,2,     -999,1,   9.0820,2,     -999,9,     -999,9,     -999,9,     -999,9,     -999,9,   4.9667,1,   0.0112,1,     14.1,2,     -999,9,     -999,9,     -999,9,     -999,9,20230725,0916, -32.0331, 111.7928,-999          ,9,-999          ,9
33RR20230722  ,I05        ,12      ,  6,20         ,20         ,2,20230725,0731, -32.0304, 111.7995,     5006,    716.9,2,   7.9438,2,  34.5281,2,  34.5292,2,    214.9,2,    216.2,2,     9.96,2,    21.88,2,     0.00,2,     1.52,2,    2.716,2,    1.702,2,   1.8400,2,   2156.5,2,   2289.2,2,   7.6938,2,    25.00,2,     -999,1,   7.9461,2,     -999,9,     -999,9,     -999,9,     -999,9,     -999,9,   4.9689,1,   0.0112,1,     16.2,2,     -999,9,     -999,9,     -999,9,     -999,9,20230725,0913, -32.0333, 111.7923,-999          ,9,-999          ,9
33RR20230722  ,I05        ,12      ,  6,19         ,19         ,2,20230725,0731, -32.0304, 111.7995,     5006,    857.6,2,   5.7753,2,  34.3962,2,  34.3967,2,    195.8,2,    196.6,2,    25.38,2,    28.25,2,     0.00,2,     1.95,2,    2.008,2,    1.187,2,   0.6300,2,   2186.9,2,   2292.7,2,   7.6325,2,    25.00,2,     -999,1,   5.7777,2,     -999,9,     -999,9,     -999,9,     -999,9,     -999,9,   4.9700,1,   0.0112,1,     19.7,2,     -999,9,     -999,9,     -999,9,     -999,9,20230725,0909, -32.0337, 111.7914,-999          ,9,-999          ,9
33RR20230722  ,I05        ,12      ,  6,18         ,18         ,2,20230725,0731, -32.0304, 111.7995,     5006,    922.8,2,   4.8239,2,  34.3763,2,  34.3768,2,    192.4,2,    193.4,2,    34.37,2,    30.62,2,     0.00,2,     2.12,2,     -999,9,     -999,9,     -999,9,   -999.0,9,     -999,9,     -999,9,     -999,9,     -999,1,   4.8238,2,     -999,9,     -999,9,     -999,9,     -999,9,     -999,9,   4.8805,1,   0.0111,1,     -999,9,     -999,9,     -999,9,     -999,9,     -999,9,20230725,0906, -32.0339, 111.7908,-999          ,9,-999          ,9
33RR20230722  ,I05        ,12      ,  6,17         ,17         ,2,20230725,0731, -32.0304, 111.7995,     5006,    987.1,2,   4.2539,2,  34.3821,2,  34.3815,2,    187.7,2,    189.3,2,    41.59,2,    31.98,2,     0.00,2,     2.23,2,    1.480,2,    0.840,2,   0.5600,2,   2210.3,2,   2307.0,2,   7.5973,2,    24.99,2,     -999,1,   4.2582,2,     -999,9,     -999,9,     -999,9,     -999,9,     -999,9,   4.9713,1,   0.0113,1,     21.8,2,     -999,9,     -999,9,     -999,9,     -999,9,20230725,0903, -32.0339, 111.7906,-999          ,9,-999          ,9
33RR20230722  ,I05        ,12      ,  6,16         ,16         ,2,20230725,0731, -32.0304, 111.7995,     5006,   1143.3,2,   3.5473,2,  34.4560,2,  34.4557,2,    169.6,2,    170.0,2,    59.45,2,    34.11,2,     0.00,2,     2.38,2,    0.793,2,    0.460,2,   0.1500,2,   2236.9,2,   2325.3,2,   7.5713,2,    25.01,2,     -999,1,   3.5475,2,     -999,9,     -999,9,     -999,9,     -999,9,     -999,9,   4.9733,1,   0.0112,1,     23.6,2,     -999,9,     -999,9,     -999,9,     -999,9,20230725,0859, -32.0339, 111.7906,-999          ,9,-999          ,9
33RR20230722  ,I05        ,12      ,  6,15         ,15         ,2,20230725,0731, -32.0304, 111.7995,     5006,   1312.6,2,   3.0714,2,  34.5254,2,  34.5298,2,    163.2,2,    163.1,2,    70.87,2,    34.75,2,     0.00,2,     2.44,2,    0.366,2,    0.202,2,   0.1600,2,   2252.6,2,   2337.6,2,   7.5619,6,    25.00,2,     -999,1,   3.0710,2,     -999,9,     -999,9,     -999,9,     -999,9,     -999,9,   4.9739,1,   0.0112,1,     24.0,2,     -999,9,     -999,9,     -999,9,     -999,9,20230725,0855, -32.0340, 111.7906,-999          ,9,-999          ,9
33RR20230722  ,I05        ,12      ,  6,14         ,14         ,2,20230725,0731, -32.0304, 111.7995,     5006,   1459.4,2,   2.9139,2,  34.5956,2,  34.5979,2,    156.8,2,    156.1,2,    82.00,2,    34.75,2,     0.00,2,     2.45,2,    0.140,2,    0.075,2,   0.1600,2,   2262.3,2,   2349.1,6,   7.5627,2,    25.01,2,     -999,1,   2.9135,2,     -999,9,     -999,9,     -999,9,     -999,9,     -999,9,   4.9224,1,   0.0112,1,     24.1,2,     -999,9,     -999,9,     -999,9,     -999,9,20230725,0851, -32.0339, 111.7906,-999          ,9,-999          ,9
33RR20230722  ,I05        ,12      ,  6,13         ,13         ,4,20230725,0731, -32.0304, 111.7995,     5006,   1606.3,3,   2.7242,3,  34.6390,3,     -999,9,    158.7,3,     -999,9,     -999,9,     -999,9,     -999,9,     -999,9,     -999,9,     -999,9,     -999,9,   -999.0,4,     -999,9,     -999,9,     -999,9,     -999,9,   2.7245,3,     -999,9,     -999,9,     -999,9,     -999,9,     -999,9,   4.9749,1,   0.0121,1,     -999,9,     -999,9,     -999,9,     -999,9,     -999,9,20230725,0847, -32.0338, 111.7906,-999          ,9,-999          ,9
33RR20230722  ,I05        ,12      ,  6,12         ,12         ,2,20230725,0731, -32.0304, 111.7995,     5006,   1758.7,2,   2.5670,2,  34.6753,2,  34.6763,2,    160.7,2,    160.2,2,    94.00,2,    33.82,2,     0.00,2,     2.38,2,    0.036,2,    0.024,2,  -0.0300,2,   2269.2,2,   2360.8,2,   7.5774,6,    25.00,2,     -999,1,   2.5682,2,     -999,9,     -999,9,     -999,9,     -999,9,     -999,9,   4.9751,1,   0.0117,1,     23.3,2,     -999,9,     -999,9,     -999,9,     -999,9,20230725,0843, -32.0339, 111.7906,-999          ,9,-999          ,9
33RR20230722  ,I05        ,12      ,  6,11         ,11         ,2,20230725,0731, -32.0304, 111.7995,     5006,   2021.2,2,   2.3040,2,  34.7116,2,  34.7111,2,    164.7,2,    164.5,2,   103.46,2,    33.41,2,     0.00,2,     2.38,2,    0.010,2,    0.023,2,  -0.0200,2,   2275.5,2,   2373.0,6,   7.5879,2,    25.01,2,     -999,1,   2.3039,2,     -999,9,     -999,9,     -999,9,     -999,9,     -999,9,   4.9753,1,   0.0122,1,     22.5,2,     -999,9,     -999,9,     -999,9,     -999,9,20230725,0838, -32.0339, 111.7906,-999          ,9,-999          ,9
33RR20230722  ,I05        ,12      ,  6,10         ,10         ,2,20230725,0731, -32.0304, 111.7995,     5006,   2258.2,2,   2.0875,2,  34.7237,2,  34.7229,2,    168.7,2,    168.7,2,   109.03,2,    33.29,2,     0.00,2,     2.36,2,     -999,9,     -999,9,     -999,9,   -999.0,9,     -999,9,     -999,9,     -999,9,     -999,1,   2.0878,2,     -999,9,     -999,9,     -999,9,     -999,9,     -999,9,   4.6937,1,   0.0111,1,     -999,9,     -999,9,     -999,9,     -999,9,     -999,9,20230725,0832, -32.0339, 111.7906,-999          ,9,-999          ,9
33RR20230722  ,I05        ,12      ,  6,9          ,9          ,2,20230725,0731, -32.0304, 111.7995,     5006,   2553.0,2,   1.9130,2,  34.7294,2,  34.7288,2,    176.8,2,    177.0,2,   109.22,2,    32.72,2,     0.00,2,     2.31,2,    0.004,2,    0.007,2,   0.0100,2,   2273.1,2,   2376.7,2,   7.6042,2,    25.01,2,     -999,1,   1.9135,2,     -999,9,     -999,9,     -999,9,     -999,9,     -999,9,   4.9549,1,   0.0111,1,     21.2,2,     -999,9,     -999,9,     -999,9,     -999,9,20230725,0826, -32.0339, 111.7906,-999          ,9,-999          ,9
33RR20230722  ,I05        ,12      ,  6,8          ,8          ,2,20230725,0731, -32.0304, 111.7995,     5006,   2967.6,2,   1.6869,2,  34.7292,2,  34.7288,2,    181.9,2,    181.6,2,   110.29,2,    33.03,2,     0.00,2,     2.31,2,     -999,9,     -999,9,     -999,9,   -999.0,9,     -999,9,     -999,9,     -999,9,     -999,1,   1.6869,2,     -999,9,     -999,9,     -999,9,     -999,9,     -999,9,   4.9498,1,   0.0121,1,     -999,9,     -999,9,     -999,9,     -999,9,     -999,9,20230725,0818, -32.0339, 111.7906,-999          ,9,-999          ,9
33RR20230722  ,I05        ,12      ,  6,7          ,7          ,2,20230725,0731, -32.0304, 111.7995,     5006,   3459.1,2,   1.3808,2,  34.7224,2,  34.7225,2,    188.6,2,    189.1,2,   122.69,2,    32.98,2,     0.00,2,     2.29,2,    0.000,2,    0.004,2,  -0.0100,2,   -999.0,9,     -999,9,     -999,9,     -999,9,     -999,1,   1.3813,2,     -999,9,     -999,9,     -999,9,     -999,9,     -999,9,   4.6730,1,   0.0120,1,     20.1,2,     -999,9,     -999,9,     -999,9,     -999,9,20230725,0807, -32.0339, 111.7906,-999          ,9,-999          ,9
33RR20230722  ,I05        ,12      ,  6,6          ,6          ,2,20230725,0731, -32.0304, 111.7995,     5006,   3676.0,2,   1.2961,2,  34.7198,2,  34.7211,2,    191.0,2,    191.1,2,   122.89,2,    33.08,2,     0.00,2,     2.31,2,   -0.003,2,    0.005,2,   0.0800,2,   2279.1,2,   2386.6,2,   7.6186,2,    25.01,2,     -999,1,   1.2965,2,     -999,9,     -999,9,     -999,9,     -999,9,     -999,9,   4.9763,1,   0.0110,1,     19.9,2,     -999,9,     -999,9,     -999,9,     -999,9,20230725,0802, -32.0339, 111.7907,-999          ,9,-999          ,9
33RR20230722  ,I05        ,12      ,  6,5          ,5          ,2,20230725,0731, -32.0304, 111.7995,     5006,   4010.4,2,   1.2161,2,  34.7166,2,  34.7170,2,    194.5,2,    194.9,2,   123.86,2,    32.96,2,     0.00,2,     2.31,2,    0.007,2,    0.014,2,  -0.0300,2,   -999.0,9,     -999,9,     -999,9,     -999,9,     -999,1,   1.2153,2,     -999,9,     -999,9,     -999,9,     -999,9,     -999,9,   4.8380,1,   0.0111,1,     19.6,2,     -999,9,     -999,9,     -999,9,     -999,9,20230725,0754, -32.0339, 111.7907,-999          ,9,-999          ,9
33RR20230722  ,I05        ,12      ,  6,4          ,4          ,2,20230725,0731, -32.0304, 111.7995,     5006,   4257.6,2,   1.1695,2,  34.7145,2,  34.7136,2,    196.8,2,    196.9,2,   123.67,2,    32.94,2,     0.00,2,     2.31,2,    0.004,2,    0.010,2,  -0.0200,2,   -999.0,9,     -999,9,     -999,9,     -999,9,     -999,1,   1.1695,2,     -999,9,     -999,9,     -999,9,     -999,9,     -999,9,   4.8801,1,   0.0111,1,     19.7,2,     -999,9,     -999,9,     -999,9,     -999,9,20230725,0748, -32.0340, 111.7906,-999          ,9,-999          ,9
33RR20230722  ,I05        ,12      ,  6,3          ,3          ,2,20230725,0731, -32.0304, 111.7995,     5006,   4493.9,2,   1.1188,2,  34.7125,2,  34.7119,2,    200.7,2,    200.9,2,   123.37,2,    32.65,2,     0.00,2,     2.29,2,    0.038,2,    0.023,2,   0.0100,2,   2272.3,2,   2382.9,2,   7.6222,2,    24.98,2,     -999,1,   1.1189,2,     -999,9,     -999,9,     -999,9,     -999,9,     -999,9,   4.9146,1,   0.0112,1,     19.7,2,     -999,9,     -999,9,     -999,9,     -999,9,20230725,0742, -32.0338, 111.7906,-999          ,9,-999          ,9