BOTTLE,20240422CCHHYDRO
EXPOCODE,SECT_ID,STNNBR,CASTNO,SAMPNO,BTLNBR,BTLNBR_FLAG_W,DATE,TIME,LATITUDE,LONGITUDE,DEPTH,CTDPRS,CTDPRS_FLAG_W,CTDTMP,CTDTMP_FLAG_W,CTDSAL,CTDSAL_FLAG_W,SALNTY,SALNTY_FLAG_W,CTDOXY,CTDOXY_FLAG_W,OXYGEN,OXYGEN_FLAG_W,SILCAT,SILCAT_FLAG_W,NITRAT,NITRAT_FLAG_W,NITRIT,NITRIT_FLAG_W,PHSPHT,PHSPHT_FLAG_W,CFC-11,CFC-11_FLAG_W,CFC-12,CFC-12_FLAG_W,SF6,SF6_FLAG_W,TCARBN,TCARBN_FLAG_W,ALKALI,ALKALI_FLAG_W,PH_TOT,PH_TOT_FLAG_W,PH_TMP,PH_TMP_FLAG_W,DOC,DOC_FLAG_W,REFTMP,REFTMP_FLAG_W,POC,POC_FLAG_W,PON,PON_FLAG_W,POP,POP_FLAG_W,DOP,DOP_FLAG_W,DELO18,DELO18_FLAG_W,CTDFLUOR,CTDFLUOR_FLAG_W,CTDXMISS,CTDXMISS_FLAG_W,N2O,N2O_FLAG_W,D15N_NO3,D15N_NO3_FLAG_W,D15N_NO2+NO3,D15N_NO2+NO3_FLAG_W,D18O_NO2+NO3,D18O_NO2+NO3_FLAG_W,D18O_NO3,D18O_NO3_FLAG_W,BTL_DATE,BTL_TIME,BTL_LAT,BTL_LON,HPLC,HPLC_FLAG_W,DNA,DNA_FLAG_W
,,,,,,,,,,,METERS,DBAR,,ITS-90,,PSS-78,,PSS-78,,UMOL/KG,,UMOL/KG,,UMOL/KG,,UMOL/KG,,UMOL/KG,,UMOL/KG,,PMOL/KG,,PMOL/KG,,FMOL/KG,,UMOL/KG,,UMOL/KG,,,,DEG C,,UMOL/KG,,ITS-90,,UG/KG,,UG/KG,,UG/L,,UMOL/KG,,/MILLE,,VOLTS,,VOLTS,,NMOL/KG,,/MILLE,,/MILLE,,/MILLE,,/MILLE,,,,,,,,,
33RR20230722  ,I05        ,125     ,  1,32         ,32         ,2,20230824,1626, -33.9987,  57.8591,     4483,      6.7,2,  16.8456,2,  35.6058,2,  35.6072,2,    240.9,2,    241.0,2,     1.37,2,     0.07,2,     0.00,2,     0.17,2,    1.937,2,    1.334,2,   2.2600,2,   2080.0,6,   2339.1,2,   7.9529,2,    25.01,2,     -999,1,  16.8449,2,     -999,9,     -999,9,     -999,9,     -999,9,     -999,9,   4.9747,1,   0.0357,1,      7.8,2,     -999,9,     -999,9,     -999,9,     -999,9,20230824,1819, -33.9987,  57.8591,-999          ,9,-999          ,9
33RR20230722  ,I05        ,125     ,  1,31         ,31         ,2,20230824,1626, -33.9987,  57.8591,     4483,     31.9,2,  16.8465,2,  35.6054,2,  35.6058,2,    240.4,2,    241.2,2,     1.27,2,     0.02,2,     0.00,2,     0.14,2,     -999,9,     -999,9,     -999,9,   2081.6,2,   2336.2,2,   7.9530,6,    25.01,2,     -999,9,  16.8446,2,     -999,9,     -999,9,     -999,9,     -999,9,     -999,9,   4.9746,1,   0.0364,1,     -999,9,     -999,9,     -999,9,     -999,9,     -999,9,20230824,1817, -33.9987,  57.8591,-999          ,9,-999          ,9
33RR20230722  ,I05        ,125     ,  1,30         ,30         ,2,20230824,1626, -33.9987,  57.8591,     4483,     61.5,2,  16.8472,2,  35.6052,2,  35.6058,2,    240.4,2,    240.9,2,     1.37,2,     0.00,2,     0.00,2,     0.13,2,    2.040,2,    1.344,2,   2.3100,2,   2080.9,2,   2335.6,6,   7.9521,2,    25.00,2,     -999,9,  16.8443,2,     -999,9,     -999,9,     -999,9,     -999,9,     -999,9,   4.9745,1,   0.0345,1,      8.1,2,     -999,9,     -999,9,     -999,9,     -999,9,20230824,1815, -33.9987,  57.8591,-999          ,9,-999          ,9
33RR20230722  ,I05        ,125     ,  1,29         ,29         ,2,20230824,1626, -33.9987,  57.8591,     4483,     93.2,2,  15.9317,2,  35.5101,2,  35.5091,2,    234.3,2,    234.6,2,     1.66,2,     1.76,2,     0.14,2,     0.28,2,     -999,9,     -999,9,     -999,9,   2095.9,2,   2329.0,2,   7.9166,6,    25.00,2,     -999,9,  15.9536,2,     -999,9,     -999,9,     -999,9,     -999,9,     -999,9,   4.9719,1,   0.0314,1,     -999,9,     -999,9,     -999,9,     -999,9,     -999,9,20230824,1813, -33.9987,  57.8591,-999          ,9,-999          ,9
33RR20230722  ,I05        ,125     ,  1,28         ,28         ,2,20230824,1626, -33.9987,  57.8591,     4483,    124.5,2,  14.8549,2,  35.4320,2,  35.4316,2,    227.5,2,    229.2,2,     2.15,2,     4.29,2,     0.02,2,     0.44,2,    2.415,2,    1.499,2,   2.3600,2,   2109.8,2,   2326.2,2,   7.8798,6,    24.99,2,     -999,9,  14.8472,2,     -999,9,     -999,9,     -999,9,     -999,9,     -999,9,   4.9699,1,   0.0193,1,      9.7,2,     -999,9,     -999,9,     -999,9,     -999,9,20230824,1810, -33.9987,  57.8591,-999          ,9,-999          ,9
33RR20230722  ,I05        ,125     ,  1,27         ,27         ,2,20230824,1626, -33.9987,  57.8591,     4483,    159.4,2,  14.2437,2,  35.3734,2,  35.3752,2,    228.7,2,    229.8,2,     2.54,2,     5.64,2,     0.01,2,     0.51,2,    2.347,2,    1.524,2,   2.2500,2,   2114.3,2,   2321.6,2,   7.8645,2,    25.02,2,     -999,9,  14.2309,2,     -999,9,     -999,9,     -999,9,     -999,9,     -999,9,   4.9695,1,   0.0139,1,      9.7,2,     -999,9,     -999,9,     -999,9,     -999,9,20230824,1808, -33.9987,  57.8591,-999          ,9,-999          ,9
33RR20230722  ,I05        ,125     ,  1,26         ,26         ,2,20230824,1626, -33.9987,  57.8591,     4483,    197.6,2,  13.8470,2,  35.3301,2,  35.3313,2,    231.6,2,    231.7,2,     2.83,2,     6.43,2,     0.00,2,     0.55,2,     -999,9,     -999,9,     -999,9,   2116.5,2,   2319.9,2,   7.8585,2,    25.00,2,     -999,9,  13.8261,2,     -999,9,     -999,9,     -999,9,     -999,9,     -999,9,   4.9694,1,   0.0116,1,     -999,9,     -999,9,     -999,9,     -999,9,     -999,9,20230824,1807, -33.9987,  57.8591,-999          ,9,-999          ,9
33RR20230722  ,I05        ,125     ,  1,25         ,25         ,2,20230824,1626, -33.9987,  57.8591,     4483,    240.4,2,  13.6251,2,  35.3000,2,  35.2986,2,    232.3,2,    232.4,2,     2.93,2,     6.94,2,     0.00,2,     0.59,2,    2.356,2,    1.597,2,   2.3800,2,   2118.4,2,   2318.9,2,   7.8526,2,    25.03,2,     -999,9,  13.6248,2,     -999,9,     -999,9,     -999,9,     -999,9,     -999,9,   4.9692,1,   0.0117,1,      9.9,2,     -999,9,     -999,9,     -999,9,     -999,9,20230824,1805, -33.9987,  57.8591,-999          ,9,-999          ,9
33RR20230722  ,I05        ,125     ,  1,24         ,24         ,2,20230824,1626, -33.9987,  57.8591,     4483,    289.1,2,  13.2624,2,  35.2509,2,  35.2556,2,    233.6,2,    233.2,2,     3.12,2,     7.74,2,     0.00,2,     0.62,2,     -999,9,     -999,9,     -999,9,   2122.9,2,   2317.0,2,   7.8454,2,    25.03,2,     -999,9,  13.2624,2,     -999,9,     -999,9,     -999,9,     -999,9,     -999,9,   4.9684,1,   0.0117,1,     -999,9,     -999,9,     -999,9,     -999,9,     -999,9,20230824,1803, -33.9987,  57.8591,-999          ,9,-999          ,9
33RR20230722  ,I05        ,125     ,  1,23         ,23         ,2,20230824,1626, -33.9987,  57.8591,     4483,    345.2,2,  13.0405,2,  35.2202,2,  35.2199,2,    233.1,2,    232.8,2,     3.32,2,     8.38,2,     0.00,2,     0.66,2,    2.563,6,    1.621,6,   2.3300,6,   2124.0,2,   2314.2,2,   7.8383,2,    25.03,2,     -999,9,  13.0364,2,     -999,9,     -999,9,     -999,9,     -999,9,     -999,9,   4.9683,1,   0.0118,1,     10.5,6,     -999,9,     -999,9,     -999,9,     -999,9,20230824,1800, -33.9987,  57.8591,-999          ,9,-999          ,9
33RR20230722  ,I05        ,125     ,  1,22         ,22         ,2,20230824,1626, -33.9987,  57.8591,     4483,    411.4,2,  12.7116,2,  35.1697,2,  35.1697,2,    232.3,2,    231.9,2,     3.51,2,     9.28,2,     0.00,2,     0.71,2,     -999,9,     -999,9,     -999,9,   2124.8,2,   2313.4,2,   7.8290,2,    25.02,2,     -999,9,  12.7130,2,     -999,9,     -999,9,     -999,9,     -999,9,     -999,9,   4.9680,1,   0.0115,1,     -999,9,     -999,9,     -999,9,     -999,9,     -999,9,20230824,1758, -33.9987,  57.8591,-999          ,9,-999          ,9
33RR20230722  ,I05        ,125     ,  1,21         ,21         ,2,20230824,1626, -33.9987,  57.8591,     4483,    488.4,2,  12.2482,2,  35.0959,2,  35.0968,2,    231.6,2,    231.1,2,     3.71,2,    10.37,2,     0.00,2,     0.79,2,    2.808,2,    1.705,2,   2.1700,2,   2131.9,2,   2310.6,2,   7.8163,2,    25.02,2,     -999,9,  12.2481,2,     -999,9,     -999,9,     -999,9,     -999,9,     -999,9,   4.9674,1,   0.0116,1,     11.0,2,     -999,9,     -999,9,     -999,9,     -999,9,20230824,1756, -33.9987,  57.8591,-999          ,9,-999          ,9
33RR20230722  ,I05        ,125     ,  1,20         ,20         ,2,20230824,1626, -33.9987,  57.8591,     4483,    577.7,2,  11.4377,2,  34.9700,2,  34.9701,2,    227.6,2,    227.3,2,     4.29,2,    12.59,2,     0.00,2,     0.92,2,    2.788,2,    1.773,2,   2.0600,2,   2131.4,2,   2303.9,2,   7.7932,2,    25.03,2,     -999,9,  11.4369,2,     -999,9,     -999,9,     -999,9,     -999,9,     -999,9,   4.9667,1,   0.0114,1,     11.7,2,     -999,9,     -999,9,     -999,9,     -999,9,20230824,1753, -33.9987,  57.8591,-999          ,9,-999          ,9
33RR20230722  ,I05        ,125     ,  1,19         ,19         ,2,20230824,1626, -33.9987,  57.8591,     4483,    673.2,2,  10.6215,2,  34.8520,2,  34.8528,2,    224.9,2,    224.7,2,     5.07,2,    14.69,2,     0.00,2,     1.04,2,    2.995,2,    1.831,2,   1.8200,2,   2138.6,2,   2299.3,2,   7.7722,2,    24.99,2,     -999,9,  10.6190,2,     -999,9,     -999,9,     -999,9,     -999,9,     -999,9,   4.9665,1,   0.0115,1,     12.4,2,     -999,9,     -999,9,     -999,9,     -999,9,20230824,1750, -33.9987,  57.8591,-999          ,9,-999          ,9
33RR20230722  ,I05        ,125     ,  1,18         ,18         ,2,20230824,1626, -33.9987,  57.8591,     4483,    776.6,2,   9.3416,2,  34.6926,2,  34.6912,2,    216.4,2,    216.2,2,     8.00,2,    18.56,2,     0.00,2,     1.30,2,    3.130,2,    1.799,2,   1.4900,2,   2152.4,2,   2291.9,2,   7.7336,2,    25.02,2,     -999,9,   9.3498,2,     -999,9,     -999,9,     -999,9,     -999,9,     -999,9,   4.9673,1,   0.0115,1,     13.8,2,     -999,9,     -999,9,     -999,9,     -999,9,20230824,1747, -33.9986,  57.8591,-999          ,9,-999          ,9
33RR20230722  ,I05        ,125     ,  1,17         ,17         ,2,20230824,1626, -33.9987,  57.8591,     4483,    887.2,2,   7.9140,2,  34.5516,2,  34.5525,2,    206.1,2,    206.8,2,    13.18,2,    22.85,2,     0.00,2,     1.57,2,    3.301,2,    1.626,2,   1.1400,2,   2167.2,2,   2288.9,2,   7.6895,2,    25.01,2,     -999,9,   7.9146,2,     -999,9,     -999,9,     -999,9,     -999,9,     -999,9,   4.9684,1,   0.0113,1,     15.6,2,     -999,9,     -999,9,     -999,9,     -999,9,20230824,1744, -33.9987,  57.8591,-999          ,9,-999          ,9
33RR20230722  ,I05        ,125     ,  1,16         ,16         ,2,20230824,1626, -33.9987,  57.8591,     4483,   1003.9,2,   6.5473,2,  34.4439,2,  34.4465,2,    202.7,2,    203.4,2,    19.82,2,    26.46,2,     0.00,2,     1.83,2,    2.481,2,    1.483,2,   1.0300,2,   2181.4,2,   2290.3,2,   7.6519,2,    25.01,2,     -999,9,   6.5473,2,     -999,9,     -999,9,     -999,9,     -999,9,     -999,9,   4.9698,1,   0.0114,1,     16.9,2,     -999,9,     -999,9,     -999,9,     -999,9,20230824,1741, -33.9987,  57.8591,-999          ,9,-999          ,9
33RR20230722  ,I05        ,125     ,  1,15         ,15         ,2,20230824,1626, -33.9987,  57.8591,     4483,   1128.8,2,   5.0330,2,  34.3683,2,  34.3698,2,    200.2,2,    200.8,2,    29.87,2,    29.73,2,     0.00,2,     2.04,2,     -999,9,     -999,9,     -999,9,   2196.1,2,   2293.5,2,   7.6206,2,    24.99,2,     -999,9,   5.0396,2,     -999,9,     -999,9,     -999,9,     -999,9,     -999,9,   4.9705,1,   0.0112,1,     -999,9,     -999,9,     -999,9,     -999,9,     -999,9,20230824,1738, -33.9987,  57.8591,-999          ,9,-999          ,9
33RR20230722  ,I05        ,125     ,  1,14         ,14         ,2,20230824,1626, -33.9987,  57.8591,     4483,   1262.8,2,   4.1797,2,  34.3871,2,  34.3894,2,    188.7,2,    189.7,2,    42.56,2,    31.94,2,     0.00,2,     2.22,2,    1.560,2,    0.890,2,   0.4800,2,   2217.1,2,   2307.2,2,   7.5963,2,    24.98,2,     -999,9,   4.1708,2,     -999,9,     -999,9,     -999,9,     -999,9,     -999,9,   4.9720,1,   0.0112,1,     20.8,2,     -999,9,     -999,9,     -999,9,     -999,9,20230824,1735, -33.9986,  57.8591,-999          ,9,-999          ,9
33RR20230722  ,I05        ,125     ,  1,13         ,13         ,2,20230824,1626, -33.9987,  57.8591,     4483,   1405.9,2,   3.5812,2,  34.4539,2,  34.4548,2,    175.3,2,    175.3,2,    56.23,2,    33.40,2,     0.00,2,     2.33,2,    1.091,2,    0.516,2,   0.2600,2,   2236.1,6,   2320.2,2,   7.5794,6,    24.98,2,     -999,9,   3.5793,2,     -999,9,     -999,9,     -999,9,     -999,9,     -999,9,   4.9734,1,   0.0111,1,     22.2,2,     -999,9,     -999,9,     -999,9,     -999,9,20230824,1731, -33.9987,  57.8591,-999          ,9,-999          ,9
33RR20230722  ,I05        ,125     ,  1,12         ,12         ,2,20230824,1626, -33.9987,  57.8591,     4483,   1555.8,2,   3.1586,2,  34.5226,2,  34.5221,2,    170.5,2,    170.6,2,    65.21,2,    33.74,2,     0.00,2,     2.35,2,    0.582,2,    0.323,2,   0.1400,2,   2248.2,2,   2328.0,2,   7.5704,2,    24.97,2,     -999,9,   3.1620,2,     -999,9,     -999,9,     -999,9,     -999,9,     -999,9,   4.9741,1,   0.0112,1,     22.0,2,     -999,9,     -999,9,     -999,9,     -999,9,20230824,1728, -33.9987,  57.8591,-999          ,9,-999          ,9
33RR20230722  ,I05        ,125     ,  1,11         ,11         ,2,20230824,1626, -33.9987,  57.8591,     4483,   1710.2,2,   2.9016,2,  34.5810,2,  34.5812,2,    171.5,2,    171.6,2,    70.67,2,    33.33,2,     0.00,2,     2.32,2,    0.404,2,    0.210,2,   0.0800,2,   2253.0,2,   2335.2,2,   7.5755,2,    24.97,2,     -999,9,   2.9008,2,     -999,9,     -999,9,     -999,9,     -999,9,     -999,9,   4.9744,1,   0.0111,1,     21.8,2,     -999,9,     -999,9,     -999,9,     -999,9,20230824,1724, -33.9987,  57.8591,-999          ,9,-999          ,9
33RR20230722  ,I05        ,125     ,  1,10         ,10         ,2,20230824,1626, -33.9987,  57.8591,     4483,   1890.1,2,   2.6820,2,  34.6368,2,  34.6384,2,    174.8,2,    174.7,2,    75.74,2,    32.66,2,     0.00,2,     2.28,2,     -999,9,     -999,9,     -999,9,   2251.4,2,   2340.5,2,   7.5815,2,    24.95,2,     -999,9,   2.6812,2,     -999,9,     -999,9,     -999,9,     -999,9,     -999,9,   4.9746,1,   0.0112,1,     -999,9,     -999,9,     -999,9,     -999,9,     -999,9,20230824,1720, -33.9987,  57.8591,-999          ,9,-999          ,9
33RR20230722  ,I05        ,125     ,  1,9          ,9          ,2,20230824,1626, -33.9987,  57.8591,     4483,   2112.6,2,   2.4484,2,  34.6879,2,  34.6895,2,    179.4,2,    179.5,2,    82.38,2,    31.90,2,     0.00,2,     2.23,2,    0.071,2,    0.039,2,   0.0200,2,   2257.7,2,   2348.8,2,   7.5997,2,    24.97,2,     -999,9,   2.4490,2,     -999,9,     -999,9,     -999,9,     -999,9,     -999,9,   4.9747,1,   0.0117,1,     19.1,2,     -999,9,     -999,9,     -999,9,     -999,9,20230824,1715, -33.9986,  57.8591,-999          ,9,-999          ,9
33RR20230722  ,I05        ,125     ,  1,8          ,8          ,2,20230824,1626, -33.9987,  57.8591,     4483,   2383.1,2,   2.2373,2,  34.7226,2,  34.7233,2,    183.8,2,    183.7,2,    89.69,2,    31.42,2,     0.00,2,     2.21,2,     -999,9,     -999,9,     -999,9,   2258.4,2,   2358.3,2,   7.6092,2,    24.96,2,     -999,9,   2.2373,2,     -999,9,     -999,9,     -999,9,     -999,9,     -999,9,   4.9749,1,   0.0113,1,     -999,9,     -999,9,     -999,9,     -999,9,     -999,9,20230824,1709, -33.9986,  57.8591,-999          ,9,-999          ,9
33RR20230722  ,I05        ,125     ,  1,7          ,7          ,2,20230824,1626, -33.9987,  57.8591,     4483,   2702.6,2,   2.0151,2,  34.7378,2,  34.7380,2,    188.5,2,    188.3,2,    96.04,2,    31.22,2,     0.00,2,     2.18,2,    0.133,2,    0.067,2,   0.0100,2,   2261.2,2,   2362.7,2,   7.6152,2,    24.98,2,     -999,9,   2.0148,2,     -999,9,     -999,9,     -999,9,     -999,9,     -999,9,   4.9756,1,   0.0119,1,     20.0,2,     -999,9,     -999,9,     -999,9,     -999,9,20230824,1703, -33.9986,  57.8591,-999          ,9,-999          ,9
33RR20230722  ,I05        ,125     ,  1,6          ,6          ,2,20230824,1626, -33.9987,  57.8591,     4483,   3062.2,2,   1.6647,2,  34.7374,2,  34.7378,2,    195.5,2,    195.4,2,   103.65,2,    31.20,2,     0.00,2,     2.17,2,    0.100,2,    0.051,2,   0.0200,2,   2262.4,2,   2363.5,2,   7.6168,2,    24.99,2,     -999,9,   1.6650,2,     -999,9,     -999,9,     -999,9,     -999,9,     -999,9,   4.9757,1,   0.0118,1,     18.6,2,     -999,9,     -999,9,     -999,9,     -999,9,20230824,1656, -33.9986,  57.8591,-999          ,9,-999          ,9
33RR20230722  ,I05        ,125     ,  1,5          ,5          ,2,20230824,1626, -33.9987,  57.8591,     4483,   3463.6,2,   1.2439,2,  34.7208,2,  34.7217,2,    203.0,2,    203.1,2,   112.43,2,    31.60,2,     0.00,2,     2.20,2,    0.155,2,    0.075,2,   0.0200,2,   2260.9,2,   2363.2,2,   7.6131,2,    25.04,2,     -999,9,   1.2460,2,     -999,9,     -999,9,     -999,9,     -999,9,     -999,9,   4.9761,1,   0.0118,1,     18.1,2,     -999,9,     -999,9,     -999,9,     -999,9,20230824,1648, -33.9987,  57.8591,-999          ,9,-999          ,9
33RR20230722  ,I05        ,125     ,  1,4          ,37         ,2,20230824,1626, -33.9987,  57.8591,     4483,   3883.7,2,   0.7893,2,  34.7001,2,  34.6997,2,    212.3,2,    213.1,2,   123.07,2,    31.95,2,     0.00,2,     2.22,2,    0.268,2,    0.129,2,   0.0500,2,   2260.8,2,   2363.3,2,   7.6071,2,    24.99,2,     -999,9,   0.7891,2,     -999,9,     -999,9,     -999,9,     -999,9,     -999,9,   4.7991,1,   0.0112,1,     17.9,2,     -999,9,     -999,9,     -999,9,     -999,9,20230824,1640, -33.9987,  57.8591,-999          ,9,-999          ,9
33RR20230722  ,I05        ,125     ,  1,3          ,3          ,2,20230824,1626, -33.9987,  57.8591,     4483,   4231.0,2,   0.5880,2,  34.6884,2,  34.6881,2,    215.9,2,    216.2,2,   130.69,2,    32.35,2,     0.00,2,     2.24,2,    0.301,2,    0.147,2,   0.0500,2,   2261.8,2,   2360.2,6,   7.6059,2,    24.98,2,     -999,9,   0.5886,2,     -999,9,     -999,9,     -999,9,     -999,9,     -999,9,   4.9763,1,   0.0113,1,     18.0,2,     -999,9,     -999,9,     -999,9,     -999,9,20230824,1634, -33.9987,  57.8591,-999          ,9,-999          ,9
33RR20230722  ,I05        ,125     ,  1,2          ,2          ,2,20230824,1626, -33.9987,  57.8591,     4483,   4442.5,2,   0.5625,2,  34.6859,2,  34.6857,2,    216.7,2,    216.7,2,   131.47,2,    32.41,2,     0.00,2,     2.24,2,    0.316,2,    0.151,2,   0.0600,2,   2263.2,2,   2360.8,2,   7.6055,6,    24.99,2,     -999,9,   0.5620,2,     -999,9,     -999,9,     -999,9,     -999,9,     -999,9,   4.9764,1,   0.0111,1,     17.9,2,     -999,9,     -999,9,     -999,9,     -999,9,20230824,1629, -33.9987,  57.8591,-999          ,9,-999          ,9
33RR20230722  ,I05        ,125     ,  1,1          ,1          ,2,20230824,1626, -33.9987,  57.8591,     4483,   4550.2,2,   0.5692,2,  34.6855,2,  34.6855,2,    217.1,2,    216.9,2,   133.23,2,    32.39,2,     0.00,2,     2.24,2,    0.328,2,    0.151,2,   0.0600,2,   2265.4,6,   2361.1,2,   7.6063,2,    24.96,2,     -999,9,   0.5690,2,     -999,9,     -999,9,     -999,9,     -999,9,     -999,9,   0.6295,1,   0.0111,1,     17.6,2,     -999,9,     -999,9,     -999,9,     -999,9,20230824,1626, -33.9987,  57.8591,-999          ,9,-999          ,9