BOTTLE,20240422CCHHYDRO
EXPOCODE,SECT_ID,STNNBR,CASTNO,SAMPNO,BTLNBR,BTLNBR_FLAG_W,DATE,TIME,LATITUDE,LONGITUDE,DEPTH,CTDPRS,CTDPRS_FLAG_W,CTDTMP,CTDTMP_FLAG_W,CTDSAL,CTDSAL_FLAG_W,SALNTY,SALNTY_FLAG_W,CTDOXY,CTDOXY_FLAG_W,OXYGEN,OXYGEN_FLAG_W,SILCAT,SILCAT_FLAG_W,NITRAT,NITRAT_FLAG_W,NITRIT,NITRIT_FLAG_W,PHSPHT,PHSPHT_FLAG_W,CFC-11,CFC-11_FLAG_W,CFC-12,CFC-12_FLAG_W,SF6,SF6_FLAG_W,TCARBN,TCARBN_FLAG_W,ALKALI,ALKALI_FLAG_W,PH_TOT,PH_TOT_FLAG_W,PH_TMP,PH_TMP_FLAG_W,DOC,DOC_FLAG_W,REFTMP,REFTMP_FLAG_W,POC,POC_FLAG_W,PON,PON_FLAG_W,POP,POP_FLAG_W,DOP,DOP_FLAG_W,DELO18,DELO18_FLAG_W,CTDFLUOR,CTDFLUOR_FLAG_W,CTDXMISS,CTDXMISS_FLAG_W,N2O,N2O_FLAG_W,D15N_NO3,D15N_NO3_FLAG_W,D15N_NO2+NO3,D15N_NO2+NO3_FLAG_W,D18O_NO2+NO3,D18O_NO2+NO3_FLAG_W,D18O_NO3,D18O_NO3_FLAG_W,BTL_DATE,BTL_TIME,BTL_LAT,BTL_LON,HPLC,HPLC_FLAG_W,DNA,DNA_FLAG_W
,,,,,,,,,,,METERS,DBAR,,ITS-90,,PSS-78,,PSS-78,,UMOL/KG,,UMOL/KG,,UMOL/KG,,UMOL/KG,,UMOL/KG,,UMOL/KG,,PMOL/KG,,PMOL/KG,,FMOL/KG,,UMOL/KG,,UMOL/KG,,,,DEG C,,UMOL/KG,,ITS-90,,UG/KG,,UG/KG,,UG/L,,UMOL/KG,,/MILLE,,VOLTS,,VOLTS,,NMOL/KG,,/MILLE,,/MILLE,,/MILLE,,/MILLE,,,,,,,,,
33RR20230722  ,I05        ,64      ,  1,2          ,2          ,2,20230808,1116, -31.8208,  88.6972,     3197,   2913.4,2,   1.5273,2,  34.7327,2,  34.7325,2,    196.4,2,    196.4,2,   106.07,2,    31.38,2,     0.00,2,     2.21,2,    0.035,2,    0.029,2,   0.0200,2,   2263.1,2,   2364.6,2,   7.6189,6,    25.01,2,     -999,1,   1.5262,2,     -999,9,     -999,9,     -999,9,     -999,9,     -999,9,   4.9744,1,   0.0122,1,     18.0,2,     -999,9,     -999,9,     -999,9,     -999,9,20230808,1122, -31.8208,  88.6972,-999          ,9,-999          ,9
33RR20230722  ,I05        ,64      ,  1,1          ,1          ,2,20230808,1116, -31.8208,  88.6972,     3197,   3235.3,2,   1.2664,2,  34.7238,2,  34.7239,2,    201.2,2,    200.9,2,   113.78,2,    31.67,2,     0.00,2,     2.21,2,    0.061,2,    0.043,2,   0.0300,2,   2263.7,6,   2365.3,2,   7.6195,2,    25.00,2,     -999,1,   1.2662,2,     -999,9,     -999,9,     -999,9,     -999,9,     -999,9,   0.4321,1,   0.0110,1,     18.1,2,     -999,9,     -999,9,     -999,9,     -999,9,20230808,1116, -31.8208,  88.6972,-999          ,9,-999          ,9
33RR20230722  ,I05        ,65      ,  1,30         ,30         ,2,20230808,1544, -31.7482,  88.2659,     2234,      4.9,2,  17.1305,2,  35.8143,2,  35.8133,2,    239.4,2,    238.8,2,     1.37,2,     0.09,2,     0.01,2,     0.16,2,    2.403,3,    1.332,2,   2.2100,2,   2094.3,6,   2353.7,2,   7.9612,6,    25.00,2,     -999,1,  17.1309,2,     -999,9,     -999,9,     -999,9,     -999,9,     -999,9,   4.9762,1,   0.0394,1,      7.8,2,     -999,9,     -999,9,     -999,9,     -999,9,20230808,1657, -31.7482,  88.2659,-999          ,9,-999          ,9
33RR20230722  ,I05        ,65      ,  1,29         ,29         ,2,20230808,1544, -31.7482,  88.2659,     2234,     28.3,2,  17.1246,2,  35.8125,2,  35.8117,2,    239.2,2,    238.9,2,     1.27,2,     0.01,2,     0.02,2,     0.14,2,     -999,9,     -999,9,     -999,9,   2091.9,2,   2353.5,2,   7.9590,2,    25.01,2,     -999,9,  17.1225,2,     -999,9,     -999,9,     -999,9,     -999,9,     -999,9,   4.9251,1,   0.0398,1,     -999,9,     -999,9,     -999,9,     -999,9,     -999,9,20230808,1655, -31.7482,  88.2658,-999          ,9,-999          ,9
33RR20230722  ,I05        ,65      ,  1,28         ,28         ,2,20230808,1544, -31.7482,  88.2659,     2234,     46.6,2,  17.1067,2,  35.8094,2,  35.8084,2,    238.7,2,    238.9,2,     1.37,2,     0.01,2,     0.02,2,     0.14,2,    2.422,3,    1.339,2,   2.2100,2,   2093.3,2,   2353.8,2,   7.9580,2,    25.01,2,     -999,9,  17.1032,2,     -999,9,     -999,9,     -999,9,     -999,9,     -999,9,   4.9710,1,   0.0422,1,      7.8,2,     -999,9,     -999,9,     -999,9,     -999,9,20230808,1654, -31.7482,  88.2658,-999          ,9,-999          ,9
33RR20230722  ,I05        ,65      ,  1,27         ,27         ,2,20230808,1544, -31.7482,  88.2659,     2234,     69.3,2,  17.0799,2,  35.8054,2,  35.8044,2,    238.6,2,    238.9,2,     1.37,2,     0.01,2,     0.02,2,     0.13,2,     -999,9,     -999,9,     -999,9,   2093.6,2,   2352.1,2,   7.9579,2,    25.01,2,     -999,9,  17.0769,2,     -999,9,     -999,9,     -999,9,     -999,9,     -999,9,   4.9746,1,   0.0408,1,     -999,9,     -999,9,     -999,9,     -999,9,     -999,9,20230808,1652, -31.7482,  88.2658,-999          ,9,-999          ,9
33RR20230722  ,I05        ,65      ,  1,26         ,26         ,2,20230808,1544, -31.7482,  88.2659,     2234,     98.3,2,  16.7491,2,  35.7386,2,  35.7325,2,    239.0,2,    239.0,2,     1.27,2,     0.20,2,     0.06,2,     0.18,2,    1.525,4,    1.377,2,   2.2300,2,   2096.6,2,   2349.3,6,   7.9453,2,    25.00,2,     -999,9,  16.7918,2,     -999,9,     -999,9,     -999,9,     -999,9,     -999,9,   4.7732,1,   0.0292,1,      8.0,2,     -999,9,     -999,9,     -999,9,     -999,9,20230808,1650, -31.7482,  88.2659,-999          ,9,-999          ,9
33RR20230722  ,I05        ,65      ,  1,25         ,25         ,2,20230808,1544, -31.7482,  88.2659,     2234,    136.3,2,  14.6292,2,  35.4719,2,  35.4756,2,    232.3,2,    233.7,2,     1.66,2,     3.26,2,     0.18,2,     0.39,2,     -999,9,     -999,9,     -999,9,   2119.1,2,   2334.1,2,   7.8847,6,    25.01,2,     -999,9,  14.6255,2,     -999,9,     -999,9,     -999,9,     -999,9,     -999,9,   4.9084,1,   0.0208,1,     -999,9,     -999,9,     -999,9,     -999,9,     -999,9,20230808,1647, -31.7482,  88.2659,-999          ,9,-999          ,9
33RR20230722  ,I05        ,65      ,  1,24         ,24         ,2,20230808,1544, -31.7482,  88.2659,     2234,    153.8,2,  14.0786,2,  35.4063,2,  35.4070,2,    229.7,2,    231.6,2,     1.76,2,     4.64,2,     0.05,2,     0.45,2,    2.469,3,    1.574,2,   2.3700,2,   2121.8,2,   2330.1,2,   7.8673,2,    25.01,2,     -999,9,  14.0868,2,     -999,9,     -999,9,     -999,9,     -999,9,     -999,9,   4.9697,1,   0.0152,1,     10.1,2,     -999,9,     -999,9,     -999,9,     -999,9,20230808,1646, -31.7482,  88.2659,-999          ,9,-999          ,9
33RR20230722  ,I05        ,65      ,  1,23         ,23         ,2,20230808,1544, -31.7482,  88.2659,     2234,    170.5,2,  13.7638,2,  35.3595,2,  35.3585,2,    229.7,2,    230.9,2,     1.85,2,     5.40,2,     0.01,2,     0.49,2,     -999,9,     -999,9,     -999,9,   2125.0,2,   2326.6,2,   7.8582,2,    25.02,2,     -999,9,  13.7555,2,     -999,9,     -999,9,     -999,9,     -999,9,     -999,9,   4.7772,1,   0.0135,1,     -999,9,     -999,9,     -999,9,     -999,9,     -999,9,20230808,1644, -31.7482,  88.2658,-999          ,9,-999          ,9
33RR20230722  ,I05        ,65      ,  1,22         ,22         ,2,20230808,1544, -31.7482,  88.2659,     2234,    215.2,2,  13.0316,2,  35.2310,2,  35.2312,2,    234.3,2,    234.7,2,     2.05,2,     6.67,2,     0.00,2,     0.56,2,    2.835,3,    1.637,2,   2.4000,2,   2125.6,2,   2320.7,2,   7.8425,2,    25.03,2,     -999,9,  13.0276,2,     -999,9,     -999,9,     -999,9,     -999,9,     -999,9,   4.5958,1,   0.0121,1,     10.8,2,     -999,9,     -999,9,     -999,9,     -999,9,20230808,1642, -31.7482,  88.2658,-999          ,9,-999          ,9
33RR20230722  ,I05        ,65      ,  1,21         ,21         ,2,20230808,1544, -31.7482,  88.2659,     2234,    251.9,2,  12.6577,2,  35.1679,2,  35.1685,2,    235.3,2,    235.4,2,     2.24,2,     7.44,2,     0.00,2,     0.62,2,    2.641,3,    1.668,2,   2.4000,2,   2128.4,2,   2315.1,2,   7.8354,2,    25.00,2,     -999,9,  12.6457,2,     -999,9,     -999,9,     -999,9,     -999,9,     -999,9,   4.8136,1,   0.0114,1,     11.3,2,     -999,9,     -999,9,     -999,9,     -999,9,20230808,1641, -31.7482,  88.2658,-999          ,9,-999          ,9
33RR20230722  ,I05        ,65      ,  1,20         ,20         ,2,20230808,1544, -31.7482,  88.2659,     2234,    307.7,2,  11.9792,2,  35.0525,2,  35.0533,2,    238.5,2,    238.2,2,     2.54,2,     9.03,2,     0.00,2,     0.70,2,     -999,9,     -999,9,     -999,9,   2128.9,2,   2307.7,2,   7.8182,2,    25.00,2,     -999,9,  11.9789,2,     -999,9,     -999,9,     -999,9,     -999,9,     -999,9,   4.8523,1,   0.0115,1,     -999,9,     -999,9,     -999,9,     -999,9,     -999,9,20230808,1639, -31.7482,  88.2658,-999          ,9,-999          ,9
33RR20230722  ,I05        ,65      ,  1,19         ,19         ,2,20230808,1544, -31.7482,  88.2659,     2234,    358.8,2,  11.4229,2,  34.9617,2,  34.9604,2,    239.5,2,    238.7,2,     3.02,2,    10.62,2,     0.00,2,     0.79,2,     -999,9,     -999,9,     -999,9,   2130.2,2,   2305.3,2,   7.8027,2,    25.02,2,     -999,9,  11.4318,2,     -999,9,     -999,9,     -999,9,     -999,9,     -999,9,   4.9682,1,   0.0107,1,     -999,9,     -999,9,     -999,9,     -999,9,     -999,9,20230808,1637, -31.7482,  88.2659,-999          ,9,-999          ,9
33RR20230722  ,I05        ,65      ,  1,18         ,18         ,2,20230808,1544, -31.7482,  88.2659,     2234,    421.0,2,  10.8595,2,  34.8733,2,  34.8747,2,    240.5,2,    239.6,2,     3.51,2,    12.13,2,     0.00,2,     0.89,2,    2.907,3,    1.806,2,   2.2700,2,   2133.5,2,   2300.4,2,   7.7900,2,    25.01,2,     -999,9,  10.8607,2,     -999,9,     -999,9,     -999,9,     -999,9,     -999,9,   4.9677,1,   0.0114,1,     11.7,2,     -999,9,     -999,9,     -999,9,     -999,9,20230808,1634, -31.7482,  88.2659,-999          ,9,-999          ,9
33RR20230722  ,I05        ,65      ,  1,17         ,17         ,2,20230808,1544, -31.7482,  88.2659,     2234,    497.3,2,  10.2968,2,  34.7973,2,  34.7990,2,    238.9,2,    238.2,2,     3.81,2,    13.68,2,     0.00,2,     0.98,2,    3.047,3,    1.876,2,   2.1800,2,   2134.2,2,   2295.8,2,   7.7746,2,    25.01,2,     -999,9,  10.2951,2,     -999,9,     -999,9,     -999,9,     -999,9,     -999,9,   4.9673,1,   0.0116,1,     12.3,2,     -999,9,     -999,9,     -999,9,     -999,9,20230808,1632, -31.7482,  88.2659,-999          ,9,-999          ,9
33RR20230722  ,I05        ,65      ,  1,16         ,16         ,2,20230808,1544, -31.7482,  88.2659,     2234,    578.0,2,   9.7781,2,  34.7314,2,  34.7319,2,    235.5,2,    235.1,2,     4.49,2,    15.44,2,     0.00,2,     1.09,2,    3.190,3,    1.916,2,   2.1200,2,   2139.9,2,   2293.0,2,   7.7591,2,    25.01,2,     -999,9,   9.7769,2,     -999,9,     -999,9,     -999,9,     -999,9,     -999,9,   4.9666,1,   0.0112,1,     12.7,2,     -999,9,     -999,9,     -999,9,     -999,9,20230808,1629, -31.7482,  88.2658,-999          ,9,-999          ,9
33RR20230722  ,I05        ,65      ,  1,15         ,15         ,2,20230808,1544, -31.7482,  88.2659,     2234,    667.8,2,   9.1222,2,  34.6491,2,  34.6527,2,    228.3,2,    229.2,2,     5.95,2,    17.88,2,     0.00,2,     1.25,2,    3.016,3,    1.929,2,   1.9400,2,   2145.4,2,   2290.7,2,   7.7383,6,    25.01,2,     -999,9,   9.1143,2,     -999,9,     -999,9,     -999,9,     -999,9,     -999,9,   4.9666,1,   0.0114,1,     13.3,2,     -999,9,     -999,9,     -999,9,     -999,9,20230808,1627, -31.7482,  88.2659,-999          ,9,-999          ,9
33RR20230722  ,I05        ,65      ,  1,14         ,14         ,2,20230808,1544, -31.7482,  88.2659,     2234,    783.0,2,   7.8008,2,  34.5236,2,  34.5245,2,    206.3,2,    206.9,2,    12.49,2,    23.07,2,     0.00,2,     1.55,2,     -999,9,     -999,9,     -999,9,   2164.6,2,   2288.0,2,   7.6848,2,    25.00,2,     -999,9,   7.8064,2,     -999,9,     -999,9,     -999,9,     -999,9,     -999,9,   4.9684,1,   0.0115,1,     -999,9,     -999,9,     -999,9,     -999,9,     -999,9,20230808,1623, -31.7482,  88.2659,-999          ,9,-999          ,9
33RR20230722  ,I05        ,65      ,  1,13         ,13         ,2,20230808,1544, -31.7482,  88.2659,     2234,    882.0,2,   6.0979,2,  34.4147,2,  34.4159,2,    196.1,2,    196.2,2,    22.94,2,    27.73,2,     0.00,2,     1.86,2,    2.262,3,    1.290,2,   0.7700,2,   2183.3,2,   2288.9,2,   7.6393,2,    24.99,2,     -999,9,   6.1022,2,     -999,9,     -999,9,     -999,9,     -999,9,     -999,9,   4.9698,1,   0.0118,1,     17.8,2,     -999,9,     -999,9,     -999,9,     -999,9,20230808,1621, -31.7482,  88.2659,-999          ,9,-999          ,9
33RR20230722  ,I05        ,65      ,  1,12         ,12         ,2,20230808,1544, -31.7482,  88.2659,     2234,   1028.8,2,   4.6497,2,  34.3744,2,  34.3741,2,    190.9,2,    190.8,2,    36.31,2,    31.16,2,     0.00,2,     2.12,2,     -999,9,     -999,9,     -999,9,   2206.1,2,   2300.8,2,   7.6066,2,    25.00,2,     -999,9,   4.6514,2,     -999,9,     -999,9,     -999,9,     -999,9,     -999,9,   4.9525,1,   0.0112,1,     -999,9,     -999,9,     -999,9,     -999,9,     -999,9,20230808,1617, -31.7482,  88.2658,-999          ,9,-999          ,9
33RR20230722  ,I05        ,65      ,  1,11         ,11         ,2,20230808,1544, -31.7482,  88.2659,     2234,   1132.2,2,   4.0620,2,  34.4055,2,  34.4051,2,    179.7,2,    180.4,2,    47.73,2,    32.74,2,     0.00,2,     2.25,2,    1.350,3,    0.676,2,   0.3500,2,   2224.9,2,   2312.4,2,   7.5880,2,    24.99,2,     -999,9,   4.0610,2,     -999,9,     -999,9,     -999,9,     -999,9,     -999,9,   4.9387,1,   0.0112,1,     20.8,2,     -999,9,     -999,9,     -999,9,     -999,9,20230808,1614, -31.7482,  88.2659,-999          ,9,-999          ,9
33RR20230722  ,I05        ,65      ,  1,10         ,10         ,2,20230808,1544, -31.7482,  88.2659,     2234,   1208.4,2,   3.7966,2,  34.4529,2,  34.4536,2,    167.4,2,    167.6,2,    58.08,2,    33.65,2,     0.00,2,     2.34,2,     -999,9,     -999,9,     -999,9,   2237.7,2,   2322.1,2,   7.5729,2,    24.99,2,     -999,9,   3.7947,2,     -999,9,     -999,9,     -999,9,     -999,9,     -999,9,   4.7154,1,   0.0112,1,     -999,9,     -999,9,     -999,9,     -999,9,     -999,9,20230808,1611, -31.7482,  88.2658,-999          ,9,-999          ,9
33RR20230722  ,I05        ,65      ,  1,9          ,9          ,2,20230808,1544, -31.7482,  88.2659,     2234,   1328.1,2,   3.5617,2,  34.5091,2,  34.5091,2,    156.6,2,    156.7,2,    68.33,2,    34.36,2,     0.00,2,     2.39,2,     -999,9,     -999,9,     -999,9,   2252.0,2,   2332.6,6,   7.5635,2,    25.00,2,     -999,9,   3.5662,2,     -999,9,     -999,9,     -999,9,     -999,9,     -999,9,   4.9744,1,   0.0111,1,     -999,9,     -999,9,     -999,9,     -999,9,     -999,9,20230808,1608, -31.7482,  88.2658,-999          ,9,-999          ,9
33RR20230722  ,I05        ,65      ,  1,8          ,8          ,2,20230808,1544, -31.7482,  88.2659,     2234,   1449.7,2,   3.2132,2,  34.5595,2,  34.5608,2,    154.4,2,    154.3,2,    76.23,2,    34.55,2,     0.00,2,     2.40,2,    0.189,6,    0.123,6,   0.0100,6,   2261.4,2,   2340.5,2,   7.5611,6,    25.00,2,     -999,9,   3.2144,2,     -999,9,     -999,9,     -999,9,     -999,9,     -999,9,   4.8836,1,   0.0124,1,     22.9,6,     -999,9,     -999,9,     -999,9,     -999,9,20230808,1605, -31.7482,  88.2659,-999          ,9,-999          ,9
33RR20230722  ,I05        ,65      ,  1,7          ,7          ,2,20230808,1544, -31.7482,  88.2659,     2234,   1528.8,2,   3.0380,2,  34.5826,2,  34.5818,2,    156.6,2,    156.3,2,    78.18,2,    34.49,2,     0.00,2,     2.39,2,     -999,9,     -999,9,     -999,9,   2262.2,2,   2342.7,2,   7.5623,2,    25.00,2,     -999,9,   3.0377,2,     -999,9,     -999,9,     -999,9,     -999,9,     -999,9,   4.9742,1,   0.0115,1,     -999,9,     -999,9,     -999,9,     -999,9,     -999,9,20230808,1603, -31.7482,  88.2659,-999          ,9,-999          ,9
33RR20230722  ,I05        ,65      ,  1,6          ,6          ,2,20230808,1544, -31.7482,  88.2659,     2234,   1645.7,2,   2.8695,2,  34.6226,2,  34.6217,2,    158.0,2,    157.6,2,    82.77,2,    33.97,2,     0.00,2,     2.36,2,     -999,9,     -999,9,     -999,9,   2265.4,2,   2347.6,2,   7.5678,2,    25.00,2,     -999,9,   2.8689,2,     -999,9,     -999,9,     -999,9,     -999,9,     -999,9,   4.9742,1,   0.0115,1,     -999,9,     -999,9,     -999,9,     -999,9,     -999,9,20230808,1600, -31.7482,  88.2658,-999          ,9,-999          ,9
33RR20230722  ,I05        ,65      ,  1,5          ,5          ,2,20230808,1544, -31.7482,  88.2659,     2234,   1789.4,2,   2.6228,2,  34.6636,2,  34.6629,2,    166.7,2,    167.1,2,    83.54,2,    33.05,2,     0.00,2,     2.29,2,    0.117,3,    0.067,2,   0.0900,2,   2263.6,2,   2350.4,2,   7.5804,2,    25.01,2,     -999,9,   2.6214,2,     -999,9,     -999,9,     -999,9,     -999,9,     -999,9,   4.9741,1,   0.0118,1,     21.0,2,     -999,9,     -999,9,     -999,9,     -999,9,20230808,1556, -31.7482,  88.2658,-999          ,9,-999          ,9
33RR20230722  ,I05        ,65      ,  1,4          ,37         ,2,20230808,1544, -31.7482,  88.2659,     2234,   1914.5,2,   2.4854,2,  34.6885,2,  34.6881,2,    171.5,2,    171.9,2,    85.88,2,    32.47,2,     0.00,2,     2.24,2,     -999,9,     -999,9,     -999,9,   2260.4,2,   2350.4,2,   7.5889,2,    24.99,2,     -999,9,   2.4849,2,     -999,9,     -999,9,     -999,9,     -999,9,     -999,9,   4.9736,1,   0.0124,1,     -999,9,     -999,9,     -999,9,     -999,9,     -999,9,20230808,1553, -31.7482,  88.2659,-999          ,9,-999          ,9
33RR20230722  ,I05        ,65      ,  1,3          ,3          ,2,20230808,1544, -31.7482,  88.2659,     2234,   2090.2,2,   2.2783,2,  34.7180,2,  34.7180,2,    179.8,2,    180.0,2,    87.83,2,    31.59,2,     0.00,2,     2.20,2,    0.042,3,    0.039,2,   0.0400,2,   2256.3,2,   2352.4,2,   7.6023,6,    25.01,2,     -999,9,   2.2779,2,     -999,9,     -999,9,     -999,9,     -999,9,     -999,9,   4.9294,1,   0.0114,1,     19.8,2,     -999,9,     -999,9,     -999,9,     -999,9,20230808,1549, -31.7482,  88.2659,-999          ,9,-999          ,9
33RR20230722  ,I05        ,65      ,  1,2          ,2          ,2,20230808,1544, -31.7482,  88.2659,     2234,   2151.9,2,   2.2086,2,  34.7213,2,  34.7215,2,    180.1,2,    180.3,2,    91.25,2,    31.69,2,     0.00,2,     2.21,2,    0.045,3,    0.030,2,   0.0200,2,   2262.1,2,   2355.1,2,   7.6043,2,    25.01,2,     -999,9,   2.2082,2,     -999,9,     -999,9,     -999,9,     -999,9,     -999,9,   4.7609,1,   0.0111,1,     19.5,2,     -999,9,     -999,9,     -999,9,     -999,9,20230808,1547, -31.7482,  88.2659,-999          ,9,-999          ,9
33RR20230722  ,I05        ,65      ,  1,1          ,1          ,2,20230808,1544, -31.7482,  88.2659,     2234,   2250.0,2,   2.1069,2,  34.7248,2,  34.7252,2,    180.8,2,    180.6,2,    95.45,2,    31.83,2,     0.00,2,     2.20,2,    0.038,3,    0.024,2,   0.0900,2,   2262.6,6,   2362.0,2,   7.6057,2,    25.00,2,     -999,9,   2.1062,2,     -999,9,     -999,9,     -999,9,     -999,9,     -999,9,   0.5609,1,   0.0111,1,     20.0,2,     -999,9,     -999,9,     -999,9,     -999,9,20230808,1544, -31.7482,  88.2658,-999          ,9,-999          ,9