BOTTLE,20240422CCHHYDRO
EXPOCODE,SECT_ID,STNNBR,CASTNO,SAMPNO,BTLNBR,BTLNBR_FLAG_W,DATE,TIME,LATITUDE,LONGITUDE,DEPTH,CTDPRS,CTDPRS_FLAG_W,CTDTMP,CTDTMP_FLAG_W,CTDSAL,CTDSAL_FLAG_W,SALNTY,SALNTY_FLAG_W,CTDOXY,CTDOXY_FLAG_W,OXYGEN,OXYGEN_FLAG_W,SILCAT,SILCAT_FLAG_W,NITRAT,NITRAT_FLAG_W,NITRIT,NITRIT_FLAG_W,PHSPHT,PHSPHT_FLAG_W,CFC-11,CFC-11_FLAG_W,CFC-12,CFC-12_FLAG_W,SF6,SF6_FLAG_W,TCARBN,TCARBN_FLAG_W,ALKALI,ALKALI_FLAG_W,PH_TOT,PH_TOT_FLAG_W,PH_TMP,PH_TMP_FLAG_W,DOC,DOC_FLAG_W,REFTMP,REFTMP_FLAG_W,POC,POC_FLAG_W,PON,PON_FLAG_W,POP,POP_FLAG_W,DOP,DOP_FLAG_W,DELO18,DELO18_FLAG_W,CTDFLUOR,CTDFLUOR_FLAG_W,CTDXMISS,CTDXMISS_FLAG_W,N2O,N2O_FLAG_W,D15N_NO3,D15N_NO3_FLAG_W,D15N_NO2+NO3,D15N_NO2+NO3_FLAG_W,D18O_NO2+NO3,D18O_NO2+NO3_FLAG_W,D18O_NO3,D18O_NO3_FLAG_W,BTL_DATE,BTL_TIME,BTL_LAT,BTL_LON,HPLC,HPLC_FLAG_W,DNA,DNA_FLAG_W
,,,,,,,,,,,METERS,DBAR,,ITS-90,,PSS-78,,PSS-78,,UMOL/KG,,UMOL/KG,,UMOL/KG,,UMOL/KG,,UMOL/KG,,UMOL/KG,,PMOL/KG,,PMOL/KG,,FMOL/KG,,UMOL/KG,,UMOL/KG,,,,DEG C,,UMOL/KG,,ITS-90,,UG/KG,,UG/KG,,UG/L,,UMOL/KG,,/MILLE,,VOLTS,,VOLTS,,NMOL/KG,,/MILLE,,/MILLE,,/MILLE,,/MILLE,,,,,,,,,
33RR20230722  ,I05        ,93      ,  2,36         ,36         ,2,20230815,0753, -33.2108,  74.6013,     4091,      3.1,2,  17.0117,2,  35.5909,2,  36.0001,4,    240.9,2,    240.9,2,     0.88,2,     0.08,2,     0.00,2,     0.16,2,    1.931,3,    1.847,4,   7.1000,4,   2087.8,6,   2338.4,2,   7.9544,6,    25.01,2,     -999,1,  17.0163,2,     -999,9,     -999,9,     -999,9,     -999,9,     -999,1,   4.9675,1,   0.0167,1,      8.0,2,     -999,9,     -999,9,     -999,9,     -999,9,20230815,0947, -33.2108,  74.6013,-999          ,9,-999          ,9
33RR20230722  ,I05        ,93      ,  2,35         ,35         ,2,20230815,0753, -33.2108,  74.6013,     4091,     26.6,2,  16.9218,2,  35.5814,2,  35.9898,4,    241.7,2,    242.0,2,     0.88,2,     0.03,2,     0.00,2,     0.14,2,     -999,9,     -999,9,     -999,9,   -999.0,9,     -999,9,     -999,9,     -999,9,     -999,9,  16.9203,2,     -999,9,     -999,9,     -999,9,     -999,9,     -999,1,   4.9750,1,   0.0227,1,     -999,9,     -999,9,     -999,9,     -999,9,     -999,9,20230815,0945, -33.2108,  74.6013,-999          ,9,-999          ,9
33RR20230722  ,I05        ,93      ,  2,34         ,34         ,2,20230815,0753, -33.2108,  74.6013,     4091,     45.5,2,  16.9102,2,  35.5795,2,  35.9882,4,    241.7,2,    241.9,2,     0.88,2,     0.01,2,     0.00,2,     0.15,2,     -999,9,     -999,9,     -999,9,   2084.9,2,   2338.6,2,   7.9530,2,    25.02,2,     -999,9,  16.9103,2,     -999,9,     -999,9,     -999,9,     -999,9,     -999,1,   4.9749,1,   0.0245,1,     -999,9,     -999,9,     -999,9,     -999,9,     -999,9,20230815,0943, -33.2108,  74.6013,-999          ,9,-999          ,9
33RR20230722  ,I05        ,93      ,  2,33         ,33         ,2,20230815,0753, -33.2108,  74.6013,     4091,     67.6,2,  16.8538,2,  35.5700,2,  35.5691,2,    241.5,2,    241.5,2,     0.88,2,     0.00,2,     0.00,2,     0.15,2,    2.149,3,    1.402,2,   2.2800,2,   2089.6,2,   2340.6,2,   7.9517,2,    25.00,2,     -999,9,  16.8517,2,     -999,9,     -999,9,     -999,9,     -999,9,     -999,1,   4.8507,1,   0.0333,1,      8.0,2,     -999,9,     -999,9,     -999,9,     -999,9,20230815,0941, -33.2108,  74.6013,-999          ,9,-999          ,9
33RR20230722  ,I05        ,93      ,  2,32         ,32         ,2,20230815,0753, -33.2108,  74.6013,     4091,     93.3,2,  16.6025,2,  35.5322,2,  35.5304,2,    242.4,2,    243.2,2,     0.78,2,     0.00,2,     0.00,2,     0.15,2,     -999,9,     -999,9,     -999,9,   -999.0,9,     -999,9,     -999,9,     -999,9,     -999,9,  16.6158,2,     -999,9,     -999,9,     -999,9,     -999,9,     -999,1,   4.9744,1,   0.0459,1,     -999,9,     -999,9,     -999,9,     -999,9,     -999,9,20230815,0939, -33.2108,  74.6013,-999          ,9,-999          ,9
33RR20230722  ,I05        ,93      ,  2,31         ,31         ,2,20230815,0753, -33.2108,  74.6013,     4091,    121.8,2,  14.9318,2,  35.4023,2,  35.3985,2,    240.9,2,    241.9,2,     0.98,2,     1.80,2,     0.26,2,     0.33,2,    2.345,2,    1.492,2,   2.3300,2,   2108.4,2,   2328.2,2,   7.8935,2,    24.99,2,     -999,9,  14.8605,3,     -999,9,     -999,9,     -999,9,     -999,9,     -999,1,   4.9653,1,   0.0279,1,      9.6,2,     -999,9,     -999,9,     -999,9,     -999,9,20230815,0937, -33.2108,  74.6013,-999          ,9,-999          ,9
33RR20230722  ,I05        ,93      ,  2,30         ,30         ,2,20230815,0753, -33.2108,  74.6013,     4091,    151.3,2,  14.0246,2,  35.3359,2,  35.3301,2,    234.0,2,    234.6,2,     1.27,2,     4.33,2,     0.03,2,     0.45,2,     -999,9,     -999,9,     -999,9,   2119.9,2,   2323.7,2,   7.8640,2,    25.01,2,     -999,9,  14.0777,2,     -999,9,     -999,9,     -999,9,     -999,9,     -999,1,   4.9699,1,   0.0194,1,     -999,9,     -999,9,     -999,9,     -999,9,     -999,9,20230815,0935, -33.2108,  74.6013,-999          ,9,-999          ,9
33RR20230722  ,I05        ,93      ,  2,29         ,29         ,2,20230815,0753, -33.2108,  74.6013,     4091,    183.5,2,  13.5952,2,  35.2741,2,  35.2631,2,    233.6,2,    234.0,2,     1.76,2,     5.87,2,     0.01,2,     0.52,2,    2.441,2,    1.610,2,   2.4200,2,   2120.8,2,   2319.3,2,   7.8483,2,    25.01,2,     -999,9,  13.5887,2,     -999,9,     -999,9,     -999,9,     -999,9,     -999,1,   4.9695,1,   0.0128,1,     10.3,2,     -999,9,     -999,9,     -999,9,     -999,9,20230815,0933, -33.2108,  74.6013,-999          ,9,-999          ,9
33RR20230722  ,I05        ,93      ,  2,28         ,28         ,2,20230815,0753, -33.2108,  74.6013,     4091,    216.6,2,  13.1624,2,  35.2115,2,  35.2097,2,    234.9,2,    234.8,2,     1.95,2,     6.80,2,     0.00,2,     0.57,2,     -999,9,     -999,9,     -999,9,   -999.0,9,     -999,9,     -999,9,     -999,9,     -999,9,  13.1532,2,     -999,9,     -999,9,     -999,9,     -999,9,     -999,1,   4.9692,1,   0.0119,1,     -999,9,     -999,9,     -999,9,     -999,9,     -999,9,20230815,0932, -33.2108,  74.6013,-999          ,9,-999          ,9
33RR20230722  ,I05        ,93      ,  2,27         ,27         ,2,20230815,0753, -33.2108,  74.6013,     4091,    254.5,2,  12.8322,2,  35.1679,2,  35.1628,2,    236.3,2,    236.1,2,     2.34,2,     7.70,2,     0.00,2,     0.62,2,    2.636,2,    1.649,2,   2.4900,2,   2127.9,2,   2313.7,2,   7.8329,2,    25.01,2,     -999,9,  12.8390,2,     -999,9,     -999,9,     -999,9,     -999,9,     -999,1,   4.8583,1,   0.0116,1,     10.8,2,     -999,9,     -999,9,     -999,9,     -999,9,20230815,0930, -33.2108,  74.6013,-999          ,9,-999          ,9
33RR20230722  ,I05        ,93      ,  2,26         ,26         ,2,20230815,0753, -33.2108,  74.6013,     4091,    303.7,2,  12.4815,2,  35.1191,2,  35.1134,2,    238.1,2,    237.8,2,     2.73,2,     8.66,2,     0.00,2,     0.69,2,     -999,9,     -999,9,     -999,9,   -999.0,9,     -999,9,     -999,9,     -999,9,     -999,9,  12.4808,2,     -999,9,     -999,9,     -999,9,     -999,9,     -999,1,   4.9595,1,   0.0114,1,     -999,9,     -999,9,     -999,9,     -999,9,     -999,9,20230815,0928, -33.2108,  74.6013,-999          ,9,-999          ,9
33RR20230722  ,I05        ,93      ,  2,25         ,25         ,2,20230815,0753, -33.2108,  74.6013,     4091,    358.5,2,  12.1076,2,  35.0615,2,  35.0598,2,    238.4,2,    238.0,2,     2.93,2,     9.60,2,     0.00,2,     0.74,2,    2.783,2,    1.699,2,   2.3900,2,   2126.8,2,   2307.7,6,   7.8172,2,    25.02,2,     -999,9,  12.1155,2,     -999,9,     -999,9,     -999,9,     -999,9,     -999,1,   4.9682,1,   0.0115,1,     11.3,2,     -999,9,     -999,9,     -999,9,     -999,9,20230815,0926, -33.2108,  74.6013,-999          ,9,-999          ,9
33RR20230722  ,I05        ,93      ,  2,24         ,24         ,2,20230815,0753, -33.2108,  74.6013,     4091,    411.4,2,  11.6924,2,  34.9995,2,  35.0014,2,    237.9,2,    237.5,2,     3.12,2,    10.63,2,     0.00,2,     0.81,2,     -999,9,     -999,9,     -999,9,   -999.0,9,     -999,9,     -999,9,     -999,9,     -999,9,  11.7091,2,     -999,9,     -999,9,     -999,9,     -999,9,     -999,1,   4.9679,1,   0.0116,1,     -999,9,     -999,9,     -999,9,     -999,9,     -999,9,20230815,0924, -33.2108,  74.6013,-999          ,9,-999          ,9
33RR20230722  ,I05        ,93      ,  2,23         ,23         ,2,20230815,0753, -33.2108,  74.6013,     4091,    474.0,2,  11.4131,2,  34.9570,2,  34.9534,2,    236.9,2,    236.4,2,     3.42,2,    11.48,2,     0.00,2,     0.86,2,    2.701,2,    1.772,2,   2.3700,2,   2131.2,2,   2303.1,2,   7.8003,2,    25.00,2,     -999,9,  11.4031,2,     -999,9,     -999,9,     -999,9,     -999,9,     -999,1,   4.8809,1,   0.0114,1,     11.3,2,     -999,9,     -999,9,     -999,9,     -999,9,20230815,0922, -33.2108,  74.6013,-999          ,9,-999          ,9
33RR20230722  ,I05        ,93      ,  2,22         ,22         ,2,20230815,0753, -33.2108,  74.6013,     4091,    556.5,2,  10.9340,2,  34.8926,2,  34.8904,2,    232.8,2,    232.3,2,     4.00,2,    13.10,2,     0.00,2,     0.96,2,     -999,9,     -999,9,     -999,9,   -999.0,9,     -999,9,     -999,9,     -999,9,     -999,9,  10.9352,2,     -999,9,     -999,9,     -999,9,     -999,9,     -999,1,   4.9664,1,   0.0114,1,     -999,9,     -999,9,     -999,9,     -999,9,     -999,9,20230815,0919, -33.2108,  74.6013,-999          ,9,-999          ,9
33RR20230722  ,I05        ,93      ,  2,21         ,21         ,2,20230815,0753, -33.2108,  74.6013,     4091,    641.0,2,  10.2038,2,  34.7888,2,  34.7893,2,    232.7,2,    232.4,2,     4.10,2,    14.68,2,     0.00,2,     1.06,2,     -999,9,     -999,9,     -999,9,   2140.0,2,   2297.0,2,   7.7662,2,    25.00,2,     -999,9,  10.2079,2,     -999,9,     -999,9,     -999,9,     -999,9,     -999,1,   4.9666,1,   0.0117,1,     -999,9,     -999,9,     -999,9,     -999,9,     -999,9,20230815,0917, -33.2108,  74.6013,-999          ,9,-999          ,9
33RR20230722  ,I05        ,93      ,  2,20         ,20         ,2,20230815,0753, -33.2108,  74.6013,     4091,    734.8,2,   9.4365,2,  34.6909,2,  34.6871,2,    224.5,2,    225.1,2,     5.95,2,    17.55,2,     0.00,2,     1.25,2,    3.316,2,    1.875,2,   1.7000,2,   2148.5,2,   2290.8,2,   7.7406,2,    25.00,2,     -999,9,   9.4378,2,     -999,9,     -999,9,     -999,9,     -999,9,     -999,1,   4.9189,1,   0.0114,1,     13.1,2,     -999,9,     -999,9,     -999,9,     -999,9,20230815,0914, -33.2108,  74.6013,-999          ,9,-999          ,9
33RR20230722  ,I05        ,93      ,  2,19         ,19         ,2,20230815,0753, -33.2108,  74.6013,     4091,    818.2,2,   8.4715,2,  34.5924,2,  34.5887,2,    211.5,2,    212.1,2,     9.86,2,    21.15,2,     0.00,2,     1.47,2,     -999,9,     -999,9,     -999,9,   -999.0,9,     -999,9,     -999,9,     -999,9,     -999,9,   8.4690,2,     -999,9,     -999,9,     -999,9,     -999,9,     -999,1,   4.9679,1,   0.0116,1,     -999,9,     -999,9,     -999,9,     -999,9,     -999,9,20230815,0911, -33.2108,  74.6013,-999          ,9,-999          ,9
33RR20230722  ,I05        ,93      ,  2,18         ,18         ,2,20230815,0753, -33.2108,  74.6013,     4091,    918.0,2,   7.2055,2,  34.4826,2,  34.4771,2,    202.7,2,    203.2,2,    15.62,2,    25.03,2,     0.00,2,     1.73,2,    2.702,2,    1.544,2,   1.0100,2,   2172.7,2,   2287.8,2,   7.5212,4,    25.00,2,     -999,9,   7.2110,2,     -999,9,     -999,9,     -999,9,     -999,9,     -999,1,   4.6044,1,   0.0113,1,     16.4,2,     -999,9,     -999,9,     -999,9,     -999,9,20230815,0909, -33.2109,  74.6013,-999          ,9,-999          ,9
33RR20230722  ,I05        ,93      ,  2,17         ,17         ,2,20230815,0753, -33.2108,  74.6013,     4091,   1032.7,2,   5.5785,2,  34.3813,2,  34.3786,2,    199.7,2,    201.2,2,    25.18,2,    28.94,2,     0.00,2,     1.96,2,    2.398,2,    1.325,2,   0.6000,2,   2190.0,6,   2290.9,2,   7.6303,2,    24.99,2,     -999,9,   5.5763,2,     -999,9,     -999,9,     -999,9,     -999,9,     -999,1,   4.9035,1,   0.0112,1,     17.8,2,     -999,9,     -999,9,     -999,9,     -999,9,20230815,0905, -33.2108,  74.6013,-999          ,9,-999          ,9
33RR20230722  ,I05        ,93      ,  2,16         ,16         ,2,20230815,0753, -33.2108,  74.6013,     4091,   1150.4,2,   4.4897,2,  34.3694,2,  34.3664,2,    192.9,2,    193.0,2,    36.80,2,    31.40,2,     0.00,2,     2.17,2,    2.010,2,    1.007,2,   0.5000,2,   2209.0,2,   2299.6,2,   7.6038,2,    25.01,2,     -999,9,   4.5216,2,     -999,9,     -999,9,     -999,9,     -999,9,     -999,1,   4.9711,1,   0.0111,1,     19.6,2,     -999,9,     -999,9,     -999,9,     -999,9,20230815,0902, -33.2108,  74.6013,-999          ,9,-999          ,9
33RR20230722  ,I05        ,93      ,  2,15         ,15         ,2,20230815,0753, -33.2108,  74.6013,     4091,   1260.9,2,   3.9194,2,  34.3997,2,  34.3978,2,    183.3,2,    184.1,2,    47.64,2,    32.91,2,     0.00,2,     2.26,2,    1.486,2,    0.754,2,   0.3800,2,   2225.5,2,   2308.5,2,   7.5858,2,    25.00,2,     -999,9,   3.9179,2,     -999,9,     -999,9,     -999,9,     -999,9,     -999,1,   4.6472,1,   0.0113,1,     20.6,2,     -999,9,     -999,9,     -999,9,     -999,9,20230815,0859, -33.2108,  74.6013,-999          ,9,-999          ,9
33RR20230722  ,I05        ,93      ,  2,14         ,14         ,2,20230815,0753, -33.2108,  74.6013,     4091,   1366.3,2,   3.5571,2,  34.4469,2,  34.4451,2,    174.6,2,    174.4,2,    56.52,2,    33.81,2,     0.00,2,     2.33,2,    0.972,2,    0.540,2,   0.1400,2,   2240.5,2,   2318.9,2,   7.5732,2,    25.01,2,     -999,9,   3.5601,2,     -999,9,     -999,9,     -999,9,     -999,9,     -999,1,   4.6848,1,   0.0110,1,     21.6,2,     -999,9,     -999,9,     -999,9,     -999,9,20230815,0856, -33.2108,  74.6013,-999          ,9,-999          ,9
33RR20230722  ,I05        ,93      ,  2,13         ,13         ,2,20230815,0753, -33.2108,  74.6013,     4091,   1478.7,2,   3.2125,2,  34.5113,2,  34.5105,2,    167.2,2,    166.8,2,    66.08,2,    34.25,2,     0.00,2,     2.39,2,    0.574,2,    0.323,2,   0.0800,2,   2248.5,2,   2329.7,2,   7.5644,2,    25.02,2,     -999,9,   3.2127,2,     -999,9,     -999,9,     -999,9,     -999,9,     -999,1,   4.9750,1,   0.0112,1,     22.4,2,     -999,9,     -999,9,     -999,9,     -999,9,20230815,0853, -33.2108,  74.6013,-999          ,9,-999          ,9
33RR20230722  ,I05        ,93      ,  2,12         ,12         ,2,20230815,0753, -33.2108,  74.6013,     4091,   1601.9,2,   2.9762,2,  34.5582,2,  34.5565,2,    167.0,2,    166.4,2,    70.47,2,    34.11,2,     0.00,2,     2.37,2,    0.420,2,    0.226,2,   0.0700,2,   2256.9,2,   2334.9,2,   7.5640,2,    25.00,2,     -999,9,   2.9778,2,     -999,9,     -999,9,     -999,9,     -999,9,     -999,1,   4.8889,1,   0.0117,1,     22.2,2,     -999,9,     -999,9,     -999,9,     -999,9,20230815,0850, -33.2108,  74.6013,-999          ,9,-999          ,9
33RR20230722  ,I05        ,93      ,  2,11         ,11         ,2,20230815,0753, -33.2108,  74.6013,     4091,   1732.3,2,   2.7734,2,  34.6108,2,  34.6091,2,    169.4,2,    168.9,2,    74.57,2,    33.40,2,     0.00,2,     2.32,2,    0.282,2,    0.162,2,   0.0300,2,   2257.9,2,   2338.6,2,   7.5722,2,    25.01,2,     -999,9,   2.7728,2,     -999,9,     -999,9,     -999,9,     -999,9,     -999,1,   4.9743,1,   0.0113,1,     21.7,2,     -999,9,     -999,9,     -999,9,     -999,9,20230815,0846, -33.2108,  74.6013,-999          ,9,-999          ,9
33RR20230722  ,I05        ,93      ,  2,10         ,10         ,2,20230815,0753, -33.2108,  74.6013,     4091,   1891.6,2,   2.5407,2,  34.6715,2,  34.6694,2,    175.6,2,    175.7,2,    78.27,2,    32.33,2,     0.00,2,     2.23,2,    0.155,2,    0.090,2,   0.0200,2,   2256.9,2,   2342.0,2,   7.5867,2,    25.00,2,     -999,9,   2.5388,2,     -999,9,     -999,9,     -999,9,     -999,9,     -999,1,   4.6799,1,   0.0112,1,     20.6,2,     -999,9,     -999,9,     -999,9,     -999,9,20230815,0843, -33.2108,  74.6013,-999          ,9,-999          ,9
33RR20230722  ,I05        ,93      ,  2,9          ,9          ,2,20230815,0753, -33.2108,  74.6013,     4091,   2097.6,2,   2.2681,2,  34.7115,2,  34.7123,2,    181.8,2,    182.0,2,    85.49,2,    31.59,2,     0.00,2,     2.22,2,     -999,9,     -999,9,     -999,9,   -999.0,9,     -999,9,     -999,9,     -999,9,     -999,9,   2.2682,2,     -999,9,     -999,9,     -999,9,     -999,9,     -999,1,   4.9744,1,   0.0112,1,     -999,9,     -999,9,     -999,9,     -999,9,     -999,9,20230815,0838, -33.2108,  74.6013,-999          ,9,-999          ,9
33RR20230722  ,I05        ,93      ,  2,8          ,8          ,2,20230815,0753, -33.2108,  74.6013,     4091,   2351.2,2,   1.9969,2,  34.7229,3,  34.7203,2,    179.7,2,    180.3,2,   101.98,2,    32.23,2,     0.00,2,     2.26,2,    0.039,2,    0.027,6,   0.0500,6,   2271.9,2,   2367.3,2,   7.6051,6,    25.01,2,     -999,9,   1.9975,2,     -999,9,     -999,9,     -999,9,     -999,9,     -999,1,   4.8865,1,   0.0111,1,     19.6,6,     -999,9,     -999,9,     -999,9,     -999,9,20230815,0833, -33.2108,  74.6013,-999          ,9,-999          ,9
33RR20230722  ,I05        ,93      ,  2,7          ,7          ,2,20230815,0753, -33.2108,  74.6013,     4091,   2607.2,2,   1.8088,2,  34.7234,2,  34.7217,2,    178.3,2,    178.3,2,   112.82,2,    32.83,2,     0.00,2,     2.29,2,    0.013,2,    0.009,2,   0.0800,2,   2281.3,2,   2377.4,2,   7.6049,2,    25.01,2,     -999,9,   1.8082,2,     -999,9,     -999,9,     -999,9,     -999,9,     -999,1,   4.9754,1,   0.0123,1,     20.1,2,     -999,9,     -999,9,     -999,9,     -999,9,20230815,0828, -33.2108,  74.6013,-999          ,9,-999          ,9
33RR20230722  ,I05        ,93      ,  2,6          ,6          ,2,20230815,0753, -33.2108,  74.6013,     4091,   2925.7,2,   1.6415,2,  34.7210,3,  34.7189,2,    181.2,2,    181.5,2,   117.89,2,    33.00,2,     0.00,2,     2.31,2,    0.045,2,    0.029,2,   0.0100,2,   2282.7,2,   2380.6,2,   7.6055,2,    25.03,2,     -999,9,   1.6423,2,     -999,9,     -999,9,     -999,9,     -999,9,     -999,1,   4.8746,1,   0.0117,1,     19.6,2,     -999,9,     -999,9,     -999,9,     -999,9,20230815,0820, -33.2108,  74.6013,-999          ,9,-999          ,9
33RR20230722  ,I05        ,93      ,  2,5          ,5          ,2,20230815,0753, -33.2108,  74.6013,     4091,   3360.3,2,   1.4872,2,  34.7166,2,  34.7146,2,    185.8,2,    185.8,2,   120.53,2,    33.00,2,     0.00,2,     2.31,2,    0.022,2,    0.016,2,   0.0200,2,   2282.4,2,   2379.1,6,   7.6080,2,    25.02,2,     -999,9,   1.4880,2,     -999,9,     -999,9,     -999,9,     -999,9,     -999,1,   4.7320,1,   0.0112,1,     19.4,2,     -999,9,     -999,9,     -999,9,     -999,9,20230815,0811, -33.2108,  74.6013,-999          ,9,-999          ,9
33RR20230722  ,I05        ,93      ,  2,4          ,37         ,2,20230815,0753, -33.2108,  74.6013,     4091,   3755.8,2,   1.3398,2,  34.7118,3,  34.7095,2,    190.8,2,    190.8,2,   123.55,2,    32.92,2,     0.00,2,     2.30,2,    0.043,2,    0.030,2,   0.0100,2,   -999.0,9,     -999,9,     -999,9,     -999,9,     -999,9,   1.3391,2,     -999,9,     -999,9,     -999,9,     -999,9,     -999,1,   4.7862,1,   0.0113,1,     19.3,2,     -999,9,     -999,9,     -999,9,     -999,9,20230815,0803, -33.2108,  74.6013,-999          ,9,-999          ,9
33RR20230722  ,I05        ,93      ,  2,3          ,3          ,2,20230815,0753, -33.2108,  74.6013,     4091,   3910.1,2,   1.2626,2,  34.7092,2,  34.7074,2,    193.4,2,    193.7,2,   124.43,2,    32.94,2,     0.00,2,     2.29,2,    0.094,2,    0.062,2,   0.0000,2,   2280.4,2,   2378.3,2,   7.6116,2,    25.01,2,     -999,9,   1.2621,2,     -999,9,     -999,9,     -999,9,     -999,9,     -999,1,   4.9758,1,   0.0111,1,     18.9,2,     -999,9,     -999,9,     -999,9,     -999,9,20230815,0800, -33.2108,  74.6013,-999          ,9,-999          ,9