BOTTLE,20240422CCHHYDRO
EXPOCODE,SECT_ID,STNNBR,CASTNO,SAMPNO,BTLNBR,BTLNBR_FLAG_W,DATE,TIME,LATITUDE,LONGITUDE,DEPTH,CTDPRS,CTDPRS_FLAG_W,CTDTMP,CTDTMP_FLAG_W,CTDSAL,CTDSAL_FLAG_W,SALNTY,SALNTY_FLAG_W,CTDOXY,CTDOXY_FLAG_W,OXYGEN,OXYGEN_FLAG_W,SILCAT,SILCAT_FLAG_W,NITRAT,NITRAT_FLAG_W,NITRIT,NITRIT_FLAG_W,PHSPHT,PHSPHT_FLAG_W,CFC-11,CFC-11_FLAG_W,CFC-12,CFC-12_FLAG_W,SF6,SF6_FLAG_W,TCARBN,TCARBN_FLAG_W,ALKALI,ALKALI_FLAG_W,PH_TOT,PH_TOT_FLAG_W,PH_TMP,PH_TMP_FLAG_W,DOC,DOC_FLAG_W,REFTMP,REFTMP_FLAG_W,POC,POC_FLAG_W,PON,PON_FLAG_W,POP,POP_FLAG_W,DOP,DOP_FLAG_W,DELO18,DELO18_FLAG_W,CTDFLUOR,CTDFLUOR_FLAG_W,CTDXMISS,CTDXMISS_FLAG_W,N2O,N2O_FLAG_W,D15N_NO3,D15N_NO3_FLAG_W,D15N_NO2+NO3,D15N_NO2+NO3_FLAG_W,D18O_NO2+NO3,D18O_NO2+NO3_FLAG_W,D18O_NO3,D18O_NO3_FLAG_W,BTL_DATE,BTL_TIME,BTL_LAT,BTL_LON,HPLC,HPLC_FLAG_W,DNA,DNA_FLAG_W
,,,,,,,,,,,METERS,DBAR,,ITS-90,,PSS-78,,PSS-78,,UMOL/KG,,UMOL/KG,,UMOL/KG,,UMOL/KG,,UMOL/KG,,UMOL/KG,,PMOL/KG,,PMOL/KG,,FMOL/KG,,UMOL/KG,,UMOL/KG,,,,DEG C,,UMOL/KG,,ITS-90,,UG/KG,,UG/KG,,UG/L,,UMOL/KG,,/MILLE,,VOLTS,,VOLTS,,NMOL/KG,,/MILLE,,/MILLE,,/MILLE,,/MILLE,,,,,,,,,
33RR20230722  ,I05        ,193     ,  1,28         ,28         ,2,20230910,0407, -31.1229,  30.4574,     1753,      4.9,2,  22.3176,2,  35.3987,2,  35.3993,2,    216.0,2,    216.0,2,     1.07,2,     0.06,2,     0.03,2,     0.15,2,     -999,9,     -999,9,     -999,9,   2030.4,2,   2318.1,2,   8.0217,6,    25.06,2,     -999,1,  22.3154,2,     -999,9,     -999,9,     -999,9,     -999,1,     -999,9,   4.7220,1,   0.0520,1,     -999,9,     -999,9,     -999,9,     -999,9,     -999,9,20230910,0509, -31.1229,  30.4574,-999          ,9,-999          ,9
33RR20230722  ,I05        ,193     ,  1,27         ,27         ,2,20230910,0407, -31.1229,  30.4574,     1753,     12.5,2,  22.3198,2,  35.3986,2,  35.4026,2,    215.9,2,    215.8,2,     1.07,2,     0.00,2,     0.04,2,     0.16,2,     -999,9,     -999,9,     -999,9,   2031.2,6,   2318.9,2,   8.0223,2,    25.03,2,     -999,9,  22.3179,2,     -999,9,     -999,9,     -999,9,     -999,9,     -999,9,   4.9741,1,   0.0515,1,     -999,9,     -999,9,     -999,9,     -999,9,     -999,9,20230910,0507, -31.1224,  30.4577,-999          ,9,-999          ,9
33RR20230722  ,I05        ,193     ,  1,26         ,26         ,2,20230910,0407, -31.1229,  30.4574,     1753,     27.2,2,  22.3054,2,  35.3995,2,  35.3997,2,    215.8,2,    215.5,2,     1.07,2,     0.00,2,     0.04,2,     0.13,2,     -999,9,     -999,9,     -999,9,   -999.0,9,     -999,9,     -999,9,     -999,9,     -999,9,  22.2829,2,     -999,9,     -999,9,     -999,9,     -999,1,     -999,9,   4.6228,1,   0.0488,1,     -999,9,     -999,9,     -999,9,     -999,9,     -999,9,20230910,0506, -31.1219,  30.4581,-999          ,9,-999          ,9
33RR20230722  ,I05        ,193     ,  1,25         ,25         ,2,20230910,0407, -31.1229,  30.4574,     1753,     46.4,2,  21.5805,2,  35.4401,2,  35.4403,2,    216.4,2,    216.7,2,     1.66,2,     0.05,2,     0.23,2,     0.16,2,     -999,9,     -999,9,     -999,9,   2034.8,2,   2320.2,2,   8.0129,6,    25.04,2,     -999,9,  21.5621,2,     -999,9,     -999,9,     -999,9,     -999,1,     -999,9,   4.7077,1,   0.0263,1,     -999,9,     -999,9,     -999,9,     -999,9,     -999,9,20230910,0504, -31.1214,  30.4584,-999          ,9,-999          ,9
33RR20230722  ,I05        ,193     ,  1,24         ,24         ,2,20230910,0407, -31.1229,  30.4574,     1753,     67.5,2,  21.1163,2,  35.4660,2,  35.4646,2,    214.6,2,    215.2,2,     1.95,2,     0.46,2,     0.15,2,     0.19,2,     -999,9,     -999,9,     -999,9,   2043.6,2,   2321.8,6,   8.0008,2,    25.04,2,     -999,9,  21.1140,2,     -999,9,     -999,9,     -999,9,     -999,9,     -999,9,   4.9727,1,   0.0250,1,     -999,9,     -999,9,     -999,9,     -999,9,     -999,9,20230910,0502, -31.1210,  30.4586,-999          ,9,-999          ,9
33RR20230722  ,I05        ,193     ,  1,23         ,23         ,2,20230910,0407, -31.1229,  30.4574,     1753,     90.7,2,  20.2276,2,  35.5290,2,  35.5259,2,    213.5,2,    214.2,2,     2.05,2,     0.83,2,     0.22,2,     0.20,2,     -999,9,     -999,9,     -999,9,   2055.3,2,   2324.0,2,   7.9842,6,    25.04,2,     -999,9,  20.1971,2,     -999,9,     -999,9,     -999,9,     -999,1,     -999,9,   4.8729,1,   0.0215,1,     -999,9,     -999,9,     -999,9,     -999,9,     -999,9,20230910,0500, -31.1206,  30.4589,-999          ,9,-999          ,9
33RR20230722  ,I05        ,193     ,  1,22         ,22         ,2,20230910,0407, -31.1229,  30.4574,     1753,    111.8,2,  19.0239,2,  35.6064,2,  35.6068,2,    214.7,2,    215.5,2,     2.34,2,     1.42,2,     0.12,2,     0.21,2,     -999,9,     -999,9,     -999,9,   -999.0,9,     -999,9,     -999,9,     -999,9,     -999,9,  19.0103,2,     -999,9,     -999,9,     -999,9,     -999,9,     -999,9,   4.9172,1,   0.0148,1,     -999,9,     -999,9,     -999,9,     -999,9,     -999,9,20230910,0458, -31.1202,  30.4592,-999          ,9,-999          ,9
33RR20230722  ,I05        ,193     ,  1,21         ,21         ,2,20230910,0407, -31.1229,  30.4574,     1753,    137.9,2,  18.5273,2,  35.6148,2,  35.6105,2,    210.9,2,    209.8,2,     2.93,2,     2.41,2,     0.02,2,     0.27,2,     -999,9,     -999,9,     -999,9,   2082.0,2,   2331.1,2,   7.9433,2,    25.04,2,     -999,9,  18.5222,2,     -999,9,     -999,9,     -999,9,     -999,1,     -999,9,   4.6722,1,   0.0120,1,     -999,9,     -999,9,     -999,9,     -999,9,     -999,9,20230910,0457, -31.1198,  30.4595,-999          ,9,-999          ,9
33RR20230722  ,I05        ,193     ,  1,20         ,20         ,2,20230910,0407, -31.1229,  30.4574,     1753,    166.6,2,  17.4073,2,  35.5021,2,  35.4849,2,    175.4,2,    173.8,2,     6.24,2,     7.56,2,     0.00,2,     0.61,2,     -999,9,     -999,9,     -999,9,   2119.9,2,   2324.7,6,   7.8649,2,    25.00,2,     -999,9,  17.4047,2,     -999,9,     -999,9,     -999,9,     -999,9,     -999,9,   4.9087,1,   0.0117,1,     -999,9,     -999,9,     -999,9,     -999,9,     -999,9,20230910,0455, -31.1194,  30.4597,-999          ,9,-999          ,9
33RR20230722  ,I05        ,193     ,  1,19         ,19         ,2,20230910,0407, -31.1229,  30.4574,     1753,    197.4,2,  16.8774,2,  35.5508,2,  35.5543,2,    198.1,3,    200.3,2,     3.90,2,     5.03,2,     0.00,2,     0.46,2,    2.033,2,    1.348,2,   2.0600,2,   2109.7,2,   2328.1,2,   7.8911,2,    25.02,2,     -999,9,  16.8268,2,     -999,9,     -999,9,     -999,9,     -999,1,     -999,9,   4.9396,1,   0.0118,1,     10.1,2,     -999,9,     -999,9,     -999,9,     -999,9,20230910,0453, -31.1190,  30.4600,-999          ,9,-999          ,9
33RR20230722  ,I05        ,193     ,  1,18         ,18         ,2,20230910,0407, -31.1229,  30.4574,     1753,    231.6,2,  15.9483,2,  35.5158,2,  35.5162,2,    211.7,2,    212.0,2,     3.22,2,     5.17,2,     0.00,2,     0.45,2,     -999,9,     -999,9,     -999,9,   -999.0,9,     -999,9,     -999,9,     -999,9,     -999,9,  15.9479,2,     -999,9,     -999,9,     -999,9,     -999,1,     -999,9,   4.6228,1,   0.0121,1,     -999,9,     -999,9,     -999,9,     -999,9,     -999,9,20230910,0452, -31.1185,  30.4603,-999          ,9,-999          ,9
33RR20230722  ,I05        ,193     ,  1,17         ,17         ,2,20230910,0407, -31.1229,  30.4574,     1753,    276.0,2,  14.8556,2,  35.4122,2,  35.4131,2,    214.7,2,    215.4,2,     3.41,2,     6.49,2,     0.00,2,     0.54,2,    2.382,2,    1.508,2,   2.0900,2,   2115.7,2,   2322.2,2,   7.8635,2,    25.04,2,     -999,9,  14.8614,2,     -999,9,     -999,9,     -999,9,     -999,9,     -999,9,   4.9586,1,   0.0119,1,     10.1,2,     -999,9,     -999,9,     -999,9,     -999,9,20230910,0450, -31.1181,  30.4606,-999          ,9,-999          ,9
33RR20230722  ,I05        ,193     ,  1,16         ,16         ,2,20230910,0407, -31.1229,  30.4574,     1753,    331.4,2,  13.6523,2,  35.2837,2,  35.2842,2,    215.7,2,    216.1,2,     3.71,2,     8.42,2,     0.00,2,     0.65,2,     -999,9,     -999,9,     -999,9,   2126.3,2,   2314.2,2,   7.8343,2,    25.03,2,     -999,9,  13.6502,2,     -999,9,     -999,9,     -999,9,     -999,9,     -999,9,   4.9672,1,   0.0114,1,     -999,9,     -999,9,     -999,9,     -999,9,     -999,9,20230910,0448, -31.1176,  30.4610,-999          ,9,-999          ,9
33RR20230722  ,I05        ,193     ,  1,15         ,15         ,2,20230910,0407, -31.1229,  30.4574,     1753,    395.9,2,  12.8015,2,  35.1811,2,  35.1803,2,    221.7,2,    220.1,2,     3.90,2,     9.83,2,     0.00,2,     0.75,2,     -999,9,     -999,9,     -999,9,   2129.3,2,   2309.9,2,   7.8180,2,    24.98,2,     -999,9,  12.8074,2,     -999,9,     -999,9,     -999,9,     -999,9,     -999,9,   4.9296,1,   0.0108,1,     -999,9,     -999,9,     -999,9,     -999,9,     -999,9,20230910,0446, -31.1171,  30.4612,-999          ,9,-999          ,9
33RR20230722  ,I05        ,193     ,  1,14         ,14         ,2,20230910,0407, -31.1229,  30.4574,     1753,    467.2,2,  12.0714,2,  35.0703,2,  35.0703,2,    221.4,2,    221.4,2,     4.39,2,    11.62,2,     0.00,2,     0.87,2,    2.988,2,    1.735,2,   2.0300,2,   2131.2,2,   2306.4,2,   7.8014,2,    25.04,2,     -999,9,  12.0693,2,     -999,9,     -999,9,     -999,9,     -999,9,     -999,9,   4.9667,1,   0.0114,1,     11.9,2,     -999,9,     -999,9,     -999,9,     -999,9,20230910,0443, -31.1165,  30.4617,-999          ,9,-999          ,9
33RR20230722  ,I05        ,193     ,  1,13         ,13         ,2,20230910,0407, -31.1229,  30.4574,     1753,    549.6,2,  10.7644,2,  34.8970,2,  34.8943,2,    201.7,2,    202.4,2,     8.69,2,    16.19,2,     0.00,2,     1.16,2,     -999,9,     -999,9,     -999,9,   2149.7,2,   2301.3,2,   7.7492,6,    25.01,2,     -999,9,  10.7662,2,     -999,9,     -999,9,     -999,9,     -999,9,     -999,9,   4.9236,1,   0.0111,1,     -999,9,     -999,9,     -999,9,     -999,9,     -999,9,20230910,0441, -31.1160,  30.4620,-999          ,9,-999          ,9
33RR20230722  ,I05        ,193     ,  1,12         ,12         ,2,20230910,0407, -31.1229,  30.4574,     1753,    641.0,2,   9.1426,2,  34.7323,2,  34.7321,2,    193.1,2,    193.0,2,    15.13,2,    20.84,2,     0.00,2,     1.47,2,     -999,9,     -999,9,     -999,9,   -999.0,9,     -999,9,     -999,9,     -999,9,     -999,9,   9.1425,2,     -999,9,     -999,9,     -999,9,     -999,9,     -999,9,   4.9683,1,   0.0115,1,     -999,9,     -999,9,     -999,9,     -999,9,     -999,9,20230910,0438, -31.1153,  30.4625,-999          ,9,-999          ,9
33RR20230722  ,I05        ,193     ,  1,11         ,11         ,2,20230910,0407, -31.1229,  30.4574,     1753,    746.9,2,   7.8355,2,  34.6270,2,  34.6272,2,    182.4,2,    183.0,2,    22.94,2,    24.83,2,     0.00,2,     1.75,2,    2.379,2,    1.303,2,   0.8700,2,   2185.0,2,   2299.6,2,   7.6623,2,    25.05,2,     -999,9,   7.8353,2,     -999,9,     -999,9,     -999,9,     -999,9,     -999,9,   4.9695,1,   0.0113,1,     19.3,2,     -999,9,     -999,9,     -999,9,     -999,9,20230910,0436, -31.1147,  30.4629,-999          ,9,-999          ,9
33RR20230722  ,I05        ,193     ,  1,10         ,10         ,2,20230910,0407, -31.1229,  30.4574,     1753,    855.0,2,   6.0447,2,  34.5303,2,  34.5311,2,    171.3,2,    171.5,2,    36.32,2,    29.52,2,     0.00,2,     2.07,2,     -999,9,     -999,9,     -999,9,   2209.2,2,   2305.3,2,   7.6124,2,    25.03,2,     -999,9,   6.0462,2,     -999,9,     -999,9,     -999,9,     -999,9,     -999,9,   4.9709,1,   0.0113,1,     -999,9,     -999,9,     -999,9,     -999,9,     -999,9,20230910,0433, -31.1140,  30.4634,-999          ,9,-999          ,9
33RR20230722  ,I05        ,193     ,  1,9          ,9          ,2,20230910,0407, -31.1229,  30.4574,     1753,    962.3,2,   4.9854,2,  34.5511,2,  34.5518,2,    157.5,2,    157.2,2,    52.62,2,    32.32,2,     0.00,2,     2.29,2,     -999,9,     -999,9,     -999,9,   2233.9,2,   2320.9,2,   7.5804,2,    25.03,2,     -999,9,   4.9783,2,     -999,9,     -999,9,     -999,9,     -999,9,     -999,9,   4.9722,1,   0.0112,1,     -999,9,     -999,9,     -999,9,     -999,9,     -999,9,20230910,0430, -31.1133,  30.4639,-999          ,9,-999          ,9
33RR20230722  ,I05        ,193     ,  1,8          ,8          ,2,20230910,0407, -31.1229,  30.4574,     1753,   1074.0,2,   4.2312,2,  34.5505,2,  34.5488,2,    158.3,2,    158.4,2,    59.75,2,    33.24,2,     0.00,2,     2.35,2,    0.739,2,    0.423,2,   0.2100,2,   -999.0,9,     -999,9,     -999,9,     -999,9,     -999,9,   4.2356,2,     -999,9,     -999,9,     -999,9,     -999,9,     -999,9,   4.9014,1,   0.0118,1,     24.3,2,     -999,9,     -999,9,     -999,9,     -999,9,20230910,0427, -31.1126,  30.4643,-999          ,9,-999          ,9
33RR20230722  ,I05        ,193     ,  1,7          ,7          ,2,20230910,0407, -31.1229,  30.4574,     1753,   1184.2,2,   3.9660,2,  34.6383,2,  34.6380,2,    147.8,2,    147.2,2,    71.36,2,    33.82,2,     0.00,2,     2.40,2,     -999,9,     -999,9,     -999,9,   2257.0,2,   2339.8,2,   7.5642,2,    25.02,2,     -999,9,   3.9659,2,     -999,9,     -999,9,     -999,9,     -999,9,     -999,9,   4.7825,1,   0.0118,1,     -999,9,     -999,9,     -999,9,     -999,9,     -999,9,20230910,0423, -31.1117,  30.4649,-999          ,9,-999          ,9
33RR20230722  ,I05        ,193     ,  1,6          ,6          ,2,20230910,0407, -31.1229,  30.4574,     1753,   1295.8,2,   3.3429,2,  34.6403,2,  34.6417,2,    160.0,2,    160.4,2,    73.02,2,    33.25,2,     0.00,2,     2.34,2,    0.374,2,    0.182,2,   0.0900,2,   2255.9,2,   2340.0,2,   7.5732,2,    25.02,2,     -999,9,   3.3434,2,     -999,9,     -999,9,     -999,9,     -999,9,     -999,9,   4.9724,1,   0.0116,1,     23.8,2,     -999,9,     -999,9,     -999,9,     -999,9,20230910,0420, -31.1110,  30.4654,-999          ,9,-999          ,9
33RR20230722  ,I05        ,193     ,  1,5          ,5          ,2,20230910,0407, -31.1229,  30.4574,     1753,   1416.3,2,   3.0488,2,  34.6599,2,  34.6602,2,    167.9,2,    168.0,2,    73.31,2,    32.59,2,     0.00,2,     2.29,2,     -999,9,     -999,9,     -999,9,   2254.3,2,   2341.3,6,   7.5829,6,    25.04,2,     -999,9,   3.0493,2,     -999,9,     -999,9,     -999,9,     -999,9,     -999,9,   4.5710,1,   0.0118,1,     -999,9,     -999,9,     -999,9,     -999,9,     -999,9,20230910,0417, -31.1102,  30.4659,-999          ,9,-999          ,9
33RR20230722  ,I05        ,193     ,  1,4          ,37         ,2,20230910,0407, -31.1229,  30.4574,     1753,   1538.0,2,   2.8608,2,  34.7037,2,  34.7028,2,    174.1,2,    174.2,2,    74.68,2,    31.69,2,     0.00,2,     2.24,2,    0.187,2,    0.093,2,   0.0600,2,   -999.0,9,     -999,9,     -999,9,     -999,9,     -999,9,   2.8621,2,     -999,9,     -999,9,     -999,9,     -999,9,     -999,9,   4.9716,1,   0.0112,1,     21.7,2,     -999,9,     -999,9,     -999,9,     -999,9,20230910,0414, -31.1095,  30.4664,-999          ,9,-999          ,9
33RR20230722  ,I05        ,193     ,  1,3          ,3          ,2,20230910,0407, -31.1229,  30.4574,     1753,   1654.5,2,   2.7700,2,  34.7275,2,  34.7286,2,    179.2,2,    179.4,2,    74.48,2,    30.95,2,     0.00,2,     2.17,2,     -999,9,     -999,9,     -999,9,   2251.0,2,   2345.1,2,   7.6047,6,    25.01,2,     -999,9,   2.7684,2,     -999,9,     -999,9,     -999,9,     -999,9,     -999,9,   4.9713,1,   0.0122,1,     -999,9,     -999,9,     -999,9,     -999,9,     -999,9,20230910,0411, -31.1087,  30.4669,-999          ,9,-999          ,9
33RR20230722  ,I05        ,193     ,  1,2          ,2          ,2,20230910,0407, -31.1229,  30.4574,     1753,   1709.6,2,   2.7125,2,  34.7389,2,  34.7396,2,    182.3,2,    182.5,2,    73.99,2,    30.55,2,     0.00,2,     2.14,2,    0.096,2,    0.052,2,   0.0000,2,   -999.0,9,     -999,9,     -999,9,     -999,9,     -999,9,   2.7123,2,     -999,9,     -999,9,     -999,9,     -999,9,     -999,9,   3.1533,1,   0.0117,1,     20.4,2,     -999,9,     -999,9,     -999,9,     -999,9,20230910,0409, -31.1082,  30.4672,-999          ,9,-999          ,9
33RR20230722  ,I05        ,193     ,  1,1          ,1          ,2,20230910,0407, -31.1229,  30.4574,     1753,   1762.9,2,   2.6762,2,  34.7459,2,  34.7471,2,    185.0,2,    184.8,2,    73.31,2,    30.28,2,     0.00,2,     2.13,2,    0.083,2,    0.048,2,  -0.0100,2,   2244.8,6,   2345.3,2,   7.6149,2,    25.05,2,     -999,9,   2.6753,2,     -999,9,     -999,9,     -999,9,     -999,9,     -999,9,   0.4532,1,   0.0118,1,     20.3,2,     -999,9,     -999,9,     -999,9,     -999,9,20230910,0407, -31.1077,  30.4675,-999          ,9,-999          ,9