BOTTLE,20240422CCHHYDRO
EXPOCODE,SECT_ID,STNNBR,CASTNO,SAMPNO,BTLNBR,BTLNBR_FLAG_W,DATE,TIME,LATITUDE,LONGITUDE,DEPTH,CTDPRS,CTDPRS_FLAG_W,CTDTMP,CTDTMP_FLAG_W,CTDSAL,CTDSAL_FLAG_W,SALNTY,SALNTY_FLAG_W,CTDOXY,CTDOXY_FLAG_W,OXYGEN,OXYGEN_FLAG_W,SILCAT,SILCAT_FLAG_W,NITRAT,NITRAT_FLAG_W,NITRIT,NITRIT_FLAG_W,PHSPHT,PHSPHT_FLAG_W,CFC-11,CFC-11_FLAG_W,CFC-12,CFC-12_FLAG_W,SF6,SF6_FLAG_W,TCARBN,TCARBN_FLAG_W,ALKALI,ALKALI_FLAG_W,PH_TOT,PH_TOT_FLAG_W,PH_TMP,PH_TMP_FLAG_W,DOC,DOC_FLAG_W,REFTMP,REFTMP_FLAG_W,POC,POC_FLAG_W,PON,PON_FLAG_W,POP,POP_FLAG_W,DOP,DOP_FLAG_W,DELO18,DELO18_FLAG_W,CTDFLUOR,CTDFLUOR_FLAG_W,CTDXMISS,CTDXMISS_FLAG_W,N2O,N2O_FLAG_W,D15N_NO3,D15N_NO3_FLAG_W,D15N_NO2+NO3,D15N_NO2+NO3_FLAG_W,D18O_NO2+NO3,D18O_NO2+NO3_FLAG_W,D18O_NO3,D18O_NO3_FLAG_W,BTL_DATE,BTL_TIME,BTL_LAT,BTL_LON,HPLC,HPLC_FLAG_W,DNA,DNA_FLAG_W
,,,,,,,,,,,METERS,DBAR,,ITS-90,,PSS-78,,PSS-78,,UMOL/KG,,UMOL/KG,,UMOL/KG,,UMOL/KG,,UMOL/KG,,UMOL/KG,,PMOL/KG,,PMOL/KG,,FMOL/KG,,UMOL/KG,,UMOL/KG,,,,DEG C,,UMOL/KG,,ITS-90,,UG/KG,,UG/KG,,UG/L,,UMOL/KG,,/MILLE,,VOLTS,,VOLTS,,NMOL/KG,,/MILLE,,/MILLE,,/MILLE,,/MILLE,,,,,,,,,
33RR20230722  ,I05        ,129     ,  1,36         ,38         ,2,20230825,2003, -33.5577,  57.0419,     5886,      5.1,2,  16.7963,2,  35.6234,2,  35.6228,2,    242.5,2,    242.1,2,     1.37,2,     0.07,2,     0.01,2,     0.13,2,    2.282,2,    1.359,2,   2.2700,2,   2082.9,2,   2336.9,2,   7.9535,2,    25.02,2,     -999,1,  16.7947,2,     -999,9,     -999,9,     -999,9,     -999,9,     -999,1,   4.9747,1,   0.0292,1,      8.1,2,     -999,9,     -999,9,     -999,9,     -999,9,20230825,2228, -33.5577,  57.0419,-999          ,9,-999          ,9
33RR20230722  ,I05        ,129     ,  1,35         ,35         ,2,20230825,2003, -33.5577,  57.0419,     5886,     25.1,2,  16.7877,2,  35.6234,2,  35.6228,2,    242.0,2,    242.3,2,     1.46,2,     0.02,2,     0.01,2,     0.12,2,     -999,9,     -999,9,     -999,9,   2085.2,2,   2337.8,2,   7.9536,2,    25.01,2,     -999,9,  16.7860,2,     -999,9,     -999,9,     -999,9,     -999,9,     -999,1,   4.9745,1,   0.0283,1,     -999,9,     -999,9,     -999,9,     -999,9,     -999,9,20230825,2226, -33.5577,  57.0419,-999          ,9,-999          ,9
33RR20230722  ,I05        ,129     ,  1,34         ,34         ,2,20230825,2003, -33.5577,  57.0419,     5886,     44.3,2,  16.7779,2,  35.6231,2,  35.6226,2,    241.6,2,    241.9,2,     1.37,2,     0.01,2,     0.01,2,     0.12,2,     -999,9,     -999,9,     -999,9,   -999.0,9,     -999,9,     -999,9,     -999,9,     -999,9,  16.7795,2,     -999,9,     -999,9,     -999,9,     -999,9,     -999,1,   4.9744,1,   0.0332,1,     -999,9,     -999,9,     -999,9,     -999,9,     -999,9,20230825,2224, -33.5577,  57.0419,-999          ,9,-999          ,9
33RR20230722  ,I05        ,129     ,  1,33         ,33         ,2,20230825,2003, -33.5577,  57.0419,     5886,     70.9,2,  16.7851,2,  35.6224,2,  35.6222,2,    241.4,2,    241.3,2,     1.37,2,     0.00,2,     0.01,2,     0.12,2,    2.024,2,    1.347,2,   2.1600,2,   2084.2,2,   2336.4,2,   7.9525,2,    25.02,2,     -999,9,  16.7843,2,     -999,9,     -999,9,     -999,9,     -999,9,     -999,1,   4.9583,1,   0.0327,1,      7.9,2,     -999,9,     -999,9,     -999,9,     -999,9,20230825,2223, -33.5577,  57.0419,-999          ,9,-999          ,9
33RR20230722  ,I05        ,129     ,  1,32         ,32         ,2,20230825,2003, -33.5577,  57.0419,     5886,    102.2,2,  16.7805,2,  35.6205,2,  35.6200,2,    240.6,2,    241.3,2,     1.27,2,     0.00,2,     0.01,2,     0.12,2,    2.149,2,    1.365,2,   2.3100,2,   -999.0,9,     -999,9,     -999,9,     -999,9,     -999,9,  16.7778,2,     -999,9,     -999,9,     -999,9,     -999,9,     -999,1,   4.9735,1,   0.0357,1,      8.1,2,     -999,9,     -999,9,     -999,9,     -999,9,20230825,2220, -33.5577,  57.0420,-999          ,9,-999          ,9
33RR20230722  ,I05        ,129     ,  1,31         ,31         ,2,20230825,2003, -33.5577,  57.0419,     5886,    136.1,2,  16.0566,2,  35.5383,2,  35.5405,2,    237.2,2,    237.8,2,     1.66,2,     1.10,2,     0.18,2,     0.21,2,    2.379,2,    1.425,2,   2.3500,2,   2093.3,2,   2330.7,2,   7.9261,2,    25.03,2,     -999,9,  16.0591,2,     -999,9,     -999,9,     -999,9,     -999,9,     -999,1,   4.9720,1,   0.0242,1,      8.5,2,     -999,9,     -999,9,     -999,9,     -999,9,20230825,2218, -33.5577,  57.0419,-999          ,9,-999          ,9
33RR20230722  ,I05        ,129     ,  1,30         ,30         ,2,20230825,2003, -33.5577,  57.0419,     5886,    172.7,2,  14.8619,2,  35.4324,2,  35.4364,2,    228.3,2,    229.6,2,     2.24,2,     4.12,2,     0.03,2,     0.41,2,     -999,9,     -999,9,     -999,9,   2112.7,2,   2325.7,2,   7.8815,6,    25.02,2,     -999,9,  14.8890,2,     -999,9,     -999,9,     -999,9,     -999,9,     -999,1,   4.7825,1,   0.0168,1,     -999,9,     -999,9,     -999,9,     -999,9,     -999,9,20230825,2216, -33.5577,  57.0419,-999          ,9,-999          ,9
33RR20230722  ,I05        ,129     ,  1,29         ,29         ,2,20230825,2003, -33.5577,  57.0419,     5886,    212.7,2,  14.1960,2,  35.3685,2,  35.3677,2,    228.8,2,    229.6,2,     2.73,2,     5.89,2,     0.02,2,     0.50,2,    2.435,2,    1.572,2,   2.3100,2,   2115.1,2,   2321.3,2,   7.8624,6,    25.01,2,     -999,9,  14.1962,2,     -999,9,     -999,9,     -999,9,     -999,9,     -999,1,   4.9689,1,   0.0131,1,      9.8,2,     -999,9,     -999,9,     -999,9,     -999,9,20230825,2214, -33.5577,  57.0419,-999          ,9,-999          ,9
33RR20230722  ,I05        ,129     ,  1,28         ,28         ,2,20230825,2003, -33.5577,  57.0419,     5886,    253.9,2,  13.8798,2,  35.3345,2,  35.3350,2,    231.8,2,    231.7,2,     3.12,2,     6.65,2,     0.01,2,     0.54,2,     -999,5,     -999,5,     -999,5,   -999.0,9,     -999,9,     -999,9,     -999,9,     -999,9,  13.8773,2,     -999,9,     -999,9,     -999,9,     -999,9,     -999,1,   4.9688,1,   0.0119,1,     -999,5,     -999,9,     -999,9,     -999,9,     -999,9,20230825,2212, -33.5577,  57.0420,-999          ,9,-999          ,9
33RR20230722  ,I05        ,129     ,  1,27         ,27         ,2,20230825,2003, -33.5577,  57.0419,     5886,    307.0,2,  13.4771,2,  35.2826,2,  35.2804,2,    235.3,2,    234.5,2,     3.32,2,     7.40,2,     0.00,2,     0.60,2,    2.580,6,    1.598,6,   2.3500,6,   2117.8,2,   2316.9,6,   7.8506,2,    25.00,2,     -999,9,  13.4756,2,     -999,9,     -999,9,     -999,9,     -999,9,     -999,1,   4.9684,1,   0.0116,1,     10.1,6,     -999,9,     -999,9,     -999,9,     -999,9,20230825,2210, -33.5577,  57.0419,-999          ,9,-999          ,9
33RR20230722  ,I05        ,129     ,  1,26         ,26         ,2,20230825,2003, -33.5577,  57.0419,     5886,    368.2,2,  13.1253,2,  35.2317,2,  35.2310,2,    233.5,2,    233.2,2,     3.51,2,     8.26,2,     0.00,2,     0.65,2,     -999,9,     -999,9,     -999,9,   -999.0,9,     -999,9,     -999,9,     -999,9,     -999,9,  13.1227,2,     -999,9,     -999,9,     -999,9,     -999,9,     -999,1,   4.9680,1,   0.0115,1,     -999,9,     -999,9,     -999,9,     -999,9,     -999,9,20230825,2208, -33.5577,  57.0419,-999          ,9,-999          ,9
33RR20230722  ,I05        ,129     ,  1,25         ,25         ,2,20230825,2003, -33.5577,  57.0419,     5886,    438.4,2,  12.6666,2,  35.1609,2,  35.1636,2,    230.8,2,    230.2,2,     3.61,2,     9.50,2,     0.00,2,     0.71,2,    2.894,2,    1.680,2,   2.3400,2,   2125.3,2,   2310.9,2,   7.8250,2,    25.02,2,     -999,9,  12.6749,2,     -999,9,     -999,9,     -999,9,     -999,9,     -999,1,   4.9675,1,   0.0116,1,     10.7,2,     -999,9,     -999,9,     -999,9,     -999,9,20230825,2205, -33.5577,  57.0419,-999          ,9,-999          ,9
33RR20230722  ,I05        ,129     ,  1,24         ,24         ,2,20230825,2003, -33.5577,  57.0419,     5886,    519.1,2,  12.0409,2,  35.0588,2,  35.0559,2,    227.9,2,    227.5,2,     4.20,2,    11.31,2,     0.00,2,     0.84,2,     -999,9,     -999,9,     -999,9,   2130.2,2,   2307.4,2,   7.8063,2,    25.04,2,     -999,9,  12.0397,2,     -999,9,     -999,9,     -999,9,     -999,9,     -999,1,   4.9667,1,   0.0116,1,     -999,9,     -999,9,     -999,9,     -999,9,     -999,9,20230825,2203, -33.5577,  57.0419,-999          ,9,-999          ,9
33RR20230722  ,I05        ,129     ,  1,23         ,23         ,2,20230825,2003, -33.5577,  57.0419,     5886,    608.9,2,  11.2064,2,  34.9321,2,  34.9333,2,    223.5,2,    223.4,2,     4.98,2,    13.50,2,     0.00,2,     0.97,2,    2.751,2,    1.772,2,   1.9300,2,   2137.7,2,   2301.0,2,   7.7815,2,    25.01,2,     -999,9,  11.2194,2,     -999,9,     -999,9,     -999,9,     -999,9,     -999,1,   4.9666,1,   0.0116,1,     11.8,2,     -999,9,     -999,9,     -999,9,     -999,9,20230825,2200, -33.5577,  57.0419,-999          ,9,-999          ,9
33RR20230722  ,I05        ,129     ,  1,22         ,22         ,2,20230825,2003, -33.5577,  57.0419,     5886,    710.7,2,   9.9638,2,  34.7650,2,  34.7626,2,    218.2,2,    218.0,2,     7.03,2,    16.90,2,     0.00,2,     1.19,2,    2.972,2,    1.807,2,   1.6800,2,   2146.4,2,   2294.8,2,   7.7468,2,    25.02,2,     -999,9,   9.9755,2,     -999,9,     -999,9,     -999,9,     -999,9,     -999,1,   4.9671,1,   0.0113,1,     13.2,2,     -999,9,     -999,9,     -999,9,     -999,9,20230825,2157, -33.5577,  57.0419,-999          ,9,-999          ,9
33RR20230722  ,I05        ,129     ,  1,21         ,21         ,2,20230825,2003, -33.5577,  57.0419,     5886,    818.0,2,   8.3600,2,  34.5940,2,  34.5938,2,    210.0,2,    210.3,2,    11.81,2,    21.41,2,     0.00,2,     1.48,2,     -999,9,     -999,9,     -999,9,   2162.2,2,   2289.2,2,   7.6998,2,    25.01,2,     -999,9,   8.3598,2,     -999,9,     -999,9,     -999,9,     -999,9,     -999,1,   4.9682,1,   0.0112,1,     -999,9,     -999,9,     -999,9,     -999,9,     -999,9,20230825,2154, -33.5577,  57.0419,-999          ,9,-999          ,9
33RR20230722  ,I05        ,129     ,  1,20         ,20         ,2,20230825,2003, -33.5577,  57.0419,     5886,    935.6,2,   7.1506,2,  34.4889,2,  34.4881,2,    206.2,2,    207.3,2,    16.98,2,    24.68,2,     0.00,2,     1.72,2,    2.841,2,    1.633,2,   1.2000,2,   2172.1,2,   2288.2,2,   7.6684,2,    25.04,2,     -999,9,   7.1424,2,     -999,9,     -999,9,     -999,9,     -999,9,     -999,1,   4.9692,1,   0.0114,1,     16.7,2,     -999,9,     -999,9,     -999,9,     -999,9,20230825,2151, -33.5577,  57.0419,-999          ,9,-999          ,9
33RR20230722  ,I05        ,129     ,  1,19         ,19         ,2,20230825,2003, -33.5577,  57.0419,     5886,   1052.8,2,   5.4798,2,  34.3774,2,  34.3776,2,    206.6,2,    206.5,2,    25.67,2,    28.35,2,     0.00,2,     1.97,2,    2.538,2,    1.459,2,   1.0300,2,   2190.2,2,   2293.5,2,   7.6310,2,    25.03,2,     -999,9,   5.4717,2,     -999,9,     -999,9,     -999,9,     -999,9,     -999,1,   4.9702,1,   0.0112,1,     18.1,2,     -999,9,     -999,9,     -999,9,     -999,9,20230825,2148, -33.5577,  57.0419,-999          ,9,-999          ,9
33RR20230722  ,I05        ,129     ,  1,18         ,18         ,2,20230825,2003, -33.5577,  57.0419,     5886,   1177.5,2,   4.4957,2,  34.3638,2,  34.3637,2,    200.0,2,    199.9,2,    35.63,2,    30.69,2,     0.00,2,     2.13,2,     -999,9,     -999,9,     -999,9,   2204.4,2,   2300.3,2,   7.6066,2,    25.03,2,     -999,9,   4.4971,2,     -999,9,     -999,9,     -999,9,     -999,9,     -999,1,   4.9712,1,   0.0112,1,     -999,9,     -999,9,     -999,9,     -999,9,     -999,9,20230825,2144, -33.5577,  57.0419,-999          ,9,-999          ,9
33RR20230722  ,I05        ,129     ,  1,17         ,17         ,2,20230825,2003, -33.5577,  57.0419,     5886,   1311.5,2,   3.8881,2,  34.3950,2,  34.3953,2,    190.1,2,    190.7,2,    45.39,2,    32.24,2,     0.00,2,     2.26,2,    1.700,2,    0.937,2,   0.5200,2,   2219.2,2,   2309.0,2,   7.5884,6,    25.03,2,     -999,9,   3.8875,2,     -999,9,     -999,9,     -999,9,     -999,9,     -999,1,   4.9724,1,   0.0111,1,     21.1,2,     -999,9,     -999,9,     -999,9,     -999,9,20230825,2141, -33.5577,  57.0419,-999          ,9,-999          ,9
33RR20230722  ,I05        ,129     ,  1,16         ,16         ,2,20230825,2003, -33.5577,  57.0419,     5886,   1457.2,2,   3.2932,2,  34.4790,2,  34.4787,2,    176.8,2,    178.0,2,    59.05,2,    33.47,2,     0.00,2,     2.33,2,    0.968,2,    0.531,2,   0.2600,2,   2240.1,6,   2321.1,2,   7.5686,2,    25.00,2,     -999,9,   3.2963,2,     -999,9,     -999,9,     -999,9,     -999,9,     -999,1,   4.9736,1,   0.0119,1,     22.1,2,     -999,9,     -999,9,     -999,9,     -999,9,20230825,2137, -33.5577,  57.0419,-999          ,9,-999          ,9
33RR20230722  ,I05        ,129     ,  1,15         ,15         ,2,20230825,2003, -33.5577,  57.0419,     5886,   1611.6,2,   2.9643,2,  34.5675,2,  34.5669,2,    173.8,2,    174.0,2,    66.66,2,    33.17,2,     0.00,2,     2.30,2,     -999,9,     -999,9,     -999,9,   2248.0,2,   2330.0,6,   7.5717,6,    25.03,2,     -999,9,   2.9642,2,     -999,9,     -999,9,     -999,9,     -999,9,     -999,1,   4.9743,1,   0.0113,1,     -999,9,     -999,9,     -999,9,     -999,9,     -999,9,20230825,2134, -33.5577,  57.0419,-999          ,9,-999          ,9
33RR20230722  ,I05        ,129     ,  1,14         ,14         ,2,20230825,2003, -33.5577,  57.0419,     5886,   1777.1,2,   2.7637,2,  34.6263,2,  34.6246,2,    176.0,2,    175.7,2,    71.73,2,    32.48,2,     0.00,2,     2.24,2,    0.340,2,    0.180,2,   0.0500,2,   -999.0,9,     -999,9,     -999,9,     -999,9,     -999,9,   2.7639,2,     -999,9,     -999,9,     -999,9,     -999,9,     -999,1,   4.9744,1,   0.0112,1,     21.4,2,     -999,9,     -999,9,     -999,9,     -999,9,20230825,2130, -33.5577,  57.0419,-999          ,9,-999          ,9
33RR20230722  ,I05        ,129     ,  1,13         ,13         ,2,20230825,2003, -33.5577,  57.0419,     5886,   1970.7,2,   2.5888,2,  34.6872,2,  34.6855,2,    182.1,2,    181.9,2,    74.95,2,    31.39,2,     0.00,2,     2.20,2,    0.194,2,    0.105,2,   0.0200,2,   2246.6,2,   2341.6,2,   7.5979,2,    25.04,2,     -999,9,   2.5904,2,     -999,9,     -999,9,     -999,9,     -999,9,     -999,1,   4.9746,1,   0.0112,1,     20.1,2,     -999,9,     -999,9,     -999,9,     -999,9,20230825,2125, -33.5577,  57.0419,-999          ,9,-999          ,9
33RR20230722  ,I05        ,129     ,  1,12         ,12         ,2,20230825,2003, -33.5577,  57.0419,     5886,   2223.4,2,   2.3379,2,  34.7164,2,  34.7160,2,    184.0,2,    184.0,2,    84.90,2,    31.21,2,     0.00,2,     2.20,2,    0.097,2,    0.056,2,   0.0000,2,   -999.0,9,     -999,9,     -999,9,     -999,9,     -999,9,   2.3351,2,     -999,9,     -999,9,     -999,9,     -999,9,     -999,1,   4.9747,1,   0.0112,1,     19.6,2,     -999,9,     -999,9,     -999,9,     -999,9,20230825,2120, -33.5577,  57.0419,-999          ,9,-999          ,9
33RR20230722  ,I05        ,129     ,  1,11         ,11         ,2,20230825,2003, -33.5577,  57.0419,     5886,   2531.6,2,   2.0772,2,  34.7323,2,  34.7321,2,    184.5,2,    184.2,2,    96.81,2,    31.50,2,     0.00,2,     2.21,2,     -999,9,     -999,9,     -999,9,   2263.4,2,   2363.8,2,   7.6115,2,    25.05,2,     -999,9,   2.0768,2,     -999,9,     -999,9,     -999,9,     -999,9,     -999,1,   4.9753,1,   0.0117,1,     -999,9,     -999,9,     -999,9,     -999,9,     -999,9,20230825,2113, -33.5577,  57.0419,-999          ,9,-999          ,9
33RR20230722  ,I05        ,129     ,  1,10         ,10         ,2,20230825,2003, -33.5577,  57.0419,     5886,   2886.3,2,   1.8467,2,  34.7377,2,  34.7359,2,    188.4,2,    188.4,2,   103.44,2,    31.51,2,     0.00,2,     2.20,2,    0.058,2,    0.035,2,   0.0300,2,   -999.0,9,     -999,9,     -999,9,     -999,9,     -999,9,   1.8466,2,     -999,9,     -999,9,     -999,9,     -999,9,     -999,1,   4.9758,1,   0.0119,1,     18.9,2,     -999,9,     -999,9,     -999,9,     -999,9,20230825,2106, -33.5577,  57.0419,-999          ,9,-999          ,9
33RR20230722  ,I05        ,129     ,  1,9          ,9          ,2,20230825,2003, -33.5577,  57.0419,     5886,   3284.0,2,   1.5194,2,  34.7337,2,  34.7327,2,    200.5,2,    200.5,2,   105.30,2,    31.02,2,     0.00,2,     2.17,2,    0.120,2,    0.067,2,   0.0500,2,   2257.6,2,   2366.4,2,   7.6178,2,    25.00,2,     -999,9,   1.5176,2,     -999,9,     -999,9,     -999,9,     -999,9,     -999,1,   4.9757,1,   0.0112,1,     18.1,2,     -999,9,     -999,9,     -999,9,     -999,9,20230825,2059, -33.5577,  57.0419,-999          ,9,-999          ,9
33RR20230722  ,I05        ,129     ,  1,8          ,8          ,2,20230825,2003, -33.5577,  57.0419,     5886,   3692.9,2,   1.0937,2,  34.7151,2,  34.7142,2,    207.9,2,    208.2,2,   115.45,2,    31.48,2,     0.00,2,     2.21,2,     -999,9,     -999,9,     -999,9,   -999.0,9,     -999,9,     -999,9,     -999,9,     -999,9,   1.0933,2,     -999,9,     -999,9,     -999,9,     -999,9,     -999,1,   4.9761,1,   0.0120,1,     -999,9,     -999,9,     -999,9,     -999,9,     -999,9,20230825,2050, -33.5577,  57.0419,-999          ,9,-999          ,9
33RR20230722  ,I05        ,129     ,  1,7          ,7          ,2,20230825,2003, -33.5577,  57.0419,     5886,   4122.6,2,   0.7642,2,  34.6978,2,  34.6965,2,    213.7,2,    213.9,2,   124.72,2,    31.94,2,     0.00,2,     2.23,2,    0.259,2,    0.138,2,   0.0900,2,   2258.7,2,   2359.4,2,   7.6072,2,    25.05,2,     -999,9,   0.7621,2,     -999,9,     -999,9,     -999,9,     -999,9,     -999,1,   4.8323,1,   0.0112,1,     17.8,2,     -999,9,     -999,9,     -999,9,     -999,9,20230825,2042, -33.5577,  57.0419,-999          ,9,-999          ,9
33RR20230722  ,I05        ,129     ,  1,6          ,6          ,2,20230825,2003, -33.5577,  57.0419,     5886,   4569.0,2,   0.7150,2,  34.6925,2,  34.6924,2,    215.2,2,    215.2,2,   128.04,2,    32.10,2,     0.00,2,     2.24,2,    0.255,2,    0.142,2,   0.0700,2,   2260.9,2,   2360.8,2,   7.6058,2,    25.01,2,     -999,9,   0.7145,2,     -999,9,     -999,9,     -999,9,     -999,9,     -999,1,   4.9269,1,   0.0110,1,     17.5,2,     -999,9,     -999,9,     -999,9,     -999,9,20230825,2033, -33.5577,  57.0419,-999          ,9,-999          ,9
33RR20230722  ,I05        ,129     ,  1,5          ,5          ,2,20230825,2003, -33.5577,  57.0419,     5886,   4776.8,2,   0.6995,2,  34.6907,2,  34.6905,2,    215.7,2,    215.8,2,   129.31,2,    32.17,2,     0.00,2,     2.24,2,     -999,9,     -999,9,     -999,9,   2261.4,2,   2359.3,2,   7.6052,2,    25.02,2,     -999,9,   0.6994,2,     -999,9,     -999,9,     -999,9,     -999,9,     -999,1,   4.9770,1,   0.0112,1,     -999,9,     -999,9,     -999,9,     -999,9,     -999,9,20230825,2028, -33.5577,  57.0419,-999          ,9,-999          ,9
33RR20230722  ,I05        ,129     ,  1,4          ,37         ,2,20230825,2003, -33.5577,  57.0419,     5886,   4984.4,2,   0.7081,2,  34.6898,2,  34.6899,2,    215.8,2,    216.0,2,   130.19,2,    32.19,2,     0.00,2,     2.24,2,    0.271,2,    0.148,2,   0.0700,2,   -999.0,9,     -999,9,     -999,9,     -999,9,     -999,9,   0.7080,2,     -999,9,     -999,9,     -999,9,     -999,9,     -999,1,   4.9773,1,   0.0111,1,     17.3,2,     -999,9,     -999,9,     -999,9,     -999,9,20230825,2024, -33.5577,  57.0419,-999          ,9,-999          ,9
33RR20230722  ,I05        ,129     ,  1,3          ,3          ,2,20230825,2003, -33.5577,  57.0419,     5886,   5329.7,2,   0.7350,2,  34.6884,2,  34.6891,2,    216.0,2,    216.2,2,   130.58,2,    32.24,2,     0.00,2,     2.24,2,    0.276,2,    0.151,2,   0.0700,2,   2262.9,2,   2361.1,2,   7.6056,2,    25.01,2,     -999,9,   0.7343,2,     -999,9,     -999,9,     -999,9,     -999,9,     -999,1,   4.9776,1,   0.0113,1,     17.8,2,     -999,9,     -999,9,     -999,9,     -999,9,20230825,2017, -33.5577,  57.0419,-999          ,9,-999          ,9