BOTTLE,20240422CCHHYDRO
EXPOCODE,SECT_ID,STNNBR,CASTNO,SAMPNO,BTLNBR,BTLNBR_FLAG_W,DATE,TIME,LATITUDE,LONGITUDE,DEPTH,CTDPRS,CTDPRS_FLAG_W,CTDTMP,CTDTMP_FLAG_W,CTDSAL,CTDSAL_FLAG_W,SALNTY,SALNTY_FLAG_W,CTDOXY,CTDOXY_FLAG_W,OXYGEN,OXYGEN_FLAG_W,SILCAT,SILCAT_FLAG_W,NITRAT,NITRAT_FLAG_W,NITRIT,NITRIT_FLAG_W,PHSPHT,PHSPHT_FLAG_W,CFC-11,CFC-11_FLAG_W,CFC-12,CFC-12_FLAG_W,SF6,SF6_FLAG_W,TCARBN,TCARBN_FLAG_W,ALKALI,ALKALI_FLAG_W,PH_TOT,PH_TOT_FLAG_W,PH_TMP,PH_TMP_FLAG_W,DOC,DOC_FLAG_W,REFTMP,REFTMP_FLAG_W,POC,POC_FLAG_W,PON,PON_FLAG_W,POP,POP_FLAG_W,DOP,DOP_FLAG_W,DELO18,DELO18_FLAG_W,CTDFLUOR,CTDFLUOR_FLAG_W,CTDXMISS,CTDXMISS_FLAG_W,N2O,N2O_FLAG_W,D15N_NO3,D15N_NO3_FLAG_W,D15N_NO2+NO3,D15N_NO2+NO3_FLAG_W,D18O_NO2+NO3,D18O_NO2+NO3_FLAG_W,D18O_NO3,D18O_NO3_FLAG_W,BTL_DATE,BTL_TIME,BTL_LAT,BTL_LON,HPLC,HPLC_FLAG_W,DNA,DNA_FLAG_W
,,,,,,,,,,,METERS,DBAR,,ITS-90,,PSS-78,,PSS-78,,UMOL/KG,,UMOL/KG,,UMOL/KG,,UMOL/KG,,UMOL/KG,,UMOL/KG,,PMOL/KG,,PMOL/KG,,FMOL/KG,,UMOL/KG,,UMOL/KG,,,,DEG C,,UMOL/KG,,ITS-90,,UG/KG,,UG/KG,,UG/L,,UMOL/KG,,/MILLE,,VOLTS,,VOLTS,,NMOL/KG,,/MILLE,,/MILLE,,/MILLE,,/MILLE,,,,,,,,,
33RR20230722  ,I05        ,138     ,  1,31         ,31         ,2,20230827,1928, -33.9981,  54.1735,     4151,      6.0,2,  16.0403,2,  35.5092,2,  35.5081,2,    247.4,2,    246.9,2,     2.05,2,     0.82,2,     0.13,2,     0.20,2,    2.112,2,    1.395,2,   2.3700,2,   2082.2,6,   2327.6,2,   7.9385,2,    25.01,2,     -999,1,  16.0387,2,     -999,9,     -999,9,     -999,9,     -999,9,     -999,1,   4.9755,1,   0.0470,1,      8.1,2,     -999,9,     -999,9,     -999,9,     -999,9,20230827,2115, -33.9981,  54.1735,-999          ,9,-999          ,9
33RR20230722  ,I05        ,138     ,  1,30         ,30         ,2,20230827,1928, -33.9981,  54.1735,     4151,     27.1,2,  16.0405,2,  35.5343,2,  35.5324,2,    247.6,2,    246.4,2,     2.05,2,     0.76,2,     0.14,2,     0.19,2,     -999,9,     -999,9,     -999,9,   -999.0,9,     -999,9,     -999,9,     -999,9,     -999,1,  16.0390,2,     -999,9,     -999,9,     -999,9,     -999,9,     -999,1,   4.6386,1,   0.0499,1,     -999,9,     -999,9,     -999,9,     -999,9,     -999,9,20230827,2113, -33.9980,  54.1735,-999          ,9,-999          ,9
33RR20230722  ,I05        ,138     ,  1,29         ,29         ,2,20230827,1928, -33.9981,  54.1735,     4151,     48.8,2,  15.9050,2,  35.5392,2,  35.5379,2,    243.7,2,    243.7,2,     2.05,2,     0.95,2,     0.19,2,     0.20,2,     -999,9,     -999,9,     -999,9,   2084.5,2,   2327.7,2,   7.9336,6,    25.01,2,     -999,1,  15.9027,2,     -999,9,     -999,9,     -999,9,     -999,9,     -999,1,   4.9741,1,   0.0381,1,     -999,9,     -999,9,     -999,9,     -999,9,     -999,9,20230827,2112, -33.9981,  54.1735,-999          ,9,-999          ,9
33RR20230722  ,I05        ,138     ,  1,28         ,28         ,2,20230827,1928, -33.9981,  54.1735,     4151,     75.4,2,  15.8746,2,  35.5373,2,  35.5348,2,    243.2,2,    243.0,2,     2.05,2,     1.00,2,     0.20,2,     0.23,2,     -999,9,     -999,9,     -999,9,   -999.0,9,     -999,9,     -999,9,     -999,9,     -999,1,  15.8731,2,     -999,9,     -999,9,     -999,9,     -999,9,     -999,1,   4.8878,1,   0.0292,1,     -999,9,     -999,9,     -999,9,     -999,9,     -999,9,20230827,2110, -33.9981,  54.1735,-999          ,9,-999          ,9
33RR20230722  ,I05        ,138     ,  1,27         ,27         ,2,20230827,1928, -33.9981,  54.1735,     4151,    105.6,2,  15.8281,2,  35.5334,2,  35.5322,2,    240.3,2,    240.6,2,     1.95,2,     1.44,2,     0.20,2,     0.23,2,    2.110,2,    1.391,2,   2.3300,2,   2093.5,2,   2327.8,6,   7.9265,2,    25.01,2,     -999,1,  15.8261,2,     -999,9,     -999,9,     -999,9,     -999,9,     -999,1,   4.9729,1,   0.0200,1,      8.2,2,     -999,9,     -999,9,     -999,9,     -999,9,20230827,2108, -33.9981,  54.1735,-999          ,9,-999          ,9
33RR20230722  ,I05        ,138     ,  1,26         ,26         ,2,20230827,1928, -33.9981,  54.1735,     4151,    140.1,2,  15.6970,2,  35.5320,2,  35.5308,2,    239.2,2,    239.8,2,     2.34,2,     2.18,2,     0.22,2,     0.27,2,     -999,9,     -999,9,     -999,9,   -999.0,9,     -999,9,     -999,9,     -999,9,     -999,1,  15.6937,2,     -999,9,     -999,9,     -999,9,     -999,9,     -999,1,   4.9721,1,   0.0157,1,     -999,9,     -999,9,     -999,9,     -999,9,     -999,9,20230827,2106, -33.9981,  54.1735,-999          ,9,-999          ,9
33RR20230722  ,I05        ,138     ,  1,25         ,25         ,2,20230827,1928, -33.9981,  54.1735,     4151,    175.2,2,  15.5572,2,  35.5232,2,  35.5204,2,    238.2,2,    239.3,2,     2.63,2,     2.77,2,     0.13,2,     0.29,2,     -999,9,     -999,9,     -999,9,   2093.1,2,   2327.2,2,   7.9135,2,    25.00,2,     -999,1,  15.5499,2,     -999,9,     -999,9,     -999,9,     -999,9,     -999,1,   4.9719,1,   0.0138,1,     -999,9,     -999,9,     -999,9,     -999,9,     -999,9,20230827,2104, -33.9981,  54.1735,-999          ,9,-999          ,9
33RR20230722  ,I05        ,138     ,  1,24         ,24         ,2,20230827,1928, -33.9981,  54.1735,     4151,    214.5,2,  15.1388,2,  35.4638,2,  35.4622,2,    228.7,2,    230.0,2,     2.83,2,     4.40,2,     0.02,2,     0.40,2,    2.233,2,    1.457,2,   2.3200,2,   -999.0,9,     -999,9,     -999,9,     -999,9,     -999,1,  15.1334,2,     -999,9,     -999,9,     -999,9,     -999,9,     -999,1,   4.9696,1,   0.0118,1,      9.0,2,     -999,9,     -999,9,     -999,9,     -999,9,20230827,2102, -33.9980,  54.1735,-999          ,9,-999          ,9
33RR20230722  ,I05        ,138     ,  1,23         ,23         ,2,20230827,1928, -33.9981,  54.1735,     4151,    259.7,2,  14.4241,2,  35.3931,2,  35.3904,2,    227.3,2,    227.9,2,     3.12,2,     5.95,2,     0.01,2,     0.50,2,     -999,9,     -999,9,     -999,9,   2116.3,2,   2320.5,2,   7.8685,2,    25.02,2,     -999,1,  14.4229,2,     -999,9,     -999,9,     -999,9,     -999,9,     -999,1,   4.9688,1,   0.0115,1,     -999,9,     -999,9,     -999,9,     -999,9,     -999,9,20230827,2100, -33.9981,  54.1735,-999          ,9,-999          ,9
33RR20230722  ,I05        ,138     ,  1,22         ,22         ,2,20230827,1928, -33.9981,  54.1735,     4151,    316.4,2,  14.1327,2,  35.3745,2,  35.3727,2,    232.0,2,    232.0,2,     3.22,2,     6.13,2,     0.01,2,     0.51,2,     -999,9,     -999,9,     -999,9,   -999.0,9,     -999,9,     -999,9,     -999,9,     -999,1,  14.1312,2,     -999,9,     -999,9,     -999,9,     -999,9,     -999,1,   4.9691,1,   0.0116,1,     -999,9,     -999,9,     -999,9,     -999,9,     -999,9,20230827,2058, -33.9981,  54.1735,-999          ,9,-999          ,9
33RR20230722  ,I05        ,138     ,  1,21         ,21         ,2,20230827,1928, -33.9981,  54.1735,     4151,    382.8,2,  13.6930,2,  35.3137,2,  35.3139,2,    234.7,2,    234.4,2,     3.22,2,     6.90,2,     0.01,2,     0.56,2,    2.440,2,    1.565,2,   2.2900,2,   2114.2,2,   2317.3,2,   7.8569,6,    25.01,2,     -999,1,  13.6923,2,     -999,9,     -999,9,     -999,9,     -999,9,     -999,1,   4.9686,1,   0.0115,1,      9.7,2,     -999,9,     -999,9,     -999,9,     -999,9,20230827,2055, -33.9980,  54.1735,-999          ,9,-999          ,9
33RR20230722  ,I05        ,138     ,  1,20         ,20         ,2,20230827,1928, -33.9981,  54.1735,     4151,    457.3,2,  13.4023,2,  35.2739,2,  35.2737,2,    235.7,2,    235.5,2,     3.41,2,     7.47,2,     0.01,2,     0.60,2,     -999,9,     -999,9,     -999,9,   -999.0,9,     -999,9,     -999,9,     -999,9,     -999,1,  13.4021,2,     -999,9,     -999,9,     -999,9,     -999,9,     -999,1,   4.9683,1,   0.0117,1,     -999,9,     -999,9,     -999,9,     -999,9,     -999,9,20230827,2053, -33.9980,  54.1735,-999          ,9,-999          ,9
33RR20230722  ,I05        ,138     ,  1,19         ,19         ,2,20230827,1928, -33.9981,  54.1735,     4151,    544.0,2,  12.9104,2,  35.1967,2,  35.1945,2,    231.4,2,    231.0,2,     3.51,2,     8.91,2,     0.00,2,     0.69,2,     -999,9,     -999,9,     -999,9,   2125.1,2,   2312.3,2,   7.8318,2,    25.01,2,     -999,1,  12.9083,2,     -999,9,     -999,9,     -999,9,     -999,9,     -999,1,   4.9675,1,   0.0115,1,     -999,9,     -999,9,     -999,9,     -999,9,     -999,9,20230827,2050, -33.9981,  54.1735,-999          ,9,-999          ,9
33RR20230722  ,I05        ,138     ,  1,18         ,18         ,2,20230827,1928, -33.9981,  54.1735,     4151,    636.2,2,  12.1382,2,  35.0742,2,  35.0750,2,    226.8,2,    226.5,2,     4.20,2,    11.07,2,     0.00,2,     0.82,2,    2.659,2,    1.708,2,   2.0700,2,   -999.0,9,     -999,9,     -999,9,     -999,9,     -999,1,  12.1320,2,     -999,9,     -999,9,     -999,9,     -999,9,     -999,1,   4.9666,1,   0.0115,1,     10.9,2,     -999,9,     -999,9,     -999,9,     -999,9,20230827,2047, -33.9980,  54.1735,-999          ,9,-999          ,9
33RR20230722  ,I05        ,138     ,  1,17         ,17         ,2,20230827,1928, -33.9981,  54.1735,     4151,    739.7,2,  11.0135,2,  34.9060,2,  34.9075,2,    222.7,2,    223.2,2,     5.27,2,    13.96,2,     0.00,2,     1.00,2,     -999,9,     -999,9,     -999,9,   2133.7,2,   2299.2,2,   7.7788,2,    25.00,2,     -999,1,  11.0169,2,     -999,9,     -999,9,     -999,9,     -999,9,     -999,1,   4.9666,1,   0.0114,1,     -999,9,     -999,9,     -999,9,     -999,9,     -999,9,20230827,2044, -33.9980,  54.1735,-999          ,9,-999          ,9
33RR20230722  ,I05        ,138     ,  1,16         ,16         ,2,20230827,1928, -33.9981,  54.1735,     4151,    853.1,2,   9.3354,2,  34.6948,2,  34.6946,2,    215.1,2,    215.1,2,     8.88,2,    18.57,2,     0.00,2,     1.30,2,     -999,9,     -999,9,     -999,9,   -999.0,9,     -999,9,     -999,9,     -999,9,     -999,1,   9.3415,2,     -999,9,     -999,9,     -999,9,     -999,9,     -999,1,   4.9674,1,   0.0114,1,     -999,9,     -999,9,     -999,9,     -999,9,     -999,9,20230827,2041, -33.9980,  54.1735,-999          ,9,-999          ,9
33RR20230722  ,I05        ,138     ,  1,15         ,15         ,2,20230827,1928, -33.9981,  54.1735,     4151,    971.5,2,   7.6892,2,  34.5316,2,  34.5288,2,    208.9,2,    209.2,2,    14.54,2,    23.13,2,     0.00,2,     1.60,2,    2.802,2,    1.673,2,   1.3700,2,   2167.0,2,   2288.7,2,   7.6808,2,    25.02,2,     -999,1,   7.6886,2,     -999,9,     -999,9,     -999,9,     -999,9,     -999,1,   4.9686,1,   0.0111,1,     15.8,2,     -999,9,     -999,9,     -999,9,     -999,9,20230827,2038, -33.9981,  54.1735,-999          ,9,-999          ,9
33RR20230722  ,I05        ,138     ,  1,14         ,14         ,2,20230827,1928, -33.9981,  54.1735,     4151,   1091.5,2,   5.4961,2,  34.3761,2,  34.3760,2,    207.2,2,    207.2,2,    25.18,2,    28.20,2,     0.00,2,     1.95,2,     -999,9,     -999,9,     -999,9,   -999.0,9,     -999,9,     -999,9,     -999,9,     -999,1,   5.4888,2,     -999,9,     -999,9,     -999,9,     -999,9,     -999,1,   4.9698,1,   0.0114,1,     -999,9,     -999,9,     -999,9,     -999,9,     -999,9,20230827,2035, -33.9980,  54.1735,-999          ,9,-999          ,9
33RR20230722  ,I05        ,138     ,  1,13         ,13         ,2,20230827,1928, -33.9981,  54.1735,     4151,   1220.4,2,   4.4990,2,  34.3689,2,  34.3684,2,    199.0,2,    199.4,2,    36.12,2,    30.58,2,     0.00,2,     2.12,2,    2.109,2,    1.183,2,   0.7500,2,   2199.1,2,   2299.3,2,   7.6075,2,    24.99,2,     -999,1,   4.5023,2,     -999,9,     -999,9,     -999,9,     -999,9,     -999,1,   4.9710,1,   0.0113,1,     19.6,2,     -999,9,     -999,9,     -999,9,     -999,9,20230827,2032, -33.9980,  54.1735,-999          ,9,-999          ,9
33RR20230722  ,I05        ,138     ,  1,12         ,12         ,2,20230827,1928, -33.9981,  54.1735,     4151,   1355.5,2,   3.7860,2,  34.4178,2,  34.4177,2,    186.1,2,    186.3,2,    48.81,2,    32.39,2,     0.00,2,     2.26,2,    1.493,2,    0.813,2,   0.4700,2,   -999.0,9,     -999,9,     -999,9,     -999,9,     -999,1,   3.7855,2,     -999,9,     -999,9,     -999,9,     -999,9,     -999,1,   4.9723,1,   0.0111,1,     21.0,2,     -999,9,     -999,9,     -999,9,     -999,9,20230827,2028, -33.9980,  54.1735,-999          ,9,-999          ,9
33RR20230722  ,I05        ,138     ,  1,11         ,11         ,2,20230827,1928, -33.9981,  54.1735,     4151,   1498.2,2,   3.3716,2,  34.4789,2,  34.4752,2,    177.8,2,    178.2,2,    58.08,2,    33.07,2,     0.00,2,     2.30,2,    1.004,2,    0.546,2,   0.3200,2,   2234.1,2,   2320.1,2,   7.5754,2,    25.00,2,     -999,1,   3.3715,2,     -999,9,     -999,9,     -999,9,     -999,9,     -999,1,   4.9732,1,   0.0112,1,     21.5,2,     -999,9,     -999,9,     -999,9,     -999,9,20230827,2025, -33.9980,  54.1735,-999          ,9,-999          ,9
33RR20230722  ,I05        ,138     ,  1,10         ,10         ,2,20230827,1928, -33.9981,  54.1735,     4151,   1643.4,2,   3.0190,2,  34.5562,2,  34.5549,2,    174.7,2,    174.4,2,    67.15,2,    33.00,2,     0.00,2,     2.30,2,    0.592,2,    0.311,2,   0.1800,2,   -999.0,9,     -999,9,     -999,9,     -999,9,     -999,1,   3.0187,2,     -999,9,     -999,9,     -999,9,     -999,9,     -999,1,   4.9737,1,   0.0117,1,     21.6,2,     -999,9,     -999,9,     -999,9,     -999,9,20230827,2021, -33.9980,  54.1735,-999          ,9,-999          ,9
33RR20230722  ,I05        ,138     ,  1,9          ,9          ,2,20230827,1928, -33.9981,  54.1735,     4151,   1791.8,2,   2.8096,2,  34.6074,2,  34.6073,2,    176.3,2,    175.9,2,    72.12,2,    32.51,2,     0.00,2,     2.27,2,    0.402,2,    0.208,2,   0.0900,2,   2246.5,2,   2335.0,2,   7.5808,2,    25.00,2,     -999,1,   2.8091,2,     -999,9,     -999,9,     -999,9,     -999,9,     -999,1,   4.9741,1,   0.0112,1,     21.2,2,     -999,9,     -999,9,     -999,9,     -999,9,20230827,2017, -33.9980,  54.1735,-999          ,9,-999          ,9
33RR20230722  ,I05        ,138     ,  1,8          ,8          ,2,20230827,1928, -33.9981,  54.1735,     4151,   1959.2,2,   2.5995,2,  34.6558,2,  34.6555,2,    180.3,2,    180.1,2,    76.90,2,    31.84,2,     0.00,2,     2.23,2,     -999,9,     -999,9,     -999,9,   -999.0,9,     -999,9,     -999,9,     -999,9,     -999,1,   2.5992,2,     -999,9,     -999,9,     -999,9,     -999,9,     -999,1,   4.9740,1,   0.0117,1,     -999,9,     -999,9,     -999,9,     -999,9,     -999,9,20230827,2013, -33.9980,  54.1735,-999          ,9,-999          ,9
33RR20230722  ,I05        ,138     ,  1,7          ,7          ,2,20230827,1928, -33.9981,  54.1735,     4151,   2136.2,2,   2.4537,2,  34.6852,2,  34.6840,2,    183.4,2,    183.4,2,    80.71,2,    31.42,2,     0.00,2,     2.18,2,    0.192,2,    0.099,2,   0.0800,2,   2247.7,2,   2344.8,2,   7.6018,2,    25.02,2,     -999,1,   2.4532,2,     -999,9,     -999,9,     -999,9,     -999,9,     -999,1,   4.9742,1,   0.0116,1,     19.8,2,     -999,9,     -999,9,     -999,9,     -999,9,20230827,2009, -33.9981,  54.1735,-999          ,9,-999          ,9
33RR20230722  ,I05        ,138     ,  1,6          ,6          ,2,20230827,1928, -33.9981,  54.1735,     4151,   2359.1,2,   2.2504,2,  34.7146,2,  34.7148,2,    188.3,2,    188.5,2,    85.98,2,    30.95,2,     0.00,2,     2.16,2,    0.140,2,    0.073,2,   0.0400,2,   -999.0,9,     -999,9,     -999,9,     -999,9,     -999,1,   2.2497,2,     -999,9,     -999,9,     -999,9,     -999,9,     -999,1,   4.9743,1,   0.0112,1,     19.2,2,     -999,9,     -999,9,     -999,9,     -999,9,20230827,2004, -33.9981,  54.1735,-999          ,9,-999          ,9
33RR20230722  ,I05        ,138     ,  1,5          ,5          ,2,20230827,1928, -33.9981,  54.1735,     4151,   2727.4,2,   1.8850,2,  34.7326,2,  34.7313,2,    196.0,2,    196.2,2,    93.39,2,    30.58,2,     0.00,2,     2.14,2,    0.127,2,    0.064,2,   0.0000,2,   2250.7,2,   2352.7,2,   7.6180,2,    24.99,2,     -999,1,   1.8853,2,     -999,9,     -999,9,     -999,9,     -999,9,     -999,1,   4.9745,1,   0.0117,1,     18.4,2,     -999,9,     -999,9,     -999,9,     -999,9,20230827,1957, -33.9981,  54.1735,-999          ,9,-999          ,9
33RR20230722  ,I05        ,138     ,  1,4          ,37         ,2,20230827,1928, -33.9981,  54.1735,     4151,   3207.2,2,   1.5068,2,  34.7294,2,  34.7290,2,    202.8,2,    203.2,2,   103.64,2,    30.75,2,     0.00,2,     2.13,2,     -999,9,     -999,9,     -999,9,   -999.0,9,     -999,9,     -999,9,     -999,9,     -999,1,   1.5065,2,     -999,9,     -999,9,     -999,9,     -999,9,     -999,1,   4.9750,1,   0.0110,1,     -999,9,     -999,9,     -999,9,     -999,9,     -999,9,20230827,1948, -33.9980,  54.1735,-999          ,9,-999          ,9
33RR20230722  ,I05        ,138     ,  1,3          ,3          ,2,20230827,1928, -33.9981,  54.1735,     4151,   3652.3,2,   1.2265,2,  34.7182,2,  34.7178,2,    207.2,2,    207.7,2,   110.86,2,    31.12,2,     0.00,2,     2.17,2,    0.202,2,    0.106,2,   0.0400,2,   2254.2,2,   2357.7,2,   7.6151,2,    24.99,2,     -999,1,   1.2254,2,     -999,9,     -999,9,     -999,9,     -999,9,     -999,1,   4.9754,1,   0.0110,1,     18.0,2,     -999,9,     -999,9,     -999,9,     -999,9,20230827,1940, -33.9981,  54.1735,-999          ,9,-999          ,9
33RR20230722  ,I05        ,138     ,  1,2          ,2          ,2,20230827,1928, -33.9981,  54.1735,     4151,   3970.1,2,   1.1496,2,  34.7137,2,  34.7134,2,    208.7,2,    208.8,2,   114.57,2,    31.32,2,     0.00,2,     2.18,2,    0.210,2,    0.108,2,   0.0400,2,   -999.0,9,     -999,9,     -999,9,     -999,9,     -999,1,   1.1490,2,     -999,9,     -999,9,     -999,9,     -999,9,     -999,1,   4.9755,1,   0.0112,1,     17.4,2,     -999,9,     -999,9,     -999,9,     -999,9,20230827,1933, -33.9981,  54.1735,-999          ,9,-999          ,9
33RR20230722  ,I05        ,138     ,  1,1          ,1          ,2,20230827,1928, -33.9981,  54.1735,     4151,   4212.7,2,   1.1475,2,  34.7122,2,  34.7125,2,    209.4,2,    209.0,2,   115.25,2,    31.33,2,     0.00,2,     2.18,2,    0.219,2,    0.110,2,   0.0200,2,   2256.1,6,   2358.1,2,   7.6143,2,    25.00,2,     -999,1,   1.1469,2,     -999,9,     -999,9,     -999,9,     -999,9,     -999,1,   0.4047,1,   0.0110,1,     17.6,2,     -999,9,     -999,9,     -999,9,     -999,9,20230827,1928, -33.9981,  54.1735,-999          ,9,-999          ,9