BOTTLE,20240422CCHHYDRO
EXPOCODE,SECT_ID,STNNBR,CASTNO,SAMPNO,BTLNBR,BTLNBR_FLAG_W,DATE,TIME,LATITUDE,LONGITUDE,DEPTH,CTDPRS,CTDPRS_FLAG_W,CTDTMP,CTDTMP_FLAG_W,CTDSAL,CTDSAL_FLAG_W,SALNTY,SALNTY_FLAG_W,CTDOXY,CTDOXY_FLAG_W,OXYGEN,OXYGEN_FLAG_W,SILCAT,SILCAT_FLAG_W,NITRAT,NITRAT_FLAG_W,NITRIT,NITRIT_FLAG_W,PHSPHT,PHSPHT_FLAG_W,CFC-11,CFC-11_FLAG_W,CFC-12,CFC-12_FLAG_W,SF6,SF6_FLAG_W,TCARBN,TCARBN_FLAG_W,ALKALI,ALKALI_FLAG_W,PH_TOT,PH_TOT_FLAG_W,PH_TMP,PH_TMP_FLAG_W,DOC,DOC_FLAG_W,REFTMP,REFTMP_FLAG_W,POC,POC_FLAG_W,PON,PON_FLAG_W,POP,POP_FLAG_W,DOP,DOP_FLAG_W,DELO18,DELO18_FLAG_W,CTDFLUOR,CTDFLUOR_FLAG_W,CTDXMISS,CTDXMISS_FLAG_W,N2O,N2O_FLAG_W,D15N_NO3,D15N_NO3_FLAG_W,D15N_NO2+NO3,D15N_NO2+NO3_FLAG_W,D18O_NO2+NO3,D18O_NO2+NO3_FLAG_W,D18O_NO3,D18O_NO3_FLAG_W,BTL_DATE,BTL_TIME,BTL_LAT,BTL_LON,HPLC,HPLC_FLAG_W,DNA,DNA_FLAG_W
,,,,,,,,,,,METERS,DBAR,,ITS-90,,PSS-78,,PSS-78,,UMOL/KG,,UMOL/KG,,UMOL/KG,,UMOL/KG,,UMOL/KG,,UMOL/KG,,PMOL/KG,,PMOL/KG,,FMOL/KG,,UMOL/KG,,UMOL/KG,,,,DEG C,,UMOL/KG,,ITS-90,,UG/KG,,UG/KG,,UG/L,,UMOL/KG,,/MILLE,,VOLTS,,VOLTS,,NMOL/KG,,/MILLE,,/MILLE,,/MILLE,,/MILLE,,,,,,,,,
33RR20230722  ,I05        ,108     ,  1,36         ,38         ,2,20230819,2037, -34.0015,  67.4124,     4706,      7.9,2,  16.2563,2,  35.4443,2,  35.4450,2,    245.8,2,    246.0,2,     0.88,2,     0.07,2,     0.00,2,     0.14,2,     -999,9,     -999,9,     -999,9,   2079.2,2,   2327.0,2,   7.9463,2,    24.95,2,     -999,1,  16.2552,2,     -999,9,     -999,9,     -999,9,     -999,1,     -999,1,   4.9756,1,   0.0246,1,     -999,9,     -999,9,     -999,9,     -999,9,     -999,9,20230819,2242, -34.0015,  67.4124,-999          ,9,-999          ,9
33RR20230722  ,I05        ,108     ,  1,35         ,35         ,2,20230819,2037, -34.0015,  67.4124,     4706,     28.3,2,  16.2612,2,  35.4455,2,  35.4456,2,    245.8,2,    246.1,2,     0.88,2,     0.01,2,     0.00,2,     0.14,2,     -999,9,     -999,9,     -999,9,   -999.0,9,     -999,9,     -999,9,     -999,9,     -999,1,  16.2610,2,     -999,9,     -999,9,     -999,9,     -999,1,     -999,1,   4.7784,1,   0.0255,1,     -999,9,     -999,9,     -999,9,     -999,9,     -999,9,20230819,2240, -34.0015,  67.4124,-999          ,9,-999          ,9
33RR20230722  ,I05        ,108     ,  1,34         ,34         ,2,20230819,2037, -34.0015,  67.4124,     4706,     52.2,2,  16.2685,2,  35.4486,2,  35.4488,2,    245.5,2,    245.9,2,     0.98,2,     0.00,2,     0.00,2,     0.14,2,     -999,9,     -999,9,     -999,9,   2080.6,2,   2329.3,2,   7.9462,2,    24.96,2,     -999,1,  16.2675,2,     -999,9,     -999,9,     -999,9,     -999,1,     -999,1,   4.8886,1,   0.0290,1,     -999,9,     -999,9,     -999,9,     -999,9,     -999,9,20230819,2238, -34.0015,  67.4124,-999          ,9,-999          ,9
33RR20230722  ,I05        ,108     ,  1,33         ,33         ,2,20230819,2037, -34.0015,  67.4124,     4706,     71.6,2,  15.7936,2,  35.4012,2,  35.4024,2,    245.2,2,    245.4,2,     1.17,2,     0.71,2,     0.11,2,     0.20,2,     -999,9,     -999,9,     -999,9,   2086.1,2,   2325.6,2,   7.9326,2,    24.98,2,     -999,1,  15.7931,2,     -999,9,     -999,9,     -999,9,     -999,9,     -999,1,   4.9744,1,   0.0436,1,     -999,9,     -999,9,     -999,9,     -999,9,     -999,9,20230819,2236, -34.0015,  67.4124,-999          ,9,-999          ,9
33RR20230722  ,I05        ,108     ,  1,32         ,32         ,2,20230819,2037, -34.0015,  67.4124,     4706,     93.5,2,  14.6927,2,  35.3449,2,  35.3498,2,    235.7,2,    237.1,2,     1.76,2,     3.69,2,     0.18,2,     0.39,2,     -999,9,     -999,9,     -999,9,   -999.0,9,     -999,9,     -999,9,     -999,9,     -999,1,  14.7344,3,     -999,9,     -999,9,     -999,9,     -999,1,     -999,1,   4.9713,1,   0.0273,1,     -999,9,     -999,9,     -999,9,     -999,9,     -999,9,20230819,2235, -34.0015,  67.4124,-999          ,9,-999          ,9
33RR20230722  ,I05        ,108     ,  1,31         ,31         ,2,20230819,2037, -34.0015,  67.4124,     4706,    120.1,2,  13.8580,2,  35.3066,2,  35.3049,2,    228.7,2,    230.1,2,     2.63,2,     6.58,2,     0.02,2,     0.53,2,     -999,9,     -999,9,     -999,9,   2117.2,2,   2318.7,2,   7.8539,2,    24.95,2,     -999,1,  13.8556,2,     -999,9,     -999,9,     -999,9,     -999,1,     -999,1,   4.9695,1,   0.0158,1,     -999,9,     -999,9,     -999,9,     -999,9,     -999,9,20230819,2233, -34.0015,  67.4124,-999          ,9,-999          ,9
33RR20230722  ,I05        ,108     ,  1,30         ,30         ,2,20230819,2037, -34.0015,  67.4124,     4706,    149.1,2,  13.5442,2,  35.2706,2,  35.2725,2,    232.7,2,    233.3,2,     2.63,2,     6.93,2,     0.02,2,     0.57,2,     -999,9,     -999,9,     -999,9,   -999.0,9,     -999,9,     -999,9,     -999,9,     -999,1,  13.5424,2,     -999,9,     -999,9,     -999,9,     -999,9,     -999,1,   4.9695,1,   0.0145,1,     -999,9,     -999,9,     -999,9,     -999,9,     -999,9,20230819,2231, -34.0015,  67.4124,-999          ,9,-999          ,9
33RR20230722  ,I05        ,108     ,  1,29         ,29         ,2,20230819,2037, -34.0015,  67.4124,     4706,    180.3,2,  13.2337,2,  35.2347,2,  35.2379,2,    236.4,2,    235.9,2,     2.63,2,     7.39,2,     0.01,2,     0.60,2,     -999,9,     -999,9,     -999,9,   2119.8,2,   2313.6,2,   7.8437,2,    24.95,2,     -999,1,  13.2307,2,     -999,9,     -999,9,     -999,9,     -999,9,     -999,1,   4.9157,1,   0.0130,1,     -999,9,     -999,9,     -999,9,     -999,9,     -999,9,20230819,2229, -34.0015,  67.4124,-999          ,9,-999          ,9
33RR20230722  ,I05        ,108     ,  1,28         ,28         ,2,20230819,2037, -34.0015,  67.4124,     4706,    214.5,2,  13.0449,2,  35.2137,2,  35.2146,2,    236.6,2,    236.4,2,     2.73,2,     7.83,2,     0.00,2,     0.62,2,    4.200,3,    1.872,2,   2.5900,2,   2118.8,2,   2314.4,2,   7.8403,2,    24.97,2,     -999,1,  13.0447,2,     -999,9,     -999,9,     -999,9,     -999,1,     -999,1,   4.9258,1,   0.0113,1,     10.3,2,     -999,9,     -999,9,     -999,9,     -999,9,20230819,2227, -34.0015,  67.4124,-999          ,9,-999          ,9
33RR20230722  ,I05        ,108     ,  1,27         ,27         ,2,20230819,2037, -34.0015,  67.4124,     4706,    248.3,2,  12.8664,2,  35.1893,2,  35.1904,2,    236.9,2,    236.4,2,     2.83,2,     8.20,2,     0.00,2,     0.64,2,     -999,9,     -999,9,     -999,9,   2121.7,2,   2311.9,2,   7.8362,2,    24.95,2,     -999,1,  12.8667,2,     -999,9,     -999,9,     -999,9,     -999,1,     -999,1,   4.9689,1,   0.0115,1,     -999,9,     -999,9,     -999,9,     -999,9,     -999,9,20230819,2226, -34.0015,  67.4124,-999          ,9,-999          ,9
33RR20230722  ,I05        ,108     ,  1,26         ,26         ,2,20230819,2037, -34.0015,  67.4124,     4706,    289.6,2,  12.6868,2,  35.1648,2,  35.1652,2,    237.7,2,    236.7,2,     3.02,2,     8.61,2,     0.00,2,     0.67,2,     -999,9,     -999,9,     -999,9,   2124.5,2,   2310.6,2,   7.8322,2,    24.96,2,     -999,1,  12.6912,2,     -999,9,     -999,9,     -999,9,     -999,9,     -999,1,   4.8891,1,   0.0116,1,     -999,9,     -999,9,     -999,9,     -999,9,     -999,9,20230819,2224, -34.0015,  67.4124,-999          ,9,-999          ,9
33RR20230722  ,I05        ,108     ,  1,25         ,25         ,2,20230819,2037, -34.0015,  67.4124,     4706,    341.4,2,  12.3561,2,  35.1108,2,  35.1118,2,    235.6,2,    235.1,2,     3.22,2,     9.69,2,     0.00,2,     0.72,2,    3.241,2,    1.902,2,   2.3000,2,   2123.4,2,   2308.5,2,   7.8212,6,    24.95,2,     -999,1,  12.3552,2,     -999,9,     -999,9,     -999,9,     -999,9,     -999,1,   4.9680,1,   0.0117,1,     10.8,2,     -999,9,     -999,9,     -999,9,     -999,9,20230819,2221, -34.0015,  67.4124,-999          ,9,-999          ,9
33RR20230722  ,I05        ,108     ,  1,24         ,24         ,2,20230819,2037, -34.0015,  67.4124,     4706,    403.9,2,  12.0101,2,  35.0541,2,  35.0545,2,    237.1,2,    236.2,2,     3.41,2,    10.52,2,     0.00,2,     0.78,2,     -999,9,     -999,9,     -999,9,   -999.0,9,     -999,9,     -999,9,     -999,9,     -999,1,  12.0076,2,     -999,9,     -999,9,     -999,9,     -999,9,     -999,1,   4.9678,1,   0.0115,1,     -999,9,     -999,9,     -999,9,     -999,9,     -999,9,20230819,2219, -34.0015,  67.4124,-999          ,9,-999          ,9
33RR20230722  ,I05        ,108     ,  1,23         ,23         ,2,20230819,2037, -34.0015,  67.4124,     4706,    481.8,2,  11.5367,2,  34.9778,2,  34.9782,2,    236.2,2,    235.6,2,     3.71,2,    11.73,2,     0.00,2,     0.87,2,     -999,9,     -999,9,     -999,9,   2131.2,2,   2302.8,6,   7.8021,6,    24.96,2,     -999,1,  11.5364,2,     -999,9,     -999,9,     -999,9,     -999,9,     -999,1,   4.9673,1,   0.0115,1,     -999,9,     -999,9,     -999,9,     -999,9,     -999,9,20230819,2217, -34.0015,  67.4124,-999          ,9,-999          ,9
33RR20230722  ,I05        ,108     ,  1,22         ,22         ,2,20230819,2037, -34.0015,  67.4124,     4706,    564.2,2,  10.9750,2,  34.8952,2,  34.8938,2,    228.5,2,    228.5,2,     4.49,2,    13.68,2,     0.00,2,     0.98,2,    4.036,3,    1.965,2,   2.1400,2,   -999.0,9,     -999,9,     -999,9,     -999,9,     -999,1,  10.9670,2,     -999,9,     -999,9,     -999,9,     -999,9,     -999,1,   4.9666,1,   0.0116,1,     11.8,2,     -999,9,     -999,9,     -999,9,     -999,9,20230819,2214, -34.0015,  67.4124,-999          ,9,-999          ,9
33RR20230722  ,I05        ,108     ,  1,21         ,21         ,2,20230819,2037, -34.0015,  67.4124,     4706,    659.4,2,  10.1539,2,  34.7838,2,  34.7848,2,    223.4,2,    223.0,2,     5.56,2,    15.99,2,     0.00,2,     1.12,2,     -999,9,     -999,9,     -999,9,   2141.9,2,   2294.1,2,   7.7571,2,    24.96,2,     -999,1,  10.1540,2,     -999,9,     -999,9,     -999,9,     -999,9,     -999,1,   4.9256,1,   0.0114,1,     -999,9,     -999,9,     -999,9,     -999,9,     -999,9,20230819,2211, -34.0015,  67.4124,-999          ,9,-999          ,9
33RR20230722  ,I05        ,108     ,  1,20         ,20         ,2,20230819,2037, -34.0015,  67.4124,     4706,    770.9,2,   8.7454,2,  34.6264,2,  34.6268,2,    211.1,2,    212.3,2,     9.76,2,    20.45,2,     0.00,2,     1.40,2,     -999,9,     -999,9,     -999,9,   2155.7,2,   2290.5,2,   7.7148,6,    24.95,2,     -999,1,   8.7317,2,     -999,9,     -999,9,     -999,9,     -999,9,     -999,1,   4.9677,1,   0.0113,1,     -999,9,     -999,9,     -999,9,     -999,9,     -999,9,20230819,2208, -34.0015,  67.4124,-999          ,9,-999          ,9
33RR20230722  ,I05        ,108     ,  1,19         ,19         ,2,20230819,2037, -34.0015,  67.4124,     4706,    881.0,2,   7.4413,2,  34.5090,2,  34.5154,2,    204.8,2,    205.7,2,    14.74,2,    23.96,2,     0.00,2,     1.63,2,    2.385,2,    1.506,2,   1.0700,2,   2168.2,2,   2287.1,2,   7.6775,2,    24.98,2,     -999,1,   7.4619,2,     -999,9,     -999,9,     -999,9,     -999,9,     -999,1,   4.7454,1,   0.0112,1,     16.2,2,     -999,9,     -999,9,     -999,9,     -999,9,20230819,2205, -34.0015,  67.4124,-999          ,9,-999          ,9
33RR20230722  ,I05        ,108     ,  1,18         ,18         ,2,20230819,2037, -34.0015,  67.4124,     4706,   1006.1,2,   5.7194,2,  34.3890,2,  34.3866,2,    204.4,2,    204.5,2,    24.21,2,    28.17,2,     0.00,2,     1.93,2,     -999,9,     -999,9,     -999,9,   2185.7,2,   2290.5,2,   7.6347,2,    24.95,2,     -999,1,   5.7026,2,     -999,9,     -999,9,     -999,9,     -999,9,     -999,1,   4.8087,1,   0.0113,1,     -999,9,     -999,9,     -999,9,     -999,9,     -999,9,20230819,2202, -34.0015,  67.4124,-999          ,9,-999          ,9
33RR20230722  ,I05        ,108     ,  1,17         ,17         ,2,20230819,2037, -34.0015,  67.4124,     4706,   1134.4,2,   4.4571,2,  34.3528,2,  34.3560,2,    201.2,2,    201.2,2,    34.75,2,    30.86,2,     0.00,2,     2.12,2,    1.736,2,    1.076,2,   0.7000,2,   2204.0,2,   2298.0,2,   7.6079,2,    25.01,2,     -999,1,   4.4529,2,     -999,9,     -999,9,     -999,9,     -999,9,     -999,1,   4.7223,1,   0.0113,1,     19.6,2,     -999,9,     -999,9,     -999,9,     -999,9,20230819,2159, -34.0015,  67.4124,-999          ,9,-999          ,9
33RR20230722  ,I05        ,108     ,  1,16         ,16         ,2,20230819,2037, -34.0015,  67.4124,     4706,   1254.6,2,   3.8138,2,  34.3997,2,  34.4008,2,    187.9,2,    187.7,2,    46.86,2,    32.60,2,     0.00,2,     2.25,2,     -999,9,     -999,9,     -999,9,   -999.0,9,     -999,9,     -999,9,     -999,9,     -999,1,   3.8167,2,     -999,9,     -999,9,     -999,9,     -999,9,     -999,1,   4.9727,1,   0.0114,1,     -999,9,     -999,9,     -999,9,     -999,9,     -999,9,20230819,2155, -34.0015,  67.4124,-999          ,9,-999          ,9
33RR20230722  ,I05        ,108     ,  1,15         ,15         ,2,20230819,2037, -34.0015,  67.4124,     4706,   1392.8,2,   3.3721,2,  34.4632,2,  34.4638,2,    176.5,2,    176.9,2,    57.30,2,    33.62,2,     0.00,2,     2.32,2,    0.826,2,    0.517,2,   0.2600,2,   2237.0,2,   2319.2,2,   7.5720,2,    25.04,2,     -999,1,   3.3695,2,     -999,9,     -999,9,     -999,9,     -999,9,     -999,1,   4.8099,1,   0.0113,1,     22.4,2,     -999,9,     -999,9,     -999,9,     -999,9,20230819,2152, -34.0015,  67.4124,-999          ,9,-999          ,9
33RR20230722  ,I05        ,108     ,  1,14         ,14         ,2,20230819,2037, -34.0015,  67.4124,     4706,   1523.9,2,   3.1121,2,  34.5244,2,  34.5241,2,    169.8,2,    169.6,2,    65.79,2,    33.98,2,     0.00,2,     2.35,2,    0.374,2,    0.267,2,   0.0700,2,   2247.3,2,   2327.0,2,   7.5691,2,    25.01,2,     -999,1,   3.1185,2,     -999,9,     -999,9,     -999,9,     -999,9,     -999,1,   4.9739,1,   0.0119,1,     22.4,2,     -999,9,     -999,9,     -999,9,     -999,9,20230819,2148, -34.0015,  67.4124,-999          ,9,-999          ,9
33RR20230722  ,I05        ,108     ,  1,13         ,13         ,2,20230819,2037, -34.0015,  67.4124,     4706,   1656.5,2,   2.8804,2,  34.5785,2,  34.5802,2,    169.4,2,    169.5,2,    71.06,2,    33.59,2,     0.00,2,     2.32,2,     -999,9,     -999,9,     -999,9,   2251.5,6,   2333.3,2,   7.5690,2,    25.03,2,     -999,1,   2.8792,2,     -999,9,     -999,9,     -999,9,     -999,9,     -999,1,   4.7082,1,   0.0119,1,     -999,9,     -999,9,     -999,9,     -999,9,     -999,9,20230819,2145, -34.0015,  67.4124,-999          ,9,-999          ,9
33RR20230722  ,I05        ,108     ,  1,12         ,12         ,2,20230819,2037, -34.0015,  67.4124,     4706,   1801.8,2,   2.6565,2,  34.6393,2,  34.6405,2,    173.6,2,    173.6,2,    74.76,2,    32.82,2,     0.00,2,     2.29,2,    0.182,2,    0.098,2,   0.0700,2,   2253.0,2,   2338.6,2,   7.5813,2,    25.01,2,     -999,1,   2.6578,2,     -999,9,     -999,9,     -999,9,     -999,9,     -999,1,   4.9741,1,   0.0115,1,     21.3,2,     -999,9,     -999,9,     -999,9,     -999,9,20230819,2141, -34.0015,  67.4124,-999          ,9,-999          ,9
33RR20230722  ,I05        ,108     ,  1,11         ,11         ,2,20230819,2037, -34.0015,  67.4124,     4706,   1976.7,2,   2.4428,2,  34.6858,2,  34.6863,2,    177.9,2,    178.0,2,    81.59,2,    32.09,2,     0.00,2,     2.23,2,     -999,9,     -999,9,     -999,9,   2254.0,2,   2346.8,2,   7.5949,2,    24.97,2,     -999,1,   2.4442,2,     -999,9,     -999,9,     -999,9,     -999,9,     -999,1,   4.9743,1,   0.0113,1,     -999,9,     -999,9,     -999,9,     -999,9,     -999,9,20230819,2137, -34.0015,  67.4124,-999          ,9,-999          ,9
33RR20230722  ,I05        ,108     ,  1,10         ,10         ,2,20230819,2037, -34.0015,  67.4124,     4706,   2210.0,2,   2.2160,2,  34.7144,2,  34.7162,2,    178.9,2,    179.2,2,    93.69,2,    32.12,2,     0.00,2,     2.23,2,    0.061,2,    0.025,2,  -0.0300,2,   -999.0,9,     -999,9,     -999,9,     -999,9,     -999,1,   2.2152,2,     -999,9,     -999,9,     -999,9,     -999,9,     -999,1,   4.9746,1,   0.0111,1,     20.0,2,     -999,9,     -999,9,     -999,9,     -999,9,20230819,2131, -34.0015,  67.4124,-999          ,9,-999          ,9
33RR20230722  ,I05        ,108     ,  1,9          ,9          ,2,20230819,2037, -34.0015,  67.4124,     4706,   2472.2,2,   2.0316,2,  34.7248,2,  34.7256,2,    176.9,2,    176.8,2,   105.11,2,    32.54,2,     0.00,2,     2.29,2,     -999,9,     -999,9,     -999,9,   2274.2,2,   2370.9,2,   7.6064,2,    24.99,2,     -999,1,   2.0309,2,     -999,9,     -999,9,     -999,9,     -999,9,     -999,1,   4.6721,1,   0.0114,1,     -999,9,     -999,9,     -999,9,     -999,9,     -999,9,20230819,2126, -34.0015,  67.4124,-999          ,9,-999          ,9
33RR20230722  ,I05        ,108     ,  1,8          ,8          ,2,20230819,2037, -34.0015,  67.4124,     4706,   2790.7,2,   1.8692,2,  34.7287,2,  34.7290,2,    177.6,2,    177.7,2,   111.94,2,    32.75,2,     0.00,2,     2.29,2,    0.013,2,    0.006,2,  -0.0300,2,   2279.9,2,   2378.1,2,   7.6073,2,    24.95,2,     -999,1,   1.8691,2,     -999,9,     -999,9,     -999,9,     -999,9,     -999,1,   4.9757,1,   0.0122,1,     20.0,2,     -999,9,     -999,9,     -999,9,     -999,9,20230819,2119, -34.0015,  67.4124,-999          ,9,-999          ,9
33RR20230722  ,I05        ,108     ,  1,7          ,7          ,2,20230819,2037, -34.0015,  67.4124,     4706,   3119.0,2,   1.7082,2,  34.7265,2,  34.7270,2,    179.9,2,    179.8,2,   117.31,2,    33.06,2,     0.00,2,     2.33,2,     -999,9,     -999,9,     -999,9,   2284.3,2,   2380.6,2,   7.6077,6,    24.97,2,     -999,1,   1.7081,2,     -999,9,     -999,9,     -999,9,     -999,9,     -999,1,   4.7867,1,   0.0116,1,     -999,9,     -999,9,     -999,9,     -999,9,     -999,9,20230819,2113, -34.0015,  67.4124,-999          ,9,-999          ,9
33RR20230722  ,I05        ,108     ,  1,6          ,6          ,2,20230819,2037, -34.0015,  67.4124,     4706,   3462.7,2,   1.5245,2,  34.7214,2,  34.7217,2,    185.0,2,    185.1,2,   120.82,2,    32.93,2,     0.00,2,     2.31,2,    0.039,2,    0.023,2,   0.0300,2,   -999.0,9,     -999,9,     -999,9,     -999,9,     -999,1,   1.5238,2,     -999,9,     -999,9,     -999,9,     -999,9,     -999,1,   4.9762,1,   0.0118,1,     19.6,2,     -999,9,     -999,9,     -999,9,     -999,9,20230819,2106, -34.0015,  67.4124,-999          ,9,-999          ,9
33RR20230722  ,I05        ,108     ,  1,5          ,5          ,2,20230819,2037, -34.0015,  67.4124,     4706,   3782.9,2,   1.1858,2,  34.7107,2,  34.7117,2,    196.6,2,    196.7,2,   123.75,2,    32.76,2,     0.00,2,     2.27,2,     -999,9,     -999,9,     -999,9,   2272.8,2,   2373.6,2,   7.6088,6,    24.98,2,     -999,1,   1.1847,2,     -999,9,     -999,9,     -999,9,     -999,9,     -999,1,   4.9763,1,   0.0111,1,     -999,9,     -999,9,     -999,9,     -999,9,     -999,9,20230819,2059, -34.0015,  67.4124,-999          ,9,-999          ,9
33RR20230722  ,I05        ,108     ,  1,4          ,37         ,2,20230819,2037, -34.0015,  67.4124,     4706,   4107.0,2,   0.8603,2,  34.6988,2,  34.6999,2,    206.9,2,    207.0,2,   126.58,2,    32.59,2,     0.00,2,     2.28,2,    0.078,2,    0.034,2,  -0.0100,2,   2267.4,2,   2368.1,6,   7.6108,2,    24.99,2,     -999,1,   0.8602,2,     -999,9,     -999,9,     -999,9,     -999,9,     -999,1,   4.6410,1,   0.0111,1,     18.3,2,     -999,9,     -999,9,     -999,9,     -999,9,20230819,2052, -34.0015,  67.4124,-999          ,9,-999          ,9
33RR20230722  ,I05        ,108     ,  1,3          ,3          ,2,20230819,2037, -34.0015,  67.4124,     4706,   4355.9,2,   0.7420,2,  34.6931,2,  34.6932,2,    210.6,2,    210.9,2,   128.73,2,    32.68,2,     0.00,2,     2.26,2,     -999,9,     -999,9,     -999,9,   2265.5,2,   2366.6,2,   7.6131,2,    24.98,2,     -999,1,   0.7417,2,     -999,9,     -999,9,     -999,9,     -999,9,     -999,1,   4.9764,1,   0.0113,1,     -999,9,     -999,9,     -999,9,     -999,9,     -999,9,20230819,2047, -34.0015,  67.4124,-999          ,9,-999          ,9