BOTTLE,20240422CCHHYDRO
EXPOCODE,SECT_ID,STNNBR,CASTNO,SAMPNO,BTLNBR,BTLNBR_FLAG_W,DATE,TIME,LATITUDE,LONGITUDE,DEPTH,CTDPRS,CTDPRS_FLAG_W,CTDTMP,CTDTMP_FLAG_W,CTDSAL,CTDSAL_FLAG_W,SALNTY,SALNTY_FLAG_W,CTDOXY,CTDOXY_FLAG_W,OXYGEN,OXYGEN_FLAG_W,SILCAT,SILCAT_FLAG_W,NITRAT,NITRAT_FLAG_W,NITRIT,NITRIT_FLAG_W,PHSPHT,PHSPHT_FLAG_W,CFC-11,CFC-11_FLAG_W,CFC-12,CFC-12_FLAG_W,SF6,SF6_FLAG_W,TCARBN,TCARBN_FLAG_W,ALKALI,ALKALI_FLAG_W,PH_TOT,PH_TOT_FLAG_W,PH_TMP,PH_TMP_FLAG_W,DOC,DOC_FLAG_W,REFTMP,REFTMP_FLAG_W,POC,POC_FLAG_W,PON,PON_FLAG_W,POP,POP_FLAG_W,DOP,DOP_FLAG_W,DELO18,DELO18_FLAG_W,CTDFLUOR,CTDFLUOR_FLAG_W,CTDXMISS,CTDXMISS_FLAG_W,N2O,N2O_FLAG_W,D15N_NO3,D15N_NO3_FLAG_W,D15N_NO2+NO3,D15N_NO2+NO3_FLAG_W,D18O_NO2+NO3,D18O_NO2+NO3_FLAG_W,D18O_NO3,D18O_NO3_FLAG_W,BTL_DATE,BTL_TIME,BTL_LAT,BTL_LON,HPLC,HPLC_FLAG_W,DNA,DNA_FLAG_W
,,,,,,,,,,,METERS,DBAR,,ITS-90,,PSS-78,,PSS-78,,UMOL/KG,,UMOL/KG,,UMOL/KG,,UMOL/KG,,UMOL/KG,,UMOL/KG,,PMOL/KG,,PMOL/KG,,FMOL/KG,,UMOL/KG,,UMOL/KG,,,,DEG C,,UMOL/KG,,ITS-90,,UG/KG,,UG/KG,,UG/L,,UMOL/KG,,/MILLE,,VOLTS,,VOLTS,,NMOL/KG,,/MILLE,,/MILLE,,/MILLE,,/MILLE,,,,,,,,,
33RR20230722  ,I05        ,151     ,  2,33         ,33         ,2,20230831,0806, -33.3079,  46.8377,     3003,      3.8,2,  19.7953,2,  35.5250,2,  35.5257,2,    231.2,2,    230.9,2,     0.78,2,     0.00,2,     0.01,2,     0.09,2,    1.337,3,    1.083,2,   2.0800,2,   2045.1,6,   2328.9,2,   8.0078,2,    25.00,2,     -999,1,     -999,1,     -999,9,     -999,9,     -999,9,     -999,9,     -999,9,   4.8705,1,   0.0353,1,      7.1,2,     -999,1,     -999,1,     -999,1,     -999,1,20230831,0936, -33.3079,  46.8377,-999          ,9,-999          ,9
33RR20230722  ,I05        ,151     ,  2,32         ,32         ,2,20230831,0806, -33.3079,  46.8377,     3003,     22.9,2,  19.8004,2,  35.5245,2,  35.5271,2,    231.2,2,    230.9,2,     0.68,2,     0.00,2,     0.01,2,     0.09,2,     -999,9,     -999,9,     -999,9,   -999.0,9,     -999,9,     -999,9,     -999,9,     -999,9,     -999,1,     -999,9,     -999,9,     -999,9,     -999,9,     -999,9,   4.9535,1,   0.0378,1,     -999,9,     -999,1,     -999,1,     -999,1,     -999,1,20230831,0934, -33.3079,  46.8377,-999          ,9,-999          ,9
33RR20230722  ,I05        ,151     ,  2,31         ,31         ,2,20230831,0806, -33.3079,  46.8377,     3003,     38.6,2,  19.5775,2,  35.6197,2,  35.6121,2,    228.4,2,    228.1,2,     0.98,2,     0.00,2,     0.01,2,     0.08,2,     -999,9,     -999,9,     -999,9,   2055.7,2,   2333.5,2,   7.9988,2,    25.00,2,     -999,9,     -999,1,     -999,9,     -999,9,     -999,9,     -999,9,     -999,9,   4.6359,1,   0.0432,1,     -999,9,     -999,1,     -999,1,     -999,1,     -999,1,20230831,0932, -33.3079,  46.8377,-999          ,9,-999          ,9
33RR20230722  ,I05        ,151     ,  2,30         ,30         ,2,20230831,0806, -33.3079,  46.8377,     3003,     54.3,2,  19.2743,2,  35.7138,2,  35.7144,2,    227.3,2,    227.6,2,     1.46,2,     0.00,2,     0.01,2,     0.08,2,     -999,9,     -999,9,     -999,9,   -999.0,9,     -999,9,     -999,9,     -999,9,     -999,9,     -999,1,     -999,9,     -999,9,     -999,9,     -999,9,     -999,9,   4.7784,1,   0.0268,1,     -999,9,     -999,1,     -999,1,     -999,1,     -999,1,20230831,0931, -33.3079,  46.8377,-999          ,9,-999          ,9
33RR20230722  ,I05        ,151     ,  2,29         ,29         ,2,20230831,0806, -33.3079,  46.8377,     3003,     74.4,2,  19.0624,2,  35.7056,2,  35.7043,2,    226.1,2,    226.0,2,     1.56,2,     0.05,2,     0.08,2,     0.10,2,    1.439,3,    1.183,2,   2.1200,2,   2064.1,2,   2339.3,2,   7.9847,2,    25.00,2,     -999,9,     -999,1,     -999,9,     -999,9,     -999,9,     -999,9,     -999,9,   4.9688,1,   0.0186,1,      7.5,2,     -999,1,     -999,1,     -999,1,     -999,1,20230831,0929, -33.3079,  46.8377,-999          ,9,-999          ,9
33RR20230722  ,I05        ,151     ,  2,28         ,28         ,2,20230831,0806, -33.3079,  46.8377,     3003,     96.2,2,  18.2886,2,  35.6589,2,  35.6534,2,    220.7,2,    220.9,2,     2.24,2,     0.99,2,     0.18,2,     0.18,2,     -999,9,     -999,9,     -999,9,   -999.0,9,     -999,9,     -999,9,     -999,9,     -999,9,     -999,1,     -999,9,     -999,9,     -999,9,     -999,9,     -999,9,   4.9104,1,   0.0168,1,     -999,9,     -999,1,     -999,1,     -999,1,     -999,1,20230831,0927, -33.3079,  46.8377,-999          ,9,-999          ,9
33RR20230722  ,I05        ,151     ,  2,27         ,27         ,2,20230831,0806, -33.3079,  46.8377,     3003,    118.1,2,  17.5633,2,  35.6177,2,  35.6182,2,    217.6,2,    219.7,2,     2.54,2,     1.82,2,     0.08,2,     0.23,2,     -999,9,     -999,9,     -999,9,   2089.6,2,   2333.3,2,   7.9367,2,    25.02,2,     -999,9,     -999,1,     -999,9,     -999,9,     -999,9,     -999,9,     -999,9,   4.9705,1,   0.0131,1,     -999,9,     -999,1,     -999,1,     -999,1,     -999,1,20230831,0925, -33.3079,  46.8377,-999          ,9,-999          ,9
33RR20230722  ,I05        ,151     ,  2,26         ,26         ,2,20230831,0806, -33.3079,  46.8377,     3003,    141.9,2,  17.3085,2,  35.6154,2,  35.6048,2,    223.0,3,    218.6,2,     2.54,2,     2.22,2,     0.07,2,     0.26,2,    1.760,3,    1.333,2,   2.1500,2,   -999.0,9,     -999,9,     -999,9,     -999,9,     -999,9,     -999,1,     -999,9,     -999,9,     -999,9,     -999,9,     -999,9,   4.9278,1,   0.0127,1,      8.4,2,     -999,1,     -999,1,     -999,1,     -999,1,20230831,0924, -33.3079,  46.8377,-999          ,9,-999          ,9
33RR20230722  ,I05        ,151     ,  2,25         ,25         ,2,20230831,0806, -33.3079,  46.8377,     3003,    168.6,2,  16.9299,2,  35.5836,2,  35.5815,2,    214.8,2,    214.2,2,     2.93,2,     3.16,2,     0.02,2,     0.32,2,     -999,9,     -999,9,     -999,9,   2098.1,2,   2332.2,2,   7.9169,6,    24.99,2,     -999,9,     -999,1,     -999,9,     -999,9,     -999,9,     -999,9,     -999,9,   4.8261,1,   0.0129,1,     -999,9,     -999,1,     -999,1,     -999,1,     -999,1,20230831,0922, -33.3079,  46.8377,-999          ,9,-999          ,9
33RR20230722  ,I05        ,151     ,  2,24         ,24         ,2,20230831,0806, -33.3079,  46.8377,     3003,    200.8,2,  16.3552,2,  35.5302,2,  35.5281,2,    202.1,2,    202.9,2,     3.80,2,     5.18,2,     0.00,2,     0.44,2,     -999,9,     -999,9,     -999,9,   -999.0,9,     -999,9,     -999,9,     -999,9,     -999,9,     -999,1,     -999,9,     -999,9,     -999,9,     -999,9,     -999,9,   4.8393,1,   0.0119,1,     -999,9,     -999,1,     -999,1,     -999,1,     -999,1,20230831,0921, -33.3079,  46.8377,-999          ,9,-999          ,9
33RR20230722  ,I05        ,151     ,  2,23         ,23         ,2,20230831,0806, -33.3079,  46.8377,     3003,    231.4,2,  15.9215,2,  35.5033,2,  35.5022,2,    205.7,2,    205.9,2,     3.71,2,     5.52,2,     0.00,2,     0.48,2,    1.608,3,    1.304,2,   2.0400,2,   2115.8,2,   2328.3,6,   7.8783,2,    25.00,2,     -999,9,     -999,1,     -999,9,     -999,9,     -999,9,     -999,9,     -999,9,   4.7410,1,   0.0118,1,      9.4,2,     -999,1,     -999,1,     -999,1,     -999,1,20230831,0919, -33.3079,  46.8377,-999          ,9,-999          ,9
33RR20230722  ,I05        ,151     ,  2,22         ,22         ,2,20230831,0806, -33.3079,  46.8377,     3003,    261.7,2,  15.4453,2,  35.4695,2,  35.4697,2,    209.7,2,    210.1,2,     3.51,2,     5.77,2,     0.00,2,     0.49,2,     -999,9,     -999,9,     -999,9,   -999.0,9,     -999,9,     -999,9,     -999,9,     -999,9,     -999,1,     -999,9,     -999,9,     -999,9,     -999,9,     -999,9,   4.9662,1,   0.0120,1,     -999,9,     -999,1,     -999,1,     -999,1,     -999,1,20230831,0917, -33.3079,  46.8377,-999          ,9,-999          ,9
33RR20230722  ,I05        ,151     ,  2,21         ,21         ,2,20230831,0806, -33.3079,  46.8377,     3003,    295.1,2,  15.0364,2,  35.4347,2,  35.4334,2,    212.1,2,    212.3,2,     3.32,2,     6.14,2,     0.00,2,     0.52,2,     -999,9,     -999,9,     -999,9,   2118.5,2,   2325.0,2,   7.8658,2,    24.99,2,     -999,9,     -999,1,     -999,9,     -999,9,     -999,9,     -999,9,     -999,9,   4.9677,1,   0.0121,1,     -999,9,     -999,1,     -999,1,     -999,1,     -999,1,20230831,0916, -33.3079,  46.8377,-999          ,9,-999          ,9
33RR20230722  ,I05        ,151     ,  2,20         ,20         ,2,20230831,0806, -33.3079,  46.8377,     3003,    331.9,2,  14.5650,2,  35.3898,2,  35.3892,2,    217.6,2,    218.0,2,     3.12,2,     6.46,2,     0.00,2,     0.57,2,    1.889,3,    1.522,2,   2.2400,2,   -999.0,9,     -999,9,     -999,9,     -999,9,     -999,9,     -999,1,     -999,9,     -999,9,     -999,9,     -999,9,     -999,9,   4.7130,1,   0.0118,1,      9.4,2,     -999,1,     -999,1,     -999,1,     -999,1,20230831,0914, -33.3079,  46.8377,-999          ,9,-999          ,9
33RR20230722  ,I05        ,151     ,  2,19         ,19         ,2,20230831,0806, -33.3079,  46.8377,     3003,    378.6,2,  14.0190,2,  35.3328,2,  35.3327,2,    221.3,2,    221.7,2,     3.22,2,     7.24,2,     0.00,2,     0.58,2,     -999,9,     -999,9,     -999,9,   2122.3,2,   2320.5,2,   7.8514,2,    25.00,2,     -999,9,     -999,1,     -999,9,     -999,9,     -999,9,     -999,9,     -999,9,   4.9677,1,   0.0117,1,     -999,9,     -999,1,     -999,1,     -999,1,     -999,1,20230831,0912, -33.3079,  46.8377,-999          ,9,-999          ,9
33RR20230722  ,I05        ,151     ,  2,18         ,18         ,2,20230831,0806, -33.3079,  46.8377,     3003,    441.8,2,  13.5534,2,  35.2789,2,  35.2779,2,    224.1,2,    224.4,2,     3.51,2,     8.12,2,     0.00,2,     0.62,2,     -999,9,     -999,9,     -999,9,   -999.0,9,     -999,9,     -999,9,     -999,9,     -999,9,     -999,1,     -999,9,     -999,9,     -999,9,     -999,9,     -999,9,   4.6732,1,   0.0114,1,     -999,9,     -999,1,     -999,1,     -999,1,     -999,1,20230831,0910, -33.3079,  46.8377,-999          ,9,-999          ,9
33RR20230722  ,I05        ,151     ,  2,17         ,17         ,2,20230831,0806, -33.3079,  46.8377,     3003,    518.6,2,  12.8651,2,  35.1878,2,  35.1892,2,    226.8,2,    226.5,2,     3.61,2,     9.50,2,     0.00,2,     0.73,2,    1.645,3,    1.545,2,   2.1400,2,   2125.9,2,   2314.5,2,   7.8273,2,    25.00,2,     -999,9,     -999,1,     -999,9,     -999,9,     -999,9,     -999,9,     -999,9,   4.8670,1,   0.0116,1,     10.1,2,     -999,1,     -999,1,     -999,1,     -999,1,20230831,0907, -33.3079,  46.8377,-999          ,9,-999          ,9
33RR20230722  ,I05        ,151     ,  2,16         ,16         ,2,20230831,0806, -33.3079,  46.8377,     3003,    608.6,2,  12.2184,2,  35.0891,2,  35.0933,2,    226.5,2,    226.7,2,     3.90,2,    10.99,2,     0.00,2,     0.82,2,     -999,9,     -999,9,     -999,9,   -999.0,9,     -999,9,     -999,9,     -999,9,     -999,9,     -999,1,     -999,9,     -999,9,     -999,9,     -999,9,     -999,9,   4.9667,1,   0.0115,1,     -999,9,     -999,1,     -999,1,     -999,1,     -999,1,20230831,0905, -33.3079,  46.8377,-999          ,9,-999          ,9
33RR20230722  ,I05        ,151     ,  2,15         ,15         ,2,20230831,0806, -33.3079,  46.8377,     3003,    707.3,2,  11.1318,2,  34.9268,2,  34.9321,2,    221.1,2,    221.0,2,     4.98,2,    13.89,2,     0.00,2,     1.00,2,     -999,9,     -999,9,     -999,9,   2135.8,2,   2302.7,2,   7.7826,2,    25.00,2,     -999,9,     -999,1,     -999,9,     -999,9,     -999,9,     -999,9,     -999,9,   4.9666,1,   0.0116,1,     -999,9,     -999,1,     -999,1,     -999,1,     -999,1,20230831,0902, -33.3078,  46.8377,-999          ,9,-999          ,9
33RR20230722  ,I05        ,151     ,  2,14         ,14         ,2,20230831,0806, -33.3079,  46.8377,     3003,    815.3,2,   9.7510,2,  34.7477,2,  34.7506,2,    216.5,2,    216.1,2,     7.42,2,    17.64,2,     0.00,2,     1.24,2,    3.612,3,    1.735,6,   1.5800,6,   -999.0,9,     -999,9,     -999,9,     -999,9,     -999,9,     -999,1,     -999,9,     -999,9,     -999,9,     -999,9,     -999,9,   4.9671,1,   0.0114,1,     12.6,6,     -999,1,     -999,1,     -999,1,     -999,1,20230831,0859, -33.3079,  46.8377,-999          ,9,-999          ,9
33RR20230722  ,I05        ,151     ,  2,13         ,13         ,2,20230831,0806, -33.3079,  46.8377,     3003,    930.9,2,   8.3488,2,  34.6004,2,  34.6244,4,    209.5,2,    209.0,2,    12.20,2,    21.77,2,     0.00,2,     1.50,2,     -999,9,     -999,9,     -999,9,   2163.0,2,   2291.4,2,   7.7027,2,    25.00,2,     -999,9,     -999,1,     -999,9,     -999,9,     -999,9,     -999,9,     -999,9,   4.7172,1,   0.0114,1,     -999,9,     -999,1,     -999,1,     -999,1,     -999,1,20230831,0856, -33.3079,  46.8377,-999          ,9,-999          ,9
33RR20230722  ,I05        ,151     ,  2,12         ,12         ,2,20230831,0806, -33.3079,  46.8377,     3003,   1049.7,2,   6.8775,2,  34.4766,2,  34.4771,2,    204.7,2,    204.8,2,    18.64,2,    25.68,2,     0.00,2,     1.77,2,    2.129,3,    1.518,2,   1.1600,2,   -999.0,9,     -999,9,     -999,9,     -999,9,     -999,9,     -999,1,     -999,9,     -999,9,     -999,9,     -999,9,     -999,9,   4.9692,1,   0.0113,1,     16.0,2,     -999,1,     -999,1,     -999,1,     -999,1,20230831,0853, -33.3079,  46.8377,-999          ,9,-999          ,9
33RR20230722  ,I05        ,151     ,  2,11         ,11         ,2,20230831,0806, -33.3079,  46.8377,     3003,   1175.6,2,   5.2957,2,  34.3892,2,  34.3896,2,    201.2,2,    201.8,2,    28.89,2,    29.34,2,     0.00,2,     2.00,2,    2.187,3,    1.236,2,   0.9100,2,   2193.5,2,   2295.5,2,   7.6259,2,    24.98,2,     -999,9,     -999,1,     -999,9,     -999,9,     -999,9,     -999,9,     -999,9,   4.9088,1,   0.0113,1,     17.7,2,     -999,1,     -999,1,     -999,1,     -999,1,20230831,0849, -33.3079,  46.8377,-999          ,9,-999          ,9
33RR20230722  ,I05        ,151     ,  2,10         ,10         ,2,20230831,0806, -33.3079,  46.8377,     3003,   1308.9,2,   4.3578,2,  34.3966,2,  34.3965,2,    191.9,2,    192.6,2,    40.32,2,    31.73,2,     0.00,2,     2.17,2,    1.748,3,    0.966,2,   0.6500,2,   -999.0,9,     -999,9,     -999,9,     -999,9,     -999,9,     -999,1,     -999,9,     -999,9,     -999,9,     -999,9,     -999,9,   4.9714,1,   0.0111,1,     19.1,2,     -999,1,     -999,1,     -999,1,     -999,1,20230831,0846, -33.3079,  46.8377,-999          ,9,-999          ,9
33RR20230722  ,I05        ,151     ,  2,9          ,9          ,2,20230831,0806, -33.3079,  46.8377,     3003,   1451.3,2,   3.6721,2,  34.4586,2,  34.4587,2,    180.4,2,    180.6,2,    53.30,2,    33.19,2,     0.00,2,     2.29,2,    1.306,3,    0.680,2,   0.3900,2,   2230.1,2,   2317.5,2,   7.5821,2,    24.97,2,     -999,9,     -999,1,     -999,9,     -999,9,     -999,9,     -999,9,     -999,9,   4.9564,1,   0.0114,1,     20.6,2,     -999,1,     -999,1,     -999,1,     -999,1,20230831,0842, -33.3079,  46.8377,-999          ,9,-999          ,9
33RR20230722  ,I05        ,151     ,  2,8          ,8          ,2,20230831,0806, -33.3079,  46.8377,     3003,   1596.2,2,   3.3420,2,  34.5235,2,  34.5237,2,    172.6,2,    172.1,2,    63.74,2,    33.68,2,     0.00,2,     2.33,2,     -999,9,     -999,9,     -999,9,   2242.8,2,   2327.9,2,   7.5784,2,    25.00,2,     -999,9,     -999,1,     -999,9,     -999,9,     -999,9,     -999,9,     -999,9,   4.9734,1,   0.0112,1,     -999,9,     -999,1,     -999,1,     -999,1,     -999,1,20230831,0838, -33.3079,  46.8377,-999          ,9,-999          ,9
33RR20230722  ,I05        ,151     ,  2,7          ,7          ,2,20230831,0806, -33.3079,  46.8377,     3003,   1753.8,2,   3.0168,2,  34.5911,2,  34.5916,2,    175.5,2,    175.5,2,    67.64,2,    33.04,2,     0.00,2,     2.29,2,    0.312,3,    0.279,2,   0.1300,2,   2245.0,2,   2333.2,2,   7.5825,6,    24.97,2,     -999,9,     -999,1,     -999,9,     -999,9,     -999,9,     -999,9,     -999,9,   4.9235,1,   0.0118,1,     20.1,2,     -999,1,     -999,1,     -999,1,     -999,1,20230831,0835, -33.3079,  46.8377,-999          ,9,-999          ,9
33RR20230722  ,I05        ,151     ,  2,6          ,6          ,2,20230831,0806, -33.3079,  46.8377,     3003,   1935.7,2,   2.7219,2,  34.6495,2,  34.6510,2,    178.3,2,    178.3,2,    73.88,2,    32.49,2,     0.00,2,     2.24,2,    0.035,3,    0.128,2,   0.0700,2,   -999.0,9,     -999,9,     -999,9,     -999,9,     -999,9,     -999,1,     -999,9,     -999,9,     -999,9,     -999,9,     -999,9,   4.9736,1,   0.0112,1,     19.1,2,     -999,1,     -999,1,     -999,1,     -999,1,20230831,0831, -33.3079,  46.8377,-999          ,9,-999          ,9
33RR20230722  ,I05        ,151     ,  2,5          ,5          ,2,20230831,0806, -33.3079,  46.8377,     3003,   2160.5,2,   2.6118,2,  34.7236,2,  34.7235,2,    188.5,2,    188.7,2,    71.63,2,    30.58,2,     0.00,2,     2.10,2,   -0.016,4,    0.060,2,   0.0600,2,   2240.1,2,   2342.0,2,   7.6156,2,    24.99,2,     -999,9,     -999,1,     -999,9,     -999,9,     -999,9,     -999,9,     -999,9,   4.9732,1,   0.0113,1,     18.5,2,     -999,1,     -999,1,     -999,1,     -999,1,20230831,0826, -33.3079,  46.8377,-999          ,9,-999          ,9
33RR20230722  ,I05        ,151     ,  2,4          ,37         ,2,20230831,0806, -33.3079,  46.8377,     3003,   2434.5,2,   2.4528,2,  34.7760,3,  34.7728,2,    201.1,2,    201.2,2,    70.65,2,    28.95,2,     0.00,2,     1.98,2,     -999,9,     -999,9,     -999,9,   -999.0,9,     -999,9,     -999,9,     -999,9,     -999,9,     -999,1,     -999,9,     -999,9,     -999,9,     -999,9,     -999,9,   4.8054,1,   0.0116,1,     -999,9,     -999,1,     -999,1,     -999,1,     -999,1,20230831,0820, -33.3079,  46.8377,-999          ,9,-999          ,9
33RR20230722  ,I05        ,151     ,  2,3          ,3          ,2,20230831,0806, -33.3079,  46.8377,     3003,   2694.4,2,   2.2907,2,  34.7922,2,  34.7919,2,    208.3,2,    208.8,2,    71.24,2,    28.19,2,     0.00,2,     1.94,2,   -0.018,4,    0.039,2,   0.0000,2,   2229.3,2,   2344.9,2,   7.6514,2,    25.00,2,     -999,9,     -999,1,     -999,9,     -999,9,     -999,9,     -999,9,     -999,9,   4.9727,1,   0.0117,1,     16.5,2,     -999,1,     -999,1,     -999,1,     -999,1,20230831,0815, -33.3079,  46.8377,-999          ,9,-999          ,9
33RR20230722  ,I05        ,151     ,  2,2          ,2          ,2,20230831,0806, -33.3079,  46.8377,     3003,   2883.9,2,   2.1508,2,  34.7874,2,  34.7870,2,    209.2,2,    209.2,2,    75.92,2,    28.46,2,     0.00,2,     1.95,2,   -0.089,4,    0.038,2,   0.0400,2,   -999.0,9,     -999,9,     -999,9,     -999,9,     -999,9,     -999,1,     -999,9,     -999,9,     -999,9,     -999,9,     -999,9,   4.9195,1,   0.0118,1,     16.1,2,     -999,1,     -999,1,     -999,1,     -999,1,20230831,0810, -33.3079,  46.8377,-999          ,9,-999          ,9
33RR20230722  ,I05        ,151     ,  2,1          ,1          ,2,20230831,0806, -33.3079,  46.8377,     3003,   3034.7,2,   1.7772,2,  34.7566,2,  34.7565,2,    204.9,2,    204.7,2,    92.42,2,    30.05,2,     0.00,2,     2.08,2,   -0.066,4,    0.027,2,   0.0300,2,   2247.2,2,   2356.1,2,   7.6340,2,    24.98,2,     -999,9,     -999,1,     -999,9,     -999,9,     -999,9,     -999,9,     -999,9,   0.5719,1,   0.0112,1,     17.1,2,     -999,1,     -999,1,     -999,1,     -999,1,20230831,0806, -33.3079,  46.8377,-999          ,9,-999          ,9