BOTTLE,20240422CCHHYDRO
EXPOCODE,SECT_ID,STNNBR,CASTNO,SAMPNO,BTLNBR,BTLNBR_FLAG_W,DATE,TIME,LATITUDE,LONGITUDE,DEPTH,CTDPRS,CTDPRS_FLAG_W,CTDTMP,CTDTMP_FLAG_W,CTDSAL,CTDSAL_FLAG_W,SALNTY,SALNTY_FLAG_W,CTDOXY,CTDOXY_FLAG_W,OXYGEN,OXYGEN_FLAG_W,SILCAT,SILCAT_FLAG_W,NITRAT,NITRAT_FLAG_W,NITRIT,NITRIT_FLAG_W,PHSPHT,PHSPHT_FLAG_W,CFC-11,CFC-11_FLAG_W,CFC-12,CFC-12_FLAG_W,SF6,SF6_FLAG_W,TCARBN,TCARBN_FLAG_W,ALKALI,ALKALI_FLAG_W,PH_TOT,PH_TOT_FLAG_W,PH_TMP,PH_TMP_FLAG_W,DOC,DOC_FLAG_W,REFTMP,REFTMP_FLAG_W,POC,POC_FLAG_W,PON,PON_FLAG_W,POP,POP_FLAG_W,DOP,DOP_FLAG_W,DELO18,DELO18_FLAG_W,CTDFLUOR,CTDFLUOR_FLAG_W,CTDXMISS,CTDXMISS_FLAG_W,N2O,N2O_FLAG_W,D15N_NO3,D15N_NO3_FLAG_W,D15N_NO2+NO3,D15N_NO2+NO3_FLAG_W,D18O_NO2+NO3,D18O_NO2+NO3_FLAG_W,D18O_NO3,D18O_NO3_FLAG_W,BTL_DATE,BTL_TIME,BTL_LAT,BTL_LON,HPLC,HPLC_FLAG_W,DNA,DNA_FLAG_W
,,,,,,,,,,,METERS,DBAR,,ITS-90,,PSS-78,,PSS-78,,UMOL/KG,,UMOL/KG,,UMOL/KG,,UMOL/KG,,UMOL/KG,,UMOL/KG,,PMOL/KG,,PMOL/KG,,FMOL/KG,,UMOL/KG,,UMOL/KG,,,,DEG C,,UMOL/KG,,ITS-90,,UG/KG,,UG/KG,,UG/L,,UMOL/KG,,/MILLE,,VOLTS,,VOLTS,,NMOL/KG,,/MILLE,,/MILLE,,/MILLE,,/MILLE,,,,,,,,,
33RR20230722  ,I05        ,169     ,  2,36         ,38         ,2,20230904,1159, -32.9989,  38.1046,     5090,      4.2,2,  18.7267,2,  35.6863,2,  35.6873,2,    237.0,2,    236.0,2,     1.85,2,     0.00,2,     0.00,2,     0.11,2,     -999,9,     -999,9,     -999,9,   2071.2,6,   2335.7,2,   7.9761,6,    25.00,2,     -999,1,  18.7261,2,     -999,9,     -999,9,     -999,9,     -999,9,     -999,9,   4.5820,1,   0.0203,1,     -999,9,     -999,9,     -999,9,     -999,9,     -999,9,20230904,1407, -32.9989,  38.1046,-999          ,9,-999          ,9
33RR20230722  ,I05        ,169     ,  2,35         ,35         ,2,20230904,1159, -32.9989,  38.1046,     5090,     31.7,2,  18.2306,2,  35.6806,2,  35.6812,2,    240.6,2,    239.1,2,     1.85,2,     0.00,2,     0.00,2,     0.11,2,     -999,9,     -999,9,     -999,9,   -999.0,9,     -999,9,     -999,9,     -999,9,     -999,9,  18.2284,2,     -999,9,     -999,9,     -999,9,     -999,9,     -999,9,   4.9754,1,   0.0285,1,     -999,9,     -999,9,     -999,9,     -999,9,     -999,9,20230904,1405, -32.9989,  38.1046,-999          ,9,-999          ,9
33RR20230722  ,I05        ,169     ,  2,34         ,34         ,2,20230904,1159, -32.9989,  38.1046,     5090,     57.0,2,  17.7237,2,  35.6725,2,  35.6741,2,    242.7,2,    241.1,2,     1.95,2,     0.00,2,     0.04,2,     0.13,2,     -999,9,     -999,9,     -999,9,   2079.2,2,   2337.0,2,   7.9682,2,    25.00,2,     -999,9,  17.7236,2,     -999,9,     -999,9,     -999,9,     -999,9,     -999,9,   4.9750,1,   0.0500,1,     -999,9,     -999,9,     -999,9,     -999,9,     -999,9,20230904,1403, -32.9989,  38.1046,-999          ,9,-999          ,9
33RR20230722  ,I05        ,169     ,  2,33         ,33         ,2,20230904,1159, -32.9989,  38.1046,     5090,     82.5,2,  17.5092,2,  35.6632,2,  35.6650,2,    235.2,2,    233.9,2,     2.05,2,     0.41,2,     0.28,2,     0.17,2,     -999,9,     -999,9,     -999,9,   2079.0,2,   2334.2,2,   7.9561,2,    24.99,2,     -999,9,  17.5137,2,     -999,9,     -999,9,     -999,9,     -999,9,     -999,9,   4.9732,1,   0.0387,1,     -999,9,     -999,9,     -999,9,     -999,9,     -999,9,20230904,1401, -32.9989,  38.1046,-999          ,9,-999          ,9
33RR20230722  ,I05        ,169     ,  2,32         ,32         ,2,20230904,1159, -32.9989,  38.1046,     5090,    108.5,2,  17.3985,2,  35.6535,2,  35.6544,2,    232.6,2,    232.0,2,     2.05,2,     0.95,2,     0.22,2,     0.20,2,     -999,9,     -999,9,     -999,9,   2080.8,2,   2334.3,2,   7.9509,2,    24.98,2,     -999,9,  17.3957,2,     -999,9,     -999,9,     -999,9,     -999,9,     -999,9,   4.9724,1,   0.0240,1,     -999,9,     -999,9,     -999,9,     -999,9,     -999,9,20230904,1359, -32.9989,  38.1046,-999          ,9,-999          ,9
33RR20230722  ,I05        ,169     ,  2,31         ,31         ,2,20230904,1159, -32.9989,  38.1046,     5090,    138.5,2,  17.1588,2,  35.6254,2,  35.6253,2,    224.7,2,    225.0,2,     2.44,2,     2.30,2,     0.02,2,     0.25,2,     -999,9,     -999,9,     -999,9,   2088.5,2,   2333.2,2,   7.9354,2,    25.01,2,     -999,9,  17.1545,2,     -999,9,     -999,9,     -999,9,     -999,9,     -999,9,   4.8523,1,   0.0137,1,     -999,9,     -999,9,     -999,9,     -999,9,     -999,9,20230904,1357, -32.9989,  38.1046,-999          ,9,-999          ,9
33RR20230722  ,I05        ,169     ,  2,30         ,30         ,2,20230904,1159, -32.9989,  38.1046,     5090,    172.4,2,  16.5097,2,  35.5583,2,  35.5663,2,    209.4,2,    211.5,2,     3.02,2,     4.43,2,     0.01,2,     0.39,2,     -999,9,     -999,9,     -999,9,   2101.5,2,   2326.2,2,   7.8990,6,    24.99,2,     -999,9,  16.5104,2,     -999,9,     -999,9,     -999,9,     -999,9,     -999,9,   4.7790,1,   0.0117,1,     -999,9,     -999,9,     -999,9,     -999,9,     -999,9,20230904,1355, -32.9989,  38.1046,-999          ,9,-999          ,9
33RR20230722  ,I05        ,169     ,  2,29         ,29         ,2,20230904,1159, -32.9989,  38.1046,     5090,    207.1,2,  15.9166,2,  35.5123,2,  35.5129,2,    210.7,2,    212.5,2,     3.12,2,     5.00,2,     0.00,2,     0.44,2,    2.226,2,    1.414,2,   2.1200,2,   2110.0,2,   2325.8,2,   7.8838,2,    25.00,2,     -999,9,  15.9129,2,     -999,9,     -999,9,     -999,9,     -999,9,     -999,9,   4.9682,1,   0.0122,1,      9.8,2,     -999,9,     -999,9,     -999,9,     -999,9,20230904,1353, -32.9989,  38.1047,-999          ,9,-999          ,9
33RR20230722  ,I05        ,169     ,  2,28         ,28         ,2,20230904,1159, -32.9989,  38.1046,     5090,    245.6,2,  15.3797,2,  35.4653,2,  35.4653,2,    211.4,2,    213.1,2,     3.32,2,     5.86,2,     0.00,2,     0.49,2,     -999,9,     -999,9,     -999,9,   -999.0,9,     -999,9,     -999,9,     -999,9,     -999,9,  15.3758,2,     -999,9,     -999,9,     -999,9,     -999,9,     -999,9,   4.6105,1,   0.0115,1,     -999,9,     -999,9,     -999,9,     -999,9,     -999,9,20230904,1351, -32.9989,  38.1046,-999          ,9,-999          ,9
33RR20230722  ,I05        ,169     ,  2,27         ,27         ,2,20230904,1159, -32.9989,  38.1046,     5090,    293.4,2,  14.9770,2,  35.4258,2,  35.4275,2,    213.6,2,    214.9,2,     3.32,2,     6.31,2,     0.00,2,     0.53,2,     -999,9,     -999,9,     -999,9,   2116.1,2,   2322.0,2,   7.8655,2,    24.98,2,     -999,9,  14.9763,2,     -999,9,     -999,9,     -999,9,     -999,9,     -999,9,   4.9064,1,   0.0115,1,     -999,9,     -999,9,     -999,9,     -999,9,     -999,9,20230904,1349, -32.9989,  38.1047,-999          ,9,-999          ,9
33RR20230722  ,I05        ,169     ,  2,26         ,26         ,2,20230904,1159, -32.9989,  38.1046,     5090,    351.0,2,  14.2971,2,  35.3557,2,  35.3563,2,    215.6,2,    216.4,2,     3.41,2,     7.34,2,     0.00,2,     0.58,2,     -999,9,     -999,9,     -999,9,   2122.2,2,   2319.5,2,   7.8496,2,    24.99,2,     -999,9,  14.2958,2,     -999,9,     -999,9,     -999,9,     -999,9,     -999,9,   4.7854,1,   0.0117,1,     -999,9,     -999,9,     -999,9,     -999,9,     -999,9,20230904,1346, -32.9989,  38.1047,-999          ,9,-999          ,9
33RR20230722  ,I05        ,169     ,  2,25         ,25         ,2,20230904,1159, -32.9989,  38.1046,     5090,    418.3,2,  13.5981,2,  35.2773,2,  35.2783,2,    218.0,2,    218.3,2,     3.61,2,     8.44,2,     0.00,2,     0.65,2,    2.584,2,    1.607,2,   2.0700,2,   2127.2,2,   2314.8,2,   7.8341,2,    25.02,2,     -999,9,  13.5959,2,     -999,9,     -999,9,     -999,9,     -999,9,     -999,9,   4.9671,1,   0.0115,1,     11.2,2,     -999,9,     -999,9,     -999,9,     -999,9,20230904,1344, -32.9989,  38.1046,-999          ,9,-999          ,9
33RR20230722  ,I05        ,169     ,  2,24         ,24         ,2,20230904,1159, -32.9989,  38.1046,     5090,    494.2,2,  12.8996,2,  35.1890,2,  35.1898,2,    222.5,2,    222.4,2,     3.90,2,     9.78,2,     0.00,2,     0.73,2,     -999,9,     -999,9,     -999,9,   -999.0,9,     -999,9,     -999,9,     -999,9,     -999,9,  12.8957,2,     -999,9,     -999,9,     -999,9,     -999,9,     -999,9,   4.7806,1,   0.0113,1,     -999,9,     -999,9,     -999,9,     -999,9,     -999,9,20230904,1342, -32.9989,  38.1046,-999          ,9,-999          ,9
33RR20230722  ,I05        ,169     ,  2,23         ,23         ,2,20230904,1159, -32.9989,  38.1046,     5090,    578.7,2,  12.1490,2,  35.0776,2,  35.0799,2,    222.6,2,    222.7,2,     4.29,2,    11.47,2,     0.00,2,     0.84,2,     -999,9,     -999,9,     -999,9,   2134.3,2,   2305.3,2,   7.8042,2,    25.01,2,     -999,9,  12.1468,2,     -999,9,     -999,9,     -999,9,     -999,9,     -999,9,   4.9666,1,   0.0117,1,     -999,9,     -999,9,     -999,9,     -999,9,     -999,9,20230904,1339, -32.9989,  38.1047,-999          ,9,-999          ,9
33RR20230722  ,I05        ,169     ,  2,22         ,22         ,2,20230904,1159, -32.9989,  38.1046,     5090,    669.5,2,  11.1506,2,  34.9278,2,  34.9272,2,    220.6,2,    220.1,2,     5.27,2,    13.88,2,     0.00,2,     1.01,2,    2.947,2,    1.762,2,   1.8200,2,   -999.0,9,     -999,9,     -999,9,     -999,9,     -999,9,  11.1482,2,     -999,9,     -999,9,     -999,9,     -999,9,     -999,9,   4.8961,1,   0.0115,1,     13.0,2,     -999,9,     -999,9,     -999,9,     -999,9,20230904,1336, -32.9989,  38.1047,-999          ,9,-999          ,9
33RR20230722  ,I05        ,169     ,  2,21         ,21         ,2,20230904,1159, -32.9989,  38.1046,     5090,    765.5,2,   9.9601,2,  34.7737,2,  34.7762,2,    216.8,2,    216.6,2,     7.32,2,    17.01,2,     0.00,2,     1.20,2,     -999,9,     -999,9,     -999,9,   2147.2,2,   2294.3,2,   7.7470,6,    24.99,2,     -999,9,   9.9601,2,     -999,9,     -999,9,     -999,9,     -999,9,     -999,9,   4.9671,1,   0.0115,1,     -999,9,     -999,9,     -999,9,     -999,9,     -999,9,20230904,1333, -32.9989,  38.1046,-999          ,9,-999          ,9
33RR20230722  ,I05        ,169     ,  2,20         ,20         ,2,20230904,1159, -32.9989,  38.1046,     5090,    866.8,2,   8.9194,2,  34.6619,2,  34.6625,2,    211.8,2,    212.0,2,    10.34,2,    19.94,2,     0.00,2,     1.40,2,     -999,9,     -999,9,     -999,9,   -999.0,9,     -999,9,     -999,9,     -999,9,     -999,9,   8.9139,2,     -999,9,     -999,9,     -999,9,     -999,9,     -999,9,   4.9302,1,   0.0113,1,     -999,9,     -999,9,     -999,9,     -999,9,     -999,9,20230904,1331, -32.9989,  38.1046,-999          ,9,-999          ,9
33RR20230722  ,I05        ,169     ,  2,19         ,19         ,2,20230904,1159, -32.9989,  38.1046,     5090,    968.9,2,   7.5461,2,  34.5348,2,  34.5311,2,    205.4,2,    205.5,2,    16.40,2,    23.96,2,     0.00,2,     1.65,2,    2.856,2,    1.603,2,   1.2600,2,   2171.7,2,   2289.7,6,   7.6761,2,    24.99,2,     -999,9,   7.5439,2,     -999,9,     -999,9,     -999,9,     -999,9,     -999,9,   4.8671,1,   0.0113,1,     17.0,2,     -999,9,     -999,9,     -999,9,     -999,9,20230904,1328, -32.9989,  38.1047,-999          ,9,-999          ,9
33RR20230722  ,I05        ,169     ,  2,18         ,18         ,2,20230904,1159, -32.9989,  38.1046,     5090,   1070.4,2,   6.1893,2,  34.4367,2,  34.4367,2,    202.5,2,    202.6,2,    23.23,2,    27.19,2,     0.00,2,     1.86,2,     -999,9,     -999,9,     -999,9,   2182.9,2,   2292.3,2,   7.6433,2,    25.02,2,     -999,9,   6.1886,2,     -999,9,     -999,9,     -999,9,     -999,9,     -999,9,   4.8872,1,   0.0113,1,     -999,9,     -999,9,     -999,9,     -999,9,     -999,9,20230904,1325, -32.9989,  38.1046,-999          ,9,-999          ,9
33RR20230722  ,I05        ,169     ,  2,17         ,17         ,2,20230904,1159, -32.9989,  38.1046,     5090,   1181.1,2,   5.0211,2,  34.3878,2,  34.3888,2,    200.2,2,    199.9,2,    32.31,2,    29.85,2,     0.00,2,     2.07,2,     -999,9,     -999,9,     -999,9,   2200.3,2,   2296.3,2,   7.6152,2,    24.98,2,     -999,9,   5.0181,2,     -999,9,     -999,9,     -999,9,     -999,9,     -999,9,   4.9711,1,   0.0112,1,     -999,9,     -999,9,     -999,9,     -999,9,     -999,9,20230904,1322, -32.9989,  38.1047,-999          ,9,-999          ,9
33RR20230722  ,I05        ,169     ,  2,16         ,16         ,2,20230904,1159, -32.9989,  38.1046,     5090,   1298.6,2,   4.3732,2,  34.4276,2,  34.4302,2,    185.3,2,    185.5,2,    44.12,2,    31.79,2,     0.00,2,     2.22,2,     -999,9,     -999,9,     -999,9,   2219.8,2,   2307.2,2,   7.5942,2,    25.01,2,     -999,9,   4.3736,2,     -999,9,     -999,9,     -999,9,     -999,9,     -999,9,   4.9238,1,   0.0114,1,     -999,9,     -999,9,     -999,9,     -999,9,     -999,9,20230904,1319, -32.9989,  38.1046,-999          ,9,-999          ,9
33RR20230722  ,I05        ,169     ,  2,15         ,15         ,2,20230904,1159, -32.9989,  38.1046,     5090,   1423.2,2,   3.9444,2,  34.4876,2,  34.4893,2,    172.6,2,    172.7,2,    55.24,2,    33.06,2,     0.00,2,     2.30,2,    1.138,2,    0.598,2,   0.2800,2,   2235.9,2,   2319.2,2,   7.5779,2,    25.01,2,     -999,9,   3.9434,2,     -999,9,     -999,9,     -999,9,     -999,9,     -999,9,   4.8172,1,   0.0118,1,     23.7,2,     -999,9,     -999,9,     -999,9,     -999,9,20230904,1316, -32.9989,  38.1047,-999          ,9,-999          ,9
33RR20230722  ,I05        ,169     ,  2,14         ,14         ,2,20230904,1159, -32.9989,  38.1046,     5090,   1557.1,2,   3.4862,2,  34.5321,2,  34.5345,2,    169.5,2,    169.3,2,    62.66,2,    33.51,2,     0.00,2,     2.34,2,     -999,9,     -999,9,     -999,9,   2244.9,2,   2326.6,2,   7.5696,2,    25.03,2,     -999,9,   3.4898,2,     -999,9,     -999,9,     -999,9,     -999,9,     -999,9,   4.9108,1,   0.0119,1,     -999,9,     -999,9,     -999,9,     -999,9,     -999,9,20230904,1312, -32.9989,  38.1047,-999          ,9,-999          ,9
33RR20230722  ,I05        ,169     ,  2,13         ,13         ,2,20230904,1159, -32.9989,  38.1046,     5090,   1696.9,2,   3.1106,2,  34.5958,2,  34.5965,2,    172.5,2,    172.3,2,    67.83,2,    32.94,2,     0.00,2,     2.30,2,     -999,9,     -999,9,     -999,9,   2247.3,2,   2331.3,2,   7.5773,2,    25.00,2,     -999,9,   3.1101,2,     -999,9,     -999,9,     -999,9,     -999,9,     -999,9,   4.9714,1,   0.0119,1,     -999,9,     -999,9,     -999,9,     -999,9,     -999,9,20230904,1309, -32.9989,  38.1046,-999          ,9,-999          ,9
33RR20230722  ,I05        ,169     ,  2,12         ,12         ,2,20230904,1159, -32.9989,  38.1046,     5090,   1855.2,2,   2.9343,2,  34.6767,2,  34.6765,2,    174.5,2,    174.3,2,    72.32,2,    31.96,2,     0.00,2,     2.23,2,    0.212,2,    0.115,2,   0.0200,2,   -999.0,9,     -999,9,     -999,9,     -999,9,     -999,9,   2.9344,2,     -999,9,     -999,9,     -999,9,     -999,9,     -999,9,   4.8032,1,   0.0116,1,     21.9,2,     -999,9,     -999,9,     -999,9,     -999,9,20230904,1305, -32.9989,  38.1047,-999          ,9,-999          ,9
33RR20230722  ,I05        ,169     ,  2,11         ,11         ,2,20230904,1159, -32.9989,  38.1046,     5090,   2048.5,2,   2.7539,2,  34.7290,2,  34.7292,2,    181.9,2,    182.0,2,    74.36,2,    30.79,2,     0.00,2,     2.15,2,     -999,9,     -999,9,     -999,9,   2247.8,2,   2343.2,2,   7.6085,6,    25.00,2,     -999,9,   2.7547,2,     -999,9,     -999,9,     -999,9,     -999,9,     -999,9,   4.9746,1,   0.0114,1,     -999,9,     -999,9,     -999,9,     -999,9,     -999,9,20230904,1301, -32.9989,  38.1046,-999          ,9,-999          ,9
33RR20230722  ,I05        ,169     ,  2,10         ,10         ,2,20230904,1159, -32.9989,  38.1046,     5090,   2285.1,2,   2.5935,2,  34.7666,2,  34.7661,2,    192.9,2,    193.1,2,    72.51,2,    29.38,2,     0.00,2,     2.05,2,     -999,9,     -999,9,     -999,9,   -999.0,9,     -999,9,     -999,9,     -999,9,     -999,9,   2.5963,2,     -999,9,     -999,9,     -999,9,     -999,9,     -999,9,   4.8456,1,   0.0113,1,     -999,9,     -999,9,     -999,9,     -999,9,     -999,9,20230904,1256, -32.9989,  38.1046,-999          ,9,-999          ,9
33RR20230722  ,I05        ,169     ,  2,9          ,9          ,2,20230904,1159, -32.9989,  38.1046,     5090,   2566.4,2,   2.4412,2,  34.7909,2,  34.7909,2,    203.3,2,    203.5,2,    70.55,2,    28.20,2,     0.00,2,     1.94,2,     -999,9,     -999,9,     -999,9,   2234.7,2,   2344.0,2,   7.6440,2,    25.00,2,     -999,9,   2.4415,2,     -999,9,     -999,9,     -999,9,     -999,9,     -999,9,   4.9170,1,   0.0111,1,     -999,9,     -999,9,     -999,9,     -999,9,     -999,9,20230904,1250, -32.9989,  38.1047,-999          ,9,-999          ,9
33RR20230722  ,I05        ,169     ,  2,8          ,8          ,2,20230904,1159, -32.9989,  38.1046,     5090,   2894.5,2,   2.2445,2,  34.8012,2,  34.8011,2,    211.1,2,    211.6,2,    71.72,2,    27.60,2,     0.00,2,     1.90,2,    0.026,2,    0.016,2,   0.0200,2,   -999.0,9,     -999,9,     -999,9,     -999,9,     -999,9,   2.2450,2,     -999,9,     -999,9,     -999,9,     -999,9,     -999,9,   4.9540,1,   0.0111,1,     17.2,2,     -999,9,     -999,9,     -999,9,     -999,9,20230904,1244, -32.9989,  38.1047,-999          ,9,-999          ,9
33RR20230722  ,I05        ,169     ,  2,7          ,7          ,2,20230904,1159, -32.9989,  38.1046,     5090,   3270.7,2,   1.9602,2,  34.7910,2,  34.7909,2,    214.3,2,    214.1,2,    79.04,2,    28.02,2,     0.00,2,     1.94,2,    0.029,2,    0.020,2,   0.0100,2,   2233.8,2,   2349.5,2,   7.6539,2,    24.99,2,     -999,9,   1.9619,2,     -999,9,     -999,9,     -999,9,     -999,9,     -999,9,   4.9751,1,   0.0112,1,     17.0,2,     -999,9,     -999,9,     -999,9,     -999,9,20230904,1237, -32.9989,  38.1047,-999          ,9,-999          ,9
33RR20230722  ,I05        ,169     ,  2,6          ,6          ,2,20230904,1159, -32.9989,  38.1046,     5090,   3664.9,2,   1.5983,2,  34.7677,2,  34.7679,2,    215.5,2,    215.8,2,    90.36,2,    29.03,2,     0.00,2,     2.00,2,    0.057,2,    0.034,2,  -0.0100,2,   -999.0,9,     -999,9,     -999,9,     -999,9,     -999,9,   1.5993,2,     -999,9,     -999,9,     -999,9,     -999,9,     -999,9,   4.9756,1,   0.0112,1,     17.2,2,     -999,9,     -999,9,     -999,9,     -999,9,20230904,1229, -32.9989,  38.1047,-999          ,9,-999          ,9
33RR20230722  ,I05        ,169     ,  2,5          ,5          ,2,20230904,1159, -32.9989,  38.1046,     5090,   4063.3,2,   1.1613,2,  34.7366,2,  34.7366,2,    216.9,2,    217.1,2,   104.61,2,    30.34,2,     0.00,2,     2.11,2,     -999,9,     -999,9,     -999,9,   2253.5,2,   2359.6,2,   7.6344,6,    24.98,2,     -999,9,   1.1609,2,     -999,9,     -999,9,     -999,9,     -999,9,     -999,9,   4.9761,1,   0.0111,1,     -999,9,     -999,9,     -999,9,     -999,9,     -999,9,20230904,1221, -32.9989,  38.1047,-999          ,9,-999          ,9
33RR20230722  ,I05        ,169     ,  2,4          ,37         ,2,20230904,1159, -32.9989,  38.1046,     5090,   4457.0,2,   0.8302,2,  34.7110,2,  34.7105,2,    218.1,2,    218.5,2,   115.84,2,    31.47,2,     0.00,2,     2.20,2,     -999,9,     -999,9,     -999,9,   2258.5,2,   2364.4,6,   7.6251,6,    25.02,2,     -999,9,   0.8303,2,     -999,9,     -999,9,     -999,9,     -999,9,     -999,9,   4.9191,1,   0.0111,1,     -999,9,     -999,9,     -999,9,     -999,9,     -999,9,20230904,1214, -32.9989,  38.1047,-999          ,9,-999          ,9
33RR20230722  ,I05        ,169     ,  2,3          ,3          ,2,20230904,1159, -32.9989,  38.1046,     5090,   4791.1,2,   0.7101,2,  34.6999,2,  34.7005,2,    218.7,2,    219.1,2,   121.01,2,    31.92,2,     0.00,2,     2.22,2,    0.215,2,    0.120,2,   0.0200,2,   2260.6,2,   2365.2,2,   7.6212,2,    24.99,2,     -999,9,   0.7105,2,     -999,9,     -999,9,     -999,9,     -999,9,     -999,9,   4.9766,1,   0.0111,1,     17.9,2,     -999,9,     -999,9,     -999,9,     -999,9,20230904,1207, -32.9989,  38.1047,-999          ,9,-999          ,9