BOTTLE,20240422CCHHYDRO
EXPOCODE,SECT_ID,STNNBR,CASTNO,SAMPNO,BTLNBR,BTLNBR_FLAG_W,DATE,TIME,LATITUDE,LONGITUDE,DEPTH,CTDPRS,CTDPRS_FLAG_W,CTDTMP,CTDTMP_FLAG_W,CTDSAL,CTDSAL_FLAG_W,SALNTY,SALNTY_FLAG_W,CTDOXY,CTDOXY_FLAG_W,OXYGEN,OXYGEN_FLAG_W,SILCAT,SILCAT_FLAG_W,NITRAT,NITRAT_FLAG_W,NITRIT,NITRIT_FLAG_W,PHSPHT,PHSPHT_FLAG_W,CFC-11,CFC-11_FLAG_W,CFC-12,CFC-12_FLAG_W,SF6,SF6_FLAG_W,TCARBN,TCARBN_FLAG_W,ALKALI,ALKALI_FLAG_W,PH_TOT,PH_TOT_FLAG_W,PH_TMP,PH_TMP_FLAG_W,DOC,DOC_FLAG_W,REFTMP,REFTMP_FLAG_W,POC,POC_FLAG_W,PON,PON_FLAG_W,POP,POP_FLAG_W,DOP,DOP_FLAG_W,DELO18,DELO18_FLAG_W,CTDFLUOR,CTDFLUOR_FLAG_W,CTDXMISS,CTDXMISS_FLAG_W,N2O,N2O_FLAG_W,D15N_NO3,D15N_NO3_FLAG_W,D15N_NO2+NO3,D15N_NO2+NO3_FLAG_W,D18O_NO2+NO3,D18O_NO2+NO3_FLAG_W,D18O_NO3,D18O_NO3_FLAG_W,BTL_DATE,BTL_TIME,BTL_LAT,BTL_LON,HPLC,HPLC_FLAG_W,DNA,DNA_FLAG_W
,,,,,,,,,,,METERS,DBAR,,ITS-90,,PSS-78,,PSS-78,,UMOL/KG,,UMOL/KG,,UMOL/KG,,UMOL/KG,,UMOL/KG,,UMOL/KG,,PMOL/KG,,PMOL/KG,,FMOL/KG,,UMOL/KG,,UMOL/KG,,,,DEG C,,UMOL/KG,,ITS-90,,UG/KG,,UG/KG,,UG/L,,UMOL/KG,,/MILLE,,VOLTS,,VOLTS,,NMOL/KG,,/MILLE,,/MILLE,,/MILLE,,/MILLE,,,,,,,,,
33RR20230722  ,I05        ,186     ,  2,35         ,35         ,2,20230908,1314, -31.9417,  31.6000,     -999,      3.5,2,  19.7063,2,  35.5308,2,  35.5310,2,    233.0,2,    232.5,2,     1.76,2,     0.09,2,     0.07,2,     0.15,2,    1.770,2,    1.201,2,   2.1300,2,   2047.0,6,   2323.7,2,   7.9970,2,    25.01,2,     -999,1,  19.6981,2,     -999,9,     -999,9,     -999,9,     -999,9,     -999,1,   4.9759,1,   0.0402,1,      7.8,2,     -999,9,     -999,9,     -999,9,     -999,9,20230908,1453, -31.9417,  31.6000,-999          ,9,-999          ,9
33RR20230722  ,I05        ,186     ,  2,34         ,34         ,2,20230908,1314, -31.9417,  31.6000,     -999,     14.8,2,  19.6079,2,  35.5310,2,  35.5304,2,    233.4,2,    232.9,2,     1.85,2,     0.06,2,     0.08,2,     0.14,2,     -999,9,     -999,9,     -999,9,   -999.0,9,     -999,9,     -999,9,     -999,9,     -999,1,  19.5365,2,     -999,9,     -999,9,     -999,9,     -999,9,     -999,1,   4.7970,1,   0.0425,1,     -999,9,     -999,9,     -999,9,     -999,9,     -999,9,20230908,1451, -31.9417,  31.6000,-999          ,9,-999          ,9
33RR20230722  ,I05        ,186     ,  2,33         ,33         ,2,20230908,1314, -31.9417,  31.6000,     -999,     26.4,2,  19.4208,2,  35.5307,2,  35.5308,2,    232.8,2,    232.1,2,     1.85,2,     0.08,2,     0.09,2,     0.14,2,    2.330,2,    1.218,2,   2.0900,2,   2049.8,2,   2325.6,6,   7.9954,6,    24.99,2,     -999,1,  19.4199,2,     -999,9,     -999,9,     -999,9,     -999,9,     -999,1,   4.9752,1,   0.0644,1,      7.9,2,     -999,9,     -999,9,     -999,9,     -999,9,20230908,1450, -31.9417,  31.6000,-999          ,9,-999          ,9
33RR20230722  ,I05        ,186     ,  2,32         ,32         ,2,20230908,1314, -31.9417,  31.6000,     -999,     42.3,2,  19.3143,2,  35.5335,2,  35.5330,2,    231.3,2,    230.6,2,     1.76,2,     0.04,2,     0.13,2,     0.16,2,     -999,9,     -999,9,     -999,9,   2049.7,2,   2323.7,2,   7.9922,2,    25.03,2,     -999,1,  19.3125,2,     -999,9,     -999,9,     -999,9,     -999,9,     -999,1,   4.9047,1,   0.0479,1,     -999,9,     -999,9,     -999,9,     -999,9,     -999,9,20230908,1448, -31.9417,  31.6000,-999          ,9,-999          ,9
33RR20230722  ,I05        ,186     ,  2,31         ,31         ,2,20230908,1314, -31.9417,  31.6000,     -999,     59.2,2,  19.2935,2,  35.5344,2,  35.6565,4,    231.5,2,    231.2,2,     1.76,2,     0.03,2,     0.12,2,     0.15,2,    2.007,2,    1.219,2,   2.1200,2,   2051.2,2,   2324.9,2,   7.9920,6,    25.01,2,     -999,1,  19.2976,2,     -999,9,     -999,9,     -999,9,     -999,9,     -999,1,   4.9746,1,   0.0501,1,      7.9,2,     -999,9,     -999,9,     -999,9,     -999,9,20230908,1447, -31.9417,  31.6000,-999          ,9,-999          ,9
33RR20230722  ,I05        ,186     ,  2,30         ,30         ,2,20230908,1314, -31.9417,  31.6000,     -999,     79.3,2,  19.2213,2,  35.5393,2,  35.5391,2,    230.7,2,    230.3,2,     1.76,2,     0.03,2,     0.13,2,     0.16,2,     -999,9,     -999,9,     -999,9,   2051.5,2,   2325.7,2,   7.9898,2,    25.02,2,     -999,1,  19.2215,2,     -999,9,     -999,9,     -999,9,     -999,9,     -999,1,   4.9742,1,   0.0348,1,     -999,9,     -999,9,     -999,9,     -999,9,     -999,9,20230908,1445, -31.9417,  31.6000,-999          ,9,-999          ,9
33RR20230722  ,I05        ,186     ,  2,29         ,29         ,2,20230908,1314, -31.9417,  31.6000,     -999,    102.5,2,  18.7663,2,  35.5467,2,  35.5458,2,    225.6,2,    225.6,2,     2.05,2,     0.80,2,     0.43,2,     0.20,2,    2.194,2,    1.225,2,   2.1100,2,   2061.9,2,   2326.7,2,   7.9740,6,    25.00,2,     -999,1,  18.7737,2,     -999,9,     -999,9,     -999,9,     -999,9,     -999,1,   4.9728,1,   0.0183,1,      8.1,2,     -999,9,     -999,9,     -999,9,     -999,9,20230908,1443, -31.9417,  31.6000,-999          ,9,-999          ,9
33RR20230722  ,I05        ,186     ,  2,28         ,28         ,2,20230908,1314, -31.9417,  31.6000,     -999,    126.7,2,  18.2447,2,  35.5816,2,  35.5815,2,    210.1,2,    211.4,2,     2.93,2,     2.60,2,     0.08,2,     0.30,2,     -999,9,     -999,9,     -999,9,   2081.0,2,   2325.8,2,   7.9397,2,    25.02,2,     -999,1,  18.2285,2,     -999,9,     -999,9,     -999,9,     -999,9,     -999,1,   4.9695,1,   0.0129,1,     -999,9,     -999,9,     -999,9,     -999,9,     -999,9,20230908,1442, -31.9418,  31.6000,-999          ,9,-999          ,9
33RR20230722  ,I05        ,186     ,  2,27         ,27         ,2,20230908,1314, -31.9417,  31.6000,     -999,    157.3,2,  17.9668,2,  35.6056,2,  35.6056,2,    217.3,2,    217.8,2,     2.73,2,     2.29,2,     0.02,2,     0.28,2,    1.936,2,    1.283,2,   2.0400,2,   2079.9,2,   2329.1,2,   7.9443,2,    25.01,2,     -999,1,  17.9635,2,     -999,9,     -999,9,     -999,9,     -999,9,     -999,1,   4.8313,1,   0.0127,1,      8.6,2,     -999,9,     -999,9,     -999,9,     -999,9,20230908,1440, -31.9417,  31.6000,-999          ,9,-999          ,9
33RR20230722  ,I05        ,186     ,  2,26         ,26         ,2,20230908,1314, -31.9417,  31.6000,     -999,    192.0,2,  17.5340,2,  35.5791,2,  35.5786,2,    195.1,2,    196.8,2,     3.51,2,     4.32,2,     0.00,2,     0.41,2,     -999,9,     -999,9,     -999,9,   -999.0,9,     -999,9,     -999,9,     -999,9,     -999,1,  17.5301,2,     -999,9,     -999,9,     -999,9,     -999,9,     -999,1,   4.9615,1,   0.0116,1,     -999,9,     -999,9,     -999,9,     -999,9,     -999,9,20230908,1439, -31.9417,  31.6001,-999          ,9,-999          ,9
33RR20230722  ,I05        ,186     ,  2,25         ,25         ,2,20230908,1314, -31.9417,  31.6000,     -999,    228.2,2,  16.8869,2,  35.5645,2,  35.5644,2,    202.7,2,    203.8,2,     3.32,2,     4.66,2,     0.00,2,     0.43,2,    2.292,2,    1.355,2,   1.9600,2,   2105.1,2,   2328.7,2,   7.8972,2,    25.03,2,     -999,1,  16.8851,2,     -999,9,     -999,9,     -999,9,     -999,9,     -999,1,   4.9677,1,   0.0115,1,      9.8,2,     -999,9,     -999,9,     -999,9,     -999,9,20230908,1437, -31.9417,  31.6000,-999          ,9,-999          ,9
33RR20230722  ,I05        ,186     ,  2,24         ,24         ,2,20230908,1314, -31.9417,  31.6000,     -999,    274.7,2,  16.0959,2,  35.5122,2,  35.5121,2,    204.0,2,    205.1,2,     3.71,2,     5.69,2,     0.00,2,     0.49,2,     -999,9,     -999,9,     -999,9,   -999.0,9,     -999,9,     -999,9,     -999,9,     -999,1,  16.1042,2,     -999,9,     -999,9,     -999,9,     -999,9,     -999,1,   4.9681,1,   0.0117,1,     -999,9,     -999,9,     -999,9,     -999,9,     -999,9,20230908,1435, -31.9417,  31.6000,-999          ,9,-999          ,9
33RR20230722  ,I05        ,186     ,  2,23         ,23         ,2,20230908,1314, -31.9417,  31.6000,     -999,    328.9,2,  15.5279,2,  35.4610,2,  35.4606,2,    203.7,2,    204.5,2,     3.90,2,     6.49,2,     0.00,2,     0.54,2,    2.684,2,    1.456,2,   2.0000,2,   2116.8,2,   2323.0,2,   7.8641,2,    25.02,2,     -999,1,  15.5265,2,     -999,9,     -999,9,     -999,9,     -999,9,     -999,1,   4.6344,1,   0.0114,1,     10.6,2,     -999,9,     -999,9,     -999,9,     -999,9,20230908,1433, -31.9417,  31.6000,-999          ,9,-999          ,9
33RR20230722  ,I05        ,186     ,  2,22         ,22         ,2,20230908,1314, -31.9417,  31.6000,     -999,    392.9,2,  14.4812,2,  35.3532,2,  35.3555,2,    207.1,2,    207.5,2,     4.00,2,     7.91,2,     0.00,2,     0.64,2,     -999,9,     -999,9,     -999,9,   -999.0,9,     -999,9,     -999,9,     -999,9,     -999,1,  14.4609,2,     -999,9,     -999,9,     -999,9,     -999,9,     -999,1,   4.8938,1,   0.0115,1,     -999,9,     -999,9,     -999,9,     -999,9,     -999,9,20230908,1431, -31.9417,  31.6000,-999          ,9,-999          ,9
33RR20230722  ,I05        ,186     ,  2,21         ,21         ,2,20230908,1314, -31.9417,  31.6000,     -999,    468.7,2,  13.4285,2,  35.2458,2,  35.2457,2,    214.4,2,    214.1,2,     4.00,2,     9.31,2,     0.00,2,     0.74,2,    2.935,2,    1.614,2,   2.1200,2,   2128.7,2,   2312.0,2,   7.8250,2,    25.01,2,     -999,1,  13.4282,2,     -999,9,     -999,9,     -999,9,     -999,9,     -999,1,   4.9667,1,   0.0114,1,     11.3,2,     -999,9,     -999,9,     -999,9,     -999,9,20230908,1429, -31.9417,  31.6000,-999          ,9,-999          ,9
33RR20230722  ,I05        ,186     ,  2,20         ,20         ,2,20230908,1314, -31.9417,  31.6000,     -999,    549.7,2,  12.5835,2,  35.1371,2,  35.1325,2,    220.3,2,    219.9,2,     4.10,2,    10.75,2,     0.00,2,     0.82,2,     -999,9,     -999,9,     -999,9,   2129.9,2,   2309.6,2,   7.7862,6,    25.01,2,     -999,1,  12.5858,2,     -999,9,     -999,9,     -999,9,     -999,9,     -999,1,   4.7423,1,   0.0116,1,     -999,9,     -999,9,     -999,9,     -999,9,     -999,9,20230908,1427, -31.9417,  31.6000,-999          ,9,-999          ,9
33RR20230722  ,I05        ,186     ,  2,19         ,19         ,2,20230908,1314, -31.9417,  31.6000,     -999,    638.6,2,  11.4827,2,  34.9753,2,  34.9740,2,    220.8,2,    219.9,2,     4.88,2,    13.07,2,     0.00,2,     0.98,2,    3.154,2,    1.735,2,   1.9700,2,   2133.4,2,   2298.8,2,   7.7853,2,    25.04,2,     -999,1,  11.4834,2,     -999,9,     -999,9,     -999,9,     -999,9,     -999,1,   4.7958,1,   0.0116,1,     12.4,2,     -999,9,     -999,9,     -999,9,     -999,9,20230908,1424, -31.9417,  31.6000,-999          ,9,-999          ,9
33RR20230722  ,I05        ,186     ,  2,18         ,18         ,2,20230908,1314, -31.9417,  31.6000,     -999,    733.9,2,  10.3576,2,  34.8267,2,  34.8253,2,    217.2,2,    216.1,2,     6.54,2,    16.01,2,     0.00,2,     1.15,2,    3.174,2,    1.780,2,   1.6500,2,   2141.7,2,   2296.6,2,   7.7552,2,    25.01,2,     -999,1,  10.3594,2,     -999,9,     -999,9,     -999,9,     -999,9,     -999,1,   4.8904,1,   0.0114,1,     13.7,2,     -999,9,     -999,9,     -999,9,     -999,9,20230908,1421, -31.9417,  31.6000,-999          ,9,-999          ,9
33RR20230722  ,I05        ,186     ,  2,17         ,17         ,2,20230908,1314, -31.9417,  31.6000,     -999,    834.6,2,   9.1637,2,  34.6940,2,  34.6969,2,    207.5,2,    207.4,2,    10.64,2,    19.64,2,     0.00,2,     1.38,2,     -999,9,     -999,9,     -999,9,   -999.0,9,     -999,9,     -999,9,     -999,9,     -999,1,   9.1765,2,     -999,9,     -999,9,     -999,9,     -999,9,     -999,1,   4.9679,1,   0.0113,1,     -999,9,     -999,9,     -999,9,     -999,9,     -999,9,20230908,1419, -31.9418,  31.6000,-999          ,9,-999          ,9
33RR20230722  ,I05        ,186     ,  2,16         ,16         ,2,20230908,1314, -31.9417,  31.6000,     -999,    941.8,2,   7.8481,2,  34.5823,2,  34.5836,2,    196.5,2,    197.3,2,    17.67,2,    23.84,2,     0.00,2,     1.66,2,    2.996,2,    1.499,2,   1.2200,2,   2171.1,2,   2290.6,2,   7.6752,2,    25.03,2,     -999,1,   7.8643,2,     -999,9,     -999,9,     -999,9,     -999,9,     -999,1,   4.7469,1,   0.0113,1,     17.8,2,     -999,9,     -999,9,     -999,9,     -999,9,20230908,1416, -31.9417,  31.6000,-999          ,9,-999          ,9
33RR20230722  ,I05        ,186     ,  2,15         ,15         ,2,20230908,1314, -31.9417,  31.6000,     -999,   1049.2,2,   6.3229,2,  34.4632,2,  34.4655,2,    194.0,2,    195.5,2,    24.90,2,    27.46,2,     0.00,2,     1.90,2,    2.727,2,    1.385,2,   1.0300,2,   2188.0,2,   2292.9,2,   7.6315,2,    25.03,2,     -999,1,   6.3158,2,     -999,9,     -999,9,     -999,9,     -999,9,     -999,1,   4.9448,1,   0.0111,1,     19.4,2,     -999,9,     -999,9,     -999,9,     -999,9,20230908,1413, -31.9417,  31.6000,-999          ,9,-999          ,9
33RR20230722  ,I05        ,186     ,  2,14         ,14         ,2,20230908,1314, -31.9417,  31.6000,     -999,   1162.2,2,   5.1789,2,  34.4312,2,  34.4322,2,    188.6,2,    189.4,2,    35.25,2,    30.14,2,     0.00,2,     2.10,2,     -999,9,     -999,9,     -999,9,   2203.4,2,   2300.6,2,   7.6107,2,    25.02,2,     -999,1,   5.1809,2,     -999,9,     -999,9,     -999,9,     -999,9,     -999,1,   4.6736,1,   0.0111,1,     -999,9,     -999,9,     -999,9,     -999,9,     -999,9,20230908,1410, -31.9417,  31.6000,-999          ,9,-999          ,9
33RR20230722  ,I05        ,186     ,  2,13         ,13         ,2,20230908,1314, -31.9417,  31.6000,     -999,   1272.9,2,   4.6511,2,  34.4721,2,  34.4734,2,    174.4,2,    174.9,2,    46.67,2,    32.00,2,     0.00,2,     2.23,2,    1.458,2,    0.770,2,   0.4400,2,   2221.4,2,   2311.4,2,   7.5888,2,    25.00,2,     -999,1,   4.6421,2,     -999,9,     -999,9,     -999,9,     -999,9,     -999,1,   4.9723,1,   0.0112,1,     22.8,2,     -999,9,     -999,9,     -999,9,     -999,9,20230908,1407, -31.9417,  31.6000,-999          ,9,-999          ,9
33RR20230722  ,I05        ,186     ,  2,12         ,12         ,2,20230908,1314, -31.9417,  31.6000,     -999,   1387.0,2,   4.4704,2,  34.5744,2,  34.5749,2,    153.0,2,    152.4,2,    61.21,2,    33.46,2,     0.00,2,     2.34,2,    0.980,2,    0.398,2,   0.1700,2,   2243.8,2,   2327.8,2,   7.5687,2,    25.01,2,     -999,1,   4.4701,2,     -999,9,     -999,9,     -999,9,     -999,9,     -999,1,   4.6521,1,   0.0123,1,     24.7,2,     -999,9,     -999,9,     -999,9,     -999,9,20230908,1404, -31.9417,  31.6000,-999          ,9,-999          ,9
33RR20230722  ,I05        ,186     ,  2,11         ,11         ,2,20230908,1314, -31.9417,  31.6000,     -999,   1503.3,2,   4.0598,2,  34.6209,2,  34.6203,2,    149.4,2,    148.7,2,    69.70,2,    33.84,2,     0.00,2,     2.40,2,     -999,9,     -999,9,     -999,9,   -999.0,9,     -999,9,     -999,9,     -999,9,     -999,1,   4.0597,2,     -999,9,     -999,9,     -999,9,     -999,9,     -999,1,   4.9746,1,   0.0124,1,     -999,9,     -999,9,     -999,9,     -999,9,     -999,9,20230908,1400, -31.9417,  31.6000,-999          ,9,-999          ,9
33RR20230722  ,I05        ,186     ,  2,10         ,10         ,2,20230908,1314, -31.9417,  31.6000,     -999,   1617.0,2,   3.6369,2,  34.6401,2,  34.6398,2,    154.5,2,    154.0,2,    73.41,2,    33.66,2,     0.00,2,     2.37,2,    0.374,6,    0.191,6,   0.1000,6,   2255.8,2,   2341.7,2,   7.5682,2,    25.00,2,     -999,1,   3.6346,2,     -999,9,     -999,9,     -999,9,     -999,9,     -999,1,   4.9424,1,   0.0113,1,     24.4,6,     -999,9,     -999,9,     -999,9,     -999,9,20230908,1357, -31.9417,  31.6000,-999          ,9,-999          ,9
33RR20230722  ,I05        ,186     ,  2,9          ,9          ,2,20230908,1314, -31.9417,  31.6000,     -999,   1736.0,2,   3.2986,2,  34.6699,2,  34.6710,2,    160.5,2,    160.1,2,    75.95,2,    33.07,2,     0.00,2,     2.32,2,     -999,9,     -999,9,     -999,9,   -999.0,9,     -999,9,     -999,9,     -999,9,     -999,1,   3.2973,2,     -999,9,     -999,9,     -999,9,     -999,9,     -999,1,   4.9744,1,   0.0123,1,     -999,9,     -999,9,     -999,9,     -999,9,     -999,9,20230908,1354, -31.9418,  31.6000,-999          ,9,-999          ,9
33RR20230722  ,I05        ,186     ,  2,8          ,8          ,2,20230908,1314, -31.9417,  31.6000,     -999,   1876.4,2,   3.0091,2,  34.6983,2,  34.6989,2,    168.8,2,    169.1,2,    76.83,2,    32.17,2,     0.00,2,     2.26,2,    0.178,2,    0.088,2,   0.0900,2,   2253.7,2,   2344.2,2,   7.5895,6,    25.01,2,     -999,1,   3.0089,2,     -999,9,     -999,9,     -999,9,     -999,9,     -999,1,   4.9358,1,   0.0119,1,     22.4,2,     -999,9,     -999,9,     -999,9,     -999,9,20230908,1350, -31.9417,  31.6000,-999          ,9,-999          ,9
33RR20230722  ,I05        ,186     ,  2,7          ,7          ,2,20230908,1314, -31.9417,  31.6000,     -999,   2053.8,2,   2.7894,2,  34.7319,2,  34.7321,2,    179.7,2,    180.0,2,    74.58,2,    30.94,2,     0.00,2,     2.15,2,    0.126,2,    0.059,2,   0.0700,2,   2246.1,2,   2343.3,2,   7.6066,2,    25.01,2,     -999,1,   2.7911,2,     -999,9,     -999,9,     -999,9,     -999,9,     -999,1,   4.8651,1,   0.0116,1,     20.7,2,     -999,9,     -999,9,     -999,9,     -999,9,20230908,1346, -31.9417,  31.6000,-999          ,9,-999          ,9
33RR20230722  ,I05        ,186     ,  2,6          ,6          ,2,20230908,1314, -31.9417,  31.6000,     -999,   2272.2,2,   2.6455,2,  34.7629,2,  34.7634,2,    191.1,2,    191.4,2,    70.96,2,    29.57,2,     0.00,2,     2.07,2,     -999,9,     -999,9,     -999,9,   -999.0,9,     -999,9,     -999,9,     -999,9,     -999,1,   2.6466,2,     -999,9,     -999,9,     -999,9,     -999,9,     -999,1,   4.8028,1,   0.0118,1,     -999,9,     -999,9,     -999,9,     -999,9,     -999,9,20230908,1341, -31.9417,  31.6000,-999          ,9,-999          ,9
33RR20230722  ,I05        ,186     ,  2,5          ,5          ,2,20230908,1314, -31.9417,  31.6000,     -999,   2535.9,2,   2.5347,2,  34.7916,2,  34.7921,2,    203.4,2,    203.9,2,    66.28,2,    28.05,2,     0.00,2,     1.93,2,    0.044,2,    0.028,2,   0.0000,2,   2227.8,2,   2340.8,2,   7.6439,6,    25.03,2,     -999,1,   2.5349,2,     -999,9,     -999,9,     -999,9,     -999,9,     -999,1,   4.9741,1,   0.0111,1,     18.1,2,     -999,9,     -999,9,     -999,9,     -999,9,20230908,1336, -31.9417,  31.6000,-999          ,9,-999          ,9
33RR20230722  ,I05        ,186     ,  2,4          ,37         ,2,20230908,1314, -31.9417,  31.6000,     -999,   2835.8,2,   2.3914,2,  34.8112,2,  34.8123,2,    213.9,2,    213.8,2,    64.32,2,    26.91,2,     0.00,2,     1.86,2,    0.042,2,    0.025,2,   0.0100,2,   2221.0,2,   2338.8,2,   7.6583,2,    25.01,2,     -999,1,   2.3927,2,     -999,9,     -999,9,     -999,9,     -999,9,     -999,1,   4.7528,1,   0.0112,1,     16.9,2,     -999,9,     -999,9,     -999,9,     -999,9,20230908,1330, -31.9418,  31.6000,-999          ,9,-999          ,9
33RR20230722  ,I05        ,186     ,  2,3          ,3          ,2,20230908,1314, -31.9417,  31.6000,     -999,   3127.3,2,   2.1701,2,  34.8107,2,  34.8113,2,    218.3,2,    218.9,2,    68.81,2,    26.84,2,     0.00,2,     1.84,2,     -999,9,     -999,9,     -999,9,   2222.6,2,   2342.4,6,   7.6619,2,    25.02,2,     -999,1,   2.1697,2,     -999,9,     -999,9,     -999,9,     -999,9,     -999,1,   4.9734,1,   0.0112,1,     -999,9,     -999,9,     -999,9,     -999,9,     -999,9,20230908,1324, -31.9417,  31.6000,-999          ,9,-999          ,9
33RR20230722  ,I05        ,186     ,  2,2          ,2          ,2,20230908,1314, -31.9417,  31.6000,     -999,   3371.5,2,   1.9296,2,  34.7953,2,  34.7962,2,    218.4,2,    218.3,2,    77.01,2,    27.62,2,     0.00,2,     1.90,2,    0.085,2,    0.043,2,   0.0700,2,   2228.7,2,     -999,5,   7.6559,2,    25.00,2,     -999,1,   1.9293,2,     -999,9,     -999,9,     -999,9,     -999,9,     -999,1,   4.6868,1,   0.0112,1,     16.6,2,     -999,9,     -999,9,     -999,9,     -999,9,20230908,1318, -31.9417,  31.6000,-999          ,9,-999          ,9