BOTTLE,20240422CCHHYDRO
EXPOCODE,SECT_ID,STNNBR,CASTNO,SAMPNO,BTLNBR,BTLNBR_FLAG_W,DATE,TIME,LATITUDE,LONGITUDE,DEPTH,CTDPRS,CTDPRS_FLAG_W,CTDTMP,CTDTMP_FLAG_W,CTDSAL,CTDSAL_FLAG_W,SALNTY,SALNTY_FLAG_W,CTDOXY,CTDOXY_FLAG_W,OXYGEN,OXYGEN_FLAG_W,SILCAT,SILCAT_FLAG_W,NITRAT,NITRAT_FLAG_W,NITRIT,NITRIT_FLAG_W,PHSPHT,PHSPHT_FLAG_W,CFC-11,CFC-11_FLAG_W,CFC-12,CFC-12_FLAG_W,SF6,SF6_FLAG_W,TCARBN,TCARBN_FLAG_W,ALKALI,ALKALI_FLAG_W,PH_TOT,PH_TOT_FLAG_W,PH_TMP,PH_TMP_FLAG_W,DOC,DOC_FLAG_W,REFTMP,REFTMP_FLAG_W,POC,POC_FLAG_W,PON,PON_FLAG_W,POP,POP_FLAG_W,DOP,DOP_FLAG_W,DELO18,DELO18_FLAG_W,CTDFLUOR,CTDFLUOR_FLAG_W,CTDXMISS,CTDXMISS_FLAG_W,N2O,N2O_FLAG_W,D15N_NO3,D15N_NO3_FLAG_W,D15N_NO2+NO3,D15N_NO2+NO3_FLAG_W,D18O_NO2+NO3,D18O_NO2+NO3_FLAG_W,D18O_NO3,D18O_NO3_FLAG_W,BTL_DATE,BTL_TIME,BTL_LAT,BTL_LON,HPLC,HPLC_FLAG_W,DNA,DNA_FLAG_W
,,,,,,,,,,,METERS,DBAR,,ITS-90,,PSS-78,,PSS-78,,UMOL/KG,,UMOL/KG,,UMOL/KG,,UMOL/KG,,UMOL/KG,,UMOL/KG,,PMOL/KG,,PMOL/KG,,FMOL/KG,,UMOL/KG,,UMOL/KG,,,,DEG C,,UMOL/KG,,ITS-90,,UG/KG,,UG/KG,,UG/L,,UMOL/KG,,/MILLE,,VOLTS,,VOLTS,,NMOL/KG,,/MILLE,,/MILLE,,/MILLE,,/MILLE,,,,,,,,,
33RR20230722  ,I05        ,118     ,  1,36         ,38         ,2,20230822,1754, -33.9990,  61.6956,     4769,      5.1,2,  15.8359,2,  35.5018,2,  35.5014,2,    247.5,2,    247.4,2,     1.85,2,     0.23,2,     0.05,2,     0.17,2,    2.245,2,    1.405,2,   2.3900,2,   2084.3,6,   2330.9,2,   7.9382,6,    24.99,2,     -999,1,  15.8342,2,     -999,9,     -999,9,     -999,9,     -999,9,     -999,1,   4.7162,1,   0.0409,1,      8.6,2,     -999,1,     -999,1,     -999,1,     -999,1,20230822,1956, -33.9990,  61.6956,-999          ,9,-999          ,9
33RR20230722  ,I05        ,118     ,  1,35         ,35         ,2,20230822,1754, -33.9990,  61.6956,     4769,     26.3,2,  15.8389,2,  35.5025,2,  35.5016,2,    248.0,2,    247.2,2,     1.46,2,     0.19,2,     0.05,2,     0.17,2,     -999,9,     -999,9,     -999,9,   -999.0,9,     -999,9,     -999,9,     -999,9,     -999,1,  15.8391,2,     -999,9,     -999,9,     -999,9,     -999,9,     -999,1,   4.9749,1,   0.0426,1,     -999,9,     -999,1,     -999,1,     -999,1,     -999,1,20230822,1954, -33.9990,  61.6956,-999          ,9,-999          ,9
33RR20230722  ,I05        ,118     ,  1,34         ,34         ,2,20230822,1754, -33.9990,  61.6956,     4769,     47.7,2,  15.8469,2,  35.5021,2,  35.5016,2,    247.7,2,    247.4,2,     1.56,2,     0.18,2,     0.05,2,     0.17,2,    2.285,2,    1.383,2,   2.3600,2,   2084.2,2,   2331.6,2,   7.9374,2,    25.01,2,     -999,1,  15.8462,2,     -999,9,     -999,9,     -999,9,     -999,9,     -999,1,   4.9616,1,   0.0429,1,      8.3,2,     -999,1,     -999,1,     -999,1,     -999,1,20230822,1953, -33.9990,  61.6957,-999          ,9,-999          ,9
33RR20230722  ,I05        ,118     ,  1,33         ,33         ,2,20230822,1754, -33.9990,  61.6956,     4769,     69.0,2,  15.8474,2,  35.5011,2,  35.5004,2,    247.8,2,    247.2,2,     1.56,2,     0.17,2,     0.05,2,     0.17,2,     -999,9,     -999,9,     -999,9,   2084.8,2,   2330.2,2,   7.9384,2,    24.99,2,     -999,1,  15.8458,2,     -999,9,     -999,9,     -999,9,     -999,9,     -999,1,   4.9747,1,   0.0423,1,     -999,9,     -999,1,     -999,1,     -999,1,     -999,1,20230822,1951, -33.9990,  61.6957,-999          ,9,-999          ,9
33RR20230722  ,I05        ,118     ,  1,32         ,32         ,2,20230822,1754, -33.9990,  61.6956,     4769,     91.1,2,  15.7894,2,  35.4937,2,  35.4939,2,    245.6,2,    246.0,2,     1.56,2,     0.40,2,     0.10,2,     0.18,2,    2.291,2,    1.414,2,   2.3300,2,   2083.5,2,   2329.0,2,   7.9348,2,    24.98,2,     -999,1,  15.7900,2,     -999,9,     -999,9,     -999,9,     -999,9,     -999,1,   4.9447,1,   0.0350,1,      8.6,2,     -999,1,     -999,1,     -999,1,     -999,1,20230822,1949, -33.9990,  61.6957,-999          ,9,-999          ,9
33RR20230722  ,I05        ,118     ,  1,31         ,31         ,2,20230822,1754, -33.9990,  61.6956,     4769,    117.8,2,  15.3389,2,  35.4482,2,  35.4511,2,    235.5,3,    239.0,2,     1.85,2,     2.06,2,     0.29,2,     0.28,2,     -999,9,     -999,9,     -999,9,   2096.4,2,   2325.8,2,   7.9120,2,    24.97,2,     -999,1,  15.3058,2,     -999,9,     -999,9,     -999,9,     -999,9,     -999,1,   4.9719,1,   0.0198,1,     -999,9,     -999,1,     -999,1,     -999,1,     -999,1,20230822,1947, -33.9990,  61.6957,-999          ,9,-999          ,9
33RR20230722  ,I05        ,118     ,  1,30         ,30         ,2,20230822,1754, -33.9990,  61.6956,     4769,    147.0,2,  14.5209,2,  35.3856,2,  35.3851,2,    223.3,3,    225.7,2,     2.93,2,     5.68,2,     0.02,2,     0.49,2,    2.468,2,    1.500,2,   2.2800,2,   2114.8,2,   2322.3,2,   7.8662,2,    25.01,2,     -999,1,  14.5261,2,     -999,9,     -999,9,     -999,9,     -999,9,     -999,1,   4.9045,1,   0.0140,1,     10.1,2,     -999,1,     -999,1,     -999,1,     -999,1,20230822,1945, -33.9990,  61.6957,-999          ,9,-999          ,9
33RR20230722  ,I05        ,118     ,  1,29         ,29         ,2,20230822,1754, -33.9990,  61.6956,     4769,    177.3,2,  14.1753,2,  35.3611,2,  35.3624,2,    226.9,2,    228.3,2,     2.93,2,     6.18,2,     0.01,2,     0.51,2,     -999,9,     -999,9,     -999,9,   2118.4,2,   2324.2,2,   7.8613,2,    25.01,2,     -999,1,  14.1833,2,     -999,9,     -999,9,     -999,9,     -999,9,     -999,1,   4.9692,1,   0.0125,1,     -999,9,     -999,1,     -999,1,     -999,1,     -999,1,20230822,1944, -33.9990,  61.6957,-999          ,9,-999          ,9
33RR20230722  ,I05        ,118     ,  1,28         ,28         ,2,20230822,1754, -33.9990,  61.6956,     4769,    209.7,2,  13.9922,2,  35.3488,2,  35.3480,2,    230.3,2,    231.1,2,     3.02,2,     6.33,2,     0.00,2,     0.52,2,    2.545,2,    1.553,2,   2.3700,2,   -999.0,9,     -999,9,     -999,9,     -999,9,     -999,1,  13.9895,2,     -999,9,     -999,9,     -999,9,     -999,9,     -999,1,   4.9694,1,   0.0118,1,     10.2,2,     -999,1,     -999,1,     -999,1,     -999,1,20230822,1942, -33.9990,  61.6957,-999          ,9,-999          ,9
33RR20230722  ,I05        ,118     ,  1,27         ,27         ,2,20230822,1754, -33.9990,  61.6956,     4769,    245.4,2,  13.7861,2,  35.3253,2,  35.3238,2,    232.3,2,    233.2,2,     3.12,2,     6.70,2,     0.00,2,     0.55,2,     -999,9,     -999,9,     -999,9,   2116.0,2,   2323.6,2,   7.8579,6,    25.01,2,     -999,1,  13.7848,2,     -999,9,     -999,9,     -999,9,     -999,9,     -999,1,   4.9692,1,   0.0120,1,     -999,9,     -999,1,     -999,1,     -999,1,     -999,1,20230822,1940, -33.9990,  61.6957,-999          ,9,-999          ,9
33RR20230722  ,I05        ,118     ,  1,26         ,26         ,2,20230822,1754, -33.9990,  61.6956,     4769,    287.8,2,  13.4269,2,  35.2756,2,  35.2751,2,    234.4,2,    234.5,2,     3.22,2,     7.42,2,     0.00,2,     0.59,2,    2.758,2,    1.584,2,   2.3600,2,   -999.0,9,     -999,9,     -999,9,     -999,9,     -999,1,  13.4254,2,     -999,9,     -999,9,     -999,9,     -999,9,     -999,1,   4.9690,1,   0.0119,1,     10.4,2,     -999,1,     -999,1,     -999,1,     -999,1,20230822,1939, -33.9990,  61.6957,-999          ,9,-999          ,9
33RR20230722  ,I05        ,118     ,  1,25         ,25         ,2,20230822,1754, -33.9990,  61.6956,     4769,    342.7,2,  13.1962,2,  35.2442,2,  35.2440,2,    234.6,2,    234.0,2,     3.32,2,     7.90,2,     0.00,2,     0.62,2,     -999,9,     -999,9,     -999,9,   2117.7,2,   2316.6,6,   7.8438,2,    25.00,2,     -999,1,  13.1925,2,     -999,9,     -999,9,     -999,9,     -999,9,     -999,1,   4.6730,1,   0.0117,1,     -999,9,     -999,1,     -999,1,     -999,1,     -999,1,20230822,1937, -33.9990,  61.6956,-999          ,9,-999          ,9
33RR20230722  ,I05        ,118     ,  1,24         ,24         ,2,20230822,1754, -33.9990,  61.6956,     4769,    399.7,2,  12.8196,2,  35.1850,2,  35.1843,2,    231.7,2,    231.7,2,     3.51,2,     8.96,2,     0.00,2,     0.68,2,    2.676,2,    1.652,2,   2.3000,2,   -999.0,9,     -999,9,     -999,9,     -999,9,     -999,1,  12.8129,2,     -999,9,     -999,9,     -999,9,     -999,9,     -999,1,   4.9679,1,   0.0113,1,     10.8,2,     -999,1,     -999,1,     -999,1,     -999,1,20230822,1935, -33.9990,  61.6956,-999          ,9,-999          ,9
33RR20230722  ,I05        ,118     ,  1,23         ,23         ,2,20230822,1754, -33.9990,  61.6956,     4769,    475.4,2,  12.2219,2,  35.0890,2,  35.0856,2,    229.3,2,    229.0,2,     4.00,2,    10.64,2,     0.00,2,     0.78,2,    2.362,2,    1.685,2,   2.1200,2,   2128.5,2,   2311.5,2,   7.8122,2,    25.01,2,     -999,1,  12.2219,2,     -999,9,     -999,9,     -999,9,     -999,9,     -999,1,   4.9672,1,   0.0107,1,     11.0,2,     -999,1,     -999,1,     -999,1,     -999,1,20230822,1932, -33.9991,  61.6957,-999          ,9,-999          ,9
33RR20230722  ,I05        ,118     ,  1,22         ,22         ,2,20230822,1754, -33.9990,  61.6956,     4769,    555.3,2,  11.6106,2,  34.9933,2,  34.9894,2,    224.1,2,    224.5,2,     4.68,2,    12.45,2,     0.00,2,     0.90,2,    2.838,2,    1.742,2,   2.0000,2,   2133.3,2,   2305.1,2,   7.7940,2,    24.99,2,     -999,1,  11.6214,2,     -999,9,     -999,9,     -999,9,     -999,9,     -999,1,   4.9295,1,   0.0114,1,     11.7,2,     -999,1,     -999,1,     -999,1,     -999,1,20230822,1930, -33.9990,  61.6957,-999          ,9,-999          ,9
33RR20230722  ,I05        ,118     ,  1,21         ,21         ,2,20230822,1754, -33.9990,  61.6956,     4769,    644.6,2,  10.6428,2,  34.8538,2,  34.8521,2,    221.1,2,    221.4,2,     5.76,2,    14.87,2,     0.00,2,     1.07,2,    2.830,2,    1.809,2,   1.8800,2,   -999.0,9,     -999,9,     -999,9,     -999,9,     -999,1,  10.6428,2,     -999,9,     -999,9,     -999,9,     -999,9,     -999,1,   4.9666,1,   0.0114,1,     12.6,2,     -999,1,     -999,1,     -999,1,     -999,1,20230822,1927, -33.9990,  61.6956,-999          ,9,-999          ,9
33RR20230722  ,I05        ,118     ,  1,20         ,20         ,2,20230822,1754, -33.9990,  61.6956,     4769,    748.2,2,   9.3471,2,  34.6892,2,  34.6932,2,    218.6,2,    218.5,2,     7.42,2,    18.17,2,     0.00,2,     1.25,2,    2.901,2,    1.821,2,   1.5800,2,   2147.7,2,   2293.7,2,   7.7341,2,    25.00,2,     -999,1,   9.3565,2,     -999,9,     -999,9,     -999,9,     -999,9,     -999,1,   4.9671,1,   0.0113,1,     13.7,2,     -999,1,     -999,1,     -999,1,     -999,1,20230822,1924, -33.9990,  61.6957,-999          ,9,-999          ,9
33RR20230722  ,I05        ,118     ,  1,19         ,19         ,2,20230822,1754, -33.9990,  61.6956,     4769,    861.8,2,   7.9977,2,  34.5571,2,  34.5567,2,    207.3,2,    207.2,2,    12.89,2,    22.36,2,     0.00,2,     1.53,2,    2.686,2,    1.675,2,   1.2600,2,   2165.3,2,   2293.0,2,   7.6900,2,    24.93,2,     -999,1,   8.0057,2,     -999,9,     -999,9,     -999,9,     -999,9,     -999,1,   4.6785,1,   0.0113,1,     15.7,2,     -999,1,     -999,1,     -999,1,     -999,1,20230822,1921, -33.9990,  61.6957,-999          ,9,-999          ,9
33RR20230722  ,I05        ,118     ,  1,18         ,18         ,2,20230822,1754, -33.9990,  61.6956,     4769,    978.3,2,   6.3741,2,  34.4292,2,  34.4286,2,    205.5,2,    205.2,2,    20.21,2,    26.32,2,     0.00,2,     1.80,2,    2.399,2,    1.527,2,   1.0900,2,   -999.0,9,     -999,9,     -999,9,     -999,9,     -999,1,   6.3605,2,     -999,9,     -999,9,     -999,9,     -999,9,     -999,1,   4.9695,1,   0.0111,1,     17.5,2,     -999,1,     -999,1,     -999,1,     -999,1,20230822,1918, -33.9990,  61.6957,-999          ,9,-999          ,9
33RR20230722  ,I05        ,118     ,  1,17         ,17         ,2,20230822,1754, -33.9990,  61.6956,     4769,   1099.4,2,   5.1433,2,  34.3665,2,  34.3660,2,    205.2,2,    205.3,2,    28.22,2,    28.94,2,     0.00,2,     2.00,2,     -999,9,     -999,9,     -999,9,   2194.8,2,   2296.4,2,   7.6249,2,    24.96,2,     -999,1,   5.1436,2,     -999,9,     -999,9,     -999,9,     -999,9,     -999,1,   4.9701,1,   0.0112,1,     -999,9,     -999,1,     -999,1,     -999,1,     -999,1,20230822,1915, -33.9990,  61.6957,-999          ,9,-999          ,9
33RR20230722  ,I05        ,118     ,  1,16         ,16         ,2,20230822,1754, -33.9990,  61.6956,     4769,   1238.4,2,   4.1707,2,  34.3762,2,  34.3753,2,    194.8,2,    194.7,2,    40.22,2,    31.30,2,     0.00,2,     2.15,2,     -999,9,     -999,9,     -999,9,   2212.6,2,   2304.2,2,   7.5973,2,    24.94,2,     -999,1,   4.1705,2,     -999,9,     -999,9,     -999,9,     -999,9,     -999,1,   4.8911,1,   0.0111,1,     -999,9,     -999,1,     -999,1,     -999,1,     -999,1,20230822,1911, -33.9990,  61.6957,-999          ,9,-999          ,9
33RR20230722  ,I05        ,118     ,  1,15         ,15         ,2,20230822,1754, -33.9990,  61.6956,     4769,   1380.3,2,   3.5190,2,  34.4423,2,  34.4418,2,    179.5,2,    180.5,2,    53.79,2,    32.92,2,     0.00,2,     2.30,2,     -999,9,     -999,9,     -999,9,   2233.3,2,   2318.4,2,   7.5759,2,    24.93,2,     -999,1,   3.5120,2,     -999,9,     -999,9,     -999,9,     -999,9,     -999,1,   4.8156,1,   0.0114,1,     -999,9,     -999,1,     -999,1,     -999,1,     -999,1,20230822,1908, -33.9990,  61.6957,-999          ,9,-999          ,9
33RR20230722  ,I05        ,118     ,  1,14         ,14         ,2,20230822,1754, -33.9990,  61.6956,     4769,   1536.2,2,   3.1466,2,  34.5134,2,  34.5144,2,    173.0,2,    172.9,2,    63.26,2,    33.26,2,     0.00,2,     2.32,2,     -999,9,     -999,9,     -999,9,   2241.6,2,   2328.8,2,   7.5694,2,    24.95,2,     -999,1,   3.1503,2,     -999,9,     -999,9,     -999,9,     -999,9,     -999,1,   4.9738,1,   0.0111,1,     -999,9,     -999,1,     -999,1,     -999,1,     -999,1,20230822,1904, -33.9990,  61.6957,-999          ,9,-999          ,9
33RR20230722  ,I05        ,118     ,  1,13         ,13         ,2,20230822,1754, -33.9990,  61.6956,     4769,   1689.2,2,   2.8694,2,  34.5834,2,  34.5830,2,    172.3,2,    172.0,2,    69.31,2,    32.87,2,     0.00,2,     2.28,2,     -999,9,     -999,9,     -999,9,   2248.3,2,   2333.0,2,   7.5723,2,    24.96,2,     -999,1,   2.8691,2,     -999,9,     -999,9,     -999,9,     -999,9,     -999,1,   4.9741,1,   0.0118,1,     -999,9,     -999,1,     -999,1,     -999,1,     -999,1,20230822,1900, -33.9990,  61.6956,-999          ,9,-999          ,9
33RR20230722  ,I05        ,118     ,  1,12         ,12         ,2,20230822,1754, -33.9990,  61.6956,     4769,   1852.5,2,   2.6860,2,  34.6369,2,  34.6362,2,    175.0,2,    175.3,2,    73.40,2,    32.17,2,     0.00,2,     2.23,2,     -999,9,     -999,9,     -999,9,   2249.2,2,   2339.8,2,   7.5829,2,    24.96,2,     -999,1,   2.6856,2,     -999,9,     -999,9,     -999,9,     -999,9,     -999,1,   4.9744,1,   0.0111,1,     -999,9,     -999,1,     -999,1,     -999,1,     -999,1,20230822,1857, -33.9990,  61.6956,-999          ,9,-999          ,9
33RR20230722  ,I05        ,118     ,  1,11         ,11         ,2,20230822,1754, -33.9990,  61.6956,     4769,   2044.1,2,   2.4517,2,  34.6878,2,  34.6871,2,    179.0,2,    179.2,2,    81.11,2,    31.54,2,     0.00,2,     2.21,2,     -999,9,     -999,9,     -999,9,   2253.7,2,   2348.9,2,   7.5960,2,    24.97,2,     -999,1,   2.4516,2,     -999,9,     -999,9,     -999,9,     -999,9,     -999,1,   4.9745,1,   0.0113,1,     -999,9,     -999,1,     -999,1,     -999,1,     -999,1,20230822,1852, -33.9990,  61.6957,-999          ,9,-999          ,9
33RR20230722  ,I05        ,118     ,  1,10         ,10         ,2,20230822,1754, -33.9990,  61.6956,     4769,   2289.6,2,   2.2094,2,  34.7192,2,  34.7188,2,    181.0,2,    181.2,2,    92.43,2,    31.37,2,     0.00,2,     2.20,2,     -999,9,     -999,9,     -999,9,   2261.4,2,   2359.1,2,   7.6051,2,    24.97,2,     -999,1,   2.2085,2,     -999,9,     -999,9,     -999,9,     -999,9,     -999,1,   4.9688,1,   0.0112,1,     -999,9,     -999,1,     -999,1,     -999,1,     -999,1,20230822,1847, -33.9990,  61.6957,-999          ,9,-999          ,9
33RR20230722  ,I05        ,118     ,  1,9          ,9          ,2,20230822,1754, -33.9990,  61.6956,     4769,   2569.0,2,   2.0232,2,  34.7286,2,  34.7280,2,    179.7,2,    179.6,2,   102.58,2,    31.76,2,     0.00,2,     2.24,2,     -999,9,     -999,9,     -999,9,   -999.0,9,     -999,9,     -999,9,     -999,9,     -999,1,   2.0227,2,     -999,9,     -999,9,     -999,9,     -999,9,     -999,1,   4.9752,1,   0.0117,1,     -999,9,     -999,1,     -999,1,     -999,1,     -999,1,20230822,1841, -33.9990,  61.6956,-999          ,9,-999          ,9
33RR20230722  ,I05        ,118     ,  1,8          ,8          ,2,20230822,1754, -33.9990,  61.6956,     4769,   2889.6,2,   1.8410,2,  34.7309,2,  34.7304,2,    181.1,2,    181.0,2,   110.10,2,    32.06,2,     0.00,2,     2.26,2,     -999,9,     -999,9,     -999,9,   2273.9,2,   2380.4,2,   7.6088,2,    25.00,2,     -999,1,   1.8407,2,     -999,9,     -999,9,     -999,9,     -999,9,     -999,1,   4.9753,1,   0.0111,1,     -999,9,     -999,1,     -999,1,     -999,1,     -999,1,20230822,1835, -33.9990,  61.6957,-999          ,9,-999          ,9
33RR20230722  ,I05        ,118     ,  1,7          ,7          ,2,20230822,1754, -33.9990,  61.6956,     4769,   3257.9,2,   1.6204,2,  34.7279,2,  34.7274,2,    187.0,2,    187.0,2,   114.39,2,    32.00,2,     0.00,2,     2.26,2,     -999,9,     -999,9,     -999,9,   -999.0,9,     -999,9,     -999,9,     -999,9,     -999,1,   1.6202,2,     -999,9,     -999,9,     -999,9,     -999,9,     -999,1,   4.9118,1,   0.0121,1,     -999,9,     -999,1,     -999,1,     -999,1,     -999,1,20230822,1827, -33.9989,  61.6957,-999          ,9,-999          ,9
33RR20230722  ,I05        ,118     ,  1,6          ,6          ,2,20230822,1754, -33.9990,  61.6956,     4769,   3633.9,2,   1.2846,2,  34.7180,2,  34.7174,2,    198.4,2,    198.4,2,   117.23,2,    31.71,2,     0.00,2,     2.24,2,     -999,9,     -999,9,     -999,9,   2267.8,2,   2369.2,6,   7.6133,2,    24.98,2,     -999,1,   1.2839,2,     -999,9,     -999,9,     -999,9,     -999,9,     -999,1,   4.9761,1,   0.0111,1,     -999,9,     -999,1,     -999,1,     -999,1,     -999,1,20230822,1820, -33.9990,  61.6956,-999          ,9,-999          ,9
33RR20230722  ,I05        ,118     ,  1,5          ,5          ,2,20230822,1754, -33.9990,  61.6956,     4769,   4006.2,2,   0.8085,2,  34.6977,2,  34.6969,2,    209.4,2,    209.5,2,   126.99,2,    32.01,2,     0.00,2,     2.25,2,     -999,9,     -999,9,     -999,9,   -999.0,9,     -999,9,     -999,9,     -999,9,     -999,1,   0.8077,2,     -999,9,     -999,9,     -999,9,     -999,9,     -999,1,   4.9758,1,   0.0111,1,     -999,9,     -999,1,     -999,1,     -999,1,     -999,1,20230822,1812, -33.9990,  61.6957,-999          ,9,-999          ,9
33RR20230722  ,I05        ,118     ,  1,4          ,37         ,2,20230822,1754, -33.9990,  61.6956,     4769,   4326.5,2,   0.5916,2,  34.6880,2,  34.6873,2,    215.6,2,    215.9,2,   131.87,2,    32.06,2,     0.00,2,     2.26,2,     -999,9,     -999,9,     -999,9,   2262.8,2,   2361.4,2,   7.6074,6,    24.97,2,     -999,1,   0.5925,2,     -999,9,     -999,9,     -999,9,     -999,9,     -999,1,   4.9536,1,   0.0110,1,     -999,9,     -999,1,     -999,1,     -999,1,     -999,1,20230822,1806, -33.9990,  61.6956,-999          ,9,-999          ,9
33RR20230722  ,I05        ,118     ,  1,3          ,3          ,2,20230822,1754, -33.9990,  61.6956,     4769,   4567.1,2,   0.5222,2,  34.6831,2,  34.6828,2,    217.5,2,    217.7,2,   134.21,2,    32.24,2,     0.00,2,     2.26,2,    0.250,2,    0.135,2,   0.0600,2,   2258.4,2,   2360.9,6,   7.6056,2,    24.97,2,     -999,1,   0.5224,2,     -999,9,     -999,9,     -999,9,     -999,9,     -999,1,   4.9764,1,   0.0111,1,     17.9,2,     -999,1,     -999,1,     -999,1,     -999,1,20230822,1801, -33.9990,  61.6956,-999          ,9,-999          ,9