BOTTLE,20240422CCHHYDRO
EXPOCODE,SECT_ID,STNNBR,CASTNO,SAMPNO,BTLNBR,BTLNBR_FLAG_W,DATE,TIME,LATITUDE,LONGITUDE,DEPTH,CTDPRS,CTDPRS_FLAG_W,CTDTMP,CTDTMP_FLAG_W,CTDSAL,CTDSAL_FLAG_W,SALNTY,SALNTY_FLAG_W,CTDOXY,CTDOXY_FLAG_W,OXYGEN,OXYGEN_FLAG_W,SILCAT,SILCAT_FLAG_W,NITRAT,NITRAT_FLAG_W,NITRIT,NITRIT_FLAG_W,PHSPHT,PHSPHT_FLAG_W,CFC-11,CFC-11_FLAG_W,CFC-12,CFC-12_FLAG_W,SF6,SF6_FLAG_W,TCARBN,TCARBN_FLAG_W,ALKALI,ALKALI_FLAG_W,PH_TOT,PH_TOT_FLAG_W,PH_TMP,PH_TMP_FLAG_W,DOC,DOC_FLAG_W,REFTMP,REFTMP_FLAG_W,POC,POC_FLAG_W,PON,PON_FLAG_W,POP,POP_FLAG_W,DOP,DOP_FLAG_W,DELO18,DELO18_FLAG_W,CTDFLUOR,CTDFLUOR_FLAG_W,CTDXMISS,CTDXMISS_FLAG_W,N2O,N2O_FLAG_W,D15N_NO3,D15N_NO3_FLAG_W,D15N_NO2+NO3,D15N_NO2+NO3_FLAG_W,D18O_NO2+NO3,D18O_NO2+NO3_FLAG_W,D18O_NO3,D18O_NO3_FLAG_W,BTL_DATE,BTL_TIME,BTL_LAT,BTL_LON,HPLC,HPLC_FLAG_W,DNA,DNA_FLAG_W
,,,,,,,,,,,METERS,DBAR,,ITS-90,,PSS-78,,PSS-78,,UMOL/KG,,UMOL/KG,,UMOL/KG,,UMOL/KG,,UMOL/KG,,UMOL/KG,,PMOL/KG,,PMOL/KG,,FMOL/KG,,UMOL/KG,,UMOL/KG,,,,DEG C,,UMOL/KG,,ITS-90,,UG/KG,,UG/KG,,UG/L,,UMOL/KG,,/MILLE,,VOLTS,,VOLTS,,NMOL/KG,,/MILLE,,/MILLE,,/MILLE,,/MILLE,,,,,,,,,
33RR20230722  ,I05        ,52      ,  1,36         ,36         ,2,20230805,0852, -33.9970,  94.9904,     4448,      5.6,2,  15.2573,2,  35.5789,2,  35.5788,2,    247.2,2,    247.0,2,     0.68,2,     1.05,2,     0.10,2,     0.25,2,    2.554,3,    1.456,2,   2.3200,2,   2103.3,2,   2342.1,2,   7.9239,2,    25.02,2,     -999,1,  15.2557,2,     -999,9,     -999,9,     -999,9,     -999,9,     -999,9,   4.9735,1,   0.0349,1,      8.8,2,     -999,1,     -999,1,     -999,1,     -999,1,20230805,1047, -33.9970,  94.9904,-999          ,9,-999          ,9
33RR20230722  ,I05        ,52      ,  1,35         ,35         ,2,20230805,0852, -33.9970,  94.9904,     4448,     19.9,2,  15.2558,2,  35.5788,2,  35.5788,2,    247.1,2,    246.8,2,     0.88,2,     0.99,2,     0.10,2,     0.25,2,     -999,9,     -999,9,     -999,9,   -999.0,9,     -999,9,     -999,9,     -999,9,     -999,1,  15.2537,2,     -999,9,     -999,9,     -999,9,     -999,9,     -999,9,   4.9100,1,   0.0350,1,     -999,9,     -999,1,     -999,1,     -999,1,     -999,1,20230805,1045, -33.9970,  94.9904,-999          ,9,-999          ,9
33RR20230722  ,I05        ,52      ,  1,34         ,34         ,2,20230805,0852, -33.9970,  94.9904,     4448,     35.3,2,  15.2383,2,  35.5771,2,  35.5774,2,    247.0,2,    247.0,2,     0.78,2,     0.98,2,     0.10,2,     0.24,2,    2.533,3,    1.449,2,   2.3500,2,   -999.0,9,     -999,9,     -999,9,     -999,9,     -999,1,  15.2333,2,     -999,9,     -999,9,     -999,9,     -999,9,     -999,9,   4.9745,1,   0.0394,1,      8.7,2,     -999,1,     -999,1,     -999,1,     -999,1,20230805,1044, -33.9970,  94.9904,-999          ,9,-999          ,9
33RR20230722  ,I05        ,52      ,  1,33         ,33         ,2,20230805,0852, -33.9970,  94.9904,     4448,     56.6,2,  15.2039,2,  35.5744,2,  35.5744,2,    246.8,2,    246.7,2,     1.07,2,     0.99,2,     0.10,2,     0.25,2,     -999,9,     -999,9,     -999,9,   2103.5,2,   2341.7,2,   7.9226,2,    25.02,2,     -999,1,  15.2011,2,     -999,9,     -999,9,     -999,9,     -999,9,     -999,9,   4.8848,1,   0.0399,1,     -999,9,     -999,1,     -999,1,     -999,1,     -999,1,20230805,1042, -33.9970,  94.9904,-999          ,9,-999          ,9
33RR20230722  ,I05        ,52      ,  1,32         ,32         ,2,20230805,0852, -33.9970,  94.9904,     4448,     78.4,2,  15.2017,2,  35.5742,2,  35.5742,2,    246.4,2,    246.4,2,     0.78,2,     0.99,2,     0.10,2,     0.25,2,     -999,9,     -999,9,     -999,9,   -999.0,9,     -999,9,     -999,9,     -999,9,     -999,1,  15.2021,2,     -999,9,     -999,9,     -999,9,     -999,9,     -999,9,   4.9744,1,   0.0363,1,     -999,9,     -999,1,     -999,1,     -999,1,     -999,1,20230805,1040, -33.9970,  94.9904,-999          ,9,-999          ,9
33RR20230722  ,I05        ,52      ,  1,31         ,31         ,2,20230805,0852, -33.9970,  94.9904,     4448,    106.2,2,  15.2018,2,  35.5743,2,  35.5742,2,    245.8,2,    246.2,2,     0.88,2,     1.01,2,     0.10,2,     0.23,2,     -999,9,     -999,9,     -999,9,   -999.0,9,     -999,9,     -999,9,     -999,9,     -999,1,  15.2020,2,     -999,9,     -999,9,     -999,9,     -999,9,     -999,9,   4.9728,1,   0.0378,1,     -999,9,     -999,1,     -999,1,     -999,1,     -999,1,20230805,1038, -33.9970,  94.9904,-999          ,9,-999          ,9
33RR20230722  ,I05        ,52      ,  1,30         ,30         ,2,20230805,0852, -33.9970,  94.9904,     4448,    137.8,2,  15.1099,2,  35.5558,2,  35.5519,2,    243.7,2,    245.2,2,     0.68,2,     1.38,2,     0.10,2,     0.26,2,     -999,9,     -999,9,     -999,9,   -999.0,9,     -999,9,     -999,9,     -999,9,     -999,1,  15.1152,2,     -999,9,     -999,9,     -999,9,     -999,9,     -999,9,   4.8933,1,   0.0315,1,     -999,9,     -999,1,     -999,1,     -999,1,     -999,1,20230805,1036, -33.9970,  94.9904,-999          ,9,-999          ,9
33RR20230722  ,I05        ,52      ,  1,29         ,29         ,2,20230805,0852, -33.9970,  94.9904,     4448,    161.0,2,  13.0006,2,  35.2299,2,  35.2276,2,    237.0,2,    238.4,2,     1.66,2,     6.45,2,     0.02,2,     0.58,2,     -999,9,     -999,9,     -999,9,   2125.4,2,   2319.6,2,   7.8439,2,    25.03,2,     -999,1,  13.0040,2,     -999,9,     -999,9,     -999,9,     -999,9,     -999,9,   4.9699,1,   0.0128,1,     -999,9,     -999,1,     -999,1,     -999,1,     -999,1,20230805,1034, -33.9970,  94.9904,-999          ,9,-999          ,9
33RR20230722  ,I05        ,52      ,  1,28         ,28         ,2,20230805,0852, -33.9970,  94.9904,     4448,    201.5,2,  12.3491,2,  35.1208,2,  35.1232,2,    241.5,2,    241.3,2,     1.95,2,     7.61,2,     0.01,2,     0.65,2,     -999,9,     -999,9,     -999,9,   -999.0,9,     -999,9,     -999,9,     -999,9,     -999,1,  12.3604,2,     -999,9,     -999,9,     -999,9,     -999,9,     -999,9,   4.9695,1,   0.0116,1,     -999,9,     -999,1,     -999,1,     -999,1,     -999,1,20230805,1032, -33.9970,  94.9904,-999          ,9,-999          ,9
33RR20230722  ,I05        ,52      ,  1,27         ,27         ,2,20230805,0852, -33.9970,  94.9904,     4448,    232.2,2,  12.1674,2,  35.0919,2,  35.0945,2,    241.9,2,    242.0,2,     2.44,2,     8.00,2,     0.01,2,     0.68,2,     -999,9,     -999,9,     -999,9,   2126.0,2,   2312.2,2,   7.8274,2,    25.03,2,     -999,1,  12.1727,2,     -999,9,     -999,9,     -999,9,     -999,9,     -999,9,   4.3729,1,   0.0116,1,     -999,9,     -999,1,     -999,1,     -999,1,     -999,1,20230805,1031, -33.9970,  94.9904,-999          ,9,-999          ,9
33RR20230722  ,I05        ,52      ,  1,26         ,26         ,2,20230805,0852, -33.9970,  94.9904,     4448,    272.0,2,  11.7754,2,  35.0283,2,  35.0291,2,    245.2,2,    244.6,2,     2.34,2,     8.91,2,     0.00,2,     0.72,2,     -999,9,     -999,9,     -999,9,   -999.0,9,     -999,9,     -999,9,     -999,9,     -999,1,  11.7800,2,     -999,9,     -999,9,     -999,9,     -999,9,     -999,9,   4.9695,1,   0.0114,1,     -999,9,     -999,1,     -999,1,     -999,1,     -999,1,20230805,1029, -33.9970,  94.9904,-999          ,9,-999          ,9
33RR20230722  ,I05        ,52      ,  1,25         ,25         ,2,20230805,0852, -33.9970,  94.9904,     4448,    323.3,2,  11.4299,2,  34.9676,2,  34.9681,2,    244.9,2,    244.2,2,     2.73,2,     9.95,2,     0.00,2,     0.80,2,    2.824,3,    1.752,2,   2.4600,2,   -999.0,9,     -999,9,     -999,9,     -999,9,     -999,1,  11.4286,2,     -999,9,     -999,9,     -999,9,     -999,9,     -999,9,   4.9003,1,   0.0116,1,     11.9,2,     -999,1,     -999,1,     -999,1,     -999,1,20230805,1027, -33.9970,  94.9904,-999          ,9,-999          ,9
33RR20230722  ,I05        ,52      ,  1,24         ,24         ,2,20230805,0852, -33.9970,  94.9904,     4448,    364.2,2,  11.2066,2,  34.9311,2,  34.9303,2,    243.9,2,    243.6,2,     2.83,2,    10.63,2,     0.00,2,     0.85,2,     -999,9,     -999,9,     -999,9,   -999.0,9,     -999,9,     -999,9,     -999,9,     -999,1,  11.2087,2,     -999,9,     -999,9,     -999,9,     -999,9,     -999,9,   4.9683,1,   0.0114,1,     -999,9,     -999,1,     -999,1,     -999,1,     -999,1,20230805,1026, -33.9970,  94.9904,-999          ,9,-999          ,9
33RR20230722  ,I05        ,52      ,  1,23         ,23         ,2,20230805,0852, -33.9970,  94.9904,     4448,    408.8,2,  10.8358,2,  34.8705,2,  34.8721,2,    246.0,2,    245.7,2,     3.02,2,    11.23,2,     0.00,2,     0.90,2,     -999,9,     -999,9,     -999,9,   2129.2,2,   2300.6,2,   7.7962,6,    25.03,2,     -999,1,  10.8326,2,     -999,9,     -999,9,     -999,9,     -999,9,     -999,9,   4.9257,1,   0.0111,1,     -999,9,     -999,1,     -999,1,     -999,1,     -999,1,20230805,1024, -33.9970,  94.9904,-999          ,9,-999          ,9
33RR20230722  ,I05        ,52      ,  1,22         ,22         ,2,20230805,0852, -33.9970,  94.9904,     4448,    455.3,2,  10.4508,2,  34.8055,2,  34.8054,2,    246.1,2,    244.8,2,     3.12,2,    12.52,2,     0.00,2,     0.96,2,     -999,9,     -999,9,     -999,9,   -999.0,9,     -999,9,     -999,9,     -999,9,     -999,1,  10.4478,2,     -999,9,     -999,9,     -999,9,     -999,9,     -999,9,   4.9676,1,   0.0115,1,     -999,9,     -999,1,     -999,1,     -999,1,     -999,1,20230805,1022, -33.9970,  94.9904,-999          ,9,-999          ,9
33RR20230722  ,I05        ,52      ,  1,21         ,21         ,2,20230805,0852, -33.9970,  94.9904,     4448,    525.0,2,  10.1589,2,  34.7665,2,  34.7667,2,    240.4,2,    240.0,2,     3.71,2,    13.96,2,     0.00,2,     1.04,2,     -999,9,     -999,9,     -999,9,   2133.3,2,   2295.3,2,   7.7719,6,    25.02,2,     -999,1,  10.1545,2,     -999,9,     -999,9,     -999,9,     -999,9,     -999,9,   4.9166,1,   0.0115,1,     -999,9,     -999,1,     -999,1,     -999,1,     -999,1,20230805,1020, -33.9970,  94.9904,-999          ,9,-999          ,9
33RR20230722  ,I05        ,52      ,  1,20         ,20         ,2,20230805,0852, -33.9970,  94.9904,     4448,    610.6,2,   9.6661,2,  34.7122,2,  34.7136,2,    233.7,2,    233.6,2,     4.39,2,    15.84,2,     0.00,2,     1.15,2,     -999,9,     -999,9,     -999,9,   -999.0,9,     -999,9,     -999,9,     -999,9,     -999,1,   9.6735,2,     -999,9,     -999,9,     -999,9,     -999,9,     -999,9,   4.9665,1,   0.0113,1,     -999,9,     -999,1,     -999,1,     -999,1,     -999,1,20230805,1017, -33.9970,  94.9904,-999          ,9,-999          ,9
33RR20230722  ,I05        ,52      ,  1,19         ,19         ,2,20230805,0852, -33.9970,  94.9904,     4448,    704.7,2,   9.0133,2,  34.6333,2,  34.6317,2,    228.3,2,    228.9,2,     6.25,2,    18.17,2,     0.00,2,     1.31,2,    3.159,4,    1.910,2,   1.7800,2,   2145.3,2,   2288.0,6,   7.7331,2,    25.02,2,     -999,1,   9.0063,2,     -999,9,     -999,9,     -999,9,     -999,9,     -999,9,   4.9666,1,   0.0113,1,     13.4,2,     -999,1,     -999,1,     -999,1,     -999,1,20230805,1015, -33.9970,  94.9904,-999          ,9,-999          ,9
33RR20230722  ,I05        ,52      ,  1,18         ,18         ,2,20230805,0852, -33.9970,  94.9904,     4448,    812.7,2,   7.6440,2,  34.5038,2,  34.5056,2,    204.8,2,    206.3,2,    12.39,2,    23.39,2,     0.00,2,     1.64,2,     -999,9,     -999,9,     -999,9,   -999.0,9,     -999,9,     -999,9,     -999,9,     -999,1,   7.6748,2,     -999,9,     -999,9,     -999,9,     -999,9,     -999,9,   4.9683,1,   0.0113,1,     -999,9,     -999,1,     -999,1,     -999,1,     -999,1,20230805,1012, -33.9970,  94.9904,-999          ,9,-999          ,9
33RR20230722  ,I05        ,52      ,  1,17         ,17         ,2,20230805,0852, -33.9970,  94.9904,     4448,    924.7,2,   6.1136,2,  34.4063,2,  34.4065,2,    198.5,2,    199.1,2,    21.28,2,    27.60,2,     0.00,2,     1.91,2,     -999,9,     -999,9,     -999,9,   2182.1,2,   2288.5,2,   7.6394,2,    25.03,2,     -999,1,   6.1246,2,     -999,9,     -999,9,     -999,9,     -999,9,     -999,9,   4.9698,1,   0.0113,1,     -999,9,     -999,1,     -999,1,     -999,1,     -999,1,20230805,1009, -33.9970,  94.9904,-999          ,9,-999          ,9
33RR20230722  ,I05        ,52      ,  1,16         ,16         ,2,20230805,0852, -33.9970,  94.9904,     4448,   1085.0,2,   4.4541,2,  34.3729,2,  34.3735,2,    189.9,2,    190.0,2,    38.26,2,    31.31,2,     0.00,2,     2.22,2,     -999,9,     -999,9,     -999,9,   -999.0,9,     -999,9,     -999,9,     -999,9,     -999,1,   4.4585,2,     -999,9,     -999,9,     -999,9,     -999,9,     -999,9,   4.9712,1,   0.0111,1,     -999,9,     -999,1,     -999,1,     -999,1,     -999,1,20230805,1005, -33.9970,  94.9904,-999          ,9,-999          ,9
33RR20230722  ,I05        ,52      ,  1,15         ,15         ,2,20230805,0852, -33.9970,  94.9904,     4448,   1250.4,2,   3.7862,2,  34.4431,2,  34.4445,2,    170.0,2,    169.9,2,    56.71,2,    33.35,2,     0.00,2,     2.38,2,     -999,9,     -999,9,     -999,9,   2235.6,2,   2319.0,2,   7.5749,2,    25.01,2,     -999,1,   3.7857,2,     -999,9,     -999,9,     -999,9,     -999,9,     -999,9,   4.9533,1,   0.0119,1,     -999,9,     -999,1,     -999,1,     -999,1,     -999,1,20230805,1001, -33.9970,  94.9904,-999          ,9,-999          ,9
33RR20230722  ,I05        ,52      ,  1,14         ,14         ,2,20230805,0852, -33.9970,  94.9904,     4448,   1373.4,2,   3.4806,2,  34.5030,2,  34.5036,2,    158.9,2,    158.7,2,    67.05,2,    34.15,2,     0.00,2,     2.44,2,    0.490,3,    0.254,2,   0.1300,2,   -999.0,9,     -999,9,     -999,9,     -999,9,     -999,1,   3.4787,2,     -999,9,     -999,9,     -999,9,     -999,9,     -999,9,   4.9715,1,   0.0111,1,     23.3,2,     -999,1,     -999,1,     -999,1,     -999,1,20230805,0958, -33.9970,  94.9904,-999          ,9,-999          ,9
33RR20230722  ,I05        ,52      ,  1,13         ,13         ,4,20230805,0852, -33.9970,  94.9904,     4448,   1494.9,3,   3.2386,3,  34.5414,3,  34.6358,4,    156.9,3,    173.5,3,    60.21,3,    29.80,3,     0.00,3,     2.15,3,     -999,9,     -999,9,     -999,9,   2233.1,4,   2334.1,3,   7.6205,3,    25.03,3,     -999,1,   3.2387,3,     -999,9,     -999,9,     -999,9,     -999,9,     -999,9,   4.9210,1,   0.0113,1,     -999,9,     -999,1,     -999,1,     -999,1,     -999,1,20230805,0955, -33.9970,  94.9904,-999          ,9,-999          ,9
33RR20230722  ,I05        ,52      ,  1,12         ,12         ,2,20230805,0852, -33.9970,  94.9904,     4448,   1618.9,2,   3.0283,2,  34.5924,2,  34.5936,2,    155.4,2,    155.1,2,    79.44,2,    34.06,2,     0.00,2,     2.45,2,     -999,9,     -999,9,     -999,9,   -999.0,9,     -999,9,     -999,9,     -999,9,     -999,1,   3.0292,2,     -999,9,     -999,9,     -999,9,     -999,9,     -999,9,   4.9748,1,   0.0112,1,     -999,9,     -999,1,     -999,1,     -999,1,     -999,1,20230805,0952, -33.9970,  94.9904,-999          ,9,-999          ,9
33RR20230722  ,I05        ,52      ,  1,11         ,11         ,2,20230805,0852, -33.9970,  94.9904,     4448,   1750.8,2,   2.8155,2,  34.6338,2,  34.6333,2,    159.0,2,    158.8,2,    83.34,2,    33.65,2,     0.00,2,     2.41,2,    0.100,3,    0.061,2,   0.0200,2,   2265.0,2,   2349.7,2,   7.5708,2,    25.02,2,     -999,1,   2.8129,2,     -999,9,     -999,9,     -999,9,     -999,9,     -999,9,   4.9170,1,   0.0115,1,     22.7,2,     -999,1,     -999,1,     -999,1,     -999,1,20230805,0949, -33.9970,  94.9904,-999          ,9,-999          ,9
33RR20230722  ,I05        ,52      ,  1,10         ,10         ,2,20230805,0852, -33.9970,  94.9904,     4448,   1926.7,2,   2.5760,2,  34.6754,2,  34.6755,2,    167.4,2,    167.6,2,    83.92,2,    32.58,2,     0.00,2,     2.33,2,     -999,9,     -999,9,     -999,9,   -999.0,9,     -999,9,     -999,9,     -999,9,     -999,1,   2.5771,2,     -999,9,     -999,9,     -999,9,     -999,9,     -999,9,   4.9748,1,   0.0116,1,     -999,9,     -999,1,     -999,1,     -999,1,     -999,1,20230805,0945, -33.9970,  94.9904,-999          ,9,-999          ,9
33RR20230722  ,I05        ,52      ,  1,9          ,9          ,2,20230805,0852, -33.9970,  94.9904,     4448,   2160.6,2,   2.3330,2,  34.7137,2,  34.7142,2,    177.7,2,    177.7,2,    87.53,2,    31.53,2,     0.00,2,     2.25,2,    0.063,3,    0.036,2,   0.0200,2,   2257.9,2,   2352.9,2,   7.6011,6,    25.03,2,     -999,1,   2.3336,2,     -999,9,     -999,9,     -999,9,     -999,9,     -999,9,   4.9748,1,   0.0112,1,     20.7,2,     -999,1,     -999,1,     -999,1,     -999,1,20230805,0940, -33.9970,  94.9904,-999          ,9,-999          ,9
33RR20230722  ,I05        ,52      ,  1,8          ,8          ,2,20230805,0852, -33.9970,  94.9904,     4448,   2445.4,2,   2.0331,2,  34.7376,2,  34.7382,2,    188.9,2,    189.2,2,    91.53,2,    30.55,2,     0.00,2,     2.19,2,     -999,9,     -999,9,     -999,9,   -999.0,9,     -999,9,     -999,9,     -999,9,     -999,1,   2.0323,2,     -999,9,     -999,9,     -999,9,     -999,9,     -999,9,   4.9223,1,   0.0112,1,     -999,9,     -999,1,     -999,1,     -999,1,     -999,1,20230805,0934, -33.9970,  94.9904,-999          ,9,-999          ,9
33RR20230722  ,I05        ,52      ,  1,7          ,7          ,2,20230805,0852, -33.9970,  94.9904,     4448,   2753.7,2,   1.7210,2,  34.7386,2,  34.7396,2,    194.7,2,    194.8,2,   100.02,2,    30.45,2,     0.00,2,     2.19,2,    0.051,3,    0.026,2,   0.0400,2,   2255.8,2,   2360.8,2,   7.6166,2,    25.01,2,     -999,1,   1.7206,2,     -999,9,     -999,9,     -999,9,     -999,9,     -999,9,   4.9750,1,   0.0111,1,     18.4,2,     -999,1,     -999,1,     -999,1,     -999,1,20230805,0928, -33.9970,  94.9904,-999          ,9,-999          ,9
33RR20230722  ,I05        ,52      ,  1,6          ,6          ,2,20230805,0852, -33.9970,  94.9904,     4448,   3245.6,2,   1.3706,2,  34.7284,2,  34.7286,2,    200.2,2,    200.3,2,   109.68,2,    31.00,2,     0.00,2,     2.21,2,     -999,9,     -999,9,     -999,9,   -999.0,9,     -999,9,     -999,9,     -999,9,     -999,1,   1.3708,2,     -999,9,     -999,9,     -999,9,     -999,9,     -999,9,   4.9754,1,   0.0111,1,     -999,9,     -999,1,     -999,1,     -999,1,     -999,1,20230805,0919, -33.9970,  94.9904,-999          ,9,-999          ,9
33RR20230722  ,I05        ,52      ,  1,5          ,5          ,2,20230805,0852, -33.9970,  94.9904,     4448,   3472.2,2,   1.2351,2,  34.7227,2,  34.7237,2,    202.3,2,    202.6,2,   111.92,2,    31.16,2,     0.00,2,     2.23,2,    0.073,3,    0.039,2,   0.0500,2,   2258.8,2,   2365.0,2,   7.6189,2,    25.01,2,     -999,1,   1.2364,2,     -999,9,     -999,9,     -999,9,     -999,9,     -999,9,   4.9163,1,   0.0111,1,     18.6,2,     -999,1,     -999,1,     -999,1,     -999,1,20230805,0914, -33.9970,  94.9904,-999          ,9,-999          ,9
33RR20230722  ,I05        ,52      ,  1,4          ,37         ,2,20230805,0852, -33.9970,  94.9904,     4448,   3819.3,2,   1.1426,2,  34.7173,2,  34.7176,2,    203.5,2,    203.8,2,   115.44,2,    31.41,2,     0.00,2,     2.24,2,     -999,9,     -999,9,     -999,9,   -999.0,9,     -999,9,     -999,9,     -999,9,     -999,1,   1.1416,2,     -999,9,     -999,9,     -999,9,     -999,9,     -999,9,   4.9759,1,   0.0110,1,     -999,9,     -999,1,     -999,1,     -999,1,     -999,1,20230805,0907, -33.9970,  94.9904,-999          ,9,-999          ,9
33RR20230722  ,I05        ,52      ,  1,3          ,3          ,2,20230805,0852, -33.9970,  94.9904,     4448,   4116.9,2,   1.1055,2,  34.7140,2,  34.7144,2,    204.2,2,    204.6,2,   118.56,2,    31.70,2,     0.00,2,     2.26,2,    0.082,3,    0.050,2,   0.0200,2,   2264.5,2,   2370.7,2,   7.6232,2,    25.02,2,     -999,1,   1.1056,2,     -999,9,     -999,9,     -999,9,     -999,9,     -999,9,   4.9761,1,   0.0111,1,     18.4,2,     -999,1,     -999,1,     -999,1,     -999,1,20230805,0901, -33.9970,  94.9904,-999          ,9,-999          ,9