BOTTLE,20240422CCHHYDRO
EXPOCODE,SECT_ID,STNNBR,CASTNO,SAMPNO,BTLNBR,BTLNBR_FLAG_W,DATE,TIME,LATITUDE,LONGITUDE,DEPTH,CTDPRS,CTDPRS_FLAG_W,CTDTMP,CTDTMP_FLAG_W,CTDSAL,CTDSAL_FLAG_W,SALNTY,SALNTY_FLAG_W,CTDOXY,CTDOXY_FLAG_W,OXYGEN,OXYGEN_FLAG_W,SILCAT,SILCAT_FLAG_W,NITRAT,NITRAT_FLAG_W,NITRIT,NITRIT_FLAG_W,PHSPHT,PHSPHT_FLAG_W,CFC-11,CFC-11_FLAG_W,CFC-12,CFC-12_FLAG_W,SF6,SF6_FLAG_W,TCARBN,TCARBN_FLAG_W,ALKALI,ALKALI_FLAG_W,PH_TOT,PH_TOT_FLAG_W,PH_TMP,PH_TMP_FLAG_W,DOC,DOC_FLAG_W,REFTMP,REFTMP_FLAG_W,POC,POC_FLAG_W,PON,PON_FLAG_W,POP,POP_FLAG_W,DOP,DOP_FLAG_W,DELO18,DELO18_FLAG_W,CTDFLUOR,CTDFLUOR_FLAG_W,CTDXMISS,CTDXMISS_FLAG_W,N2O,N2O_FLAG_W,D15N_NO3,D15N_NO3_FLAG_W,D15N_NO2+NO3,D15N_NO2+NO3_FLAG_W,D18O_NO2+NO3,D18O_NO2+NO3_FLAG_W,D18O_NO3,D18O_NO3_FLAG_W,BTL_DATE,BTL_TIME,BTL_LAT,BTL_LON,HPLC,HPLC_FLAG_W,DNA,DNA_FLAG_W
,,,,,,,,,,,METERS,DBAR,,ITS-90,,PSS-78,,PSS-78,,UMOL/KG,,UMOL/KG,,UMOL/KG,,UMOL/KG,,UMOL/KG,,UMOL/KG,,PMOL/KG,,PMOL/KG,,FMOL/KG,,UMOL/KG,,UMOL/KG,,,,DEG C,,UMOL/KG,,ITS-90,,UG/KG,,UG/KG,,UG/L,,UMOL/KG,,/MILLE,,VOLTS,,VOLTS,,NMOL/KG,,/MILLE,,/MILLE,,/MILLE,,/MILLE,,,,,,,,,
33RR20230722  ,I05        ,23      ,  1,2          ,2          ,2,20230728,1924, -31.0850, 105.4582,     5186,   4953.8,2,   1.0688,2,  34.7085,2,  34.7079,2,    205.2,2,    205.5,2,   121.34,2,    32.29,2,     0.00,2,     2.24,2,    0.036,2,    0.050,2,  -0.0500,2,   2271.1,2,   2372.0,2,   7.6195,2,    25.00,2,     -999,9,   1.0692,2,     -999,9,     -999,9,     -999,9,     -999,9,     -999,1,   4.3558,1,   0.0118,1,     18.8,2,     -999,9,     -999,9,     -999,9,     -999,9,20230728,1930, -31.0851, 105.4583,-999          ,9,-999          ,9
33RR20230722  ,I05        ,23      ,  1,1          ,1          ,2,20230728,1924, -31.0850, 105.4582,     5186,   5275.5,2,   1.0825,2,  34.7070,2,  34.7081,2,    206.5,2,    206.3,2,   121.34,2,    32.21,2,     0.00,2,     2.25,2,    0.046,2,    0.062,2,  -0.0100,2,   2268.2,2,   2370.2,2,   7.6185,2,    25.00,2,     -999,9,   1.0815,2,     -999,9,     -999,9,     -999,9,     -999,9,     -999,1,   0.4929,1,   0.0117,1,     18.7,2,     -999,9,     -999,9,     -999,9,     -999,9,20230728,1924, -31.0851, 105.4583,-999          ,9,-999          ,9
33RR20230722  ,I05        ,24      ,  1,16         ,16         ,2,20230729,0037, -31.0671, 105.2921,     4367,      7.3,2,  16.9422,2,  35.7884,2,  35.7868,2,    234.2,2,    234.3,2,     1.56,2,     0.52,2,     0.05,2,     0.15,2,     -999,9,     -999,9,     -999,9,   2101.0,3,   2348.1,2,   7.9515,2,    24.98,2,     -999,9,  16.9397,2,     -999,9,     -999,9,     -999,9,     -999,9,     -999,1,   4.9743,1,   0.0214,1,     -999,9,     -999,9,     -999,9,     -999,9,     -999,9,20230729,0210, -31.0671, 105.2921,-999          ,9,-999          ,9
33RR20230722  ,I05        ,24      ,  1,15         ,15         ,2,20230729,0037, -31.0671, 105.2921,     4367,    104.3,2,  16.3917,2,  35.7905,2,  35.7918,2,    239.8,2,    239.6,2,     1.27,2,     0.15,2,     0.04,2,     0.12,2,     -999,9,     -999,9,     -999,9,   2095.5,2,   2347.7,2,   7.9524,2,    25.00,2,     -999,9,  16.3918,2,     -999,9,     -999,9,     -999,9,     -999,9,     -999,1,   4.9739,1,   0.0281,1,     -999,9,     -999,9,     -999,9,     -999,9,     -999,9,20230729,0205, -31.0671, 105.2921,-999          ,9,-999          ,9
33RR20230722  ,I05        ,24      ,  1,14         ,14         ,2,20230729,0037, -31.0671, 105.2921,     4367,    454.9,2,  10.2672,2,  34.7718,2,  34.7754,2,    243.9,2,    244.0,2,     3.32,2,    13.17,2,     0.00,2,     0.96,2,     -999,9,     -999,9,     -999,9,   2135.4,2,   2293.3,2,   7.7777,2,    24.99,2,     -999,9,  10.2635,2,     -999,9,     -999,9,     -999,9,     -999,9,     -999,1,   4.9677,1,   0.0115,1,     -999,9,     -999,9,     -999,9,     -999,9,     -999,9,20230729,0158, -31.0671, 105.2921,-999          ,9,-999          ,9
33RR20230722  ,I05        ,24      ,  1,13         ,13         ,2,20230729,0037, -31.0671, 105.2921,     4367,    757.0,2,   8.0449,2,  34.5403,2,  34.5325,2,    215.5,2,    215.6,2,     9.86,2,    21.80,2,     0.00,2,     1.50,2,     -999,9,     -999,9,     -999,9,   2158.0,2,   2282.8,2,   7.6963,2,    25.00,2,     -999,9,   8.0578,2,     -999,9,     -999,9,     -999,9,     -999,9,     -999,1,   4.9675,1,   0.0113,1,     -999,9,     -999,9,     -999,9,     -999,9,     -999,9,20230729,0152, -31.0671, 105.2921,-999          ,9,-999          ,9
33RR20230722  ,I05        ,24      ,  1,12         ,12         ,2,20230729,0037, -31.0671, 105.2921,     4367,   1019.3,2,   4.3127,2,  34.3810,3,  34.3862,2,    184.5,2,    186.0,2,    41.59,2,    32.03,2,     0.00,2,     2.23,2,     -999,9,     -999,9,     -999,9,   2215.2,2,   2302.5,2,   7.5957,2,    24.99,2,     -999,9,   4.3108,2,     -999,9,     -999,9,     -999,9,     -999,9,     -999,1,   4.9516,1,   0.0111,1,     -999,9,     -999,9,     -999,9,     -999,9,     -999,9,20230729,0146, -31.0671, 105.2921,-999          ,9,-999          ,9
33RR20230722  ,I05        ,24      ,  1,11         ,11         ,2,20230729,0037, -31.0671, 105.2921,     4367,   1311.5,2,   3.4590,2,  34.5324,2,  34.5311,2,    151.8,2,    151.9,2,    73.02,2,    34.81,2,     0.00,2,     2.46,2,     -999,9,     -999,9,     -999,9,   2258.7,2,   2335.7,2,   7.5580,2,    25.00,2,     -999,9,   3.4601,2,     -999,9,     -999,9,     -999,9,     -999,9,     -999,1,   4.9744,1,   0.0119,1,     -999,9,     -999,9,     -999,9,     -999,9,     -999,9,20230729,0140, -31.0671, 105.2921,-999          ,9,-999          ,9
33RR20230722  ,I05        ,24      ,  1,10         ,10         ,2,20230729,0037, -31.0671, 105.2921,     4367,   1660.1,2,   2.8286,2,  34.6442,2,  34.6419,2,    153.0,2,    152.9,2,    88.73,2,    34.40,2,     0.00,2,     2.42,2,     -999,9,     -999,9,     -999,9,   2275.3,2,   2354.1,2,   7.5665,2,    25.00,2,     -999,9,   2.8288,2,     -999,9,     -999,9,     -999,9,     -999,9,     -999,1,   4.9749,1,   0.0113,1,     -999,9,     -999,9,     -999,9,     -999,9,     -999,9,20230729,0133, -31.0671, 105.2921,-999          ,9,-999          ,9
33RR20230722  ,I05        ,24      ,  1,9          ,9          ,2,20230729,0037, -31.0671, 105.2921,     4367,   2260.9,2,   2.1965,2,  34.7211,2,  34.7195,2,    164.4,2,    164.3,2,   109.22,2,    33.45,2,     0.00,2,     2.35,2,     -999,9,     -999,9,     -999,9,   2283.8,2,   2373.5,2,   7.5896,2,    24.99,2,     -999,9,   2.1968,2,     -999,9,     -999,9,     -999,9,     -999,9,     -999,1,   4.9755,1,   0.0112,1,     -999,9,     -999,9,     -999,9,     -999,9,     -999,9,20230729,0122, -31.0671, 105.2921,-999          ,9,-999          ,9
33RR20230722  ,I05        ,24      ,  1,8          ,8          ,2,20230729,0037, -31.0671, 105.2921,     4367,   2601.3,2,   1.9202,2,  34.7291,3,  34.7266,2,    172.3,2,    172.4,2,   110.78,2,    33.10,2,     0.00,2,     2.30,2,     -999,9,     -999,9,     -999,9,   2285.0,3,   2378.0,2,   7.6011,2,    25.00,2,     -999,9,   1.9214,2,     -999,9,     -999,9,     -999,9,     -999,9,     -999,1,   4.6570,1,   0.0112,1,     -999,9,     -999,9,     -999,9,     -999,9,     -999,9,20230729,0115, -31.0671, 105.2921,-999          ,9,-999          ,9
33RR20230722  ,I05        ,24      ,  1,7          ,7          ,2,20230729,0037, -31.0671, 105.2921,     4367,   2973.9,2,   1.6912,2,  34.7295,3,  34.7272,2,    180.3,2,    180.3,2,   112.44,2,    32.74,2,     0.00,2,     2.29,2,     -999,9,     -999,9,     -999,9,   2281.9,2,   2378.8,2,   7.6075,6,    25.01,2,     -999,9,   1.6914,2,     -999,9,     -999,9,     -999,9,     -999,9,     -999,1,   4.9755,1,   0.0114,1,     -999,9,     -999,9,     -999,9,     -999,9,     -999,9,20230729,0108, -31.0671, 105.2921,-999          ,9,-999          ,9
33RR20230722  ,I05        ,24      ,  1,6          ,6          ,2,20230729,0037, -31.0671, 105.2921,     4367,   3346.9,2,   1.4749,2,  34.7278,3,  34.7252,2,    188.1,2,    188.3,2,   116.05,2,    32.46,2,     0.00,2,     2.25,2,    0.004,2,    0.007,2,   0.0600,2,   2276.8,2,   2376.3,2,   7.6134,2,    24.99,2,     -999,9,   1.4756,2,     -999,9,     -999,9,     -999,9,     -999,9,     -999,1,   4.9758,1,   0.0117,1,     19.1,2,     -999,9,     -999,9,     -999,9,     -999,9,20230729,0101, -31.0671, 105.2921,-999          ,9,-999          ,9
33RR20230722  ,I05        ,24      ,  1,5          ,5          ,2,20230729,0037, -31.0671, 105.2921,     4367,   3704.8,2,   1.3449,2,  34.7240,3,  34.7207,2,    192.5,2,    193.0,2,   118.00,2,    32.40,2,     0.00,2,     2.24,2,    0.005,2,    0.009,2,  -0.0200,2,   2277.7,2,   2377.1,2,   7.6183,2,    24.99,2,     -999,9,   1.3448,2,     -999,9,     -999,9,     -999,9,     -999,9,     -999,1,   4.9760,1,   0.0117,1,     18.7,2,     -999,9,     -999,9,     -999,9,     -999,9,20230729,0054, -31.0671, 105.2921,-999          ,9,-999          ,9
33RR20230722  ,I05        ,24      ,  1,4          ,37         ,2,20230729,0037, -31.0671, 105.2921,     4367,   4029.6,2,   1.2199,2,  34.7191,2,  34.7178,2,    195.9,2,    196.1,2,   120.44,2,    32.40,2,     0.00,2,     2.25,2,    0.004,2,    0.012,2,  -0.0200,2,   2276.9,2,   2379.3,2,   7.6193,2,    25.00,2,     -999,9,   1.2200,2,     -999,9,     -999,9,     -999,9,     -999,9,     -999,1,   4.8586,1,   0.0111,1,     18.3,2,     -999,9,     -999,9,     -999,9,     -999,9,20230729,0047, -31.0671, 105.2921,-999          ,9,-999          ,9
33RR20230722  ,I05        ,24      ,  1,3          ,3          ,2,20230729,0037, -31.0671, 105.2921,     4367,   4197.1,2,   1.1958,2,  34.7174,2,  34.7160,2,    197.4,2,    197.4,2,   122.00,2,    32.42,2,     0.00,2,     2.25,2,    0.007,2,    0.014,2,   0.0500,2,   2275.0,2,   2380.0,6,   7.6205,2,    25.00,2,     -999,9,   1.1958,2,     -999,9,     -999,9,     -999,9,     -999,9,     -999,1,   4.9766,1,   0.0112,1,     18.4,2,     -999,9,     -999,9,     -999,9,     -999,9,20230729,0043, -31.0671, 105.2921,-999          ,9,-999          ,9
33RR20230722  ,I05        ,24      ,  1,2          ,2          ,2,20230729,0037, -31.0671, 105.2921,     4367,   4279.7,2,   1.1768,2,  34.7166,3,  34.7146,2,    198.4,2,    198.3,2,   121.13,2,    32.39,2,     0.00,2,     2.24,2,    0.008,2,    0.017,2,   0.0100,2,   2275.9,2,   2379.3,2,   7.6215,6,    24.99,2,     -999,9,   1.1771,2,     -999,9,     -999,9,     -999,9,     -999,9,     -999,1,   4.9566,1,   0.0117,1,     18.3,2,     -999,9,     -999,9,     -999,9,     -999,9,20230729,0040, -31.0671, 105.2921,-999          ,9,-999          ,9
33RR20230722  ,I05        ,24      ,  1,1          ,1          ,2,20230729,0037, -31.0671, 105.2921,     4367,   4432.9,2,   1.1257,2,  34.7141,2,  34.7127,2,    200.9,2,    200.8,2,   121.71,2,    32.35,2,     0.00,2,     2.24,2,    0.013,2,    0.024,2,  -0.0200,2,   2274.4,2,   2376.8,2,   7.6211,2,    25.00,2,     -999,9,   1.1258,2,     -999,9,     -999,9,     -999,9,     -999,9,     -999,1,   0.4761,1,   0.0110,1,     18.2,2,     -999,9,     -999,9,     -999,9,     -999,9,20230729,0037, -31.0671, 105.2921,-999          ,9,-999          ,9