BOTTLE,20240422CCHHYDRO
EXPOCODE,SECT_ID,STNNBR,CASTNO,SAMPNO,BTLNBR,BTLNBR_FLAG_W,DATE,TIME,LATITUDE,LONGITUDE,DEPTH,CTDPRS,CTDPRS_FLAG_W,CTDTMP,CTDTMP_FLAG_W,CTDSAL,CTDSAL_FLAG_W,SALNTY,SALNTY_FLAG_W,CTDOXY,CTDOXY_FLAG_W,OXYGEN,OXYGEN_FLAG_W,SILCAT,SILCAT_FLAG_W,NITRAT,NITRAT_FLAG_W,NITRIT,NITRIT_FLAG_W,PHSPHT,PHSPHT_FLAG_W,CFC-11,CFC-11_FLAG_W,CFC-12,CFC-12_FLAG_W,SF6,SF6_FLAG_W,TCARBN,TCARBN_FLAG_W,ALKALI,ALKALI_FLAG_W,PH_TOT,PH_TOT_FLAG_W,PH_TMP,PH_TMP_FLAG_W,DOC,DOC_FLAG_W,REFTMP,REFTMP_FLAG_W,POC,POC_FLAG_W,PON,PON_FLAG_W,POP,POP_FLAG_W,DOP,DOP_FLAG_W,DELO18,DELO18_FLAG_W,CTDFLUOR,CTDFLUOR_FLAG_W,CTDXMISS,CTDXMISS_FLAG_W,N2O,N2O_FLAG_W,D15N_NO3,D15N_NO3_FLAG_W,D15N_NO2+NO3,D15N_NO2+NO3_FLAG_W,D18O_NO2+NO3,D18O_NO2+NO3_FLAG_W,D18O_NO3,D18O_NO3_FLAG_W,BTL_DATE,BTL_TIME,BTL_LAT,BTL_LON,HPLC,HPLC_FLAG_W,DNA,DNA_FLAG_W
,,,,,,,,,,,METERS,DBAR,,ITS-90,,PSS-78,,PSS-78,,UMOL/KG,,UMOL/KG,,UMOL/KG,,UMOL/KG,,UMOL/KG,,UMOL/KG,,PMOL/KG,,PMOL/KG,,FMOL/KG,,UMOL/KG,,UMOL/KG,,,,DEG C,,UMOL/KG,,ITS-90,,UG/KG,,UG/KG,,UG/L,,UMOL/KG,,/MILLE,,VOLTS,,VOLTS,,NMOL/KG,,/MILLE,,/MILLE,,/MILLE,,/MILLE,,,,,,,,,
33RR20230722  ,I05        ,131     ,  2,36         ,38         ,2,20230826,0904, -33.9987,  56.9854,     5094,      3.9,2,  16.8654,2,  35.6299,2,  35.6299,2,    242.0,2,    242.3,2,     1.46,2,     0.04,2,     0.01,2,     0.13,2,    2.067,2,    1.358,2,   2.3200,2,   2085.0,6,   2336.6,2,   7.9515,2,    25.00,2,     -999,1,  16.8632,2,     -999,9,     -999,9,     -999,9,     -999,9,     -999,9,   4.4060,1,   0.0231,1,      8.1,2,     -999,1,     -999,1,     -999,1,     -999,1,20230826,1110, -33.9987,  56.9854,-999          ,9,-999          ,9
33RR20230722  ,I05        ,131     ,  2,35         ,35         ,2,20230826,0904, -33.9987,  56.9854,     5094,     27.5,2,  16.7969,2,  35.6285,2,  35.6275,2,    241.9,2,    242.0,2,     1.46,2,     0.00,2,     0.01,2,     0.12,2,     -999,9,     -999,9,     -999,9,   2082.6,2,   2336.7,2,   7.9528,2,    25.03,2,     -999,9,  16.7945,2,     -999,9,     -999,9,     -999,9,     -999,9,     -999,9,   4.9747,1,   0.0284,1,     -999,9,     -999,1,     -999,1,     -999,1,     -999,1,20230826,1107, -33.9987,  56.9854,-999          ,9,-999          ,9
33RR20230722  ,I05        ,131     ,  2,34         ,34         ,2,20230826,0904, -33.9987,  56.9854,     5094,     50.0,2,  16.7401,2,  35.6202,2,  35.6307,2,    241.2,2,    241.7,2,     1.37,2,     0.00,2,     0.01,2,     0.13,2,     -999,9,     -999,9,     -999,9,   2087.4,2,   2336.8,2,   7.9500,2,    25.01,2,     -999,9,  16.7380,2,     -999,9,     -999,9,     -999,9,     -999,9,     -999,9,   4.9744,1,   0.0399,1,     -999,9,     -999,1,     -999,1,     -999,1,     -999,1,20230826,1105, -33.9987,  56.9854,-999          ,9,-999          ,9
33RR20230722  ,I05        ,131     ,  2,33         ,33         ,2,20230826,0904, -33.9987,  56.9854,     5094,     76.8,2,  16.6210,2,  35.5991,2,  35.6068,2,    240.7,2,    240.9,2,     1.56,2,     0.05,2,     0.04,2,     0.14,2,    2.012,2,    1.369,2,   2.3200,2,   2085.1,2,   2334.6,2,   7.9491,2,    25.01,2,     -999,9,  16.6301,2,     -999,9,     -999,9,     -999,9,     -999,9,     -999,9,   4.9738,1,   0.0378,1,      8.2,2,     -999,1,     -999,1,     -999,1,     -999,1,20230826,1104, -33.9987,  56.9854,-999          ,9,-999          ,9
33RR20230722  ,I05        ,131     ,  2,32         ,32         ,2,20230826,0904, -33.9987,  56.9854,     5094,    106.7,2,  16.2207,2,  35.5524,2,  35.5535,2,    235.7,2,    236.9,2,     1.66,2,     1.06,2,     0.18,2,     0.20,2,     -999,9,     -999,9,     -999,9,   2094.4,2,   2332.2,2,   7.9270,2,    25.00,2,     -999,9,  16.2221,2,     -999,9,     -999,9,     -999,9,     -999,9,     -999,9,   4.9725,1,   0.0253,1,     -999,9,     -999,1,     -999,1,     -999,1,     -999,1,20230826,1102, -33.9987,  56.9854,-999          ,9,-999          ,9
33RR20230722  ,I05        ,131     ,  2,31         ,31         ,2,20230826,0904, -33.9987,  56.9854,     5094,    140.4,2,  15.2377,2,  35.4629,2,  35.4602,2,    230.4,2,    232.4,2,     2.05,2,     3.22,2,     0.07,2,     0.35,2,    2.252,2,    1.490,2,   2.3300,2,   2106.0,2,   2327.2,2,   7.8926,2,    25.00,2,     -999,9,  15.2369,2,     -999,9,     -999,9,     -999,9,     -999,9,     -999,9,   4.9707,1,   0.0186,1,      9.4,2,     -999,1,     -999,1,     -999,1,     -999,1,20230826,1100, -33.9987,  56.9854,-999          ,9,-999          ,9
33RR20230722  ,I05        ,131     ,  2,30         ,30         ,2,20230826,0904, -33.9987,  56.9854,     5094,    177.0,2,  14.3862,2,  35.3882,2,  35.3967,2,    227.3,2,    228.4,2,     2.63,2,     5.36,2,     0.01,2,     0.48,2,     -999,9,     -999,9,     -999,9,   -999.0,9,     -999,9,     -999,9,     -999,9,     -999,9,  14.3943,2,     -999,9,     -999,9,     -999,9,     -999,9,     -999,9,   4.9694,1,   0.0146,1,     -999,9,     -999,1,     -999,1,     -999,1,     -999,1,20230826,1058, -33.9987,  56.9854,-999          ,9,-999          ,9
33RR20230722  ,I05        ,131     ,  2,29         ,29         ,2,20230826,0904, -33.9987,  56.9854,     5094,    215.6,2,  13.9086,2,  35.3349,2,  35.3334,2,    230.5,2,    231.1,2,     2.83,2,     6.28,2,     0.01,2,     0.54,2,    2.470,2,    1.563,2,   2.4000,2,   2116.4,2,   2320.6,2,   7.8557,6,    25.01,2,     -999,9,  13.9058,2,     -999,9,     -999,9,     -999,9,     -999,9,     -999,9,   4.9690,1,   0.0120,1,      9.9,2,     -999,1,     -999,1,     -999,1,     -999,1,20230826,1057, -33.9987,  56.9854,-999          ,9,-999          ,9
33RR20230722  ,I05        ,131     ,  2,28         ,28         ,2,20230826,0904, -33.9987,  56.9854,     5094,    262.0,2,  13.5796,2,  35.2931,2,  35.2909,2,    233.1,2,    232.8,2,     3.02,2,     6.97,2,     0.00,2,     0.56,2,     -999,9,     -999,9,     -999,9,   -999.0,9,     -999,9,     -999,9,     -999,9,     -999,9,  13.5760,2,     -999,9,     -999,9,     -999,9,     -999,9,     -999,9,   4.9689,1,   0.0117,1,     -999,9,     -999,1,     -999,1,     -999,1,     -999,1,20230826,1055, -33.9987,  56.9854,-999          ,9,-999          ,9
33RR20230722  ,I05        ,131     ,  2,27         ,27         ,2,20230826,0904, -33.9987,  56.9854,     5094,    315.4,2,  13.2410,2,  35.2473,2,  35.2469,2,    233.5,2,    233.4,2,     3.12,2,     7.77,2,     0.00,2,     0.61,2,    2.433,2,    1.621,2,   2.3200,2,   2120.7,2,   2314.6,6,   7.8438,6,    25.01,2,     -999,9,  13.2315,2,     -999,9,     -999,9,     -999,9,     -999,9,     -999,9,   4.9684,1,   0.0117,1,     10.4,2,     -999,1,     -999,1,     -999,1,     -999,1,20230826,1053, -33.9987,  56.9854,-999          ,9,-999          ,9
33RR20230722  ,I05        ,131     ,  2,26         ,26         ,2,20230826,0904, -33.9987,  56.9854,     5094,    382.3,2,  12.8823,2,  35.1954,2,  35.1882,2,    232.1,2,    231.7,2,     3.71,2,     8.89,2,     0.00,2,     0.68,2,     -999,9,     -999,9,     -999,9,   -999.0,9,     -999,9,     -999,9,     -999,9,     -999,9,  12.8780,2,     -999,9,     -999,9,     -999,9,     -999,9,     -999,9,   4.9678,1,   0.0117,1,     -999,9,     -999,1,     -999,1,     -999,1,     -999,1,20230826,1051, -33.9987,  56.9854,-999          ,9,-999          ,9
33RR20230722  ,I05        ,131     ,  2,25         ,25         ,2,20230826,0904, -33.9987,  56.9854,     5094,    460.3,2,  12.2831,2,  35.1025,2,  35.1081,2,    231.5,2,    231.0,2,     3.61,2,    10.20,2,     0.00,2,     0.76,2,    2.632,2,    1.716,2,   2.2500,2,   2131.0,2,   2310.1,2,   7.8179,2,    24.98,2,     -999,9,  12.2943,2,     -999,9,     -999,9,     -999,9,     -999,9,     -999,9,   4.9674,1,   0.0115,1,     10.8,2,     -999,1,     -999,1,     -999,1,     -999,1,20230826,1048, -33.9987,  56.9854,-999          ,9,-999          ,9
33RR20230722  ,I05        ,131     ,  2,24         ,24         ,2,20230826,0904, -33.9987,  56.9854,     5094,    536.8,2,  11.6497,2,  35.0032,2,  35.0075,2,    228.5,2,    228.4,2,     4.20,2,    11.88,2,     0.00,2,     0.86,2,     -999,9,     -999,9,     -999,9,   -999.0,9,     -999,9,     -999,9,     -999,9,     -999,9,  11.6643,2,     -999,9,     -999,9,     -999,9,     -999,9,     -999,9,   4.9667,1,   0.0115,1,     -999,9,     -999,1,     -999,1,     -999,1,     -999,1,20230826,1046, -33.9987,  56.9854,-999          ,9,-999          ,9
33RR20230722  ,I05        ,131     ,  2,23         ,23         ,2,20230826,0904, -33.9987,  56.9854,     5094,    623.9,2,  10.8315,2,  34.8822,2,  34.8749,2,    223.9,2,    224.2,2,     5.17,2,    14.32,2,     0.00,2,     1.01,2,    2.828,2,    1.816,2,   1.9000,2,   2135.3,2,   2298.5,2,   7.7744,2,    24.99,2,     -999,9,  10.8303,2,     -999,9,     -999,9,     -999,9,     -999,9,     -999,9,   4.9665,1,   0.0113,1,     12.4,2,     -999,1,     -999,1,     -999,1,     -999,1,20230826,1043, -33.9987,  56.9854,-999          ,9,-999          ,9
33RR20230722  ,I05        ,131     ,  2,22         ,22         ,2,20230826,0904, -33.9987,  56.9854,     5094,    726.9,2,   9.8802,2,  34.7556,2,  34.7530,2,    219.0,2,    219.1,2,     6.73,2,    16.95,2,     0.00,2,     1.18,2,    2.970,2,    1.834,2,   1.7300,2,   2144.6,2,   2295.3,2,   7.7482,2,    25.02,2,     -999,9,   9.8628,2,     -999,9,     -999,9,     -999,9,     -999,9,     -999,9,   4.9670,1,   0.0113,1,     13.1,2,     -999,1,     -999,1,     -999,1,     -999,1,20230826,1041, -33.9987,  56.9854,-999          ,9,-999          ,9
33RR20230722  ,I05        ,131     ,  2,21         ,21         ,2,20230826,0904, -33.9987,  56.9854,     5094,    838.0,2,   8.3906,2,  34.5953,2,  34.5956,2,    209.1,2,    209.6,2,    11.42,2,    21.36,2,     0.00,2,     1.48,2,     -999,9,     -999,9,     -999,9,   -999.0,9,     -999,9,     -999,9,     -999,9,     -999,9,   8.3914,2,     -999,9,     -999,9,     -999,9,     -999,9,     -999,9,   4.9682,1,   0.0112,1,     -999,9,     -999,1,     -999,1,     -999,1,     -999,1,20230826,1038, -33.9987,  56.9854,-999          ,9,-999          ,9
33RR20230722  ,I05        ,131     ,  2,20         ,20         ,2,20230826,0904, -33.9987,  56.9854,     5094,    956.2,2,   6.7919,2,  34.4621,2,  34.4614,2,    203.0,2,    203.6,2,    18.55,2,    25.67,2,     0.00,2,     1.76,2,    2.565,2,    1.531,2,   1.0800,2,   2177.8,2,   2289.3,2,   7.6611,2,    25.00,2,     -999,9,   6.7861,2,     -999,9,     -999,9,     -999,9,     -999,9,     -999,9,   4.9694,1,   0.0112,1,     17.0,2,     -999,1,     -999,1,     -999,1,     -999,1,20230826,1035, -33.9987,  56.9854,-999          ,9,-999          ,9
33RR20230722  ,I05        ,131     ,  2,19         ,19         ,2,20230826,0904, -33.9987,  56.9854,     5094,   1075.7,2,   5.2680,2,  34.3774,2,  34.3780,2,    201.6,2,    202.0,2,    28.11,2,    29.06,2,     0.00,2,     2.01,2,    2.313,2,    1.316,2,   0.7800,2,   2193.2,2,   2293.4,2,   7.6262,2,    25.00,2,     -999,9,   5.2680,2,     -999,9,     -999,9,     -999,9,     -999,9,     -999,9,   4.9704,1,   0.0111,1,     18.9,2,     -999,1,     -999,1,     -999,1,     -999,1,20230826,1032, -33.9987,  56.9854,-999          ,9,-999          ,9
33RR20230722  ,I05        ,131     ,  2,18         ,18         ,2,20230826,0904, -33.9987,  56.9854,     5094,   1199.9,2,   4.3923,2,  34.3721,2,  34.3729,2,    195.1,2,    195.0,2,    38.17,2,    31.14,2,     0.00,2,     2.16,2,     -999,9,     -999,9,     -999,9,   -999.0,9,     -999,9,     -999,9,     -999,9,     -999,9,   4.3934,2,     -999,9,     -999,9,     -999,9,     -999,9,     -999,9,   4.9713,1,   0.0111,1,     -999,9,     -999,1,     -999,1,     -999,1,     -999,1,20230826,1029, -33.9987,  56.9854,-999          ,9,-999          ,9
33RR20230722  ,I05        ,131     ,  2,17         ,17         ,2,20230826,0904, -33.9987,  56.9854,     5094,   1336.8,2,   3.7773,2,  34.4180,2,  34.4173,2,    182.6,2,    183.0,2,    50.37,2,    32.75,2,     0.00,2,     2.27,2,    1.280,2,    0.717,2,   0.2900,2,   2226.7,2,   2310.5,2,   7.5822,2,    25.03,2,     -999,9,   3.7763,2,     -999,9,     -999,9,     -999,9,     -999,9,     -999,9,   4.9727,1,   0.0111,1,     21.7,2,     -999,1,     -999,1,     -999,1,     -999,1,20230826,1025, -33.9987,  56.9854,-999          ,9,-999          ,9
33RR20230722  ,I05        ,131     ,  2,16         ,16         ,2,20230826,0904, -33.9987,  56.9854,     5094,   1485.2,2,   3.3313,2,  34.4904,2,  34.4899,2,    171.8,2,    172.1,2,    61.59,2,    33.62,2,     0.00,2,     2.33,2,    0.761,2,    0.405,2,   0.2200,2,   2242.2,2,   2322.4,2,   7.5714,6,    25.02,2,     -999,9,   3.3306,2,     -999,9,     -999,9,     -999,9,     -999,9,     -999,9,   4.9738,1,   0.0112,1,     22.2,2,     -999,1,     -999,1,     -999,1,     -999,1,20230826,1022, -33.9987,  56.9854,-999          ,9,-999          ,9
33RR20230722  ,I05        ,131     ,  2,15         ,15         ,2,20230826,0904, -33.9987,  56.9854,     5094,   1641.0,2,   2.9766,2,  34.5594,2,  34.5598,2,    171.3,2,    171.5,2,    68.32,2,    33.40,2,     0.00,2,     2.33,2,    0.478,2,    0.261,2,   0.1500,2,   2247.2,2,   2331.7,2,   7.5727,2,    25.05,2,     -999,9,   2.9762,2,     -999,9,     -999,9,     -999,9,     -999,9,     -999,9,   4.9743,1,   0.0111,1,     21.7,2,     -999,1,     -999,1,     -999,1,     -999,1,20230826,1018, -33.9987,  56.9854,-999          ,9,-999          ,9
33RR20230722  ,I05        ,131     ,  2,14         ,14         ,2,20230826,0904, -33.9987,  56.9854,     5094,   1810.3,2,   2.7060,2,  34.6292,2,  34.6289,2,    173.9,2,    174.0,2,    74.66,2,    32.66,2,     0.00,2,     2.27,2,     -999,9,     -999,9,     -999,9,   -999.0,9,     -999,9,     -999,9,     -999,9,     -999,9,   2.7057,2,     -999,9,     -999,9,     -999,9,     -999,9,     -999,9,   4.9744,1,   0.0121,1,     -999,9,     -999,1,     -999,1,     -999,1,     -999,1,20230826,1014, -33.9987,  56.9854,-999          ,9,-999          ,9
33RR20230722  ,I05        ,131     ,  2,13         ,13         ,2,20230826,0904, -33.9987,  56.9854,     5094,   2021.7,2,   2.4778,2,  34.6867,3,  34.6926,2,    179.7,2,    179.7,2,    80.22,2,    31.71,2,     0.00,2,     2.20,2,    0.144,2,    0.078,2,   0.0100,2,   2254.5,2,   2346.9,6,   7.5972,2,    25.02,2,     -999,9,   2.4772,2,     -999,9,     -999,9,     -999,9,     -999,9,     -999,9,   4.9745,1,   0.0112,1,     20.2,2,     -999,1,     -999,1,     -999,1,     -999,1,20230826,1010, -33.9987,  56.9854,-999          ,9,-999          ,9
33RR20230722  ,I05        ,131     ,  2,12         ,12         ,2,20230826,0904, -33.9987,  56.9854,     5094,   2291.1,2,   2.2538,2,  34.7181,2,  34.7178,2,    182.3,2,    182.3,2,    89.79,2,    31.45,2,     0.00,2,     2.21,2,    0.073,2,    0.040,2,   0.0200,2,   2255.7,2,   2355.9,2,   7.6075,2,    25.03,2,     -999,9,   2.2534,2,     -999,9,     -999,9,     -999,9,     -999,9,     -999,9,   4.9746,1,   0.0112,1,     19.6,2,     -999,1,     -999,1,     -999,1,     -999,1,20230826,1004, -33.9987,  56.9854,-999          ,9,-999          ,9
33RR20230722  ,I05        ,131     ,  2,11         ,11         ,2,20230826,0904, -33.9987,  56.9854,     5094,   2607.9,2,   2.0276,2,  34.7347,2,  34.7341,2,    185.0,2,    185.1,2,    98.28,2,    31.44,2,     0.00,2,     2.20,2,    0.054,2,    0.031,2,   0.0000,2,   2264.3,2,   2364.4,2,   7.6130,2,    25.01,2,     -999,9,   2.0269,2,     -999,9,     -999,9,     -999,9,     -999,9,     -999,9,   4.9751,1,   0.0118,1,     19.2,2,     -999,1,     -999,1,     -999,1,     -999,1,20230826,0958, -33.9987,  56.9854,-999          ,9,-999          ,9
33RR20230722  ,I05        ,131     ,  2,10         ,10         ,2,20230826,0904, -33.9987,  56.9854,     5094,   2987.1,2,   1.7236,2,  34.7362,2,  34.7374,2,    191.9,2,    191.9,2,   104.91,2,    31.38,2,     0.00,2,     2.20,2,     -999,9,     -999,9,     -999,9,   -999.0,9,     -999,9,     -999,9,     -999,9,     -999,9,   1.7231,2,     -999,9,     -999,9,     -999,9,     -999,9,     -999,9,   4.9756,1,   0.0111,1,     -999,9,     -999,1,     -999,1,     -999,1,     -999,1,20230826,0950, -33.9987,  56.9854,-999          ,9,-999          ,9
33RR20230722  ,I05        ,131     ,  2,9          ,9          ,2,20230826,0904, -33.9987,  56.9854,     5094,   3400.2,2,   1.4530,2,  34.7313,2,  34.7305,2,    201.8,2,    201.7,2,   106.67,2,    31.02,2,     0.00,2,     2.17,2,    0.136,6,    0.075,6,   0.0400,6,   2255.9,2,   2358.0,2,   7.6177,6,    25.03,2,     -999,9,   1.4523,2,     -999,9,     -999,9,     -999,9,     -999,9,     -999,9,   4.9757,1,   0.0117,1,     18.6,6,     -999,1,     -999,1,     -999,1,     -999,1,20230826,0943, -33.9987,  56.9854,-999          ,9,-999          ,9
33RR20230722  ,I05        ,131     ,  2,8          ,8          ,2,20230826,0904, -33.9987,  56.9854,     5094,   3860.4,2,   0.8960,2,  34.7054,2,  34.7056,2,    211.6,2,    211.6,2,   119.85,2,    31.65,2,     0.00,2,     2.21,2,    0.254,2,    0.129,2,  -0.0100,2,   2256.9,2,   2356.2,2,   7.6089,2,    25.01,2,     -999,9,   0.8957,2,     -999,9,     -999,9,     -999,9,     -999,9,     -999,9,   4.9761,1,   0.0117,1,     18.1,2,     -999,1,     -999,1,     -999,1,     -999,1,20230826,0934, -33.9987,  56.9854,-999          ,9,-999          ,9
33RR20230722  ,I05        ,131     ,  2,7          ,7          ,2,20230826,0904, -33.9987,  56.9854,     5094,   4319.8,2,   0.6939,2,  34.6930,2,  34.6926,2,    214.9,2,    214.9,2,   127.56,2,    32.07,2,     0.00,2,     2.23,2,    0.291,2,    0.150,2,   0.0600,2,   2259.9,2,   2357.5,2,   7.6056,2,    25.00,2,     -999,9,   0.6932,2,     -999,9,     -999,9,     -999,9,     -999,9,     -999,9,   4.9764,1,   0.0111,1,     18.1,2,     -999,1,     -999,1,     -999,1,     -999,1,20230826,0925, -33.9987,  56.9854,-999          ,9,-999          ,9
33RR20230722  ,I05        ,131     ,  2,6          ,6          ,2,20230826,0904, -33.9987,  56.9854,     5094,   4496.7,2,   0.6842,2,  34.6914,2,  34.6912,2,    215.3,2,    215.7,2,   128.44,2,    32.10,2,     0.00,2,     2.24,2,    0.282,2,    0.149,2,   0.0500,2,   2258.6,2,   2358.4,2,   7.6064,2,    25.03,2,     -999,9,   0.6839,2,     -999,9,     -999,9,     -999,9,     -999,9,     -999,9,   4.9764,1,   0.0112,1,     18.2,2,     -999,1,     -999,1,     -999,1,     -999,1,20230826,0921, -33.9987,  56.9854,-999          ,9,-999          ,9
33RR20230722  ,I05        ,131     ,  2,5          ,5          ,2,20230826,0904, -33.9987,  56.9854,     5094,   4673.6,2,   0.6746,2,  34.6898,2,  34.6903,2,    215.6,2,    216.0,2,   129.61,2,    32.18,2,     0.00,2,     2.24,2,     -999,9,     -999,9,     -999,9,   -999.0,9,     -999,9,     -999,9,     -999,9,     -999,9,   0.6743,2,     -999,9,     -999,9,     -999,9,     -999,9,     -999,9,   4.9765,1,   0.0112,1,     -999,9,     -999,1,     -999,1,     -999,1,     -999,1,20230826,0917, -33.9987,  56.9854,-999          ,9,-999          ,9
33RR20230722  ,I05        ,131     ,  2,4          ,37         ,2,20230826,0904, -33.9987,  56.9854,     5094,   4802.2,2,   0.6550,2,  34.6879,2,  34.6871,2,    216.1,2,    216.2,2,   130.88,2,    32.27,2,     0.00,2,     2.24,2,    0.290,2,    0.150,2,   0.0400,2,   2258.1,2,   2358.7,2,   7.6069,2,    25.01,2,     -999,9,   0.6543,2,     -999,9,     -999,9,     -999,9,     -999,9,     -999,9,   4.9766,1,   0.0111,1,     17.3,2,     -999,1,     -999,1,     -999,1,     -999,1,20230826,0914, -33.9987,  56.9854,-999          ,9,-999          ,9
33RR20230722  ,I05        ,131     ,  2,3          ,3          ,2,20230826,0904, -33.9987,  56.9854,     5094,   4927.9,2,   0.6571,2,  34.6873,2,  34.6867,2,    216.3,2,    216.8,2,   130.49,2,    32.23,2,     0.00,2,     2.25,2,    0.301,2,    0.157,2,   0.0600,2,   2260.5,2,   2358.1,2,   7.6054,2,    25.02,2,     -999,9,   0.6569,2,     -999,9,     -999,9,     -999,9,     -999,9,     -999,9,   4.9767,1,   0.0111,1,     18.1,2,     -999,1,     -999,1,     -999,1,     -999,1,20230826,0911, -33.9987,  56.9854,-999          ,9,-999          ,9