BOTTLE,20240422CCHHYDRO
EXPOCODE,SECT_ID,STNNBR,CASTNO,SAMPNO,BTLNBR,BTLNBR_FLAG_W,DATE,TIME,LATITUDE,LONGITUDE,DEPTH,CTDPRS,CTDPRS_FLAG_W,CTDTMP,CTDTMP_FLAG_W,CTDSAL,CTDSAL_FLAG_W,SALNTY,SALNTY_FLAG_W,CTDOXY,CTDOXY_FLAG_W,OXYGEN,OXYGEN_FLAG_W,SILCAT,SILCAT_FLAG_W,NITRAT,NITRAT_FLAG_W,NITRIT,NITRIT_FLAG_W,PHSPHT,PHSPHT_FLAG_W,CFC-11,CFC-11_FLAG_W,CFC-12,CFC-12_FLAG_W,SF6,SF6_FLAG_W,TCARBN,TCARBN_FLAG_W,ALKALI,ALKALI_FLAG_W,PH_TOT,PH_TOT_FLAG_W,PH_TMP,PH_TMP_FLAG_W,DOC,DOC_FLAG_W,REFTMP,REFTMP_FLAG_W,POC,POC_FLAG_W,PON,PON_FLAG_W,POP,POP_FLAG_W,DOP,DOP_FLAG_W,DELO18,DELO18_FLAG_W,CTDFLUOR,CTDFLUOR_FLAG_W,CTDXMISS,CTDXMISS_FLAG_W,N2O,N2O_FLAG_W,D15N_NO3,D15N_NO3_FLAG_W,D15N_NO2+NO3,D15N_NO2+NO3_FLAG_W,D18O_NO2+NO3,D18O_NO2+NO3_FLAG_W,D18O_NO3,D18O_NO3_FLAG_W,BTL_DATE,BTL_TIME,BTL_LAT,BTL_LON,HPLC,HPLC_FLAG_W,DNA,DNA_FLAG_W
,,,,,,,,,,,METERS,DBAR,,ITS-90,,PSS-78,,PSS-78,,UMOL/KG,,UMOL/KG,,UMOL/KG,,UMOL/KG,,UMOL/KG,,UMOL/KG,,PMOL/KG,,PMOL/KG,,FMOL/KG,,UMOL/KG,,UMOL/KG,,,,DEG C,,UMOL/KG,,ITS-90,,UG/KG,,UG/KG,,UG/L,,UMOL/KG,,/MILLE,,VOLTS,,VOLTS,,NMOL/KG,,/MILLE,,/MILLE,,/MILLE,,/MILLE,,,,,,,,,
33RR20230722  ,I05        ,66      ,  1,22         ,22         ,2,20230808,2001, -31.6648,  87.7622,     1409,      4.5,2,  17.1874,2,  35.8347,2,  35.8341,2,    238.2,2,    238.0,2,     1.27,2,     0.07,2,     0.02,2,     0.15,2,     -999,9,     -999,9,     -999,9,   2098.6,2,   2355.3,2,   7.9585,2,    25.00,2,     -999,1,  17.1893,2,     -999,9,     -999,9,     -999,9,     -999,1,     -999,1,   4.9752,1,   0.0407,1,     -999,9,     -999,1,     -999,1,     -999,1,     -999,1,20230808,2048, -31.6648,  87.7622,-999          ,9,-999          ,9
33RR20230722  ,I05        ,66      ,  1,21         ,21         ,2,20230808,2001, -31.6648,  87.7622,     1409,     21.3,2,  17.2019,2,  35.8347,2,  35.8329,2,    238.2,2,    238.1,2,     1.27,2,     0.03,2,     0.02,2,     0.14,2,     -999,9,     -999,9,     -999,9,   2092.9,2,   2354.8,2,   7.9583,2,    25.00,2,     -999,1,  17.1975,2,     -999,9,     -999,9,     -999,9,     -999,9,     -999,1,   4.9751,1,   0.0391,1,     -999,9,     -999,1,     -999,1,     -999,1,     -999,1,20230808,2046, -31.6648,  87.7622,-999          ,9,-999          ,9
33RR20230722  ,I05        ,66      ,  1,20         ,20         ,2,20230808,2001, -31.6648,  87.7622,     1409,     37.8,2,  17.2024,2,  35.8347,2,  35.8335,2,    238.2,2,    238.4,2,     1.17,2,     0.02,2,     0.01,2,     0.13,2,     -999,9,     -999,9,     -999,9,   -999.0,9,     -999,9,     -999,9,     -999,9,     -999,1,  17.2001,2,     -999,9,     -999,9,     -999,9,     -999,1,     -999,1,   4.9748,1,   0.0392,1,     -999,9,     -999,1,     -999,1,     -999,1,     -999,1,20230808,2045, -31.6648,  87.7622,-999          ,9,-999          ,9
33RR20230722  ,I05        ,66      ,  1,19         ,19         ,2,20230808,2001, -31.6648,  87.7622,     1409,     60.7,2,  17.1870,2,  35.8298,2,  35.8262,2,    238.0,2,    238.4,2,     1.27,2,     0.01,2,     0.02,2,     0.15,2,     -999,9,     -999,9,     -999,9,   2094.2,2,   2354.2,2,   7.9577,6,    25.01,2,     -999,1,  17.1830,2,     -999,9,     -999,9,     -999,9,     -999,1,     -999,1,   4.9748,1,   0.0391,1,     -999,9,     -999,1,     -999,1,     -999,1,     -999,1,20230808,2043, -31.6649,  87.7622,-999          ,9,-999          ,9
33RR20230722  ,I05        ,66      ,  1,18         ,18         ,2,20230808,2001, -31.6648,  87.7622,     1409,    117.3,2,  16.0121,2,  35.5901,2,  35.5936,2,    239.3,2,    239.7,2,     1.07,2,     0.80,2,     0.12,2,     0.22,2,     -999,9,     -999,9,     -999,9,   -999.0,9,     -999,9,     -999,9,     -999,9,     -999,1,  16.0177,2,     -999,9,     -999,9,     -999,9,     -999,1,     -999,1,   4.8682,1,   0.0238,1,     -999,9,     -999,1,     -999,1,     -999,1,     -999,1,20230808,2040, -31.6649,  87.7622,-999          ,9,-999          ,9
33RR20230722  ,I05        ,66      ,  1,17         ,17         ,2,20230808,2001, -31.6648,  87.7622,     1409,    145.7,2,  14.2795,2,  35.4060,3,  35.4330,2,    235.9,2,    235.7,2,     1.56,2,     3.39,2,     0.20,2,     0.40,2,     -999,9,     -999,9,     -999,9,   2119.9,2,   2330.4,2,   7.8784,2,    25.01,2,     -999,1,  14.3422,2,     -999,9,     -999,9,     -999,9,     -999,1,     -999,1,   4.9707,1,   0.0198,1,     -999,9,     -999,1,     -999,1,     -999,1,     -999,1,20230808,2039, -31.6648,  87.7622,-999          ,9,-999          ,9
33RR20230722  ,I05        ,66      ,  1,16         ,16         ,2,20230808,2001, -31.6648,  87.7622,     1409,    203.9,2,  13.1012,2,  35.2394,2,  35.2385,2,    234.4,2,    234.7,2,     1.95,2,     6.49,2,     0.01,2,     0.56,2,     -999,9,     -999,9,     -999,9,   -999.0,9,     -999,9,     -999,9,     -999,9,     -999,1,  13.0925,2,     -999,9,     -999,9,     -999,9,     -999,9,     -999,1,   4.9220,1,   0.0113,1,     -999,9,     -999,1,     -999,1,     -999,1,     -999,1,20230808,2037, -31.6648,  87.7622,-999          ,9,-999          ,9
33RR20230722  ,I05        ,66      ,  1,15         ,15         ,2,20230808,2001, -31.6648,  87.7622,     1409,    240.3,2,  12.5294,2,  35.1421,2,  35.1309,2,    237.1,2,    237.9,2,     2.24,2,     7.76,2,     0.00,2,     0.65,2,     -999,9,     -999,9,     -999,9,   2126.6,2,   2312.2,2,   7.8300,2,    25.00,2,     -999,1,  12.5195,2,     -999,9,     -999,9,     -999,9,     -999,1,     -999,1,   4.9694,1,   0.0117,1,     -999,9,     -999,1,     -999,1,     -999,1,     -999,1,20230808,2035, -31.6649,  87.7622,-999          ,9,-999          ,9
33RR20230722  ,I05        ,66      ,  1,14         ,14         ,2,20230808,2001, -31.6648,  87.7622,     1409,    281.8,2,  12.0037,2,  35.0477,2,  35.0472,2,    242.0,2,    241.6,2,     2.63,2,     8.87,2,     0.00,2,     0.73,2,     -999,9,     -999,9,     -999,9,   -999.0,9,     -999,9,     -999,9,     -999,9,     -999,1,  11.9987,2,     -999,9,     -999,9,     -999,9,     -999,9,     -999,1,   4.3617,1,   0.0115,1,     -999,9,     -999,1,     -999,1,     -999,1,     -999,1,20230808,2033, -31.6648,  87.7622,-999          ,9,-999          ,9
33RR20230722  ,I05        ,66      ,  1,13         ,13         ,2,20230808,2001, -31.6648,  87.7622,     1409,    338.3,2,  11.4679,2,  34.9640,2,  34.9638,2,    241.6,2,    240.9,2,     3.02,2,    10.39,2,     0.00,2,     0.79,2,     -999,9,     -999,9,     -999,9,   2127.8,2,   2305.0,2,   7.8055,2,    25.01,2,     -999,1,  11.4683,2,     -999,9,     -999,9,     -999,9,     -999,9,     -999,1,   4.9076,1,   0.0114,1,     -999,9,     -999,1,     -999,1,     -999,1,     -999,1,20230808,2031, -31.6649,  87.7621,-999          ,9,-999          ,9
33RR20230722  ,I05        ,66      ,  1,12         ,12         ,2,20230808,2001, -31.6648,  87.7622,     1409,    399.7,2,  11.0438,2,  34.9000,2,  34.9010,2,    243.9,2,    243.6,2,     3.51,2,    11.58,2,     0.00,2,     0.86,2,    2.810,2,    1.780,2,   2.4200,2,   -999.0,9,     -999,9,     -999,9,     -999,9,     -999,1,  11.0417,2,     -999,9,     -999,9,     -999,9,     -999,9,     -999,1,   4.9683,1,   0.0114,1,     11.2,2,     -999,1,     -999,1,     -999,1,     -999,1,20230808,2029, -31.6648,  87.7621,-999          ,9,-999          ,9
33RR20230722  ,I05        ,66      ,  1,11         ,11         ,2,20230808,2001, -31.6648,  87.7622,     1409,    468.9,2,  10.5217,2,  34.8270,2,  34.8277,2,    240.2,2,    239.8,2,     3.61,2,    12.89,2,     0.00,2,     0.96,2,     -999,9,     -999,9,     -999,9,   2134.5,2,   2297.7,2,   7.7804,2,    24.98,2,     -999,1,  10.5214,2,     -999,9,     -999,9,     -999,9,     -999,9,     -999,1,   4.8975,1,   0.0114,1,     -999,9,     -999,1,     -999,1,     -999,1,     -999,1,20230808,2027, -31.6648,  87.7622,-999          ,9,-999          ,9
33RR20230722  ,I05        ,66      ,  1,10         ,10         ,2,20230808,2001, -31.6648,  87.7622,     1409,    550.6,2,   9.9731,2,  34.7562,2,  34.7551,2,    236.4,2,    236.6,2,     4.20,2,    14.67,2,     0.00,2,     1.05,2,    3.003,2,    1.917,2,   2.1800,2,   -999.0,9,     -999,9,     -999,9,     -999,9,     -999,1,   9.9755,2,     -999,9,     -999,9,     -999,9,     -999,9,     -999,1,   4.9669,1,   0.0114,1,     12.4,2,     -999,1,     -999,1,     -999,1,     -999,1,20230808,2025, -31.6648,  87.7622,-999          ,9,-999          ,9
33RR20230722  ,I05        ,66      ,  1,9          ,9          ,2,20230808,2001, -31.6648,  87.7622,     1409,    638.0,2,   9.4399,2,  34.6872,2,  34.6897,2,    232.4,2,    232.5,2,     4.98,2,    16.48,2,     0.00,2,     1.16,2,     -999,9,     -999,9,     -999,9,   2142.5,2,   2289.5,2,   7.7466,2,    25.00,2,     -999,1,   9.4505,2,     -999,9,     -999,9,     -999,9,     -999,9,     -999,1,   4.7775,1,   0.0111,1,     -999,9,     -999,1,     -999,1,     -999,1,     -999,1,20230808,2022, -31.6648,  87.7622,-999          ,9,-999          ,9
33RR20230722  ,I05        ,66      ,  1,8          ,8          ,2,20230808,2001, -31.6648,  87.7622,     1409,    726.4,2,   8.6800,2,  34.6013,2,  34.5993,2,    220.9,2,    221.0,2,     7.81,2,    19.62,2,     0.00,2,     1.37,2,    3.257,3,    1.827,2,   1.6000,2,   -999.0,9,     -999,9,     -999,9,     -999,9,     -999,1,   8.6769,2,     -999,9,     -999,9,     -999,9,     -999,9,     -999,1,   4.9671,1,   0.0113,1,     13.9,2,     -999,1,     -999,1,     -999,1,     -999,1,20230808,2020, -31.6648,  87.7622,-999          ,9,-999          ,9
33RR20230722  ,I05        ,66      ,  1,7          ,7          ,2,20230808,2001, -31.6648,  87.7622,     1409,    846.7,2,   6.9723,2,  34.4615,2,  34.4632,2,    201.5,2,    201.4,2,    16.69,2,    25.25,2,     0.00,2,     1.76,2,     -999,9,     -999,9,     -999,9,   2175.2,2,   2287.4,2,   7.6611,2,    24.99,2,     -999,1,   6.9935,2,     -999,9,     -999,9,     -999,9,     -999,9,     -999,1,   4.9688,1,   0.0111,1,     -999,9,     -999,1,     -999,1,     -999,1,     -999,1,20230808,2016, -31.6649,  87.7621,-999          ,9,-999          ,9
33RR20230722  ,I05        ,66      ,  1,6          ,6          ,2,20230808,2001, -31.6648,  87.7622,     1409,    959.6,2,   5.2478,2,  34.3765,2,  34.3772,2,    195.7,2,    196.4,2,    28.90,2,    29.47,2,     0.00,2,     2.04,2,    2.180,2,    1.160,2,   0.6300,2,   -999.0,9,     -999,9,     -999,9,     -999,9,     -999,1,   5.2563,2,     -999,9,     -999,9,     -999,9,     -999,9,     -999,1,   4.6585,1,   0.0111,1,     19.2,2,     -999,1,     -999,1,     -999,1,     -999,1,20230808,2014, -31.6648,  87.7622,-999          ,9,-999          ,9
33RR20230722  ,I05        ,66      ,  1,5          ,5          ,2,20230808,2001, -31.6648,  87.7622,     1409,   1061.8,2,   4.4717,2,  34.3883,2,  34.3890,2,    185.3,2,    185.8,2,    40.41,2,    31.55,2,     0.00,2,     2.22,2,     -999,9,     -999,9,     -999,9,   2215.6,2,   2303.2,2,   7.5988,2,    25.00,2,     -999,1,   4.4708,2,     -999,9,     -999,9,     -999,9,     -999,9,     -999,1,   4.9705,1,   0.0111,1,     -999,9,     -999,1,     -999,1,     -999,1,     -999,1,20230808,2011, -31.6648,  87.7622,-999          ,9,-999          ,9
33RR20230722  ,I05        ,66      ,  1,4          ,37         ,2,20230808,2001, -31.6648,  87.7622,     1409,   1169.7,2,   3.9936,2,  34.4368,2,  34.4385,2,    170.8,2,    171.0,2,    53.59,2,    33.07,2,     0.00,2,     2.33,2,    1.144,2,    0.523,2,   0.1800,2,   -999.0,9,     -999,9,     -999,9,     -999,9,     -999,1,   3.9928,2,     -999,9,     -999,9,     -999,9,     -999,9,     -999,1,   4.9087,1,   0.0112,1,     22.4,2,     -999,1,     -999,1,     -999,1,     -999,1,20230808,2008, -31.6648,  87.7622,-999          ,9,-999          ,9
33RR20230722  ,I05        ,66      ,  1,3          ,3          ,2,20230808,2001, -31.6648,  87.7622,     1409,   1286.2,2,   3.6274,2,  34.4994,2,  34.5003,2,    158.3,2,    158.2,2,    66.67,2,    34.20,2,     0.00,2,     2.42,2,     -999,9,     -999,9,     -999,9,   2250.4,2,   2330.4,2,   7.5655,6,    25.00,2,     -999,1,   3.6294,2,     -999,9,     -999,9,     -999,9,     -999,9,     -999,1,   4.9724,1,   0.0111,1,     -999,9,     -999,1,     -999,1,     -999,1,     -999,1,20230808,2005, -31.6649,  87.7621,-999          ,9,-999          ,9
33RR20230722  ,I05        ,66      ,  1,2          ,2          ,2,20230808,2001, -31.6648,  87.7622,     1409,   1345.7,2,   3.4455,2,  34.5224,2,  34.5233,2,    156.9,2,    156.8,2,    69.59,2,    34.44,2,     0.00,2,     2.42,2,     -999,9,     -999,9,     -999,9,   2258.7,2,   2331.3,6,   7.5621,2,    25.01,2,     -999,1,   3.4442,2,     -999,9,     -999,9,     -999,9,     -999,9,     -999,1,   3.8586,1,   0.0117,1,     -999,9,     -999,1,     -999,1,     -999,1,     -999,1,20230808,2003, -31.6648,  87.7622,-999          ,9,-999          ,9
33RR20230722  ,I05        ,66      ,  1,1          ,1          ,2,20230808,2001, -31.6648,  87.7622,     1409,   1414.3,2,   3.2069,2,  34.5594,2,  34.5616,2,    156.4,2,    156.3,2,    74.57,2,    34.33,2,     0.00,2,     2.40,2,    0.282,2,    0.146,2,   0.0800,2,   2258.9,6,   2340.5,2,   7.5634,2,    25.01,2,     -999,1,   3.2038,2,     -999,9,     -999,9,     -999,9,     -999,9,     -999,1,   0.4451,1,   0.0119,1,     22.9,2,     -999,1,     -999,1,     -999,1,     -999,1,20230808,2001, -31.6648,  87.7622,-999          ,9,-999          ,9