BOTTLE,20240422CCHHYDRO
EXPOCODE,SECT_ID,STNNBR,CASTNO,SAMPNO,BTLNBR,BTLNBR_FLAG_W,DATE,TIME,LATITUDE,LONGITUDE,DEPTH,CTDPRS,CTDPRS_FLAG_W,CTDTMP,CTDTMP_FLAG_W,CTDSAL,CTDSAL_FLAG_W,SALNTY,SALNTY_FLAG_W,CTDOXY,CTDOXY_FLAG_W,OXYGEN,OXYGEN_FLAG_W,SILCAT,SILCAT_FLAG_W,NITRAT,NITRAT_FLAG_W,NITRIT,NITRIT_FLAG_W,PHSPHT,PHSPHT_FLAG_W,CFC-11,CFC-11_FLAG_W,CFC-12,CFC-12_FLAG_W,SF6,SF6_FLAG_W,TCARBN,TCARBN_FLAG_W,ALKALI,ALKALI_FLAG_W,PH_TOT,PH_TOT_FLAG_W,PH_TMP,PH_TMP_FLAG_W,DOC,DOC_FLAG_W,REFTMP,REFTMP_FLAG_W,POC,POC_FLAG_W,PON,PON_FLAG_W,POP,POP_FLAG_W,DOP,DOP_FLAG_W,DELO18,DELO18_FLAG_W,CTDFLUOR,CTDFLUOR_FLAG_W,CTDXMISS,CTDXMISS_FLAG_W,N2O,N2O_FLAG_W,D15N_NO3,D15N_NO3_FLAG_W,D15N_NO2+NO3,D15N_NO2+NO3_FLAG_W,D18O_NO2+NO3,D18O_NO2+NO3_FLAG_W,D18O_NO3,D18O_NO3_FLAG_W,BTL_DATE,BTL_TIME,BTL_LAT,BTL_LON,HPLC,HPLC_FLAG_W,DNA,DNA_FLAG_W
,,,,,,,,,,,METERS,DBAR,,ITS-90,,PSS-78,,PSS-78,,UMOL/KG,,UMOL/KG,,UMOL/KG,,UMOL/KG,,UMOL/KG,,UMOL/KG,,PMOL/KG,,PMOL/KG,,FMOL/KG,,UMOL/KG,,UMOL/KG,,,,DEG C,,UMOL/KG,,ITS-90,,UG/KG,,UG/KG,,UG/L,,UMOL/KG,,/MILLE,,VOLTS,,VOLTS,,NMOL/KG,,/MILLE,,/MILLE,,/MILLE,,/MILLE,,,,,,,,,
33RR20230722  ,I05        ,110     ,  2,36         ,38         ,2,20230820,1029, -34.0000,  66.2661,     4701,      4.2,2,  16.0604,2,  35.4246,2,  35.4243,2,    249.7,2,    248.9,2,     1.07,2,     0.07,2,     0.02,2,     0.17,2,    1.965,3,    1.401,2,   2.4200,2,   2079.7,6,   2328.8,2,   7.9450,2,    25.00,2,     -999,1,  16.0598,2,     -999,9,     -999,9,     -999,9,     -999,9,     -999,9,   4.8412,1,   0.0450,1,      8.6,2,     -999,1,     -999,1,     -999,1,     -999,1,20230820,1230, -34.0000,  66.2661,-999          ,9,-999          ,9
33RR20230722  ,I05        ,110     ,  2,35         ,35         ,2,20230820,1029, -34.0000,  66.2661,     4701,     28.2,2,  15.9968,2,  35.4243,2,  35.4239,2,    249.7,2,    249.0,2,     1.17,2,     0.08,2,     0.02,2,     0.16,2,     -999,9,     -999,9,     -999,9,   2079.3,2,   2326.2,2,   7.9444,2,    25.02,2,     -999,1,  15.9955,2,     -999,9,     -999,9,     -999,9,     -999,9,     -999,9,   4.8864,1,   0.0499,1,     -999,9,     -999,1,     -999,1,     -999,1,     -999,1,20230820,1227, -34.0000,  66.2661,-999          ,9,-999          ,9
33RR20230722  ,I05        ,110     ,  2,34         ,34         ,2,20230820,1029, -34.0000,  66.2661,     4701,     51.0,2,  15.7242,2,  35.4089,2,  35.4093,2,    248.0,2,    247.6,2,     1.27,2,     0.49,2,     0.09,2,     0.20,2,     -999,9,     -999,9,     -999,9,   2081.9,2,   2325.0,2,   7.9350,2,    25.02,2,     -999,1,  15.7156,2,     -999,9,     -999,9,     -999,9,     -999,9,     -999,9,   4.9748,1,   0.0571,1,     -999,9,     -999,1,     -999,1,     -999,1,     -999,1,20230820,1225, -34.0000,  66.2661,-999          ,9,-999          ,9
33RR20230722  ,I05        ,110     ,  2,33         ,33         ,2,20230820,1029, -34.0000,  66.2661,     4701,     73.0,2,  15.4713,2,  35.4034,2,  35.4018,2,    243.7,2,    243.9,2,     1.37,2,     1.26,2,     0.21,2,     0.26,2,     -999,9,     -999,9,     -999,9,   2088.0,2,   2326.1,2,   7.9219,2,    25.01,2,     -999,1,  15.4659,2,     -999,9,     -999,9,     -999,9,     -999,9,     -999,9,   4.9396,1,   0.0348,1,     -999,9,     -999,1,     -999,1,     -999,1,     -999,1,20230820,1223, -34.0000,  66.2662,-999          ,9,-999          ,9
33RR20230722  ,I05        ,110     ,  2,32         ,32         ,2,20230820,1029, -34.0000,  66.2661,     4701,     98.9,2,  15.1977,2,  35.3920,2,  35.3944,2,    241.1,2,    242.6,2,     1.56,2,     1.94,2,     0.26,2,     0.30,2,     -999,9,     -999,9,     -999,9,   2091.4,2,   2324.7,2,   7.9125,2,    25.00,2,     -999,1,  15.2114,2,     -999,9,     -999,9,     -999,9,     -999,9,     -999,9,   4.9727,1,   0.0277,1,     -999,9,     -999,1,     -999,1,     -999,1,     -999,1,20230820,1221, -34.0000,  66.2662,-999          ,9,-999          ,9
33RR20230722  ,I05        ,110     ,  2,31         ,31         ,2,20230820,1029, -34.0000,  66.2661,     4701,    123.9,2,  14.6414,2,  35.3591,2,  35.3622,2,    235.1,2,    235.6,2,     2.24,2,     4.32,2,     0.10,2,     0.44,2,    2.852,3,    1.539,2,   2.5100,2,   2105.0,2,   2321.4,2,   7.8833,2,    25.01,2,     -999,1,  14.6430,2,     -999,9,     -999,9,     -999,9,     -999,9,     -999,9,   4.3683,1,   0.0164,1,      9.8,2,     -999,1,     -999,1,     -999,1,     -999,1,20230820,1220, -34.0000,  66.2661,-999          ,9,-999          ,9
33RR20230722  ,I05        ,110     ,  2,30         ,30         ,2,20230820,1029, -34.0000,  66.2661,     4701,    154.6,2,  13.9429,2,  35.3238,2,  35.3248,2,    226.7,2,    228.3,2,     3.02,2,     6.71,2,     0.02,2,     0.56,2,     -999,9,     -999,9,     -999,9,   2117.2,2,   2317.6,6,   7.8557,2,    25.01,2,     -999,1,  13.9499,2,     -999,9,     -999,9,     -999,9,     -999,9,     -999,9,   4.9694,1,   0.0119,1,     -999,9,     -999,1,     -999,1,     -999,1,     -999,1,20230820,1218, -34.0000,  66.2661,-999          ,9,-999          ,9
33RR20230722  ,I05        ,110     ,  2,29         ,29         ,2,20230820,1029, -34.0000,  66.2661,     4701,    184.6,2,  13.6341,2,  35.2858,2,  35.2840,2,    231.2,2,    232.2,2,     2.83,2,     6.94,2,     0.01,2,     0.59,2,     -999,9,     -999,9,     -999,9,   2117.7,2,   2317.4,2,   7.8510,2,    24.99,2,     -999,1,  13.6287,2,     -999,9,     -999,9,     -999,9,     -999,9,     -999,9,   4.9696,1,   0.0123,1,     -999,9,     -999,1,     -999,1,     -999,1,     -999,1,20230820,1216, -34.0000,  66.2662,-999          ,9,-999          ,9
33RR20230722  ,I05        ,110     ,  2,28         ,28         ,2,20230820,1029, -34.0000,  66.2661,     4701,    216.0,2,  13.3277,2,  35.2510,2,  35.2513,2,    234.7,2,    234.7,2,     3.02,2,     7.46,2,     0.00,2,     0.61,2,     -999,9,     -999,9,     -999,9,   2121.0,2,   2314.7,2,   7.8460,6,    25.01,2,     -999,1,  13.3257,2,     -999,9,     -999,9,     -999,9,     -999,9,     -999,9,   4.9694,1,   0.0116,1,     -999,9,     -999,1,     -999,1,     -999,1,     -999,1,20230820,1215, -34.0000,  66.2661,-999          ,9,-999          ,9
33RR20230722  ,I05        ,110     ,  2,27         ,27         ,2,20230820,1029, -34.0000,  66.2661,     4701,    251.6,2,  13.1837,2,  35.2346,2,  35.2351,2,    236.3,2,    236.1,2,     3.02,2,     7.70,2,     0.00,2,     0.62,2,     -999,9,     -999,9,     -999,9,   2118.7,2,   2313.4,2,   7.8440,2,    24.99,2,     -999,1,  13.1753,2,     -999,9,     -999,9,     -999,9,     -999,9,     -999,9,   4.9694,1,   0.0116,1,     -999,9,     -999,1,     -999,1,     -999,1,     -999,1,20230820,1213, -34.0000,  66.2661,-999          ,9,-999          ,9
33RR20230722  ,I05        ,110     ,  2,26         ,26         ,2,20230820,1029, -34.0000,  66.2661,     4701,    297.7,2,  12.9291,2,  35.1984,2,  35.1977,2,    237.3,2,    236.4,2,     3.02,2,     8.14,2,     0.00,2,     0.65,2,     -999,9,     -999,9,     -999,9,   2123.0,2,   2312.9,2,   7.8374,6,    25.00,2,     -999,1,  12.9272,2,     -999,9,     -999,9,     -999,9,     -999,9,     -999,9,   4.9690,1,   0.0116,1,     -999,9,     -999,1,     -999,1,     -999,1,     -999,1,20230820,1211, -34.0000,  66.2661,-999          ,9,-999          ,9
33RR20230722  ,I05        ,110     ,  2,25         ,25         ,2,20230820,1029, -34.0000,  66.2661,     4701,    348.2,2,  12.5505,2,  35.1408,2,  35.1412,2,    237.1,2,    236.4,2,     3.22,2,     9.02,2,     0.00,2,     0.71,2,    1.388,2,    0.883,2,   0.5400,2,   2125.7,2,   2310.4,2,   7.8283,2,    25.00,2,     -999,1,  12.5459,2,     -999,9,     -999,9,     -999,9,     -999,9,     -999,9,   4.9692,1,   0.0116,1,     20.6,2,     -999,1,     -999,1,     -999,1,     -999,1,20230820,1208, -34.0000,  66.2661,-999          ,9,-999          ,9
33RR20230722  ,I05        ,110     ,  2,24         ,24         ,2,20230820,1029, -34.0000,  66.2661,     4701,    415.2,2,  12.1011,2,  35.0665,2,  35.0663,2,    234.1,2,    234.1,2,     3.61,2,    10.45,2,     0.00,2,     0.81,2,     -999,9,     -999,9,     -999,9,   2128.4,2,   2306.7,2,   7.8136,2,    24.99,2,     -999,1,  12.1032,2,     -999,9,     -999,9,     -999,9,     -999,9,     -999,9,   4.9628,1,   0.0115,1,     -999,9,     -999,1,     -999,1,     -999,1,     -999,1,20230820,1206, -34.0000,  66.2662,-999          ,9,-999          ,9
33RR20230722  ,I05        ,110     ,  2,23         ,23         ,2,20230820,1029, -34.0000,  66.2661,     4701,    491.0,2,  11.5128,2,  34.9745,2,  34.9774,2,    233.3,2,    232.7,2,     4.00,2,    11.90,2,     0.00,2,     0.89,2,     -999,9,     -999,9,     -999,9,   2132.9,2,   2302.3,2,   7.8003,2,    24.99,2,     -999,1,  11.5178,2,     -999,9,     -999,9,     -999,9,     -999,9,     -999,9,   4.9672,1,   0.0116,1,     -999,9,     -999,1,     -999,1,     -999,1,     -999,1,20230820,1204, -34.0000,  66.2661,-999          ,9,-999          ,9
33RR20230722  ,I05        ,110     ,  2,22         ,22         ,2,20230820,1029, -34.0000,  66.2661,     4701,    576.4,2,  10.8643,2,  34.8789,2,  34.8796,2,    226.5,2,    226.6,2,     4.88,2,    13.99,2,     0.00,2,     1.02,2,     -999,9,     -999,9,     -999,9,   2138.2,2,   2299.6,2,   7.7788,2,    25.01,2,     -999,1,  10.8716,2,     -999,9,     -999,9,     -999,9,     -999,9,     -999,9,   4.9666,1,   0.0114,1,     -999,9,     -999,1,     -999,1,     -999,1,     -999,1,20230820,1201, -34.0000,  66.2662,-999          ,9,-999          ,9
33RR20230722  ,I05        ,110     ,  2,21         ,21         ,2,20230820,1029, -34.0000,  66.2661,     4701,    674.5,2,   9.6452,2,  34.7220,2,  34.7233,2,    217.6,2,    218.3,2,     6.93,2,    17.62,2,     0.00,2,     1.24,2,    2.602,2,    1.682,2,   2.4200,2,   2146.8,6,   2292.8,2,   7.7406,2,    24.96,2,     -999,1,   9.6463,2,     -999,9,     -999,9,     -999,9,     -999,9,     -999,9,   4.9654,1,   0.0114,1,     11.1,2,     -999,1,     -999,1,     -999,1,     -999,1,20230820,1159, -34.0000,  66.2661,-999          ,9,-999          ,9
33RR20230722  ,I05        ,110     ,  2,20         ,20         ,2,20230820,1029, -34.0000,  66.2661,     4701,    782.7,2,   8.0893,2,  34.5620,2,  34.5626,2,    209.9,2,    210.8,2,    12.39,2,    22.04,2,     0.00,2,     1.53,2,     -999,9,     -999,9,     -999,9,   2164.3,2,   2287.9,2,   7.6937,2,    24.99,2,     -999,1,   8.0892,2,     -999,9,     -999,9,     -999,9,     -999,9,     -999,9,   4.9680,1,   0.0113,1,     -999,9,     -999,1,     -999,1,     -999,1,     -999,1,20230820,1155, -34.0000,  66.2661,-999          ,9,-999          ,9
33RR20230722  ,I05        ,110     ,  2,19         ,19         ,2,20230820,1029, -34.0000,  66.2661,     4701,    899.5,2,   6.2980,2,  34.4096,2,  34.4104,2,    210.4,2,    210.1,2,    19.33,2,    26.34,2,     0.00,2,     1.84,2,     -999,9,     -999,9,     -999,9,   2181.1,2,   2288.3,2,   7.6492,2,    24.99,2,     -999,1,   6.2969,2,     -999,9,     -999,9,     -999,9,     -999,9,     -999,9,   4.7952,1,   0.0113,1,     -999,9,     -999,1,     -999,1,     -999,1,     -999,1,20230820,1152, -34.0000,  66.2661,-999          ,9,-999          ,9
33RR20230722  ,I05        ,110     ,  2,18         ,18         ,2,20230820,1029, -34.0000,  66.2661,     4701,   1020.6,2,   5.0754,2,  34.3526,2,  34.3541,2,    206.2,2,    205.3,2,    27.72,2,    29.35,2,     0.00,2,     2.02,2,     -999,9,     -999,9,     -999,9,   2195.3,2,   2291.1,2,   7.6228,2,    24.98,2,     -999,1,   5.0750,2,     -999,9,     -999,9,     -999,9,     -999,9,     -999,9,   4.9323,1,   0.0111,1,     -999,9,     -999,1,     -999,1,     -999,1,     -999,1,20230820,1149, -34.0000,  66.2661,-999          ,9,-999          ,9
33RR20230722  ,I05        ,110     ,  2,17         ,17         ,2,20230820,1029, -34.0000,  66.2661,     4701,   1151.4,2,   4.2248,2,  34.3663,2,  34.3660,2,    195.9,2,    196.1,2,    38.65,2,    31.47,2,     0.00,2,     2.19,2,    4.082,2,    1.844,2,   1.7400,2,   2212.5,2,   2299.9,2,   7.6017,6,    25.01,2,     -999,1,   4.2359,2,     -999,9,     -999,9,     -999,9,     -999,9,     -999,9,   4.9713,1,   0.0116,1,     13.7,2,     -999,1,     -999,1,     -999,1,     -999,1,20230820,1146, -34.0000,  66.2662,-999          ,9,-999          ,9
33RR20230722  ,I05        ,110     ,  2,16         ,16         ,2,20230820,1029, -34.0000,  66.2661,     4701,   1275.1,2,   3.7367,2,  34.4105,2,  34.4084,2,    183.6,2,    183.9,2,    49.19,2,    32.80,2,     0.00,2,     2.30,2,     -999,9,     -999,9,     -999,9,   2228.5,2,   2310.8,2,   7.5839,2,    24.99,2,     -999,1,   3.7495,2,     -999,9,     -999,9,     -999,9,     -999,9,     -999,9,   4.8106,1,   0.0113,1,     -999,9,     -999,1,     -999,1,     -999,1,     -999,1,20230820,1143, -34.0000,  66.2661,-999          ,9,-999          ,9
33RR20230722  ,I05        ,110     ,  2,15         ,15         ,2,20230820,1029, -34.0000,  66.2661,     4701,   1413.4,2,   3.3209,2,  34.4716,2,  34.4724,2,    174.7,2,    174.8,2,    59.24,2,    33.66,2,     0.00,2,     2.35,2,    0.930,2,    0.499,2,   0.2700,2,   2240.5,2,   2321.6,6,   7.5713,2,    25.01,2,     -999,1,   3.3172,2,     -999,9,     -999,9,     -999,9,     -999,9,     -999,9,   4.7884,1,   0.0111,1,     22.7,2,     -999,1,     -999,1,     -999,1,     -999,1,20230820,1139, -34.0000,  66.2661,-999          ,9,-999          ,9
33RR20230722  ,I05        ,110     ,  2,14         ,14         ,2,20230820,1029, -34.0000,  66.2661,     4701,   1547.0,2,   3.0301,2,  34.5381,2,  34.5400,2,    169.9,2,    170.0,2,    66.85,2,    33.78,2,     0.00,2,     2.38,2,     -999,9,     -999,9,     -999,9,   2249.6,2,   2329.2,2,   7.5681,2,    25.01,2,     -999,1,   3.0300,2,     -999,9,     -999,9,     -999,9,     -999,9,     -999,9,   4.9741,1,   0.0111,1,     -999,9,     -999,1,     -999,1,     -999,1,     -999,1,20230820,1136, -34.0000,  66.2661,-999          ,9,-999          ,9
33RR20230722  ,I05        ,110     ,  2,13         ,13         ,2,20230820,1029, -34.0000,  66.2661,     4701,   1683.4,2,   2.8179,2,  34.5937,2,  34.5936,2,    170.2,2,    170.2,2,    71.83,2,    33.34,2,     0.00,2,     2.34,2,    0.317,2,    0.177,2,   0.0100,2,   2252.3,2,   2334.0,2,   7.5734,6,    24.99,2,     -999,1,   2.8195,2,     -999,9,     -999,9,     -999,9,     -999,9,     -999,9,   4.9742,1,   0.0116,1,     22.3,2,     -999,1,     -999,1,     -999,1,     -999,1,20230820,1133, -34.0000,  66.2661,-999          ,9,-999          ,9
33RR20230722  ,I05        ,110     ,  2,12         ,12         ,2,20230820,1029, -34.0000,  66.2661,     4701,   1845.0,2,   2.5772,2,  34.6597,2,  34.6600,2,    176.1,2,    176.6,2,    75.73,2,    32.25,2,     0.00,2,     2.26,2,     -999,9,     -999,9,     -999,9,   2254.1,2,   2340.0,2,   7.5866,2,    24.99,2,     -999,1,   2.5784,2,     -999,9,     -999,9,     -999,9,     -999,9,     -999,9,   4.9742,1,   0.0112,1,     -999,9,     -999,1,     -999,1,     -999,1,     -999,1,20230820,1129, -34.0000,  66.2661,-999          ,9,-999          ,9
33RR20230722  ,I05        ,110     ,  2,11         ,11         ,2,20230820,1029, -34.0000,  66.2661,     4701,   2035.8,2,   2.3832,2,  34.7007,2,  34.7005,2,    181.5,2,    182.0,2,    80.80,2,    31.56,2,     0.00,2,     2.21,2,    0.077,2,    0.040,2,   0.0400,2,   2252.8,2,   2346.4,2,   7.6003,2,    24.99,2,     -999,1,   2.3828,2,     -999,9,     -999,9,     -999,9,     -999,9,     -999,9,   4.9743,1,   0.0112,1,     20.2,2,     -999,1,     -999,1,     -999,1,     -999,1,20230820,1125, -34.0000,  66.2662,-999          ,9,-999          ,9
33RR20230722  ,I05        ,110     ,  2,10         ,10         ,2,20230820,1029, -34.0000,  66.2661,     4701,   2280.3,2,   2.1249,2,  34.7235,2,  34.7237,2,    181.8,2,    182.0,2,    94.46,2,    31.69,2,     0.00,2,     2.23,2,    0.028,2,    0.012,2,   0.0000,2,   2265.3,2,   2360.8,2,   7.6078,2,    25.00,2,     -999,1,   2.1244,2,     -999,9,     -999,9,     -999,9,     -999,9,     -999,9,   4.9746,1,   0.0111,1,     19.9,2,     -999,1,     -999,1,     -999,1,     -999,1,20230820,1120, -34.0000,  66.2661,-999          ,9,-999          ,9
33RR20230722  ,I05        ,110     ,  2,9          ,9          ,2,20230820,1029, -34.0000,  66.2661,     4701,   2561.0,2,   1.9136,2,  34.7264,2,  34.7264,2,    177.9,2,    177.7,2,   109.00,2,    32.54,2,     0.00,2,     2.29,2,     -999,9,     -999,9,     -999,9,   2277.4,6,   2376.4,2,     -999,1,     -999,5,     -999,1,   1.9134,2,     -999,9,     -999,9,     -999,9,     -999,9,     -999,9,   4.9753,1,   0.0117,1,     -999,9,     -999,1,     -999,1,     -999,1,     -999,1,20230820,1114, -34.0000,  66.2662,-999          ,9,-999          ,9
33RR20230722  ,I05        ,110     ,  2,8          ,8          ,2,20230820,1029, -34.0000,  66.2661,     4701,   2865.0,2,   1.7629,2,  34.7257,2,  34.7256,2,    178.3,2,    178.2,2,   115.93,2,    32.91,2,     0.00,2,     2.31,2,    0.014,2,    0.009,2,  -0.0100,2,   2283.8,2,   2379.6,2,     -999,1,    24.98,2,     -999,1,   1.7614,2,     -999,9,     -999,9,     -999,9,     -999,9,     -999,9,   4.6832,1,   0.0112,1,     20.0,2,     -999,1,     -999,1,     -999,1,     -999,1,20230820,1108, -34.0000,  66.2661,-999          ,9,-999          ,9
33RR20230722  ,I05        ,110     ,  2,7          ,7          ,2,20230820,1029, -34.0000,  66.2661,     4701,   3216.1,2,   1.5892,2,  34.7226,2,  34.7231,2,    182.2,2,    182.1,2,   119.93,2,    32.96,2,     0.00,2,     2.31,2,     -999,5,     -999,5,     -999,5,   2283.3,2,   2382.0,2,   7.6064,2,    25.01,2,     -999,1,   1.5890,2,     -999,9,     -999,9,     -999,9,     -999,9,     -999,9,   4.7860,1,   0.0111,1,     -999,5,     -999,1,     -999,1,     -999,1,     -999,1,20230820,1102, -34.0000,  66.2662,-999          ,9,-999          ,9
33RR20230722  ,I05        ,110     ,  2,6          ,6          ,2,20230820,1029, -34.0000,  66.2661,     4701,   3543.1,2,   1.3430,2,  34.7155,2,  34.7160,2,    190.5,2,    190.6,2,   122.66,2,    32.83,2,     0.00,2,     2.31,2,     -999,9,     -999,9,     -999,9,   2279.0,2,   2376.5,2,   7.6076,2,    25.02,2,     -999,1,   1.3422,2,     -999,9,     -999,9,     -999,9,     -999,9,     -999,9,   4.9676,1,   0.0118,1,     -999,9,     -999,1,     -999,1,     -999,1,     -999,1,20230820,1055, -34.0000,  66.2662,-999          ,9,-999          ,9
33RR20230722  ,I05        ,110     ,  2,5          ,5          ,2,20230820,1029, -34.0000,  66.2661,     4701,   3864.7,2,   0.9912,2,  34.7035,2,  34.7032,2,    202.0,2,    202.3,2,   125.59,2,    32.55,2,     0.00,2,     2.31,2,    0.080,2,    0.039,2,   0.0700,2,   2273.1,2,   2375.4,2,   7.6106,2,    25.02,2,     -999,1,   0.9910,2,     -999,9,     -999,9,     -999,9,     -999,9,     -999,9,   4.7965,1,   0.0110,1,     18.2,2,     -999,1,     -999,1,     -999,1,     -999,1,20230820,1049, -33.9999,  66.2662,-999          ,9,-999          ,9
33RR20230722  ,I05        ,110     ,  2,4          ,37         ,2,20230820,1029, -34.0000,  66.2661,     4701,   4175.9,2,   0.7834,2,  34.6951,2,  34.6956,2,    208.7,2,    208.9,2,   128.91,2,    32.46,2,     0.00,2,     2.28,2,    0.109,2,    0.058,2,  -0.0100,2,   2270.9,2,   2368.4,2,   7.6120,6,    25.00,2,     -999,1,   0.7823,2,     -999,9,     -999,9,     -999,9,     -999,9,     -999,9,   4.8082,1,   0.0111,1,     18.5,2,     -999,1,     -999,1,     -999,1,     -999,1,20230820,1043, -34.0000,  66.2661,-999          ,9,-999          ,9
33RR20230722  ,I05        ,110     ,  2,3          ,3          ,2,20230820,1029, -34.0000,  66.2661,     4701,   4404.5,2,   0.7331,2,  34.6920,2,  34.6922,2,    210.6,2,    210.8,2,   129.59,2,    32.49,2,     0.00,2,     2.27,2,    0.122,2,    0.065,2,  -0.0100,2,   2269.3,2,   2368.5,2,   7.6104,2,    25.00,2,     -999,1,   0.7327,2,     -999,9,     -999,9,     -999,9,     -999,9,     -999,9,   4.6630,1,   0.0118,1,     18.4,2,     -999,1,     -999,1,     -999,1,     -999,1,20230820,1038, -34.0000,  66.2661,-999          ,9,-999          ,9