BOTTLE,20240422CCHHYDRO
EXPOCODE,SECT_ID,STNNBR,CASTNO,SAMPNO,BTLNBR,BTLNBR_FLAG_W,DATE,TIME,LATITUDE,LONGITUDE,DEPTH,CTDPRS,CTDPRS_FLAG_W,CTDTMP,CTDTMP_FLAG_W,CTDSAL,CTDSAL_FLAG_W,SALNTY,SALNTY_FLAG_W,CTDOXY,CTDOXY_FLAG_W,OXYGEN,OXYGEN_FLAG_W,SILCAT,SILCAT_FLAG_W,NITRAT,NITRAT_FLAG_W,NITRIT,NITRIT_FLAG_W,PHSPHT,PHSPHT_FLAG_W,CFC-11,CFC-11_FLAG_W,CFC-12,CFC-12_FLAG_W,SF6,SF6_FLAG_W,TCARBN,TCARBN_FLAG_W,ALKALI,ALKALI_FLAG_W,PH_TOT,PH_TOT_FLAG_W,PH_TMP,PH_TMP_FLAG_W,DOC,DOC_FLAG_W,REFTMP,REFTMP_FLAG_W,POC,POC_FLAG_W,PON,PON_FLAG_W,POP,POP_FLAG_W,DOP,DOP_FLAG_W,DELO18,DELO18_FLAG_W,CTDFLUOR,CTDFLUOR_FLAG_W,CTDXMISS,CTDXMISS_FLAG_W,N2O,N2O_FLAG_W,D15N_NO3,D15N_NO3_FLAG_W,D15N_NO2+NO3,D15N_NO2+NO3_FLAG_W,D18O_NO2+NO3,D18O_NO2+NO3_FLAG_W,D18O_NO3,D18O_NO3_FLAG_W,BTL_DATE,BTL_TIME,BTL_LAT,BTL_LON,HPLC,HPLC_FLAG_W,DNA,DNA_FLAG_W
,,,,,,,,,,,METERS,DBAR,,ITS-90,,PSS-78,,PSS-78,,UMOL/KG,,UMOL/KG,,UMOL/KG,,UMOL/KG,,UMOL/KG,,UMOL/KG,,PMOL/KG,,PMOL/KG,,FMOL/KG,,UMOL/KG,,UMOL/KG,,,,DEG C,,UMOL/KG,,ITS-90,,UG/KG,,UG/KG,,UG/L,,UMOL/KG,,/MILLE,,VOLTS,,VOLTS,,NMOL/KG,,/MILLE,,/MILLE,,/MILLE,,/MILLE,,,,,,,,,
33RR20230722  ,I05        ,131     ,  2,2          ,2          ,2,20230826,0904, -33.9987,  56.9854,     5094,   5094.7,2,   0.6740,2,  34.6870,2,  34.6873,2,    216.4,2,    216.4,2,   131.17,2,    32.24,2,     0.00,2,     2.25,2,    0.314,2,    0.156,2,   0.0500,2,   2259.2,2,   2356.9,2,   7.6045,2,    25.02,2,     -999,9,   0.6735,2,     -999,9,     -999,9,     -999,9,     -999,9,     -999,9,   4.2761,1,   0.0117,1,     18.2,2,     -999,1,     -999,1,     -999,1,     -999,1,20230826,0907, -33.9987,  56.9854,-999          ,9,-999          ,9
33RR20230722  ,I05        ,131     ,  2,1          ,1          ,2,20230826,0904, -33.9987,  56.9854,     5094,   5180.7,2,   0.6826,2,  34.6866,2,  34.6877,2,    216.6,2,    216.3,2,   131.27,2,    32.21,2,     0.00,2,     2.25,2,    0.316,2,    0.157,2,   0.0600,2,   2260.9,6,   2357.9,2,   7.6056,2,    25.00,2,     -999,9,   0.6818,2,     -999,9,     -999,9,     -999,9,     -999,9,     -999,9,   0.5594,1,   0.0112,1,     17.7,2,     -999,1,     -999,1,     -999,1,     -999,1,20230826,0904, -33.9987,  56.9854,-999          ,9,-999          ,9
33RR20230722  ,I05        ,132     ,  1,30         ,30         ,2,20230826,1454, -33.9985,  56.4466,     3858,      3.6,2,  16.7369,2,  35.5882,2,  35.5886,2,    244.5,2,    243.9,2,     1.95,2,     0.13,2,     0.03,2,     0.17,2,    2.086,2,    1.355,2,   2.3700,2,   2082.3,2,   2333.7,2,   7.9504,2,    25.03,2,     -999,1,  16.7339,2,     -999,9,     -999,9,     -999,9,     -999,9,     -999,1,   4.8799,1,   0.0525,1,      8.0,2,     -999,9,     -999,9,     -999,9,     -999,9,20230826,1635, -33.9985,  56.4466,-999          ,9,-999          ,9
33RR20230722  ,I05        ,132     ,  1,29         ,29         ,2,20230826,1454, -33.9985,  56.4466,     3858,     35.6,2,  16.7404,2,  35.6108,2,  35.6117,2,    242.3,2,    242.0,2,     1.95,2,     0.18,2,     0.04,2,     0.16,2,     -999,9,     -999,9,     -999,9,   -999.0,9,     -999,9,     -999,9,     -999,9,     -999,1,  16.7390,2,     -999,9,     -999,9,     -999,9,     -999,9,     -999,1,   4.9745,1,   0.0547,1,     -999,9,     -999,9,     -999,9,     -999,9,     -999,9,20230826,1633, -33.9985,  56.4465,-999          ,9,-999          ,9
33RR20230722  ,I05        ,132     ,  1,28         ,28         ,2,20230826,1454, -33.9985,  56.4466,     3858,     62.9,2,  16.4813,2,  35.5699,2,  35.5697,2,    241.2,2,    241.1,2,     1.85,2,     0.34,2,     0.05,2,     0.16,2,     -999,9,     -999,9,     -999,9,   -999.0,9,     -999,9,     -999,9,     -999,9,     -999,1,  16.4786,2,     -999,9,     -999,9,     -999,9,     -999,9,     -999,1,   4.9738,1,   0.0491,1,     -999,9,     -999,9,     -999,9,     -999,9,     -999,9,20230826,1630, -33.9986,  56.4465,-999          ,9,-999          ,9
33RR20230722  ,I05        ,132     ,  1,27         ,27         ,2,20230826,1454, -33.9985,  56.4466,     3858,     92.0,2,  16.0557,2,  35.5292,2,  35.5283,2,    224.6,2,    225.8,2,     2.44,2,     2.77,2,     0.07,2,     0.33,2,     -999,9,     -999,9,     -999,9,   2102.1,2,   2329.3,2,   7.9071,2,    25.03,2,     -999,1,  16.0535,2,     -999,9,     -999,9,     -999,9,     -999,9,     -999,1,   4.8691,1,   0.0282,1,     -999,9,     -999,9,     -999,9,     -999,9,     -999,9,20230826,1628, -33.9986,  56.4465,-999          ,9,-999          ,9
33RR20230722  ,I05        ,132     ,  1,26         ,26         ,2,20230826,1454, -33.9985,  56.4466,     3858,    123.6,2,  15.4925,2,  35.4814,2,  35.4803,2,    225.3,2,    226.6,2,     2.63,2,     3.73,2,     0.03,2,     0.37,2,    2.244,2,    1.440,2,   2.3100,2,   -999.0,9,     -999,9,     -999,9,     -999,9,     -999,1,  15.4946,2,     -999,9,     -999,9,     -999,9,     -999,9,     -999,1,   4.9700,1,   0.0154,1,      8.9,2,     -999,9,     -999,9,     -999,9,     -999,9,20230826,1626, -33.9986,  56.4465,-999          ,9,-999          ,9
33RR20230722  ,I05        ,132     ,  1,25         ,25         ,2,20230826,1454, -33.9985,  56.4466,     3858,    160.2,2,  14.9613,2,  35.4418,2,  35.4458,2,    223.3,2,    224.1,2,     2.73,2,     4.65,2,     0.02,2,     0.44,2,     -999,9,     -999,9,     -999,9,   2112.5,2,   2325.6,2,   7.8801,2,    25.02,2,     -999,1,  14.9851,2,     -999,9,     -999,9,     -999,9,     -999,9,     -999,1,   4.9695,1,   0.0124,1,     -999,9,     -999,9,     -999,9,     -999,9,     -999,9,20230826,1624, -33.9986,  56.4465,-999          ,9,-999          ,9
33RR20230722  ,I05        ,132     ,  1,24         ,24         ,2,20230826,1454, -33.9985,  56.4466,     3858,    198.0,2,  14.4356,2,  35.3844,2,  35.3837,2,    227.0,2,    227.3,2,     3.02,2,     5.71,2,     0.02,2,     0.51,2,     -999,9,     -999,9,     -999,9,   -999.0,9,     -999,9,     -999,9,     -999,9,     -999,1,  14.4211,2,     -999,9,     -999,9,     -999,9,     -999,9,     -999,1,   4.9692,1,   0.0126,1,     -999,9,     -999,9,     -999,9,     -999,9,     -999,9,20230826,1623, -33.9986,  56.4465,-999          ,9,-999          ,9
33RR20230722  ,I05        ,132     ,  1,23         ,23         ,2,20230826,1454, -33.9985,  56.4466,     3858,    241.0,2,  13.9204,2,  35.3391,2,  35.3396,2,    232.6,2,    232.1,2,     3.32,2,     6.42,2,     0.00,2,     0.54,2,    2.437,2,    1.552,2,   2.4200,2,   2116.3,2,   2318.6,2,   7.8597,2,    25.01,2,     -999,1,  13.9201,2,     -999,9,     -999,9,     -999,9,     -999,9,     -999,1,   4.9693,1,   0.0115,1,      9.8,2,     -999,9,     -999,9,     -999,9,     -999,9,20230826,1621, -33.9986,  56.4465,-999          ,9,-999          ,9
33RR20230722  ,I05        ,132     ,  1,22         ,22         ,2,20230826,1454, -33.9985,  56.4466,     3858,    288.3,2,  13.6421,2,  35.3037,2,  35.3029,2,    234.4,2,    233.8,2,     2.83,2,     6.99,2,     0.00,2,     0.58,2,     -999,9,     -999,9,     -999,9,   -999.0,9,     -999,9,     -999,9,     -999,9,     -999,1,  13.6305,2,     -999,9,     -999,9,     -999,9,     -999,9,     -999,1,   4.9689,1,   0.0113,1,     -999,9,     -999,9,     -999,9,     -999,9,     -999,9,20230826,1619, -33.9986,  56.4465,-999          ,9,-999          ,9
33RR20230722  ,I05        ,132     ,  1,21         ,21         ,2,20230826,1454, -33.9985,  56.4466,     3858,    350.5,2,  13.1092,2,  35.2289,2,  35.2296,2,    231.6,2,    231.1,2,     3.12,2,     8.25,2,     0.00,2,     0.65,2,    2.599,2,    1.635,2,   2.3200,2,   2123.8,2,   2313.5,2,   7.8388,2,    25.04,2,     -999,1,  13.1070,2,     -999,9,     -999,9,     -999,9,     -999,9,     -999,1,   4.9681,1,   0.0117,1,     10.3,2,     -999,9,     -999,9,     -999,9,     -999,9,20230826,1616, -33.9986,  56.4465,-999          ,9,-999          ,9
33RR20230722  ,I05        ,132     ,  1,20         ,20         ,2,20230826,1454, -33.9985,  56.4466,     3858,    422.6,2,  12.6420,2,  35.1577,2,  35.1575,2,    230.1,2,    230.0,2,     3.51,2,     9.52,2,     0.00,2,     0.72,2,     -999,9,     -999,9,     -999,9,   -999.0,9,     -999,9,     -999,9,     -999,9,     -999,1,  12.6397,2,     -999,9,     -999,9,     -999,9,     -999,9,     -999,1,   4.9675,1,   0.0113,1,     -999,9,     -999,9,     -999,9,     -999,9,     -999,9,20230826,1614, -33.9986,  56.4465,-999          ,9,-999          ,9
33RR20230722  ,I05        ,132     ,  1,19         ,19         ,2,20230826,1454, -33.9985,  56.4466,     3858,    501.3,2,  11.9592,2,  35.0517,2,  35.0537,2,    228.5,2,    228.1,2,     3.81,2,    11.22,2,     0.00,2,     0.83,2,    2.831,2,    1.749,2,   2.1700,2,   2129.2,2,   2304.9,2,   7.8072,2,    25.02,2,     -999,1,  11.9502,2,     -999,9,     -999,9,     -999,9,     -999,9,     -999,1,   4.9669,1,   0.0115,1,     10.8,2,     -999,9,     -999,9,     -999,9,     -999,9,20230826,1611, -33.9986,  56.4465,-999          ,9,-999          ,9
33RR20230722  ,I05        ,132     ,  1,18         ,18         ,2,20230826,1454, -33.9985,  56.4466,     3858,    599.1,2,  10.9749,2,  34.9027,2,  34.9024,2,    223.9,2,    224.1,2,     4.68,2,    13.81,2,     0.00,2,     1.01,2,    2.932,2,    1.801,2,   1.9300,2,   -999.0,9,     -999,9,     -999,9,     -999,9,     -999,1,  11.0318,2,     -999,9,     -999,9,     -999,9,     -999,9,     -999,1,   4.9667,1,   0.0114,1,     12.0,2,     -999,9,     -999,9,     -999,9,     -999,9,20230826,1607, -33.9986,  56.4465,-999          ,9,-999          ,9
33RR20230722  ,I05        ,132     ,  1,17         ,17         ,2,20230826,1454, -33.9985,  56.4466,     3858,    682.6,2,  10.0475,2,  34.7800,2,  34.7789,2,    220.5,2,    220.5,2,     5.95,2,    16.29,2,     0.00,2,     1.16,2,    3.036,2,    1.825,2,   1.6900,2,   2144.4,2,   2294.6,2,   7.7557,2,    25.04,2,     -999,1,  10.0390,2,     -999,9,     -999,9,     -999,9,     -999,9,     -999,1,   4.9668,1,   0.0113,1,     13.0,2,     -999,9,     -999,9,     -999,9,     -999,9,20230826,1605, -33.9986,  56.4465,-999          ,9,-999          ,9
33RR20230722  ,I05        ,132     ,  1,16         ,16         ,2,20230826,1454, -33.9985,  56.4466,     3858,    791.7,2,   8.9034,2,  34.6541,2,  34.6547,2,    212.3,2,    212.6,2,     9.76,2,    19.73,2,     0.00,2,     1.39,2,     -999,9,     -999,9,     -999,9,   -999.0,9,     -999,9,     -999,9,     -999,9,     -999,1,   8.9045,2,     -999,9,     -999,9,     -999,9,     -999,9,     -999,1,   4.9678,1,   0.0113,1,     -999,9,     -999,9,     -999,9,     -999,9,     -999,9,20230826,1603, -33.9986,  56.4465,-999          ,9,-999          ,9
33RR20230722  ,I05        ,132     ,  1,15         ,15         ,2,20230826,1454, -33.9985,  56.4466,     3858,    907.8,2,   7.6074,2,  34.5233,2,  34.5156,2,    206.9,2,    207.1,2,    14.84,2,    23.66,2,     0.00,2,     1.64,2,    2.861,2,    1.654,2,   1.2500,2,   2169.6,2,   2288.7,2,   7.6781,6,    25.02,2,     -999,1,   7.6009,2,     -999,9,     -999,9,     -999,9,     -999,9,     -999,1,   4.9687,1,   0.0112,1,     16.1,2,     -999,9,     -999,9,     -999,9,     -999,9,20230826,1559, -33.9986,  56.4465,-999          ,9,-999          ,9
33RR20230722  ,I05        ,132     ,  1,14         ,14         ,2,20230826,1454, -33.9985,  56.4466,     3858,   1024.7,2,   5.8920,2,  34.3957,2,  34.3947,2,    205.6,2,    206.5,2,    22.45,2,    27.44,2,     0.00,2,     1.90,2,     -999,9,     -999,9,     -999,9,   -999.0,9,     -999,9,     -999,9,     -999,9,     -999,1,   5.8567,2,     -999,9,     -999,9,     -999,9,     -999,9,     -999,1,   4.9696,1,   0.0112,1,     -999,9,     -999,9,     -999,9,     -999,9,     -999,9,20230826,1556, -33.9985,  56.4466,-999          ,9,-999          ,9
33RR20230722  ,I05        ,132     ,  1,13         ,13         ,2,20230826,1454, -33.9985,  56.4466,     3858,   1147.3,2,   4.5708,2,  34.3590,2,  34.3592,2,    201.2,2,    201.8,2,    33.49,2,    30.29,2,     0.00,2,     2.11,2,     -999,9,     -999,9,     -999,9,   2201.6,2,   2298.2,2,   7.6099,6,    25.02,2,     -999,1,   4.5728,2,     -999,9,     -999,9,     -999,9,     -999,9,     -999,1,   4.9706,1,   0.0112,1,     -999,9,     -999,9,     -999,9,     -999,9,     -999,9,20230826,1553, -33.9986,  56.4465,-999          ,9,-999          ,9
33RR20230722  ,I05        ,132     ,  1,12         ,12         ,2,20230826,1454, -33.9985,  56.4466,     3858,   1279.6,2,   3.8752,2,  34.3945,2,  34.3943,2,    189.8,2,    190.4,2,    45.10,2,    32.09,2,     0.00,2,     2.25,2,     -999,9,     -999,9,     -999,9,   -999.0,9,     -999,9,     -999,9,     -999,9,     -999,1,   3.8735,2,     -999,9,     -999,9,     -999,9,     -999,9,     -999,1,   4.9719,1,   0.0112,1,     -999,9,     -999,9,     -999,9,     -999,9,     -999,9,20230826,1550, -33.9985,  56.4466,-999          ,9,-999          ,9
33RR20230722  ,I05        ,132     ,  1,11         ,11         ,2,20230826,1454, -33.9985,  56.4466,     3858,   1423.4,2,   3.3541,2,  34.4690,2,  34.4657,2,    177.8,2,    177.9,2,    57.11,2,    33.23,2,     0.00,2,     2.32,2,    0.996,2,    0.571,2,   0.3100,2,   2236.7,2,   2319.0,2,   7.5719,2,    25.01,2,     -999,1,   3.3650,2,     -999,9,     -999,9,     -999,9,     -999,9,     -999,1,   4.9731,1,   0.0112,1,     21.6,2,     -999,9,     -999,9,     -999,9,     -999,9,20230826,1547, -33.9985,  56.4466,-999          ,9,-999          ,9
33RR20230722  ,I05        ,132     ,  1,10         ,10         ,2,20230826,1454, -33.9985,  56.4466,     3858,   1575.5,2,   3.0067,2,  34.5471,2,  34.5470,2,    173.0,2,    172.7,2,    65.89,2,    33.30,2,     0.00,2,     2.34,2,     -999,9,     -999,9,     -999,9,   -999.0,9,     -999,9,     -999,9,     -999,9,     -999,1,   3.0077,2,     -999,9,     -999,9,     -999,9,     -999,9,     -999,1,   4.9737,1,   0.0112,1,     -999,9,     -999,9,     -999,9,     -999,9,     -999,9,20230826,1543, -33.9985,  56.4466,-999          ,9,-999          ,9
33RR20230722  ,I05        ,132     ,  1,9          ,9          ,2,20230826,1454, -33.9985,  56.4466,     3858,   1738.8,2,   2.8004,2,  34.6054,2,  34.6052,2,    173.6,2,    173.0,2,    71.74,2,    32.86,2,     0.00,2,     2.28,2,     -999,9,     -999,9,     -999,9,   2250.4,2,   2336.7,2,   7.5776,2,    25.02,2,     -999,1,   2.7994,2,     -999,9,     -999,9,     -999,9,     -999,9,     -999,1,   4.9741,1,   0.0115,1,     -999,9,     -999,9,     -999,9,     -999,9,     -999,9,20230826,1539, -33.9985,  56.4465,-999          ,9,-999          ,9
33RR20230722  ,I05        ,132     ,  1,8          ,8          ,2,20230826,1454, -33.9985,  56.4466,     3858,   1930.2,2,   2.5854,2,  34.6666,2,  34.6657,2,    178.7,2,    178.5,2,    76.23,2,    31.89,2,     0.00,2,     2.22,2,     -999,9,     -999,9,     -999,9,   -999.0,9,     -999,9,     -999,9,     -999,9,     -999,1,   2.5858,2,     -999,9,     -999,9,     -999,9,     -999,9,     -999,1,   4.9742,1,   0.0111,1,     -999,9,     -999,9,     -999,9,     -999,9,     -999,9,20230826,1535, -33.9985,  56.4465,-999          ,9,-999          ,9
33RR20230722  ,I05        ,132     ,  1,7          ,7          ,2,20230826,1454, -33.9985,  56.4466,     3858,   2175.8,2,   2.3397,2,  34.7119,2,  34.7111,2,    183.5,2,    183.4,2,    84.23,2,    31.22,2,     0.00,2,     2.20,2,     -999,9,     -999,9,     -999,9,   2253.7,2,   2350.8,2,   7.6052,2,    25.00,2,     -999,1,   2.3395,2,     -999,9,     -999,9,     -999,9,     -999,9,     -999,1,   4.9742,1,   0.0111,1,     -999,9,     -999,9,     -999,9,     -999,9,     -999,9,20230826,1529, -33.9985,  56.4465,-999          ,9,-999          ,9
33RR20230722  ,I05        ,132     ,  1,6          ,6          ,2,20230826,1454, -33.9985,  56.4466,     3858,   2481.7,2,   2.1154,2,  34.7306,2,  34.7302,2,    184.5,2,    184.3,2,    94.67,2,    31.33,2,     0.00,2,     2.21,2,    0.055,2,    0.032,2,   0.0300,2,   -999.0,9,     -999,9,     -999,9,     -999,9,     -999,1,   2.1146,2,     -999,9,     -999,9,     -999,9,     -999,9,     -999,1,   4.9746,1,   0.0118,1,     19.4,2,     -999,9,     -999,9,     -999,9,     -999,9,20230826,1523, -33.9985,  56.4466,-999          ,9,-999          ,9
33RR20230722  ,I05        ,132     ,  1,5          ,5          ,2,20230826,1454, -33.9985,  56.4466,     3858,   2838.0,2,   1.8480,2,  34.7384,2,  34.7384,2,    192.6,2,    192.8,2,    98.38,2,    30.93,2,     0.00,2,     2.17,2,     -999,9,     -999,9,     -999,9,   2259.1,2,   2361.8,6,   7.6176,2,    25.02,2,     -999,1,   1.8491,2,     -999,9,     -999,9,     -999,9,     -999,9,     -999,1,   4.9748,1,   0.0111,1,     -999,9,     -999,9,     -999,9,     -999,9,     -999,9,20230826,1516, -33.9986,  56.4465,-999          ,9,-999          ,9
33RR20230722  ,I05        ,132     ,  1,4          ,37         ,2,20230826,1454, -33.9985,  56.4466,     3858,   3236.3,2,   1.4906,2,  34.7308,2,  34.7294,2,    202.3,2,    202.9,2,   103.84,2,    30.81,2,     0.00,2,     2.16,2,     -999,9,     -999,9,     -999,9,   -999.0,9,     -999,9,     -999,9,     -999,9,     -999,1,   1.4901,2,     -999,9,     -999,9,     -999,9,     -999,9,     -999,1,   4.9749,1,   0.0110,1,     -999,9,     -999,9,     -999,9,     -999,9,     -999,9,20230826,1509, -33.9986,  56.4466,-999          ,9,-999          ,9
33RR20230722  ,I05        ,132     ,  1,3          ,3          ,2,20230826,1454, -33.9985,  56.4466,     3858,   3578.2,2,   1.2328,2,  34.7199,2,  34.7193,2,    206.4,2,    206.8,2,   109.99,2,    31.14,2,     0.00,2,     2.17,2,    0.184,2,    0.098,2,   0.0500,2,   2257.0,2,   2358.6,2,   7.6139,2,    25.00,2,     -999,1,   1.2322,2,     -999,9,     -999,9,     -999,9,     -999,9,     -999,1,   4.9750,1,   0.0111,1,     18.0,2,     -999,9,     -999,9,     -999,9,     -999,9,20230826,1502, -33.9986,  56.4465,-999          ,9,-999          ,9
33RR20230722  ,I05        ,132     ,  1,2          ,2          ,2,20230826,1454, -33.9985,  56.4466,     3858,   3799.6,2,   1.2034,2,  34.7176,2,  34.7168,2,    207.3,2,    207.5,2,   112.43,2,    31.23,2,     0.00,2,     2.18,2,    0.187,2,    0.103,2,   0.0400,2,   2259.5,2,   2356.1,2,   7.6149,2,    25.00,2,     -999,1,   1.2031,2,     -999,9,     -999,9,     -999,9,     -999,9,     -999,1,   4.9710,1,   0.0115,1,     18.1,2,     -999,9,     -999,9,     -999,9,     -999,9,20230826,1457, -33.9985,  56.4465,-999          ,9,-999          ,9
33RR20230722  ,I05        ,132     ,  1,1          ,1          ,2,20230826,1454, -33.9985,  56.4466,     3858,   3910.6,2,   1.2083,2,  34.7171,2,  34.7164,2,    207.6,2,    207.3,2,   112.92,2,    31.21,2,     0.00,2,     2.18,2,    0.187,2,    0.102,2,   0.0400,2,   2257.2,6,   2358.7,6,   7.6140,2,    25.00,2,     -999,1,   1.2074,2,     -999,9,     -999,9,     -999,9,     -999,9,     -999,1,   0.5371,1,   0.0110,1,     17.8,2,     -999,9,     -999,9,     -999,9,     -999,9,20230826,1454, -33.9986,  56.4465,-999          ,9,-999          ,9