BOTTLE,20240422CCHHYDRO
EXPOCODE,SECT_ID,STNNBR,CASTNO,SAMPNO,BTLNBR,BTLNBR_FLAG_W,DATE,TIME,LATITUDE,LONGITUDE,DEPTH,CTDPRS,CTDPRS_FLAG_W,CTDTMP,CTDTMP_FLAG_W,CTDSAL,CTDSAL_FLAG_W,SALNTY,SALNTY_FLAG_W,CTDOXY,CTDOXY_FLAG_W,OXYGEN,OXYGEN_FLAG_W,SILCAT,SILCAT_FLAG_W,NITRAT,NITRAT_FLAG_W,NITRIT,NITRIT_FLAG_W,PHSPHT,PHSPHT_FLAG_W,CFC-11,CFC-11_FLAG_W,CFC-12,CFC-12_FLAG_W,SF6,SF6_FLAG_W,TCARBN,TCARBN_FLAG_W,ALKALI,ALKALI_FLAG_W,PH_TOT,PH_TOT_FLAG_W,PH_TMP,PH_TMP_FLAG_W,DOC,DOC_FLAG_W,REFTMP,REFTMP_FLAG_W,POC,POC_FLAG_W,PON,PON_FLAG_W,POP,POP_FLAG_W,DOP,DOP_FLAG_W,DELO18,DELO18_FLAG_W,CTDFLUOR,CTDFLUOR_FLAG_W,CTDXMISS,CTDXMISS_FLAG_W,N2O,N2O_FLAG_W,D15N_NO3,D15N_NO3_FLAG_W,D15N_NO2+NO3,D15N_NO2+NO3_FLAG_W,D18O_NO2+NO3,D18O_NO2+NO3_FLAG_W,D18O_NO3,D18O_NO3_FLAG_W,BTL_DATE,BTL_TIME,BTL_LAT,BTL_LON,HPLC,HPLC_FLAG_W,DNA,DNA_FLAG_W
,,,,,,,,,,,METERS,DBAR,,ITS-90,,PSS-78,,PSS-78,,UMOL/KG,,UMOL/KG,,UMOL/KG,,UMOL/KG,,UMOL/KG,,UMOL/KG,,PMOL/KG,,PMOL/KG,,FMOL/KG,,UMOL/KG,,UMOL/KG,,,,DEG C,,UMOL/KG,,ITS-90,,UG/KG,,UG/KG,,UG/L,,UMOL/KG,,/MILLE,,VOLTS,,VOLTS,,NMOL/KG,,/MILLE,,/MILLE,,/MILLE,,/MILLE,,,,,,,,,
33RR20230722  ,I05        ,56      ,  1,36         ,36         ,2,20230806,1004, -33.0833,  92.8979,     4328,      4.4,2,  15.8041,2,  35.6053,2,  35.6060,2,    244.6,2,    244.4,2,     1.07,2,     0.67,2,     0.07,2,     0.23,2,    0.207,4,    1.426,2,   2.4500,2,   2098.8,2,   2341.9,2,   7.9333,2,    24.70,2,     -999,1,  15.8022,2,     -999,9,     -999,9,     -999,9,     -999,9,     -999,1,   4.8966,1,   0.0406,1,      8.6,2,     -999,1,     -999,1,     -999,1,     -999,1,20230806,1159, -33.0833,  92.8979,-999          ,9,-999          ,9
33RR20230722  ,I05        ,56      ,  1,35         ,35         ,2,20230806,1004, -33.0833,  92.8979,     4328,     17.0,2,  15.8235,2,  35.6090,2,  35.6096,2,    244.8,2,    244.8,2,     1.27,2,     0.60,2,     0.07,2,     0.22,2,     -999,9,     -999,9,     -999,9,   2099.8,6,   2344.5,2,   7.9360,2,    24.98,2,     -999,1,  15.8191,2,     -999,9,     -999,9,     -999,9,     -999,9,     -999,1,   4.9750,1,   0.0401,1,     -999,9,     -999,1,     -999,1,     -999,1,     -999,1,20230806,1158, -33.0833,  92.8979,-999          ,9,-999          ,9
33RR20230722  ,I05        ,56      ,  1,34         ,34         ,2,20230806,1004, -33.0833,  92.8979,     4328,     27.8,2,  15.8257,2,  35.6095,2,  35.6054,2,    244.5,2,    244.6,2,     1.27,2,     0.59,2,     0.08,2,     0.24,2,     -999,9,     -999,9,     -999,9,   2101.4,2,   2343.6,2,   7.9344,2,    24.87,2,     -999,1,  15.8271,2,     -999,9,     -999,9,     -999,9,     -999,9,     -999,1,   4.9749,1,   0.0407,1,     -999,9,     -999,1,     -999,1,     -999,1,     -999,1,20230806,1156, -33.0833,  92.8979,-999          ,9,-999          ,9
33RR20230722  ,I05        ,56      ,  1,33         ,33         ,2,20230806,1004, -33.0833,  92.8979,     4328,     48.5,2,  15.7840,2,  35.5968,2,  35.5975,2,    244.5,2,    244.5,2,     1.27,2,     0.60,2,     0.08,2,     0.23,2,     -999,9,     -999,9,     -999,9,   2100.7,2,   2344.2,2,   7.9339,2,    25.01,2,     -999,1,  15.7718,2,     -999,9,     -999,9,     -999,9,     -999,9,     -999,1,   4.9716,1,   0.0395,1,     -999,9,     -999,1,     -999,1,     -999,1,     -999,1,20230806,1155, -33.0833,  92.8979,-999          ,9,-999          ,9
33RR20230722  ,I05        ,56      ,  1,32         ,32         ,2,20230806,1004, -33.0833,  92.8979,     4328,     72.2,2,  15.7623,2,  35.5917,2,  35.5928,2,    244.1,2,    244.9,2,     1.46,2,     0.59,2,     0.08,2,     0.20,2,     -999,9,     -999,9,     -999,9,   2099.4,2,   2343.3,2,   7.9333,2,    25.02,2,     -999,1,  15.7567,2,     -999,9,     -999,9,     -999,9,     -999,9,     -999,1,   4.9745,1,   0.0413,1,     -999,9,     -999,1,     -999,1,     -999,1,     -999,1,20230806,1153, -33.0834,  92.8979,-999          ,9,-999          ,9
33RR20230722  ,I05        ,56      ,  1,31         ,31         ,2,20230806,1004, -33.0833,  92.8979,     4328,     95.7,2,  15.6349,2,  35.5702,2,  35.5713,2,    243.4,2,    244.3,2,     0.98,2,     0.67,2,     0.09,2,     0.22,2,     -999,9,     -999,9,     -999,9,   2100.1,2,   2343.6,2,   7.9292,2,    25.00,2,     -999,1,  15.6347,2,     -999,9,     -999,9,     -999,9,     -999,9,     -999,1,   4.9744,1,   0.0368,1,     -999,9,     -999,1,     -999,1,     -999,1,     -999,1,20230806,1151, -33.0833,  92.8979,-999          ,9,-999          ,9
33RR20230722  ,I05        ,56      ,  1,30         ,30         ,2,20230806,1004, -33.0833,  92.8979,     4328,    140.7,2,  13.5953,2,  35.3084,2,  35.3043,2,    236.2,2,    237.3,2,     2.05,2,     5.35,2,     0.11,2,     0.53,2,    2.513,4,    1.572,2,   2.5600,2,   2123.0,2,   2324.6,2,   7.8563,6,    25.00,2,     -999,1,  13.6074,3,     -999,9,     -999,9,     -999,9,     -999,9,     -999,1,   4.9705,1,   0.0202,1,     10.9,2,     -999,1,     -999,1,     -999,1,     -999,1,20230806,1148, -33.0834,  92.8979,-999          ,9,-999          ,9
33RR20230722  ,I05        ,56      ,  1,29         ,29         ,2,20230806,1004, -33.0833,  92.8979,     4328,    173.6,2,  12.9816,2,  35.2185,2,  35.2089,2,    237.8,2,    238.0,2,     2.05,2,     6.73,2,     0.02,2,     0.60,2,     -999,9,     -999,9,     -999,9,   2122.9,2,   2319.2,2,   7.8400,2,    25.01,2,     -999,1,  12.9514,2,     -999,9,     -999,9,     -999,9,     -999,9,     -999,1,   4.9697,1,   0.0125,1,     -999,9,     -999,1,     -999,1,     -999,1,     -999,1,20230806,1147, -33.0834,  92.8979,-999          ,9,-999          ,9
33RR20230722  ,I05        ,56      ,  1,28         ,28         ,2,20230806,1004, -33.0833,  92.8979,     4328,    217.6,2,  12.1354,2,  35.0665,2,  35.0665,2,    242.9,2,    242.7,2,     2.44,2,     8.40,2,     0.02,2,     0.70,2,     -999,9,     -999,9,     -999,9,   -999.0,9,     -999,9,     -999,9,     -999,9,     -999,1,  12.1335,2,     -999,9,     -999,9,     -999,9,     -999,9,     -999,1,   4.9694,1,   0.0115,1,     -999,9,     -999,1,     -999,1,     -999,1,     -999,1,20230806,1145, -33.0833,  92.8979,-999          ,9,-999          ,9
33RR20230722  ,I05        ,56      ,  1,27         ,27         ,2,20230806,1004, -33.0833,  92.8979,     4328,    256.5,2,  11.9670,2,  35.0420,2,  35.0429,2,    244.0,2,    243.4,2,     2.93,2,     8.76,2,     0.01,2,     0.72,2,     -999,9,     -999,9,     -999,9,   2125.4,2,   2309.8,2,   7.8210,6,    24.85,2,     -999,1,  11.9662,2,     -999,9,     -999,9,     -999,9,     -999,9,     -999,1,   4.9695,1,   0.0116,1,     -999,9,     -999,1,     -999,1,     -999,1,     -999,1,20230806,1143, -33.0833,  92.8979,-999          ,9,-999          ,9
33RR20230722  ,I05        ,56      ,  1,26         ,26         ,2,20230806,1004, -33.0833,  92.8979,     4328,    304.2,2,  11.7760,2,  35.0260,2,  35.0289,2,    242.9,2,    242.5,2,     2.54,2,     9.16,2,     0.01,2,     0.75,2,     -999,9,     -999,9,     -999,9,   -999.0,9,     -999,9,     -999,9,     -999,9,     -999,1,  11.7696,2,     -999,9,     -999,9,     -999,9,     -999,9,     -999,1,   4.9692,1,   0.0116,1,     -999,9,     -999,1,     -999,1,     -999,1,     -999,1,20230806,1141, -33.0833,  92.8979,-999          ,9,-999          ,9
33RR20230722  ,I05        ,56      ,  1,25         ,25         ,2,20230806,1004, -33.0833,  92.8979,     4328,    369.9,2,  11.2227,2,  34.9294,2,  34.9351,2,    242.0,2,    241.2,2,     3.41,2,    10.87,2,     0.01,2,     0.84,2,     -999,9,     -999,9,     -999,9,   2129.2,2,   2302.5,6,   7.7994,2,    24.95,2,     -999,1,  11.2487,2,     -999,9,     -999,9,     -999,9,     -999,9,     -999,1,   4.9681,1,   0.0116,1,     -999,9,     -999,1,     -999,1,     -999,1,     -999,1,20230806,1139, -33.0834,  92.8979,-999          ,9,-999          ,9
33RR20230722  ,I05        ,56      ,  1,24         ,24         ,2,20230806,1004, -33.0833,  92.8979,     4328,    423.7,2,  10.8494,2,  34.8705,2,  34.8694,2,    241.6,2,    241.0,2,     3.71,2,    12.04,2,     0.00,2,     0.93,2,    0.006,4,    1.888,2,   2.5200,2,   -999.0,9,     -999,9,     -999,9,     -999,9,     -999,1,  10.8384,2,     -999,9,     -999,9,     -999,9,     -999,9,     -999,1,   4.9678,1,   0.0114,1,     12.7,2,     -999,1,     -999,1,     -999,1,     -999,1,20230806,1137, -33.0833,  92.8979,-999          ,9,-999          ,9
33RR20230722  ,I05        ,56      ,  1,23         ,23         ,2,20230806,1004, -33.0833,  92.8979,     4328,    499.1,2,  10.3506,2,  34.7976,2,  34.7960,2,    241.1,2,    240.6,2,     4.00,2,    13.45,2,     0.00,2,     1.01,2,     -999,9,     -999,9,     -999,9,   2134.2,2,   2297.8,2,   7.7770,2,    24.97,2,     -999,1,  10.3526,2,     -999,9,     -999,9,     -999,9,     -999,9,     -999,1,   4.9673,1,   0.0113,1,     -999,9,     -999,1,     -999,1,     -999,1,     -999,1,20230806,1135, -33.0834,  92.8979,-999          ,9,-999          ,9
33RR20230722  ,I05        ,56      ,  1,22         ,22         ,2,20230806,1004, -33.0833,  92.8979,     4328,    579.0,2,   9.9535,2,  34.7506,2,  34.7520,2,    234.8,2,    234.8,2,     4.68,2,    14.90,2,     0.00,2,     1.09,2,     -999,9,     -999,9,     -999,9,   2137.2,2,   2293.5,2,   7.7622,2,    24.96,2,     -999,1,   9.9576,2,     -999,9,     -999,9,     -999,9,     -999,9,     -999,1,   4.9667,1,   0.0114,1,     -999,9,     -999,1,     -999,1,     -999,1,     -999,1,20230806,1132, -33.0833,  92.8979,-999          ,9,-999          ,9
33RR20230722  ,I05        ,56      ,  1,21         ,21         ,2,20230806,1004, -33.0833,  92.8979,     4328,    672.2,2,   9.3468,2,  34.6738,2,  34.6757,2,    231.2,2,    231.5,2,     5.17,2,    17.01,2,     0.00,2,     1.20,2,     -999,9,     -999,9,     -999,9,   2141.5,2,   2291.1,2,   7.7423,2,    24.97,2,     -999,1,   9.3478,2,     -999,9,     -999,9,     -999,9,     -999,9,     -999,1,   4.9665,1,   0.0115,1,     -999,9,     -999,1,     -999,1,     -999,1,     -999,1,20230806,1130, -33.0834,  92.8979,-999          ,9,-999          ,9
33RR20230722  ,I05        ,56      ,  1,20         ,20         ,2,20230806,1004, -33.0833,  92.8979,     4328,    772.8,2,   8.4889,2,  34.5821,2,  34.5767,2,    214.5,2,    214.5,2,     9.47,2,    20.86,2,     0.00,2,     1.45,2,     -999,9,     -999,9,     -999,9,   2150.5,2,   2285.6,2,   7.7045,2,    24.99,2,     -999,1,   8.4795,2,     -999,9,     -999,9,     -999,9,     -999,9,     -999,1,   4.9677,1,   0.0114,1,     -999,9,     -999,1,     -999,1,     -999,1,     -999,1,20230806,1127, -33.0833,  92.8979,-999          ,9,-999          ,9
33RR20230722  ,I05        ,56      ,  1,19         ,19         ,2,20230806,1004, -33.0833,  92.8979,     4328,    890.5,2,   6.9523,2,  34.4595,2,  34.4618,2,    200.0,2,    201.2,2,    16.69,2,    25.39,2,     0.00,2,     1.75,2,   -0.002,4,    1.510,2,   1.0500,2,   2170.4,2,   2288.3,2,   7.6596,2,    25.01,2,     -999,1,   6.9578,2,     -999,9,     -999,9,     -999,9,     -999,9,     -999,1,   4.9694,1,   0.0113,1,     17.7,2,     -999,1,     -999,1,     -999,1,     -999,1,20230806,1124, -33.0834,  92.8979,-999          ,9,-999          ,9
33RR20230722  ,I05        ,56      ,  1,18         ,18         ,2,20230806,1004, -33.0833,  92.8979,     4328,   1022.7,2,   5.1257,2,  34.3748,2,  34.3760,2,    194.2,2,    194.3,2,    30.45,2,    29.71,2,     0.00,2,     2.08,2,     -999,9,     -999,9,     -999,9,   -999.0,9,     -999,9,     -999,9,     -999,9,     -999,1,   5.1367,2,     -999,9,     -999,9,     -999,9,     -999,9,     -999,1,   4.9708,1,   0.0112,1,     -999,9,     -999,1,     -999,1,     -999,1,     -999,1,20230806,1120, -33.0833,  92.8978,-999          ,9,-999          ,9
33RR20230722  ,I05        ,56      ,  1,17         ,17         ,2,20230806,1004, -33.0833,  92.8979,     4328,   1129.9,2,   4.3341,2,  34.3950,2,  34.3945,2,    182.3,2,    183.5,2,    41.68,2,    31.69,2,     0.00,2,     2.26,2,     -999,9,     -999,9,     -999,9,   2213.7,2,   2307.3,2,   7.5944,2,    25.00,2,     -999,1,   4.3477,2,     -999,9,     -999,9,     -999,9,     -999,9,     -999,1,   4.9721,1,   0.0112,1,     -999,9,     -999,1,     -999,1,     -999,1,     -999,1,20230806,1117, -33.0833,  92.8979,-999          ,9,-999          ,9
33RR20230722  ,I05        ,56      ,  1,16         ,16         ,2,20230806,1004, -33.0833,  92.8979,     4328,   1208.5,2,   4.0000,2,  34.4278,2,  34.4300,2,    172.6,2,    172.8,2,    52.02,2,    32.73,2,     0.00,2,     2.36,2,     -999,9,     -999,9,     -999,9,   -999.0,9,     -999,9,     -999,9,     -999,9,     -999,1,   3.9988,2,     -999,9,     -999,9,     -999,9,     -999,9,     -999,1,   4.9728,1,   0.0111,1,     -999,9,     -999,1,     -999,1,     -999,1,     -999,1,20230806,1115, -33.0834,  92.8979,-999          ,9,-999          ,9
33RR20230722  ,I05        ,56      ,  1,15         ,15         ,2,20230806,1004, -33.0833,  92.8979,     4328,   1330.6,2,   3.6188,2,  34.4902,2,  34.4885,2,    159.6,2,    159.7,2,    66.07,2,    34.02,2,     0.00,2,     2.44,2,     -999,9,     -999,9,     -999,9,   2245.7,2,   2329.8,2,   7.5651,6,    24.98,2,     -999,1,   3.6237,2,     -999,9,     -999,9,     -999,9,     -999,9,     -999,1,   4.9739,1,   0.0112,1,     -999,9,     -999,1,     -999,1,     -999,1,     -999,1,20230806,1111, -33.0833,  92.8979,-999          ,9,-999          ,9
33RR20230722  ,I05        ,56      ,  1,14         ,14         ,2,20230806,1004, -33.0833,  92.8979,     4328,   1454.5,2,   3.3872,2,  34.5281,2,  34.5288,2,    155.7,2,    155.6,2,    71.54,2,    34.40,2,     0.00,2,     2.46,2,    0.406,4,    0.184,2,   0.1200,2,   2254.2,2,   2336.9,2,   7.5608,2,    25.00,2,     -999,1,   3.3863,2,     -999,9,     -999,9,     -999,9,     -999,9,     -999,1,   4.9747,1,   0.0114,1,     23.9,2,     -999,1,     -999,1,     -999,1,     -999,1,20230806,1108, -33.0834,  92.8979,-999          ,9,-999          ,9
33RR20230722  ,I05        ,56      ,  1,13         ,13         ,4,20230806,1004, -33.0833,  92.8979,     4328,   1538.4,3,   3.2107,3,  34.5620,3,     -999,9,    154.5,3,     -999,9,     -999,9,     -999,9,     -999,9,     -999,9,     -999,9,     -999,9,     -999,9,   -999.0,4,     -999,9,     -999,9,     -999,9,     -999,9,   3.2129,3,     -999,9,     -999,9,     -999,9,     -999,9,     -999,9,   4.9747,1,   0.0111,1,     -999,9,     -999,9,     -999,9,     -999,9,     -999,9,20230806,1106, -33.0833,  92.8979,-999          ,9,-999          ,9
33RR20230722  ,I05        ,56      ,  1,12         ,12         ,2,20230806,1004, -33.0833,  92.8979,     4328,   1652.9,2,   3.0134,2,  34.5971,2,  34.5977,2,    155.8,2,    155.3,2,    79.63,2,    34.15,2,     0.00,2,     2.43,2,     -999,9,     -999,9,     -999,9,   2258.6,2,   2345.1,2,   7.5638,2,    24.98,2,     -999,1,   3.0132,2,     -999,9,     -999,9,     -999,9,     -999,9,     -999,1,   4.9748,1,   0.0118,1,     -999,9,     -999,1,     -999,1,     -999,1,     -999,1,20230806,1103, -33.0833,  92.8979,-999          ,9,-999          ,9
33RR20230722  ,I05        ,56      ,  1,11         ,11         ,2,20230806,1004, -33.0833,  92.8979,     4328,   1795.1,2,   2.8154,2,  34.6372,2,  34.6384,2,    158.8,2,    158.8,2,    84.41,2,    33.65,2,     0.00,2,     2.44,2,     -999,9,     -999,9,     -999,9,   2264.5,2,   2351.3,6,   7.5705,2,    25.00,2,     -999,1,   2.8141,2,     -999,9,     -999,9,     -999,9,     -999,9,     -999,1,   4.9749,1,   0.0116,1,     -999,9,     -999,1,     -999,1,     -999,1,     -999,1,20230806,1059, -33.0833,  92.8978,-999          ,9,-999          ,9
33RR20230722  ,I05        ,56      ,  1,10         ,10         ,2,20230806,1004, -33.0833,  92.8979,     4328,   2076.0,2,   2.4463,2,  34.6988,2,  34.6991,2,    170.1,2,    170.0,2,    89.09,2,    32.58,2,     0.00,2,     2.34,2,     -999,9,     -999,9,     -999,9,   -999.0,9,     -999,9,     -999,9,     -999,9,     -999,1,   2.4468,2,     -999,9,     -999,9,     -999,9,     -999,9,     -999,1,   4.9749,1,   0.0121,1,     -999,9,     -999,1,     -999,1,     -999,1,     -999,1,20230806,1052, -33.0833,  92.8979,-999          ,9,-999          ,9
33RR20230722  ,I05        ,56      ,  1,9          ,9          ,2,20230806,1004, -33.0833,  92.8979,     4328,   2343.5,2,   2.1780,2,  34.7295,2,  34.7282,2,    183.3,2,    183.3,2,    91.53,2,    31.19,2,     0.00,2,     2.23,2,     -999,9,     -999,9,     -999,9,   2253.8,2,   2356.1,2,   7.6055,2,    25.01,2,     -999,1,   2.1877,2,     -999,9,     -999,9,     -999,9,     -999,9,     -999,1,   4.9747,1,   0.0111,1,     -999,9,     -999,1,     -999,1,     -999,1,     -999,1,20230806,1047, -33.0833,  92.8979,-999          ,9,-999          ,9
33RR20230722  ,I05        ,56      ,  1,8          ,8          ,2,20230806,1004, -33.0833,  92.8979,     4328,   2636.2,2,   1.9127,2,  34.7369,2,  34.7374,2,    189.8,2,    189.9,2,    96.41,2,    30.91,2,     0.00,2,     2.22,2,    0.000,4,    0.023,2,   0.0100,2,   -999.0,9,     -999,9,     -999,9,     -999,9,     -999,1,   1.9113,2,     -999,9,     -999,9,     -999,9,     -999,9,     -999,1,   4.9747,1,   0.0111,1,     19.2,2,     -999,1,     -999,1,     -999,1,     -999,1,20230806,1041, -33.0833,  92.8979,-999          ,9,-999          ,9
33RR20230722  ,I05        ,56      ,  1,7          ,7          ,2,20230806,1004, -33.0833,  92.8979,     4328,   2862.5,2,   1.7116,2,  34.7377,2,  34.7380,2,    194.7,2,    194.7,2,   100.31,2,    30.83,2,     0.00,2,     2.21,2,    0.005,4,    0.025,2,   0.0700,2,   2255.7,2,   2360.3,2,   7.6160,2,    25.00,2,     -999,1,   1.7119,2,     -999,9,     -999,9,     -999,9,     -999,9,     -999,1,   4.9749,1,   0.0111,1,     19.2,2,     -999,1,     -999,1,     -999,1,     -999,1,20230806,1036, -33.0833,  92.8979,-999          ,9,-999          ,9
33RR20230722  ,I05        ,56      ,  1,6          ,6          ,2,20230806,1004, -33.0833,  92.8979,     4328,   3087.5,2,   1.5285,2,  34.7336,2,  34.7341,2,    197.9,2,    197.9,2,   105.58,2,    31.24,2,     0.00,2,     2.22,2,     -999,9,     -999,9,     -999,9,   -999.0,9,     -999,9,     -999,9,     -999,9,     -999,1,   1.5298,2,     -999,9,     -999,9,     -999,9,     -999,9,     -999,1,   4.9752,1,   0.0116,1,     -999,9,     -999,1,     -999,1,     -999,1,     -999,1,20230806,1031, -33.0833,  92.8979,-999          ,9,-999          ,9
33RR20230722  ,I05        ,56      ,  1,5          ,5          ,2,20230806,1004, -33.0833,  92.8979,     4328,   3381.2,2,   1.3268,2,  34.7264,2,  34.7272,2,    200.9,2,    201.2,2,   110.56,2,    31.53,2,     0.00,2,     2.22,2,     -999,9,     -999,9,     -999,9,   2257.5,2,   2364.2,2,   7.6174,2,    25.03,2,     -999,1,   1.3262,2,     -999,9,     -999,9,     -999,9,     -999,9,     -999,1,   4.9755,1,   0.0112,1,     -999,9,     -999,1,     -999,1,     -999,1,     -999,1,20230806,1025, -33.0833,  92.8979,-999          ,9,-999          ,9
33RR20230722  ,I05        ,56      ,  1,4          ,37         ,2,20230806,1004, -33.0833,  92.8979,     4328,   3690.0,2,   1.1913,2,  34.7198,2,  34.7201,2,    202.4,2,    202.7,2,   116.12,2,    31.72,2,     0.00,2,     2.24,2,     -999,9,     -999,9,     -999,9,   -999.0,9,     -999,9,     -999,9,     -999,9,     -999,1,   1.1913,2,     -999,9,     -999,9,     -999,9,     -999,9,     -999,1,   4.9758,1,   0.0112,1,     -999,9,     -999,1,     -999,1,     -999,1,     -999,1,20230806,1019, -33.0833,  92.8979,-999          ,9,-999          ,9
33RR20230722  ,I05        ,56      ,  1,3          ,3          ,2,20230806,1004, -33.0833,  92.8979,     4328,   3918.1,2,   1.1579,2,  34.7172,2,  34.7176,2,    203.2,2,    203.3,2,   117.88,2,    31.55,2,     0.00,2,     2.23,2,     -999,9,     -999,9,     -999,9,   2264.8,2,   2371.8,2,   7.6207,2,    25.00,2,     -999,1,   1.1578,2,     -999,9,     -999,9,     -999,9,     -999,9,     -999,1,   4.9758,1,   0.0111,1,     -999,9,     -999,1,     -999,1,     -999,1,     -999,1,20230806,1014, -33.0833,  92.8978,-999          ,9,-999          ,9