BOTTLE,20240422CCHHYDRO
EXPOCODE,SECT_ID,STNNBR,CASTNO,SAMPNO,BTLNBR,BTLNBR_FLAG_W,DATE,TIME,LATITUDE,LONGITUDE,DEPTH,CTDPRS,CTDPRS_FLAG_W,CTDTMP,CTDTMP_FLAG_W,CTDSAL,CTDSAL_FLAG_W,SALNTY,SALNTY_FLAG_W,CTDOXY,CTDOXY_FLAG_W,OXYGEN,OXYGEN_FLAG_W,SILCAT,SILCAT_FLAG_W,NITRAT,NITRAT_FLAG_W,NITRIT,NITRIT_FLAG_W,PHSPHT,PHSPHT_FLAG_W,CFC-11,CFC-11_FLAG_W,CFC-12,CFC-12_FLAG_W,SF6,SF6_FLAG_W,TCARBN,TCARBN_FLAG_W,ALKALI,ALKALI_FLAG_W,PH_TOT,PH_TOT_FLAG_W,PH_TMP,PH_TMP_FLAG_W,DOC,DOC_FLAG_W,REFTMP,REFTMP_FLAG_W,POC,POC_FLAG_W,PON,PON_FLAG_W,POP,POP_FLAG_W,DOP,DOP_FLAG_W,DELO18,DELO18_FLAG_W,CTDFLUOR,CTDFLUOR_FLAG_W,CTDXMISS,CTDXMISS_FLAG_W,N2O,N2O_FLAG_W,D15N_NO3,D15N_NO3_FLAG_W,D15N_NO2+NO3,D15N_NO2+NO3_FLAG_W,D18O_NO2+NO3,D18O_NO2+NO3_FLAG_W,D18O_NO3,D18O_NO3_FLAG_W,BTL_DATE,BTL_TIME,BTL_LAT,BTL_LON,HPLC,HPLC_FLAG_W,DNA,DNA_FLAG_W
,,,,,,,,,,,METERS,DBAR,,ITS-90,,PSS-78,,PSS-78,,UMOL/KG,,UMOL/KG,,UMOL/KG,,UMOL/KG,,UMOL/KG,,UMOL/KG,,PMOL/KG,,PMOL/KG,,FMOL/KG,,UMOL/KG,,UMOL/KG,,,,DEG C,,UMOL/KG,,ITS-90,,UG/KG,,UG/KG,,UG/L,,UMOL/KG,,/MILLE,,VOLTS,,VOLTS,,NMOL/KG,,/MILLE,,/MILLE,,/MILLE,,/MILLE,,,,,,,,,
33RR20230722  ,I05        ,180     ,  1,33         ,33         ,2,20230907,0031, -32.6207,  33.7613,     3023,      5.3,2,  19.3898,2,  35.6177,2,  35.6165,2,    224.5,2,    223.6,2,     2.05,2,     0.63,2,     0.04,2,     0.16,2,    1.849,2,    1.219,2,   2.0600,2,   2062.4,6,   2331.8,2,   7.9796,2,    25.00,2,     -999,1,  19.3882,2,     -999,9,     -999,9,     -999,9,     -999,1,     -999,1,   4.9733,1,   0.0506,1,      8.1,2,     -999,9,     -999,9,     -999,9,     -999,9,20230907,0205, -32.6207,  33.7613,-999          ,9,-999          ,9
33RR20230722  ,I05        ,180     ,  1,32         ,32         ,2,20230907,0031, -32.6207,  33.7613,     3023,     17.9,2,  19.3903,2,  35.6177,2,  35.6180,2,    224.5,2,    223.8,2,     1.95,2,     0.58,2,     0.04,2,     0.16,2,     -999,9,     -999,9,     -999,9,   -999.0,9,     -999,9,     -999,9,     -999,9,     -999,1,  19.3894,2,     -999,9,     -999,9,     -999,9,     -999,9,     -999,1,   4.6260,1,   0.0545,1,     -999,9,     -999,9,     -999,9,     -999,9,     -999,9,20230907,0203, -32.6207,  33.7612,-999          ,9,-999          ,9
33RR20230722  ,I05        ,180     ,  1,31         ,31         ,2,20230907,0031, -32.6207,  33.7613,     3023,     33.9,2,  19.3953,2,  35.6177,2,  35.6165,2,    224.4,2,    223.7,2,     1.95,2,     0.56,2,     0.04,2,     0.16,2,     -999,9,     -999,9,     -999,9,   2065.1,2,   2332.0,2,   7.9791,2,    24.98,2,     -999,1,  19.3947,2,     -999,9,     -999,9,     -999,9,     -999,1,     -999,1,   4.9732,1,   0.0499,1,     -999,9,     -999,9,     -999,9,     -999,9,     -999,9,20230907,0201, -32.6207,  33.7612,-999          ,9,-999          ,9
33RR20230722  ,I05        ,180     ,  1,30         ,30         ,2,20230907,0031, -32.6207,  33.7613,     3023,     51.6,2,  19.3805,2,  35.6162,2,  35.6169,2,    223.4,3,    220.8,2,     2.15,2,     0.90,2,     0.05,2,     0.18,2,    1.863,2,    1.217,2,   1.9900,2,   -999.0,9,     -999,9,     -999,9,     -999,9,     -999,1,  19.3775,2,     -999,9,     -999,9,     -999,9,     -999,1,     -999,1,   4.6329,1,   0.0527,1,      8.3,2,     -999,9,     -999,9,     -999,9,     -999,9,20230907,0200, -32.6206,  33.7612,-999          ,9,-999          ,9
33RR20230722  ,I05        ,180     ,  1,29         ,29         ,2,20230907,0031, -32.6207,  33.7613,     3023,     72.1,2,  18.5739,2,  35.6390,2,  35.6098,4,    220.3,2,    219.6,2,     2.44,2,     1.30,2,     0.08,2,     0.20,2,     -999,9,     -999,9,     -999,9,   2073.2,2,   2332.0,2,   7.9586,6,    24.99,2,     -999,1,  18.5723,2,     -999,9,     -999,9,     -999,9,     -999,1,     -999,1,   4.9583,1,   0.0201,1,     -999,9,     -999,9,     -999,9,     -999,9,     -999,9,20230907,0158, -32.6206,  33.7612,-999          ,9,-999          ,9
33RR20230722  ,I05        ,180     ,  1,28         ,28         ,2,20230907,0031, -32.6207,  33.7613,     3023,     96.3,2,  18.1333,2,  35.6132,2,  35.6366,4,    208.9,2,    210.1,2,     2.93,2,     2.60,2,     0.03,2,     0.27,2,    2.008,2,    1.278,2,   2.0700,2,   -999.0,9,     -999,9,     -999,9,     -999,9,     -999,1,  18.1332,2,     -999,9,     -999,9,     -999,9,     -999,1,     -999,1,   4.9695,1,   0.0143,1,      9.0,2,     -999,9,     -999,9,     -999,9,     -999,9,20230907,0156, -32.6206,  33.7612,-999          ,9,-999          ,9
33RR20230722  ,I05        ,180     ,  1,27         ,27         ,2,20230907,0031, -32.6207,  33.7613,     3023,    123.2,2,  17.5192,2,  35.5896,2,  35.6129,4,    201.6,3,    204.1,2,     3.22,2,     3.67,2,     0.02,2,     0.37,2,     -999,9,     -999,9,     -999,9,   2099.2,2,   2329.9,6,   7.9097,6,    24.98,2,     -999,1,  17.5210,2,     -999,9,     -999,9,     -999,9,     -999,1,     -999,1,   4.9684,1,   0.0126,1,     -999,9,     -999,9,     -999,9,     -999,9,     -999,9,20230907,0154, -32.6207,  33.7612,-999          ,9,-999          ,9
33RR20230722  ,I05        ,180     ,  1,26         ,26         ,2,20230907,0031, -32.6207,  33.7613,     3023,    154.3,2,  17.1738,2,  35.6076,2,  35.5890,2,    215.1,2,    216.0,2,     2.63,2,     2.92,2,     0.02,2,     0.31,2,    2.153,2,    1.329,2,   2.2600,2,   2093.9,2,   2328.9,2,   7.9222,2,    24.95,2,     -999,1,  17.1672,2,     -999,9,     -999,9,     -999,9,     -999,1,     -999,1,   4.9681,1,   0.0120,1,      8.9,2,     -999,9,     -999,9,     -999,9,     -999,9,20230907,0152, -32.6207,  33.7612,-999          ,9,-999          ,9
33RR20230722  ,I05        ,180     ,  1,25         ,25         ,2,20230907,0031, -32.6207,  33.7613,     3023,    186.9,2,  16.6347,2,  35.5534,2,  35.6080,4,    204.3,2,    205.9,2,     3.51,2,     4.65,2,     0.02,2,     0.42,2,    2.030,2,    1.371,2,   2.1900,2,   2106.4,2,   2328.2,2,   7.8923,2,    24.97,2,     -999,1,  16.6488,2,     -999,9,     -999,9,     -999,9,     -999,1,     -999,1,   4.9680,1,   0.0116,1,      9.8,2,     -999,9,     -999,9,     -999,9,     -999,9,20230907,0150, -32.6207,  33.7613,-999          ,9,-999          ,9
33RR20230722  ,I05        ,180     ,  1,24         ,24         ,2,20230907,0031, -32.6207,  33.7613,     3023,    226.1,2,  16.2110,2,  35.5286,2,  35.5559,4,    207.1,2,    207.9,2,     3.51,2,     5.17,2,     0.00,2,     0.45,2,    2.310,2,    1.412,2,   2.1500,2,   -999.0,9,     -999,9,     -999,9,     -999,9,     -999,1,  16.2132,2,     -999,9,     -999,9,     -999,9,     -999,1,     -999,1,   4.9309,1,   0.0115,1,      9.7,2,     -999,9,     -999,9,     -999,9,     -999,9,20230907,0149, -32.6206,  33.7613,-999          ,9,-999          ,9
33RR20230722  ,I05        ,180     ,  1,23         ,23         ,2,20230907,0031, -32.6207,  33.7613,     3023,    272.6,2,  15.5548,2,  35.4794,2,  35.5275,4,    210.7,2,    211.2,2,     3.51,2,     5.77,2,     0.00,2,     0.50,2,    2.319,2,    1.432,6,   2.2200,6,   2114.7,2,   2325.2,2,   7.8737,2,    24.98,2,     -999,1,  15.5701,2,     -999,9,     -999,9,     -999,9,     -999,1,     -999,1,   4.9678,1,   0.0117,1,     10.1,6,     -999,9,     -999,9,     -999,9,     -999,9,20230907,0146, -32.6207,  33.7613,-999          ,9,-999          ,9
33RR20230722  ,I05        ,180     ,  1,22         ,22         ,2,20230907,0031, -32.6207,  33.7613,     3023,    328.3,2,  14.6095,2,  35.3805,2,  35.3804,2,    209.1,2,    209.8,2,     3.80,2,     7.33,2,     0.00,2,     0.60,2,     -999,9,     -999,9,     -999,9,   2121.3,2,   2321.2,2,   7.8482,2,    24.98,2,     -999,1,  14.6075,2,     -999,9,     -999,9,     -999,9,     -999,9,     -999,1,   4.6230,1,   0.0113,1,     -999,9,     -999,9,     -999,9,     -999,9,     -999,9,20230907,0144, -32.6207,  33.7613,-999          ,9,-999          ,9
33RR20230722  ,I05        ,180     ,  1,21         ,21         ,2,20230907,0031, -32.6207,  33.7613,     3023,    394.3,2,  13.8136,2,  35.3010,2,  35.3019,2,    218.3,2,    218.3,2,     3.51,2,     8.06,2,     0.00,2,     0.64,2,    2.513,2,    1.602,2,   2.2500,2,   2125.1,2,   2317.4,2,   7.8385,2,    24.98,2,     -999,1,  13.8104,2,     -999,9,     -999,9,     -999,9,     -999,9,     -999,1,   4.9675,1,   0.0116,1,     10.4,2,     -999,9,     -999,9,     -999,9,     -999,9,20230907,0142, -32.6207,  33.7613,-999          ,9,-999          ,9
33RR20230722  ,I05        ,180     ,  1,20         ,20         ,2,20230907,0031, -32.6207,  33.7613,     3023,    467.5,2,  13.1670,2,  35.2265,2,  35.2262,2,    222.5,2,    222.6,2,     3.71,2,     9.11,2,     0.00,2,     0.72,2,    2.556,2,    1.637,2,   2.1200,2,   -999.0,9,     -999,9,     -999,9,     -999,9,     -999,1,  13.1672,2,     -999,9,     -999,9,     -999,9,     -999,9,     -999,1,   4.9671,1,   0.0113,1,     11.1,2,     -999,9,     -999,9,     -999,9,     -999,9,20230907,0139, -32.6206,  33.7613,-999          ,9,-999          ,9
33RR20230722  ,I05        ,180     ,  1,19         ,19         ,2,20230907,0031, -32.6207,  33.7613,     3023,    545.8,2,  12.6099,2,  35.1524,2,  35.1522,2,    225.3,2,    225.0,2,     3.71,2,     9.94,2,     0.00,2,     0.77,2,     -999,9,     -999,9,     -999,9,   2127.9,2,   2310.9,2,   7.8171,6,    24.97,2,     -999,1,  12.6092,2,     -999,9,     -999,9,     -999,9,     -999,9,     -999,1,   4.8786,1,   0.0114,1,     -999,9,     -999,9,     -999,9,     -999,9,     -999,9,20230907,0137, -32.6207,  33.7613,-999          ,9,-999          ,9
33RR20230722  ,I05        ,180     ,  1,18         ,18         ,2,20230907,0031, -32.6207,  33.7613,     3023,    630.9,2,  11.9888,2,  35.0586,2,  35.0594,2,    224.5,2,    224.1,2,     4.00,2,    11.37,2,     0.00,2,     0.84,2,    2.746,2,    1.749,2,   2.0600,2,   2132.0,2,   2306.4,2,   7.8023,2,    24.97,2,     -999,1,  11.9901,2,     -999,9,     -999,9,     -999,9,     -999,9,     -999,1,   4.7316,1,   0.0113,1,     12.0,2,     -999,9,     -999,9,     -999,9,     -999,9,20230907,0134, -32.6207,  33.7613,-999          ,9,-999          ,9
33RR20230722  ,I05        ,180     ,  1,17         ,17         ,2,20230907,0031, -32.6207,  33.7613,     3023,    719.3,2,  11.0680,2,  34.9209,2,  34.9205,2,    220.4,2,    220.1,2,     5.27,2,    14.03,2,     0.00,2,     1.02,2,     -999,9,     -999,9,     -999,9,   2140.1,2,   2299.9,2,   7.7755,2,    25.02,2,     -999,1,  11.0559,2,     -999,9,     -999,9,     -999,9,     -999,9,     -999,1,   4.9281,1,   0.0113,1,     -999,9,     -999,9,     -999,9,     -999,9,     -999,9,20230907,0132, -32.6207,  33.7613,-999          ,9,-999          ,9
33RR20230722  ,I05        ,180     ,  1,16         ,16         ,2,20230907,0031, -32.6207,  33.7613,     3023,    818.1,2,   9.9095,2,  34.7691,2,  34.7687,2,    216.9,2,    216.7,2,     7.32,2,    17.07,2,     0.00,2,     1.21,2,    3.202,2,    1.788,2,   1.5600,2,   -999.0,9,     -999,9,     -999,9,     -999,9,     -999,1,   9.8815,2,     -999,9,     -999,9,     -999,9,     -999,9,     -999,1,   4.9671,1,   0.0113,1,     13.8,2,     -999,9,     -999,9,     -999,9,     -999,9,20230907,0129, -32.6206,  33.7613,-999          ,9,-999          ,9
33RR20230722  ,I05        ,180     ,  1,15         ,15         ,2,20230907,0031, -32.6207,  33.7613,     3023,    925.5,2,   8.5620,2,  34.6294,2,  34.6311,2,    207.9,2,    207.9,2,    12.10,2,    21.04,2,     0.00,2,     1.48,2,     -999,9,     -999,9,     -999,9,   2160.3,2,   2291.4,2,   7.7040,2,    24.98,2,     -999,1,   8.5821,2,     -999,9,     -999,9,     -999,9,     -999,9,     -999,1,   4.6612,1,   0.0112,1,     -999,9,     -999,9,     -999,9,     -999,9,     -999,9,20230907,0126, -32.6206,  33.7613,-999          ,9,-999          ,9
33RR20230722  ,I05        ,180     ,  1,14         ,14         ,2,20230907,0031, -32.6207,  33.7613,     3023,   1029.2,2,   7.3105,2,  34.5271,2,  34.5280,2,    200.2,2,    200.3,2,    18.35,2,    24.65,2,     0.00,2,     1.74,2,    2.762,2,    1.507,2,   0.9900,2,   2173.7,2,   2291.4,2,   7.6665,2,    24.98,2,     -999,1,   7.3179,2,     -999,9,     -999,9,     -999,9,     -999,9,     -999,1,   4.8070,1,   0.0111,1,     17.6,2,     -999,9,     -999,9,     -999,9,     -999,9,20230907,0123, -32.6207,  33.7612,-999          ,9,-999          ,9
33RR20230722  ,I05        ,180     ,  1,13         ,13         ,2,20230907,0031, -32.6207,  33.7613,     3023,   1137.3,2,   6.3175,2,  34.4500,2,  34.4506,2,    200.8,2,    200.9,2,    23.23,2,    26.95,2,     0.00,2,     1.89,2,     -999,9,     -999,9,     -999,9,   2183.4,2,   2292.0,2,   7.6416,2,    25.01,2,     -999,1,   6.3149,2,     -999,9,     -999,9,     -999,9,     -999,9,     -999,1,   4.9702,1,   0.0112,1,     -999,9,     -999,9,     -999,9,     -999,9,     -999,9,20230907,0120, -32.6207,  33.7613,-999          ,9,-999          ,9
33RR20230722  ,I05        ,180     ,  1,12         ,12         ,2,20230907,0031, -32.6207,  33.7613,     3023,   1251.1,2,   5.1780,2,  34.4045,2,  34.4029,2,    196.2,2,    197.1,2,    32.11,2,    29.56,2,     0.00,2,     2.06,2,    2.217,2,    1.253,2,   0.8200,2,   -999.0,9,     -999,9,     -999,9,     -999,9,     -999,1,   5.1790,2,     -999,9,     -999,9,     -999,9,     -999,9,     -999,1,   4.7096,1,   0.0110,1,     19.9,2,     -999,9,     -999,9,     -999,9,     -999,9,20230907,0116, -32.6207,  33.7613,-999          ,9,-999          ,9
33RR20230722  ,I05        ,180     ,  1,11         ,11         ,2,20230907,0031, -32.6207,  33.7613,     3023,   1363.8,2,   4.6466,2,  34.4556,2,  34.4553,2,    180.0,2,    179.7,2,    44.41,2,    31.53,2,     0.00,2,     2.23,2,     -999,9,     -999,9,     -999,9,   2219.0,6,   2309.6,2,   7.5924,6,    24.98,2,     -999,1,   4.6468,2,     -999,9,     -999,9,     -999,9,     -999,9,     -999,1,   4.9689,1,   0.0110,1,     -999,9,     -999,9,     -999,9,     -999,9,     -999,9,20230907,0113, -32.6207,  33.7613,-999          ,9,-999          ,9
33RR20230722  ,I05        ,180     ,  1,10         ,10         ,2,20230907,0031, -32.6207,  33.7613,     3023,   1470.8,2,   4.0250,2,  34.5213,2,  34.5190,2,    168.2,2,    168.2,2,    57.09,2,    32.84,2,     0.00,2,     2.30,2,    0.906,2,    0.515,2,   0.3100,2,   2235.4,2,   2321.9,2,   7.5759,6,    24.98,2,     -999,1,   4.0236,2,     -999,9,     -999,9,     -999,9,     -999,9,     -999,1,   4.9735,1,   0.0110,1,     23.7,2,     -999,9,     -999,9,     -999,9,     -999,9,20230907,0110, -32.6207,  33.7613,-999          ,9,-999          ,9
33RR20230722  ,I05        ,180     ,  1,9          ,9          ,2,20230907,0031, -32.6207,  33.7613,     3023,   1567.1,2,   3.4638,2,  34.6105,2,  34.6095,2,    162.4,2,    162.1,2,    69.68,2,    33.17,2,     0.00,2,     2.34,2,    0.466,2,    0.246,2,   0.1300,2,   2250.4,2,   2336.8,6,   7.5727,2,    25.00,2,     -999,1,   3.4635,2,     -999,9,     -999,9,     -999,9,     -999,9,     -999,1,   4.9230,1,   0.0119,1,     23.7,2,     -999,9,     -999,9,     -999,9,     -999,9,20230907,0107, -32.6206,  33.7613,-999          ,9,-999          ,9
33RR20230722  ,I05        ,180     ,  1,8          ,8          ,2,20230907,0031, -32.6207,  33.7613,     3023,   1660.2,2,   3.2088,2,  34.6529,2,  34.6519,2,    165.0,2,    164.7,2,    73.48,2,    32.77,2,     0.00,2,     2.31,2,     -999,9,     -999,9,     -999,9,   -999.0,9,     -999,9,     -999,9,     -999,9,     -999,1,   3.2092,2,     -999,9,     -999,9,     -999,9,     -999,9,     -999,1,   4.7139,1,   0.0115,1,     -999,9,     -999,9,     -999,9,     -999,9,     -999,9,20230907,0104, -32.6206,  33.7613,-999          ,9,-999          ,9
33RR20230722  ,I05        ,180     ,  1,7          ,7          ,2,20230907,0031, -32.6207,  33.7613,     3023,   1762.4,2,   2.9963,2,  34.6879,2,  34.6865,2,    170.8,2,    170.8,2,    73.87,2,    32.04,2,     0.00,2,     2.25,2,    0.191,2,    0.107,2,  -0.0600,2,   2250.6,2,   2345.7,2,   7.5901,2,    24.99,2,     -999,1,   2.9973,2,     -999,9,     -999,9,     -999,9,     -999,9,     -999,1,   4.9045,1,   0.0112,1,     22.4,2,     -999,9,     -999,9,     -999,9,     -999,9,20230907,0101, -32.6206,  33.7613,-999          ,9,-999          ,9
33RR20230722  ,I05        ,180     ,  1,6          ,6          ,2,20230907,0031, -32.6207,  33.7613,     3023,   1903.8,2,   2.7655,2,  34.7298,2,  34.7290,2,    180.7,2,    180.9,2,    73.97,2,    30.80,2,     0.00,2,     2.18,2,     -999,9,     -999,9,     -999,9,   2245.9,2,   2347.5,2,   7.6075,2,    24.98,2,     -999,1,   2.7632,2,     -999,9,     -999,9,     -999,9,     -999,9,     -999,1,   4.9736,1,   0.0111,1,     -999,9,     -999,9,     -999,9,     -999,9,     -999,9,20230907,0057, -32.6207,  33.7613,-999          ,9,-999          ,9
33RR20230722  ,I05        ,180     ,  1,5          ,5          ,2,20230907,0031, -32.6207,  33.7613,     3023,   2136.5,2,   2.5868,2,  34.7673,2,  34.7675,2,    193.0,2,    193.4,2,    71.23,2,    29.23,2,     0.00,2,     2.06,2,    0.058,2,    0.033,2,   0.0300,2,   2239.0,2,   2345.3,2,   7.6281,2,    25.00,2,     -999,1,   2.5866,2,     -999,9,     -999,9,     -999,9,     -999,9,     -999,1,   4.8421,1,   0.0116,1,     19.4,2,     -999,9,     -999,9,     -999,9,     -999,9,20230907,0052, -32.6206,  33.7613,-999          ,9,-999          ,9
33RR20230722  ,I05        ,180     ,  1,4          ,37         ,2,20230907,0031, -32.6207,  33.7613,     3023,   2440.7,2,   2.4413,2,  34.7949,2,  34.7944,2,    205.5,2,    206.0,2,    67.62,2,    27.78,2,     0.00,2,     1.95,2,    0.041,2,    0.024,2,  -0.0400,2,   -999.0,9,     -999,9,     -999,9,     -999,9,     -999,1,   2.4409,2,     -999,9,     -999,9,     -999,9,     -999,9,     -999,1,   4.9745,1,   0.0115,1,     18.1,2,     -999,9,     -999,9,     -999,9,     -999,9,20230907,0046, -32.6206,  33.7613,-999          ,9,-999          ,9
33RR20230722  ,I05        ,180     ,  1,3          ,3          ,2,20230907,0031, -32.6207,  33.7613,     3023,   2706.5,2,   2.2479,2,  34.8048,2,  34.8049,2,    213.4,2,    213.7,2,    68.60,2,    27.19,2,     0.00,2,     1.89,2,    0.041,2,    0.022,2,  -0.0300,2,   2226.4,2,   2343.2,2,   7.6573,6,    24.99,2,     -999,1,   2.2464,2,     -999,9,     -999,9,     -999,9,     -999,9,     -999,1,   4.9170,1,   0.0121,1,     17.1,2,     -999,9,     -999,9,     -999,9,     -999,9,20230907,0040, -32.6207,  33.7613,-999          ,9,-999          ,9
33RR20230722  ,I05        ,180     ,  1,2          ,2          ,2,20230907,0031, -32.6207,  33.7613,     3023,   2894.1,2,   2.0618,2,  34.8004,2,  34.8003,2,    216.1,2,    216.0,2,    72.99,2,    27.39,2,     0.00,2,     1.90,2,    0.049,2,    0.027,2,  -0.0100,2,   2228.4,2,   2344.9,2,   7.6580,2,    24.98,2,     -999,1,   2.0616,2,     -999,9,     -999,9,     -999,9,     -999,9,     -999,1,   4.9565,1,   0.0115,1,     17.0,2,     -999,9,     -999,9,     -999,9,     -999,9,20230907,0035, -32.6207,  33.7613,-999          ,9,-999          ,9
33RR20230722  ,I05        ,180     ,  1,1          ,1          ,2,20230907,0031, -32.6207,  33.7613,     3023,   3057.2,2,   1.7974,2,  34.7853,2,  34.7856,2,    216.8,2,    216.5,2,    81.38,2,    28.10,2,     0.00,2,     1.97,2,    0.071,2,    0.038,2,   0.0500,2,   2234.6,6,   2347.6,2,   7.6540,2,    25.01,2,     -999,1,   1.7972,2,     -999,9,     -999,9,     -999,9,     -999,9,     -999,1,   0.4396,1,   0.0110,1,     17.2,2,     -999,9,     -999,9,     -999,9,     -999,9,20230907,0031, -32.6207,  33.7612,-999          ,9,-999          ,9