BOTTLE,20240422CCHHYDRO
EXPOCODE,SECT_ID,STNNBR,CASTNO,SAMPNO,BTLNBR,BTLNBR_FLAG_W,DATE,TIME,LATITUDE,LONGITUDE,DEPTH,CTDPRS,CTDPRS_FLAG_W,CTDTMP,CTDTMP_FLAG_W,CTDSAL,CTDSAL_FLAG_W,SALNTY,SALNTY_FLAG_W,CTDOXY,CTDOXY_FLAG_W,OXYGEN,OXYGEN_FLAG_W,SILCAT,SILCAT_FLAG_W,NITRAT,NITRAT_FLAG_W,NITRIT,NITRIT_FLAG_W,PHSPHT,PHSPHT_FLAG_W,CFC-11,CFC-11_FLAG_W,CFC-12,CFC-12_FLAG_W,SF6,SF6_FLAG_W,TCARBN,TCARBN_FLAG_W,ALKALI,ALKALI_FLAG_W,PH_TOT,PH_TOT_FLAG_W,PH_TMP,PH_TMP_FLAG_W,DOC,DOC_FLAG_W,REFTMP,REFTMP_FLAG_W,POC,POC_FLAG_W,PON,PON_FLAG_W,POP,POP_FLAG_W,DOP,DOP_FLAG_W,DELO18,DELO18_FLAG_W,CTDFLUOR,CTDFLUOR_FLAG_W,CTDXMISS,CTDXMISS_FLAG_W,N2O,N2O_FLAG_W,D15N_NO3,D15N_NO3_FLAG_W,D15N_NO2+NO3,D15N_NO2+NO3_FLAG_W,D18O_NO2+NO3,D18O_NO2+NO3_FLAG_W,D18O_NO3,D18O_NO3_FLAG_W,BTL_DATE,BTL_TIME,BTL_LAT,BTL_LON,HPLC,HPLC_FLAG_W,DNA,DNA_FLAG_W
,,,,,,,,,,,METERS,DBAR,,ITS-90,,PSS-78,,PSS-78,,UMOL/KG,,UMOL/KG,,UMOL/KG,,UMOL/KG,,UMOL/KG,,UMOL/KG,,PMOL/KG,,PMOL/KG,,FMOL/KG,,UMOL/KG,,UMOL/KG,,,,DEG C,,UMOL/KG,,ITS-90,,UG/KG,,UG/KG,,UG/L,,UMOL/KG,,/MILLE,,VOLTS,,VOLTS,,NMOL/KG,,/MILLE,,/MILLE,,/MILLE,,/MILLE,,,,,,,,,
33RR20230722  ,I05        ,49      ,  1,36         ,36         ,2,20230804,1327, -33.9973,  96.7044,     4594,      7.6,2,  14.2019,2,  35.3803,2,  35.3782,2,    251.8,2,    251.6,2,     0.98,2,     2.57,2,     0.13,2,     0.35,2,    2.614,2,    1.500,2,   2.5200,2,   2109.9,6,   2330.8,2,   7.9032,2,    25.05,2,     -999,1,  14.2010,2,     -999,9,     -999,9,     -999,9,     -999,9,     -999,9,   4.5617,1,   0.0443,1,      8.9,2,     -999,9,     -999,9,     -999,9,     -999,9,20230804,1525, -33.9973,  96.7044,-999          ,9,-999          ,9
33RR20230722  ,I05        ,49      ,  1,35         ,35         ,2,20230804,1327, -33.9973,  96.7044,     4594,     18.2,2,  14.1999,2,  35.3800,2,  35.3778,2,    251.7,2,    251.8,2,     0.88,2,     2.53,2,     0.13,2,     0.33,2,    2.635,2,    1.514,2,   2.4400,2,   2109.1,2,   2332.3,2,   7.9030,6,    25.03,2,     -999,9,  14.1993,2,     -999,9,     -999,9,     -999,9,     -999,9,     -999,9,   4.9747,1,   0.0437,1,      9.0,2,     -999,9,     -999,9,     -999,9,     -999,9,20230804,1524, -33.9973,  96.7043,-999          ,9,-999          ,9
33RR20230722  ,I05        ,49      ,  1,34         ,34         ,2,20230804,1327, -33.9973,  96.7044,     4594,     33.4,2,  14.1790,2,  35.3757,2,  35.3727,2,    251.6,2,    251.6,2,     0.98,2,     2.53,2,     0.13,2,     0.34,2,     -999,9,     -999,9,     -999,9,   2111.0,2,   2332.5,2,   7.9025,2,    25.01,2,     -999,9,  14.1775,2,     -999,9,     -999,9,     -999,9,     -999,9,     -999,9,   4.9614,1,   0.0445,1,     -999,9,     -999,9,     -999,9,     -999,9,     -999,9,20230804,1522, -33.9973,  96.7044,-999          ,9,-999          ,9
33RR20230722  ,I05        ,49      ,  1,33         ,33         ,2,20230804,1327, -33.9973,  96.7044,     4594,     54.6,2,  14.1968,2,  35.3782,2,  35.3754,2,    251.6,2,    251.8,2,     0.88,2,     2.53,2,     0.13,2,     0.34,2,    2.629,2,    1.495,2,   2.4400,2,   2111.4,2,   2331.8,2,   7.9026,2,    25.03,2,     -999,9,  14.1935,2,     -999,9,     -999,9,     -999,9,     -999,9,     -999,9,   4.9243,1,   0.0441,1,      8.9,2,     -999,9,     -999,9,     -999,9,     -999,9,20230804,1521, -33.9973,  96.7044,-999          ,9,-999          ,9
33RR20230722  ,I05        ,49      ,  1,32         ,32         ,2,20230804,1327, -33.9973,  96.7044,     4594,     77.6,2,  14.1662,2,  35.3754,2,  35.3735,2,    250.5,2,    251.0,2,     0.88,2,     2.54,2,     0.14,2,     0.34,2,     -999,9,     -999,9,     -999,9,   2111.8,2,   2332.0,2,   7.9020,2,    25.03,2,     -999,9,  14.1658,2,     -999,9,     -999,9,     -999,9,     -999,9,     -999,9,   4.9741,1,   0.0369,1,     -999,9,     -999,9,     -999,9,     -999,9,     -999,9,20230804,1519, -33.9973,  96.7044,-999          ,9,-999          ,9
33RR20230722  ,I05        ,49      ,  1,31         ,31         ,2,20230804,1327, -33.9973,  96.7044,     4594,    104.5,2,  14.1814,2,  35.3795,2,  35.3794,2,    250.4,2,    250.6,2,     0.98,2,     2.54,2,     0.13,2,     0.34,2,    2.115,2,    1.516,2,   2.5600,2,   2110.2,2,   2330.7,2,   7.9010,2,    25.02,2,     -999,9,  14.1817,2,     -999,9,     -999,9,     -999,9,     -999,9,     -999,9,   4.9518,1,   0.0357,1,      8.9,2,     -999,9,     -999,9,     -999,9,     -999,9,20230804,1517, -33.9973,  96.7043,-999          ,9,-999          ,9
33RR20230722  ,I05        ,49      ,  1,30         ,30         ,2,20230804,1327, -33.9973,  96.7044,     4594,    133.5,2,  14.2066,2,  35.3899,2,  35.3855,2,    249.3,2,    250.4,2,     0.88,2,     2.55,2,     0.13,2,     0.34,2,     -999,9,     -999,9,     -999,9,   2111.3,2,   2331.5,2,   7.9011,2,    25.02,2,     -999,9,  14.2044,2,     -999,9,     -999,9,     -999,9,     -999,9,     -999,9,   4.9439,1,   0.0347,1,     -999,9,     -999,9,     -999,9,     -999,9,     -999,9,20230804,1515, -33.9973,  96.7044,-999          ,9,-999          ,9
33RR20230722  ,I05        ,49      ,  1,29         ,29         ,2,20230804,1327, -33.9973,  96.7044,     4594,    162.7,2,  13.2024,2,  35.2721,2,  35.2731,2,    234.2,3,    237.0,2,     1.46,2,     6.03,2,     0.02,2,     0.55,2,    2.598,2,    1.600,2,   2.3800,2,   2130.2,2,   2323.1,2,   7.8516,6,    25.04,2,     -999,9,  13.1984,2,     -999,9,     -999,9,     -999,9,     -999,9,     -999,9,   4.9698,1,   0.0144,1,     10.7,2,     -999,9,     -999,9,     -999,9,     -999,9,20230804,1513, -33.9973,  96.7044,-999          ,9,-999          ,9
33RR20230722  ,I05        ,49      ,  1,28         ,28         ,2,20230804,1327, -33.9973,  96.7044,     4594,    195.3,2,  12.5973,2,  35.1740,2,  35.1638,2,    238.9,2,    240.6,2,     1.76,2,     7.19,2,     0.01,2,     0.61,2,     -999,9,     -999,9,     -999,9,   2126.7,2,   2316.5,2,   7.8391,2,    25.03,2,     -999,9,  12.5899,2,     -999,9,     -999,9,     -999,9,     -999,9,     -999,9,   4.9696,1,   0.0125,1,     -999,9,     -999,9,     -999,9,     -999,9,     -999,9,20230804,1511, -33.9973,  96.7044,-999          ,9,-999          ,9
33RR20230722  ,I05        ,49      ,  1,27         ,27         ,2,20230804,1327, -33.9973,  96.7044,     4594,    227.7,2,  12.2952,2,  35.1220,2,  35.1083,2,    241.3,2,    242.4,2,     1.95,2,     7.84,2,     0.01,2,     0.64,2,    2.743,2,    1.681,2,   2.5000,2,   2128.9,2,   2314.1,6,   7.8310,6,    25.04,2,     -999,9,  12.2877,2,     -999,9,     -999,9,     -999,9,     -999,9,     -999,9,   4.9695,1,   0.0115,1,     11.6,2,     -999,9,     -999,9,     -999,9,     -999,9,20230804,1510, -33.9973,  96.7044,-999          ,9,-999          ,9
33RR20230722  ,I05        ,49      ,  1,26         ,26         ,2,20230804,1327, -33.9973,  96.7044,     4594,    269.9,2,  11.7583,2,  35.0284,2,  35.0337,2,    241.7,2,    241.8,2,     2.24,2,     8.96,2,     0.01,2,     0.71,2,     -999,9,     -999,9,     -999,9,   -999.0,9,     -999,9,     -999,9,     -999,9,     -999,9,  11.8049,2,     -999,9,     -999,9,     -999,9,     -999,9,     -999,9,   4.9693,1,   0.0117,1,     -999,9,     -999,9,     -999,9,     -999,9,     -999,9,20230804,1508, -33.9973,  96.7044,-999          ,9,-999          ,9
33RR20230722  ,I05        ,49      ,  1,25         ,25         ,2,20230804,1327, -33.9973,  96.7044,     4594,    319.8,2,  11.3330,2,  34.9554,2,  34.9536,2,    242.3,2,    242.3,2,     2.54,2,    10.26,2,     0.00,2,     0.80,2,    2.818,2,    1.736,2,   2.4300,2,   2129.8,2,   2304.9,2,   7.8097,2,    25.03,2,     -999,9,  11.3280,2,     -999,9,     -999,9,     -999,9,     -999,9,     -999,9,   4.9684,1,   0.0115,1,     12.0,2,     -999,9,     -999,9,     -999,9,     -999,9,20230804,1506, -33.9973,  96.7043,-999          ,9,-999          ,9
33RR20230722  ,I05        ,49      ,  1,24         ,24         ,2,20230804,1327, -33.9973,  96.7044,     4594,    365.3,2,  10.9954,2,  34.8973,2,  34.8957,2,    244.9,2,    244.5,2,     2.54,2,    10.87,2,     0.00,2,     0.83,2,     -999,9,     -999,9,     -999,9,   -999.0,9,     -999,9,     -999,9,     -999,9,     -999,9,  10.9975,2,     -999,9,     -999,9,     -999,9,     -999,9,     -999,9,   4.9683,1,   0.0114,1,     -999,9,     -999,9,     -999,9,     -999,9,     -999,9,20230804,1504, -33.9973,  96.7044,-999          ,9,-999          ,9
33RR20230722  ,I05        ,49      ,  1,23         ,23         ,2,20230804,1327, -33.9973,  96.7044,     4594,    408.3,2,  10.6128,2,  34.8319,2,  34.8288,2,    245.0,2,    244.2,2,     2.83,2,    12.08,2,     0.00,2,     0.91,2,    3.426,2,    1.817,2,   2.6300,2,   2136.6,2,   2297.7,2,   7.7896,2,    25.03,2,     -999,9,  10.6171,2,     -999,9,     -999,9,     -999,9,     -999,9,     -999,9,   4.9682,1,   0.0115,1,     12.2,2,     -999,9,     -999,9,     -999,9,     -999,9,20230804,1502, -33.9973,  96.7044,-999          ,9,-999          ,9
33RR20230722  ,I05        ,49      ,  1,22         ,22         ,2,20230804,1327, -33.9973,  96.7044,     4594,    456.2,2,  10.2538,2,  34.7771,2,  34.7754,2,    243.8,2,    242.8,2,     3.41,2,    13.37,2,     0.00,2,     0.99,2,     -999,9,     -999,9,     -999,9,   -999.0,9,     -999,9,     -999,9,     -999,9,     -999,9,  10.2678,2,     -999,9,     -999,9,     -999,9,     -999,9,     -999,9,   4.9676,1,   0.0114,1,     -999,9,     -999,9,     -999,9,     -999,9,     -999,9,20230804,1500, -33.9973,  96.7044,-999          ,9,-999          ,9
33RR20230722  ,I05        ,49      ,  1,21         ,21         ,2,20230804,1327, -33.9973,  96.7044,     4594,    517.9,2,   9.9611,2,  34.7422,2,  34.7398,2,    238.4,2,    238.0,2,     3.90,2,    14.81,2,     0.00,2,     1.06,2,    3.046,2,    1.875,2,   2.2900,2,   -999.0,5,   2292.9,2,   7.7635,2,    25.03,2,     -999,9,   9.9587,2,     -999,9,     -999,9,     -999,9,     -999,9,     -999,9,   4.9667,1,   0.0114,1,     13.1,2,     -999,9,     -999,9,     -999,9,     -999,9,20230804,1458, -33.9973,  96.7044,-999          ,9,-999          ,9
33RR20230722  ,I05        ,49      ,  1,20         ,20         ,2,20230804,1327, -33.9973,  96.7044,     4594,    601.4,2,   9.5009,2,  34.6911,2,  34.6885,2,    235.4,2,    235.1,2,     4.59,2,    16.33,2,     0.00,2,     1.13,2,    3.155,2,    1.930,2,   2.2600,2,   -999.0,9,     -999,9,     -999,9,     -999,9,     -999,9,   9.5050,2,     -999,9,     -999,9,     -999,9,     -999,9,     -999,9,   4.9667,1,   0.0113,1,     13.5,2,     -999,9,     -999,9,     -999,9,     -999,9,20230804,1455, -33.9973,  96.7043,-999          ,9,-999          ,9
33RR20230722  ,I05        ,49      ,  1,19         ,19         ,2,20230804,1327, -33.9973,  96.7044,     4594,    695.9,2,   9.0398,2,  34.6347,2,  34.6311,2,    230.5,2,    230.9,2,     5.56,2,    17.98,2,     0.00,2,     1.26,2,    3.151,2,    1.929,2,   1.9800,2,   2150.4,2,   2288.2,2,   7.7352,2,    25.03,2,     -999,9,   9.0287,2,     -999,9,     -999,9,     -999,9,     -999,9,     -999,9,   4.9665,1,   0.0115,1,     13.6,2,     -999,9,     -999,9,     -999,9,     -999,9,20230804,1453, -33.9973,  96.7044,-999          ,9,-999          ,9
33RR20230722  ,I05        ,49      ,  1,18         ,18         ,2,20230804,1327, -33.9973,  96.7044,     4594,    805.6,2,   7.9441,2,  34.5292,2,  34.5276,2,    209.0,2,    210.1,2,    11.12,2,    22.39,2,     0.00,2,     1.55,2,    2.869,2,    1.667,2,   1.3600,2,   2165.9,2,   2286.6,2,   7.6910,2,    25.03,2,     -999,9,   7.9486,2,     -999,9,     -999,9,     -999,9,     -999,9,     -999,9,   4.9408,1,   0.0113,1,     15.9,2,     -999,9,     -999,9,     -999,9,     -999,9,20230804,1450, -33.9973,  96.7044,-999          ,9,-999          ,9
33RR20230722  ,I05        ,49      ,  1,17         ,17         ,2,20230804,1327, -33.9973,  96.7044,     4594,    921.5,2,   6.0802,2,  34.4062,2,  34.4049,2,    197.5,2,    198.0,2,    21.67,2,    27.64,2,     0.00,2,     1.89,2,    2.350,2,    1.317,2,   0.7800,2,   2188.1,2,   2288.1,2,   7.6398,2,    25.03,2,     -999,9,   6.0987,2,     -999,9,     -999,9,     -999,9,     -999,9,     -999,9,   4.9700,1,   0.0112,1,     18.8,2,     -999,9,     -999,9,     -999,9,     -999,9,20230804,1447, -33.9973,  96.7044,-999          ,9,-999          ,9
33RR20230722  ,I05        ,49      ,  1,16         ,16         ,2,20230804,1327, -33.9973,  96.7044,     4594,   1084.0,2,   4.3334,2,  34.3738,2,  34.3729,2,    189.4,2,    189.7,2,    39.92,2,    31.68,2,     0.00,2,     2.20,2,    1.637,2,    0.874,2,   0.3600,2,   2215.1,2,   2303.8,2,   7.5987,2,    25.03,2,     -999,9,   4.3296,2,     -999,9,     -999,9,     -999,9,     -999,9,     -999,9,   4.9713,1,   0.0112,1,     21.0,2,     -999,9,     -999,9,     -999,9,     -999,9,20230804,1443, -33.9973,  96.7044,-999          ,9,-999          ,9
33RR20230722  ,I05        ,49      ,  1,15         ,15         ,2,20230804,1327, -33.9973,  96.7044,     4594,   1242.2,2,   3.7680,2,  34.4616,2,  34.4595,2,    164.4,2,    164.9,2,    59.82,2,    33.81,2,     0.00,2,     2.38,2,    0.783,2,    0.398,2,   0.1200,2,   2244.1,2,   2323.1,2,   7.5721,2,    25.03,2,     -999,9,   3.7666,2,     -999,9,     -999,9,     -999,9,     -999,9,     -999,9,   4.9735,1,   0.0113,1,     22.9,2,     -999,9,     -999,9,     -999,9,     -999,9,20230804,1439, -33.9973,  96.7044,-999          ,9,-999          ,9
33RR20230722  ,I05        ,49      ,  1,14         ,14         ,2,20230804,1327, -33.9973,  96.7044,     4594,   1367.8,2,   3.4735,2,  34.5168,2,  34.5142,2,    155.4,2,    155.1,2,    70.16,2,    34.43,2,     0.00,2,     2.43,2,     -999,9,     -999,9,     -999,9,   2258.9,2,   2333.0,2,   7.5619,2,    25.04,2,     -999,9,   3.4804,2,     -999,9,     -999,9,     -999,9,     -999,9,     -999,9,   4.9197,1,   0.0111,1,     -999,9,     -999,9,     -999,9,     -999,9,     -999,9,20230804,1436, -33.9973,  96.7044,-999          ,9,-999          ,9
33RR20230722  ,I05        ,49      ,  1,13         ,13         ,2,20230804,1327, -33.9973,  96.7044,     4594,   1494.1,2,   3.2426,2,  34.5566,2,  34.5539,2,    153.2,2,    153.0,2,    76.31,2,    34.68,2,     0.00,2,     2.46,2,    0.215,6,    0.125,6,   0.0500,6,   2265.5,2,   2341.9,2,   7.5603,2,    25.04,2,     -999,9,   3.2423,2,     -999,9,     -999,9,     -999,9,     -999,9,     -999,9,   4.9747,1,   0.0119,1,     23.8,6,     -999,9,     -999,9,     -999,9,     -999,9,20230804,1433, -33.9973,  96.7044,-999          ,9,-999          ,9
33RR20230722  ,I05        ,49      ,  1,12         ,12         ,2,20230804,1327, -33.9973,  96.7044,     4594,   1627.5,2,   3.0137,2,  34.5983,2,  34.5957,2,    154.2,2,    153.7,2,    81.38,2,    34.44,2,     0.00,2,     2.44,2,     -999,9,     -999,9,     -999,9,   -999.0,9,     -999,9,     -999,9,     -999,9,     -999,9,   3.0195,2,     -999,9,     -999,9,     -999,9,     -999,9,     -999,9,   4.6634,1,   0.0120,1,     -999,9,     -999,9,     -999,9,     -999,9,     -999,9,20230804,1430, -33.9973,  96.7044,-999          ,9,-999          ,9
33RR20230722  ,I05        ,49      ,  1,11         ,11         ,2,20230804,1327, -33.9973,  96.7044,     4594,   1759.4,2,   2.8202,2,  34.6353,2,  34.6337,2,    157.1,2,    157.4,2,    85.57,2,    34.18,2,     0.00,2,     2.40,2,    0.074,2,    0.053,2,   0.0200,2,   2271.5,2,   2351.3,2,   7.5699,2,    25.03,2,     -999,9,   2.8209,2,     -999,9,     -999,9,     -999,9,     -999,9,     -999,9,   4.9749,1,   0.0121,1,     23.2,2,     -999,9,     -999,9,     -999,9,     -999,9,20230804,1427, -33.9973,  96.7044,-999          ,9,-999          ,9
33RR20230722  ,I05        ,49      ,  1,10         ,10         ,2,20230804,1327, -33.9973,  96.7044,     4594,   1929.6,2,   2.6000,2,  34.6755,2,  34.6739,2,    163.0,2,    163.0,2,    90.25,2,    33.34,2,     0.00,2,     2.38,2,     -999,9,     -999,9,     -999,9,   -999.0,9,     -999,9,     -999,9,     -999,9,     -999,9,   2.5994,2,     -999,9,     -999,9,     -999,9,     -999,9,     -999,9,   4.9670,1,   0.0111,1,     -999,9,     -999,9,     -999,9,     -999,9,     -999,9,20230804,1423, -33.9973,  96.7043,-999          ,9,-999          ,9
33RR20230722  ,I05        ,49      ,  1,9          ,9          ,2,20230804,1327, -33.9973,  96.7044,     4594,   2144.5,2,   2.3709,2,  34.7080,2,  34.7066,2,    173.9,2,    174.0,2,    89.86,2,    32.42,2,     0.00,2,     2.27,2,    0.056,2,    0.036,2,   0.0900,2,   2265.3,2,   2355.5,2,   7.5958,2,    25.02,2,     -999,9,   2.3701,2,     -999,9,     -999,9,     -999,9,     -999,9,     -999,9,   4.9749,1,   0.0118,1,     21.3,2,     -999,9,     -999,9,     -999,9,     -999,9,20230804,1418, -33.9973,  96.7044,-999          ,9,-999          ,9
33RR20230722  ,I05        ,49      ,  1,8          ,8          ,2,20230804,1327, -33.9973,  96.7044,     4594,   2424.0,2,   2.1154,2,  34.7326,2,  34.7307,2,    185.2,2,    185.5,2,    92.10,2,    31.46,2,     0.00,2,     2.20,2,     -999,9,     -999,9,     -999,9,   -999.0,9,     -999,9,     -999,9,     -999,9,     -999,9,   2.1151,2,     -999,9,     -999,9,     -999,9,     -999,9,     -999,9,   4.9748,1,   0.0111,1,     -999,9,     -999,9,     -999,9,     -999,9,     -999,9,20230804,1412, -33.9973,  96.7044,-999          ,9,-999          ,9
33RR20230722  ,I05        ,49      ,  1,7          ,7          ,2,20230804,1327, -33.9973,  96.7044,     4594,   2746.8,2,   1.8122,2,  34.7395,2,  34.7376,2,    193.0,2,    193.1,2,    97.57,2,    31.15,2,     0.00,2,     2.17,2,    0.035,2,    0.028,2,   0.0300,2,   2259.4,2,   2358.0,2,   7.6175,2,    25.03,2,     -999,9,   1.8117,2,     -999,9,     -999,9,     -999,9,     -999,9,     -999,9,   4.6818,1,   0.0113,1,     19.0,2,     -999,9,     -999,9,     -999,9,     -999,9,20230804,1406, -33.9973,  96.7044,-999          ,9,-999          ,9
33RR20230722  ,I05        ,49      ,  1,6          ,6          ,2,20230804,1327, -33.9973,  96.7044,     4594,   3258.1,2,   1.3744,2,  34.7291,3,  34.7268,2,    200.5,2,    200.6,2,   108.50,2,    31.62,2,     0.00,2,     2.21,2,    0.060,2,    0.039,2,   0.1000,2,   -999.0,9,     -999,9,     -999,9,     -999,9,     -999,9,   1.3741,2,     -999,9,     -999,9,     -999,9,     -999,9,     -999,9,   4.9372,1,   0.0112,1,     19.1,2,     -999,9,     -999,9,     -999,9,     -999,9,20230804,1356, -33.9973,  96.7043,-999          ,9,-999          ,9
33RR20230722  ,I05        ,49      ,  1,5          ,5          ,2,20230804,1327, -33.9973,  96.7044,     4594,   3815.1,2,   1.1361,2,  34.7170,3,  34.7148,2,    203.2,2,    203.4,2,   117.77,2,    32.04,2,     0.00,2,     2.22,2,    0.066,2,    0.043,2,   0.1100,2,   2268.7,2,   2370.4,6,   7.6220,6,    25.02,2,     -999,9,   1.1359,2,     -999,9,     -999,9,     -999,9,     -999,9,     -999,9,   4.8583,1,   0.0110,1,     18.7,2,     -999,9,     -999,9,     -999,9,     -999,9,20230804,1346, -33.9973,  96.7043,-999          ,9,-999          ,9
33RR20230722  ,I05        ,49      ,  1,4          ,37         ,2,20230804,1327, -33.9973,  96.7044,     4594,   4162.2,2,   1.1037,2,  34.7138,2,  34.7119,2,    204.1,2,    204.1,2,   120.01,2,    32.15,2,     0.00,2,     2.25,2,    0.062,2,    0.049,2,   0.0000,2,   -999.0,9,     -999,9,     -999,9,     -999,9,     -999,9,   1.1035,2,     -999,9,     -999,9,     -999,9,     -999,9,     -999,9,   4.9764,1,   0.0112,1,     18.9,2,     -999,9,     -999,9,     -999,9,     -999,9,20230804,1339, -33.9973,  96.7043,-999          ,9,-999          ,9
33RR20230722  ,I05        ,49      ,  1,3          ,3          ,2,20230804,1327, -33.9973,  96.7044,     4594,   4404.7,2,   1.0859,2,  34.7114,2,  34.7099,2,    204.7,2,    204.9,2,   120.79,2,    32.22,2,     0.00,2,     2.22,2,    0.065,2,    0.055,2,   0.0100,2,   2273.7,2,   2373.8,2,   7.6226,6,    25.03,2,     -999,9,   1.0853,2,     -999,9,     -999,9,     -999,9,     -999,9,     -999,9,   4.6963,1,   0.0111,1,     19.4,2,     -999,9,     -999,9,     -999,9,     -999,9,20230804,1334, -33.9973,  96.7044,-999          ,9,-999          ,9