BOTTLE,20240422CCHHYDRO
EXPOCODE,SECT_ID,STNNBR,CASTNO,SAMPNO,BTLNBR,BTLNBR_FLAG_W,DATE,TIME,LATITUDE,LONGITUDE,DEPTH,CTDPRS,CTDPRS_FLAG_W,CTDTMP,CTDTMP_FLAG_W,CTDSAL,CTDSAL_FLAG_W,SALNTY,SALNTY_FLAG_W,CTDOXY,CTDOXY_FLAG_W,OXYGEN,OXYGEN_FLAG_W,SILCAT,SILCAT_FLAG_W,NITRAT,NITRAT_FLAG_W,NITRIT,NITRIT_FLAG_W,PHSPHT,PHSPHT_FLAG_W,CFC-11,CFC-11_FLAG_W,CFC-12,CFC-12_FLAG_W,SF6,SF6_FLAG_W,TCARBN,TCARBN_FLAG_W,ALKALI,ALKALI_FLAG_W,PH_TOT,PH_TOT_FLAG_W,PH_TMP,PH_TMP_FLAG_W,DOC,DOC_FLAG_W,REFTMP,REFTMP_FLAG_W,POC,POC_FLAG_W,PON,PON_FLAG_W,POP,POP_FLAG_W,DOP,DOP_FLAG_W,DELO18,DELO18_FLAG_W,CTDFLUOR,CTDFLUOR_FLAG_W,CTDXMISS,CTDXMISS_FLAG_W,N2O,N2O_FLAG_W,D15N_NO3,D15N_NO3_FLAG_W,D15N_NO2+NO3,D15N_NO2+NO3_FLAG_W,D18O_NO2+NO3,D18O_NO2+NO3_FLAG_W,D18O_NO3,D18O_NO3_FLAG_W,BTL_DATE,BTL_TIME,BTL_LAT,BTL_LON,HPLC,HPLC_FLAG_W,DNA,DNA_FLAG_W
,,,,,,,,,,,METERS,DBAR,,ITS-90,,PSS-78,,PSS-78,,UMOL/KG,,UMOL/KG,,UMOL/KG,,UMOL/KG,,UMOL/KG,,UMOL/KG,,PMOL/KG,,PMOL/KG,,FMOL/KG,,UMOL/KG,,UMOL/KG,,,,DEG C,,UMOL/KG,,ITS-90,,UG/KG,,UG/KG,,UG/L,,UMOL/KG,,/MILLE,,VOLTS,,VOLTS,,NMOL/KG,,/MILLE,,/MILLE,,/MILLE,,/MILLE,,,,,,,,,
33RR20230722  ,I05        ,36      ,  1,29         ,29         ,2,20230731,1520, -32.0066, 101.5740,     2158,      5.2,2,  17.2757,2,  35.8336,2,  35.8331,2,    236.9,2,    237.0,2,     1.76,2,     0.07,2,     0.01,2,     0.10,2,    2.288,2,    1.292,2,   2.2900,2,   2086.6,6,   2349.7,2,   7.9686,2,    24.98,2,     -999,1,  17.2766,2,     -999,9,     -999,9,     -999,9,     -999,9,     -999,1,   0.7939,1,   0.0416,1,      8.0,2,     -999,9,     -999,9,     -999,9,     -999,9,20230731,1630, -32.0066, 101.5740,-999          ,9,-999          ,9
33RR20230722  ,I05        ,36      ,  1,28         ,28         ,2,20230731,1520, -32.0066, 101.5740,     2158,     29.0,2,  17.2695,2,  35.8334,2,  35.8329,2,    236.9,2,    236.8,2,     1.66,2,     0.02,2,     0.01,2,     0.10,2,     -999,9,     -999,9,     -999,9,   -999.0,9,     -999,9,     -999,9,     -999,9,     -999,1,  17.2598,2,     -999,9,     -999,9,     -999,9,     -999,9,     -999,1,   4.9317,1,   0.0420,1,     -999,9,     -999,9,     -999,9,     -999,9,     -999,9,20230731,1628, -32.0066, 101.5740,-999          ,9,-999          ,9
33RR20230722  ,I05        ,36      ,  1,27         ,27         ,2,20230731,1520, -32.0066, 101.5740,     2158,     44.2,2,  17.2522,2,  35.8332,2,  35.8327,2,    237.0,2,    237.1,2,     1.66,2,     0.01,2,     0.01,2,     0.10,2,     -999,9,     -999,9,     -999,9,   2086.0,2,   2350.6,2,   7.9676,6,    24.99,2,     -999,1,  17.2364,2,     -999,9,     -999,9,     -999,9,     -999,9,     -999,1,   4.9751,1,   0.0408,1,     -999,9,     -999,9,     -999,9,     -999,9,     -999,9,20230731,1626, -32.0066, 101.5741,-999          ,9,-999          ,9
33RR20230722  ,I05        ,36      ,  1,26         ,26         ,2,20230731,1520, -32.0066, 101.5740,     2158,     66.3,2,  16.8770,2,  35.8365,2,  35.8356,2,    239.0,2,    238.6,2,     1.46,2,     0.00,2,     0.01,2,     0.09,2,     -999,9,     -999,9,     -999,9,   -999.0,9,     -999,9,     -999,9,     -999,9,     -999,1,  16.8760,2,     -999,9,     -999,9,     -999,9,     -999,9,     -999,1,   4.9748,1,   0.0413,1,     -999,9,     -999,9,     -999,9,     -999,9,     -999,9,20230731,1625, -32.0067, 101.5740,-999          ,9,-999          ,9
33RR20230722  ,I05        ,36      ,  1,25         ,25         ,2,20230731,1520, -32.0066, 101.5740,     2158,     88.2,2,  16.8631,2,  35.8367,2,  35.8356,2,    238.3,2,    237.8,2,     1.56,2,     0.00,2,     0.02,2,     0.11,2,     -999,9,     -999,9,     -999,9,   2090.9,2,   2351.5,2,   7.9603,2,    24.99,2,     -999,1,  16.8622,2,     -999,9,     -999,9,     -999,9,     -999,9,     -999,1,   4.9745,1,   0.0291,1,     -999,9,     -999,9,     -999,9,     -999,9,     -999,9,20230731,1623, -32.0067, 101.5740,-999          ,9,-999          ,9
33RR20230722  ,I05        ,36      ,  1,24         ,24         ,2,20230731,1520, -32.0066, 101.5740,     2158,    132.5,2,  16.8515,2,  35.8359,2,  35.8352,2,    238.0,2,    238.1,2,     1.56,2,     0.00,2,     0.02,2,     0.08,2,     -999,9,     -999,9,     -999,9,   -999.0,9,     -999,9,     -999,9,     -999,9,     -999,1,  16.8509,2,     -999,9,     -999,9,     -999,9,     -999,9,     -999,1,   4.9742,1,   0.0247,1,     -999,9,     -999,9,     -999,9,     -999,9,     -999,9,20230731,1621, -32.0066, 101.5741,-999          ,9,-999          ,9
33RR20230722  ,I05        ,36      ,  1,23         ,23         ,2,20230731,1520, -32.0066, 101.5740,     2158,    159.4,2,  16.2752,2,  35.7616,2,  35.7608,2,    237.4,2,    238.2,2,     1.37,2,     0.20,2,     0.19,2,     0.13,2,     -999,9,     -999,9,     -999,9,   2098.0,2,   2348.8,2,   7.9457,2,    24.99,2,     -999,1,  16.2734,2,     -999,9,     -999,9,     -999,9,     -999,9,     -999,1,   4.9731,1,   0.0150,1,     -999,9,     -999,9,     -999,9,     -999,9,     -999,9,20230731,1619, -32.0066, 101.5740,-999          ,9,-999          ,9
33RR20230722  ,I05        ,36      ,  1,22         ,22         ,2,20230731,1520, -32.0066, 101.5740,     2158,    184.5,2,  16.1016,2,  35.7407,2,  35.7414,2,    236.8,2,    237.3,2,     1.37,2,     0.40,2,     0.20,2,     0.14,2,     -999,9,     -999,9,     -999,9,   -999.0,9,     -999,9,     -999,9,     -999,9,     -999,1,  16.0899,2,     -999,9,     -999,9,     -999,9,     -999,9,     -999,1,   4.9728,1,   0.0145,1,     -999,9,     -999,9,     -999,9,     -999,9,     -999,9,20230731,1617, -32.0067, 101.5740,-999          ,9,-999          ,9
33RR20230722  ,I05        ,36      ,  1,21         ,21         ,2,20230731,1520, -32.0066, 101.5740,     2158,    214.0,2,  14.9961,2,  35.5609,2,  35.5541,2,    230.7,2,    231.5,2,     1.37,2,     2.80,2,     0.01,2,     0.32,2,     -999,9,     -999,9,     -999,9,   2114.2,2,   2336.3,2,   7.8971,2,    25.00,2,     -999,1,  15.0056,2,     -999,9,     -999,9,     -999,9,     -999,9,     -999,1,   4.9706,1,   0.0125,1,     -999,9,     -999,9,     -999,9,     -999,9,     -999,9,20230731,1616, -32.0067, 101.5741,-999          ,9,-999          ,9
33RR20230722  ,I05        ,36      ,  1,20         ,20         ,2,20230731,1520, -32.0066, 101.5740,     2158,    240.2,2,  14.3049,2,  35.4509,2,  35.4523,2,    230.1,2,    231.4,2,     1.46,2,     4.03,2,     0.00,2,     0.39,2,    2.454,2,    1.523,2,   2.2700,2,   -999.0,9,     -999,9,     -999,9,     -999,9,     -999,1,  14.2897,2,     -999,9,     -999,9,     -999,9,     -999,9,     -999,1,   4.9696,1,   0.0116,1,      9.7,2,     -999,9,     -999,9,     -999,9,     -999,9,20230731,1614, -32.0067, 101.5741,-999          ,9,-999          ,9
33RR20230722  ,I05        ,36      ,  1,19         ,19         ,2,20230731,1520, -32.0066, 101.5740,     2158,    283.8,2,  13.0297,2,  35.2393,2,  35.2389,2,    235.9,2,    235.5,2,     1.76,2,     6.37,2,     0.00,2,     0.53,2,     -999,9,     -999,9,     -999,9,   -999.0,9,     -999,9,     -999,9,     -999,9,     -999,1,  13.0300,2,     -999,9,     -999,9,     -999,9,     -999,9,     -999,1,   4.9700,1,   0.0115,1,     -999,9,     -999,9,     -999,9,     -999,9,     -999,9,20230731,1612, -32.0067, 101.5741,-999          ,9,-999          ,9
33RR20230722  ,I05        ,36      ,  1,18         ,18         ,2,20230731,1520, -32.0066, 101.5740,     2158,    327.7,2,  12.3338,2,  35.1204,2,  35.1219,2,    241.4,2,    241.1,2,     1.85,2,     7.40,2,     0.00,2,     0.60,2,     -999,9,     -999,9,     -999,9,   -999.0,9,     -999,9,     -999,9,     -999,9,     -999,1,  12.3330,2,     -999,9,     -999,9,     -999,9,     -999,9,     -999,1,   4.9693,1,   0.0116,1,     -999,9,     -999,9,     -999,9,     -999,9,     -999,9,20230731,1610, -32.0067, 101.5740,-999          ,9,-999          ,9
33RR20230722  ,I05        ,36      ,  1,17         ,17         ,2,20230731,1520, -32.0066, 101.5740,     2158,    378.3,2,  11.5427,2,  34.9841,2,  34.9839,2,    242.7,2,    242.4,2,     2.24,2,     9.39,2,     0.00,2,     0.73,2,     -999,9,     -999,9,     -999,9,   2127.1,2,   2304.3,2,   7.8130,6,    24.99,2,     -999,1,  11.5447,2,     -999,9,     -999,9,     -999,9,     -999,9,     -999,1,   4.9684,1,   0.0116,1,     -999,9,     -999,9,     -999,9,     -999,9,     -999,9,20230731,1609, -32.0066, 101.5740,-999          ,9,-999          ,9
33RR20230722  ,I05        ,36      ,  1,16         ,16         ,2,20230731,1520, -32.0066, 101.5740,     2158,    434.4,2,  10.6556,2,  34.8360,2,  34.8349,2,    245.2,2,    244.5,2,     2.93,2,    11.69,2,     0.00,2,     0.89,2,     -999,9,     -999,9,     -999,9,   -999.0,9,     -999,9,     -999,9,     -999,9,     -999,1,  10.6595,2,     -999,9,     -999,9,     -999,9,     -999,9,     -999,1,   4.9680,1,   0.0113,1,     -999,9,     -999,9,     -999,9,     -999,9,     -999,9,20230731,1607, -32.0066, 101.5740,-999          ,9,-999          ,9
33RR20230722  ,I05        ,36      ,  1,15         ,15         ,2,20230731,1520, -32.0066, 101.5740,     2158,    497.5,2,  10.1971,2,  34.7733,2,  34.7726,2,    241.6,2,    241.2,2,     3.42,2,    13.46,2,     0.00,2,     0.99,2,     -999,9,     -999,9,     -999,9,   2133.4,2,   2293.0,6,   7.7708,2,    24.99,2,     -999,1,  10.1968,2,     -999,9,     -999,9,     -999,9,     -999,9,     -999,1,   4.9099,1,   0.0113,1,     -999,9,     -999,9,     -999,9,     -999,9,     -999,9,20230731,1604, -32.0066, 101.5740,-999          ,9,-999          ,9
33RR20230722  ,I05        ,36      ,  1,14         ,14         ,2,20230731,1520, -32.0066, 101.5740,     2158,    563.9,2,   9.7655,2,  34.7291,2,  34.7300,2,    237.2,2,    236.9,2,     4.10,2,    15.42,2,     0.00,2,     1.08,2,    3.068,2,    1.905,2,   2.2500,2,   -999.0,9,     -999,9,     -999,9,     -999,9,     -999,1,   9.7755,2,     -999,9,     -999,9,     -999,9,     -999,9,     -999,1,   4.9670,1,   0.0113,1,     13.5,2,     -999,9,     -999,9,     -999,9,     -999,9,20230731,1602, -32.0066, 101.5740,-999          ,9,-999          ,9
33RR20230722  ,I05        ,36      ,  1,13         ,13         ,2,20230731,1520, -32.0066, 101.5740,     2158,    644.4,2,   9.2318,2,  34.6609,2,  34.6612,2,    237.1,2,    236.7,2,     4.78,2,    16.95,2,     0.00,2,     1.18,2,     -999,9,     -999,9,     -999,9,   2142.2,2,   2288.0,2,   7.7438,2,    25.00,2,     -999,1,   9.2317,2,     -999,9,     -999,9,     -999,9,     -999,9,     -999,1,   4.9665,1,   0.0115,1,     -999,9,     -999,9,     -999,9,     -999,9,     -999,9,20230731,1600, -32.0066, 101.5740,-999          ,9,-999          ,9
33RR20230722  ,I05        ,36      ,  1,12         ,12         ,2,20230731,1520, -32.0066, 101.5740,     2158,    726.7,2,   8.4645,2,  34.5746,2,  34.5757,2,    222.3,2,    222.8,2,     7.61,2,    20.05,2,     0.00,2,     1.40,2,     -999,9,     -999,9,     -999,9,   -999.0,9,     -999,9,     -999,9,     -999,9,     -999,1,   8.4662,2,     -999,9,     -999,9,     -999,9,     -999,9,     -999,1,   4.9670,1,   0.0113,1,     -999,9,     -999,9,     -999,9,     -999,9,     -999,9,20230731,1557, -32.0066, 101.5740,-999          ,9,-999          ,9
33RR20230722  ,I05        ,36      ,  1,11         ,11         ,2,20230731,1520, -32.0066, 101.5740,     2158,    814.7,2,   7.1139,2,  34.4658,2,  34.4657,2,    201.1,2,    202.2,2,    15.42,2,    24.91,2,     0.00,2,     1.73,2,    2.533,2,    1.461,2,   0.8900,2,   2172.1,2,   2284.9,2,   7.6639,2,    25.00,2,     -999,1,   7.1162,2,     -999,9,     -999,9,     -999,9,     -999,9,     -999,1,   4.9686,1,   0.0112,1,     17.5,2,     -999,9,     -999,9,     -999,9,     -999,9,20230731,1555, -32.0067, 101.5741,-999          ,9,-999          ,9
33RR20230722  ,I05        ,36      ,  1,10         ,10         ,2,20230731,1520, -32.0066, 101.5740,     2158,    905.6,2,   5.5055,2,  34.3874,2,  34.3872,2,    193.8,2,    194.9,2,    27.24,2,    29.27,2,     0.00,2,     2.00,2,     -999,9,     -999,9,     -999,9,   -999.0,9,     -999,9,     -999,9,     -999,9,     -999,1,   5.5036,2,     -999,9,     -999,9,     -999,9,     -999,9,     -999,1,   4.9699,1,   0.0112,1,     -999,9,     -999,9,     -999,9,     -999,9,     -999,9,20230731,1552, -32.0066, 101.5740,-999          ,9,-999          ,9
33RR20230722  ,I05        ,36      ,  1,9          ,9          ,2,20230731,1520, -32.0066, 101.5740,     2158,   1092.0,2,   4.1955,2,  34.4513,2,  34.4502,2,    163.2,2,    164.1,2,    55.64,2,    33.55,2,     0.00,2,     2.33,2,     -999,9,     -999,9,     -999,9,   2233.9,2,   2319.5,2,   7.5755,2,    24.99,2,     -999,1,   4.1950,2,     -999,9,     -999,9,     -999,9,     -999,9,     -999,1,   4.9726,1,   0.0112,1,     -999,9,     -999,9,     -999,9,     -999,9,     -999,9,20230731,1547, -32.0066, 101.5740,-999          ,9,-999          ,9
33RR20230722  ,I05        ,36      ,  1,8          ,8          ,2,20230731,1520, -32.0066, 101.5740,     2158,   1289.3,2,   3.9334,2,  34.5482,2,  34.5482,2,    138.0,2,    137.7,2,    76.62,2,    35.09,2,     0.00,2,     2.48,2,    0.331,2,    0.159,2,   0.0400,2,   -999.0,9,     -999,9,     -999,9,     -999,9,     -999,1,   3.9328,2,     -999,9,     -999,9,     -999,9,     -999,9,     -999,1,   4.9744,1,   0.0119,1,     25.3,2,     -999,9,     -999,9,     -999,9,     -999,9,20230731,1543, -32.0066, 101.5740,-999          ,9,-999          ,9
33RR20230722  ,I05        ,36      ,  1,7          ,7          ,2,20230731,1520, -32.0066, 101.5740,     2158,   1392.3,2,   3.7197,2,  34.5641,2,  34.5643,2,    138.7,2,    138.4,2,    79.84,2,    35.03,2,     0.00,2,     2.48,2,     -999,9,     -999,9,     -999,9,   2268.5,2,   2344.2,2,   7.5518,2,    24.99,2,     -999,1,   3.7188,2,     -999,9,     -999,9,     -999,9,     -999,9,     -999,1,   4.7692,1,   0.0117,1,     -999,9,     -999,9,     -999,9,     -999,9,     -999,9,20230731,1540, -32.0066, 101.5740,-999          ,9,-999          ,9
33RR20230722  ,I05        ,36      ,  1,6          ,6          ,2,20230731,1520, -32.0066, 101.5740,     2158,   1504.0,2,   3.4543,2,  34.5749,2,  34.5757,2,    142.9,2,    142.5,2,    81.31,2,    35.35,2,     0.00,2,     2.50,2,    0.188,2,    0.093,2,  -0.0200,2,   -999.0,9,     -999,9,     -999,9,     -999,9,     -999,1,   3.4562,2,     -999,9,     -999,9,     -999,9,     -999,9,     -999,1,   4.9388,1,   0.0115,1,     25.0,2,     -999,9,     -999,9,     -999,9,     -999,9,20230731,1537, -32.0066, 101.5740,-999          ,9,-999          ,9
33RR20230722  ,I05        ,36      ,  1,5          ,5          ,2,20230731,1520, -32.0066, 101.5740,     2158,   1613.2,2,   3.2523,2,  34.5866,2,  34.5867,2,    146.7,2,    146.7,2,    82.38,2,    34.74,2,     0.00,2,     2.47,2,     -999,9,     -999,9,     -999,9,   2267.2,2,   2347.9,6,   7.5562,2,    24.98,2,     -999,1,   3.2513,2,     -999,9,     -999,9,     -999,9,     -999,9,     -999,1,   4.8184,1,   0.0119,1,     -999,9,     -999,9,     -999,9,     -999,9,     -999,9,20230731,1534, -32.0066, 101.5740,-999          ,9,-999          ,9
33RR20230722  ,I05        ,36      ,  1,4          ,37         ,2,20230731,1520, -32.0066, 101.5740,     2158,   1793.6,2,   2.9095,2,  34.6313,2,  34.6325,2,    152.4,2,    152.7,2,    87.26,2,    34.20,2,     0.00,2,     2.43,2,     -999,9,     -999,9,     -999,9,   -999.0,9,     -999,9,     -999,9,     -999,9,     -999,1,   2.9106,2,     -999,9,     -999,9,     -999,9,     -999,9,     -999,1,   4.9739,1,   0.0117,1,     -999,9,     -999,9,     -999,9,     -999,9,     -999,9,20230731,1530, -32.0066, 101.5740,-999          ,9,-999          ,9
33RR20230722  ,I05        ,36      ,  1,3          ,3          ,2,20230731,1520, -32.0066, 101.5740,     2158,   2011.3,2,   2.6019,2,  34.6840,2,  34.6838,2,    156.9,2,    157.2,2,    96.33,2,    33.52,2,     0.00,2,     2.38,2,     -999,9,     -999,9,     -999,9,   2274.7,2,   2363.2,2,   7.5760,2,    25.00,2,     -999,1,   2.6027,2,     -999,9,     -999,9,     -999,9,     -999,9,     -999,1,   4.8412,1,   0.0113,1,     -999,9,     -999,9,     -999,9,     -999,9,     -999,9,20230731,1525, -32.0066, 101.5740,-999          ,9,-999          ,9
33RR20230722  ,I05        ,36      ,  1,2          ,2          ,2,20230731,1520, -32.0066, 101.5740,     2158,   2089.0,2,   2.5147,2,  34.6934,2,  34.6940,2,    160.1,2,    160.1,2,    96.62,2,    33.31,2,     0.00,2,     2.36,2,    0.019,2,    0.015,2,  -0.0100,2,   -999.0,9,     -999,9,     -999,9,     -999,9,     -999,1,   2.5141,2,     -999,9,     -999,9,     -999,9,     -999,9,     -999,1,   4.7022,1,   0.0117,1,     22.7,2,     -999,9,     -999,9,     -999,9,     -999,9,20230731,1523, -32.0067, 101.5740,-999          ,9,-999          ,9
33RR20230722  ,I05        ,36      ,  1,1          ,1          ,2,20230731,1520, -32.0066, 101.5740,     2158,   2173.9,2,   2.3971,2,  34.7052,2,  34.7060,2,    164.8,2,    164.8,2,    98.18,2,    32.97,2,     0.00,2,     2.34,2,    0.022,2,    0.016,2,   0.1100,2,   2274.2,2,   2364.3,2,   7.5872,2,    24.99,2,     -999,1,   2.3968,2,     -999,9,     -999,9,     -999,9,     -999,9,     -999,1,   0.5193,1,   0.0111,1,     22.2,2,     -999,9,     -999,9,     -999,9,     -999,9,20230731,1520, -32.0067, 101.5740,-999          ,9,-999          ,9