BOTTLE,20240422CCHHYDRO
EXPOCODE,SECT_ID,STNNBR,CASTNO,SAMPNO,BTLNBR,BTLNBR_FLAG_W,DATE,TIME,LATITUDE,LONGITUDE,DEPTH,CTDPRS,CTDPRS_FLAG_W,CTDTMP,CTDTMP_FLAG_W,CTDSAL,CTDSAL_FLAG_W,SALNTY,SALNTY_FLAG_W,CTDOXY,CTDOXY_FLAG_W,OXYGEN,OXYGEN_FLAG_W,SILCAT,SILCAT_FLAG_W,NITRAT,NITRAT_FLAG_W,NITRIT,NITRIT_FLAG_W,PHSPHT,PHSPHT_FLAG_W,CFC-11,CFC-11_FLAG_W,CFC-12,CFC-12_FLAG_W,SF6,SF6_FLAG_W,TCARBN,TCARBN_FLAG_W,ALKALI,ALKALI_FLAG_W,PH_TOT,PH_TOT_FLAG_W,PH_TMP,PH_TMP_FLAG_W,DOC,DOC_FLAG_W,REFTMP,REFTMP_FLAG_W,POC,POC_FLAG_W,PON,PON_FLAG_W,POP,POP_FLAG_W,DOP,DOP_FLAG_W,DELO18,DELO18_FLAG_W,CTDFLUOR,CTDFLUOR_FLAG_W,CTDXMISS,CTDXMISS_FLAG_W,N2O,N2O_FLAG_W,D15N_NO3,D15N_NO3_FLAG_W,D15N_NO2+NO3,D15N_NO2+NO3_FLAG_W,D18O_NO2+NO3,D18O_NO2+NO3_FLAG_W,D18O_NO3,D18O_NO3_FLAG_W,BTL_DATE,BTL_TIME,BTL_LAT,BTL_LON,HPLC,HPLC_FLAG_W,DNA,DNA_FLAG_W
,,,,,,,,,,,METERS,DBAR,,ITS-90,,PSS-78,,PSS-78,,UMOL/KG,,UMOL/KG,,UMOL/KG,,UMOL/KG,,UMOL/KG,,UMOL/KG,,PMOL/KG,,PMOL/KG,,FMOL/KG,,UMOL/KG,,UMOL/KG,,,,DEG C,,UMOL/KG,,ITS-90,,UG/KG,,UG/KG,,UG/L,,UMOL/KG,,/MILLE,,VOLTS,,VOLTS,,NMOL/KG,,/MILLE,,/MILLE,,/MILLE,,/MILLE,,,,,,,,,
33RR20230722  ,I05        ,165     ,  1,36         ,38         ,2,20230903,0701, -32.9974,  40.4098,     4981,      3.5,2,  18.0589,2,  35.6622,2,  35.6595,2,    243.2,2,    242.5,2,     2.05,2,     0.02,2,     0.01,2,     0.11,2,    2.196,3,    1.313,2,   2.1300,2,   2071.2,6,   2335.8,2,   7.9705,2,    24.99,2,     -999,1,  18.0475,2,     -999,9,     -999,9,     -999,9,     -999,9,     -999,1,   4.0486,1,   0.0200,1,      7.4,3,     -999,9,     -999,9,     -999,9,     -999,9,20230903,0908, -32.9974,  40.4098,-999          ,9,-999          ,9
33RR20230722  ,I05        ,165     ,  1,35         ,35         ,2,20230903,0701, -32.9974,  40.4098,     4981,      4.1,2,  18.0461,2,  35.6608,2,     -999,9,    242.9,2,     -999,9,     -999,9,     -999,9,     -999,9,     -999,9,     -999,9,     -999,9,     -999,9,   -999.0,9,     -999,9,     -999,9,     -999,9,     -999,9,  18.0723,2,     -999,9,     -999,9,     -999,9,     -999,9,     -999,9,   4.6410,1,   0.0216,1,     -999,9,     -999,9,     -999,9,     -999,9,     -999,9,20230903,0908, -32.9974,  40.4097,-999          ,1,-999          ,9
33RR20230722  ,I05        ,165     ,  1,33         ,33         ,2,20230903,0701, -32.9974,  40.4098,     4981,     53.5,2,  17.4652,2,  35.6538,2,     -999,9,    241.0,2,     -999,9,     -999,9,     -999,9,     -999,9,     -999,9,     -999,9,     -999,9,     -999,9,   -999.0,9,     -999,9,     -999,9,     -999,9,     -999,9,  17.4627,2,     -999,9,     -999,9,     -999,9,     -999,9,     -999,9,   4.6752,1,   0.0469,1,     -999,9,     -999,9,     -999,9,     -999,9,     -999,9,20230903,0904, -32.9974,  40.4097,-999          ,1,-999          ,9
33RR20230722  ,I05        ,165     ,  1,34         ,34         ,2,20230903,0701, -32.9974,  40.4098,     4981,     53.8,2,  17.4636,2,  35.6538,2,  35.6532,2,    241.0,2,    241.2,2,     2.15,2,     0.31,2,     0.11,2,     0.15,2,    2.229,3,    1.308,2,   2.1500,2,   2073.9,2,   2334.4,2,   7.9657,2,    24.96,2,     -999,9,  17.4636,2,     -999,9,     -999,9,     -999,9,     -999,9,     -999,1,   4.7911,1,   0.0456,1,      7.8,3,     -999,9,     -999,9,     -999,9,     -999,9,20230903,0905, -32.9974,  40.4097,-999          ,9,-999          ,9
33RR20230722  ,I05        ,165     ,  1,32         ,32         ,2,20230903,0701, -32.9974,  40.4098,     4981,    100.6,2,  17.2853,2,  35.6450,2,  35.6443,2,    234.1,2,    234.5,2,     2.24,2,     0.96,2,     0.29,2,     0.19,2,    2.251,3,    1.350,2,   2.2400,2,   2080.3,2,   2334.6,2,   7.9531,6,    24.99,2,     -999,9,  17.2833,2,     -999,9,     -999,9,     -999,9,     -999,9,     -999,1,   4.9555,1,   0.0264,1,      7.7,3,     -999,9,     -999,9,     -999,9,     -999,9,20230903,0901, -32.9974,  40.4097,-999          ,9,-999          ,9
33RR20230722  ,I05        ,165     ,  1,31         ,31         ,2,20230903,0701, -32.9974,  40.4098,     4981,    127.4,2,  17.2469,2,  35.6402,2,  35.6394,2,    230.9,2,    231.8,2,     2.34,2,     1.28,2,     0.25,2,     0.20,2,    2.229,3,    1.308,2,   2.2000,2,   2081.2,2,   2332.2,2,   7.9480,2,    24.98,2,     -999,9,  17.2461,2,     -999,9,     -999,9,     -999,9,     -999,9,     -999,1,   4.9720,1,   0.0194,1,      8.1,3,     -999,9,     -999,9,     -999,9,     -999,9,20230903,0859, -32.9974,  40.4097,-999          ,9,-999          ,9
33RR20230722  ,I05        ,165     ,  1,30         ,30         ,2,20230903,0701, -32.9974,  40.4098,     4981,    159.9,2,  17.1097,2,  35.6229,2,  35.6176,2,    227.2,2,    225.8,2,     2.44,2,     2.33,2,     0.04,2,     0.24,2,     -999,9,     -999,9,     -999,9,   2088.0,2,   2331.5,2,   7.9360,2,    24.98,2,     -999,9,  17.1143,2,     -999,9,     -999,9,     -999,9,     -999,9,     -999,1,   4.9711,1,   0.0125,1,     -999,9,     -999,9,     -999,9,     -999,9,     -999,9,20230903,0857, -32.9974,  40.4098,-999          ,9,-999          ,9
33RR20230722  ,I05        ,165     ,  1,29         ,29         ,2,20230903,0701, -32.9974,  40.4098,     4981,    194.8,2,  16.3463,2,  35.5487,2,  35.5468,2,    209.7,2,    210.8,2,     3.12,2,     4.77,2,     0.00,2,     0.39,2,    2.167,3,    1.420,2,   2.0600,2,   2106.2,2,   2328.0,2,   7.8941,2,    24.97,2,     -999,9,  16.3541,2,     -999,9,     -999,9,     -999,9,     -999,9,     -999,1,   4.6706,1,   0.0114,1,      9.1,3,     -999,9,     -999,9,     -999,9,     -999,9,20230903,0855, -32.9974,  40.4098,-999          ,9,-999          ,9
33RR20230722  ,I05        ,165     ,  1,28         ,28         ,2,20230903,0701, -32.9974,  40.4098,     4981,    233.7,2,  15.8532,2,  35.5028,2,  35.5014,2,    208.4,2,    209.3,2,     3.61,2,     5.68,2,     0.00,2,     0.47,2,     -999,9,     -999,9,     -999,9,   2112.5,2,   2325.0,6,   7.8806,2,    24.99,2,     -999,9,  15.8521,2,     -999,9,     -999,9,     -999,9,     -999,9,     -999,1,   4.9677,1,   0.0115,1,     -999,9,     -999,9,     -999,9,     -999,9,     -999,9,20230903,0853, -32.9974,  40.4098,-999          ,9,-999          ,9
33RR20230722  ,I05        ,165     ,  1,27         ,27         ,2,20230903,0701, -32.9974,  40.4098,     4981,    279.0,2,  15.2874,2,  35.4511,2,  35.4490,2,    209.7,2,    210.3,2,     3.71,2,     6.39,2,     0.00,2,     0.52,2,    2.320,3,    1.472,2,   2.1100,2,   2116.3,2,   2323.3,2,   7.8687,6,    24.98,2,     -999,9,  15.2935,2,     -999,9,     -999,9,     -999,9,     -999,9,     -999,1,   4.9676,1,   0.0119,1,     10.2,3,     -999,9,     -999,9,     -999,9,     -999,9,20230903,0851, -32.9974,  40.4097,-999          ,9,-999          ,9
33RR20230722  ,I05        ,165     ,  1,26         ,26         ,2,20230903,0701, -32.9974,  40.4098,     4981,    332.4,2,  14.6103,2,  35.3864,2,  35.3804,2,    214.3,2,    215.2,2,     3.51,2,     6.98,2,     0.00,2,     0.56,2,     -999,9,     -999,9,     -999,9,   2117.9,6,   2320.2,2,   7.8551,2,    24.98,2,     -999,9,  14.6153,2,     -999,9,     -999,9,     -999,9,     -999,9,     -999,1,   4.7215,1,   0.0115,1,     -999,9,     -999,9,     -999,9,     -999,9,     -999,9,20230903,0849, -32.9974,  40.4097,-999          ,9,-999          ,9
33RR20230722  ,I05        ,165     ,  1,25         ,25         ,2,20230903,0701, -32.9974,  40.4098,     4981,    394.9,2,  13.9165,2,  35.3110,2,  35.3072,2,    216.9,2,    217.1,2,     3.61,2,     8.03,2,     0.00,2,     0.60,2,    2.425,3,    1.524,2,   1.9900,2,   2121.5,2,   2316.8,2,   7.8408,2,    24.99,2,     -999,9,  13.9124,2,     -999,9,     -999,9,     -999,9,     -999,9,     -999,1,   4.9143,1,   0.0117,1,     10.2,3,     -999,9,     -999,9,     -999,9,     -999,9,20230903,0847, -32.9974,  40.4098,-999          ,9,-999          ,9
33RR20230722  ,I05        ,165     ,  1,24         ,24         ,2,20230903,0701, -32.9974,  40.4098,     4981,    470.1,2,  13.1976,2,  35.2300,2,  35.2270,2,    222.4,2,    222.3,2,     3.71,2,     9.06,2,     0.00,2,     0.68,2,    2.661,3,    1.647,2,   2.1100,2,   2124.5,2,   2312.8,2,   7.8284,2,    24.98,2,     -999,9,  13.1955,2,     -999,9,     -999,9,     -999,9,     -999,9,     -999,1,   4.9670,1,   0.0119,1,     10.7,3,     -999,9,     -999,9,     -999,9,     -999,9,20230903,0845, -32.9974,  40.4098,-999          ,9,-999          ,9
33RR20230722  ,I05        ,165     ,  1,23         ,23         ,2,20230903,0701, -32.9974,  40.4098,     4981,    553.4,2,  12.5625,2,  35.1417,2,  35.1406,2,    223.3,2,    223.2,2,     4.10,2,    10.39,2,     0.00,2,     0.77,2,     -999,9,     -999,9,     -999,9,   2128.3,2,   2309.9,2,   7.8158,2,    24.95,2,     -999,9,  12.5628,2,     -999,9,     -999,9,     -999,9,     -999,9,     -999,1,   4.7428,1,   0.0113,1,     -999,9,     -999,9,     -999,9,     -999,9,     -999,9,20230903,0842, -32.9974,  40.4098,-999          ,9,-999          ,9
33RR20230722  ,I05        ,165     ,  1,22         ,22         ,2,20230903,0701, -32.9974,  40.4098,     4981,    641.4,2,  11.8270,2,  35.0266,2,  35.0313,2,    222.3,2,    222.1,2,     4.59,2,    12.06,2,     0.00,2,     0.90,2,    2.773,3,    1.737,2,   1.9400,2,   2131.9,2,   2304.9,2,   7.7961,6,    25.00,2,     -999,9,  11.8383,2,     -999,9,     -999,9,     -999,9,     -999,9,     -999,1,   4.9665,1,   0.0117,1,     11.2,3,     -999,9,     -999,9,     -999,9,     -999,9,20230903,0840, -32.9974,  40.4097,-999          ,9,-999          ,9
33RR20230722  ,I05        ,165     ,  1,21         ,21         ,2,20230903,0701, -32.9974,  40.4098,     4981,    732.6,2,  10.8904,2,  34.8943,2,  34.8955,2,    220.3,2,    220.0,2,     5.56,2,    14.38,2,     0.00,2,     1.05,2,    2.941,3,    1.779,2,   1.7500,2,   2136.9,2,   2299.4,2,   7.7725,2,    25.00,2,     -999,9,  10.8914,2,     -999,9,     -999,9,     -999,9,     -999,9,     -999,1,   4.7279,1,   0.0114,1,     12.5,3,     -999,9,     -999,9,     -999,9,     -999,9,20230903,0837, -32.9974,  40.4097,-999          ,9,-999          ,9
33RR20230722  ,I05        ,165     ,  1,20         ,20         ,2,20230903,0701, -32.9974,  40.4098,     4981,    828.2,2,   9.7012,2,  34.7456,2,  34.7429,2,    215.9,2,    215.5,2,     8.00,2,    17.64,2,     0.00,2,     1.27,2,    2.915,3,    1.753,2,   1.6100,2,   2147.4,2,   2291.0,2,   7.7390,2,    25.01,2,     -999,9,   9.6903,2,     -999,9,     -999,9,     -999,9,     -999,9,     -999,1,   4.9672,1,   0.0113,1,     14.2,3,     -999,9,     -999,9,     -999,9,     -999,9,20230903,0835, -32.9974,  40.4097,-999          ,9,-999          ,9
33RR20230722  ,I05        ,165     ,  1,19         ,19         ,2,20230903,0701, -32.9974,  40.4098,     4981,    928.6,2,   8.1337,2,  34.5824,2,  34.5826,2,    208.2,2,    208.1,2,    13.37,2,    22.12,2,     0.00,2,     1.57,2,     -999,9,     -999,9,     -999,9,   2163.0,2,   2290.1,2,   7.6935,2,    25.01,2,     -999,9,   8.1327,2,     -999,9,     -999,9,     -999,9,     -999,9,     -999,1,   4.7824,1,   0.0114,1,     -999,9,     -999,9,     -999,9,     -999,9,     -999,9,20230903,0832, -32.9974,  40.4097,-999          ,9,-999          ,9
33RR20230722  ,I05        ,165     ,  1,18         ,18         ,2,20230903,0701, -32.9974,  40.4098,     4981,   1026.1,2,   6.7129,2,  34.4693,2,  34.4685,2,    204.6,2,    204.6,2,    20.01,2,    25.84,2,     0.00,2,     1.81,2,    2.731,3,    1.563,2,   1.1700,2,   2177.1,2,   2289.0,2,   7.6558,2,    25.01,2,     -999,9,   6.7094,2,     -999,9,     -999,9,     -999,9,     -999,9,     -999,1,   4.8887,1,   0.0112,1,     16.5,3,     -999,9,     -999,9,     -999,9,     -999,9,20230903,0829, -32.9974,  40.4097,-999          ,9,-999          ,9
33RR20230722  ,I05        ,165     ,  1,17         ,17         ,2,20230903,0701, -32.9974,  40.4098,     4981,   1131.7,2,   5.4575,2,  34.4049,2,  34.4043,2,    200.8,2,    200.9,2,    28.51,2,    28.77,2,     0.00,2,     2.01,2,    2.397,3,    1.351,2,   0.8700,2,   2191.3,2,   2293.8,2,   7.6271,2,    25.02,2,     -999,9,   5.4639,2,     -999,9,     -999,9,     -999,9,     -999,9,     -999,1,   4.9582,1,   0.0111,1,     19.2,3,     -999,9,     -999,9,     -999,9,     -999,9,20230903,0826, -32.9974,  40.4098,-999          ,9,-999          ,9
33RR20230722  ,I05        ,165     ,  1,16         ,16         ,2,20230903,0701, -32.9974,  40.4098,     4981,   1241.9,2,   4.6378,2,  34.4110,2,  34.4084,2,    191.3,2,    191.5,2,    38.76,2,    30.96,2,     0.00,2,     2.17,2,    1.906,3,    1.029,2,   0.6100,2,   2208.4,2,   2302.0,2,   7.6041,2,    25.03,2,     -999,9,   4.6379,2,     -999,9,     -999,9,     -999,9,     -999,9,     -999,1,   4.9715,1,   0.0112,1,     20.1,3,     -999,9,     -999,9,     -999,9,     -999,9,20230903,0823, -32.9974,  40.4097,-999          ,9,-999          ,9
33RR20230722  ,I05        ,165     ,  1,15         ,15         ,2,20230903,0701, -32.9974,  40.4098,     4981,   1365.4,2,   3.9617,2,  34.4511,3,  34.4440,2,    181.5,2,    182.6,2,    49.59,2,    32.50,2,     0.00,2,     2.28,2,     -999,9,     -999,9,     -999,9,   2222.9,2,   2312.2,2,   7.5856,2,    25.02,2,     -999,9,   3.9481,2,     -999,9,     -999,9,     -999,9,     -999,9,     -999,1,   4.9727,1,   0.0113,1,     -999,9,     -999,9,     -999,9,     -999,9,     -999,9,20230903,0820, -32.9974,  40.4098,-999          ,9,-999          ,9
33RR20230722  ,I05        ,165     ,  1,14         ,14         ,2,20230903,0701, -32.9974,  40.4098,     4981,   1498.0,2,   3.5021,2,  34.5094,2,  34.5078,2,    174.6,2,    174.0,2,    59.25,2,    33.18,2,     0.00,2,     2.33,2,    0.925,3,    0.482,2,   0.2800,2,   2236.2,2,   2322.8,2,   7.5753,2,    25.07,2,     -999,9,   3.5016,2,     -999,9,     -999,9,     -999,9,     -999,9,     -999,1,   4.9226,1,   0.0111,1,     22.6,3,     -999,9,     -999,9,     -999,9,     -999,9,20230903,0816, -32.9974,  40.4098,-999          ,9,-999          ,9
33RR20230722  ,I05        ,165     ,  1,13         ,13         ,2,20230903,0701, -32.9974,  40.4098,     4981,   1638.3,2,   3.2344,2,  34.5918,2,  34.5904,2,    169.3,2,    168.8,2,    67.84,2,    33.25,2,     0.00,2,     2.35,2,    0.524,3,    0.264,2,   0.1100,2,   2246.2,6,   2331.5,2,   7.5756,2,    25.08,2,     -999,9,   3.2329,2,     -999,9,     -999,9,     -999,9,     -999,9,     -999,1,   4.9742,1,   0.0111,1,     20.3,3,     -999,9,     -999,9,     -999,9,     -999,9,20230903,0813, -32.9974,  40.4098,-999          ,9,-999          ,9
33RR20230722  ,I05        ,165     ,  1,12         ,12         ,2,20230903,0701, -32.9974,  40.4098,     4981,   1785.1,2,   2.9917,2,  34.6534,2,  34.6515,2,    172.5,2,    172.0,2,    71.84,2,    32.47,2,     0.00,2,     2.30,2,    0.253,3,    0.145,2,   0.0500,2,   2248.8,2,   2337.6,2,   7.5861,2,    25.11,2,     -999,9,   2.9918,2,     -999,9,     -999,9,     -999,9,     -999,9,     -999,1,   4.6830,1,   0.0115,1,     22.0,3,     -999,9,     -999,9,     -999,9,     -999,9,20230903,0809, -32.9974,  40.4098,-999          ,9,-999          ,9
33RR20230722  ,I05        ,165     ,  1,11         ,11         ,2,20230903,0701, -32.9974,  40.4098,     4981,   1952.7,2,   2.8224,2,  34.7033,2,  34.7011,2,    178.2,2,    177.9,2,    73.69,2,    31.49,2,     0.00,2,     2.24,2,     -999,9,     -999,9,     -999,9,   2247.0,2,   2341.7,2,   7.6007,2,    25.14,2,     -999,9,   2.8227,2,     -999,9,     -999,9,     -999,9,     -999,9,     -999,1,   4.8817,1,   0.0116,1,     -999,9,     -999,9,     -999,9,     -999,9,     -999,9,20230903,0805, -32.9974,  40.4098,-999          ,9,-999          ,9
33RR20230722  ,I05        ,165     ,  1,10         ,10         ,2,20230903,0701, -32.9974,  40.4098,     4981,   2156.5,2,   2.6636,2,  34.7457,2,  34.7443,2,    184.4,2,    184.6,2,    75.54,2,    30.50,2,     0.00,2,     2.15,2,    0.059,3,    0.042,2,  -0.0100,2,   2246.9,2,   2346.1,2,   7.6155,2,    25.11,2,     -999,9,   2.6636,2,     -999,9,     -999,9,     -999,9,     -999,9,     -999,1,   4.9124,1,   0.0117,1,     19.6,3,     -999,9,     -999,9,     -999,9,     -999,9,20230903,0800, -32.9974,  40.4097,-999          ,9,-999          ,9
33RR20230722  ,I05        ,165     ,  1,9          ,9          ,2,20230903,0701, -32.9974,  40.4098,     4981,   2403.8,2,   2.5555,2,  34.7732,2,  34.7724,2,    195.3,2,    195.6,2,    71.44,2,    29.14,2,     0.00,2,     2.04,2,    0.033,6,    0.028,6,   0.0100,6,   2236.2,2,   2343.6,2,   7.6331,2,    25.03,2,     -999,9,   2.5558,2,     -999,9,     -999,9,     -999,9,     -999,9,     -999,1,   4.9741,1,   0.0119,1,     17.9,6,     -999,9,     -999,9,     -999,9,     -999,9,20230903,0755, -32.9974,  40.4098,-999          ,9,-999          ,9
33RR20230722  ,I05        ,165     ,  1,8          ,8          ,2,20230903,0701, -32.9974,  40.4098,     4981,   2690.7,2,   2.3740,2,  34.7916,2,  34.7905,2,    203.5,2,    203.8,2,    72.13,2,    28.28,2,     0.00,2,     1.98,2,     -999,9,     -999,9,     -999,9,   2232.2,2,   2344.4,2,   7.6452,6,    25.04,2,     -999,9,   2.3736,2,     -999,9,     -999,9,     -999,9,     -999,9,     -999,1,   4.9334,1,   0.0115,1,     -999,9,     -999,9,     -999,9,     -999,9,     -999,9,20230903,0749, -32.9974,  40.4098,-999          ,9,-999          ,9
33RR20230722  ,I05        ,165     ,  1,7          ,7          ,2,20230903,0701, -32.9974,  40.4098,     4981,   3028.0,2,   2.2072,2,  34.8009,2,  34.8003,2,    211.8,2,    212.1,2,    72.12,2,    27.67,2,     0.00,2,     1.92,2,    0.023,3,    0.018,2,   0.0500,2,   2226.9,2,   2346.2,2,   7.6559,2,    25.03,2,     -999,9,   2.2075,2,     -999,9,     -999,9,     -999,9,     -999,9,     -999,1,   4.9747,1,   0.0110,1,     16.5,3,     -999,9,     -999,9,     -999,9,     -999,9,20230903,0742, -32.9974,  40.4097,-999          ,9,-999          ,9
33RR20230722  ,I05        ,165     ,  1,6          ,6          ,2,20230903,0701, -32.9974,  40.4098,     4981,   3418.4,2,   1.9271,2,  34.7873,2,  34.7858,2,    213.6,2,    213.7,2,    80.23,2,    28.27,2,     0.00,2,     1.97,2,    0.016,3,    0.018,2,   0.0300,2,   2234.0,2,   2349.1,2,   7.6518,2,    25.04,2,     -999,9,   1.9270,2,     -999,9,     -999,9,     -999,9,     -999,9,     -999,1,   4.9291,1,   0.0117,1,     16.3,3,     -999,9,     -999,9,     -999,9,     -999,9,20230903,0735, -32.9974,  40.4098,-999          ,9,-999          ,9
33RR20230722  ,I05        ,165     ,  1,5          ,5          ,2,20230903,0701, -32.9974,  40.4098,     4981,   3835.8,2,   1.5004,2,  34.7600,2,  34.7583,2,    215.6,2,    215.7,2,    93.40,2,    29.47,2,     0.00,2,     2.06,2,    0.040,3,    0.034,2,   0.0100,2,   2242.5,2,   2353.3,2,   7.6428,2,    25.03,2,     -999,9,   1.5005,2,     -999,9,     -999,9,     -999,9,     -999,9,     -999,1,   4.9766,1,   0.0111,1,     16.5,3,     -999,9,     -999,9,     -999,9,     -999,9,20230903,0727, -32.9974,  40.4097,-999          ,9,-999          ,9
33RR20230722  ,I05        ,165     ,  1,4          ,37         ,2,20230903,0701, -32.9974,  40.4098,     4981,   4257.6,2,   0.9991,2,  34.7243,3,  34.7219,2,    217.1,2,    217.5,2,   109.51,2,    30.94,2,     0.00,2,     2.17,2,     -999,9,     -999,9,     -999,9,   2252.5,2,   2361.8,2,   7.6296,2,    25.04,2,     -999,9,   0.9991,2,     -999,9,     -999,9,     -999,9,     -999,9,     -999,1,   4.9762,1,   0.0111,1,     -999,9,     -999,9,     -999,9,     -999,9,     -999,9,20230903,0719, -32.9974,  40.4097,-999          ,9,-999          ,9
33RR20230722  ,I05        ,165     ,  1,3          ,3          ,2,20230903,0701, -32.9974,  40.4098,     4981,   4627.9,2,   0.7372,2,  34.7034,2,  34.7019,2,    218.2,2,    218.5,2,   118.79,2,    31.80,2,     0.00,2,     2.23,2,    0.189,3,    0.105,2,   0.0200,2,   2259.3,2,   2365.3,6,   7.6224,2,    25.04,2,     -999,9,   0.7375,2,     -999,9,     -999,9,     -999,9,     -999,9,     -999,1,   4.8916,1,   0.0110,1,     17.3,3,     -999,9,     -999,9,     -999,9,     -999,9,20230903,0711, -32.9974,  40.4097,-999          ,9,-999          ,9