BOTTLE,20240422CCHHYDRO
EXPOCODE,SECT_ID,STNNBR,CASTNO,SAMPNO,BTLNBR,BTLNBR_FLAG_W,DATE,TIME,LATITUDE,LONGITUDE,DEPTH,CTDPRS,CTDPRS_FLAG_W,CTDTMP,CTDTMP_FLAG_W,CTDSAL,CTDSAL_FLAG_W,SALNTY,SALNTY_FLAG_W,CTDOXY,CTDOXY_FLAG_W,OXYGEN,OXYGEN_FLAG_W,SILCAT,SILCAT_FLAG_W,NITRAT,NITRAT_FLAG_W,NITRIT,NITRIT_FLAG_W,PHSPHT,PHSPHT_FLAG_W,CFC-11,CFC-11_FLAG_W,CFC-12,CFC-12_FLAG_W,SF6,SF6_FLAG_W,TCARBN,TCARBN_FLAG_W,ALKALI,ALKALI_FLAG_W,PH_TOT,PH_TOT_FLAG_W,PH_TMP,PH_TMP_FLAG_W,DOC,DOC_FLAG_W,REFTMP,REFTMP_FLAG_W,POC,POC_FLAG_W,PON,PON_FLAG_W,POP,POP_FLAG_W,DOP,DOP_FLAG_W,DELO18,DELO18_FLAG_W,CTDFLUOR,CTDFLUOR_FLAG_W,CTDXMISS,CTDXMISS_FLAG_W,N2O,N2O_FLAG_W,D15N_NO3,D15N_NO3_FLAG_W,D15N_NO2+NO3,D15N_NO2+NO3_FLAG_W,D18O_NO2+NO3,D18O_NO2+NO3_FLAG_W,D18O_NO3,D18O_NO3_FLAG_W,BTL_DATE,BTL_TIME,BTL_LAT,BTL_LON,HPLC,HPLC_FLAG_W,DNA,DNA_FLAG_W
,,,,,,,,,,,METERS,DBAR,,ITS-90,,PSS-78,,PSS-78,,UMOL/KG,,UMOL/KG,,UMOL/KG,,UMOL/KG,,UMOL/KG,,UMOL/KG,,PMOL/KG,,PMOL/KG,,FMOL/KG,,UMOL/KG,,UMOL/KG,,,,DEG C,,UMOL/KG,,ITS-90,,UG/KG,,UG/KG,,UG/L,,UMOL/KG,,/MILLE,,VOLTS,,VOLTS,,NMOL/KG,,/MILLE,,/MILLE,,/MILLE,,/MILLE,,,,,,,,,
33RR20230722  ,I05        ,99      ,  1,36         ,38         ,2,20230817,0527, -34.0004,  72.5567,     4213,      4.8,2,  16.2354,2,  35.4960,2,  35.4955,2,    246.5,2,    246.8,2,     1.27,2,     0.20,2,     0.03,2,     0.19,2,    1.348,4,    1.355,2,   2.4700,2,   2084.5,6,   2333.0,2,   7.9452,2,    25.03,2,     -999,1,  16.2352,2,     -999,9,     -999,9,     -999,9,     -999,9,     -999,1,   2.9843,1,   0.0238,1,      8.2,2,     -999,9,     -999,9,     -999,9,     -999,9,20230817,0720, -34.0004,  72.5567,-999          ,9,-999          ,9
33RR20230722  ,I05        ,99      ,  1,35         ,35         ,2,20230817,0527, -34.0004,  72.5567,     4213,     25.0,2,  16.2314,2,  35.4956,2,  35.4939,2,    246.4,2,    246.6,2,     1.17,2,     0.15,2,     0.03,2,     0.18,2,     -999,9,     -999,9,     -999,9,   2084.3,2,   2332.5,6,   7.9449,2,    25.02,2,     -999,9,  16.2198,2,     -999,9,     -999,9,     -999,9,     -999,9,     -999,1,   4.9757,1,   0.0391,1,     -999,9,     -999,9,     -999,9,     -999,9,     -999,9,20230817,0719, -34.0004,  72.5567,-999          ,9,-999          ,9
33RR20230722  ,I05        ,99      ,  1,34         ,34         ,2,20230817,0527, -34.0004,  72.5567,     4213,     44.1,2,  16.0118,2,  35.4588,2,  35.4500,2,    246.5,2,    248.0,2,     1.27,2,     0.33,2,     0.05,2,     0.20,2,    1.314,4,    1.239,2,   2.2700,2,   -999.0,9,     -999,9,     -999,9,     -999,9,     -999,9,  15.9766,2,     -999,9,     -999,9,     -999,9,     -999,9,     -999,1,   4.9757,1,   0.0463,1,      8.3,2,     -999,9,     -999,9,     -999,9,     -999,9,20230817,0717, -34.0004,  72.5567,-999          ,9,-999          ,9
33RR20230722  ,I05        ,99      ,  1,33         ,33         ,2,20230817,0527, -34.0004,  72.5567,     4213,     63.9,2,  15.3915,2,  35.3715,2,  35.3691,2,    248.2,2,    248.0,2,     1.37,2,     0.83,2,     0.11,2,     0.22,2,     -999,9,     -999,9,     -999,9,   2088.4,2,   2324.7,2,   7.9275,6,    25.02,2,     -999,9,  15.3893,2,     -999,9,     -999,9,     -999,9,     -999,9,     -999,1,   4.9748,1,   0.0451,1,     -999,9,     -999,9,     -999,9,     -999,9,     -999,9,20230817,0715, -34.0004,  72.5567,-999          ,9,-999          ,9
33RR20230722  ,I05        ,99      ,  1,32         ,32         ,2,20230817,0527, -34.0004,  72.5567,     4213,     83.7,2,  15.2414,2,  35.3330,2,  35.3376,2,    247.3,2,    247.7,2,     1.27,2,     1.04,2,     0.12,2,     0.26,2,    1.475,4,    1.429,2,   2.5100,2,   -999.0,9,     -999,9,     -999,9,     -999,9,     -999,9,  15.2366,2,     -999,9,     -999,9,     -999,9,     -999,9,     -999,1,   4.9355,1,   0.0318,1,      8.7,2,     -999,9,     -999,9,     -999,9,     -999,9,20230817,0714, -34.0004,  72.5566,-999          ,9,-999          ,9
33RR20230722  ,I05        ,99      ,  1,31         ,31         ,2,20230817,0527, -34.0004,  72.5567,     4213,    113.1,2,  15.1282,2,  35.3155,2,  35.3181,2,    247.1,2,    247.5,2,     1.37,2,     1.14,2,     0.15,2,     0.25,2,     -999,9,     -999,9,     -999,9,   2090.8,2,   2320.2,2,   7.9202,2,    25.03,2,     -999,9,  15.1465,2,     -999,9,     -999,9,     -999,9,     -999,9,     -999,1,   4.9738,1,   0.0260,1,     -999,9,     -999,9,     -999,9,     -999,9,     -999,9,20230817,0712, -34.0004,  72.5567,-999          ,9,-999          ,9
33RR20230722  ,I05        ,99      ,  1,30         ,30         ,2,20230817,0527, -34.0004,  72.5567,     4213,    140.9,2,  15.0883,2,  35.3256,2,  35.3189,2,    242.7,2,    242.9,2,     1.56,2,     1.88,2,     0.26,2,     0.30,2,    1.617,4,    1.480,2,   2.5300,2,   2094.7,2,   2320.8,2,   7.9108,2,    25.02,2,     -999,9,  15.0822,2,     -999,9,     -999,9,     -999,9,     -999,9,     -999,1,   4.8889,1,   0.0185,1,      8.5,2,     -999,9,     -999,9,     -999,9,     -999,9,20230817,0710, -34.0004,  72.5567,-999          ,9,-999          ,9
33RR20230722  ,I05        ,99      ,  1,29         ,29         ,2,20230817,0527, -34.0004,  72.5567,     4213,    172.5,2,  14.1025,2,  35.3191,2,  35.3153,2,    225.8,3,    228.5,2,     2.73,2,     5.97,2,     0.03,2,     0.51,2,     -999,9,     -999,9,     -999,9,   2115.1,2,   2317.7,2,   7.8645,6,    25.04,2,     -999,9,  14.2314,3,     -999,9,     -999,9,     -999,9,     -999,9,     -999,1,   4.9692,1,   0.0124,1,     -999,9,     -999,9,     -999,9,     -999,9,     -999,9,20230817,0708, -34.0004,  72.5566,-999          ,9,-999          ,9
33RR20230722  ,I05        ,99      ,  1,28         ,28         ,2,20230817,0527, -34.0004,  72.5567,     4213,    205.8,2,  13.7050,2,  35.2981,2,  35.2962,2,    229.5,2,    231.2,2,     3.22,2,     7.16,2,     0.00,2,     0.58,2,    3.276,4,    1.670,2,   2.2600,2,   -999.0,9,     -999,9,     -999,9,     -999,9,     -999,9,  13.7048,2,     -999,9,     -999,9,     -999,9,     -999,9,     -999,1,   4.9703,1,   0.0115,1,     10.2,2,     -999,9,     -999,9,     -999,9,     -999,9,20230817,0706, -34.0004,  72.5566,-999          ,9,-999          ,9
33RR20230722  ,I05        ,99      ,  1,27         ,27         ,2,20230817,0527, -34.0004,  72.5567,     4213,    240.0,2,  13.3815,2,  35.2570,2,  35.2532,2,    232.9,2,    234.3,2,     3.22,2,     7.62,2,     0.00,2,     0.60,2,     -999,9,     -999,9,     -999,9,   2120.6,2,   2315.4,2,   7.8467,2,    25.00,2,     -999,9,  13.3600,2,     -999,9,     -999,9,     -999,9,     -999,9,     -999,1,   4.9478,1,   0.0115,1,     -999,9,     -999,9,     -999,9,     -999,9,     -999,9,20230817,0705, -34.0004,  72.5566,-999          ,9,-999          ,9
33RR20230722  ,I05        ,99      ,  1,26         ,26         ,2,20230817,0527, -34.0004,  72.5567,     4213,    280.6,2,  13.1004,2,  35.2211,2,  35.2213,2,    236.7,2,    237.1,2,     3.12,2,     7.71,2,     0.00,2,     0.61,2,    2.428,4,    1.599,2,   2.4100,2,   2120.5,2,   2313.9,2,   7.8418,2,    25.02,2,     -999,9,  13.0996,2,     -999,9,     -999,9,     -999,9,     -999,9,     -999,1,   4.9634,1,   0.0117,1,     10.2,2,     -999,9,     -999,9,     -999,9,     -999,9,20230817,0703, -34.0005,  72.5567,-999          ,9,-999          ,9
33RR20230722  ,I05        ,99      ,  1,25         ,25         ,2,20230817,0527, -34.0004,  72.5567,     4213,    330.4,2,  12.8728,2,  35.1937,2,  35.1924,2,    238.2,2,    238.1,2,     3.12,2,     8.11,2,     0.00,2,     0.63,2,     -999,9,     -999,9,     -999,9,   2122.6,2,   2311.4,2,   7.8379,2,    25.03,2,     -999,9,  12.8724,2,     -999,9,     -999,9,     -999,9,     -999,9,     -999,1,   4.9689,1,   0.0118,1,     -999,9,     -999,9,     -999,9,     -999,9,     -999,9,20230817,0701, -34.0004,  72.5567,-999          ,9,-999          ,9
33RR20230722  ,I05        ,99      ,  1,24         ,24         ,2,20230817,0527, -34.0004,  72.5567,     4213,    388.0,2,  12.4881,2,  35.1298,2,  35.1284,2,    239.4,2,    239.4,2,     3.22,2,     8.97,2,     0.00,2,     0.69,2,    3.056,4,    1.657,2,   2.3500,2,   2126.9,2,   2309.2,2,   7.8287,2,    25.04,2,     -999,9,  12.4848,2,     -999,9,     -999,9,     -999,9,     -999,9,     -999,1,   4.9683,1,   0.0117,1,     10.2,2,     -999,9,     -999,9,     -999,9,     -999,9,20230817,0659, -34.0003,  72.5566,-999          ,9,-999          ,9
33RR20230722  ,I05        ,99      ,  1,23         ,23         ,2,20230817,0527, -34.0004,  72.5567,     4213,    453.9,2,  12.1173,2,  35.0702,2,  35.0716,2,    242.3,2,    242.1,2,     3.32,2,     9.60,2,     0.00,2,     0.74,2,     -999,9,     -999,9,     -999,9,   2129.7,2,   2306.5,2,   7.8233,2,    25.04,2,     -999,9,  12.1304,2,     -999,9,     -999,9,     -999,9,     -999,9,     -999,1,   4.9683,1,   0.0116,1,     -999,9,     -999,9,     -999,9,     -999,9,     -999,9,20230817,0656, -34.0005,  72.5568,-999          ,9,-999          ,9
33RR20230722  ,I05        ,99      ,  1,22         ,22         ,2,20230817,0527, -34.0004,  72.5567,     4213,    533.2,2,  11.7301,2,  35.0074,2,  35.0075,2,    243.0,2,    242.6,2,     3.61,2,    10.56,2,     0.00,2,     0.79,2,    3.798,4,    1.849,2,   2.4200,2,   2127.6,2,   2304.5,2,   7.8135,2,    25.02,2,     -999,9,  11.7282,2,     -999,9,     -999,9,     -999,9,     -999,9,     -999,1,   4.9432,1,   0.0115,1,     10.5,2,     -999,9,     -999,9,     -999,9,     -999,9,20230817,0654, -34.0004,  72.5567,-999          ,9,-999          ,9
33RR20230722  ,I05        ,99      ,  1,21         ,21         ,2,20230817,0527, -34.0004,  72.5567,     4213,    621.1,2,  11.2118,2,  34.9266,2,  34.9213,2,    233.1,2,    233.1,2,     4.29,2,    12.73,2,     0.00,2,     0.93,2,     -999,9,     -999,9,     -999,9,   2135.1,2,   2298.8,2,   7.7908,2,    25.02,2,     -999,9,  11.2090,2,     -999,9,     -999,9,     -999,9,     -999,9,     -999,1,   4.9667,1,   0.0117,1,     -999,9,     -999,9,     -999,9,     -999,9,     -999,9,20230817,0651, -34.0004,  72.5567,-999          ,9,-999          ,9
33RR20230722  ,I05        ,99      ,  1,20         ,20         ,2,20230817,0527, -34.0004,  72.5567,     4213,    724.2,2,  10.0613,2,  34.7711,2,  34.7754,2,    221.6,2,    222.3,2,     6.05,2,    16.14,2,     0.00,2,     1.13,2,    3.341,4,    1.787,2,   1.8200,2,   -999.0,9,     -999,9,     -999,9,     -999,9,     -999,9,  10.0780,2,     -999,9,     -999,9,     -999,9,     -999,9,     -999,1,   4.9202,1,   0.0115,1,     12.3,2,     -999,9,     -999,9,     -999,9,     -999,9,20230817,0648, -34.0004,  72.5568,-999          ,9,-999          ,9
33RR20230722  ,I05        ,99      ,  1,19         ,19         ,2,20230817,0527, -34.0004,  72.5567,     4213,    846.1,2,   8.2233,2,  34.5747,2,  34.5737,2,    208.0,2,    208.2,2,    11.71,2,    22.01,2,     0.00,2,     1.51,2,     -999,9,     -999,9,     -999,9,   2160.5,2,   2287.5,2,   7.6963,2,    25.01,2,     -999,9,   8.2137,2,     -999,9,     -999,9,     -999,9,     -999,9,     -999,1,   4.9474,1,   0.0113,1,     -999,9,     -999,9,     -999,9,     -999,9,     -999,9,20230817,0645, -34.0004,  72.5567,-999          ,9,-999          ,9
33RR20230722  ,I05        ,99      ,  1,18         ,18         ,2,20230817,0527, -34.0004,  72.5567,     4213,    966.8,2,   6.5188,2,  34.4353,2,  34.4316,2,    204.3,2,    204.6,2,    19.43,2,    26.49,2,     0.00,2,     1.84,2,     -999,9,     -999,9,     -999,9,   -999.0,9,     -999,9,     -999,9,     -999,9,     -999,9,   6.5065,2,     -999,9,     -999,9,     -999,9,     -999,9,     -999,1,   4.9694,1,   0.0114,1,     -999,9,     -999,9,     -999,9,     -999,9,     -999,9,20230817,0642, -34.0005,  72.5567,-999          ,9,-999          ,9
33RR20230722  ,I05        ,99      ,  1,17         ,17         ,2,20230817,0527, -34.0004,  72.5567,     4213,   1090.4,2,   4.9918,2,  34.3576,2,  34.3590,2,    204.2,2,    204.4,2,    28.90,2,    29.57,2,     0.00,2,     2.05,2,    1.976,4,    1.241,2,   0.8500,2,   2196.1,2,   2291.5,2,   7.6206,2,    25.01,2,     -999,9,   5.0092,2,     -999,9,     -999,9,     -999,9,     -999,9,     -999,1,   4.9703,1,   0.0114,1,     18.3,2,     -999,9,     -999,9,     -999,9,     -999,9,20230817,0639, -34.0003,  72.5566,-999          ,9,-999          ,9
33RR20230722  ,I05        ,99      ,  1,16         ,16         ,2,20230817,0527, -34.0004,  72.5567,     4213,   1217.0,2,   4.1209,2,  34.3674,2,  34.3678,2,    195.2,2,    195.6,2,    40.32,2,    31.76,2,     0.00,2,     2.24,2,    1.553,4,    1.017,2,   0.6000,2,   2210.6,2,   2302.0,2,   7.5968,2,    25.02,2,     -999,9,   4.1205,2,     -999,9,     -999,9,     -999,9,     -999,9,     -999,1,   4.9699,1,   0.0112,1,     19.5,2,     -999,9,     -999,9,     -999,9,     -999,9,20230817,0635, -34.0004,  72.5566,-999          ,9,-999          ,9
33RR20230722  ,I05        ,99      ,  1,15         ,15         ,2,20230817,0527, -34.0004,  72.5567,     4213,   1337.8,2,   3.5772,2,  34.4190,2,  34.4190,2,    183.3,2,    183.3,2,    51.25,2,    33.13,2,     0.00,2,     2.31,2,    1.237,4,    0.713,2,   0.5100,2,   2225.7,2,   2311.2,2,   7.5786,2,    25.03,2,     -999,9,   3.5775,2,     -999,9,     -999,9,     -999,9,     -999,9,     -999,1,   4.9725,1,   0.0114,1,     20.7,2,     -999,9,     -999,9,     -999,9,     -999,9,20230817,0632, -34.0003,  72.5566,-999          ,9,-999          ,9
33RR20230722  ,I05        ,99      ,  1,14         ,14         ,2,20230817,0527, -34.0004,  72.5567,     4213,   1453.3,2,   3.2509,2,  34.4779,2,  34.4785,2,    174.9,2,    174.8,2,    60.23,2,    33.82,2,     0.00,2,     2.35,2,    0.576,4,    0.560,2,   0.2000,2,   -999.0,9,     -999,9,     -999,9,     -999,9,     -999,9,   3.2499,2,     -999,9,     -999,9,     -999,9,     -999,9,     -999,1,   4.8024,1,   0.0111,1,     20.5,2,     -999,9,     -999,9,     -999,9,     -999,9,20230817,0629, -34.0004,  72.5567,-999          ,9,-999          ,9
33RR20230722  ,I05        ,99      ,  1,13         ,13         ,2,20230817,0527, -34.0004,  72.5567,     4213,   1581.0,2,   3.0282,2,  34.5337,2,  34.5343,2,    170.9,2,    170.6,2,    66.48,2,    33.91,2,     0.00,2,     2.37,2,    0.456,4,    0.329,2,   0.1500,2,   2245.9,2,   2328.5,2,   7.5679,2,    25.04,2,     -999,9,   3.0281,2,     -999,9,     -999,9,     -999,9,     -999,9,     -999,1,   4.9739,1,   0.0111,1,     21.4,2,     -999,9,     -999,9,     -999,9,     -999,9,20230817,0626, -34.0004,  72.5567,-999          ,9,-999          ,9
33RR20230722  ,I05        ,99      ,  1,12         ,12         ,2,20230817,0527, -34.0004,  72.5567,     4213,   1709.0,2,   2.8318,2,  34.5861,2,  34.5861,2,    171.0,2,    170.8,2,    70.87,2,    33.63,2,     0.00,2,     2.34,2,    0.755,4,    0.213,2,   0.1200,2,   2249.6,2,   2331.8,2,   7.5709,2,    25.03,2,     -999,9,   2.8319,2,     -999,9,     -999,9,     -999,9,     -999,9,     -999,1,   4.8579,1,   0.0119,1,     20.6,2,     -999,9,     -999,9,     -999,9,     -999,9,20230817,0623, -34.0003,  72.5566,-999          ,9,-999          ,9
33RR20230722  ,I05        ,99      ,  1,11         ,11         ,2,20230817,0527, -34.0004,  72.5567,     4213,   1852.9,2,   2.6338,2,  34.6450,2,  34.6445,2,    174.6,2,    174.9,2,    74.77,2,    32.75,2,     0.00,2,     2.28,2,    0.146,4,    0.116,6,   0.0900,6,   2249.4,2,   2335.6,2,   7.5827,6,    25.03,2,     -999,9,   2.6337,2,     -999,9,     -999,9,     -999,9,     -999,9,     -999,1,   4.9744,1,   0.0113,1,     20.3,6,     -999,9,     -999,9,     -999,9,     -999,9,20230817,0619, -34.0004,  72.5566,-999          ,9,-999          ,9
33RR20230722  ,I05        ,99      ,  1,10         ,10         ,2,20230817,0527, -34.0004,  72.5567,     4213,   2045.8,2,   2.4248,2,  34.6939,2,  34.6954,2,    180.3,2,    180.5,2,    79.84,2,    31.95,2,     0.00,2,     2.22,2,     -999,9,     -999,9,     -999,9,   -999.0,9,     -999,9,     -999,9,     -999,9,     -999,9,   2.4252,2,     -999,9,     -999,9,     -999,9,     -999,9,     -999,1,   4.9299,1,   0.0111,1,     -999,9,     -999,9,     -999,9,     -999,9,     -999,9,20230817,0615, -34.0004,  72.5567,-999          ,9,-999          ,9
33RR20230722  ,I05        ,99      ,  1,9          ,9          ,2,20230817,0527, -34.0004,  72.5567,     4213,   2284.4,2,   2.1546,2,  34.7209,2,  34.7209,2,    182.3,2,    182.5,2,    92.04,2,    31.75,2,     0.00,2,     2.22,2,    0.012,4,    0.024,2,   0.0400,2,   2259.5,2,   2356.9,2,   7.6060,2,    25.05,2,     -999,9,   2.1557,2,     -999,9,     -999,9,     -999,9,     -999,9,     -999,1,   4.9749,1,   0.0116,1,     18.9,2,     -999,9,     -999,9,     -999,9,     -999,9,20230817,0610, -34.0003,  72.5567,-999          ,9,-999          ,9
33RR20230722  ,I05        ,99      ,  1,8          ,8          ,2,20230817,0527, -34.0004,  72.5567,     4213,   2560.2,2,   1.9315,2,  34.7262,2,  34.7260,2,    178.7,2,    179.0,2,   106.78,2,    32.52,2,     0.00,2,     2.29,2,    0.014,4,    0.012,2,   0.0100,2,   2274.0,2,   2372.1,2,   7.6062,2,    25.02,2,     -999,9,   1.9318,2,     -999,9,     -999,9,     -999,9,     -999,9,     -999,1,   4.9754,1,   0.0117,1,     19.2,2,     -999,9,     -999,9,     -999,9,     -999,9,20230817,0603, -34.0003,  72.5566,-999          ,9,-999          ,9
33RR20230722  ,I05        ,99      ,  1,7          ,7          ,2,20230817,0527, -34.0004,  72.5567,     4213,   2867.4,2,   1.7547,2,  34.7256,2,  34.7254,2,    178.6,2,    178.8,2,   115.46,2,    33.05,2,     0.00,2,     2.31,2,   -0.004,4,    0.006,2,   0.0200,2,   2279.6,2,   2378.4,2,   7.6065,2,    25.02,2,     -999,9,   1.7543,2,     -999,9,     -999,9,     -999,9,     -999,9,     -999,1,   4.6102,1,   0.0118,1,     19.1,2,     -999,9,     -999,9,     -999,9,     -999,9,20230817,0557, -34.0004,  72.5566,-999          ,9,-999          ,9
33RR20230722  ,I05        ,99      ,  1,6          ,6          ,2,20230817,0527, -34.0004,  72.5567,     4213,   3176.2,2,   1.5872,2,  34.7221,2,  34.7215,2,    182.2,2,    182.0,2,   119.85,2,    33.09,2,     0.00,2,     2.33,2,    0.070,4,    0.019,2,   0.0600,2,   -999.0,9,     -999,9,     -999,9,     -999,9,     -999,9,   1.5880,2,     -999,9,     -999,9,     -999,9,     -999,9,     -999,1,   4.9760,1,   0.0119,1,     19.0,2,     -999,9,     -999,9,     -999,9,     -999,9,20230817,0551, -34.0004,  72.5567,-999          ,9,-999          ,9
33RR20230722  ,I05        ,99      ,  1,5          ,5          ,2,20230817,0527, -34.0004,  72.5567,     4213,   3448.5,2,   1.4308,2,  34.7161,2,  34.7162,2,    187.2,2,    187.2,2,   122.29,2,    32.97,2,     0.00,2,     2.30,2,   -0.003,4,    0.020,2,   0.0600,2,   2280.7,2,   2379.4,2,   7.6082,2,    25.02,2,     -999,9,   1.4293,2,     -999,9,     -999,9,     -999,9,     -999,9,     -999,1,   4.9760,1,   0.0124,1,     18.0,2,     -999,9,     -999,9,     -999,9,     -999,9,20230817,0545, -34.0004,  72.5566,-999          ,9,-999          ,9
33RR20230722  ,I05        ,99      ,  1,4          ,37         ,2,20230817,0527, -34.0004,  72.5567,     4213,   3714.3,2,   1.2966,2,  34.7114,2,  34.7125,2,    191.8,2,    191.9,2,   123.47,2,    32.94,2,     0.00,2,     2.29,2,    0.012,4,    0.027,2,   0.0400,2,   -999.0,9,     -999,9,     -999,9,     -999,9,     -999,9,   1.2967,2,     -999,9,     -999,9,     -999,9,     -999,9,     -999,1,   4.9761,1,   0.0125,1,     17.9,2,     -999,9,     -999,9,     -999,9,     -999,9,20230817,0540, -34.0004,  72.5566,-999          ,9,-999          ,9
33RR20230722  ,I05        ,99      ,  1,3          ,3          ,2,20230817,0527, -34.0004,  72.5567,     4213,   3894.3,2,   1.2029,2,  34.7085,2,  34.7091,2,    195.1,2,    195.5,2,   124.25,2,    32.86,2,     0.00,2,     2.29,2,   -0.005,4,    0.051,2,   0.0400,2,   2275.6,2,   2375.1,6,   7.6111,2,    25.04,2,     -999,9,   1.2032,2,     -999,9,     -999,9,     -999,9,     -999,9,     -999,1,   4.9764,1,   0.0113,1,     17.9,2,     -999,9,     -999,9,     -999,9,     -999,9,20230817,0535, -34.0004,  72.5567,-999          ,9,-999          ,9