BOTTLE,20240422CCHHYDRO
EXPOCODE,SECT_ID,STNNBR,CASTNO,SAMPNO,BTLNBR,BTLNBR_FLAG_W,DATE,TIME,LATITUDE,LONGITUDE,DEPTH,CTDPRS,CTDPRS_FLAG_W,CTDTMP,CTDTMP_FLAG_W,CTDSAL,CTDSAL_FLAG_W,SALNTY,SALNTY_FLAG_W,CTDOXY,CTDOXY_FLAG_W,OXYGEN,OXYGEN_FLAG_W,SILCAT,SILCAT_FLAG_W,NITRAT,NITRAT_FLAG_W,NITRIT,NITRIT_FLAG_W,PHSPHT,PHSPHT_FLAG_W,CFC-11,CFC-11_FLAG_W,CFC-12,CFC-12_FLAG_W,SF6,SF6_FLAG_W,TCARBN,TCARBN_FLAG_W,ALKALI,ALKALI_FLAG_W,PH_TOT,PH_TOT_FLAG_W,PH_TMP,PH_TMP_FLAG_W,DOC,DOC_FLAG_W,REFTMP,REFTMP_FLAG_W,POC,POC_FLAG_W,PON,PON_FLAG_W,POP,POP_FLAG_W,DOP,DOP_FLAG_W,DELO18,DELO18_FLAG_W,CTDFLUOR,CTDFLUOR_FLAG_W,CTDXMISS,CTDXMISS_FLAG_W,N2O,N2O_FLAG_W,D15N_NO3,D15N_NO3_FLAG_W,D15N_NO2+NO3,D15N_NO2+NO3_FLAG_W,D18O_NO2+NO3,D18O_NO2+NO3_FLAG_W,D18O_NO3,D18O_NO3_FLAG_W,BTL_DATE,BTL_TIME,BTL_LAT,BTL_LON,HPLC,HPLC_FLAG_W,DNA,DNA_FLAG_W
,,,,,,,,,,,METERS,DBAR,,ITS-90,,PSS-78,,PSS-78,,UMOL/KG,,UMOL/KG,,UMOL/KG,,UMOL/KG,,UMOL/KG,,UMOL/KG,,PMOL/KG,,PMOL/KG,,FMOL/KG,,UMOL/KG,,UMOL/KG,,,,DEG C,,UMOL/KG,,ITS-90,,UG/KG,,UG/KG,,UG/L,,UMOL/KG,,/MILLE,,VOLTS,,VOLTS,,NMOL/KG,,/MILLE,,/MILLE,,/MILLE,,/MILLE,,,,,,,,,
33RR20230722  ,I05        ,44      ,  1,36         ,36         ,2,20230803,0534, -33.6278,  99.3644,     4149,      4.4,2,  14.5470,2,  35.4680,2,  35.4699,2,    249.9,2,    249.2,2,     0.78,2,     2.01,2,     0.10,2,     0.33,2,    2.638,2,    1.499,2,   2.4300,2,   2108.2,6,   2336.5,2,   7.9092,2,    25.03,2,     -999,1,  14.5420,2,     -999,9,     -999,9,     -999,9,     -999,9,     -999,1,   4.5467,1,   0.0177,1,      9.1,2,     -999,9,     -999,9,     -999,9,     -999,9,20230803,0724, -33.6278,  99.3644,-999          ,9,-999          ,9
33RR20230722  ,I05        ,44      ,  1,35         ,35         ,2,20230803,0534, -33.6278,  99.3644,     4149,     30.6,2,  14.4243,2,  35.4488,2,  35.4484,2,    250.1,2,    250.4,2,     0.78,2,     1.98,2,     0.11,2,     0.32,2,    2.646,2,    1.504,2,   2.4400,2,   2104.9,2,   2334.5,2,   7.9086,2,    25.01,2,     -999,1,  14.4233,2,     -999,9,     -999,9,     -999,9,     -999,9,     -999,1,   4.9746,1,   0.0344,1,      9.0,2,     -999,9,     -999,9,     -999,9,     -999,9,20230803,0722, -33.6278,  99.3644,-999          ,9,-999          ,9
33RR20230722  ,I05        ,44      ,  1,34         ,34         ,2,20230803,0534, -33.6278,  99.3644,     4149,     51.9,2,  14.3841,2,  35.4400,2,  35.4405,2,    249.3,2,    249.7,2,     0.78,2,     2.04,2,     0.11,2,     0.32,2,     -999,9,     -999,9,     -999,9,   -999.0,9,     -999,9,     -999,9,     -999,9,     -999,1,  14.3787,2,     -999,9,     -999,9,     -999,9,     -999,9,     -999,1,   4.9745,1,   0.0391,1,     -999,9,     -999,9,     -999,9,     -999,9,     -999,9,20230803,0720, -33.6278,  99.3644,-999          ,9,-999          ,9
33RR20230722  ,I05        ,44      ,  1,33         ,33         ,2,20230803,0534, -33.6278,  99.3644,     4149,     73.7,2,  14.2997,2,  35.4232,2,  35.4231,2,    248.6,2,    249.0,2,     0.78,2,     2.23,2,     0.11,2,     0.34,2,     -999,9,     -999,9,     -999,9,   2106.5,2,   2333.8,2,   7.9034,2,    25.02,2,     -999,1,  14.2986,2,     -999,9,     -999,9,     -999,9,     -999,9,     -999,1,   4.9135,1,   0.0394,1,     -999,9,     -999,9,     -999,9,     -999,9,     -999,9,20230803,0718, -33.6278,  99.3644,-999          ,9,-999          ,9
33RR20230722  ,I05        ,44      ,  1,32         ,32         ,2,20230803,0534, -33.6278,  99.3644,     4149,    100.3,2,  14.1896,2,  35.4044,2,  35.4066,2,    248.2,2,    249.0,2,     0.78,2,     2.44,2,     0.11,2,     0.37,2,     -999,9,     -999,9,     -999,9,   2108.6,2,   2334.1,2,   7.8995,2,    25.02,2,     -999,1,  14.1959,2,     -999,9,     -999,9,     -999,9,     -999,9,     -999,1,   4.3660,1,   0.0372,1,     -999,9,     -999,9,     -999,9,     -999,9,     -999,9,20230803,0716, -33.6278,  99.3644,-999          ,9,-999          ,9
33RR20230722  ,I05        ,44      ,  1,31         ,31         ,2,20230803,0534, -33.6278,  99.3644,     4149,    108.6,2,  14.1907,2,  35.4059,2,     -999,9,    249.0,2,     -999,9,     -999,9,     -999,9,     -999,9,     -999,9,     -999,9,     -999,9,     -999,9,   -999.0,9,     -999,9,     -999,9,     -999,9,     -999,9,  14.1896,2,     -999,9,     -999,9,     -999,9,     -999,9,     -999,9,   4.9734,1,   0.0397,1,     -999,9,     -999,9,     -999,9,     -999,9,     -999,9,20230803,0715, -33.6278,  99.3644,-999          ,9,-999          ,1
33RR20230722  ,I05        ,44      ,  1,30         ,30         ,2,20230803,0534, -33.6278,  99.3644,     4149,    139.6,2,  13.3428,2,  35.3014,2,  35.3015,2,    233.0,3,    235.5,2,     1.56,2,     5.63,2,     0.02,2,     0.54,2,     -999,9,     -999,9,     -999,9,   2123.2,2,   2323.5,2,   7.8546,2,    25.02,2,     -999,1,  13.3480,2,     -999,9,     -999,9,     -999,9,     -999,9,     -999,1,   4.7427,1,   0.0146,1,     -999,9,     -999,9,     -999,9,     -999,9,     -999,9,20230803,0713, -33.6278,  99.3645,-999          ,9,-999          ,9
33RR20230722  ,I05        ,44      ,  1,29         ,29         ,2,20230803,0534, -33.6278,  99.3644,     4149,    159.1,2,  13.0254,2,  35.2502,2,  35.2503,2,    234.7,2,    236.4,2,     1.46,2,     6.18,2,     0.02,2,     0.59,2,    2.581,2,    1.633,2,   2.4100,2,   2125.7,2,   2322.5,6,   7.8493,2,    25.03,2,     -999,1,  13.0254,2,     -999,9,     -999,9,     -999,9,     -999,9,     -999,1,   4.9696,1,   0.0116,1,     10.9,2,     -999,9,     -999,9,     -999,9,     -999,9,20230803,0711, -33.6278,  99.3644,-999          ,9,-999          ,9
33RR20230722  ,I05        ,44      ,  1,28         ,28         ,2,20230803,0534, -33.6278,  99.3644,     4149,    202.1,2,  12.3611,2,  35.1259,2,  35.1240,2,    240.3,2,    240.9,2,     1.95,2,     7.58,2,     0.00,2,     0.65,2,     -999,9,     -999,9,     -999,9,   2127.0,2,   2310.6,2,   7.8324,2,    25.04,2,     -999,1,  12.3625,2,     -999,9,     -999,9,     -999,9,     -999,9,     -999,1,   4.8719,1,   0.0117,1,     -999,9,     -999,9,     -999,9,     -999,9,     -999,9,20230803,0710, -33.6278,  99.3644,-999          ,9,-999          ,9
33RR20230722  ,I05        ,44      ,  1,27         ,27         ,2,20230803,0534, -33.6278,  99.3644,     4149,    207.6,2,  12.3126,2,  35.1177,2,     -999,9,    240.3,2,     -999,9,     -999,9,     -999,9,     -999,9,     -999,9,     -999,9,     -999,9,     -999,9,   -999.0,9,     -999,9,     -999,9,     -999,9,     -999,9,  12.3021,2,     -999,9,     -999,9,     -999,9,     -999,9,     -999,9,   4.9696,1,   0.0116,1,     -999,9,     -999,9,     -999,9,     -999,9,     -999,9,20230803,0708, -33.6278,  99.3644,-999          ,9,-999          ,1
33RR20230722  ,I05        ,44      ,  1,26         ,26         ,2,20230803,0534, -33.6278,  99.3644,     4149,    220.2,2,  12.2063,2,  35.1002,2,  35.0996,2,    241.1,2,    241.9,2,     1.76,2,     7.85,2,     0.00,2,     0.68,2,     -999,9,     -999,9,     -999,9,   -999.0,9,     -999,9,     -999,9,     -999,9,     -999,1,  12.2012,2,     -999,9,     -999,9,     -999,9,     -999,9,     -999,1,   4.9695,1,   0.0114,1,     -999,9,     -999,9,     -999,9,     -999,9,     -999,9,20230803,0707, -33.6278,  99.3645,-999          ,9,-999          ,9
33RR20230722  ,I05        ,44      ,  1,25         ,25         ,2,20230803,0534, -33.6278,  99.3644,     4149,    262.3,2,  11.8072,2,  35.0344,2,  35.0384,2,    243.0,2,    242.9,2,     2.05,2,     8.78,2,     0.00,2,     0.74,2,     -999,9,     -999,9,     -999,9,   2126.6,2,   2307.8,2,   7.8195,6,    25.04,2,     -999,1,  11.8245,2,     -999,9,     -999,9,     -999,9,     -999,9,     -999,1,   4.9693,1,   0.0116,1,     -999,9,     -999,9,     -999,9,     -999,9,     -999,9,20230803,0705, -33.6277,  99.3645,-999          ,9,-999          ,9
33RR20230722  ,I05        ,44      ,  1,24         ,24         ,2,20230803,0534, -33.6278,  99.3644,     4149,    330.2,2,  11.1041,2,  34.9143,2,  34.9160,2,    242.3,2,    242.1,2,     2.54,2,    10.94,2,     0.00,2,     0.85,2,     -999,9,     -999,9,     -999,9,   2130.5,2,   2300.2,2,   7.7992,2,    25.01,2,     -999,1,  11.0960,2,     -999,9,     -999,9,     -999,9,     -999,9,     -999,1,   4.9684,1,   0.0115,1,     -999,9,     -999,9,     -999,9,     -999,9,     -999,9,20230803,0703, -33.6278,  99.3644,-999          ,9,-999          ,9
33RR20230722  ,I05        ,44      ,  1,23         ,23         ,2,20230803,0534, -33.6278,  99.3644,     4149,    364.4,2,  10.9495,2,  34.8884,2,  34.8877,2,    242.7,2,    242.5,2,     2.83,2,    11.31,2,     0.00,2,     0.88,2,    2.883,2,    1.807,2,   2.5100,2,   -999.0,9,     -999,9,     -999,9,     -999,9,     -999,1,  10.9478,2,     -999,9,     -999,9,     -999,9,     -999,9,     -999,1,   4.8494,1,   0.0112,1,     12.2,2,     -999,9,     -999,9,     -999,9,     -999,9,20230803,0701, -33.6278,  99.3644,-999          ,9,-999          ,9
33RR20230722  ,I05        ,44      ,  1,22         ,22         ,2,20230803,0534, -33.6278,  99.3644,     4149,    430.1,2,  10.4365,2,  34.8069,3,  34.8292,2,    243.9,2,    242.7,2,     2.93,2,    12.27,2,     0.00,2,     0.97,2,     -999,9,     -999,9,     -999,9,   2132.7,2,   2299.2,2,   7.7852,2,    25.02,2,     -999,1,  10.4338,2,     -999,9,     -999,9,     -999,9,     -999,9,     -999,1,   4.9677,1,   0.0113,1,     -999,9,     -999,9,     -999,9,     -999,9,     -999,9,20230803,0659, -33.6278,  99.3645,-999          ,9,-999          ,9
33RR20230722  ,I05        ,44      ,  1,21         ,21         ,2,20230803,0534, -33.6278,  99.3644,     4149,    508.0,2,  10.0362,2,  34.7591,2,  34.7581,2,    238.5,2,    237.7,2,     3.81,2,    14.36,2,     0.00,2,     1.06,2,     -999,9,     -999,9,     -999,9,   -999.0,9,     -999,9,     -999,9,     -999,9,     -999,1,  10.0445,2,     -999,9,     -999,9,     -999,9,     -999,9,     -999,1,   4.9407,1,   0.0115,1,     -999,9,     -999,9,     -999,9,     -999,9,     -999,9,20230803,0657, -33.6278,  99.3644,-999          ,9,-999          ,9
33RR20230722  ,I05        ,44      ,  1,20         ,20         ,2,20230803,0534, -33.6278,  99.3644,     4149,    588.3,2,   9.5575,2,  34.7017,2,  34.7009,2,    235.4,2,    235.8,2,     4.39,2,    15.91,2,     0.00,2,     1.19,2,     -999,9,     -999,9,     -999,9,   2142.2,2,   2290.1,2,   7.7513,2,    25.03,2,     -999,1,   9.5606,2,     -999,9,     -999,9,     -999,9,     -999,9,     -999,1,   4.8614,1,   0.0114,1,     -999,9,     -999,9,     -999,9,     -999,9,     -999,9,20230803,0655, -33.6278,  99.3644,-999          ,9,-999          ,9
33RR20230722  ,I05        ,44      ,  1,19         ,19         ,2,20230803,0534, -33.6278,  99.3644,     4149,    681.4,2,   9.0153,2,  34.6349,2,  34.6368,2,    228.9,2,    229.1,2,     5.76,2,    18.06,2,     0.00,2,     1.31,2,    3.134,2,    1.907,2,   1.9400,2,   2144.7,2,   2288.6,2,   7.7339,2,    25.03,2,     -999,1,   9.0213,2,     -999,9,     -999,9,     -999,9,     -999,9,     -999,1,   4.9666,1,   0.0114,1,     13.9,2,     -999,9,     -999,9,     -999,9,     -999,9,20230803,0652, -33.6278,  99.3644,-999          ,9,-999          ,9
33RR20230722  ,I05        ,44      ,  1,18         ,18         ,2,20230803,0534, -33.6278,  99.3644,     4149,    782.8,2,   7.9521,2,  34.5318,2,  34.5298,2,    208.9,2,    209.8,2,    10.83,2,    22.48,2,     0.00,2,     1.62,2,     -999,9,     -999,9,     -999,9,   2164.2,2,   2285.6,2,   7.6923,6,    25.02,2,     -999,1,   7.9808,2,     -999,9,     -999,9,     -999,9,     -999,9,     -999,1,   4.9682,1,   0.0112,1,     -999,9,     -999,9,     -999,9,     -999,9,     -999,9,20230803,0649, -33.6278,  99.3644,-999          ,9,-999          ,9
33RR20230722  ,I05        ,44      ,  1,17         ,17         ,2,20230803,0534, -33.6278,  99.3644,     4149,    939.6,2,   5.7224,2,  34.3861,2,  34.3866,2,    198.3,2,    198.9,2,    24.11,2,    28.42,2,     0.00,2,     2.01,2,     -999,9,     -999,9,     -999,9,   2189.6,2,   2292.1,2,   7.6285,2,    25.02,2,     -999,1,   5.7211,2,     -999,9,     -999,9,     -999,9,     -999,9,     -999,1,   4.9699,1,   0.0112,1,     -999,9,     -999,9,     -999,9,     -999,9,     -999,9,20230803,0645, -33.6278,  99.3644,-999          ,9,-999          ,9
33RR20230722  ,I05        ,44      ,  1,16         ,16         ,2,20230803,0534, -33.6278,  99.3644,     4149,   1013.9,2,   4.8794,2,  34.3662,2,     -999,9,    195.7,2,     -999,9,     -999,9,     -999,9,     -999,9,     -999,9,     -999,9,     -999,9,     -999,9,   -999.0,9,     -999,9,     -999,9,     -999,9,     -999,9,   4.9046,2,     -999,9,     -999,9,     -999,9,     -999,9,     -999,9,   4.9705,1,   0.0114,1,     -999,9,     -999,9,     -999,9,     -999,9,     -999,9,20230803,0643, -33.6278,  99.3644,-999          ,9,-999          ,1
33RR20230722  ,I05        ,44      ,  1,15         ,15         ,2,20230803,0534, -33.6278,  99.3644,     4149,   1110.6,2,   4.2473,2,  34.4043,2,  34.4014,2,    180.0,2,    180.8,2,    44.70,2,    32.18,2,     0.00,2,     2.31,2,     -999,9,     -999,9,     -999,9,   2221.5,2,   2308.0,2,   7.5904,2,    25.02,2,     -999,1,   4.2600,2,     -999,9,     -999,9,     -999,9,     -999,9,     -999,1,   4.9720,1,   0.0111,1,     -999,9,     -999,9,     -999,9,     -999,9,     -999,9,20230803,0640, -33.6278,  99.3644,-999          ,9,-999          ,9
33RR20230722  ,I05        ,44      ,  1,14         ,14         ,2,20230803,0534, -33.6278,  99.3644,     4149,   1226.5,2,   3.7842,2,  34.4596,2,  34.4673,3,    165.6,2,    165.5,2,    59.33,2,    33.80,2,     0.00,2,     2.44,2,    0.814,2,    0.417,2,   0.1400,2,   2241.3,2,   2322.0,2,   7.5721,2,    25.01,2,     -999,1,   3.7910,2,     -999,9,     -999,9,     -999,9,     -999,9,     -999,1,   4.9734,1,   0.0112,1,     23.0,2,     -999,9,     -999,9,     -999,9,     -999,9,20230803,0637, -33.6278,  99.3644,-999          ,9,-999          ,9
33RR20230722  ,I05        ,44      ,  1,13         ,13         ,2,20230803,0534, -33.6278,  99.3644,     4149,   1346.9,2,   3.5531,2,  34.5056,2,  34.5052,2,    156.9,2,    156.6,2,    68.21,2,    34.59,2,     0.00,2,     2.50,2,     -999,9,     -999,9,     -999,9,   2250.2,2,   2333.4,2,   7.5622,2,    25.02,2,     -999,1,   3.5548,2,     -999,9,     -999,9,     -999,9,     -999,9,     -999,1,   4.9742,1,   0.0111,1,     -999,9,     -999,9,     -999,9,     -999,9,     -999,9,20230803,0634, -33.6278,  99.3644,-999          ,9,-999          ,9
33RR20230722  ,I05        ,44      ,  1,12         ,12         ,2,20230803,0534, -33.6278,  99.3644,     4149,   1471.0,2,   3.2802,2,  34.5539,2,  34.5539,2,    153.1,2,    152.9,2,    75.14,2,    34.52,2,     0.00,2,     2.53,2,     -999,9,     -999,9,     -999,9,   2260.9,2,   2340.6,2,   7.5601,2,    25.02,2,     -999,1,   3.2827,2,     -999,9,     -999,9,     -999,9,     -999,9,     -999,1,   4.9746,1,   0.0112,1,     -999,9,     -999,9,     -999,9,     -999,9,     -999,9,20230803,0631, -33.6278,  99.3644,-999          ,9,-999          ,9
33RR20230722  ,I05        ,44      ,  1,11         ,11         ,2,20230803,0534, -33.6278,  99.3644,     4149,   1601.8,2,   3.0707,2,  34.5926,2,  34.5922,2,    153.4,2,    153.4,2,    80.11,2,    34.27,2,     0.00,2,     2.50,2,    0.150,2,    0.084,2,   0.0300,2,   2264.6,2,   2346.5,2,   7.5615,2,    25.03,2,     -999,1,   3.0704,2,     -999,9,     -999,9,     -999,9,     -999,9,     -999,1,   4.9747,1,   0.0120,1,     23.5,2,     -999,9,     -999,9,     -999,9,     -999,9,20230803,0628, -33.6278,  99.3644,-999          ,9,-999          ,9
33RR20230722  ,I05        ,44      ,  1,10         ,10         ,2,20230803,0534, -33.6278,  99.3644,     4149,   1786.4,2,   2.7831,2,  34.6452,2,  34.6439,2,    158.4,2,    158.6,2,    85.28,2,    33.75,2,     0.00,2,     2.47,2,    0.043,2,    0.046,2,  -0.0100,2,   2267.4,2,   2352.1,2,   7.5709,2,    25.01,2,     -999,1,   2.7838,2,     -999,9,     -999,9,     -999,9,     -999,9,     -999,1,   4.9461,1,   0.0116,1,     23.2,2,     -999,9,     -999,9,     -999,9,     -999,9,20230803,0624, -33.6278,  99.3644,-999          ,9,-999          ,9
33RR20230722  ,I05        ,44      ,  1,9          ,9          ,2,20230803,0534, -33.6278,  99.3644,     4149,   1955.1,2,   2.5868,2,  34.6781,2,  34.6783,2,    164.8,2,    164.7,2,    88.01,2,    33.13,2,     0.00,2,     2.38,2,     -999,9,     -999,9,     -999,9,   2267.7,2,   2355.8,6,   7.5802,2,    25.02,2,     -999,1,   2.5865,2,     -999,9,     -999,9,     -999,9,     -999,9,     -999,1,   4.9551,1,   0.0122,1,     -999,9,     -999,9,     -999,9,     -999,9,     -999,9,20230803,0620, -33.6278,  99.3644,-999          ,9,-999          ,9
33RR20230722  ,I05        ,44      ,  1,8          ,8          ,2,20230803,0534, -33.6278,  99.3644,     4149,   2186.9,2,   2.3454,2,  34.7100,2,  34.7097,2,    173.8,2,    173.7,2,    90.94,2,    32.33,2,     0.00,2,     2.34,2,     -999,9,     -999,9,     -999,9,   -999.0,9,     -999,9,     -999,9,     -999,9,     -999,1,   2.3457,2,     -999,9,     -999,9,     -999,9,     -999,9,     -999,1,   4.7730,1,   0.0111,1,     -999,9,     -999,9,     -999,9,     -999,9,     -999,9,20230803,0615, -33.6278,  99.3644,-999          ,9,-999          ,9
33RR20230722  ,I05        ,44      ,  1,7          ,7          ,2,20230803,0534, -33.6278,  99.3644,     4149,   2484.4,2,   2.0548,2,  34.7339,2,  34.7333,2,    186.4,2,    186.6,2,    91.91,2,    31.27,2,     0.00,2,     2.24,2,     -999,9,     -999,9,     -999,9,   2257.2,2,   2359.0,2,   7.6107,6,    25.02,2,     -999,1,   2.0557,2,     -999,9,     -999,9,     -999,9,     -999,9,     -999,1,   4.9190,1,   0.0111,1,     -999,9,     -999,9,     -999,9,     -999,9,     -999,9,20230803,0609, -33.6278,  99.3644,-999          ,9,-999          ,9
33RR20230722  ,I05        ,44      ,  1,6          ,6          ,2,20230803,0534, -33.6278,  99.3644,     4149,   2870.0,2,   1.7118,2,  34.7381,2,  34.7372,2,    194.9,2,    194.8,2,    98.74,2,    31.20,2,     0.00,2,     2.22,2,    0.035,2,    0.027,2,   0.0000,2,   -999.0,9,     -999,9,     -999,9,     -999,9,     -999,1,   1.7137,2,     -999,9,     -999,9,     -999,9,     -999,9,     -999,1,   4.9751,1,   0.0112,1,     18.8,2,     -999,9,     -999,9,     -999,9,     -999,9,20230803,0601, -33.6278,  99.3644,-999          ,9,-999          ,9
33RR20230722  ,I05        ,44      ,  1,5          ,5          ,2,20230803,0534, -33.6278,  99.3644,     4149,   3133.9,2,   1.5024,2,  34.7331,2,  34.7323,2,    198.7,2,    198.9,2,   103.13,2,    31.31,2,     0.00,2,     2.24,2,     -999,9,     -999,9,     -999,9,   2259.7,2,   2360.4,2,   7.6180,2,    25.03,2,     -999,1,   1.5024,2,     -999,9,     -999,9,     -999,9,     -999,9,     -999,1,   4.9752,1,   0.0111,1,     -999,9,     -999,9,     -999,9,     -999,9,     -999,9,20230803,0556, -33.6278,  99.3645,-999          ,9,-999          ,9
33RR20230722  ,I05        ,44      ,  1,4          ,37         ,2,20230803,0534, -33.6278,  99.3644,     4149,   3340.5,2,   1.3659,2,  34.7279,2,  34.7278,2,    200.5,2,    200.8,2,   108.98,2,    31.64,2,     0.00,2,     2.24,2,    0.051,2,    0.032,2,   0.0400,2,   2258.5,2,   2363.4,2,   7.6187,2,    25.02,2,     -999,1,   1.3660,2,     -999,9,     -999,9,     -999,9,     -999,9,     -999,1,   4.9754,1,   0.0111,1,     19.1,2,     -999,9,     -999,9,     -999,9,     -999,9,20230803,0552, -33.6278,  99.3644,-999          ,9,-999          ,9
33RR20230722  ,I05        ,44      ,  1,3          ,3          ,2,20230803,0534, -33.6278,  99.3644,     4149,   3712.5,2,   1.1889,2,  34.7196,2,  34.7189,2,    202.7,2,    203.0,2,   114.35,2,    31.87,2,     0.00,2,     2.27,2,    0.055,2,    0.039,2,   0.0600,2,   2264.7,2,   2367.5,2,   7.6208,6,    25.03,2,     -999,1,   1.1889,2,     -999,9,     -999,9,     -999,9,     -999,9,     -999,1,   4.9757,1,   0.0110,1,     19.2,2,     -999,9,     -999,9,     -999,9,     -999,9,20230803,0544, -33.6278,  99.3644,-999          ,9,-999          ,9