BOTTLE,20240422CCHHYDRO
EXPOCODE,SECT_ID,STNNBR,CASTNO,SAMPNO,BTLNBR,BTLNBR_FLAG_W,DATE,TIME,LATITUDE,LONGITUDE,DEPTH,CTDPRS,CTDPRS_FLAG_W,CTDTMP,CTDTMP_FLAG_W,CTDSAL,CTDSAL_FLAG_W,SALNTY,SALNTY_FLAG_W,CTDOXY,CTDOXY_FLAG_W,OXYGEN,OXYGEN_FLAG_W,SILCAT,SILCAT_FLAG_W,NITRAT,NITRAT_FLAG_W,NITRIT,NITRIT_FLAG_W,PHSPHT,PHSPHT_FLAG_W,CFC-11,CFC-11_FLAG_W,CFC-12,CFC-12_FLAG_W,SF6,SF6_FLAG_W,TCARBN,TCARBN_FLAG_W,ALKALI,ALKALI_FLAG_W,PH_TOT,PH_TOT_FLAG_W,PH_TMP,PH_TMP_FLAG_W,DOC,DOC_FLAG_W,REFTMP,REFTMP_FLAG_W,POC,POC_FLAG_W,PON,PON_FLAG_W,POP,POP_FLAG_W,DOP,DOP_FLAG_W,DELO18,DELO18_FLAG_W,CTDFLUOR,CTDFLUOR_FLAG_W,CTDXMISS,CTDXMISS_FLAG_W,N2O,N2O_FLAG_W,D15N_NO3,D15N_NO3_FLAG_W,D15N_NO2+NO3,D15N_NO2+NO3_FLAG_W,D18O_NO2+NO3,D18O_NO2+NO3_FLAG_W,D18O_NO3,D18O_NO3_FLAG_W,BTL_DATE,BTL_TIME,BTL_LAT,BTL_LON,HPLC,HPLC_FLAG_W,DNA,DNA_FLAG_W
,,,,,,,,,,,METERS,DBAR,,ITS-90,,PSS-78,,PSS-78,,UMOL/KG,,UMOL/KG,,UMOL/KG,,UMOL/KG,,UMOL/KG,,UMOL/KG,,PMOL/KG,,PMOL/KG,,FMOL/KG,,UMOL/KG,,UMOL/KG,,,,DEG C,,UMOL/KG,,ITS-90,,UG/KG,,UG/KG,,UG/L,,UMOL/KG,,/MILLE,,VOLTS,,VOLTS,,NMOL/KG,,/MILLE,,/MILLE,,/MILLE,,/MILLE,,,,,,,,,
33RR20230722  ,I05        ,29      ,  2,35         ,35         ,2,20230730,0320, -31.6062, 103.9099,     5199,      7.4,2,  18.5078,2,  35.7092,2,  35.7104,2,    234.6,3,    232.0,2,     1.85,2,     0.04,2,     0.00,2,     0.11,2,    2.171,2,    1.239,2,   2.0700,2,   2060.6,2,   2341.2,2,   7.9918,2,    25.00,2,     -999,9,  18.5110,2,     -999,9,     -999,9,     -999,9,     -999,9,     -999,1,   4.7643,1,   0.0155,1,      6.8,2,     -999,9,     -999,9,     -999,9,     -999,9,20230730,0527, -31.6062, 103.9099,-999          ,9,-999          ,9
33RR20230722  ,I05        ,29      ,  2,34         ,34         ,2,20230730,0320, -31.6062, 103.9099,     5199,     68.4,2,  17.8473,2,  35.8163,2,  35.8147,2,    234.4,2,    233.3,2,     1.75,2,     0.00,2,     0.01,2,     0.12,2,     -999,9,     -999,9,     -999,9,   -999.0,9,     -999,9,     -999,9,     -999,9,     -999,9,  17.8456,2,     -999,9,     -999,9,     -999,9,     -999,9,     -999,1,   4.9746,1,   0.0337,1,     -999,9,     -999,9,     -999,9,     -999,9,     -999,9,20230730,0522, -31.6062, 103.9099,-999          ,9,-999          ,9
33RR20230722  ,I05        ,29      ,  2,33         ,33         ,2,20230730,0320, -31.6062, 103.9099,     5199,     97.2,2,  17.4075,2,  35.7931,2,  35.7938,2,    228.5,2,    228.7,2,     1.66,2,     0.49,2,     0.08,2,     0.16,2,    2.253,2,    1.342,2,   2.2800,2,   2090.4,2,   2350.1,2,   7.9558,2,    24.98,2,     -999,9,  17.4296,2,     -999,9,     -999,9,     -999,9,     -999,9,     -999,1,   4.9163,1,   0.0204,1,      7.4,2,     -999,9,     -999,9,     -999,9,     -999,9,20230730,0520, -31.6062, 103.9099,-999          ,9,-999          ,9
33RR20230722  ,I05        ,29      ,  2,32         ,32         ,2,20230730,0320, -31.6062, 103.9099,     5199,    125.0,2,  16.3969,2,  35.6947,2,  35.6950,2,    227.9,2,    228.7,2,     1.46,2,     1.24,2,     0.10,2,     0.22,2,    2.257,2,    1.385,2,   2.2500,2,   -999.0,9,     -999,9,     -999,9,     -999,9,     -999,9,  16.3801,2,     -999,9,     -999,9,     -999,9,     -999,9,     -999,1,   4.9715,1,   0.0131,1,      8.2,2,     -999,9,     -999,9,     -999,9,     -999,9,20230730,0518, -31.6062, 103.9099,-999          ,9,-999          ,9
33RR20230722  ,I05        ,29      ,  2,31         ,31         ,2,20230730,0320, -31.6062, 103.9099,     5199,    157.2,2,  15.0903,2,  35.5525,2,  35.5527,2,    227.7,2,    228.2,2,     1.46,2,     3.10,2,     0.02,2,     0.34,2,     -999,9,     -999,9,     -999,9,   2111.5,2,   2336.2,2,   7.8943,2,    25.01,2,     -999,9,  15.0904,2,     -999,9,     -999,9,     -999,9,     -999,9,     -999,1,   4.9705,1,   0.0127,1,     -999,9,     -999,9,     -999,9,     -999,9,     -999,9,20230730,0517, -31.6062, 103.9099,-999          ,9,-999          ,9
33RR20230722  ,I05        ,29      ,  2,30         ,30         ,2,20230730,0320, -31.6062, 103.9099,     5199,    174.8,2,  14.6539,2,  35.4945,2,  35.4933,2,    226.6,2,    227.6,2,     1.37,2,     3.90,2,     0.01,2,     0.40,2,    2.323,2,    1.534,2,   2.4200,2,   -999.0,9,     -999,9,     -999,9,     -999,9,     -999,9,  14.6445,2,     -999,9,     -999,9,     -999,9,     -999,9,     -999,1,   4.9696,1,   0.0117,1,      8.4,2,     -999,9,     -999,9,     -999,9,     -999,9,20230730,0515, -31.6062, 103.9099,-999          ,9,-999          ,9
33RR20230722  ,I05        ,29      ,  2,29         ,29         ,2,20230730,0320, -31.6062, 103.9099,     5199,    194.3,2,  14.2102,2,  35.4259,2,  35.4273,2,    227.7,2,    229.4,2,     1.46,2,     4.60,2,     0.01,2,     0.45,2,    2.413,2,    1.545,2,   2.2900,2,   2115.7,2,   2329.1,2,   7.8741,2,    25.01,2,     -999,9,  14.2059,2,     -999,9,     -999,9,     -999,9,     -999,9,     -999,1,   4.9694,1,   0.0117,1,      9.4,2,     -999,9,     -999,9,     -999,9,     -999,9,20230730,0514, -31.6062, 103.9099,-999          ,9,-999          ,9
33RR20230722  ,I05        ,29      ,  2,28         ,28         ,2,20230730,0320, -31.6062, 103.9099,     5199,    237.5,2,  13.2280,2,  35.2682,2,  35.2722,2,    232.8,2,    233.2,2,     1.66,2,     6.10,2,     0.00,2,     0.54,2,     -999,9,     -999,9,     -999,9,   -999.0,9,     -999,9,     -999,9,     -999,9,     -999,9,  13.2721,2,     -999,9,     -999,9,     -999,9,     -999,9,     -999,1,   4.8741,1,   0.0117,1,     -999,9,     -999,9,     -999,9,     -999,9,     -999,9,20230730,0512, -31.6062, 103.9099,-999          ,9,-999          ,9
33RR20230722  ,I05        ,29      ,  2,27         ,27         ,2,20230730,0320, -31.6062, 103.9099,     5199,    279.1,2,  12.1810,2,  35.0809,2,  35.0817,2,    236.1,2,    236.0,2,     1.76,2,     8.27,2,     0.00,2,     0.66,2,    2.650,2,    1.703,2,   2.5400,2,   2122.3,2,   2310.6,2,   7.8275,2,    24.98,2,     -999,9,  12.1596,2,     -999,9,     -999,9,     -999,9,     -999,9,     -999,1,   4.9117,1,   0.0115,1,     10.7,2,     -999,9,     -999,9,     -999,9,     -999,9,20230730,0510, -31.6062, 103.9099,-999          ,9,-999          ,9
33RR20230722  ,I05        ,29      ,  2,26         ,26         ,2,20230730,0320, -31.6062, 103.9099,     5199,    308.3,2,  11.7495,2,  35.0135,2,  35.0142,2,    239.4,2,    238.9,2,     2.15,2,     9.08,2,     0.00,2,     0.71,2,    2.640,2,    1.737,2,   2.4900,2,   -999.0,9,     -999,9,     -999,9,     -999,9,     -999,9,  11.7501,2,     -999,9,     -999,9,     -999,9,     -999,9,     -999,1,   4.9304,1,   0.0115,1,     10.4,2,     -999,9,     -999,9,     -999,9,     -999,9,20230730,0508, -31.6062, 103.9099,-999          ,9,-999          ,9
33RR20230722  ,I05        ,29      ,  2,25         ,25         ,2,20230730,0320, -31.6062, 103.9099,     5199,    372.3,2,  10.9637,2,  34.8874,2,  34.8886,2,    242.6,2,    241.6,2,     2.73,2,    11.10,2,     0.00,2,     0.85,2,     -999,9,     -999,9,     -999,9,   2127.5,2,   2300.5,2,   7.7979,2,    24.98,2,     -999,9,  10.9422,2,     -999,9,     -999,9,     -999,9,     -999,9,     -999,1,   4.9682,1,   0.0113,1,     -999,9,     -999,9,     -999,9,     -999,9,     -999,9,20230730,0506, -31.6062, 103.9099,-999          ,9,-999          ,9
33RR20230722  ,I05        ,29      ,  2,24         ,24         ,2,20230730,0320, -31.6062, 103.9099,     5199,    414.7,2,  10.4697,2,  34.8155,2,  34.8171,2,    241.2,2,    240.5,2,     3.02,2,    12.72,2,     0.00,2,     0.92,2,    2.889,2,    1.853,2,   2.4900,2,   -999.0,9,     -999,9,     -999,9,     -999,9,     -999,9,  10.4680,2,     -999,9,     -999,9,     -999,9,     -999,9,     -999,1,   4.9675,1,   0.0115,1,     11.7,2,     -999,9,     -999,9,     -999,9,     -999,9,20230730,0504, -31.6062, 103.9099,-999          ,9,-999          ,9
33RR20230722  ,I05        ,29      ,  2,23         ,23         ,2,20230730,0320, -31.6062, 103.9099,     5199,    489.7,2,   9.9090,2,  34.7463,2,  34.7484,2,    238.2,2,    237.4,2,     3.81,2,    14.73,2,     0.00,2,     1.07,2,     -999,9,     -999,9,     -999,9,   2137.5,2,   2292.8,2,   7.7592,2,    24.99,2,     -999,9,   9.9101,2,     -999,9,     -999,9,     -999,9,     -999,9,     -999,1,   4.9670,1,   0.0115,1,     -999,9,     -999,9,     -999,9,     -999,9,     -999,9,20230730,0502, -31.6062, 103.9099,-999          ,9,-999          ,9
33RR20230722  ,I05        ,29      ,  2,22         ,22         ,2,20230730,0320, -31.6062, 103.9099,     5199,    537.0,2,   9.6888,2,  34.7199,2,  34.7239,2,    237.2,2,    236.8,2,     4.20,2,    15.61,2,     0.00,2,     1.12,2,    3.050,2,    1.932,2,   2.3900,2,   -999.0,9,     -999,9,     -999,9,     -999,9,     -999,9,   9.6767,2,     -999,9,     -999,9,     -999,9,     -999,9,     -999,1,   4.9304,1,   0.0115,1,     12.6,2,     -999,9,     -999,9,     -999,9,     -999,9,20230730,0500, -31.6062, 103.9099,-999          ,9,-999          ,9
33RR20230722  ,I05        ,29      ,  2,21         ,21         ,2,20230730,0320, -31.6062, 103.9099,     5199,    637.5,2,   9.1194,2,  34.6490,2,  34.6494,2,    234.3,2,    234.3,2,     5.07,2,    17.51,2,     0.00,2,     1.23,2,     -999,9,     -999,9,     -999,9,   -999.0,9,     -999,9,     -999,9,     -999,9,     -999,9,   9.1170,2,     -999,9,     -999,9,     -999,9,     -999,9,     -999,1,   4.9534,1,   0.0114,1,     -999,9,     -999,9,     -999,9,     -999,9,     -999,9,20230730,0458, -31.6062, 103.9099,-999          ,9,-999          ,9
33RR20230722  ,I05        ,29      ,  2,20         ,20         ,2,20230730,0320, -31.6062, 103.9099,     5199,    748.6,2,   7.9217,2,  34.5248,2,  34.5260,2,    211.7,2,    212.7,2,    10.54,2,    22.42,2,     0.00,2,     1.52,2,    2.805,2,    1.688,2,   1.4500,2,   -999.0,9,     -999,9,     -999,9,     -999,9,     -999,9,   7.9119,2,     -999,9,     -999,9,     -999,9,     -999,9,     -999,1,   4.8581,1,   0.0113,1,     14.7,2,     -999,9,     -999,9,     -999,9,     -999,9,20230730,0455, -31.6062, 103.9099,-999          ,9,-999          ,9
33RR20230722  ,I05        ,29      ,  2,19         ,19         ,2,20230730,0320, -31.6062, 103.9099,     5199,    813.9,2,   6.9855,2,  34.4594,2,  34.4610,2,    200.4,2,    201.2,2,    16.10,2,    25.64,2,     0.00,2,     1.76,2,    2.479,2,    1.450,2,   1.0900,2,   2168.1,2,   2287.0,2,   7.6608,2,    24.98,2,     -999,9,   6.9928,2,     -999,9,     -999,9,     -999,9,     -999,9,     -999,1,   4.9690,1,   0.0112,1,     16.5,2,     -999,9,     -999,9,     -999,9,     -999,9,20230730,0453, -31.6062, 103.9099,-999          ,9,-999          ,9
33RR20230722  ,I05        ,29      ,  2,18         ,18         ,2,20230730,0320, -31.6062, 103.9099,     5199,    939.2,2,   5.1160,2,  34.3747,2,  34.3753,2,    194.0,2,    194.5,2,    29.77,2,    30.08,2,     0.00,2,     2.06,2,    1.957,2,    1.083,2,   0.6500,2,   -999.0,9,     -999,9,     -999,9,     -999,9,     -999,9,   5.1271,2,     -999,9,     -999,9,     -999,9,     -999,9,     -999,1,   4.7792,1,   0.0113,1,     19.0,2,     -999,9,     -999,9,     -999,9,     -999,9,20230730,0450, -31.6062, 103.9099,-999          ,9,-999          ,9
33RR20230722  ,I05        ,29      ,  2,17         ,17         ,2,20230730,0320, -31.6062, 103.9099,     5199,   1064.9,2,   4.1584,2,  34.4213,2,  34.4208,2,    173.6,2,    174.2,2,    50.16,2,    32.99,2,     0.00,2,     2.29,2,     -999,9,     -999,9,     -999,9,   -999.0,9,     -999,9,     -999,9,     -999,9,     -999,9,   4.1521,2,     -999,9,     -999,9,     -999,9,     -999,9,     -999,1,   4.9736,1,   0.0112,1,     -999,9,     -999,9,     -999,9,     -999,9,     -999,9,20230730,0446, -31.6062, 103.9099,-999          ,9,-999          ,9
33RR20230722  ,I05        ,29      ,  2,16         ,16         ,2,20230730,0320, -31.6062, 103.9099,     5199,   1136.1,2,   3.8978,2,  34.4559,2,  34.4563,2,    164.6,2,    164.7,2,    57.48,2,    33.89,2,     0.00,2,     2.35,2,    0.852,2,    0.445,2,   0.1300,2,   -999.0,9,     -999,9,     -999,9,     -999,9,     -999,9,   3.9016,2,     -999,9,     -999,9,     -999,9,     -999,9,     -999,1,   4.9733,1,   0.0111,1,     22.8,2,     -999,9,     -999,9,     -999,9,     -999,9,20230730,0444, -31.6062, 103.9099,-999          ,9,-999          ,9
33RR20230722  ,I05        ,29      ,  2,15         ,15         ,2,20230730,0320, -31.6062, 103.9099,     5199,   1267.0,2,   3.5568,2,  34.5105,2,  34.5109,2,    154.8,2,    154.6,2,    68.61,2,    34.80,2,     0.00,2,     2.40,2,     -999,9,     -999,9,     -999,9,   2250.4,2,   2332.1,2,   7.5604,6,    24.98,2,     -999,9,   3.5610,2,     -999,9,     -999,9,     -999,9,     -999,9,     -999,1,   4.9742,1,   0.0115,1,     -999,9,     -999,9,     -999,9,     -999,9,     -999,9,20230730,0441, -31.6062, 103.9099,-999          ,9,-999          ,9
33RR20230722  ,I05        ,29      ,  2,14         ,14         ,2,20230730,0320, -31.6062, 103.9099,     5199,   1405.7,2,   3.2874,2,  34.5625,2,  34.5633,2,    149.7,2,    149.4,2,    77.58,2,    35.06,2,     0.00,2,     2.44,2,    0.213,6,    0.111,6,   0.0100,6,   2261.8,6,   2339.9,2,   7.5563,2,    24.98,2,     -999,9,   3.2859,2,     -999,9,     -999,9,     -999,9,     -999,9,     -999,1,   4.9748,1,   0.0112,1,     23.6,6,     -999,9,     -999,9,     -999,9,     -999,9,20230730,0437, -31.6062, 103.9099,-999          ,9,-999          ,9
33RR20230722  ,I05        ,29      ,  2,13         ,13         ,2,20230730,0320, -31.6062, 103.9099,     5199,   1491.2,2,   3.1582,2,  34.5928,2,  34.5926,2,    148.6,2,    148.1,2,    82.46,2,    35.04,2,     0.00,2,     2.45,2,    0.125,2,    0.069,2,   0.0000,2,   -999.0,9,     -999,9,     -999,9,     -999,9,     -999,9,   3.1586,2,     -999,9,     -999,9,     -999,9,     -999,9,     -999,1,   4.9749,1,   0.0111,1,     23.5,2,     -999,9,     -999,9,     -999,9,     -999,9,20230730,0435, -31.6062, 103.9099,-999          ,9,-999          ,9
33RR20230722  ,I05        ,29      ,  2,12         ,12         ,2,20230730,0320, -31.6062, 103.9099,     5199,   1629.2,2,   2.9418,2,  34.6290,2,  34.6297,2,    150.7,2,    150.3,2,    86.65,2,    34.57,2,     0.00,2,     2.43,2,    0.030,2,    0.035,2,   0.0000,2,   -999.0,9,     -999,9,     -999,9,     -999,9,     -999,9,   2.9417,2,     -999,9,     -999,9,     -999,9,     -999,9,     -999,1,   4.6158,1,   0.0117,1,     22.8,2,     -999,9,     -999,9,     -999,9,     -999,9,20230730,0431, -31.6062, 103.9099,-999          ,9,-999          ,9
33RR20230722  ,I05        ,29      ,  2,11         ,11         ,2,20230730,0320, -31.6062, 103.9099,     5199,   1863.9,2,   2.6706,2,  34.6801,2,  34.6802,2,    153.3,2,    153.3,2,    97.19,2,    34.08,2,     0.00,2,     2.41,2,     -999,9,     -999,9,     -999,9,   2274.1,2,   2365.5,2,   7.5726,6,    25.00,2,     -999,9,   2.6721,2,     -999,9,     -999,9,     -999,9,     -999,9,     -999,1,   4.9387,1,   0.0117,1,     -999,9,     -999,9,     -999,9,     -999,9,     -999,9,20230730,0427, -31.6062, 103.9099,-999          ,9,-999          ,9
33RR20230722  ,I05        ,29      ,  2,10         ,10         ,2,20230730,0320, -31.6062, 103.9099,     5199,   2003.8,2,   2.4854,2,  34.6987,2,  34.6985,2,    158.4,2,    158.7,2,    98.75,2,    33.65,2,     0.00,2,     2.34,2,    0.004,2,    0.010,2,   0.0300,2,   -999.0,9,     -999,9,     -999,9,     -999,9,     -999,9,   2.4883,2,     -999,9,     -999,9,     -999,9,     -999,9,     -999,1,   4.9570,1,   0.0114,1,     22.4,2,     -999,9,     -999,9,     -999,9,     -999,9,20230730,0423, -31.6062, 103.9099,-999          ,9,-999          ,9
33RR20230722  ,I05        ,29      ,  2,9          ,9          ,2,20230730,0320, -31.6062, 103.9099,     5199,   2374.0,2,   2.1637,2,  34.7211,2,  34.7217,2,    169.7,2,    169.7,2,   103.23,2,    32.81,2,     0.00,2,     2.28,2,    0.003,2,    0.010,2,   0.0000,2,   2273.6,2,   2372.0,6,   7.5940,2,    24.98,2,     -999,9,   2.1642,2,     -999,9,     -999,9,     -999,9,     -999,9,     -999,1,   4.9754,1,   0.0118,1,     20.7,2,     -999,9,     -999,9,     -999,9,     -999,9,20230730,0416, -31.6062, 103.9099,-999          ,9,-999          ,9
33RR20230722  ,I05        ,29      ,  2,8          ,8          ,2,20230730,0320, -31.6062, 103.9099,     5199,   2742.3,2,   1.8503,2,  34.7289,2,  34.7296,2,    179.7,2,    180.1,2,   107.62,2,    32.50,2,     0.00,2,     2.25,2,     -999,9,     -999,9,     -999,9,   -999.0,9,     -999,9,     -999,9,     -999,9,     -999,9,   1.8530,2,     -999,9,     -999,9,     -999,9,     -999,9,     -999,1,   4.9756,1,   0.0119,1,     -999,9,     -999,9,     -999,9,     -999,9,     -999,9,20230730,0409, -31.6062, 103.9099,-999          ,9,-999          ,9
33RR20230722  ,I05        ,29      ,  2,7          ,7          ,2,20230730,0320, -31.6062, 103.9099,     5199,   3129.2,2,   1.5673,2,  34.7340,2,  34.7345,2,    197.5,2,    198.0,2,   103.72,2,    31.08,2,     0.00,2,     2.17,2,    0.014,2,    0.026,2,   0.0000,2,   2253.9,2,   2361.0,6,   7.6173,2,    24.98,2,     -999,9,   1.5674,2,     -999,9,     -999,9,     -999,9,     -999,9,     -999,1,   4.9754,1,   0.0113,1,     18.4,2,     -999,9,     -999,9,     -999,9,     -999,9,20230730,0402, -31.6062, 103.9099,-999          ,9,-999          ,9
33RR20230722  ,I05        ,29      ,  2,6          ,6          ,2,20230730,0320, -31.6062, 103.9099,     5199,   3534.1,2,   1.2974,2,  34.7244,2,  34.7250,2,    201.9,2,    201.8,2,   110.94,2,    31.50,2,     0.00,2,     2.17,2,     -999,9,     -999,9,     -999,9,   -999.0,9,     -999,9,     -999,9,     -999,9,     -999,9,   1.2979,2,     -999,9,     -999,9,     -999,9,     -999,9,     -999,1,   4.9757,1,   0.0111,1,     -999,9,     -999,9,     -999,9,     -999,9,     -999,9,20230730,0354, -31.6062, 103.9099,-999          ,9,-999          ,9
33RR20230722  ,I05        ,29      ,  2,5          ,5          ,2,20230730,0320, -31.6062, 103.9099,     5199,   3913.0,2,   1.1317,2,  34.7158,2,  34.7164,2,    204.2,2,    204.1,2,   116.50,2,    31.79,2,     0.00,2,     2.18,2,    0.045,2,    0.042,2,   0.0000,2,   2261.5,2,   2370.2,2,   7.6206,2,    24.99,2,     -999,9,   1.1319,2,     -999,9,     -999,9,     -999,9,     -999,9,     -999,1,   4.9761,1,   0.0112,1,     17.7,2,     -999,9,     -999,9,     -999,9,     -999,9,20230730,0347, -31.6062, 103.9099,-999          ,9,-999          ,9
33RR20230722  ,I05        ,29      ,  2,4          ,37         ,2,20230730,0320, -31.6062, 103.9099,     5199,   4246.0,2,   1.0461,2,  34.7106,2,  34.7115,2,    205.4,2,    205.4,2,   120.02,2,    32.14,2,     0.00,2,     2.20,2,    0.098,2,    0.057,2,   0.0300,2,   -999.0,9,     -999,9,     -999,9,     -999,9,     -999,9,   1.0469,2,     -999,9,     -999,9,     -999,9,     -999,9,     -999,1,   4.9763,1,   0.0112,1,     18.7,2,     -999,9,     -999,9,     -999,9,     -999,9,20230730,0340, -31.6062, 103.9099,-999          ,9,-999          ,9
33RR20230722  ,I05        ,29      ,  2,3          ,3          ,2,20230730,0320, -31.6062, 103.9099,     5199,   4868.3,2,   1.0188,2,  34.7058,2,  34.7060,2,    206.8,2,    207.0,2,   121.29,2,    32.00,2,     0.00,2,     2.22,2,     -999,5,     -999,5,     -999,5,   2265.0,2,   2370.8,2,   7.6176,2,    25.00,2,     -999,9,   1.0189,2,     -999,9,     -999,9,     -999,9,     -999,9,     -999,1,   4.9766,1,   0.0112,1,     -999,5,     -999,9,     -999,9,     -999,9,     -999,9,20230730,0329, -31.6062, 103.9099,-999          ,9,-999          ,9
33RR20230722  ,I05        ,29      ,  2,2          ,2          ,2,20230730,0320, -31.6062, 103.9099,     5199,   5091.7,2,   1.0337,2,  34.7048,2,  34.7060,2,    207.1,2,    207.1,2,   121.68,2,    32.00,2,     0.00,2,     2.21,2,     -999,9,     -999,9,     -999,9,   -999.0,9,     -999,9,     -999,9,     -999,9,     -999,9,   1.0335,2,     -999,9,     -999,9,     -999,9,     -999,9,     -999,1,   4.6048,1,   0.0111,1,     -999,9,     -999,9,     -999,9,     -999,9,     -999,9,20230730,0324, -31.6062, 103.9099,-999          ,9,-999          ,9