BOTTLE,20240422CCHHYDRO
EXPOCODE,SECT_ID,STNNBR,CASTNO,SAMPNO,BTLNBR,BTLNBR_FLAG_W,DATE,TIME,LATITUDE,LONGITUDE,DEPTH,CTDPRS,CTDPRS_FLAG_W,CTDTMP,CTDTMP_FLAG_W,CTDSAL,CTDSAL_FLAG_W,SALNTY,SALNTY_FLAG_W,CTDOXY,CTDOXY_FLAG_W,OXYGEN,OXYGEN_FLAG_W,SILCAT,SILCAT_FLAG_W,NITRAT,NITRAT_FLAG_W,NITRIT,NITRIT_FLAG_W,PHSPHT,PHSPHT_FLAG_W,CFC-11,CFC-11_FLAG_W,CFC-12,CFC-12_FLAG_W,SF6,SF6_FLAG_W,TCARBN,TCARBN_FLAG_W,ALKALI,ALKALI_FLAG_W,PH_TOT,PH_TOT_FLAG_W,PH_TMP,PH_TMP_FLAG_W,DOC,DOC_FLAG_W,REFTMP,REFTMP_FLAG_W,POC,POC_FLAG_W,PON,PON_FLAG_W,POP,POP_FLAG_W,DOP,DOP_FLAG_W,DELO18,DELO18_FLAG_W,CTDFLUOR,CTDFLUOR_FLAG_W,CTDXMISS,CTDXMISS_FLAG_W,N2O,N2O_FLAG_W,D15N_NO3,D15N_NO3_FLAG_W,D15N_NO2+NO3,D15N_NO2+NO3_FLAG_W,D18O_NO2+NO3,D18O_NO2+NO3_FLAG_W,D18O_NO3,D18O_NO3_FLAG_W,BTL_DATE,BTL_TIME,BTL_LAT,BTL_LON,HPLC,HPLC_FLAG_W,DNA,DNA_FLAG_W
,,,,,,,,,,,METERS,DBAR,,ITS-90,,PSS-78,,PSS-78,,UMOL/KG,,UMOL/KG,,UMOL/KG,,UMOL/KG,,UMOL/KG,,UMOL/KG,,PMOL/KG,,PMOL/KG,,FMOL/KG,,UMOL/KG,,UMOL/KG,,,,DEG C,,UMOL/KG,,ITS-90,,UG/KG,,UG/KG,,UG/L,,UMOL/KG,,/MILLE,,VOLTS,,VOLTS,,NMOL/KG,,/MILLE,,/MILLE,,/MILLE,,/MILLE,,,,,,,,,
33RR20230722  ,I05        ,90      ,  1,35         ,35         ,2,20230814,1219, -31.9998,  76.0032,     3407,      3.7,2,  18.5336,2,  35.7992,2,  35.7987,2,    233.6,2,    233.7,2,     1.17,2,     0.08,2,     0.00,2,     0.10,2,    1.846,2,    1.373,2,   2.1400,2,   2073.5,6,   2347.8,2,   7.9825,2,    25.00,2,     -999,1,  18.5300,2,     -999,9,     -999,9,     -999,9,     -999,9,     -999,1,   4.7675,1,   0.0153,1,      7.8,2,     -999,1,     -999,1,     -999,1,     -999,1,20230814,1358, -31.9998,  76.0032,-999          ,9,-999          ,9
33RR20230722  ,I05        ,90      ,  1,34         ,34         ,2,20230814,1219, -31.9998,  76.0032,     3407,     17.1,2,  18.5239,2,  35.7976,2,  35.7979,2,    233.6,2,    233.7,2,     1.07,2,     0.03,2,     0.00,2,     0.10,2,     -999,9,     -999,9,     -999,9,   2075.1,2,   2349.0,2,   7.9821,6,    25.01,2,     -999,1,  18.5225,2,     -999,9,     -999,9,     -999,9,     -999,9,     -999,1,   4.9751,1,   0.0153,1,     -999,9,     -999,1,     -999,1,     -999,1,     -999,1,20230814,1357, -31.9998,  76.0032,-999          ,9,-999          ,9
33RR20230722  ,I05        ,90      ,  1,33         ,33         ,2,20230814,1219, -31.9998,  76.0032,     3407,     31.3,2,  18.5033,2,  35.7948,2,  35.7949,2,    233.6,2,    233.6,2,     1.07,2,     0.01,2,     0.00,2,     0.09,2,    1.802,3,    1.274,2,   2.2500,2,   2075.9,2,   2349.3,2,   7.9815,2,    25.02,2,     -999,1,  18.5041,2,     -999,9,     -999,9,     -999,9,     -999,9,     -999,1,   4.9748,1,   0.0172,1,      7.8,2,     -999,1,     -999,1,     -999,1,     -999,1,20230814,1355, -31.9998,  76.0031,-999          ,9,-999          ,9
33RR20230722  ,I05        ,90      ,  1,32         ,32         ,2,20230814,1219, -31.9998,  76.0032,     3407,     52.7,2,  18.4737,2,  35.7903,2,  35.7924,2,    233.6,2,    233.9,2,     1.07,2,     0.01,2,     0.00,2,     0.09,2,     -999,9,     -999,9,     -999,9,   2076.0,2,   2348.7,2,   7.9795,2,    25.02,2,     -999,1,  18.4776,2,     -999,9,     -999,9,     -999,9,     -999,9,     -999,1,   4.9642,1,   0.0175,1,     -999,9,     -999,1,     -999,1,     -999,1,     -999,1,20230814,1353, -31.9998,  76.0032,-999          ,9,-999          ,9
33RR20230722  ,I05        ,90      ,  1,31         ,31         ,2,20230814,1219, -31.9998,  76.0032,     3407,     72.1,2,  17.2733,2,  35.6001,2,  35.6050,2,    241.2,2,    240.0,2,     0.88,2,     0.00,2,     0.00,2,     0.14,2,    2.112,2,    1.346,2,   2.4200,2,   2080.2,2,   2338.3,2,   7.9597,2,    24.99,2,     -999,1,  17.3495,2,     -999,9,     -999,9,     -999,9,     -999,9,     -999,1,   4.9748,1,   0.0407,1,      8.1,2,     -999,1,     -999,1,     -999,1,     -999,1,20230814,1351, -31.9998,  76.0031,-999          ,9,-999          ,9
33RR20230722  ,I05        ,90      ,  1,30         ,30         ,2,20230814,1219, -31.9998,  76.0032,     3407,     97.2,2,  16.7040,2,  35.5045,2,  35.5079,2,    244.1,2,    242.7,2,     0.78,2,     0.01,2,     0.01,2,     0.14,2,     -999,9,     -999,9,     -999,9,   2079.9,2,   2332.5,2,   7.9510,2,    25.00,2,     -999,1,  16.7025,2,     -999,9,     -999,9,     -999,9,     -999,9,     -999,1,   4.9553,1,   0.0485,1,     -999,9,     -999,1,     -999,1,     -999,1,     -999,1,20230814,1349, -31.9998,  76.0031,-999          ,9,-999          ,9
33RR20230722  ,I05        ,90      ,  1,29         ,29         ,2,20230814,1219, -31.9998,  76.0032,     3407,    128.2,2,  16.2952,2,  35.4244,2,  35.4285,2,    244.0,2,    243.4,2,     0.78,2,     0.19,2,     0.02,2,     0.18,2,     -999,9,     -999,9,     -999,9,   2083.3,2,   2329.0,2,   7.9442,2,    24.99,2,     -999,1,  16.3075,2,     -999,9,     -999,9,     -999,9,     -999,9,     -999,1,   4.9427,1,   0.0350,1,     -999,9,     -999,1,     -999,1,     -999,1,     -999,1,20230814,1347, -31.9998,  76.0031,-999          ,9,-999          ,9
33RR20230722  ,I05        ,90      ,  1,28         ,28         ,2,20230814,1219, -31.9998,  76.0032,     3407,    161.4,2,  15.4186,2,  35.5040,2,  35.4880,2,    235.9,2,    236.9,2,     0.98,2,     1.23,2,     0.17,2,     0.28,2,    2.271,2,    1.500,2,   2.3800,2,   2104.2,2,   2333.0,6,   7.9047,2,    25.00,2,     -999,1,  15.4489,2,     -999,9,     -999,9,     -999,9,     -999,9,     -999,1,   4.9348,1,   0.0266,1,      9.5,2,     -999,1,     -999,1,     -999,1,     -999,1,20230814,1345, -31.9998,  76.0031,-999          ,9,-999          ,9
33RR20230722  ,I05        ,90      ,  1,27         ,27         ,2,20230814,1219, -31.9998,  76.0032,     3407,    191.4,2,  14.0553,2,  35.3386,2,  35.3415,2,    230.0,2,    231.6,2,     1.56,2,     4.69,2,     0.01,2,     0.46,2,     -999,9,     -999,9,     -999,9,   2116.1,2,   2322.7,2,   7.8631,2,    25.00,2,     -999,1,  14.0450,2,     -999,9,     -999,9,     -999,9,     -999,9,     -999,1,   4.9695,1,   0.0142,1,     -999,9,     -999,1,     -999,1,     -999,1,     -999,1,20230814,1343, -31.9998,  76.0031,-999          ,9,-999          ,9
33RR20230722  ,I05        ,90      ,  1,26         ,26         ,2,20230814,1219, -31.9998,  76.0032,     3407,    223.1,2,  13.5071,2,  35.2692,2,  35.2759,2,    231.3,2,    232.0,2,     1.66,2,     5.81,2,     0.01,2,     0.53,2,     -999,9,     -999,9,     -999,9,   2121.1,2,   2320.2,2,   7.8510,2,    25.04,2,     -999,1,  13.5071,2,     -999,9,     -999,9,     -999,9,     -999,9,     -999,1,   4.9691,1,   0.0119,1,     -999,9,     -999,1,     -999,1,     -999,1,     -999,1,20230814,1342, -31.9998,  76.0032,-999          ,9,-999          ,9
33RR20230722  ,I05        ,90      ,  1,25         ,25         ,2,20230814,1219, -31.9998,  76.0032,     3407,    262.2,2,  12.9545,2,  35.1922,2,  35.1935,2,    233.0,2,    233.2,2,     2.15,2,     7.37,2,     0.00,2,     0.61,2,    2.612,3,    1.662,2,   2.4800,2,   2125.1,2,   2314.8,2,   7.8361,2,    25.01,2,     -999,1,  12.9511,2,     -999,9,     -999,9,     -999,9,     -999,9,     -999,1,   4.8859,1,   0.0117,1,     11.2,2,     -999,1,     -999,1,     -999,1,     -999,1,20230814,1340, -31.9998,  76.0031,-999          ,9,-999          ,9
33RR20230722  ,I05        ,90      ,  1,24         ,24         ,2,20230814,1219, -31.9998,  76.0032,     3407,    316.3,2,  12.3972,2,  35.1075,2,  35.1085,2,    235.9,2,    236.1,2,     2.54,2,     8.76,2,     0.00,2,     0.69,2,     -999,9,     -999,9,     -999,9,   2126.5,2,   2311.8,2,   7.8227,2,    24.99,2,     -999,1,  12.3929,2,     -999,9,     -999,9,     -999,9,     -999,9,     -999,1,   4.8788,1,   0.0115,1,     -999,9,     -999,1,     -999,1,     -999,1,     -999,1,20230814,1338, -31.9998,  76.0032,-999          ,9,-999          ,9
33RR20230722  ,I05        ,90      ,  1,23         ,23         ,2,20230814,1219, -31.9998,  76.0032,     3407,    373.7,2,  11.9069,2,  35.0317,2,  35.0317,2,    238.3,2,    238.4,2,     2.93,2,     9.98,2,     0.00,2,     0.78,2,     -999,9,     -999,9,     -999,9,   2126.2,2,   2306.1,2,   7.8134,6,    25.00,2,     -999,1,  11.9005,2,     -999,9,     -999,9,     -999,9,     -999,9,     -999,1,   4.9682,1,   0.0115,1,     -999,9,     -999,1,     -999,1,     -999,1,     -999,1,20230814,1336, -31.9998,  76.0031,-999          ,9,-999          ,9
33RR20230722  ,I05        ,90      ,  1,22         ,22         ,2,20230814,1219, -31.9998,  76.0032,     3407,    437.9,2,  11.5920,2,  34.9906,2,  34.9911,2,    235.2,2,    235.1,2,     3.32,2,    11.18,2,     0.00,2,     0.85,2,    2.669,3,    1.787,2,   2.4400,2,   2127.8,2,   2303.3,2,   7.8024,2,    24.99,2,     -999,1,  11.5907,2,     -999,9,     -999,9,     -999,9,     -999,9,     -999,1,   4.9676,1,   0.0114,1,     11.7,2,     -999,1,     -999,1,     -999,1,     -999,1,20230814,1334, -31.9998,  76.0032,-999          ,9,-999          ,9
33RR20230722  ,I05        ,90      ,  1,21         ,21         ,2,20230814,1219, -31.9998,  76.0032,     3407,    496.8,2,  11.1396,2,  34.9246,2,  34.9250,2,    235.0,2,    235.1,2,     3.42,2,    12.19,2,     0.00,2,     0.90,2,     -999,9,     -999,9,     -999,9,   2129.5,2,   2300.6,2,   7.7914,2,    25.01,2,     -999,1,  11.1339,2,     -999,9,     -999,9,     -999,9,     -999,9,     -999,1,   4.9671,1,   0.0116,1,     -999,9,     -999,1,     -999,1,     -999,1,     -999,1,20230814,1332, -31.9998,  76.0032,-999          ,9,-999          ,9
33RR20230722  ,I05        ,90      ,  1,20         ,20         ,2,20230814,1219, -31.9998,  76.0032,     3407,    572.7,2,  10.5721,2,  34.8390,2,  34.8401,2,    236.4,2,    235.9,2,     3.51,2,    13.39,2,     0.00,2,     0.97,2,     -999,9,     -999,9,     -999,9,   2136.8,2,   2299.3,2,   7.7788,2,    25.02,2,     -999,1,  10.5738,2,     -999,9,     -999,9,     -999,9,     -999,9,     -999,1,   4.9147,1,   0.0114,1,     -999,9,     -999,1,     -999,1,     -999,1,     -999,1,20230814,1329, -31.9998,  76.0032,-999          ,9,-999          ,9
33RR20230722  ,I05        ,90      ,  1,19         ,19         ,2,20230814,1219, -31.9998,  76.0032,     3407,    666.0,2,   9.9167,2,  34.7508,2,  34.7520,2,    231.1,2,    230.9,2,     4.59,2,    15.56,2,     0.00,2,     1.12,2,    3.094,3,    1.923,2,   2.0400,2,   2140.0,2,   2294.5,2,   7.7583,2,    25.01,2,     -999,1,   9.9158,2,     -999,9,     -999,9,     -999,9,     -999,9,     -999,1,   4.8982,1,   0.0114,1,     12.8,2,     -999,1,     -999,1,     -999,1,     -999,1,20230814,1327, -31.9998,  76.0032,-999          ,9,-999          ,9
33RR20230722  ,I05        ,90      ,  1,18         ,18         ,2,20230814,1219, -31.9998,  76.0032,     3407,    762.2,2,   9.0739,2,  34.6444,2,  34.6460,2,    224.8,2,    224.9,2,     6.15,2,    18.34,2,     0.00,2,     1.30,2,     -999,9,     -999,9,     -999,9,   2146.6,2,   2291.1,2,   7.7334,2,    25.00,2,     -999,1,   9.0758,2,     -999,9,     -999,9,     -999,9,     -999,9,     -999,1,   4.9246,1,   0.0113,1,     -999,9,     -999,1,     -999,1,     -999,1,     -999,1,20230814,1324, -31.9998,  76.0032,-999          ,9,-999          ,9
33RR20230722  ,I05        ,90      ,  1,17         ,17         ,2,20230814,1219, -31.9998,  76.0032,     3407,    859.5,2,   8.1122,2,  34.5530,2,  34.5553,2,    210.8,2,    211.2,2,    10.54,2,    21.82,2,     0.00,2,     1.52,2,    3.042,3,    1.722,2,   1.3500,2,   2159.3,2,   2289.1,2,   7.6986,6,    25.02,2,     -999,1,   8.1214,2,     -999,9,     -999,9,     -999,9,     -999,9,     -999,1,   4.9679,1,   0.0112,1,     15.4,2,     -999,1,     -999,1,     -999,1,     -999,1,20230814,1321, -31.9998,  76.0032,-999          ,9,-999          ,9
33RR20230722  ,I05        ,90      ,  1,16         ,16         ,2,20230814,1219, -31.9998,  76.0032,     3407,    949.8,2,   6.7752,2,  34.4521,2,  34.4528,2,    201.3,2,    201.5,2,    17.86,2,    25.80,2,     0.00,2,     1.79,2,     -999,9,     -999,9,     -999,9,   2175.4,2,   2287.9,6,   7.6577,2,    24.99,2,     -999,1,   6.7822,2,     -999,9,     -999,9,     -999,9,     -999,9,     -999,1,   4.7044,1,   0.0113,1,     -999,9,     -999,1,     -999,1,     -999,1,     -999,1,20230814,1318, -31.9998,  76.0032,-999          ,9,-999          ,9
33RR20230722  ,I05        ,90      ,  1,15         ,15         ,2,20230814,1219, -31.9998,  76.0032,     3407,   1045.7,2,   5.5760,2,  34.3911,2,  34.3959,2,    197.4,2,    197.4,2,    26.16,2,    28.60,2,     0.00,2,     1.99,2,    2.558,3,    1.235,2,   0.7700,2,   2189.5,2,   2293.5,2,   7.6361,2,    25.02,2,     -999,1,   5.5752,2,     -999,9,     -999,9,     -999,9,     -999,9,     -999,1,   4.9227,1,   0.0111,1,     18.5,2,     -999,1,     -999,1,     -999,1,     -999,1,20230814,1316, -31.9998,  76.0032,-999          ,9,-999          ,9
33RR20230722  ,I05        ,90      ,  1,14         ,14         ,2,20230814,1219, -31.9998,  76.0032,     3407,   1164.0,2,   4.5338,2,  34.3890,3,  34.3959,2,    186.9,2,    186.7,2,    39.64,2,    31.34,2,     0.00,2,     2.21,2,     -999,9,     -999,9,     -999,9,   2212.7,2,   2302.4,2,   7.6010,2,    25.01,2,     -999,1,   4.5370,2,     -999,9,     -999,9,     -999,9,     -999,9,     -999,1,   4.7834,1,   0.0112,1,     -999,9,     -999,1,     -999,1,     -999,1,     -999,1,20230814,1313, -31.9998,  76.0031,-999          ,9,-999          ,9
33RR20230722  ,I05        ,90      ,  1,13         ,13         ,2,20230814,1219, -31.9998,  76.0032,     3407,   1282.6,2,   3.8369,2,  34.4442,2,  34.4467,2,    171.7,2,    171.4,2,    55.35,2,    33.21,2,     0.00,2,     2.34,2,     -999,9,     -999,9,     -999,9,   2233.7,6,   2319.7,2,   7.5762,2,    25.01,2,     -999,1,   3.8381,2,     -999,9,     -999,9,     -999,9,     -999,9,     -999,1,   4.9731,1,   0.0112,1,     -999,9,     -999,1,     -999,1,     -999,1,     -999,1,20230814,1309, -31.9998,  76.0031,-999          ,9,-999          ,9
33RR20230722  ,I05        ,90      ,  1,12         ,12         ,2,20230814,1219, -31.9998,  76.0032,     3407,   1389.3,2,   3.4187,2,  34.4875,2,  34.4891,2,    167.0,2,    166.9,2,    63.35,2,    33.75,2,     0.00,2,     2.36,2,     -999,9,     -999,9,     -999,9,   2245.8,2,   2326.5,2,   7.5662,2,    24.99,2,     -999,1,   3.4142,2,     -999,9,     -999,9,     -999,9,     -999,9,     -999,1,   4.9737,1,   0.0117,1,     -999,9,     -999,1,     -999,1,     -999,1,     -999,1,20230814,1306, -31.9998,  76.0032,-999          ,9,-999          ,9
33RR20230722  ,I05        ,90      ,  1,11         ,11         ,2,20230814,1219, -31.9998,  76.0032,     3407,   1504.6,2,   3.1754,2,  34.5343,2,  34.5364,2,    163.5,2,    164.9,2,    69.31,2,    34.05,2,     0.00,2,     2.39,2,     -999,9,     -999,9,     -999,9,   2252.4,2,   2333.9,2,   7.5632,2,    25.00,2,     -999,1,   3.1759,2,     -999,9,     -999,9,     -999,9,     -999,9,     -999,1,   4.7610,1,   0.0112,1,     -999,9,     -999,1,     -999,1,     -999,1,     -999,1,20230814,1303, -31.9998,  76.0031,-999          ,9,-999          ,9
33RR20230722  ,I05        ,90      ,  1,10         ,10         ,2,20230814,1219, -31.9998,  76.0032,     3407,   1615.8,2,   2.9096,2,  34.5836,2,  34.5847,2,    165.5,2,    164.9,2,    73.99,2,    33.65,2,     0.00,2,     2.37,2,     -999,9,     -999,9,     -999,9,   2254.9,2,   2338.2,2,   7.5684,6,    25.01,2,     -999,1,   2.9099,2,     -999,9,     -999,9,     -999,9,     -999,9,     -999,1,   4.9447,1,   0.0112,1,     -999,9,     -999,1,     -999,1,     -999,1,     -999,1,20230814,1300, -31.9998,  76.0031,-999          ,9,-999          ,9
33RR20230722  ,I05        ,90      ,  1,9          ,9          ,2,20230814,1219, -31.9998,  76.0032,     3407,   1745.8,2,   2.7486,2,  34.6411,2,  34.6423,2,    165.2,2,    164.4,2,    80.92,2,    33.09,2,     0.00,2,     2.33,2,     -999,9,     -999,9,     -999,9,   2261.0,2,   2343.6,2,   7.5728,2,    25.02,2,     -999,1,   2.7483,2,     -999,9,     -999,9,     -999,9,     -999,9,     -999,1,   4.9744,1,   0.0117,1,     -999,9,     -999,1,     -999,1,     -999,1,     -999,1,20230814,1257, -31.9998,  76.0032,-999          ,9,-999          ,9
33RR20230722  ,I05        ,90      ,  1,8          ,8          ,2,20230814,1219, -31.9998,  76.0032,     3407,   1911.1,2,   2.5339,2,  34.6801,2,  34.6814,2,    174.2,2,    174.8,2,    81.11,2,    32.01,2,     0.00,2,     2.25,2,     -999,9,     -999,9,     -999,9,   2256.7,2,   2345.9,2,   7.5883,6,    25.01,2,     -999,1,   2.5319,2,     -999,9,     -999,9,     -999,9,     -999,9,     -999,1,   4.9743,1,   0.0112,1,     -999,9,     -999,1,     -999,1,     -999,1,     -999,1,20230814,1253, -31.9998,  76.0031,-999          ,9,-999          ,9
33RR20230722  ,I05        ,90      ,  1,7          ,7          ,2,20230814,1219, -31.9998,  76.0032,     3407,   2113.6,2,   2.2659,2,  34.7198,2,  34.7213,2,    184.8,2,    185.4,2,    83.94,2,    30.98,2,     0.00,2,     2.17,2,     -999,9,     -999,9,     -999,9,   2252.5,2,   2349.3,6,   7.6038,2,    24.99,2,     -999,1,   2.2665,2,     -999,9,     -999,9,     -999,9,     -999,9,     -999,1,   4.9742,1,   0.0117,1,     -999,9,     -999,1,     -999,1,     -999,1,     -999,1,20230814,1248, -31.9998,  76.0031,-999          ,9,-999          ,9
33RR20230722  ,I05        ,90      ,  1,6          ,6          ,2,20230814,1219, -31.9998,  76.0032,     3407,   2374.1,2,   1.9388,2,  34.7234,2,  34.7245,2,    182.4,2,    182.2,2,   102.48,2,    31.85,2,     0.00,2,     2.24,2,     -999,9,     -999,9,     -999,9,   2269.2,2,   2368.3,2,   7.6062,2,    25.00,2,     -999,1,   1.9388,2,     -999,9,     -999,9,     -999,9,     -999,9,     -999,1,   4.8048,1,   0.0113,1,     -999,9,     -999,1,     -999,1,     -999,1,     -999,1,20230814,1243, -31.9998,  76.0031,-999          ,9,-999          ,9
33RR20230722  ,I05        ,90      ,  1,5          ,5          ,2,20230814,1219, -31.9998,  76.0032,     3407,   2689.6,2,   1.7315,2,  34.7218,2,  34.7235,2,    181.0,2,    180.6,2,   113.71,2,    32.51,2,     0.00,2,     2.30,2,     -999,9,     -999,9,     -999,9,   2279.0,2,   2379.2,2,   7.6066,2,    25.01,2,     -999,1,   1.7313,2,     -999,9,     -999,9,     -999,9,     -999,9,     -999,1,   4.9752,1,   0.0119,1,     -999,9,     -999,1,     -999,1,     -999,1,     -999,1,20230814,1237, -31.9998,  76.0032,-999          ,9,-999          ,9
33RR20230722  ,I05        ,90      ,  1,4          ,37         ,2,20230814,1219, -31.9998,  76.0032,     3407,   2926.0,2,   1.6170,2,  34.7199,2,  34.7205,2,    182.3,2,    182.6,2,   118.10,2,    32.78,2,     0.00,2,     2.30,2,     -999,9,     -999,9,     -999,9,   2281.5,2,   2379.8,2,   7.6077,2,    25.00,2,     -999,1,   1.6167,2,     -999,9,     -999,9,     -999,9,     -999,9,     -999,1,   4.9755,1,   0.0117,1,     -999,9,     -999,1,     -999,1,     -999,1,     -999,1,20230814,1231, -31.9998,  76.0032,-999          ,9,-999          ,9
33RR20230722  ,I05        ,90      ,  1,3          ,3          ,2,20230814,1219, -31.9998,  76.0032,     3407,   3123.6,2,   1.5804,2,  34.7187,2,  34.7197,2,    183.4,2,    183.5,2,   119.27,2,    32.94,2,     0.00,2,     2.30,2,     -999,9,     -999,9,     -999,9,   2280.6,2,   2380.7,2,   7.6120,2,    25.00,2,     -999,1,   1.5806,2,     -999,9,     -999,9,     -999,9,     -999,9,     -999,1,   4.9754,1,   0.0111,1,     -999,9,     -999,1,     -999,1,     -999,1,     -999,1,20230814,1227, -31.9998,  76.0032,-999          ,9,-999          ,9
33RR20230722  ,I05        ,90      ,  1,2          ,2          ,2,20230814,1219, -31.9998,  76.0032,     3407,   3317.2,2,   1.5682,2,  34.7178,2,  34.7189,2,    184.1,2,    185.0,2,   119.95,2,    32.85,2,     0.00,2,     2.32,2,     -999,9,     -999,9,     -999,9,   2280.5,2,   2379.6,2,   7.6078,2,    25.02,2,     -999,1,   1.5677,2,     -999,9,     -999,9,     -999,9,     -999,9,     -999,1,   4.9570,1,   0.0123,1,     -999,9,     -999,1,     -999,1,     -999,1,     -999,1,20230814,1223, -31.9998,  76.0031,-999          ,9,-999          ,9