BOTTLE,20240422CCHHYDRO
EXPOCODE,SECT_ID,STNNBR,CASTNO,SAMPNO,BTLNBR,BTLNBR_FLAG_W,DATE,TIME,LATITUDE,LONGITUDE,DEPTH,CTDPRS,CTDPRS_FLAG_W,CTDTMP,CTDTMP_FLAG_W,CTDSAL,CTDSAL_FLAG_W,SALNTY,SALNTY_FLAG_W,CTDOXY,CTDOXY_FLAG_W,OXYGEN,OXYGEN_FLAG_W,SILCAT,SILCAT_FLAG_W,NITRAT,NITRAT_FLAG_W,NITRIT,NITRIT_FLAG_W,PHSPHT,PHSPHT_FLAG_W,CFC-11,CFC-11_FLAG_W,CFC-12,CFC-12_FLAG_W,SF6,SF6_FLAG_W,TCARBN,TCARBN_FLAG_W,ALKALI,ALKALI_FLAG_W,PH_TOT,PH_TOT_FLAG_W,PH_TMP,PH_TMP_FLAG_W,DOC,DOC_FLAG_W,REFTMP,REFTMP_FLAG_W,POC,POC_FLAG_W,PON,PON_FLAG_W,POP,POP_FLAG_W,DOP,DOP_FLAG_W,DELO18,DELO18_FLAG_W,CTDFLUOR,CTDFLUOR_FLAG_W,CTDXMISS,CTDXMISS_FLAG_W,N2O,N2O_FLAG_W,D15N_NO3,D15N_NO3_FLAG_W,D15N_NO2+NO3,D15N_NO2+NO3_FLAG_W,D18O_NO2+NO3,D18O_NO2+NO3_FLAG_W,D18O_NO3,D18O_NO3_FLAG_W,BTL_DATE,BTL_TIME,BTL_LAT,BTL_LON,HPLC,HPLC_FLAG_W,DNA,DNA_FLAG_W
,,,,,,,,,,,METERS,DBAR,,ITS-90,,PSS-78,,PSS-78,,UMOL/KG,,UMOL/KG,,UMOL/KG,,UMOL/KG,,UMOL/KG,,UMOL/KG,,PMOL/KG,,PMOL/KG,,FMOL/KG,,UMOL/KG,,UMOL/KG,,,,DEG C,,UMOL/KG,,ITS-90,,UG/KG,,UG/KG,,UG/L,,UMOL/KG,,/MILLE,,VOLTS,,VOLTS,,NMOL/KG,,/MILLE,,/MILLE,,/MILLE,,/MILLE,,,,,,,,,
33RR20230722  ,I05        ,194     ,  1,31         ,31         ,2,20230910,0917, -31.1202,  30.3635,     1184,     10.2,2,  21.8199,2,  35.4093,2,     -999,9,    213.3,2,     -999,9,     -999,9,     -999,9,     -999,9,     -999,9,     -999,9,     -999,9,     -999,9,   -999.0,9,     -999,9,     -999,9,     -999,9,     -999,9,  21.7964,2,     -999,9,     -999,9,     -999,1,     -999,9,     -999,9,   4.9730,1,   0.0443,1,     -999,9,     -999,9,     -999,9,     -999,9,     -999,9,20230910,1004, -31.1198,  30.3637,-999          ,9,-999          ,9
33RR20230722  ,I05        ,194     ,  1,30         ,30         ,2,20230910,0917, -31.1202,  30.3635,     1184,     10.4,2,  21.7937,2,  35.4110,2,     -999,9,    212.9,2,     -999,9,     -999,9,     -999,9,     -999,9,     -999,9,     -999,9,     -999,9,     -999,9,   -999.0,9,     -999,9,     -999,9,     -999,9,     -999,9,  21.8071,2,     -999,9,     -999,9,     -999,1,     -999,9,     -999,9,   4.9731,1,   0.0439,1,     -999,9,     -999,9,     -999,9,     -999,9,     -999,9,20230910,1004, -31.1197,  30.3638,-999          ,9,-999          ,9
33RR20230722  ,I05        ,194     ,  1,34         ,34         ,2,20230910,0917, -31.1202,  30.3635,     1184,     10.6,2,  21.7973,2,  35.4101,2,  35.4107,2,    212.9,2,    212.0,2,     2.15,2,     0.84,2,     0.12,2,     0.21,2,     -999,9,     -999,9,     -999,9,   2040.5,2,   2320.2,2,   8.0049,6,    25.00,2,     -999,1,     -999,1,     -999,9,     -999,9,     -999,9,     -999,9,     -999,9,   4.9726,1,   0.0425,1,     -999,9,     -999,9,     -999,9,     -999,9,     -999,9,20230910,1005, -31.1202,  30.3635,-999          ,9,-999          ,9
33RR20230722  ,I05        ,194     ,  1,29         ,29         ,2,20230910,0917, -31.1202,  30.3635,     1184,     10.8,2,  21.8324,2,  35.4092,2,     -999,9,    213.7,2,     -999,9,     -999,9,     -999,9,     -999,9,     -999,9,     -999,9,     -999,9,     -999,9,   -999.0,9,     -999,9,     -999,9,     -999,9,     -999,9,     -999,1,     -999,1,     -999,1,     -999,9,     -999,9,     -999,9,   4.9732,1,   0.0408,1,     -999,9,     -999,9,     -999,9,     -999,9,     -999,9,20230910,1004, -31.1196,  30.3639,-999          ,9,-999          ,9
33RR20230722  ,I05        ,194     ,  1,26         ,26         ,2,20230910,0917, -31.1202,  30.3635,     1184,     10.8,2,  21.8204,2,  35.4089,2,     -999,9,    213.4,2,     -999,9,     -999,9,     -999,9,     -999,9,     -999,9,     -999,9,     -999,9,     -999,9,   -999.0,9,     -999,9,     -999,9,     -999,9,     -999,9,  21.8175,2,     -999,9,     -999,9,     -999,9,     -999,9,     -999,9,   4.8364,1,   0.0432,1,     -999,9,     -999,9,     -999,9,     -999,9,     -999,9,20230910,1003, -31.1192,  30.3642,-999          ,9,-999          ,1
33RR20230722  ,I05        ,194     ,  1,27         ,27         ,2,20230910,0917, -31.1202,  30.3635,     1184,     10.9,2,  21.8298,2,  35.4088,2,     -999,9,    213.5,2,     -999,9,     -999,9,     -999,9,     -999,9,     -999,9,     -999,9,     -999,9,     -999,9,   -999.0,9,     -999,9,     -999,9,     -999,9,     -999,9,     -999,1,     -999,1,     -999,1,     -999,9,     -999,9,     -999,9,   4.8983,1,   0.0417,1,     -999,9,     -999,9,     -999,9,     -999,9,     -999,9,20230910,1003, -31.1194,  30.3641,-999          ,9,-999          ,9
33RR20230722  ,I05        ,194     ,  1,32         ,32         ,2,20230910,0917, -31.1202,  30.3635,     1184,     10.9,2,  21.7961,2,  35.4099,2,     -999,9,    212.3,2,     -999,9,     -999,9,     -999,9,     -999,9,     -999,9,     -999,9,     -999,9,     -999,9,   -999.0,9,     -999,9,     -999,9,     -999,9,     -999,9,     -999,1,     -999,9,     -999,9,     -999,1,     -999,9,     -999,9,   4.9730,1,   0.0440,1,     -999,9,     -999,9,     -999,9,     -999,9,     -999,9,20230910,1004, -31.1200,  30.3636,-999          ,9,-999          ,9
33RR20230722  ,I05        ,194     ,  1,28         ,28         ,2,20230910,0917, -31.1202,  30.3635,     1184,     11.0,2,  21.8372,2,  35.4087,2,     -999,9,    213.8,2,     -999,9,     -999,9,     -999,9,     -999,9,     -999,9,     -999,9,     -999,9,     -999,9,   -999.0,9,     -999,9,     -999,9,     -999,9,     -999,9,  21.8349,2,     -999,1,     -999,1,     -999,9,     -999,9,     -999,9,   4.8412,1,   0.0407,1,     -999,9,     -999,9,     -999,9,     -999,9,     -999,9,20230910,1003, -31.1195,  30.3640,-999          ,9,-999          ,9
33RR20230722  ,I05        ,194     ,  1,33         ,33         ,2,20230910,0917, -31.1202,  30.3635,     1184,     11.0,2,  21.7991,2,  35.4104,2,     -999,9,    212.4,2,     -999,9,     -999,9,     -999,9,     -999,9,     -999,9,     -999,9,     -999,9,     -999,9,   -999.0,9,     -999,9,     -999,9,     -999,9,     -999,9,  21.7992,2,     -999,9,     -999,9,     -999,9,     -999,9,     -999,9,   4.9731,1,   0.0426,1,     -999,9,     -999,9,     -999,9,     -999,9,     -999,9,20230910,1005, -31.1201,  30.3635,-999          ,1,-999          ,9
33RR20230722  ,I05        ,194     ,  1,25         ,25         ,2,20230910,0917, -31.1202,  30.3635,     1184,     20.8,2,  21.7838,2,  35.4112,2,  35.4101,2,    212.2,2,    212.2,2,     2.05,2,     0.77,2,     0.12,2,     0.20,2,    1.544,2,    1.100,2,   1.8800,2,   2040.0,6,   2319.6,2,   8.0050,2,    24.99,2,     -999,1,  21.7822,2,     -999,9,     -999,9,     -999,9,     -999,9,     -999,9,   4.9330,1,   0.0468,1,      7.8,2,     -999,9,     -999,9,     -999,9,     -999,9,20230910,1001, -31.1184,  30.3647,-999          ,9,-999          ,9
33RR20230722  ,I05        ,194     ,  1,24         ,24         ,2,20230910,0917, -31.1202,  30.3635,     1184,     38.6,2,  21.6284,2,  35.4319,2,  35.4364,2,    212.7,2,    213.0,2,     2.05,2,     0.57,2,     0.13,2,     0.18,2,     -999,9,     -999,9,     -999,9,   2039.8,2,   2320.2,2,   8.0058,6,    24.99,2,     -999,1,  21.6182,2,     -999,9,     -999,9,     -999,9,     -999,9,     -999,9,   4.9730,1,   0.0397,1,     -999,9,     -999,9,     -999,9,     -999,9,     -999,9,20230910,1000, -31.1176,  30.3652,-999          ,9,-999          ,9
33RR20230722  ,I05        ,194     ,  1,23         ,23         ,2,20230910,0917, -31.1202,  30.3635,     1184,     58.1,2,  20.8312,2,  35.4856,2,  35.4864,2,    214.0,2,    214.0,2,     2.05,2,     0.71,2,     0.14,2,     0.18,2,    1.570,2,    1.145,2,   1.9400,2,   2048.5,2,   2323.7,6,   7.9929,2,    24.97,2,     -999,1,  20.8274,2,     -999,9,     -999,9,     -999,9,     -999,9,     -999,9,   4.8936,1,   0.0238,1,      7.8,2,     -999,9,     -999,9,     -999,9,     -999,9,20230910,0958, -31.1167,  30.3658,-999          ,9,-999          ,9
33RR20230722  ,I05        ,194     ,  1,22         ,22         ,2,20230910,0917, -31.1202,  30.3635,     1184,     81.1,2,  19.5181,2,  35.5289,2,  35.5294,2,    180.7,2,    181.3,2,     4.59,2,     4.82,2,     0.02,2,     0.41,2,     -999,9,     -999,9,     -999,9,   2089.7,2,   2325.8,2,   7.9207,2,    24.97,2,     -999,1,  19.5030,2,     -999,9,     -999,9,     -999,9,     -999,9,     -999,9,   4.9162,1,   0.0128,1,     -999,9,     -999,9,     -999,9,     -999,9,     -999,9,20230910,0956, -31.1158,  30.3665,-999          ,9,-999          ,9
33RR20230722  ,I05        ,194     ,  1,20         ,20         ,2,20230910,0917, -31.1202,  30.3635,     1184,    104.1,2,  18.8362,2,  35.5164,2,     -999,9,    175.6,2,     -999,9,     -999,9,     -999,9,     -999,9,     -999,9,     -999,9,     -999,9,     -999,9,   -999.0,9,     -999,9,     -999,9,     -999,9,     -999,9,  18.8216,2,     -999,9,     -999,9,     -999,9,     -999,9,     -999,9,   4.9668,1,   0.0127,1,     -999,9,     -999,9,     -999,9,     -999,9,     -999,9,20230910,0954, -31.1147,  30.3672,-999          ,9,-999          ,1
33RR20230722  ,I05        ,194     ,  1,21         ,21         ,2,20230910,0917, -31.1202,  30.3635,     1184,    105.0,2,  18.8174,2,  35.5141,2,  35.5156,2,    174.9,2,    175.9,2,     5.37,2,     5.97,2,     0.02,2,     0.50,2,    1.720,2,    1.214,2,   1.7800,2,   2103.2,2,   2326.7,2,   7.8977,6,    25.00,2,     -999,1,  18.8147,2,     -999,9,     -999,9,     -999,9,     -999,9,     -999,9,   4.9670,1,   0.0128,1,     11.6,2,     -999,9,     -999,9,     -999,9,     -999,9,20230910,0954, -31.1149,  30.3671,-999          ,9,-999          ,9
33RR20230722  ,I05        ,194     ,  1,19         ,19         ,2,20230910,0917, -31.1202,  30.3635,     1184,    125.8,2,  17.7970,2,  35.4646,2,  35.4671,2,    164.6,2,    165.1,2,     6.93,2,     8.23,2,     0.00,2,     0.64,2,    1.917,2,    1.251,2,   1.7200,2,   2121.8,2,   2324.4,2,   7.8604,2,    24.99,2,     -999,1,  17.7872,2,     -999,9,     -999,9,     -999,9,     -999,9,     -999,9,   4.9668,1,   0.0128,1,     13.3,2,     -999,9,     -999,9,     -999,9,     -999,9,20230910,0953, -31.1140,  30.3677,-999          ,9,-999          ,9
33RR20230722  ,I05        ,194     ,  1,18         ,18         ,2,20230910,0917, -31.1202,  30.3635,     1184,    153.2,2,  16.4175,2,  35.4009,2,  35.4020,2,    162.3,2,    162.0,2,     8.10,2,    10.24,2,     0.00,2,     0.78,2,     -999,9,     -999,9,     -999,9,   2133.6,2,   2322.8,2,   7.8264,2,    24.99,2,     -999,1,  16.4113,2,     -999,9,     -999,9,     -999,9,     -999,9,     -999,9,   4.9673,1,   0.0123,1,     -999,9,     -999,9,     -999,9,     -999,9,     -999,9,20230910,0951, -31.1133,  30.3681,-999          ,9,-999          ,9
33RR20230722  ,I05        ,194     ,  1,17         ,17         ,2,20230910,0917, -31.1202,  30.3635,     1184,    182.8,2,  15.9983,2,  35.3886,2,  35.3892,2,    166.1,2,    165.8,2,     8.20,2,    10.34,2,     0.00,2,     0.81,2,    2.150,2,    1.331,2,   1.6400,2,   2134.5,2,   2322.9,2,   7.8236,2,    24.97,2,     -999,1,  15.9954,2,     -999,9,     -999,9,     -999,9,     -999,9,     -999,9,   4.8328,1,   0.0118,1,     14.8,2,     -999,9,     -999,9,     -999,9,     -999,9,20230910,0950, -31.1125,  30.3687,-999          ,9,-999          ,9
33RR20230722  ,I05        ,194     ,  1,16         ,16         ,2,20230910,0917, -31.1202,  30.3635,     1184,    201.4,2,  15.4352,2,  35.3544,2,     -999,9,    167.8,2,     -999,9,     -999,9,     -999,9,     -999,9,     -999,9,     -999,9,     -999,9,     -999,9,   -999.0,9,     -999,9,     -999,9,     -999,9,     -999,9,  15.4422,2,     -999,9,     -999,9,     -999,9,     -999,9,     -999,9,   4.9672,1,   0.0117,1,     -999,9,     -999,9,     -999,9,     -999,9,     -999,9,20230910,0948, -31.1120,  30.3690,-999          ,9,-999          ,1
33RR20230722  ,I05        ,194     ,  1,15         ,15         ,2,20230910,0917, -31.1202,  30.3635,     1184,    216.5,2,  15.1738,2,  35.3394,2,  35.3421,2,    169.5,2,    169.0,2,     8.39,2,    11.07,2,     0.00,2,     0.85,2,    2.105,2,    1.378,2,   1.6800,2,   2139.2,2,   2322.6,2,   7.8084,6,    25.02,2,     -999,1,  15.1682,2,     -999,9,     -999,9,     -999,9,     -999,9,     -999,9,   4.8728,1,   0.0117,1,     15.5,2,     -999,9,     -999,9,     -999,9,     -999,9,20230910,0947, -31.1114,  30.3694,-999          ,9,-999          ,9
33RR20230722  ,I05        ,194     ,  1,14         ,14         ,2,20230910,0917, -31.1202,  30.3635,     1184,    260.5,2,  13.8522,2,  35.2373,2,  35.2408,2,    177.4,2,    177.0,2,     8.49,2,    12.33,2,     0.00,2,     0.92,2,     -999,9,     -999,9,     -999,9,   2145.9,2,   2317.2,2,   7.7892,2,    25.04,2,     -999,1,  13.8440,2,     -999,9,     -999,9,     -999,9,     -999,9,     -999,9,   4.6684,1,   0.0117,1,     -999,9,     -999,9,     -999,9,     -999,9,     -999,9,20230910,0945, -31.1106,  30.3700,-999          ,9,-999          ,9
33RR20230722  ,I05        ,194     ,  1,13         ,13         ,2,20230910,0917, -31.1202,  30.3635,     1184,    305.0,2,  12.9997,2,  35.1797,2,  35.1805,2,    201.3,3,    198.0,2,     6.54,2,    11.77,2,     0.00,2,     0.89,2,    2.435,2,    1.566,2,   1.6500,2,   2138.6,2,   2313.0,2,   7.7960,2,    25.04,2,     -999,1,  12.9863,2,     -999,9,     -999,9,     -999,9,     -999,9,     -999,9,   4.7884,1,   0.0113,1,     14.1,2,     -999,9,     -999,9,     -999,9,     -999,9,20230910,0943, -31.1096,  30.3706,-999          ,9,-999          ,9
33RR20230722  ,I05        ,194     ,  1,12         ,12         ,2,20230910,0917, -31.1202,  30.3635,     1184,    368.1,2,  12.2607,2,  35.1011,2,  35.1049,2,    222.0,2,    221.8,2,     4.20,2,    11.11,2,     0.00,2,     0.84,2,     -999,9,     -999,9,     -999,9,   2131.7,2,   2310.1,2,   7.8077,2,    25.02,2,     -999,1,  12.2571,2,     -999,9,     -999,9,     -999,9,     -999,9,     -999,9,   4.9685,1,   0.0114,1,     -999,9,     -999,9,     -999,9,     -999,9,     -999,9,20230910,0941, -31.1088,  30.3711,-999          ,9,-999          ,9
33RR20230722  ,I05        ,194     ,  1,11         ,11         ,2,20230910,0917, -31.1202,  30.3635,     1184,    441.1,2,  11.1476,2,  34.9434,2,  34.9435,2,    208.7,2,    208.9,2,     6.93,2,    14.71,2,     0.00,2,     1.07,2,    2.833,2,    1.709,2,   1.6600,2,   2143.3,2,   2303.7,2,   7.7668,2,    25.04,2,     -999,1,  11.1459,2,     -999,9,     -999,9,     -999,9,     -999,9,     -999,9,   4.8759,1,   0.0115,1,     14.1,2,     -999,9,     -999,9,     -999,9,     -999,9,20230910,0939, -31.1079,  30.3718,-999          ,9,-999          ,9
33RR20230722  ,I05        ,194     ,  1,10         ,10         ,2,20230910,0917, -31.1202,  30.3635,     1184,    532.0,2,   9.1583,2,  34.7365,2,  34.7376,2,    193.3,2,    193.5,2,    15.23,2,    20.77,2,     0.00,2,     1.46,2,     -999,9,     -999,9,     -999,9,   2166.3,2,   2299.0,2,   7.7047,2,    25.03,2,     -999,1,   9.1591,2,     -999,9,     -999,9,     -999,9,     -999,9,     -999,9,   4.8676,1,   0.0115,1,     -999,9,     -999,9,     -999,9,     -999,9,     -999,9,20230910,0936, -31.1067,  30.3726,-999          ,9,-999          ,9
33RR20230722  ,I05        ,194     ,  1,9          ,9          ,2,20230910,0917, -31.1202,  30.3635,     1184,    626.4,2,   8.1681,2,  34.6594,2,  34.6608,2,    182.4,2,    182.4,2,    21.77,2,    24.02,2,     0.00,2,     1.69,2,    2.245,2,    1.334,2,   0.9200,2,   2181.7,2,   2298.4,2,   7.6703,2,    25.03,2,     -999,1,   8.1621,2,     -999,9,     -999,9,     -999,9,     -999,9,     -999,9,   4.9686,1,   0.0113,1,     19.4,2,     -999,9,     -999,9,     -999,9,     -999,9,20230910,0933, -31.1055,  30.3734,-999          ,9,-999          ,9
33RR20230722  ,I05        ,194     ,  1,8          ,8          ,2,20230910,0917, -31.1202,  30.3635,     1184,    718.9,2,   6.5312,2,  34.5404,2,  34.5404,2,    176.7,2,    177.3,2,    31.14,2,    28.14,2,     0.00,2,     1.97,2,    1.738,2,    1.102,2,   0.6400,2,   2199.3,2,   2302.3,2,   7.6290,6,    25.05,2,     -999,1,   6.5370,2,     -999,9,     -999,9,     -999,9,     -999,9,     -999,9,   4.9693,1,   0.0113,1,     20.9,2,     -999,9,     -999,9,     -999,9,     -999,9,20230910,0930, -31.1042,  30.3742,-999          ,9,-999          ,9
33RR20230722  ,I05        ,194     ,  1,7          ,7          ,2,20230910,0917, -31.1202,  30.3635,     1184,    810.4,2,   6.0208,2,  34.5872,2,  34.5877,2,    155.9,2,    155.4,2,    44.03,2,    30.74,2,     0.00,2,     2.17,2,     -999,9,     -999,9,     -999,9,   2222.7,2,   2314.9,6,   7.5959,2,    25.05,2,     -999,1,   6.0152,2,     -999,9,     -999,9,     -999,9,     -999,9,     -999,9,   4.8286,1,   0.0114,1,     -999,9,     -999,9,     -999,9,     -999,9,     -999,9,20230910,0927, -31.1030,  30.3751,-999          ,9,-999          ,9
33RR20230722  ,I05        ,194     ,  1,6          ,6          ,2,20230910,0917, -31.1202,  30.3635,     1184,    914.3,2,   5.1556,2,  34.5502,2,  34.5539,2,    158.0,2,    158.3,2,    50.38,2,    31.95,2,     0.00,2,     2.25,2,    1.033,2,    0.617,2,   0.3500,2,   2230.7,2,   2319.3,6,   7.5850,2,    25.04,2,     -999,1,   5.1482,2,     -999,9,     -999,9,     -999,9,     -999,9,     -999,9,   4.8547,1,   0.0118,1,     24.0,2,     -999,9,     -999,9,     -999,9,     -999,9,20230910,0924, -31.1018,  30.3758,-999          ,9,-999          ,9
33RR20230722  ,I05        ,194     ,  1,5          ,5          ,2,20230910,0917, -31.1202,  30.3635,     1184,   1000.4,2,   4.5127,2,  34.5510,2,  34.5523,2,    156.7,2,    156.8,2,    57.70,2,    33.02,2,     0.00,2,     2.34,2,    0.837,2,    0.467,2,   0.2000,2,   2240.4,2,   2324.5,2,   7.5755,6,    25.02,2,     -999,1,   4.5120,2,     -999,9,     -999,9,     -999,9,     -999,9,     -999,9,   4.6494,1,   0.0117,1,     24.4,2,     -999,9,     -999,9,     -999,9,     -999,9,20230910,0922, -31.1008,  30.3766,-999          ,9,-999          ,9
33RR20230722  ,I05        ,194     ,  1,4          ,37         ,2,20230910,0917, -31.1202,  30.3635,     1184,   1002.3,2,   4.5084,2,  34.5521,2,     -999,9,    156.5,2,     -999,9,     -999,9,     -999,9,     -999,9,     -999,9,     -999,9,     -999,9,     -999,9,   -999.0,9,     -999,9,     -999,9,     -999,9,     -999,9,   4.5117,2,     -999,9,     -999,9,     -999,9,     -999,9,     -999,9,   4.9704,1,   0.0119,1,     -999,9,     -999,9,     -999,9,     -999,9,     -999,9,20230910,0921, -31.1006,  30.3767,-999          ,9,-999          ,9
33RR20230722  ,I05        ,194     ,  1,3          ,3          ,2,20230910,0917, -31.1202,  30.3635,     1184,   1002.8,2,   4.5058,2,  34.5526,2,     -999,9,    156.5,2,     -999,9,     -999,9,     -999,9,     -999,9,     -999,9,     -999,9,     -999,9,     -999,9,   -999.0,9,     -999,9,     -999,9,     -999,9,     -999,9,   4.5077,2,     -999,9,     -999,9,     -999,9,     -999,9,     -999,9,   4.9704,1,   0.0121,1,     -999,9,     -999,9,     -999,9,     -999,9,     -999,9,20230910,0921, -31.1005,  30.3767,-999          ,9,-999          ,1
33RR20230722  ,I05        ,194     ,  1,2          ,2          ,2,20230910,0917, -31.1202,  30.3635,     1184,   1079.3,2,   4.4029,2,  34.5966,2,  34.5971,2,    149.1,2,    149.0,2,    63.95,2,    33.54,2,     0.00,2,     2.39,2,    0.597,2,    0.352,2,   0.1900,2,   2249.7,2,   2331.4,2,   7.5665,2,    25.03,2,     -999,1,   4.4125,2,     -999,9,     -999,9,     -999,9,     -999,9,     -999,9,   4.9468,1,   0.0120,1,     25.2,2,     -999,9,     -999,9,     -999,9,     -999,9,20230910,0919, -31.0995,  30.3773,-999          ,9,-999          ,9
33RR20230722  ,I05        ,194     ,  1,1          ,1          ,2,20230910,0917, -31.1202,  30.3635,     1184,   1180.3,2,   3.7977,2,  34.6350,2,  34.6360,2,    150.3,2,    150.4,2,    72.24,2,    33.75,2,     0.00,2,     2.39,2,    0.412,2,    0.221,2,   0.1100,2,   2257.2,6,   2339.9,2,   7.5662,2,    25.03,2,     -999,1,   3.7986,2,     -999,9,     -999,9,     -999,9,     -999,9,     -999,9,   0.7497,1,   0.0113,1,     24.9,2,     -999,9,     -999,9,     -999,9,     -999,9,20230910,0917, -31.0984,  30.3781,-999          ,9,-999          ,9