BOTTLE,20240422CCHHYDRO
EXPOCODE,SECT_ID,STNNBR,CASTNO,SAMPNO,BTLNBR,BTLNBR_FLAG_W,DATE,TIME,LATITUDE,LONGITUDE,DEPTH,CTDPRS,CTDPRS_FLAG_W,CTDTMP,CTDTMP_FLAG_W,CTDSAL,CTDSAL_FLAG_W,SALNTY,SALNTY_FLAG_W,CTDOXY,CTDOXY_FLAG_W,OXYGEN,OXYGEN_FLAG_W,SILCAT,SILCAT_FLAG_W,NITRAT,NITRAT_FLAG_W,NITRIT,NITRIT_FLAG_W,PHSPHT,PHSPHT_FLAG_W,CFC-11,CFC-11_FLAG_W,CFC-12,CFC-12_FLAG_W,SF6,SF6_FLAG_W,TCARBN,TCARBN_FLAG_W,ALKALI,ALKALI_FLAG_W,PH_TOT,PH_TOT_FLAG_W,PH_TMP,PH_TMP_FLAG_W,DOC,DOC_FLAG_W,REFTMP,REFTMP_FLAG_W,POC,POC_FLAG_W,PON,PON_FLAG_W,POP,POP_FLAG_W,DOP,DOP_FLAG_W,DELO18,DELO18_FLAG_W,CTDFLUOR,CTDFLUOR_FLAG_W,CTDXMISS,CTDXMISS_FLAG_W,N2O,N2O_FLAG_W,D15N_NO3,D15N_NO3_FLAG_W,D15N_NO2+NO3,D15N_NO2+NO3_FLAG_W,D18O_NO2+NO3,D18O_NO2+NO3_FLAG_W,D18O_NO3,D18O_NO3_FLAG_W,BTL_DATE,BTL_TIME,BTL_LAT,BTL_LON,HPLC,HPLC_FLAG_W,DNA,DNA_FLAG_W
,,,,,,,,,,,METERS,DBAR,,ITS-90,,PSS-78,,PSS-78,,UMOL/KG,,UMOL/KG,,UMOL/KG,,UMOL/KG,,UMOL/KG,,UMOL/KG,,PMOL/KG,,PMOL/KG,,FMOL/KG,,UMOL/KG,,UMOL/KG,,,,DEG C,,UMOL/KG,,ITS-90,,UG/KG,,UG/KG,,UG/L,,UMOL/KG,,/MILLE,,VOLTS,,VOLTS,,NMOL/KG,,/MILLE,,/MILLE,,/MILLE,,/MILLE,,,,,,,,,
33RR20230722  ,I05        ,19      ,  1,36         ,36         ,2,20230727,1433, -31.3611, 107.8122,     5308,      4.6,2,  17.5902,2,  35.7043,2,  35.7041,2,    236.2,2,    235.8,2,     2.15,2,     0.04,2,     0.00,2,     0.10,2,    2.191,2,    1.307,2,   2.1200,2,   2069.1,6,   2345.1,2,   7.9869,2,    24.99,2,     -999,1,  17.5889,2,     -999,9,     -999,9,     -999,9,     -999,9,     -999,9,   4.8298,1,   0.0203,1,      7.5,2,     -999,9,     -999,9,     -999,9,     -999,9,20230727,1646, -31.3611, 107.8122,-999          ,9,-999          ,9
33RR20230722  ,I05        ,19      ,  1,35         ,35         ,2,20230727,1433, -31.3611, 107.8122,     5308,     46.2,2,  16.7442,2,  35.7472,2,  35.7481,2,    240.2,2,    239.3,2,     1.66,2,     0.00,2,     0.03,2,     0.11,2,     -999,9,     -999,9,     -999,9,   -999.0,9,     -999,9,     -999,9,     -999,9,     -999,9,  16.7437,2,     -999,9,     -999,9,     -999,9,     -999,9,     -999,9,   4.9749,1,   0.0288,1,     -999,9,     -999,9,     -999,9,     -999,9,     -999,9,20230727,1643, -31.3611, 107.8122,-999          ,9,-999          ,9
33RR20230722  ,I05        ,19      ,  1,34         ,34         ,2,20230727,1433, -31.3611, 107.8122,     5308,     81.6,2,  16.7064,2,  35.7480,2,  35.7475,2,    239.0,2,    238.2,2,     1.46,2,     0.00,2,     0.08,2,     0.10,2,     -999,5,     -999,5,     -999,5,   2083.3,2,   2351.7,2,   7.9656,6,    24.99,2,     -999,9,  16.7054,2,     -999,9,     -999,9,     -999,9,     -999,9,     -999,9,   4.9746,1,   0.0241,1,     -999,5,     -999,9,     -999,9,     -999,9,     -999,9,20230727,1641, -31.3610, 107.8122,-999          ,9,-999          ,9
33RR20230722  ,I05        ,19      ,  1,33         ,33         ,2,20230727,1433, -31.3611, 107.8122,     5308,    100.4,2,  16.6726,2,  35.7441,2,  35.7434,2,    238.4,2,    237.9,2,     2.05,2,     0.00,2,     0.13,2,     0.13,2,     -999,9,     -999,9,     -999,9,   2083.2,2,   2349.7,2,   7.9634,2,    24.99,2,     -999,9,  16.6713,2,     -999,9,     -999,9,     -999,9,     -999,9,     -999,9,   4.8976,1,   0.0199,1,     -999,9,     -999,9,     -999,9,     -999,9,     -999,9,20230727,1640, -31.3611, 107.8122,-999          ,9,-999          ,9
33RR20230722  ,I05        ,19      ,  1,32         ,32         ,2,20230727,1433, -31.3611, 107.8122,     5308,    121.1,2,  16.5913,2,  35.7347,2,  35.7339,2,    237.1,2,    236.9,2,     1.56,2,     0.05,2,     0.19,2,     0.12,2,    2.304,2,    1.380,2,   2.2800,2,   2088.6,2,   2349.8,2,   7.9587,2,    24.99,2,     -999,9,  16.5903,2,     -999,9,     -999,9,     -999,9,     -999,9,     -999,9,   4.9737,1,   0.0152,1,      7.9,2,     -999,9,     -999,9,     -999,9,     -999,9,20230727,1638, -31.3611, 107.8121,-999          ,9,-999          ,9
33RR20230722  ,I05        ,19      ,  1,31         ,31         ,2,20230727,1433, -31.3611, 107.8122,     5308,    141.1,2,  16.5319,2,  35.7267,2,  35.7318,2,    236.1,2,    236.3,2,     1.76,2,     0.13,2,     0.18,2,     0.11,2,     -999,9,     -999,9,     -999,9,   2091.6,2,   2350.1,2,   7.9559,2,    25.00,2,     -999,9,  16.5299,2,     -999,9,     -999,9,     -999,9,     -999,9,     -999,9,   4.9733,1,   0.0131,1,     -999,9,     -999,9,     -999,9,     -999,9,     -999,9,20230727,1637, -31.3611, 107.8121,-999          ,9,-999          ,9
33RR20230722  ,I05        ,19      ,  1,30         ,30         ,2,20230727,1433, -31.3611, 107.8122,     5308,    166.9,2,  15.8612,2,  35.6133,2,  35.6202,2,    230.9,2,    232.0,2,     1.85,2,     0.94,2,     0.03,2,     0.19,2,     -999,9,     -999,9,     -999,9,   2096.7,2,   2344.6,2,   7.9359,2,    25.00,2,     -999,9,  15.8337,2,     -999,9,     -999,9,     -999,9,     -999,9,     -999,9,   4.9650,1,   0.0115,1,     -999,9,     -999,9,     -999,9,     -999,9,     -999,9,20230727,1635, -31.3611, 107.8121,-999          ,9,-999          ,9
33RR20230722  ,I05        ,19      ,  1,29         ,29         ,2,20230727,1433, -31.3611, 107.8122,     5308,    194.6,2,  15.3863,2,  35.5397,2,  35.5391,2,    229.3,2,    230.6,2,     1.56,2,     1.51,2,     0.01,2,     0.21,2,     -999,9,     -999,9,     -999,9,   2097.7,2,   2338.3,2,   7.9228,2,    25.00,2,     -999,9,  15.3840,2,     -999,9,     -999,9,     -999,9,     -999,9,     -999,9,   4.9328,1,   0.0115,1,     -999,9,     -999,9,     -999,9,     -999,9,     -999,9,20230727,1633, -31.3610, 107.8122,-999          ,9,-999          ,9
33RR20230722  ,I05        ,19      ,  1,28         ,28         ,2,20230727,1433, -31.3611, 107.8122,     5308,    222.3,2,  15.0832,2,  35.4897,2,  35.4924,2,    230.7,2,    231.7,2,     1.17,2,     1.82,2,     0.01,2,     0.24,2,    2.246,2,    1.483,2,   2.2900,2,   2098.9,2,   2337.1,2,   7.9161,2,    24.98,2,     -999,9,  15.0818,2,     -999,9,     -999,9,     -999,9,     -999,9,     -999,9,   4.9706,1,   0.0115,1,      8.4,2,     -999,9,     -999,9,     -999,9,     -999,9,20230727,1632, -31.3610, 107.8122,-999          ,9,-999          ,9
33RR20230722  ,I05        ,19      ,  1,27         ,27         ,2,20230727,1433, -31.3611, 107.8122,     5308,    256.2,2,  14.5743,2,  35.4114,2,  35.4155,2,    231.4,2,    233.0,2,     1.07,2,     2.55,2,     0.00,2,     0.29,2,     -999,9,     -999,9,     -999,9,   -999.0,9,     -999,9,     -999,9,     -999,9,     -999,9,  14.5847,2,     -999,9,     -999,9,     -999,9,     -999,9,     -999,9,   4.9700,1,   0.0117,1,     -999,9,     -999,9,     -999,9,     -999,9,     -999,9,20230727,1630, -31.3611, 107.8122,-999          ,9,-999          ,9
33RR20230722  ,I05        ,19      ,  1,26         ,26         ,2,20230727,1433, -31.3611, 107.8122,     5308,    295.7,2,  13.8936,2,  35.3128,2,  35.3143,2,    233.7,2,    234.1,2,     1.37,2,     3.85,2,     0.00,2,     0.39,2,     -999,9,     -999,9,     -999,9,   2112.5,2,   2328.1,2,   7.8753,6,    24.99,2,     -999,9,  13.8798,2,     -999,9,     -999,9,     -999,9,     -999,9,     -999,9,   4.9694,1,   0.0114,1,     -999,9,     -999,9,     -999,9,     -999,9,     -999,9,20230727,1628, -31.3610, 107.8122,-999          ,9,-999          ,9
33RR20230722  ,I05        ,19      ,  1,25         ,25         ,2,20230727,1433, -31.3611, 107.8122,     5308,    346.0,2,  12.8768,2,  35.1712,2,  35.1746,2,    237.5,2,    237.4,2,     1.17,2,     5.89,2,     0.00,2,     0.53,2,     -999,9,     -999,9,     -999,9,   2125.1,2,   2322.9,2,   7.8496,2,    25.00,2,     -999,9,  12.8673,2,     -999,9,     -999,9,     -999,9,     -999,9,     -999,9,   4.9692,1,   0.0116,1,     -999,9,     -999,9,     -999,9,     -999,9,     -999,9,20230727,1626, -31.3611, 107.8122,-999          ,9,-999          ,9
33RR20230722  ,I05        ,19      ,  1,24         ,24         ,2,20230727,1433, -31.3611, 107.8122,     5308,    417.8,2,  11.3080,2,  34.9313,2,  34.9303,2,    243.0,2,    242.2,2,     2.05,2,     9.83,2,     0.00,2,     0.78,2,    2.806,6,    1.805,6,   2.5300,6,   2132.3,2,   2308.4,6,   7.8059,6,    25.00,2,     -999,9,  11.3111,2,     -999,9,     -999,9,     -999,9,     -999,9,     -999,9,   4.9682,1,   0.0114,1,     11.7,6,     -999,9,     -999,9,     -999,9,     -999,9,20230727,1624, -31.3611, 107.8121,-999          ,9,-999          ,9
33RR20230722  ,I05        ,19      ,  1,23         ,23         ,2,20230727,1433, -31.3611, 107.8122,     5308,    476.9,2,  10.3179,2,  34.7805,2,  34.7813,2,    244.3,2,    243.1,2,     3.03,2,    12.84,2,     0.00,2,     0.96,2,     -999,9,     -999,9,     -999,9,   2133.4,2,   2298.6,2,   7.7775,2,    24.99,2,     -999,9,  10.3182,2,     -999,9,     -999,9,     -999,9,     -999,9,     -999,9,   4.9677,1,   0.0116,1,     -999,9,     -999,9,     -999,9,     -999,9,     -999,9,20230727,1622, -31.3611, 107.8121,-999          ,9,-999          ,9
33RR20230722  ,I05        ,19      ,  1,22         ,22         ,2,20230727,1433, -31.3611, 107.8122,     5308,    568.7,2,   9.8579,2,  34.7537,2,  34.7545,2,    237.1,2,    236.7,2,     3.61,2,    15.14,2,     0.00,2,     1.07,2,     -999,9,     -999,9,     -999,9,   2140.7,2,   2296.8,2,   7.7554,2,    25.01,2,     -999,9,   9.8571,2,     -999,9,     -999,9,     -999,9,     -999,9,     -999,9,   4.8435,1,   0.0114,1,     -999,9,     -999,9,     -999,9,     -999,9,     -999,9,20230727,1619, -31.3611, 107.8122,-999          ,9,-999          ,9
33RR20230722  ,I05        ,19      ,  1,21         ,21         ,2,20230727,1433, -31.3611, 107.8122,     5308,    713.2,2,   9.0513,2,  34.6481,2,  34.6486,2,    236.4,2,    236.0,2,     5.66,2,    17.56,2,     0.00,2,     1.28,2,     -999,9,     -999,9,     -999,9,   -999.0,9,     -999,9,     -999,9,     -999,9,     -999,9,   9.0507,2,     -999,9,     -999,9,     -999,9,     -999,9,     -999,9,   4.9665,1,   0.0112,1,     -999,9,     -999,9,     -999,9,     -999,9,     -999,9,20230727,1616, -31.3610, 107.8122,-999          ,9,-999          ,9
33RR20230722  ,I05        ,19      ,  1,20         ,20         ,2,20230727,1433, -31.3611, 107.8122,     5308,    828.4,2,   7.7383,2,  34.5026,2,  34.5036,2,    210.0,2,    211.1,2,    11.23,2,    22.96,2,     0.00,2,     1.58,2,    2.785,2,    1.682,2,   1.3800,2,   2163.4,2,   2290.3,2,   7.6854,2,    25.01,2,     -999,9,   7.7408,2,     -999,9,     -999,9,     -999,9,     -999,9,     -999,9,   4.7426,1,   0.0112,1,     16.1,2,     -999,9,     -999,9,     -999,9,     -999,9,20230727,1613, -31.3610, 107.8122,-999          ,9,-999          ,9
33RR20230722  ,I05        ,19      ,  1,19         ,19         ,2,20230727,1433, -31.3611, 107.8122,     5308,    917.6,2,   6.0378,2,  34.4030,2,  34.4043,2,    196.8,2,    198.2,2,    21.97,2,    27.87,2,     0.00,2,     1.92,2,     -999,9,     -999,9,     -999,9,   -999.0,9,     -999,9,     -999,9,     -999,9,     -999,9,   6.0452,2,     -999,9,     -999,9,     -999,9,     -999,9,     -999,9,   4.8381,1,   0.0112,1,     -999,9,     -999,9,     -999,9,     -999,9,     -999,9,20230727,1610, -31.3611, 107.8121,-999          ,9,-999          ,9
33RR20230722  ,I05        ,19      ,  1,18         ,18         ,2,20230727,1433, -31.3611, 107.8122,     5308,   1111.0,2,   4.0256,2,  34.4127,2,  34.4120,2,    177.9,2,    179.0,2,    48.63,2,    32.84,2,     0.00,2,     2.29,2,    1.194,2,    0.664,2,   0.2600,2,   2226.5,2,   2314.6,2,   7.5856,2,    24.98,2,     -999,9,   4.0242,2,     -999,9,     -999,9,     -999,9,     -999,9,     -999,9,   4.9565,1,   0.0111,1,     20.7,2,     -999,9,     -999,9,     -999,9,     -999,9,20230727,1606, -31.3611, 107.8122,-999          ,9,-999          ,9
33RR20230722  ,I05        ,19      ,  1,17         ,17         ,2,20230727,1433, -31.3611, 107.8122,     5308,   1260.7,2,   3.6083,2,  34.4959,2,  34.4964,2,    157.5,2,    157.3,2,    66.89,2,    34.63,2,     0.00,2,     2.44,2,     -999,9,     -999,9,     -999,9,   2251.8,2,   2334.3,2,   7.5624,2,    24.99,2,     -999,9,   3.6160,2,     -999,9,     -999,9,     -999,9,     -999,9,     -999,9,   4.9741,1,   0.0111,1,     -999,9,     -999,9,     -999,9,     -999,9,     -999,9,20230727,1602, -31.3611, 107.8121,-999          ,9,-999          ,9
33RR20230722  ,I05        ,19      ,  1,16         ,16         ,2,20230727,1433, -31.3611, 107.8122,     5308,   1343.5,2,   3.3209,2,  34.5205,2,  34.5223,2,    157.2,2,    156.9,2,    71.08,2,    34.77,2,     0.00,2,     2.47,2,    0.328,2,    0.207,2,   0.0800,2,   2256.1,6,   2339.5,2,   7.5608,2,    25.00,2,     -999,9,   3.3312,2,     -999,9,     -999,9,     -999,9,     -999,9,     -999,9,   4.8912,1,   0.0111,1,     23.0,2,     -999,9,     -999,9,     -999,9,     -999,9,20230727,1559, -31.3611, 107.8121,-999          ,9,-999          ,9
33RR20230722  ,I05        ,19      ,  1,15         ,15         ,2,20230727,1433, -31.3611, 107.8122,     5308,   1429.8,2,   3.1286,2,  34.5474,2,  34.5464,2,    157.7,2,    157.6,2,    74.21,2,    34.78,2,     0.00,2,     2.47,2,     -999,9,     -999,9,     -999,9,   2259.1,2,   2342.3,2,   7.5604,2,    25.00,2,     -999,9,   3.1290,2,     -999,9,     -999,9,     -999,9,     -999,9,     -999,9,   4.9748,1,   0.0112,1,     -999,9,     -999,9,     -999,9,     -999,9,     -999,9,20230727,1557, -31.3611, 107.8121,-999          ,9,-999          ,9
33RR20230722  ,I05        ,19      ,  1,14         ,14         ,2,20230727,1433, -31.3611, 107.8122,     5308,   1568.9,2,   2.9499,2,  34.6084,2,  34.6089,2,    153.8,2,    153.7,2,    83.58,2,    34.67,2,     0.00,2,     2.47,2,     -999,9,     -999,9,     -999,9,   2267.1,2,   2353.7,2,   7.5624,2,    24.98,2,     -999,9,   2.9500,2,     -999,9,     -999,9,     -999,9,     -999,9,     -999,9,   4.9754,1,   0.0114,1,     -999,9,     -999,9,     -999,9,     -999,9,     -999,9,20230727,1553, -31.3611, 107.8121,-999          ,9,-999          ,9
33RR20230722  ,I05        ,19      ,  1,13         ,13         ,2,20230727,1433, -31.3611, 107.8122,     5308,   1720.6,2,   2.7184,2,  34.6459,2,  34.6458,2,    158.3,2,    157.8,2,    88.46,2,    34.03,2,     0.00,2,     2.47,2,    0.022,2,    0.034,2,   0.1100,2,   2272.0,2,   2356.1,2,   7.5697,2,    24.98,2,     -999,9,   2.7177,2,     -999,9,     -999,9,     -999,9,     -999,9,     -999,9,   4.9751,1,   0.0117,1,     22.4,2,     -999,9,     -999,9,     -999,9,     -999,9,20230727,1550, -31.3611, 107.8122,-999          ,9,-999          ,9
33RR20230722  ,I05        ,19      ,  1,12         ,12         ,2,20230727,1433, -31.3611, 107.8122,     5308,   1823.2,2,   2.6023,2,  34.6708,2,  34.6714,2,    160.2,2,    160.0,2,    92.95,2,    33.67,2,     0.00,2,     2.45,2,     -999,9,     -999,9,     -999,9,   -999.0,9,     -999,9,     -999,9,     -999,9,     -999,9,   2.6020,2,     -999,9,     -999,9,     -999,9,     -999,9,     -999,9,   4.9750,1,   0.0117,1,     -999,9,     -999,9,     -999,9,     -999,9,     -999,9,20230727,1547, -31.3611, 107.8121,-999          ,9,-999          ,9
33RR20230722  ,I05        ,19      ,  1,11         ,11         ,2,20230727,1433, -31.3611, 107.8122,     5308,   2070.7,2,   2.3483,2,  34.7106,2,  34.7099,2,    162.0,2,    161.8,2,   104.85,2,    33.37,2,     0.00,2,     2.41,2,   -0.026,2,    0.005,2,   0.0500,2,   2278.6,2,   2373.9,2,   7.5842,2,    25.00,2,     -999,9,   2.3526,2,     -999,9,     -999,9,     -999,9,     -999,9,     -999,9,   4.9757,1,   0.0124,1,     21.6,2,     -999,9,     -999,9,     -999,9,     -999,9,20230727,1541, -31.3611, 107.8121,-999          ,9,-999          ,9
33RR20230722  ,I05        ,19      ,  1,10         ,10         ,2,20230727,1433, -31.3611, 107.8122,     5308,   2494.0,2,   1.9773,2,  34.7289,2,  34.7284,2,    176.4,2,    176.8,2,   106.22,2,    32.47,2,     0.00,2,     2.32,2,     -999,9,     -999,9,     -999,9,   -999.0,9,     -999,9,     -999,9,     -999,9,     -999,9,   1.9775,2,     -999,9,     -999,9,     -999,9,     -999,9,     -999,9,   4.7344,1,   0.0118,1,     -999,9,     -999,9,     -999,9,     -999,9,     -999,9,20230727,1533, -31.3611, 107.8122,-999          ,9,-999          ,9
33RR20230722  ,I05        ,19      ,  1,9          ,9          ,2,20230727,1433, -31.3611, 107.8122,     5308,   2848.7,2,   1.7251,2,  34.7299,2,  34.7296,2,    182.5,2,    182.8,2,   110.71,2,    32.30,2,     0.00,2,     2.30,2,   -0.025,2,    0.002,2,   0.0200,2,   2278.4,2,   2379.1,2,   7.6095,2,    25.00,2,     -999,9,   1.7255,2,     -999,9,     -999,9,     -999,9,     -999,9,     -999,9,   4.8440,1,   0.0113,1,     19.2,2,     -999,9,     -999,9,     -999,9,     -999,9,20230727,1526, -31.3611, 107.8122,-999          ,9,-999          ,9
33RR20230722  ,I05        ,19      ,  1,8          ,8          ,2,20230727,1433, -31.3611, 107.8122,     5308,   3114.3,2,   1.5666,2,  34.7293,2,  34.7290,2,    188.6,2,    188.7,2,   113.54,2,    32.02,2,     0.00,2,     2.27,2,   -0.026,2,    0.007,2,   0.0100,2,   -999.0,9,     -999,9,     -999,9,     -999,9,     -999,9,   1.5673,2,     -999,9,     -999,9,     -999,9,     -999,9,     -999,9,   4.9758,1,   0.0111,1,     18.5,2,     -999,9,     -999,9,     -999,9,     -999,9,20230727,1520, -31.3611, 107.8122,-999          ,9,-999          ,9
33RR20230722  ,I05        ,19      ,  1,7          ,7          ,2,20230727,1433, -31.3611, 107.8122,     5308,   3469.8,2,   1.3383,2,  34.7238,2,  34.7225,2,    194.3,2,    194.4,2,   118.33,2,    32.06,2,     0.00,2,     2.29,2,   -0.018,2,    0.008,2,   0.0300,2,   2275.0,2,   2380.4,2,   7.6182,2,    24.99,2,     -999,9,   1.3389,2,     -999,9,     -999,9,     -999,9,     -999,9,     -999,9,   4.9760,1,   0.0111,1,     18.1,2,     -999,9,     -999,9,     -999,9,     -999,9,20230727,1513, -31.3611, 107.8121,-999          ,9,-999          ,9
33RR20230722  ,I05        ,19      ,  1,6          ,6          ,2,20230727,1433, -31.3611, 107.8122,     5308,   3917.3,2,   1.1835,2,  34.7172,2,  34.7162,2,    198.2,2,    198.3,2,   122.43,2,    32.15,2,     0.00,2,     2.28,2,   -0.004,2,    0.017,2,   0.0400,2,   -999.0,9,     -999,9,     -999,9,     -999,9,     -999,9,   1.1839,2,     -999,9,     -999,9,     -999,9,     -999,9,     -999,9,   4.8717,1,   0.0111,1,     17.9,2,     -999,9,     -999,9,     -999,9,     -999,9,20230727,1504, -31.3611, 107.8121,-999          ,9,-999          ,9
33RR20230722  ,I05        ,19      ,  1,5          ,5          ,2,20230727,1433, -31.3611, 107.8122,     5308,   4251.6,2,   1.1072,2,  34.7135,2,  34.7125,2,    202.1,2,    202.3,2,   123.21,2,    32.07,2,     0.00,2,     2.29,2,   -0.024,4,   -0.007,4,  -0.0100,4,   2273.2,2,   2380.1,2,   7.6212,6,    24.99,2,     -999,9,   1.1076,2,     -999,9,     -999,9,     -999,9,     -999,9,     -999,9,   4.9766,1,   0.0111,1,     16.0,4,     -999,9,     -999,9,     -999,9,     -999,9,20230727,1458, -31.3611, 107.8121,-999          ,9,-999          ,9
33RR20230722  ,I05        ,19      ,  1,4          ,4          ,2,20230727,1433, -31.3611, 107.8122,     5308,   4512.4,2,   1.0567,2,  34.7108,2,  34.7099,2,    204.6,2,    204.8,2,   123.40,2,    32.19,2,     0.00,2,     2.29,2,   -0.022,4,   -0.006,4,  -0.0100,4,   -999.0,9,     -999,9,     -999,9,     -999,9,     -999,9,   1.0572,2,     -999,9,     -999,9,     -999,9,     -999,9,     -999,9,   4.9069,1,   0.0110,1,     15.3,4,     -999,9,     -999,9,     -999,9,     -999,9,20230727,1452, -31.3611, 107.8121,-999          ,9,-999          ,9
33RR20230722  ,I05        ,19      ,  1,3          ,3          ,2,20230727,1433, -31.3611, 107.8122,     5308,   4876.0,2,   1.0502,2,  34.7085,2,  34.7072,2,    206.2,2,    206.3,2,   124.19,2,    32.17,2,     0.00,2,     2.29,2,    0.054,2,    0.053,2,  -0.0100,2,   2269.0,2,   2375.8,2,   7.6191,2,    25.00,2,     -999,9,   1.0507,2,     -999,9,     -999,9,     -999,9,     -999,9,     -999,9,   4.9771,1,   0.0119,1,     17.9,2,     -999,9,     -999,9,     -999,9,     -999,9,20230727,1444, -31.3611, 107.8122,-999          ,9,-999          ,9