BOTTLE,20240422CCHHYDRO
EXPOCODE,SECT_ID,STNNBR,CASTNO,SAMPNO,BTLNBR,BTLNBR_FLAG_W,DATE,TIME,LATITUDE,LONGITUDE,DEPTH,CTDPRS,CTDPRS_FLAG_W,CTDTMP,CTDTMP_FLAG_W,CTDSAL,CTDSAL_FLAG_W,SALNTY,SALNTY_FLAG_W,CTDOXY,CTDOXY_FLAG_W,OXYGEN,OXYGEN_FLAG_W,SILCAT,SILCAT_FLAG_W,NITRAT,NITRAT_FLAG_W,NITRIT,NITRIT_FLAG_W,PHSPHT,PHSPHT_FLAG_W,CFC-11,CFC-11_FLAG_W,CFC-12,CFC-12_FLAG_W,SF6,SF6_FLAG_W,TCARBN,TCARBN_FLAG_W,ALKALI,ALKALI_FLAG_W,PH_TOT,PH_TOT_FLAG_W,PH_TMP,PH_TMP_FLAG_W,DOC,DOC_FLAG_W,REFTMP,REFTMP_FLAG_W,POC,POC_FLAG_W,PON,PON_FLAG_W,POP,POP_FLAG_W,DOP,DOP_FLAG_W,DELO18,DELO18_FLAG_W,CTDFLUOR,CTDFLUOR_FLAG_W,CTDXMISS,CTDXMISS_FLAG_W,N2O,N2O_FLAG_W,D15N_NO3,D15N_NO3_FLAG_W,D15N_NO2+NO3,D15N_NO2+NO3_FLAG_W,D18O_NO2+NO3,D18O_NO2+NO3_FLAG_W,D18O_NO3,D18O_NO3_FLAG_W,BTL_DATE,BTL_TIME,BTL_LAT,BTL_LON,HPLC,HPLC_FLAG_W,DNA,DNA_FLAG_W
,,,,,,,,,,,METERS,DBAR,,ITS-90,,PSS-78,,PSS-78,,UMOL/KG,,UMOL/KG,,UMOL/KG,,UMOL/KG,,UMOL/KG,,UMOL/KG,,PMOL/KG,,PMOL/KG,,FMOL/KG,,UMOL/KG,,UMOL/KG,,,,DEG C,,UMOL/KG,,ITS-90,,UG/KG,,UG/KG,,UG/L,,UMOL/KG,,/MILLE,,VOLTS,,VOLTS,,NMOL/KG,,/MILLE,,/MILLE,,/MILLE,,/MILLE,,,,,,,,,
33RR20230722  ,I05        ,103     ,  2,36         ,38         ,2,20230818,1140, -34.0012,  70.2702,     3996,      4.5,2,  16.0251,2,  35.4485,2,  35.4502,2,    247.9,2,    248.3,2,     0.88,2,     0.02,2,     0.05,2,     0.18,2,     -999,9,     -999,9,     -999,9,   2083.3,2,   2330.4,2,   7.9428,2,    25.00,2,     -999,1,  16.0250,2,     -999,9,     -999,9,     -999,9,     -999,9,     -999,1,   4.9758,1,   0.0451,1,     -999,9,     -999,9,     -999,9,     -999,9,     -999,9,20230818,1337, -34.0012,  70.2702,-999          ,9,-999          ,9
33RR20230722  ,I05        ,103     ,  2,35         ,35         ,2,20230818,1140, -34.0012,  70.2702,     3996,     19.2,2,  16.0200,2,  35.4464,2,  35.4470,2,    247.9,2,    248.3,2,     0.88,2,     0.00,2,     0.03,2,     0.15,2,    2.557,3,    1.460,2,   2.3400,2,   2085.3,6,   2330.4,2,   7.9418,2,    25.00,2,     -999,9,  16.0165,2,     -999,9,     -999,9,     -999,9,     -999,9,     -999,1,   4.9757,1,   0.0477,1,      8.4,2,     -999,9,     -999,9,     -999,9,     -999,9,20230818,1335, -34.0012,  70.2702,-999          ,9,-999          ,9
33RR20230722  ,I05        ,103     ,  2,34         ,34         ,4,20230818,1140, -34.0012,  70.2702,     3996,     32.6,3,  15.9454,3,  35.4380,3,  35.2168,4,    247.6,3,    231.8,3,     9.85,3,     7.14,3,     0.03,3,     0.60,3,     -999,9,     -999,9,     -999,9,   2123.4,4,   2323.0,3,   7.8547,3,    24.98,3,     -999,9,  15.9443,3,     -999,9,     -999,9,     -999,9,     -999,9,     -999,1,   4.9755,1,   0.0566,1,     -999,9,     -999,9,     -999,9,     -999,9,     -999,9,20230818,1332, -34.0012,  70.2702,-999          ,9,-999          ,9
33RR20230722  ,I05        ,103     ,  2,33         ,33         ,2,20230818,1140, -34.0012,  70.2702,     3996,     49.2,2,  15.9421,2,  35.4384,2,  35.4399,2,    247.1,2,    247.6,2,     0.88,2,     0.00,2,     0.03,2,     0.15,2,    1.369,2,    1.318,2,   2.2300,2,   2081.9,2,   2329.2,2,   7.9404,2,    24.98,2,     -999,9,  15.9395,2,     -999,9,     -999,9,     -999,9,     -999,9,     -999,1,   4.9543,1,   0.0572,1,      8.5,2,     -999,9,     -999,9,     -999,9,     -999,9,20230818,1330, -34.0012,  70.2702,-999          ,9,-999          ,9
33RR20230722  ,I05        ,103     ,  2,32         ,32         ,2,20230818,1140, -34.0012,  70.2702,     3996,     70.2,2,  15.7502,2,  35.4231,2,  35.4241,2,    246.0,2,    246.6,2,     0.88,2,     0.24,2,     0.06,2,     0.19,2,     -999,9,     -999,9,     -999,9,   -999.0,9,     -999,9,     -999,9,     -999,9,     -999,9,  15.7543,2,     -999,9,     -999,9,     -999,9,     -999,9,     -999,1,   4.9745,1,   0.0421,1,     -999,9,     -999,9,     -999,9,     -999,9,     -999,9,20230818,1328, -34.0013,  70.2702,-999          ,9,-999          ,9
33RR20230722  ,I05        ,103     ,  2,31         ,31         ,2,20230818,1140, -34.0012,  70.2702,     3996,     94.1,2,  15.3939,2,  35.3951,2,  35.3975,2,    244.9,2,    245.2,2,     1.07,2,     0.82,2,     0.14,2,     0.21,2,    1.919,2,    1.434,2,   2.3000,2,   2089.0,2,   2327.3,2,   7.9241,2,    24.98,2,     -999,9,  15.4161,2,     -999,9,     -999,9,     -999,9,     -999,9,     -999,1,   4.9736,1,   0.0339,1,      8.6,2,     -999,9,     -999,9,     -999,9,     -999,9,20230818,1325, -34.0012,  70.2703,-999          ,9,-999          ,9
33RR20230722  ,I05        ,103     ,  2,30         ,30         ,2,20230818,1140, -34.0012,  70.2702,     3996,    119.8,2,  14.7939,2,  35.3438,2,  35.3545,3,    238.3,2,    240.0,2,     1.56,2,     2.77,2,     0.27,2,     0.36,2,     -999,9,     -999,9,     -999,9,   2103.7,2,   2323.9,2,   7.8950,2,    24.99,2,     -999,9,  14.7166,3,     -999,9,     -999,9,     -999,9,     -999,9,     -999,1,   4.9720,1,   0.0174,1,     -999,9,     -999,9,     -999,9,     -999,9,     -999,9,20230818,1323, -34.0013,  70.2702,-999          ,9,-999          ,9
33RR20230722  ,I05        ,103     ,  2,29         ,29         ,2,20230818,1140, -34.0012,  70.2702,     3996,    147.8,2,  13.7986,2,  35.2830,2,  35.2885,2,    234.5,2,    235.0,2,     1.95,2,     5.49,2,     0.05,2,     0.51,2,    1.912,2,    1.491,2,   2.2900,2,   2116.8,2,   2317.7,2,   7.8591,2,    25.00,2,     -999,9,  13.8279,2,     -999,9,     -999,9,     -999,9,     -999,9,     -999,1,   4.9318,1,   0.0165,1,     10.4,2,     -999,9,     -999,9,     -999,9,     -999,9,20230818,1321, -34.0012,  70.2702,-999          ,9,-999          ,9
33RR20230722  ,I05        ,103     ,  2,28         ,28         ,2,20230818,1140, -34.0012,  70.2702,     3996,    180.5,2,  13.4389,2,  35.2606,2,  35.2609,2,    233.7,2,    234.2,2,     2.54,2,     6.98,2,     0.02,2,     0.57,2,     -999,9,     -999,9,     -999,9,   -999.0,9,     -999,9,     -999,9,     -999,9,     -999,9,  13.4409,2,     -999,9,     -999,9,     -999,9,     -999,9,     -999,1,   4.9695,1,   0.0126,1,     -999,9,     -999,9,     -999,9,     -999,9,     -999,9,20230818,1319, -34.0012,  70.2702,-999          ,9,-999          ,9
33RR20230722  ,I05        ,103     ,  2,27         ,27         ,2,20230818,1140, -34.0012,  70.2702,     3996,    211.3,2,  13.0615,2,  35.1992,2,  35.2028,2,    236.1,2,    235.7,2,     2.44,2,     7.44,2,     0.00,2,     0.60,2,    2.017,2,    1.622,2,   2.4200,2,   2122.6,2,   2314.0,2,   7.8384,2,    25.01,2,     -999,9,  13.0578,2,     -999,9,     -999,9,     -999,9,     -999,9,     -999,1,   4.9694,1,   0.0124,1,     10.6,2,     -999,9,     -999,9,     -999,9,     -999,9,20230818,1317, -34.0012,  70.2702,-999          ,9,-999          ,9
33RR20230722  ,I05        ,103     ,  2,26         ,26         ,2,20230818,1140, -34.0012,  70.2702,     3996,    248.3,2,  12.8440,2,  35.1851,2,  35.1839,2,    238.1,2,    237.8,2,     2.63,2,     8.00,2,     0.00,2,     0.62,2,     -999,9,     -999,9,     -999,9,   -999.0,9,     -999,9,     -999,9,     -999,9,     -999,9,  12.8389,2,     -999,9,     -999,9,     -999,9,     -999,9,     -999,1,   4.9692,1,   0.0114,1,     -999,9,     -999,9,     -999,9,     -999,9,     -999,9,20230818,1315, -34.0012,  70.2702,-999          ,9,-999          ,9
33RR20230722  ,I05        ,103     ,  2,25         ,25         ,2,20230818,1140, -34.0012,  70.2702,     3996,    288.7,2,  12.7060,2,  35.1663,2,  35.1662,2,    239.3,2,    238.7,2,     2.83,2,     8.34,2,     0.00,2,     0.64,2,    2.543,2,    1.535,2,   2.3700,2,   2121.8,2,   2312.0,2,   7.8330,2,    25.00,2,     -999,9,  12.6998,2,     -999,9,     -999,9,     -999,9,     -999,9,     -999,1,   4.7711,1,   0.0118,1,     10.7,2,     -999,9,     -999,9,     -999,9,     -999,9,20230818,1313, -34.0012,  70.2702,-999          ,9,-999          ,9
33RR20230722  ,I05        ,103     ,  2,24         ,24         ,2,20230818,1140, -34.0012,  70.2702,     3996,    345.7,2,  12.3674,2,  35.1121,2,  35.1122,2,    237.8,2,    237.1,2,     3.12,2,     9.35,2,     0.00,2,     0.70,2,     -999,9,     -999,9,     -999,9,   -999.0,9,     -999,9,     -999,9,     -999,9,     -999,9,  12.3690,2,     -999,9,     -999,9,     -999,9,     -999,9,     -999,1,   4.9683,1,   0.0115,1,     -999,9,     -999,9,     -999,9,     -999,9,     -999,9,20230818,1310, -34.0012,  70.2702,-999          ,9,-999          ,9
33RR20230722  ,I05        ,103     ,  2,23         ,23         ,2,20230818,1140, -34.0012,  70.2702,     3996,    405.0,2,  11.9655,2,  35.0466,2,  35.0496,2,    236.0,2,    236.2,2,     3.41,2,    10.43,2,     0.00,2,     0.77,2,    2.350,2,    1.730,2,   2.2400,2,   2128.3,2,   2306.2,2,   7.8123,2,    25.00,2,     -999,9,  11.9748,2,     -999,9,     -999,9,     -999,9,     -999,9,     -999,1,   4.9678,1,   0.0112,1,     11.2,2,     -999,9,     -999,9,     -999,9,     -999,9,20230818,1308, -34.0013,  70.2702,-999          ,9,-999          ,9
33RR20230722  ,I05        ,103     ,  2,22         ,22         ,2,20230818,1140, -34.0012,  70.2702,     3996,    478.5,2,  11.5698,2,  34.9828,2,  34.9825,2,    236.2,2,    235.6,2,     3.61,2,    11.48,2,     0.00,2,     0.84,2,     -999,9,     -999,9,     -999,9,   -999.0,9,     -999,9,     -999,9,     -999,9,     -999,9,  11.5676,2,     -999,9,     -999,9,     -999,9,     -999,9,     -999,1,   4.8800,1,   0.0114,1,     -999,9,     -999,9,     -999,9,     -999,9,     -999,9,20230818,1306, -34.0012,  70.2702,-999          ,9,-999          ,9
33RR20230722  ,I05        ,103     ,  2,21         ,21         ,2,20230818,1140, -34.0012,  70.2702,     3996,    563.2,2,  10.9311,2,  34.8874,2,  34.8886,2,    231.4,2,    230.7,2,     4.29,2,    13.38,2,     0.00,2,     0.96,2,    2.135,2,    1.818,2,   2.0700,2,   2134.2,2,   2299.1,2,   7.7827,6,    24.98,2,     -999,9,  10.9348,2,     -999,9,     -999,9,     -999,9,     -999,9,     -999,1,   4.9647,1,   0.0115,1,     11.8,2,     -999,9,     -999,9,     -999,9,     -999,9,20230818,1303, -34.0012,  70.2702,-999          ,9,-999          ,9
33RR20230722  ,I05        ,103     ,  2,20         ,20         ,2,20230818,1140, -34.0012,  70.2702,     3996,    654.6,2,  10.2576,2,  34.7967,2,  34.7972,2,    222.6,2,    222.7,2,     5.56,2,    15.69,2,     0.00,2,     1.10,2,     -999,9,     -999,9,     -999,9,   2144.6,2,   2294.8,6,   7.7571,2,    24.99,2,     -999,9,  10.2474,2,     -999,9,     -999,9,     -999,9,     -999,9,     -999,1,   4.8916,1,   0.0115,1,     -999,9,     -999,9,     -999,9,     -999,9,     -999,9,20230818,1258, -34.0012,  70.2702,-999          ,9,-999          ,9
33RR20230722  ,I05        ,103     ,  2,19         ,19         ,2,20230818,1140, -34.0012,  70.2702,     3996,    767.7,2,   9.0821,2,  34.6609,2,  34.6578,2,    214.6,2,    214.6,2,     8.30,2,    19.22,2,     0.00,2,     1.33,2,     -999,9,     -999,9,     -999,9,   -999.0,9,     -999,9,     -999,9,     -999,9,     -999,9,   9.0740,2,     -999,9,     -999,9,     -999,9,     -999,9,     -999,1,   4.9676,1,   0.0114,1,     -999,9,     -999,9,     -999,9,     -999,9,     -999,9,20230818,1255, -34.0012,  70.2702,-999          ,9,-999          ,9
33RR20230722  ,I05        ,103     ,  2,18         ,18         ,2,20230818,1140, -34.0012,  70.2702,     3996,    885.9,2,   7.5842,2,  34.5203,2,  34.5199,2,    205.0,2,    205.4,2,    14.15,2,    23.61,2,     0.00,2,     1.62,2,    2.651,2,    1.602,2,   1.0500,2,   2168.1,2,   2287.0,2,   7.6790,6,    25.00,2,     -999,9,   7.5908,2,     -999,9,     -999,9,     -999,9,     -999,9,     -999,1,   4.9689,1,   0.0112,1,     16.2,2,     -999,9,     -999,9,     -999,9,     -999,9,20230818,1252, -34.0013,  70.2702,-999          ,9,-999          ,9
33RR20230722  ,I05        ,103     ,  2,17         ,17         ,2,20230818,1140, -34.0012,  70.2702,     3996,   1004.8,2,   5.7490,2,  34.3906,2,  34.3917,2,    202.5,2,    203.0,2,    23.52,2,    27.97,2,     0.00,2,     1.92,2,    1.892,2,    1.300,2,   0.7500,2,   2187.6,2,   2289.5,2,   7.6366,2,    25.00,2,     -999,9,   5.7408,2,     -999,9,     -999,9,     -999,9,     -999,9,     -999,1,   4.9699,1,   0.0112,1,     18.3,2,     -999,9,     -999,9,     -999,9,     -999,9,20230818,1249, -34.0012,  70.2703,-999          ,9,-999          ,9
33RR20230722  ,I05        ,103     ,  2,16         ,16         ,2,20230818,1140, -34.0012,  70.2702,     3996,   1125.8,2,   4.5865,2,  34.3651,2,  34.3645,2,    195.9,2,    196.6,2,    34.95,2,    30.74,2,     0.00,2,     2.10,2,    2.035,2,    1.116,2,   0.6100,2,   2204.2,2,   2296.8,2,   7.6082,2,    24.98,2,     -999,9,   4.6003,2,     -999,9,     -999,9,     -999,9,     -999,9,     -999,1,   4.6485,1,   0.0112,1,     20.1,2,     -999,9,     -999,9,     -999,9,     -999,9,20230818,1246, -34.0012,  70.2702,-999          ,9,-999          ,9
33RR20230722  ,I05        ,103     ,  2,15         ,15         ,2,20230818,1140, -34.0012,  70.2702,     3996,   1248.3,2,   3.9233,2,  34.3901,2,  34.3898,2,    187.6,2,    188.2,2,    45.00,2,    32.21,2,     0.00,2,     2.25,2,    1.536,2,    0.848,2,   0.4100,2,   2220.9,2,   2306.1,2,   7.5884,2,    25.00,2,     -999,9,   3.9217,2,     -999,9,     -999,9,     -999,9,     -999,9,     -999,1,   4.9720,1,   0.0116,1,     21.3,2,     -999,9,     -999,9,     -999,9,     -999,9,20230818,1243, -34.0013,  70.2702,-999          ,9,-999          ,9
33RR20230722  ,I05        ,103     ,  2,14         ,14         ,2,20230818,1140, -34.0012,  70.2702,     3996,   1372.5,2,   3.4789,2,  34.4487,2,  34.4489,2,    176.2,2,    176.5,2,    56.03,2,    33.33,2,     0.00,2,     2.33,2,     -999,9,     -999,9,     -999,9,   -999.0,9,     -999,9,     -999,9,     -999,9,     -999,9,   3.4785,2,     -999,9,     -999,9,     -999,9,     -999,9,     -999,1,   4.7252,1,   0.0113,1,     -999,9,     -999,9,     -999,9,     -999,9,     -999,9,20230818,1240, -34.0013,  70.2702,-999          ,9,-999          ,9
33RR20230722  ,I05        ,103     ,  2,13         ,13         ,2,20230818,1140, -34.0012,  70.2702,     3996,   1500.9,2,   3.1524,2,  34.5248,2,  34.5239,2,    167.7,2,    167.9,2,    66.37,2,    33.75,2,     0.00,2,     2.36,2,    0.849,2,    0.301,2,   0.1300,2,   2245.3,2,   2329.1,2,   7.5678,2,    24.99,2,     -999,9,   3.1520,2,     -999,9,     -999,9,     -999,9,     -999,9,     -999,1,   4.9737,1,   0.0113,1,     22.7,2,     -999,9,     -999,9,     -999,9,     -999,9,20230818,1236, -34.0013,  70.2702,-999          ,9,-999          ,9
33RR20230722  ,I05        ,103     ,  2,12         ,12         ,2,20230818,1140, -34.0012,  70.2702,     3996,   1636.1,2,   2.9403,2,  34.5834,2,  34.5830,2,    165.8,2,    165.5,2,    73.39,2,    33.52,2,     0.00,2,     2.32,2,    0.420,2,    0.180,2,   0.0800,2,   2254.4,2,   2337.5,2,   7.5705,2,    25.01,2,     -999,9,   2.9402,2,     -999,9,     -999,9,     -999,9,     -999,9,     -999,1,   4.9346,1,   0.0115,1,     22.5,2,     -999,9,     -999,9,     -999,9,     -999,9,20230818,1233, -34.0013,  70.2702,-999          ,9,-999          ,9
33RR20230722  ,I05        ,103     ,  2,11         ,11         ,2,20230818,1140, -34.0012,  70.2702,     3996,   1776.9,2,   2.7219,2,  34.6274,2,  34.6268,2,    170.3,2,    170.3,2,    76.42,2,    32.87,2,     0.00,2,     2.29,2,    0.200,2,    0.126,2,   0.0500,2,   2255.6,2,   2339.9,2,   7.5783,2,    25.01,2,     -999,9,   2.7231,2,     -999,9,     -999,9,     -999,9,     -999,9,     -999,1,   4.9742,1,   0.0118,1,     21.8,2,     -999,9,     -999,9,     -999,9,     -999,9,20230818,1230, -34.0012,  70.2702,-999          ,9,-999          ,9
33RR20230722  ,I05        ,103     ,  2,10         ,10         ,2,20230818,1140, -34.0012,  70.2702,     3996,   1954.7,2,   2.5203,2,  34.6679,2,  34.6665,2,    173.9,2,    173.9,2,    82.56,2,    32.38,2,     0.00,2,     2.25,2,    0.138,2,    0.060,2,  -0.0100,2,   2258.9,2,   2348.7,2,   7.5952,2,    24.99,2,     -999,9,   2.5205,2,     -999,9,     -999,9,     -999,9,     -999,9,     -999,1,   4.9328,1,   0.0120,1,     21.4,2,     -999,9,     -999,9,     -999,9,     -999,9,20230818,1226, -34.0013,  70.2702,-999          ,9,-999          ,9
33RR20230722  ,I05        ,103     ,  2,9          ,9          ,2,20230818,1140, -34.0012,  70.2702,     3996,   2160.5,2,   2.3139,2,  34.6992,2,  34.6981,2,    176.1,2,    176.1,2,    92.13,2,    32.09,2,     0.00,2,     2.23,2,     -999,9,     -999,9,     -999,9,   -999.0,9,     -999,9,     -999,9,     -999,9,     -999,9,   2.3149,2,     -999,9,     -999,9,     -999,9,     -999,9,     -999,1,   4.9745,1,   0.0117,1,     -999,9,     -999,9,     -999,9,     -999,9,     -999,9,20230818,1221, -34.0013,  70.2703,-999          ,9,-999          ,9
33RR20230722  ,I05        ,103     ,  2,8          ,8          ,2,20230818,1140, -34.0012,  70.2702,     3996,   2427.7,2,   2.0979,2,  34.7208,2,  34.7195,2,    176.8,2,    176.7,2,   102.27,2,    32.23,2,     0.00,2,     2.25,2,     -999,9,     -999,9,     -999,9,   -999.0,9,     -999,9,     -999,9,     -999,9,     -999,9,   2.0978,2,     -999,9,     -999,9,     -999,9,     -999,9,     -999,1,   4.8547,1,   0.0110,1,     -999,9,     -999,9,     -999,9,     -999,9,     -999,9,20230818,1215, -34.0013,  70.2703,-999          ,9,-999          ,9
33RR20230722  ,I05        ,103     ,  2,7          ,7          ,2,20230818,1140, -34.0012,  70.2702,     3996,   2716.5,2,   1.9336,2,  34.7278,2,  34.7264,2,    177.3,2,    177.7,2,   109.49,2,    32.51,2,     0.00,2,     2.28,2,    0.028,6,    0.013,6,   0.0300,6,   2275.4,2,   2377.6,2,   7.6108,2,    25.00,2,     -999,9,   1.9328,2,     -999,9,     -999,9,     -999,9,     -999,9,     -999,1,   4.9751,1,   0.0117,1,     20.3,6,     -999,9,     -999,9,     -999,9,     -999,9,20230818,1209, -34.0013,  70.2702,-999          ,9,-999          ,9
33RR20230722  ,I05        ,103     ,  2,6          ,6          ,2,20230818,1140, -34.0012,  70.2702,     3996,   3037.7,2,   1.7744,2,  34.7281,2,  34.7268,2,    179.0,2,    178.7,2,   115.35,2,    32.79,2,     0.00,2,     2.27,2,    0.024,2,    0.010,2,   0.0000,2,   2281.2,2,   2378.8,2,   7.6053,6,    25.00,2,     -999,9,   1.7738,2,     -999,9,     -999,9,     -999,9,     -999,9,     -999,1,   4.9756,1,   0.0111,1,     19.9,2,     -999,9,     -999,9,     -999,9,     -999,9,20230818,1203, -34.0013,  70.2702,-999          ,9,-999          ,9
33RR20230722  ,I05        ,103     ,  2,5          ,5          ,2,20230818,1140, -34.0012,  70.2702,     3996,   3382.2,2,   1.5817,2,  34.7232,2,  34.7219,2,    183.7,2,    183.8,2,   119.64,2,    32.91,2,     0.00,2,     2.28,2,    0.032,2,    0.019,2,  -0.0300,2,   2279.8,2,   2381.3,6,   7.6059,6,    25.00,2,     -999,9,   1.5814,2,     -999,9,     -999,9,     -999,9,     -999,9,     -999,1,   4.6879,1,   0.0116,1,     19.7,2,     -999,9,     -999,9,     -999,9,     -999,9,20230818,1156, -34.0013,  70.2703,-999          ,9,-999          ,9
33RR20230722  ,I05        ,103     ,  2,4          ,37         ,2,20230818,1140, -34.0012,  70.2702,     3996,   3635.0,2,   1.4220,2,  34.7178,2,  34.7172,2,    188.7,2,    188.7,2,   121.79,2,    32.74,2,     0.00,2,     2.30,2,    0.120,2,    0.053,2,   0.0700,2,   2277.2,2,   2376.5,6,   7.6041,2,    24.99,2,     -999,9,   1.4227,2,     -999,9,     -999,9,     -999,9,     -999,9,     -999,1,   4.9759,1,   0.0119,1,     18.9,2,     -999,9,     -999,9,     -999,9,     -999,9,20230818,1151, -34.0013,  70.2702,-999          ,9,-999          ,9
33RR20230722  ,I05        ,103     ,  2,3          ,3          ,2,20230818,1140, -34.0012,  70.2702,     3996,   3851.6,2,   1.1943,2,  34.7103,2,  34.7095,2,    196.1,2,    196.2,2,   123.55,2,    32.68,2,     0.00,2,     2.28,2,    0.064,2,    0.038,2,   0.0500,2,   2275.1,2,   2374.7,2,   7.6058,2,    25.01,2,     -999,9,   1.1951,2,     -999,9,     -999,9,     -999,9,     -999,9,     -999,1,   4.9759,1,   0.0111,1,     19.0,2,     -999,9,     -999,9,     -999,9,     -999,9,20230818,1146, -34.0012,  70.2703,-999          ,9,-999          ,9