BOTTLE,20240422CCHHYDRO
EXPOCODE,SECT_ID,STNNBR,CASTNO,SAMPNO,BTLNBR,BTLNBR_FLAG_W,DATE,TIME,LATITUDE,LONGITUDE,DEPTH,CTDPRS,CTDPRS_FLAG_W,CTDTMP,CTDTMP_FLAG_W,CTDSAL,CTDSAL_FLAG_W,SALNTY,SALNTY_FLAG_W,CTDOXY,CTDOXY_FLAG_W,OXYGEN,OXYGEN_FLAG_W,SILCAT,SILCAT_FLAG_W,NITRAT,NITRAT_FLAG_W,NITRIT,NITRIT_FLAG_W,PHSPHT,PHSPHT_FLAG_W,CFC-11,CFC-11_FLAG_W,CFC-12,CFC-12_FLAG_W,SF6,SF6_FLAG_W,TCARBN,TCARBN_FLAG_W,ALKALI,ALKALI_FLAG_W,PH_TOT,PH_TOT_FLAG_W,PH_TMP,PH_TMP_FLAG_W,DOC,DOC_FLAG_W,REFTMP,REFTMP_FLAG_W,POC,POC_FLAG_W,PON,PON_FLAG_W,POP,POP_FLAG_W,DOP,DOP_FLAG_W,DELO18,DELO18_FLAG_W,CTDFLUOR,CTDFLUOR_FLAG_W,CTDXMISS,CTDXMISS_FLAG_W,N2O,N2O_FLAG_W,D15N_NO3,D15N_NO3_FLAG_W,D15N_NO2+NO3,D15N_NO2+NO3_FLAG_W,D18O_NO2+NO3,D18O_NO2+NO3_FLAG_W,D18O_NO3,D18O_NO3_FLAG_W,BTL_DATE,BTL_TIME,BTL_LAT,BTL_LON,HPLC,HPLC_FLAG_W,DNA,DNA_FLAG_W
,,,,,,,,,,,METERS,DBAR,,ITS-90,,PSS-78,,PSS-78,,UMOL/KG,,UMOL/KG,,UMOL/KG,,UMOL/KG,,UMOL/KG,,UMOL/KG,,PMOL/KG,,PMOL/KG,,FMOL/KG,,UMOL/KG,,UMOL/KG,,,,DEG C,,UMOL/KG,,ITS-90,,UG/KG,,UG/KG,,UG/L,,UMOL/KG,,/MILLE,,VOLTS,,VOLTS,,NMOL/KG,,/MILLE,,/MILLE,,/MILLE,,/MILLE,,,,,,,,,
33RR20230722  ,I05        ,76      ,  1,36         ,36         ,2,20230811,0252, -31.1923,  82.5645,     3664,      8.5,2,  17.5363,2,  35.7076,2,  35.7057,2,    237.6,2,    237.5,2,     0.98,2,     0.06,2,     0.00,2,     0.13,2,     -999,9,     -999,9,     -999,9,   2088.1,2,   2345.2,2,   7.9626,2,    25.01,2,     -999,1,  17.5352,2,     -999,9,     -999,9,     -999,9,     -999,9,     -999,1,   4.5982,1,   0.0175,1,     -999,9,     -999,9,     -999,9,     -999,9,     -999,9,20230811,0429, -31.1923,  82.5645,-999          ,9,-999          ,9
33RR20230722  ,I05        ,76      ,  1,35         ,35         ,2,20230811,0252, -31.1923,  82.5645,     3664,     20.3,2,  17.5387,2,  35.7077,2,  35.7061,2,    237.9,2,    237.7,2,     0.98,2,     0.02,2,     0.00,2,     0.13,2,     -999,9,     -999,9,     -999,9,   2087.1,2,   2346.7,2,   7.9632,2,    25.01,2,     -999,1,  17.5376,2,     -999,9,     -999,9,     -999,9,     -999,9,     -999,1,   4.9748,1,   0.0194,1,     -999,9,     -999,9,     -999,9,     -999,9,     -999,9,20230811,0428, -31.1923,  82.5645,-999          ,9,-999          ,9
33RR20230722  ,I05        ,76      ,  1,34         ,34         ,2,20230811,0252, -31.1923,  82.5645,     3664,     34.7,2,  17.5330,2,  35.7079,2,  35.7059,2,    237.6,2,    237.5,2,     0.98,2,     0.01,2,     0.00,2,     0.12,2,     -999,9,     -999,9,     -999,9,   -999.0,9,     -999,9,     -999,9,     -999,9,     -999,1,  17.5323,2,     -999,9,     -999,9,     -999,9,     -999,9,     -999,1,   4.9749,1,   0.0215,1,     -999,9,     -999,9,     -999,9,     -999,9,     -999,9,20230811,0427, -31.1923,  82.5645,-999          ,9,-999          ,9
33RR20230722  ,I05        ,76      ,  1,33         ,33         ,2,20230811,0252, -31.1923,  82.5645,     3664,     55.7,2,  17.5359,2,  35.7092,2,  35.7077,2,    237.5,2,    237.6,2,     0.88,2,     0.00,2,     0.00,2,     0.12,2,     -999,9,     -999,9,     -999,9,   2086.1,2,   2347.9,2,   7.9624,2,    25.00,2,     -999,1,  17.5344,2,     -999,9,     -999,9,     -999,9,     -999,9,     -999,1,   4.9747,1,   0.0229,1,     -999,9,     -999,9,     -999,9,     -999,9,     -999,9,20230811,0425, -31.1923,  82.5645,-999          ,9,-999          ,9
33RR20230722  ,I05        ,76      ,  1,32         ,32         ,2,20230811,0252, -31.1923,  82.5645,     3664,     78.1,2,  17.5344,2,  35.7166,2,  35.7142,2,    237.1,2,    237.6,2,     0.98,2,     0.00,2,     0.00,2,     0.12,2,     -999,9,     -999,9,     -999,9,   -999.0,9,     -999,9,     -999,9,     -999,9,     -999,1,  17.5356,2,     -999,9,     -999,9,     -999,9,     -999,9,     -999,1,   4.9747,1,   0.0239,1,     -999,9,     -999,9,     -999,9,     -999,9,     -999,9,20230811,0424, -31.1923,  82.5645,-999          ,9,-999          ,9
33RR20230722  ,I05        ,76      ,  1,31         ,31         ,2,20230811,0252, -31.1923,  82.5645,     3664,    103.7,2,  17.4927,2,  35.7176,2,  35.7108,2,    236.9,2,    237.7,2,     0.98,2,     0.04,2,     0.01,2,     0.13,2,     -999,9,     -999,9,     -999,9,   2091.6,2,   2347.3,2,   7.9594,2,    25.00,2,     -999,1,  17.4983,2,     -999,9,     -999,9,     -999,9,     -999,9,     -999,1,   4.9741,1,   0.0246,1,     -999,9,     -999,9,     -999,9,     -999,9,     -999,9,20230811,0422, -31.1923,  82.5645,-999          ,9,-999          ,9
33RR20230722  ,I05        ,76      ,  1,30         ,30         ,2,20230811,0252, -31.1923,  82.5645,     3664,    130.4,2,  15.7532,2,  35.5429,2,  35.5486,2,    242.8,2,    241.8,2,     0.98,2,     0.93,2,     0.14,2,     0.24,2,     -999,9,     -999,9,     -999,9,   2105.8,2,   2339.7,2,   7.9167,6,    25.00,2,     -999,1,  15.7389,3,     -999,9,     -999,9,     -999,9,     -999,9,     -999,1,   4.9730,1,   0.0456,1,     -999,9,     -999,9,     -999,9,     -999,9,     -999,9,20230811,0421, -31.1923,  82.5645,-999          ,9,-999          ,9
33RR20230722  ,I05        ,76      ,  1,29         ,29         ,2,20230811,0252, -31.1923,  82.5645,     3664,    153.7,2,  14.5626,2,  35.4377,2,  35.4409,2,    237.9,2,    238.4,2,     1.17,2,     2.49,2,     0.31,2,     0.35,2,     -999,9,     -999,9,     -999,9,   2117.5,2,   2331.2,2,   7.8853,2,    24.99,2,     -999,1,  14.6094,2,     -999,9,     -999,9,     -999,9,     -999,9,     -999,1,   4.9539,1,   0.0297,1,     -999,9,     -999,9,     -999,9,     -999,9,     -999,9,20230811,0419, -31.1923,  82.5645,-999          ,9,-999          ,9
33RR20230722  ,I05        ,76      ,  1,28         ,28         ,2,20230811,0252, -31.1923,  82.5645,     3664,    170.9,2,  13.9611,2,  35.3666,2,  35.3664,2,    236.4,2,    237.0,2,     1.27,2,     4.17,2,     0.17,2,     0.42,2,     -999,9,     -999,9,     -999,9,   2120.9,2,   2328.2,2,   7.8664,6,    25.00,2,     -999,1,  13.9599,2,     -999,9,     -999,9,     -999,9,     -999,9,     -999,1,   4.9706,1,   0.0230,1,     -999,9,     -999,9,     -999,9,     -999,9,     -999,9,20230811,0418, -31.1923,  82.5644,-999          ,9,-999          ,9
33RR20230722  ,I05        ,76      ,  1,27         ,27         ,2,20230811,0252, -31.1923,  82.5645,     3664,    188.8,2,  13.7999,2,  35.3513,2,  35.3506,2,    236.4,2,    236.8,2,     1.37,2,     4.59,2,     0.05,2,     0.44,2,     -999,9,     -999,9,     -999,9,   2122.9,2,   2327.6,2,   7.8642,2,    25.02,2,     -999,1,  13.8006,2,     -999,9,     -999,9,     -999,9,     -999,9,     -999,1,   4.9700,1,   0.0197,1,     -999,9,     -999,9,     -999,9,     -999,9,     -999,9,20230811,0417, -31.1922,  82.5645,-999          ,9,-999          ,9
33RR20230722  ,I05        ,76      ,  1,26         ,26         ,2,20230811,0252, -31.1923,  82.5645,     3664,    207.6,2,  13.6112,2,  35.3280,2,  35.3256,2,    237.8,2,    238.0,2,     1.27,2,     4.97,2,     0.02,2,     0.46,2,     -999,9,     -999,9,     -999,9,   -999.0,9,     -999,9,     -999,9,     -999,9,     -999,1,  13.6155,2,     -999,9,     -999,9,     -999,9,     -999,9,     -999,1,   4.9700,1,   0.0128,1,     -999,9,     -999,9,     -999,9,     -999,9,     -999,9,20230811,0415, -31.1922,  82.5645,-999          ,9,-999          ,9
33RR20230722  ,I05        ,76      ,  1,25         ,25         ,2,20230811,0252, -31.1923,  82.5645,     3664,    226.9,2,  13.5752,2,  35.3220,2,  35.3206,2,    238.7,2,    238.7,2,     1.37,2,     5.01,2,     0.02,2,     0.48,2,     -999,9,     -999,9,     -999,9,   2122.8,2,   2325.7,2,   7.8598,2,    25.01,2,     -999,1,  13.5736,2,     -999,9,     -999,9,     -999,9,     -999,9,     -999,1,   4.9460,1,   0.0122,1,     -999,9,     -999,9,     -999,9,     -999,9,     -999,9,20230811,0414, -31.1923,  82.5645,-999          ,9,-999          ,9
33RR20230722  ,I05        ,76      ,  1,24         ,24         ,2,20230811,0252, -31.1923,  82.5645,     3664,    262.1,2,  13.2103,2,  35.2593,2,  35.2552,2,    240.0,2,    240.5,2,     1.46,2,     5.74,2,     0.01,2,     0.52,2,     -999,9,     -999,9,     -999,9,   2122.9,2,   2321.2,2,   7.8518,2,    25.00,2,     -999,1,  13.2091,2,     -999,9,     -999,9,     -999,9,     -999,9,     -999,1,   4.7895,1,   0.0115,1,     -999,9,     -999,9,     -999,9,     -999,9,     -999,9,20230811,0412, -31.1923,  82.5645,-999          ,9,-999          ,9
33RR20230722  ,I05        ,76      ,  1,23         ,23         ,2,20230811,0252, -31.1923,  82.5645,     3664,    312.0,2,  12.4932,2,  35.1291,2,  35.1278,2,    242.4,2,    242.1,2,     1.95,2,     7.35,2,     0.00,2,     0.60,2,    1.990,3,    1.644,2,   2.5400,2,   2127.3,2,   2313.9,2,   7.8357,6,    25.00,2,     -999,1,  12.4950,2,     -999,9,     -999,9,     -999,9,     -999,9,     -999,1,   4.9693,1,   0.0116,1,     10.4,2,     -999,9,     -999,9,     -999,9,     -999,9,20230811,0411, -31.1923,  82.5645,-999          ,9,-999          ,9
33RR20230722  ,I05        ,76      ,  1,22         ,22         ,2,20230811,0252, -31.1923,  82.5645,     3664,    371.4,2,  11.8781,2,  35.0210,2,  35.0187,2,    241.4,2,    241.1,2,     2.44,2,     9.38,2,     0.00,2,     0.72,2,     -999,9,     -999,9,     -999,9,   -999.0,9,     -999,9,     -999,9,     -999,9,     -999,1,  11.8779,2,     -999,9,     -999,9,     -999,9,     -999,9,     -999,1,   4.9151,1,   0.0115,1,     -999,9,     -999,9,     -999,9,     -999,9,     -999,9,20230811,0409, -31.1923,  82.5645,-999          ,9,-999          ,9
33RR20230722  ,I05        ,76      ,  1,21         ,21         ,2,20230811,0252, -31.1923,  82.5645,     3664,    441.1,2,  11.3717,2,  34.9396,2,  34.9337,2,    241.9,2,    241.4,2,     2.93,2,    10.94,2,     0.00,2,     0.82,2,    2.418,3,    1.719,2,   2.5500,2,   2132.7,2,   2303.1,2,   7.8017,2,    25.00,2,     -999,1,  11.3674,2,     -999,9,     -999,9,     -999,9,     -999,9,     -999,1,   4.6646,1,   0.0107,1,     10.5,2,     -999,9,     -999,9,     -999,9,     -999,9,20230811,0407, -31.1923,  82.5645,-999          ,9,-999          ,9
33RR20230722  ,I05        ,76      ,  1,20         ,20         ,2,20230811,0252, -31.1923,  82.5645,     3664,    511.0,2,  10.9988,2,  34.8866,2,  34.8839,2,    241.9,2,    241.4,2,     3.22,2,    11.90,2,     0.00,2,     0.88,2,     -999,9,     -999,9,     -999,9,   -999.0,9,     -999,9,     -999,9,     -999,9,     -999,1,  10.9981,2,     -999,9,     -999,9,     -999,9,     -999,9,     -999,1,   4.8973,1,   0.0113,1,     -999,9,     -999,9,     -999,9,     -999,9,     -999,9,20230811,0404, -31.1923,  82.5645,-999          ,9,-999          ,9
33RR20230722  ,I05        ,76      ,  1,19         ,19         ,2,20230811,0252, -31.1923,  82.5645,     3664,    590.2,2,  10.5071,2,  34.8198,2,  34.8188,2,    240.9,2,    240.4,2,     3.51,2,    13.19,2,     0.00,2,     0.95,2,    3.415,3,    1.764,2,   2.3300,2,   2136.8,2,   2296.6,6,   7.7818,2,    25.01,2,     -999,1,  10.5079,2,     -999,9,     -999,9,     -999,9,     -999,9,     -999,1,   4.8157,1,   0.0112,1,     11.8,2,     -999,9,     -999,9,     -999,9,     -999,9,20230811,0402, -31.1923,  82.5645,-999          ,9,-999          ,9
33RR20230722  ,I05        ,76      ,  1,18         ,18         ,2,20230811,0252, -31.1923,  82.5645,     3664,    672.8,2,   9.9342,2,  34.7465,2,  34.7449,2,    235.9,2,    235.6,2,     4.10,2,    15.13,2,     0.00,2,     1.08,2,     -999,9,     -999,9,     -999,9,   2142.2,2,   2294.7,6,   7.7631,2,    25.01,2,     -999,1,   9.9301,2,     -999,9,     -999,9,     -999,9,     -999,9,     -999,1,   4.8927,1,   0.0112,1,     -999,9,     -999,9,     -999,9,     -999,9,     -999,9,20230811,0400, -31.1923,  82.5645,-999          ,9,-999          ,9
33RR20230722  ,I05        ,76      ,  1,17         ,17         ,2,20230811,0252, -31.1923,  82.5645,     3664,    769.7,2,   9.3238,2,  34.6700,2,  34.6690,2,    229.4,2,    230.1,2,     5.27,2,    17.34,2,     0.00,2,     1.22,2,    2.767,3,    1.919,2,   1.9400,2,   2145.6,6,   2285.7,2,   7.7424,6,    25.01,2,     -999,1,   9.3166,2,     -999,9,     -999,9,     -999,9,     -999,9,     -999,1,   4.9668,1,   0.0108,1,     12.7,2,     -999,9,     -999,9,     -999,9,     -999,9,20230811,0357, -31.1923,  82.5645,-999          ,9,-999          ,9
33RR20230722  ,I05        ,76      ,  1,16         ,16         ,2,20230811,0252, -31.1923,  82.5645,     3664,    885.9,2,   8.1078,2,  34.5502,2,  34.5480,2,    209.2,2,    210.3,2,    10.93,2,    22.09,2,     0.00,2,     1.53,2,     -999,9,     -999,9,     -999,9,   2161.2,2,   2291.9,4,   7.6952,2,    25.01,2,     -999,1,   8.1130,2,     -999,9,     -999,9,     -999,9,     -999,9,     -999,1,   4.8025,1,   0.0109,1,     -999,9,     -999,9,     -999,9,     -999,9,     -999,9,20230811,0354, -31.1923,  82.5645,-999          ,9,-999          ,9
33RR20230722  ,I05        ,76      ,  1,15         ,15         ,2,20230811,0252, -31.1923,  82.5645,     3664,    999.5,2,   6.3904,2,  34.4218,2,  34.4218,2,    200.4,2,    201.3,2,    19.72,2,    26.82,2,     0.00,2,     1.83,2,    2.237,3,    1.444,2,   0.9400,2,   2183.1,2,   2288.3,2,   7.6514,2,    25.00,2,     -999,1,   6.4041,2,     -999,9,     -999,9,     -999,9,     -999,9,     -999,1,   4.8126,1,   0.0111,1,     16.7,2,     -999,9,     -999,9,     -999,9,     -999,9,20230811,0351, -31.1923,  82.5645,-999          ,9,-999          ,9
33RR20230722  ,I05        ,76      ,  1,14         ,14         ,2,20230811,0252, -31.1923,  82.5645,     3664,   1111.5,2,   5.0094,2,  34.3743,2,  34.3741,2,    193.8,2,    193.9,2,    32.31,2,    30.29,2,     0.00,2,     2.10,2,     -999,9,     -999,9,     -999,9,   -999.0,9,     -999,9,     -999,9,     -999,9,     -999,1,   5.0103,2,     -999,9,     -999,9,     -999,9,     -999,9,     -999,1,   4.9708,1,   0.0111,1,     -999,9,     -999,9,     -999,9,     -999,9,     -999,9,20230811,0348, -31.1923,  82.5645,-999          ,9,-999          ,9
33RR20230722  ,I05        ,76      ,  1,13         ,13         ,2,20230811,0252, -31.1923,  82.5645,     3664,   1222.1,2,   4.2067,2,  34.4088,2,  34.4092,2,    178.8,2,    178.7,2,    47.05,2,    32.59,2,     0.00,2,     2.27,2,    0.695,3,    0.647,2,   0.2200,2,   2224.3,2,   2310.7,2,   7.5918,2,    25.01,2,     -999,1,   4.2050,2,     -999,9,     -999,9,     -999,9,     -999,9,     -999,1,   4.9539,1,   0.0110,1,     22.5,2,     -999,9,     -999,9,     -999,9,     -999,9,20230811,0346, -31.1923,  82.5645,-999          ,9,-999          ,9
33RR20230722  ,I05        ,76      ,  1,12         ,12         ,2,20230811,0252, -31.1923,  82.5645,     3664,   1343.1,2,   3.7018,2,  34.4585,2,  34.4571,2,    167.9,2,    167.7,2,    59.05,2,    33.78,2,     0.00,2,     2.39,2,     -999,9,     -999,9,     -999,9,   2242.4,2,   2323.2,2,   7.5717,2,    25.00,2,     -999,1,   3.7023,2,     -999,9,     -999,9,     -999,9,     -999,9,     -999,1,   4.9538,1,   0.0111,1,     -999,9,     -999,9,     -999,9,     -999,9,     -999,9,20230811,0343, -31.1923,  82.5645,-999          ,9,-999          ,9
33RR20230722  ,I05        ,76      ,  1,11         ,11         ,2,20230811,0252, -31.1923,  82.5645,     3664,   1489.5,2,   3.3826,2,  34.5345,2,  34.5347,2,    155.7,2,    155.6,2,    72.42,2,    34.58,2,     0.00,2,     2.46,2,    0.206,3,    0.167,2,   0.0400,2,   2258.4,2,   2338.0,2,   7.5614,2,    25.01,2,     -999,1,   3.3774,2,     -999,9,     -999,9,     -999,9,     -999,9,     -999,1,   4.9254,1,   0.0111,1,     23.9,2,     -999,9,     -999,9,     -999,9,     -999,9,20230811,0339, -31.1923,  82.5645,-999          ,9,-999          ,9
33RR20230722  ,I05        ,76      ,  1,10         ,10         ,2,20230811,0252, -31.1923,  82.5645,     3664,   1644.3,2,   3.0325,2,  34.5995,2,  34.5973,2,    155.9,2,    155.8,2,    80.62,2,    34.36,2,     0.00,2,     2.42,2,     -999,9,     -999,9,     -999,9,   2265.1,2,   2345.9,2,   7.5646,2,    25.01,2,     -999,1,   3.0347,2,     -999,9,     -999,9,     -999,9,     -999,9,     -999,1,   4.9748,1,   0.0115,1,     -999,9,     -999,9,     -999,9,     -999,9,     -999,9,20230811,0336, -31.1923,  82.5645,-999          ,9,-999          ,9
33RR20230722  ,I05        ,76      ,  1,9          ,9          ,2,20230811,0252, -31.1923,  82.5645,     3664,   1805.7,2,   2.8248,2,  34.6521,2,  34.6494,2,    157.2,2,    157.2,2,    87.35,2,    33.79,2,     0.00,2,     2.40,2,    0.040,3,    0.036,2,   0.0300,2,   2270.6,2,   2353.7,2,   7.5728,2,    25.00,2,     -999,1,   2.8243,2,     -999,9,     -999,9,     -999,9,     -999,9,     -999,1,   4.8858,1,   0.0118,1,     23.7,2,     -999,9,     -999,9,     -999,9,     -999,9,20230811,0332, -31.1923,  82.5645,-999          ,9,-999          ,9
33RR20230722  ,I05        ,76      ,  1,8          ,8          ,2,20230811,0252, -31.1923,  82.5645,     3664,   2010.6,2,   2.5812,2,  34.6919,2,  34.6908,2,    163.4,2,    163.4,2,    92.81,2,    33.27,2,     0.00,2,     2.35,2,     -999,9,     -999,9,     -999,9,   -999.0,9,     -999,9,     -999,9,     -999,9,     -999,1,   2.5811,2,     -999,9,     -999,9,     -999,9,     -999,9,     -999,1,   4.9751,1,   0.0118,1,     -999,9,     -999,9,     -999,9,     -999,9,     -999,9,20230811,0328, -31.1923,  82.5645,-999          ,9,-999          ,9
33RR20230722  ,I05        ,76      ,  1,7          ,7          ,2,20230811,0252, -31.1923,  82.5645,     3664,   2262.3,2,   2.2661,2,  34.7183,2,  34.7168,2,    176.7,2,    176.7,2,    92.81,2,    32.03,2,     0.00,2,     2.25,2,    0.066,3,    0.031,2,   0.0300,2,   2265.2,2,   2357.8,2,   7.6007,6,    25.01,2,     -999,1,   2.2666,2,     -999,9,     -999,9,     -999,9,     -999,9,     -999,1,   4.9748,1,   0.0111,1,     19.4,2,     -999,9,     -999,9,     -999,9,     -999,9,20230811,0322, -31.1923,  82.5645,-999          ,9,-999          ,9
33RR20230722  ,I05        ,76      ,  1,6          ,6          ,2,20230811,0252, -31.1923,  82.5645,     3664,   2532.1,2,   1.9932,2,  34.7408,2,  34.7400,2,    192.3,2,    192.4,2,    90.56,2,    30.67,2,     0.00,2,     2.15,2,     -999,9,     -999,9,     -999,9,   -999.0,9,     -999,9,     -999,9,     -999,9,     -999,1,   1.9927,2,     -999,9,     -999,9,     -999,9,     -999,9,     -999,1,   4.9744,1,   0.0111,1,     -999,9,     -999,9,     -999,9,     -999,9,     -999,9,20230811,0317, -31.1923,  82.5645,-999          ,9,-999          ,9
33RR20230722  ,I05        ,76      ,  1,5          ,5          ,2,20230811,0252, -31.1923,  82.5645,     3664,   2818.5,2,   1.6974,2,  34.7374,2,  34.7361,2,    195.3,2,    195.5,2,   100.61,2,    31.01,2,     0.00,2,     2.17,2,    0.019,3,    0.029,2,  -0.0100,2,   2260.1,2,   2358.7,2,   7.6179,2,    24.99,2,     -999,1,   1.6981,2,     -999,9,     -999,9,     -999,9,     -999,9,     -999,1,   4.8180,1,   0.0117,1,     18.9,2,     -999,9,     -999,9,     -999,9,     -999,9,20230811,0311, -31.1923,  82.5645,-999          ,9,-999          ,9
33RR20230722  ,I05        ,76      ,  1,4          ,37         ,2,20230811,0252, -31.1923,  82.5645,     3664,   3080.1,2,   1.4902,2,  34.7313,2,  34.7300,2,    197.3,2,    197.5,2,   107.83,2,    31.35,2,     0.00,2,     2.20,2,     -999,9,     -999,9,     -999,9,   2261.8,2,   2364.8,2,   7.6174,6,    25.01,2,     -999,1,   1.4895,2,     -999,9,     -999,9,     -999,9,     -999,9,     -999,1,   4.9749,1,   0.0111,1,     -999,9,     -999,9,     -999,9,     -999,9,     -999,9,20230811,0306, -31.1923,  82.5644,-999          ,9,-999          ,9
33RR20230722  ,I05        ,76      ,  1,3          ,3          ,2,20230811,0252, -31.1923,  82.5645,     3664,   3306.9,2,   1.3952,2,  34.7276,2,  34.7262,2,    198.1,2,    198.2,2,   111.15,2,    31.54,2,     0.00,2,     2.23,2,    0.013,3,    0.024,2,  -0.0200,2,   2266.4,2,   2368.9,6,   7.6188,2,    25.00,2,     -999,1,   1.3950,2,     -999,9,     -999,9,     -999,9,     -999,9,     -999,1,   4.9750,1,   0.0111,1,     19.3,2,     -999,9,     -999,9,     -999,9,     -999,9,20230811,0301, -31.1922,  82.5645,-999          ,9,-999          ,9