BOTTLE,20240422CCHHYDRO
EXPOCODE,SECT_ID,STNNBR,CASTNO,SAMPNO,BTLNBR,BTLNBR_FLAG_W,DATE,TIME,LATITUDE,LONGITUDE,DEPTH,CTDPRS,CTDPRS_FLAG_W,CTDTMP,CTDTMP_FLAG_W,CTDSAL,CTDSAL_FLAG_W,SALNTY,SALNTY_FLAG_W,CTDOXY,CTDOXY_FLAG_W,OXYGEN,OXYGEN_FLAG_W,SILCAT,SILCAT_FLAG_W,NITRAT,NITRAT_FLAG_W,NITRIT,NITRIT_FLAG_W,PHSPHT,PHSPHT_FLAG_W,CFC-11,CFC-11_FLAG_W,CFC-12,CFC-12_FLAG_W,SF6,SF6_FLAG_W,TCARBN,TCARBN_FLAG_W,ALKALI,ALKALI_FLAG_W,PH_TOT,PH_TOT_FLAG_W,PH_TMP,PH_TMP_FLAG_W,DOC,DOC_FLAG_W,REFTMP,REFTMP_FLAG_W,POC,POC_FLAG_W,PON,PON_FLAG_W,POP,POP_FLAG_W,DOP,DOP_FLAG_W,DELO18,DELO18_FLAG_W,CTDFLUOR,CTDFLUOR_FLAG_W,CTDXMISS,CTDXMISS_FLAG_W,N2O,N2O_FLAG_W,D15N_NO3,D15N_NO3_FLAG_W,D15N_NO2+NO3,D15N_NO2+NO3_FLAG_W,D18O_NO2+NO3,D18O_NO2+NO3_FLAG_W,D18O_NO3,D18O_NO3_FLAG_W,BTL_DATE,BTL_TIME,BTL_LAT,BTL_LON,HPLC,HPLC_FLAG_W,DNA,DNA_FLAG_W
,,,,,,,,,,,METERS,DBAR,,ITS-90,,PSS-78,,PSS-78,,UMOL/KG,,UMOL/KG,,UMOL/KG,,UMOL/KG,,UMOL/KG,,UMOL/KG,,PMOL/KG,,PMOL/KG,,FMOL/KG,,UMOL/KG,,UMOL/KG,,,,DEG C,,UMOL/KG,,ITS-90,,UG/KG,,UG/KG,,UG/L,,UMOL/KG,,/MILLE,,VOLTS,,VOLTS,,NMOL/KG,,/MILLE,,/MILLE,,/MILLE,,/MILLE,,,,,,,,,
33RR20230722  ,I05        ,79      ,  1,36         ,36         ,2,20230811,2209, -31.1885,  80.7541,     4021,      7.5,2,  17.9191,2,  35.7899,2,  35.7894,2,    235.8,2,    235.6,2,     0.98,2,     0.09,2,     0.00,2,     0.13,2,    1.571,3,    1.346,2,   2.1800,2,   2083.9,2,   2350.7,6,   7.9716,2,    25.00,2,     -999,1,  17.9181,2,     -999,9,     -999,9,     -999,9,     -999,9,     -999,1,   4.6636,1,   0.0173,1,      8.1,2,     -999,1,     -999,1,     -999,1,     -999,1,20230811,2358, -31.1885,  80.7541,-999          ,9,-999          ,9
33RR20230722  ,I05        ,79      ,  1,35         ,35         ,2,20230811,2209, -31.1885,  80.7541,     4021,     31.8,2,  17.9267,2,  35.7895,2,  35.7894,2,    235.8,2,    235.7,2,     0.88,2,     0.04,2,     0.00,2,     0.11,2,     -999,9,     -999,9,     -999,9,   2083.7,2,   2351.3,2,   7.9711,6,    24.99,2,     -999,9,  17.9252,2,     -999,9,     -999,9,     -999,9,     -999,9,     -999,1,   4.9750,1,   0.0173,1,     -999,9,     -999,1,     -999,1,     -999,1,     -999,1,20230811,2356, -31.1885,  80.7541,-999          ,9,-999          ,9
33RR20230722  ,I05        ,79      ,  1,34         ,34         ,2,20230811,2209, -31.1885,  80.7541,     4021,     51.8,2,  17.9070,2,  35.7852,2,  35.7876,2,    236.0,2,    235.6,2,     0.88,2,     0.02,2,     0.00,2,     0.11,2,    1.690,3,    1.291,2,   2.2300,2,   -999.0,9,     -999,9,     -999,9,     -999,9,     -999,9,  17.9159,2,     -999,9,     -999,9,     -999,9,     -999,9,     -999,1,   4.9747,1,   0.0178,1,      8.0,2,     -999,1,     -999,1,     -999,1,     -999,1,20230811,2355, -31.1885,  80.7540,-999          ,9,-999          ,9
33RR20230722  ,I05        ,79      ,  1,33         ,33         ,2,20230811,2209, -31.1885,  80.7541,     4021,     73.5,2,  17.9070,2,  35.7851,2,  35.7849,2,    235.8,2,    236.0,2,     0.88,2,     0.01,2,     0.00,2,     0.11,2,    1.593,3,    1.286,2,   2.2000,2,   2083.4,2,   2351.6,2,   7.9700,2,    24.98,2,     -999,9,  17.9056,2,     -999,9,     -999,9,     -999,9,     -999,9,     -999,1,   4.9744,1,   0.0193,1,      8.1,2,     -999,1,     -999,1,     -999,1,     -999,1,20230811,2353, -31.1885,  80.7540,-999          ,9,-999          ,9
33RR20230722  ,I05        ,79      ,  1,32         ,32         ,2,20230811,2209, -31.1885,  80.7541,     4021,     95.6,2,  17.9034,2,  35.7835,2,  35.7833,2,    235.5,2,    235.9,2,     0.88,2,     0.00,2,     0.00,2,     0.12,2,     -999,9,     -999,9,     -999,9,   -999.0,9,     -999,9,     -999,9,     -999,9,     -999,9,  17.9040,2,     -999,9,     -999,9,     -999,9,     -999,9,     -999,1,   4.9744,1,   0.0209,1,     -999,9,     -999,1,     -999,1,     -999,1,     -999,1,20230811,2351, -31.1885,  80.7540,-999          ,9,-999          ,9
33RR20230722  ,I05        ,79      ,  1,31         ,31         ,2,20230811,2209, -31.1885,  80.7541,     4021,    119.6,2,  17.3589,2,  35.7003,2,  35.7039,2,    239.2,2,    239.1,2,     0.78,2,     0.06,2,     0.01,2,     0.13,2,    1.718,3,    1.347,2,   2.2800,2,   2091.2,2,   2350.3,2,   7.9545,2,    24.98,2,     -999,9,  17.3901,2,     -999,9,     -999,9,     -999,9,     -999,9,     -999,1,   4.9743,1,   0.0314,1,      8.5,2,     -999,1,     -999,1,     -999,1,     -999,1,20230811,2349, -31.1885,  80.7540,-999          ,9,-999          ,9
33RR20230722  ,I05        ,79      ,  1,30         ,30         ,2,20230811,2209, -31.1885,  80.7541,     4021,    147.6,2,  14.9133,2,  35.4696,2,  35.4651,2,    229.8,3,    234.8,2,     0.98,2,     2.42,2,     0.15,2,     0.32,2,    2.447,3,    1.521,2,   2.3500,2,   2113.5,2,   2331.1,2,   7.8878,2,    24.98,2,     -999,9,  14.9199,2,     -999,9,     -999,9,     -999,9,     -999,9,     -999,1,   4.9706,1,   0.0172,1,     10.0,2,     -999,1,     -999,1,     -999,1,     -999,1,20230811,2348, -31.1885,  80.7540,-999          ,9,-999          ,9
33RR20230722  ,I05        ,79      ,  1,29         ,29         ,2,20230811,2209, -31.1885,  80.7541,     4021,    180.8,2,  14.0420,2,  35.3606,2,  35.3459,2,    230.4,2,    231.9,2,     1.17,2,     4.87,2,     0.01,2,     0.44,2,     -999,9,     -999,9,     -999,9,   -999.0,5,   2325.9,2,   7.8612,2,    24.99,2,     -999,9,  14.0413,2,     -999,9,     -999,9,     -999,9,     -999,9,     -999,1,   4.9694,1,   0.0150,1,     -999,9,     -999,1,     -999,1,     -999,1,     -999,1,20230811,2346, -31.1885,  80.7540,-999          ,9,-999          ,9
33RR20230722  ,I05        ,79      ,  1,28         ,28         ,2,20230811,2209, -31.1885,  80.7541,     4021,    221.0,2,  13.4696,2,  35.2952,2,  35.2952,2,    232.6,2,    232.9,2,     1.46,2,     5.91,2,     0.00,2,     0.49,2,    2.452,3,    1.604,2,   2.3900,2,   2122.8,2,   2324.7,2,   7.8516,2,    24.99,2,     -999,9,  13.4704,2,     -999,9,     -999,9,     -999,9,     -999,9,     -999,1,   4.9516,1,   0.0116,1,     10.8,2,     -999,1,     -999,1,     -999,1,     -999,1,20230811,2344, -31.1885,  80.7540,-999          ,9,-999          ,9
33RR20230722  ,I05        ,79      ,  1,27         ,27         ,2,20230811,2209, -31.1885,  80.7541,     4021,    258.7,2,  12.8265,2,  35.1766,2,  35.1774,2,    234.4,2,    235.0,2,     1.85,2,     7.46,2,     0.00,2,     0.61,2,    2.368,3,    1.651,2,   2.4700,2,   2123.9,2,   2316.2,2,   7.8347,2,    24.98,2,     -999,9,  12.8315,2,     -999,9,     -999,9,     -999,9,     -999,9,     -999,1,   4.9686,1,   0.0115,1,     11.2,2,     -999,1,     -999,1,     -999,1,     -999,1,20230811,2342, -31.1885,  80.7540,-999          ,9,-999          ,9
33RR20230722  ,I05        ,79      ,  1,26         ,26         ,2,20230811,2209, -31.1885,  80.7541,     4021,    308.3,2,  12.4110,2,  35.1152,2,  35.1134,2,    234.8,2,    234.7,2,     2.15,2,     8.57,2,     0.00,2,     0.65,2,     -999,9,     -999,9,     -999,9,   2125.2,2,   2312.0,2,   7.8247,2,    24.99,2,     -999,9,  12.4121,2,     -999,9,     -999,9,     -999,9,     -999,9,     -999,1,   4.7523,1,   0.0115,1,     -999,9,     -999,1,     -999,1,     -999,1,     -999,1,20230811,2341, -31.1885,  80.7540,-999          ,9,-999          ,9
33RR20230722  ,I05        ,79      ,  1,25         ,25         ,2,20230811,2209, -31.1885,  80.7541,     4021,    366.6,2,  11.6518,2,  34.9847,2,  34.9827,2,    241.3,2,    240.9,2,     2.83,2,    10.35,2,     0.00,2,     0.78,2,    2.694,3,    1.748,2,   2.4300,2,   2125.2,2,   2291.8,4,   7.8097,2,    24.98,2,     -999,9,  11.6513,2,     -999,9,     -999,9,     -999,9,     -999,9,     -999,1,   4.9682,1,   0.0116,1,     11.8,2,     -999,1,     -999,1,     -999,1,     -999,1,20230811,2338, -31.1885,  80.7540,-999          ,9,-999          ,9
33RR20230722  ,I05        ,79      ,  1,24         ,24         ,2,20230811,2209, -31.1885,  80.7541,     4021,    409.2,2,  11.4421,2,  34.9546,2,  34.9540,2,    240.4,2,    239.9,2,     2.93,2,    11.00,2,     0.00,2,     0.79,2,    2.708,3,    1.768,2,   2.3900,2,   -999.0,9,     -999,9,     -999,9,     -999,9,     -999,9,  11.4400,2,     -999,9,     -999,9,     -999,9,     -999,9,     -999,1,   4.9678,1,   0.0109,1,     11.8,2,     -999,1,     -999,1,     -999,1,     -999,1,20230811,2337, -31.1885,  80.7540,-999          ,9,-999          ,9
33RR20230722  ,I05        ,79      ,  1,23         ,23         ,2,20230811,2209, -31.1885,  80.7541,     4021,    455.5,2,  11.2611,2,  34.9374,2,  34.9388,2,    237.0,2,    237.5,2,     3.02,2,    11.64,2,     0.00,2,     0.84,2,     -999,9,     -999,9,     -999,9,   2129.3,2,   2302.4,2,   7.7972,2,    24.99,2,     -999,9,  11.2591,2,     -999,9,     -999,9,     -999,9,     -999,9,     -999,1,   4.9676,1,   0.0116,1,     -999,9,     -999,1,     -999,1,     -999,1,     -999,1,20230811,2335, -31.1885,  80.7540,-999          ,9,-999          ,9
33RR20230722  ,I05        ,79      ,  1,22         ,22         ,2,20230811,2209, -31.1885,  80.7541,     4021,    505.2,2,  10.8701,2,  34.8819,2,  34.8737,2,    236.9,2,    236.5,2,     3.32,2,    12.78,2,     0.00,2,     0.90,2,    2.995,3,    1.833,6,   2.2000,6,   2133.1,2,   2298.3,2,   7.7870,2,    25.00,2,     -999,9,  10.8570,2,     -999,9,     -999,9,     -999,9,     -999,9,     -999,1,   4.9671,1,   0.0116,1,     12.2,6,     -999,1,     -999,1,     -999,1,     -999,1,20230811,2333, -31.1885,  80.7540,-999          ,9,-999          ,9
33RR20230722  ,I05        ,79      ,  1,21         ,21         ,2,20230811,2209, -31.1885,  80.7541,     4021,    565.1,2,  10.4435,2,  34.8216,2,  34.8145,2,    236.9,2,    236.3,2,     3.61,2,    13.86,2,     0.00,2,     0.97,2,     -999,9,     -999,9,     -999,9,   2136.3,2,   2296.0,2,   7.7754,2,    24.99,2,     -999,9,  10.4410,2,     -999,9,     -999,9,     -999,9,     -999,9,     -999,1,   4.9666,1,   0.0117,1,     -999,9,     -999,1,     -999,1,     -999,1,     -999,1,20230811,2331, -31.1885,  80.7540,-999          ,9,-999          ,9
33RR20230722  ,I05        ,79      ,  1,20         ,20         ,2,20230811,2209, -31.1885,  80.7541,     4021,    655.7,2,   9.9117,2,  34.7501,2,  34.7510,2,    234.2,2,    234.1,2,     4.10,2,    15.22,2,     0.00,2,     1.04,2,    2.996,3,    1.917,2,   2.0000,2,   -999.0,9,     -999,9,     -999,9,     -999,9,     -999,9,   9.9241,2,     -999,9,     -999,9,     -999,9,     -999,9,     -999,1,   4.9198,1,   0.0107,1,     12.8,2,     -999,1,     -999,1,     -999,1,     -999,1,20230811,2328, -31.1885,  80.7540,-999          ,9,-999          ,9
33RR20230722  ,I05        ,79      ,  1,19         ,19         ,2,20230811,2209, -31.1885,  80.7541,     4021,    748.7,2,   9.2450,2,  34.6643,2,  34.6657,2,    227.0,2,    227.3,2,     5.56,2,    17.73,2,     0.00,2,     1.20,2,    3.086,3,    1.915,2,   1.7100,2,   2142.1,2,   2289.0,2,   7.7403,2,    24.99,2,     -999,9,   9.2535,2,     -999,9,     -999,9,     -999,9,     -999,9,     -999,1,   4.9669,1,   0.0113,1,     13.4,2,     -999,1,     -999,1,     -999,1,     -999,1,20230811,2325, -31.1885,  80.7540,-999          ,9,-999          ,9
33RR20230722  ,I05        ,79      ,  1,18         ,18         ,2,20230811,2209, -31.1885,  80.7541,     4021,    853.7,2,   8.0187,2,  34.5430,2,  34.5431,2,    208.2,2,    209.0,2,    11.13,2,    22.44,2,     0.00,2,     1.49,2,    2.969,3,    1.689,2,   1.2600,2,   2161.2,2,   2289.2,2,   7.6902,2,    25.00,2,     -999,9,   8.0127,2,     -999,9,     -999,9,     -999,9,     -999,9,     -999,1,   4.9683,1,   0.0114,1,     15.9,2,     -999,1,     -999,1,     -999,1,     -999,1,20230811,2322, -31.1885,  80.7540,-999          ,9,-999          ,9
33RR20230722  ,I05        ,79      ,  1,17         ,17         ,2,20230811,2209, -31.1885,  80.7541,     4021,    980.0,2,   6.1981,2,  34.4234,2,  34.4235,2,    196.0,2,    196.9,2,    22.26,2,    27.59,2,     0.00,2,     1.88,2,     -999,9,     -999,9,     -999,9,   2184.0,2,   2290.4,2,   7.6478,2,    25.00,2,     -999,9,   6.2190,2,     -999,9,     -999,9,     -999,9,     -999,9,     -999,1,   4.9702,1,   0.0113,1,     -999,9,     -999,1,     -999,1,     -999,1,     -999,1,20230811,2319, -31.1885,  80.7541,-999          ,9,-999          ,9
33RR20230722  ,I05        ,79      ,  1,16         ,16         ,2,20230811,2209, -31.1885,  80.7541,     4021,   1093.6,2,   4.9197,2,  34.3983,2,  34.3978,2,    185.3,2,    185.2,2,    37.19,2,    31.00,2,     0.00,2,     2.05,2,    1.681,3,    0.875,2,   0.3400,2,   -999.0,9,     -999,9,     -999,9,     -999,9,     -999,9,   4.9221,2,     -999,9,     -999,9,     -999,9,     -999,9,     -999,1,   4.7115,1,   0.0113,1,     20.4,2,     -999,1,     -999,1,     -999,1,     -999,1,20230811,2316, -31.1885,  80.7540,-999          ,9,-999          ,9
33RR20230722  ,I05        ,79      ,  1,15         ,15         ,2,20230811,2209, -31.1885,  80.7541,     4021,   1180.3,2,   4.2576,2,  34.4087,2,  34.4088,2,    179.3,2,    179.2,2,    46.27,2,    32.59,2,     0.00,2,     2.17,2,     -999,9,     -999,9,     -999,9,   2221.0,2,   2308.6,2,   7.5894,6,    24.99,2,     -999,9,   4.2576,2,     -999,9,     -999,9,     -999,9,     -999,9,     -999,1,   4.9723,1,   0.0113,1,     -999,9,     -999,1,     -999,1,     -999,1,     -999,1,20230811,2313, -31.1884,  80.7540,-999          ,9,-999          ,9
33RR20230722  ,I05        ,79      ,  1,14         ,14         ,2,20230811,2209, -31.1885,  80.7541,     4021,   1268.7,2,   3.8999,2,  34.4543,2,  34.4551,2,    167.0,2,    166.5,2,    57.20,2,    33.83,2,     0.00,2,     2.39,2,    0.877,3,    0.433,2,   0.1300,2,   -999.0,9,     -999,9,     -999,9,     -999,9,     -999,9,   3.8985,2,     -999,9,     -999,9,     -999,9,     -999,9,     -999,1,   4.7366,1,   0.0112,1,     22.8,2,     -999,1,     -999,1,     -999,1,     -999,1,20230811,2311, -31.1885,  80.7540,-999          ,9,-999          ,9
33RR20230722  ,I05        ,79      ,  1,13         ,13         ,2,20230811,2209, -31.1885,  80.7541,     4021,   1364.0,2,   3.6463,2,  34.4964,2,  34.4985,2,    159.2,2,    158.7,2,    65.69,2,    34.42,2,     0.00,2,     2.38,2,    0.512,3,    0.270,2,   0.0700,2,   2245.4,6,   2328.3,2,   7.5655,2,    24.99,2,     -999,9,   3.6461,2,     -999,9,     -999,9,     -999,9,     -999,9,     -999,1,   4.6771,1,   0.0111,1,     23.6,2,     -999,1,     -999,1,     -999,1,     -999,1,20230811,2308, -31.1885,  80.7540,-999          ,9,-999          ,9
33RR20230722  ,I05        ,79      ,  1,12         ,12         ,2,20230811,2209, -31.1885,  80.7541,     4021,   1476.5,2,   3.4080,2,  34.5423,2,  34.5423,2,    154.1,2,    153.5,2,    73.20,2,    34.82,2,     0.00,2,     2.48,2,    0.317,3,    0.152,2,   0.0900,2,   2257.1,2,   2337.2,6,   7.5602,2,    24.98,2,     -999,9,   3.4104,2,     -999,9,     -999,9,     -999,9,     -999,9,     -999,1,   4.9753,1,   0.0113,1,     23.9,2,     -999,1,     -999,1,     -999,1,     -999,1,20230811,2305, -31.1885,  80.7540,-999          ,9,-999          ,9
33RR20230722  ,I05        ,79      ,  1,11         ,11         ,2,20230811,2209, -31.1885,  80.7541,     4021,   1625.0,2,   3.2481,2,  34.6101,2,  34.6105,2,    148.2,2,    148.1,2,    83.35,2,    34.83,2,     0.00,2,     2.48,2,     -999,9,     -999,9,     -999,9,   2266.8,2,   2348.1,2,   7.5609,6,    24.99,2,     -999,9,   3.2463,2,     -999,9,     -999,9,     -999,9,     -999,9,     -999,1,   4.6926,1,   0.0118,1,     -999,9,     -999,1,     -999,1,     -999,1,     -999,1,20230811,2301, -31.1885,  80.7541,-999          ,9,-999          ,9
33RR20230722  ,I05        ,79      ,  1,10         ,10         ,2,20230811,2209, -31.1885,  80.7541,     4021,   1791.0,2,   2.8815,2,  34.6479,2,  34.6482,2,    157.4,2,    158.0,2,    85.10,2,    34.04,2,     0.00,2,     2.42,2,    0.117,3,    0.067,2,   0.0800,2,   2265.5,2,   2351.2,2,   7.5710,2,    24.99,2,     -999,9,   2.8836,2,     -999,9,     -999,9,     -999,9,     -999,9,     -999,1,   4.9750,1,   0.0118,1,     23.2,2,     -999,1,     -999,1,     -999,1,     -999,1,20230811,2257, -31.1885,  80.7540,-999          ,9,-999          ,9
33RR20230722  ,I05        ,79      ,  1,9          ,9          ,2,20230811,2209, -31.1885,  80.7541,     4021,   1982.7,2,   2.5614,2,  34.6814,2,  34.6810,2,    171.1,2,    171.0,2,    83.73,2,    32.82,2,     0.00,2,     2.29,2,     -999,9,     -999,9,     -999,9,   2258.6,2,   2347.4,6,   7.5854,2,    24.99,2,     -999,9,   2.5610,2,     -999,9,     -999,9,     -999,9,     -999,9,     -999,1,   4.9747,1,   0.0123,1,     -999,9,     -999,1,     -999,1,     -999,1,     -999,1,20230811,2253, -31.1885,  80.7540,-999          ,9,-999          ,9
33RR20230722  ,I05        ,79      ,  1,8          ,8          ,2,20230811,2209, -31.1885,  80.7541,     4021,   2215.0,2,   2.2543,2,  34.7242,2,  34.7243,2,    184.4,2,    184.5,2,    85.19,2,    31.39,2,     0.00,2,     2.20,2,    0.071,3,    0.047,2,   0.0100,2,   -999.0,9,     -999,9,     -999,9,     -999,9,     -999,9,   2.2536,2,     -999,9,     -999,9,     -999,9,     -999,9,     -999,1,   4.2626,1,   0.0122,1,     20.2,2,     -999,1,     -999,1,     -999,1,     -999,1,20230811,2248, -31.1885,  80.7541,-999          ,9,-999          ,9
33RR20230722  ,I05        ,79      ,  1,7          ,7          ,2,20230811,2209, -31.1885,  80.7541,     4021,   2485.3,2,   1.9401,2,  34.7361,2,  34.7361,2,    189.5,2,    189.6,2,    94.86,2,    31.31,2,     0.00,2,     2.19,2,     -999,9,     -999,9,     -999,9,   2257.3,2,   2356.0,2,   7.6125,2,    25.00,2,     -999,9,   1.9398,2,     -999,9,     -999,9,     -999,9,     -999,9,     -999,1,   4.8726,1,   0.0113,1,     -999,9,     -999,1,     -999,1,     -999,1,     -999,1,20230811,2243, -31.1885,  80.7540,-999          ,9,-999          ,9
33RR20230722  ,I05        ,79      ,  1,6          ,6          ,2,20230811,2209, -31.1885,  80.7541,     4021,   2760.9,2,   1.6866,2,  34.7344,2,  34.7341,2,    192.7,2,    192.7,2,   103.44,2,    31.46,2,     0.00,2,     2.20,2,    0.014,3,    0.022,2,   0.0700,2,   -999.0,9,     -999,9,     -999,9,     -999,9,     -999,9,   1.6859,2,     -999,9,     -999,9,     -999,9,     -999,9,     -999,1,   4.8616,1,   0.0115,1,     19.3,2,     -999,1,     -999,1,     -999,1,     -999,1,20230811,2237, -31.1885,  80.7540,-999          ,9,-999          ,9
33RR20230722  ,I05        ,79      ,  1,5          ,5          ,2,20230811,2209, -31.1885,  80.7541,     4021,   3087.2,2,   1.4837,2,  34.7317,2,  34.7321,2,    198.0,2,    198.2,2,   107.44,2,    31.48,2,     0.00,2,     2.20,2,    0.058,3,    0.036,2,   0.0600,2,   2260.0,2,   2362.8,2,   7.6166,2,    24.99,2,     -999,9,   1.4840,2,     -999,9,     -999,9,     -999,9,     -999,9,     -999,1,   4.9746,1,   0.0111,1,     18.5,2,     -999,1,     -999,1,     -999,1,     -999,1,20230811,2230, -31.1886,  80.7540,-999          ,9,-999          ,9
33RR20230722  ,I05        ,79      ,  1,4          ,37         ,2,20230811,2209, -31.1885,  80.7541,     4021,   3486.3,2,   1.4236,2,  34.7283,2,  34.7278,2,    198.3,2,    198.1,2,   110.76,2,    31.72,2,     0.00,2,     2.16,2,    0.047,3,    0.031,2,   0.0800,2,   -999.0,9,     -999,9,     -999,9,     -999,9,     -999,9,   1.4234,2,     -999,9,     -999,9,     -999,9,     -999,9,     -999,1,   4.7893,1,   0.0112,1,     18.4,2,     -999,1,     -999,1,     -999,1,     -999,1,20230811,2222, -31.1885,  80.7540,-999          ,9,-999          ,9
33RR20230722  ,I05        ,79      ,  1,3          ,3          ,2,20230811,2209, -31.1885,  80.7541,     4021,   3800.6,2,   1.4129,2,  34.7264,2,  34.7260,2,    198.2,2,    198.4,2,   112.62,2,    31.86,2,     0.00,2,     2.24,2,    0.042,3,    0.030,2,   0.0500,2,   2266.9,2,   2368.9,2,   7.6186,2,    24.98,2,     -999,9,   1.4125,2,     -999,9,     -999,9,     -999,9,     -999,9,     -999,1,   4.9757,1,   0.0112,1,     18.8,2,     -999,1,     -999,1,     -999,1,     -999,1,20230811,2216, -31.1885,  80.7540,-999          ,9,-999          ,9