BOTTLE,20240422CCHHYDRO
EXPOCODE,SECT_ID,STNNBR,CASTNO,SAMPNO,BTLNBR,BTLNBR_FLAG_W,DATE,TIME,LATITUDE,LONGITUDE,DEPTH,CTDPRS,CTDPRS_FLAG_W,CTDTMP,CTDTMP_FLAG_W,CTDSAL,CTDSAL_FLAG_W,SALNTY,SALNTY_FLAG_W,CTDOXY,CTDOXY_FLAG_W,OXYGEN,OXYGEN_FLAG_W,SILCAT,SILCAT_FLAG_W,NITRAT,NITRAT_FLAG_W,NITRIT,NITRIT_FLAG_W,PHSPHT,PHSPHT_FLAG_W,CFC-11,CFC-11_FLAG_W,CFC-12,CFC-12_FLAG_W,SF6,SF6_FLAG_W,TCARBN,TCARBN_FLAG_W,ALKALI,ALKALI_FLAG_W,PH_TOT,PH_TOT_FLAG_W,PH_TMP,PH_TMP_FLAG_W,DOC,DOC_FLAG_W,REFTMP,REFTMP_FLAG_W,POC,POC_FLAG_W,PON,PON_FLAG_W,POP,POP_FLAG_W,DOP,DOP_FLAG_W,DELO18,DELO18_FLAG_W,CTDFLUOR,CTDFLUOR_FLAG_W,CTDXMISS,CTDXMISS_FLAG_W,N2O,N2O_FLAG_W,D15N_NO3,D15N_NO3_FLAG_W,D15N_NO2+NO3,D15N_NO2+NO3_FLAG_W,D18O_NO2+NO3,D18O_NO2+NO3_FLAG_W,D18O_NO3,D18O_NO3_FLAG_W,BTL_DATE,BTL_TIME,BTL_LAT,BTL_LON,HPLC,HPLC_FLAG_W,DNA,DNA_FLAG_W
,,,,,,,,,,,METERS,DBAR,,ITS-90,,PSS-78,,PSS-78,,UMOL/KG,,UMOL/KG,,UMOL/KG,,UMOL/KG,,UMOL/KG,,UMOL/KG,,PMOL/KG,,PMOL/KG,,FMOL/KG,,UMOL/KG,,UMOL/KG,,,,DEG C,,UMOL/KG,,ITS-90,,UG/KG,,UG/KG,,UG/L,,UMOL/KG,,/MILLE,,VOLTS,,VOLTS,,NMOL/KG,,/MILLE,,/MILLE,,/MILLE,,/MILLE,,,,,,,,,
33RR20230722  ,I05        ,94      ,  1,36         ,36         ,2,20230815,1428, -33.6121,  74.1496,     4798,      4.2,2,  16.3469,2,  35.5207,2,  35.5210,2,    245.9,2,    245.7,2,     0.98,2,     0.07,2,     0.01,2,     0.14,2,    2.064,3,    1.756,2,   2.4400,2,   2083.4,6,   2334.8,2,   7.9480,2,    25.00,2,     -999,1,  16.3474,2,     -999,9,     -999,9,     -999,9,     -999,9,     -999,1,   4.9758,1,   0.0507,1,      8.4,2,     -999,9,     -999,9,     -999,9,     -999,9,20230815,1636, -33.6121,  74.1496,-999          ,9,-999          ,9
33RR20230722  ,I05        ,94      ,  1,35         ,35         ,2,20230815,1428, -33.6121,  74.1496,     4798,     20.5,2,  16.3510,2,  35.5204,2,  35.5216,2,    245.6,2,    245.8,2,     0.88,2,     0.01,2,     0.01,2,     0.15,2,     -999,9,     -999,9,     -999,9,   2082.1,2,   2335.7,2,   7.9477,2,    25.01,2,     -999,1,  16.3498,2,     -999,9,     -999,9,     -999,9,     -999,9,     -999,1,   4.9756,1,   0.0476,1,     -999,9,     -999,9,     -999,9,     -999,9,     -999,9,20230815,1634, -33.6121,  74.1496,-999          ,9,-999          ,9
33RR20230722  ,I05        ,94      ,  1,34         ,34         ,2,20230815,1428, -33.6121,  74.1496,     4798,     37.1,2,  16.3308,2,  35.5176,2,  35.5233,2,    245.8,2,    246.0,2,     0.98,2,     0.00,2,     0.01,2,     0.16,2,     -999,9,     -999,9,     -999,9,   2085.2,2,   2335.6,2,   7.9662,4,    25.00,2,     -999,1,  16.3319,2,     -999,9,     -999,9,     -999,9,     -999,9,     -999,1,   4.9756,1,   0.0495,1,     -999,9,     -999,9,     -999,9,     -999,9,     -999,9,20230815,1632, -33.6121,  74.1496,-999          ,9,-999          ,9
33RR20230722  ,I05        ,94      ,  1,33         ,33         ,2,20230815,1428, -33.6121,  74.1496,     4798,     60.4,2,  16.1999,2,  35.4960,2,  35.4926,2,    245.4,2,    246.2,2,     0.88,2,     0.10,2,     0.02,2,     0.16,2,     -999,9,     -999,9,     -999,9,   -999.0,9,     -999,9,     -999,9,     -999,9,     -999,1,  16.2038,2,     -999,9,     -999,9,     -999,9,     -999,9,     -999,1,   4.9750,1,   0.0592,1,     -999,9,     -999,9,     -999,9,     -999,9,     -999,9,20230815,1630, -33.6121,  74.1496,-999          ,9,-999          ,9
33RR20230722  ,I05        ,94      ,  1,32         ,32         ,2,20230815,1428, -33.6121,  74.1496,     4798,     84.3,2,  15.7735,2,  35.4197,2,  35.4188,2,    245.1,2,    245.3,2,     1.07,2,     0.58,2,     0.08,2,     0.20,2,     -999,9,     -999,9,     -999,9,   2087.1,2,   2330.8,2,     -999,1,     -999,5,     -999,1,  15.7771,2,     -999,9,     -999,9,     -999,9,     -999,9,     -999,1,   4.9742,1,   0.0472,1,     -999,9,     -999,9,     -999,9,     -999,9,     -999,9,20230815,1628, -33.6122,  74.1496,-999          ,9,-999          ,9
33RR20230722  ,I05        ,94      ,  1,31         ,31         ,2,20230815,1428, -33.6121,  74.1496,     4798,    111.1,2,  14.9686,2,  35.3604,2,  35.3612,2,    238.4,2,    238.9,2,     1.37,2,     2.42,2,     0.20,2,     0.33,2,     -999,9,     -999,9,     -999,9,   2102.8,2,   2324.7,2,   7.8747,4,    25.00,2,     -999,1,  14.9551,2,     -999,9,     -999,9,     -999,9,     -999,9,     -999,1,   4.9719,1,   0.0211,1,     -999,9,     -999,9,     -999,9,     -999,9,     -999,9,20230815,1626, -33.6121,  74.1496,-999          ,9,-999          ,9
33RR20230722  ,I05        ,94      ,  1,30         ,30         ,2,20230815,1428, -33.6121,  74.1496,     4798,    140.9,2,  14.1533,2,  35.3414,2,  35.3441,2,    233.6,2,    234.4,2,     1.66,2,     4.30,2,     0.04,2,     0.45,2,     -999,9,     -999,9,     -999,9,   2115.5,2,   2325.5,2,   7.8677,2,    25.02,2,     -999,1,  14.1537,2,     -999,9,     -999,9,     -999,9,     -999,9,     -999,1,   4.9270,1,   0.0181,1,     -999,9,     -999,9,     -999,9,     -999,9,     -999,9,20230815,1624, -33.6121,  74.1496,-999          ,9,-999          ,9
33RR20230722  ,I05        ,94      ,  1,29         ,29         ,2,20230815,1428, -33.6121,  74.1496,     4798,    169.9,2,  13.5574,2,  35.2672,2,  35.2670,2,    233.7,2,    234.2,2,     1.76,2,     5.67,2,     0.01,2,     0.52,2,     -999,9,     -999,9,     -999,9,   -999.0,9,     -999,9,     -999,9,     -999,9,     -999,1,  13.5563,2,     -999,9,     -999,9,     -999,9,     -999,9,     -999,1,   4.9696,1,   0.0132,1,     -999,9,     -999,9,     -999,9,     -999,9,     -999,9,20230815,1622, -33.6122,  74.1496,-999          ,9,-999          ,9
33RR20230722  ,I05        ,94      ,  1,28         ,28         ,2,20230815,1428, -33.6121,  74.1496,     4798,    201.6,2,  13.2237,2,  35.2230,2,  35.2235,2,    234.1,2,    234.4,2,     2.15,2,     6.67,2,     0.01,2,     0.57,2,     -999,9,     -999,9,     -999,9,   2119.6,2,   2317.3,2,   7.8426,2,    25.02,2,     -999,1,  13.2237,2,     -999,9,     -999,9,     -999,9,     -999,9,     -999,1,   4.9684,1,   0.0114,1,     -999,9,     -999,9,     -999,9,     -999,9,     -999,9,20230815,1620, -33.6122,  74.1496,-999          ,9,-999          ,9
33RR20230722  ,I05        ,94      ,  1,27         ,27         ,2,20230815,1428, -33.6121,  74.1496,     4798,    238.8,2,  12.9224,2,  35.1881,2,  35.1890,2,    236.1,2,    235.8,2,     2.63,2,     7.72,2,     0.00,2,     0.63,2,     -999,9,     -999,9,     -999,9,   2123.6,2,   2313.5,2,   7.8358,2,    25.02,2,     -999,1,  12.9260,2,     -999,9,     -999,9,     -999,9,     -999,9,     -999,1,   4.8834,1,   0.0114,1,     -999,9,     -999,9,     -999,9,     -999,9,     -999,9,20230815,1618, -33.6122,  74.1496,-999          ,9,-999          ,9
33RR20230722  ,I05        ,94      ,  1,26         ,26         ,2,20230815,1428, -33.6121,  74.1496,     4798,    282.2,2,  12.7218,2,  35.1651,2,  35.1656,2,    237.7,2,    237.1,2,     2.93,2,     8.33,2,     0.00,2,     0.64,2,     -999,9,     -999,9,     -999,9,   2121.9,2,   2313.0,2,   7.8327,2,    25.00,2,     -999,1,  12.7199,2,     -999,9,     -999,9,     -999,9,     -999,9,     -999,1,   4.9685,1,   0.0116,1,     -999,9,     -999,9,     -999,9,     -999,9,     -999,9,20230815,1615, -33.6122,  74.1496,-999          ,9,-999          ,9
33RR20230722  ,I05        ,94      ,  1,25         ,25         ,2,20230815,1428, -33.6121,  74.1496,     4798,    331.6,2,  12.4418,2,  35.1219,2,  35.1211,2,    236.1,2,    235.7,2,     3.22,2,     9.22,2,     0.00,2,     0.71,2,     -999,9,     -999,9,     -999,9,   2123.0,2,   2310.0,2,   7.8240,2,    24.99,2,     -999,1,  12.4369,2,     -999,9,     -999,9,     -999,9,     -999,9,     -999,1,   4.9683,1,   0.0114,1,     -999,9,     -999,9,     -999,9,     -999,9,     -999,9,20230815,1613, -33.6122,  74.1496,-999          ,9,-999          ,9
33RR20230722  ,I05        ,94      ,  1,24         ,24         ,2,20230815,1428, -33.6121,  74.1496,     4798,    387.2,2,  12.0900,2,  35.0659,2,  35.0663,2,    235.6,2,    235.5,2,     3.42,2,    10.12,2,     0.00,2,     0.76,2,     -999,9,     -999,9,     -999,9,   2126.3,2,   2307.9,2,   7.8142,2,    25.01,2,     -999,1,  12.0889,2,     -999,9,     -999,9,     -999,9,     -999,9,     -999,1,   4.9680,1,   0.0113,1,     -999,9,     -999,9,     -999,9,     -999,9,     -999,9,20230815,1611, -33.6121,  74.1496,-999          ,9,-999          ,9
33RR20230722  ,I05        ,94      ,  1,23         ,23         ,2,20230815,1428, -33.6121,  74.1496,     4798,    451.7,2,  11.7511,2,  35.0131,2,  35.0155,2,    235.2,2,    234.8,2,     3.61,2,    11.01,2,     0.00,2,     0.82,2,     -999,9,     -999,9,     -999,9,   2128.9,2,   2305.1,2,   7.8062,2,    25.00,2,     -999,1,  11.7567,2,     -999,9,     -999,9,     -999,9,     -999,9,     -999,1,   4.9676,1,   0.0115,1,     -999,9,     -999,9,     -999,9,     -999,9,     -999,9,20230815,1609, -33.6122,  74.1496,-999          ,9,-999          ,9
33RR20230722  ,I05        ,94      ,  1,22         ,22         ,2,20230815,1428, -33.6121,  74.1496,     4798,    522.4,2,  11.4752,2,  34.9688,2,  34.9695,2,    234.8,2,    234.3,2,     3.81,2,    11.69,2,     0.00,2,     0.87,2,     -999,9,     -999,9,     -999,9,   2128.5,2,   2303.3,2,   7.8004,2,    25.01,2,     -999,1,  11.4743,2,     -999,9,     -999,9,     -999,9,     -999,9,     -999,1,   4.9672,1,   0.0117,1,     -999,9,     -999,9,     -999,9,     -999,9,     -999,9,20230815,1607, -33.6122,  74.1496,-999          ,9,-999          ,9
33RR20230722  ,I05        ,94      ,  1,21         ,21         ,2,20230815,1428, -33.6121,  74.1496,     4798,    604.7,2,  10.9155,2,  34.8865,2,  34.8869,2,    233.4,2,    233.3,2,     3.90,2,    13.00,2,     0.00,2,     0.97,2,     -999,9,     -999,9,     -999,9,   2130.9,2,   2299.4,2,   7.7864,6,    25.00,2,     -999,1,  10.9123,2,     -999,9,     -999,9,     -999,9,     -999,9,     -999,1,   4.6810,1,   0.0112,1,     -999,9,     -999,9,     -999,9,     -999,9,     -999,9,20230815,1604, -33.6122,  74.1496,-999          ,9,-999          ,9
33RR20230722  ,I05        ,94      ,  1,20         ,20         ,2,20230815,1428, -33.6121,  74.1496,     4798,    717.9,2,   9.8881,2,  34.7500,2,  34.7514,2,    220.5,2,    221.0,2,     6.25,2,    16.74,2,     0.00,2,     1.19,2,     -999,9,     -999,9,     -999,9,   2142.0,2,   2294.5,6,   7.7495,6,    24.99,2,     -999,1,   9.8844,2,     -999,9,     -999,9,     -999,9,     -999,9,     -999,1,   4.8466,1,   0.0111,1,     -999,9,     -999,9,     -999,9,     -999,9,     -999,9,20230815,1601, -33.6121,  74.1496,-999          ,9,-999          ,9
33RR20230722  ,I05        ,94      ,  1,19         ,19         ,2,20230815,1428, -33.6121,  74.1496,     4798,    872.4,2,   7.9103,2,  34.5466,2,  34.5380,2,    206.1,2,    206.3,2,    13.37,2,    23.11,2,     0.00,2,     1.62,2,     -999,9,     -999,9,     -999,9,   2161.8,2,   2289.6,2,   7.6841,2,    24.99,2,     -999,1,   7.8989,2,     -999,9,     -999,9,     -999,9,     -999,9,     -999,1,   4.9558,1,   0.0112,1,     -999,9,     -999,9,     -999,9,     -999,9,     -999,9,20230815,1557, -33.6122,  74.1496,-999          ,9,-999          ,9
33RR20230722  ,I05        ,94      ,  1,18         ,18         ,2,20230815,1428, -33.6121,  74.1496,     4798,    986.8,2,   6.3106,2,  34.4176,2,  34.4186,2,    204.9,2,    205.1,2,    19.82,2,    26.73,2,     0.00,2,     1.83,2,     -999,9,     -999,9,     -999,9,   2179.0,2,   2288.4,2,   7.6476,2,    25.00,2,     -999,1,   6.3110,2,     -999,9,     -999,9,     -999,9,     -999,9,     -999,1,   4.9695,1,   0.0112,1,     -999,9,     -999,9,     -999,9,     -999,9,     -999,9,20230815,1554, -33.6122,  74.1496,-999          ,9,-999          ,9
33RR20230722  ,I05        ,94      ,  1,17         ,17         ,2,20230815,1428, -33.6121,  74.1496,     4798,   1100.5,2,   4.8447,2,  34.3544,2,  34.3549,2,    201.8,2,    202.6,2,    30.46,2,    30.05,2,     0.00,2,     2.06,2,     -999,9,     -999,9,     -999,9,   2195.8,2,     -999,5,   7.6154,2,    25.00,2,     -999,1,   4.8462,2,     -999,9,     -999,9,     -999,9,     -999,9,     -999,1,   4.9703,1,   0.0112,1,     -999,9,     -999,9,     -999,9,     -999,9,     -999,9,20230815,1551, -33.6122,  74.1496,-999          ,9,-999          ,9
33RR20230722  ,I05        ,94      ,  1,16         ,16         ,2,20230815,1428, -33.6121,  74.1496,     4798,   1214.3,2,   4.0509,2,  34.3732,2,  34.3768,2,    191.5,2,    192.0,2,    42.27,2,    32.26,2,     0.00,2,     2.22,2,     -999,9,     -999,9,     -999,9,   2212.7,2,   2305.9,2,   7.5941,2,    24.99,2,     -999,1,   4.0440,2,     -999,9,     -999,9,     -999,9,     -999,9,     -999,1,   4.9329,1,   0.0111,1,     -999,9,     -999,9,     -999,9,     -999,9,     -999,9,20230815,1548, -33.6122,  74.1496,-999          ,9,-999          ,9
33RR20230722  ,I05        ,94      ,  1,15         ,15         ,2,20230815,1428, -33.6121,  74.1496,     4798,   1321.6,2,   3.6682,2,  34.4160,2,  34.4167,2,    181.6,2,    181.8,2,    50.86,2,    33.30,2,     0.00,2,     2.29,2,     -999,9,     -999,9,     -999,9,   2225.1,2,   2314.1,2,   7.5802,2,    25.00,2,     -999,1,   3.6604,2,     -999,9,     -999,9,     -999,9,     -999,9,     -999,1,   4.9725,1,   0.0120,1,     -999,9,     -999,9,     -999,9,     -999,9,     -999,9,20230815,1545, -33.6121,  74.1496,-999          ,9,-999          ,9
33RR20230722  ,I05        ,94      ,  1,14         ,14         ,2,20230815,1428, -33.6121,  74.1496,     4798,   1434.1,2,   3.3718,2,  34.4772,2,  34.4775,2,    170.9,2,    170.8,2,    60.92,2,    33.99,2,     0.00,2,     2.34,2,     -999,9,     -999,9,     -999,9,   -999.0,9,     -999,9,     -999,9,     -999,9,     -999,1,   3.3729,2,     -999,9,     -999,9,     -999,9,     -999,9,     -999,1,   4.9737,1,   0.0118,1,     -999,9,     -999,9,     -999,9,     -999,9,     -999,9,20230815,1542, -33.6122,  74.1496,-999          ,9,-999          ,9
33RR20230722  ,I05        ,94      ,  1,13         ,13         ,2,20230815,1428, -33.6121,  74.1496,     4798,   1553.7,2,   3.0322,2,  34.5466,2,  34.5498,2,    167.3,2,    167.0,2,    69.31,2,    34.00,2,     0.00,2,     2.33,2,     -999,9,     -999,9,     -999,9,   2250.4,6,   2332.6,2,   7.5661,2,    25.01,2,     -999,1,   3.0309,2,     -999,9,     -999,9,     -999,9,     -999,9,     -999,1,   4.9742,1,   0.0118,1,     -999,9,     -999,9,     -999,9,     -999,9,     -999,9,20230815,1539, -33.6122,  74.1496,-999          ,9,-999          ,9
33RR20230722  ,I05        ,94      ,  1,12         ,12         ,2,20230815,1428, -33.6121,  74.1496,     4798,   1681.7,2,   2.8360,2,  34.5966,2,  34.5987,2,    168.1,2,    167.7,2,    73.80,2,    33.48,2,     0.00,2,     2.32,2,     -999,9,     -999,9,     -999,9,   -999.0,9,     -999,9,     -999,9,     -999,9,     -999,1,   2.8359,2,     -999,9,     -999,9,     -999,9,     -999,9,     -999,1,   4.9744,1,   0.0111,1,     -999,9,     -999,9,     -999,9,     -999,9,     -999,9,20230815,1535, -33.6122,  74.1496,-999          ,9,-999          ,9
33RR20230722  ,I05        ,94      ,  1,11         ,11         ,2,20230815,1428, -33.6121,  74.1496,     4798,   1828.6,2,   2.6534,2,  34.6450,2,  34.6468,2,    171.6,2,    171.8,2,    77.11,2,    32.84,2,     0.00,2,     2.26,2,     -999,9,     -999,9,     -999,9,   2251.3,2,   2342.2,2,   7.5769,2,    25.00,2,     -999,1,   2.6539,2,     -999,9,     -999,9,     -999,9,     -999,9,     -999,1,   4.9744,1,   0.0112,1,     -999,9,     -999,9,     -999,9,     -999,9,     -999,9,20230815,1532, -33.6122,  74.1496,-999          ,9,-999          ,9
33RR20230722  ,I05        ,94      ,  1,10         ,10         ,2,20230815,1428, -33.6121,  74.1496,     4798,   2013.8,2,   2.4040,2,  34.6939,3,  34.6967,2,    178.8,2,    179.3,2,    81.89,2,    31.71,2,     0.00,2,     2.20,2,     -999,9,     -999,9,     -999,9,   -999.0,9,     -999,9,     -999,9,     -999,9,     -999,1,   2.4053,2,     -999,9,     -999,9,     -999,9,     -999,9,     -999,1,   4.9746,1,   0.0112,1,     -999,9,     -999,9,     -999,9,     -999,9,     -999,9,20230815,1528, -33.6122,  74.1496,-999          ,9,-999          ,9
33RR20230722  ,I05        ,94      ,  1,9          ,9          ,2,20230815,1428, -33.6121,  74.1496,     4798,   2246.4,2,   2.1148,2,  34.7203,2,  34.7209,2,    180.1,2,    180.4,2,    96.04,2,    31.94,2,     0.00,2,     2.23,2,    0.036,2,    0.023,2,   0.0100,2,   2261.8,2,   2361.7,6,   7.6036,2,    25.00,2,     -999,1,   2.1154,2,     -999,9,     -999,9,     -999,9,     -999,9,     -999,1,   4.7846,1,   0.0111,1,     20.0,2,     -999,9,     -999,9,     -999,9,     -999,9,20230815,1523, -33.6120,  74.1495,-999          ,9,-999          ,9
33RR20230722  ,I05        ,94      ,  1,8          ,8          ,2,20230815,1428, -33.6121,  74.1496,     4798,   2517.4,2,   1.8920,2,  34.7255,2,  34.7258,2,    177.4,2,    177.4,2,   109.71,2,    32.54,2,     0.00,2,     2.26,2,    0.011,2,    0.009,2,  -0.0200,2,   -999.0,9,     -999,9,     -999,9,     -999,9,     -999,1,   1.8910,2,     -999,9,     -999,9,     -999,9,     -999,9,     -999,1,   4.9752,1,   0.0118,1,     20.0,2,     -999,9,     -999,9,     -999,9,     -999,9,20230815,1517, -33.6120,  74.1495,-999          ,9,-999          ,9
33RR20230722  ,I05        ,94      ,  1,7          ,7          ,2,20230815,1428, -33.6121,  74.1496,     4798,   2831.9,2,   1.7277,2,  34.7248,2,  34.7250,2,    178.8,2,    178.5,2,   116.54,2,    32.95,2,     0.00,2,     2.27,2,    0.015,2,    0.010,2,   0.0700,2,   2278.2,2,   2380.4,2,   7.6061,6,    25.01,2,     -999,1,   1.7270,2,     -999,9,     -999,9,     -999,9,     -999,9,     -999,1,   4.6757,1,   0.0112,1,     19.6,2,     -999,9,     -999,9,     -999,9,     -999,9,20230815,1511, -33.6120,  74.1495,-999          ,9,-999          ,9
33RR20230722  ,I05        ,94      ,  1,6          ,6          ,2,20230815,1428, -33.6121,  74.1496,     4798,   3211.3,2,   1.5029,2,  34.7188,2,  34.7189,2,    184.4,2,    184.2,2,   120.83,2,    33.00,2,     0.00,2,     2.27,2,    0.021,2,    0.014,2,   0.0400,2,   -999.0,9,     -999,9,     -999,9,     -999,9,     -999,1,   1.5025,2,     -999,9,     -999,9,     -999,9,     -999,9,     -999,1,   4.9260,1,   0.0111,1,     19.2,2,     -999,9,     -999,9,     -999,9,     -999,9,20230815,1503, -33.6120,  74.1495,-999          ,9,-999          ,9
33RR20230722  ,I05        ,94      ,  1,5          ,5          ,2,20230815,1428, -33.6121,  74.1496,     4798,   3709.0,2,   1.3136,2,  34.7117,2,  34.7123,2,    190.8,2,    191.1,2,   123.47,2,    32.88,2,     0.00,2,     2.27,2,    0.028,2,    0.022,2,   0.0000,2,   2275.8,2,   2380.7,2,   7.6102,6,    25.01,2,     -999,1,   1.3138,2,     -999,9,     -999,9,     -999,9,     -999,9,     -999,1,   4.8058,1,   0.0113,1,     19.1,2,     -999,9,     -999,9,     -999,9,     -999,9,20230815,1454, -33.6119,  74.1495,-999          ,9,-999          ,9
33RR20230722  ,I05        ,94      ,  1,4          ,37         ,2,20230815,1428, -33.6121,  74.1496,     4798,   4230.3,2,   1.1683,2,  34.7063,2,  34.7070,2,    196.6,2,    196.9,2,   125.71,2,    32.74,2,     0.00,2,     2.28,2,    0.046,2,    0.028,2,   0.0000,2,   -999.0,9,     -999,9,     -999,9,     -999,9,     -999,1,   1.1683,2,     -999,9,     -999,9,     -999,9,     -999,9,     -999,1,   4.8130,1,   0.0117,1,     18.6,2,     -999,9,     -999,9,     -999,9,     -999,9,20230815,1444, -33.6120,  74.1495,-999          ,9,-999          ,9
33RR20230722  ,I05        ,94      ,  1,3          ,3          ,2,20230815,1428, -33.6121,  74.1496,     4798,   4534.1,2,   1.1574,2,  34.7049,3,  34.7079,2,    198.1,2,    198.3,2,   126.30,2,    32.69,2,     0.00,2,     2.27,2,    0.047,2,    0.032,2,   0.0700,2,   2273.8,2,   2378.4,2,   7.6118,2,    24.99,2,     -999,1,   1.1572,2,     -999,9,     -999,9,     -999,9,     -999,9,     -999,1,   4.9124,1,   0.0118,1,     18.5,2,     -999,9,     -999,9,     -999,9,     -999,9,20230815,1438, -33.6119,  74.1495,-999          ,9,-999          ,9