BOTTLE,20240422CCHHYDRO
EXPOCODE,SECT_ID,STNNBR,CASTNO,SAMPNO,BTLNBR,BTLNBR_FLAG_W,DATE,TIME,LATITUDE,LONGITUDE,DEPTH,CTDPRS,CTDPRS_FLAG_W,CTDTMP,CTDTMP_FLAG_W,CTDSAL,CTDSAL_FLAG_W,SALNTY,SALNTY_FLAG_W,CTDOXY,CTDOXY_FLAG_W,OXYGEN,OXYGEN_FLAG_W,SILCAT,SILCAT_FLAG_W,NITRAT,NITRAT_FLAG_W,NITRIT,NITRIT_FLAG_W,PHSPHT,PHSPHT_FLAG_W,CFC-11,CFC-11_FLAG_W,CFC-12,CFC-12_FLAG_W,SF6,SF6_FLAG_W,TCARBN,TCARBN_FLAG_W,ALKALI,ALKALI_FLAG_W,PH_TOT,PH_TOT_FLAG_W,PH_TMP,PH_TMP_FLAG_W,DOC,DOC_FLAG_W,REFTMP,REFTMP_FLAG_W,POC,POC_FLAG_W,PON,PON_FLAG_W,POP,POP_FLAG_W,DOP,DOP_FLAG_W,DELO18,DELO18_FLAG_W,CTDFLUOR,CTDFLUOR_FLAG_W,CTDXMISS,CTDXMISS_FLAG_W,N2O,N2O_FLAG_W,D15N_NO3,D15N_NO3_FLAG_W,D15N_NO2+NO3,D15N_NO2+NO3_FLAG_W,D18O_NO2+NO3,D18O_NO2+NO3_FLAG_W,D18O_NO3,D18O_NO3_FLAG_W,BTL_DATE,BTL_TIME,BTL_LAT,BTL_LON,HPLC,HPLC_FLAG_W,DNA,DNA_FLAG_W
,,,,,,,,,,,METERS,DBAR,,ITS-90,,PSS-78,,PSS-78,,UMOL/KG,,UMOL/KG,,UMOL/KG,,UMOL/KG,,UMOL/KG,,UMOL/KG,,PMOL/KG,,PMOL/KG,,FMOL/KG,,UMOL/KG,,UMOL/KG,,,,DEG C,,UMOL/KG,,ITS-90,,UG/KG,,UG/KG,,UG/L,,UMOL/KG,,/MILLE,,VOLTS,,VOLTS,,NMOL/KG,,/MILLE,,/MILLE,,/MILLE,,/MILLE,,,,,,,,,
33RR20230722  ,I05        ,124     ,  2,34         ,34         ,2,20230824,1055, -33.9983,  58.1794,     5117,      5.0,2,  16.9332,2,  35.6098,2,  35.6105,2,    242.1,2,    241.3,2,     1.17,2,     0.00,2,     0.00,2,     0.15,2,    2.034,2,    1.339,2,   2.3200,2,   2083.1,6,   2336.1,2,   7.9534,2,    25.03,2,     -999,1,  16.9316,2,     -999,9,     -999,9,     -999,9,     -999,9,     -999,1,   4.9751,1,   0.0266,1,      8.1,2,     -999,9,     -999,9,     -999,9,     -999,9,20230824,1301, -33.9983,  58.1794,-999          ,9,-999          ,9
33RR20230722  ,I05        ,124     ,  2,33         ,33         ,2,20230824,1055, -33.9983,  58.1794,     5117,     41.1,2,  16.9405,2,  35.6106,2,  35.6100,2,    241.7,2,    241.1,2,     1.17,2,     0.00,2,     0.00,2,     0.16,2,     -999,9,     -999,9,     -999,9,   2081.6,2,   2336.8,2,   7.9543,2,    24.99,2,     -999,1,  16.9393,2,     -999,9,     -999,9,     -999,9,     -999,9,     -999,1,   4.9748,1,   0.0266,1,     -999,9,     -999,9,     -999,9,     -999,9,     -999,9,20230824,1258, -33.9983,  58.1794,-999          ,9,-999          ,9
33RR20230722  ,I05        ,124     ,  2,32         ,32         ,2,20230824,1055, -33.9983,  58.1794,     5117,     77.2,2,  16.9209,2,  35.6137,2,  35.6137,2,    241.2,2,    240.9,2,     1.17,2,     0.00,2,     0.00,2,     0.15,2,     -999,9,     -999,9,     -999,9,   2084.5,2,   2337.8,2,   7.9537,2,    25.02,2,     -999,1,  16.9213,2,     -999,9,     -999,9,     -999,9,     -999,9,     -999,1,   4.9744,1,   0.0262,1,     -999,9,     -999,9,     -999,9,     -999,9,     -999,9,20230824,1255, -33.9983,  58.1794,-999          ,9,-999          ,9
33RR20230722  ,I05        ,124     ,  2,31         ,31         ,2,20230824,1055, -33.9983,  58.1794,     5117,    107.6,2,  16.1352,2,  35.5276,2,  35.5253,2,    233.6,2,    234.1,2,     1.46,2,     1.61,2,     0.15,2,     0.28,2,    2.222,2,    1.409,2,   2.2800,2,   2094.2,2,   2331.5,2,   7.9182,2,    24.99,2,     -999,1,  16.0934,2,     -999,9,     -999,9,     -999,9,     -999,9,     -999,1,   4.9719,1,   0.0309,1,      9.0,2,     -999,9,     -999,9,     -999,9,     -999,9,20230824,1253, -33.9983,  58.1794,-999          ,9,-999          ,9
33RR20230722  ,I05        ,124     ,  2,30         ,30         ,2,20230824,1055, -33.9983,  58.1794,     5117,    138.0,2,  14.8739,2,  35.4348,2,  35.4318,2,    227.9,2,    228.9,2,     2.05,2,     4.31,2,     0.02,2,     0.44,2,     -999,9,     -999,9,     -999,9,   -999.0,9,     -999,9,     -999,9,     -999,9,     -999,1,  14.8691,2,     -999,9,     -999,9,     -999,9,     -999,9,     -999,1,   4.8316,1,   0.0185,1,     -999,9,     -999,9,     -999,9,     -999,9,     -999,9,20230824,1251, -33.9983,  58.1794,-999          ,9,-999          ,9
33RR20230722  ,I05        ,124     ,  2,29         ,29         ,2,20230824,1055, -33.9983,  58.1794,     5117,    172.7,2,  14.2640,2,  35.3734,2,  35.3731,2,    229.2,2,    230.1,2,     2.15,2,     5.39,2,     0.01,2,     0.50,2,     -999,9,     -999,9,     -999,9,   2116.4,2,   2323.3,2,   7.8653,2,    24.95,2,     -999,1,  14.2638,2,     -999,9,     -999,9,     -999,9,     -999,9,     -999,1,   4.9505,1,   0.0124,1,     -999,9,     -999,9,     -999,9,     -999,9,     -999,9,20230824,1249, -33.9983,  58.1794,-999          ,9,-999          ,9
33RR20230722  ,I05        ,124     ,  2,28         ,28         ,2,20230824,1055, -33.9983,  58.1794,     5117,    212.2,2,  13.7976,2,  35.3192,2,  35.3214,2,    231.0,2,    231.1,2,     2.54,2,     6.48,2,     0.00,2,     0.57,2,     -999,9,     -999,9,     -999,9,   2120.5,2,   2320.2,6,   7.8555,2,    24.95,2,     -999,1,  13.8082,2,     -999,9,     -999,9,     -999,9,     -999,9,     -999,1,   4.9692,1,   0.0119,1,     -999,9,     -999,9,     -999,9,     -999,9,     -999,9,20230824,1248, -33.9983,  58.1794,-999          ,9,-999          ,9
33RR20230722  ,I05        ,124     ,  2,27         ,27         ,2,20230824,1055, -33.9983,  58.1794,     5117,    264.3,2,  13.4371,2,  35.2732,2,  35.2725,2,    232.1,2,    232.4,2,     2.83,2,     7.47,2,     0.00,2,     0.61,2,    2.546,2,    1.616,2,   2.3900,2,   -999.0,9,     -999,9,     -999,9,     -999,9,     -999,1,  13.4375,2,     -999,9,     -999,9,     -999,9,     -999,9,     -999,1,   4.9688,1,   0.0116,1,     10.3,2,     -999,9,     -999,9,     -999,9,     -999,9,20230824,1246, -33.9983,  58.1794,-999          ,9,-999          ,9
33RR20230722  ,I05        ,124     ,  2,26         ,26         ,2,20230824,1055, -33.9983,  58.1794,     5117,    316.3,2,  13.1380,2,  35.2327,2,  35.2329,2,    232.9,2,    232.6,2,     3.02,2,     8.16,2,     0.00,2,     0.65,2,     -999,9,     -999,9,     -999,9,   2120.5,2,   2315.1,2,   7.8399,6,    24.99,2,     -999,1,  13.1385,2,     -999,9,     -999,9,     -999,9,     -999,9,     -999,1,   4.9682,1,   0.0110,1,     -999,9,     -999,9,     -999,9,     -999,9,     -999,9,20230824,1244, -33.9983,  58.1794,-999          ,9,-999          ,9
33RR20230722  ,I05        ,124     ,  2,25         ,25         ,2,20230824,1055, -33.9983,  58.1794,     5117,    366.0,2,  12.8782,2,  35.1940,2,  35.1935,2,    231.9,2,    231.9,2,     3.22,2,     8.86,2,     0.00,2,     0.70,2,     -999,9,     -999,9,     -999,9,   -999.0,9,     -999,9,     -999,9,     -999,9,     -999,1,  12.8772,2,     -999,9,     -999,9,     -999,9,     -999,9,     -999,1,   4.9680,1,   0.0116,1,     -999,9,     -999,9,     -999,9,     -999,9,     -999,9,20230824,1242, -33.9983,  58.1794,-999          ,9,-999          ,9
33RR20230722  ,I05        ,124     ,  2,24         ,24         ,2,20230824,1055, -33.9983,  58.1794,     5117,    434.9,2,  12.4117,2,  35.1215,2,  35.1211,2,    231.7,2,    231.7,2,     3.51,2,    10.03,2,     0.00,2,     0.76,2,     -999,9,     -999,9,     -999,9,   2126.0,2,   2310.7,2,   7.8184,6,    24.96,2,     -999,1,  12.4107,2,     -999,9,     -999,9,     -999,9,     -999,9,     -999,1,   4.9678,1,   0.0113,1,     -999,9,     -999,9,     -999,9,     -999,9,     -999,9,20230824,1239, -33.9983,  58.1794,-999          ,9,-999          ,9
33RR20230722  ,I05        ,124     ,  2,23         ,23         ,2,20230824,1055, -33.9983,  58.1794,     5117,    529.4,2,  11.8145,2,  35.0260,2,  35.0293,2,    229.6,2,    229.7,2,     4.00,2,    11.57,2,     0.00,2,     0.86,2,    2.633,2,    1.746,2,   2.1300,2,   2130.8,2,   2307.2,2,   7.8034,2,    24.98,2,     -999,1,  11.8162,2,     -999,9,     -999,9,     -999,9,     -999,9,     -999,1,   4.9669,1,   0.0113,1,     11.4,2,     -999,9,     -999,9,     -999,9,     -999,9,20230824,1236, -33.9983,  58.1794,-999          ,9,-999          ,9
33RR20230722  ,I05        ,124     ,  2,22         ,22         ,2,20230824,1055, -33.9983,  58.1794,     5117,    621.0,2,  10.9806,2,  34.9020,2,  34.9018,2,    224.6,2,    224.7,2,     4.78,2,    13.94,2,     0.00,2,     1.01,2,     -999,9,     -999,9,     -999,9,   2136.4,2,   2301.4,2,   7.7789,2,    24.98,2,     -999,1,  10.9798,2,     -999,9,     -999,9,     -999,9,     -999,9,     -999,1,   4.9665,1,   0.0113,1,     -999,9,     -999,9,     -999,9,     -999,9,     -999,9,20230824,1234, -33.9983,  58.1794,-999          ,9,-999          ,9
33RR20230722  ,I05        ,124     ,  2,21         ,21         ,2,20230824,1055, -33.9983,  58.1794,     5117,    710.3,2,  10.0873,2,  34.7807,2,  34.7838,2,    220.4,2,    220.5,2,     6.05,2,    16.36,2,     0.00,2,     1.17,2,     -999,9,     -999,9,     -999,9,   2141.5,2,   2295.4,2,   7.7564,2,    24.97,2,     -999,1,  10.0839,2,     -999,9,     -999,9,     -999,9,     -999,9,     -999,1,   4.9669,1,   0.0114,1,     -999,9,     -999,9,     -999,9,     -999,9,     -999,9,20230824,1231, -33.9983,  58.1794,-999          ,9,-999          ,9
33RR20230722  ,I05        ,124     ,  2,20         ,20         ,2,20230824,1055, -33.9983,  58.1794,     5117,    813.5,2,   9.0171,2,  34.6572,3,  34.6445,2,    213.7,2,    213.4,2,     9.17,2,    19.94,2,     0.00,2,     1.40,2,    2.898,2,    1.739,2,   1.4200,2,   2154.2,2,   2290.9,2,   7.7208,2,    24.96,2,     -999,1,   8.9954,2,     -999,9,     -999,9,     -999,9,     -999,9,     -999,1,   4.9675,1,   0.0113,1,     14.7,2,     -999,9,     -999,9,     -999,9,     -999,9,20230824,1228, -33.9983,  58.1794,-999          ,9,-999          ,9
33RR20230722  ,I05        ,124     ,  2,19         ,19         ,2,20230824,1055, -33.9983,  58.1794,     5117,    933.8,2,   7.2511,2,  34.4978,2,  34.4974,2,    204.5,2,    204.9,2,    16.40,2,    24.63,2,     0.00,2,     1.69,2,     -999,9,     -999,9,     -999,9,   2172.9,2,   2288.4,2,   7.6703,2,    24.97,2,     -999,1,   7.2484,2,     -999,9,     -999,9,     -999,9,     -999,9,     -999,1,   4.9692,1,   0.0113,1,     -999,9,     -999,9,     -999,9,     -999,9,     -999,9,20230824,1225, -33.9983,  58.1794,-999          ,9,-999          ,9
33RR20230722  ,I05        ,124     ,  2,18         ,18         ,2,20230824,1055, -33.9983,  58.1794,     5117,   1055.7,2,   5.7061,2,  34.3920,2,  34.4885,4,    204.1,2,    204.6,2,    16.69,2,    24.88,2,     0.00,2,     1.70,2,     -999,9,     -999,9,     -999,9,   -999.0,9,     -999,9,     -999,9,     -999,9,     -999,1,   5.7092,2,     -999,9,     -999,9,     -999,9,     -999,9,     -999,1,   4.9700,1,   0.0112,1,     -999,9,     -999,9,     -999,9,     -999,9,     -999,9,20230824,1222, -33.9983,  58.1794,-999          ,9,-999          ,9
33RR20230722  ,I05        ,124     ,  2,17         ,17         ,2,20230824,1055, -33.9983,  58.1794,     5117,   1183.7,2,   4.7253,2,  34.3666,2,  34.3672,2,    199.7,2,    199.5,2,    32.99,2,    30.37,2,     0.00,2,     2.11,2,    2.186,2,    1.201,2,   0.7500,2,   2202.5,2,   2297.6,2,   7.6119,2,    24.97,2,     -999,1,   4.7546,2,     -999,9,     -999,9,     -999,9,     -999,9,     -999,1,   4.9711,1,   0.0118,1,     19.5,2,     -999,9,     -999,9,     -999,9,     -999,9,20230824,1218, -33.9983,  58.1794,-999          ,9,-999          ,9
33RR20230722  ,I05        ,124     ,  2,16         ,16         ,2,20230824,1055, -33.9983,  58.1794,     5117,   1322.3,2,   3.9328,2,  34.3977,2,  34.3982,2,    187.9,2,    188.2,2,    45.29,2,    32.34,2,     0.00,2,     2.24,2,     -999,9,     -999,9,     -999,9,   2220.3,2,   2308.7,2,   7.5898,2,    24.96,2,     -999,1,   3.9337,2,     -999,9,     -999,9,     -999,9,     -999,9,     -999,1,   4.9724,1,   0.0112,1,     -999,9,     -999,9,     -999,9,     -999,9,     -999,9,20230824,1215, -33.9983,  58.1794,-999          ,9,-999          ,9
33RR20230722  ,I05        ,124     ,  2,15         ,15         ,2,20230824,1055, -33.9983,  58.1794,     5117,   1467.5,2,   3.4023,2,  34.4668,2,  34.4642,2,    176.8,2,    177.1,2,    56.42,2,    33.43,2,     0.00,2,     2.32,2,    1.030,2,    0.545,2,   0.2400,2,   2237.5,2,   2320.4,2,   7.5743,6,    24.97,2,     -999,1,   3.4068,2,     -999,9,     -999,9,     -999,9,     -999,9,     -999,1,   4.9734,1,   0.0112,1,     22.5,2,     -999,9,     -999,9,     -999,9,     -999,9,20230824,1212, -33.9983,  58.1794,-999          ,9,-999          ,9
33RR20230722  ,I05        ,124     ,  2,14         ,14         ,2,20230824,1055, -33.9983,  58.1794,     5117,   1618.1,2,   3.0846,2,  34.5349,2,  34.5360,2,    171.9,2,    171.9,2,    65.40,2,    33.59,2,     0.00,2,     2.35,2,     -999,9,     -999,9,     -999,9,   2246.4,2,   2329.0,2,   7.5710,2,    24.97,2,     -999,1,   3.0839,2,     -999,9,     -999,9,     -999,9,     -999,9,     -999,1,   4.9741,1,   0.0119,1,     -999,9,     -999,9,     -999,9,     -999,9,     -999,9,20230824,1208, -33.9983,  58.1794,-999          ,9,-999          ,9
33RR20230722  ,I05        ,124     ,  2,13         ,13         ,2,20230824,1055, -33.9983,  58.1794,     5117,   1779.5,2,   2.7965,2,  34.6075,2,  34.6079,2,    173.1,2,    173.0,2,    72.32,2,    32.98,2,     0.00,2,     2.30,2,    0.345,2,    0.178,2,   0.0900,2,   2251.9,2,   2336.4,2,   7.5789,2,    24.97,2,     -999,1,   2.7989,2,     -999,9,     -999,9,     -999,9,     -999,9,     -999,1,   4.9743,1,   0.0111,1,     22.0,2,     -999,9,     -999,9,     -999,9,     -999,9,20230824,1204, -33.9982,  58.1794,-999          ,9,-999          ,9
33RR20230722  ,I05        ,124     ,  2,12         ,12         ,2,20230824,1055, -33.9983,  58.1794,     5117,   1970.3,2,   2.5761,2,  34.6621,2,  34.6620,2,    176.8,2,    177.0,2,    79.35,2,    32.24,2,     0.00,2,     2.23,2,    0.196,2,    0.112,2,   0.0400,2,   2252.3,2,   2343.3,2,   7.5902,2,    25.01,2,     -999,1,   2.5758,2,     -999,9,     -999,9,     -999,9,     -999,9,     -999,1,   4.9745,1,   0.0111,1,     20.6,2,     -999,9,     -999,9,     -999,9,     -999,9,20230824,1200, -33.9982,  58.1794,-999          ,9,-999          ,9
33RR20230722  ,I05        ,124     ,  2,11         ,11         ,2,20230824,1055, -33.9983,  58.1794,     5117,   2211.3,2,   2.3354,2,  34.7052,2,  34.7038,2,    181.9,2,    182.1,2,    86.27,2,    31.59,2,     0.00,2,     2.19,2,     -999,9,     -999,9,     -999,9,   -999.0,9,     -999,9,     -999,9,     -999,9,     -999,1,   2.3351,2,     -999,9,     -999,9,     -999,9,     -999,9,     -999,1,   4.9748,1,   0.0117,1,     -999,9,     -999,9,     -999,9,     -999,9,     -999,9,20230824,1155, -33.9983,  58.1795,-999          ,9,-999          ,9
33RR20230722  ,I05        ,124     ,  2,10         ,10         ,2,20230824,1055, -33.9983,  58.1794,     5117,   2500.1,2,   2.1386,2,  34.7297,2,  34.7298,2,    184.3,2,    184.4,2,    93.49,2,    31.39,2,     0.00,2,     2.19,2,    0.067,2,    0.039,2,   0.0200,2,   2261.7,2,   2362.1,2,   7.6102,2,    25.00,2,     -999,1,   2.1383,2,     -999,9,     -999,9,     -999,9,     -999,9,     -999,1,   4.9749,1,   0.0122,1,     19.4,2,     -999,9,     -999,9,     -999,9,     -999,9,20230824,1149, -33.9983,  58.1794,-999          ,9,-999          ,9
33RR20230722  ,I05        ,124     ,  2,9          ,9          ,2,20230824,1055, -33.9983,  58.1794,     5117,   2828.6,2,   1.9007,2,  34.7387,2,  34.7384,2,    189.4,2,    189.5,2,    99.44,2,    31.27,2,     0.00,2,     2.19,2,    0.065,2,    0.040,2,   0.0100,2,   2261.6,2,   2365.1,2,   7.6133,2,    24.98,2,     -999,1,   1.9019,2,     -999,9,     -999,9,     -999,9,     -999,9,     -999,1,   4.9753,1,   0.0111,1,     19.0,2,     -999,9,     -999,9,     -999,9,     -999,9,20230824,1143, -33.9983,  58.1794,-999          ,9,-999          ,9
33RR20230722  ,I05        ,124     ,  2,8          ,8          ,2,20230824,1055, -33.9983,  58.1794,     5117,   3187.0,2,   1.5881,2,  34.7341,2,  34.7331,2,    196.7,2,    196.6,2,   105.10,2,    31.23,2,     0.00,2,     2.17,2,     -999,9,     -999,9,     -999,9,   -999.0,9,     -999,9,     -999,9,     -999,9,     -999,1,   1.5889,2,     -999,9,     -999,9,     -999,9,     -999,9,     -999,1,   4.9756,1,   0.0110,1,     -999,9,     -999,9,     -999,9,     -999,9,     -999,9,20230824,1135, -33.9983,  58.1794,-999          ,9,-999          ,9
33RR20230722  ,I05        ,124     ,  2,7          ,7          ,2,20230824,1055, -33.9983,  58.1794,     5117,   3605.7,2,   1.0401,2,  34.7124,2,  34.7119,2,    208.0,2,    207.9,2,   115.65,2,    31.58,2,     0.00,2,     2.19,2,    0.187,2,    0.103,2,   0.0600,2,   2260.9,2,   2360.8,2,   7.6127,6,    24.97,2,     -999,1,   1.0447,2,     -999,9,     -999,9,     -999,9,     -999,9,     -999,1,   4.9759,1,   0.0121,1,     18.2,2,     -999,9,     -999,9,     -999,9,     -999,9,20230824,1127, -33.9983,  58.1795,-999          ,9,-999          ,9
33RR20230722  ,I05        ,124     ,  2,6          ,6          ,2,20230824,1055, -33.9983,  58.1794,     5117,   4064.6,2,   0.6114,2,  34.6907,2,  34.6905,2,    215.6,2,    215.6,2,   128.14,2,    32.14,2,     0.00,2,     2.23,2,    0.266,2,    0.145,2,   0.0000,2,   -999.0,9,     -999,9,     -999,9,     -999,9,     -999,1,   0.6126,2,     -999,9,     -999,9,     -999,9,     -999,9,     -999,1,   4.9762,1,   0.0111,1,     18.0,2,     -999,9,     -999,9,     -999,9,     -999,9,20230824,1119, -33.9983,  58.1795,-999          ,9,-999          ,9
33RR20230722  ,I05        ,124     ,  2,5          ,5          ,2,20230824,1055, -33.9983,  58.1794,     5117,   4422.9,2,   0.5644,2,  34.6862,2,  34.6857,2,    216.8,2,    217.1,2,   131.26,2,    32.29,2,     0.00,2,     2.23,2,     -999,9,     -999,9,     -999,9,   2259.9,2,   2359.6,6,   7.6047,2,    24.99,2,     -999,1,   0.5644,2,     -999,9,     -999,9,     -999,9,     -999,9,     -999,1,   4.9766,1,   0.0110,1,     -999,9,     -999,9,     -999,9,     -999,9,     -999,9,20230824,1112, -33.9983,  58.1794,-999          ,9,-999          ,9
33RR20230722  ,I05        ,124     ,  2,4          ,37         ,2,20230824,1055, -33.9983,  58.1794,     5117,   4701.3,2,   0.5511,2,  34.6841,2,  34.6836,2,    217.4,2,    217.8,2,   132.53,2,    32.39,2,     0.00,2,     2.24,2,    0.288,2,    0.151,2,   0.0600,2,   2261.6,2,   2360.6,2,   7.6088,2,    24.98,2,     -999,1,   0.5509,2,     -999,9,     -999,9,     -999,9,     -999,9,     -999,1,   4.9766,1,   0.0110,1,     18.0,2,     -999,9,     -999,9,     -999,9,     -999,9,20230824,1106, -33.9983,  58.1794,-999          ,9,-999          ,9
33RR20230722  ,I05        ,124     ,  2,3          ,3          ,2,20230824,1055, -33.9983,  58.1794,     5117,   4943.3,2,   0.5581,2,  34.6827,2,  34.6828,2,    217.9,2,    218.0,2,   132.92,2,    32.39,2,     0.00,2,     2.26,2,    0.281,2,    0.153,2,   0.0400,2,   2260.5,2,   2361.7,2,   7.6043,2,    24.96,2,     -999,1,   0.5580,2,     -999,9,     -999,9,     -999,9,     -999,9,     -999,1,   4.9767,1,   0.0111,1,     18.0,2,     -999,9,     -999,9,     -999,9,     -999,9,20230824,1101, -33.9983,  58.1794,-999          ,9,-999          ,9
33RR20230722  ,I05        ,124     ,  2,2          ,2          ,4,20230824,1055, -33.9983,  58.1794,     5117,   5115.4,3,   0.5696,3,  34.6819,3,  34.6730,4,    218.0,3,    215.2,3,     8.88,3,    19.12,3,     0.00,3,     1.35,3,    3.040,4,    1.796,4,   1.5200,4,   2149.2,4,   2293.1,3,   7.7274,3,    24.98,3,     -999,1,   0.5691,3,     -999,9,     -999,9,     -999,9,     -999,9,     -999,1,   4.9769,1,   0.0110,1,     14.1,4,     -999,9,     -999,9,     -999,9,     -999,9,20230824,1057, -33.9983,  58.1794,-999          ,9,-999          ,9
33RR20230722  ,I05        ,124     ,  2,1          ,1          ,2,20230824,1055, -33.9983,  58.1794,     5117,   5205.6,2,   0.5752,2,  34.6815,2,  34.6814,2,    218.1,2,    217.9,2,   133.61,2,    32.39,2,     0.00,2,     2.24,2,    0.282,2,    0.155,2,   0.0800,2,   2262.9,6,   2359.3,2,   7.6052,2,    24.95,2,     -999,1,   0.5747,2,     -999,9,     -999,9,     -999,9,     -999,9,     -999,1,   1.0721,1,   0.0111,1,     17.6,2,     -999,9,     -999,9,     -999,9,     -999,9,20230824,1055, -33.9983,  58.1794,-999          ,9,-999          ,9