BOTTLE,20240422CCHHYDRO
EXPOCODE,SECT_ID,STNNBR,CASTNO,SAMPNO,BTLNBR,BTLNBR_FLAG_W,DATE,TIME,LATITUDE,LONGITUDE,DEPTH,CTDPRS,CTDPRS_FLAG_W,CTDTMP,CTDTMP_FLAG_W,CTDSAL,CTDSAL_FLAG_W,SALNTY,SALNTY_FLAG_W,CTDOXY,CTDOXY_FLAG_W,OXYGEN,OXYGEN_FLAG_W,SILCAT,SILCAT_FLAG_W,NITRAT,NITRAT_FLAG_W,NITRIT,NITRIT_FLAG_W,PHSPHT,PHSPHT_FLAG_W,CFC-11,CFC-11_FLAG_W,CFC-12,CFC-12_FLAG_W,SF6,SF6_FLAG_W,TCARBN,TCARBN_FLAG_W,ALKALI,ALKALI_FLAG_W,PH_TOT,PH_TOT_FLAG_W,PH_TMP,PH_TMP_FLAG_W,DOC,DOC_FLAG_W,REFTMP,REFTMP_FLAG_W,POC,POC_FLAG_W,PON,PON_FLAG_W,POP,POP_FLAG_W,DOP,DOP_FLAG_W,DELO18,DELO18_FLAG_W,CTDFLUOR,CTDFLUOR_FLAG_W,CTDXMISS,CTDXMISS_FLAG_W,N2O,N2O_FLAG_W,D15N_NO3,D15N_NO3_FLAG_W,D15N_NO2+NO3,D15N_NO2+NO3_FLAG_W,D18O_NO2+NO3,D18O_NO2+NO3_FLAG_W,D18O_NO3,D18O_NO3_FLAG_W,BTL_DATE,BTL_TIME,BTL_LAT,BTL_LON,HPLC,HPLC_FLAG_W,DNA,DNA_FLAG_W
,,,,,,,,,,,METERS,DBAR,,ITS-90,,PSS-78,,PSS-78,,UMOL/KG,,UMOL/KG,,UMOL/KG,,UMOL/KG,,UMOL/KG,,UMOL/KG,,PMOL/KG,,PMOL/KG,,FMOL/KG,,UMOL/KG,,UMOL/KG,,,,DEG C,,UMOL/KG,,ITS-90,,UG/KG,,UG/KG,,UG/L,,UMOL/KG,,/MILLE,,VOLTS,,VOLTS,,NMOL/KG,,/MILLE,,/MILLE,,/MILLE,,/MILLE,,,,,,,,,
33RR20230722  ,I05        ,148     ,  1,36         ,38         ,2,20230830,1345, -33.5346,  48.6105,     4079,      4.1,2,  16.8314,2,  35.6186,2,  35.6176,2,    243.9,2,    243.3,2,     1.95,2,     0.61,2,     0.13,2,     0.17,2,     -999,9,     -999,9,     -999,9,   2081.2,6,   2333.6,2,   7.9539,2,    24.99,2,     -999,1,  16.8345,2,     -999,9,     -999,9,     -999,9,     -999,9,     -999,9,   4.9755,1,   0.0435,1,     -999,9,     -999,9,     -999,9,     -999,9,     -999,9,20230830,1540, -33.5346,  48.6105,-999          ,9,-999          ,9
33RR20230722  ,I05        ,148     ,  1,35         ,35         ,2,20230830,1345, -33.5346,  48.6105,     4079,     20.1,2,  16.8441,2,  35.6182,2,  35.6176,2,    243.8,2,    243.0,2,     2.05,2,     0.59,2,     0.13,2,     0.15,2,     -999,9,     -999,9,     -999,9,   -999.0,9,     -999,9,     -999,9,     -999,9,     -999,1,  16.8433,2,     -999,9,     -999,9,     -999,9,     -999,9,     -999,9,   4.9755,1,   0.0434,1,     -999,9,     -999,9,     -999,9,     -999,9,     -999,9,20230830,1537, -33.5346,  48.6104,-999          ,9,-999          ,9
33RR20230722  ,I05        ,148     ,  1,34         ,34         ,2,20230830,1345, -33.5346,  48.6105,     4079,     36.7,2,  16.7885,2,  35.6153,2,  35.6145,2,    243.4,2,    242.9,2,     1.95,2,     0.54,2,     0.13,2,     0.17,2,     -999,9,     -999,9,     -999,9,   2080.5,2,   2332.3,2,   7.9524,2,    25.02,2,     -999,1,  16.7878,2,     -999,9,     -999,9,     -999,9,     -999,9,     -999,9,   4.6925,1,   0.0444,1,     -999,9,     -999,9,     -999,9,     -999,9,     -999,9,20230830,1535, -33.5346,  48.6105,-999          ,9,-999          ,9
33RR20230722  ,I05        ,148     ,  1,33         ,33         ,2,20230830,1345, -33.5346,  48.6105,     4079,     55.6,2,  16.7832,2,  35.6149,2,  35.6141,2,    242.6,2,    242.4,2,     1.95,2,     0.54,2,     0.13,2,     0.17,2,     -999,9,     -999,9,     -999,9,   -999.0,9,     -999,9,     -999,9,     -999,9,     -999,1,  16.7819,2,     -999,9,     -999,9,     -999,9,     -999,9,     -999,9,   4.9747,1,   0.0457,1,     -999,9,     -999,9,     -999,9,     -999,9,     -999,9,20230830,1533, -33.5346,  48.6105,-999          ,9,-999          ,9
33RR20230722  ,I05        ,148     ,  1,32         ,32         ,2,20230830,1345, -33.5346,  48.6105,     4079,     76.0,2,  16.7742,2,  35.6137,2,  35.6133,2,    240.9,2,    241.0,2,     1.85,2,     0.60,2,     0.14,2,     0.18,2,     -999,9,     -999,9,     -999,9,   2082.5,2,   2332.4,2,   7.9502,2,    25.03,2,     -999,1,  16.7733,2,     -999,9,     -999,9,     -999,9,     -999,9,     -999,9,   4.9740,1,   0.0389,1,     -999,9,     -999,9,     -999,9,     -999,9,     -999,9,20230830,1531, -33.5347,  48.6105,-999          ,9,-999          ,9
33RR20230722  ,I05        ,148     ,  1,31         ,31         ,2,20230830,1345, -33.5346,  48.6105,     4079,     99.4,2,  16.6083,2,  35.5975,2,  35.5967,2,    235.9,2,    236.3,2,     1.95,2,     1.27,2,     0.25,2,     0.21,2,     -999,9,     -999,9,     -999,9,   2083.2,2,   2331.3,2,   7.9411,2,    25.02,2,     -999,1,  16.6060,2,     -999,9,     -999,9,     -999,9,     -999,9,     -999,9,   4.9729,1,   0.0194,1,     -999,9,     -999,9,     -999,9,     -999,9,     -999,9,20230830,1529, -33.5346,  48.6105,-999          ,9,-999          ,9
33RR20230722  ,I05        ,148     ,  1,30         ,30         ,2,20230830,1345, -33.5346,  48.6105,     4079,    124.6,2,  16.5127,2,  35.5861,2,  35.5857,2,    233.7,2,    234.5,2,     1.95,2,     1.61,2,     0.20,2,     0.23,2,     -999,9,     -999,9,     -999,9,   2088.0,2,   2331.3,2,   7.9355,6,    24.99,2,     -999,1,  16.5131,2,     -999,9,     -999,9,     -999,9,     -999,9,     -999,9,   4.9662,1,   0.0174,1,     -999,9,     -999,9,     -999,9,     -999,9,     -999,9,20230830,1527, -33.5346,  48.6105,-999          ,9,-999          ,9
33RR20230722  ,I05        ,148     ,  1,29         ,29         ,2,20230830,1345, -33.5346,  48.6105,     4079,    149.8,2,  16.2175,2,  35.5478,2,  35.5470,2,    229.5,2,    230.3,2,     2.44,2,     2.91,2,     0.18,2,     0.29,2,     -999,9,     -999,9,     -999,9,   2093.2,2,   2329.2,2,   7.9214,2,    25.02,2,     -999,1,  16.2166,2,     -999,9,     -999,9,     -999,9,     -999,9,     -999,9,   4.9710,1,   0.0144,1,     -999,9,     -999,9,     -999,9,     -999,9,     -999,9,20230830,1525, -33.5346,  48.6105,-999          ,9,-999          ,9
33RR20230722  ,I05        ,148     ,  1,28         ,28         ,2,20230830,1345, -33.5346,  48.6105,     4079,    174.2,2,  15.9660,2,  35.5142,2,  35.5137,2,    211.7,3,    215.0,2,     3.02,2,     4.91,2,     0.03,2,     0.42,2,     -999,9,     -999,9,     -999,9,   2103.5,2,   2326.0,2,   7.8940,2,    24.98,2,     -999,1,  15.9593,2,     -999,9,     -999,9,     -999,9,     -999,9,     -999,9,   4.9686,1,   0.0119,1,     -999,9,     -999,9,     -999,9,     -999,9,     -999,9,20230830,1523, -33.5346,  48.6105,-999          ,9,-999          ,9
33RR20230722  ,I05        ,148     ,  1,27         ,27         ,2,20230830,1345, -33.5346,  48.6105,     4079,    201.6,2,  15.6762,2,  35.5101,2,  35.5103,2,    235.8,2,    235.5,2,     2.63,2,     3.49,2,     0.05,2,     0.33,2,     -999,9,     -999,9,     -999,9,   2095.3,2,   2326.9,2,   7.9144,2,    25.00,2,     -999,1,  15.6760,2,     -999,9,     -999,9,     -999,9,     -999,9,     -999,9,   4.9712,1,   0.0130,1,     -999,9,     -999,9,     -999,9,     -999,9,     -999,9,20230830,1521, -33.5346,  48.6105,-999          ,9,-999          ,9
33RR20230722  ,I05        ,148     ,  1,26         ,26         ,2,20230830,1345, -33.5346,  48.6105,     4079,    230.7,2,  15.5285,2,  35.5015,2,  35.5004,2,    233.7,2,    233.4,2,     2.73,2,     3.91,2,     0.02,2,     0.35,2,     -999,9,     -999,9,     -999,9,   -999.0,9,     -999,9,     -999,9,     -999,9,     -999,1,  15.5272,2,     -999,9,     -999,9,     -999,9,     -999,9,     -999,9,   4.9198,1,   0.0117,1,     -999,9,     -999,9,     -999,9,     -999,9,     -999,9,20230830,1519, -33.5346,  48.6105,-999          ,9,-999          ,9
33RR20230722  ,I05        ,148     ,  1,25         ,25         ,2,20230830,1345, -33.5346,  48.6105,     4079,    264.6,2,  15.0692,2,  35.4314,2,  35.4316,2,    214.2,2,    215.9,2,     3.02,2,     5.96,2,     0.00,2,     0.49,2,     -999,9,     -999,9,     -999,9,   2112.5,2,   2324.1,6,   7.8709,2,    25.02,2,     -999,1,  15.0700,2,     -999,9,     -999,9,     -999,9,     -999,9,     -999,9,   4.9678,1,   0.0120,1,     -999,9,     -999,9,     -999,9,     -999,9,     -999,9,20230830,1518, -33.5346,  48.6105,-999          ,9,-999          ,9
33RR20230722  ,I05        ,148     ,  1,24         ,24         ,2,20230830,1345, -33.5346,  48.6105,     4079,    305.6,2,  14.4493,2,  35.3576,2,  35.3591,2,    212.0,3,    214.2,2,     3.51,2,     7.41,2,     0.00,2,     0.59,2,     -999,9,     -999,9,     -999,9,   -999.0,9,     -999,9,     -999,9,     -999,9,     -999,1,  14.4473,2,     -999,9,     -999,9,     -999,9,     -999,9,     -999,9,   4.9674,1,   0.0118,1,     -999,9,     -999,9,     -999,9,     -999,9,     -999,9,20230830,1516, -33.5346,  48.6105,-999          ,9,-999          ,9
33RR20230722  ,I05        ,148     ,  1,23         ,23         ,2,20230830,1345, -33.5346,  48.6105,     4079,    349.3,2,  13.8892,2,  35.2960,2,     -999,9,    211.8,2,     -999,9,     -999,9,     -999,9,     -999,9,     -999,9,     -999,9,     -999,9,     -999,9,   -999.0,9,     -999,9,     -999,9,     -999,9,     -999,9,  13.8773,2,     -999,9,     -999,9,     -999,9,     -999,9,     -999,9,   4.6617,1,   0.0116,1,     -999,9,     -999,9,     -999,9,     -999,9,     -999,9,20230830,1513, -33.5346,  48.6105,-999          ,9,-999          ,9
33RR20230722  ,I05        ,148     ,  1,22         ,22         ,2,20230830,1345, -33.5346,  48.6105,     4079,    401.8,2,  13.3888,2,  35.2477,2,  35.2477,2,    217.8,2,    218.6,2,     3.61,2,     9.06,2,     0.00,2,     0.71,2,     -999,9,     -999,9,     -999,9,   2127.1,2,   2314.2,2,   7.8332,6,    25.01,2,     -999,1,  13.3885,2,     -999,9,     -999,9,     -999,9,     -999,9,     -999,9,   4.9208,1,   0.0116,1,     -999,9,     -999,9,     -999,9,     -999,9,     -999,9,20230830,1511, -33.5346,  48.6105,-999          ,9,-999          ,9
33RR20230722  ,I05        ,148     ,  1,21         ,21         ,2,20230830,1345, -33.5346,  48.6105,     4079,    460.2,2,  12.8861,2,  35.1821,2,  35.1813,2,    219.7,2,    219.9,2,     3.90,2,    10.04,2,     0.00,2,     0.77,2,    6.819,4,    1.590,2,   2.0100,2,   2127.4,2,   2312.7,2,   7.8215,2,    25.01,2,     -999,1,  12.8836,2,     -999,9,     -999,9,     -999,9,     -999,9,     -999,9,   4.9668,1,   0.0115,1,     10.4,2,     -999,9,     -999,9,     -999,9,     -999,9,20230830,1509, -33.5346,  48.6104,-999          ,9,-999          ,9
33RR20230722  ,I05        ,148     ,  1,20         ,20         ,2,20230830,1345, -33.5346,  48.6105,     4079,    535.1,2,  12.0751,2,  35.0647,2,  35.0646,2,    221.3,2,    221.4,2,     4.29,2,    11.69,2,     0.00,2,     0.90,2,     -999,9,     -999,9,     -999,9,   -999.0,9,     -999,9,     -999,9,     -999,9,     -999,1,  12.0709,2,     -999,9,     -999,9,     -999,9,     -999,9,     -999,9,   4.6927,1,   0.0114,1,     -999,9,     -999,9,     -999,9,     -999,9,     -999,9,20230830,1507, -33.5346,  48.6105,-999          ,9,-999          ,9
33RR20230722  ,I05        ,148     ,  1,19         ,19         ,2,20230830,1345, -33.5346,  48.6105,     4079,    625.2,2,  11.1469,2,  34.9281,2,  34.9311,2,    221.0,2,    221.0,2,     4.98,2,    13.77,2,     0.00,2,     1.01,2,     -999,9,     -999,9,     -999,9,   2134.7,2,   2301.5,2,   7.7831,2,    24.98,2,     -999,1,  11.1607,2,     -999,9,     -999,9,     -999,9,     -999,9,     -999,9,   4.9362,1,   0.0115,1,     -999,9,     -999,9,     -999,9,     -999,9,     -999,9,20230830,1504, -33.5346,  48.6105,-999          ,9,-999          ,9
33RR20230722  ,I05        ,148     ,  1,18         ,18         ,2,20230830,1345, -33.5346,  48.6105,     4079,    727.0,2,  10.0126,2,  34.7806,2,  34.7811,2,    217.5,2,    217.2,2,     6.83,2,    16.79,2,     0.00,2,     1.20,2,     -999,9,     -999,9,     -999,9,   -999.0,9,     -999,9,     -999,9,     -999,9,     -999,1,  10.0147,2,     -999,9,     -999,9,     -999,9,     -999,9,     -999,9,   4.9670,1,   0.0112,1,     -999,9,     -999,9,     -999,9,     -999,9,     -999,9,20230830,1501, -33.5346,  48.6105,-999          ,9,-999          ,9
33RR20230722  ,I05        ,148     ,  1,17         ,17         ,2,20230830,1345, -33.5346,  48.6105,     4079,    839.7,2,   8.1746,2,  34.5848,2,  34.5859,2,    208.9,2,    209.0,2,    12.79,2,    21.98,2,     0.00,2,     1.54,2,   -0.036,4,    1.609,2,   1.3900,2,   2162.2,2,   2288.8,2,   7.6974,2,    25.03,2,     -999,1,   8.1860,2,     -999,9,     -999,9,     -999,9,     -999,9,     -999,9,   4.8517,1,   0.0112,1,     14.7,2,     -999,9,     -999,9,     -999,9,     -999,9,20230830,1458, -33.5346,  48.6105,-999          ,9,-999          ,9
33RR20230722  ,I05        ,148     ,  1,16         ,16         ,2,20230830,1345, -33.5346,  48.6105,     4079,    955.8,2,   6.4179,2,  34.4358,2,  34.4353,2,    207.1,2,    207.1,2,    20.11,2,    26.47,2,     0.00,2,     1.85,2,     -999,9,     -999,9,     -999,9,   -999.0,9,     -999,9,     -999,9,     -999,9,     -999,1,   6.4299,2,     -999,9,     -999,9,     -999,9,     -999,9,     -999,9,   4.8691,1,   0.0111,1,     -999,9,     -999,9,     -999,9,     -999,9,     -999,9,20230830,1455, -33.5346,  48.6105,-999          ,9,-999          ,9
33RR20230722  ,I05        ,148     ,  1,15         ,15         ,2,20230830,1345, -33.5346,  48.6105,     4079,   1074.3,2,   5.2264,2,  34.3722,2,  34.3719,2,    206.0,2,    206.4,2,    27.63,2,    29.05,2,     0.00,2,     2.02,2,     -999,9,     -999,9,     -999,9,   2193.3,2,   2293.7,2,   7.6263,2,    25.00,2,     -999,1,   5.2195,2,     -999,9,     -999,9,     -999,9,     -999,9,     -999,9,   4.9036,1,   0.0113,1,     -999,9,     -999,9,     -999,9,     -999,9,     -999,9,20230830,1451, -33.5346,  48.6105,-999          ,9,-999          ,9
33RR20230722  ,I05        ,148     ,  1,14         ,14         ,2,20230830,1345, -33.5346,  48.6105,     4079,   1203.0,2,   4.3482,2,  34.3985,2,  34.3972,2,    192.0,2,    192.4,2,    40.03,2,    31.50,2,     0.00,2,     2.20,2,    1.361,4,    0.955,2,   0.5900,2,   2211.4,2,   2303.4,2,   7.6005,2,    25.03,2,     -999,1,   4.3537,2,     -999,9,     -999,9,     -999,9,     -999,9,     -999,9,   4.9350,1,   0.0112,1,     19.4,2,     -999,9,     -999,9,     -999,9,     -999,9,20230830,1448, -33.5346,  48.6105,-999          ,9,-999          ,9
33RR20230722  ,I05        ,148     ,  1,13         ,13         ,2,20230830,1345, -33.5346,  48.6105,     4079,   1338.4,2,   3.7770,2,  34.4472,2,  34.4473,2,    182.5,2,    182.4,2,    50.86,2,    32.84,2,     0.00,2,     2.28,2,    0.430,4,    0.661,2,   0.4000,2,   2229.2,6,   2312.4,2,   7.5844,6,    25.01,2,     -999,1,   3.7779,2,     -999,9,     -999,9,     -999,9,     -999,9,     -999,9,   4.8923,1,   0.0112,1,     20.7,2,     -999,9,     -999,9,     -999,9,     -999,9,20230830,1445, -33.5346,  48.6105,-999          ,9,-999          ,9
33RR20230722  ,I05        ,148     ,  1,12         ,12         ,2,20230830,1345, -33.5346,  48.6105,     4079,   1481.2,2,   3.4444,2,  34.4982,2,  34.4995,2,    177.0,2,    176.8,2,    58.28,2,    33.19,2,     0.00,2,     2.32,2,     -999,9,     -999,9,     -999,9,   -999.0,9,     -999,9,     -999,9,     -999,9,     -999,1,   3.4438,2,     -999,9,     -999,9,     -999,9,     -999,9,     -999,9,   4.9733,1,   0.0112,1,     -999,9,     -999,9,     -999,9,     -999,9,     -999,9,20230830,1441, -33.5346,  48.6105,-999          ,9,-999          ,9
33RR20230722  ,I05        ,148     ,  1,11         ,11         ,2,20230830,1345, -33.5346,  48.6105,     4079,   1628.3,2,   3.0882,2,  34.5703,2,  34.5714,2,    175.2,2,    175.3,2,    65.60,2,    33.06,2,     0.00,2,     2.31,2,     -999,9,     -999,9,     -999,9,   -999.0,9,     -999,9,     -999,9,     -999,9,     -999,1,   3.0872,2,     -999,9,     -999,9,     -999,9,     -999,9,     -999,9,   4.9245,1,   0.0116,1,     -999,9,     -999,9,     -999,9,     -999,9,     -999,9,20230830,1438, -33.5346,  48.6105,-999          ,9,-999          ,9
33RR20230722  ,I05        ,148     ,  1,10         ,10         ,2,20230830,1345, -33.5346,  48.6105,     4079,   1784.0,2,   2.8296,2,  34.6308,2,  34.6305,2,    178.3,2,    178.1,2,    69.89,2,    32.32,2,     0.00,2,     2.25,2,    0.891,4,    0.221,2,   0.1200,2,   2242.2,2,   2335.7,2,   7.5889,6,    25.00,2,     -999,1,   2.8281,2,     -999,9,     -999,9,     -999,9,     -999,9,     -999,9,   4.8569,1,   0.0112,1,     20.4,2,     -999,9,     -999,9,     -999,9,     -999,9,20230830,1434, -33.5346,  48.6105,-999          ,9,-999          ,9
33RR20230722  ,I05        ,148     ,  1,9          ,9          ,2,20230830,1345, -33.5346,  48.6105,     4079,   1968.5,2,   2.5593,2,  34.6793,2,  34.6793,2,    183.1,2,    183.0,2,    75.26,2,    31.62,2,     0.00,2,     2.21,2,   -0.884,4,    0.104,2,   0.0500,2,   2245.5,2,   2341.2,6,   7.6001,2,    25.04,2,     -999,1,   2.5585,2,     -999,9,     -999,9,     -999,9,     -999,9,     -999,9,   4.9740,1,   0.0112,1,     19.5,2,     -999,9,     -999,9,     -999,9,     -999,9,20230830,1430, -33.5346,  48.6105,-999          ,9,-999          ,9
33RR20230722  ,I05        ,148     ,  1,8          ,8          ,2,20230830,1345, -33.5346,  48.6105,     4079,   2205.1,2,   2.3308,2,  34.7162,2,  34.7162,2,    188.8,2,    189.0,2,    80.13,2,    30.97,2,     0.00,2,     2.15,2,     -999,9,     -999,9,     -999,9,   -999.0,9,     -999,9,     -999,9,     -999,9,     -999,1,   2.3309,2,     -999,9,     -999,9,     -999,9,     -999,9,     -999,9,   4.9740,1,   0.0115,1,     -999,9,     -999,9,     -999,9,     -999,9,     -999,9,20230830,1425, -33.5346,  48.6105,-999          ,9,-999          ,9
33RR20230722  ,I05        ,148     ,  1,7          ,7          ,2,20230830,1345, -33.5346,  48.6105,     4079,   2481.4,2,   2.2005,2,  34.7509,2,  34.7506,2,    193.8,2,    193.8,2,    83.84,2,    30.23,2,     0.00,2,     2.09,2,   -0.679,4,    0.024,2,   0.0300,2,   2248.5,2,   2350.2,2,   7.6254,2,    25.01,2,     -999,1,   2.2006,2,     -999,9,     -999,9,     -999,9,     -999,9,     -999,9,   4.9718,1,   0.0121,1,     18.0,2,     -999,9,     -999,9,     -999,9,     -999,9,20230830,1419, -33.5346,  48.6105,-999          ,9,-999          ,9
33RR20230722  ,I05        ,148     ,  1,6          ,6          ,2,20230830,1345, -33.5346,  48.6105,     4079,   2795.4,2,   1.9855,2,  34.7580,2,  34.7579,2,    198.3,2,    198.8,2,    89.11,2,    30.15,2,     0.00,2,     2.09,2,    1.232,4,    0.008,2,   0.0000,2,   2247.8,2,   2356.5,2,   7.6303,2,    25.00,2,     -999,1,   1.9863,2,     -999,9,     -999,9,     -999,9,     -999,9,     -999,9,   4.9746,1,   0.0111,1,     17.4,2,     -999,9,     -999,9,     -999,9,     -999,9,20230830,1413, -33.5346,  48.6105,-999          ,9,-999          ,9
33RR20230722  ,I05        ,148     ,  1,5          ,5          ,2,20230830,1345, -33.5346,  48.6105,     4079,   3139.4,2,   1.6153,2,  34.7368,2,  34.7368,2,    196.5,2,    196.9,2,   104.14,2,    31.47,2,     0.00,2,     2.19,2,    5.442,4,    0.028,2,   0.0100,2,   2259.2,2,   2363.8,2,   7.6199,2,    25.00,2,     -999,1,   1.6158,2,     -999,9,     -999,9,     -999,9,     -999,9,     -999,9,   4.9753,1,   0.0111,1,     18.0,2,     -999,9,     -999,9,     -999,9,     -999,9,20230830,1406, -33.5346,  48.6105,-999          ,9,-999          ,9
33RR20230722  ,I05        ,148     ,  1,4          ,37         ,2,20230830,1345, -33.5346,  48.6105,     4079,   3486.4,2,   1.2971,2,  34.7206,2,  34.7207,2,    199.8,2,    199.9,2,   114.59,2,    32.07,2,     0.00,2,     2.24,2,     -999,9,     -999,9,     -999,9,   -999.0,9,     -999,9,     -999,9,     -999,9,     -999,1,   1.2968,2,     -999,9,     -999,9,     -999,9,     -999,9,     -999,9,   4.9754,1,   0.0112,1,     -999,9,     -999,9,     -999,9,     -999,9,     -999,9,20230830,1359, -33.5346,  48.6105,-999          ,9,-999          ,9
33RR20230722  ,I05        ,148     ,  1,3          ,3          ,2,20230830,1345, -33.5346,  48.6105,     4079,   3775.9,2,   1.1318,2,  34.7130,2,  34.7136,2,    204.2,2,    204.7,2,   117.62,2,    32.08,2,     0.00,2,     2.24,2,   -0.416,4,    0.038,2,   0.0100,2,   2262.4,2,   2363.9,2,   7.6134,2,    25.02,2,     -999,1,   1.1314,2,     -999,9,     -999,9,     -999,9,     -999,9,     -999,9,   4.9664,1,   0.0112,1,     17.8,2,     -999,9,     -999,9,     -999,9,     -999,9,20230830,1353, -33.5346,  48.6105,-999          ,9,-999          ,9