BOTTLE,20240422CCHHYDRO
EXPOCODE,SECT_ID,STNNBR,CASTNO,SAMPNO,BTLNBR,BTLNBR_FLAG_W,DATE,TIME,LATITUDE,LONGITUDE,DEPTH,CTDPRS,CTDPRS_FLAG_W,CTDTMP,CTDTMP_FLAG_W,CTDSAL,CTDSAL_FLAG_W,SALNTY,SALNTY_FLAG_W,CTDOXY,CTDOXY_FLAG_W,OXYGEN,OXYGEN_FLAG_W,SILCAT,SILCAT_FLAG_W,NITRAT,NITRAT_FLAG_W,NITRIT,NITRIT_FLAG_W,PHSPHT,PHSPHT_FLAG_W,CFC-11,CFC-11_FLAG_W,CFC-12,CFC-12_FLAG_W,SF6,SF6_FLAG_W,TCARBN,TCARBN_FLAG_W,ALKALI,ALKALI_FLAG_W,PH_TOT,PH_TOT_FLAG_W,PH_TMP,PH_TMP_FLAG_W,DOC,DOC_FLAG_W,REFTMP,REFTMP_FLAG_W,POC,POC_FLAG_W,PON,PON_FLAG_W,POP,POP_FLAG_W,DOP,DOP_FLAG_W,DELO18,DELO18_FLAG_W,CTDFLUOR,CTDFLUOR_FLAG_W,CTDXMISS,CTDXMISS_FLAG_W,N2O,N2O_FLAG_W,D15N_NO3,D15N_NO3_FLAG_W,D15N_NO2+NO3,D15N_NO2+NO3_FLAG_W,D18O_NO2+NO3,D18O_NO2+NO3_FLAG_W,D18O_NO3,D18O_NO3_FLAG_W,BTL_DATE,BTL_TIME,BTL_LAT,BTL_LON,HPLC,HPLC_FLAG_W,DNA,DNA_FLAG_W
,,,,,,,,,,,METERS,DBAR,,ITS-90,,PSS-78,,PSS-78,,UMOL/KG,,UMOL/KG,,UMOL/KG,,UMOL/KG,,UMOL/KG,,UMOL/KG,,PMOL/KG,,PMOL/KG,,FMOL/KG,,UMOL/KG,,UMOL/KG,,,,DEG C,,UMOL/KG,,ITS-90,,UG/KG,,UG/KG,,UG/L,,UMOL/KG,,/MILLE,,VOLTS,,VOLTS,,NMOL/KG,,/MILLE,,/MILLE,,/MILLE,,/MILLE,,,,,,,,,
33RR20230722  ,I05        ,190     ,  2,33         ,33         ,2,20230909,1204, -31.3499,  30.7575,     2951,     11.8,2,  22.1059,2,  35.4342,2,  35.4334,2,    220.5,2,    219.8,2,     1.46,2,     0.00,2,     0.00,2,     0.13,2,    1.587,2,    1.095,2,   1.9400,2,   2029.2,6,   2320.1,2,   8.0246,2,    25.00,2,     -999,1,  22.1001,2,     -999,9,     -999,9,     -999,9,     -999,9,     -999,9,   4.9382,1,   0.0227,1,      7.0,2,     -999,9,     -999,9,     -999,9,     -999,9,20230909,1332, -31.3499,  30.7575,-999          ,9,-999          ,9
33RR20230722  ,I05        ,190     ,  2,32         ,32         ,2,20230909,1204, -31.3499,  30.7575,     2951,     20.9,2,  22.0897,2,  35.4343,2,  35.4340,2,    220.4,2,    220.1,2,     1.46,2,     0.00,2,     0.00,2,     0.11,2,    1.761,2,    1.100,2,   1.9900,2,   -999.0,9,     -999,9,     -999,9,     -999,9,     -999,1,  22.0880,2,     -999,9,     -999,9,     -999,9,     -999,9,     -999,9,   4.6518,1,   0.0235,1,      6.8,2,     -999,9,     -999,9,     -999,9,     -999,9,20230909,1331, -31.3499,  30.7575,-999          ,9,-999          ,9
33RR20230722  ,I05        ,190     ,  2,31         ,31         ,2,20230909,1204, -31.3499,  30.7575,     2951,     35.0,2,  21.7476,2,  35.4371,2,  35.4362,2,    221.3,2,    220.8,2,     1.46,2,     0.00,2,     0.00,2,     0.12,2,    1.637,2,    1.112,2,   1.9900,2,   2032.4,2,   2320.3,2,   8.0213,2,    25.02,2,     -999,1,  21.7509,2,     -999,9,     -999,9,     -999,9,     -999,9,     -999,9,   4.9746,1,   0.0324,1,      7.0,2,     -999,9,     -999,9,     -999,9,     -999,9,20230909,1329, -31.3499,  30.7575,-999          ,9,-999          ,9
33RR20230722  ,I05        ,190     ,  2,30         ,30         ,2,20230909,1204, -31.3499,  30.7575,     2951,     52.2,2,  21.7042,2,  35.4315,2,  35.4304,2,    220.5,2,    220.0,2,     1.56,2,     0.00,2,     0.02,2,     0.14,2,     -999,9,     -999,9,     -999,9,   -999.0,9,     -999,9,     -999,9,     -999,9,     -999,1,  21.7039,2,     -999,9,     -999,9,     -999,9,     -999,9,     -999,9,   4.8904,1,   0.0397,1,     -999,9,     -999,9,     -999,9,     -999,9,     -999,9,20230909,1327, -31.3499,  30.7575,-999          ,9,-999          ,9
33RR20230722  ,I05        ,190     ,  2,29         ,29         ,2,20230909,1204, -31.3499,  30.7575,     2951,     66.1,2,  21.6848,2,  35.4293,2,  35.4281,2,    219.6,2,    219.3,2,     1.56,2,     0.00,2,     0.05,2,     0.13,2,    1.742,2,    1.118,2,   2.0500,2,   2033.7,2,   2320.0,2,   8.0182,2,    25.01,2,     -999,1,  21.6828,2,     -999,9,     -999,9,     -999,9,     -999,9,     -999,9,   4.6823,1,   0.0375,1,      7.3,2,     -999,9,     -999,9,     -999,9,     -999,9,20230909,1326, -31.3499,  30.7575,-999          ,9,-999          ,9
33RR20230722  ,I05        ,190     ,  2,28         ,28         ,2,20230909,1204, -31.3499,  30.7575,     2951,     85.2,2,  21.6551,2,  35.4252,2,  35.4247,2,    218.4,2,    218.8,2,     1.56,2,     0.00,2,     0.10,2,     0.11,2,     -999,9,     -999,9,     -999,9,   -999.0,9,     -999,9,     -999,9,     -999,9,     -999,1,  21.6520,2,     -999,9,     -999,9,     -999,9,     -999,9,     -999,9,   4.9140,1,   0.0355,1,     -999,9,     -999,9,     -999,9,     -999,9,     -999,9,20230909,1324, -31.3499,  30.7575,-999          ,9,-999          ,9
33RR20230722  ,I05        ,190     ,  2,27         ,27         ,2,20230909,1204, -31.3499,  30.7575,     2951,    109.8,2,  20.7409,2,  35.4784,2,  35.4766,2,    187.8,3,    191.3,2,     3.02,2,     3.03,2,     0.05,2,     0.30,2,    1.659,2,    1.143,2,   1.9400,2,   2064.8,2,   2321.2,2,   7.9589,2,    25.00,2,     -999,1,  20.7413,2,     -999,9,     -999,9,     -999,9,     -999,9,     -999,9,   4.8011,1,   0.0129,1,      8.7,2,     -999,9,     -999,9,     -999,9,     -999,9,20230909,1322, -31.3499,  30.7575,-999          ,9,-999          ,9
33RR20230722  ,I05        ,190     ,  2,26         ,26         ,2,20230909,1204, -31.3499,  30.7575,     2951,    136.6,2,  19.6310,2,  35.6042,2,  35.6017,2,    205.4,2,    206.3,2,     2.54,2,     1.87,2,     0.02,2,     0.23,2,     -999,9,     -999,9,     -999,9,   -999.0,9,     -999,9,     -999,9,     -999,9,     -999,1,  19.6201,2,     -999,9,     -999,9,     -999,9,     -999,9,     -999,9,   4.9695,1,   0.0117,1,     -999,9,     -999,9,     -999,9,     -999,9,     -999,9,20230909,1320, -31.3499,  30.7575,-999          ,9,-999          ,9
33RR20230722  ,I05        ,190     ,  2,25         ,25         ,2,20230909,1204, -31.3499,  30.7575,     2951,    165.7,2,  18.8206,2,  35.6132,2,  35.6088,2,    214.7,3,    212.0,2,     2.63,2,     1.96,2,     0.01,2,     0.23,2,    1.884,2,    1.245,2,   2.0900,2,   2076.6,2,   2332.0,2,   7.9548,6,    24.98,2,     -999,1,  18.8311,2,     -999,9,     -999,9,     -999,9,     -999,9,     -999,9,   4.6630,1,   0.0117,1,      8.4,2,     -999,9,     -999,9,     -999,9,     -999,9,20230909,1318, -31.3499,  30.7575,-999          ,9,-999          ,9
33RR20230722  ,I05        ,190     ,  2,24         ,24         ,2,20230909,1204, -31.3499,  30.7575,     2951,    198.2,2,  18.5877,2,  35.6581,2,  35.6573,2,    217.2,2,    218.0,2,     2.15,2,     1.20,2,     0.08,2,     0.19,2,     -999,9,     -999,9,     -999,9,   -999.0,9,     -999,9,     -999,9,     -999,9,     -999,1,  18.6077,2,     -999,9,     -999,9,     -999,9,     -999,9,     -999,9,   4.7181,1,   0.0126,1,     -999,9,     -999,9,     -999,9,     -999,9,     -999,9,20230909,1316, -31.3499,  30.7575,-999          ,9,-999          ,9
33RR20230722  ,I05        ,190     ,  2,23         ,23         ,2,20230909,1204, -31.3499,  30.7575,     2951,    232.7,2,  17.8284,2,  35.5788,2,  35.5805,2,    196.5,3,    199.1,2,     3.80,2,     4.10,2,     0.02,2,     0.37,2,    2.062,2,    1.277,2,   2.0200,2,   2096.6,2,   2330.1,2,   7.9127,2,    24.98,2,     -999,1,  17.8264,2,     -999,9,     -999,9,     -999,9,     -999,9,     -999,9,   4.9678,1,   0.0117,1,     10.1,2,     -999,9,     -999,9,     -999,9,     -999,9,20230909,1314, -31.3499,  30.7575,-999          ,9,-999          ,9
33RR20230722  ,I05        ,190     ,  2,22         ,22         ,2,20230909,1204, -31.3499,  30.7575,     2951,    275.0,2,  16.4918,2,  35.5513,2,  35.5525,2,    207.3,2,    208.7,2,     3.22,2,     4.65,2,     0.00,2,     0.42,2,     -999,9,     -999,9,     -999,9,   -999.0,9,     -999,9,     -999,9,     -999,9,     -999,1,  16.4082,2,     -999,9,     -999,9,     -999,9,     -999,9,     -999,9,   4.7380,1,   0.0114,1,     -999,9,     -999,9,     -999,9,     -999,9,     -999,9,20230909,1312, -31.3499,  30.7575,-999          ,9,-999          ,9
33RR20230722  ,I05        ,190     ,  2,21         ,21         ,2,20230909,1204, -31.3499,  30.7575,     2951,    332.9,2,  15.6048,2,  35.4875,2,  35.4874,2,    214.7,2,    214.8,2,     3.12,2,     5.41,2,     0.00,2,     0.47,2,    2.060,2,    1.450,2,   2.2400,2,   2108.9,2,   2326.1,2,   7.8782,2,    24.99,2,     -999,1,  15.6087,2,     -999,9,     -999,9,     -999,9,     -999,9,     -999,9,   4.9276,1,   0.0114,1,      9.8,2,     -999,9,     -999,9,     -999,9,     -999,9,20230909,1310, -31.3499,  30.7575,-999          ,9,-999          ,9
33RR20230722  ,I05        ,190     ,  2,20         ,20         ,2,20230909,1204, -31.3499,  30.7575,     2951,    395.3,2,  14.4365,2,  35.3668,2,  35.3693,2,    216.8,2,    216.7,2,     3.22,2,     7.06,2,     0.00,2,     0.57,2,     -999,9,     -999,9,     -999,9,   -999.0,9,     -999,9,     -999,9,     -999,9,     -999,1,  14.4369,2,     -999,9,     -999,9,     -999,9,     -999,9,     -999,9,   4.8644,1,   0.0114,1,     -999,9,     -999,9,     -999,9,     -999,9,     -999,9,20230909,1308, -31.3499,  30.7575,-999          ,9,-999          ,9
33RR20230722  ,I05        ,190     ,  2,19         ,19         ,2,20230909,1204, -31.3499,  30.7575,     2951,    469.2,2,  13.3886,2,  35.2437,2,  35.2509,2,    212.3,2,    212.6,2,     4.29,2,     9.35,2,     0.00,2,     0.72,2,    2.655,2,    1.617,2,   2.0000,2,   2129.0,2,   2315.2,2,   7.8208,2,    24.97,2,     -999,1,  13.4010,2,     -999,9,     -999,9,     -999,9,     -999,9,     -999,9,   4.6501,1,   0.0114,1,     11.9,2,     -999,9,     -999,9,     -999,9,     -999,9,20230909,1305, -31.3499,  30.7575,-999          ,9,-999          ,9
33RR20230722  ,I05        ,190     ,  2,18         ,18         ,2,20230909,1204, -31.3499,  30.7575,     2951,    552.0,2,  12.2648,2,  35.0960,2,  35.0976,2,    217.1,2,    216.7,2,     4.68,2,    11.39,2,     0.00,2,     0.85,2,    2.476,2,    1.706,2,   1.9500,2,   -999.0,9,     -999,9,     -999,9,     -999,9,     -999,1,  12.2641,2,     -999,9,     -999,9,     -999,9,     -999,9,     -999,9,   4.9668,1,   0.0113,1,     12.7,2,     -999,9,     -999,9,     -999,9,     -999,9,20230909,1303, -31.3499,  30.7575,-999          ,9,-999          ,9
33RR20230722  ,I05        ,190     ,  2,17         ,17         ,2,20230909,1204, -31.3499,  30.7575,     2951,    645.7,2,  10.9641,2,  34.9116,2,  34.9148,2,    219.9,2,    219.7,2,     5.27,2,    14.11,2,     0.00,2,     1.03,2,     -999,9,     -999,9,     -999,9,   2136.7,2,   2301.2,2,   7.7745,2,    24.97,2,     -999,1,  10.9598,2,     -999,9,     -999,9,     -999,9,     -999,9,     -999,9,   4.8963,1,   0.0110,1,     -999,9,     -999,9,     -999,9,     -999,9,     -999,9,20230909,1300, -31.3499,  30.7575,-999          ,9,-999          ,9
33RR20230722  ,I05        ,190     ,  2,16         ,16         ,2,20230909,1204, -31.3499,  30.7575,     2951,    747.3,2,   9.7275,2,  34.7515,2,  34.7547,2,    217.6,2,    217.8,2,     7.22,2,    17.18,2,     0.00,2,     1.21,2,    3.032,2,    1.805,2,   1.5600,2,   -999.0,9,     -999,9,     -999,9,     -999,9,     -999,1,   9.7483,2,     -999,9,     -999,9,     -999,9,     -999,9,     -999,9,   4.8005,1,   0.0112,1,     14.1,2,     -999,9,     -999,9,     -999,9,     -999,9,20230909,1257, -31.3499,  30.7575,-999          ,9,-999          ,9
33RR20230722  ,I05        ,190     ,  2,15         ,15         ,2,20230909,1204, -31.3499,  30.7575,     2951,    849.4,2,   8.2337,2,  34.6026,2,  34.6028,2,    205.8,2,    205.8,2,    13.47,2,    22.02,2,     0.00,2,     1.53,2,    3.186,2,    1.615,2,   1.1900,2,   2164.2,2,   2293.1,2,   7.6964,2,    24.99,2,     -999,1,   8.2271,2,     -999,9,     -999,9,     -999,9,     -999,9,     -999,9,   4.9681,1,   0.0111,1,     16.3,2,     -999,9,     -999,9,     -999,9,     -999,9,20230909,1254, -31.3499,  30.7575,-999          ,9,-999          ,9
33RR20230722  ,I05        ,190     ,  2,14         ,14         ,2,20230909,1204, -31.3499,  30.7575,     2951,    959.6,2,   6.7642,2,  34.5024,2,  34.5019,2,    192.2,2,    193.1,2,    23.53,2,    26.49,2,     0.00,2,     1.83,2,     -999,9,     -999,9,     -999,9,   -999.0,9,     -999,9,     -999,9,     -999,9,     -999,1,   6.7570,2,     -999,9,     -999,9,     -999,9,     -999,9,     -999,9,   4.9698,1,   0.0112,1,     -999,9,     -999,9,     -999,9,     -999,9,     -999,9,20230909,1251, -31.3499,  30.7575,-999          ,9,-999          ,9
33RR20230722  ,I05        ,190     ,  2,13         ,13         ,2,20230909,1204, -31.3499,  30.7575,     2951,   1069.7,2,   5.8679,2,  34.5340,2,  34.5356,2,    167.0,2,    167.3,2,    39.93,2,    30.29,2,     0.00,2,     2.11,2,    1.536,2,    0.862,2,   0.5000,2,   2215.1,2,   2309.4,2,   7.6056,6,    24.98,2,     -999,1,   5.8870,2,     -999,9,     -999,9,     -999,9,     -999,9,     -999,9,   4.9722,1,   0.0122,1,     22.9,2,     -999,9,     -999,9,     -999,9,     -999,9,20230909,1249, -31.3499,  30.7574,-999          ,9,-999          ,9
33RR20230722  ,I05        ,190     ,  2,12         ,12         ,2,20230909,1204, -31.3499,  30.7575,     2951,   1181.6,2,   5.1210,2,  34.5729,2,  34.5730,2,    152.7,2,    152.9,2,    53.89,2,    32.52,2,     0.00,2,     2.29,2,    1.027,2,    0.549,2,   0.3000,2,   2237.9,2,   2322.8,2,   7.5780,2,    25.00,2,     -999,1,   5.1240,2,     -999,9,     -999,9,     -999,9,     -999,9,     -999,9,   4.9732,1,   0.0114,1,     24.5,2,     -999,9,     -999,9,     -999,9,     -999,9,20230909,1246, -31.3499,  30.7575,-999          ,9,-999          ,9
33RR20230722  ,I05        ,190     ,  2,11         ,11         ,2,20230909,1204, -31.3499,  30.7575,     2951,   1298.6,2,   4.4130,2,  34.6068,2,  34.6064,2,    147.4,2,    146.9,2,    65.50,2,    33.71,2,     0.00,2,     2.39,2,     -999,9,     -999,9,     -999,9,   2253.7,2,   2333.8,6,   7.5650,6,    24.98,2,     -999,1,   4.4147,2,     -999,9,     -999,9,     -999,9,     -999,9,     -999,9,   4.9741,1,   0.0110,1,     -999,9,     -999,9,     -999,9,     -999,9,     -999,9,20230909,1243, -31.3499,  30.7575,-999          ,9,-999          ,9
33RR20230722  ,I05        ,190     ,  2,10         ,10         ,2,20230909,1204, -31.3499,  30.7575,     2951,   1416.8,2,   3.7848,2,  34.6462,2,  34.6462,2,    151.0,2,    150.5,2,    73.51,2,    33.73,2,     0.00,2,     2.38,2,    0.387,6,    0.203,6,   0.1300,6,   -999.0,9,     -999,9,     -999,9,     -999,9,     -999,1,   3.7920,2,     -999,9,     -999,9,     -999,9,     -999,9,     -999,9,   4.9742,1,   0.0119,1,     24.4,6,     -999,9,     -999,9,     -999,9,     -999,9,20230909,1240, -31.3499,  30.7575,-999          ,9,-999          ,9
33RR20230722  ,I05        ,190     ,  2,9          ,9          ,2,20230909,1204, -31.3499,  30.7575,     2951,   1537.5,2,   3.3669,2,  34.6692,2,  34.6688,2,    157.4,2,    157.1,2,    76.92,2,    33.29,2,     0.00,2,     2.34,2,     -999,9,     -999,9,     -999,9,   2256.6,2,   2345.4,2,   7.5744,2,    25.00,2,     -999,1,   3.3630,2,     -999,9,     -999,9,     -999,9,     -999,9,     -999,9,   4.9739,1,   0.0119,1,     -999,9,     -999,9,     -999,9,     -999,9,     -999,9,20230909,1237, -31.3499,  30.7575,-999          ,9,-999          ,9
33RR20230722  ,I05        ,190     ,  2,8          ,8          ,2,20230909,1204, -31.3499,  30.7575,     2951,   1662.6,2,   3.0514,2,  34.6914,2,  34.6908,2,    166.8,2,    167.4,2,    77.02,2,    32.41,2,     0.00,2,     2.27,2,    0.199,2,    0.096,2,   0.0700,2,   -999.0,9,     -999,9,     -999,9,     -999,9,     -999,1,   3.0513,2,     -999,9,     -999,9,     -999,9,     -999,9,     -999,9,   4.8944,1,   0.0111,1,     22.6,2,     -999,9,     -999,9,     -999,9,     -999,9,20230909,1233, -31.3499,  30.7575,-999          ,9,-999          ,9
33RR20230722  ,I05        ,190     ,  2,7          ,7          ,2,20230909,1204, -31.3499,  30.7575,     2951,   1796.4,2,   2.8432,2,  34.7181,2,  34.7182,2,    176.0,2,    176.4,2,    75.36,2,    31.40,2,     0.00,2,     2.22,2,    0.128,2,    0.067,2,   0.0200,2,   2249.2,2,   2345.9,2,   7.5999,2,    24.99,2,     -999,1,   2.8429,2,     -999,9,     -999,9,     -999,9,     -999,9,     -999,9,   4.8532,1,   0.0111,1,     21.0,2,     -999,9,     -999,9,     -999,9,     -999,9,20230909,1230, -31.3499,  30.7575,-999          ,9,-999          ,9
33RR20230722  ,I05        ,190     ,  2,6          ,6          ,2,20230909,1204, -31.3499,  30.7575,     2951,   1955.9,2,   2.7133,2,  34.7458,2,  34.7457,2,    185.8,2,    186.1,2,    72.23,2,    30.17,2,     0.00,2,     2.10,2,     -999,9,     -999,9,     -999,9,   -999.0,9,     -999,9,     -999,9,     -999,9,     -999,1,   2.7132,2,     -999,9,     -999,9,     -999,9,     -999,9,     -999,9,   4.8609,1,   0.0116,1,     -999,9,     -999,9,     -999,9,     -999,9,     -999,9,20230909,1227, -31.3499,  30.7575,-999          ,9,-999          ,9
33RR20230722  ,I05        ,190     ,  2,5          ,5          ,2,20230909,1204, -31.3499,  30.7575,     2951,   2153.0,2,   2.5975,2,  34.7710,2,  34.7706,2,    194.5,2,    195.1,2,    69.89,2,    29.12,2,     0.00,2,     2.01,2,    0.068,2,    0.038,2,   0.0000,2,   2234.6,2,   2342.3,2,   7.6302,6,    25.00,2,     -999,1,   2.5975,2,     -999,9,     -999,9,     -999,9,     -999,9,     -999,9,   4.9731,1,   0.0121,1,     18.7,2,     -999,9,     -999,9,     -999,9,     -999,9,20230909,1222, -31.3499,  30.7575,-999          ,9,-999          ,9
33RR20230722  ,I05        ,190     ,  2,4          ,37         ,2,20230909,1204, -31.3499,  30.7575,     2951,   2385.6,2,   2.5048,2,  34.7966,2,  34.7970,2,    205.9,2,    206.1,2,    65.40,2,    27.74,2,     0.00,2,     1.90,2,    0.044,2,    0.025,2,   0.0100,2,   -999.0,9,     -999,9,     -999,9,     -999,9,     -999,1,   2.5031,2,     -999,9,     -999,9,     -999,9,     -999,9,     -999,9,   4.9727,1,   0.0111,1,     17.6,2,     -999,9,     -999,9,     -999,9,     -999,9,20230909,1217, -31.3500,  30.7575,-999          ,9,-999          ,9
33RR20230722  ,I05        ,190     ,  2,3          ,3          ,2,20230909,1204, -31.3499,  30.7575,     2951,   2608.9,2,   2.3840,2,  34.8088,2,  34.8094,2,    212.6,2,    213.1,2,    65.20,2,    27.10,2,     0.00,2,     1.85,2,     -999,9,     -999,9,     -999,9,   2224.0,2,   2340.0,2,   7.6577,2,    25.01,2,     -999,1,   2.3827,2,     -999,9,     -999,9,     -999,9,     -999,9,     -999,9,   4.9724,1,   0.0116,1,     -999,9,     -999,9,     -999,9,     -999,9,     -999,9,20230909,1213, -31.3499,  30.7575,-999          ,9,-999          ,9
33RR20230722  ,I05        ,190     ,  2,2          ,2          ,2,20230909,1204, -31.3499,  30.7575,     2951,   2799.8,2,   2.2331,2,  34.8114,2,  34.8115,2,    217.0,2,    216.9,2,    67.35,2,    26.91,2,     0.00,2,     1.85,2,    0.043,2,    0.026,2,   0.0000,2,   -999.0,9,     -999,9,     -999,9,     -999,9,     -999,1,   2.2328,2,     -999,9,     -999,9,     -999,9,     -999,9,     -999,9,   4.8019,1,   0.0111,1,     16.3,2,     -999,9,     -999,9,     -999,9,     -999,9,20230909,1208, -31.3499,  30.7575,-999          ,9,-999          ,9
33RR20230722  ,I05        ,190     ,  2,1          ,1          ,2,20230909,1204, -31.3499,  30.7575,     2951,   2985.1,2,   1.9953,2,  34.8011,2,  34.8017,2,    218.1,2,    217.7,2,    74.57,2,    27.40,2,     0.00,2,     1.88,2,    0.065,2,    0.032,2,   0.0200,2,   2228.4,2,   2346.1,2,   7.6587,2,    25.00,2,     -999,1,   1.9948,2,     -999,9,     -999,9,     -999,9,     -999,9,     -999,9,   0.3568,1,   0.0111,1,     16.4,2,     -999,9,     -999,9,     -999,9,     -999,9,20230909,1204, -31.3499,  30.7575,-999          ,9,-999          ,9