BOTTLE,20240422CCHHYDRO
EXPOCODE,SECT_ID,STNNBR,CASTNO,SAMPNO,BTLNBR,BTLNBR_FLAG_W,DATE,TIME,LATITUDE,LONGITUDE,DEPTH,CTDPRS,CTDPRS_FLAG_W,CTDTMP,CTDTMP_FLAG_W,CTDSAL,CTDSAL_FLAG_W,SALNTY,SALNTY_FLAG_W,CTDOXY,CTDOXY_FLAG_W,OXYGEN,OXYGEN_FLAG_W,SILCAT,SILCAT_FLAG_W,NITRAT,NITRAT_FLAG_W,NITRIT,NITRIT_FLAG_W,PHSPHT,PHSPHT_FLAG_W,CFC-11,CFC-11_FLAG_W,CFC-12,CFC-12_FLAG_W,SF6,SF6_FLAG_W,TCARBN,TCARBN_FLAG_W,ALKALI,ALKALI_FLAG_W,PH_TOT,PH_TOT_FLAG_W,PH_TMP,PH_TMP_FLAG_W,DOC,DOC_FLAG_W,REFTMP,REFTMP_FLAG_W,POC,POC_FLAG_W,PON,PON_FLAG_W,POP,POP_FLAG_W,DOP,DOP_FLAG_W,DELO18,DELO18_FLAG_W,CTDFLUOR,CTDFLUOR_FLAG_W,CTDXMISS,CTDXMISS_FLAG_W,N2O,N2O_FLAG_W,D15N_NO3,D15N_NO3_FLAG_W,D15N_NO2+NO3,D15N_NO2+NO3_FLAG_W,D18O_NO2+NO3,D18O_NO2+NO3_FLAG_W,D18O_NO3,D18O_NO3_FLAG_W,BTL_DATE,BTL_TIME,BTL_LAT,BTL_LON,HPLC,HPLC_FLAG_W,DNA,DNA_FLAG_W
,,,,,,,,,,,METERS,DBAR,,ITS-90,,PSS-78,,PSS-78,,UMOL/KG,,UMOL/KG,,UMOL/KG,,UMOL/KG,,UMOL/KG,,UMOL/KG,,PMOL/KG,,PMOL/KG,,FMOL/KG,,UMOL/KG,,UMOL/KG,,,,DEG C,,UMOL/KG,,ITS-90,,UG/KG,,UG/KG,,UG/L,,UMOL/KG,,/MILLE,,VOLTS,,VOLTS,,NMOL/KG,,/MILLE,,/MILLE,,/MILLE,,/MILLE,,,,,,,,,
33RR20230722  ,I05        ,80      ,  2,36         ,36         ,2,20230812,0530, -31.1876,  80.1516,     3813,      4.9,2,  18.8400,2,  35.8037,2,  35.8050,2,    231.4,2,    231.4,2,     1.17,2,     0.08,2,     0.00,2,     0.12,2,    1.520,2,    1.270,2,   2.2100,2,   2073.6,6,   2347.6,2,   7.9879,2,    25.00,2,     -999,1,  18.8341,2,     -999,9,     -999,9,     -999,9,     -999,9,     -999,9,   4.6527,1,   0.0129,1,      7.7,2,     -999,9,     -999,9,     -999,9,     -999,9,20230812,0713, -31.1876,  80.1516,-999          ,9,-999          ,9
33RR20230722  ,I05        ,80      ,  2,35         ,35         ,2,20230812,0530, -31.1876,  80.1516,     3813,     15.6,2,  18.7543,2,  35.7970,2,  35.7995,2,    231.5,2,    232.1,2,     1.17,2,     0.05,2,     0.00,2,     0.11,2,     -999,9,     -999,9,     -999,9,   2074.9,2,   2348.9,2,   7.9869,2,    24.99,2,     -999,1,  18.7521,2,     -999,9,     -999,9,     -999,9,     -999,1,     -999,9,   4.9754,1,   0.0127,1,     -999,9,     -999,9,     -999,9,     -999,9,     -999,9,20230812,0712, -31.1876,  80.1515,-999          ,9,-999          ,9
33RR20230722  ,I05        ,80      ,  2,34         ,34         ,2,20230812,0530, -31.1876,  80.1516,     3813,     31.1,2,  18.7304,2,  35.7955,2,  35.7967,2,    231.7,2,    232.0,2,     1.07,2,     0.03,2,     0.00,2,     0.11,2,    1.554,2,    1.248,2,   2.1300,2,   2074.5,2,   2347.5,2,   7.9874,2,    25.03,2,     -999,1,  18.7283,2,     -999,9,     -999,9,     -999,9,     -999,1,     -999,9,   4.9747,1,   0.0145,1,      7.6,2,     -999,9,     -999,9,     -999,9,     -999,9,20230812,0710, -31.1876,  80.1516,-999          ,9,-999          ,9
33RR20230722  ,I05        ,80      ,  2,33         ,33         ,2,20230812,0530, -31.1876,  80.1516,     3813,     51.2,2,  18.7272,2,  35.7963,2,  35.7957,2,    231.6,2,    231.8,2,     1.17,2,     0.01,2,     0.00,2,     0.11,2,     -999,9,     -999,9,     -999,9,   2073.7,2,   2347.4,2,   7.9869,2,    24.98,2,     -999,1,  18.7244,2,     -999,9,     -999,9,     -999,9,     -999,1,     -999,9,   4.9745,1,   0.0143,1,     -999,9,     -999,9,     -999,9,     -999,9,     -999,9,20230812,0708, -31.1876,  80.1515,-999          ,9,-999          ,9
33RR20230722  ,I05        ,80      ,  2,32         ,32         ,2,20230812,0530, -31.1876,  80.1516,     3813,     72.2,2,  18.6270,2,  35.7809,2,  35.7839,2,    232.5,2,    232.8,2,     1.07,2,     0.00,2,     0.00,2,     0.11,2,    1.525,2,    1.237,2,   2.1400,2,   2076.3,2,   2346.9,2,   7.9846,6,    24.99,2,     -999,1,  18.6298,2,     -999,9,     -999,9,     -999,9,     -999,1,     -999,9,   4.9745,1,   0.0174,1,      7.8,2,     -999,9,     -999,9,     -999,9,     -999,9,20230812,0707, -31.1876,  80.1516,-999          ,9,-999          ,9
33RR20230722  ,I05        ,80      ,  2,31         ,31         ,2,20230812,0530, -31.1876,  80.1516,     3813,     94.7,2,  18.6258,2,  35.7832,2,  35.7855,2,    232.2,2,    232.7,2,     1.07,2,     0.00,2,     0.00,2,     0.12,2,     -999,9,     -999,9,     -999,9,   2076.0,2,   2348.3,2,   7.9833,2,    25.00,2,     -999,1,  18.6239,2,     -999,9,     -999,9,     -999,9,     -999,9,     -999,9,   4.9486,1,   0.0184,1,     -999,9,     -999,9,     -999,9,     -999,9,     -999,9,20230812,0705, -31.1876,  80.1515,-999          ,9,-999          ,9
33RR20230722  ,I05        ,80      ,  2,30         ,30         ,2,20230812,0530, -31.1876,  80.1516,     3813,    119.6,2,  18.2537,2,  35.7534,2,  35.7635,2,    235.8,2,    235.0,2,     0.98,2,     0.00,2,     0.01,2,     0.13,2,    1.624,2,    1.282,2,   2.1900,2,   2085.9,2,   2348.3,2,   7.9739,2,    24.99,2,     -999,1,  18.2775,2,     -999,9,     -999,9,     -999,9,     -999,1,     -999,9,   4.9742,1,   0.0242,1,      8.1,2,     -999,9,     -999,9,     -999,9,     -999,9,20230812,0703, -31.1876,  80.1516,-999          ,9,-999          ,9
33RR20230722  ,I05        ,80      ,  2,29         ,29         ,2,20230812,0530, -31.1876,  80.1516,     3813,    146.5,2,  16.5882,2,  35.6147,2,  35.6186,2,    242.3,2,    241.5,2,     0.98,2,     0.14,2,     0.07,2,     0.20,2,     -999,9,     -999,9,     -999,9,   2100.5,2,   2338.8,2,   7.9307,2,    25.00,2,     -999,1,  16.5901,2,     -999,9,     -999,9,     -999,9,     -999,9,     -999,9,   4.9740,1,   0.0330,1,     -999,9,     -999,9,     -999,9,     -999,9,     -999,9,20230812,0701, -31.1876,  80.1515,-999          ,9,-999          ,9
33RR20230722  ,I05        ,80      ,  2,28         ,28         ,2,20230812,0530, -31.1876,  80.1516,     3813,    179.0,2,  15.5862,2,  35.5587,2,  35.5407,2,    225.3,2,    227.3,2,     1.17,2,     2.33,2,     0.03,2,     0.34,2,     -999,9,     -999,9,     -999,9,   2113.9,2,   2328.6,2,   7.8942,2,    24.99,2,     -999,1,  15.5638,2,     -999,9,     -999,9,     -999,9,     -999,9,     -999,9,   4.8515,1,   0.0170,1,     -999,9,     -999,9,     -999,9,     -999,9,     -999,9,20230812,0700, -31.1876,  80.1516,-999          ,9,-999          ,9
33RR20230722  ,I05        ,80      ,  2,27         ,27         ,2,20230812,0530, -31.1876,  80.1516,     3813,    220.9,2,  14.3606,2,  35.3880,2,  35.3871,2,    225.7,2,    227.6,2,     1.56,2,     4.59,2,     0.01,2,     0.47,2,    2.425,2,    1.545,2,   2.3100,2,   2119.3,2,   2326.4,2,   7.8654,2,    24.98,2,     -999,1,  14.3602,2,     -999,9,     -999,9,     -999,9,     -999,9,     -999,9,   4.5241,1,   0.0125,1,     10.3,2,     -999,9,     -999,9,     -999,9,     -999,9,20230812,0658, -31.1876,  80.1516,-999          ,9,-999          ,9
33RR20230722  ,I05        ,80      ,  2,26         ,26         ,2,20230812,0530, -31.1876,  80.1516,     3813,    258.3,2,  13.6604,2,  35.2885,2,  35.2893,2,    229.1,2,    230.3,2,     1.76,2,     5.97,2,     0.00,2,     0.53,2,     -999,9,     -999,9,     -999,9,   2121.5,2,   2319.6,2,   7.8519,2,    25.01,2,     -999,1,  13.6588,2,     -999,9,     -999,9,     -999,9,     -999,1,     -999,9,   4.8178,1,   0.0117,1,     -999,9,     -999,9,     -999,9,     -999,9,     -999,9,20230812,0656, -31.1876,  80.1515,-999          ,9,-999          ,9
33RR20230722  ,I05        ,80      ,  2,25         ,25         ,2,20230812,0530, -31.1876,  80.1516,     3813,    307.6,2,  12.7892,2,  35.1652,2,  35.1731,2,    232.1,2,    232.5,2,     2.34,2,     8.03,2,     0.00,2,     0.65,2,     -999,9,     -999,9,     -999,9,   2126.1,2,   2313.0,2,   7.8308,2,    25.00,2,     -999,1,  12.7984,2,     -999,9,     -999,9,     -999,9,     -999,9,     -999,9,   4.9684,1,   0.0115,1,     -999,9,     -999,9,     -999,9,     -999,9,     -999,9,20230812,0654, -31.1876,  80.1516,-999          ,9,-999          ,9
33RR20230722  ,I05        ,80      ,  2,24         ,24         ,2,20230812,0530, -31.1876,  80.1516,     3813,    365.7,2,  12.1543,2,  35.0738,2,  35.0803,2,    233.8,2,    233.7,2,     2.63,2,     9.50,2,     0.00,2,     0.78,2,    2.623,2,    1.707,2,   2.3500,2,   2128.9,2,   2308.8,2,   7.8171,2,    24.98,2,     -999,1,  12.1559,2,     -999,9,     -999,9,     -999,9,     -999,9,     -999,9,   4.9117,1,   0.0113,1,     11.7,2,     -999,9,     -999,9,     -999,9,     -999,9,20230812,0652, -31.1876,  80.1516,-999          ,9,-999          ,9
33RR20230722  ,I05        ,80      ,  2,23         ,23         ,2,20230812,0530, -31.1876,  80.1516,     3813,    409.3,2,  11.7972,2,  35.0193,2,  35.0242,2,    235.9,2,    235.6,2,     3.02,2,    10.48,2,     0.00,2,     0.83,2,     -999,9,     -999,9,     -999,9,   2132.2,6,   2305.0,2,   7.8083,6,    24.99,2,     -999,1,  11.8084,2,     -999,9,     -999,9,     -999,9,     -999,9,     -999,9,   4.9678,1,   0.0112,1,     -999,9,     -999,9,     -999,9,     -999,9,     -999,9,20230812,0650, -31.1876,  80.1516,-999          ,9,-999          ,9
33RR20230722  ,I05        ,80      ,  2,22         ,22         ,2,20230812,0530, -31.1876,  80.1516,     3813,    453.5,2,  11.5623,2,  34.9854,2,  34.9845,2,    236.0,2,    235.7,2,     3.32,2,    11.19,2,     0.00,2,     0.86,2,     -999,9,     -999,9,     -999,9,   2132.2,2,   2306.1,2,   7.8015,2,    24.99,2,     -999,1,  11.5602,2,     -999,9,     -999,9,     -999,9,     -999,9,     -999,9,   4.9675,1,   0.0113,1,     -999,9,     -999,9,     -999,9,     -999,9,     -999,9,20230812,0648, -31.1876,  80.1516,-999          ,9,-999          ,9
33RR20230722  ,I05        ,80      ,  2,21         ,21         ,2,20230812,0530, -31.1876,  80.1516,     3813,    504.5,2,  11.2380,2,  34.9386,2,  34.9427,2,    235.5,2,    235.1,2,     3.41,2,    12.08,2,     0.00,2,     0.92,2,     -999,9,     -999,9,     -999,9,   2132.5,2,   2301.2,2,   7.7940,2,    25.00,2,     -999,1,  11.2487,2,     -999,9,     -999,9,     -999,9,     -999,9,     -999,9,   4.8418,1,   0.0107,1,     -999,9,     -999,9,     -999,9,     -999,9,     -999,9,20230812,0646, -31.1876,  80.1515,-999          ,9,-999          ,9
33RR20230722  ,I05        ,80      ,  2,20         ,20         ,2,20230812,0530, -31.1876,  80.1516,     3813,    566.0,2,  10.8328,2,  34.8811,2,  34.8825,2,    234.8,2,    234.9,2,     3.71,2,    13.04,2,     0.00,2,     0.98,2,     -999,9,     -999,9,     -999,9,   2132.7,2,   2298.1,2,   7.7845,2,    25.00,2,     -999,1,  10.8460,2,     -999,9,     -999,9,     -999,9,     -999,9,     -999,9,   4.9668,1,   0.0107,1,     -999,9,     -999,9,     -999,9,     -999,9,     -999,9,20230812,0644, -31.1876,  80.1516,-999          ,9,-999          ,9
33RR20230722  ,I05        ,80      ,  2,19         ,19         ,2,20230812,0530, -31.1876,  80.1516,     3813,    654.2,2,  10.1970,2,  34.7904,2,  34.7909,2,    233.9,2,    234.1,2,     4.20,2,    14.70,2,     0.00,2,     1.10,2,     -999,9,     -999,9,     -999,9,   2138.0,2,   2295.5,2,   7.7686,2,    24.99,2,     -999,1,  10.1990,2,     -999,9,     -999,9,     -999,9,     -999,9,     -999,9,   4.3695,1,   0.0112,1,     -999,9,     -999,9,     -999,9,     -999,9,     -999,9,20230812,0641, -31.1876,  80.1516,-999          ,9,-999          ,9
33RR20230722  ,I05        ,80      ,  2,18         ,18         ,2,20230812,0530, -31.1876,  80.1516,     3813,    748.3,2,   9.4893,2,  34.6953,2,  34.7003,2,    228.5,2,    228.4,2,     5.27,2,    17.07,2,     0.00,2,     1.22,2,    3.130,2,    1.916,2,   1.7600,2,   2143.7,2,   2293.0,2,   7.7470,2,    24.99,2,     -999,1,   9.4899,2,     -999,9,     -999,9,     -999,9,     -999,9,     -999,9,   4.8120,1,   0.0112,1,     13.0,2,     -999,9,     -999,9,     -999,9,     -999,9,20230812,0639, -31.1876,  80.1516,-999          ,9,-999          ,9
33RR20230722  ,I05        ,80      ,  2,17         ,17         ,2,20230812,0530, -31.1876,  80.1516,     3813,    853.3,2,   8.2729,2,  34.5676,2,  34.5686,2,    210.6,2,    211.5,2,    10.25,2,    21.69,2,     0.00,2,     1.51,2,     -999,9,     -999,9,     -999,9,   2160.4,2,   2287.5,2,   7.7003,2,    24.99,2,     -999,1,   8.2729,2,     -999,9,     -999,9,     -999,9,     -999,9,     -999,9,   4.9680,1,   0.0112,1,     -999,9,     -999,9,     -999,9,     -999,9,     -999,9,20230812,0636, -31.1876,  80.1516,-999          ,9,-999          ,9
33RR20230722  ,I05        ,80      ,  2,16         ,16         ,2,20230812,0530, -31.1876,  80.1516,     3813,    978.5,2,   6.2179,2,  34.4227,2,  34.4235,2,    197.3,2,    197.7,2,    21.96,2,    27.71,2,     0.00,2,     1.93,2,     -999,9,     -999,9,     -999,9,   2183.2,2,   2291.2,2,   7.6427,6,    24.99,2,     -999,1,   6.2210,2,     -999,9,     -999,9,     -999,9,     -999,9,     -999,9,   4.8304,1,   0.0111,1,     -999,9,     -999,9,     -999,9,     -999,9,     -999,9,20230812,0633, -31.1876,  80.1516,-999          ,9,-999          ,9
33RR20230722  ,I05        ,80      ,  2,15         ,15         ,2,20230812,0530, -31.1876,  80.1516,     3813,   1092.0,2,   4.8309,2,  34.3785,2,  34.3798,2,    191.4,2,    191.4,2,    34.75,2,    31.05,2,     0.00,2,     2.16,2,     -999,9,     -999,9,     -999,9,   2204.2,2,   2301.2,6,   7.6080,2,    25.00,2,     -999,1,   4.8286,2,     -999,9,     -999,9,     -999,9,     -999,9,     -999,9,   4.9470,1,   0.0110,1,     -999,9,     -999,9,     -999,9,     -999,9,     -999,9,20230812,0630, -31.1876,  80.1516,-999          ,9,-999          ,9
33RR20230722  ,I05        ,80      ,  2,14         ,14         ,2,20230812,0530, -31.1876,  80.1516,     3813,   1180.0,2,   4.2978,2,  34.4035,2,  34.4039,2,    181.0,2,    181.0,2,    44.90,2,    32.52,2,     0.00,2,     2.27,2,     -999,9,     -999,9,     -999,9,   2219.8,2,   2311.0,2,   7.5901,2,    24.98,2,     -999,1,   4.3001,2,     -999,9,     -999,9,     -999,9,     -999,9,     -999,9,   4.9722,1,   0.0111,1,     -999,9,     -999,9,     -999,9,     -999,9,     -999,9,20230812,0628, -31.1876,  80.1516,-999          ,9,-999          ,9
33RR20230722  ,I05        ,80      ,  2,13         ,13         ,2,20230812,0530, -31.1876,  80.1516,     3813,   1268.9,2,   4.0150,2,  34.4611,2,  34.4616,2,    164.6,2,    164.5,2,    57.49,2,    33.79,2,     0.00,2,     2.39,2,    0.739,2,    0.409,2,   0.1200,2,   2236.0,2,   2323.3,2,   7.5744,6,    24.99,2,     -999,1,   4.0145,2,     -999,9,     -999,9,     -999,9,     -999,9,     -999,9,   4.9733,1,   0.0110,1,     22.6,2,     -999,9,     -999,9,     -999,9,     -999,9,20230812,0625, -31.1876,  80.1516,-999          ,9,-999          ,9
33RR20230722  ,I05        ,80      ,  2,12         ,12         ,2,20230812,0530, -31.1876,  80.1516,     3813,   1362.8,2,   3.7705,2,  34.5082,2,  34.5093,2,    154.6,2,    154.6,2,    67.44,2,    34.76,2,     0.00,2,     2.43,2,     -999,9,     -999,9,     -999,9,   2256.6,2,   2331.7,2,   7.5625,2,    25.00,2,     -999,1,   3.7705,2,     -999,9,     -999,9,     -999,9,     -999,9,     -999,9,   4.9743,1,   0.0118,1,     -999,9,     -999,9,     -999,9,     -999,9,     -999,9,20230812,0622, -31.1876,  80.1516,-999          ,9,-999          ,9
33RR20230722  ,I05        ,80      ,  2,11         ,11         ,2,20230812,0530, -31.1876,  80.1516,     3813,   1474.4,2,   3.4701,2,  34.5625,2,  34.5637,2,    148.7,2,    148.3,2,    76.81,2,    34.98,2,     0.00,2,     2.48,2,     -999,9,     -999,9,     -999,9,   2264.0,6,   2342.6,2,   7.5585,2,    25.00,2,     -999,1,   3.4697,2,     -999,9,     -999,9,     -999,9,     -999,9,     -999,9,   4.8388,1,   0.0112,1,     -999,9,     -999,9,     -999,9,     -999,9,     -999,9,20230812,0620, -31.1876,  80.1516,-999          ,9,-999          ,9
33RR20230722  ,I05        ,80      ,  2,10         ,10         ,2,20230812,0530, -31.1876,  80.1516,     3813,   1629.4,2,   3.1916,2,  34.6094,2,  34.6107,2,    148.9,2,    148.9,2,    83.74,2,    34.97,2,     0.00,2,     2.48,2,    0.081,2,    0.052,2,  -0.0100,2,   2268.9,2,   2351.9,2,   7.5606,2,    25.01,2,     -999,1,   3.1920,2,     -999,9,     -999,9,     -999,9,     -999,9,     -999,9,   4.8675,1,   0.0116,1,     23.6,2,     -999,9,     -999,9,     -999,9,     -999,9,20230812,0616, -31.1876,  80.1516,-999          ,9,-999          ,9
33RR20230722  ,I05        ,80      ,  2,9          ,9          ,2,20230812,0530, -31.1876,  80.1516,     3813,   1805.5,2,   2.9301,2,  34.6618,2,  34.6629,2,    152.8,2,    152.7,2,    89.78,2,    34.31,2,     0.00,2,     2.44,2,     -999,9,     -999,9,     -999,9,   2271.8,2,   2356.4,2,   7.5694,6,    24.99,2,     -999,1,   2.9298,2,     -999,9,     -999,9,     -999,9,     -999,9,     -999,9,   4.8857,1,   0.0112,1,     -999,9,     -999,9,     -999,9,     -999,9,     -999,9,20230812,0612, -31.1876,  80.1515,-999          ,9,-999          ,9
33RR20230722  ,I05        ,80      ,  2,8          ,8          ,2,20230812,0530, -31.1876,  80.1516,     3813,   1989.5,2,   2.5811,2,  34.6802,2,  34.6806,2,    169.7,2,    170.8,2,    84.71,2,    32.93,2,     0.00,2,     2.30,2,    0.102,2,    0.063,2,  -0.0100,2,   2258.0,2,   2349.7,6,   7.5845,2,    24.99,2,     -999,1,   2.5815,2,     -999,9,     -999,9,     -999,9,     -999,9,     -999,9,   4.9746,1,   0.0116,1,     21.3,2,     -999,9,     -999,9,     -999,9,     -999,9,20230812,0608, -31.1876,  80.1515,-999          ,9,-999          ,9
33RR20230722  ,I05        ,80      ,  2,7          ,7          ,2,20230812,0530, -31.1876,  80.1516,     3813,   2225.5,2,   2.2591,2,  34.7223,2,  34.7233,2,    183.8,2,    183.9,2,    85.39,2,    31.37,2,     0.00,2,     2.21,2,    0.083,2,    0.050,2,   0.0200,2,   2253.9,2,   2351.4,2,   7.6061,2,    25.01,2,     -999,1,   2.2585,2,     -999,9,     -999,9,     -999,9,     -999,9,     -999,9,   4.9743,1,   0.0113,1,     19.9,2,     -999,9,     -999,9,     -999,9,     -999,9,20230812,0603, -31.1876,  80.1515,-999          ,9,-999          ,9
33RR20230722  ,I05        ,80      ,  2,6          ,6          ,2,20230812,0530, -31.1876,  80.1516,     3813,   2498.8,2,   1.9860,2,  34.7420,2,  34.7425,2,    193.0,2,    193.0,2,    89.88,2,    30.76,2,     0.00,2,     2.15,2,     -999,9,     -999,9,     -999,9,   2251.8,2,   2354.0,2,   7.6136,2,    24.98,2,     -999,1,   1.9853,2,     -999,9,     -999,9,     -999,9,     -999,9,     -999,9,   4.9744,1,   0.0115,1,     -999,9,     -999,9,     -999,9,     -999,9,     -999,9,20230812,0557, -31.1876,  80.1515,-999          ,9,-999          ,9
33RR20230722  ,I05        ,80      ,  2,5          ,5          ,2,20230812,0530, -31.1876,  80.1516,     3813,   2772.1,2,   1.6913,2,  34.7370,2,  34.7374,2,    195.4,2,    195.4,2,   100.81,2,    31.21,2,     0.00,2,     2.18,2,    0.060,2,    0.041,2,   0.0000,2,   2257.9,2,   2361.5,2,   7.6172,2,    24.98,2,     -999,1,   1.6904,2,     -999,9,     -999,9,     -999,9,     -999,9,     -999,9,   4.9747,1,   0.0115,1,     18.4,2,     -999,9,     -999,9,     -999,9,     -999,9,20230812,0552, -31.1876,  80.1515,-999          ,9,-999          ,9
33RR20230722  ,I05        ,80      ,  2,4          ,37         ,2,20230812,0530, -31.1876,  80.1516,     3813,   3098.7,2,   1.4989,2,  34.7315,2,  34.7321,2,    197.3,2,    197.4,2,   107.54,2,    31.49,2,     0.00,2,     2.19,2,     -999,9,     -999,9,     -999,9,   2259.6,2,   2367.1,2,   7.6184,2,    25.00,2,     -999,1,   1.5014,2,     -999,9,     -999,9,     -999,9,     -999,9,     -999,9,   4.9511,1,   0.0111,1,     -999,9,     -999,9,     -999,9,     -999,9,     -999,9,20230812,0546, -31.1876,  80.1515,-999          ,9,-999          ,9
33RR20230722  ,I05        ,80      ,  2,3          ,3          ,2,20230812,0530, -31.1876,  80.1516,     3813,   3463.8,2,   1.4149,2,  34.7269,2,  34.7280,2,    196.8,2,    196.9,2,   112.52,2,    31.97,2,     0.00,2,     2.21,2,    0.034,2,    0.026,2,   0.0200,2,   2267.8,2,   2371.2,2,   7.6194,2,    24.99,2,     -999,1,   1.4143,2,     -999,9,     -999,9,     -999,9,     -999,9,     -999,9,   4.7054,1,   0.0111,1,     18.4,2,     -999,9,     -999,9,     -999,9,     -999,9,20230812,0539, -31.1876,  80.1515,-999          ,9,-999          ,9