BOTTLE,20240422CCHHYDRO
EXPOCODE,SECT_ID,STNNBR,CASTNO,SAMPNO,BTLNBR,BTLNBR_FLAG_W,DATE,TIME,LATITUDE,LONGITUDE,DEPTH,CTDPRS,CTDPRS_FLAG_W,CTDTMP,CTDTMP_FLAG_W,CTDSAL,CTDSAL_FLAG_W,SALNTY,SALNTY_FLAG_W,CTDOXY,CTDOXY_FLAG_W,OXYGEN,OXYGEN_FLAG_W,SILCAT,SILCAT_FLAG_W,NITRAT,NITRAT_FLAG_W,NITRIT,NITRIT_FLAG_W,PHSPHT,PHSPHT_FLAG_W,CFC-11,CFC-11_FLAG_W,CFC-12,CFC-12_FLAG_W,SF6,SF6_FLAG_W,TCARBN,TCARBN_FLAG_W,ALKALI,ALKALI_FLAG_W,PH_TOT,PH_TOT_FLAG_W,PH_TMP,PH_TMP_FLAG_W,DOC,DOC_FLAG_W,REFTMP,REFTMP_FLAG_W,POC,POC_FLAG_W,PON,PON_FLAG_W,POP,POP_FLAG_W,DOP,DOP_FLAG_W,DELO18,DELO18_FLAG_W,CTDFLUOR,CTDFLUOR_FLAG_W,CTDXMISS,CTDXMISS_FLAG_W,N2O,N2O_FLAG_W,D15N_NO3,D15N_NO3_FLAG_W,D15N_NO2+NO3,D15N_NO2+NO3_FLAG_W,D18O_NO2+NO3,D18O_NO2+NO3_FLAG_W,D18O_NO3,D18O_NO3_FLAG_W,BTL_DATE,BTL_TIME,BTL_LAT,BTL_LON,HPLC,HPLC_FLAG_W,DNA,DNA_FLAG_W
,,,,,,,,,,,METERS,DBAR,,ITS-90,,PSS-78,,PSS-78,,UMOL/KG,,UMOL/KG,,UMOL/KG,,UMOL/KG,,UMOL/KG,,UMOL/KG,,PMOL/KG,,PMOL/KG,,FMOL/KG,,UMOL/KG,,UMOL/KG,,,,DEG C,,UMOL/KG,,ITS-90,,UG/KG,,UG/KG,,UG/L,,UMOL/KG,,/MILLE,,VOLTS,,VOLTS,,NMOL/KG,,/MILLE,,/MILLE,,/MILLE,,/MILLE,,,,,,,,,
33RR20230722  ,I05        ,15      ,  2,36         ,36         ,2,20230726,1020, -31.7120, 110.0783,     5118,     11.1,2,  18.5653,2,  35.6527,2,  35.6516,2,    231.9,2,    230.6,2,     2.15,2,     0.07,2,     0.02,2,     0.09,2,     -999,9,     -999,9,     -999,9,   2060.0,6,   2342.9,2,   7.9951,6,    24.99,2,     -999,1,  18.5652,2,     -999,9,     -999,9,     -999,9,     -999,9,     -999,1,   4.8677,1,   0.0253,1,     -999,9,     -999,9,     -999,9,     -999,9,     -999,9,20230726,1227, -31.7120, 110.0783,-999          ,9,-999          ,9
33RR20230722  ,I05        ,15      ,  2,35         ,35         ,2,20230726,1020, -31.7120, 110.0783,     5118,     23.5,2,  18.5651,2,  35.6531,2,  35.6524,2,    231.8,2,    230.7,2,     1.66,2,     0.03,2,     0.02,2,     0.09,2,     -999,9,     -999,9,     -999,9,   2057.5,2,   2342.5,2,   7.9944,2,    24.98,2,     -999,9,  18.5651,2,     -999,9,     -999,9,     -999,9,     -999,9,     -999,1,   4.9752,1,   0.0266,1,     -999,9,     -999,9,     -999,9,     -999,9,     -999,9,20230726,1225, -31.7119, 110.0784,-999          ,9,-999          ,9
33RR20230722  ,I05        ,15      ,  2,34         ,34         ,2,20230726,1020, -31.7120, 110.0783,     5118,     33.3,2,  18.5688,2,  35.6529,2,  35.6518,2,    231.7,2,    230.7,2,     1.66,2,     0.02,2,     0.02,2,     0.08,2,     -999,9,     -999,9,     -999,9,   2058.9,2,   2341.1,2,   7.9943,2,    24.99,2,     -999,9,  18.5651,2,     -999,9,     -999,9,     -999,9,     -999,9,     -999,1,   4.9751,1,   0.0282,1,     -999,9,     -999,9,     -999,9,     -999,9,     -999,9,20230726,1224, -31.7119, 110.0785,-999          ,9,-999          ,9
33RR20230722  ,I05        ,15      ,  2,33         ,33         ,2,20230726,1020, -31.7120, 110.0783,     5118,     55.4,2,  18.4726,2,  35.6683,2,  35.6601,2,    231.6,2,    230.7,2,     1.66,2,     0.01,2,     0.01,2,     0.07,2,     -999,9,     -999,9,     -999,9,   2062.6,2,   2341.6,2,   7.9940,2,    25.01,2,     -999,9,  18.5147,2,     -999,9,     -999,9,     -999,9,     -999,9,     -999,1,   4.9748,1,   0.0268,1,     -999,9,     -999,9,     -999,9,     -999,9,     -999,9,20230726,1222, -31.7118, 110.0786,-999          ,9,-999          ,9
33RR20230722  ,I05        ,15      ,  2,32         ,32         ,2,20230726,1020, -31.7120, 110.0783,     5118,     75.1,2,  18.3278,2,  35.6864,2,  35.6846,2,    231.7,2,    231.4,2,     1.85,2,     0.00,2,     0.01,2,     0.08,2,     -999,9,     -999,9,     -999,9,   2064.6,2,   2343.9,2,   7.9902,2,    24.99,2,     -999,9,  18.3290,2,     -999,9,     -999,9,     -999,9,     -999,9,     -999,1,   4.9745,1,   0.0277,1,     -999,9,     -999,9,     -999,9,     -999,9,     -999,9,20230726,1221, -31.7118, 110.0788,-999          ,9,-999          ,9
33RR20230722  ,I05        ,15      ,  2,31         ,31         ,2,20230726,1020, -31.7120, 110.0783,     5118,     93.6,2,  17.8771,2,  35.7220,2,  35.7215,2,    221.6,2,    223.2,2,     2.05,2,     0.64,2,     0.08,2,     0.14,2,     -999,9,     -999,9,     -999,9,   2081.3,2,   2347.2,2,   7.9605,2,    24.99,2,     -999,9,  17.8553,2,     -999,9,     -999,9,     -999,9,     -999,9,     -999,1,   4.9720,1,   0.0158,1,     -999,9,     -999,9,     -999,9,     -999,9,     -999,9,20230726,1219, -31.7117, 110.0790,-999          ,9,-999          ,9
33RR20230722  ,I05        ,15      ,  2,30         ,30         ,2,20230726,1020, -31.7120, 110.0783,     5118,    118.0,2,  17.0778,2,  35.7180,2,  35.7169,2,    223.7,2,    225.4,2,     1.37,2,     0.95,2,     0.04,2,     0.16,2,     -999,9,     -999,9,     -999,9,   2094.8,2,   2347.4,2,   7.9454,2,    24.99,2,     -999,9,  17.0947,2,     -999,9,     -999,9,     -999,9,     -999,9,     -999,1,   4.9719,1,   0.0145,1,     -999,9,     -999,9,     -999,9,     -999,9,     -999,9,20230726,1217, -31.7117, 110.0792,-999          ,9,-999          ,9
33RR20230722  ,I05        ,15      ,  2,29         ,29         ,2,20230726,1020, -31.7120, 110.0783,     5118,    141.8,2,  16.4407,2,  35.6767,2,  35.6857,2,    228.5,2,    230.2,2,     1.27,2,     0.93,2,     0.04,2,     0.16,2,     -999,9,     -999,9,     -999,9,   2096.9,3,   2347.6,2,   7.9406,2,    25.00,2,     -999,9,  16.5171,2,     -999,9,     -999,9,     -999,9,     -999,9,     -999,1,   4.9537,1,   0.0127,1,     -999,9,     -999,9,     -999,9,     -999,9,     -999,9,20230726,1216, -31.7117, 110.0793,-999          ,9,-999          ,9
33RR20230722  ,I05        ,15      ,  2,28         ,28         ,2,20230726,1020, -31.7120, 110.0783,     5118,    162.8,2,  15.4280,2,  35.5551,2,  35.5559,2,    227.9,2,    229.3,2,     1.27,2,     2.25,2,     0.01,2,     0.28,2,     -999,9,     -999,9,     -999,9,   2110.8,3,   2338.6,2,   7.9086,2,    24.99,2,     -999,9,  15.3863,2,     -999,9,     -999,9,     -999,9,     -999,9,     -999,1,   4.9707,1,   0.0122,1,     -999,9,     -999,9,     -999,9,     -999,9,     -999,9,20230726,1214, -31.7117, 110.0794,-999          ,9,-999          ,9
33RR20230722  ,I05        ,15      ,  2,27         ,27         ,2,20230726,1020, -31.7120, 110.0783,     5118,    191.5,2,  14.0785,2,  35.3633,2,  35.3634,2,    233.2,2,    233.3,2,     1.17,2,     4.01,2,     0.00,2,     0.38,2,     -999,9,     -999,9,     -999,9,   2111.0,2,   2331.7,2,   7.8782,2,    24.99,2,     -999,9,  14.0631,2,     -999,9,     -999,9,     -999,9,     -999,9,     -999,1,   4.8064,1,   0.0116,1,     -999,9,     -999,9,     -999,9,     -999,9,     -999,9,20230726,1213, -31.7116, 110.0796,-999          ,9,-999          ,9
33RR20230722  ,I05        ,15      ,  2,26         ,26         ,2,20230726,1020, -31.7120, 110.0783,     5118,    220.9,2,  13.2941,2,  35.2382,2,  35.2410,2,    235.8,2,    235.5,2,     1.66,2,     5.33,2,     0.00,2,     0.49,2,     -999,9,     -999,9,     -999,9,   2117.1,2,   2324.4,2,   7.8603,2,    24.98,2,     -999,9,  13.2722,2,     -999,9,     -999,9,     -999,9,     -999,9,     -999,1,   4.9696,1,   0.0117,1,     -999,9,     -999,9,     -999,9,     -999,9,     -999,9,20230726,1211, -31.7115, 110.0798,-999          ,9,-999          ,9
33RR20230722  ,I05        ,15      ,  2,25         ,25         ,2,20230726,1020, -31.7120, 110.0783,     5118,    258.4,2,  11.9302,2,  35.0205,2,  35.0319,2,    240.5,2,    239.2,2,     1.95,2,     8.08,2,     0.00,2,     0.64,2,     -999,9,     -999,9,     -999,9,   2124.1,2,   2313.4,2,   7.8254,2,    24.98,2,     -999,9,  11.9511,2,     -999,9,     -999,9,     -999,9,     -999,9,     -999,1,   4.9692,1,   0.0116,1,     -999,9,     -999,9,     -999,9,     -999,9,     -999,9,20230726,1209, -31.7116, 110.0799,-999          ,9,-999          ,9
33RR20230722  ,I05        ,15      ,  2,24         ,24         ,2,20230726,1020, -31.7120, 110.0783,     5118,    299.8,2,  10.6683,2,  34.8328,2,  34.8344,2,    241.1,2,    240.2,2,     2.54,2,    11.82,2,     0.00,2,     0.90,2,     -999,9,     -999,9,     -999,9,   2131.3,2,   2303.5,2,   7.7846,2,    25.00,2,     -999,9,  10.6749,2,     -999,9,     -999,9,     -999,9,     -999,9,     -999,1,   4.9681,1,   0.0118,1,     -999,9,     -999,9,     -999,9,     -999,9,     -999,9,20230726,1208, -31.7115, 110.0801,-999          ,9,-999          ,9
33RR20230722  ,I05        ,15      ,  2,23         ,23         ,2,20230726,1020, -31.7120, 110.0783,     5118,    353.6,2,  10.0905,2,  34.7656,2,  34.7667,2,    239.9,2,    239.4,2,     3.02,2,    13.88,2,     0.00,2,     1.00,2,     -999,9,     -999,9,     -999,9,   2137.5,2,   2297.6,2,   7.7656,2,    24.99,2,     -999,9,  10.0898,2,     -999,9,     -999,9,     -999,9,     -999,9,     -999,1,   4.8924,1,   0.0114,1,     -999,9,     -999,9,     -999,9,     -999,9,     -999,9,20230726,1206, -31.7116, 110.0802,-999          ,9,-999          ,9
33RR20230722  ,I05        ,15      ,  2,22         ,22         ,2,20230726,1020, -31.7120, 110.0783,     5118,    438.4,2,   9.4943,2,  34.7066,2,  34.7077,2,    237.7,2,    237.2,2,     3.81,2,    16.04,2,     0.00,2,     1.13,2,     -999,9,     -999,9,     -999,9,   2143.6,2,   2295.1,6,   7.7471,2,    24.99,2,     -999,9,   9.5142,2,     -999,9,     -999,9,     -999,9,     -999,9,     -999,1,   4.8887,1,   0.0113,1,     -999,9,     -999,9,     -999,9,     -999,9,     -999,9,20230726,1204, -31.7115, 110.0804,-999          ,9,-999          ,9
33RR20230722  ,I05        ,15      ,  2,21         ,21         ,2,20230726,1020, -31.7120, 110.0783,     5118,    531.5,2,   8.8036,2,  34.6188,2,  34.6233,2,    231.5,2,    231.4,2,     6.15,2,    18.34,2,     0.00,2,     1.29,2,     -999,9,     -999,9,     -999,9,   2149.0,2,   2291.7,2,   7.7293,2,    25.00,2,     -999,9,   8.8190,2,     -999,9,     -999,9,     -999,9,     -999,9,     -999,1,   4.8824,1,   0.0113,1,     -999,9,     -999,9,     -999,9,     -999,9,     -999,9,20230726,1201, -31.7114, 110.0806,-999          ,9,-999          ,9
33RR20230722  ,I05        ,15      ,  2,20         ,20         ,2,20230726,1020, -31.7120, 110.0783,     5118,    638.7,2,   6.9457,2,  34.4561,2,  34.4587,2,    201.7,2,    202.0,2,    16.01,2,    25.34,2,     0.00,2,     1.74,2,     -999,9,     -999,9,     -999,9,   2174.8,2,   2290.7,2,   7.6604,6,    24.99,2,     -999,9,   6.9633,2,     -999,9,     -999,9,     -999,9,     -999,9,     -999,1,   4.8793,1,   0.0113,1,     -999,9,     -999,9,     -999,9,     -999,9,     -999,9,20230726,1158, -31.7114, 110.0809,-999          ,9,-999          ,9
33RR20230722  ,I05        ,15      ,  2,19         ,19         ,2,20230726,1020, -31.7120, 110.0783,     5118,    737.1,2,   5.2776,2,  34.3855,2,  34.3878,2,    191.4,2,    192.4,2,    29.57,2,    29.74,2,     0.00,2,     2.05,2,     -999,9,     -999,9,     -999,9,   2196.6,2,   2300.4,2,   7.6182,2,    25.00,2,     -999,9,   5.2448,2,     -999,9,     -999,9,     -999,9,     -999,9,     -999,1,   4.8205,1,   0.0112,1,     -999,9,     -999,9,     -999,9,     -999,9,     -999,9,20230726,1156, -31.7113, 110.0812,-999          ,9,-999          ,9
33RR20230722  ,I05        ,15      ,  2,18         ,18         ,2,20230726,1020, -31.7120, 110.0783,     5118,    867.5,2,   4.2153,2,  34.4057,2,  34.4061,2,    178.7,2,    179.7,2,    46.26,2,    32.48,2,     0.00,2,     2.24,2,     -999,9,     -999,9,     -999,9,   2220.1,2,   2314.3,2,   7.5892,6,    24.98,2,     -999,9,   4.2141,2,     -999,9,     -999,9,     -999,9,     -999,9,     -999,1,   4.9720,1,   0.0111,1,     -999,9,     -999,9,     -999,9,     -999,9,     -999,9,20230726,1152, -31.7113, 110.0815,-999          ,9,-999          ,9
33RR20230722  ,I05        ,15      ,  2,17         ,17         ,2,20230726,1020, -31.7120, 110.0783,     5118,   1006.7,2,   3.8350,2,  34.4876,2,  34.4881,2,    156.3,2,    156.8,2,    64.21,2,    34.36,2,     0.00,2,     2.42,2,     -999,9,     -999,9,     -999,9,   2246.6,2,   2332.4,2,   7.5629,2,    25.00,2,     -999,9,   3.8297,2,     -999,9,     -999,9,     -999,9,     -999,9,     -999,1,   4.9482,1,   0.0123,1,     -999,9,     -999,9,     -999,9,     -999,9,     -999,9,20230726,1149, -31.7111, 110.0818,-999          ,9,-999          ,9
33RR20230722  ,I05        ,15      ,  2,16         ,16         ,2,20230726,1020, -31.7120, 110.0783,     5118,   1138.8,2,   3.5965,2,  34.5297,2,  34.5294,2,    149.3,2,    149.0,2,    73.87,2,    34.80,2,     0.00,2,     2.47,2,     -999,9,     -999,9,     -999,9,   2254.9,2,   2342.5,2,   7.5564,2,    24.99,2,     -999,9,   3.5974,2,     -999,9,     -999,9,     -999,9,     -999,9,     -999,1,   4.9749,1,   0.0117,1,     -999,9,     -999,9,     -999,9,     -999,9,     -999,9,20230726,1146, -31.7111, 110.0821,-999          ,9,-999          ,9
33RR20230722  ,I05        ,15      ,  2,15         ,15         ,2,20230726,1020, -31.7120, 110.0783,     5118,   1304.6,2,   3.2226,2,  34.5617,2,  34.5618,2,    151.7,2,    151.2,2,    78.36,2,    34.87,2,     0.00,2,     2.48,2,     -999,9,     -999,9,     -999,9,   2264.5,2,   2346.8,2,   7.5567,2,    24.98,2,     -999,9,   3.2217,2,     -999,9,     -999,9,     -999,9,     -999,9,     -999,1,   4.9749,1,   0.0123,1,     -999,9,     -999,9,     -999,9,     -999,9,     -999,9,20230726,1142, -31.7110, 110.0825,-999          ,9,-999          ,9
33RR20230722  ,I05        ,15      ,  2,14         ,14         ,2,20230726,1020, -31.7120, 110.0783,     5118,   1458.5,2,   2.9104,2,  34.6238,2,  34.6231,2,    151.9,2,    151.4,2,    87.63,2,    34.55,2,     0.00,2,     2.45,2,     -999,9,     -999,9,     -999,9,   2268.9,2,   2356.0,2,   7.5621,2,    24.98,2,     -999,9,   2.9132,2,     -999,9,     -999,9,     -999,9,     -999,9,     -999,1,   4.8947,1,   0.0116,1,     -999,9,     -999,9,     -999,9,     -999,9,     -999,9,20230726,1138, -31.7109, 110.0829,-999          ,9,-999          ,9
33RR20230722  ,I05        ,15      ,  2,13         ,13         ,2,20230726,1020, -31.7120, 110.0783,     5118,   1610.9,2,   2.7031,2,  34.6609,2,  34.6614,2,    154.9,2,    154.7,2,    88.31,2,    34.17,2,     0.00,2,     2.42,2,     -999,9,     -999,9,     -999,9,   2272.3,2,   2363.5,2,   7.5699,2,    25.00,2,     -999,9,   2.7036,2,     -999,9,     -999,9,     -999,9,     -999,9,     -999,1,   4.9753,1,   0.0114,1,     -999,9,     -999,9,     -999,9,     -999,9,     -999,9,20230726,1134, -31.7109, 110.0832,-999          ,9,-999          ,9
33RR20230722  ,I05        ,15      ,  2,12         ,12         ,2,20230726,1020, -31.7120, 110.0783,     5118,   1772.6,2,   2.5478,2,  34.6890,2,  34.6891,2,    156.1,2,    155.6,2,    95.23,2,    33.89,2,     0.00,2,     2.40,2,     -999,9,     -999,9,     -999,9,   2280.3,2,   2370.4,2,   7.5754,2,    25.00,2,     -999,9,   2.5487,2,     -999,9,     -999,9,     -999,9,     -999,9,     -999,1,   4.9756,1,   0.0121,1,     -999,9,     -999,9,     -999,9,     -999,9,     -999,9,20230726,1131, -31.7108, 110.0836,-999          ,9,-999          ,9
33RR20230722  ,I05        ,15      ,  2,11         ,11         ,2,20230726,1020, -31.7120, 110.0783,     5118,   1986.8,2,   2.2892,2,  34.7132,2,  34.7129,2,    162.1,2,    162.5,2,   104.89,2,    33.43,2,     0.00,2,     2.36,2,     -999,9,     -999,9,     -999,9,   2280.2,6,   2376.6,2,   7.5860,6,    24.99,2,     -999,9,   2.2905,2,     -999,9,     -999,9,     -999,9,     -999,9,     -999,1,   4.3785,1,   0.0123,1,     -999,9,     -999,9,     -999,9,     -999,9,     -999,9,20230726,1126, -31.7107, 110.0840,-999          ,9,-999          ,9
33RR20230722  ,I05        ,15      ,  2,10         ,10         ,2,20230726,1020, -31.7120, 110.0783,     5118,   2259.6,2,   2.0755,2,  34.7231,2,  34.7231,2,    166.4,2,    166.6,2,   108.50,2,    33.30,2,     0.00,2,     2.35,2,     -999,9,     -999,9,     -999,9,   2283.9,2,   2383.1,2,   7.5927,2,    25.00,2,     -999,9,   2.0756,2,     -999,9,     -999,9,     -999,9,     -999,9,     -999,1,   4.9082,1,   0.0112,1,     -999,9,     -999,9,     -999,9,     -999,9,     -999,9,20230726,1120, -31.7106, 110.0846,-999          ,9,-999          ,9
33RR20230722  ,I05        ,15      ,  2,9          ,9          ,2,20230726,1020, -31.7120, 110.0783,     5118,   2589.5,2,   1.8363,2,  34.7269,2,  34.7268,2,    173.5,2,    173.7,2,   112.21,2,    32.87,2,     0.00,2,     2.31,2,     -999,9,     -999,9,     -999,9,   2285.6,2,   2387.2,2,   7.6018,2,    25.01,2,     -999,9,   1.8358,2,     -999,9,     -999,9,     -999,9,     -999,9,     -999,1,   4.9761,1,   0.0114,1,     -999,9,     -999,9,     -999,9,     -999,9,     -999,9,20230726,1113, -31.7105, 110.0852,-999          ,9,-999          ,9
33RR20230722  ,I05        ,15      ,  2,8          ,8          ,2,20230726,1020, -31.7120, 110.0783,     5118,   2991.9,2,   1.6197,2,  34.7268,2,  34.7262,2,    181.5,2,    182.0,2,   115.14,2,    32.61,2,     0.00,2,     2.30,2,     -999,9,     -999,9,     -999,9,   2279.3,2,   2384.6,6,   7.6089,2,    25.01,2,     -999,9,   1.6203,2,     -999,9,     -999,9,     -999,9,     -999,9,     -999,1,   4.9760,1,   0.0117,1,     -999,9,     -999,9,     -999,9,     -999,9,     -999,9,20230726,1105, -31.7102, 110.0858,-999          ,9,-999          ,9
33RR20230722  ,I05        ,15      ,  2,7          ,7          ,2,20230726,1020, -31.7120, 110.0783,     5118,   3371.6,2,   1.4244,2,  34.7231,2,  34.7229,2,    187.0,2,    187.1,2,   119.92,2,    32.47,2,     0.00,2,     2.30,2,     -999,9,     -999,9,     -999,9,   2280.2,2,   2388.4,2,   7.6136,2,    24.98,2,     -999,9,   1.4248,2,     -999,9,     -999,9,     -999,9,     -999,9,     -999,1,   4.8921,1,   0.0114,1,     -999,9,     -999,9,     -999,9,     -999,9,     -999,9,20230726,1058, -31.7099, 110.0865,-999          ,9,-999          ,9
33RR20230722  ,I05        ,15      ,  2,6          ,6          ,2,20230726,1020, -31.7120, 110.0783,     5118,   3705.8,2,   1.3010,2,  34.7194,2,  34.7189,2,    191.3,2,    191.7,2,   121.48,2,    32.48,2,     0.00,2,     2.28,2,     -999,9,     -999,9,     -999,9,   2278.5,2,   2387.8,6,   7.6182,2,    24.99,2,     -999,9,   1.3017,2,     -999,9,     -999,9,     -999,9,     -999,9,     -999,1,   4.9772,1,   0.0111,1,     -999,9,     -999,9,     -999,9,     -999,9,     -999,9,20230726,1051, -31.7097, 110.0871,-999          ,9,-999          ,9
33RR20230722  ,I05        ,15      ,  2,5          ,5          ,2,20230726,1020, -31.7120, 110.0783,     5118,   3993.6,2,   1.2309,2,  34.7166,2,  34.7160,2,    193.4,2,    193.8,2,   121.77,2,    32.57,2,     0.00,2,     2.29,2,     -999,9,     -999,9,     -999,9,   2278.6,2,   2391.0,6,   7.6202,2,    25.00,2,     -999,9,   1.2315,2,     -999,9,     -999,9,     -999,9,     -999,9,     -999,1,   4.9769,1,   0.0117,1,     -999,9,     -999,9,     -999,9,     -999,9,     -999,9,20230726,1045, -31.7095, 110.0876,-999          ,9,-999          ,9
33RR20230722  ,I05        ,15      ,  2,4          ,4          ,2,20230726,1020, -31.7120, 110.0783,     5118,   4380.0,2,   1.1581,2,  34.7136,2,  34.7136,2,    198.3,2,    198.2,2,   123.92,2,    32.35,2,     0.00,2,     2.28,2,     -999,9,     -999,9,     -999,9,   2278.0,2,   2385.7,2,   7.6227,2,    24.98,2,     -999,9,   1.1582,2,     -999,9,     -999,9,     -999,9,     -999,9,     -999,1,   4.9771,1,   0.0110,1,     -999,9,     -999,9,     -999,9,     -999,9,     -999,9,20230726,1037, -31.7092, 110.0883,-999          ,9,-999          ,9
33RR20230722  ,I05        ,15      ,  2,3          ,3          ,2,20230726,1020, -31.7120, 110.0783,     5118,   4772.1,2,   1.1002,2,  34.7103,2,  34.7105,2,    202.8,2,    202.7,2,   123.63,2,    32.17,2,     0.00,2,     2.28,2,     -999,9,     -999,9,     -999,9,   2271.5,2,   2383.2,2,   7.6210,6,    24.99,2,     -999,9,   1.1005,2,     -999,9,     -999,9,     -999,9,     -999,9,     -999,1,   4.9772,1,   0.0111,1,     -999,9,     -999,9,     -999,9,     -999,9,     -999,9,20230726,1030, -31.7089, 110.0890,-999          ,9,-999          ,9