BOTTLE,20240422CCHHYDRO
EXPOCODE,SECT_ID,STNNBR,CASTNO,SAMPNO,BTLNBR,BTLNBR_FLAG_W,DATE,TIME,LATITUDE,LONGITUDE,DEPTH,CTDPRS,CTDPRS_FLAG_W,CTDTMP,CTDTMP_FLAG_W,CTDSAL,CTDSAL_FLAG_W,SALNTY,SALNTY_FLAG_W,CTDOXY,CTDOXY_FLAG_W,OXYGEN,OXYGEN_FLAG_W,SILCAT,SILCAT_FLAG_W,NITRAT,NITRAT_FLAG_W,NITRIT,NITRIT_FLAG_W,PHSPHT,PHSPHT_FLAG_W,CFC-11,CFC-11_FLAG_W,CFC-12,CFC-12_FLAG_W,SF6,SF6_FLAG_W,TCARBN,TCARBN_FLAG_W,ALKALI,ALKALI_FLAG_W,PH_TOT,PH_TOT_FLAG_W,PH_TMP,PH_TMP_FLAG_W,DOC,DOC_FLAG_W,REFTMP,REFTMP_FLAG_W,POC,POC_FLAG_W,PON,PON_FLAG_W,POP,POP_FLAG_W,DOP,DOP_FLAG_W,DELO18,DELO18_FLAG_W,CTDFLUOR,CTDFLUOR_FLAG_W,CTDXMISS,CTDXMISS_FLAG_W,N2O,N2O_FLAG_W,D15N_NO3,D15N_NO3_FLAG_W,D15N_NO2+NO3,D15N_NO2+NO3_FLAG_W,D18O_NO2+NO3,D18O_NO2+NO3_FLAG_W,D18O_NO3,D18O_NO3_FLAG_W,BTL_DATE,BTL_TIME,BTL_LAT,BTL_LON,HPLC,HPLC_FLAG_W,DNA,DNA_FLAG_W
,,,,,,,,,,,METERS,DBAR,,ITS-90,,PSS-78,,PSS-78,,UMOL/KG,,UMOL/KG,,UMOL/KG,,UMOL/KG,,UMOL/KG,,UMOL/KG,,PMOL/KG,,PMOL/KG,,FMOL/KG,,UMOL/KG,,UMOL/KG,,,,DEG C,,UMOL/KG,,ITS-90,,UG/KG,,UG/KG,,UG/L,,UMOL/KG,,/MILLE,,VOLTS,,VOLTS,,NMOL/KG,,/MILLE,,/MILLE,,/MILLE,,/MILLE,,,,,,,,,
33RR20230722  ,I05        ,92      ,  1,36         ,36         ,2,20230815,0030, -32.8132,  75.0497,     3879,      6.7,2,  16.6844,2,  35.5568,2,  35.5553,2,    242.7,2,    242.6,2,     0.88,2,     0.08,2,     0.00,2,     0.15,2,    1.951,3,    1.757,4,   2.9900,4,   2081.7,2,   2338.1,2,   7.9505,2,    24.98,2,     -999,1,  16.6746,2,     -999,9,     -999,9,     -999,9,     -999,9,     -999,9,   4.7582,1,   0.0301,1,      8.3,2,     -999,9,     -999,9,     -999,9,     -999,9,20230815,0213, -32.8132,  75.0497,-999          ,9,-999          ,9
33RR20230722  ,I05        ,92      ,  1,35         ,35         ,2,20230815,0030, -32.8132,  75.0497,     3879,     18.7,2,  16.6542,2,  35.5523,2,  35.5575,2,    242.7,2,    242.9,2,     0.78,2,     0.03,2,     0.00,2,     0.15,2,     -999,9,     -999,9,     -999,9,   -999.0,9,     -999,9,     -999,9,     -999,9,     -999,1,  16.6584,2,     -999,9,     -999,9,     -999,9,     -999,9,     -999,9,   4.9752,1,   0.0301,1,     -999,9,     -999,9,     -999,9,     -999,9,     -999,9,20230815,0211, -32.8132,  75.0497,-999          ,9,-999          ,9
33RR20230722  ,I05        ,92      ,  1,34         ,34         ,2,20230815,0030, -32.8132,  75.0497,     3879,     35.6,2,  16.6157,2,  35.5441,2,  35.5440,2,    242.2,2,    242.6,2,     0.78,2,     0.02,2,     0.00,2,     0.15,2,     -999,9,     -999,9,     -999,9,   -999.0,9,     -999,9,     -999,9,     -999,9,     -999,1,  16.6156,2,     -999,9,     -999,9,     -999,9,     -999,9,     -999,9,   4.9749,1,   0.0351,1,     -999,9,     -999,9,     -999,9,     -999,9,     -999,9,20230815,0210, -32.8132,  75.0497,-999          ,9,-999          ,9
33RR20230722  ,I05        ,92      ,  1,33         ,33         ,2,20230815,0030, -32.8132,  75.0497,     3879,     55.5,2,  16.6323,2,  35.5500,2,  35.5498,2,    242.3,2,    242.7,2,     0.78,2,     0.00,2,     0.00,2,     0.14,2,     -999,9,     -999,9,     -999,9,   2083.6,2,   2337.1,2,   7.9487,2,    25.00,2,     -999,1,  16.6295,2,     -999,9,     -999,9,     -999,9,     -999,9,     -999,9,   4.9745,1,   0.0363,1,     -999,9,     -999,9,     -999,9,     -999,9,     -999,9,20230815,0208, -32.8133,  75.0497,-999          ,9,-999          ,9
33RR20230722  ,I05        ,92      ,  1,32         ,32         ,2,20230815,0030, -32.8132,  75.0497,     3879,     78.1,2,  16.5517,2,  35.5310,2,  35.5296,2,    241.9,2,    242.5,2,     0.78,2,     0.04,2,     0.01,2,     0.15,2,     -999,9,     -999,9,     -999,9,   -999.0,9,     -999,9,     -999,9,     -999,9,     -999,1,  16.5432,2,     -999,9,     -999,9,     -999,9,     -999,9,     -999,9,   4.6946,1,   0.0335,1,     -999,9,     -999,9,     -999,9,     -999,9,     -999,9,20230815,0206, -32.8133,  75.0497,-999          ,9,-999          ,9
33RR20230722  ,I05        ,92      ,  1,31         ,31         ,2,20230815,0030, -32.8132,  75.0497,     3879,    107.5,2,  16.3565,2,  35.4884,2,  35.4894,2,    241.2,2,    241.9,2,     0.88,2,     0.15,2,     0.03,2,     0.17,2,    1.934,2,    1.385,2,   2.4300,2,   2083.8,2,   2334.2,2,   7.9423,2,    25.00,2,     -999,1,  16.3763,2,     -999,9,     -999,9,     -999,9,     -999,9,     -999,9,   4.9738,1,   0.0275,1,      8.4,2,     -999,9,     -999,9,     -999,9,     -999,9,20230815,0205, -32.8132,  75.0497,-999          ,9,-999          ,9
33RR20230722  ,I05        ,92      ,  1,30         ,30         ,2,20230815,0030, -32.8132,  75.0497,     3879,    136.0,2,  14.5199,2,  35.3692,2,  35.3715,2,    238.5,2,    238.7,2,     1.07,2,     2.81,2,     0.22,2,     0.38,2,     -999,9,     -999,9,     -999,9,   -999.0,9,     -999,9,     -999,9,     -999,9,     -999,1,  14.5215,2,     -999,9,     -999,9,     -999,9,     -999,9,     -999,9,   4.9714,1,   0.0201,1,     -999,9,     -999,9,     -999,9,     -999,9,     -999,9,20230815,0203, -32.8132,  75.0497,-999          ,9,-999          ,9
33RR20230722  ,I05        ,92      ,  1,29         ,29         ,2,20230815,0030, -32.8132,  75.0497,     3879,    165.5,2,  13.8240,2,  35.2968,2,  35.2966,2,    234.1,2,    234.7,2,     1.56,2,     5.11,2,     0.02,2,     0.48,2,     -999,9,     -999,9,     -999,9,   2116.2,2,   2321.3,2,   7.8588,2,    25.00,2,     -999,1,  13.8235,2,     -999,9,     -999,9,     -999,9,     -999,9,     -999,9,   4.9375,1,   0.0157,1,     -999,9,     -999,9,     -999,9,     -999,9,     -999,9,20230815,0202, -32.8132,  75.0497,-999          ,9,-999          ,9
33RR20230722  ,I05        ,92      ,  1,28         ,28         ,2,20230815,0030, -32.8132,  75.0497,     3879,    194.5,2,  13.5654,2,  35.2681,2,  35.2676,2,    233.2,2,    233.6,2,     1.76,2,     5.87,2,     0.01,2,     0.53,2,    2.533,2,    1.580,2,   2.4800,2,   -999.0,9,     -999,9,     -999,9,     -999,9,     -999,1,  13.5611,2,     -999,9,     -999,9,     -999,9,     -999,9,     -999,9,   4.6932,1,   0.0124,1,     10.2,2,     -999,9,     -999,9,     -999,9,     -999,9,20230815,0200, -32.8132,  75.0497,-999          ,9,-999          ,9
33RR20230722  ,I05        ,92      ,  1,27         ,27         ,2,20230815,0030, -32.8132,  75.0497,     3879,    229.2,2,  13.2824,2,  35.2406,2,  35.2400,2,    235.5,2,    235.7,2,     2.93,2,     7.55,2,     0.00,2,     0.60,2,     -999,9,     -999,9,     -999,9,   2117.9,2,   2315.6,2,   7.8454,2,    25.01,2,     -999,1,  13.2823,2,     -999,9,     -999,9,     -999,9,     -999,9,     -999,9,   4.9692,1,   0.0117,1,     -999,9,     -999,9,     -999,9,     -999,9,     -999,9,20230815,0159, -32.8132,  75.0497,-999          ,9,-999          ,9
33RR20230722  ,I05        ,92      ,  1,26         ,26         ,2,20230815,0030, -32.8132,  75.0497,     3879,    275.8,2,  12.9465,2,  35.2015,2,  35.2010,2,    238.3,2,    237.6,2,     2.83,2,     7.89,2,     0.00,2,     0.62,2,     -999,9,     -999,9,     -999,9,   -999.0,9,     -999,9,     -999,9,     -999,9,     -999,1,  12.9502,2,     -999,9,     -999,9,     -999,9,     -999,9,     -999,9,   4.9489,1,   0.0115,1,     -999,9,     -999,9,     -999,9,     -999,9,     -999,9,20230815,0157, -32.8133,  75.0497,-999          ,9,-999          ,9
33RR20230722  ,I05        ,92      ,  1,25         ,25         ,2,20230815,0030, -32.8132,  75.0497,     3879,    327.5,2,  12.6511,2,  35.1588,2,  35.1585,2,    238.8,2,    238.0,2,     3.02,2,     8.59,2,     0.00,2,     0.67,2,    2.556,2,    1.649,2,   2.4600,2,   -999.0,9,     -999,9,     -999,9,     -999,9,     -999,1,  12.6500,2,     -999,9,     -999,9,     -999,9,     -999,9,     -999,9,   4.9685,1,   0.0116,1,     10.7,2,     -999,9,     -999,9,     -999,9,     -999,9,20230815,0155, -32.8133,  75.0497,-999          ,9,-999          ,9
33RR20230722  ,I05        ,92      ,  1,24         ,24         ,2,20230815,0030, -32.8132,  75.0497,     3879,    383.7,2,  12.2717,2,  35.0949,2,  35.0947,2,    237.4,2,    236.7,2,     3.32,2,     9.74,2,     0.00,2,     0.72,2,     -999,9,     -999,9,     -999,9,   -999.0,9,     -999,9,     -999,9,     -999,9,     -999,1,  12.2668,2,     -999,9,     -999,9,     -999,9,     -999,9,     -999,9,   4.9681,1,   0.0116,1,     -999,9,     -999,9,     -999,9,     -999,9,     -999,9,20230815,0153, -32.8132,  75.0497,-999          ,9,-999          ,9
33RR20230722  ,I05        ,92      ,  1,23         ,23         ,2,20230815,0030, -32.8132,  75.0497,     3879,    440.2,2,  11.8344,2,  35.0244,2,  35.0246,2,    237.6,2,    237.1,2,     3.51,2,    10.71,2,     0.00,2,     0.79,2,     -999,9,     -999,9,     -999,9,   2125.8,2,   2306.8,2,   7.8098,2,    25.00,2,     -999,1,  11.8341,2,     -999,9,     -999,9,     -999,9,     -999,9,     -999,9,   4.8546,1,   0.0116,1,     -999,9,     -999,9,     -999,9,     -999,9,     -999,9,20230815,0151, -32.8132,  75.0497,-999          ,9,-999          ,9
33RR20230722  ,I05        ,92      ,  1,22         ,22         ,2,20230815,0030, -32.8132,  75.0497,     3879,    508.9,2,  11.4165,2,  34.9591,2,  34.9604,2,    236.6,2,    235.8,2,     3.71,2,    11.80,2,     0.00,2,     0.87,2,    2.756,2,    1.778,2,   2.3300,2,   -999.0,9,     -999,9,     -999,9,     -999,9,     -999,1,  11.4255,2,     -999,9,     -999,9,     -999,9,     -999,9,     -999,9,   4.9672,1,   0.0115,1,     11.1,2,     -999,9,     -999,9,     -999,9,     -999,9,20230815,0148, -32.8132,  75.0497,-999          ,9,-999          ,9
33RR20230722  ,I05        ,92      ,  1,21         ,21         ,2,20230815,0030, -32.8132,  75.0497,     3879,    592.1,2,  10.8274,2,  34.8731,2,  34.8709,2,    228.5,2,    228.5,2,     4.59,2,    13.95,2,     0.00,2,     1.02,2,     -999,9,     -999,9,     -999,9,   2134.5,2,   2299.7,2,   7.7780,2,    25.00,2,     -999,1,  10.8194,2,     -999,9,     -999,9,     -999,9,     -999,9,     -999,9,   4.7962,1,   0.0114,1,     -999,9,     -999,9,     -999,9,     -999,9,     -999,9,20230815,0146, -32.8132,  75.0497,-999          ,9,-999          ,9
33RR20230722  ,I05        ,92      ,  1,20         ,20         ,2,20230815,0030, -32.8132,  75.0497,     3879,    686.5,2,   9.9781,2,  34.7604,2,  34.7634,2,    221.3,2,    221.6,2,     6.05,2,    16.40,2,     0.00,2,     1.17,2,     -999,9,     -999,9,     -999,9,   -999.0,9,     -999,9,     -999,9,     -999,9,     -999,1,  10.0092,2,     -999,9,     -999,9,     -999,9,     -999,9,     -999,9,   4.9667,1,   0.0114,1,     -999,9,     -999,9,     -999,9,     -999,9,     -999,9,20230815,0143, -32.8132,  75.0497,-999          ,9,-999          ,9
33RR20230722  ,I05        ,92      ,  1,19         ,19         ,2,20230815,0030, -32.8132,  75.0497,     3879,    777.5,2,   8.9686,2,  34.6446,2,  34.6464,2,    213.6,2,    214.1,2,     8.78,2,    19.61,2,     0.00,2,     1.39,2,    3.250,2,    1.795,2,   1.5900,2,   2151.0,2,   2291.6,2,   7.7192,2,    24.99,2,     -999,1,   8.9797,2,     -999,9,     -999,9,     -999,9,     -999,9,     -999,9,   4.9674,1,   0.0115,1,     14.3,2,     -999,9,     -999,9,     -999,9,     -999,9,20230815,0141, -32.8132,  75.0497,-999          ,9,-999          ,9
33RR20230722  ,I05        ,92      ,  1,18         ,18         ,2,20230815,0030, -32.8132,  75.0497,     3879,    865.5,2,   7.6663,2,  34.5175,2,  34.5192,2,    204.4,2,    205.7,2,    13.28,2,    23.55,2,     0.00,2,     1.63,2,     -999,9,     -999,9,     -999,9,   -999.0,9,     -999,9,     -999,9,     -999,9,     -999,1,   7.6628,2,     -999,9,     -999,9,     -999,9,     -999,9,     -999,9,   4.9689,1,   0.0113,1,     -999,9,     -999,9,     -999,9,     -999,9,     -999,9,20230815,0138, -32.8132,  75.0497,-999          ,9,-999          ,9
33RR20230722  ,I05        ,92      ,  1,17         ,17         ,2,20230815,0030, -32.8132,  75.0497,     3879,    961.9,2,   6.3752,2,  34.4249,2,  34.4249,2,    201.1,2,    201.3,2,    20.01,2,    27.00,2,     0.00,2,     1.86,2,     -999,9,     -999,9,     -999,9,   -999.0,9,     -999,9,     -999,9,     -999,9,     -999,1,   6.3791,2,     -999,9,     -999,9,     -999,9,     -999,9,     -999,9,   4.9697,1,   0.0114,1,     -999,9,     -999,9,     -999,9,     -999,9,     -999,9,20230815,0135, -32.8132,  75.0497,-999          ,9,-999          ,9
33RR20230722  ,I05        ,92      ,  1,16         ,16         ,2,20230815,0030, -32.8132,  75.0497,     3879,   1084.3,2,   4.9301,2,  34.3620,2,  34.3623,2,    198.6,2,    198.9,2,    30.65,2,    30.17,2,     0.00,2,     2.09,2,    2.162,2,    1.199,2,   0.7200,2,   -999.0,9,     -999,9,     -999,9,     -999,9,     -999,1,   4.9435,2,     -999,9,     -999,9,     -999,9,     -999,9,     -999,9,   4.8629,1,   0.0112,1,     19.2,2,     -999,9,     -999,9,     -999,9,     -999,9,20230815,0132, -32.8132,  75.0497,-999          ,9,-999          ,9
33RR20230722  ,I05        ,92      ,  1,15         ,15         ,2,20230815,0030, -32.8132,  75.0497,     3879,   1206.0,2,   4.1266,2,  34.3876,2,  34.3870,2,    186.2,2,    186.3,2,    43.44,2,    32.41,2,     0.00,2,     2.24,2,     -999,9,     -999,9,     -999,9,   2215.1,2,   2306.2,2,   7.5910,2,    25.00,2,     -999,1,   4.1285,2,     -999,9,     -999,9,     -999,9,     -999,9,     -999,9,   4.9722,1,   0.0117,1,     -999,9,     -999,9,     -999,9,     -999,9,     -999,9,20230815,0129, -32.8132,  75.0497,-999          ,9,-999          ,9
33RR20230722  ,I05        ,92      ,  1,14         ,14         ,2,20230815,0030, -32.8132,  75.0497,     3879,   1307.9,2,   3.6443,2,  34.4450,2,  34.4432,2,    172.7,2,    172.7,2,    56.23,2,    33.78,2,     0.00,2,     2.35,2,     -999,9,     -999,9,     -999,9,   -999.0,9,     -999,9,     -999,9,     -999,9,     -999,1,   3.6496,2,     -999,9,     -999,9,     -999,9,     -999,9,     -999,9,   4.8204,1,   0.0117,1,     -999,9,     -999,9,     -999,9,     -999,9,     -999,9,20230815,0126, -32.8132,  75.0497,-999          ,9,-999          ,9
33RR20230722  ,I05        ,92      ,  1,13         ,13         ,2,20230815,0030, -32.8132,  75.0497,     3879,   1414.0,2,   3.3456,2,  34.4914,2,  34.4897,2,    166.8,2,    166.9,2,    63.64,2,    34.28,2,     0.00,2,     2.41,2,    0.753,2,    0.359,2,   0.0300,2,   -999.0,9,     -999,9,     -999,9,     -999,9,     -999,1,   3.3546,2,     -999,9,     -999,9,     -999,9,     -999,9,     -999,9,   4.9024,1,   0.0113,1,     22.5,2,     -999,9,     -999,9,     -999,9,     -999,9,20230815,0124, -32.8132,  75.0497,-999          ,9,-999          ,9
33RR20230722  ,I05        ,92      ,  1,12         ,12         ,2,20230815,0030, -32.8132,  75.0497,     3879,   1522.2,2,   3.1868,2,  34.5365,2,  34.5376,2,    161.6,2,    161.4,2,    70.57,2,    34.37,2,     0.00,2,     2.41,2,     -999,9,     -999,9,     -999,9,   2252.2,6,   2334.6,2,   7.5625,2,    24.99,2,     -999,1,   3.1863,2,     -999,9,     -999,9,     -999,9,     -999,9,     -999,9,   4.9744,1,   0.0121,1,     -999,9,     -999,9,     -999,9,     -999,9,     -999,9,20230815,0121, -32.8133,  75.0497,-999          ,9,-999          ,9
33RR20230722  ,I05        ,92      ,  1,11         ,11         ,2,20230815,0030, -32.8132,  75.0497,     3879,   1642.8,2,   2.9092,2,  34.5847,2,  34.5851,2,    164.7,2,    164.5,2,    73.99,2,    33.93,2,     0.00,2,     2.38,2,     -999,9,     -999,9,     -999,9,   2254.3,2,   2337.2,2,   7.5663,6,    24.99,2,     -999,1,   2.9089,2,     -999,9,     -999,9,     -999,9,     -999,9,     -999,9,   4.8143,1,   0.0115,1,     -999,9,     -999,9,     -999,9,     -999,9,     -999,9,20230815,0118, -32.8132,  75.0497,-999          ,9,-999          ,9
33RR20230722  ,I05        ,92      ,  1,10         ,10         ,2,20230815,0030, -32.8132,  75.0497,     3879,   1789.9,2,   2.6857,2,  34.6409,2,  34.6394,2,    169.2,2,    169.2,2,    77.40,2,    33.11,2,     0.00,2,     2.32,2,    0.204,2,    0.114,2,   0.0700,2,   -999.0,9,     -999,9,     -999,9,     -999,9,     -999,1,   2.6882,2,     -999,9,     -999,9,     -999,9,     -999,9,     -999,9,   4.9301,1,   0.0112,1,     21.5,2,     -999,9,     -999,9,     -999,9,     -999,9,20230815,0115, -32.8132,  75.0497,-999          ,9,-999          ,9
33RR20230722  ,I05        ,92      ,  1,9          ,9          ,2,20230815,0030, -32.8132,  75.0497,     3879,   1952.9,2,   2.5011,2,  34.6824,2,  34.6828,2,    176.7,2,    176.8,2,    78.86,2,    32.09,2,     0.00,2,     2.24,2,     -999,9,     -999,9,     -999,9,   2251.5,2,   2344.6,6,   7.5883,2,    25.01,2,     -999,1,   2.5022,2,     -999,9,     -999,9,     -999,9,     -999,9,     -999,9,   4.9360,1,   0.0116,1,     -999,9,     -999,9,     -999,9,     -999,9,     -999,9,20230815,0111, -32.8132,  75.0497,-999          ,9,-999          ,9
33RR20230722  ,I05        ,92      ,  1,8          ,8          ,2,20230815,0030, -32.8132,  75.0497,     3879,   2170.3,2,   2.1661,2,  34.7190,2,  34.7188,2,    182.5,2,    182.7,2,    90.08,2,    31.63,2,     0.00,2,     2.21,2,     -999,9,     -999,9,     -999,9,   -999.0,9,     -999,9,     -999,9,     -999,9,     -999,1,   2.1664,2,     -999,9,     -999,9,     -999,9,     -999,9,     -999,9,   4.9743,1,   0.0111,1,     -999,9,     -999,9,     -999,9,     -999,9,     -999,9,20230815,0106, -32.8132,  75.0497,-999          ,9,-999          ,9
33RR20230722  ,I05        ,92      ,  1,7          ,7          ,2,20230815,0030, -32.8132,  75.0497,     3879,   2445.6,2,   1.9126,2,  34.7237,2,  34.7231,2,    178.7,2,    178.7,2,   106.77,2,    32.57,2,     0.00,2,     2.28,2,    0.021,2,    0.012,2,  -0.0300,2,   2272.5,2,   2373.5,2,   7.6047,2,    24.98,2,     -999,1,   1.9117,2,     -999,9,     -999,9,     -999,9,     -999,9,     -999,9,   4.9214,1,   0.0123,1,     19.4,2,     -999,9,     -999,9,     -999,9,     -999,9,20230815,0101, -32.8132,  75.0497,-999          ,9,-999          ,9
33RR20230722  ,I05        ,92      ,  1,6          ,6          ,2,20230815,0030, -32.8132,  75.0497,     3879,   2702.6,2,   1.7481,2,  34.7229,2,  34.7231,2,    178.7,2,    178.7,2,   114.77,2,    32.95,2,     0.00,2,     2.31,2,     -999,9,     -999,9,     -999,9,   -999.0,9,     -999,9,     -999,9,     -999,9,     -999,1,   1.7489,2,     -999,9,     -999,9,     -999,9,     -999,9,     -999,9,   4.9761,1,   0.0119,1,     -999,9,     -999,9,     -999,9,     -999,9,     -999,9,20230815,0056, -32.8132,  75.0497,-999          ,9,-999          ,9
33RR20230722  ,I05        ,92      ,  1,5          ,5          ,2,20230815,0030, -32.8132,  75.0497,     3879,   3025.7,2,   1.5699,2,  34.7189,2,  34.7188,2,    182.5,2,    182.5,2,   119.56,2,    33.03,2,     0.00,2,     2.30,2,    0.016,2,    0.010,2,  -0.0200,2,   2280.2,2,   2380.7,2,   7.6074,2,    25.00,2,     -999,1,   1.5680,2,     -999,9,     -999,9,     -999,9,     -999,9,     -999,9,   4.9756,1,   0.0112,1,     19.6,2,     -999,9,     -999,9,     -999,9,     -999,9,20230815,0049, -32.8132,  75.0497,-999          ,9,-999          ,9
33RR20230722  ,I05        ,92      ,  1,4          ,37         ,2,20230815,0030, -32.8132,  75.0497,     3879,   3420.2,2,   1.4484,2,  34.7153,2,  34.7154,2,    186.6,2,    186.8,2,   121.70,2,    32.92,2,     0.00,2,     2.31,2,     -999,9,     -999,9,     -999,9,   -999.0,9,     -999,9,     -999,9,     -999,9,     -999,1,   1.4464,2,     -999,9,     -999,9,     -999,9,     -999,9,     -999,9,   4.8745,1,   0.0115,1,     -999,9,     -999,9,     -999,9,     -999,9,     -999,9,20230815,0042, -32.8133,  75.0497,-999          ,9,-999          ,9
33RR20230722  ,I05        ,92      ,  1,3          ,3          ,2,20230815,0030, -32.8132,  75.0497,     3879,   3596.4,2,   1.4160,2,  34.7138,2,  34.7136,2,    187.9,2,    188.0,2,   122.19,2,    32.95,2,     0.00,2,     2.30,2,    0.027,2,    0.019,2,   0.0300,2,   2278.4,2,   2380.4,2,   7.6091,2,    25.00,2,     -999,1,   1.4156,2,     -999,9,     -999,9,     -999,9,     -999,9,     -999,9,   4.9758,1,   0.0111,1,     19.1,2,     -999,9,     -999,9,     -999,9,     -999,9,20230815,0038, -32.8132,  75.0497,-999          ,9,-999          ,9