BOTTLE,20240422CCHHYDRO
EXPOCODE,SECT_ID,STNNBR,CASTNO,SAMPNO,BTLNBR,BTLNBR_FLAG_W,DATE,TIME,LATITUDE,LONGITUDE,DEPTH,CTDPRS,CTDPRS_FLAG_W,CTDTMP,CTDTMP_FLAG_W,CTDSAL,CTDSAL_FLAG_W,SALNTY,SALNTY_FLAG_W,CTDOXY,CTDOXY_FLAG_W,OXYGEN,OXYGEN_FLAG_W,SILCAT,SILCAT_FLAG_W,NITRAT,NITRAT_FLAG_W,NITRIT,NITRIT_FLAG_W,PHSPHT,PHSPHT_FLAG_W,CFC-11,CFC-11_FLAG_W,CFC-12,CFC-12_FLAG_W,SF6,SF6_FLAG_W,TCARBN,TCARBN_FLAG_W,ALKALI,ALKALI_FLAG_W,PH_TOT,PH_TOT_FLAG_W,PH_TMP,PH_TMP_FLAG_W,DOC,DOC_FLAG_W,REFTMP,REFTMP_FLAG_W,POC,POC_FLAG_W,PON,PON_FLAG_W,POP,POP_FLAG_W,DOP,DOP_FLAG_W,DELO18,DELO18_FLAG_W,CTDFLUOR,CTDFLUOR_FLAG_W,CTDXMISS,CTDXMISS_FLAG_W,N2O,N2O_FLAG_W,D15N_NO3,D15N_NO3_FLAG_W,D15N_NO2+NO3,D15N_NO2+NO3_FLAG_W,D18O_NO2+NO3,D18O_NO2+NO3_FLAG_W,D18O_NO3,D18O_NO3_FLAG_W,BTL_DATE,BTL_TIME,BTL_LAT,BTL_LON,HPLC,HPLC_FLAG_W,DNA,DNA_FLAG_W
,,,,,,,,,,,METERS,DBAR,,ITS-90,,PSS-78,,PSS-78,,UMOL/KG,,UMOL/KG,,UMOL/KG,,UMOL/KG,,UMOL/KG,,UMOL/KG,,PMOL/KG,,PMOL/KG,,FMOL/KG,,UMOL/KG,,UMOL/KG,,,,DEG C,,UMOL/KG,,ITS-90,,UG/KG,,UG/KG,,UG/L,,UMOL/KG,,/MILLE,,VOLTS,,VOLTS,,NMOL/KG,,/MILLE,,/MILLE,,/MILLE,,/MILLE,,,,,,,,,
33RR20230722  ,I05        ,176     ,  1,25         ,25         ,2,20230906,0438, -32.9951,  35.5916,     1457,      6.2,2,  19.2532,2,  35.6363,2,  35.6360,2,    228.4,2,    227.6,2,     1.76,2,     0.20,2,     0.04,2,     0.13,2,    1.870,2,    1.225,2,   2.0400,2,   2061.1,2,   2332.4,2,   7.9839,6,    25.00,2,     -999,1,  19.2525,2,     -999,9,     -999,9,     -999,9,     -999,1,     -999,9,   4.7439,1,   0.0272,1,      8.1,2,     -999,9,     -999,9,     -999,9,     -999,9,20230906,0530, -32.9951,  35.5916,-999          ,9,-999          ,9
33RR20230722  ,I05        ,176     ,  1,24         ,24         ,2,20230906,0438, -32.9951,  35.5916,     1457,     21.8,2,  19.2606,2,  35.6361,2,  35.6346,2,    228.2,2,    227.5,2,     1.85,2,     0.15,2,     0.04,2,     0.13,2,     -999,9,     -999,9,     -999,9,   -999.0,9,     -999,9,     -999,9,     -999,9,     -999,1,  19.2611,2,     -999,9,     -999,9,     -999,9,     -999,9,     -999,9,   4.9741,1,   0.0300,1,     -999,9,     -999,9,     -999,9,     -999,9,     -999,9,20230906,0528, -32.9951,  35.5916,-999          ,9,-999          ,9
33RR20230722  ,I05        ,176     ,  1,23         ,23         ,2,20230906,0438, -32.9951,  35.5916,     1457,     42.1,2,  19.2189,2,  35.6400,2,  35.6374,2,    228.0,2,    227.6,2,     1.95,2,     0.14,2,     0.05,2,     0.12,2,     -999,9,     -999,9,     -999,9,   -999.0,9,     -999,9,     -999,9,     -999,9,     -999,1,  19.2391,2,     -999,9,     -999,9,     -999,9,     -999,1,     -999,9,   4.9740,1,   0.0302,1,     -999,9,     -999,9,     -999,9,     -999,9,     -999,9,20230906,0526, -32.9951,  35.5916,-999          ,9,-999          ,9
33RR20230722  ,I05        ,176     ,  1,22         ,22         ,2,20230906,0438, -32.9951,  35.5916,     1457,     63.2,2,  19.1430,2,  35.6397,2,  35.6388,2,    226.2,2,    226.3,2,     1.95,2,     0.23,2,     0.06,2,     0.14,2,    1.909,2,    1.230,2,   2.1400,2,   -999.0,9,     -999,9,     -999,9,     -999,9,     -999,1,  19.1462,2,     -999,9,     -999,9,     -999,9,     -999,1,     -999,9,   4.9731,1,   0.0301,1,      8.2,2,     -999,9,     -999,9,     -999,9,     -999,9,20230906,0524, -32.9951,  35.5916,-999          ,9,-999          ,9
33RR20230722  ,I05        ,176     ,  1,21         ,21         ,2,20230906,0438, -32.9951,  35.5916,     1457,     87.4,2,  18.5422,2,  35.6596,2,  35.6583,2,    222.3,2,    222.1,2,     2.24,2,     0.79,2,     0.20,2,     0.18,2,     -999,9,     -999,9,     -999,9,   2073.7,2,   2334.1,2,   7.9635,2,    24.99,2,     -999,1,  18.5460,2,     -999,9,     -999,9,     -999,9,     -999,1,     -999,9,   4.9719,1,   0.0157,1,     -999,9,     -999,9,     -999,9,     -999,9,     -999,9,20230906,0523, -32.9951,  35.5916,-999          ,9,-999          ,9
33RR20230722  ,I05        ,176     ,  1,20         ,20         ,2,20230906,0438, -32.9951,  35.5916,     1457,    111.8,2,  18.5213,2,  35.6895,2,  35.6879,2,    229.1,2,    229.1,2,     1.85,2,     0.06,2,     0.21,2,     0.13,2,    2.008,2,    1.247,2,   2.1400,2,   -999.0,9,     -999,9,     -999,9,     -999,9,     -999,1,  18.5197,2,     -999,9,     -999,9,     -999,9,     -999,1,     -999,9,   4.7022,1,   0.0168,1,      8.1,2,     -999,9,     -999,9,     -999,9,     -999,9,20230906,0521, -32.9951,  35.5916,-999          ,9,-999          ,9
33RR20230722  ,I05        ,176     ,  1,19         ,19         ,2,20230906,0438, -32.9951,  35.5916,     1457,    141.7,2,  18.3160,2,  35.6844,2,  35.6824,2,    228.1,2,    228.2,2,     1.95,2,     0.27,2,     0.27,2,     0.14,2,     -999,9,     -999,9,     -999,9,   2074.3,2,   2335.8,2,   7.9664,2,    24.98,2,     -999,1,  18.3150,2,     -999,9,     -999,9,     -999,9,     -999,1,     -999,9,   4.9724,1,   0.0145,1,     -999,9,     -999,9,     -999,9,     -999,9,     -999,9,20230906,0519, -32.9951,  35.5916,-999          ,9,-999          ,9
33RR20230722  ,I05        ,176     ,  1,18         ,18         ,2,20230906,0438, -32.9951,  35.5916,     1457,    170.0,2,  18.0244,2,  35.6657,2,  35.6640,2,    224.0,2,    224.1,2,     2.24,2,     1.00,2,     0.17,2,     0.20,2,    2.054,2,    1.276,2,   2.1000,2,   -999.0,9,     -999,9,     -999,9,     -999,9,     -999,1,  18.0189,2,     -999,9,     -999,9,     -999,9,     -999,1,     -999,9,   4.8118,1,   0.0128,1,      8.6,2,     -999,9,     -999,9,     -999,9,     -999,9,20230906,0518, -32.9951,  35.5916,-999          ,9,-999          ,9
33RR20230722  ,I05        ,176     ,  1,17         ,17         ,2,20230906,0438, -32.9951,  35.5916,     1457,    203.7,2,  17.5895,2,  35.6247,2,  35.6226,2,    214.4,2,    214.5,2,     2.63,2,     2.56,2,     0.02,2,     0.28,2,     -999,9,     -999,9,     -999,9,   2090.5,2,   2332.7,2,   7.9282,2,    25.00,2,     -999,1,  17.5876,2,     -999,9,     -999,9,     -999,9,     -999,1,     -999,9,   4.9693,1,   0.0121,1,     -999,9,     -999,9,     -999,9,     -999,9,     -999,9,20230906,0516, -32.9951,  35.5916,-999          ,9,-999          ,9
33RR20230722  ,I05        ,176     ,  1,16         ,16         ,2,20230906,0438, -32.9951,  35.5916,     1457,    236.1,2,  17.0839,2,  35.5956,2,  35.5944,2,    212.4,2,    212.4,2,     2.73,2,     3.44,2,     0.00,2,     0.33,2,    2.200,6,    1.345,6,   2.0700,6,   -999.0,9,     -999,9,     -999,9,     -999,9,     -999,1,  17.1033,2,     -999,9,     -999,9,     -999,9,     -999,1,     -999,9,   4.9694,1,   0.0118,1,      9.2,6,     -999,9,     -999,9,     -999,9,     -999,9,20230906,0514, -32.9951,  35.5916,-999          ,9,-999          ,9
33RR20230722  ,I05        ,176     ,  1,15         ,15         ,2,20230906,0438, -32.9951,  35.5916,     1457,    269.4,2,  16.2392,2,  35.5324,2,  35.5283,2,    209.2,2,    209.2,2,     3.41,2,     4.97,2,     0.00,2,     0.45,2,     -999,9,     -999,9,     -999,9,   -999.0,9,     -999,9,     -999,9,     -999,9,     -999,1,  16.2165,2,     -999,9,     -999,9,     -999,9,     -999,1,     -999,9,   4.6383,1,   0.0117,1,     -999,9,     -999,9,     -999,9,     -999,9,     -999,9,20230906,0513, -32.9951,  35.5915,-999          ,9,-999          ,9
33RR20230722  ,I05        ,176     ,  1,14         ,14         ,2,20230906,0438, -32.9951,  35.5916,     1457,    310.4,2,  15.7317,2,  35.4951,2,  35.4933,2,    212.1,2,    212.3,2,     3.22,2,     5.41,2,     0.00,2,     0.47,2,    2.389,2,    1.438,2,   2.0700,2,   -999.0,9,     -999,9,     -999,9,     -999,9,     -999,1,  15.7342,2,     -999,9,     -999,9,     -999,9,     -999,9,     -999,9,   4.8370,1,   0.0115,1,      9.8,2,     -999,9,     -999,9,     -999,9,     -999,9,20230906,0511, -32.9951,  35.5915,-999          ,9,-999          ,9
33RR20230722  ,I05        ,176     ,  1,13         ,13         ,2,20230906,0438, -32.9951,  35.5916,     1457,    367.1,2,  15.0395,2,  35.4286,2,  35.4277,2,    213.9,2,    213.9,2,     3.41,2,     6.35,2,     0.00,2,     0.54,2,     -999,9,     -999,9,     -999,9,   2116.3,2,   2323.7,2,   7.8656,2,    24.98,2,     -999,1,  15.0418,2,     -999,9,     -999,9,     -999,9,     -999,9,     -999,9,   4.9677,1,   0.0115,1,     -999,9,     -999,9,     -999,9,     -999,9,     -999,9,20230906,0509, -32.9951,  35.5916,-999          ,9,-999          ,9
33RR20230722  ,I05        ,176     ,  1,12         ,12         ,2,20230906,0438, -32.9951,  35.5916,     1457,    447.1,2,  14.0395,2,  35.3250,2,  35.3261,2,    218.4,2,    218.5,2,     3.51,2,     7.62,2,     0.00,2,     0.61,2,    2.562,2,    1.561,2,   2.1300,2,   -999.0,9,     -999,9,     -999,9,     -999,9,     -999,1,  14.0543,2,     -999,9,     -999,9,     -999,9,     -999,9,     -999,9,   4.9673,1,   0.0116,1,     10.7,2,     -999,9,     -999,9,     -999,9,     -999,9,20230906,0507, -32.9951,  35.5916,-999          ,9,-999          ,9
33RR20230722  ,I05        ,176     ,  1,11         ,11         ,2,20230906,0438, -32.9951,  35.5916,     1457,    522.8,2,  13.1319,2,  35.2203,2,  35.2193,2,    222.2,2,    222.5,2,     3.90,2,     9.24,2,     0.00,2,     0.72,2,     -999,9,     -999,9,     -999,9,   2126.8,2,   2314.2,2,   7.8258,2,    24.99,2,     -999,1,  13.1313,2,     -999,9,     -999,9,     -999,9,     -999,9,     -999,9,   4.9670,1,   0.0115,1,     -999,9,     -999,9,     -999,9,     -999,9,     -999,9,20230906,0504, -32.9951,  35.5916,-999          ,9,-999          ,9
33RR20230722  ,I05        ,176     ,  1,10         ,10         ,2,20230906,0438, -32.9951,  35.5916,     1457,    596.3,2,  12.4498,2,  35.1247,2,  35.1246,2,    221.6,2,    221.6,2,     4.10,2,    10.77,2,     0.00,2,     0.82,2,    2.673,2,    1.688,2,   1.9000,2,   -999.0,9,     -999,9,     -999,9,     -999,9,     -999,1,  12.4480,2,     -999,9,     -999,9,     -999,9,     -999,9,     -999,9,   4.9667,1,   0.0116,1,     11.6,2,     -999,9,     -999,9,     -999,9,     -999,9,20230906,0502, -32.9951,  35.5916,-999          ,9,-999          ,9
33RR20230722  ,I05        ,176     ,  1,9          ,9          ,2,20230906,0438, -32.9951,  35.5916,     1457,    682.1,2,  11.6000,2,  34.9973,2,  34.9980,2,    221.2,2,    221.3,2,     4.68,2,    12.76,2,     0.00,2,     0.95,2,    2.874,2,    1.754,2,   1.9100,2,   2135.5,2,   2303.8,2,   7.7899,6,    24.98,2,     -999,1,  11.5981,2,     -999,9,     -999,9,     -999,9,     -999,9,     -999,9,   4.9666,1,   0.0115,1,     12.4,2,     -999,9,     -999,9,     -999,9,     -999,9,20230906,0500, -32.9951,  35.5916,-999          ,9,-999          ,9
33RR20230722  ,I05        ,176     ,  1,8          ,8          ,2,20230906,0438, -32.9951,  35.5916,     1457,    778.3,2,  10.5628,2,  34.8526,2,  34.8511,2,    216.7,2,    216.7,2,     6.34,2,    15.46,2,     0.00,2,     1.12,2,     -999,9,     -999,9,     -999,9,   -999.0,9,     -999,9,     -999,9,     -999,9,     -999,1,  10.5650,2,     -999,9,     -999,9,     -999,9,     -999,9,     -999,9,   4.9668,1,   0.0112,1,     -999,9,     -999,9,     -999,9,     -999,9,     -999,9,20230906,0457, -32.9951,  35.5916,-999          ,9,-999          ,9
33RR20230722  ,I05        ,176     ,  1,7          ,7          ,2,20230906,0438, -32.9951,  35.5916,     1457,    881.3,2,   9.3183,2,  34.6996,2,  34.6993,2,    212.5,2,    212.4,2,     9.27,2,    18.84,2,     0.00,2,     1.34,2,    2.885,2,    1.744,2,   1.4300,2,   2153.9,2,   2292.8,2,   7.7242,2,    24.96,2,     -999,1,   9.3156,2,     -999,9,     -999,9,     -999,9,     -999,9,     -999,9,   4.9207,1,   0.0115,1,     15.1,2,     -999,9,     -999,9,     -999,9,     -999,9,20230906,0454, -32.9951,  35.5916,-999          ,9,-999          ,9
33RR20230722  ,I05        ,176     ,  1,6          ,6          ,2,20230906,0438, -32.9951,  35.5916,     1457,    987.9,2,   7.4898,2,  34.5354,2,  34.5358,2,    201.5,2,    201.6,2,    17.28,2,    24.22,2,     0.00,2,     1.70,2,     -999,9,     -999,9,     -999,9,   -999.0,9,     -999,9,     -999,9,     -999,9,     -999,1,   7.4884,2,     -999,9,     -999,9,     -999,9,     -999,9,     -999,9,   4.8990,1,   0.0111,1,     -999,9,     -999,9,     -999,9,     -999,9,     -999,9,20230906,0451, -32.9951,  35.5916,-999          ,9,-999          ,9
33RR20230722  ,I05        ,176     ,  1,5          ,5          ,2,20230906,0438, -32.9951,  35.5916,     1457,   1096.7,2,   6.0067,2,  34.4500,2,  34.4500,2,    194.3,2,    194.5,2,    27.72,2,    28.14,2,     0.00,2,     1.98,2,    2.273,2,    1.303,2,   0.8500,2,   2193.7,2,   2295.8,2,   7.6316,6,    24.98,2,     -999,1,   6.0211,2,     -999,9,     -999,9,     -999,9,     -999,9,     -999,9,   4.9697,1,   0.0112,1,     20.1,2,     -999,9,     -999,9,     -999,9,     -999,9,20230906,0448, -32.9951,  35.5916,-999          ,9,-999          ,9
33RR20230722  ,I05        ,176     ,  1,4          ,37         ,2,20230906,0438, -32.9951,  35.5916,     1457,   1209.7,2,   5.0195,2,  34.4421,2,  34.4416,2,    185.2,2,    185.5,2,    38.55,2,    30.67,2,     0.00,2,     2.16,2,     -999,9,     -999,9,     -999,9,   -999.0,9,     -999,9,     -999,9,     -999,9,     -999,1,   5.0193,2,     -999,9,     -999,9,     -999,9,     -999,9,     -999,9,   4.9167,1,   0.0112,1,     -999,9,     -999,9,     -999,9,     -999,9,     -999,9,20230906,0446, -32.9951,  35.5916,-999          ,9,-999          ,9
33RR20230722  ,I05        ,176     ,  1,3          ,3          ,2,20230906,0438, -32.9951,  35.5916,     1457,   1316.4,2,   4.2503,2,  34.4792,2,  34.4779,2,    174.2,2,    174.6,2,    50.95,2,    32.43,2,     0.00,2,     2.28,2,    1.285,2,    0.683,2,   0.3300,2,   2228.9,2,   2316.2,6,   7.5830,2,    25.00,2,     -999,1,   4.2496,2,     -999,9,     -999,9,     -999,9,     -999,9,     -999,9,   4.9712,1,   0.0116,1,     23.3,2,     -999,9,     -999,9,     -999,9,     -999,9,20230906,0443, -32.9951,  35.5916,-999          ,9,-999          ,9
33RR20230722  ,I05        ,176     ,  1,2          ,2          ,2,20230906,0438, -32.9951,  35.5916,     1457,   1401.7,2,   4.1467,2,  34.5058,2,  34.5064,2,    169.0,2,    169.0,2,    54.85,2,    32.79,2,     0.00,2,     2.31,2,     -999,9,     -999,9,     -999,9,   -999.0,9,     -999,9,     -999,9,     -999,9,     -999,1,   4.1456,2,     -999,9,     -999,9,     -999,9,     -999,9,     -999,9,   3.5194,1,   0.0110,1,     -999,9,     -999,9,     -999,9,     -999,9,     -999,9,20230906,0440, -32.9951,  35.5916,-999          ,9,-999          ,9
33RR20230722  ,I05        ,176     ,  1,1          ,1          ,2,20230906,0438, -32.9951,  35.5916,     1457,   1462.9,2,   4.0888,2,  34.5122,2,  34.5121,2,    168.4,2,    168.3,2,    56.12,2,    32.89,2,     0.00,2,     2.32,2,    1.034,2,    0.548,2,   0.2200,2,   2236.0,6,   2323.5,2,   7.5799,2,    24.98,2,     -999,1,   4.0892,2,     -999,9,     -999,9,     -999,9,     -999,9,     -999,9,   0.4852,1,   0.0110,1,     23.7,2,     -999,9,     -999,9,     -999,9,     -999,9,20230906,0438, -32.9951,  35.5916,-999          ,9,-999          ,9