BOTTLE,20240422CCHHYDRO
EXPOCODE,SECT_ID,STNNBR,CASTNO,SAMPNO,BTLNBR,BTLNBR_FLAG_W,DATE,TIME,LATITUDE,LONGITUDE,DEPTH,CTDPRS,CTDPRS_FLAG_W,CTDTMP,CTDTMP_FLAG_W,CTDSAL,CTDSAL_FLAG_W,SALNTY,SALNTY_FLAG_W,CTDOXY,CTDOXY_FLAG_W,OXYGEN,OXYGEN_FLAG_W,SILCAT,SILCAT_FLAG_W,NITRAT,NITRAT_FLAG_W,NITRIT,NITRIT_FLAG_W,PHSPHT,PHSPHT_FLAG_W,CFC-11,CFC-11_FLAG_W,CFC-12,CFC-12_FLAG_W,SF6,SF6_FLAG_W,TCARBN,TCARBN_FLAG_W,ALKALI,ALKALI_FLAG_W,PH_TOT,PH_TOT_FLAG_W,PH_TMP,PH_TMP_FLAG_W,DOC,DOC_FLAG_W,REFTMP,REFTMP_FLAG_W,POC,POC_FLAG_W,PON,PON_FLAG_W,POP,POP_FLAG_W,DOP,DOP_FLAG_W,DELO18,DELO18_FLAG_W,CTDFLUOR,CTDFLUOR_FLAG_W,CTDXMISS,CTDXMISS_FLAG_W,N2O,N2O_FLAG_W,D15N_NO3,D15N_NO3_FLAG_W,D15N_NO2+NO3,D15N_NO2+NO3_FLAG_W,D18O_NO2+NO3,D18O_NO2+NO3_FLAG_W,D18O_NO3,D18O_NO3_FLAG_W,BTL_DATE,BTL_TIME,BTL_LAT,BTL_LON,HPLC,HPLC_FLAG_W,DNA,DNA_FLAG_W
,,,,,,,,,,,METERS,DBAR,,ITS-90,,PSS-78,,PSS-78,,UMOL/KG,,UMOL/KG,,UMOL/KG,,UMOL/KG,,UMOL/KG,,UMOL/KG,,PMOL/KG,,PMOL/KG,,FMOL/KG,,UMOL/KG,,UMOL/KG,,,,DEG C,,UMOL/KG,,ITS-90,,UG/KG,,UG/KG,,UG/L,,UMOL/KG,,/MILLE,,VOLTS,,VOLTS,,NMOL/KG,,/MILLE,,/MILLE,,/MILLE,,/MILLE,,,,,,,,,
33RR20230722  ,I05        ,28      ,  1,36         ,36         ,2,20230729,1944, -31.4084, 104.3515,     4988,      7.7,2,  18.5323,2,  35.7111,2,  35.7128,2,    230.0,2,    230.1,2,     2.05,2,     0.07,2,     0.01,2,     0.10,2,    2.169,2,    1.237,2,   2.1900,2,   2064.0,2,   2343.4,2,   7.9902,2,    25.00,2,     -999,1,  18.5261,2,     -999,9,     -999,9,     -999,9,     -999,9,     -999,9,   4.9362,1,   0.0361,1,      7.7,2,     -999,9,     -999,9,     -999,9,     -999,9,20230729,2151, -31.4084, 104.3515,-999          ,9,-999          ,9
33RR20230722  ,I05        ,28      ,  1,35         ,35         ,2,20230729,1944, -31.4084, 104.3515,     4988,     20.6,2,  18.5319,2,  35.7108,2,  35.7110,2,    229.6,2,    230.2,2,     2.05,2,     0.02,2,     0.01,2,     0.09,2,     -999,9,     -999,9,     -999,9,   2061.4,2,   2342.1,2,   7.9902,2,    24.99,2,     -999,1,  18.5326,2,     -999,9,     -999,9,     -999,9,     -999,9,     -999,9,   4.9746,1,   0.0337,1,     -999,9,     -999,9,     -999,9,     -999,9,     -999,9,20230729,2149, -31.4084, 104.3515,-999          ,9,-999          ,9
33RR20230722  ,I05        ,28      ,  1,34         ,34         ,2,20230729,1944, -31.4084, 104.3515,     4988,     41.3,2,  18.2791,2,  35.7496,2,  35.7517,2,    230.3,2,    230.8,2,     1.85,2,     0.03,2,     0.01,2,     0.08,2,     -999,9,     -999,9,     -999,9,   -999.0,9,     -999,9,     -999,9,     -999,9,     -999,1,  18.2742,2,     -999,9,     -999,9,     -999,9,     -999,9,     -999,9,   4.9747,1,   0.0415,1,     -999,9,     -999,9,     -999,9,     -999,9,     -999,9,20230729,2148, -31.4084, 104.3515,-999          ,9,-999          ,9
33RR20230722  ,I05        ,28      ,  1,33         ,33         ,2,20230729,1944, -31.4084, 104.3515,     4988,     54.0,2,  17.8439,2,  35.8098,2,  35.8186,2,    220.4,3,    227.7,2,     1.76,2,     0.43,2,     0.03,2,     0.11,2,    2.289,2,    1.280,2,   2.2300,2,   2086.6,2,   2349.4,2,   7.9648,2,    24.98,2,     -999,1,  17.8554,3,     -999,9,     -999,9,     -999,9,     -999,9,     -999,9,   4.9723,1,   0.0247,1,      8.0,2,     -999,9,     -999,9,     -999,9,     -999,9,20230729,2146, -31.4084, 104.3515,-999          ,9,-999          ,9
33RR20230722  ,I05        ,28      ,  1,32         ,32         ,2,20230729,1944, -31.4084, 104.3515,     4988,     76.3,2,  16.9357,2,  35.8130,2,  35.8121,2,    239.1,2,    238.3,2,     1.46,2,     0.01,2,     0.01,2,     0.10,2,     -999,9,     -999,9,     -999,9,   -999.0,9,     -999,9,     -999,9,     -999,9,     -999,1,  16.9772,2,     -999,9,     -999,9,     -999,9,     -999,9,     -999,9,   4.9745,1,   0.0405,1,     -999,9,     -999,9,     -999,9,     -999,9,     -999,9,20230729,2144, -31.4084, 104.3515,-999          ,9,-999          ,9
33RR20230722  ,I05        ,28      ,  1,31         ,31         ,2,20230729,1944, -31.4084, 104.3515,     4988,    106.4,2,  16.8428,2,  35.8135,2,  35.8143,2,    238.2,2,    237.9,2,     1.46,2,     0.07,2,     0.01,2,     0.10,2,    2.317,2,    1.339,2,   2.2700,2,   2088.2,2,   2349.5,2,   7.9589,2,    25.00,2,     -999,1,  16.8434,2,     -999,9,     -999,9,     -999,9,     -999,9,     -999,9,   4.9743,1,   0.0355,1,      8.1,2,     -999,9,     -999,9,     -999,9,     -999,9,20230729,2142, -31.4084, 104.3515,-999          ,9,-999          ,9
33RR20230722  ,I05        ,28      ,  1,30         ,30         ,2,20230729,1944, -31.4084, 104.3515,     4988,    134.4,2,  16.6527,2,  35.7956,2,  35.7963,2,    236.8,2,    236.9,2,     1.56,2,     0.19,2,     0.04,2,     0.13,2,     -999,9,     -999,9,     -999,9,   2090.0,2,   2350.3,2,   7.9535,2,    25.00,2,     -999,1,  16.6528,2,     -999,9,     -999,9,     -999,9,     -999,9,     -999,9,   4.9734,1,   0.0267,1,     -999,9,     -999,9,     -999,9,     -999,9,     -999,9,20230729,2140, -31.4084, 104.3515,-999          ,9,-999          ,9
33RR20230722  ,I05        ,28      ,  1,29         ,29         ,2,20230729,1944, -31.4084, 104.3515,     4988,    166.5,2,  16.4844,2,  35.7921,2,  35.7924,2,    239.1,2,    239.2,2,     1.37,2,     0.07,2,     0.04,2,     0.11,2,    2.327,2,    1.373,2,   2.4000,2,   2092.3,2,   2349.3,2,   7.9545,2,    25.00,2,     -999,1,  16.4831,2,     -999,9,     -999,9,     -999,9,     -999,9,     -999,9,   4.9734,1,   0.0260,1,      8.1,2,     -999,9,     -999,9,     -999,9,     -999,9,20230729,2139, -31.4084, 104.3515,-999          ,9,-999          ,9
33RR20230722  ,I05        ,28      ,  1,28         ,28         ,2,20230729,1944, -31.4084, 104.3515,     4988,    204.4,2,  15.6262,2,  35.6324,2,  35.6332,2,    232.6,2,    234.4,2,     1.27,2,     1.57,2,     0.07,2,     0.24,2,     -999,9,     -999,9,     -999,9,   2101.8,2,   2341.1,2,   7.9231,2,    24.99,2,     -999,1,  15.6403,2,     -999,9,     -999,9,     -999,9,     -999,9,     -999,9,   4.8044,1,   0.0141,1,     -999,9,     -999,9,     -999,9,     -999,9,     -999,9,20230729,2137, -31.4084, 104.3515,-999          ,9,-999          ,9
33RR20230722  ,I05        ,28      ,  1,27         ,27         ,2,20230729,1944, -31.4084, 104.3515,     4988,    248.7,2,  14.1036,2,  35.4116,2,  35.4117,2,    229.6,2,    231.3,2,     1.46,2,     4.67,2,     0.00,2,     0.42,2,    2.436,2,    1.568,2,   2.3600,2,   2117.9,2,   2329.3,2,   7.8723,2,    25.00,2,     -999,1,  14.0718,2,     -999,9,     -999,9,     -999,9,     -999,9,     -999,9,   4.8845,1,   0.0116,1,      9.9,2,     -999,9,     -999,9,     -999,9,     -999,9,20230729,2135, -31.4084, 104.3515,-999          ,9,-999          ,9
33RR20230722  ,I05        ,28      ,  1,26         ,26         ,2,20230729,1944, -31.4084, 104.3515,     4988,    293.7,2,  12.6533,2,  35.1590,2,  35.1557,2,    234.8,2,    235.6,2,     1.76,2,     7.24,2,     0.00,2,     0.58,2,     -999,9,     -999,9,     -999,9,   2123.2,2,   2314.4,2,   7.8411,6,    24.99,2,     -999,1,  12.6437,2,     -999,9,     -999,9,     -999,9,     -999,9,     -999,9,   4.9688,1,   0.0113,1,     -999,9,     -999,9,     -999,9,     -999,9,     -999,9,20230729,2133, -31.4084, 104.3515,-999          ,9,-999          ,9
33RR20230722  ,I05        ,28      ,  1,25         ,25         ,2,20230729,1944, -31.4084, 104.3515,     4988,    357.1,2,  11.5491,2,  34.9841,2,  34.9829,2,    240.9,2,    240.9,2,     2.34,2,     9.65,2,     0.00,2,     0.72,2,    2.733,2,    1.760,2,   2.5800,2,   2127.5,2,   2305.5,2,   7.8115,2,    24.99,2,     -999,1,  11.5453,2,     -999,9,     -999,9,     -999,9,     -999,9,     -999,9,   4.9683,1,   0.0116,1,     11.5,2,     -999,9,     -999,9,     -999,9,     -999,9,20230729,2131, -31.4084, 104.3515,-999          ,9,-999          ,9
33RR20230722  ,I05        ,28      ,  1,24         ,24         ,2,20230729,1944, -31.4084, 104.3515,     4988,    440.5,2,  10.3642,2,  34.7925,2,  34.7937,2,    242.0,2,    241.7,2,     3.12,2,    13.01,2,     0.00,2,     0.94,2,     -999,9,     -999,9,     -999,9,   -999.0,9,     -999,9,     -999,9,     -999,9,     -999,1,  10.3621,2,     -999,9,     -999,9,     -999,9,     -999,9,     -999,9,   4.9676,1,   0.0112,1,     -999,9,     -999,9,     -999,9,     -999,9,     -999,9,20230729,2128, -31.4084, 104.3515,-999          ,9,-999          ,9
33RR20230722  ,I05        ,28      ,  1,23         ,23         ,2,20230729,1944, -31.4084, 104.3515,     4988,    515.3,2,   9.9198,2,  34.7461,2,  34.7471,2,    237.6,2,    237.5,2,     3.81,2,    14.92,2,     0.00,2,     1.04,2,    3.012,2,    1.929,2,   2.3700,2,   2137.1,2,   2293.6,2,   7.7605,2,    24.99,2,     -999,1,   9.9179,2,     -999,9,     -999,9,     -999,9,     -999,9,     -999,9,   4.9668,1,   0.0114,1,     13.2,2,     -999,9,     -999,9,     -999,9,     -999,9,20230729,2126, -31.4084, 104.3515,-999          ,9,-999          ,9
33RR20230722  ,I05        ,28      ,  1,22         ,22         ,2,20230729,1944, -31.4084, 104.3515,     4988,    610.6,2,   9.2419,2,  34.6645,2,  34.6653,2,    238.0,2,    237.6,2,     4.78,2,    16.88,2,     0.00,2,     1.19,2,    3.070,2,    1.929,2,   2.1800,2,   2141.3,2,   2288.8,2,   7.7442,2,    24.99,2,     -999,1,   9.2405,2,     -999,9,     -999,9,     -999,9,     -999,9,     -999,9,   4.9665,1,   0.0113,1,     13.0,2,     -999,9,     -999,9,     -999,9,     -999,9,20230729,2123, -31.4084, 104.3515,-999          ,9,-999          ,9
33RR20230722  ,I05        ,28      ,  1,21         ,21         ,2,20230729,1944, -31.4084, 104.3515,     4988,    720.4,2,   8.3710,2,  34.5654,2,  34.5675,2,    219.8,2,    220.8,2,     8.49,2,    20.63,2,     0.00,2,     1.42,2,     -999,9,     -999,9,     -999,9,   2153.4,2,   2286.8,2,   7.7106,2,    24.99,2,     -999,1,   8.3667,2,     -999,9,     -999,9,     -999,9,     -999,9,     -999,9,   4.9517,1,   0.0113,1,     -999,9,     -999,9,     -999,9,     -999,9,     -999,9,20230729,2120, -31.4084, 104.3515,-999          ,9,-999          ,9
33RR20230722  ,I05        ,28      ,  1,20         ,20         ,2,20230729,1944, -31.4084, 104.3515,     4988,    846.1,2,   6.3772,2,  34.4242,2,  34.4288,2,    196.4,2,    197.8,2,    19.91,2,    27.11,2,     0.00,2,     1.84,2,    2.322,2,    1.330,2,   0.6800,2,   -999.0,9,     -999,9,     -999,9,     -999,9,     -999,1,   6.4126,2,     -999,9,     -999,9,     -999,9,     -999,9,     -999,9,   4.9694,1,   0.0113,1,     18.1,2,     -999,9,     -999,9,     -999,9,     -999,9,20230729,2117, -31.4084, 104.3516,-999          ,9,-999          ,9
33RR20230722  ,I05        ,28      ,  1,19         ,19         ,2,20230729,1944, -31.4084, 104.3515,     4988,    970.0,2,   4.6995,2,  34.3685,2,  34.3694,2,    192.5,2,    193.1,2,    35.14,2,    30.96,2,     0.00,2,     2.20,2,    1.828,2,    0.998,2,   0.5600,2,   2201.5,2,   2297.4,2,   7.6087,6,    24.99,2,     -999,1,   4.7024,2,     -999,9,     -999,9,     -999,9,     -999,9,     -999,9,   4.9710,1,   0.0112,1,     20.2,2,     -999,9,     -999,9,     -999,9,     -999,9,20230729,2114, -31.4084, 104.3515,-999          ,9,-999          ,9
33RR20230722  ,I05        ,28      ,  1,18         ,18         ,2,20230729,1944, -31.4084, 104.3515,     4988,   1097.8,2,   4.0821,2,  34.4740,2,  34.4748,2,    156.5,2,    156.8,2,    60.81,2,    34.15,2,     0.00,2,     2.41,2,    0.769,2,    0.394,2,   0.1700,2,   2242.6,2,   2323.7,2,   7.5681,2,    25.00,2,     -999,1,   4.0825,2,     -999,9,     -999,9,     -999,9,     -999,9,     -999,9,   4.8525,1,   0.0112,1,     23.8,2,     -999,9,     -999,9,     -999,9,     -999,9,20230729,2111, -31.4084, 104.3515,-999          ,9,-999          ,9
33RR20230722  ,I05        ,28      ,  1,17         ,17         ,2,20230729,1944, -31.4084, 104.3515,     4988,   1232.2,2,   3.9118,2,  34.5482,2,  34.5514,2,    138.2,2,    137.8,2,    76.82,2,    35.56,2,     0.00,2,     2.52,2,    0.301,2,    0.159,2,   0.0700,2,   2266.6,6,   2343.3,6,   7.5521,2,    24.98,2,     -999,1,   3.9148,2,     -999,9,     -999,9,     -999,9,     -999,9,     -999,9,   4.9750,1,   0.0117,1,     25.2,2,     -999,9,     -999,9,     -999,9,     -999,9,20230729,2107, -31.4084, 104.3515,-999          ,9,-999          ,9
33RR20230722  ,I05        ,28      ,  1,16         ,16         ,2,20230729,1944, -31.4084, 104.3515,     4988,   1370.1,2,   3.4610,2,  34.5524,2,  34.5541,2,    146.7,2,    146.9,2,    76.82,2,    35.23,2,     0.00,2,     2.49,2,     -999,9,     -999,9,     -999,9,   2264.5,2,   2340.5,2,   7.5552,6,    24.98,2,     -999,1,   3.4607,2,     -999,9,     -999,9,     -999,9,     -999,9,     -999,9,   4.9748,1,   0.0119,1,     -999,9,     -999,9,     -999,9,     -999,9,     -999,9,20230729,2104, -31.4084, 104.3515,-999          ,9,-999          ,9
33RR20230722  ,I05        ,28      ,  1,15         ,15         ,2,20230729,1944, -31.4084, 104.3515,     4988,   1538.7,2,   3.0911,2,  34.5988,2,  34.5989,2,    149.4,2,    149.3,2,    83.94,2,    35.00,2,     0.00,2,     2.48,2,    0.102,2,    0.060,2,  -0.0400,2,   2269.3,2,   2347.5,6,   7.5593,2,    24.99,2,     -999,1,   3.0939,2,     -999,9,     -999,9,     -999,9,     -999,9,     -999,9,   4.9750,1,   0.0113,1,     23.9,2,     -999,9,     -999,9,     -999,9,     -999,9,20230729,2100, -31.4084, 104.3515,-999          ,9,-999          ,9
33RR20230722  ,I05        ,28      ,  1,14         ,14         ,2,20230729,1944, -31.4084, 104.3515,     4988,   1666.9,2,   2.8620,2,  34.6372,2,  34.6388,2,    152.2,2,    151.9,2,    89.40,2,    34.72,2,     0.00,2,     2.45,2,     -999,9,     -999,9,     -999,9,   -999.0,9,     -999,9,     -999,9,     -999,9,     -999,1,   2.8592,2,     -999,9,     -999,9,     -999,9,     -999,9,     -999,9,   4.9754,1,   0.0112,1,     -999,9,     -999,9,     -999,9,     -999,9,     -999,9,20230729,2057, -31.4084, 104.3515,-999          ,9,-999          ,9
33RR20230722  ,I05        ,28      ,  1,13         ,13         ,2,20230729,1944, -31.4084, 104.3515,     4988,   1800.6,2,   2.6968,2,  34.6708,2,  34.6722,2,    153.4,2,    153.4,2,    94.47,2,    34.40,2,     0.00,2,     2.42,2,    0.008,2,    0.014,2,   0.0200,2,   2277.1,2,   2362.8,2,   7.5716,2,    24.99,2,     -999,1,   2.6968,2,     -999,9,     -999,9,     -999,9,     -999,9,     -999,9,   4.9164,1,   0.0123,1,     23.3,2,     -999,9,     -999,9,     -999,9,     -999,9,20230729,2053, -31.4084, 104.3515,-999          ,9,-999          ,9
33RR20230722  ,I05        ,28      ,  1,12         ,12         ,2,20230729,1944, -31.4084, 104.3515,     4988,   1928.4,2,   2.5394,2,  34.6918,2,  34.6932,2,    156.1,2,    156.3,2,    99.94,2,    34.01,2,     0.00,2,     2.41,2,     -999,9,     -999,9,     -999,9,   -999.0,9,     -999,9,     -999,9,     -999,9,     -999,1,   2.5392,2,     -999,9,     -999,9,     -999,9,     -999,9,     -999,9,   4.9755,1,   0.0124,1,     -999,9,     -999,9,     -999,9,     -999,9,     -999,9,20230729,2050, -31.4084, 104.3515,-999          ,9,-999          ,9
33RR20230722  ,I05        ,28      ,  1,11         ,11         ,2,20230729,1944, -31.4084, 104.3515,     4988,   2076.8,2,   2.3774,2,  34.7073,2,  34.7079,2,    159.4,2,    159.9,2,   106.28,2,    33.69,2,     0.00,2,     2.40,2,    0.002,2,    0.008,2,  -0.0100,2,   2282.5,2,   2370.8,2,   7.5834,2,    24.99,2,     -999,1,   2.3772,2,     -999,9,     -999,9,     -999,9,     -999,9,     -999,9,   4.9754,1,   0.0119,1,     22.0,2,     -999,9,     -999,9,     -999,9,     -999,9,20230729,2046, -31.4084, 104.3515,-999          ,9,-999          ,9
33RR20230722  ,I05        ,28      ,  1,10         ,10         ,2,20230729,1944, -31.4084, 104.3515,     4988,   2270.0,2,   2.2095,2,  34.7179,2,  34.7184,2,    162.8,2,    163.0,2,   109.89,2,    33.54,2,     0.00,2,     2.39,2,     -999,9,     -999,9,     -999,9,   2282.8,2,   2374.5,2,   7.5872,2,    24.98,2,     -999,1,   2.2096,2,     -999,9,     -999,9,     -999,9,     -999,9,     -999,9,   4.9754,1,   0.0118,1,     -999,9,     -999,9,     -999,9,     -999,9,     -999,9,20230729,2042, -31.4083, 104.3515,-999          ,9,-999          ,9
33RR20230722  ,I05        ,28      ,  1,9          ,9          ,2,20230729,1944, -31.4084, 104.3515,     4988,   2638.7,2,   1.9328,2,  34.7283,2,  34.7280,2,    178.0,2,    178.2,2,   106.57,2,    32.29,2,     0.00,2,     2.29,2,     -999,9,     -999,9,     -999,9,   2272.1,2,   2370.7,2,   7.6034,2,    24.98,2,     -999,1,   1.9331,2,     -999,9,     -999,9,     -999,9,     -999,9,     -999,9,   4.9752,1,   0.0112,1,     -999,9,     -999,9,     -999,9,     -999,9,     -999,9,20230729,2035, -31.4084, 104.3515,-999          ,9,-999          ,9
33RR20230722  ,I05        ,28      ,  1,8          ,8          ,2,20230729,1944, -31.4084, 104.3515,     4988,   3001.0,2,   1.6702,2,  34.7273,2,  34.7286,2,    184.8,2,    184.7,2,   112.33,2,    32.25,2,     0.00,2,     2.27,2,    0.005,2,    0.010,2,  -0.0500,2,   -999.0,9,     -999,9,     -999,9,     -999,9,     -999,1,   1.6727,2,     -999,9,     -999,9,     -999,9,     -999,9,     -999,9,   4.9756,1,   0.0117,1,     19.8,2,     -999,9,     -999,9,     -999,9,     -999,9,20230729,2027, -31.4084, 104.3515,-999          ,9,-999          ,9
33RR20230722  ,I05        ,28      ,  1,7          ,7          ,2,20230729,1944, -31.4084, 104.3515,     4988,   3381.8,2,   1.4546,2,  34.7269,2,  34.7270,2,    194.8,2,    195.1,2,   112.72,2,    31.83,2,     0.00,2,     2.23,2,     -999,9,     -999,9,     -999,9,   2265.3,2,   2370.1,2,   7.6167,2,    25.00,2,     -999,1,   1.4547,2,     -999,9,     -999,9,     -999,9,     -999,9,     -999,9,   4.9757,1,   0.0113,1,     -999,9,     -999,9,     -999,9,     -999,9,     -999,9,20230729,2020, -31.4084, 104.3515,-999          ,9,-999          ,9
33RR20230722  ,I05        ,28      ,  1,6          ,6          ,2,20230729,1944, -31.4084, 104.3515,     4988,   3802.6,2,   1.2447,2,  34.7204,2,  34.7207,2,    202.5,2,    202.6,2,   114.18,2,    31.53,2,     0.00,2,     2.22,2,     -999,9,     -999,9,     -999,9,   -999.0,9,     -999,9,     -999,9,     -999,9,     -999,1,   1.2449,2,     -999,9,     -999,9,     -999,9,     -999,9,     -999,9,   4.7006,1,   0.0111,1,     -999,9,     -999,9,     -999,9,     -999,9,     -999,9,20230729,2012, -31.4084, 104.3515,-999          ,9,-999          ,9
33RR20230722  ,I05        ,28      ,  1,5          ,5          ,2,20230729,1944, -31.4084, 104.3515,     4988,   4023.0,2,   1.1687,2,  34.7165,2,  34.7166,2,    203.9,2,    203.9,2,   118.38,2,    31.73,2,     0.00,2,     2.24,2,    0.046,2,    0.041,2,  -0.0300,2,   2265.0,2,   2367.1,2,   7.6208,2,    25.00,2,     -999,1,   1.1685,2,     -999,9,     -999,9,     -999,9,     -999,9,     -999,9,   4.9764,1,   0.0112,1,     18.6,2,     -999,9,     -999,9,     -999,9,     -999,9,20230729,2007, -31.4084, 104.3515,-999          ,9,-999          ,9
33RR20230722  ,I05        ,28      ,  1,4          ,37         ,2,20230729,1944, -31.4084, 104.3515,     4988,   4362.0,2,   1.0895,2,  34.7109,2,  34.7123,2,    204.9,2,    205.0,2,   120.33,2,    31.93,2,     0.00,2,     2.25,2,     -999,9,     -999,9,     -999,9,   -999.0,9,     -999,9,     -999,9,     -999,9,     -999,1,   1.0894,2,     -999,9,     -999,9,     -999,9,     -999,9,     -999,9,   4.9766,1,   0.0112,1,     -999,9,     -999,9,     -999,9,     -999,9,     -999,9,20230729,2000, -31.4084, 104.3515,-999          ,9,-999          ,9
33RR20230722  ,I05        ,28      ,  1,3          ,3          ,2,20230729,1944, -31.4084, 104.3515,     4988,   4645.1,2,   1.0527,2,  34.7083,2,  34.7085,2,    206.1,2,    206.1,2,   122.58,2,    32.05,2,     0.00,2,     2.25,2,    0.096,2,    0.057,2,   0.0400,2,   2267.4,2,   2370.7,6,   7.6216,6,    24.99,2,     -999,1,   1.0527,2,     -999,9,     -999,9,     -999,9,     -999,9,     -999,9,   4.9768,1,   0.0111,1,     19.1,2,     -999,9,     -999,9,     -999,9,     -999,9,20230729,1954, -31.4084, 104.3515,-999          ,9,-999          ,9