BOTTLE,20240422CCHHYDRO
EXPOCODE,SECT_ID,STNNBR,CASTNO,SAMPNO,BTLNBR,BTLNBR_FLAG_W,DATE,TIME,LATITUDE,LONGITUDE,DEPTH,CTDPRS,CTDPRS_FLAG_W,CTDTMP,CTDTMP_FLAG_W,CTDSAL,CTDSAL_FLAG_W,SALNTY,SALNTY_FLAG_W,CTDOXY,CTDOXY_FLAG_W,OXYGEN,OXYGEN_FLAG_W,SILCAT,SILCAT_FLAG_W,NITRAT,NITRAT_FLAG_W,NITRIT,NITRIT_FLAG_W,PHSPHT,PHSPHT_FLAG_W,CFC-11,CFC-11_FLAG_W,CFC-12,CFC-12_FLAG_W,SF6,SF6_FLAG_W,TCARBN,TCARBN_FLAG_W,ALKALI,ALKALI_FLAG_W,PH_TOT,PH_TOT_FLAG_W,PH_TMP,PH_TMP_FLAG_W,DOC,DOC_FLAG_W,REFTMP,REFTMP_FLAG_W,POC,POC_FLAG_W,PON,PON_FLAG_W,POP,POP_FLAG_W,DOP,DOP_FLAG_W,DELO18,DELO18_FLAG_W,CTDFLUOR,CTDFLUOR_FLAG_W,CTDXMISS,CTDXMISS_FLAG_W,N2O,N2O_FLAG_W,D15N_NO3,D15N_NO3_FLAG_W,D15N_NO2+NO3,D15N_NO2+NO3_FLAG_W,D18O_NO2+NO3,D18O_NO2+NO3_FLAG_W,D18O_NO3,D18O_NO3_FLAG_W,BTL_DATE,BTL_TIME,BTL_LAT,BTL_LON,HPLC,HPLC_FLAG_W,DNA,DNA_FLAG_W
,,,,,,,,,,,METERS,DBAR,,ITS-90,,PSS-78,,PSS-78,,UMOL/KG,,UMOL/KG,,UMOL/KG,,UMOL/KG,,UMOL/KG,,UMOL/KG,,PMOL/KG,,PMOL/KG,,FMOL/KG,,UMOL/KG,,UMOL/KG,,,,DEG C,,UMOL/KG,,ITS-90,,UG/KG,,UG/KG,,UG/L,,UMOL/KG,,/MILLE,,VOLTS,,VOLTS,,NMOL/KG,,/MILLE,,/MILLE,,/MILLE,,/MILLE,,,,,,,,,
33RR20230722  ,I05        ,26      ,  1,16         ,16         ,2,20230729,0830, -31.1566, 104.9516,     4131,      3.7,2,  18.6211,2,  35.7271,2,  35.7248,2,    231.0,2,    230.7,2,     2.24,2,     0.06,2,     0.00,2,     0.09,2,     -999,9,     -999,9,     -999,9,   2063.4,6,   2343.1,2,   7.9922,2,    25.00,2,     -999,1,  18.6205,2,     -999,9,     -999,9,     -999,9,     -999,9,     -999,9,   4.5276,1,   0.0357,1,     -999,9,     -999,9,     -999,9,     -999,9,     -999,9,20230729,0958, -31.1566, 104.9516,-999          ,9,-999          ,9
33RR20230722  ,I05        ,26      ,  1,15         ,15         ,2,20230729,0830, -31.1566, 104.9516,     4131,     42.0,2,  18.6293,2,  35.7272,2,  35.7237,2,    230.7,2,    230.4,2,     2.34,2,     0.01,2,     0.00,2,     0.09,2,     -999,9,     -999,9,     -999,9,   2064.4,2,   2340.4,2,   8.0005,2,    24.97,2,     -999,1,  18.6284,2,     -999,9,     -999,9,     -999,9,     -999,9,     -999,9,   4.9530,1,   0.0382,1,     -999,9,     -999,9,     -999,9,     -999,9,     -999,9,20230729,0956, -31.1566, 104.9516,-999          ,9,-999          ,9
33RR20230722  ,I05        ,26      ,  1,14         ,14         ,2,20230729,0830, -31.1566, 104.9516,     4131,     85.1,2,  18.4139,2,  35.8064,2,  35.8038,2,    221.5,3,    224.0,2,     1.85,2,     0.33,2,     0.12,2,     0.12,2,     -999,9,     -999,9,     -999,9,   2082.9,2,   2347.5,2,   7.9699,2,    24.97,2,     -999,1,  18.4021,2,     -999,9,     -999,9,     -999,9,     -999,9,     -999,9,   4.6556,1,   0.0185,1,     -999,9,     -999,9,     -999,9,     -999,9,     -999,9,20230729,0953, -31.1566, 104.9516,-999          ,9,-999          ,9
33RR20230722  ,I05        ,26      ,  1,13         ,13         ,2,20230729,0830, -31.1566, 104.9516,     4131,    224.1,2,  14.3362,2,  35.4556,2,  35.4622,2,    229.1,2,    230.0,2,     1.37,2,     4.13,2,     0.01,2,     0.40,2,     -999,9,     -999,9,     -999,9,   2121.0,2,   2331.1,2,   7.8780,2,    24.98,2,     -999,1,  14.3187,2,     -999,9,     -999,9,     -999,9,     -999,9,     -999,9,   4.9695,1,   0.0119,1,     -999,9,     -999,9,     -999,9,     -999,9,     -999,9,20230729,0949, -31.1566, 104.9516,-999          ,9,-999          ,9
33RR20230722  ,I05        ,26      ,  1,12         ,12         ,2,20230729,0830, -31.1566, 104.9516,     4131,    409.3,2,  10.4357,2,  34.8009,2,  34.7992,2,    241.9,2,    241.2,2,     3.12,2,    12.56,2,     0.00,2,     0.91,2,     -999,9,     -999,9,     -999,9,   2135.3,2,   2294.6,2,   7.7788,2,    24.98,2,     -999,1,  10.4421,2,     -999,9,     -999,9,     -999,9,     -999,9,     -999,9,   4.8646,1,   0.0113,1,     -999,9,     -999,9,     -999,9,     -999,9,     -999,9,20230729,0945, -31.1566, 104.9516,-999          ,9,-999          ,9
33RR20230722  ,I05        ,26      ,  1,11         ,11         ,2,20230729,0830, -31.1566, 104.9516,     4131,    653.9,2,   9.0223,2,  34.6540,2,  34.6470,2,    235.4,2,    235.8,2,     5.37,2,    17.35,2,     0.00,2,     1.19,2,     -999,9,     -999,9,     -999,9,   2143.5,2,   2287.2,2,   7.7378,2,    24.99,2,     -999,1,   9.0577,2,     -999,9,     -999,9,     -999,9,     -999,9,     -999,9,   4.9666,1,   0.0113,1,     -999,9,     -999,9,     -999,9,     -999,9,     -999,9,20230729,0940, -31.1566, 104.9516,-999          ,9,-999          ,9
33RR20230722  ,I05        ,26      ,  1,10         ,10         ,2,20230729,0830, -31.1566, 104.9516,     4131,   1482.9,2,   3.0882,2,  34.5938,2,  34.5912,2,    150.9,2,    150.7,2,    82.50,2,    34.23,2,     0.00,2,     2.40,2,     -999,9,     -999,9,     -999,9,   2267.1,2,   2346.6,2,   7.5588,2,    24.98,2,     -999,1,   3.0876,2,     -999,9,     -999,9,     -999,9,     -999,9,     -999,9,   4.9747,1,   0.0116,1,     -999,9,     -999,9,     -999,9,     -999,9,     -999,9,20230729,0925, -31.1566, 104.9516,-999          ,9,-999          ,9
33RR20230722  ,I05        ,26      ,  1,9          ,9          ,2,20230729,0830, -31.1566, 104.9516,     4131,   2154.0,2,   2.2805,2,  34.7167,3,  34.7195,2,    160.7,2,    160.6,2,   107.19,2,    33.45,2,     0.00,2,     2.32,2,     -999,9,     -999,9,     -999,9,   2283.6,2,   2374.4,2,   7.5858,2,    24.97,2,     -999,1,   2.2810,2,     -999,9,     -999,9,     -999,9,     -999,9,     -999,9,   4.9755,1,   0.0118,1,     -999,9,     -999,9,     -999,9,     -999,9,     -999,9,20230729,0912, -31.1566, 104.9516,-999          ,9,-999          ,9
33RR20230722  ,I05        ,26      ,  1,8          ,8          ,2,20230729,0830, -31.1566, 104.9516,     4131,   2363.4,2,   2.1091,2,  34.7245,3,  34.7219,2,    166.2,2,    166.4,2,   109.24,2,    33.10,2,     0.00,2,     2.31,2,     -999,9,     -999,9,     -999,9,   2283.1,2,   2375.1,6,   7.5828,2,    24.97,2,     -999,1,   2.1098,2,     -999,9,     -999,9,     -999,9,     -999,9,     -999,9,   4.9754,1,   0.0118,1,     -999,9,     -999,9,     -999,9,     -999,9,     -999,9,20230729,0908, -31.1566, 104.9516,-999          ,9,-999          ,9
33RR20230722  ,I05        ,26      ,  1,7          ,7          ,2,20230729,0830, -31.1566, 104.9516,     4131,   2541.3,2,   1.9760,2,  34.7277,3,  34.7248,2,    170.3,2,    170.3,2,   112.56,2,    32.98,2,     0.00,2,     2.30,2,     -999,9,     -999,9,     -999,9,   2281.3,2,   2377.8,2,   7.5995,6,    24.97,2,     -999,1,   1.9764,2,     -999,9,     -999,9,     -999,9,     -999,9,     -999,9,   4.9752,1,   0.0112,1,     -999,9,     -999,9,     -999,9,     -999,9,     -999,9,20230729,0904, -31.1566, 104.9516,-999          ,9,-999          ,9
33RR20230722  ,I05        ,26      ,  1,6          ,6          ,2,20230729,0830, -31.1566, 104.9516,     4131,   2738.7,2,   1.8505,2,  34.7294,3,  34.7260,2,    174.2,2,    174.3,2,   114.22,2,    32.74,2,     0.00,2,     2.28,2,    0.004,2,    0.009,2,   0.0300,2,   2281.8,2,   2376.9,2,   7.6023,2,    24.98,2,     -999,1,   1.8501,2,     -999,9,     -999,9,     -999,9,     -999,9,     -999,9,   4.9754,1,   0.0112,1,     19.1,2,     -999,9,     -999,9,     -999,9,     -999,9,20230729,0859, -31.1566, 104.9516,-999          ,9,-999          ,9
33RR20230722  ,I05        ,26      ,  1,5          ,5          ,2,20230729,0830, -31.1566, 104.9516,     4131,   3151.6,2,   1.6440,2,  34.7300,3,  34.7270,2,    182.2,2,    182.3,2,   116.95,2,    32.44,2,     0.00,2,     2.29,2,    0.001,2,    0.003,2,   0.0200,2,   2279.2,2,   2377.2,2,   7.6096,2,    24.98,2,     -999,1,   1.6451,2,     -999,9,     -999,9,     -999,9,     -999,9,     -999,9,   4.9757,1,   0.0112,1,     19.2,2,     -999,9,     -999,9,     -999,9,     -999,9,20230729,0852, -31.1566, 104.9516,-999          ,9,-999          ,9
33RR20230722  ,I05        ,26      ,  1,4          ,37         ,2,20230729,0830, -31.1566, 104.9516,     4131,   3490.8,2,   1.4450,2,  34.7266,3,  34.7235,2,    189.1,2,    189.1,2,   119.39,2,    32.36,2,     0.00,2,     2.25,2,    0.009,2,    0.020,2,   0.0700,2,   2276.4,2,   2378.5,6,   7.6137,2,    25.00,2,     -999,1,   1.4453,2,     -999,9,     -999,9,     -999,9,     -999,9,     -999,9,   4.9757,1,   0.0112,1,     19.1,2,     -999,9,     -999,9,     -999,9,     -999,9,20230729,0845, -31.1566, 104.9516,-999          ,9,-999          ,9
33RR20230722  ,I05        ,26      ,  1,3          ,3          ,2,20230729,0830, -31.1566, 104.9516,     4131,   3648.7,2,   1.3811,2,  34.7263,3,  34.7231,2,    193.9,2,    194.2,2,   117.34,2,    32.05,2,     0.00,2,     2.23,2,    0.004,2,    0.013,2,   0.0200,2,   2269.9,2,   2373.3,2,   7.6172,2,    24.98,2,     -999,1,   1.3812,2,     -999,9,     -999,9,     -999,9,     -999,9,     -999,9,   4.8639,1,   0.0111,1,     19.1,2,     -999,9,     -999,9,     -999,9,     -999,9,20230729,0841, -31.1566, 104.9516,-999          ,9,-999          ,9
33RR20230722  ,I05        ,26      ,  1,2          ,2          ,2,20230729,0830, -31.1566, 104.9516,     4131,   3919.1,2,   1.2903,2,  34.7245,3,  34.7201,2,    198.9,2,    199.0,2,   118.13,2,    31.92,2,     0.00,2,     2.21,2,    0.013,2,    0.024,2,   0.0400,2,   2267.1,2,   2369.6,2,   7.6193,2,    24.99,2,     -999,1,   1.2908,2,     -999,9,     -999,9,     -999,9,     -999,9,     -999,9,   4.8941,1,   0.0112,1,     18.9,2,     -999,9,     -999,9,     -999,9,     -999,9,20230729,0836, -31.1566, 104.9516,-999          ,9,-999          ,9
33RR20230722  ,I05        ,26      ,  1,1          ,1          ,2,20230729,0830, -31.1566, 104.9516,     4131,   4189.4,2,   1.1708,2,  34.7188,2,  34.7172,2,    202.7,2,    202.6,2,   119.59,2,    31.93,2,     0.00,2,     2.21,2,    0.020,2,    0.034,2,   0.0400,2,   2266.7,2,   2368.0,2,   7.6228,2,    24.97,2,     -999,1,   1.1712,2,     -999,9,     -999,9,     -999,9,     -999,9,     -999,9,   0.5569,1,   0.0111,1,     19.1,2,     -999,9,     -999,9,     -999,9,     -999,9,20230729,0830, -31.1566, 104.9516,-999          ,9,-999          ,9