BOTTLE,20240422CCHHYDRO
EXPOCODE,SECT_ID,STNNBR,CASTNO,SAMPNO,BTLNBR,BTLNBR_FLAG_W,DATE,TIME,LATITUDE,LONGITUDE,DEPTH,CTDPRS,CTDPRS_FLAG_W,CTDTMP,CTDTMP_FLAG_W,CTDSAL,CTDSAL_FLAG_W,SALNTY,SALNTY_FLAG_W,CTDOXY,CTDOXY_FLAG_W,OXYGEN,OXYGEN_FLAG_W,SILCAT,SILCAT_FLAG_W,NITRAT,NITRAT_FLAG_W,NITRIT,NITRIT_FLAG_W,PHSPHT,PHSPHT_FLAG_W,CFC-11,CFC-11_FLAG_W,CFC-12,CFC-12_FLAG_W,SF6,SF6_FLAG_W,TCARBN,TCARBN_FLAG_W,ALKALI,ALKALI_FLAG_W,PH_TOT,PH_TOT_FLAG_W,PH_TMP,PH_TMP_FLAG_W,DOC,DOC_FLAG_W,REFTMP,REFTMP_FLAG_W,POC,POC_FLAG_W,PON,PON_FLAG_W,POP,POP_FLAG_W,DOP,DOP_FLAG_W,DELO18,DELO18_FLAG_W,CTDFLUOR,CTDFLUOR_FLAG_W,CTDXMISS,CTDXMISS_FLAG_W,N2O,N2O_FLAG_W,D15N_NO3,D15N_NO3_FLAG_W,D15N_NO2+NO3,D15N_NO2+NO3_FLAG_W,D18O_NO2+NO3,D18O_NO2+NO3_FLAG_W,D18O_NO3,D18O_NO3_FLAG_W,BTL_DATE,BTL_TIME,BTL_LAT,BTL_LON,HPLC,HPLC_FLAG_W,DNA,DNA_FLAG_W
,,,,,,,,,,,METERS,DBAR,,ITS-90,,PSS-78,,PSS-78,,UMOL/KG,,UMOL/KG,,UMOL/KG,,UMOL/KG,,UMOL/KG,,UMOL/KG,,PMOL/KG,,PMOL/KG,,FMOL/KG,,UMOL/KG,,UMOL/KG,,,,DEG C,,UMOL/KG,,ITS-90,,UG/KG,,UG/KG,,UG/L,,UMOL/KG,,/MILLE,,VOLTS,,VOLTS,,NMOL/KG,,/MILLE,,/MILLE,,/MILLE,,/MILLE,,,,,,,,,
33RR20230722  ,I05        ,158     ,  1,30         ,30         ,2,20230901,1439, -32.9980,  43.1183,     2137,      3.7,2,  18.2841,2,  35.7005,2,  35.6994,2,    236.5,2,    236.0,2,     1.56,2,     0.01,2,     0.00,2,     0.12,2,     -999,9,     -999,9,     -999,9,   2064.3,6,   2335.9,2,   7.9784,2,    25.02,2,     -999,1,  18.2841,2,     -999,9,     -999,9,     -999,9,     -999,9,     -999,9,   4.8736,1,   0.0264,1,     -999,9,     -999,9,     -999,9,     -999,9,     -999,9,20230901,1551, -32.9980,  43.1183,-999          ,9,-999          ,9
33RR20230722  ,I05        ,158     ,  1,29         ,29         ,2,20230901,1439, -32.9980,  43.1183,     2137,     23.2,2,  18.2730,2,  35.7007,2,  35.6990,2,    236.4,2,    236.6,2,     1.46,2,     0.00,2,     0.00,2,     0.11,2,     -999,9,     -999,9,     -999,9,   2065.5,2,   2336.7,2,   7.9782,2,    24.99,2,     -999,1,  18.2780,2,     -999,9,     -999,9,     -999,9,     -999,9,     -999,9,   4.9749,1,   0.0282,1,     -999,9,     -999,9,     -999,9,     -999,9,     -999,9,20230901,1549, -32.9980,  43.1183,-999          ,9,-999          ,9
33RR20230722  ,I05        ,158     ,  1,28         ,28         ,2,20230901,1439, -32.9980,  43.1183,     2137,     43.9,2,  18.1777,2,  35.7005,2,  35.6992,2,    236.0,2,    235.6,2,     1.56,2,     0.00,2,     0.01,2,     0.11,2,     -999,9,     -999,9,     -999,9,   2063.6,2,   2337.2,6,   7.9781,2,    25.02,2,     -999,1,  18.1757,2,     -999,9,     -999,9,     -999,9,     -999,9,     -999,9,   4.9745,1,   0.0352,1,     -999,9,     -999,9,     -999,9,     -999,9,     -999,9,20230901,1546, -32.9980,  43.1183,-999          ,9,-999          ,9
33RR20230722  ,I05        ,158     ,  1,27         ,27         ,2,20230901,1439, -32.9980,  43.1183,     2137,     67.6,2,  18.0722,2,  35.6873,2,  35.6859,2,    231.0,2,    230.5,2,     1.56,2,     0.20,2,     0.12,2,     0.14,2,    2.397,2,    1.292,2,   2.1500,2,   2073.6,2,   2337.1,2,   7.9695,2,    25.05,2,     -999,1,  18.0753,2,     -999,9,     -999,9,     -999,9,     -999,9,     -999,9,   4.9184,1,   0.0279,1,      8.6,2,     -999,9,     -999,9,     -999,9,     -999,9,20230901,1544, -32.9980,  43.1183,-999          ,9,-999          ,9
33RR20230722  ,I05        ,158     ,  1,26         ,26         ,2,20230901,1439, -32.9980,  43.1183,     2137,     93.4,2,  17.5837,2,  35.6635,2,  35.6619,2,    230.1,2,    229.7,2,     1.76,2,     0.65,2,     0.20,2,     0.17,2,     -999,9,     -999,9,     -999,9,   2078.2,2,   2336.2,2,   7.9554,6,    25.02,2,     -999,1,  17.5977,2,     -999,9,     -999,9,     -999,9,     -999,9,     -999,9,   4.9723,1,   0.0175,1,     -999,9,     -999,9,     -999,9,     -999,9,     -999,9,20230901,1542, -32.9980,  43.1182,-999          ,9,-999          ,9
33RR20230722  ,I05        ,158     ,  1,25         ,25         ,2,20230901,1439, -32.9980,  43.1183,     2137,    120.6,2,  17.2818,2,  35.6211,2,  35.6200,2,    222.0,2,    221.9,2,     2.15,2,     2.05,2,     0.02,2,     0.25,2,     -999,9,     -999,9,     -999,9,   2083.3,2,   2330.9,2,   7.9371,2,    25.02,2,     -999,1,  17.2854,2,     -999,9,     -999,9,     -999,9,     -999,9,     -999,9,   4.9707,1,   0.0128,1,     -999,9,     -999,9,     -999,9,     -999,9,     -999,9,20230901,1540, -32.9980,  43.1183,-999          ,9,-999          ,9
33RR20230722  ,I05        ,158     ,  1,24         ,24         ,2,20230901,1439, -32.9980,  43.1183,     2137,    146.7,2,  16.9815,2,  35.5910,2,  35.5898,2,    214.8,2,    214.9,2,     2.44,2,     3.22,2,     0.02,2,     0.33,2,     -999,9,     -999,9,     -999,9,   2092.1,2,   2329.2,2,   7.9174,2,    25.02,2,     -999,1,  16.9839,2,     -999,9,     -999,9,     -999,9,     -999,9,     -999,9,   4.9695,1,   0.0116,1,     -999,9,     -999,9,     -999,9,     -999,9,     -999,9,20230901,1538, -32.9980,  43.1183,-999          ,9,-999          ,9
33RR20230722  ,I05        ,158     ,  1,23         ,23         ,2,20230901,1439, -32.9980,  43.1183,     2137,    182.6,2,  16.6181,2,  35.5671,2,  35.5657,2,    213.8,2,    214.1,2,     2.63,2,     3.86,2,     0.00,2,     0.37,2,    2.202,2,    1.395,2,   2.1600,2,   2096.9,2,   2327.9,2,   7.9069,6,    25.00,2,     -999,1,  16.6154,2,     -999,9,     -999,9,     -999,9,     -999,9,     -999,9,   4.9319,1,   0.0117,1,      9.5,2,     -999,9,     -999,9,     -999,9,     -999,9,20230901,1536, -32.9980,  43.1183,-999          ,9,-999          ,9
33RR20230722  ,I05        ,158     ,  1,22         ,22         ,2,20230901,1439, -32.9980,  43.1183,     2137,    227.1,2,  16.0530,2,  35.5230,2,  35.5221,2,    211.8,2,    212.2,2,     2.93,2,     4.94,2,     0.00,2,     0.44,2,     -999,9,     -999,9,     -999,9,   -999.0,9,     -999,9,     -999,9,     -999,9,     -999,1,  16.0440,2,     -999,9,     -999,9,     -999,9,     -999,9,     -999,9,   4.9683,1,   0.0116,1,     -999,9,     -999,9,     -999,9,     -999,9,     -999,9,20230901,1535, -32.9980,  43.1183,-999          ,9,-999          ,9
33RR20230722  ,I05        ,158     ,  1,21         ,21         ,2,20230901,1439, -32.9980,  43.1183,     2137,    275.1,2,  15.4874,2,  35.4771,2,  35.4770,2,    214.5,2,    214.9,2,     2.93,2,     5.44,2,     0.00,2,     0.48,2,     -999,9,     -999,9,     -999,9,   2105.3,2,   2325.2,2,   7.8791,2,    25.01,2,     -999,1,  15.4858,2,     -999,9,     -999,9,     -999,9,     -999,9,     -999,9,   4.9681,1,   0.0115,1,     -999,9,     -999,9,     -999,9,     -999,9,     -999,9,20230901,1533, -32.9980,  43.1183,-999          ,9,-999          ,9
33RR20230722  ,I05        ,158     ,  1,20         ,20         ,2,20230901,1439, -32.9980,  43.1183,     2137,    324.7,2,  14.7667,2,  35.4084,2,  35.4046,2,    216.4,2,    216.7,2,     2.93,2,     6.34,2,     0.00,2,     0.55,2,     -999,9,     -999,9,     -999,9,   -999.0,9,     -999,9,     -999,9,     -999,9,     -999,1,  14.7703,2,     -999,9,     -999,9,     -999,9,     -999,9,     -999,9,   4.9676,1,   0.0113,1,     -999,9,     -999,9,     -999,9,     -999,9,     -999,9,20230901,1531, -32.9980,  43.1183,-999          ,9,-999          ,9
33RR20230722  ,I05        ,158     ,  1,19         ,19         ,2,20230901,1439, -32.9980,  43.1183,     2137,    383.1,2,  13.8994,2,  35.3170,2,  35.3147,2,    220.4,2,    221.0,2,     3.22,2,     7.65,2,     0.00,2,     0.61,2,    2.421,2,    1.583,2,   2.1500,2,   2118.8,2,   2316.3,2,   7.8463,2,    25.00,2,     -999,1,  13.9010,2,     -999,9,     -999,9,     -999,9,     -999,9,     -999,9,   4.8570,1,   0.0113,1,     10.0,2,     -999,9,     -999,9,     -999,9,     -999,9,20230901,1529, -32.9980,  43.1183,-999          ,9,-999          ,9
33RR20230722  ,I05        ,158     ,  1,18         ,18         ,2,20230901,1439, -32.9980,  43.1183,     2137,    452.3,2,  13.2509,2,  35.2404,2,  35.2390,2,    224.4,2,    224.5,2,     3.41,2,     8.77,2,     0.00,2,     0.68,2,     -999,9,     -999,9,     -999,9,   2118.4,2,   2313.9,6,   7.8347,2,    25.02,2,     -999,1,  13.2491,2,     -999,9,     -999,9,     -999,9,     -999,9,     -999,9,   4.9676,1,   0.0116,1,     -999,9,     -999,9,     -999,9,     -999,9,     -999,9,20230901,1526, -32.9980,  43.1183,-999          ,9,-999          ,9
33RR20230722  ,I05        ,158     ,  1,17         ,17         ,2,20230901,1439, -32.9980,  43.1183,     2137,    532.7,2,  12.7600,2,  35.1768,2,  35.1735,2,    225.5,2,    225.8,2,     3.61,2,     9.80,2,     0.00,2,     0.75,2,     -999,9,     -999,9,     -999,9,   2120.9,2,   2310.7,2,   7.8241,2,    25.02,2,     -999,1,  12.7577,2,     -999,9,     -999,9,     -999,9,     -999,9,     -999,9,   4.9670,1,   0.0114,1,     -999,9,     -999,9,     -999,9,     -999,9,     -999,9,20230901,1524, -32.9980,  43.1183,-999          ,9,-999          ,9
33RR20230722  ,I05        ,158     ,  1,16         ,16         ,2,20230901,1439, -32.9980,  43.1183,     2137,    636.7,2,  11.7548,2,  35.0198,2,  35.0193,2,    223.0,2,    222.8,2,     4.39,2,    12.35,2,     0.00,2,     0.92,2,     -999,9,     -999,9,     -999,9,   2126.9,2,   2305.3,2,   7.7972,2,    25.02,2,     -999,1,  11.7496,2,     -999,9,     -999,9,     -999,9,     -999,9,     -999,9,   4.9668,1,   0.0114,1,     -999,9,     -999,9,     -999,9,     -999,9,     -999,9,20230901,1521, -32.9980,  43.1183,-999          ,9,-999          ,9
33RR20230722  ,I05        ,158     ,  1,15         ,15         ,2,20230901,1439, -32.9980,  43.1183,     2137,    788.8,2,  10.1428,2,  34.7974,2,  34.8051,2,    217.7,2,    217.9,2,     6.64,2,    16.37,2,     0.00,2,     1.17,2,    2.962,2,    1.793,2,   1.6200,2,   2135.0,2,   2295.3,2,   7.7560,2,    25.04,2,     -999,1,  10.1613,2,     -999,9,     -999,9,     -999,9,     -999,9,     -999,9,   4.9669,1,   0.0111,1,     14.0,2,     -999,9,     -999,9,     -999,9,     -999,9,20230901,1517, -32.9980,  43.1183,-999          ,9,-999          ,9
33RR20230722  ,I05        ,158     ,  1,14         ,14         ,2,20230901,1439, -32.9980,  43.1183,     2137,    886.7,2,   8.8357,2,  34.6485,2,  34.6486,2,    211.9,2,    211.5,2,    10.35,2,    20.25,2,     0.00,2,     1.42,2,     -999,9,     -999,9,     -999,9,   2150.7,2,   2290.7,2,   7.7169,2,    25.00,2,     -999,1,   8.8332,2,     -999,9,     -999,9,     -999,9,     -999,9,     -999,9,   4.7218,1,   0.0114,1,     -999,9,     -999,9,     -999,9,     -999,9,     -999,9,20230901,1514, -32.9980,  43.1183,-999          ,9,-999          ,9
33RR20230722  ,I05        ,158     ,  1,13         ,13         ,2,20230901,1439, -32.9980,  43.1183,     2137,    987.7,2,   7.4225,2,  34.5269,2,  34.5280,2,    205.9,2,    205.5,2,    16.50,2,    24.09,2,     0.00,2,     1.67,2,     -999,9,     -999,9,     -999,9,   2166.9,2,   2290.0,2,   7.6774,2,    25.03,2,     -999,1,   7.4317,2,     -999,9,     -999,9,     -999,9,     -999,9,     -999,9,   4.8239,1,   0.0112,1,     -999,9,     -999,9,     -999,9,     -999,9,     -999,9,20230901,1512, -32.9980,  43.1183,-999          ,9,-999          ,9
33RR20230722  ,I05        ,158     ,  1,12         ,12         ,2,20230901,1439, -32.9980,  43.1183,     2137,   1092.4,2,   6.1963,2,  34.4336,2,  34.4347,2,    203.7,2,    203.7,2,    22.45,2,    27.15,2,     0.00,2,     1.87,2,     -999,9,     -999,9,     -999,9,   2180.6,2,   2289.0,2,   7.6463,2,    25.01,2,     -999,1,   6.1973,2,     -999,9,     -999,9,     -999,9,     -999,9,     -999,9,   4.9695,1,   0.0111,1,     -999,9,     -999,9,     -999,9,     -999,9,     -999,9,20230901,1509, -32.9980,  43.1183,-999          ,9,-999          ,9
33RR20230722  ,I05        ,158     ,  1,11         ,11         ,2,20230901,1439, -32.9980,  43.1183,     2137,   1196.2,2,   5.5414,2,  34.4090,2,  34.4080,2,    200.8,2,    201.1,2,    27.53,2,    28.66,2,     0.00,2,     1.98,2,    2.493,2,    1.356,2,   0.9500,2,   2187.7,2,   2293.2,2,   7.6325,2,    25.04,2,     -999,1,   5.5704,2,     -999,9,     -999,9,     -999,9,     -999,9,     -999,9,   4.8432,1,   0.0111,1,     19.5,2,     -999,9,     -999,9,     -999,9,     -999,9,20230901,1506, -32.9980,  43.1183,-999          ,9,-999          ,9
33RR20230722  ,I05        ,158     ,  1,10         ,10         ,2,20230901,1439, -32.9980,  43.1183,     2137,   1277.5,2,   4.7379,2,  34.4080,2,  34.4078,2,    192.1,2,    192.6,2,    37.29,2,    30.77,2,     0.00,2,     2.12,2,     -999,9,     -999,9,     -999,9,   2203.3,2,   2302.1,2,   7.6088,6,    25.03,2,     -999,1,   4.7287,2,     -999,9,     -999,9,     -999,9,     -999,9,     -999,9,   4.9712,1,   0.0110,1,     -999,9,     -999,9,     -999,9,     -999,9,     -999,9,20230901,1504, -32.9980,  43.1183,-999          ,9,-999          ,9
33RR20230722  ,I05        ,158     ,  1,9          ,9          ,2,20230901,1439, -32.9980,  43.1183,     2137,   1361.3,2,   4.1747,2,  34.4277,2,  34.4267,2,    185.6,2,    185.8,2,    45.20,2,    32.12,2,     0.00,2,     2.24,2,     -999,9,     -999,9,     -999,9,   2215.6,2,   2308.3,2,   7.5930,2,    25.02,2,     -999,1,   4.1770,2,     -999,9,     -999,9,     -999,9,     -999,9,     -999,9,   4.6224,1,   0.0111,1,     -999,9,     -999,9,     -999,9,     -999,9,     -999,9,20230901,1501, -32.9980,  43.1183,-999          ,9,-999          ,9
33RR20230722  ,I05        ,158     ,  1,8          ,8          ,2,20230901,1439, -32.9980,  43.1183,     2137,   1493.3,2,   3.7067,2,  34.4729,2,  34.4724,2,    178.5,2,    178.7,2,    54.37,2,    33.02,2,     0.00,2,     2.29,2,    1.120,2,    0.615,2,   0.3200,2,   2229.1,2,   2316.9,2,   7.5819,6,    25.00,2,     -999,1,   3.7072,2,     -999,9,     -999,9,     -999,9,     -999,9,     -999,9,   4.6902,1,   0.0111,1,     21.9,2,     -999,9,     -999,9,     -999,9,     -999,9,20230901,1458, -32.9980,  43.1183,-999          ,9,-999          ,9
33RR20230722  ,I05        ,158     ,  1,7          ,7          ,2,20230901,1439, -32.9980,  43.1183,     2137,   1630.3,2,   3.3231,2,  34.5416,2,  34.5419,2,    173.2,2,    173.1,2,    63.15,2,    33.28,2,     0.00,2,     2.32,2,     -999,9,     -999,9,     -999,9,   2239.7,2,   2326.5,2,   7.5771,2,    25.00,2,     -999,1,   3.3218,2,     -999,9,     -999,9,     -999,9,     -999,9,     -999,9,   4.8939,1,   0.0113,1,     -999,9,     -999,9,     -999,9,     -999,9,     -999,9,20230901,1454, -32.9980,  43.1183,-999          ,9,-999          ,9
33RR20230722  ,I05        ,158     ,  1,6          ,6          ,2,20230901,1439, -32.9980,  43.1183,     2137,   1706.2,2,   3.1041,2,  34.5903,2,  34.5897,2,    173.1,2,    172.9,2,    67.64,2,    32.98,2,     0.00,2,     2.29,2,     -999,9,     -999,9,     -999,9,   -999.0,9,     -999,9,     -999,9,     -999,9,     -999,1,   3.1039,2,     -999,9,     -999,9,     -999,9,     -999,9,     -999,9,   4.6934,1,   0.0111,1,     -999,9,     -999,9,     -999,9,     -999,9,     -999,9,20230901,1452, -32.9980,  43.1183,-999          ,9,-999          ,9
33RR20230722  ,I05        ,158     ,  1,5          ,5          ,2,20230901,1439, -32.9980,  43.1183,     2137,   1779.4,2,   3.0074,2,  34.6171,2,  34.6164,2,    173.8,2,    173.6,2,    69.49,2,    32.73,2,     0.00,2,     2.27,2,    0.398,2,    0.211,2,   0.1000,2,   2241.9,2,   2332.3,2,   7.5853,2,    25.01,2,     -999,1,   3.0069,2,     -999,9,     -999,9,     -999,9,     -999,9,     -999,9,   4.9725,1,   0.0113,1,     23.5,2,     -999,9,     -999,9,     -999,9,     -999,9,20230901,1450, -32.9980,  43.1183,-999          ,9,-999          ,9
33RR20230722  ,I05        ,158     ,  1,4          ,37         ,2,20230901,1439, -32.9980,  43.1183,     2137,   1857.4,2,   2.8930,2,  34.6477,2,  34.6464,2,    176.4,2,    176.4,2,    70.86,2,    32.27,2,     0.00,2,     2.24,2,     -999,9,     -999,9,     -999,9,   2242.9,2,   2337.0,2,   7.5920,2,    24.99,2,     -999,1,   2.8928,2,     -999,9,     -999,9,     -999,9,     -999,9,     -999,9,   4.9725,1,   0.0111,1,     -999,9,     -999,9,     -999,9,     -999,9,     -999,9,20230901,1447, -32.9980,  43.1183,-999          ,9,-999          ,9
33RR20230722  ,I05        ,158     ,  1,3          ,3          ,2,20230901,1439, -32.9980,  43.1183,     2137,   1933.7,2,   2.7776,2,  34.6669,2,  34.6665,2,    179.1,2,    179.3,2,    72.61,2,    31.89,2,     0.00,2,     2.21,2,     -999,9,     -999,9,     -999,9,   2239.6,2,   2339.5,2,   7.5970,2,    25.02,2,     -999,1,   2.7792,2,     -999,9,     -999,9,     -999,9,     -999,9,     -999,9,   4.9723,1,   0.0117,1,     -999,9,     -999,9,     -999,9,     -999,9,     -999,9,20230901,1445, -32.9980,  43.1183,-999          ,9,-999          ,9
33RR20230722  ,I05        ,158     ,  1,2          ,2          ,2,20230901,1439, -32.9980,  43.1183,     2137,   2067.2,2,   2.6512,2,  34.7044,2,  34.7040,2,    184.0,2,    184.4,2,    73.78,2,    31.06,2,     0.00,2,     2.17,2,    0.167,2,    0.091,2,   0.0500,2,   2239.4,2,   2341.6,2,   7.6103,2,    25.00,2,     -999,1,   2.6512,2,     -999,9,     -999,9,     -999,9,     -999,9,     -999,9,   4.7486,1,   0.0110,1,     21.3,2,     -999,9,     -999,9,     -999,9,     -999,9,20230901,1441, -32.9980,  43.1183,-999          ,9,-999          ,9
33RR20230722  ,I05        ,158     ,  1,1          ,1          ,2,20230901,1439, -32.9980,  43.1183,     2137,   2153.6,2,   2.5904,2,  34.7381,2,  34.7370,2,    189.0,2,    189.0,2,    73.10,2,    30.28,2,     0.00,2,     2.09,2,    0.098,2,    0.060,2,   0.0100,2,   2236.3,6,   2342.5,2,   7.6212,2,    25.01,2,     -999,1,   2.5910,2,     -999,9,     -999,9,     -999,9,     -999,9,     -999,9,   0.5049,1,   0.0117,1,     18.5,2,     -999,9,     -999,9,     -999,9,     -999,9,20230901,1439, -32.9980,  43.1183,-999          ,9,-999          ,9