BOTTLE,20240422CCHHYDRO
EXPOCODE,SECT_ID,STNNBR,CASTNO,SAMPNO,BTLNBR,BTLNBR_FLAG_W,DATE,TIME,LATITUDE,LONGITUDE,DEPTH,CTDPRS,CTDPRS_FLAG_W,CTDTMP,CTDTMP_FLAG_W,CTDSAL,CTDSAL_FLAG_W,SALNTY,SALNTY_FLAG_W,CTDOXY,CTDOXY_FLAG_W,OXYGEN,OXYGEN_FLAG_W,SILCAT,SILCAT_FLAG_W,NITRAT,NITRAT_FLAG_W,NITRIT,NITRIT_FLAG_W,PHSPHT,PHSPHT_FLAG_W,CFC-11,CFC-11_FLAG_W,CFC-12,CFC-12_FLAG_W,SF6,SF6_FLAG_W,TCARBN,TCARBN_FLAG_W,ALKALI,ALKALI_FLAG_W,PH_TOT,PH_TOT_FLAG_W,PH_TMP,PH_TMP_FLAG_W,DOC,DOC_FLAG_W,REFTMP,REFTMP_FLAG_W,POC,POC_FLAG_W,PON,PON_FLAG_W,POP,POP_FLAG_W,DOP,DOP_FLAG_W,DELO18,DELO18_FLAG_W,CTDFLUOR,CTDFLUOR_FLAG_W,CTDXMISS,CTDXMISS_FLAG_W,N2O,N2O_FLAG_W,D15N_NO3,D15N_NO3_FLAG_W,D15N_NO2+NO3,D15N_NO2+NO3_FLAG_W,D18O_NO2+NO3,D18O_NO2+NO3_FLAG_W,D18O_NO3,D18O_NO3_FLAG_W,BTL_DATE,BTL_TIME,BTL_LAT,BTL_LON,HPLC,HPLC_FLAG_W,DNA,DNA_FLAG_W
,,,,,,,,,,,METERS,DBAR,,ITS-90,,PSS-78,,PSS-78,,UMOL/KG,,UMOL/KG,,UMOL/KG,,UMOL/KG,,UMOL/KG,,UMOL/KG,,PMOL/KG,,PMOL/KG,,FMOL/KG,,UMOL/KG,,UMOL/KG,,,,DEG C,,UMOL/KG,,ITS-90,,UG/KG,,UG/KG,,UG/L,,UMOL/KG,,/MILLE,,VOLTS,,VOLTS,,NMOL/KG,,/MILLE,,/MILLE,,/MILLE,,/MILLE,,,,,,,,,
33RR20230722  ,I05        ,177     ,  1,29         ,29         ,2,20230906,1000, -32.8851,  35.0348,     1581,     11.5,2,  19.1405,2,  35.6525,2,     -999,9,    231.6,2,     -999,9,     -999,9,     -999,9,     -999,9,     -999,9,     -999,9,     -999,9,     -999,9,   -999.0,9,     -999,9,     -999,9,     -999,9,     -999,9,  19.1403,2,     -999,1,     -999,1,     -999,9,     -999,9,     -999,9,   4.4319,1,   0.0239,1,     -999,9,     -999,9,     -999,9,     -999,9,     -999,9,20230906,1058, -32.8851,  35.0348,-999          ,9,-999          ,9
33RR20230722  ,I05        ,177     ,  1,33         ,33         ,2,20230906,1000, -32.8851,  35.0348,     1581,     11.9,2,  19.1410,2,  35.6526,2,     -999,9,    231.6,2,     -999,9,     -999,9,     -999,9,     -999,9,     -999,9,     -999,9,     -999,9,     -999,9,   -999.0,9,     -999,9,     -999,9,     -999,9,     -999,9,  19.1413,2,     -999,9,     -999,9,     -999,1,     -999,9,     -999,9,   4.7577,1,   0.0227,1,     -999,9,     -999,9,     -999,9,     -999,9,     -999,9,20230906,1059, -32.8851,  35.0348,-999          ,9,-999          ,9
33RR20230722  ,I05        ,177     ,  1,32         ,32         ,2,20230906,1000, -32.8851,  35.0348,     1581,     12.0,2,  19.1429,2,  35.6526,2,     -999,9,    231.6,2,     -999,9,     -999,9,     -999,9,     -999,9,     -999,9,     -999,9,     -999,9,     -999,9,   -999.0,9,     -999,9,     -999,9,     -999,9,     -999,9,  19.1421,2,     -999,9,     -999,9,     -999,1,     -999,9,     -999,9,   4.9746,1,   0.0229,1,     -999,9,     -999,9,     -999,9,     -999,9,     -999,9,20230906,1059, -32.8851,  35.0347,-999          ,9,-999          ,9
33RR20230722  ,I05        ,177     ,  1,28         ,28         ,2,20230906,1000, -32.8851,  35.0348,     1581,     12.4,2,  19.1380,2,  35.6525,2,     -999,9,    231.5,2,     -999,9,     -999,9,     -999,9,     -999,9,     -999,9,     -999,9,     -999,9,     -999,9,   -999.0,9,     -999,9,     -999,9,     -999,9,     -999,9,  19.1373,2,     -999,1,     -999,1,     -999,9,     -999,9,     -999,9,   4.9747,1,   0.0235,1,     -999,9,     -999,9,     -999,9,     -999,9,     -999,9,20230906,1058, -32.8851,  35.0347,-999          ,9,-999          ,9
33RR20230722  ,I05        ,177     ,  1,27         ,27         ,2,20230906,1000, -32.8851,  35.0348,     1581,     12.6,2,  19.1373,2,  35.6526,2,     -999,9,    231.6,2,     -999,9,     -999,9,     -999,9,     -999,9,     -999,9,     -999,9,     -999,9,     -999,9,   -999.0,9,     -999,9,     -999,9,     -999,9,     -999,9,  19.1373,2,     -999,9,     -999,9,     -999,9,     -999,9,     -999,9,   4.9764,1,   0.0237,1,     -999,9,     -999,9,     -999,9,     -999,9,     -999,9,20230906,1057, -32.8851,  35.0347,-999          ,9,-999          ,1
33RR20230722  ,I05        ,177     ,  1,35         ,35         ,2,20230906,1000, -32.8851,  35.0348,     1581,     12.7,2,  19.1275,2,  35.6529,2,  35.6555,2,    231.7,2,    231.4,2,     2.05,2,     0.00,2,     0.00,2,     0.12,2,     -999,9,     -999,9,     -999,9,   2059.9,2,   2334.6,2,   7.9861,6,    25.02,2,     -999,1,  19.1304,2,     -999,9,     -999,9,     -999,9,     -999,9,     -999,1,   3.4576,1,   0.0222,1,     -999,9,     -999,1,     -999,1,     -999,1,     -999,1,20230906,1100, -32.8851,  35.0348,-999          ,9,-999          ,9
33RR20230722  ,I05        ,177     ,  1,34         ,34         ,2,20230906,1000, -32.8851,  35.0348,     1581,     12.7,2,  19.1333,2,  35.6529,2,     -999,9,    231.7,2,     -999,9,     -999,9,     -999,9,     -999,9,     -999,9,     -999,9,     -999,9,     -999,9,   -999.0,9,     -999,9,     -999,9,     -999,9,     -999,9,  19.1390,2,     -999,9,     -999,9,     -999,9,     -999,9,     -999,9,   4.5194,1,   0.0246,1,     -999,9,     -999,9,     -999,9,     -999,9,     -999,9,20230906,1100, -32.8851,  35.0348,-999          ,1,-999          ,9
33RR20230722  ,I05        ,177     ,  1,31         ,31         ,2,20230906,1000, -32.8851,  35.0348,     1581,     12.8,2,  19.1394,2,  35.6524,2,     -999,9,    231.6,2,     -999,9,     -999,9,     -999,9,     -999,9,     -999,9,     -999,9,     -999,9,     -999,9,   -999.0,9,     -999,9,     -999,9,     -999,9,     -999,9,  19.1398,2,     -999,9,     -999,9,     -999,1,     -999,9,     -999,9,   4.9747,1,   0.0227,1,     -999,9,     -999,9,     -999,9,     -999,9,     -999,9,20230906,1059, -32.8851,  35.0347,-999          ,9,-999          ,9
33RR20230722  ,I05        ,177     ,  1,30         ,30         ,2,20230906,1000, -32.8851,  35.0348,     1581,     13.0,2,  19.1389,2,  35.6525,2,     -999,9,    231.5,2,     -999,9,     -999,9,     -999,9,     -999,9,     -999,9,     -999,9,     -999,9,     -999,9,   -999.0,9,     -999,9,     -999,9,     -999,9,     -999,9,  19.1386,2,     -999,1,     -999,1,     -999,9,     -999,9,     -999,9,   4.9746,1,   0.0228,1,     -999,9,     -999,9,     -999,9,     -999,9,     -999,9,20230906,1058, -32.8851,  35.0348,-999          ,9,-999          ,9
33RR20230722  ,I05        ,177     ,  1,26         ,26         ,2,20230906,1000, -32.8851,  35.0348,     1581,     29.8,2,  19.0587,2,  35.6558,2,  35.6550,2,    232.1,2,    231.5,2,     2.15,2,     0.00,2,     0.00,2,     0.11,2,     -999,9,     -999,9,     -999,9,   2055.2,2,   2335.1,2,   7.9851,2,    25.04,2,     -999,9,  19.0481,2,     -999,9,     -999,9,     -999,9,     -999,9,     -999,1,   4.9313,1,   0.0334,1,     -999,9,     -999,1,     -999,1,     -999,1,     -999,1,20230906,1056, -32.8851,  35.0347,-999          ,9,-999          ,9
33RR20230722  ,I05        ,177     ,  1,25         ,25         ,2,20230906,1000, -32.8851,  35.0348,     1581,     55.2,2,  18.4744,2,  35.6902,2,  35.6889,2,    231.8,2,    231.2,2,     2.05,2,     0.00,2,     0.07,2,     0.12,2,     -999,9,     -999,9,     -999,9,   -999.0,9,     -999,9,     -999,9,     -999,9,     -999,9,  18.4803,2,     -999,9,     -999,9,     -999,9,     -999,9,     -999,1,   4.9740,1,   0.0248,1,     -999,9,     -999,1,     -999,1,     -999,1,     -999,1,20230906,1054, -32.8851,  35.0348,-999          ,9,-999          ,9
33RR20230722  ,I05        ,177     ,  1,24         ,24         ,2,20230906,1000, -32.8851,  35.0348,     1581,     77.6,2,  18.2786,2,  35.6865,2,  35.6854,2,    229.3,2,    228.9,2,     2.05,2,     0.19,2,     0.29,2,     0.14,2,    1.845,2,    1.268,2,   2.2600,2,   -999.0,9,     -999,9,     -999,9,     -999,9,     -999,9,  18.2780,2,     -999,9,     -999,9,     -999,9,     -999,9,     -999,1,   4.9229,1,   0.0183,1,      8.1,2,     -999,1,     -999,1,     -999,1,     -999,1,20230906,1052, -32.8851,  35.0348,-999          ,9,-999          ,9
33RR20230722  ,I05        ,177     ,  1,23         ,23         ,2,20230906,1000, -32.8851,  35.0348,     1581,    101.5,2,  17.9791,2,  35.6704,2,  35.6703,2,    226.8,2,    226.7,2,     2.15,2,     0.82,2,     0.16,2,     0.18,2,     -999,9,     -999,9,     -999,9,   2076.7,2,   2334.8,2,   7.9580,6,    25.01,2,     -999,9,  17.9737,2,     -999,9,     -999,9,     -999,9,     -999,9,     -999,1,   4.6663,1,   0.0167,1,     -999,9,     -999,1,     -999,1,     -999,1,     -999,1,20230906,1050, -32.8851,  35.0347,-999          ,9,-999          ,9
33RR20230722  ,I05        ,177     ,  1,22         ,22         ,2,20230906,1000, -32.8851,  35.0348,     1581,    107.0,2,  17.9261,2,  35.6695,2,     -999,9,    226.9,2,     -999,9,     -999,9,     -999,9,     -999,9,     -999,9,     -999,9,     -999,9,     -999,9,   -999.0,9,     -999,9,     -999,9,     -999,9,     -999,9,  17.9254,2,     -999,9,     -999,9,     -999,9,     -999,9,     -999,9,   4.9721,1,   0.0150,1,     -999,9,     -999,9,     -999,9,     -999,9,     -999,9,20230906,1048, -32.8851,  35.0347,-999          ,9,-999          ,1
33RR20230722  ,I05        ,177     ,  1,21         ,21         ,2,20230906,1000, -32.8851,  35.0348,     1581,    129.8,2,  17.7537,2,  35.6632,2,  35.6621,2,    226.8,2,    226.8,2,     2.24,2,     1.12,2,     0.06,2,     0.19,2,     -999,9,     -999,9,     -999,9,   2078.2,2,   2334.3,2,   7.9520,2,    25.00,2,     -999,9,  17.7461,2,     -999,9,     -999,9,     -999,9,     -999,9,     -999,1,   4.9719,1,   0.0127,1,     -999,9,     -999,1,     -999,1,     -999,1,     -999,1,20230906,1047, -32.8851,  35.0347,-999          ,9,-999          ,9
33RR20230722  ,I05        ,177     ,  1,20         ,20         ,2,20230906,1000, -32.8851,  35.0348,     1581,    160.9,2,  17.4828,2,  35.6361,2,  35.6376,2,    221.5,2,    222.3,2,     2.54,2,     1.94,2,     0.02,2,     0.23,2,    1.993,2,    1.309,2,   2.1600,2,   -999.0,9,     -999,9,     -999,9,     -999,9,     -999,9,  17.4856,2,     -999,9,     -999,9,     -999,9,     -999,9,     -999,1,   4.9706,1,   0.0117,1,      8.4,2,     -999,1,     -999,1,     -999,1,     -999,1,20230906,1045, -32.8851,  35.0347,-999          ,9,-999          ,9
33RR20230722  ,I05        ,177     ,  1,19         ,19         ,2,20230906,1000, -32.8851,  35.0348,     1581,    193.4,2,  16.8790,2,  35.5799,2,  35.5813,2,    208.1,2,    209.9,2,     3.32,2,     3.91,2,     0.00,2,     0.35,2,     -999,9,     -999,9,     -999,9,   -999.0,9,     -999,9,     -999,9,     -999,9,     -999,9,  16.9151,2,     -999,9,     -999,9,     -999,9,     -999,9,     -999,1,   4.9685,1,   0.0116,1,     -999,9,     -999,1,     -999,1,     -999,1,     -999,1,20230906,1043, -32.8852,  35.0347,-999          ,9,-999          ,9
33RR20230722  ,I05        ,177     ,  1,18         ,18         ,2,20230906,1000, -32.8851,  35.0348,     1581,    208.5,2,  16.5756,2,  35.5636,2,     -999,9,    210.1,2,     -999,9,     -999,9,     -999,9,     -999,9,     -999,9,     -999,9,     -999,9,     -999,9,   -999.0,9,     -999,9,     -999,9,     -999,9,     -999,9,  16.5971,2,     -999,9,     -999,9,     -999,9,     -999,9,     -999,9,   4.9273,1,   0.0116,1,     -999,9,     -999,9,     -999,9,     -999,9,     -999,9,20230906,1042, -32.8851,  35.0347,-999          ,9,-999          ,1
33RR20230722  ,I05        ,177     ,  1,17         ,17         ,2,20230906,1000, -32.8851,  35.0348,     1581,    228.8,2,  16.2036,2,  35.5357,2,  35.5352,2,    210.8,2,    212.0,2,     3.22,2,     4.82,2,     0.00,2,     0.42,2,    2.264,2,    1.397,2,   2.0900,2,   2104.3,2,   2327.9,2,   7.8899,2,    25.00,2,     -999,9,  16.1887,2,     -999,9,     -999,9,     -999,9,     -999,9,     -999,1,   4.8470,1,   0.0116,1,      9.4,2,     -999,1,     -999,1,     -999,1,     -999,1,20230906,1040, -32.8851,  35.0347,-999          ,9,-999          ,9
33RR20230722  ,I05        ,177     ,  1,16         ,16         ,2,20230906,1000, -32.8851,  35.0348,     1581,    287.1,2,  15.7232,2,  35.4974,2,  35.4967,2,    213.3,2,    213.9,2,     3.41,2,     5.35,2,     0.00,2,     0.46,2,     -999,9,     -999,9,     -999,9,   -999.0,9,     -999,9,     -999,9,     -999,9,     -999,9,  15.7347,2,     -999,9,     -999,9,     -999,9,     -999,9,     -999,1,   4.7533,1,   0.0118,1,     -999,9,     -999,1,     -999,1,     -999,1,     -999,1,20230906,1038, -32.8851,  35.0348,-999          ,9,-999          ,9
33RR20230722  ,I05        ,177     ,  1,15         ,15         ,2,20230906,1000, -32.8851,  35.0348,     1581,    347.8,2,  14.9605,2,  35.4206,2,  35.4206,2,    213.8,2,    214.6,2,     3.61,2,     6.45,2,     0.00,2,     0.53,2,     -999,9,     -999,9,     -999,9,   2109.9,2,   2322.8,2,   7.8643,6,    25.02,2,     -999,9,  14.9624,2,     -999,9,     -999,9,     -999,9,     -999,9,     -999,1,   4.7111,1,   0.0118,1,     -999,9,     -999,1,     -999,1,     -999,1,     -999,1,20230906,1036, -32.8851,  35.0347,-999          ,9,-999          ,9
33RR20230722  ,I05        ,177     ,  1,14         ,14         ,2,20230906,1000, -32.8851,  35.0348,     1581,    411.5,2,  14.1756,2,  35.3385,2,  35.3392,2,    216.5,2,    216.5,2,     3.80,2,     7.55,2,     0.00,2,     0.60,2,    2.396,2,    1.557,2,   2.1100,2,   -999.0,9,     -999,9,     -999,9,     -999,9,     -999,9,  14.1641,2,     -999,9,     -999,9,     -999,9,     -999,9,     -999,1,   4.9676,1,   0.0113,1,     10.7,2,     -999,1,     -999,1,     -999,1,     -999,1,20230906,1034, -32.8851,  35.0347,-999          ,9,-999          ,9
33RR20230722  ,I05        ,177     ,  1,13         ,13         ,2,20230906,1000, -32.8851,  35.0348,     1581,    490.1,2,  13.4409,2,  35.2570,2,  35.2570,2,    221.2,2,    220.9,2,     3.80,2,     8.69,2,     0.00,2,     0.67,2,     -999,9,     -999,9,     -999,9,   -999.0,9,     -999,9,     -999,9,     -999,9,     -999,9,  13.4537,2,     -999,9,     -999,9,     -999,9,     -999,9,     -999,1,   4.9645,1,   0.0116,1,     -999,9,     -999,1,     -999,1,     -999,1,     -999,1,20230906,1031, -32.8851,  35.0348,-999          ,9,-999          ,9
33RR20230722  ,I05        ,177     ,  1,12         ,12         ,2,20230906,1000, -32.8851,  35.0348,     1581,    566.7,2,  12.6977,2,  35.1576,2,  35.1591,2,    221.2,2,    221.0,2,     4.39,2,    10.33,2,     0.00,2,     0.77,2,     -999,9,     -999,9,     -999,9,   -999.0,9,     -999,9,     -999,9,     -999,9,     -999,9,  12.6909,2,     -999,9,     -999,9,     -999,9,     -999,9,     -999,1,   4.9669,1,   0.0114,1,     -999,9,     -999,1,     -999,1,     -999,1,     -999,1,20230906,1029, -32.8851,  35.0347,-999          ,9,-999          ,9
33RR20230722  ,I05        ,177     ,  1,11         ,11         ,2,20230906,1000, -32.8851,  35.0348,     1581,    649.0,2,  12.2351,2,  35.0918,2,  35.0909,2,    224.4,2,    223.5,2,     4.29,2,    11.17,2,     0.00,2,     0.84,2,    2.552,2,    1.705,2,   1.9700,2,   2121.3,3,   2307.4,2,   7.8066,2,    25.00,2,     -999,9,  12.2334,2,     -999,9,     -999,9,     -999,9,     -999,9,     -999,1,   4.9668,1,   0.0111,1,     11.6,2,     -999,1,     -999,1,     -999,1,     -999,1,20230906,1026, -32.8851,  35.0348,-999          ,9,-999          ,9
33RR20230722  ,I05        ,177     ,  1,10         ,10         ,2,20230906,1000, -32.8851,  35.0348,     1581,    739.3,2,  11.2557,2,  34.9471,2,  34.9461,2,    221.4,2,    220.9,2,     5.27,2,    13.57,2,     0.00,2,     0.99,2,     -999,9,     -999,9,     -999,9,   -999.0,9,     -999,9,     -999,9,     -999,9,     -999,9,  11.2545,2,     -999,9,     -999,9,     -999,9,     -999,9,     -999,1,   4.9664,1,   0.0113,1,     -999,9,     -999,1,     -999,1,     -999,1,     -999,1,20230906,1023, -32.8851,  35.0347,-999          ,9,-999          ,9
33RR20230722  ,I05        ,177     ,  1,9          ,9          ,2,20230906,1000, -32.8851,  35.0348,     1581,    838.0,2,   9.9105,2,  34.7694,2,  34.7685,2,    216.6,2,    216.5,2,     7.71,2,    17.12,2,     0.00,2,     1.20,2,     -999,9,     -999,9,     -999,9,   2144.3,2,   2295.9,2,   7.7446,2,    25.02,2,     -999,9,   9.8940,2,     -999,9,     -999,9,     -999,9,     -999,9,     -999,1,   4.9670,1,   0.0112,1,     -999,9,     -999,1,     -999,1,     -999,1,     -999,1,20230906,1021, -32.8851,  35.0347,-999          ,9,-999          ,9
33RR20230722  ,I05        ,177     ,  1,8          ,8          ,2,20230906,1000, -32.8851,  35.0348,     1581,    948.0,2,   8.3200,2,  34.6022,2,  34.6018,2,    208.0,2,    208.7,2,    12.98,2,    21.66,2,     0.00,2,     1.51,2,    2.839,2,    1.656,2,   1.3300,2,   -999.0,9,     -999,9,     -999,9,     -999,9,     -999,9,   8.3251,2,     -999,9,     -999,9,     -999,9,     -999,9,     -999,1,   4.9681,1,   0.0112,1,     16.1,2,     -999,1,     -999,1,     -999,1,     -999,1,20230906,1018, -32.8851,  35.0347,-999          ,9,-999          ,9
33RR20230722  ,I05        ,177     ,  1,7          ,7          ,2,20230906,1000, -32.8851,  35.0348,     1581,   1012.9,2,   7.5157,2,  34.5318,2,     -999,9,    205.5,2,     -999,9,     -999,9,     -999,9,     -999,9,     -999,9,     -999,9,     -999,9,     -999,9,   -999.0,9,     -999,9,     -999,9,     -999,9,     -999,9,   7.5098,2,     -999,9,     -999,9,     -999,9,     -999,9,     -999,9,   4.6698,1,   0.0112,1,     -999,9,     -999,9,     -999,9,     -999,9,     -999,9,20230906,1016, -32.8851,  35.0347,-999          ,9,-999          ,9
33RR20230722  ,I05        ,177     ,  1,6          ,6          ,2,20230906,1000, -32.8851,  35.0348,     1581,   1055.2,2,   7.0014,2,  34.4921,2,  34.4922,2,    203.9,2,    204.5,2,    19.03,2,    25.15,2,     0.00,2,     1.74,2,     -999,9,     -999,9,     -999,9,   -999.0,9,     -999,9,     -999,9,     -999,9,     -999,9,   6.9980,2,     -999,9,     -999,9,     -999,9,     -999,9,     -999,1,   4.7169,1,   0.0112,1,     -999,9,     -999,1,     -999,1,     -999,1,     -999,1,20230906,1014, -32.8851,  35.0348,-999          ,9,-999          ,9
33RR20230722  ,I05        ,177     ,  1,5          ,5          ,2,20230906,1000, -32.8851,  35.0348,     1581,   1165.3,2,   5.6391,2,  34.4139,2,  34.4135,2,    200.1,2,    200.8,2,    27.72,2,    28.44,2,     0.00,2,     1.96,2,    2.530,2,    1.342,2,   0.8000,2,   2187.0,2,   2295.1,6,   7.6305,6,    25.01,2,     -999,9,   5.6443,2,     -999,9,     -999,9,     -999,9,     -999,9,     -999,1,   4.9693,1,   0.0110,1,     19.4,2,     -999,1,     -999,1,     -999,1,     -999,1,20230906,1011, -32.8851,  35.0347,-999          ,9,-999          ,9
33RR20230722  ,I05        ,177     ,  1,4          ,37         ,2,20230906,1000, -32.8851,  35.0348,     1581,   1288.1,2,   4.7575,2,  34.4040,2,  34.4031,2,    193.7,2,    194.1,2,    36.90,2,    30.56,2,     0.00,2,     2.11,2,    2.114,2,    1.103,2,   0.6800,2,   -999.0,9,     -999,9,     -999,9,     -999,9,     -999,9,   4.7774,2,     -999,9,     -999,9,     -999,9,     -999,9,     -999,1,   4.9524,1,   0.0115,1,     20.8,2,     -999,1,     -999,1,     -999,1,     -999,1,20230906,1008, -32.8851,  35.0347,-999          ,9,-999          ,9
33RR20230722  ,I05        ,177     ,  1,3          ,3          ,2,20230906,1000, -32.8851,  35.0348,     1581,   1414.3,2,   4.2729,2,  34.4461,2,  34.4461,2,    181.6,2,    182.1,2,    47.54,2,    32.07,2,     0.00,2,     2.21,2,     -999,9,     -999,9,     -999,9,   2218.2,2,   2311.2,2,   7.5909,6,    25.00,2,     -999,9,   4.2719,2,     -999,9,     -999,9,     -999,9,     -999,9,     -999,1,   4.9710,1,   0.0111,1,     -999,9,     -999,1,     -999,1,     -999,1,     -999,1,20230906,1005, -32.8851,  35.0347,-999          ,9,-999          ,9
33RR20230722  ,I05        ,177     ,  1,2          ,2          ,2,20230906,1000, -32.8851,  35.0348,     1581,   1517.2,2,   3.8684,2,  34.5289,2,  34.5294,2,    168.4,2,    168.3,2,    60.32,2,    33.11,2,     0.00,2,     2.30,2,    0.939,2,    0.478,2,   0.0900,2,   -999.0,9,     -999,9,     -999,9,     -999,9,     -999,9,   3.8687,2,     -999,9,     -999,9,     -999,9,     -999,9,     -999,1,   4.0305,1,   0.0117,1,     23.4,2,     -999,1,     -999,1,     -999,1,     -999,1,20230906,1002, -32.8852,  35.0347,-999          ,9,-999          ,9