BOTTLE,20240422CCHHYDRO
EXPOCODE,SECT_ID,STNNBR,CASTNO,SAMPNO,BTLNBR,BTLNBR_FLAG_W,DATE,TIME,LATITUDE,LONGITUDE,DEPTH,CTDPRS,CTDPRS_FLAG_W,CTDTMP,CTDTMP_FLAG_W,CTDSAL,CTDSAL_FLAG_W,SALNTY,SALNTY_FLAG_W,CTDOXY,CTDOXY_FLAG_W,OXYGEN,OXYGEN_FLAG_W,SILCAT,SILCAT_FLAG_W,NITRAT,NITRAT_FLAG_W,NITRIT,NITRIT_FLAG_W,PHSPHT,PHSPHT_FLAG_W,CFC-11,CFC-11_FLAG_W,CFC-12,CFC-12_FLAG_W,SF6,SF6_FLAG_W,TCARBN,TCARBN_FLAG_W,ALKALI,ALKALI_FLAG_W,PH_TOT,PH_TOT_FLAG_W,PH_TMP,PH_TMP_FLAG_W,DOC,DOC_FLAG_W,REFTMP,REFTMP_FLAG_W,POC,POC_FLAG_W,PON,PON_FLAG_W,POP,POP_FLAG_W,DOP,DOP_FLAG_W,DELO18,DELO18_FLAG_W,CTDFLUOR,CTDFLUOR_FLAG_W,CTDXMISS,CTDXMISS_FLAG_W,N2O,N2O_FLAG_W,D15N_NO3,D15N_NO3_FLAG_W,D15N_NO2+NO3,D15N_NO2+NO3_FLAG_W,D18O_NO2+NO3,D18O_NO2+NO3_FLAG_W,D18O_NO3,D18O_NO3_FLAG_W,BTL_DATE,BTL_TIME,BTL_LAT,BTL_LON,HPLC,HPLC_FLAG_W,DNA,DNA_FLAG_W
,,,,,,,,,,,METERS,DBAR,,ITS-90,,PSS-78,,PSS-78,,UMOL/KG,,UMOL/KG,,UMOL/KG,,UMOL/KG,,UMOL/KG,,UMOL/KG,,PMOL/KG,,PMOL/KG,,FMOL/KG,,UMOL/KG,,UMOL/KG,,,,DEG C,,UMOL/KG,,ITS-90,,UG/KG,,UG/KG,,UG/L,,UMOL/KG,,/MILLE,,VOLTS,,VOLTS,,NMOL/KG,,/MILLE,,/MILLE,,/MILLE,,/MILLE,,,,,,,,,
33RR20230722  ,I05        ,135     ,  1,23         ,23         ,4,20230827,0505, -33.9986,  55.2943,     1686,      6.8,3,  16.3582,3,  35.5019,3,     -999,9,    247.8,3,     -999,9,     -999,9,     -999,9,     -999,9,     -999,9,     -999,9,     -999,9,     -999,9,   -999.0,4,     -999,9,     -999,9,     -999,9,     -999,9,  16.3528,3,     -999,9,     -999,9,     -999,9,     -999,9,     -999,9,   4.8886,1,   0.0200,1,     -999,9,     -999,9,     -999,9,     -999,9,     -999,9,20230827,0600, -33.9986,  55.2943,-999          ,9,-999          ,9
33RR20230722  ,I05        ,135     ,  1,22         ,22         ,2,20230827,0505, -33.9986,  55.2943,     1686,     29.4,2,  16.3168,2,  35.4979,2,  35.4955,2,    247.5,2,    246.2,2,     1.46,2,     0.00,2,     0.01,2,     0.16,2,    2.191,2,    1.397,2,   2.4000,2,   2083.5,2,   2328.6,2,   7.9459,2,    25.00,2,     -999,1,  16.3151,2,     -999,9,     -999,9,     -999,9,     -999,9,     -999,1,   4.9752,1,   0.0390,1,      8.4,2,     -999,9,     -999,9,     -999,9,     -999,9,20230827,0558, -33.9986,  55.2943,-999          ,9,-999          ,9
33RR20230722  ,I05        ,135     ,  1,21         ,21         ,2,20230827,0505, -33.9986,  55.2943,     1686,     55.2,2,  16.2055,2,  35.4930,2,  35.4914,2,    244.9,2,    244.1,2,     1.46,2,     0.06,2,     0.03,2,     0.16,2,     -999,9,     -999,9,     -999,9,   2082.9,2,   2328.6,2,   7.9418,2,    25.01,2,     -999,9,  16.2044,2,     -999,9,     -999,9,     -999,9,     -999,9,     -999,1,   4.9743,1,   0.0355,1,     -999,9,     -999,9,     -999,9,     -999,9,     -999,9,20230827,0556, -33.9986,  55.2943,-999          ,9,-999          ,9
33RR20230722  ,I05        ,135     ,  1,20         ,20         ,2,20230827,0505, -33.9986,  55.2943,     1686,     81.9,2,  15.8334,2,  35.5000,2,  35.4983,2,    232.2,3,    235.5,2,     1.85,2,     1.78,2,     0.14,2,     0.28,2,    2.189,2,    1.416,2,   2.3100,2,   -999.0,9,     -999,9,     -999,9,     -999,9,     -999,9,  15.8239,2,     -999,9,     -999,9,     -999,9,     -999,9,     -999,1,   4.9716,1,   0.0204,1,      8.8,2,     -999,9,     -999,9,     -999,9,     -999,9,20230827,0554, -33.9987,  55.2943,-999          ,9,-999          ,9
33RR20230722  ,I05        ,135     ,  1,19         ,19         ,2,20230827,0505, -33.9986,  55.2943,     1686,    114.1,2,  15.2222,2,  35.4562,2,  35.4557,2,    226.3,2,    226.7,2,     2.54,2,     4.20,2,     0.03,2,     0.41,2,    2.054,2,    1.476,2,   2.2800,2,   2107.7,2,   2325.2,2,   7.8886,2,    25.05,2,     -999,9,  15.2165,2,     -999,9,     -999,9,     -999,9,     -999,9,     -999,1,   4.9699,1,   0.0142,1,      9.5,2,     -999,9,     -999,9,     -999,9,     -999,9,20230827,0552, -33.9987,  55.2943,-999          ,9,-999          ,9
33RR20230722  ,I05        ,135     ,  1,18         ,18         ,2,20230827,0505, -33.9986,  55.2943,     1686,    148.6,2,  14.3175,2,  35.3758,2,  35.3758,2,    228.1,2,    228.0,2,     2.83,2,     5.85,2,     0.02,2,     0.53,2,     -999,9,     -999,9,     -999,9,   -999.0,9,     -999,9,     -999,9,     -999,9,     -999,9,  14.3172,2,     -999,9,     -999,9,     -999,9,     -999,9,     -999,1,   4.9694,1,   0.0126,1,     -999,9,     -999,9,     -999,9,     -999,9,     -999,9,20230827,0551, -33.9987,  55.2942,-999          ,9,-999          ,9
33RR20230722  ,I05        ,135     ,  1,17         ,17         ,2,20230827,0505, -33.9986,  55.2943,     1686,    185.2,2,  13.8881,2,  35.3324,2,  35.3317,2,    231.1,2,    231.4,2,     3.02,2,     6.50,2,     0.00,2,     0.57,2,    2.388,6,    1.563,6,   2.3800,6,   2120.1,2,   2320.1,2,   7.8579,6,    25.00,2,     -999,9,  13.8894,2,     -999,9,     -999,9,     -999,9,     -999,9,     -999,1,   4.9695,1,   0.0115,1,     10.1,6,     -999,9,     -999,9,     -999,9,     -999,9,20230827,0549, -33.9987,  55.2943,-999          ,9,-999          ,9
33RR20230722  ,I05        ,135     ,  1,16         ,16         ,2,20230827,0505, -33.9986,  55.2943,     1686,    225.2,2,  13.6523,2,  35.3032,2,  35.3031,2,    233.0,2,    232.8,2,     3.02,2,     6.84,2,     0.00,2,     0.57,2,    2.446,2,    1.589,2,   2.3900,2,   2120.8,2,   2318.7,2,   7.8542,2,    25.00,2,     -999,9,  13.6494,2,     -999,9,     -999,9,     -999,9,     -999,9,     -999,1,   4.9690,1,   0.0118,1,     10.1,2,     -999,9,     -999,9,     -999,9,     -999,9,20230827,0547, -33.9987,  55.2943,-999          ,9,-999          ,9
33RR20230722  ,I05        ,135     ,  1,15         ,15         ,2,20230827,0505, -33.9986,  55.2943,     1686,    273.5,2,  13.3850,2,  35.2706,2,  35.2696,2,    234.9,2,    235.1,2,     3.22,2,     7.40,2,     0.00,2,     0.61,2,    2.256,2,    1.596,2,   2.4100,2,   2124.1,2,   2316.5,2,   7.8504,2,    25.01,2,     -999,9,  13.3829,2,     -999,9,     -999,9,     -999,9,     -999,9,     -999,1,   4.9689,1,   0.0115,1,     10.2,2,     -999,9,     -999,9,     -999,9,     -999,9,20230827,0545, -33.9986,  55.2943,-999          ,9,-999          ,9
33RR20230722  ,I05        ,135     ,  1,14         ,14         ,2,20230827,0505, -33.9986,  55.2943,     1686,    332.5,2,  13.1573,2,  35.2377,2,  35.2359,2,    233.5,2,    233.4,2,     3.41,2,     8.11,2,     0.00,2,     0.64,2,     -999,9,     -999,9,     -999,9,   -999.0,9,     -999,9,     -999,9,     -999,9,     -999,9,  13.1552,2,     -999,9,     -999,9,     -999,9,     -999,9,     -999,1,   4.9683,1,   0.0119,1,     -999,9,     -999,9,     -999,9,     -999,9,     -999,9,20230827,0543, -33.9986,  55.2943,-999          ,9,-999          ,9
33RR20230722  ,I05        ,135     ,  1,13         ,13         ,2,20230827,0505, -33.9986,  55.2943,     1686,    401.7,2,  12.6717,2,  35.1626,2,  35.1630,2,    230.1,2,    230.0,2,     3.71,2,     9.49,2,     0.00,2,     0.72,2,    2.732,2,    1.673,2,   2.2600,2,   2119.7,2,   2311.7,2,   7.8253,2,    25.02,2,     -999,9,  12.6731,2,     -999,9,     -999,9,     -999,9,     -999,9,     -999,1,   4.9678,1,   0.0115,1,     10.5,2,     -999,9,     -999,9,     -999,9,     -999,9,20230827,0541, -33.9986,  55.2943,-999          ,9,-999          ,9
33RR20230722  ,I05        ,135     ,  1,12         ,12         ,2,20230827,0505, -33.9986,  55.2943,     1686,    479.6,2,  12.1895,2,  35.0849,2,  35.0846,2,    227.9,2,    228.2,2,     4.10,2,    10.81,2,     0.00,2,     0.80,2,     -999,9,     -999,9,     -999,9,   -999.0,9,     -999,9,     -999,9,     -999,9,     -999,9,  12.1926,2,     -999,9,     -999,9,     -999,9,     -999,9,     -999,1,   4.9670,1,   0.0115,1,     -999,9,     -999,9,     -999,9,     -999,9,     -999,9,20230827,0538, -33.9986,  55.2943,-999          ,9,-999          ,9
33RR20230722  ,I05        ,135     ,  1,11         ,11         ,2,20230827,0505, -33.9986,  55.2943,     1686,    565.2,2,  11.4342,2,  34.9646,2,  34.9654,2,    224.6,2,    224.8,2,     4.68,2,    12.83,2,     0.00,2,     0.97,2,    2.827,2,    1.771,2,   2.0500,2,   2135.8,2,   2303.2,2,   7.7901,2,    25.00,2,     -999,9,  11.4358,2,     -999,9,     -999,9,     -999,9,     -999,9,     -999,1,   4.9669,1,   0.0114,1,     11.8,2,     -999,9,     -999,9,     -999,9,     -999,9,20230827,0536, -33.9987,  55.2943,-999          ,9,-999          ,9
33RR20230722  ,I05        ,135     ,  1,10         ,10         ,2,20230827,0505, -33.9986,  55.2943,     1686,    660.0,2,  10.3031,2,  34.8060,2,  34.8053,2,    219.4,2,    219.8,2,     6.25,2,    15.87,2,     0.00,2,     1.14,2,     -999,9,     -999,9,     -999,9,   -999.0,9,     -999,9,     -999,9,     -999,9,     -999,9,  10.3019,2,     -999,9,     -999,9,     -999,9,     -999,9,     -999,1,   4.9667,1,   0.0113,1,     -999,9,     -999,9,     -999,9,     -999,9,     -999,9,20230827,0533, -33.9986,  55.2943,-999          ,9,-999          ,9
33RR20230722  ,I05        ,135     ,  1,9          ,9          ,2,20230827,0505, -33.9986,  55.2943,     1686,    765.2,2,   8.2842,2,  34.5852,2,  34.5869,2,    209.7,2,    209.5,2,    12.01,2,    21.54,2,     0.00,2,     1.48,2,    3.015,2,    1.733,2,   1.4800,2,   2163.9,2,   2289.8,2,   7.6995,2,    25.00,2,     -999,9,   8.2853,2,     -999,9,     -999,9,     -999,9,     -999,9,     -999,1,   4.9678,1,   0.0114,1,     15.3,2,     -999,9,     -999,9,     -999,9,     -999,9,20230827,0530, -33.9986,  55.2943,-999          ,9,-999          ,9
33RR20230722  ,I05        ,135     ,  1,8          ,8          ,2,20230827,0505, -33.9986,  55.2943,     1686,    879.8,2,   7.0276,2,  34.4771,2,  34.4762,2,    206.8,2,    206.4,2,    17.08,2,    24.92,2,     0.00,2,     1.74,2,     -999,9,     -999,9,     -999,9,   -999.0,9,     -999,9,     -999,9,     -999,9,     -999,9,   7.0269,2,     -999,9,     -999,9,     -999,9,     -999,9,     -999,1,   4.9686,1,   0.0114,1,     -999,9,     -999,9,     -999,9,     -999,9,     -999,9,20230827,0527, -33.9987,  55.2943,-999          ,9,-999          ,9
33RR20230722  ,I05        ,135     ,  1,7          ,7          ,2,20230827,0505, -33.9986,  55.2943,     1686,    997.5,2,   5.7862,2,  34.3887,2,  34.3884,2,    207.5,2,    207.7,2,    23.24,2,    27.62,2,     0.00,2,     1.94,2,    2.914,2,    1.545,2,   1.1200,2,   2182.8,2,   2289.7,2,   7.6390,2,    25.00,2,     -999,9,   5.7823,2,     -999,9,     -999,9,     -999,9,     -999,9,     -999,1,   4.9691,1,   0.0112,1,     17.7,2,     -999,9,     -999,9,     -999,9,     -999,9,20230827,0524, -33.9987,  55.2943,-999          ,9,-999          ,9
33RR20230722  ,I05        ,135     ,  1,6          ,6          ,2,20230827,0505, -33.9986,  55.2943,     1686,   1119.2,2,   4.6776,2,  34.3557,2,  34.3556,2,    203.0,2,    203.2,2,    32.61,2,    30.12,2,     0.00,2,     2.12,2,     -999,9,     -999,9,     -999,9,   -999.0,9,     -999,9,     -999,9,     -999,9,     -999,9,   4.6766,2,     -999,9,     -999,9,     -999,9,     -999,9,     -999,1,   4.9698,1,   0.0115,1,     -999,9,     -999,9,     -999,9,     -999,9,     -999,9,20230827,0521, -33.9986,  55.2943,-999          ,9,-999          ,9
33RR20230722  ,I05        ,135     ,  1,5          ,5          ,2,20230827,0505, -33.9986,  55.2943,     1686,   1249.2,2,   3.8344,2,  34.3977,2,  34.3970,2,    189.5,2,    189.8,2,    46.18,2,    32.23,2,     0.00,2,     2.26,2,    1.621,2,    0.925,2,   0.4000,2,   2220.0,2,   2307.9,6,   7.5885,2,    25.00,2,     -999,9,   3.8347,2,     -999,9,     -999,9,     -999,9,     -999,9,     -999,1,   4.9708,1,   0.0119,1,     21.3,2,     -999,9,     -999,9,     -999,9,     -999,9,20230827,0517, -33.9987,  55.2943,-999          ,9,-999          ,9
33RR20230722  ,I05        ,135     ,  1,4          ,37         ,2,20230827,0505, -33.9986,  55.2943,     1686,   1390.8,2,   3.3434,2,  34.4820,2,  34.4830,2,    178.3,2,    178.2,2,    59.06,2,    33.06,2,     0.00,2,     2.31,2,     -999,9,     -999,9,     -999,9,   -999.0,9,     -999,9,     -999,9,     -999,9,     -999,9,   3.3475,2,     -999,9,     -999,9,     -999,9,     -999,9,     -999,1,   4.9716,1,   0.0117,1,     -999,9,     -999,9,     -999,9,     -999,9,     -999,9,20230827,0514, -33.9986,  55.2943,-999          ,9,-999          ,9
33RR20230722  ,I05        ,135     ,  1,3          ,3          ,2,20230827,0505, -33.9986,  55.2943,     1686,   1522.4,2,   3.1656,2,  34.5224,2,  34.5217,2,    176.5,2,    176.6,2,    63.45,2,    33.06,2,     0.00,2,     2.31,2,    0.812,2,    0.423,2,   0.2800,2,   2242.3,2,   2326.2,2,   7.5780,6,    25.01,2,     -999,9,   3.1651,2,     -999,9,     -999,9,     -999,9,     -999,9,     -999,1,   4.9718,1,   0.0112,1,     21.8,2,     -999,9,     -999,9,     -999,9,     -999,9,20230827,0511, -33.9986,  55.2943,-999          ,9,-999          ,9
33RR20230722  ,I05        ,135     ,  1,2          ,2          ,2,20230827,0505, -33.9986,  55.2943,     1686,   1620.6,2,   3.1153,2,  34.5350,2,  34.5353,2,    176.1,2,    176.4,2,    65.01,2,    33.00,2,     0.00,2,     2.31,2,    0.788,2,    0.391,2,   0.2000,2,   -999.0,9,     -999,9,     -999,9,     -999,9,     -999,9,   3.1144,2,     -999,9,     -999,9,     -999,9,     -999,9,     -999,1,   4.0692,1,   0.0110,1,     21.7,2,     -999,9,     -999,9,     -999,9,     -999,9,20230827,0508, -33.9987,  55.2943,-999          ,9,-999          ,9
33RR20230722  ,I05        ,135     ,  1,1          ,1          ,2,20230827,0505, -33.9986,  55.2943,     1686,   1694.1,2,   3.0183,2,  34.5581,2,  34.5561,2,    176.0,2,    175.9,2,    67.45,2,    32.93,2,     0.00,2,     2.31,2,    0.703,2,    0.334,2,   0.1700,2,   2244.0,6,   2329.9,2,   7.5793,2,    25.02,2,     -999,9,   3.0195,2,     -999,9,     -999,9,     -999,9,     -999,9,     -999,1,   0.5491,1,   0.0112,1,     21.3,2,     -999,9,     -999,9,     -999,9,     -999,9,20230827,0505, -33.9986,  55.2943,-999          ,9,-999          ,9
33RR20230722  ,I05        ,136     ,  1,6          ,6          ,2,20230827,0832, -33.9978,  54.8834,     -999,      8.7,2,  15.9682,2,  35.5193,2,     -999,9,    249.4,2,     -999,9,     -999,9,     -999,9,     -999,9,     -999,9,     -999,9,     -999,9,     -999,9,   -999.0,9,     -999,9,     -999,9,     -999,9,     -999,9,  15.9635,2,     -999,1,     -999,1,     -999,9,     -999,9,     -999,9,   4.9758,1,   0.0306,1,     -999,9,     -999,9,     -999,9,     -999,9,     -999,9,20230827,0854, -33.9978,  54.8834,-999          ,9,-999          ,9
33RR20230722  ,I05        ,136     ,  1,5          ,5          ,2,20230827,0832, -33.9978,  54.8834,     -999,      8.8,2,  15.9703,2,  35.5192,2,     -999,9,    249.4,2,     -999,9,     -999,9,     -999,9,     -999,9,     -999,9,     -999,9,     -999,9,     -999,9,   -999.0,9,     -999,9,     -999,9,     -999,9,     -999,9,  15.9710,2,     -999,1,     -999,1,     -999,9,     -999,9,     -999,9,   4.6158,1,   0.0300,1,     -999,9,     -999,9,     -999,9,     -999,9,     -999,9,20230827,0854, -33.9979,  54.8834,-999          ,9,-999          ,9
33RR20230722  ,I05        ,136     ,  1,8          ,8          ,2,20230827,0832, -33.9978,  54.8834,     -999,      8.8,2,  15.9653,2,  35.5193,2,     -999,9,    249.4,2,     -999,9,     -999,9,     -999,9,     -999,9,     -999,9,     -999,9,     -999,9,     -999,9,   -999.0,9,     -999,9,     -999,9,     -999,9,     -999,9,  15.9674,2,     -999,9,     -999,9,     -999,1,     -999,9,     -999,9,   4.9757,1,   0.0333,1,     -999,9,     -999,9,     -999,9,     -999,9,     -999,9,20230827,0855, -33.9979,  54.8833,-999          ,9,-999          ,9
33RR20230722  ,I05        ,136     ,  1,7          ,7          ,2,20230827,0832, -33.9978,  54.8834,     -999,      8.9,2,  15.9657,2,  35.5194,2,     -999,9,    249.4,2,     -999,9,     -999,9,     -999,9,     -999,9,     -999,9,     -999,9,     -999,9,     -999,9,   -999.0,9,     -999,9,     -999,9,     -999,9,     -999,9,  15.9647,2,     -999,1,     -999,1,     -999,9,     -999,9,     -999,9,   4.9759,1,   0.0326,1,     -999,9,     -999,9,     -999,9,     -999,9,     -999,9,20230827,0854, -33.9979,  54.8834,-999          ,9,-999          ,9
33RR20230722  ,I05        ,136     ,  1,9          ,9          ,2,20230827,0832, -33.9978,  54.8834,     -999,      8.9,2,  15.9716,2,  35.5192,2,     -999,9,    249.4,2,     -999,9,     -999,9,     -999,9,     -999,9,     -999,9,     -999,9,     -999,9,     -999,9,   -999.0,9,     -999,9,     -999,9,     -999,9,     -999,9,  15.9710,2,     -999,9,     -999,9,     -999,1,     -999,9,     -999,9,   4.9758,1,   0.0363,1,     -999,9,     -999,9,     -999,9,     -999,9,     -999,9,20230827,0855, -33.9979,  54.8833,-999          ,9,-999          ,9
33RR20230722  ,I05        ,136     ,  1,10         ,10         ,2,20230827,0832, -33.9978,  54.8834,     -999,      8.9,2,  15.9714,2,  35.5193,2,     -999,9,    249.5,2,     -999,9,     -999,9,     -999,9,     -999,9,     -999,9,     -999,9,     -999,9,     -999,9,   -999.0,9,     -999,9,     -999,9,     -999,9,     -999,9,  15.9692,2,     -999,9,     -999,9,     -999,1,     -999,9,     -999,9,   4.9757,1,   0.0329,1,     -999,9,     -999,9,     -999,9,     -999,9,     -999,9,20230827,0855, -33.9978,  54.8834,-999          ,9,-999          ,9
33RR20230722  ,I05        ,136     ,  1,11         ,11         ,2,20230827,0832, -33.9978,  54.8834,     -999,      9.0,2,  15.9710,2,  35.5192,2,     -999,9,    249.4,2,     -999,9,     -999,9,     -999,9,     -999,9,     -999,9,     -999,9,     -999,9,     -999,9,   -999.0,9,     -999,9,     -999,9,     -999,9,     -999,9,  15.9698,2,     -999,9,     -999,9,     -999,9,     -999,9,     -999,9,   4.8584,1,   0.0304,1,     -999,9,     -999,9,     -999,9,     -999,9,     -999,9,20230827,0856, -33.9978,  54.8834,-999          ,1,-999          ,9
33RR20230722  ,I05        ,136     ,  1,4          ,37         ,2,20230827,0832, -33.9978,  54.8834,     -999,      9.2,2,  15.9688,2,  35.5193,2,     -999,9,    249.3,2,     -999,9,     -999,9,     -999,9,     -999,9,     -999,9,     -999,9,     -999,9,     -999,9,   -999.0,9,     -999,9,     -999,9,     -999,9,     -999,9,  15.9681,2,     -999,9,     -999,9,     -999,9,     -999,9,     -999,9,   4.9757,1,   0.0310,1,     -999,9,     -999,9,     -999,9,     -999,9,     -999,9,20230827,0853, -33.9979,  54.8834,-999          ,9,-999          ,1
33RR20230722  ,I05        ,136     ,  1,3          ,3          ,2,20230827,0832, -33.9978,  54.8834,     -999,    104.4,2,  15.3230,2,  35.4873,2,     -999,9,    236.9,2,     -999,9,     -999,9,     -999,9,     -999,9,     -999,9,     -999,9,     -999,9,     -999,9,   -999.0,9,     -999,9,     -999,9,     -999,9,     -999,9,  15.3454,2,     -999,9,     -999,9,     -999,9,     -999,9,     -999,9,   4.9720,1,   0.0174,1,     -999,9,     -999,9,     -999,9,     -999,9,     -999,9,20230827,0849, -33.9979,  54.8834,-999          ,9,-999          ,1
33RR20230722  ,I05        ,136     ,  1,2          ,2          ,2,20230827,0832, -33.9978,  54.8834,     -999,    204.4,2,  14.1612,2,  35.3518,2,     -999,9,    224.5,2,     -999,9,     -999,9,     -999,9,     -999,9,     -999,9,     -999,9,     -999,9,     -999,9,   -999.0,9,     -999,9,     -999,9,     -999,9,     -999,9,  14.1609,2,     -999,9,     -999,9,     -999,9,     -999,9,     -999,9,   4.9693,1,   0.0122,1,     -999,9,     -999,9,     -999,9,     -999,9,     -999,9,20230827,0846, -33.9979,  54.8834,-999          ,9,-999          ,1
33RR20230722  ,I05        ,136     ,  1,1          ,1          ,2,20230827,0832, -33.9978,  54.8834,     -999,   1009.7,2,   5.8321,2,  34.3872,2,     -999,9,    210.1,2,     -999,9,     -999,9,     -999,9,     -999,9,     -999,9,     -999,9,     -999,9,     -999,9,   -999.0,9,     -999,9,     -999,9,     -999,9,     -999,9,   5.8343,2,     -999,9,     -999,9,     -999,9,     -999,9,     -999,9,   4.9678,1,   0.0115,1,     -999,9,     -999,9,     -999,9,     -999,9,     -999,9,20230827,0832, -33.9979,  54.8834,-999          ,9,-999          ,1