BOTTLE,20240422CCHHYDRO
EXPOCODE,SECT_ID,STNNBR,CASTNO,SAMPNO,BTLNBR,BTLNBR_FLAG_W,DATE,TIME,LATITUDE,LONGITUDE,DEPTH,CTDPRS,CTDPRS_FLAG_W,CTDTMP,CTDTMP_FLAG_W,CTDSAL,CTDSAL_FLAG_W,SALNTY,SALNTY_FLAG_W,CTDOXY,CTDOXY_FLAG_W,OXYGEN,OXYGEN_FLAG_W,SILCAT,SILCAT_FLAG_W,NITRAT,NITRAT_FLAG_W,NITRIT,NITRIT_FLAG_W,PHSPHT,PHSPHT_FLAG_W,CFC-11,CFC-11_FLAG_W,CFC-12,CFC-12_FLAG_W,SF6,SF6_FLAG_W,TCARBN,TCARBN_FLAG_W,ALKALI,ALKALI_FLAG_W,PH_TOT,PH_TOT_FLAG_W,PH_TMP,PH_TMP_FLAG_W,DOC,DOC_FLAG_W,REFTMP,REFTMP_FLAG_W,POC,POC_FLAG_W,PON,PON_FLAG_W,POP,POP_FLAG_W,DOP,DOP_FLAG_W,DELO18,DELO18_FLAG_W,CTDFLUOR,CTDFLUOR_FLAG_W,CTDXMISS,CTDXMISS_FLAG_W,N2O,N2O_FLAG_W,D15N_NO3,D15N_NO3_FLAG_W,D15N_NO2+NO3,D15N_NO2+NO3_FLAG_W,D18O_NO2+NO3,D18O_NO2+NO3_FLAG_W,D18O_NO3,D18O_NO3_FLAG_W,BTL_DATE,BTL_TIME,BTL_LAT,BTL_LON,HPLC,HPLC_FLAG_W,DNA,DNA_FLAG_W
,,,,,,,,,,,METERS,DBAR,,ITS-90,,PSS-78,,PSS-78,,UMOL/KG,,UMOL/KG,,UMOL/KG,,UMOL/KG,,UMOL/KG,,UMOL/KG,,PMOL/KG,,PMOL/KG,,FMOL/KG,,UMOL/KG,,UMOL/KG,,,,DEG C,,UMOL/KG,,ITS-90,,UG/KG,,UG/KG,,UG/L,,UMOL/KG,,/MILLE,,VOLTS,,VOLTS,,NMOL/KG,,/MILLE,,/MILLE,,/MILLE,,/MILLE,,,,,,,,,
33RR20230722  ,I05        ,175     ,  1,30         ,30         ,2,20230905,2246, -32.9985,  36.1493,     2174,      3.7,2,  19.4231,2,  35.6287,2,  35.6293,2,    230.3,2,    229.4,2,     1.76,2,     0.00,2,     0.00,2,     0.11,2,    1.811,2,    1.215,2,   2.0900,2,   2057.1,6,   2333.3,2,   7.9910,6,    24.97,2,     -999,1,  19.4229,2,     -999,9,     -999,9,     -999,9,     -999,9,     -999,9,   1.2596,1,   0.0345,1,      8.1,2,     -999,9,     -999,9,     -999,9,     -999,9,20230906,0001, -32.9985,  36.1493,-999          ,9,-999          ,9
33RR20230722  ,I05        ,175     ,  1,29         ,29         ,2,20230905,2246, -32.9985,  36.1493,     2174,     29.7,2,  19.4308,2,  35.6288,2,  35.6251,2,    230.2,2,    229.9,2,     1.85,2,     0.00,2,     0.00,2,     0.09,2,     -999,9,     -999,9,     -999,9,   -999.0,9,     -999,9,     -999,9,     -999,9,     -999,9,  19.4291,2,     -999,9,     -999,9,     -999,9,     -999,9,     -999,9,   4.7834,1,   0.0351,1,     -999,9,     -999,9,     -999,9,     -999,9,     -999,9,20230905,2358, -32.9984,  36.1493,-999          ,9,-999          ,9
33RR20230722  ,I05        ,175     ,  1,28         ,28         ,2,20230905,2246, -32.9985,  36.1493,     2174,     50.5,2,  19.1181,2,  35.6367,2,  35.6362,2,    228.9,2,    228.9,2,     1.95,2,     0.03,2,     0.12,2,     0.12,2,     -999,9,     -999,9,     -999,9,   -999.0,9,     -999,9,     -999,9,     -999,9,     -999,9,  19.1027,2,     -999,9,     -999,9,     -999,9,     -999,9,     -999,9,   4.6998,1,   0.0315,1,     -999,9,     -999,9,     -999,9,     -999,9,     -999,9,20230905,2357, -32.9985,  36.1493,-999          ,9,-999          ,9
33RR20230722  ,I05        ,175     ,  1,27         ,27         ,2,20230905,2246, -32.9985,  36.1493,     2174,     71.6,2,  18.5871,2,  35.6299,2,  35.6340,2,    226.3,2,    227.6,2,     2.05,2,     0.43,2,     0.20,2,     0.14,2,     -999,9,     -999,9,     -999,9,   2066.8,2,   2334.2,2,   7.9730,6,    24.99,2,     -999,9,  18.5764,2,     -999,9,     -999,9,     -999,9,     -999,9,     -999,9,   4.9378,1,   0.0250,1,     -999,9,     -999,9,     -999,9,     -999,9,     -999,9,20230905,2355, -32.9985,  36.1493,-999          ,9,-999          ,9
33RR20230722  ,I05        ,175     ,  1,26         ,26         ,2,20230905,2246, -32.9985,  36.1493,     2174,     96.3,2,  18.5353,2,  35.6817,2,  35.6717,2,    228.7,2,    227.6,2,     1.95,2,     0.20,2,     0.31,2,     0.12,2,     -999,9,     -999,9,     -999,9,   -999.0,9,     -999,9,     -999,9,     -999,9,     -999,9,  18.5339,2,     -999,9,     -999,9,     -999,9,     -999,9,     -999,9,   4.6584,1,   0.0161,1,     -999,9,     -999,9,     -999,9,     -999,9,     -999,9,20230905,2352, -32.9985,  36.1493,-999          ,9,-999          ,9
33RR20230722  ,I05        ,175     ,  1,25         ,25         ,2,20230905,2246, -32.9985,  36.1493,     2174,    123.8,2,  18.2598,2,  35.6512,2,  35.6469,2,    223.8,2,    223.4,2,     2.34,2,     1.20,2,     0.10,2,     0.17,2,     -999,9,     -999,9,     -999,9,   2077.1,2,   2333.3,6,   7.9577,2,    24.99,2,     -999,9,  18.2473,2,     -999,9,     -999,9,     -999,9,     -999,9,     -999,9,   4.9719,1,   0.0128,1,     -999,9,     -999,9,     -999,9,     -999,9,     -999,9,20230905,2350, -32.9984,  36.1494,-999          ,9,-999          ,9
33RR20230722  ,I05        ,175     ,  1,24         ,24         ,2,20230905,2246, -32.9985,  36.1493,     2174,    154.5,2,  17.8863,2,  35.6227,2,  35.6224,2,    220.7,2,    221.9,2,     2.73,2,     1.94,2,     0.02,2,     0.23,2,     -999,9,     -999,9,     -999,9,   -999.0,9,     -999,9,     -999,9,     -999,9,     -999,9,  17.8695,2,     -999,9,     -999,9,     -999,9,     -999,9,     -999,9,   4.9708,1,   0.0120,1,     -999,9,     -999,9,     -999,9,     -999,9,     -999,9,20230905,2348, -32.9984,  36.1494,-999          ,9,-999          ,9
33RR20230722  ,I05        ,175     ,  1,23         ,23         ,2,20230905,2246, -32.9985,  36.1493,     2174,    185.1,2,  17.5246,2,  35.6148,2,  35.6149,2,    210.5,2,    211.1,2,     2.73,2,     2.95,2,     0.00,2,     0.28,2,     -999,9,     -999,9,     -999,9,   2094.6,2,   2331.8,2,   7.9208,2,    24.99,2,     -999,9,  17.5672,2,     -999,9,     -999,9,     -999,9,     -999,9,     -999,9,   4.9691,1,   0.0124,1,     -999,9,     -999,9,     -999,9,     -999,9,     -999,9,20230905,2347, -32.9985,  36.1493,-999          ,9,-999          ,9
33RR20230722  ,I05        ,175     ,  1,22         ,22         ,2,20230905,2246, -32.9985,  36.1493,     2174,    216.9,2,  16.9814,2,  35.5892,2,  35.5873,2,    210.1,3,    213.2,2,     2.93,2,     3.76,2,     0.00,2,     0.35,2,     -999,9,     -999,9,     -999,9,   -999.0,9,     -999,9,     -999,9,     -999,9,     -999,9,  16.9789,2,     -999,9,     -999,9,     -999,9,     -999,9,     -999,9,   4.7464,1,   0.0117,1,     -999,9,     -999,9,     -999,9,     -999,9,     -999,9,20230905,2345, -32.9985,  36.1493,-999          ,9,-999          ,9
33RR20230722  ,I05        ,175     ,  1,21         ,21         ,2,20230905,2246, -32.9985,  36.1493,     2174,    249.6,2,  16.5567,2,  35.5671,2,  35.5681,2,    212.7,2,    213.2,2,     3.02,2,     4.17,2,     0.00,2,     0.38,2,    2.115,2,    1.382,2,   2.0300,2,   2102.4,2,   2328.1,2,   7.9027,6,    24.99,2,     -999,9,  16.5700,2,     -999,9,     -999,9,     -999,9,     -999,9,     -999,9,   4.9573,1,   0.0115,1,      9.3,2,     -999,9,     -999,9,     -999,9,     -999,9,20230905,2343, -32.9985,  36.1493,-999          ,9,-999          ,9
33RR20230722  ,I05        ,175     ,  1,20         ,20         ,2,20230905,2246, -32.9985,  36.1493,     2174,    284.5,2,  16.2036,2,  35.5375,2,  35.5334,2,    212.4,2,    212.4,2,     3.32,2,     4.90,2,     0.00,2,     0.42,2,     -999,9,     -999,9,     -999,9,   -999.0,9,     -999,9,     -999,9,     -999,9,     -999,9,  16.1940,2,     -999,9,     -999,9,     -999,9,     -999,9,     -999,9,   4.9681,1,   0.0117,1,     -999,9,     -999,9,     -999,9,     -999,9,     -999,9,20230905,2341, -32.9984,  36.1493,-999          ,9,-999          ,9
33RR20230722  ,I05        ,175     ,  1,19         ,19         ,2,20230905,2246, -32.9985,  36.1493,     2174,    324.7,2,  15.7710,2,  35.5003,2,  35.5006,2,    212.4,2,    212.7,2,     3.41,2,     5.43,2,     0.00,2,     0.46,2,     -999,9,     -999,9,     -999,9,   2109.5,2,   2326.1,2,   7.8823,2,    24.99,2,     -999,9,  15.7761,2,     -999,9,     -999,9,     -999,9,     -999,9,     -999,9,   4.9679,1,   0.0114,1,     -999,9,     -999,9,     -999,9,     -999,9,     -999,9,20230905,2339, -32.9984,  36.1494,-999          ,9,-999          ,9
33RR20230722  ,I05        ,175     ,  1,18         ,18         ,2,20230905,2246, -32.9985,  36.1493,     2174,    373.3,2,  14.9604,2,  35.4178,2,  35.4164,2,    211.6,2,    211.7,2,     3.80,2,     6.74,2,     0.00,2,     0.54,2,     -999,9,     -999,9,     -999,9,   -999.0,9,     -999,9,     -999,9,     -999,9,     -999,9,  14.9598,2,     -999,9,     -999,9,     -999,9,     -999,9,     -999,9,   4.8770,1,   0.0113,1,     -999,9,     -999,9,     -999,9,     -999,9,     -999,9,20230905,2337, -32.9985,  36.1493,-999          ,9,-999          ,9
33RR20230722  ,I05        ,175     ,  1,17         ,17         ,2,20230905,2246, -32.9985,  36.1493,     2174,    424.4,2,  14.2728,2,  35.3462,2,  35.3455,2,    213.6,2,    214.0,2,     3.61,2,     7.72,2,     0.00,2,     0.60,2,     -999,9,     -999,9,     -999,9,   -999.0,9,     -999,9,     -999,9,     -999,9,     -999,9,  14.2697,2,     -999,9,     -999,9,     -999,9,     -999,9,     -999,9,   4.9671,1,   0.0113,1,     -999,9,     -999,9,     -999,9,     -999,9,     -999,9,20230905,2335, -32.9985,  36.1493,-999          ,9,-999          ,9
33RR20230722  ,I05        ,175     ,  1,16         ,16         ,2,20230905,2246, -32.9985,  36.1493,     2174,    482.0,2,  13.5357,2,  35.2671,2,  35.2694,2,    219.0,2,    219.1,2,     3.51,2,     8.67,2,     0.00,2,     0.65,2,    2.627,2,    1.590,2,   2.0500,2,   2124.4,2,   2316.1,2,   7.8330,2,    24.99,2,     -999,9,  13.5417,2,     -999,9,     -999,9,     -999,9,     -999,9,     -999,9,   4.7620,1,   0.0113,1,     11.2,2,     -999,9,     -999,9,     -999,9,     -999,9,20230905,2333, -32.9984,  36.1493,-999          ,9,-999          ,9
33RR20230722  ,I05        ,175     ,  1,15         ,15         ,2,20230905,2246, -32.9985,  36.1493,     2174,    547.2,2,  12.9053,2,  35.1926,2,  35.1935,2,    224.8,2,    224.4,2,     3.71,2,     9.59,2,     0.00,2,     0.72,2,     -999,9,     -999,9,     -999,9,   -999.0,9,     -999,9,     -999,9,     -999,9,     -999,9,  12.9043,2,     -999,9,     -999,9,     -999,9,     -999,9,     -999,9,   4.9672,1,   0.0114,1,     -999,9,     -999,9,     -999,9,     -999,9,     -999,9,20230905,2331, -32.9985,  36.1494,-999          ,9,-999          ,9
33RR20230722  ,I05        ,175     ,  1,14         ,14         ,2,20230905,2246, -32.9985,  36.1493,     2174,    627.6,2,  12.2081,2,  35.0886,2,  35.0900,2,    223.8,2,    223.5,2,     4.20,2,    11.25,2,     0.00,2,     0.83,2,    2.736,2,    1.697,2,   2.0200,2,   2131.0,2,   2306.9,2,   7.8059,2,    24.95,2,     -999,9,  12.2063,2,     -999,9,     -999,9,     -999,9,     -999,9,     -999,9,   4.9668,1,   0.0115,1,     11.7,2,     -999,9,     -999,9,     -999,9,     -999,9,20230905,2328, -32.9984,  36.1493,-999          ,9,-999          ,9
33RR20230722  ,I05        ,175     ,  1,13         ,13         ,2,20230905,2246, -32.9985,  36.1493,     2174,    719.7,2,  11.3075,2,  34.9550,2,  34.9459,2,    218.2,2,    218.1,2,     5.27,2,    13.83,2,     0.00,2,     0.99,2,     -999,9,     -999,9,     -999,9,   2137.4,2,   2301.5,2,   7.7781,2,    24.98,2,     -999,9,  11.3036,2,     -999,9,     -999,9,     -999,9,     -999,9,     -999,9,   4.9670,1,   0.0112,1,     -999,9,     -999,9,     -999,9,     -999,9,     -999,9,20230905,2325, -32.9985,  36.1493,-999          ,9,-999          ,9
33RR20230722  ,I05        ,175     ,  1,12         ,12         ,2,20230905,2246, -32.9985,  36.1493,     2174,    821.7,2,   9.8591,2,  34.7687,2,  34.7699,2,    212.7,2,    212.8,2,     8.20,2,    17.51,2,     0.00,2,     1.23,2,    2.900,2,    1.754,2,   1.4900,2,   2148.4,2,   2296.2,2,   7.7390,2,    24.96,2,     -999,9,   9.8606,2,     -999,9,     -999,9,     -999,9,     -999,9,     -999,9,   4.9672,1,   0.0113,1,     14.9,2,     -999,9,     -999,9,     -999,9,     -999,9,20230905,2322, -32.9984,  36.1494,-999          ,9,-999          ,9
33RR20230722  ,I05        ,175     ,  1,11         ,11         ,2,20230905,2246, -32.9985,  36.1493,     2174,    926.8,2,   8.5294,2,  34.6238,2,  34.6233,2,    207.0,2,    207.6,2,    12.39,2,    21.31,2,     0.00,2,     1.47,2,     -999,9,     -999,9,     -999,9,   -999.0,9,     -999,9,     -999,9,     -999,9,     -999,9,   8.5294,2,     -999,9,     -999,9,     -999,9,     -999,9,     -999,9,   4.9683,1,   0.0113,1,     -999,9,     -999,9,     -999,9,     -999,9,     -999,9,20230905,2319, -32.9985,  36.1494,-999          ,9,-999          ,9
33RR20230722  ,I05        ,175     ,  1,10         ,10         ,2,20230905,2246, -32.9985,  36.1493,     2174,   1032.8,2,   7.2383,2,  34.5116,2,  34.5125,2,    201.8,2,    202.5,2,    18.15,2,    24.84,2,     0.00,2,     1.71,2,     -999,9,     -999,9,     -999,9,   -999.0,9,     -999,9,     -999,9,     -999,9,     -999,9,   7.2418,2,     -999,9,     -999,9,     -999,9,     -999,9,     -999,9,   4.8934,1,   0.0112,1,     -999,9,     -999,9,     -999,9,     -999,9,     -999,9,20230905,2316, -32.9985,  36.1493,-999          ,9,-999          ,9
33RR20230722  ,I05        ,175     ,  1,9          ,9          ,2,20230905,2246, -32.9985,  36.1493,     2174,   1142.2,2,   6.1202,2,  34.4753,2,  34.4752,2,    188.5,2,    188.7,2,    29.28,2,    28.34,2,     0.00,2,     1.97,2,     -999,9,     -999,9,     -999,9,   -999.0,9,     -999,9,     -999,9,     -999,9,     -999,9,   6.1228,2,     -999,9,     -999,9,     -999,9,     -999,9,     -999,9,   4.9707,1,   0.0111,1,     -999,9,     -999,9,     -999,9,     -999,9,     -999,9,20230905,2313, -32.9984,  36.1494,-999          ,9,-999          ,9
33RR20230722  ,I05        ,175     ,  1,8          ,8          ,2,20230905,2246, -32.9985,  36.1493,     2174,   1255.6,2,   5.2460,2,  34.4799,2,  34.4803,2,    176.2,2,    176.2,2,    41.29,2,    30.93,2,     0.00,2,     2.17,2,    1.611,2,    0.896,2,   0.5100,2,   2215.1,2,   2307.5,2,   7.6003,2,    24.95,2,     -999,9,   5.2457,2,     -999,9,     -999,9,     -999,9,     -999,9,     -999,9,   4.9716,1,   0.0111,1,     22.6,2,     -999,9,     -999,9,     -999,9,     -999,9,20230905,2310, -32.9984,  36.1493,-999          ,9,-999          ,9
33RR20230722  ,I05        ,175     ,  1,7          ,7          ,2,20230905,2246, -32.9985,  36.1493,     2174,   1377.6,2,   4.2101,2,  34.4647,2,  34.4652,2,    176.8,2,    177.0,2,    50.17,2,    32.46,2,     0.00,2,     2.26,2,     -999,9,     -999,9,     -999,9,   2225.8,2,   2315.0,2,   7.5843,6,    24.97,2,     -999,9,   4.2135,2,     -999,9,     -999,9,     -999,9,     -999,9,     -999,9,   4.7301,1,   0.0118,1,     -999,9,     -999,9,     -999,9,     -999,9,     -999,9,20230905,2307, -32.9985,  36.1493,-999          ,9,-999          ,9
33RR20230722  ,I05        ,175     ,  1,6          ,6          ,2,20230905,2246, -32.9985,  36.1493,     2174,   1509.6,2,   3.7204,2,  34.5202,2,  34.5207,2,    170.0,2,    169.9,2,    60.22,2,    33.22,2,     0.00,2,     2.32,2,     -999,9,     -999,9,     -999,9,   -999.0,9,     -999,9,     -999,9,     -999,9,     -999,9,   3.7245,2,     -999,9,     -999,9,     -999,9,     -999,9,     -999,9,   4.5933,1,   0.0114,1,     -999,9,     -999,9,     -999,9,     -999,9,     -999,9,20230905,2304, -32.9985,  36.1493,-999          ,9,-999          ,9
33RR20230722  ,I05        ,175     ,  1,5          ,5          ,2,20230905,2246, -32.9985,  36.1493,     2174,   1651.2,2,   3.5175,2,  34.6108,2,  34.6107,2,    161.3,2,    160.7,2,    70.86,2,    33.42,2,     0.00,2,     2.34,2,     -999,9,     -999,9,     -999,9,   -999.0,9,     -999,9,     -999,9,     -999,9,     -999,9,   3.5172,2,     -999,9,     -999,9,     -999,9,     -999,9,     -999,9,   4.9732,1,   0.0117,1,     -999,9,     -999,9,     -999,9,     -999,9,     -999,9,20230905,2300, -32.9985,  36.1493,-999          ,9,-999          ,9
33RR20230722  ,I05        ,175     ,  1,4          ,37         ,2,20230905,2246, -32.9985,  36.1493,     2174,   1802.9,2,   3.0936,2,  34.6623,2,  34.6629,2,    168.4,2,    168.0,2,    73.98,2,    32.57,2,     0.00,2,     2.26,2,    0.256,2,    0.145,2,   0.0000,2,   2253.0,2,   2340.9,2,   7.5832,6,    24.95,2,     -999,9,   3.0914,2,     -999,9,     -999,9,     -999,9,     -999,9,     -999,9,   4.8636,1,   0.0122,1,     23.2,2,     -999,9,     -999,9,     -999,9,     -999,9,20230905,2257, -32.9985,  36.1493,-999          ,9,-999          ,9
33RR20230722  ,I05        ,175     ,  1,3          ,3          ,2,20230905,2246, -32.9985,  36.1493,     2174,   1954.7,2,   2.8935,2,  34.7052,2,  34.7056,2,    175.4,2,    175.7,2,    74.75,2,    31.55,2,     0.00,2,     2.21,2,     -999,9,     -999,9,     -999,9,   2247.5,2,   2344.6,2,   7.5983,6,    24.97,2,     -999,9,   2.8929,2,     -999,9,     -999,9,     -999,9,     -999,9,     -999,9,   4.9133,1,   0.0118,1,     -999,9,     -999,9,     -999,9,     -999,9,     -999,9,20230905,2253, -32.9985,  36.1493,-999          ,9,-999          ,9
33RR20230722  ,I05        ,175     ,  1,2          ,2          ,2,20230905,2246, -32.9985,  36.1493,     2174,   2084.8,2,   2.8115,2,  34.7246,2,  34.7254,2,    179.4,2,    179.7,2,    74.75,2,    30.99,2,     0.00,2,     2.19,2,    0.120,2,    0.064,2,   0.0200,2,   -999.0,9,     -999,9,     -999,9,     -999,9,     -999,9,   2.8116,2,     -999,9,     -999,9,     -999,9,     -999,9,     -999,9,   4.9724,1,   0.0123,1,     21.6,2,     -999,9,     -999,9,     -999,9,     -999,9,20230905,2249, -32.9984,  36.1493,-999          ,9,-999          ,9
33RR20230722  ,I05        ,175     ,  1,1          ,1          ,2,20230905,2246, -32.9985,  36.1493,     2174,   2190.8,2,   2.7685,2,  34.7349,2,  34.7339,2,    182.2,2,    182.5,2,    74.56,2,    30.71,2,     0.00,2,     2.14,2,    0.097,2,    0.057,2,   0.0400,2,   2244.8,6,   2346.3,2,   7.6116,2,    25.00,2,     -999,9,   2.7702,2,     -999,9,     -999,9,     -999,9,     -999,9,     -999,9,   0.4712,1,   0.0122,1,     20.7,2,     -999,9,     -999,9,     -999,9,     -999,9,20230905,2246, -32.9984,  36.1493,-999          ,9,-999          ,9