BOTTLE,20240422CCHHYDRO
EXPOCODE,SECT_ID,STNNBR,CASTNO,SAMPNO,BTLNBR,BTLNBR_FLAG_W,DATE,TIME,LATITUDE,LONGITUDE,DEPTH,CTDPRS,CTDPRS_FLAG_W,CTDTMP,CTDTMP_FLAG_W,CTDSAL,CTDSAL_FLAG_W,SALNTY,SALNTY_FLAG_W,CTDOXY,CTDOXY_FLAG_W,OXYGEN,OXYGEN_FLAG_W,SILCAT,SILCAT_FLAG_W,NITRAT,NITRAT_FLAG_W,NITRIT,NITRIT_FLAG_W,PHSPHT,PHSPHT_FLAG_W,CFC-11,CFC-11_FLAG_W,CFC-12,CFC-12_FLAG_W,SF6,SF6_FLAG_W,TCARBN,TCARBN_FLAG_W,ALKALI,ALKALI_FLAG_W,PH_TOT,PH_TOT_FLAG_W,PH_TMP,PH_TMP_FLAG_W,DOC,DOC_FLAG_W,REFTMP,REFTMP_FLAG_W,POC,POC_FLAG_W,PON,PON_FLAG_W,POP,POP_FLAG_W,DOP,DOP_FLAG_W,DELO18,DELO18_FLAG_W,CTDFLUOR,CTDFLUOR_FLAG_W,CTDXMISS,CTDXMISS_FLAG_W,N2O,N2O_FLAG_W,D15N_NO3,D15N_NO3_FLAG_W,D15N_NO2+NO3,D15N_NO2+NO3_FLAG_W,D18O_NO2+NO3,D18O_NO2+NO3_FLAG_W,D18O_NO3,D18O_NO3_FLAG_W,BTL_DATE,BTL_TIME,BTL_LAT,BTL_LON,HPLC,HPLC_FLAG_W,DNA,DNA_FLAG_W
,,,,,,,,,,,METERS,DBAR,,ITS-90,,PSS-78,,PSS-78,,UMOL/KG,,UMOL/KG,,UMOL/KG,,UMOL/KG,,UMOL/KG,,UMOL/KG,,PMOL/KG,,PMOL/KG,,FMOL/KG,,UMOL/KG,,UMOL/KG,,,,DEG C,,UMOL/KG,,ITS-90,,UG/KG,,UG/KG,,UG/L,,UMOL/KG,,/MILLE,,VOLTS,,VOLTS,,NMOL/KG,,/MILLE,,/MILLE,,/MILLE,,/MILLE,,,,,,,,,
33RR20230722  ,I05        ,112     ,  1,35         ,35         ,2,20230820,2257, -33.9987,  65.1249,     4585,      7.4,2,  16.0184,2,  35.4332,2,  35.4436,2,    247.0,2,    246.8,2,     1.17,2,     0.07,2,     0.02,2,     0.17,2,     -999,9,     -999,9,     -999,9,   2079.8,2,   2328.1,2,   7.9432,2,    25.01,2,     -999,1,  16.0175,2,     -999,9,     -999,9,     -999,9,     -999,1,     -999,1,   4.9595,1,   0.0345,1,     -999,9,     -999,9,     -999,9,     -999,9,     -999,9,20230821,0055, -33.9987,  65.1249,-999          ,9,-999          ,9
33RR20230722  ,I05        ,112     ,  1,36         ,38         ,2,20230820,2257, -33.9987,  65.1249,     4585,      8.7,2,  16.0225,2,  35.4328,2,     -999,9,    246.9,2,     -999,9,     -999,9,     -999,9,     -999,9,     -999,9,     -999,9,     -999,9,     -999,9,   -999.0,9,     -999,9,     -999,9,     -999,9,     -999,9,     -999,1,     -999,9,     -999,9,     -999,9,     -999,9,     -999,9,   4.5984,1,   0.0342,1,     -999,9,     -999,9,     -999,9,     -999,9,     -999,9,20230821,0056, -33.9987,  65.1249,-999          ,9,-999          ,9
33RR20230722  ,I05        ,112     ,  1,34         ,34         ,2,20230820,2257, -33.9987,  65.1249,     4585,     30.6,2,  16.0078,2,  35.4310,2,  35.4320,2,    247.3,2,    247.2,2,     1.17,2,     0.02,2,     0.02,2,     0.17,2,    1.859,2,    1.222,2,   2.2200,2,   -999.0,9,     -999,9,     -999,9,     -999,9,     -999,1,  16.0107,2,     -999,9,     -999,9,     -999,9,     -999,1,     -999,1,   4.9276,1,   0.0391,1,      8.6,2,     -999,9,     -999,9,     -999,9,     -999,9,20230821,0053, -33.9987,  65.1249,-999          ,9,-999          ,9
33RR20230722  ,I05        ,112     ,  1,33         ,33         ,2,20230820,2257, -33.9987,  65.1249,     4585,     53.8,2,  15.9570,2,  35.4263,2,  35.4287,2,    247.8,2,    247.5,2,     1.17,2,     0.04,2,     0.02,2,     0.16,2,     -999,9,     -999,9,     -999,9,   -999.0,9,     -999,9,     -999,9,     -999,9,     -999,1,  15.9890,2,     -999,9,     -999,9,     -999,9,     -999,1,     -999,1,   4.9752,1,   0.0380,1,     -999,9,     -999,9,     -999,9,     -999,9,     -999,9,20230821,0051, -33.9987,  65.1249,-999          ,9,-999          ,9
33RR20230722  ,I05        ,112     ,  1,32         ,32         ,2,20230820,2257, -33.9987,  65.1249,     4585,     76.3,2,  15.6328,2,  35.4022,2,     -999,9,    245.0,2,     -999,9,     -999,9,     -999,9,     -999,9,     -999,9,     -999,9,     -999,9,     -999,9,   -999.0,9,     -999,9,     -999,9,     -999,9,     -999,9,     -999,1,     -999,9,     -999,9,     -999,9,     -999,9,     -999,9,   4.9742,1,   0.0398,1,     -999,9,     -999,9,     -999,9,     -999,9,     -999,9,20230821,0049, -33.9987,  65.1249,-999          ,9,-999          ,9
33RR20230722  ,I05        ,112     ,  1,31         ,31         ,2,20230820,2257, -33.9987,  65.1249,     4585,     76.9,2,  15.6293,2,  35.4015,2,  35.4015,2,    245.1,2,    245.4,2,     1.46,2,     0.64,2,     0.13,2,     0.21,2,     -999,9,     -999,9,     -999,9,   2085.4,2,   2325.4,2,   7.9307,2,    25.02,2,     -999,1,  15.6272,2,     -999,9,     -999,9,     -999,9,     -999,1,     -999,1,   4.8870,1,   0.0406,1,     -999,9,     -999,9,     -999,9,     -999,9,     -999,9,20230821,0049, -33.9987,  65.1249,-999          ,9,-999          ,9
33RR20230722  ,I05        ,112     ,  1,30         ,30         ,2,20230820,2257, -33.9987,  65.1249,     4585,    103.7,2,  14.9318,2,  35.3687,2,  35.3697,2,    233.5,2,    235.4,2,     2.05,2,     3.62,2,     0.10,2,     0.39,2,     -999,9,     -999,9,     -999,9,   -999.0,9,     -999,9,     -999,9,     -999,9,     -999,1,  14.9271,2,     -999,9,     -999,9,     -999,9,     -999,9,     -999,1,   4.8313,1,   0.0221,1,     -999,9,     -999,9,     -999,9,     -999,9,     -999,9,20230821,0047, -33.9987,  65.1249,-999          ,9,-999          ,9
33RR20230722  ,I05        ,112     ,  1,29         ,29         ,2,20230820,2257, -33.9987,  65.1249,     4585,    133.1,2,  14.2586,2,  35.3357,2,  35.3356,2,    227.3,2,    228.9,2,     2.73,2,     5.82,2,     0.02,2,     0.52,2,     -999,9,     -999,9,     -999,9,   2113.8,2,   2318.9,2,   7.8647,2,    25.03,2,     -999,1,  14.2774,2,     -999,9,     -999,9,     -999,9,     -999,1,     -999,1,   4.9695,1,   0.0153,1,     -999,9,     -999,9,     -999,9,     -999,9,     -999,9,20230821,0045, -33.9987,  65.1249,-999          ,9,-999          ,9
33RR20230722  ,I05        ,112     ,  1,28         ,28         ,2,20230820,2257, -33.9987,  65.1249,     4585,    162.9,2,  13.7421,2,  35.2914,2,  35.2942,2,    228.2,2,    229.5,2,     3.02,2,     6.95,2,     0.00,2,     0.58,2,     -999,9,     -999,9,     -999,9,   -999.0,9,     -999,9,     -999,9,     -999,9,     -999,1,  13.7547,2,     -999,9,     -999,9,     -999,9,     -999,9,     -999,1,   4.8449,1,   0.0127,1,     -999,9,     -999,9,     -999,9,     -999,9,     -999,9,20230821,0044, -33.9987,  65.1249,-999          ,9,-999          ,9
33RR20230722  ,I05        ,112     ,  1,27         ,27         ,2,20230820,2257, -33.9987,  65.1249,     4585,    194.4,2,  13.3081,2,  35.2395,2,  35.2390,2,    235.3,2,    235.5,2,     2.73,2,     7.11,2,     0.00,2,     0.60,2,    2.343,2,    1.636,2,   2.3900,2,   2120.8,2,   2314.0,2,   7.8447,2,    25.04,2,     -999,1,  13.3078,2,     -999,9,     -999,9,     -999,9,     -999,1,     -999,1,   4.9695,1,   0.0125,1,     10.7,2,     -999,9,     -999,9,     -999,9,     -999,9,20230821,0042, -33.9987,  65.1249,-999          ,9,-999          ,9
33RR20230722  ,I05        ,112     ,  1,26         ,26         ,2,20230820,2257, -33.9987,  65.1249,     4585,    225.9,2,  13.0917,2,  35.2196,2,  35.2207,2,    237.3,2,    237.2,2,     2.93,2,     7.60,2,     0.00,2,     0.62,2,     -999,9,     -999,9,     -999,9,   -999.0,9,     -999,9,     -999,9,     -999,9,     -999,1,  13.0914,2,     -999,9,     -999,9,     -999,9,     -999,9,     -999,1,   4.8448,1,   0.0122,1,     -999,9,     -999,9,     -999,9,     -999,9,     -999,9,20230821,0041, -33.9987,  65.1249,-999          ,9,-999          ,9
33RR20230722  ,I05        ,112     ,  1,25         ,25         ,2,20230820,2257, -33.9987,  65.1249,     4585,    263.4,2,  12.9221,2,  35.1971,2,  35.2002,2,    235.0,2,    234.4,2,     3.32,2,     8.42,2,     0.00,2,     0.67,2,     -999,9,     -999,9,     -999,9,   2121.6,2,   2312.3,2,   7.8362,2,    25.02,2,     -999,1,  12.9207,2,     -999,9,     -999,9,     -999,9,     -999,1,     -999,1,   4.6497,1,   0.0116,1,     -999,9,     -999,9,     -999,9,     -999,9,     -999,9,20230821,0039, -33.9987,  65.1249,-999          ,9,-999          ,9
33RR20230722  ,I05        ,112     ,  1,24         ,24         ,2,20230820,2257, -33.9987,  65.1249,     4585,    309.9,2,  12.6660,2,  35.1593,2,  35.1608,2,    233.8,2,    234.1,2,     3.41,2,     9.07,2,     0.00,2,     0.70,2,     -999,9,     -999,9,     -999,9,   -999.0,9,     -999,9,     -999,9,     -999,9,     -999,1,  12.6640,2,     -999,9,     -999,9,     -999,9,     -999,9,     -999,1,   4.9683,1,   0.0116,1,     -999,9,     -999,9,     -999,9,     -999,9,     -999,9,20230821,0037, -33.9987,  65.1249,-999          ,9,-999          ,9
33RR20230722  ,I05        ,112     ,  1,23         ,23         ,2,20230820,2257, -33.9987,  65.1249,     4585,    364.1,2,  12.3332,2,  35.1041,2,  35.1039,2,    231.1,2,    231.1,2,     3.80,2,    10.18,2,     0.00,2,     0.78,2,    2.136,2,    1.463,2,   2.1500,2,   2126.9,2,   2308.1,2,   7.8170,2,    25.01,2,     -999,1,  12.3315,2,     -999,9,     -999,9,     -999,9,     -999,9,     -999,1,   4.7029,1,   0.0114,1,     11.4,2,     -999,9,     -999,9,     -999,9,     -999,9,20230821,0035, -33.9987,  65.1249,-999          ,9,-999          ,9
33RR20230722  ,I05        ,112     ,  1,22         ,22         ,2,20230820,2257, -33.9987,  65.1249,     4585,    430.8,2,  11.8799,2,  35.0326,2,  35.0337,2,    239.2,2,    238.0,2,     3.61,2,    10.59,2,     0.00,2,     0.79,2,     -999,9,     -999,9,     -999,9,   -999.0,9,     -999,9,     -999,9,     -999,9,     -999,1,  11.8807,2,     -999,9,     -999,9,     -999,9,     -999,9,     -999,1,   4.9679,1,   0.0114,1,     -999,9,     -999,9,     -999,9,     -999,9,     -999,9,20230821,0032, -33.9987,  65.1249,-999          ,9,-999          ,9
33RR20230722  ,I05        ,112     ,  1,21         ,21         ,2,20230820,2257, -33.9987,  65.1249,     4585,    507.8,2,  11.3962,2,  34.9551,2,  34.9571,2,    235.8,2,    235.0,2,     4.00,2,    12.03,2,     0.00,2,     0.89,2,     -999,9,     -999,9,     -999,9,   -999.0,9,     -999,9,     -999,9,     -999,9,     -999,1,  11.4051,2,     -999,9,     -999,9,     -999,9,     -999,9,     -999,1,   4.8042,1,   0.0114,1,     -999,9,     -999,9,     -999,9,     -999,9,     -999,9,20230821,0030, -33.9987,  65.1249,-999          ,9,-999          ,9
33RR20230722  ,I05        ,112     ,  1,20         ,20         ,2,20230820,2257, -33.9987,  65.1249,     4585,    594.2,2,  10.7991,2,  34.8668,2,  34.8690,2,    228.7,2,    228.9,2,     4.88,2,    14.01,2,     0.00,2,     1.03,2,     -999,9,     -999,9,     -999,9,   -999.0,9,     -999,9,     -999,9,     -999,9,     -999,1,  10.7965,2,     -999,9,     -999,9,     -999,9,     -999,9,     -999,1,   4.9666,1,   0.0116,1,     -999,9,     -999,9,     -999,9,     -999,9,     -999,9,20230821,0027, -33.9987,  65.1249,-999          ,9,-999          ,9
33RR20230722  ,I05        ,112     ,  1,19         ,19         ,2,20230820,2257, -33.9987,  65.1249,     4585,    692.7,2,   9.7972,2,  34.7398,2,  34.7410,2,    220.0,2,    220.1,2,     6.54,2,    17.05,2,     0.00,2,     1.20,2,    2.534,2,    1.638,2,   1.6000,2,   2145.3,2,   2293.0,2,   7.7454,2,    25.00,2,     -999,1,   9.7991,2,     -999,9,     -999,9,     -999,9,     -999,9,     -999,1,   4.9668,1,   0.0115,1,     13.7,2,     -999,9,     -999,9,     -999,9,     -999,9,20230821,0025, -33.9987,  65.1249,-999          ,9,-999          ,9
33RR20230722  ,I05        ,112     ,  1,18         ,18         ,2,20230820,2257, -33.9987,  65.1249,     4585,    798.4,2,   8.5425,2,  34.6045,2,  34.6075,2,    209.8,2,    210.2,2,    10.35,2,    20.94,2,     0.00,2,     1.44,2,     -999,9,     -999,9,     -999,9,   -999.0,9,     -999,9,     -999,9,     -999,9,     -999,1,   8.5528,2,     -999,9,     -999,9,     -999,9,     -999,9,     -999,1,   4.8929,1,   0.0114,1,     -999,9,     -999,9,     -999,9,     -999,9,     -999,9,20230821,0022, -33.9987,  65.1249,-999          ,9,-999          ,9
33RR20230722  ,I05        ,112     ,  1,17         ,17         ,2,20230820,2257, -33.9987,  65.1249,     4585,    912.2,2,   7.1659,2,  34.4813,2,  34.4826,2,    206.0,2,    206.4,2,    15.91,2,    24.70,2,     0.00,2,     1.71,2,     -999,9,     -999,9,     -999,9,   2171.0,2,   2286.6,2,   7.6682,6,    25.00,2,     -999,1,   7.1649,2,     -999,9,     -999,9,     -999,9,     -999,9,     -999,1,   4.9111,1,   0.0113,1,     -999,9,     -999,9,     -999,9,     -999,9,     -999,9,20230821,0018, -33.9987,  65.1249,-999          ,9,-999          ,9
33RR20230722  ,I05        ,112     ,  1,16         ,16         ,2,20230820,2257, -33.9987,  65.1249,     4585,   1037.7,2,   5.3547,2,  34.3625,2,  34.3649,2,    207.6,2,    207.2,2,    25.19,2,    28.61,2,     0.00,2,     2.00,2,    2.539,2,    1.469,2,   1.0100,2,   -999.0,9,     -999,9,     -999,9,     -999,9,     -999,1,   5.3494,2,     -999,9,     -999,9,     -999,9,     -999,9,     -999,1,   4.9697,1,   0.0112,1,     18.6,2,     -999,9,     -999,9,     -999,9,     -999,9,20230821,0015, -33.9987,  65.1249,-999          ,9,-999          ,9
33RR20230722  ,I05        ,112     ,  1,15         ,15         ,2,20230820,2257, -33.9987,  65.1249,     4585,   1169.7,2,   4.3061,2,  34.3539,2,  34.3549,2,    199.4,2,    199.7,2,    36.51,2,    31.17,2,     0.00,2,     2.17,2,     -999,9,     -999,9,     -999,9,   2205.8,2,   2299.0,2,   7.6039,6,    25.03,2,     -999,1,   4.3041,2,     -999,9,     -999,9,     -999,9,     -999,9,     -999,1,   4.9284,1,   0.0112,1,     -999,9,     -999,9,     -999,9,     -999,9,     -999,9,20230821,0012, -33.9987,  65.1249,-999          ,9,-999          ,9
33RR20230722  ,I05        ,112     ,  1,14         ,14         ,2,20230820,2257, -33.9987,  65.1249,     4585,   1303.3,2,   3.6404,2,  34.4072,2,  34.4084,2,    185.4,2,    185.2,2,    49.69,2,    32.94,2,     0.00,2,     2.29,2,     -999,9,     -999,9,     -999,9,   -999.0,9,     -999,9,     -999,9,     -999,9,     -999,1,   3.6398,2,     -999,9,     -999,9,     -999,9,     -999,9,     -999,1,   4.6772,1,   0.0118,1,     -999,9,     -999,9,     -999,9,     -999,9,     -999,9,20230821,0008, -33.9987,  65.1249,-999          ,9,-999          ,9
33RR20230722  ,I05        ,112     ,  1,13         ,13         ,2,20230820,2257, -33.9987,  65.1249,     4585,   1447.5,2,   3.2930,2,  34.4780,2,  34.4783,2,    173.7,2,    174.0,2,    60.42,2,    33.73,2,     0.00,2,     2.37,2,    0.799,2,    0.409,2,   0.1400,2,   -999.0,9,     -999,9,     -999,9,     -999,9,     -999,1,   3.2928,2,     -999,9,     -999,9,     -999,9,     -999,9,     -999,1,   4.9437,1,   0.0113,1,     22.9,2,     -999,9,     -999,9,     -999,9,     -999,9,20230821,0005, -33.9987,  65.1249,-999          ,9,-999          ,9
33RR20230722  ,I05        ,112     ,  1,12         ,12         ,2,20230820,2257, -33.9987,  65.1249,     4585,   1588.4,2,   2.9903,2,  34.5477,2,  34.5498,2,    169.8,2,    169.8,2,    68.22,2,    33.74,2,     0.00,2,     2.34,2,     -999,9,     -999,9,     -999,9,   2247.0,6,   2329.5,2,   7.5675,2,    25.02,2,     -999,1,   2.9901,2,     -999,9,     -999,9,     -999,9,     -999,9,     -999,1,   4.9740,1,   0.0120,1,     -999,9,     -999,9,     -999,9,     -999,9,     -999,9,20230821,0001, -33.9987,  65.1249,-999          ,9,-999          ,9
33RR20230722  ,I05        ,112     ,  1,11         ,11         ,2,20230820,2257, -33.9987,  65.1249,     4585,   1726.4,2,   2.7799,2,  34.6053,2,  34.6056,2,    171.0,2,    171.3,2,    72.52,2,    33.19,2,     0.00,2,     2.31,2,     -999,9,     -999,9,     -999,9,   2250.8,2,   2335.7,6,   7.5745,2,    25.00,2,     -999,1,   2.7828,2,     -999,9,     -999,9,     -999,9,     -999,9,     -999,1,   4.9098,1,   0.0112,1,     -999,9,     -999,9,     -999,9,     -999,9,     -999,9,20230820,2358, -33.9987,  65.1249,-999          ,9,-999          ,9
33RR20230722  ,I05        ,112     ,  1,10         ,10         ,2,20230820,2257, -33.9987,  65.1249,     4585,   1898.4,2,   2.5646,2,  34.6643,2,  34.6645,2,    176.4,2,    176.5,2,    76.51,2,    32.25,2,     0.00,2,     2.25,2,    0.163,2,    0.093,2,   0.0200,2,   -999.0,9,     -999,9,     -999,9,     -999,9,     -999,1,   2.5659,2,     -999,9,     -999,9,     -999,9,     -999,9,     -999,1,   4.9741,1,   0.0114,1,     20.8,2,     -999,9,     -999,9,     -999,9,     -999,9,20230820,2354, -33.9987,  65.1249,-999          ,9,-999          ,9
33RR20230722  ,I05        ,112     ,  1,9          ,9          ,2,20230820,2257, -33.9987,  65.1249,     4585,   2098.7,2,   2.3507,2,  34.7050,2,  34.7060,2,    181.4,2,    181.5,2,    83.64,2,    31.57,2,     0.00,2,     2.22,2,     -999,9,     -999,9,     -999,9,   2252.6,2,   2348.9,2,   7.5983,2,    25.01,2,     -999,1,   2.3509,2,     -999,9,     -999,9,     -999,9,     -999,9,     -999,1,   4.8582,1,   0.0118,1,     -999,9,     -999,9,     -999,9,     -999,9,     -999,9,20230820,2349, -33.9986,  65.1249,-999          ,9,-999          ,9
33RR20230722  ,I05        ,112     ,  1,8          ,8          ,2,20230820,2257, -33.9987,  65.1249,     4585,   2345.5,2,   2.1306,2,  34.7226,2,  34.7231,2,    180.1,2,    180.4,2,    96.81,2,    32.00,2,     0.00,2,     2.24,2,    0.055,2,    0.016,2,  -0.0200,2,   -999.0,9,     -999,9,     -999,9,     -999,9,     -999,1,   2.1316,2,     -999,9,     -999,9,     -999,9,     -999,9,     -999,1,   4.9580,1,   0.0120,1,     20.0,2,     -999,9,     -999,9,     -999,9,     -999,9,20230820,2344, -33.9987,  65.1249,-999          ,9,-999          ,9
33RR20230722  ,I05        ,112     ,  1,7          ,7          ,2,20230820,2257, -33.9987,  65.1249,     4585,   2636.6,2,   1.9339,2,  34.7288,2,  34.7294,2,    178.7,2,    178.7,2,   107.84,2,    32.47,2,     0.00,2,     2.29,2,     -999,9,     -999,9,     -999,9,   2275.7,2,   2372.1,2,   7.6073,2,    25.00,2,     -999,1,   1.9337,2,     -999,9,     -999,9,     -999,9,     -999,9,     -999,1,   4.7811,1,   0.0114,1,     -999,9,     -999,9,     -999,9,     -999,9,     -999,9,20230820,2338, -33.9987,  65.1249,-999          ,9,-999          ,9
33RR20230722  ,I05        ,112     ,  1,6          ,6          ,2,20230820,2257, -33.9987,  65.1249,     4585,   2965.1,2,   1.7677,2,  34.7269,2,  34.7276,2,    178.8,2,    178.8,2,   115.55,2,    32.87,2,     0.00,2,     2.32,2,    0.015,2,    0.003,2,   0.0600,2,   -999.0,9,     -999,9,     -999,9,     -999,9,     -999,1,   1.7674,2,     -999,9,     -999,9,     -999,9,     -999,9,     -999,1,   4.9758,1,   0.0112,1,     20.0,2,     -999,9,     -999,9,     -999,9,     -999,9,20230820,2331, -33.9987,  65.1249,-999          ,9,-999          ,9
33RR20230722  ,I05        ,112     ,  1,5          ,5          ,2,20230820,2257, -33.9987,  65.1249,     4585,   3298.6,2,   1.5998,2,  34.7244,2,  34.7243,2,    183.5,2,    183.3,2,   118.96,2,    32.85,2,     0.00,2,     2.31,2,     -999,9,     -999,9,     -999,9,   2277.8,2,   2380.2,2,   7.6075,2,    25.01,2,     -999,1,   1.6004,2,     -999,9,     -999,9,     -999,9,     -999,9,     -999,1,   4.9762,1,   0.0121,1,     -999,9,     -999,9,     -999,9,     -999,9,     -999,9,20230820,2325, -33.9987,  65.1249,-999          ,9,-999          ,9
33RR20230722  ,I05        ,112     ,  1,4          ,37         ,2,20230820,2257, -33.9987,  65.1249,     4585,   3637.3,2,   1.3185,2,  34.7153,2,  34.7162,2,    192.4,2,    192.6,2,   122.28,2,    32.70,2,     0.00,2,     2.28,2,    0.055,2,    0.014,2,  -0.0300,2,   -999.0,9,     -999,9,     -999,9,     -999,9,     -999,1,   1.3180,2,     -999,9,     -999,9,     -999,9,     -999,9,     -999,1,   4.9763,1,   0.0111,1,     19.5,2,     -999,9,     -999,9,     -999,9,     -999,9,20230820,2318, -33.9987,  65.1249,-999          ,9,-999          ,9
33RR20230722  ,I05        ,112     ,  1,3          ,3          ,2,20230820,2257, -33.9987,  65.1249,     4585,   3978.8,2,   0.9626,2,  34.7025,2,  34.7028,2,    203.4,2,    203.7,2,   126.48,2,    32.57,2,     0.00,2,     2.27,2,     -999,9,     -999,9,     -999,9,   2269.3,2,   2369.2,2,   7.6106,2,    24.96,2,     -999,1,   0.9625,2,     -999,9,     -999,9,     -999,9,     -999,9,     -999,1,   4.9763,1,   0.0111,1,     -999,9,     -999,9,     -999,9,     -999,9,     -999,9,20230820,2311, -33.9986,  65.1249,-999          ,9,-999          ,9