BOTTLE,20240422CCHHYDRO
EXPOCODE,SECT_ID,STNNBR,CASTNO,SAMPNO,BTLNBR,BTLNBR_FLAG_W,DATE,TIME,LATITUDE,LONGITUDE,DEPTH,CTDPRS,CTDPRS_FLAG_W,CTDTMP,CTDTMP_FLAG_W,CTDSAL,CTDSAL_FLAG_W,SALNTY,SALNTY_FLAG_W,CTDOXY,CTDOXY_FLAG_W,OXYGEN,OXYGEN_FLAG_W,SILCAT,SILCAT_FLAG_W,NITRAT,NITRAT_FLAG_W,NITRIT,NITRIT_FLAG_W,PHSPHT,PHSPHT_FLAG_W,CFC-11,CFC-11_FLAG_W,CFC-12,CFC-12_FLAG_W,SF6,SF6_FLAG_W,TCARBN,TCARBN_FLAG_W,ALKALI,ALKALI_FLAG_W,PH_TOT,PH_TOT_FLAG_W,PH_TMP,PH_TMP_FLAG_W,DOC,DOC_FLAG_W,REFTMP,REFTMP_FLAG_W,POC,POC_FLAG_W,PON,PON_FLAG_W,POP,POP_FLAG_W,DOP,DOP_FLAG_W,DELO18,DELO18_FLAG_W,CTDFLUOR,CTDFLUOR_FLAG_W,CTDXMISS,CTDXMISS_FLAG_W,N2O,N2O_FLAG_W,D15N_NO3,D15N_NO3_FLAG_W,D15N_NO2+NO3,D15N_NO2+NO3_FLAG_W,D18O_NO2+NO3,D18O_NO2+NO3_FLAG_W,D18O_NO3,D18O_NO3_FLAG_W,BTL_DATE,BTL_TIME,BTL_LAT,BTL_LON,HPLC,HPLC_FLAG_W,DNA,DNA_FLAG_W
,,,,,,,,,,,METERS,DBAR,,ITS-90,,PSS-78,,PSS-78,,UMOL/KG,,UMOL/KG,,UMOL/KG,,UMOL/KG,,UMOL/KG,,UMOL/KG,,PMOL/KG,,PMOL/KG,,FMOL/KG,,UMOL/KG,,UMOL/KG,,,,DEG C,,UMOL/KG,,ITS-90,,UG/KG,,UG/KG,,UG/L,,UMOL/KG,,/MILLE,,VOLTS,,VOLTS,,NMOL/KG,,/MILLE,,/MILLE,,/MILLE,,/MILLE,,,,,,,,,
33RR20230722  ,I05        ,116     ,  1,36         ,38         ,2,20230822,0327, -34.0003,  62.8403,     4678,      8.1,2,  16.3565,2,  35.5312,2,  35.5308,2,    245.1,2,    243.8,2,     1.95,2,     0.04,2,     0.02,2,     0.18,2,     -999,9,     -999,9,     -999,9,   2083.2,2,   2332.2,2,   7.9475,2,    24.95,2,     -999,1,  16.3559,2,     -999,9,     -999,9,     -999,9,     -999,1,     -999,9,   4.9750,1,   0.0268,1,     -999,9,     -999,9,     -999,9,     -999,9,     -999,9,20230822,0529, -34.0003,  62.8403,-999          ,9,-999          ,9
33RR20230722  ,I05        ,116     ,  1,35         ,35         ,2,20230822,0327, -34.0003,  62.8403,     4678,     27.8,2,  16.3562,2,  35.5316,2,  35.5308,2,    244.0,2,    244.3,2,     1.85,2,     0.01,2,     0.01,2,     0.16,2,     -999,9,     -999,9,     -999,9,   2082.3,2,   2331.6,2,   7.9491,2,    24.96,2,     -999,1,  16.3543,2,     -999,9,     -999,9,     -999,9,     -999,1,     -999,9,   4.9749,1,   0.0320,1,     -999,9,     -999,9,     -999,9,     -999,9,     -999,9,20230822,0527, -34.0003,  62.8403,-999          ,9,-999          ,9
33RR20230722  ,I05        ,116     ,  1,34         ,34         ,2,20230822,0327, -34.0003,  62.8403,     4678,     45.8,2,  16.3576,2,  35.5316,2,  35.5308,2,    243.9,2,    244.1,2,     1.85,2,     0.00,2,     0.01,2,     0.16,2,     -999,9,     -999,9,     -999,9,   -999.0,9,     -999,9,     -999,9,     -999,9,     -999,1,  16.3569,2,     -999,9,     -999,9,     -999,9,     -999,9,     -999,9,   4.9747,1,   0.0342,1,     -999,9,     -999,9,     -999,9,     -999,9,     -999,9,20230822,0525, -34.0003,  62.8403,-999          ,9,-999          ,9
33RR20230722  ,I05        ,116     ,  1,33         ,33         ,2,20230822,0327, -34.0003,  62.8403,     4678,     66.8,2,  16.3605,2,  35.5313,2,  35.5304,2,    243.6,2,    243.8,2,     1.76,2,     0.00,2,     0.01,2,     0.17,2,     -999,9,     -999,9,     -999,9,   2082.2,2,   2333.4,2,   7.9467,2,    24.95,2,     -999,1,  16.3591,2,     -999,9,     -999,9,     -999,9,     -999,1,     -999,9,   4.9747,1,   0.0366,1,     -999,9,     -999,9,     -999,9,     -999,9,     -999,9,20230822,0524, -34.0003,  62.8403,-999          ,9,-999          ,9
33RR20230722  ,I05        ,116     ,  1,32         ,32         ,2,20230822,0327, -34.0003,  62.8403,     4678,     88.7,2,  15.8463,2,  35.4559,2,  35.4519,2,    239.8,2,    240.7,2,     1.85,2,     1.00,2,     0.22,2,     0.25,2,     -999,9,     -999,9,     -999,9,   -999.0,9,     -999,9,     -999,9,     -999,9,     -999,1,  15.8198,2,     -999,9,     -999,9,     -999,9,     -999,1,     -999,9,   4.9700,1,   0.0286,1,     -999,9,     -999,9,     -999,9,     -999,9,     -999,9,20230822,0522, -34.0003,  62.8403,-999          ,9,-999          ,9
33RR20230722  ,I05        ,116     ,  1,31         ,31         ,2,20230822,0327, -34.0003,  62.8403,     4678,    116.5,2,  14.7995,2,  35.3977,2,  35.3993,2,    227.4,2,    229.6,2,     3.02,2,     4.59,2,     0.02,2,     0.45,2,     -999,9,     -999,9,     -999,9,   2109.7,2,   2325.1,2,   7.8813,2,    24.94,2,     -999,1,  14.8397,2,     -999,9,     -999,9,     -999,9,     -999,9,     -999,9,   4.9700,1,   0.0144,1,     -999,9,     -999,9,     -999,9,     -999,9,     -999,9,20230822,0519, -34.0003,  62.8403,-999          ,9,-999          ,9
33RR20230722  ,I05        ,116     ,  1,30         ,30         ,2,20230822,0327, -34.0003,  62.8403,     4678,    143.0,2,  14.3226,2,  35.3770,2,  35.3764,2,    228.0,2,    229.6,2,     3.22,2,     5.63,2,     0.01,2,     0.51,2,     -999,9,     -999,9,     -999,9,   2114.3,2,   2323.3,2,   7.8673,2,    24.98,2,     -999,1,  14.3253,2,     -999,9,     -999,9,     -999,9,     -999,1,     -999,9,   4.9617,1,   0.0143,1,     -999,9,     -999,9,     -999,9,     -999,9,     -999,9,20230822,0518, -34.0003,  62.8403,-999          ,9,-999          ,9
33RR20230722  ,I05        ,116     ,  1,29         ,29         ,2,20230822,0327, -34.0003,  62.8403,     4678,    173.4,2,  14.0775,2,  35.3610,2,  35.3614,2,    231.3,2,    231.9,2,     3.32,2,     6.01,2,     0.00,2,     0.51,2,     -999,9,     -999,9,     -999,9,   2115.6,2,   2322.0,2,   7.8655,2,    24.96,2,     -999,1,  14.0885,2,     -999,9,     -999,9,     -999,9,     -999,9,     -999,9,   4.9695,1,   0.0126,1,     -999,9,     -999,9,     -999,9,     -999,9,     -999,9,20230822,0516, -34.0003,  62.8403,-999          ,9,-999          ,9
33RR20230722  ,I05        ,116     ,  1,28         ,28         ,2,20230822,0327, -34.0003,  62.8403,     4678,    205.1,2,  13.8978,2,  35.3432,2,  35.3419,2,    233.7,2,    233.7,2,     3.51,2,     6.34,2,     0.00,2,     0.55,2,     -999,9,     -999,9,     -999,9,   -999.0,9,     -999,9,     -999,9,     -999,9,     -999,1,  13.8990,2,     -999,9,     -999,9,     -999,9,     -999,1,     -999,9,   4.9695,1,   0.0118,1,     -999,9,     -999,9,     -999,9,     -999,9,     -999,9,20230822,0514, -34.0002,  62.8403,-999          ,9,-999          ,9
33RR20230722  ,I05        ,116     ,  1,27         ,27         ,2,20230822,0327, -34.0003,  62.8403,     4678,    241.9,2,  13.6879,2,  35.3135,2,  35.3127,2,    234.9,2,    235.1,2,     3.51,2,     6.76,2,     0.00,2,     0.57,2,     -999,9,     -999,9,     -999,9,   2116.6,2,   2317.6,2,   7.8577,2,    24.97,2,     -999,1,  13.6836,2,     -999,9,     -999,9,     -999,9,     -999,1,     -999,9,   4.9695,1,   0.0118,1,     -999,9,     -999,9,     -999,9,     -999,9,     -999,9,20230822,0513, -34.0002,  62.8403,-999          ,9,-999          ,9
33RR20230722  ,I05        ,116     ,  1,26         ,26         ,2,20230822,0327, -34.0003,  62.8403,     4678,    280.6,2,  13.4139,2,  35.2759,2,  35.2757,2,    236.6,2,    236.2,2,     3.61,2,     7.24,2,     0.00,2,     0.60,2,    2.363,2,    1.585,2,   2.3600,2,   2119.1,2,   2317.4,2,   7.8512,2,    24.97,2,     -999,1,  13.4156,2,     -999,9,     -999,9,     -999,9,     -999,9,     -999,9,   4.9692,1,   0.0118,1,     10.1,2,     -999,9,     -999,9,     -999,9,     -999,9,20230822,0511, -34.0003,  62.8403,-999          ,9,-999          ,9
33RR20230722  ,I05        ,116     ,  1,25         ,25         ,2,20230822,0327, -34.0003,  62.8403,     4678,    331.5,2,  13.1584,2,  35.2361,2,  35.2353,2,    234.5,2,    234.2,2,     3.42,2,     7.90,2,     0.00,2,     0.64,2,     -999,9,     -999,9,     -999,9,   -999.0,9,     -999,9,     -999,9,     -999,9,     -999,1,  13.1562,2,     -999,9,     -999,9,     -999,9,     -999,9,     -999,9,   4.9684,1,   0.0120,1,     -999,9,     -999,9,     -999,9,     -999,9,     -999,9,20230822,0509, -34.0002,  62.8404,-999          ,9,-999          ,9
33RR20230722  ,I05        ,116     ,  1,24         ,24         ,2,20230822,0327, -34.0003,  62.8403,     4678,    388.9,2,  12.8341,2,  35.1867,2,  35.1859,2,    233.9,2,    233.6,2,     3.71,2,     8.74,2,     0.00,2,     0.69,2,    2.488,2,    1.640,2,   2.2900,2,   2126.6,2,   2314.1,2,   7.8333,6,    24.98,2,     -999,1,  12.8321,2,     -999,9,     -999,9,     -999,9,     -999,9,     -999,9,   4.9682,1,   0.0118,1,     10.7,2,     -999,9,     -999,9,     -999,9,     -999,9,20230822,0506, -34.0003,  62.8403,-999          ,9,-999          ,9
33RR20230722  ,I05        ,116     ,  1,23         ,23         ,2,20230822,0327, -34.0003,  62.8403,     4678,    462.0,2,  12.4295,2,  35.1232,2,  35.1222,2,    233.2,2,    232.7,2,     3.90,2,     9.78,2,     0.00,2,     0.75,2,     -999,9,     -999,9,     -999,9,   2127.2,2,   2311.9,2,   7.8228,2,    24.97,2,     -999,1,  12.4310,2,     -999,9,     -999,9,     -999,9,     -999,9,     -999,9,   4.9676,1,   0.0118,1,     -999,9,     -999,9,     -999,9,     -999,9,     -999,9,20230822,0504, -34.0003,  62.8403,-999          ,9,-999          ,9
33RR20230722  ,I05        ,116     ,  1,22         ,22         ,2,20230822,0327, -34.0003,  62.8403,     4678,    541.4,2,  11.8733,2,  35.0341,2,  35.0317,2,    229.1,2,    228.8,2,     4.59,2,    11.53,2,     0.00,2,     0.87,2,     -999,9,     -999,9,     -999,9,   -999.0,9,     -999,9,     -999,9,     -999,9,     -999,1,  11.8725,2,     -999,9,     -999,9,     -999,9,     -999,9,     -999,9,   4.8773,1,   0.0118,1,     -999,9,     -999,9,     -999,9,     -999,9,     -999,9,20230822,0502, -34.0003,  62.8403,-999          ,9,-999          ,9
33RR20230722  ,I05        ,116     ,  1,21         ,21         ,2,20230822,0327, -34.0003,  62.8403,     4678,    633.1,2,  11.0146,2,  34.9052,2,  34.9059,2,    225.7,2,    225.5,2,     5.17,2,    13.67,2,     0.00,2,     1.01,2,    2.862,2,    1.798,2,   1.8900,2,   2137.4,2,   2302.4,2,   7.7827,2,    24.96,2,     -999,1,  11.0218,2,     -999,9,     -999,9,     -999,9,     -999,9,     -999,9,   4.8194,1,   0.0117,1,     12.3,2,     -999,9,     -999,9,     -999,9,     -999,9,20230822,0459, -34.0003,  62.8403,-999          ,9,-999          ,9
33RR20230722  ,I05        ,116     ,  1,20         ,20         ,2,20230822,0327, -34.0003,  62.8403,     4678,    730.9,2,   9.8514,2,  34.7499,2,  34.7518,2,    219.0,2,    219.6,2,     7.22,2,    16.97,2,     0.00,2,     1.21,2,     -999,9,     -999,9,     -999,9,   2147.8,2,   2294.5,2,   7.7478,2,    24.95,2,     -999,1,   9.8533,2,     -999,9,     -999,9,     -999,9,     -999,9,     -999,9,   4.9669,1,   0.0118,1,     -999,9,     -999,9,     -999,9,     -999,9,     -999,9,20230822,0456, -34.0003,  62.8403,-999          ,9,-999          ,9
33RR20230722  ,I05        ,116     ,  1,19         ,19         ,2,20230822,0327, -34.0003,  62.8403,     4678,    838.5,2,   8.3691,2,  34.5921,2,  34.5926,2,    209.2,2,    209.8,2,    12.30,2,    21.43,2,     0.00,2,     1.51,2,    2.593,2,    1.711,2,   1.3600,2,   2161.4,2,   2289.8,2,   7.7017,2,    24.98,2,     -999,1,   8.3699,2,     -999,9,     -999,9,     -999,9,     -999,9,     -999,9,   4.9681,1,   0.0116,1,     15.3,2,     -999,9,     -999,9,     -999,9,     -999,9,20230822,0453, -34.0003,  62.8403,-999          ,9,-999          ,9
33RR20230722  ,I05        ,116     ,  1,18         ,18         ,2,20230822,0327, -34.0003,  62.8403,     4678,    952.4,2,   6.5887,2,  34.4418,2,  34.4418,2,    206.1,2,    206.4,2,    19.33,2,    25.96,2,     0.00,2,     1.81,2,     -999,9,     -999,9,     -999,9,   2178.1,2,   2291.8,2,   7.6537,2,    24.99,2,     -999,1,   6.5939,2,     -999,9,     -999,9,     -999,9,     -999,9,     -999,9,   4.9692,1,   0.0114,1,     -999,9,     -999,9,     -999,9,     -999,9,     -999,9,20230822,0450, -34.0003,  62.8403,-999          ,9,-999          ,9
33RR20230722  ,I05        ,116     ,  1,17         ,17         ,2,20230822,0327, -34.0003,  62.8403,     4678,   1077.5,2,   5.2720,2,  34.3720,2,  34.3709,2,    203.8,2,    204.0,2,    27.83,2,    29.01,2,     0.00,2,     2.01,2,    2.360,2,    1.350,2,   0.6400,2,   2193.0,2,   2293.1,6,   7.6267,2,    24.98,2,     -999,1,   5.2684,2,     -999,9,     -999,9,     -999,9,     -999,9,     -999,9,   4.9431,1,   0.0114,1,     18.9,2,     -999,9,     -999,9,     -999,9,     -999,9,20230822,0446, -34.0003,  62.8403,-999          ,9,-999          ,9
33RR20230722  ,I05        ,116     ,  1,16         ,16         ,2,20230822,0327, -34.0003,  62.8403,     4678,   1217.5,2,   4.1272,2,  34.3787,2,  34.3786,2,    192.5,2,    192.4,2,    41.79,2,    31.76,2,     0.00,2,     2.22,2,     -999,9,     -999,9,     -999,9,   2215.9,2,   2304.8,2,   7.5980,6,    24.95,2,     -999,1,   4.1304,2,     -999,9,     -999,9,     -999,9,     -999,9,     -999,9,   4.9716,1,   0.0115,1,     -999,9,     -999,9,     -999,9,     -999,9,     -999,9,20230822,0443, -34.0003,  62.8403,-999          ,9,-999          ,9
33RR20230722  ,I05        ,116     ,  1,15         ,15         ,2,20230822,0327, -34.0003,  62.8403,     4678,   1357.7,2,   3.5171,2,  34.4404,2,  34.4396,2,    179.8,2,    180.1,2,    54.58,2,    33.20,2,     0.00,2,     2.32,2,    1.097,2,    0.622,2,   0.2500,2,   2232.8,6,   2316.7,2,   7.5779,2,    24.95,2,     -999,1,   3.5173,2,     -999,9,     -999,9,     -999,9,     -999,9,     -999,9,   4.9729,1,   0.0112,1,     22.4,2,     -999,9,     -999,9,     -999,9,     -999,9,20230822,0439, -34.0003,  62.8403,-999          ,9,-999          ,9
33RR20230722  ,I05        ,116     ,  1,14         ,14         ,2,20230822,0327, -34.0003,  62.8403,     4678,   1513.3,2,   3.1268,2,  34.5127,2,  34.5129,2,    172.6,2,    172.5,2,    63.36,2,    33.62,2,     0.00,2,     2.36,2,     -999,9,     -999,9,     -999,9,   -999.0,9,     -999,9,     -999,9,     -999,9,     -999,1,   3.1264,2,     -999,9,     -999,9,     -999,9,     -999,9,     -999,9,   4.9739,1,   0.0112,1,     -999,9,     -999,9,     -999,9,     -999,9,     -999,9,20230822,0435, -34.0003,  62.8403,-999          ,9,-999          ,9
33RR20230722  ,I05        ,116     ,  1,13         ,13         ,2,20230822,0327, -34.0003,  62.8403,     4678,   1658.3,2,   2.8695,2,  34.5787,2,  34.5787,2,    171.7,2,    171.5,2,    69.90,2,    33.28,2,     0.00,2,     2.33,2,    0.406,2,    0.228,2,   0.0700,2,   2249.9,2,   2331.7,2,   7.5721,2,    25.00,2,     -999,1,   2.8690,2,     -999,9,     -999,9,     -999,9,     -999,9,     -999,9,   4.9741,1,   0.0116,1,     21.9,2,     -999,9,     -999,9,     -999,9,     -999,9,20230822,0432, -34.0003,  62.8403,-999          ,9,-999          ,9
33RR20230722  ,I05        ,116     ,  1,12         ,12         ,2,20230822,0327, -34.0003,  62.8403,     4678,   1808.9,2,   2.7096,2,  34.6265,2,  34.6248,2,    174.0,2,    174.1,2,    72.43,2,    32.70,2,     0.00,2,     2.29,2,     -999,9,     -999,9,     -999,9,   2251.1,2,   2335.8,2,   7.5806,6,    24.97,2,     -999,1,   2.7132,2,     -999,9,     -999,9,     -999,9,     -999,9,     -999,9,   4.9741,1,   0.0112,1,     -999,9,     -999,9,     -999,9,     -999,9,     -999,9,20230822,0428, -34.0003,  62.8403,-999          ,9,-999          ,9
33RR20230722  ,I05        ,116     ,  1,11         ,11         ,2,20230822,0327, -34.0003,  62.8403,     4678,   1994.6,2,   2.5025,2,  34.6839,2,  34.6830,2,    180.0,2,    180.1,2,    76.43,2,    31.67,2,     0.00,2,     2.22,2,     -999,9,     -999,9,     -999,9,   -999.0,9,     -999,9,     -999,9,     -999,9,     -999,1,   2.5019,2,     -999,9,     -999,9,     -999,9,     -999,9,     -999,9,   4.7021,1,   0.0112,1,     -999,9,     -999,9,     -999,9,     -999,9,     -999,9,20230822,0424, -34.0003,  62.8403,-999          ,9,-999          ,9
33RR20230722  ,I05        ,116     ,  1,10         ,10         ,2,20230822,0327, -34.0003,  62.8403,     4678,   2222.3,2,   2.2457,2,  34.7167,2,  34.7156,2,    181.9,2,    182.2,2,    88.05,2,    31.51,2,     0.00,2,     2.22,2,    0.055,2,    0.030,2,   0.0600,2,   2258.8,2,   2357.0,2,   7.6054,2,    24.95,2,     -999,1,   2.2464,2,     -999,9,     -999,9,     -999,9,     -999,9,     -999,9,   4.9747,1,   0.0113,1,     20.1,2,     -999,9,     -999,9,     -999,9,     -999,9,20230822,0419, -34.0002,  62.8403,-999          ,9,-999          ,9
33RR20230722  ,I05        ,116     ,  1,9          ,9          ,2,20230822,0327, -34.0003,  62.8403,     4678,   2489.6,2,   2.0289,2,  34.7266,2,  34.7252,2,    178.9,2,    178.7,2,   101.81,2,    32.16,2,     0.00,2,     2.27,2,    0.021,2,    0.013,2,   0.0200,2,   2272.5,2,   2372.9,2,   7.6073,2,    24.95,2,     -999,1,   2.0297,2,     -999,9,     -999,9,     -999,9,     -999,9,     -999,9,   4.9752,1,   0.0113,1,     20.0,2,     -999,9,     -999,9,     -999,9,     -999,9,20230822,0413, -34.0003,  62.8403,-999          ,9,-999          ,9
33RR20230722  ,I05        ,116     ,  1,8          ,8          ,2,20230822,0327, -34.0003,  62.8403,     4678,   2804.1,2,   1.8653,2,  34.7281,2,  34.7274,2,    178.0,2,    178.1,2,   110.59,2,    32.60,2,     0.00,2,     2.31,2,    0.014,2,    0.007,2,   0.0400,2,   2279.6,2,   2378.6,2,   7.6070,2,    24.97,2,     -999,1,   1.8660,2,     -999,9,     -999,9,     -999,9,     -999,9,     -999,9,   4.6817,1,   0.0118,1,     20.1,2,     -999,9,     -999,9,     -999,9,     -999,9,20230822,0407, -34.0003,  62.8403,-999          ,9,-999          ,9
33RR20230722  ,I05        ,116     ,  1,7          ,7          ,2,20230822,0327, -34.0003,  62.8403,     4678,   3157.0,2,   1.6664,2,  34.7253,2,  34.7247,2,    181.0,2,    181.0,2,   117.72,2,    32.80,2,     0.00,2,     2.32,2,    0.019,2,    0.011,2,  -0.0100,2,   2283.9,2,   2381.9,6,   7.6073,2,    25.00,2,     -999,1,   1.6674,2,     -999,9,     -999,9,     -999,9,     -999,9,     -999,9,   4.9762,1,   0.0120,1,     19.9,2,     -999,9,     -999,9,     -999,9,     -999,9,20230822,0400, -34.0002,  62.8403,-999          ,9,-999          ,9
33RR20230722  ,I05        ,116     ,  1,6          ,6          ,2,20230822,0327, -34.0003,  62.8403,     4678,   3508.3,2,   1.4348,2,  34.7194,2,  34.7191,2,    188.8,2,    188.9,2,   120.16,2,    32.64,2,     0.00,2,     2.30,2,     -999,9,     -999,9,     -999,9,   -999.0,9,     -999,9,     -999,9,     -999,9,     -999,1,   1.4359,2,     -999,9,     -999,9,     -999,9,     -999,9,     -999,9,   4.9762,1,   0.0122,1,     -999,9,     -999,9,     -999,9,     -999,9,     -999,9,20230822,0353, -34.0002,  62.8403,-999          ,9,-999          ,9
33RR20230722  ,I05        ,116     ,  1,5          ,5          ,2,20230822,0327, -34.0003,  62.8403,     4678,   3859.5,2,   1.0240,2,  34.7052,2,  34.7046,2,    201.9,2,    202.0,2,   123.28,2,    32.46,2,     0.00,2,     2.28,2,    0.074,2,    0.045,2,  -0.0200,2,   2269.1,2,   2372.6,2,   7.6102,6,    25.00,2,     -999,1,   1.0266,2,     -999,9,     -999,9,     -999,9,     -999,9,     -999,9,   4.9170,1,   0.0113,1,     18.9,2,     -999,9,     -999,9,     -999,9,     -999,9,20230822,0346, -34.0002,  62.8403,-999          ,9,-999          ,9
33RR20230722  ,I05        ,116     ,  1,4          ,37         ,2,20230822,0327, -34.0003,  62.8403,     4678,   4172.8,2,   0.7816,2,  34.6950,2,  34.6950,2,    209.3,2,    209.4,2,   126.90,2,    32.40,2,     0.00,2,     2.28,2,     -999,9,     -999,9,     -999,9,   -999.0,9,     -999,9,     -999,9,     -999,9,     -999,1,   0.7815,2,     -999,9,     -999,9,     -999,9,     -999,9,     -999,9,   4.9764,1,   0.0119,1,     -999,9,     -999,9,     -999,9,     -999,9,     -999,9,20230822,0340, -34.0002,  62.8403,-999          ,9,-999          ,9
33RR20230722  ,I05        ,116     ,  1,3          ,3          ,2,20230822,0327, -34.0003,  62.8403,     4678,   4413.7,2,   0.7245,2,  34.6918,2,  34.6912,2,    211.5,2,    211.9,2,   128.95,2,    32.41,2,     0.00,2,     2.27,2,    0.131,2,    0.074,2,   0.0000,2,   2265.9,2,   2367.5,2,   7.6102,2,    24.97,2,     -999,1,   0.7238,2,     -999,9,     -999,9,     -999,9,     -999,9,     -999,9,   4.9765,1,   0.0118,1,     18.3,2,     -999,9,     -999,9,     -999,9,     -999,9,20230822,0335, -34.0003,  62.8403,-999          ,9,-999          ,9