BOTTLE,20240422CCHHYDRO
EXPOCODE,SECT_ID,STNNBR,CASTNO,SAMPNO,BTLNBR,BTLNBR_FLAG_W,DATE,TIME,LATITUDE,LONGITUDE,DEPTH,CTDPRS,CTDPRS_FLAG_W,CTDTMP,CTDTMP_FLAG_W,CTDSAL,CTDSAL_FLAG_W,SALNTY,SALNTY_FLAG_W,CTDOXY,CTDOXY_FLAG_W,OXYGEN,OXYGEN_FLAG_W,SILCAT,SILCAT_FLAG_W,NITRAT,NITRAT_FLAG_W,NITRIT,NITRIT_FLAG_W,PHSPHT,PHSPHT_FLAG_W,CFC-11,CFC-11_FLAG_W,CFC-12,CFC-12_FLAG_W,SF6,SF6_FLAG_W,TCARBN,TCARBN_FLAG_W,ALKALI,ALKALI_FLAG_W,PH_TOT,PH_TOT_FLAG_W,PH_TMP,PH_TMP_FLAG_W,DOC,DOC_FLAG_W,REFTMP,REFTMP_FLAG_W,POC,POC_FLAG_W,PON,PON_FLAG_W,POP,POP_FLAG_W,DOP,DOP_FLAG_W,DELO18,DELO18_FLAG_W,CTDFLUOR,CTDFLUOR_FLAG_W,CTDXMISS,CTDXMISS_FLAG_W,N2O,N2O_FLAG_W,D15N_NO3,D15N_NO3_FLAG_W,D15N_NO2+NO3,D15N_NO2+NO3_FLAG_W,D18O_NO2+NO3,D18O_NO2+NO3_FLAG_W,D18O_NO3,D18O_NO3_FLAG_W,BTL_DATE,BTL_TIME,BTL_LAT,BTL_LON,HPLC,HPLC_FLAG_W,DNA,DNA_FLAG_W
,,,,,,,,,,,METERS,DBAR,,ITS-90,,PSS-78,,PSS-78,,UMOL/KG,,UMOL/KG,,UMOL/KG,,UMOL/KG,,UMOL/KG,,UMOL/KG,,PMOL/KG,,PMOL/KG,,FMOL/KG,,UMOL/KG,,UMOL/KG,,,,DEG C,,UMOL/KG,,ITS-90,,UG/KG,,UG/KG,,UG/L,,UMOL/KG,,/MILLE,,VOLTS,,VOLTS,,NMOL/KG,,/MILLE,,/MILLE,,/MILLE,,/MILLE,,,,,,,,,
33RR20230722  ,I05        ,60      ,  1,36         ,36         ,2,20230807,1233, -32.1755,  90.8232,     4017,      5.8,2,  16.3007,2,  35.7068,2,  35.7090,2,    243.2,2,    242.1,2,     1.17,2,     0.36,2,     0.05,2,     0.20,2,    4.941,4,   -0.004,4,  -0.0500,4,   2098.6,2,   2350.2,2,   7.9444,2,    25.00,2,     -999,1,  16.2986,2,     -999,9,     -999,9,     -999,9,     -999,9,     -999,1,   4.8335,1,   0.0466,1,     -0.2,4,     -999,9,     -999,9,     -999,9,     -999,9,20230807,1423, -32.1755,  90.8232,-999          ,9,-999          ,9
33RR20230722  ,I05        ,60      ,  1,35         ,35         ,2,20230807,1233, -32.1755,  90.8232,     4017,     16.3,2,  16.2912,2,  35.7026,2,  35.7027,2,    243.3,2,    242.1,2,     1.07,2,     0.31,2,     0.05,2,     0.19,2,     -999,9,     -999,9,     -999,9,   2098.4,6,   2349.4,2,   7.9459,2,    24.98,2,     -999,1,  16.2911,2,     -999,9,     -999,9,     -999,9,     -999,9,     -999,1,   4.7939,1,   0.0453,1,     -999,9,     -999,9,     -999,9,     -999,9,     -999,9,20230807,1421, -32.1754,  90.8233,-999          ,9,-999          ,9
33RR20230722  ,I05        ,60      ,  1,34         ,34         ,2,20230807,1233, -32.1755,  90.8232,     4017,     24.9,2,  16.2722,2,  35.6978,2,  35.6994,2,    243.1,2,    242.4,2,     0.98,2,     0.29,2,     0.05,2,     0.18,2,     -999,9,     -999,9,     -999,9,   2097.2,2,   2350.2,2,   7.9448,2,    25.00,2,     -999,1,  16.2696,2,     -999,9,     -999,9,     -999,9,     -999,9,     -999,1,   4.6653,1,   0.0413,1,     -999,9,     -999,9,     -999,9,     -999,9,     -999,9,20230807,1419, -32.1754,  90.8232,-999          ,9,-999          ,9
33RR20230722  ,I05        ,60      ,  1,33         ,33         ,2,20230807,1233, -32.1755,  90.8232,     4017,     40.8,2,  16.2033,2,  35.6740,2,  35.6761,2,    243.3,2,    242.5,2,     0.88,2,     0.33,2,     0.05,2,     0.18,2,     -999,9,     -999,9,     -999,9,   2096.9,2,   2348.6,2,   7.9425,2,    25.00,2,     -999,1,  16.2134,2,     -999,9,     -999,9,     -999,9,     -999,9,     -999,1,   4.8553,1,   0.0425,1,     -999,9,     -999,9,     -999,9,     -999,9,     -999,9,20230807,1418, -32.1755,  90.8232,-999          ,9,-999          ,9
33RR20230722  ,I05        ,60      ,  1,32         ,32         ,2,20230807,1233, -32.1755,  90.8232,     4017,     63.9,2,  16.0772,2,  35.6387,2,  35.6409,2,    243.1,2,    243.2,2,     1.17,2,     0.36,2,     0.06,2,     0.19,2,     -999,9,     -999,9,     -999,9,   2095.4,2,   2346.3,2,   7.9397,2,    25.00,2,     -999,1,  16.0821,2,     -999,9,     -999,9,     -999,9,     -999,9,     -999,1,   4.9744,1,   0.0450,1,     -999,9,     -999,9,     -999,9,     -999,9,     -999,9,20230807,1416, -32.1755,  90.8232,-999          ,9,-999          ,9
33RR20230722  ,I05        ,60      ,  1,31         ,31         ,2,20230807,1233, -32.1755,  90.8232,     4017,     87.0,2,  16.0666,2,  35.6347,2,  35.6328,2,    242.9,2,    243.2,2,     0.98,2,     0.38,2,     0.06,2,     0.20,2,     -999,9,     -999,9,     -999,9,   2098.7,2,   2348.0,2,   7.9376,2,    25.00,2,     -999,1,  16.0632,2,     -999,9,     -999,9,     -999,9,     -999,9,     -999,1,   4.9743,1,   0.0409,1,     -999,9,     -999,9,     -999,9,     -999,9,     -999,9,20230807,1414, -32.1755,  90.8232,-999          ,9,-999          ,9
33RR20230722  ,I05        ,60      ,  1,30         ,30         ,2,20230807,1233, -32.1755,  90.8232,     4017,    103.7,2,  16.0587,2,  35.6318,2,  35.6279,2,    242.6,2,    243.2,2,     0.98,2,     0.39,2,     0.06,2,     0.19,2,     -999,9,     -999,9,     -999,9,   2098.9,2,   2345.2,2,   7.9388,2,    25.01,2,     -999,1,  16.0587,2,     -999,9,     -999,9,     -999,9,     -999,9,     -999,1,   4.9180,1,   0.0414,1,     -999,9,     -999,9,     -999,9,     -999,9,     -999,9,20230807,1413, -32.1754,  90.8232,-999          ,9,-999          ,9
33RR20230722  ,I05        ,60      ,  1,29         ,29         ,2,20230807,1233, -32.1755,  90.8232,     4017,    118.8,2,  15.0574,2,  35.5166,2,  35.5036,2,    231.6,2,    232.7,2,     1.46,2,     2.94,2,     0.13,2,     0.37,2,    0.000,4,    1.374,2,   2.2300,2,   2114.4,2,   2336.9,2,   7.8882,2,    25.00,2,     -999,1,  14.9988,2,     -999,9,     -999,9,     -999,9,     -999,9,     -999,1,   4.7990,1,   0.0200,1,      9.0,2,     -999,9,     -999,9,     -999,9,     -999,9,20230807,1411, -32.1754,  90.8232,-999          ,9,-999          ,9
33RR20230722  ,I05        ,60      ,  1,28         ,28         ,2,20230807,1233, -32.1755,  90.8232,     4017,    150.3,2,  13.8129,2,  35.3551,2,  35.3699,2,    230.9,2,    232.2,2,     1.66,2,     4.87,2,     0.02,2,     0.49,2,     -999,9,     -999,9,     -999,9,   2125.0,2,   2328.9,2,   7.8621,2,    25.01,2,     -999,1,  13.8058,2,     -999,9,     -999,9,     -999,9,     -999,9,     -999,1,   4.4133,1,   0.0153,1,     -999,9,     -999,9,     -999,9,     -999,9,     -999,9,20230807,1410, -32.1754,  90.8232,-999          ,9,-999          ,9
33RR20230722  ,I05        ,60      ,  1,27         ,27         ,2,20230807,1233, -32.1755,  90.8232,     4017,    187.0,2,  13.2860,2,  35.2701,2,  35.2712,2,    233.2,2,    234.3,2,     1.76,2,     6.05,2,     0.01,2,     0.54,2,     -999,9,     -999,9,     -999,9,   2126.1,2,   2322.2,2,   7.8484,2,    25.00,2,     -999,1,  13.2810,2,     -999,9,     -999,9,     -999,9,     -999,9,     -999,1,   4.9695,1,   0.0122,1,     -999,9,     -999,9,     -999,9,     -999,9,     -999,9,20230807,1408, -32.1754,  90.8232,-999          ,9,-999          ,9
33RR20230722  ,I05        ,60      ,  1,26         ,26         ,2,20230807,1233, -32.1755,  90.8232,     4017,    208.3,2,  12.9311,2,  35.2110,2,  35.2170,2,    234.4,2,    235.4,2,     1.95,2,     6.71,2,     0.00,2,     0.58,2,    1.923,4,    1.594,2,   2.3800,2,   2125.2,2,   2319.8,2,   7.8415,2,    24.99,2,     -999,1,  12.9586,2,     -999,9,     -999,9,     -999,9,     -999,9,     -999,1,   4.9693,1,   0.0118,1,     10.0,2,     -999,9,     -999,9,     -999,9,     -999,9,20230807,1406, -32.1754,  90.8233,-999          ,9,-999          ,9
33RR20230722  ,I05        ,60      ,  1,25         ,25         ,2,20230807,1233, -32.1755,  90.8232,     4017,    242.7,2,  12.5207,2,  35.1406,2,  35.1329,2,    236.3,2,    237.0,2,     2.24,2,     7.75,2,     0.00,2,     0.65,2,     -999,9,     -999,9,     -999,9,   2125.8,2,   2313.4,2,   7.8296,6,    25.01,2,     -999,1,  12.5229,2,     -999,9,     -999,9,     -999,9,     -999,9,     -999,1,   4.9021,1,   0.0116,1,     -999,9,     -999,9,     -999,9,     -999,9,     -999,9,20230807,1405, -32.1755,  90.8232,-999          ,9,-999          ,9
33RR20230722  ,I05        ,60      ,  1,24         ,24         ,2,20230807,1233, -32.1755,  90.8232,     4017,    287.6,2,  11.9880,2,  35.0550,2,  35.0573,2,    240.9,2,    240.4,2,     2.34,2,     8.76,2,     0.00,2,     0.69,2,     -999,9,     -999,9,     -999,9,   2129.6,2,   2309.9,2,   7.8208,2,    24.99,2,     -999,1,  11.9794,2,     -999,9,     -999,9,     -999,9,     -999,9,     -999,1,   4.9688,1,   0.0116,1,     -999,9,     -999,9,     -999,9,     -999,9,     -999,9,20230807,1403, -32.1754,  90.8232,-999          ,9,-999          ,9
33RR20230722  ,I05        ,60      ,  1,23         ,23         ,2,20230807,1233, -32.1755,  90.8232,     4017,    341.1,2,  11.4345,2,  34.9636,2,  34.9660,2,    240.3,2,    240.7,2,     2.93,2,    10.38,2,     0.00,2,     0.80,2,    0.000,4,    1.759,2,   2.4300,2,   2128.9,2,   2306.2,2,   7.8054,2,    24.99,2,     -999,1,  11.4361,2,     -999,9,     -999,9,     -999,9,     -999,9,     -999,1,   4.9682,1,   0.0116,1,     10.6,2,     -999,9,     -999,9,     -999,9,     -999,9,20230807,1401, -32.1754,  90.8232,-999          ,9,-999          ,9
33RR20230722  ,I05        ,60      ,  1,22         ,22         ,2,20230807,1233, -32.1755,  90.8232,     4017,    404.3,2,  11.1057,2,  34.9100,2,  34.9107,2,    241.3,2,    240.7,2,     3.12,2,    11.31,2,     0.00,2,     0.85,2,     -999,9,     -999,9,     -999,9,   2132.0,2,   2300.9,2,   7.7967,2,    24.99,2,     -999,1,  11.1046,2,     -999,9,     -999,9,     -999,9,     -999,9,     -999,1,   4.6393,1,   0.0115,1,     -999,9,     -999,9,     -999,9,     -999,9,     -999,9,20230807,1359, -32.1754,  90.8232,-999          ,9,-999          ,9
33RR20230722  ,I05        ,60      ,  1,21         ,21         ,2,20230807,1233, -32.1755,  90.8232,     4017,    474.1,2,  10.5830,2,  34.8339,2,  34.8338,2,    241.0,2,    240.1,2,     3.61,2,    12.83,2,     0.00,2,     0.95,2,    1.449,4,    1.899,2,   2.2300,2,   2132.9,2,   2299.0,2,   7.7836,2,    25.00,2,     -999,1,  10.5812,2,     -999,9,     -999,9,     -999,9,     -999,9,     -999,1,   4.9680,1,   0.0116,1,     11.2,2,     -999,9,     -999,9,     -999,9,     -999,9,20230807,1357, -32.1755,  90.8232,-999          ,9,-999          ,9
33RR20230722  ,I05        ,60      ,  1,20         ,20         ,2,20230807,1233, -32.1755,  90.8232,     4017,    552.1,2,  10.1884,2,  34.7823,2,  34.7826,2,    237.6,2,    237.0,2,     4.10,2,    14.16,2,     0.00,2,     1.03,2,    0.720,4,    1.815,2,   2.0900,2,   2137.3,2,   2297.1,6,   7.7711,2,    25.00,2,     -999,1,  10.1867,2,     -999,9,     -999,9,     -999,9,     -999,9,     -999,1,   4.9668,1,   0.0116,1,     11.5,2,     -999,9,     -999,9,     -999,9,     -999,9,20230807,1354, -32.1754,  90.8232,-999          ,9,-999          ,9
33RR20230722  ,I05        ,60      ,  1,19         ,19         ,2,20230807,1233, -32.1755,  90.8232,     4017,    638.8,2,   9.7552,2,  34.7249,2,  34.7245,2,    233.1,2,    233.0,2,     4.78,2,    15.89,2,     0.00,2,     1.14,2,    0.000,4,    1.975,2,   2.0000,2,   2142.6,2,   2292.6,4,   7.7558,6,    24.99,2,     -999,1,   9.7552,2,     -999,9,     -999,9,     -999,9,     -999,9,     -999,1,   4.9667,1,   0.0114,1,     12.3,2,     -999,9,     -999,9,     -999,9,     -999,9,20230807,1352, -32.1754,  90.8232,-999          ,9,-999          ,9
33RR20230722  ,I05        ,60      ,  1,18         ,18         ,2,20230807,1233, -32.1755,  90.8232,     4017,    739.2,2,   9.0165,2,  34.6354,2,  34.6356,2,    225.3,2,    225.8,2,     6.44,2,    18.52,2,     0.00,2,     1.31,2,    0.000,4,    1.862,2,   1.8100,2,   2149.8,2,   2289.5,2,   7.7313,2,    25.00,2,     -999,1,   9.0126,2,     -999,9,     -999,9,     -999,9,     -999,9,     -999,1,   4.7330,1,   0.0114,1,     12.5,2,     -999,9,     -999,9,     -999,9,     -999,9,20230807,1349, -32.1754,  90.8232,-999          ,9,-999          ,9
33RR20230722  ,I05        ,60      ,  1,17         ,17         ,2,20230807,1233, -32.1755,  90.8232,     4017,    852.3,2,   7.3016,2,  34.4856,2,  34.4844,2,    201.8,2,    202.6,2,    15.22,2,    24.78,2,     0.00,2,     1.67,2,     -999,9,     -999,9,     -999,9,   2170.9,6,   2288.7,2,   7.6695,2,    25.02,2,     -999,1,   7.3045,2,     -999,9,     -999,9,     -999,9,     -999,9,     -999,1,   4.9701,1,   0.0113,1,     -999,9,     -999,9,     -999,9,     -999,9,     -999,9,20230807,1346, -32.1755,  90.8232,-999          ,9,-999          ,9
33RR20230722  ,I05        ,60      ,  1,16         ,16         ,2,20230807,1233, -32.1755,  90.8232,     4017,    968.5,2,   5.6037,2,  34.3961,2,  34.3970,2,    193.2,2,    193.3,2,    27.13,2,    29.16,2,     0.00,2,     2.01,2,     -999,9,     -999,9,     -999,9,   2194.6,2,   2294.0,2,   7.6269,2,    25.01,2,     -999,1,   5.6092,2,     -999,9,     -999,9,     -999,9,     -999,9,     -999,1,   4.9704,1,   0.0112,1,     -999,9,     -999,9,     -999,9,     -999,9,     -999,9,20230807,1343, -32.1755,  90.8232,-999          ,9,-999          ,9
33RR20230722  ,I05        ,60      ,  1,15         ,15         ,2,20230807,1233, -32.1755,  90.8232,     4017,   1060.6,2,   4.6454,2,  34.3902,2,  34.3902,2,    185.4,2,    185.8,2,    39.04,2,    31.65,2,     0.00,2,     2.20,2,     -999,9,     -999,9,     -999,9,   2210.8,2,   2304.5,2,   7.6022,6,    25.01,2,     -999,1,   4.6423,2,     -999,9,     -999,9,     -999,9,     -999,9,     -999,1,   4.7570,1,   0.0112,1,     -999,9,     -999,9,     -999,9,     -999,9,     -999,9,20230807,1340, -32.1754,  90.8232,-999          ,9,-999          ,9
33RR20230722  ,I05        ,60      ,  1,14         ,14         ,2,20230807,1233, -32.1755,  90.8232,     4017,   1171.7,2,   4.0530,2,  34.4483,2,  34.4496,2,    166.5,2,    166.0,2,    55.34,2,    33.70,2,     0.00,2,     2.34,2,     -999,9,     -999,9,     -999,9,   2239.2,2,   2320.5,2,   7.5772,2,    25.02,2,     -999,1,   4.0551,2,     -999,9,     -999,9,     -999,9,     -999,9,     -999,1,   4.9731,1,   0.0112,1,     -999,9,     -999,9,     -999,9,     -999,9,     -999,9,20230807,1337, -32.1754,  90.8232,-999          ,9,-999          ,9
33RR20230722  ,I05        ,60      ,  1,13         ,13         ,2,20230807,1233, -32.1755,  90.8232,     4017,   1291.5,2,   3.7080,2,  34.5016,2,  34.5013,2,    154.8,2,    155.0,2,    67.04,2,    34.57,2,     0.00,2,     2.44,2,    0.474,4,    0.247,2,   0.1100,2,   2253.1,2,   2332.6,2,   7.5626,2,    25.01,2,     -999,1,   3.7089,2,     -999,9,     -999,9,     -999,9,     -999,9,     -999,1,   4.8593,1,   0.0122,1,     21.4,2,     -999,9,     -999,9,     -999,9,     -999,9,20230807,1334, -32.1754,  90.8232,-999          ,9,-999          ,9
33RR20230722  ,I05        ,60      ,  1,12         ,12         ,2,20230807,1233, -32.1755,  90.8232,     4017,   1415.4,2,   3.4444,2,  34.5555,2,  34.5563,2,    148.1,2,    147.9,2,    75.92,2,    34.98,2,     0.00,2,     2.48,2,     -999,9,     -999,9,     -999,9,   2264.4,2,   2342.4,2,   7.5586,2,    25.00,2,     -999,1,   3.4435,2,     -999,9,     -999,9,     -999,9,     -999,9,     -999,1,   4.9748,1,   0.0111,1,     -999,9,     -999,9,     -999,9,     -999,9,     -999,9,20230807,1331, -32.1754,  90.8233,-999          ,9,-999          ,9
33RR20230722  ,I05        ,60      ,  1,11         ,11         ,2,20230807,1233, -32.1755,  90.8232,     4017,   1555.8,2,   3.1783,2,  34.5955,2,  34.5956,2,    148.6,2,    148.4,2,    82.26,2,    34.81,2,     0.00,2,     2.47,2,    0.059,4,    0.058,2,   0.0000,2,   2270.0,6,   2350.9,2,   7.5595,2,    25.00,2,     -999,1,   3.1791,2,     -999,9,     -999,9,     -999,9,     -999,9,     -999,1,   4.9749,1,   0.0118,1,     21.4,2,     -999,9,     -999,9,     -999,9,     -999,9,20230807,1327, -32.1755,  90.8232,-999          ,9,-999          ,9
33RR20230722  ,I05        ,60      ,  1,10         ,10         ,2,20230807,1233, -32.1755,  90.8232,     4017,   1698.9,2,   2.9439,2,  34.6305,2,  34.6303,2,    152.2,2,    152.1,2,    86.46,2,    34.42,2,     0.00,2,     2.43,2,     -999,9,     -999,9,     -999,9,   2270.9,2,   2353.7,2,   7.5648,2,    25.00,2,     -999,1,   2.9449,2,     -999,9,     -999,9,     -999,9,     -999,9,     -999,1,   4.9751,1,   0.0118,1,     -999,9,     -999,9,     -999,9,     -999,9,     -999,9,20230807,1323, -32.1755,  90.8232,-999          ,9,-999          ,9
33RR20230722  ,I05        ,60      ,  1,9          ,9          ,2,20230807,1233, -32.1755,  90.8232,     4017,   1877.9,2,   2.7118,2,  34.6659,2,  34.6661,2,    157.5,2,    157.6,2,    90.45,2,    33.98,2,     0.00,2,     2.41,2,   -0.868,4,    0.029,2,   0.0500,2,   2270.2,2,   2358.3,2,   7.5744,2,    25.02,2,     -999,1,   2.7151,2,     -999,9,     -999,9,     -999,9,     -999,9,     -999,1,   4.6160,1,   0.0117,1,     20.8,2,     -999,9,     -999,9,     -999,9,     -999,9,20230807,1319, -32.1754,  90.8233,-999          ,9,-999          ,9
33RR20230722  ,I05        ,60      ,  1,8          ,8          ,2,20230807,1233, -32.1755,  90.8232,     4017,   1976.8,2,   2.5541,2,  34.6854,2,  34.6855,2,    163.6,2,    163.8,2,    91.82,2,    33.28,2,     0.00,2,     2.33,2,     -999,9,     -999,9,     -999,9,   2270.8,2,   2357.5,2,   7.5825,2,    25.00,2,     -999,1,   2.5538,2,     -999,9,     -999,9,     -999,9,     -999,9,     -999,1,   4.9722,1,   0.0113,1,     -999,9,     -999,9,     -999,9,     -999,9,     -999,9,20230807,1316, -32.1754,  90.8232,-999          ,9,-999          ,9
33RR20230722  ,I05        ,60      ,  1,7          ,7          ,2,20230807,1233, -32.1755,  90.8232,     4017,   2245.8,2,   2.2848,2,  34.7153,2,  34.7158,2,    173.4,2,    173.6,2,    95.72,2,    32.41,2,     0.00,2,     2.28,2,   -0.445,4,    0.019,2,   0.0500,2,   2267.0,2,   2362.6,2,   7.5964,2,    25.02,2,     -999,1,   2.2855,2,     -999,9,     -999,9,     -999,9,     -999,9,     -999,1,   4.9043,1,   0.0118,1,     18.8,2,     -999,9,     -999,9,     -999,9,     -999,9,20230807,1311, -32.1754,  90.8232,-999          ,9,-999          ,9
33RR20230722  ,I05        ,60      ,  1,6          ,6          ,2,20230807,1233, -32.1755,  90.8232,     4017,   2537.7,2,   2.0103,2,  34.7337,2,  34.7337,2,    186.5,2,    186.5,2,    95.04,2,    31.40,2,     0.00,2,     2.21,2,     -999,9,     -999,9,     -999,9,   2259.1,2,   2358.8,2,   7.6107,2,    25.01,2,     -999,1,   2.0111,2,     -999,9,     -999,9,     -999,9,     -999,9,     -999,1,   4.9666,1,   0.0112,1,     -999,9,     -999,9,     -999,9,     -999,9,     -999,9,20230807,1305, -32.1754,  90.8232,-999          ,9,-999          ,9
33RR20230722  ,I05        ,60      ,  1,5          ,5          ,2,20230807,1233, -32.1755,  90.8232,     4017,   2966.6,2,   1.6272,2,  34.7349,2,  34.7351,2,    195.2,2,    195.4,2,   103.43,2,    31.21,2,     0.00,2,     2.16,2,     -999,9,     -999,9,     -999,9,   2262.5,2,   2362.7,2,   7.6167,2,    25.02,2,     -999,1,   1.6274,2,     -999,9,     -999,9,     -999,9,     -999,9,     -999,1,   4.9752,1,   0.0111,1,     -999,9,     -999,9,     -999,9,     -999,9,     -999,9,20230807,1256, -32.1755,  90.8232,-999          ,9,-999          ,9
33RR20230722  ,I05        ,60      ,  1,4          ,37         ,2,20230807,1233, -32.1755,  90.8232,     4017,   3285.5,2,   1.3892,2,  34.7282,2,  34.7288,2,    199.7,2,    199.7,2,   109.48,2,    31.48,2,     0.00,2,     2.18,2,     -999,9,     -999,9,     -999,9,   2264.8,2,   2364.7,2,   7.6183,2,    25.00,2,     -999,1,   1.3891,2,     -999,9,     -999,9,     -999,9,     -999,9,     -999,1,   4.9755,1,   0.0112,1,     -999,9,     -999,9,     -999,9,     -999,9,     -999,9,20230807,1250, -32.1754,  90.8232,-999          ,9,-999          ,9
33RR20230722  ,I05        ,60      ,  1,3          ,3          ,2,20230807,1233, -32.1755,  90.8232,     4017,   3600.6,2,   1.3121,2,  34.7246,2,  34.7248,2,    201.0,2,    201.3,2,   113.58,2,    31.66,2,     0.00,2,     2.20,2,     -999,9,     -999,9,     -999,9,   2262.4,2,   2367.2,6,   7.6186,6,    25.00,2,     -999,1,   1.3119,2,     -999,9,     -999,9,     -999,9,     -999,9,     -999,1,   4.9489,1,   0.0111,1,     -999,9,     -999,9,     -999,9,     -999,9,     -999,9,20230807,1244, -32.1754,  90.8232,-999          ,9,-999          ,9