BOTTLE,20240422CCHHYDRO
EXPOCODE,SECT_ID,STNNBR,CASTNO,SAMPNO,BTLNBR,BTLNBR_FLAG_W,DATE,TIME,LATITUDE,LONGITUDE,DEPTH,CTDPRS,CTDPRS_FLAG_W,CTDTMP,CTDTMP_FLAG_W,CTDSAL,CTDSAL_FLAG_W,SALNTY,SALNTY_FLAG_W,CTDOXY,CTDOXY_FLAG_W,OXYGEN,OXYGEN_FLAG_W,SILCAT,SILCAT_FLAG_W,NITRAT,NITRAT_FLAG_W,NITRIT,NITRIT_FLAG_W,PHSPHT,PHSPHT_FLAG_W,CFC-11,CFC-11_FLAG_W,CFC-12,CFC-12_FLAG_W,SF6,SF6_FLAG_W,TCARBN,TCARBN_FLAG_W,ALKALI,ALKALI_FLAG_W,PH_TOT,PH_TOT_FLAG_W,PH_TMP,PH_TMP_FLAG_W,DOC,DOC_FLAG_W,REFTMP,REFTMP_FLAG_W,POC,POC_FLAG_W,PON,PON_FLAG_W,POP,POP_FLAG_W,DOP,DOP_FLAG_W,DELO18,DELO18_FLAG_W,CTDFLUOR,CTDFLUOR_FLAG_W,CTDXMISS,CTDXMISS_FLAG_W,N2O,N2O_FLAG_W,D15N_NO3,D15N_NO3_FLAG_W,D15N_NO2+NO3,D15N_NO2+NO3_FLAG_W,D18O_NO2+NO3,D18O_NO2+NO3_FLAG_W,D18O_NO3,D18O_NO3_FLAG_W,BTL_DATE,BTL_TIME,BTL_LAT,BTL_LON,HPLC,HPLC_FLAG_W,DNA,DNA_FLAG_W
,,,,,,,,,,,METERS,DBAR,,ITS-90,,PSS-78,,PSS-78,,UMOL/KG,,UMOL/KG,,UMOL/KG,,UMOL/KG,,UMOL/KG,,UMOL/KG,,PMOL/KG,,PMOL/KG,,FMOL/KG,,UMOL/KG,,UMOL/KG,,,,DEG C,,UMOL/KG,,ITS-90,,UG/KG,,UG/KG,,UG/L,,UMOL/KG,,/MILLE,,VOLTS,,VOLTS,,NMOL/KG,,/MILLE,,/MILLE,,/MILLE,,/MILLE,,,,,,,,,
33RR20230722  ,I05        ,105     ,  1,36         ,38         ,2,20230819,0018, -34.0013,  69.1267,     4492,      5.4,2,  16.5800,2,  35.5122,2,  35.5123,2,    244.5,2,    244.3,2,     1.07,2,     0.07,2,     0.00,2,     0.17,2,    2.149,3,    1.371,6,   2.3900,6,   2084.3,6,   2332.8,2,   7.9500,2,    25.00,2,     -999,1,  16.5777,2,     -999,9,     -999,9,     -999,9,     -999,1,     -999,1,   4.7215,1,   0.0292,1,      8.4,6,     -999,9,     -999,9,     -999,9,     -999,9,20230819,0215, -34.0013,  69.1267,-999          ,9,-999          ,9
33RR20230722  ,I05        ,105     ,  1,35         ,35         ,2,20230819,0018, -34.0013,  69.1267,     4492,     20.1,2,  16.5761,2,  35.5123,2,  35.5113,2,    244.3,2,    244.6,2,     0.98,2,     0.01,2,     0.00,2,     0.14,2,     -999,9,     -999,9,     -999,9,   2084.4,2,   2332.6,6,   7.9509,2,    25.00,2,     -999,9,  16.5787,2,     -999,9,     -999,9,     -999,9,     -999,9,     -999,1,   4.9751,1,   0.0293,1,     -999,9,     -999,9,     -999,9,     -999,9,     -999,9,20230819,0213, -34.0013,  69.1267,-999          ,9,-999          ,9
33RR20230722  ,I05        ,105     ,  1,34         ,34         ,2,20230819,0018, -34.0013,  69.1267,     4492,     36.7,2,  16.5606,2,  35.5096,2,  35.5087,2,    244.1,2,    244.4,2,     0.98,2,     0.00,2,     0.00,2,     0.15,2,    2.193,3,    1.475,2,   2.3600,2,   2083.3,2,   2333.2,2,   7.9480,6,    25.01,2,     -999,9,  16.5586,2,     -999,9,     -999,9,     -999,9,     -999,1,     -999,1,   4.9750,1,   0.0339,1,      8.5,2,     -999,9,     -999,9,     -999,9,     -999,9,20230819,0212, -34.0013,  69.1267,-999          ,9,-999          ,9
33RR20230722  ,I05        ,105     ,  1,33         ,33         ,2,20230819,0018, -34.0013,  69.1267,     4492,     53.8,2,  16.4855,2,  35.4995,2,  35.5003,2,    244.2,2,    244.3,2,     0.98,2,     0.01,2,     0.00,2,     0.14,2,     -999,9,     -999,9,     -999,9,   2082.9,2,   2332.2,2,   7.9476,2,    25.01,2,     -999,9,  16.4845,2,     -999,9,     -999,9,     -999,9,     -999,1,     -999,1,   4.9749,1,   0.0395,1,     -999,9,     -999,9,     -999,9,     -999,9,     -999,9,20230819,0210, -34.0013,  69.1267,-999          ,9,-999          ,9
33RR20230722  ,I05        ,105     ,  1,32         ,32         ,2,20230819,0018, -34.0013,  69.1267,     4492,     74.3,2,  15.2780,2,  35.4436,2,  35.4354,2,    238.1,2,    239.2,2,     1.46,2,     1.88,2,     0.21,2,     0.29,2,    1.814,2,    1.398,2,   2.3300,2,   2102.3,2,   2328.0,2,   7.9045,2,    25.01,2,     -999,9,  15.2831,2,     -999,9,     -999,9,     -999,9,     -999,1,     -999,1,   4.9721,1,   0.0332,1,      9.7,2,     -999,9,     -999,9,     -999,9,     -999,9,20230819,0208, -34.0013,  69.1267,-999          ,9,-999          ,9
33RR20230722  ,I05        ,105     ,  1,31         ,31         ,2,20230819,0018, -34.0013,  69.1267,     4492,    101.0,2,  14.7082,2,  35.4228,2,  35.4308,2,    233.6,2,    235.1,2,     1.46,2,     3.04,2,     0.06,2,     0.35,2,     -999,9,     -999,9,     -999,9,   2108.2,2,   2327.0,2,   7.8841,2,    25.00,2,     -999,9,  14.7574,2,     -999,9,     -999,9,     -999,9,     -999,9,     -999,1,   4.9473,1,   0.0289,1,     -999,9,     -999,9,     -999,9,     -999,9,     -999,9,20230819,0206, -34.0013,  69.1267,-999          ,9,-999          ,9
33RR20230722  ,I05        ,105     ,  1,30         ,30         ,2,20230819,0018, -34.0013,  69.1267,     4492,    126.1,2,  14.2492,2,  35.3459,2,  35.3478,2,    229.6,2,    231.4,2,     2.34,2,     5.47,2,     0.02,2,     0.46,2,    2.696,2,    1.604,2,   2.3600,2,   2114.3,2,   2319.6,2,   7.8657,2,    25.01,2,     -999,9,  14.2558,2,     -999,9,     -999,9,     -999,9,     -999,1,     -999,1,   4.9689,1,   0.0229,1,     10.2,2,     -999,9,     -999,9,     -999,9,     -999,9,20230819,0205, -34.0013,  69.1267,-999          ,9,-999          ,9
33RR20230722  ,I05        ,105     ,  1,29         ,29         ,2,20230819,0018, -34.0013,  69.1267,     4492,    156.6,2,  13.9513,2,  35.3428,2,  35.3415,2,    233.0,2,    233.6,2,     2.44,2,     5.97,2,     0.01,2,     0.48,2,     -999,9,     -999,9,     -999,9,   2117.0,2,   2319.5,2,   7.8610,2,    25.01,2,     -999,9,  13.9663,2,     -999,9,     -999,9,     -999,9,     -999,9,     -999,1,   4.9697,1,   0.0129,1,     -999,9,     -999,9,     -999,9,     -999,9,     -999,9,20230819,0203, -34.0013,  69.1267,-999          ,9,-999          ,9
33RR20230722  ,I05        ,105     ,  1,28         ,28         ,2,20230819,0018, -34.0013,  69.1267,     4492,    189.1,2,  13.5975,2,  35.2830,2,  35.2820,2,    233.9,2,    234.4,2,     2.54,2,     6.62,2,     0.01,2,     0.55,2,    2.648,2,    1.659,2,   2.4800,2,   2117.8,2,   2318.4,2,   7.8521,2,    25.00,2,     -999,9,  13.5929,2,     -999,9,     -999,9,     -999,9,     -999,1,     -999,1,   4.9695,1,   0.0126,1,     10.5,2,     -999,9,     -999,9,     -999,9,     -999,9,20230819,0201, -34.0013,  69.1267,-999          ,9,-999          ,9
33RR20230722  ,I05        ,105     ,  1,27         ,27         ,2,20230819,0018, -34.0013,  69.1267,     4492,    220.8,2,  13.4234,2,  35.2687,2,  35.2706,2,    235.9,2,    236.1,2,     2.73,2,     6.99,2,     0.01,2,     0.55,2,     -999,9,     -999,9,     -999,9,   2120.4,2,   2317.8,2,   7.8508,2,    25.00,2,     -999,9,  13.4276,2,     -999,9,     -999,9,     -999,9,     -999,9,     -999,1,   4.9696,1,   0.0119,1,     -999,9,     -999,9,     -999,9,     -999,9,     -999,9,20230819,0200, -34.0013,  69.1267,-999          ,9,-999          ,9
33RR20230722  ,I05        ,105     ,  1,26         ,26         ,2,20230819,0018, -34.0013,  69.1267,     4492,    258.0,2,  13.1481,2,  35.2326,2,  35.2343,2,    236.9,2,    236.8,2,     2.83,2,     7.57,2,     0.00,2,     0.60,2,    3.431,2,    1.701,2,   2.5100,2,   2117.8,2,   2314.5,2,   7.8443,2,    25.01,2,     -999,9,  13.1563,2,     -999,9,     -999,9,     -999,9,     -999,1,     -999,1,   4.9693,1,   0.0115,1,     10.4,2,     -999,9,     -999,9,     -999,9,     -999,9,20230819,0158, -34.0013,  69.1267,-999          ,9,-999          ,9
33RR20230722  ,I05        ,105     ,  1,25         ,25         ,2,20230819,0018, -34.0013,  69.1267,     4492,    303.1,2,  12.9035,2,  35.1969,2,  35.1939,2,    236.7,2,    236.1,2,     2.93,2,     8.29,2,     0.00,2,     0.63,2,     -999,9,     -999,9,     -999,9,   2121.9,2,   2312.5,2,   7.8360,6,    25.00,2,     -999,9,  12.8996,2,     -999,9,     -999,9,     -999,9,     -999,9,     -999,1,   4.9685,1,   0.0114,1,     -999,9,     -999,9,     -999,9,     -999,9,     -999,9,20230819,0156, -34.0013,  69.1267,-999          ,9,-999          ,9
33RR20230722  ,I05        ,105     ,  1,24         ,24         ,2,20230819,0018, -34.0013,  69.1267,     4492,    358.6,2,  12.6290,2,  35.1548,2,  35.1557,2,    236.2,2,    235.9,2,     3.12,2,     8.96,2,     0.00,2,     0.68,2,    4.284,2,    1.762,2,   2.4100,2,   2119.8,2,   2311.6,2,   7.8283,2,    25.00,2,     -999,9,  12.6320,2,     -999,9,     -999,9,     -999,9,     -999,9,     -999,1,   4.9683,1,   0.0115,1,     11.0,2,     -999,9,     -999,9,     -999,9,     -999,9,20230819,0154, -34.0013,  69.1267,-999          ,9,-999          ,9
33RR20230722  ,I05        ,105     ,  1,23         ,23         ,2,20230819,0018, -34.0013,  69.1267,     4492,    422.7,2,  12.3005,2,  35.1011,2,  35.0978,2,    234.4,2,    234.6,2,     3.41,2,     9.97,2,     0.00,2,     0.73,2,    3.566,2,    1.767,2,   2.3300,2,   2125.7,6,   2307.5,2,   7.8174,2,    25.02,2,     -999,9,  12.2993,2,     -999,9,     -999,9,     -999,9,     -999,9,     -999,1,   4.8101,1,   0.0114,1,     10.9,2,     -999,9,     -999,9,     -999,9,     -999,9,20230819,0152, -34.0013,  69.1267,-999          ,9,-999          ,9
33RR20230722  ,I05        ,105     ,  1,22         ,22         ,2,20230819,0018, -34.0013,  69.1267,     4492,    495.9,2,  11.7694,2,  35.0165,2,  35.0132,2,    233.0,2,    232.7,2,     3.71,2,    11.37,2,     0.00,2,     0.83,2,    2.550,2,    1.582,2,   2.1300,2,   2127.1,2,   2304.6,2,   7.8030,2,    25.02,2,     -999,9,  11.7612,2,     -999,9,     -999,9,     -999,9,     -999,9,     -999,1,   4.9674,1,   0.0114,1,     11.4,2,     -999,9,     -999,9,     -999,9,     -999,9,20230819,0149, -34.0013,  69.1267,-999          ,9,-999          ,9
33RR20230722  ,I05        ,105     ,  1,21         ,21         ,2,20230819,0018, -34.0013,  69.1267,     4492,    583.5,2,  11.1219,2,  34.9191,2,  34.9183,2,    228.3,2,    228.4,2,     4.29,2,    13.15,2,     0.00,2,     0.94,2,    2.140,2,    1.635,2,   2.0000,2,   2131.7,2,   2301.2,2,   7.7861,2,    25.00,2,     -999,9,  11.1223,2,     -999,9,     -999,9,     -999,9,     -999,9,     -999,1,   4.9493,1,   0.0115,1,     12.0,2,     -999,9,     -999,9,     -999,9,     -999,9,20230819,0147, -34.0013,  69.1267,-999          ,9,-999          ,9
33RR20230722  ,I05        ,105     ,  1,20         ,20         ,2,20230819,0018, -34.0013,  69.1267,     4492,    680.0,2,  10.1865,2,  34.7906,2,  34.7879,2,    221.8,2,    221.9,2,     5.66,2,    15.87,2,     0.00,2,     1.11,2,    3.350,3,    1.947,2,   1.8100,2,   2143.0,2,   2294.9,2,   7.7576,2,    25.00,2,     -999,9,  10.1856,2,     -999,9,     -999,9,     -999,9,     -999,9,     -999,1,   4.6741,1,   0.0115,1,     13.2,2,     -999,9,     -999,9,     -999,9,     -999,9,20230819,0144, -34.0013,  69.1267,-999          ,9,-999          ,9
33RR20230722  ,I05        ,105     ,  1,19         ,19         ,2,20230819,0018, -34.0013,  69.1267,     4492,    789.3,2,   8.9188,2,  34.6430,2,  34.6425,2,    211.5,2,    212.8,2,     9.08,2,    19.73,2,     0.00,2,     1.36,2,    2.582,2,    1.823,2,   1.5000,2,   2153.2,2,   2290.9,2,   7.7182,2,    25.00,2,     -999,9,   8.9156,2,     -999,9,     -999,9,     -999,9,     -999,9,     -999,1,   4.9677,1,   0.0113,1,     14.7,2,     -999,9,     -999,9,     -999,9,     -999,9,20230819,0141, -34.0013,  69.1267,-999          ,9,-999          ,9
33RR20230722  ,I05        ,105     ,  1,18         ,18         ,2,20230819,0018, -34.0013,  69.1267,     4492,    913.0,2,   6.9821,2,  34.4714,2,  34.4714,2,    203.9,2,    204.2,2,    16.79,2,    25.04,2,     0.00,2,     1.70,2,     -999,9,     -999,9,     -999,9,   2171.6,2,   2288.0,2,   7.6626,2,    24.99,2,     -999,9,   6.9821,2,     -999,9,     -999,9,     -999,9,     -999,9,     -999,1,   4.7657,1,   0.0111,1,     -999,9,     -999,9,     -999,9,     -999,9,     -999,9,20230819,0138, -34.0013,  69.1267,-999          ,9,-999          ,9
33RR20230722  ,I05        ,105     ,  1,17         ,17         ,2,20230819,0018, -34.0013,  69.1267,     4492,   1027.0,2,   5.5568,2,  34.3750,2,  34.3749,2,    206.8,2,    206.7,2,    23.72,2,    28.06,2,     0.00,2,     1.94,2,    1.927,2,    1.340,2,   0.8700,2,   2183.5,2,   2288.9,2,   7.6336,6,    25.00,2,     -999,9,   5.5571,2,     -999,9,     -999,9,     -999,9,     -999,9,     -999,1,   4.6866,1,   0.0113,1,     18.6,2,     -999,9,     -999,9,     -999,9,     -999,9,20230819,0135, -34.0013,  69.1267,-999          ,9,-999          ,9
33RR20230722  ,I05        ,105     ,  1,16         ,16         ,2,20230819,0018, -34.0013,  69.1267,     4492,   1152.9,2,   4.3885,2,  34.3543,2,  34.3547,2,    200.6,2,    200.5,2,    35.14,2,    30.70,2,     0.00,2,     2.11,2,     -999,9,     -999,9,     -999,9,   2202.5,2,   2298.0,2,   7.6057,2,    25.01,2,     -999,9,   4.3854,2,     -999,9,     -999,9,     -999,9,     -999,9,     -999,1,   4.9709,1,   0.0113,1,     -999,9,     -999,9,     -999,9,     -999,9,     -999,9,20230819,0132, -34.0013,  69.1267,-999          ,9,-999          ,9
33RR20230722  ,I05        ,105     ,  1,15         ,15         ,2,20230819,0018, -34.0013,  69.1267,     4492,   1279.9,2,   3.7616,2,  34.3995,2,  34.3988,2,    187.1,2,    187.6,2,    46.85,2,    32.46,2,     0.00,2,     2.24,2,    1.769,2,    0.842,2,   0.4200,2,   2221.2,2,   2308.9,2,   7.5846,2,    24.99,2,     -999,9,   3.7627,2,     -999,9,     -999,9,     -999,9,     -999,9,     -999,1,   4.9723,1,   0.0113,1,     21.8,2,     -999,9,     -999,9,     -999,9,     -999,9,20230819,0128, -34.0013,  69.1267,-999          ,9,-999          ,9
33RR20230722  ,I05        ,105     ,  1,14         ,14         ,2,20230819,0018, -34.0013,  69.1267,     4492,   1402.4,2,   3.3930,2,  34.4617,2,  34.4618,2,    174.6,2,    174.9,2,    57.49,2,    33.42,2,     0.00,2,     2.30,2,    0.648,2,    0.472,2,   0.2800,2,   2237.8,2,   2319.5,2,   7.5721,2,    24.99,2,     -999,9,   3.3926,2,     -999,9,     -999,9,     -999,9,     -999,9,     -999,1,   4.9732,1,   0.0112,1,     22.7,2,     -999,9,     -999,9,     -999,9,     -999,9,20230819,0125, -34.0013,  69.1267,-999          ,9,-999          ,9
33RR20230722  ,I05        ,105     ,  1,13         ,13         ,2,20230819,0018, -34.0013,  69.1267,     4492,   1541.1,2,   3.0929,2,  34.5340,2,  34.5327,2,    167.9,2,    168.1,2,    66.46,2,    33.67,2,     0.00,2,     2.36,2,     -999,9,     -999,9,     -999,9,   2250.5,2,   2329.8,2,   7.5684,2,    24.98,2,     -999,9,   3.0909,2,     -999,9,     -999,9,     -999,9,     -999,9,     -999,1,   4.8749,1,   0.0116,1,     -999,9,     -999,9,     -999,9,     -999,9,     -999,9,20230819,0122, -34.0013,  69.1267,-999          ,9,-999          ,9
33RR20230722  ,I05        ,105     ,  1,12         ,12         ,2,20230819,0018, -34.0013,  69.1267,     4492,   1673.7,2,   2.8680,2,  34.5874,2,  34.5873,2,    168.5,2,    168.5,2,    71.63,2,    33.25,2,     0.00,2,     2.31,2,    0.231,2,    0.155,2,   0.1500,2,   2250.9,6,   2335.4,2,   7.5710,2,    24.99,2,     -999,9,   2.8635,2,     -999,9,     -999,9,     -999,9,     -999,9,     -999,1,   4.9313,1,   0.0113,1,     22.6,2,     -999,9,     -999,9,     -999,9,     -999,9,20230819,0118, -34.0013,  69.1267,-999          ,9,-999          ,9
33RR20230722  ,I05        ,105     ,  1,11         ,11         ,2,20230819,0018, -34.0013,  69.1267,     4492,   1818.6,2,   2.6793,2,  34.6350,2,  34.6329,2,    172.1,2,    172.3,2,    75.14,2,    32.61,2,     0.00,2,     2.26,2,    0.129,2,    0.095,2,   0.0400,2,   2252.8,2,   2339.2,2,   7.5799,2,    25.00,2,     -999,9,   2.6806,2,     -999,9,     -999,9,     -999,9,     -999,9,     -999,1,   4.9742,1,   0.0111,1,     21.9,2,     -999,9,     -999,9,     -999,9,     -999,9,20230819,0115, -34.0013,  69.1267,-999          ,9,-999          ,9
33RR20230722  ,I05        ,105     ,  1,10         ,10         ,2,20230819,0018, -34.0013,  69.1267,     4492,   1998.6,2,   2.4657,2,  34.6848,2,  34.6857,2,    178.7,2,    178.7,2,    79.34,2,    31.71,2,     0.00,2,     2.18,2,    0.104,2,    0.061,2,   0.0400,2,   2251.5,2,   2346.9,2,   7.5954,6,    25.01,2,     -999,9,   2.4647,2,     -999,9,     -999,9,     -999,9,     -999,9,     -999,1,   4.9743,1,   0.0111,1,     20.9,2,     -999,9,     -999,9,     -999,9,     -999,9,20230819,0111, -34.0013,  69.1267,-999          ,9,-999          ,9
33RR20230722  ,I05        ,105     ,  1,9          ,9          ,2,20230819,0018, -34.0013,  69.1267,     4492,   2223.2,2,   2.2170,2,  34.7114,2,  34.7105,2,    177.5,2,    177.6,2,    94.46,2,    31.97,2,     0.00,2,     2.22,2,     -999,9,     -999,9,     -999,9,   2260.5,2,   2362.5,6,   7.6036,2,    25.00,2,     -999,9,   2.2184,2,     -999,9,     -999,9,     -999,9,     -999,9,     -999,1,   4.7523,1,   0.0111,1,     -999,9,     -999,9,     -999,9,     -999,9,     -999,9,20230819,0106, -34.0013,  69.1267,-999          ,9,-999          ,9
33RR20230722  ,I05        ,105     ,  1,8          ,8          ,2,20230819,0018, -34.0013,  69.1267,     4492,   2485.4,2,   2.0349,2,  34.7247,2,  34.7237,2,    176.9,2,    177.1,2,   104.02,2,    32.25,2,     0.00,2,     2.28,2,    0.026,2,    0.016,2,   0.0200,2,   2272.8,2,   2372.4,2,   7.6054,2,    25.00,2,     -999,9,   2.0343,2,     -999,9,     -999,9,     -999,9,     -999,9,     -999,1,   4.7515,1,   0.0113,1,     20.3,2,     -999,9,     -999,9,     -999,9,     -999,9,20230819,0100, -34.0013,  69.1267,-999          ,9,-999          ,9
33RR20230722  ,I05        ,105     ,  1,7          ,7          ,2,20230819,0018, -34.0013,  69.1267,     4492,   2787.6,2,   1.8782,2,  34.7278,2,  34.7268,2,    177.3,2,    177.0,2,   110.95,2,    32.57,2,     0.00,2,     2.27,2,     -999,9,     -999,9,     -999,9,   2281.8,2,   2376.8,2,   7.6058,2,    25.00,2,     -999,9,   1.8779,2,     -999,9,     -999,9,     -999,9,     -999,9,     -999,1,   4.9626,1,   0.0122,1,     -999,9,     -999,9,     -999,9,     -999,9,     -999,9,20230819,0054, -34.0013,  69.1267,-999          ,9,-999          ,9
33RR20230722  ,I05        ,105     ,  1,6          ,6          ,2,20230819,0018, -34.0013,  69.1267,     4492,   3142.7,2,   1.6992,2,  34.7253,2,  34.7247,2,    179.8,2,    179.8,2,   116.51,2,    32.86,2,     0.00,2,     2.29,2,    0.027,2,    0.011,2,   0.0500,2,   2281.0,2,   2380.6,2,   7.6066,2,    24.99,2,     -999,9,   1.6985,2,     -999,9,     -999,9,     -999,9,     -999,9,     -999,1,   4.8768,1,   0.0114,1,     19.8,2,     -999,9,     -999,9,     -999,9,     -999,9,20230819,0047, -34.0013,  69.1267,-999          ,9,-999          ,9
33RR20230722  ,I05        ,105     ,  1,5          ,5          ,2,20230819,0018, -34.0013,  69.1267,     4492,   3488.3,2,   1.4946,2,  34.7195,2,  34.7188,2,    185.7,2,    185.9,2,   120.13,2,    32.73,2,     0.00,2,     2.30,2,    0.026,2,    0.017,2,   0.0400,2,   2278.2,2,   2380.1,2,   7.6076,2,    24.99,2,     -999,9,   1.4946,2,     -999,9,     -999,9,     -999,9,     -999,9,     -999,1,   4.9762,1,   0.0115,1,     19.7,2,     -999,9,     -999,9,     -999,9,     -999,9,20230819,0040, -34.0013,  69.1267,-999          ,9,-999          ,9
33RR20230722  ,I05        ,105     ,  1,4          ,37         ,2,20230819,0018, -34.0013,  69.1267,     4492,   3840.1,2,   1.1577,2,  34.7088,2,  34.7076,2,    197.2,2,    197.4,2,   123.25,2,    32.41,2,     0.00,2,     2.26,2,     -999,9,     -999,9,     -999,9,   2273.6,2,   2371.7,2,   7.6084,2,    25.00,2,     -999,9,   1.1584,2,     -999,9,     -999,9,     -999,9,     -999,9,     -999,1,   4.8287,1,   0.0111,1,     -999,9,     -999,9,     -999,9,     -999,9,     -999,9,20230819,0034, -34.0013,  69.1267,-999          ,9,-999          ,9
33RR20230722  ,I05        ,105     ,  1,3          ,3          ,2,20230819,0018, -34.0013,  69.1267,     4492,   4123.1,2,   0.8847,2,  34.6988,2,  34.6981,2,    205.7,2,    206.1,2,   126.28,2,    32.36,2,     0.00,2,     2.23,2,    0.064,2,    0.031,2,   0.0200,2,   2267.3,2,   2368.8,2,   7.6112,2,    24.98,2,     -999,9,   0.8860,2,     -999,9,     -999,9,     -999,9,     -999,9,     -999,1,   4.9456,1,   0.0111,1,     18.6,2,     -999,9,     -999,9,     -999,9,     -999,9,20230819,0028, -34.0013,  69.1267,-999          ,9,-999          ,9