BOTTLE,20240422CCHHYDRO
EXPOCODE,SECT_ID,STNNBR,CASTNO,SAMPNO,BTLNBR,BTLNBR_FLAG_W,DATE,TIME,LATITUDE,LONGITUDE,DEPTH,CTDPRS,CTDPRS_FLAG_W,CTDTMP,CTDTMP_FLAG_W,CTDSAL,CTDSAL_FLAG_W,SALNTY,SALNTY_FLAG_W,CTDOXY,CTDOXY_FLAG_W,OXYGEN,OXYGEN_FLAG_W,SILCAT,SILCAT_FLAG_W,NITRAT,NITRAT_FLAG_W,NITRIT,NITRIT_FLAG_W,PHSPHT,PHSPHT_FLAG_W,CFC-11,CFC-11_FLAG_W,CFC-12,CFC-12_FLAG_W,SF6,SF6_FLAG_W,TCARBN,TCARBN_FLAG_W,ALKALI,ALKALI_FLAG_W,PH_TOT,PH_TOT_FLAG_W,PH_TMP,PH_TMP_FLAG_W,DOC,DOC_FLAG_W,REFTMP,REFTMP_FLAG_W,POC,POC_FLAG_W,PON,PON_FLAG_W,POP,POP_FLAG_W,DOP,DOP_FLAG_W,DELO18,DELO18_FLAG_W,CTDFLUOR,CTDFLUOR_FLAG_W,CTDXMISS,CTDXMISS_FLAG_W,N2O,N2O_FLAG_W,D15N_NO3,D15N_NO3_FLAG_W,D15N_NO2+NO3,D15N_NO2+NO3_FLAG_W,D18O_NO2+NO3,D18O_NO2+NO3_FLAG_W,D18O_NO3,D18O_NO3_FLAG_W,BTL_DATE,BTL_TIME,BTL_LAT,BTL_LON,HPLC,HPLC_FLAG_W,DNA,DNA_FLAG_W
,,,,,,,,,,,METERS,DBAR,,ITS-90,,PSS-78,,PSS-78,,UMOL/KG,,UMOL/KG,,UMOL/KG,,UMOL/KG,,UMOL/KG,,UMOL/KG,,PMOL/KG,,PMOL/KG,,FMOL/KG,,UMOL/KG,,UMOL/KG,,,,DEG C,,UMOL/KG,,ITS-90,,UG/KG,,UG/KG,,UG/L,,UMOL/KG,,/MILLE,,VOLTS,,VOLTS,,NMOL/KG,,/MILLE,,/MILLE,,/MILLE,,/MILLE,,,,,,,,,
33RR20230722  ,I05        ,64      ,  1,36         ,36         ,2,20230808,1116, -31.8208,  88.6972,     3197,      6.5,2,  17.3461,2,  35.8442,2,  35.8435,2,    238.3,2,    238.1,2,     1.27,2,     0.04,2,     0.01,2,     0.15,2,    2.478,3,    1.308,2,   2.2500,2,   2093.0,2,   2354.0,2,   7.9641,2,    25.00,2,     -999,1,  17.3441,2,     -999,9,     -999,9,     -999,9,     -999,9,     -999,9,   4.9756,1,   0.0314,1,      7.8,2,     -999,9,     -999,9,     -999,9,     -999,9,20230808,1248, -31.8208,  88.6972,-999          ,9,-999          ,9
33RR20230722  ,I05        ,64      ,  1,35         ,35         ,2,20230808,1116, -31.8208,  88.6972,     3197,     18.1,2,  17.3246,2,  35.8417,2,  35.8412,2,    238.5,2,    238.1,2,     1.27,2,     0.00,2,     0.01,2,     0.13,2,     -999,9,     -999,9,     -999,9,   2092.4,6,   2355.6,2,   7.9638,2,    25.02,2,     -999,1,  17.3219,2,     -999,9,     -999,9,     -999,9,     -999,9,     -999,9,   4.8535,1,   0.0305,1,     -999,9,     -999,9,     -999,9,     -999,9,     -999,9,20230808,1246, -31.8208,  88.6972,-999          ,9,-999          ,9
33RR20230722  ,I05        ,64      ,  1,34         ,34         ,2,20230808,1116, -31.8208,  88.6972,     3197,     33.7,2,  17.2156,2,  35.8221,2,  35.8256,2,    238.8,2,    238.6,2,     1.27,2,    -0.01,2,     0.01,2,     0.14,2,     -999,9,     -999,9,     -999,9,   -999.0,9,     -999,9,     -999,9,     -999,9,     -999,1,  17.2266,2,     -999,9,     -999,9,     -999,9,     -999,9,     -999,9,   4.7014,1,   0.0332,1,     -999,9,     -999,9,     -999,9,     -999,9,     -999,9,20230808,1245, -31.8208,  88.6972,-999          ,9,-999          ,9
33RR20230722  ,I05        ,64      ,  1,33         ,33         ,2,20230808,1116, -31.8208,  88.6972,     3197,     54.5,2,  17.0880,2,  35.7994,2,  35.7989,2,    239.4,2,    239.2,2,     1.17,2,    -0.01,2,     0.02,2,     0.17,2,     -999,9,     -999,9,     -999,9,   2093.6,2,   2354.7,2,   7.9587,2,    25.01,2,     -999,1,  17.0848,2,     -999,9,     -999,9,     -999,9,     -999,9,     -999,9,   4.9748,1,   0.0351,1,     -999,9,     -999,9,     -999,9,     -999,9,     -999,9,20230808,1243, -31.8208,  88.6972,-999          ,9,-999          ,9
33RR20230722  ,I05        ,64      ,  1,32         ,32         ,2,20230808,1116, -31.8208,  88.6972,     3197,     79.4,2,  17.0883,2,  35.8000,2,  35.8001,2,    239.4,2,    239.1,2,     1.17,2,    -0.02,2,     0.02,2,     0.15,2,     -999,9,     -999,9,     -999,9,   2095.4,2,   2353.9,2,   7.9580,2,    25.01,2,     -999,1,  17.0878,2,     -999,9,     -999,9,     -999,9,     -999,9,     -999,9,   4.9747,1,   0.0370,1,     -999,9,     -999,9,     -999,9,     -999,9,     -999,9,20230808,1241, -31.8208,  88.6972,-999          ,9,-999          ,9
33RR20230722  ,I05        ,64      ,  1,31         ,31         ,2,20230808,1116, -31.8208,  88.6972,     3197,     90.0,2,  17.0884,2,  35.8001,2,  35.7993,2,    239.2,2,    239.1,2,     1.17,2,    -0.01,2,     0.01,2,     0.13,2,     -999,9,     -999,9,     -999,9,   2094.3,2,   2351.9,2,   7.9593,2,    25.01,2,     -999,1,  17.0871,2,     -999,9,     -999,9,     -999,9,     -999,9,     -999,9,   4.9746,1,   0.0375,1,     -999,9,     -999,9,     -999,9,     -999,9,     -999,9,20230808,1240, -31.8208,  88.6972,-999          ,9,-999          ,9
33RR20230722  ,I05        ,64      ,  1,30         ,30         ,2,20230808,1116, -31.8208,  88.6972,     3197,    107.5,2,  17.0773,2,  35.7990,2,  35.7985,2,    238.8,2,    238.8,2,     1.37,2,     0.00,2,     0.02,2,     0.14,2,    3.118,3,    1.402,2,   3.6600,3,   -999.0,9,     -999,9,     -999,9,     -999,9,     -999,1,  17.0776,2,     -999,9,     -999,9,     -999,9,     -999,9,     -999,9,   4.4473,1,   0.0355,1,      7.0,2,     -999,9,     -999,9,     -999,9,     -999,9,20230808,1238, -31.8208,  88.6972,-999          ,9,-999          ,9
33RR20230722  ,I05        ,64      ,  1,29         ,29         ,2,20230808,1116, -31.8208,  88.6972,     3197,    130.8,2,  17.0836,2,  35.8003,2,  35.7993,2,    238.7,2,    238.7,2,     1.17,2,     0.00,2,     0.02,2,     0.12,2,     -999,9,     -999,9,     -999,9,   2095.2,2,   2353.6,2,   7.9581,2,    25.02,2,     -999,1,  17.0823,2,     -999,9,     -999,9,     -999,9,     -999,9,     -999,9,   4.9742,1,   0.0370,1,     -999,9,     -999,9,     -999,9,     -999,9,     -999,9,20230808,1236, -31.8208,  88.6972,-999          ,9,-999          ,9
33RR20230722  ,I05        ,64      ,  1,28         ,28         ,2,20230808,1116, -31.8208,  88.6972,     3197,    162.1,2,  16.8343,2,  35.7485,2,  35.7404,2,    239.1,2,    239.2,2,     1.07,2,     0.11,2,     0.04,2,     0.16,2,     -999,9,     -999,9,     -999,9,   -999.0,9,     -999,9,     -999,9,     -999,9,     -999,1,  16.8321,2,     -999,9,     -999,9,     -999,9,     -999,9,     -999,9,   4.9737,1,   0.0246,1,     -999,9,     -999,9,     -999,9,     -999,9,     -999,9,20230808,1235, -31.8208,  88.6972,-999          ,9,-999          ,9
33RR20230722  ,I05        ,64      ,  1,27         ,27         ,2,20230808,1116, -31.8208,  88.6972,     3197,    195.0,2,  15.6257,2,  35.6447,2,  35.6445,2,    232.9,2,    233.5,2,     1.37,2,     1.22,2,     0.16,2,     0.28,2,     -999,9,     -999,9,     -999,9,   2113.7,2,   2344.7,2,   7.9070,6,    25.00,2,     -999,1,  15.6179,2,     -999,9,     -999,9,     -999,9,     -999,9,     -999,9,   4.8546,1,   0.0169,1,     -999,9,     -999,9,     -999,9,     -999,9,     -999,9,20230808,1233, -31.8208,  88.6972,-999          ,9,-999          ,9
33RR20230722  ,I05        ,64      ,  1,26         ,26         ,2,20230808,1116, -31.8208,  88.6972,     3197,    230.8,2,  14.2285,2,  35.4400,2,  35.4279,2,    227.1,3,    230.7,2,     1.56,2,     4.38,2,     0.06,2,     0.45,2,     -999,9,     -999,9,     -999,9,   -999.0,9,     -999,9,     -999,9,     -999,9,     -999,1,  14.2283,2,     -999,9,     -999,9,     -999,9,     -999,9,     -999,9,   4.9693,1,   0.0132,1,     -999,9,     -999,9,     -999,9,     -999,9,     -999,9,20230808,1231, -31.8208,  88.6972,-999          ,9,-999          ,9
33RR20230722  ,I05        ,64      ,  1,25         ,25         ,2,20230808,1116, -31.8208,  88.6972,     3197,    271.2,2,  13.6168,2,  35.3419,2,  35.3441,2,    222.2,2,    222.9,2,     2.24,2,     6.40,2,     0.01,2,     0.55,2,     -999,9,     -999,9,     -999,9,   2130.6,2,   2325.4,2,   7.8474,6,    25.00,2,     -999,1,  13.6333,2,     -999,9,     -999,9,     -999,9,     -999,9,     -999,9,   4.9681,1,   0.0117,1,     -999,9,     -999,9,     -999,9,     -999,9,     -999,9,20230808,1229, -31.8208,  88.6972,-999          ,9,-999          ,9
33RR20230722  ,I05        ,64      ,  1,24         ,24         ,2,20230808,1116, -31.8208,  88.6972,     3197,    296.4,2,  13.1082,2,  35.2511,2,  35.2379,2,    221.0,2,    221.2,2,     2.73,2,     7.87,2,     0.00,2,     0.64,2,     -999,9,     -999,9,     -999,9,   -999.0,9,     -999,9,     -999,9,     -999,9,     -999,1,  13.0966,2,     -999,9,     -999,9,     -999,9,     -999,9,     -999,9,   4.9677,1,   0.0116,1,     -999,9,     -999,9,     -999,9,     -999,9,     -999,9,20230808,1228, -31.8208,  88.6972,-999          ,9,-999          ,9
33RR20230722  ,I05        ,64      ,  1,23         ,23         ,2,20230808,1116, -31.8208,  88.6972,     3197,    322.1,2,  12.6121,2,  35.1652,2,  35.1579,2,    220.7,2,    220.8,2,     3.32,2,     9.08,2,     0.00,2,     0.72,2,    4.925,4,    1.669,4,   2.1300,4,   2133.6,2,   2317.0,6,   7.8155,2,    25.00,2,     -999,1,  12.6092,2,     -999,9,     -999,9,     -999,9,     -999,9,     -999,9,   4.9672,1,   0.0116,1,     -0.3,4,     -999,9,     -999,9,     -999,9,     -999,9,20230808,1226, -31.8208,  88.6972,-999          ,9,-999          ,9
33RR20230722  ,I05        ,64      ,  1,22         ,22         ,2,20230808,1116, -31.8208,  88.6972,     3197,    381.6,2,  11.5194,2,  34.9914,2,  34.9862,2,    221.0,2,    221.0,2,     4.59,2,    11.81,2,     0.00,2,     0.88,2,     -999,9,     -999,9,     -999,9,   -999.0,9,     -999,9,     -999,9,     -999,9,     -999,1,  11.5372,2,     -999,9,     -999,9,     -999,9,     -999,9,     -999,9,   4.7683,1,   0.0114,1,     -999,9,     -999,9,     -999,9,     -999,9,     -999,9,20230808,1224, -31.8208,  88.6972,-999          ,9,-999          ,9
33RR20230722  ,I05        ,64      ,  1,21         ,21         ,2,20230808,1116, -31.8208,  88.6972,     3197,    445.3,2,  10.2251,2,  34.8108,2,  34.8139,2,    224.4,2,    224.0,2,     5.46,2,    14.90,2,     0.00,2,     1.06,2,     -999,9,     -999,9,     -999,9,   2141.9,2,   2298.0,2,   7.7614,2,    25.02,2,     -999,1,  10.2243,2,     -999,9,     -999,9,     -999,9,     -999,9,     -999,9,   4.9684,1,   0.0115,1,     -999,9,     -999,9,     -999,9,     -999,9,     -999,9,20230808,1222, -31.8208,  88.6972,-999          ,9,-999          ,9
33RR20230722  ,I05        ,64      ,  1,20         ,20         ,2,20230808,1116, -31.8208,  88.6972,     3197,    525.3,2,   9.2412,2,  34.6784,2,  34.6757,2,    224.8,2,    224.5,2,     6.83,2,    17.81,2,     0.00,2,     1.26,2,     -999,9,     -999,9,     -999,9,   -999.0,9,     -999,9,     -999,9,     -999,9,     -999,1,   9.2472,2,     -999,9,     -999,9,     -999,9,     -999,9,     -999,9,   4.9667,1,   0.0116,1,     -999,9,     -999,9,     -999,9,     -999,9,     -999,9,20230808,1219, -31.8208,  88.6972,-999          ,9,-999          ,9
33RR20230722  ,I05        ,64      ,  1,19         ,19         ,2,20230808,1116, -31.8208,  88.6972,     3197,    609.0,2,   8.3850,2,  34.5752,2,  34.5763,2,    217.4,2,    217.4,2,     9.17,2,    20.78,2,     0.00,2,     1.43,2,     -999,9,     -999,9,     -999,9,   2157.6,2,   2288.6,2,   7.7078,2,    25.02,2,     -999,1,   8.3823,2,     -999,9,     -999,9,     -999,9,     -999,9,     -999,9,   4.8448,1,   0.0114,1,     -999,9,     -999,9,     -999,9,     -999,9,     -999,9,20230808,1217, -31.8208,  88.6972,-999          ,9,-999          ,9
33RR20230722  ,I05        ,64      ,  1,18         ,18         ,2,20230808,1116, -31.8208,  88.6972,     3197,    703.5,2,   7.3766,2,  34.4914,2,  34.4889,2,    203.5,2,    203.2,2,    15.13,2,    24.49,2,     0.00,2,     1.72,2,     -999,9,     -999,9,     -999,9,   -999.0,9,     -999,9,     -999,9,     -999,9,     -999,1,   7.3702,2,     -999,9,     -999,9,     -999,9,     -999,9,     -999,9,   4.9699,1,   0.0114,1,     -999,9,     -999,9,     -999,9,     -999,9,     -999,9,20230808,1214, -31.8208,  88.6972,-999          ,9,-999          ,9
33RR20230722  ,I05        ,64      ,  1,17         ,17         ,2,20230808,1116, -31.8208,  88.6972,     3197,    758.2,2,   6.8230,2,  34.4553,2,  34.4559,2,    199.1,2,    199.4,2,    18.35,2,    26.08,2,     0.00,2,     1.80,2,    2.480,3,    1.393,2,   0.9300,2,   2175.9,2,   2288.4,2,   7.6559,2,    25.00,2,     -999,1,   6.8228,2,     -999,9,     -999,9,     -999,9,     -999,9,     -999,9,   4.6905,1,   0.0112,1,     16.8,2,     -999,9,     -999,9,     -999,9,     -999,9,20230808,1212, -31.8208,  88.6972,-999          ,9,-999          ,9
33RR20230722  ,I05        ,64      ,  1,16         ,16         ,2,20230808,1116, -31.8208,  88.6972,     3197,    811.8,2,   6.1239,2,  34.4176,2,  34.4182,2,    195.1,2,    195.4,2,    23.42,2,    27.89,2,     0.00,2,     1.91,2,     -999,9,     -999,9,     -999,9,   -999.0,9,     -999,9,     -999,9,     -999,9,     -999,1,   6.1222,2,     -999,9,     -999,9,     -999,9,     -999,9,     -999,9,   4.9698,1,   0.0112,1,     -999,9,     -999,9,     -999,9,     -999,9,     -999,9,20230808,1210, -31.8208,  88.6972,-999          ,9,-999          ,9
33RR20230722  ,I05        ,64      ,  1,15         ,15         ,2,20230808,1116, -31.8208,  88.6972,     3197,    915.9,2,   5.2600,2,  34.3915,2,  34.3925,2,    190.3,2,    190.7,2,    31.43,2,    29.96,2,     0.00,2,     2.08,2,     -999,9,     -999,9,     -999,9,   2199.1,2,   2296.8,2,   7.6156,2,    25.00,2,     -999,1,   5.2523,2,     -999,9,     -999,9,     -999,9,     -999,9,     -999,9,   4.7794,1,   0.0112,1,     -999,9,     -999,9,     -999,9,     -999,9,     -999,9,20230808,1208, -31.8208,  88.6972,-999          ,9,-999          ,9
33RR20230722  ,I05        ,64      ,  1,14         ,14         ,2,20230808,1116, -31.8208,  88.6972,     3197,   1001.0,2,   4.6492,2,  34.3955,2,  34.3941,2,    183.8,2,    184.2,2,    39.73,2,    31.51,2,     0.00,2,     2.20,2,    4.336,4,    0.826,2,   0.3800,2,   -999.0,9,     -999,9,     -999,9,     -999,9,     -999,1,   4.6481,2,     -999,9,     -999,9,     -999,9,     -999,9,     -999,9,   4.9587,1,   0.0113,1,     20.9,2,     -999,9,     -999,9,     -999,9,     -999,9,20230808,1205, -31.8208,  88.6972,-999          ,9,-999          ,9
33RR20230722  ,I05        ,64      ,  1,13         ,13         ,2,20230808,1116, -31.8208,  88.6972,     3197,   1098.4,2,   4.3300,2,  34.4335,2,  34.4322,2,    171.2,2,    170.6,2,    50.46,2,    33.10,2,     0.00,2,     2.31,2,     -999,9,     -999,9,     -999,9,   2228.3,2,   2317.3,2,   7.5824,2,    25.00,2,     -999,1,   4.3282,2,     -999,9,     -999,9,     -999,9,     -999,9,     -999,9,   4.9725,1,   0.0116,1,     -999,9,     -999,9,     -999,9,     -999,9,     -999,9,20230808,1203, -31.8208,  88.6972,-999          ,9,-999          ,9
33RR20230722  ,I05        ,64      ,  1,12         ,12         ,2,20230808,1116, -31.8208,  88.6972,     3197,   1249.2,2,   3.6231,2,  34.4770,2,  34.4773,2,    163.2,2,    162.5,2,    62.95,2,    34.35,2,     0.00,2,     2.41,2,     -999,9,     -999,9,     -999,9,   -999.0,9,     -999,9,     -999,9,     -999,9,     -999,1,   3.6229,2,     -999,9,     -999,9,     -999,9,     -999,9,     -999,9,   4.9747,1,   0.0112,1,     -999,9,     -999,9,     -999,9,     -999,9,     -999,9,20230808,1159, -31.8208,  88.6972,-999          ,9,-999          ,9
33RR20230722  ,I05        ,64      ,  1,11         ,11         ,2,20230808,1116, -31.8208,  88.6972,     3197,   1372.8,2,   3.2467,2,  34.5101,2,  34.5125,2,    163.8,2,    164.4,2,    67.83,2,    34.51,2,     0.00,2,     2.43,2,    0.518,3,    0.289,2,   0.1000,2,   2249.1,2,   2331.3,2,   7.5624,2,    25.01,2,     -999,1,   3.2431,2,     -999,9,     -999,9,     -999,9,     -999,9,     -999,9,   4.9551,1,   0.0112,1,     22.2,2,     -999,9,     -999,9,     -999,9,     -999,9,20230808,1156, -31.8208,  88.6972,-999          ,9,-999          ,9
33RR20230722  ,I05        ,64      ,  1,10         ,10         ,2,20230808,1116, -31.8208,  88.6972,     3197,   1492.5,2,   3.0049,2,  34.5593,2,  34.5594,2,    163.0,2,    162.9,2,    72.61,2,    34.39,2,     0.00,2,     2.41,2,     -999,9,     -999,9,     -999,9,   -999.0,9,     -999,9,     -999,9,     -999,9,     -999,1,   3.0045,2,     -999,9,     -999,9,     -999,9,     -999,9,     -999,9,   4.1554,1,   0.0115,1,     -999,9,     -999,9,     -999,9,     -999,9,     -999,9,20230808,1154, -31.8208,  88.6972,-999          ,9,-999          ,9
33RR20230722  ,I05        ,64      ,  1,9          ,9          ,2,20230808,1116, -31.8208,  88.6972,     3197,   1605.4,2,   2.8987,2,  34.6021,2,  34.6022,2,    160.5,2,    160.8,2,    78.95,2,    34.31,2,     0.00,2,     2.40,2,    0.248,2,    0.115,2,   0.0500,2,   2261.2,2,   2344.4,2,   7.5664,2,    25.01,2,     -999,1,   2.8989,2,     -999,9,     -999,9,     -999,9,     -999,9,     -999,9,   4.9744,1,   0.0114,1,     22.3,2,     -999,9,     -999,9,     -999,9,     -999,9,20230808,1151, -31.8208,  88.6972,-999          ,9,-999          ,9
33RR20230722  ,I05        ,64      ,  1,8          ,8          ,2,20230808,1116, -31.8208,  88.6972,     3197,   1737.4,2,   2.7446,2,  34.6412,2,  34.6415,2,    162.9,2,    162.8,2,    82.85,2,    33.83,2,     0.00,2,     2.38,2,     -999,9,     -999,9,     -999,9,   -999.0,9,     -999,9,     -999,9,     -999,9,     -999,1,   2.7430,2,     -999,9,     -999,9,     -999,9,     -999,9,     -999,9,   4.9251,1,   0.0115,1,     -999,9,     -999,9,     -999,9,     -999,9,     -999,9,20230808,1148, -31.8208,  88.6972,-999          ,9,-999          ,9
33RR20230722  ,I05        ,64      ,  1,7          ,7          ,2,20230808,1116, -31.8208,  88.6972,     3197,   1854.1,2,   2.5870,2,  34.6759,2,  34.6757,2,    165.5,2,    165.1,2,    87.63,2,    33.34,2,     0.00,2,     2.33,2,    0.070,2,    0.046,2,   0.0400,2,   2265.8,2,   2354.7,2,   7.5813,2,    25.01,2,     -999,1,   2.5872,2,     -999,9,     -999,9,     -999,9,     -999,9,     -999,9,   4.9753,1,   0.0124,1,     21.1,2,     -999,9,     -999,9,     -999,9,     -999,9,20230808,1145, -31.8208,  88.6972,-999          ,9,-999          ,9
33RR20230722  ,I05        ,64      ,  1,6          ,6          ,2,20230808,1116, -31.8208,  88.6972,     3197,   2037.4,2,   2.3663,2,  34.7090,2,  34.7085,2,    176.3,2,    176.3,2,    86.75,2,    32.11,2,     0.00,2,     2.23,2,     -999,9,     -999,9,     -999,9,   -999.0,9,     -999,9,     -999,9,     -999,9,     -999,1,   2.3670,2,     -999,9,     -999,9,     -999,9,     -999,9,     -999,9,   4.7403,1,   0.0117,1,     -999,9,     -999,9,     -999,9,     -999,9,     -999,9,20230808,1141, -31.8208,  88.6972,-999          ,9,-999          ,9
33RR20230722  ,I05        ,64      ,  1,5          ,5          ,2,20230808,1116, -31.8208,  88.6972,     3197,   2169.2,2,   2.2455,2,  34.7227,2,  34.7223,2,    180.9,2,    181.5,2,    88.51,2,    31.53,2,     0.00,2,     2.20,2,    0.029,2,    0.033,2,  -0.0200,2,   2258.6,2,   2354.8,2,   7.6035,2,    25.01,2,     -999,1,   2.2456,2,     -999,9,     -999,9,     -999,9,     -999,9,     -999,9,   4.7554,1,   0.0111,1,     19.1,2,     -999,9,     -999,9,     -999,9,     -999,9,20230808,1137, -31.8208,  88.6972,-999          ,9,-999          ,9
33RR20230722  ,I05        ,64      ,  1,4          ,37         ,2,20230808,1116, -31.8208,  88.6972,     3197,   2434.3,2,   1.9913,2,  34.7434,2,  34.7435,2,    192.5,2,    192.8,2,    89.29,2,    30.70,2,     0.00,2,     2.16,2,     -999,9,     -999,9,     -999,9,   -999.0,9,     -999,9,     -999,9,     -999,9,     -999,1,   1.9913,2,     -999,9,     -999,9,     -999,9,     -999,9,     -999,9,   4.8093,1,   0.0116,1,     -999,9,     -999,9,     -999,9,     -999,9,     -999,9,20230808,1132, -31.8208,  88.6972,-999          ,9,-999          ,9
33RR20230722  ,I05        ,64      ,  1,3          ,3          ,2,20230808,1116, -31.8208,  88.6972,     3197,   2744.4,2,   1.6784,2,  34.7373,2,  34.7380,2,    195.3,2,    195.5,2,   100.70,2,    31.23,2,     0.00,2,     2.17,2,    0.047,2,    0.030,2,  -0.0300,2,   2256.5,2,   2360.8,6,   7.6180,6,    25.02,2,     -999,1,   1.6771,2,     -999,9,     -999,9,     -999,9,     -999,9,     -999,9,   4.9743,1,   0.0118,1,     18.4,2,     -999,9,     -999,9,     -999,9,     -999,9,20230808,1126, -31.8208,  88.6972,-999          ,9,-999          ,9