BOTTLE,20240422CCHHYDRO
EXPOCODE,SECT_ID,STNNBR,CASTNO,SAMPNO,BTLNBR,BTLNBR_FLAG_W,DATE,TIME,LATITUDE,LONGITUDE,DEPTH,CTDPRS,CTDPRS_FLAG_W,CTDTMP,CTDTMP_FLAG_W,CTDSAL,CTDSAL_FLAG_W,SALNTY,SALNTY_FLAG_W,CTDOXY,CTDOXY_FLAG_W,OXYGEN,OXYGEN_FLAG_W,SILCAT,SILCAT_FLAG_W,NITRAT,NITRAT_FLAG_W,NITRIT,NITRIT_FLAG_W,PHSPHT,PHSPHT_FLAG_W,CFC-11,CFC-11_FLAG_W,CFC-12,CFC-12_FLAG_W,SF6,SF6_FLAG_W,TCARBN,TCARBN_FLAG_W,ALKALI,ALKALI_FLAG_W,PH_TOT,PH_TOT_FLAG_W,PH_TMP,PH_TMP_FLAG_W,DOC,DOC_FLAG_W,REFTMP,REFTMP_FLAG_W,POC,POC_FLAG_W,PON,PON_FLAG_W,POP,POP_FLAG_W,DOP,DOP_FLAG_W,DELO18,DELO18_FLAG_W,CTDFLUOR,CTDFLUOR_FLAG_W,CTDXMISS,CTDXMISS_FLAG_W,N2O,N2O_FLAG_W,D15N_NO3,D15N_NO3_FLAG_W,D15N_NO2+NO3,D15N_NO2+NO3_FLAG_W,D18O_NO2+NO3,D18O_NO2+NO3_FLAG_W,D18O_NO3,D18O_NO3_FLAG_W,BTL_DATE,BTL_TIME,BTL_LAT,BTL_LON,HPLC,HPLC_FLAG_W,DNA,DNA_FLAG_W
,,,,,,,,,,,METERS,DBAR,,ITS-90,,PSS-78,,PSS-78,,UMOL/KG,,UMOL/KG,,UMOL/KG,,UMOL/KG,,UMOL/KG,,UMOL/KG,,PMOL/KG,,PMOL/KG,,FMOL/KG,,UMOL/KG,,UMOL/KG,,,,DEG C,,UMOL/KG,,ITS-90,,UG/KG,,UG/KG,,UG/L,,UMOL/KG,,/MILLE,,VOLTS,,VOLTS,,NMOL/KG,,/MILLE,,/MILLE,,/MILLE,,/MILLE,,,,,,,,,
33RR20230722  ,I05        ,113     ,  1,36         ,38         ,2,20230821,0526, -33.9985,  64.5536,     5112,      7.4,2,  15.9512,2,  35.4346,2,  35.4340,2,    248.3,2,    247.7,2,     1.17,2,     0.16,2,     0.03,2,     0.19,2,    1.992,2,    1.463,2,   2.3500,2,   2085.4,2,   2332.3,2,   7.9421,2,    24.97,2,     -999,1,  15.9508,2,     -999,9,     -999,9,     -999,9,     -999,9,     -999,9,   4.7991,1,   0.0253,1,      8.7,2,     -999,9,     -999,9,     -999,9,     -999,9,20230821,0733, -33.9985,  64.5536,-999          ,9,-999          ,9
33RR20230722  ,I05        ,113     ,  1,35         ,35         ,2,20230821,0526, -33.9985,  64.5536,     5112,     23.8,2,  15.9221,2,  35.4341,2,  35.4338,2,    248.4,2,    248.0,2,     1.17,2,     0.11,2,     0.03,2,     0.18,2,     -999,9,     -999,9,     -999,9,   -999.0,9,     -999,9,     -999,9,     -999,9,     -999,9,  15.9216,2,     -999,9,     -999,9,     -999,9,     -999,9,     -999,9,   4.8534,1,   0.0363,1,     -999,9,     -999,9,     -999,9,     -999,9,     -999,9,20230821,0731, -33.9985,  64.5536,-999          ,9,-999          ,9
33RR20230722  ,I05        ,113     ,  1,34         ,34         ,2,20230821,0526, -33.9985,  64.5536,     5112,     45.6,2,  15.7392,2,  35.4295,2,  35.4293,2,    248.5,2,    248.4,2,     1.27,2,     0.37,2,     0.06,2,     0.19,2,    2.149,3,    1.517,2,   2.3900,2,   2088.4,2,   2328.2,2,   7.9365,2,    25.02,2,     -999,9,  15.7446,2,     -999,9,     -999,9,     -999,9,     -999,9,     -999,9,   4.9754,1,   0.0482,1,      8.8,2,     -999,9,     -999,9,     -999,9,     -999,9,20230821,0730, -33.9985,  64.5537,-999          ,9,-999          ,9
33RR20230722  ,I05        ,113     ,  1,33         ,33         ,2,20230821,0526, -33.9985,  64.5536,     5112,     66.6,2,  15.5057,2,  35.4187,2,  35.4182,2,    249.3,2,    249.9,2,     1.56,2,     0.79,2,     0.11,2,     0.22,2,     -999,9,     -999,9,     -999,9,   -999.0,9,     -999,9,     -999,9,     -999,9,     -999,9,  15.5066,2,     -999,9,     -999,9,     -999,9,     -999,9,     -999,9,   4.9751,1,   0.0513,1,     -999,9,     -999,9,     -999,9,     -999,9,     -999,9,20230821,0728, -33.9985,  64.5536,-999          ,9,-999          ,9
33RR20230722  ,I05        ,113     ,  1,32         ,32         ,2,20230821,0526, -33.9985,  64.5536,     5112,     93.6,2,  15.3980,2,  35.4142,2,  35.4156,2,    248.1,2,    248.7,2,     1.66,2,     1.01,2,     0.14,2,     0.23,2,    2.175,2,    1.486,2,   2.4100,2,   2092.8,2,   2327.7,2,   7.9268,2,    25.01,2,     -999,9,  15.3968,2,     -999,9,     -999,9,     -999,9,     -999,9,     -999,9,   4.9741,1,   0.0425,1,      9.0,2,     -999,9,     -999,9,     -999,9,     -999,9,20230821,0726, -33.9985,  64.5536,-999          ,9,-999          ,9
33RR20230722  ,I05        ,113     ,  1,31         ,31         ,2,20230821,0526, -33.9985,  64.5536,     5112,    122.6,2,  14.9458,2,  35.3833,2,  35.3871,2,    239.8,2,    241.8,2,     1.95,2,     2.74,2,     0.27,2,     0.35,2,     -999,9,     -999,9,     -999,9,   -999.0,9,     -999,9,     -999,9,     -999,9,     -999,9,  14.9443,2,     -999,9,     -999,9,     -999,9,     -999,9,     -999,9,   4.9724,1,   0.0205,1,     -999,9,     -999,9,     -999,9,     -999,9,     -999,9,20230821,0724, -33.9985,  64.5536,-999          ,9,-999          ,9
33RR20230722  ,I05        ,113     ,  1,30         ,30         ,2,20230821,0526, -33.9985,  64.5536,     5112,    153.0,2,  14.6556,2,  35.3868,2,  35.4020,2,    228.5,3,    232.0,2,     2.54,2,     4.93,2,     0.03,2,     0.45,2,     -999,9,     -999,9,     -999,9,   2111.2,2,   2322.0,2,   7.8809,2,    24.98,2,     -999,9,  14.6660,2,     -999,9,     -999,9,     -999,9,     -999,9,     -999,9,   4.9704,1,   0.0126,1,     -999,9,     -999,9,     -999,9,     -999,9,     -999,9,20230821,0723, -33.9985,  64.5536,-999          ,9,-999          ,9
33RR20230722  ,I05        ,113     ,  1,29         ,29         ,2,20230821,0526, -33.9985,  64.5536,     5112,    182.5,2,  14.0573,2,  35.3229,2,  35.3250,2,    226.2,3,    228.8,2,     2.73,2,     6.36,2,     0.02,2,     0.54,2,     -999,9,     -999,9,     -999,9,   -999.0,9,     -999,9,     -999,9,     -999,9,     -999,9,  14.0776,2,     -999,9,     -999,9,     -999,9,     -999,9,     -999,9,   4.9693,1,   0.0125,1,     -999,9,     -999,9,     -999,9,     -999,9,     -999,9,20230821,0721, -33.9985,  64.5536,-999          ,9,-999          ,9
33RR20230722  ,I05        ,113     ,  1,28         ,28         ,2,20230821,0526, -33.9985,  64.5536,     5112,    213.6,2,  13.7184,2,  35.3049,2,  35.3039,2,    229.5,2,    231.4,2,     3.12,2,     7.02,2,     0.02,2,     0.58,2,    2.842,2,    1.766,2,   2.3800,2,   2121.8,2,   2321.0,2,   7.8537,2,    25.01,2,     -999,9,  13.7180,2,     -999,9,     -999,9,     -999,9,     -999,9,     -999,9,   4.9693,1,   0.0119,1,     10.5,2,     -999,9,     -999,9,     -999,9,     -999,9,20230821,0720, -33.9985,  64.5537,-999          ,9,-999          ,9
33RR20230722  ,I05        ,113     ,  1,27         ,27         ,2,20230821,0526, -33.9985,  64.5536,     5112,    248.5,2,  13.4565,2,  35.2700,2,  35.2722,2,    232.6,2,    233.4,2,     3.12,2,     7.27,2,     0.02,2,     0.60,2,     -999,9,     -999,9,     -999,9,   2123.2,2,   2319.7,2,   7.8494,2,    24.99,2,     -999,9,  13.4478,2,     -999,9,     -999,9,     -999,9,     -999,9,     -999,9,   4.9694,1,   0.0118,1,     -999,9,     -999,9,     -999,9,     -999,9,     -999,9,20230821,0718, -33.9985,  64.5536,-999          ,9,-999          ,9
33RR20230722  ,I05        ,113     ,  1,26         ,26         ,2,20230821,0526, -33.9985,  64.5536,     5112,    288.5,2,  13.1884,2,  35.2315,2,  35.2306,2,    235.5,2,    235.2,2,     3.02,2,     7.68,2,     0.01,2,     0.63,2,    3.311,2,    1.805,2,   2.4600,2,   2123.7,2,   2315.9,2,   7.8441,2,    24.98,2,     -999,9,  13.1877,2,     -999,9,     -999,9,     -999,9,     -999,9,     -999,9,   4.6310,1,   0.0114,1,     10.7,2,     -999,9,     -999,9,     -999,9,     -999,9,20230821,0716, -33.9985,  64.5537,-999          ,9,-999          ,9
33RR20230722  ,I05        ,113     ,  1,25         ,25         ,2,20230821,0526, -33.9985,  64.5536,     5112,    340.6,2,  12.8955,2,  35.1898,2,  35.1900,2,    238.5,2,    238.3,2,     2.83,2,     7.96,2,     0.00,2,     0.63,2,    3.348,2,    1.812,2,   2.4900,2,   2129.1,2,   2315.7,2,   7.8376,2,    25.00,2,     -999,9,  12.8924,2,     -999,9,     -999,9,     -999,9,     -999,9,     -999,9,   4.9690,1,   0.0116,1,     10.8,2,     -999,9,     -999,9,     -999,9,     -999,9,20230821,0714, -33.9985,  64.5536,-999          ,9,-999          ,9
33RR20230722  ,I05        ,113     ,  1,24         ,24         ,2,20230821,0526, -33.9985,  64.5536,     5112,    401.4,2,  12.5644,2,  35.1416,2,  35.1455,2,    235.8,2,    235.8,2,     3.22,2,     9.11,2,     0.00,2,     0.71,2,     -999,9,     -999,9,     -999,9,   -999.0,9,     -999,9,     -999,9,     -999,9,     -999,9,  12.5711,2,     -999,9,     -999,9,     -999,9,     -999,9,     -999,9,   4.3684,1,   0.0116,1,     -999,9,     -999,9,     -999,9,     -999,9,     -999,9,20230821,0712, -33.9985,  64.5537,-999          ,9,-999          ,9
33RR20230722  ,I05        ,113     ,  1,23         ,23         ,2,20230821,0526, -33.9985,  64.5536,     5112,    475.7,2,  12.0291,2,  35.0533,2,  35.0533,2,    228.0,2,    228.5,2,     4.00,2,    11.17,2,     0.00,2,     0.83,2,    2.541,3,    1.863,2,   2.1300,2,   2131.6,2,   2308.8,2,   7.8081,2,    25.02,2,     -999,9,  12.0158,2,     -999,9,     -999,9,     -999,9,     -999,9,     -999,9,   4.9671,1,   0.0117,1,     11.7,2,     -999,9,     -999,9,     -999,9,     -999,9,20230821,0710, -33.9985,  64.5537,-999          ,9,-999          ,9
33RR20230722  ,I05        ,113     ,  1,22         ,22         ,2,20230821,0526, -33.9985,  64.5536,     5112,    559.3,2,  11.3749,2,  34.9528,2,  34.9520,2,    233.1,2,    232.5,2,     4.20,2,    12.32,2,     0.00,2,     0.91,2,    2.756,6,    1.863,6,   2.1800,6,   2132.1,2,   2300.5,2,   7.7943,6,    24.99,2,     -999,9,  11.3715,2,     -999,9,     -999,9,     -999,9,     -999,9,     -999,9,   4.9669,1,   0.0116,1,     11.6,6,     -999,9,     -999,9,     -999,9,     -999,9,20230821,0707, -33.9985,  64.5537,-999          ,9,-999          ,9
33RR20230722  ,I05        ,113     ,  1,21         ,21         ,2,20230821,0526, -33.9985,  64.5536,     5112,    653.1,2,  10.4356,2,  34.8207,2,  34.8226,2,    222.5,2,    222.4,2,     5.66,2,    15.35,2,     0.00,2,     1.09,2,     -999,9,     -999,9,     -999,9,   -999.0,9,     -999,9,     -999,9,     -999,9,     -999,9,  10.4453,2,     -999,9,     -999,9,     -999,9,     -999,9,     -999,9,   4.9665,1,   0.0115,1,     -999,9,     -999,9,     -999,9,     -999,9,     -999,9,20230821,0705, -33.9985,  64.5537,-999          ,9,-999          ,9
33RR20230722  ,I05        ,113     ,  1,20         ,20         ,2,20230821,0526, -33.9985,  64.5536,     5112,    754.0,2,   9.1820,2,  34.6691,2,  34.6724,2,    215.0,2,    215.9,2,     8.30,2,    19.04,2,     0.00,2,     1.32,2,    3.534,2,    2.082,2,   1.6000,2,   2154.0,2,   2291.2,2,   7.7265,2,    24.99,2,     -999,9,   9.1845,2,     -999,9,     -999,9,     -999,9,     -999,9,     -999,9,   4.9671,1,   0.0113,1,     14.1,2,     -999,9,     -999,9,     -999,9,     -999,9,20230821,0702, -33.9985,  64.5536,-999          ,9,-999          ,9
33RR20230722  ,I05        ,113     ,  1,19         ,19         ,2,20230821,0526, -33.9985,  64.5536,     5112,    863.0,2,   7.6543,2,  34.5217,2,  34.5225,2,    208.0,2,    208.8,2,    13.96,2,    23.34,2,     0.00,2,     1.61,2,    3.128,2,    1.826,2,   1.3500,2,   2168.6,2,   2288.4,2,   7.6800,2,    25.01,2,     -999,9,   7.6517,2,     -999,9,     -999,9,     -999,9,     -999,9,     -999,9,   4.9684,1,   0.0113,1,     16.3,2,     -999,9,     -999,9,     -999,9,     -999,9,20230821,0659, -33.9985,  64.5536,-999          ,9,-999          ,9
33RR20230722  ,I05        ,113     ,  1,18         ,18         ,2,20230821,0526, -33.9985,  64.5536,     5112,    988.8,2,   5.9653,2,  34.3910,2,  34.3894,2,    209.0,2,    208.1,2,    21.67,2,    27.42,2,     0.00,2,     1.87,2,    3.423,2,    1.761,2,   1.2300,2,   2185.0,2,   2288.3,2,   7.6398,2,    25.00,2,     -999,9,   5.9573,2,     -999,9,     -999,9,     -999,9,     -999,9,     -999,9,   4.9693,1,   0.0112,1,     17.9,2,     -999,9,     -999,9,     -999,9,     -999,9,20230821,0655, -33.9985,  64.5537,-999          ,9,-999          ,9
33RR20230722  ,I05        ,113     ,  1,17         ,17         ,2,20230821,0526, -33.9985,  64.5536,     5112,   1106.4,2,   4.7797,2,  34.3537,2,  34.3541,2,    202.6,2,    202.8,2,    31.24,2,    30.16,2,     0.00,2,     2.09,2,     -999,9,     -999,9,     -999,9,   2200.5,2,   2292.7,2,   7.6140,2,    25.01,2,     -999,9,   4.7755,2,     -999,9,     -999,9,     -999,9,     -999,9,     -999,9,   4.8776,1,   0.0112,1,     -999,9,     -999,9,     -999,9,     -999,9,     -999,9,20230821,0652, -33.9985,  64.5536,-999          ,9,-999          ,9
33RR20230722  ,I05        ,113     ,  1,16         ,16         ,2,20230821,0526, -33.9985,  64.5536,     5112,   1248.8,2,   4.0020,2,  34.3862,2,  34.3857,2,    189.6,2,    189.7,2,    44.13,2,    32.24,2,     0.00,2,     2.23,2,    1.101,2,    0.813,2,   0.1600,2,   2224.9,2,   2306.3,6,   7.5923,2,    25.01,2,     -999,9,   4.0007,2,     -999,9,     -999,9,     -999,9,     -999,9,     -999,9,   4.9720,1,   0.0113,1,     21.4,2,     -999,9,     -999,9,     -999,9,     -999,9,20230821,0649, -33.9985,  64.5536,-999          ,9,-999          ,9
33RR20230722  ,I05        ,113     ,  1,15         ,15         ,2,20230821,0526, -33.9985,  64.5536,     5112,   1393.7,2,   3.4742,2,  34.4419,2,  34.4420,2,    179.0,2,    179.3,2,    55.06,2,    33.42,2,     0.00,2,     2.32,2,    1.360,2,    0.690,2,   0.2000,2,   2235.1,2,   2315.9,2,   7.5750,6,    25.00,2,     -999,9,   3.4744,2,     -999,9,     -999,9,     -999,9,     -999,9,     -999,9,   4.9729,1,   0.0113,1,     22.1,2,     -999,9,     -999,9,     -999,9,     -999,9,20230821,0645, -33.9985,  64.5536,-999          ,9,-999          ,9
33RR20230722  ,I05        ,113     ,  1,14         ,14         ,2,20230821,0526, -33.9985,  64.5536,     5112,   1532.0,2,   3.1251,2,  34.5160,2,  34.5148,2,    172.8,2,    172.9,2,    63.65,2,    33.64,2,     0.00,2,     2.33,2,     -999,9,     -999,9,     -999,9,   -999.0,9,     -999,9,     -999,9,     -999,9,     -999,9,   3.1246,2,     -999,9,     -999,9,     -999,9,     -999,9,     -999,9,   4.9738,1,   0.0121,1,     -999,9,     -999,9,     -999,9,     -999,9,     -999,9,20230821,0642, -33.9985,  64.5537,-999          ,9,-999          ,9
33RR20230722  ,I05        ,113     ,  1,13         ,13         ,2,20230821,0526, -33.9985,  64.5536,     5112,   1680.4,2,   2.8596,2,  34.5842,2,  34.5849,2,    172.7,2,    172.7,2,    69.11,2,    33.24,2,     0.00,2,     2.30,2,    0.401,2,    0.255,2,  -0.0100,2,   2250.8,6,   2330.0,2,   7.5728,2,    25.02,2,     -999,9,   2.8595,2,     -999,9,     -999,9,     -999,9,     -999,9,     -999,9,   4.9741,1,   0.0112,1,     22.7,2,     -999,9,     -999,9,     -999,9,     -999,9,20230821,0638, -33.9985,  64.5536,-999          ,9,-999          ,9
33RR20230722  ,I05        ,113     ,  1,12         ,12         ,2,20230821,0526, -33.9985,  64.5536,     5112,   1829.7,2,   2.6922,2,  34.6333,2,  34.6339,2,    174.6,2,    174.7,2,    73.21,2,    32.62,2,     0.00,2,     2.28,2,    0.335,2,    0.157,2,   0.0200,2,   2251.8,2,   2336.1,2,   7.5813,6,    25.00,2,     -999,9,   2.6919,2,     -999,9,     -999,9,     -999,9,     -999,9,     -999,9,   4.9743,1,   0.0122,1,     21.7,2,     -999,9,     -999,9,     -999,9,     -999,9,20230821,0634, -33.9985,  64.5537,-999          ,9,-999          ,9
33RR20230722  ,I05        ,113     ,  1,11         ,11         ,2,20230821,0526, -33.9985,  64.5536,     5112,   2014.1,2,   2.4938,2,  34.6867,2,  34.6869,2,    180.5,2,    180.6,2,    77.50,2,    31.68,2,     0.00,2,     2.20,2,     -999,9,     -999,9,     -999,9,   -999.0,9,     -999,9,     -999,9,     -999,9,     -999,9,   2.4944,2,     -999,9,     -999,9,     -999,9,     -999,9,     -999,9,   4.9380,1,   0.0111,1,     -999,9,     -999,9,     -999,9,     -999,9,     -999,9,20230821,0630, -33.9985,  64.5536,-999          ,9,-999          ,9
33RR20230722  ,I05        ,113     ,  1,10         ,10         ,2,20230821,0526, -33.9985,  64.5536,     5112,   2248.4,2,   2.2359,2,  34.7209,2,  34.7211,2,    182.9,2,    183.1,2,    89.60,2,    31.52,2,     0.00,2,     2.20,2,    0.053,2,    0.019,2,   0.0400,2,   2257.5,2,   2353.7,2,   7.6076,2,    25.00,2,     -999,9,   2.2377,2,     -999,9,     -999,9,     -999,9,     -999,9,     -999,9,   4.8023,1,   0.0118,1,     19.8,2,     -999,9,     -999,9,     -999,9,     -999,9,20230821,0625, -33.9985,  64.5536,-999          ,9,-999          ,9
33RR20230722  ,I05        ,113     ,  1,9          ,9          ,2,20230821,0526, -33.9985,  64.5536,     5112,   2527.3,2,   2.0214,2,  34.7289,2,  34.7284,2,    180.1,2,    180.0,2,   103.07,2,    32.20,2,     0.00,2,     2.25,2,    0.024,2,    0.007,2,   0.1000,2,   2270.1,2,   2369.7,2,   7.6078,2,    24.98,2,     -999,9,   2.0226,2,     -999,9,     -999,9,     -999,9,     -999,9,     -999,9,   4.9690,1,   0.0112,1,     20.2,2,     -999,9,     -999,9,     -999,9,     -999,9,20230821,0619, -33.9985,  64.5536,-999          ,9,-999          ,9
33RR20230722  ,I05        ,113     ,  1,8          ,8          ,2,20230821,0526, -33.9985,  64.5536,     5112,   2836.3,2,   1.8450,2,  34.7288,2,  34.7284,2,    178.9,2,    179.1,2,   112.15,2,    32.64,2,     0.00,2,     2.29,2,    0.015,2,    0.009,2,   0.0300,2,   2282.8,2,   2377.3,2,   7.6064,2,    25.00,2,     -999,9,   1.8456,2,     -999,9,     -999,9,     -999,9,     -999,9,     -999,9,   4.9758,1,   0.0112,1,     19.9,2,     -999,9,     -999,9,     -999,9,     -999,9,20230821,0613, -33.9985,  64.5536,-999          ,9,-999          ,9
33RR20230722  ,I05        ,113     ,  1,7          ,7          ,2,20230821,0526, -33.9985,  64.5536,     5112,   3179.1,2,   1.6604,2,  34.7255,2,  34.7250,2,    181.7,2,    181.6,2,   118.50,2,    32.92,2,     0.00,2,     2.30,2,    0.020,2,    0.007,2,   0.0100,2,   2284.8,2,   2380.3,2,   7.6047,2,    25.00,2,     -999,9,   1.6605,2,     -999,9,     -999,9,     -999,9,     -999,9,     -999,9,   4.8753,1,   0.0118,1,     19.7,2,     -999,9,     -999,9,     -999,9,     -999,9,20230821,0606, -33.9985,  64.5536,-999          ,9,-999          ,9
33RR20230722  ,I05        ,113     ,  1,6          ,6          ,2,20230821,0526, -33.9985,  64.5536,     5112,   3531.7,2,   1.4430,2,  34.7197,2,  34.7203,2,    189.0,2,    188.8,2,   120.94,2,    32.81,2,     0.00,2,     2.27,2,    0.036,2,    0.014,2,   0.0100,2,   2280.7,2,   2376.2,2,   7.6087,2,    25.00,2,     -999,9,   1.4430,2,     -999,9,     -999,9,     -999,9,     -999,9,     -999,9,   4.9764,1,   0.0116,1,     19.3,2,     -999,9,     -999,9,     -999,9,     -999,9,20230821,0559, -33.9985,  64.5536,-999          ,9,-999          ,9
33RR20230722  ,I05        ,113     ,  1,5          ,5          ,2,20230821,0526, -33.9985,  64.5536,     5112,   3917.2,2,   1.0300,2,  34.7048,2,  34.7048,2,    201.7,2,    202.1,2,   125.62,2,    32.61,2,     0.00,2,     2.26,2,    0.067,2,    0.022,2,   0.0000,2,   2274.6,2,   2370.5,6,   7.6103,2,    24.99,2,     -999,9,   1.0294,2,     -999,9,     -999,9,     -999,9,     -999,9,     -999,9,   4.6738,1,   0.0112,1,     18.9,2,     -999,9,     -999,9,     -999,9,     -999,9,20230821,0552, -33.9985,  64.5536,-999          ,9,-999          ,9
33RR20230722  ,I05        ,113     ,  1,4          ,37         ,2,20230821,0526, -33.9985,  64.5536,     5112,   4292.2,2,   0.7588,2,  34.6940,2,  34.6934,2,    210.1,2,    210.3,2,   129.72,2,    32.58,2,     0.00,2,     2.27,2,     -999,9,     -999,9,     -999,9,   -999.0,9,     -999,9,     -999,9,     -999,9,     -999,9,   0.7589,2,     -999,9,     -999,9,     -999,9,     -999,9,     -999,9,   4.9330,1,   0.0112,1,     -999,9,     -999,9,     -999,9,     -999,9,     -999,9,20230821,0544, -33.9985,  64.5537,-999          ,9,-999          ,9
33RR20230722  ,I05        ,113     ,  1,3          ,3          ,2,20230821,0526, -33.9985,  64.5536,     5112,   4604.2,2,   0.7537,2,  34.6920,2,  34.6916,2,    211.1,2,    211.4,2,   130.12,2,    32.54,2,     0.00,2,     2.25,2,    0.142,2,    0.070,2,   0.0400,2,   2270.0,2,   2366.8,2,   7.6116,6,    25.00,2,     -999,9,   0.7532,2,     -999,9,     -999,9,     -999,9,     -999,9,     -999,9,   4.8229,1,   0.0111,1,     18.5,2,     -999,9,     -999,9,     -999,9,     -999,9,20230821,0538, -33.9985,  64.5536,-999          ,9,-999          ,9