BOTTLE,20240422CCHHYDRO
EXPOCODE,SECT_ID,STNNBR,CASTNO,SAMPNO,BTLNBR,BTLNBR_FLAG_W,DATE,TIME,LATITUDE,LONGITUDE,DEPTH,CTDPRS,CTDPRS_FLAG_W,CTDTMP,CTDTMP_FLAG_W,CTDSAL,CTDSAL_FLAG_W,SALNTY,SALNTY_FLAG_W,CTDOXY,CTDOXY_FLAG_W,OXYGEN,OXYGEN_FLAG_W,SILCAT,SILCAT_FLAG_W,NITRAT,NITRAT_FLAG_W,NITRIT,NITRIT_FLAG_W,PHSPHT,PHSPHT_FLAG_W,CFC-11,CFC-11_FLAG_W,CFC-12,CFC-12_FLAG_W,SF6,SF6_FLAG_W,TCARBN,TCARBN_FLAG_W,ALKALI,ALKALI_FLAG_W,PH_TOT,PH_TOT_FLAG_W,PH_TMP,PH_TMP_FLAG_W,DOC,DOC_FLAG_W,REFTMP,REFTMP_FLAG_W,POC,POC_FLAG_W,PON,PON_FLAG_W,POP,POP_FLAG_W,DOP,DOP_FLAG_W,DELO18,DELO18_FLAG_W,CTDFLUOR,CTDFLUOR_FLAG_W,CTDXMISS,CTDXMISS_FLAG_W,N2O,N2O_FLAG_W,D15N_NO3,D15N_NO3_FLAG_W,D15N_NO2+NO3,D15N_NO2+NO3_FLAG_W,D18O_NO2+NO3,D18O_NO2+NO3_FLAG_W,D18O_NO3,D18O_NO3_FLAG_W,BTL_DATE,BTL_TIME,BTL_LAT,BTL_LON,HPLC,HPLC_FLAG_W,DNA,DNA_FLAG_W
,,,,,,,,,,,METERS,DBAR,,ITS-90,,PSS-78,,PSS-78,,UMOL/KG,,UMOL/KG,,UMOL/KG,,UMOL/KG,,UMOL/KG,,UMOL/KG,,PMOL/KG,,PMOL/KG,,FMOL/KG,,UMOL/KG,,UMOL/KG,,,,DEG C,,UMOL/KG,,ITS-90,,UG/KG,,UG/KG,,UG/L,,UMOL/KG,,/MILLE,,VOLTS,,VOLTS,,NMOL/KG,,/MILLE,,/MILLE,,/MILLE,,/MILLE,,,,,,,,,
33RR20230722  ,I05        ,45      ,  1,36         ,36         ,2,20230803,1148, -33.9995,  98.9899,     4724,      4.3,2,  15.2020,2,  35.6317,2,  35.6309,2,    245.9,2,    245.0,2,     1.07,2,     1.18,2,     0.07,2,     0.26,2,    2.467,2,    1.434,2,   2.4300,2,   2107.5,6,   2343.7,2,   7.9240,2,    25.02,2,     -999,1,  15.2015,2,     -999,9,     -999,9,     -999,9,     -999,9,     -999,1,   4.9746,1,   0.0465,1,      8.6,2,     -999,9,     -999,9,     -999,9,     -999,9,20230803,1350, -33.9995,  98.9899,-999          ,9,-999          ,9
33RR20230722  ,I05        ,45      ,  1,35         ,35         ,2,20230803,1148, -33.9995,  98.9899,     4724,     24.3,2,  14.9590,2,  35.5656,2,  35.5622,2,    246.2,2,    246.4,2,     0.88,2,     1.47,2,     0.08,2,     0.28,2,     -999,9,     -999,9,     -999,9,   2106.6,2,   2342.4,2,   7.9178,2,    25.02,2,     -999,9,  14.8653,2,     -999,9,     -999,9,     -999,9,     -999,9,     -999,1,   4.9745,1,   0.0452,1,     -999,9,     -999,9,     -999,9,     -999,9,     -999,9,20230803,1348, -33.9995,  98.9899,-999          ,9,-999          ,9
33RR20230722  ,I05        ,45      ,  1,34         ,34         ,2,20230803,1148, -33.9995,  98.9899,     4724,     43.5,2,  14.6749,2,  35.5011,2,  35.4999,2,    247.4,2,    247.3,2,     1.07,2,     1.77,2,     0.10,2,     0.33,2,     -999,9,     -999,9,     -999,9,   2106.4,2,   2339.8,2,   7.9112,2,    25.03,2,     -999,9,  14.6736,2,     -999,9,     -999,9,     -999,9,     -999,9,     -999,1,   4.9740,1,   0.0441,1,     -999,9,     -999,9,     -999,9,     -999,9,     -999,9,20230803,1346, -33.9995,  98.9899,-999          ,9,-999          ,9
33RR20230722  ,I05        ,45      ,  1,33         ,33         ,2,20230803,1148, -33.9995,  98.9899,     4724,     64.6,2,  14.5947,2,  35.4801,2,  35.4776,2,    247.2,2,    247.3,2,     0.88,2,     1.89,2,     0.10,2,     0.32,2,    2.672,2,    1.482,2,   2.5300,2,   2108.0,2,   2336.3,2,   7.9092,6,    25.03,2,     -999,9,  14.5923,2,     -999,9,     -999,9,     -999,9,     -999,9,     -999,1,   4.9248,1,   0.0437,1,      8.9,2,     -999,9,     -999,9,     -999,9,     -999,9,20230803,1344, -33.9995,  98.9899,-999          ,9,-999          ,9
33RR20230722  ,I05        ,45      ,  1,32         ,32         ,2,20230803,1148, -33.9995,  98.9899,     4724,     88.8,2,  14.5068,2,  35.4715,2,  35.4703,2,    239.3,2,    240.7,2,     0.98,2,     2.68,2,     0.07,2,     0.35,2,     -999,9,     -999,9,     -999,9,   2111.5,2,   2335.2,2,   7.8963,2,    25.02,2,     -999,9,  14.5041,2,     -999,9,     -999,9,     -999,9,     -999,9,     -999,1,   4.9513,1,   0.0266,1,     -999,9,     -999,9,     -999,9,     -999,9,     -999,9,20230803,1343, -33.9995,  98.9899,-999          ,9,-999          ,9
33RR20230722  ,I05        ,45      ,  1,31         ,31         ,2,20230803,1148, -33.9995,  98.9899,     4724,    117.5,2,  13.9818,2,  35.4083,2,  35.4034,2,    231.7,2,    233.4,2,     1.37,2,     4.59,2,     0.02,2,     0.48,2,    2.513,2,    1.548,2,   2.5000,2,   2121.4,2,   2328.6,2,   7.8687,2,    25.02,2,     -999,9,  13.9643,2,     -999,9,     -999,9,     -999,9,     -999,9,     -999,1,   4.9703,1,   0.0151,1,      9.9,2,     -999,9,     -999,9,     -999,9,     -999,9,20230803,1340, -33.9994,  98.9899,-999          ,9,-999          ,9
33RR20230722  ,I05        ,45      ,  1,30         ,30         ,2,20230803,1148, -33.9995,  98.9899,     4724,    143.8,2,  13.4762,2,  35.3280,2,  35.3192,2,    233.6,2,    234.8,2,     1.37,2,     5.47,2,     0.02,2,     0.53,2,     -999,9,     -999,9,     -999,9,   2123.5,2,   2324.9,2,   7.8560,2,    25.01,2,     -999,9,  13.3883,3,     -999,9,     -999,9,     -999,9,     -999,9,     -999,1,   4.9698,1,   0.0123,1,     -999,9,     -999,9,     -999,9,     -999,9,     -999,9,20230803,1339, -33.9994,  98.9899,-999          ,9,-999          ,9
33RR20230722  ,I05        ,45      ,  1,29         ,29         ,2,20230803,1148, -33.9995,  98.9899,     4724,    180.4,2,  12.7212,2,  35.1864,2,  35.1719,2,    238.6,2,    239.4,2,     1.66,2,     6.97,2,     0.00,2,     0.61,2,     -999,9,     -999,9,     -999,9,   2128.1,2,   2318.2,2,   7.8381,6,    25.01,2,     -999,9,  12.7102,2,     -999,9,     -999,9,     -999,9,     -999,9,     -999,1,   4.9187,1,   0.0115,1,     -999,9,     -999,9,     -999,9,     -999,9,     -999,9,20230803,1337, -33.9994,  98.9899,-999          ,9,-999          ,9
33RR20230722  ,I05        ,45      ,  1,28         ,28         ,2,20230803,1148, -33.9995,  98.9899,     4724,    210.7,2,  12.1847,2,  35.0998,2,  35.1055,2,    242.4,2,    241.4,2,     1.85,2,     7.80,2,     0.00,2,     0.66,2,    2.664,2,    1.677,2,   2.6400,2,   2127.1,2,   2311.0,2,   7.8209,2,    25.04,2,     -999,9,  12.1865,2,     -999,9,     -999,9,     -999,9,     -999,9,     -999,1,   4.9695,1,   0.0112,1,     11.2,2,     -999,9,     -999,9,     -999,9,     -999,9,20230803,1336, -33.9995,  98.9899,-999          ,9,-999          ,9
33RR20230722  ,I05        ,45      ,  1,27         ,27         ,2,20230803,1148, -33.9995,  98.9899,     4724,    243.0,2,  11.8458,2,  35.0427,2,  35.0394,2,    243.6,2,    243.1,2,     2.15,2,     8.70,2,     0.00,2,     0.73,2,     -999,9,     -999,9,     -999,9,   2126.1,2,   2309.6,6,   7.8079,2,    25.03,2,     -999,9,  11.8342,2,     -999,9,     -999,9,     -999,9,     -999,9,     -999,1,   4.8999,1,   0.0114,1,     -999,9,     -999,9,     -999,9,     -999,9,     -999,9,20230803,1334, -33.9995,  98.9899,-999          ,9,-999          ,9
33RR20230722  ,I05        ,45      ,  1,26         ,26         ,2,20230803,1148, -33.9995,  98.9899,     4724,    290.5,2,  11.4382,2,  34.9686,2,  34.9656,2,    242.3,2,    241.8,2,     2.54,2,    10.09,2,     0.00,2,     0.81,2,    2.822,6,    1.737,6,   2.6000,6,   2129.7,2,   2304.0,2,   7.8079,2,    25.03,2,     -999,9,  11.4355,2,     -999,9,     -999,9,     -999,9,     -999,9,     -999,1,   4.8983,1,   0.0114,1,     11.9,6,     -999,9,     -999,9,     -999,9,     -999,9,20230803,1332, -33.9995,  98.9899,-999          ,9,-999          ,9
33RR20230722  ,I05        ,45      ,  1,25         ,25         ,2,20230803,1148, -33.9995,  98.9899,     4724,    347.5,2,  11.0050,2,  34.8993,2,  34.9014,2,    243.2,2,    242.2,2,     2.93,2,    11.06,2,     0.00,2,     0.88,2,     -999,9,     -999,9,     -999,9,   2130.5,2,   2300.4,2,   7.7983,2,    25.02,2,     -999,9,  11.0075,2,     -999,9,     -999,9,     -999,9,     -999,9,     -999,1,   4.9683,1,   0.0114,1,     -999,9,     -999,9,     -999,9,     -999,9,     -999,9,20230803,1330, -33.9994,  98.9899,-999          ,9,-999          ,9
33RR20230722  ,I05        ,45      ,  1,24         ,24         ,2,20230803,1148, -33.9995,  98.9899,     4724,    405.4,2,  10.5838,2,  34.8290,2,  34.8243,2,    243.7,2,    242.6,2,     3.12,2,    12.46,2,     0.00,2,     0.96,2,     -999,9,     -999,9,     -999,9,   2131.5,2,   2298.3,2,   7.7854,2,    25.01,2,     -999,9,  10.5818,2,     -999,9,     -999,9,     -999,9,     -999,9,     -999,1,   4.9679,1,   0.0113,1,     -999,9,     -999,9,     -999,9,     -999,9,     -999,9,20230803,1328, -33.9995,  98.9899,-999          ,9,-999          ,9
33RR20230722  ,I05        ,45      ,  1,23         ,23         ,2,20230803,1148, -33.9995,  98.9899,     4724,    477.8,2,  10.1355,2,  34.7705,2,  34.7695,2,    239.8,2,    239.0,2,     3.61,2,    14.02,2,     0.00,2,     1.06,2,    2.992,2,    1.863,2,   2.2900,2,   2137.7,6,   2295.4,2,   7.7704,2,    25.02,2,     -999,9,  10.1407,2,     -999,9,     -999,9,     -999,9,     -999,9,     -999,1,   4.9671,1,   0.0113,1,     12.4,2,     -999,9,     -999,9,     -999,9,     -999,9,20230803,1326, -33.9994,  98.9899,-999          ,9,-999          ,9
33RR20230722  ,I05        ,45      ,  1,22         ,22         ,2,20230803,1148, -33.9995,  98.9899,     4724,    558.7,2,   9.7166,2,  34.7212,2,  34.7203,2,    236.5,2,    235.9,2,     4.00,2,    15.57,2,     0.00,2,     1.13,2,    3.077,2,    1.904,2,   2.2300,2,   2139.6,2,   2290.2,2,   7.7564,2,    25.02,2,     -999,9,   9.7157,2,     -999,9,     -999,9,     -999,9,     -999,9,     -999,1,   4.9667,1,   0.0113,1,     13.2,2,     -999,9,     -999,9,     -999,9,     -999,9,20230803,1323, -33.9995,  98.9899,-999          ,9,-999          ,9
33RR20230722  ,I05        ,45      ,  1,21         ,21         ,2,20230803,1148, -33.9995,  98.9899,     4724,    646.1,2,   9.2238,2,  34.6610,2,  34.6614,2,    234.4,2,    234.4,2,     4.98,2,    17.05,2,     0.00,2,     1.22,2,    3.230,2,    1.907,2,   2.2200,2,   2143.8,2,   2290.6,2,   7.7440,2,    25.04,2,     -999,9,   9.2278,2,     -999,9,     -999,9,     -999,9,     -999,9,     -999,1,   4.9665,1,   0.0113,1,     13.2,2,     -999,9,     -999,9,     -999,9,     -999,9,20230803,1321, -33.9995,  98.9899,-999          ,9,-999          ,9
33RR20230722  ,I05        ,45      ,  1,20         ,20         ,2,20230803,1148, -33.9995,  98.9899,     4724,    745.0,2,   8.2835,2,  34.5587,2,  34.5576,2,    216.4,2,    217.6,2,     8.98,2,    20.96,2,     0.00,2,     1.47,2,    2.977,2,    1.750,2,   1.6600,2,   2156.3,2,   2286.6,2,   7.7054,2,    25.04,2,     -999,9,   8.2819,2,     -999,9,     -999,9,     -999,9,     -999,9,     -999,1,   4.9674,1,   0.0112,1,     15.1,2,     -999,9,     -999,9,     -999,9,     -999,9,20230803,1318, -33.9995,  98.9899,-999          ,9,-999          ,9
33RR20230722  ,I05        ,45      ,  1,19         ,19         ,2,20230803,1148, -33.9995,  98.9899,     4724,    858.7,2,   6.7838,2,  34.4480,2,  34.4463,2,    198.2,2,    199.4,2,    17.96,2,    26.07,2,     0.00,2,     1.82,2,    2.455,2,    1.388,2,   0.9600,2,   2176.3,2,   2289.5,2,   7.6555,6,    25.00,2,     -999,9,   6.7740,2,     -999,9,     -999,9,     -999,9,     -999,9,     -999,1,   4.9695,1,   0.0112,1,     17.5,2,     -999,9,     -999,9,     -999,9,     -999,9,20230803,1315, -33.9995,  98.9899,-999          ,9,-999          ,9
33RR20230722  ,I05        ,45      ,  1,18         ,18         ,2,20230803,1148, -33.9995,  98.9899,     4724,    983.1,2,   5.0926,2,  34.3780,2,  34.3757,2,    193.0,2,    193.5,2,    31.14,2,    30.04,2,     0.00,2,     2.09,2,    1.952,2,    1.057,2,   0.6300,2,   2197.1,2,   2296.5,2,   7.6167,2,    25.00,2,     -999,9,   5.1039,2,     -999,9,     -999,9,     -999,9,     -999,9,     -999,1,   4.9283,1,   0.0111,1,     19.6,2,     -999,9,     -999,9,     -999,9,     -999,9,20230803,1312, -33.9995,  98.9899,-999          ,9,-999          ,9
33RR20230722  ,I05        ,45      ,  1,17         ,17         ,2,20230803,1148, -33.9995,  98.9899,     4724,   1068.8,2,   4.4447,2,  34.3935,2,  34.3935,2,    182.6,2,    183.1,2,    42.37,2,    31.64,2,     0.00,2,     2.25,2,    1.472,2,    0.781,2,   0.3700,2,   2216.2,2,   2307.8,2,   7.5958,2,    25.02,2,     -999,9,   4.4502,2,     -999,9,     -999,9,     -999,9,     -999,9,     -999,1,   4.9717,1,   0.0111,1,     21.4,2,     -999,9,     -999,9,     -999,9,     -999,9,20230803,1309, -33.9995,  98.9899,-999          ,9,-999          ,9
33RR20230722  ,I05        ,45      ,  1,16         ,16         ,2,20230803,1148, -33.9995,  98.9899,     4724,   1181.6,2,   3.9956,2,  34.4351,2,  34.4334,2,    170.6,2,    170.8,2,    53.60,2,    33.07,2,     0.00,2,     2.36,2,     -999,9,     -999,9,     -999,9,   2232.3,2,   2317.6,2,   7.5794,2,    25.06,2,     -999,9,   3.9952,2,     -999,9,     -999,9,     -999,9,     -999,9,     -999,1,   4.9729,1,   0.0112,1,     -999,9,     -999,9,     -999,9,     -999,9,     -999,9,20230803,1306, -33.9994,  98.9899,-999          ,9,-999          ,9
33RR20230722  ,I05        ,45      ,  1,15         ,15         ,2,20230803,1148, -33.9995,  98.9899,     4724,   1299.5,2,   3.6422,2,  34.4821,2,  34.4815,2,    160.8,2,    160.9,2,    63.75,2,    34.08,2,     0.00,2,     2.44,2,    0.614,2,    0.315,2,   0.1300,2,   2247.2,2,   2329.0,6,   7.5673,2,    25.02,2,     -999,9,   3.6398,2,     -999,9,     -999,9,     -999,9,     -999,9,     -999,1,   4.8301,1,   0.0117,1,     23.6,2,     -999,9,     -999,9,     -999,9,     -999,9,20230803,1303, -33.9994,  98.9899,-999          ,9,-999          ,9
33RR20230722  ,I05        ,45      ,  1,14         ,14         ,2,20230803,1148, -33.9995,  98.9899,     4724,   1423.1,2,   3.3369,2,  34.5320,2,  34.5313,2,    155.5,2,    155.4,2,    72.24,2,    34.24,2,     0.00,2,     2.45,2,    0.332,2,    0.173,2,   0.0700,2,   2258.1,2,   2337.2,2,   7.5612,2,    25.02,2,     -999,9,   3.3368,2,     -999,9,     -999,9,     -999,9,     -999,9,     -999,1,   4.9745,1,   0.0118,1,     23.6,2,     -999,9,     -999,9,     -999,9,     -999,9,20230803,1300, -33.9995,  98.9899,-999          ,9,-999          ,9
33RR20230722  ,I05        ,45      ,  1,13         ,13         ,2,20230803,1148, -33.9995,  98.9899,     4724,   1553.1,2,   3.0699,2,  34.5795,3,  34.5851,2,    155.2,2,    154.8,2,    77.99,2,    33.99,2,     0.00,2,     2.47,2,    0.188,2,    0.102,2,   0.0100,2,   2262.2,6,   2344.5,2,   7.5619,2,    25.02,2,     -999,9,   3.0694,2,     -999,9,     -999,9,     -999,9,     -999,9,     -999,1,   4.9120,1,   0.0112,1,     23.8,2,     -999,9,     -999,9,     -999,9,     -999,9,20230803,1257, -33.9995,  98.9899,-999          ,9,-999          ,9
33RR20230722  ,I05        ,45      ,  1,12         ,12         ,2,20230803,1148, -33.9995,  98.9899,     4724,   1707.6,2,   2.8776,2,  34.6259,2,  34.6258,2,    156.0,2,    155.7,2,    84.24,2,    33.87,2,     0.00,2,     2.43,2,    0.067,2,    0.058,2,   0.0300,2,   2268.0,2,   2350.7,2,   7.5662,2,    25.03,2,     -999,9,   2.8771,2,     -999,9,     -999,9,     -999,9,     -999,9,     -999,1,   4.9751,1,   0.0112,1,     22.9,2,     -999,9,     -999,9,     -999,9,     -999,9,20230803,1253, -33.9994,  98.9899,-999          ,9,-999          ,9
33RR20230722  ,I05        ,45      ,  1,11         ,11         ,2,20230803,1148, -33.9995,  98.9899,     4724,   1826.1,2,   2.7155,2,  34.6577,2,  34.6570,2,    159.5,2,    159.0,2,    87.94,2,    33.50,2,     0.00,2,     2.40,2,    0.053,2,    0.042,2,   0.0200,2,   2268.9,2,   2353.6,2,   7.5740,2,    25.04,2,     -999,9,   2.7149,2,     -999,9,     -999,9,     -999,9,     -999,9,     -999,1,   4.8450,1,   0.0111,1,     22.6,2,     -999,9,     -999,9,     -999,9,     -999,9,20230803,1250, -33.9994,  98.9899,-999          ,9,-999          ,9
33RR20230722  ,I05        ,45      ,  1,10         ,10         ,2,20230803,1148, -33.9995,  98.9899,     4724,   2025.4,2,   2.4889,2,  34.6920,2,  34.6965,3,    168.1,2,    168.1,2,    89.21,2,    32.60,2,     0.00,2,     2.31,2,     -999,9,     -999,9,     -999,9,   2262.4,2,   2355.6,2,   7.5863,2,    25.03,2,     -999,9,   2.4886,2,     -999,9,     -999,9,     -999,9,     -999,9,     -999,1,   4.9749,1,   0.0112,1,     -999,9,     -999,9,     -999,9,     -999,9,     -999,9,20230803,1245, -33.9994,  98.9899,-999          ,9,-999          ,9
33RR20230722  ,I05        ,45      ,  1,9          ,9          ,2,20230803,1148, -33.9995,  98.9899,     4724,   2293.7,2,   2.2209,2,  34.7231,3,  34.7260,2,    180.2,2,    180.5,2,    90.48,2,    31.42,2,     0.00,2,     2.25,2,    0.035,2,    0.027,2,   0.0200,2,   2259.5,2,   2356.2,2,   7.6036,2,    25.01,2,     -999,9,   2.2206,2,     -999,9,     -999,9,     -999,9,     -999,9,     -999,1,   4.9747,1,   0.0116,1,     20.6,2,     -999,9,     -999,9,     -999,9,     -999,9,20230803,1240, -33.9995,  98.9899,-999          ,9,-999          ,9
33RR20230722  ,I05        ,45      ,  1,8          ,8          ,2,20230803,1148, -33.9995,  98.9899,     4724,   2591.2,2,   1.9217,2,  34.7375,2,  34.7357,2,    189.8,2,    189.9,2,    94.87,2,    30.72,2,     0.00,2,     2.19,2,    0.035,2,    0.027,2,   0.0500,2,   2257.2,2,   2357.6,2,   7.6145,2,    25.02,2,     -999,9,   1.9226,2,     -999,9,     -999,9,     -999,9,     -999,9,     -999,1,   4.9382,1,   0.0111,1,     20.0,2,     -999,9,     -999,9,     -999,9,     -999,9,20230803,1234, -33.9994,  98.9899,-999          ,9,-999          ,9
33RR20230722  ,I05        ,45      ,  1,7          ,7          ,2,20230803,1148, -33.9995,  98.9899,     4724,   2954.4,2,   1.5938,2,  34.7359,2,  34.7353,2,    196.7,2,    196.9,2,   103.26,2,    30.67,2,     0.00,2,     2.19,2,    0.040,2,    0.031,2,   0.0300,2,   2256.8,2,   2360.8,2,   7.6175,6,    25.04,2,     -999,9,   1.5952,2,     -999,9,     -999,9,     -999,9,     -999,9,     -999,1,   4.9152,1,   0.0112,1,     19.2,2,     -999,9,     -999,9,     -999,9,     -999,9,20230803,1226, -33.9995,  98.9899,-999          ,9,-999          ,9
33RR20230722  ,I05        ,45      ,  1,6          ,6          ,2,20230803,1148, -33.9995,  98.9899,     4724,   3236.2,2,   1.4026,2,  34.7297,2,  34.7290,2,    199.7,2,    199.8,2,   108.44,2,    31.20,2,     0.00,2,     2.21,2,    0.037,2,    0.032,2,   0.0000,2,   2260.6,2,   2363.6,2,   7.6179,2,    25.04,2,     -999,9,   1.4037,2,     -999,9,     -999,9,     -999,9,     -999,9,     -999,1,   4.9755,1,   0.0114,1,     19.2,2,     -999,9,     -999,9,     -999,9,     -999,9,20230803,1220, -33.9995,  98.9899,-999          ,9,-999          ,9
33RR20230722  ,I05        ,45      ,  1,5          ,5          ,2,20230803,1148, -33.9995,  98.9899,     4724,   3581.8,2,   1.2189,2,  34.7219,2,  34.7209,2,    203.0,2,    203.1,2,   114.10,2,    31.41,2,     0.00,2,     2.24,2,    0.080,2,    0.053,2,   0.0400,2,   2261.4,2,   2365.0,2,   7.6197,2,    25.04,2,     -999,9,   1.2225,2,     -999,9,     -999,9,     -999,9,     -999,9,     -999,1,   4.7014,1,   0.0112,1,     18.8,2,     -999,9,     -999,9,     -999,9,     -999,9,20230803,1213, -33.9995,  98.9899,-999          ,9,-999          ,9
33RR20230722  ,I05        ,45      ,  1,4          ,37         ,2,20230803,1148, -33.9995,  98.9899,     4724,   4022.8,2,   1.0925,2,  34.7143,2,  34.7127,2,    204.5,2,    204.7,2,   118.78,2,    31.80,2,     0.00,2,     2.25,2,    0.071,2,    0.050,2,   0.0700,2,   2266.6,2,   2372.1,2,   7.6212,2,    25.03,2,     -999,9,   1.0931,2,     -999,9,     -999,9,     -999,9,     -999,9,     -999,1,   4.9761,1,   0.0110,1,     19.4,2,     -999,9,     -999,9,     -999,9,     -999,9,20230803,1205, -33.9994,  98.9899,-999          ,9,-999          ,9
33RR20230722  ,I05        ,45      ,  1,3          ,3          ,2,20230803,1148, -33.9995,  98.9899,     4724,   4529.2,2,   1.0668,2,  34.7102,2,  34.7101,2,    205.5,2,    205.7,2,   121.42,2,    32.06,2,     0.00,2,     2.26,2,    0.103,2,    0.064,2,  -0.0300,2,   2267.4,2,   2372.1,2,   7.6216,2,    25.01,2,     -999,9,   1.0670,2,     -999,9,     -999,9,     -999,9,     -999,9,     -999,1,   4.8913,1,   0.0110,1,     19.2,2,     -999,9,     -999,9,     -999,9,     -999,9,20230803,1155, -33.9994,  98.9899,-999          ,9,-999          ,9