BOTTLE,20240422CCHHYDRO
EXPOCODE,SECT_ID,STNNBR,CASTNO,SAMPNO,BTLNBR,BTLNBR_FLAG_W,DATE,TIME,LATITUDE,LONGITUDE,DEPTH,CTDPRS,CTDPRS_FLAG_W,CTDTMP,CTDTMP_FLAG_W,CTDSAL,CTDSAL_FLAG_W,SALNTY,SALNTY_FLAG_W,CTDOXY,CTDOXY_FLAG_W,OXYGEN,OXYGEN_FLAG_W,SILCAT,SILCAT_FLAG_W,NITRAT,NITRAT_FLAG_W,NITRIT,NITRIT_FLAG_W,PHSPHT,PHSPHT_FLAG_W,CFC-11,CFC-11_FLAG_W,CFC-12,CFC-12_FLAG_W,SF6,SF6_FLAG_W,TCARBN,TCARBN_FLAG_W,ALKALI,ALKALI_FLAG_W,PH_TOT,PH_TOT_FLAG_W,PH_TMP,PH_TMP_FLAG_W,DOC,DOC_FLAG_W,REFTMP,REFTMP_FLAG_W,POC,POC_FLAG_W,PON,PON_FLAG_W,POP,POP_FLAG_W,DOP,DOP_FLAG_W,DELO18,DELO18_FLAG_W,CTDFLUOR,CTDFLUOR_FLAG_W,CTDXMISS,CTDXMISS_FLAG_W,N2O,N2O_FLAG_W,D15N_NO3,D15N_NO3_FLAG_W,D15N_NO2+NO3,D15N_NO2+NO3_FLAG_W,D18O_NO2+NO3,D18O_NO2+NO3_FLAG_W,D18O_NO3,D18O_NO3_FLAG_W,BTL_DATE,BTL_TIME,BTL_LAT,BTL_LON,HPLC,HPLC_FLAG_W,DNA,DNA_FLAG_W
,,,,,,,,,,,METERS,DBAR,,ITS-90,,PSS-78,,PSS-78,,UMOL/KG,,UMOL/KG,,UMOL/KG,,UMOL/KG,,UMOL/KG,,UMOL/KG,,PMOL/KG,,PMOL/KG,,FMOL/KG,,UMOL/KG,,UMOL/KG,,,,DEG C,,UMOL/KG,,ITS-90,,UG/KG,,UG/KG,,UG/L,,UMOL/KG,,/MILLE,,VOLTS,,VOLTS,,NMOL/KG,,/MILLE,,/MILLE,,/MILLE,,/MILLE,,,,,,,,,
33RR20230722  ,I05        ,122     ,  1,36         ,38         ,2,20230823,2125, -33.9979,  59.3188,     5563,      7.8,2,  16.2125,2,  35.5628,2,  35.5624,2,    247.6,2,    247.0,2,     1.37,2,     0.03,2,     0.01,2,     0.15,2,     -999,9,     -999,9,     -999,9,   2084.7,2,   2333.3,2,   7.9481,2,    25.01,2,     -999,1,  16.2109,2,     -999,9,     -999,9,     -999,9,     -999,1,     -999,9,   4.9756,1,   0.0543,1,     -999,9,     -999,9,     -999,9,     -999,9,     -999,9,20230823,2344, -33.9979,  59.3188,-999          ,9,-999          ,9
33RR20230722  ,I05        ,122     ,  1,35         ,35         ,2,20230823,2125, -33.9979,  59.3188,     5563,     29.5,2,  16.2102,2,  35.5618,2,  35.5610,2,    247.6,2,    247.0,2,     1.37,2,     0.00,2,     0.01,2,     0.14,2,     -999,9,     -999,9,     -999,9,   -999.0,9,     -999,9,     -999,9,     -999,9,     -999,1,  16.2060,2,     -999,9,     -999,9,     -999,9,     -999,1,     -999,9,   4.8908,1,   0.0544,1,     -999,9,     -999,9,     -999,9,     -999,9,     -999,9,20230823,2343, -33.9979,  59.3188,-999          ,9,-999          ,9
33RR20230722  ,I05        ,122     ,  1,34         ,34         ,2,20230823,2125, -33.9979,  59.3188,     5563,     56.2,2,  16.1702,2,  35.5546,2,  35.5541,2,    246.4,2,    246.4,2,     1.46,2,     0.03,2,     0.02,2,     0.16,2,     -999,9,     -999,9,     -999,9,   -999.0,9,     -999,9,     -999,9,     -999,9,     -999,1,  16.1705,2,     -999,9,     -999,9,     -999,9,     -999,1,     -999,9,   4.9748,1,   0.0632,1,     -999,9,     -999,9,     -999,9,     -999,9,     -999,9,20230823,2341, -33.9979,  59.3188,-999          ,9,-999          ,9
33RR20230722  ,I05        ,122     ,  1,33         ,33         ,2,20230823,2125, -33.9979,  59.3188,     5563,     79.3,2,  15.9847,2,  35.5277,2,  35.5265,2,    244.5,2,    244.6,2,     1.56,2,     0.43,2,     0.13,2,     0.18,2,     -999,9,     -999,9,     -999,9,   2088.2,2,   2330.6,2,   7.9389,2,    25.02,2,     -999,1,  15.9839,2,     -999,9,     -999,9,     -999,9,     -999,1,     -999,9,   4.8688,1,   0.0494,1,     -999,9,     -999,9,     -999,9,     -999,9,     -999,9,20230823,2339, -33.9979,  59.3188,-999          ,9,-999          ,9
33RR20230722  ,I05        ,122     ,  1,32         ,32         ,2,20230823,2125, -33.9979,  59.3188,     5563,    104.3,2,  15.5581,2,  35.4857,2,  35.4788,2,    237.7,2,    237.2,2,     2.05,2,     2.23,2,     0.19,2,     0.30,2,    2.187,2,    1.445,2,   2.3500,2,   -999.0,9,     -999,9,     -999,9,     -999,9,     -999,1,  15.5321,2,     -999,9,     -999,9,     -999,9,     -999,9,     -999,9,   4.9722,1,   0.0271,1,      8.8,2,     -999,9,     -999,9,     -999,9,     -999,9,20230823,2337, -33.9979,  59.3188,-999          ,9,-999          ,9
33RR20230722  ,I05        ,122     ,  1,31         ,31         ,2,20230823,2125, -33.9979,  59.3188,     5563,    132.4,2,  14.7592,2,  35.4221,2,  35.4188,2,    228.5,2,    230.1,2,     2.34,2,     4.57,2,     0.02,2,     0.45,2,     -999,9,     -999,9,     -999,9,   2111.1,2,   2324.0,2,   7.8775,2,    25.02,2,     -999,1,  14.7688,2,     -999,9,     -999,9,     -999,9,     -999,1,     -999,9,   4.9698,1,   0.0168,1,     -999,9,     -999,9,     -999,9,     -999,9,     -999,9,20230823,2335, -33.9979,  59.3188,-999          ,9,-999          ,9
33RR20230722  ,I05        ,122     ,  1,30         ,30         ,2,20230823,2125, -33.9979,  59.3188,     5563,    168.6,2,  14.2305,2,  35.3687,2,  35.3691,2,    226.7,2,    228.6,2,     2.83,2,     6.09,2,     0.01,2,     0.53,2,     -999,9,     -999,9,     -999,9,   -999.0,9,     -999,9,     -999,9,     -999,9,     -999,1,  14.2302,2,     -999,9,     -999,9,     -999,9,     -999,9,     -999,9,   4.9213,1,   0.0122,1,     -999,9,     -999,9,     -999,9,     -999,9,     -999,9,20230823,2333, -33.9979,  59.3188,-999          ,9,-999          ,9
33RR20230722  ,I05        ,122     ,  1,29         ,29         ,2,20230823,2125, -33.9979,  59.3188,     5563,    207.9,2,  13.9694,2,  35.3482,2,  35.3488,2,    230.6,2,    231.3,2,     2.93,2,     6.39,2,     0.02,2,     0.55,2,    2.408,2,    1.562,2,   2.3500,2,   2114.9,2,   2319.8,2,   7.8611,2,    24.98,2,     -999,1,  13.9746,2,     -999,9,     -999,9,     -999,9,     -999,1,     -999,9,   4.9695,1,   0.0118,1,      9.8,2,     -999,9,     -999,9,     -999,9,     -999,9,20230823,2331, -33.9979,  59.3188,-999          ,9,-999          ,9
33RR20230722  ,I05        ,122     ,  1,28         ,28         ,2,20230823,2125, -33.9979,  59.3188,     5563,    253.6,2,  13.6860,2,  35.3112,2,  35.3092,2,    233.2,2,    233.8,2,     3.02,2,     6.85,2,     0.00,2,     0.57,2,     -999,9,     -999,9,     -999,9,   -999.0,9,     -999,9,     -999,9,     -999,9,     -999,1,  13.6842,2,     -999,9,     -999,9,     -999,9,     -999,1,     -999,9,   4.9692,1,   0.0117,1,     -999,9,     -999,9,     -999,9,     -999,9,     -999,9,20230823,2329, -33.9979,  59.3188,-999          ,9,-999          ,9
33RR20230722  ,I05        ,122     ,  1,27         ,27         ,2,20230823,2125, -33.9979,  59.3188,     5563,    312.4,2,  13.3001,2,  35.2564,2,  35.2570,2,    234.5,2,    234.9,2,     3.12,2,     7.59,2,     0.00,2,     0.60,2,     -999,9,     -999,9,     -999,9,   2120.6,2,   2315.0,2,   7.8474,2,    24.97,2,     -999,1,  13.2967,2,     -999,9,     -999,9,     -999,9,     -999,9,     -999,9,   4.9240,1,   0.0116,1,     -999,9,     -999,9,     -999,9,     -999,9,     -999,9,20230823,2327, -33.9979,  59.3188,-999          ,9,-999          ,9
33RR20230722  ,I05        ,122     ,  1,26         ,26         ,2,20230823,2125, -33.9979,  59.3188,     5563,    361.1,2,  13.0427,2,  35.2195,2,  35.2142,2,    233.2,2,    233.1,2,     3.32,2,     8.44,2,     0.00,2,     0.67,2,    2.584,2,    1.631,2,   2.2800,2,   -999.0,9,     -999,9,     -999,9,     -999,9,     -999,1,  13.0439,2,     -999,9,     -999,9,     -999,9,     -999,9,     -999,9,   4.9683,1,   0.0115,1,     10.4,2,     -999,9,     -999,9,     -999,9,     -999,9,20230823,2325, -33.9979,  59.3188,-999          ,9,-999          ,9
33RR20230722  ,I05        ,122     ,  1,25         ,25         ,2,20230823,2125, -33.9979,  59.3188,     5563,    415.0,2,  12.6238,2,  35.1561,2,  35.1587,2,    232.3,2,    232.3,2,     3.41,2,     9.38,2,     0.00,2,     0.72,2,     -999,9,     -999,9,     -999,9,   2126.8,2,   2311.2,2,   7.8274,2,    24.99,2,     -999,1,  12.6245,2,     -999,9,     -999,9,     -999,9,     -999,9,     -999,9,   4.9532,1,   0.0114,1,     -999,9,     -999,9,     -999,9,     -999,9,     -999,9,20230823,2323, -33.9979,  59.3188,-999          ,9,-999          ,9
33RR20230722  ,I05        ,122     ,  1,24         ,24         ,2,20230823,2125, -33.9979,  59.3188,     5563,    467.1,2,  12.2962,2,  35.1031,2,  35.1020,2,    231.8,2,    232.0,2,     3.61,2,    10.22,2,     0.00,2,     0.78,2,     -999,9,     -999,9,     -999,9,   -999.0,9,     -999,9,     -999,9,     -999,9,     -999,1,  12.2953,2,     -999,9,     -999,9,     -999,9,     -999,9,     -999,9,   4.9675,1,   0.0114,1,     -999,9,     -999,9,     -999,9,     -999,9,     -999,9,20230823,2321, -33.9979,  59.3188,-999          ,9,-999          ,9
33RR20230722  ,I05        ,122     ,  1,23         ,23         ,2,20230823,2125, -33.9979,  59.3188,     5563,    524.6,2,  11.9192,2,  35.0402,2,  35.0388,2,    233.8,2,    234.0,2,     3.71,2,    10.93,2,     0.00,2,     0.82,2,    2.837,2,    1.750,2,   2.2300,2,   -999.0,9,     -999,9,     -999,9,     -999,9,     -999,1,  11.9198,2,     -999,9,     -999,9,     -999,9,     -999,9,     -999,9,   4.9672,1,   0.0116,1,     10.7,2,     -999,9,     -999,9,     -999,9,     -999,9,20230823,2318, -33.9979,  59.3188,-999          ,9,-999          ,9
33RR20230722  ,I05        ,122     ,  1,22         ,22         ,2,20230823,2125, -33.9979,  59.3188,     5563,    597.4,2,  11.3924,2,  34.9601,2,  34.9606,2,    231.1,2,    231.0,2,     4.00,2,    12.36,2,     0.00,2,     0.92,2,     -999,9,     -999,9,     -999,9,   -999.0,9,     -999,9,     -999,9,     -999,9,     -999,1,  11.3919,2,     -999,9,     -999,9,     -999,9,     -999,9,     -999,9,   4.9142,1,   0.0114,1,     -999,9,     -999,9,     -999,9,     -999,9,     -999,9,20230823,2316, -33.9979,  59.3188,-999          ,9,-999          ,9
33RR20230722  ,I05        ,122     ,  1,21         ,21         ,2,20230823,2125, -33.9979,  59.3188,     5563,    686.9,2,  10.6144,2,  34.8495,2,  34.8477,2,    227.1,2,    226.9,2,     4.78,2,    14.50,2,     0.00,2,     1.04,2,     -999,9,     -999,9,     -999,9,   2139.7,2,   2298.0,2,   7.7731,6,    24.99,2,     -999,1,  10.6191,2,     -999,9,     -999,9,     -999,9,     -999,9,     -999,9,   4.9665,1,   0.0116,1,     -999,9,     -999,9,     -999,9,     -999,9,     -999,9,20230823,2313, -33.9979,  59.3188,-999          ,9,-999          ,9
33RR20230722  ,I05        ,122     ,  1,20         ,20         ,2,20230823,2125, -33.9979,  59.3188,     5563,    793.2,2,   9.5358,2,  34.7110,2,  34.7070,2,    219.0,2,    218.9,2,     7.03,2,    17.81,2,     0.00,2,     1.24,2,    3.104,2,    1.841,2,   1.6300,2,   -999.0,9,     -999,9,     -999,9,     -999,9,     -999,1,   9.5224,2,     -999,9,     -999,9,     -999,9,     -999,9,     -999,9,   4.9671,1,   0.0115,1,     13.6,2,     -999,9,     -999,9,     -999,9,     -999,9,20230823,2310, -33.9979,  59.3188,-999          ,9,-999          ,9
33RR20230722  ,I05        ,122     ,  1,19         ,19         ,2,20230823,2125, -33.9979,  59.3188,     5563,    911.4,2,   8.2606,2,  34.5808,2,  34.5808,2,    208.3,2,    208.9,2,    11.71,2,    21.79,2,     0.00,2,     1.51,2,    2.853,2,    1.712,2,   1.3300,2,   2161.4,2,   2290.1,2,   7.6988,6,    25.00,2,     -999,1,   8.2582,2,     -999,9,     -999,9,     -999,9,     -999,9,     -999,9,   4.8305,1,   0.0113,1,     15.3,2,     -999,9,     -999,9,     -999,9,     -999,9,20230823,2307, -33.9979,  59.3188,-999          ,9,-999          ,9
33RR20230722  ,I05        ,122     ,  1,18         ,18         ,2,20230823,2125, -33.9979,  59.3188,     5563,   1029.7,2,   6.7972,2,  34.4581,3,  34.4514,2,    204.5,2,    204.4,2,    18.55,2,    25.79,2,     0.00,2,     1.79,2,     -999,9,     -999,9,     -999,9,   2177.5,2,   2289.3,6,   7.6572,2,    25.00,2,     -999,1,   6.7911,2,     -999,9,     -999,9,     -999,9,     -999,9,     -999,9,   4.9695,1,   0.0112,1,     -999,9,     -999,9,     -999,9,     -999,9,     -999,9,20230823,2304, -33.9979,  59.3188,-999          ,9,-999          ,9
33RR20230722  ,I05        ,122     ,  1,17         ,17         ,2,20230823,2125, -33.9979,  59.3188,     5563,   1160.5,2,   4.8802,2,  34.3608,2,  34.3611,2,    201.8,2,    202.0,2,    31.04,2,    29.81,2,     0.00,2,     2.07,2,    2.292,2,    1.268,2,   0.7800,2,   -999.0,9,     -999,9,     -999,9,     -999,9,     -999,1,   4.8803,2,     -999,9,     -999,9,     -999,9,     -999,9,     -999,9,   4.9710,1,   0.0113,1,     19.0,2,     -999,9,     -999,9,     -999,9,     -999,9,20230823,2300, -33.9979,  59.3188,-999          ,9,-999          ,9
33RR20230722  ,I05        ,122     ,  1,16         ,16         ,2,20230823,2125, -33.9979,  59.3188,     5563,   1296.0,2,   4.0366,2,  34.3807,2,  34.3831,2,    191.8,2,    191.6,2,    42.95,2,    31.89,2,     0.00,2,     2.23,2,     -999,9,     -999,9,     -999,9,   2216.9,6,   2305.2,2,   7.5904,2,    25.00,2,     -999,1,   4.0374,2,     -999,9,     -999,9,     -999,9,     -999,9,     -999,9,   4.9320,1,   0.0111,1,     -999,9,     -999,9,     -999,9,     -999,9,     -999,9,20230823,2257, -33.9979,  59.3188,-999          ,9,-999          ,9
33RR20230722  ,I05        ,122     ,  1,15         ,15         ,2,20230823,2125, -33.9979,  59.3188,     5563,   1441.9,2,   3.4788,2,  34.4535,2,  34.4555,2,    176.6,2,    176.7,2,    56.52,2,    33.32,2,     0.00,2,     2.33,2,    1.049,2,    0.542,2,   0.2600,2,   2235.5,2,   2321.0,2,   7.5718,2,    25.02,2,     -999,1,   3.4779,2,     -999,9,     -999,9,     -999,9,     -999,9,     -999,9,   4.6473,1,   0.0119,1,     22.1,2,     -999,9,     -999,9,     -999,9,     -999,9,20230823,2253, -33.9979,  59.3188,-999          ,9,-999          ,9
33RR20230722  ,I05        ,122     ,  1,14         ,14         ,2,20230823,2125, -33.9979,  59.3188,     5563,   1592.3,2,   3.1396,2,  34.5296,2,  34.5305,2,    169.9,2,    170.0,2,    66.27,2,    33.53,2,     0.00,2,     2.34,2,     -999,9,     -999,9,     -999,9,   -999.0,9,     -999,9,     -999,9,     -999,9,     -999,1,   3.1377,2,     -999,9,     -999,9,     -999,9,     -999,9,     -999,9,   4.9744,1,   0.0111,1,     -999,9,     -999,9,     -999,9,     -999,9,     -999,9,20230823,2249, -33.9979,  59.3188,-999          ,9,-999          ,9
33RR20230722  ,I05        ,122     ,  1,13         ,13         ,2,20230823,2125, -33.9979,  59.3188,     5563,   1747.7,2,   2.8573,2,  34.5917,2,  34.5916,2,    171.1,2,    171.2,2,    71.83,2,    33.08,2,     0.00,2,     2.32,2,    0.330,2,    0.180,2,   0.0400,2,   -999.0,9,     -999,9,     -999,9,     -999,9,     -999,1,   2.8559,2,     -999,9,     -999,9,     -999,9,     -999,9,     -999,9,   4.9676,1,   0.0112,1,     21.8,2,     -999,9,     -999,9,     -999,9,     -999,9,20230823,2245, -33.9979,  59.3189,-999          ,9,-999          ,9
33RR20230722  ,I05        ,122     ,  1,12         ,12         ,2,20230823,2125, -33.9979,  59.3188,     5563,   1925.4,2,   2.6484,2,  34.6435,2,  34.6437,2,    174.3,2,    174.2,2,    77.20,2,    32.43,2,     0.00,2,     2.27,2,     -999,9,     -999,9,     -999,9,   -999.0,9,     -999,9,     -999,9,     -999,9,     -999,1,   2.6466,2,     -999,9,     -999,9,     -999,9,     -999,9,     -999,9,   4.6717,1,   0.0113,1,     -999,9,     -999,9,     -999,9,     -999,9,     -999,9,20230823,2241, -33.9979,  59.3188,-999          ,9,-999          ,9
33RR20230722  ,I05        ,122     ,  1,11         ,11         ,2,20230823,2125, -33.9979,  59.3188,     5563,   2148.0,2,   2.4013,2,  34.6922,2,  34.6930,2,    178.4,2,    178.8,2,    85.78,2,    31.81,2,     0.00,2,     2.24,2,    0.097,2,    0.052,2,   0.0200,2,   2260.0,2,   2352.1,2,   7.5966,2,    25.01,2,     -999,1,   2.4008,2,     -999,9,     -999,9,     -999,9,     -999,9,     -999,9,   4.9749,1,   0.0119,1,     20.5,2,     -999,9,     -999,9,     -999,9,     -999,9,20230823,2236, -33.9979,  59.3188,-999          ,9,-999          ,9
33RR20230722  ,I05        ,122     ,  1,10         ,10         ,2,20230823,2125, -33.9979,  59.3188,     5563,   2419.9,2,   2.1773,2,  34.7206,2,  34.7209,2,    180.4,2,    180.3,2,    95.54,2,    31.74,2,     0.00,2,     2.27,2,     -999,9,     -999,9,     -999,9,   -999.0,9,     -999,9,     -999,9,     -999,9,     -999,1,   2.1775,2,     -999,9,     -999,9,     -999,9,     -999,9,     -999,9,   4.8149,1,   0.0111,1,     -999,9,     -999,9,     -999,9,     -999,9,     -999,9,20230823,2230, -33.9979,  59.3189,-999          ,9,-999          ,9
33RR20230722  ,I05        ,122     ,  1,9          ,9          ,2,20230823,2125, -33.9979,  59.3188,     5563,   2737.5,2,   1.9735,2,  34.7363,2,  34.7362,2,    188.5,2,    188.5,2,    97.49,2,    31.14,2,     0.00,2,     2.21,2,    0.067,2,    0.036,2,   0.0000,2,   2261.1,2,   2364.2,2,   7.6137,2,    25.00,2,     -999,1,   1.9727,2,     -999,9,     -999,9,     -999,9,     -999,9,     -999,9,   4.9281,1,   0.0118,1,     19.2,2,     -999,9,     -999,9,     -999,9,     -999,9,20230823,2224, -33.9979,  59.3189,-999          ,9,-999          ,9
33RR20230722  ,I05        ,122     ,  1,8          ,8          ,2,20230823,2125, -33.9979,  59.3188,     5563,   3113.6,2,   1.6897,2,  34.7311,2,  34.7309,2,    187.4,2,    187.6,2,   122.47,2,    31.87,2,     0.00,2,     2.26,2,     -999,9,     -999,9,     -999,9,   -999.0,9,     -999,9,     -999,9,     -999,9,     -999,1,   1.6892,2,     -999,9,     -999,9,     -999,9,     -999,9,     -999,9,   4.9760,1,   0.0111,1,     -999,9,     -999,9,     -999,9,     -999,9,     -999,9,20230823,2216, -33.9979,  59.3188,-999          ,9,-999          ,9
33RR20230722  ,I05        ,122     ,  1,7          ,7          ,2,20230823,2125, -33.9979,  59.3188,     5563,   3485.5,2,   1.3834,2,  34.7239,2,  34.7237,2,    198.6,2,    198.4,2,   112.71,2,    31.71,2,     0.00,2,     2.25,2,    0.113,2,    0.063,2,   0.0200,2,   2263.2,2,   2365.5,2,   7.6138,2,    25.02,2,     -999,1,   1.3833,2,     -999,9,     -999,9,     -999,9,     -999,9,     -999,9,   4.9762,1,   0.0112,1,     18.8,2,     -999,9,     -999,9,     -999,9,     -999,9,20230823,2209, -33.9979,  59.3188,-999          ,9,-999          ,9
33RR20230722  ,I05        ,122     ,  1,6          ,6          ,2,20230823,2125, -33.9979,  59.3188,     5563,   3976.9,2,   0.9020,2,  34.7032,2,  34.7034,2,    209.8,2,    209.9,2,   122.28,2,    32.04,2,     0.00,2,     2.27,2,     -999,9,     -999,9,     -999,9,   -999.0,9,     -999,9,     -999,9,     -999,9,     -999,1,   0.9029,2,     -999,9,     -999,9,     -999,9,     -999,9,     -999,9,   4.8397,1,   0.0111,1,     -999,9,     -999,9,     -999,9,     -999,9,     -999,9,20230823,2159, -33.9979,  59.3189,-999          ,9,-999          ,9
33RR20230722  ,I05        ,122     ,  1,5          ,5          ,2,20230823,2125, -33.9979,  59.3188,     5563,   4375.8,2,   0.6291,2,  34.6898,2,  34.6899,2,    215.9,2,    216.3,2,   129.21,2,    32.28,2,     0.00,2,     2.27,2,    0.255,2,    0.140,2,   0.0600,2,   -999.0,9,     -999,9,     -999,9,     -999,9,     -999,1,   0.6287,2,     -999,9,     -999,9,     -999,9,     -999,9,     -999,9,   4.9765,1,   0.0112,1,     18.1,2,     -999,9,     -999,9,     -999,9,     -999,9,20230823,2152, -33.9979,  59.3189,-999          ,9,-999          ,9
33RR20230722  ,I05        ,122     ,  1,4          ,37         ,2,20230823,2125, -33.9979,  59.3188,     5563,   4794.8,2,   0.5627,2,  34.6842,2,  34.6844,2,    217.9,2,    218.0,2,   132.72,2,    32.46,2,     0.00,2,     2.27,2,     -999,9,     -999,9,     -999,9,   -999.0,9,     -999,9,     -999,9,     -999,9,     -999,1,   0.5626,2,     -999,9,     -999,9,     -999,9,     -999,9,     -999,9,   4.9240,1,   0.0112,1,     -999,9,     -999,9,     -999,9,     -999,9,     -999,9,20230823,2143, -33.9979,  59.3188,-999          ,9,-999          ,9
33RR20230722  ,I05        ,122     ,  1,3          ,3          ,2,20230823,2125, -33.9979,  59.3188,     5563,   5078.7,2,   0.5610,2,  34.6823,2,  34.6830,2,    218.4,2,    218.6,2,   133.99,2,    32.56,2,     0.00,2,     2.26,2,    0.279,2,    0.152,2,   0.0300,2,   2264.5,2,   2359.4,2,   7.6032,2,    25.00,2,     -999,1,   0.5607,2,     -999,9,     -999,9,     -999,9,     -999,9,     -999,9,   4.9772,1,   0.0111,1,     17.9,2,     -999,9,     -999,9,     -999,9,     -999,9,20230823,2138, -33.9979,  59.3188,-999          ,9,-999          ,9