BOTTLE,20240422CCHHYDRO
EXPOCODE,SECT_ID,STNNBR,CASTNO,SAMPNO,BTLNBR,BTLNBR_FLAG_W,DATE,TIME,LATITUDE,LONGITUDE,DEPTH,CTDPRS,CTDPRS_FLAG_W,CTDTMP,CTDTMP_FLAG_W,CTDSAL,CTDSAL_FLAG_W,SALNTY,SALNTY_FLAG_W,CTDOXY,CTDOXY_FLAG_W,OXYGEN,OXYGEN_FLAG_W,SILCAT,SILCAT_FLAG_W,NITRAT,NITRAT_FLAG_W,NITRIT,NITRIT_FLAG_W,PHSPHT,PHSPHT_FLAG_W,CFC-11,CFC-11_FLAG_W,CFC-12,CFC-12_FLAG_W,SF6,SF6_FLAG_W,TCARBN,TCARBN_FLAG_W,ALKALI,ALKALI_FLAG_W,PH_TOT,PH_TOT_FLAG_W,PH_TMP,PH_TMP_FLAG_W,DOC,DOC_FLAG_W,REFTMP,REFTMP_FLAG_W,POC,POC_FLAG_W,PON,PON_FLAG_W,POP,POP_FLAG_W,DOP,DOP_FLAG_W,DELO18,DELO18_FLAG_W,CTDFLUOR,CTDFLUOR_FLAG_W,CTDXMISS,CTDXMISS_FLAG_W,N2O,N2O_FLAG_W,D15N_NO3,D15N_NO3_FLAG_W,D15N_NO2+NO3,D15N_NO2+NO3_FLAG_W,D18O_NO2+NO3,D18O_NO2+NO3_FLAG_W,D18O_NO3,D18O_NO3_FLAG_W,BTL_DATE,BTL_TIME,BTL_LAT,BTL_LON,HPLC,HPLC_FLAG_W,DNA,DNA_FLAG_W
,,,,,,,,,,,METERS,DBAR,,ITS-90,,PSS-78,,PSS-78,,UMOL/KG,,UMOL/KG,,UMOL/KG,,UMOL/KG,,UMOL/KG,,UMOL/KG,,PMOL/KG,,PMOL/KG,,FMOL/KG,,UMOL/KG,,UMOL/KG,,,,DEG C,,UMOL/KG,,ITS-90,,UG/KG,,UG/KG,,UG/L,,UMOL/KG,,/MILLE,,VOLTS,,VOLTS,,NMOL/KG,,/MILLE,,/MILLE,,/MILLE,,/MILLE,,,,,,,,,
33RR20230722  ,I05        ,82      ,  1,36         ,36         ,2,20230812,1537, -30.6491,  79.5503,     3584,      7.3,2,  18.8812,2,  35.8238,2,  35.8297,2,    231.5,2,    231.2,2,     1.17,2,     0.09,2,     0.00,2,     0.10,2,    1.634,2,    1.347,2,   2.1600,2,   2077.2,2,   2350.1,2,   7.9895,2,    25.01,2,     -999,1,  18.8804,2,     -999,9,     -999,9,     -999,9,     -999,9,     -999,1,   4.9751,1,   0.0154,1,      7.6,2,     -999,9,     -999,9,     -999,9,     -999,9,20230812,1718, -30.6491,  79.5503,-999          ,9,-999          ,9
33RR20230722  ,I05        ,82      ,  1,35         ,35         ,2,20230812,1537, -30.6491,  79.5503,     3584,     18.9,2,  18.8895,2,  35.8233,2,  35.8242,2,    231.6,2,    231.3,2,     1.17,2,     0.05,2,     0.00,2,     0.10,2,     -999,9,     -999,9,     -999,9,   -999.0,9,     -999,9,     -999,9,     -999,9,     -999,1,  18.8877,2,     -999,9,     -999,9,     -999,9,     -999,9,     -999,1,   4.9749,1,   0.0153,1,     -999,9,     -999,9,     -999,9,     -999,9,     -999,9,20230812,1716, -30.6491,  79.5503,-999          ,9,-999          ,9
33RR20230722  ,I05        ,82      ,  1,34         ,34         ,2,20230812,1537, -30.6491,  79.5503,     3584,     34.6,2,  18.8851,2,  35.8222,2,  35.8230,2,    231.3,2,    231.2,2,     1.07,2,     0.02,2,     0.00,2,     0.10,2,     -999,9,     -999,9,     -999,9,   -999.0,9,     -999,9,     -999,9,     -999,9,     -999,1,  18.8814,2,     -999,9,     -999,9,     -999,9,     -999,9,     -999,1,   4.9746,1,   0.0144,1,     -999,9,     -999,9,     -999,9,     -999,9,     -999,9,20230812,1715, -30.6491,  79.5503,-999          ,9,-999          ,9
33RR20230722  ,I05        ,82      ,  1,33         ,33         ,2,20230812,1537, -30.6491,  79.5503,     3584,     53.7,2,  18.8752,2,  35.8215,2,  35.8222,2,    231.4,2,    231.3,2,     0.98,2,     0.00,2,     0.00,2,     0.10,2,    1.585,2,    1.224,2,   2.1300,2,   2076.5,2,   2349.7,2,   7.9912,2,    25.00,2,     -999,1,  18.8746,2,     -999,9,     -999,9,     -999,9,     -999,9,     -999,1,   4.9744,1,   0.0154,1,      7.5,2,     -999,9,     -999,9,     -999,9,     -999,9,20230812,1713, -30.6491,  79.5503,-999          ,9,-999          ,9
33RR20230722  ,I05        ,82      ,  1,32         ,32         ,2,20230812,1537, -30.6491,  79.5503,     3584,     76.6,2,  18.8694,2,  35.8201,2,  35.8212,2,    231.0,2,    231.3,2,     1.07,2,     0.00,2,     0.00,2,     0.10,2,     -999,9,     -999,9,     -999,9,   -999.0,9,     -999,9,     -999,9,     -999,9,     -999,1,  18.8677,2,     -999,9,     -999,9,     -999,9,     -999,9,     -999,1,   4.9745,1,   0.0152,1,     -999,9,     -999,9,     -999,9,     -999,9,     -999,9,20230812,1711, -30.6491,  79.5503,-999          ,9,-999          ,9
33RR20230722  ,I05        ,82      ,  1,31         ,31         ,2,20230812,1537, -30.6491,  79.5503,     3584,    100.9,2,  18.4018,2,  35.8008,2,  35.7989,2,    233.7,2,    233.8,2,     0.98,2,     0.00,2,     0.00,2,     0.11,2,    1.725,2,    1.266,2,   2.0800,2,   2087.5,2,   2350.2,2,   7.9738,2,    25.00,2,     -999,1,  18.4138,2,     -999,9,     -999,9,     -999,9,     -999,9,     -999,1,   4.9744,1,   0.0268,1,      7.9,2,     -999,9,     -999,9,     -999,9,     -999,9,20230812,1709, -30.6491,  79.5503,-999          ,9,-999          ,9
33RR20230722  ,I05        ,82      ,  1,30         ,30         ,2,20230812,1537, -30.6491,  79.5503,     3584,    127.3,2,  16.4485,2,  35.6341,2,  35.6366,2,    235.0,2,    235.7,2,     0.98,2,     0.41,2,     0.11,2,     0.21,2,     -999,9,     -999,9,     -999,9,   -999.0,9,     -999,9,     -999,9,     -999,9,     -999,1,  16.4480,2,     -999,9,     -999,9,     -999,9,     -999,9,     -999,1,   4.7945,1,   0.0351,1,     -999,9,     -999,9,     -999,9,     -999,9,     -999,9,20230812,1707, -30.6491,  79.5503,-999          ,9,-999          ,9
33RR20230722  ,I05        ,82      ,  1,29         ,29         ,2,20230812,1537, -30.6491,  79.5503,     3584,    157.8,2,  15.0907,2,  35.4942,2,  35.4993,2,    231.4,2,    233.1,2,     0.98,2,     2.16,2,     0.15,2,     0.33,2,     -999,9,     -999,9,     -999,9,   2113.4,2,   2334.3,2,   7.8917,2,    25.00,2,     -999,1,  15.1229,2,     -999,9,     -999,9,     -999,9,     -999,9,     -999,1,   4.6504,1,   0.0212,1,     -999,9,     -999,9,     -999,9,     -999,9,     -999,9,20230812,1705, -30.6491,  79.5503,-999          ,9,-999          ,9
33RR20230722  ,I05        ,82      ,  1,28         ,28         ,2,20230812,1537, -30.6491,  79.5503,     3584,    192.8,2,  14.2430,2,  35.3873,2,  35.3813,2,    228.8,2,    230.2,2,     1.27,2,     4.46,2,     0.01,2,     0.47,2,     -999,9,     -999,9,     -999,9,   -999.0,9,     -999,9,     -999,9,     -999,9,     -999,1,  14.2432,2,     -999,9,     -999,9,     -999,9,     -999,9,     -999,1,   4.9694,1,   0.0144,1,     -999,9,     -999,9,     -999,9,     -999,9,     -999,9,20230812,1704, -30.6491,  79.5503,-999          ,9,-999          ,9
33RR20230722  ,I05        ,82      ,  1,27         ,27         ,2,20230812,1537, -30.6491,  79.5503,     3584,    230.0,2,  13.6258,2,  35.3021,2,  35.3047,2,    232.0,2,    232.7,2,     1.37,2,     5.48,2,     0.01,2,     0.53,2,    2.553,2,    1.584,2,   2.4500,2,   2127.5,2,   2323.2,2,   7.8538,2,    24.99,2,     -999,1,  13.6165,2,     -999,9,     -999,9,     -999,9,     -999,9,     -999,1,   4.9694,1,   0.0120,1,     10.3,2,     -999,9,     -999,9,     -999,9,     -999,9,20230812,1702, -30.6491,  79.5503,-999          ,9,-999          ,9
33RR20230722  ,I05        ,82      ,  1,26         ,26         ,2,20230812,1537, -30.6491,  79.5503,     3584,    274.4,2,  13.0289,2,  35.2072,2,  35.2026,2,    232.7,2,    233.5,2,     1.76,2,     7.01,2,     0.00,2,     0.62,2,     -999,9,     -999,9,     -999,9,   -999.0,9,     -999,9,     -999,9,     -999,9,     -999,1,  13.0153,2,     -999,9,     -999,9,     -999,9,     -999,9,     -999,1,   4.9686,1,   0.0114,1,     -999,9,     -999,9,     -999,9,     -999,9,     -999,9,20230812,1700, -30.6491,  79.5503,-999          ,9,-999          ,9
33RR20230722  ,I05        ,82      ,  1,25         ,25         ,2,20230812,1537, -30.6491,  79.5503,     3584,    318.6,2,  12.4516,2,  35.1139,2,  35.1106,2,    237.4,2,    238.1,2,     2.05,2,     8.17,2,     0.00,2,     0.67,2,    2.723,2,    1.673,2,   2.5400,2,   2129.1,2,   2313.0,2,   7.8286,2,    25.00,2,     -999,1,  12.4500,2,     -999,9,     -999,9,     -999,9,     -999,9,     -999,1,   4.9231,1,   0.0113,1,     11.2,2,     -999,9,     -999,9,     -999,9,     -999,9,20230812,1658, -30.6491,  79.5503,-999          ,9,-999          ,9
33RR20230722  ,I05        ,82      ,  1,24         ,24         ,2,20230812,1537, -30.6491,  79.5503,     3584,    365.9,2,  11.9652,2,  35.0371,2,  35.0348,2,    239.0,2,    239.0,2,     2.34,2,     9.46,2,     0.00,2,     0.76,2,     -999,9,     -999,9,     -999,9,   -999.0,9,     -999,9,     -999,9,     -999,9,     -999,1,  11.9632,2,     -999,9,     -999,9,     -999,9,     -999,9,     -999,1,   4.9656,1,   0.0114,1,     -999,9,     -999,9,     -999,9,     -999,9,     -999,9,20230812,1657, -30.6491,  79.5503,-999          ,9,-999          ,9
33RR20230722  ,I05        ,82      ,  1,23         ,23         ,2,20230812,1537, -30.6491,  79.5503,     3584,    412.7,2,  11.5154,2,  34.9662,2,  34.9667,2,    240.9,2,    240.3,2,     2.63,2,    10.57,2,     0.00,2,     0.81,2,    2.443,2,    1.739,2,   2.3700,2,   2134.5,2,   2303.9,2,   7.8062,2,    25.00,2,     -999,1,  11.5140,2,     -999,9,     -999,9,     -999,9,     -999,9,     -999,1,   4.9681,1,   0.0116,1,     11.8,2,     -999,9,     -999,9,     -999,9,     -999,9,20230812,1655, -30.6491,  79.5503,-999          ,9,-999          ,9
33RR20230722  ,I05        ,82      ,  1,22         ,22         ,2,20230812,1537, -30.6491,  79.5503,     3584,    462.3,2,  11.2750,2,  34.9316,2,  34.9307,2,    239.9,2,    239.3,2,     2.93,2,    11.49,2,     0.00,2,     0.87,2,     -999,9,     -999,9,     -999,9,   -999.0,9,     -999,9,     -999,9,     -999,9,     -999,1,  11.2723,2,     -999,9,     -999,9,     -999,9,     -999,9,     -999,1,   4.9676,1,   0.0115,1,     -999,9,     -999,9,     -999,9,     -999,9,     -999,9,20230812,1653, -30.6491,  79.5503,-999          ,9,-999          ,9
33RR20230722  ,I05        ,82      ,  1,21         ,21         ,2,20230812,1537, -30.6491,  79.5503,     3584,    520.8,2,  10.9646,2,  34.8910,2,  34.8916,2,    237.8,2,    237.5,2,     3.22,2,    12.35,2,     0.00,2,     0.93,2,    3.127,2,    1.809,2,   2.3100,2,   -999.0,9,     -999,9,     -999,9,     -999,9,     -999,1,  10.9629,2,     -999,9,     -999,9,     -999,9,     -999,9,     -999,1,   4.9672,1,   0.0114,1,     11.8,2,     -999,9,     -999,9,     -999,9,     -999,9,20230812,1651, -30.6491,  79.5503,-999          ,9,-999          ,9
33RR20230722  ,I05        ,82      ,  1,20         ,20         ,2,20230812,1537, -30.6491,  79.5503,     3584,    589.3,2,  10.5106,2,  34.8284,2,  34.8308,2,    236.8,2,    236.5,2,     3.51,2,    13.50,2,     0.00,2,     0.99,2,     -999,9,     -999,9,     -999,9,   -999.0,9,     -999,9,     -999,9,     -999,9,     -999,1,  10.5130,2,     -999,9,     -999,9,     -999,9,     -999,9,     -999,1,   4.7669,1,   0.0108,1,     -999,9,     -999,9,     -999,9,     -999,9,     -999,9,20230812,1648, -30.6491,  79.5503,-999          ,9,-999          ,9
33RR20230722  ,I05        ,82      ,  1,19         ,19         ,2,20230812,1537, -30.6491,  79.5503,     3584,    669.3,2,   9.8751,2,  34.7438,2,  34.7394,2,    233.8,2,    233.1,2,     4.29,2,    15.64,2,     0.00,2,     1.12,2,    2.723,2,    1.883,2,   2.0700,2,   2140.6,2,   2292.3,2,   7.7600,2,    25.01,2,     -999,1,   9.8753,2,     -999,9,     -999,9,     -999,9,     -999,9,     -999,1,   4.9666,1,   0.0114,1,     12.8,2,     -999,9,     -999,9,     -999,9,     -999,9,20230812,1646, -30.6491,  79.5503,-999          ,9,-999          ,9
33RR20230722  ,I05        ,82      ,  1,18         ,18         ,2,20230812,1537, -30.6491,  79.5503,     3584,    762.2,2,   9.0517,2,  34.6422,2,  34.6417,2,    223.7,2,    223.8,2,     6.44,2,    18.64,2,     0.00,2,     1.30,2,    3.065,2,    1.864,2,   1.7200,2,   -999.0,9,     -999,9,     -999,9,     -999,9,     -999,1,   9.0488,2,     -999,9,     -999,9,     -999,9,     -999,9,     -999,1,   4.9669,1,   0.0112,1,     13.6,2,     -999,9,     -999,9,     -999,9,     -999,9,20230812,1643, -30.6491,  79.5503,-999          ,9,-999          ,9
33RR20230722  ,I05        ,82      ,  1,17         ,17         ,2,20230812,1537, -30.6491,  79.5503,     3584,    881.5,2,   7.7817,2,  34.5258,2,  34.5264,2,    206.0,2,    207.1,2,    12.69,2,    23.18,2,     0.00,2,     1.58,2,    2.837,2,    1.607,2,   1.0800,2,   2167.5,2,   2287.7,6,   7.6869,6,    25.01,2,     -999,1,   7.7824,2,     -999,9,     -999,9,     -999,9,     -999,9,     -999,1,   4.9684,1,   0.0113,1,     15.4,2,     -999,9,     -999,9,     -999,9,     -999,9,20230812,1640, -30.6491,  79.5503,-999          ,9,-999          ,9
33RR20230722  ,I05        ,82      ,  1,16         ,16         ,2,20230812,1537, -30.6491,  79.5503,     3584,    990.5,2,   6.0885,2,  34.4164,2,  34.4155,2,    196.4,2,    196.9,2,    23.04,2,    27.86,2,     0.00,2,     1.90,2,     -999,9,     -999,9,     -999,9,   -999.0,9,     -999,9,     -999,9,     -999,9,     -999,1,   6.0854,2,     -999,9,     -999,9,     -999,9,     -999,9,     -999,1,   4.9699,1,   0.0112,1,     -999,9,     -999,9,     -999,9,     -999,9,     -999,9,20230812,1637, -30.6491,  79.5503,-999          ,9,-999          ,9
33RR20230722  ,I05        ,82      ,  1,15         ,15         ,2,20230812,1537, -30.6491,  79.5503,     3584,   1097.8,2,   4.8405,2,  34.3808,2,  34.3813,2,    190.5,2,    191.0,2,    34.46,2,    30.69,2,     0.00,2,     2.11,2,     -999,9,     -999,9,     -999,9,   2205.5,2,   2298.2,2,   7.6115,6,    25.00,2,     -999,1,   4.8410,2,     -999,9,     -999,9,     -999,9,     -999,9,     -999,1,   4.9237,1,   0.0112,1,     -999,9,     -999,9,     -999,9,     -999,9,     -999,9,20230812,1634, -30.6491,  79.5503,-999          ,9,-999          ,9
33RR20230722  ,I05        ,82      ,  1,14         ,14         ,2,20230812,1537, -30.6491,  79.5503,     3584,   1191.4,2,   4.2930,2,  34.4139,2,  34.4153,2,    177.5,2,    177.4,2,    46.47,2,    32.32,2,     0.00,2,     2.27,2,     -999,9,     -999,9,     -999,9,   -999.0,9,     -999,9,     -999,9,     -999,9,     -999,1,   4.2929,2,     -999,9,     -999,9,     -999,9,     -999,9,     -999,1,   4.7654,1,   0.0111,1,     -999,9,     -999,9,     -999,9,     -999,9,     -999,9,20230812,1632, -30.6491,  79.5503,-999          ,9,-999          ,9
33RR20230722  ,I05        ,82      ,  1,13         ,13         ,2,20230812,1537, -30.6491,  79.5503,     3584,   1291.1,2,   3.9641,2,  34.4804,2,  34.4830,2,    159.8,2,    159.6,2,    61.01,2,    33.75,2,     0.00,2,     2.39,2,     -999,9,     -999,9,     -999,9,   2246.5,2,   2325.4,2,   7.5706,2,    25.00,2,     -999,1,   3.9645,2,     -999,9,     -999,9,     -999,9,     -999,9,     -999,1,   4.8451,1,   0.0117,1,     -999,9,     -999,9,     -999,9,     -999,9,     -999,9,20230812,1629, -30.6491,  79.5503,-999          ,9,-999          ,9
33RR20230722  ,I05        ,82      ,  1,12         ,12         ,2,20230812,1537, -30.6491,  79.5503,     3584,   1396.0,2,   3.6724,2,  34.5239,2,  34.5237,2,    153.0,2,    153.1,2,    69.50,2,    34.49,2,     0.00,2,     2.43,2,     -999,9,     -999,9,     -999,9,   -999.0,9,     -999,9,     -999,9,     -999,9,     -999,1,   3.6709,2,     -999,9,     -999,9,     -999,9,     -999,9,     -999,1,   4.8582,1,   0.0112,1,     -999,9,     -999,9,     -999,9,     -999,9,     -999,9,20230812,1626, -30.6491,  79.5503,-999          ,9,-999          ,9
33RR20230722  ,I05        ,82      ,  1,11         ,11         ,2,20230812,1537, -30.6491,  79.5503,     3584,   1518.6,2,   3.4595,2,  34.5682,2,  34.5677,2,    148.8,2,    149.1,2,    76.53,2,    34.53,2,     0.00,2,     2.44,2,    0.163,3,    0.099,2,   0.0300,2,   2262.6,2,   2342.7,2,   7.5596,2,    25.00,2,     -999,1,   3.4646,2,     -999,9,     -999,9,     -999,9,     -999,9,     -999,1,   4.7414,1,   0.0112,1,     23.9,2,     -999,9,     -999,9,     -999,9,     -999,9,20230812,1623, -30.6491,  79.5503,-999          ,9,-999          ,9
33RR20230722  ,I05        ,82      ,  1,10         ,10         ,2,20230812,1537, -30.6491,  79.5503,     3584,   1658.9,2,   3.0138,2,  34.5942,3,  34.6003,2,    159.7,2,    159.6,2,    77.11,2,    33.92,2,     0.00,2,     2.39,2,     -999,9,     -999,9,     -999,9,   -999.0,9,     -999,9,     -999,9,     -999,9,     -999,1,   3.0118,2,     -999,9,     -999,9,     -999,9,     -999,9,     -999,1,   4.6450,1,   0.0118,1,     -999,9,     -999,9,     -999,9,     -999,9,     -999,9,20230812,1619, -30.6491,  79.5503,-999          ,9,-999          ,9
33RR20230722  ,I05        ,82      ,  1,9          ,9          ,2,20230812,1537, -30.6491,  79.5503,     3584,   1753.5,2,   2.8822,2,  34.6359,2,  34.6368,2,    159.1,2,    158.8,2,    82.48,2,    33.61,2,     0.00,2,     2.37,2,     -999,9,     -999,9,     -999,9,   2266.0,2,   2349.1,2,   7.5708,2,    25.01,2,     -999,1,   2.8827,2,     -999,9,     -999,9,     -999,9,     -999,9,     -999,1,   4.9308,1,   0.0117,1,     -999,9,     -999,9,     -999,9,     -999,9,     -999,9,20230812,1617, -30.6491,  79.5503,-999          ,9,-999          ,9
33RR20230722  ,I05        ,82      ,  1,8          ,8          ,2,20230812,1537, -30.6491,  79.5503,     3584,   1872.9,2,   2.6554,2,  34.6640,2,  34.6655,2,    167.3,2,    167.5,2,    82.19,2,    32.75,2,     0.00,2,     2.31,2,    0.123,2,    0.076,2,  -0.0200,2,   -999.0,9,     -999,9,     -999,9,     -999,9,     -999,1,   2.6550,2,     -999,9,     -999,9,     -999,9,     -999,9,     -999,1,   4.9745,1,   0.0110,1,     21.4,2,     -999,9,     -999,9,     -999,9,     -999,9,20230812,1614, -30.6491,  79.5503,-999          ,9,-999          ,9
33RR20230722  ,I05        ,82      ,  1,7          ,7          ,2,20230812,1537, -30.6491,  79.5503,     3584,   2063.4,2,   2.3774,2,  34.7090,2,  34.7085,2,    180.7,2,    180.7,2,    81.60,2,    31.27,2,     0.00,2,     2.20,2,     -999,9,     -999,9,     -999,9,   2253.1,2,   2345.9,2,   7.5994,2,    25.01,2,     -999,1,   2.3772,2,     -999,9,     -999,9,     -999,9,     -999,9,     -999,1,   4.9518,1,   0.0111,1,     -999,9,     -999,9,     -999,9,     -999,9,     -999,9,20230812,1609, -30.6491,  79.5503,-999          ,9,-999          ,9
33RR20230722  ,I05        ,82      ,  1,6          ,6          ,2,20230812,1537, -30.6491,  79.5503,     3584,   2295.9,2,   2.1152,2,  34.7361,2,  34.7362,2,    189.4,2,    189.5,2,    86.38,2,    30.50,2,     0.00,2,     2.15,2,    0.070,2,    0.045,2,   0.0100,2,   -999.0,9,     -999,9,     -999,9,     -999,9,     -999,1,   2.1149,2,     -999,9,     -999,9,     -999,9,     -999,9,     -999,1,   4.7200,1,   0.0112,1,     19.0,2,     -999,9,     -999,9,     -999,9,     -999,9,20230812,1604, -30.6491,  79.5503,-999          ,9,-999          ,9
33RR20230722  ,I05        ,82      ,  1,5          ,5          ,2,20230812,1537, -30.6491,  79.5503,     3584,   2561.0,2,   1.8439,2,  34.7402,2,  34.7398,2,    193.7,2,    194.0,2,    94.77,2,    30.60,2,     0.00,2,     2.15,2,     -999,9,     -999,9,     -999,9,   -999.0,9,     -999,9,     -999,9,     -999,9,     -999,1,   1.8433,2,     -999,9,     -999,9,     -999,9,     -999,9,     -999,1,   4.9745,1,   0.0111,1,     -999,9,     -999,9,     -999,9,     -999,9,     -999,9,20230812,1559, -30.6491,  79.5503,-999          ,9,-999          ,9
33RR20230722  ,I05        ,82      ,  1,4          ,37         ,2,20230812,1537, -30.6491,  79.5503,     3584,   2850.6,2,   1.6083,2,  34.7346,2,  34.7347,2,    195.8,2,    195.8,2,   103.07,2,    30.97,2,     0.00,2,     2.18,2,    0.050,2,    0.037,2,  -0.0200,2,   -999.0,9,     -999,9,     -999,9,     -999,9,     -999,1,   1.6072,2,     -999,9,     -999,9,     -999,9,     -999,9,     -999,1,   4.9748,1,   0.0111,1,     18.4,2,     -999,9,     -999,9,     -999,9,     -999,9,20230812,1553, -30.6491,  79.5503,-999          ,9,-999          ,9
33RR20230722  ,I05        ,82      ,  1,3          ,3          ,2,20230812,1537, -30.6491,  79.5503,     3584,   3109.0,2,   1.5053,2,  34.7317,2,  34.7311,2,    197.2,2,    197.4,2,   106.58,2,    31.22,2,     0.00,2,     2.19,2,     -999,9,     -999,9,     -999,9,   2261.2,2,   2364.4,2,   7.6188,2,    25.00,2,     -999,1,   1.5054,2,     -999,9,     -999,9,     -999,9,     -999,9,     -999,1,   4.9757,1,   0.0111,1,     -999,9,     -999,9,     -999,9,     -999,9,     -999,9,20230812,1548, -30.6491,  79.5503,-999          ,9,-999          ,9