BOTTLE,20240422CCHHYDRO
EXPOCODE,SECT_ID,STNNBR,CASTNO,SAMPNO,BTLNBR,BTLNBR_FLAG_W,DATE,TIME,LATITUDE,LONGITUDE,DEPTH,CTDPRS,CTDPRS_FLAG_W,CTDTMP,CTDTMP_FLAG_W,CTDSAL,CTDSAL_FLAG_W,SALNTY,SALNTY_FLAG_W,CTDOXY,CTDOXY_FLAG_W,OXYGEN,OXYGEN_FLAG_W,SILCAT,SILCAT_FLAG_W,NITRAT,NITRAT_FLAG_W,NITRIT,NITRIT_FLAG_W,PHSPHT,PHSPHT_FLAG_W,CFC-11,CFC-11_FLAG_W,CFC-12,CFC-12_FLAG_W,SF6,SF6_FLAG_W,TCARBN,TCARBN_FLAG_W,ALKALI,ALKALI_FLAG_W,PH_TOT,PH_TOT_FLAG_W,PH_TMP,PH_TMP_FLAG_W,DOC,DOC_FLAG_W,REFTMP,REFTMP_FLAG_W,POC,POC_FLAG_W,PON,PON_FLAG_W,POP,POP_FLAG_W,DOP,DOP_FLAG_W,DELO18,DELO18_FLAG_W,CTDFLUOR,CTDFLUOR_FLAG_W,CTDXMISS,CTDXMISS_FLAG_W,N2O,N2O_FLAG_W,D15N_NO3,D15N_NO3_FLAG_W,D15N_NO2+NO3,D15N_NO2+NO3_FLAG_W,D18O_NO2+NO3,D18O_NO2+NO3_FLAG_W,D18O_NO3,D18O_NO3_FLAG_W,BTL_DATE,BTL_TIME,BTL_LAT,BTL_LON,HPLC,HPLC_FLAG_W,DNA,DNA_FLAG_W
,,,,,,,,,,,METERS,DBAR,,ITS-90,,PSS-78,,PSS-78,,UMOL/KG,,UMOL/KG,,UMOL/KG,,UMOL/KG,,UMOL/KG,,UMOL/KG,,PMOL/KG,,PMOL/KG,,FMOL/KG,,UMOL/KG,,UMOL/KG,,,,DEG C,,UMOL/KG,,ITS-90,,UG/KG,,UG/KG,,UG/L,,UMOL/KG,,/MILLE,,VOLTS,,VOLTS,,NMOL/KG,,/MILLE,,/MILLE,,/MILLE,,/MILLE,,,,,,,,,
33RR20230722  ,I05        ,183     ,  1,35         ,35         ,2,20230907,1850, -32.3018,  32.6797,     3540,      6.8,2,  19.3744,2,  35.5781,2,  35.5766,2,    230.2,2,    229.8,2,     1.76,2,     0.10,2,     0.06,2,     0.14,2,    1.943,2,    1.199,2,   2.0500,2,   2055.0,6,   2331.0,2,   7.9888,6,    25.00,2,     -999,1,  19.3730,2,     -999,9,     -999,9,     -999,9,     -999,9,     -999,1,   4.9746,1,   0.0361,1,      7.8,2,     -999,1,     -999,1,     -999,1,     -999,1,20230907,2033, -32.3018,  32.6797,-999          ,9,-999          ,9
33RR20230722  ,I05        ,183     ,  1,34         ,34         ,2,20230907,1850, -32.3018,  32.6797,     3540,     18.2,2,  19.3268,2,  35.5833,2,  35.5807,2,    230.3,2,    229.9,2,     1.76,2,     0.09,2,     0.06,2,     0.13,2,     -999,9,     -999,9,     -999,9,   -999.0,9,     -999,9,     -999,9,     -999,9,     -999,9,  19.3242,2,     -999,9,     -999,9,     -999,9,     -999,9,     -999,1,   4.9276,1,   0.0357,1,     -999,9,     -999,1,     -999,1,     -999,1,     -999,1,20230907,2032, -32.3018,  32.6797,-999          ,9,-999          ,9
33RR20230722  ,I05        ,183     ,  1,33         ,33         ,2,20230907,1850, -32.3018,  32.6797,     3540,     32.6,2,  19.2729,2,  35.5880,2,  35.5851,2,    230.3,2,    229.9,2,     1.85,2,     0.08,2,     0.06,2,     0.13,2,     -999,9,     -999,9,     -999,9,   -999.0,9,     -999,9,     -999,9,     -999,9,     -999,9,  19.2768,2,     -999,9,     -999,9,     -999,9,     -999,9,     -999,1,   4.9741,1,   0.0332,1,     -999,9,     -999,1,     -999,1,     -999,1,     -999,1,20230907,2030, -32.3018,  32.6797,-999          ,9,-999          ,9
33RR20230722  ,I05        ,183     ,  1,32         ,32         ,2,20230907,1850, -32.3018,  32.6797,     3540,     48.5,2,  19.2493,2,  35.5884,2,  35.5857,2,    230.3,2,    229.9,2,     1.76,2,     0.09,2,     0.06,2,     0.13,2,     -999,9,     -999,9,     -999,9,   2055.9,2,   2329.9,2,   7.9870,2,    25.00,2,     -999,9,  19.2474,2,     -999,9,     -999,9,     -999,9,     -999,9,     -999,1,   4.9743,1,   0.0370,1,     -999,9,     -999,1,     -999,1,     -999,1,     -999,1,20230907,2029, -32.3018,  32.6797,-999          ,9,-999          ,9
33RR20230722  ,I05        ,183     ,  1,31         ,31         ,2,20230907,1850, -32.3018,  32.6797,     3540,     69.4,2,  19.0281,2,  35.5994,2,  35.6098,2,    228.5,2,    228.9,2,     1.66,2,     0.09,2,     0.08,2,     0.13,2,     -999,9,     -999,9,     -999,9,   -999.0,9,     -999,9,     -999,9,     -999,9,     -999,9,  19.0573,2,     -999,9,     -999,9,     -999,9,     -999,9,     -999,1,   4.9735,1,   0.0298,1,     -999,9,     -999,1,     -999,1,     -999,1,     -999,1,20230907,2027, -32.3018,  32.6797,-999          ,9,-999          ,9
33RR20230722  ,I05        ,183     ,  1,30         ,30         ,2,20230907,1850, -32.3018,  32.6797,     3540,     91.5,2,  18.7335,2,  35.6021,2,  35.6038,2,    222.1,2,    222.4,2,     1.95,2,     0.79,2,     0.15,2,     0.18,2,     -999,9,     -999,9,     -999,9,   2069.8,2,   2329.4,2,   7.9689,2,    24.97,2,     -999,9,  18.7256,2,     -999,9,     -999,9,     -999,9,     -999,9,     -999,1,   4.5567,1,   0.0207,1,     -999,9,     -999,1,     -999,1,     -999,1,     -999,1,20230907,2025, -32.3018,  32.6797,-999          ,9,-999          ,9
33RR20230722  ,I05        ,183     ,  1,29         ,29         ,2,20230907,1850, -32.3018,  32.6797,     3540,    117.6,2,  17.9872,2,  35.6226,2,  35.6214,2,    224.3,2,    224.8,2,     2.15,2,     1.19,2,     0.11,2,     0.20,2,    2.173,2,    1.264,2,   2.0700,2,   -999.0,9,     -999,9,     -999,9,     -999,9,     -999,9,  17.9904,2,     -999,9,     -999,9,     -999,9,     -999,9,     -999,1,   4.9408,1,   0.0145,1,      8.4,2,     -999,1,     -999,1,     -999,1,     -999,1,20230907,2023, -32.3018,  32.6797,-999          ,9,-999          ,9
33RR20230722  ,I05        ,183     ,  1,28         ,28         ,2,20230907,1850, -32.3018,  32.6797,     3540,    147.2,2,  17.8347,2,  35.6260,2,  35.6236,2,    221.9,2,    221.8,2,     2.34,2,     1.72,2,     0.02,2,     0.23,2,     -999,9,     -999,9,     -999,9,   -999.0,9,     -999,9,     -999,9,     -999,9,     -999,9,  17.8261,2,     -999,9,     -999,9,     -999,9,     -999,9,     -999,1,   4.9707,1,   0.0130,1,     -999,9,     -999,1,     -999,1,     -999,1,     -999,1,20230907,2021, -32.3018,  32.6797,-999          ,9,-999          ,9
33RR20230722  ,I05        ,183     ,  1,27         ,27         ,2,20230907,1850, -32.3018,  32.6797,     3540,    178.5,2,  17.2243,2,  35.5827,2,  35.5805,2,    205.4,2,    206.5,2,     3.02,2,     3.74,2,     0.02,2,     0.36,2,     -999,9,     -999,9,     -999,9,   2098.6,2,   2328.3,2,   7.9075,2,    25.00,2,     -999,9,  17.2063,2,     -999,9,     -999,9,     -999,9,     -999,9,     -999,1,   4.9696,1,   0.0119,1,     -999,9,     -999,1,     -999,1,     -999,1,     -999,1,20230907,2019, -32.3018,  32.6797,-999          ,9,-999          ,9
33RR20230722  ,I05        ,183     ,  1,26         ,26         ,2,20230907,1850, -32.3018,  32.6797,     3540,    216.2,2,  16.7335,2,  35.5637,2,  35.5612,2,    204.0,2,    205.0,2,     3.22,2,     4.48,2,     0.02,2,     0.43,2,     -999,9,     -999,9,     -999,9,   -999.0,9,     -999,9,     -999,9,     -999,9,     -999,9,  16.7341,2,     -999,9,     -999,9,     -999,9,     -999,9,     -999,1,   4.9680,1,   0.0128,1,     -999,9,     -999,1,     -999,1,     -999,1,     -999,1,20230907,2017, -32.3018,  32.6797,-999          ,9,-999          ,9
33RR20230722  ,I05        ,183     ,  1,25         ,25         ,2,20230907,1850, -32.3018,  32.6797,     3540,    257.4,2,  15.9428,2,  35.5028,2,  35.5010,2,    204.8,2,    205.9,2,     3.51,2,     5.60,2,     0.00,2,     0.49,2,    2.171,2,    1.396,2,   1.9100,2,   2110.5,2,   2323.3,2,   7.8770,2,    24.99,2,     -999,9,  15.9404,2,     -999,9,     -999,9,     -999,9,     -999,9,     -999,1,   4.9675,1,   0.0120,1,      9.8,2,     -999,1,     -999,1,     -999,1,     -999,1,20230907,2016, -32.3018,  32.6797,-999          ,9,-999          ,9
33RR20230722  ,I05        ,183     ,  1,24         ,24         ,2,20230907,1850, -32.3018,  32.6797,     3540,    311.0,2,  15.0670,2,  35.4223,2,  35.4210,2,    206.1,2,    206.7,2,     3.80,2,     6.77,2,     0.00,2,     0.58,2,     -999,9,     -999,9,     -999,9,   -999.0,9,     -999,9,     -999,9,     -999,9,     -999,9,  15.0739,2,     -999,9,     -999,9,     -999,9,     -999,9,     -999,1,   4.7484,1,   0.0116,1,     -999,9,     -999,1,     -999,1,     -999,1,     -999,1,20230907,2014, -32.3018,  32.6797,-999          ,9,-999          ,9
33RR20230722  ,I05        ,183     ,  1,23         ,23         ,2,20230907,1850, -32.3018,  32.6797,     3540,    373.8,2,  14.1217,2,  35.3211,2,  35.3206,2,    208.1,2,    208.4,2,     4.00,2,     8.16,2,     0.00,2,     0.66,2,    2.547,2,    1.533,2,   2.0500,2,   2125.1,2,   2318.9,2,   7.8357,2,    25.00,2,     -999,9,  14.1312,2,     -999,9,     -999,9,     -999,9,     -999,9,     -999,1,   4.9505,1,   0.0115,1,     11.1,2,     -999,1,     -999,1,     -999,1,     -999,1,20230907,2011, -32.3018,  32.6797,-999          ,9,-999          ,9
33RR20230722  ,I05        ,183     ,  1,22         ,22         ,2,20230907,1850, -32.3018,  32.6797,     3540,    444.4,2,  13.3099,2,  35.2393,2,  35.2373,2,    216.3,2,    216.2,2,     3.81,2,     9.05,2,     0.00,2,     0.72,2,    2.619,2,    1.617,2,   1.9600,2,   -999.0,9,     -999,9,     -999,9,     -999,9,     -999,9,  13.3053,2,     -999,9,     -999,9,     -999,9,     -999,9,     -999,1,   4.7837,1,   0.0116,1,     11.3,2,     -999,1,     -999,1,     -999,1,     -999,1,20230907,2009, -32.3018,  32.6797,-999          ,9,-999          ,9
33RR20230722  ,I05        ,183     ,  1,21         ,21         ,2,20230907,1850, -32.3018,  32.6797,     3540,    525.2,2,  12.5759,2,  35.1432,2,  35.1412,2,    220.9,2,    220.2,2,     3.90,2,    10.35,2,     0.00,2,     0.79,2,    2.531,2,    1.675,2,   1.8300,2,   2131.2,2,   2309.2,2,   7.8121,6,    24.99,2,     -999,9,  12.5776,2,     -999,9,     -999,9,     -999,9,     -999,9,     -999,1,   4.9667,1,   0.0117,1,     11.6,2,     -999,1,     -999,1,     -999,1,     -999,1,20230907,2007, -32.3018,  32.6797,-999          ,9,-999          ,9
33RR20230722  ,I05        ,183     ,  1,20         ,20         ,2,20230907,1850, -32.3018,  32.6797,     3540,    607.8,2,  11.8277,2,  35.0328,2,  35.0268,2,    220.9,2,    220.9,2,     4.39,2,    12.07,2,     0.00,2,     0.92,2,     -999,9,     -999,9,     -999,9,   -999.0,9,     -999,9,     -999,9,     -999,9,     -999,9,  11.8230,2,     -999,9,     -999,9,     -999,9,     -999,9,     -999,1,   4.7230,1,   0.0113,1,     -999,9,     -999,1,     -999,1,     -999,1,     -999,1,20230907,2004, -32.3018,  32.6797,-999          ,9,-999          ,9
33RR20230722  ,I05        ,183     ,  1,19         ,19         ,2,20230907,1850, -32.3018,  32.6797,     3540,    700.2,2,  10.7902,2,  34.8857,2,  34.8865,2,    219.9,2,    219.6,2,     5.37,2,    14.40,2,     0.00,2,     1.06,2,    3.122,2,    1.765,2,   1.7100,2,   2141.0,2,   2298.6,2,   7.7691,2,    24.98,2,     -999,9,  10.7891,2,     -999,9,     -999,9,     -999,9,     -999,9,     -999,1,   4.6083,1,   0.0115,1,     13.1,2,     -999,1,     -999,1,     -999,1,     -999,1,20230907,2001, -32.3018,  32.6797,-999          ,9,-999          ,9
33RR20230722  ,I05        ,183     ,  1,18         ,18         ,2,20230907,1850, -32.3018,  32.6797,     3540,    796.2,2,   9.9146,2,  34.7787,2,  34.7718,2,    210.8,2,    210.3,2,     8.39,2,    17.53,2,     0.00,2,     1.26,2,    2.970,2,    1.726,2,   1.4700,2,   -999.0,9,     -999,9,     -999,9,     -999,9,     -999,9,   9.8944,2,     -999,9,     -999,9,     -999,9,     -999,9,     -999,1,   4.6922,1,   0.0115,1,     14.8,2,     -999,1,     -999,1,     -999,1,     -999,1,20230907,1959, -32.3018,  32.6797,-999          ,9,-999          ,9
33RR20230722  ,I05        ,183     ,  1,17         ,17         ,2,20230907,1850, -32.3018,  32.6797,     3540,    902.2,2,   8.2814,2,  34.6060,2,  34.6054,2,    206.1,2,    206.5,2,    13.37,2,    21.80,2,     0.00,2,     1.53,2,    2.614,2,    1.613,2,   1.0500,2,   -999.0,9,     -999,9,     -999,9,     -999,9,     -999,9,   8.2782,2,     -999,9,     -999,9,     -999,9,     -999,9,     -999,1,   4.9685,1,   0.0113,1,     16.0,2,     -999,1,     -999,1,     -999,1,     -999,1,20230907,1956, -32.3018,  32.6797,-999          ,9,-999          ,9
33RR20230722  ,I05        ,183     ,  1,16         ,16         ,2,20230907,1850, -32.3018,  32.6797,     3540,   1009.4,2,   6.8743,2,  34.4941,2,  34.4934,2,    199.7,2,    200.4,2,    20.50,2,    25.62,2,     0.00,2,     1.78,2,     -999,9,     -999,9,     -999,9,   2181.6,2,   2291.1,2,   7.6564,2,    24.97,2,     -999,9,   6.8845,2,     -999,9,     -999,9,     -999,9,     -999,9,     -999,1,   4.9696,1,   0.0112,1,     -999,9,     -999,1,     -999,1,     -999,1,     -999,1,20230907,1953, -32.3018,  32.6797,-999          ,9,-999          ,9
33RR20230722  ,I05        ,183     ,  1,15         ,15         ,2,20230907,1850, -32.3018,  32.6797,     3540,   1118.1,2,   5.8507,2,  34.4812,2,  34.4816,2,    181.5,2,    181.9,2,    33.29,2,    29.35,2,     0.00,2,     2.06,2,     -999,9,     -999,9,     -999,9,   -999.0,9,     -999,9,     -999,9,     -999,9,     -999,9,   5.8738,2,     -999,9,     -999,9,     -999,9,     -999,9,     -999,1,   4.9714,1,   0.0113,1,     -999,9,     -999,1,     -999,1,     -999,1,     -999,1,20230907,1949, -32.3018,  32.6797,-999          ,9,-999          ,9
33RR20230722  ,I05        ,183     ,  1,14         ,14         ,2,20230907,1850, -32.3018,  32.6797,     3540,   1231.0,2,   5.0915,2,  34.4900,2,  34.4915,2,    171.8,2,    171.0,2,    44.03,2,    31.42,2,     0.00,2,     2.22,2,    1.367,2,    0.821,2,   0.5500,2,   2221.9,2,   2310.3,2,   7.5936,2,    24.97,2,     -999,9,   5.0968,2,     -999,9,     -999,9,     -999,9,     -999,9,     -999,1,   4.9726,1,   0.0112,1,     23.0,2,     -999,1,     -999,1,     -999,1,     -999,1,20230907,1946, -32.3018,  32.6797,-999          ,9,-999          ,9
33RR20230722  ,I05        ,183     ,  1,13         ,13         ,2,20230907,1850, -32.3018,  32.6797,     3540,   1342.9,2,   4.3111,2,  34.5106,2,  34.5097,2,    166.6,2,    166.2,2,    54.28,2,    32.80,2,     0.00,2,     2.32,2,     -999,9,     -999,9,     -999,9,   -999.0,9,     -999,9,     -999,9,     -999,9,     -999,9,   4.3211,2,     -999,9,     -999,9,     -999,9,     -999,9,     -999,1,   4.6521,1,   0.0112,1,     -999,9,     -999,1,     -999,1,     -999,1,     -999,1,20230907,1943, -32.3018,  32.6797,-999          ,9,-999          ,9
33RR20230722  ,I05        ,183     ,  1,12         ,12         ,2,20230907,1850, -32.3018,  32.6797,     3540,   1454.8,2,   3.9293,2,  34.5460,2,  34.5441,2,    163.0,2,    163.2,2,    61.21,2,    33.31,2,     0.00,2,     2.34,2,     -999,9,     -999,9,     -999,9,   2243.4,2,   2327.7,2,   7.5718,2,    24.96,2,     -999,9,   3.9354,2,     -999,9,     -999,9,     -999,9,     -999,9,     -999,1,   4.9740,1,   0.0112,1,     -999,9,     -999,1,     -999,1,     -999,1,     -999,1,20230907,1940, -32.3018,  32.6797,-999          ,9,-999          ,9
33RR20230722  ,I05        ,183     ,  1,11         ,11         ,2,20230907,1850, -32.3018,  32.6797,     3540,   1562.0,2,   3.5108,2,  34.5760,2,  34.5767,2,    164.6,2,    164.5,2,    66.67,2,    33.37,2,     0.00,2,     2.35,2,     -999,9,     -999,9,     -999,9,   -999.0,9,     -999,9,     -999,9,     -999,9,     -999,9,   3.5096,2,     -999,9,     -999,9,     -999,9,     -999,9,     -999,1,   4.8995,1,   0.0116,1,     -999,9,     -999,1,     -999,1,     -999,1,     -999,1,20230907,1937, -32.3018,  32.6798,-999          ,9,-999          ,9
33RR20230722  ,I05        ,183     ,  1,10         ,10         ,2,20230907,1850, -32.3018,  32.6797,     3540,   1667.6,2,   3.2160,2,  34.6082,2,  34.6062,2,    168.1,2,    168.3,2,    69.70,2,    33.01,2,     0.00,2,     2.32,2,    0.434,2,    0.225,2,   0.1100,2,   2250.0,2,   2334.4,2,   7.5769,2,    24.98,2,     -999,9,   3.2154,2,     -999,9,     -999,9,     -999,9,     -999,9,     -999,1,   4.9741,1,   0.0110,1,     23.0,2,     -999,1,     -999,1,     -999,1,     -999,1,20230907,1934, -32.3018,  32.6797,-999          ,9,-999          ,9
33RR20230722  ,I05        ,183     ,  1,9          ,9          ,2,20230907,1850, -32.3018,  32.6797,     3540,   1785.7,2,   3.1122,2,  34.6600,2,  34.6594,2,    167.3,2,    167.0,2,    73.60,2,    32.63,2,     0.00,2,     2.29,2,     -999,9,     -999,9,     -999,9,   -999.0,9,     -999,9,     -999,9,     -999,9,     -999,9,   3.1115,2,     -999,9,     -999,9,     -999,9,     -999,9,     -999,1,   4.9743,1,   0.0124,1,     -999,9,     -999,1,     -999,1,     -999,1,     -999,1,20230907,1931, -32.3018,  32.6797,-999          ,9,-999          ,9
33RR20230722  ,I05        ,183     ,  1,8          ,8          ,2,20230907,1850, -32.3018,  32.6797,     3540,   1931.8,2,   2.9083,2,  34.6977,2,  34.6973,2,    174.3,2,    174.3,2,    74.18,2,    31.65,2,     0.00,2,     2.23,2,     -999,9,     -999,9,     -999,9,   2253.2,2,   2343.7,2,   7.5962,6,    24.99,2,     -999,9,   2.9074,2,     -999,9,     -999,9,     -999,9,     -999,9,     -999,1,   4.9688,1,   0.0112,1,     -999,9,     -999,1,     -999,1,     -999,1,     -999,1,20230907,1926, -32.3018,  32.6797,-999          ,9,-999          ,9
33RR20230722  ,I05        ,183     ,  1,7          ,7          ,2,20230907,1850, -32.3018,  32.6797,     3540,   2128.9,2,   2.7305,2,  34.7403,2,  34.7394,2,    184.4,2,    185.0,2,    72.72,2,    30.29,2,     0.00,2,     2.14,2,     -999,9,     -999,9,     -999,9,   -999.0,9,     -999,9,     -999,9,     -999,9,     -999,9,   2.7303,2,     -999,9,     -999,9,     -999,9,     -999,9,     -999,1,   4.9751,1,   0.0116,1,     -999,9,     -999,1,     -999,1,     -999,1,     -999,1,20230907,1922, -32.3018,  32.6797,-999          ,9,-999          ,9
33RR20230722  ,I05        ,183     ,  1,6          ,6          ,2,20230907,1850, -32.3018,  32.6797,     3540,   2385.0,2,   2.6053,2,  34.7806,2,  34.7799,2,    198.7,2,    199.2,2,    67.05,2,    28.42,2,     0.00,2,     1.98,2,    0.047,2,    0.034,2,   0.0500,2,   -999.0,9,     -999,9,     -999,9,     -999,9,     -999,9,   2.6051,2,     -999,9,     -999,9,     -999,9,     -999,9,     -999,1,   4.9737,1,   0.0111,1,     18.8,2,     -999,1,     -999,1,     -999,1,     -999,1,20230907,1916, -32.3018,  32.6797,-999          ,9,-999          ,9
33RR20230722  ,I05        ,183     ,  1,5          ,5          ,2,20230907,1850, -32.3018,  32.6797,     3540,   2696.9,2,   2.4403,2,  34.8018,2,  34.8013,2,    208.7,2,    209.2,2,    65.78,2,    27.39,2,     0.00,2,     1.91,2,     -999,9,     -999,9,     -999,9,   2225.4,2,   2342.3,6,   7.6525,2,    25.00,2,     -999,9,   2.4401,2,     -999,9,     -999,9,     -999,9,     -999,9,     -999,1,   4.9699,1,   0.0113,1,     -999,9,     -999,1,     -999,1,     -999,1,     -999,1,20230907,1910, -32.3018,  32.6797,-999          ,9,-999          ,9
33RR20230722  ,I05        ,183     ,  1,4          ,37         ,2,20230907,1850, -32.3018,  32.6797,     3540,   3016.6,2,   2.2356,2,  34.8105,2,  34.8096,2,    216.3,2,    216.6,2,    68.03,2,    26.85,2,     0.00,2,     1.86,2,     -999,9,     -999,9,     -999,9,   -999.0,9,     -999,9,     -999,9,     -999,9,     -999,9,   2.2334,2,     -999,9,     -999,9,     -999,9,     -999,9,     -999,1,   4.6867,1,   0.0113,1,     -999,9,     -999,1,     -999,1,     -999,1,     -999,1,20230907,1903, -32.3018,  32.6797,-999          ,9,-999          ,9
33RR20230722  ,I05        ,183     ,  1,3          ,3          ,2,20230907,1850, -32.3018,  32.6797,     3540,   3282.6,2,   1.9427,2,  34.7967,2,  34.7960,2,    217.9,2,    218.2,2,    76.23,2,    27.39,2,     0.00,2,     1.91,2,    0.050,2,    0.032,2,   0.0700,2,   2231.6,2,   2348.4,2,   7.6582,6,    24.99,2,     -999,9,   1.9430,2,     -999,9,     -999,9,     -999,9,     -999,9,     -999,1,   4.8118,1,   0.0113,1,     16.8,2,     -999,1,     -999,1,     -999,1,     -999,1,20230907,1858, -32.3018,  32.6797,-999          ,9,-999          ,9
33RR20230722  ,I05        ,183     ,  1,2          ,2          ,2,20230907,1850, -32.3018,  32.6797,     3540,   3461.3,2,   1.6262,2,  34.7737,2,  34.7724,2,    217.0,2,    216.8,2,    87.45,2,    28.53,2,     0.00,2,     1.99,2,    0.082,2,    0.048,2,   0.0000,2,   -999.0,9,     -999,9,     -999,9,     -999,9,     -999,9,   1.6254,2,     -999,9,     -999,9,     -999,9,     -999,9,     -999,1,   4.7389,1,   0.0112,1,     17.1,2,     -999,1,     -999,1,     -999,1,     -999,1,20230907,1854, -32.3018,  32.6797,-999          ,9,-999          ,9