BOTTLE,20240422CCHHYDRO
EXPOCODE,SECT_ID,STNNBR,CASTNO,SAMPNO,BTLNBR,BTLNBR_FLAG_W,DATE,TIME,LATITUDE,LONGITUDE,DEPTH,CTDPRS,CTDPRS_FLAG_W,CTDTMP,CTDTMP_FLAG_W,CTDSAL,CTDSAL_FLAG_W,SALNTY,SALNTY_FLAG_W,CTDOXY,CTDOXY_FLAG_W,OXYGEN,OXYGEN_FLAG_W,SILCAT,SILCAT_FLAG_W,NITRAT,NITRAT_FLAG_W,NITRIT,NITRIT_FLAG_W,PHSPHT,PHSPHT_FLAG_W,CFC-11,CFC-11_FLAG_W,CFC-12,CFC-12_FLAG_W,SF6,SF6_FLAG_W,TCARBN,TCARBN_FLAG_W,ALKALI,ALKALI_FLAG_W,PH_TOT,PH_TOT_FLAG_W,PH_TMP,PH_TMP_FLAG_W,DOC,DOC_FLAG_W,REFTMP,REFTMP_FLAG_W,POC,POC_FLAG_W,PON,PON_FLAG_W,POP,POP_FLAG_W,DOP,DOP_FLAG_W,DELO18,DELO18_FLAG_W,CTDFLUOR,CTDFLUOR_FLAG_W,CTDXMISS,CTDXMISS_FLAG_W,N2O,N2O_FLAG_W,D15N_NO3,D15N_NO3_FLAG_W,D15N_NO2+NO3,D15N_NO2+NO3_FLAG_W,D18O_NO2+NO3,D18O_NO2+NO3_FLAG_W,D18O_NO3,D18O_NO3_FLAG_W,BTL_DATE,BTL_TIME,BTL_LAT,BTL_LON,HPLC,HPLC_FLAG_W,DNA,DNA_FLAG_W
,,,,,,,,,,,METERS,DBAR,,ITS-90,,PSS-78,,PSS-78,,UMOL/KG,,UMOL/KG,,UMOL/KG,,UMOL/KG,,UMOL/KG,,UMOL/KG,,PMOL/KG,,PMOL/KG,,FMOL/KG,,UMOL/KG,,UMOL/KG,,,,DEG C,,UMOL/KG,,ITS-90,,UG/KG,,UG/KG,,UG/L,,UMOL/KG,,/MILLE,,VOLTS,,VOLTS,,NMOL/KG,,/MILLE,,/MILLE,,/MILLE,,/MILLE,,,,,,,,,
33RR20230722  ,I05        ,68      ,  1,34         ,34         ,2,20230809,0410, -31.5126,  86.8628,     2912,      4.0,2,  17.6341,2,  35.8832,2,     -999,9,    236.6,2,     -999,9,     -999,9,     -999,9,     -999,9,     -999,9,     -999,9,     -999,9,     -999,9,   -999.0,9,     -999,9,     -999,9,     -999,9,     -999,9,     -999,1,     -999,9,     -999,9,     -999,1,     -999,9,     -999,9,   4.6301,1,   0.0166,1,     -999,9,     -999,9,     -999,9,     -999,9,     -999,9,20230809,0528, -31.5126,  86.8628,-999          ,9,-999          ,9
33RR20230722  ,I05        ,68      ,  1,33         ,33         ,2,20230809,0410, -31.5126,  86.8628,     2912,      4.0,2,  17.6296,2,  35.8739,2,     -999,9,    236.9,2,     -999,9,     -999,9,     -999,9,     -999,9,     -999,9,     -999,9,     -999,9,     -999,9,   -999.0,9,     -999,9,     -999,9,     -999,9,     -999,9,  17.6324,2,     -999,9,     -999,9,     -999,1,     -999,9,     -999,9,   4.9750,1,   0.0167,1,     -999,9,     -999,9,     -999,9,     -999,9,     -999,9,20230809,0528, -31.5126,  86.8628,-999          ,9,-999          ,9
33RR20230722  ,I05        ,68      ,  1,29         ,29         ,2,20230809,0410, -31.5126,  86.8628,     2912,      4.0,2,  17.6318,2,  35.8834,2,     -999,9,    236.7,2,     -999,9,     -999,9,     -999,9,     -999,9,     -999,9,     -999,9,     -999,9,     -999,9,   -999.0,9,     -999,9,     -999,9,     -999,9,     -999,9,     -999,1,     -999,9,     -999,9,     -999,9,     -999,9,     -999,9,   4.9699,1,   0.0167,1,     -999,9,     -999,9,     -999,9,     -999,9,     -999,9,20230809,0527, -31.5126,  86.8628,-999          ,9,-999          ,1
33RR20230722  ,I05        ,68      ,  1,28         ,28         ,2,20230809,0410, -31.5126,  86.8628,     2912,      4.1,2,  17.6322,2,  35.8836,2,  35.8827,2,    236.8,2,    235.4,2,     1.27,2,     0.05,2,     0.02,2,     0.14,2,    2.201,2,    1.311,2,   2.1900,2,   2097.7,2,   2359.9,2,   7.9625,2,    25.02,2,     -999,9,  17.6317,2,     -999,9,     -999,9,     -999,9,     -999,9,     -999,1,   4.8928,1,   0.0169,1,      7.8,2,     -999,9,     -999,9,     -999,9,     -999,9,20230809,0527, -31.5126,  86.8628,-999          ,9,-999          ,9
33RR20230722  ,I05        ,68      ,  1,31         ,31         ,2,20230809,0410, -31.5126,  86.8628,     2912,      4.3,2,  17.6317,2,  35.8833,2,     -999,9,    236.7,2,     -999,9,     -999,9,     -999,9,     -999,9,     -999,9,     -999,9,     -999,9,     -999,9,   -999.0,9,     -999,9,     -999,9,     -999,9,     -999,9,  17.6327,2,     -999,1,     -999,1,     -999,9,     -999,9,     -999,9,   4.9749,1,   0.0177,1,     -999,9,     -999,9,     -999,9,     -999,9,     -999,9,20230809,0528, -31.5126,  86.8628,-999          ,9,-999          ,9
33RR20230722  ,I05        ,68      ,  1,30         ,30         ,2,20230809,0410, -31.5126,  86.8628,     2912,      4.4,2,  17.6340,2,  35.8834,2,     -999,9,    236.8,2,     -999,9,     -999,9,     -999,9,     -999,9,     -999,9,     -999,9,     -999,9,     -999,9,   -999.0,9,     -999,9,     -999,9,     -999,9,     -999,9,  17.6322,2,     -999,1,     -999,1,     -999,9,     -999,9,     -999,9,   4.9733,1,   0.0175,1,     -999,9,     -999,9,     -999,9,     -999,9,     -999,9,20230809,0527, -31.5126,  86.8628,-999          ,9,-999          ,9
33RR20230722  ,I05        ,68      ,  1,35         ,35         ,2,20230809,0410, -31.5126,  86.8628,     2912,      4.5,2,  17.6338,2,  35.8831,2,     -999,9,    236.6,2,     -999,9,     -999,9,     -999,9,     -999,9,     -999,9,     -999,9,     -999,9,     -999,9,   -999.0,9,     -999,9,     -999,9,     -999,9,     -999,9,  17.6328,2,     -999,9,     -999,9,     -999,1,     -999,9,     -999,9,   4.9750,1,   0.0153,1,     -999,9,     -999,9,     -999,9,     -999,9,     -999,9,20230809,0529, -31.5126,  86.8628,-999          ,9,-999          ,9
33RR20230722  ,I05        ,68      ,  1,32         ,32         ,2,20230809,0410, -31.5126,  86.8628,     2912,      4.5,2,  17.6345,2,  35.8835,2,     -999,9,    236.8,2,     -999,9,     -999,9,     -999,9,     -999,9,     -999,9,     -999,9,     -999,9,     -999,9,   -999.0,9,     -999,9,     -999,9,     -999,9,     -999,9,     -999,1,     -999,1,     -999,1,     -999,9,     -999,9,     -999,9,   4.9753,1,   0.0176,1,     -999,9,     -999,9,     -999,9,     -999,9,     -999,9,20230809,0528, -31.5126,  86.8628,-999          ,9,-999          ,9
33RR20230722  ,I05        ,68      ,  1,36         ,36         ,2,20230809,0410, -31.5126,  86.8628,     2912,      4.7,2,  17.6311,2,  35.8830,2,     -999,9,    236.7,2,     -999,9,     -999,9,     -999,9,     -999,9,     -999,9,     -999,9,     -999,9,     -999,9,   -999.0,9,     -999,9,     -999,9,     -999,9,     -999,9,     -999,1,     -999,9,     -999,9,     -999,9,     -999,9,     -999,9,   4.8679,1,   0.0165,1,     -999,9,     -999,9,     -999,9,     -999,9,     -999,9,20230809,0529, -31.5126,  86.8628,-999          ,1,-999          ,9
33RR20230722  ,I05        ,68      ,  1,27         ,27         ,2,20230809,0410, -31.5126,  86.8628,     2912,     46.5,2,  17.5360,2,  35.8717,2,  35.8712,2,    236.9,2,    236.2,2,     1.27,2,     0.01,2,     0.02,2,     0.12,2,     -999,9,     -999,9,     -999,9,   -999.0,9,     -999,9,     -999,9,     -999,9,     -999,9,  17.5362,2,     -999,9,     -999,9,     -999,9,     -999,9,     -999,1,   4.9745,1,   0.0277,1,     -999,9,     -999,9,     -999,9,     -999,9,     -999,9,20230809,0524, -31.5126,  86.8628,-999          ,9,-999          ,9
33RR20230722  ,I05        ,68      ,  1,26         ,26         ,2,20230809,0410, -31.5126,  86.8628,     2912,     71.3,2,  17.5085,2,  35.8675,2,  35.8667,2,    236.4,2,    235.8,2,     1.27,2,     0.00,2,     0.02,2,     0.13,2,    2.269,2,    1.315,2,   2.1600,2,   2095.0,2,   2356.2,2,   7.9608,2,    25.01,2,     -999,9,  17.5072,2,     -999,9,     -999,9,     -999,9,     -999,9,     -999,1,   4.9745,1,   0.0308,1,      7.9,2,     -999,9,     -999,9,     -999,9,     -999,9,20230809,0523, -31.5126,  86.8628,-999          ,9,-999          ,9
33RR20230722  ,I05        ,68      ,  1,25         ,25         ,2,20230809,0410, -31.5126,  86.8628,     2912,     94.3,2,  17.4981,2,  35.8654,2,  35.8655,2,    236.4,2,    235.6,2,     1.27,2,     0.00,2,     0.02,2,     0.12,2,     -999,9,     -999,9,     -999,9,   2098.4,2,   2356.3,2,   7.9598,2,    25.01,2,     -999,9,  17.4969,2,     -999,9,     -999,9,     -999,9,     -999,9,     -999,1,   4.9744,1,   0.0325,1,     -999,9,     -999,9,     -999,9,     -999,9,     -999,9,20230809,0521, -31.5126,  86.8628,-999          ,9,-999          ,9
33RR20230722  ,I05        ,68      ,  1,24         ,24         ,2,20230809,0410, -31.5126,  86.8628,     2912,    105.3,2,  17.4978,2,  35.8652,2,     -999,9,    236.1,2,     -999,9,     -999,9,     -999,9,     -999,9,     -999,9,     -999,9,     -999,9,     -999,9,   -999.0,9,     -999,9,     -999,9,     -999,9,     -999,9,  17.4969,2,     -999,9,     -999,9,     -999,9,     -999,9,     -999,9,   4.9741,1,   0.0324,1,     -999,9,     -999,9,     -999,9,     -999,9,     -999,9,20230809,0520, -31.5126,  86.8628,-999          ,9,-999          ,1
33RR20230722  ,I05        ,68      ,  1,23         ,23         ,2,20230809,0410, -31.5126,  86.8628,     2912,    135.7,2,  17.4625,2,  35.8578,2,  35.8566,2,    235.7,2,    235.9,2,     1.27,2,     0.00,2,     0.02,2,     0.13,2,    2.258,2,    1.310,2,   2.1800,2,   2098.1,2,   2355.6,2,   7.9597,2,    25.00,2,     -999,9,  17.4667,2,     -999,9,     -999,9,     -999,9,     -999,9,     -999,1,   4.9738,1,   0.0321,1,      7.8,2,     -999,9,     -999,9,     -999,9,     -999,9,20230809,0518, -31.5126,  86.8628,-999          ,9,-999          ,9
33RR20230722  ,I05        ,68      ,  1,22         ,22         ,2,20230809,0410, -31.5126,  86.8628,     2912,    173.8,2,  16.6905,2,  35.6850,2,  35.6923,2,    233.6,2,    235.3,2,     1.17,2,     0.43,2,     0.08,2,     0.19,2,     -999,9,     -999,9,     -999,9,   -999.0,9,     -999,9,     -999,9,     -999,9,     -999,9,  16.6317,2,     -999,9,     -999,9,     -999,9,     -999,9,     -999,1,   4.9726,1,   0.0173,1,     -999,9,     -999,9,     -999,9,     -999,9,     -999,9,20230809,0517, -31.5126,  86.8628,-999          ,9,-999          ,9
33RR20230722  ,I05        ,68      ,  1,21         ,21         ,2,20230809,0410, -31.5126,  86.8628,     2912,    205.5,2,  14.9144,2,  35.4882,2,     -999,9,    221.6,2,     -999,9,     -999,9,     -999,9,     -999,9,     -999,9,     -999,9,     -999,9,     -999,9,   -999.0,9,     -999,9,     -999,9,     -999,9,     -999,9,  14.9276,2,     -999,9,     -999,9,     -999,9,     -999,9,     -999,9,   4.8395,1,   0.0124,1,     -999,9,     -999,9,     -999,9,     -999,9,     -999,9,20230809,0515, -31.5126,  86.8628,-999          ,9,-999          ,1
33RR20230722  ,I05        ,68      ,  1,20         ,20         ,2,20230809,0410, -31.5126,  86.8628,     2912,    213.8,2,  14.5136,2,  35.4383,2,  35.4399,2,    222.9,2,    224.7,2,     1.76,2,     4.69,2,     0.02,2,     0.45,2,     -999,9,     -999,9,     -999,9,   -999.0,9,     -999,9,     -999,9,     -999,9,     -999,9,  14.5156,2,     -999,9,     -999,9,     -999,9,     -999,9,     -999,1,   4.7814,1,   0.0124,1,     -999,9,     -999,9,     -999,9,     -999,9,     -999,9,20230809,0514, -31.5126,  86.8628,-999          ,9,-999          ,9
33RR20230722  ,I05        ,68      ,  1,19         ,19         ,2,20230809,0410, -31.5126,  86.8628,     2912,    248.2,2,  13.8090,2,  35.3427,2,  35.3425,2,    227.1,2,    228.2,2,     1.85,2,     5.67,2,     0.02,2,     0.51,2,    2.450,2,    1.600,2,   2.3000,2,   2127.0,2,   2326.7,2,   7.8551,2,    25.00,2,     -999,9,  13.7765,2,     -999,9,     -999,9,     -999,9,     -999,9,     -999,1,   4.9688,1,   0.0125,1,     10.4,2,     -999,9,     -999,9,     -999,9,     -999,9,20230809,0513, -31.5126,  86.8628,-999          ,9,-999          ,9
33RR20230722  ,I05        ,68      ,  1,18         ,18         ,2,20230809,0410, -31.5126,  86.8628,     2912,    295.1,2,  11.9394,2,  35.0464,2,  35.0527,2,    229.4,2,    229.8,2,     2.54,2,     9.70,2,     0.01,2,     0.74,2,     -999,9,     -999,9,     -999,9,   -999.0,9,     -999,9,     -999,9,     -999,9,     -999,9,  11.9519,2,     -999,9,     -999,9,     -999,9,     -999,9,     -999,1,   4.9169,1,   0.0114,1,     -999,9,     -999,9,     -999,9,     -999,9,     -999,9,20230809,0511, -31.5126,  86.8628,-999          ,9,-999          ,9
33RR20230722  ,I05        ,68      ,  1,17         ,17         ,2,20230809,0410, -31.5126,  86.8628,     2912,    350.8,2,  10.9450,2,  34.9000,2,  34.9008,2,    235.4,2,    235.0,2,     3.02,2,    11.83,2,     0.00,2,     0.89,2,     -999,9,     -999,9,     -999,9,   2135.8,2,   2301.8,2,   7.7897,2,    25.00,2,     -999,9,  10.9413,2,     -999,9,     -999,9,     -999,9,     -999,9,     -999,1,   4.7633,1,   0.0115,1,     -999,9,     -999,9,     -999,9,     -999,9,     -999,9,20230809,0509, -31.5126,  86.8628,-999          ,9,-999          ,9
33RR20230722  ,I05        ,68      ,  1,16         ,16         ,2,20230809,0410, -31.5126,  86.8628,     2912,    414.7,2,  10.0685,2,  34.7771,2,  34.7791,2,    237.4,2,    236.7,2,     3.81,2,    14.14,2,     0.00,2,     1.03,2,    2.925,2,    1.913,2,   2.2300,2,   -999.0,9,     -999,9,     -999,9,     -999,9,     -999,9,  10.0725,2,     -999,9,     -999,9,     -999,9,     -999,9,     -999,1,   4.9669,1,   0.0115,1,     13.1,2,     -999,9,     -999,9,     -999,9,     -999,9,20230809,0507, -31.5126,  86.8628,-999          ,9,-999          ,9
33RR20230722  ,I05        ,68      ,  1,15         ,15         ,2,20230809,0410, -31.5126,  86.8628,     2912,    485.4,2,   9.4951,2,  34.7006,2,  34.7017,2,    235.2,2,    234.6,2,     4.78,2,    16.22,2,     0.00,2,     1.14,2,     -999,9,     -999,9,     -999,9,   2144.7,2,   2291.8,2,   7.7497,6,    25.01,2,     -999,9,   9.4884,2,     -999,9,     -999,9,     -999,9,     -999,9,     -999,1,   4.8367,1,   0.0115,1,     -999,9,     -999,9,     -999,9,     -999,9,     -999,9,20230809,0505, -31.5126,  86.8628,-999          ,9,-999          ,9
33RR20230722  ,I05        ,68      ,  1,14         ,14         ,2,20230809,0410, -31.5126,  86.8628,     2912,    570.1,2,   8.8116,2,  34.6184,2,  34.6191,2,    224.7,2,    224.6,2,     7.03,2,    19.01,2,     0.00,2,     1.35,2,     -999,9,     -999,9,     -999,9,   -999.0,9,     -999,9,     -999,9,     -999,9,     -999,9,   8.8113,2,     -999,9,     -999,9,     -999,9,     -999,9,     -999,1,   4.9669,1,   0.0115,1,     -999,9,     -999,9,     -999,9,     -999,9,     -999,9,20230809,0503, -31.5126,  86.8628,-999          ,9,-999          ,9
33RR20230722  ,I05        ,68      ,  1,13         ,13         ,2,20230809,0410, -31.5126,  86.8628,     2912,    674.4,2,   7.4115,2,  34.5000,2,  34.5023,2,    202.8,2,    203.8,2,    14.93,2,    24.24,2,     0.00,2,     1.68,2,    2.526,2,    1.512,2,   1.1600,2,   2171.4,2,   2287.7,2,   7.6742,2,    25.02,2,     -999,9,   7.4187,2,     -999,9,     -999,9,     -999,9,     -999,9,     -999,1,   4.7425,1,   0.0113,1,     16.5,2,     -999,9,     -999,9,     -999,9,     -999,9,20230809,0500, -31.5126,  86.8628,-999          ,9,-999          ,9
33RR20230722  ,I05        ,68      ,  1,12         ,12         ,2,20230809,0410, -31.5126,  86.8628,     2912,    876.0,2,   5.0332,2,  34.4233,2,  34.4241,2,    175.5,2,    175.5,2,    40.51,2,    31.37,2,     0.00,2,     2.17,2,     -999,9,     -999,9,     -999,9,   -999.0,9,     -999,9,     -999,9,     -999,9,     -999,9,   5.0308,2,     -999,9,     -999,9,     -999,9,     -999,9,     -999,1,   4.9718,1,   0.0113,1,     -999,9,     -999,9,     -999,9,     -999,9,     -999,9,20230809,0456, -31.5126,  86.8629,-999          ,9,-999          ,9
33RR20230722  ,I05        ,68      ,  1,11         ,11         ,2,20230809,0410, -31.5126,  86.8628,     2912,   1006.4,2,   4.3536,2,  34.4619,2,     -999,9,    160.1,2,     -999,9,     -999,9,     -999,9,     -999,9,     -999,9,     -999,9,     -999,9,     -999,9,   -999.0,9,     -999,9,     -999,9,     -999,9,     -999,9,   4.3502,2,     -999,9,     -999,9,     -999,9,     -999,9,     -999,9,   4.9731,1,   0.0110,1,     -999,9,     -999,9,     -999,9,     -999,9,     -999,9,20230809,0452, -31.5126,  86.8628,-999          ,9,-999          ,1
33RR20230722  ,I05        ,68      ,  1,10         ,10         ,2,20230809,0410, -31.5126,  86.8628,     2912,   1129.2,2,   3.7860,2,  34.4908,2,  34.4926,2,    157.2,2,    157.1,2,    64.81,2,    34.23,2,     0.00,2,     2.41,2,    0.552,2,    0.296,2,   0.1400,2,   -999.0,9,     -999,9,     -999,9,     -999,9,     -999,9,   3.7857,2,     -999,9,     -999,9,     -999,9,     -999,9,     -999,1,   4.6097,1,   0.0117,1,     23.6,2,     -999,9,     -999,9,     -999,9,     -999,9,20230809,0449, -31.5126,  86.8628,-999          ,9,-999          ,9
33RR20230722  ,I05        ,68      ,  1,9          ,9          ,2,20230809,0410, -31.5126,  86.8628,     2912,   1446.2,2,   2.9916,2,  34.5873,2,  34.5883,2,    158.8,2,    158.4,2,    77.79,2,    34.35,2,     0.00,2,     2.42,2,     -999,9,     -999,9,     -999,9,   2262.6,2,   2341.6,2,   7.5639,2,    25.01,2,     -999,9,   2.9888,2,     -999,9,     -999,9,     -999,9,     -999,9,     -999,1,   4.9744,1,   0.0111,1,     -999,9,     -999,9,     -999,9,     -999,9,     -999,9,20230809,0443, -31.5127,  86.8628,-999          ,9,-999          ,9
33RR20230722  ,I05        ,68      ,  1,8          ,8          ,2,20230809,0410, -31.5126,  86.8628,     2912,   1651.8,2,   2.6971,2,  34.6531,2,  34.6541,2,    163.1,2,    162.9,2,    84.71,2,    33.45,2,     0.00,2,     2.35,2,    0.095,2,    0.063,2,   0.1000,2,   -999.0,9,     -999,9,     -999,9,     -999,9,     -999,9,   2.6973,2,     -999,9,     -999,9,     -999,9,     -999,9,     -999,1,   4.8147,1,   0.0112,1,     22.3,2,     -999,9,     -999,9,     -999,9,     -999,9,20230809,0439, -31.5126,  86.8628,-999          ,9,-999          ,9
33RR20230722  ,I05        ,68      ,  1,7          ,7          ,2,20230809,0410, -31.5126,  86.8628,     2912,   1782.2,2,   2.5386,2,  34.6843,3,  34.6946,2,    165.8,2,    165.9,2,    89.59,2,    33.16,2,     0.00,2,     2.33,2,     -999,9,     -999,9,     -999,9,   2265.9,2,   2357.6,2,   7.5830,2,    25.01,2,     -999,9,   2.5386,2,     -999,9,     -999,9,     -999,9,     -999,9,     -999,1,   4.9743,1,   0.0113,1,     -999,9,     -999,9,     -999,9,     -999,9,     -999,9,20230809,0435, -31.5126,  86.8628,-999          ,9,-999          ,9
33RR20230722  ,I05        ,68      ,  1,6          ,6          ,2,20230809,0410, -31.5126,  86.8628,     2912,   2263.5,2,   2.0285,2,  34.7237,2,  34.7245,2,    176.6,2,    176.9,2,   103.35,2,    32.59,2,     0.00,2,     2.28,2,    0.006,2,    0.006,2,  -0.0500,2,   -999.0,9,     -999,9,     -999,9,     -999,9,     -999,9,   2.0300,2,     -999,9,     -999,9,     -999,9,     -999,9,     -999,1,   4.8824,1,   0.0116,1,     19.3,2,     -999,9,     -999,9,     -999,9,     -999,9,20230809,0426, -31.5126,  86.8628,-999          ,9,-999          ,9
33RR20230722  ,I05        ,68      ,  1,5          ,5          ,2,20230809,0410, -31.5126,  86.8628,     2912,   2418.7,2,   1.9025,2,  34.7264,2,  34.7270,2,    180.0,2,    180.2,2,   105.30,2,    32.36,2,     0.00,2,     2.25,2,     -999,9,     -999,9,     -999,9,   2274.0,2,   2372.6,6,   7.6064,2,    24.98,2,     -999,9,   1.9021,2,     -999,9,     -999,9,     -999,9,     -999,9,     -999,1,   4.9746,1,   0.0115,1,     -999,9,     -999,9,     -999,9,     -999,9,     -999,9,20230809,0423, -31.5126,  86.8628,-999          ,9,-999          ,9
33RR20230722  ,I05        ,68      ,  1,4          ,37         ,2,20230809,0410, -31.5126,  86.8628,     2912,   2585.0,2,   1.7971,2,  34.7274,2,  34.7278,2,    182.3,2,    182.6,2,   108.13,2,    32.33,2,     0.00,2,     2.25,2,    0.004,2,    0.005,2,   0.0300,2,   -999.0,9,     -999,9,     -999,9,     -999,9,     -999,9,   1.7968,2,     -999,9,     -999,9,     -999,9,     -999,9,     -999,1,   4.8616,1,   0.0121,1,     19.5,2,     -999,9,     -999,9,     -999,9,     -999,9,20230809,0419, -31.5126,  86.8628,-999          ,9,-999          ,9
33RR20230722  ,I05        ,68      ,  1,3          ,3          ,2,20230809,0410, -31.5126,  86.8628,     2912,   2770.4,2,   1.7221,2,  34.7274,2,  34.7284,2,    184.1,2,    184.1,2,   110.27,2,    32.25,2,     0.00,2,     2.25,2,     -999,9,     -999,9,     -999,9,   2276.4,2,   2374.0,2,   7.6117,6,    25.02,2,     -999,9,   1.7217,2,     -999,9,     -999,9,     -999,9,     -999,9,     -999,1,   4.9745,1,   0.0113,1,     -999,9,     -999,9,     -999,9,     -999,9,     -999,9,20230809,0415, -31.5126,  86.8628,-999          ,9,-999          ,9