BOTTLE,20240422CCHHYDRO
EXPOCODE,SECT_ID,STNNBR,CASTNO,SAMPNO,BTLNBR,BTLNBR_FLAG_W,DATE,TIME,LATITUDE,LONGITUDE,DEPTH,CTDPRS,CTDPRS_FLAG_W,CTDTMP,CTDTMP_FLAG_W,CTDSAL,CTDSAL_FLAG_W,SALNTY,SALNTY_FLAG_W,CTDOXY,CTDOXY_FLAG_W,OXYGEN,OXYGEN_FLAG_W,SILCAT,SILCAT_FLAG_W,NITRAT,NITRAT_FLAG_W,NITRIT,NITRIT_FLAG_W,PHSPHT,PHSPHT_FLAG_W,CFC-11,CFC-11_FLAG_W,CFC-12,CFC-12_FLAG_W,SF6,SF6_FLAG_W,TCARBN,TCARBN_FLAG_W,ALKALI,ALKALI_FLAG_W,PH_TOT,PH_TOT_FLAG_W,PH_TMP,PH_TMP_FLAG_W,DOC,DOC_FLAG_W,REFTMP,REFTMP_FLAG_W,POC,POC_FLAG_W,PON,PON_FLAG_W,POP,POP_FLAG_W,DOP,DOP_FLAG_W,DELO18,DELO18_FLAG_W,CTDFLUOR,CTDFLUOR_FLAG_W,CTDXMISS,CTDXMISS_FLAG_W,N2O,N2O_FLAG_W,D15N_NO3,D15N_NO3_FLAG_W,D15N_NO2+NO3,D15N_NO2+NO3_FLAG_W,D18O_NO2+NO3,D18O_NO2+NO3_FLAG_W,D18O_NO3,D18O_NO3_FLAG_W,BTL_DATE,BTL_TIME,BTL_LAT,BTL_LON,HPLC,HPLC_FLAG_W,DNA,DNA_FLAG_W
,,,,,,,,,,,METERS,DBAR,,ITS-90,,PSS-78,,PSS-78,,UMOL/KG,,UMOL/KG,,UMOL/KG,,UMOL/KG,,UMOL/KG,,UMOL/KG,,PMOL/KG,,PMOL/KG,,FMOL/KG,,UMOL/KG,,UMOL/KG,,,,DEG C,,UMOL/KG,,ITS-90,,UG/KG,,UG/KG,,UG/L,,UMOL/KG,,/MILLE,,VOLTS,,VOLTS,,NMOL/KG,,/MILLE,,/MILLE,,/MILLE,,/MILLE,,,,,,,,,
33RR20230722  ,I05        ,109     ,  1,36         ,38         ,2,20230820,0256, -34.0005,  66.8382,     4699,      5.6,2,  16.2153,2,  35.4339,2,  35.4334,2,    246.3,2,    245.9,2,     1.07,2,     0.08,2,     0.00,2,     0.18,2,    1.226,3,    1.194,2,   2.3300,2,   2079.2,2,   2327.9,6,   7.9441,2,    25.04,2,     -999,1,  16.2134,2,     -999,9,     -999,9,     -999,9,     -999,9,     -999,1,   4.9486,1,   0.0168,1,      8.4,2,     -999,9,     -999,9,     -999,9,     -999,9,20230820,0457, -34.0005,  66.8382,-999          ,9,-999          ,9
33RR20230722  ,I05        ,109     ,  1,35         ,35         ,2,20230820,0256, -34.0005,  66.8382,     4699,     24.3,2,  16.2121,2,  35.4338,2,  35.4336,2,    245.9,2,    246.2,2,     0.98,2,     0.02,2,     0.00,2,     0.17,2,     -999,9,     -999,9,     -999,9,   -999.0,9,     -999,9,     -999,9,     -999,9,     -999,9,  16.2113,2,     -999,9,     -999,9,     -999,9,     -999,9,     -999,1,   4.9752,1,   0.0240,1,     -999,9,     -999,9,     -999,9,     -999,9,     -999,9,20230820,0454, -34.0005,  66.8383,-999          ,9,-999          ,9
33RR20230722  ,I05        ,109     ,  1,34         ,34         ,2,20230820,0256, -34.0005,  66.8382,     4699,     41.8,2,  16.2124,2,  35.4343,2,  35.4336,2,    245.8,2,    246.0,2,     0.98,2,     0.00,2,     0.00,2,     0.17,2,    2.035,3,    1.580,2,   2.4100,2,   2079.0,2,   2326.9,2,   7.9437,6,    25.04,2,     -999,9,  16.2113,2,     -999,9,     -999,9,     -999,9,     -999,9,     -999,1,   4.9751,1,   0.0266,1,      8.4,2,     -999,9,     -999,9,     -999,9,     -999,9,20230820,0453, -34.0005,  66.8383,-999          ,9,-999          ,9
33RR20230722  ,I05        ,109     ,  1,33         ,33         ,2,20230820,0256, -34.0005,  66.8382,     4699,     63.0,2,  16.2144,2,  35.4349,2,  35.4350,2,    245.5,2,    245.9,2,     0.98,2,     0.00,2,     0.01,2,     0.16,2,     -999,9,     -999,9,     -999,9,   2082.2,2,   2327.3,2,   7.9446,2,    25.04,2,     -999,9,  16.2126,2,     -999,9,     -999,9,     -999,9,     -999,9,     -999,1,   4.8628,1,   0.0289,1,     -999,9,     -999,9,     -999,9,     -999,9,     -999,9,20230820,0451, -34.0005,  66.8383,-999          ,9,-999          ,9
33RR20230722  ,I05        ,109     ,  1,32         ,32         ,2,20230820,0256, -34.0005,  66.8382,     4699,     85.1,2,  15.6551,2,  35.4088,2,  35.4076,2,    240.1,2,    241.4,2,     1.37,2,     1.18,2,     0.23,2,     0.24,2,    1.729,2,    1.531,2,   2.3700,2,   2089.6,2,   2325.2,2,   7.9222,2,    25.05,2,     -999,9,  15.6526,2,     -999,9,     -999,9,     -999,9,     -999,9,     -999,1,   4.9292,1,   0.0351,1,      8.9,2,     -999,9,     -999,9,     -999,9,     -999,9,20230820,0449, -34.0005,  66.8383,-999          ,9,-999          ,9
33RR20230722  ,I05        ,109     ,  1,31         ,31         ,2,20230820,0256, -34.0005,  66.8382,     4699,    108.0,2,  14.7135,2,  35.3448,2,  35.3504,2,    235.1,2,    235.6,2,     1.95,2,     3.88,2,     0.17,2,     0.42,2,     -999,9,     -999,9,     -999,9,   -999.0,9,     -999,9,     -999,9,     -999,9,     -999,9,  14.7375,2,     -999,9,     -999,9,     -999,9,     -999,9,     -999,1,   4.9710,1,   0.0272,1,     -999,9,     -999,9,     -999,9,     -999,9,     -999,9,20230820,0447, -34.0005,  66.8383,-999          ,9,-999          ,9
33RR20230722  ,I05        ,109     ,  1,30         ,30         ,2,20230820,0256, -34.0005,  66.8382,     4699,    138.8,2,  13.8469,2,  35.3022,2,  35.3041,2,    229.3,2,    229.8,2,     2.93,2,     6.78,2,     0.02,2,     0.57,2,    2.994,3,    1.717,2,   2.3800,2,   2116.8,2,   2317.6,2,   7.8535,2,    25.03,2,     -999,9,  13.8574,2,     -999,9,     -999,9,     -999,9,     -999,9,     -999,1,   4.9694,1,   0.0144,1,     10.3,2,     -999,9,     -999,9,     -999,9,     -999,9,20230820,0446, -34.0005,  66.8382,-999          ,9,-999          ,9
33RR20230722  ,I05        ,109     ,  1,29         ,29         ,2,20230820,0256, -34.0005,  66.8382,     4699,    167.9,2,  13.6480,2,  35.2939,2,  35.2909,2,    229.2,2,    231.1,2,     3.22,2,     7.33,2,     0.00,2,     0.60,2,     -999,9,     -999,9,     -999,9,   -999.0,9,     -999,9,     -999,9,     -999,9,     -999,9,  13.6471,2,     -999,9,     -999,9,     -999,9,     -999,9,     -999,1,   4.9693,1,   0.0121,1,     -999,9,     -999,9,     -999,9,     -999,9,     -999,9,20230820,0444, -34.0005,  66.8382,-999          ,9,-999          ,9
33RR20230722  ,I05        ,109     ,  1,28         ,28         ,2,20230820,0256, -34.0005,  66.8382,     4699,    199.6,2,  13.2651,2,  35.2426,2,  35.2444,2,    234.7,2,    234.7,2,     2.93,2,     7.59,2,     0.00,2,     0.61,2,    1.673,2,    1.638,2,   2.3200,2,   2118.6,2,   2314.8,2,   7.8448,2,    25.04,2,     -999,9,  13.2769,2,     -999,9,     -999,9,     -999,9,     -999,9,     -999,1,   4.9693,1,   0.0122,1,     10.6,2,     -999,9,     -999,9,     -999,9,     -999,9,20230820,0442, -34.0005,  66.8383,-999          ,9,-999          ,9
33RR20230722  ,I05        ,109     ,  1,27         ,27         ,2,20230820,0256, -34.0005,  66.8382,     4699,    235.9,2,  13.1011,2,  35.2234,2,  35.2243,2,    235.3,2,    235.5,2,     3.22,2,     8.08,2,     0.00,2,     0.64,2,    1.798,2,    1.475,2,   2.3800,2,   2121.2,2,   2315.7,2,   7.8412,6,    25.03,2,     -999,9,  13.1084,2,     -999,9,     -999,9,     -999,9,     -999,9,     -999,1,   4.9691,1,   0.0118,1,     10.4,2,     -999,9,     -999,9,     -999,9,     -999,9,20230820,0441, -34.0005,  66.8382,-999          ,9,-999          ,9
33RR20230722  ,I05        ,109     ,  1,26         ,26         ,2,20230820,0256, -34.0005,  66.8382,     4699,    273.5,2,  12.9204,2,  35.1978,2,  35.1943,2,    236.4,2,    236.1,2,     3.22,2,     8.37,2,     0.00,2,     0.66,2,    2.147,2,    1.602,2,   2.4300,2,   2122.4,2,   2312.6,2,   7.8368,2,    25.03,2,     -999,9,  12.9201,2,     -999,9,     -999,9,     -999,9,     -999,9,     -999,1,   4.9685,1,   0.0114,1,     10.6,2,     -999,9,     -999,9,     -999,9,     -999,9,20230820,0439, -34.0005,  66.8383,-999          ,9,-999          ,9
33RR20230722  ,I05        ,109     ,  1,25         ,25         ,2,20230820,0256, -34.0005,  66.8382,     4699,    317.8,2,  12.6826,2,  35.1624,2,  35.1628,2,    238.3,2,    237.4,2,     3.12,2,     8.71,2,     0.00,2,     0.68,2,    1.827,2,    1.563,2,   2.3000,2,   2123.3,2,   2311.3,2,   7.8327,2,    25.02,2,     -999,9,  12.6819,2,     -999,9,     -999,9,     -999,9,     -999,9,     -999,1,   4.9686,1,   0.0116,1,     10.9,2,     -999,9,     -999,9,     -999,9,     -999,9,20230820,0437, -34.0005,  66.8383,-999          ,9,-999          ,9
33RR20230722  ,I05        ,109     ,  1,24         ,24         ,2,20230820,0256, -34.0005,  66.8382,     4699,    378.9,2,  12.2668,2,  35.0942,2,  35.0953,2,    233.3,2,    233.2,2,     3.61,2,    10.16,2,     0.00,2,     0.79,2,     -999,9,     -999,9,     -999,9,   -999.0,9,     -999,9,     -999,9,     -999,9,     -999,9,  12.2682,2,     -999,9,     -999,9,     -999,9,     -999,9,     -999,1,   4.9679,1,   0.0114,1,     -999,9,     -999,9,     -999,9,     -999,9,     -999,9,20230820,0435, -34.0005,  66.8382,-999          ,9,-999          ,9
33RR20230722  ,I05        ,109     ,  1,23         ,23         ,2,20230820,0256, -34.0005,  66.8382,     4699,    444.0,2,  11.8680,2,  35.0302,2,  35.0309,2,    234.8,2,    234.3,2,     3.71,2,    11.05,2,     0.00,2,     0.83,2,    2.340,6,    1.562,2,   2.2000,6,   2128.0,2,   2304.1,2,   7.8081,2,    25.04,2,     -999,9,  11.8687,2,     -999,9,     -999,9,     -999,9,     -999,9,     -999,1,   4.9528,1,   0.0113,1,     11.4,6,     -999,9,     -999,9,     -999,9,     -999,9,20230820,0433, -34.0005,  66.8383,-999          ,9,-999          ,9
33RR20230722  ,I05        ,109     ,  1,22         ,22         ,2,20230820,0256, -34.0005,  66.8382,     4699,    524.1,2,  11.3617,2,  34.9512,2,  34.9441,2,    232.4,2,    231.2,2,     4.20,2,    12.61,2,     0.00,2,     0.92,2,    2.580,2,    1.808,2,   2.0900,2,   2132.7,2,   2299.8,2,   7.7929,2,    25.05,2,     -999,9,  11.3587,2,     -999,9,     -999,9,     -999,9,     -999,9,     -999,1,   4.9254,1,   0.0114,1,     11.8,2,     -999,9,     -999,9,     -999,9,     -999,9,20230820,0430, -34.0005,  66.8383,-999          ,9,-999          ,9
33RR20230722  ,I05        ,109     ,  1,21         ,21         ,2,20230820,0256, -34.0005,  66.8382,     4699,    618.3,2,  10.2741,2,  34.7998,2,  34.7988,2,    222.7,2,    223.7,2,     5.66,2,    15.80,2,     0.00,2,     1.13,2,     -999,9,     -999,9,     -999,9,   -999.0,9,     -999,9,     -999,9,     -999,9,     -999,9,  10.2673,2,     -999,9,     -999,9,     -999,9,     -999,9,     -999,1,   4.9665,1,   0.0113,1,     -999,9,     -999,9,     -999,9,     -999,9,     -999,9,20230820,0427, -34.0005,  66.8382,-999          ,9,-999          ,9
33RR20230722  ,I05        ,109     ,  1,20         ,20         ,2,20230820,0256, -34.0005,  66.8382,     4699,    714.3,2,   9.2865,2,  34.6812,2,  34.6765,2,    214.8,2,    215.2,2,     8.00,2,    18.92,2,     0.00,2,     1.32,2,    2.076,2,    1.441,2,   1.3600,2,   2148.6,2,   2289.6,2,   7.7276,2,    25.03,2,     -999,9,   9.2842,2,     -999,9,     -999,9,     -999,9,     -999,9,     -999,1,   4.9681,1,   0.0116,1,     14.3,2,     -999,9,     -999,9,     -999,9,     -999,9,20230820,0424, -34.0005,  66.8383,-999          ,9,-999          ,9
33RR20230722  ,I05        ,109     ,  1,19         ,19         ,2,20230820,0256, -34.0005,  66.8382,     4699,    828.5,2,   7.6637,2,  34.5255,2,  34.5231,2,    205.1,2,    206.0,2,    14.15,2,    23.69,2,     0.00,2,     1.64,2,    2.323,2,    1.648,2,   1.2400,2,   2169.2,2,   2286.8,2,   7.6797,2,    25.01,2,     -999,9,   7.6505,2,     -999,9,     -999,9,     -999,9,     -999,9,     -999,1,   4.9438,1,   0.0112,1,     16.4,2,     -999,9,     -999,9,     -999,9,     -999,9,20230820,0421, -34.0005,  66.8383,-999          ,9,-999          ,9
33RR20230722  ,I05        ,109     ,  1,18         ,18         ,2,20230820,0256, -34.0005,  66.8382,     4699,    955.3,2,   6.1233,2,  34.4102,2,  34.4108,2,    203.8,2,    203.8,2,    21.28,2,    27.32,2,     0.00,2,     1.87,2,    2.043,2,    1.476,2,   0.9600,2,   2180.3,2,   2287.7,2,   7.6443,2,    25.02,2,     -999,9,   6.1228,2,     -999,9,     -999,9,     -999,9,     -999,9,     -999,1,   4.8457,1,   0.0111,1,     18.1,2,     -999,9,     -999,9,     -999,9,     -999,9,20230820,0418, -34.0005,  66.8383,-999          ,9,-999          ,9
33RR20230722  ,I05        ,109     ,  1,17         ,17         ,2,20230820,0256, -34.0005,  66.8382,     4699,   1067.9,2,   4.8745,2,  34.3630,2,  34.3631,2,    200.4,2,    200.5,2,    30.75,2,    30.07,2,     0.00,2,     2.07,2,    2.676,2,    1.243,2,   0.7000,2,   2195.8,2,   2293.2,2,   7.6168,2,    25.00,2,     -999,9,   4.9000,2,     -999,9,     -999,9,     -999,9,     -999,9,     -999,1,   4.9418,1,   0.0111,1,     19.4,2,     -999,9,     -999,9,     -999,9,     -999,9,20230820,0415, -34.0005,  66.8383,-999          ,9,-999          ,9
33RR20230722  ,I05        ,109     ,  1,16         ,16         ,2,20230820,0256, -34.0005,  66.8382,     4699,   1197.6,2,   3.9926,2,  34.3846,2,  34.3849,2,    190.2,2,    190.1,2,    43.64,2,    32.24,2,     0.00,2,     2.25,2,     -999,9,     -999,9,     -999,9,   2213.8,2,   2305.3,2,   7.5917,2,    25.02,2,     -999,9,   3.9919,2,     -999,9,     -999,9,     -999,9,     -999,9,     -999,1,   4.6739,1,   0.0118,1,     -999,9,     -999,9,     -999,9,     -999,9,     -999,9,20230820,0412, -34.0006,  66.8383,-999          ,9,-999          ,9
33RR20230722  ,I05        ,109     ,  1,15         ,15         ,2,20230820,0256, -34.0005,  66.8382,     4699,   1329.7,2,   3.5431,2,  34.4364,2,  34.4355,2,    179.1,2,    179.1,2,    54.08,2,    33.43,2,     0.00,2,     2.32,2,    0.885,2,    0.594,2,   0.2500,2,   2233.4,2,   2313.6,2,   7.5764,2,    25.01,2,     -999,9,   3.5404,2,     -999,9,     -999,9,     -999,9,     -999,9,     -999,1,   4.9263,1,   0.0111,1,     22.1,2,     -999,9,     -999,9,     -999,9,     -999,9,20230820,0409, -34.0005,  66.8383,-999          ,9,-999          ,9
33RR20230722  ,I05        ,109     ,  1,14         ,14         ,2,20230820,0256, -34.0005,  66.8382,     4699,   1459.2,2,   3.2044,2,  34.4975,2,  34.4981,2,    171.9,2,    172.3,2,    62.77,2,    33.91,2,     0.00,2,     2.37,2,    0.665,2,    0.402,2,   0.0900,2,   2241.7,6,   2324.4,2,   7.5686,2,    25.02,2,     -999,9,   3.2049,2,     -999,9,     -999,9,     -999,9,     -999,9,     -999,1,   4.9737,1,   0.0112,1,     22.5,2,     -999,9,     -999,9,     -999,9,     -999,9,20230820,0405, -34.0005,  66.8383,-999          ,9,-999          ,9
33RR20230722  ,I05        ,109     ,  1,13         ,13         ,2,20230820,0256, -34.0005,  66.8382,     4699,   1602.1,2,   2.9688,2,  34.5556,2,  34.5565,2,    169.4,2,    169.3,2,    68.82,2,    33.80,2,     0.00,2,     2.37,2,     -999,9,     -999,9,     -999,9,   -999.0,9,     -999,9,     -999,9,     -999,9,     -999,9,   2.9661,2,     -999,9,     -999,9,     -999,9,     -999,9,     -999,1,   4.8202,1,   0.0111,1,     -999,9,     -999,9,     -999,9,     -999,9,     -999,9,20230820,0402, -34.0006,  66.8383,-999          ,9,-999          ,9
33RR20230722  ,I05        ,109     ,  1,12         ,12         ,2,20230820,0256, -34.0005,  66.8382,     4699,   1796.4,2,   2.6751,2,  34.6348,2,  34.6345,2,    173.3,2,    173.4,2,    74.57,2,    32.93,2,     0.00,2,     2.29,2,    0.317,2,    0.114,2,   0.0900,2,   2252.0,2,   2337.1,2,   7.5797,6,    25.02,2,     -999,9,   2.6758,2,     -999,9,     -999,9,     -999,9,     -999,9,     -999,1,   4.9742,1,   0.0112,1,     21.7,2,     -999,9,     -999,9,     -999,9,     -999,9,20230820,0358, -34.0006,  66.8382,-999          ,9,-999          ,9
33RR20230722  ,I05        ,109     ,  1,11         ,11         ,2,20230820,0256, -34.0005,  66.8382,     4699,   1910.9,2,   2.5364,2,  34.6712,2,  34.6712,2,    177.5,2,    177.8,2,    77.11,2,    32.26,2,     0.00,2,     2.24,2,     -999,9,     -999,9,     -999,9,   -999.0,9,     -999,9,     -999,9,     -999,9,     -999,9,   2.5361,2,     -999,9,     -999,9,     -999,9,     -999,9,     -999,1,   4.9742,1,   0.0113,1,     -999,9,     -999,9,     -999,9,     -999,9,     -999,9,20230820,0354, -34.0005,  66.8383,-999          ,9,-999          ,9
33RR20230722  ,I05        ,109     ,  1,10         ,10         ,2,20230820,0256, -34.0005,  66.8382,     4699,   2117.2,2,   2.2910,2,  34.7098,2,  34.7095,2,    181.2,2,    181.2,2,    86.57,2,    31.77,2,     0.00,2,     2.22,2,    0.132,2,    0.042,2,   0.0100,2,   2254.5,2,   2351.7,6,   7.6031,6,    25.02,2,     -999,9,   2.2922,2,     -999,9,     -999,9,     -999,9,     -999,9,     -999,1,   4.8130,1,   0.0118,1,     19.9,2,     -999,9,     -999,9,     -999,9,     -999,9,20230820,0350, -34.0006,  66.8383,-999          ,9,-999          ,9
33RR20230722  ,I05        ,109     ,  1,9          ,9          ,2,20230820,0256, -34.0005,  66.8382,     4699,   2367.0,2,   2.0752,2,  34.7231,2,  34.7233,2,    178.6,2,    178.5,2,   100.72,2,    32.34,2,     0.00,2,     2.25,2,    0.033,2,    0.009,2,   0.0500,2,   2268.9,2,   2365.1,2,   7.6057,2,    25.01,2,     -999,9,   2.0754,2,     -999,9,     -999,9,     -999,9,     -999,9,     -999,1,   4.8317,1,   0.0116,1,     20.0,2,     -999,9,     -999,9,     -999,9,     -999,9,20230820,0345, -34.0005,  66.8383,-999          ,9,-999          ,9
33RR20230722  ,I05        ,109     ,  1,8          ,8          ,2,20230820,0256, -34.0005,  66.8382,     4699,   2661.4,2,   1.8966,2,  34.7269,2,  34.7264,2,    177.0,2,    177.0,2,   111.07,2,    32.91,2,     0.00,2,     2.30,2,     -999,9,     -999,9,     -999,9,   -999.0,9,     -999,9,     -999,9,     -999,9,     -999,9,   1.8955,2,     -999,9,     -999,9,     -999,9,     -999,9,     -999,1,   4.8462,1,   0.0112,1,     -999,9,     -999,9,     -999,9,     -999,9,     -999,9,20230820,0339, -34.0005,  66.8383,-999          ,9,-999          ,9
33RR20230722  ,I05        ,109     ,  1,7          ,7          ,2,20230820,0256, -34.0005,  66.8382,     4699,   2990.5,2,   1.7376,2,  34.7257,2,  34.7262,2,    178.7,2,    178.6,2,   116.93,2,    33.14,2,     0.00,2,     2.32,2,    0.020,2,    0.005,2,   0.0600,2,   2281.3,2,   2380.4,2,   7.6061,2,    25.02,2,     -999,9,   1.7365,2,     -999,9,     -999,9,     -999,9,     -999,9,     -999,1,   4.7936,1,   0.0111,1,     19.9,2,     -999,9,     -999,9,     -999,9,     -999,9,20230820,0332, -34.0005,  66.8383,-999          ,9,-999          ,9
33RR20230722  ,I05        ,109     ,  1,6          ,6          ,2,20230820,0256, -34.0005,  66.8382,     4699,   3332.0,2,   1.5438,2,  34.7214,2,  34.7215,2,    183.8,2,    183.8,2,   120.54,2,    33.02,2,     0.00,2,     2.32,2,     -999,9,     -999,9,     -999,9,   -999.0,9,     -999,9,     -999,9,     -999,9,     -999,9,   1.5433,2,     -999,9,     -999,9,     -999,9,     -999,9,     -999,1,   4.8009,1,   0.0121,1,     -999,9,     -999,9,     -999,9,     -999,9,     -999,9,20230820,0325, -34.0005,  66.8383,-999          ,9,-999          ,9
33RR20230722  ,I05        ,109     ,  1,5          ,5          ,2,20230820,0256, -34.0005,  66.8382,     4699,   3673.1,2,   1.2490,2,  34.7124,2,  34.7117,2,    194.0,2,    194.2,2,   123.37,2,    32.86,2,     0.00,2,     2.29,2,    0.065,2,    0.016,2,   0.0500,2,   2272.1,2,   2373.4,2,   7.6099,2,    25.02,2,     -999,9,   1.2490,2,     -999,9,     -999,9,     -999,9,     -999,9,     -999,1,   4.9761,1,   0.0118,1,     19.2,2,     -999,9,     -999,9,     -999,9,     -999,9,20230820,0318, -34.0005,  66.8383,-999          ,9,-999          ,9
33RR20230722  ,I05        ,109     ,  1,4          ,37         ,2,20230820,0256, -34.0005,  66.8382,     4699,   3981.3,2,   0.9304,2,  34.7012,2,  34.7013,2,    204.2,2,    204.3,2,   126.98,2,    32.77,2,     0.00,2,     2.26,2,    0.120,2,    0.055,2,   0.0900,2,   2266.2,2,   2369.0,2,   7.6100,2,    25.04,2,     -999,9,   0.9331,2,     -999,9,     -999,9,     -999,9,     -999,9,     -999,1,   4.9764,1,   0.0110,1,     18.4,2,     -999,9,     -999,9,     -999,9,     -999,9,20230820,0312, -34.0006,  66.8383,-999          ,9,-999          ,9
33RR20230722  ,I05        ,109     ,  1,3          ,3          ,2,20230820,0256, -34.0005,  66.8382,     4699,   4255.3,2,   0.7723,2,  34.6941,2,  34.6942,2,    209.4,2,    209.7,2,   129.13,2,    32.57,2,     0.00,2,     2.26,2,    0.113,2,    0.050,2,   0.0400,2,   2267.2,2,   2368.0,2,   7.6134,2,    25.00,2,     -999,9,   0.7718,2,     -999,9,     -999,9,     -999,9,     -999,9,     -999,1,   4.9763,1,   0.0111,1,     18.3,2,     -999,9,     -999,9,     -999,9,     -999,9,20230820,0307, -34.0005,  66.8383,-999          ,9,-999          ,9