BOTTLE,20240422CCHHYDRO
EXPOCODE,SECT_ID,STNNBR,CASTNO,SAMPNO,BTLNBR,BTLNBR_FLAG_W,DATE,TIME,LATITUDE,LONGITUDE,DEPTH,CTDPRS,CTDPRS_FLAG_W,CTDTMP,CTDTMP_FLAG_W,CTDSAL,CTDSAL_FLAG_W,SALNTY,SALNTY_FLAG_W,CTDOXY,CTDOXY_FLAG_W,OXYGEN,OXYGEN_FLAG_W,SILCAT,SILCAT_FLAG_W,NITRAT,NITRAT_FLAG_W,NITRIT,NITRIT_FLAG_W,PHSPHT,PHSPHT_FLAG_W,CFC-11,CFC-11_FLAG_W,CFC-12,CFC-12_FLAG_W,SF6,SF6_FLAG_W,TCARBN,TCARBN_FLAG_W,ALKALI,ALKALI_FLAG_W,PH_TOT,PH_TOT_FLAG_W,PH_TMP,PH_TMP_FLAG_W,DOC,DOC_FLAG_W,REFTMP,REFTMP_FLAG_W,POC,POC_FLAG_W,PON,PON_FLAG_W,POP,POP_FLAG_W,DOP,DOP_FLAG_W,DELO18,DELO18_FLAG_W,CTDFLUOR,CTDFLUOR_FLAG_W,CTDXMISS,CTDXMISS_FLAG_W,N2O,N2O_FLAG_W,D15N_NO3,D15N_NO3_FLAG_W,D15N_NO2+NO3,D15N_NO2+NO3_FLAG_W,D18O_NO2+NO3,D18O_NO2+NO3_FLAG_W,D18O_NO3,D18O_NO3_FLAG_W,BTL_DATE,BTL_TIME,BTL_LAT,BTL_LON,HPLC,HPLC_FLAG_W,DNA,DNA_FLAG_W
,,,,,,,,,,,METERS,DBAR,,ITS-90,,PSS-78,,PSS-78,,UMOL/KG,,UMOL/KG,,UMOL/KG,,UMOL/KG,,UMOL/KG,,UMOL/KG,,PMOL/KG,,PMOL/KG,,FMOL/KG,,UMOL/KG,,UMOL/KG,,,,DEG C,,UMOL/KG,,ITS-90,,UG/KG,,UG/KG,,UG/L,,UMOL/KG,,/MILLE,,VOLTS,,VOLTS,,NMOL/KG,,/MILLE,,/MILLE,,/MILLE,,/MILLE,,,,,,,,,
33RR20230722  ,I05        ,41      ,  1,16         ,16         ,2,20230802,1159, -32.7910, 100.2042,     4310,      7.2,2,  15.8773,2,  35.7503,2,  35.7485,2,    243.1,2,    243.3,2,     1.27,2,     0.36,2,     0.04,2,     0.08,2,    2.498,2,    1.409,2,   2.3300,2,   2093.8,2,   2349.8,2,   7.9467,2,    24.97,2,     -999,1,  15.8756,2,     -999,9,     -999,9,     -999,9,     -999,9,     -999,1,   4.9474,1,   0.0506,1,      8.5,2,     -999,9,     -999,9,     -999,9,     -999,9,20230802,1333, -32.7910, 100.2042,-999          ,9,-999          ,9
33RR20230722  ,I05        ,41      ,  1,15         ,15         ,2,20230802,1159, -32.7910, 100.2042,     4310,    100.0,2,  15.3351,2,  35.6814,2,  35.6798,2,    243.9,2,    243.8,2,     1.17,2,     0.68,2,     0.16,2,     0.11,2,     -999,9,     -999,9,     -999,9,   -999.0,9,     -999,9,     -999,9,     -999,9,     -999,9,  15.3343,2,     -999,9,     -999,9,     -999,9,     -999,9,     -999,1,   4.9736,1,   0.0269,1,     -999,9,     -999,9,     -999,9,     -999,9,     -999,9,20230802,1328, -32.7910, 100.2042,-999          ,9,-999          ,9
33RR20230722  ,I05        ,41      ,  1,14         ,14         ,2,20230802,1159, -32.7910, 100.2042,     4310,    205.5,2,  13.1040,2,  35.2356,3,  35.2582,2,    234.9,2,    236.4,2,     1.37,2,     5.56,2,     0.01,2,     0.43,2,    2.646,2,    1.625,2,   2.5900,2,   2121.8,2,   2321.5,2,   7.8567,2,    24.98,2,     -999,9,  13.1783,2,     -999,9,     -999,9,     -999,9,     -999,9,     -999,1,   4.9695,1,   0.0116,1,     10.4,2,     -999,9,     -999,9,     -999,9,     -999,9,20230802,1325, -32.7911, 100.2042,-999          ,9,-999          ,9
33RR20230722  ,I05        ,41      ,  1,13         ,13         ,2,20230802,1159, -32.7910, 100.2042,     4310,    332.7,2,  11.2976,2,  34.9462,2,  34.9482,2,    244.9,2,    243.7,2,     2.34,2,     9.71,2,     0.00,2,     0.68,2,     -999,9,     -999,9,     -999,9,   2129.0,2,   2304.4,2,   7.8090,2,    24.96,2,     -999,9,  11.3124,2,     -999,9,     -999,9,     -999,9,     -999,9,     -999,1,   4.9685,1,   0.0116,1,     -999,9,     -999,9,     -999,9,     -999,9,     -999,9,20230802,1321, -32.7911, 100.2042,-999          ,9,-999          ,9
33RR20230722  ,I05        ,41      ,  1,12         ,12         ,2,20230802,1159, -32.7910, 100.2042,     4310,    502.5,2,   9.8722,2,  34.7370,2,  34.7355,2,    237.2,2,    237.0,2,     3.90,2,    14.77,2,     0.00,2,     1.01,2,     -999,9,     -999,9,     -999,9,   -999.0,9,     -999,9,     -999,9,     -999,9,     -999,9,   9.8688,2,     -999,9,     -999,9,     -999,9,     -999,9,     -999,1,   4.9667,1,   0.0115,1,     -999,9,     -999,9,     -999,9,     -999,9,     -999,9,20230802,1317, -32.7910, 100.2042,-999          ,9,-999          ,9
33RR20230722  ,I05        ,41      ,  1,11         ,11         ,2,20230802,1159, -32.7910, 100.2042,     4310,    660.4,2,   8.9507,2,  34.6280,2,  34.6264,2,    231.5,2,    232.3,2,     5.66,2,    17.85,2,     0.00,2,     1.20,2,    3.095,2,    1.927,2,   2.0600,2,   2148.5,2,   2287.5,2,   7.7338,2,    24.96,2,     -999,9,   8.9470,2,     -999,9,     -999,9,     -999,9,     -999,9,     -999,1,   4.9667,1,   0.0112,1,     14.0,2,     -999,9,     -999,9,     -999,9,     -999,9,20230802,1313, -32.7911, 100.2042,-999          ,9,-999          ,9
33RR20230722  ,I05        ,41      ,  1,10         ,10         ,2,20230802,1159, -32.7910, 100.2042,     4310,    957.9,2,   5.2067,2,  34.3835,2,  34.3831,2,    192.1,2,    192.4,2,    30.35,2,    29.80,2,     0.00,2,     2.02,2,     -999,9,     -999,9,     -999,9,   2199.1,2,   2296.1,2,   7.6183,6,    24.97,2,     -999,9,   5.2038,2,     -999,9,     -999,9,     -999,9,     -999,9,     -999,1,   4.9706,1,   0.0112,1,     -999,9,     -999,9,     -999,9,     -999,9,     -999,9,20230802,1308, -32.7911, 100.2042,-999          ,9,-999          ,9
33RR20230722  ,I05        ,41      ,  1,9          ,9          ,2,20230802,1159, -32.7910, 100.2042,     4310,   1323.5,2,   3.5163,2,  34.5096,2,  34.5080,2,    156.4,2,    156.2,2,    68.70,2,    34.48,2,     0.00,2,     2.38,2,     -999,9,     -999,9,     -999,9,   -999.0,9,     -999,9,     -999,9,     -999,9,     -999,9,   3.5150,2,     -999,9,     -999,9,     -999,9,     -999,9,     -999,1,   4.9742,1,   0.0118,1,     -999,9,     -999,9,     -999,9,     -999,9,     -999,9,20230802,1300, -32.7910, 100.2042,-999          ,9,-999          ,9
33RR20230722  ,I05        ,41      ,  1,8          ,8          ,2,20230802,1159, -32.7910, 100.2042,     4310,   1739.9,2,   2.7856,2,  34.6444,2,  34.6419,2,    157.0,2,    157.2,2,    86.16,2,    34.03,2,     0.00,2,     2.33,2,    0.031,2,    0.043,2,   0.0000,2,   2270.7,2,   2351.9,6,   7.5702,2,    24.98,2,     -999,9,   2.7911,2,     -999,9,     -999,9,     -999,9,     -999,9,     -999,1,   4.9752,1,   0.0122,1,     23.9,2,     -999,9,     -999,9,     -999,9,     -999,9,20230802,1252, -32.7910, 100.2042,-999          ,9,-999          ,9
33RR20230722  ,I05        ,41      ,  1,7          ,7          ,2,20230802,1159, -32.7910, 100.2042,     4310,   2157.1,2,   2.3055,2,  34.7145,3,  34.7125,2,    176.2,2,    176.3,2,    89.87,2,    32.06,2,     0.00,2,     2.21,2,    0.011,2,    0.028,2,   0.0000,2,   2263.5,2,   2355.0,2,   7.5980,2,    24.97,2,     -999,9,   2.3033,2,     -999,9,     -999,9,     -999,9,     -999,9,     -999,1,   4.8780,1,   0.0118,1,     21.6,2,     -999,9,     -999,9,     -999,9,     -999,9,20230802,1244, -32.7910, 100.2042,-999          ,9,-999          ,9
33RR20230722  ,I05        ,41      ,  1,6          ,6          ,2,20230802,1159, -32.7910, 100.2042,     4310,   2864.8,2,   1.6368,2,  34.7368,2,  34.7355,2,    196.3,2,    196.3,2,   101.48,2,    31.03,2,     0.00,2,     2.14,2,     -999,9,     -999,9,     -999,9,   -999.0,9,     -999,9,     -999,9,     -999,9,     -999,9,   1.6365,2,     -999,9,     -999,9,     -999,9,     -999,9,     -999,1,   4.9750,1,   0.0117,1,     -999,9,     -999,9,     -999,9,     -999,9,     -999,9,20230802,1231, -32.7911, 100.2042,-999          ,9,-999          ,9
33RR20230722  ,I05        ,41      ,  1,5          ,5          ,2,20230802,1159, -32.7910, 100.2042,     4310,   3301.2,2,   1.2838,2,  34.7252,2,  34.7248,2,    201.3,2,    201.5,2,   111.62,2,    31.61,2,     0.00,2,     2.17,2,    0.036,2,    0.034,2,   0.0500,2,   2264.4,2,   2366.6,2,   7.6183,2,    24.99,2,     -999,9,   1.2858,2,     -999,9,     -999,9,     -999,9,     -999,9,     -999,1,   4.9758,1,   0.0116,1,     19.7,2,     -999,9,     -999,9,     -999,9,     -999,9,20230802,1222, -32.7910, 100.2042,-999          ,9,-999          ,9
33RR20230722  ,I05        ,41      ,  1,4          ,37         ,2,20230802,1159, -32.7910, 100.2042,     4310,   3657.9,2,   1.2225,2,  34.7212,2,  34.7217,2,    202.1,2,    202.2,2,   114.06,2,    31.73,2,     0.00,2,     2.19,2,     -999,9,     -999,9,     -999,9,   -999.0,9,     -999,9,     -999,9,     -999,9,     -999,9,   1.2234,2,     -999,9,     -999,9,     -999,9,     -999,9,     -999,1,   4.9758,1,   0.0111,1,     -999,9,     -999,9,     -999,9,     -999,9,     -999,9,20230802,1215, -32.7910, 100.2042,-999          ,9,-999          ,9
33RR20230722  ,I05        ,41      ,  1,3          ,3          ,2,20230802,1159, -32.7910, 100.2042,     4310,   4101.3,2,   1.1558,2,  34.7165,2,  34.7158,2,    203.4,2,    203.5,2,   116.60,2,    31.83,2,     0.00,2,     2.19,2,    0.040,2,    0.040,2,   0.0500,2,   2268.2,2,   2370.5,2,   7.6170,2,    24.99,2,     -999,9,   1.1569,2,     -999,9,     -999,9,     -999,9,     -999,9,     -999,1,   4.9763,1,   0.0116,1,     18.8,2,     -999,9,     -999,9,     -999,9,     -999,9,20230802,1207, -32.7911, 100.2042,-999          ,9,-999          ,9
33RR20230722  ,I05        ,41      ,  1,2          ,2          ,2,20230802,1159, -32.7910, 100.2042,     4310,   4202.3,2,   1.1477,2,  34.7156,2,  34.7142,2,    203.7,2,    203.9,2,   117.38,2,    32.14,2,     0.00,2,     2.20,2,    0.056,2,    0.047,2,   0.0400,2,   2268.4,2,   2371.2,2,   7.6212,6,    24.97,2,     -999,9,   1.1479,2,     -999,9,     -999,9,     -999,9,     -999,9,     -999,1,   4.9762,1,   0.0112,1,     18.9,2,     -999,9,     -999,9,     -999,9,     -999,9,20230802,1204, -32.7910, 100.2042,-999          ,9,-999          ,9
33RR20230722  ,I05        ,41      ,  1,1          ,1          ,2,20230802,1159, -32.7910, 100.2042,     4310,   4376.1,2,   1.0801,2,  34.7115,2,  34.7125,2,    204.8,2,    204.9,2,   117.97,2,    31.94,2,     0.00,2,     2.20,2,    0.084,2,    0.053,2,   0.0500,2,   2269.5,6,   2371.6,2,   7.6211,2,    24.97,2,     -999,9,   1.0795,2,     -999,9,     -999,9,     -999,9,     -999,9,     -999,1,   0.4603,1,   0.0111,1,     19.4,2,     -999,9,     -999,9,     -999,9,     -999,9,20230802,1159, -32.7910, 100.2042,-999          ,9,-999          ,9