BOTTLE,20240422CCHHYDRO
EXPOCODE,SECT_ID,STNNBR,CASTNO,SAMPNO,BTLNBR,BTLNBR_FLAG_W,DATE,TIME,LATITUDE,LONGITUDE,DEPTH,CTDPRS,CTDPRS_FLAG_W,CTDTMP,CTDTMP_FLAG_W,CTDSAL,CTDSAL_FLAG_W,SALNTY,SALNTY_FLAG_W,CTDOXY,CTDOXY_FLAG_W,OXYGEN,OXYGEN_FLAG_W,SILCAT,SILCAT_FLAG_W,NITRAT,NITRAT_FLAG_W,NITRIT,NITRIT_FLAG_W,PHSPHT,PHSPHT_FLAG_W,CFC-11,CFC-11_FLAG_W,CFC-12,CFC-12_FLAG_W,SF6,SF6_FLAG_W,TCARBN,TCARBN_FLAG_W,ALKALI,ALKALI_FLAG_W,PH_TOT,PH_TOT_FLAG_W,PH_TMP,PH_TMP_FLAG_W,DOC,DOC_FLAG_W,REFTMP,REFTMP_FLAG_W,POC,POC_FLAG_W,PON,PON_FLAG_W,POP,POP_FLAG_W,DOP,DOP_FLAG_W,DELO18,DELO18_FLAG_W,CTDFLUOR,CTDFLUOR_FLAG_W,CTDXMISS,CTDXMISS_FLAG_W,N2O,N2O_FLAG_W,D15N_NO3,D15N_NO3_FLAG_W,D15N_NO2+NO3,D15N_NO2+NO3_FLAG_W,D18O_NO2+NO3,D18O_NO2+NO3_FLAG_W,D18O_NO3,D18O_NO3_FLAG_W,BTL_DATE,BTL_TIME,BTL_LAT,BTL_LON,HPLC,HPLC_FLAG_W,DNA,DNA_FLAG_W
,,,,,,,,,,,METERS,DBAR,,ITS-90,,PSS-78,,PSS-78,,UMOL/KG,,UMOL/KG,,UMOL/KG,,UMOL/KG,,UMOL/KG,,UMOL/KG,,PMOL/KG,,PMOL/KG,,FMOL/KG,,UMOL/KG,,UMOL/KG,,,,DEG C,,UMOL/KG,,ITS-90,,UG/KG,,UG/KG,,UG/L,,UMOL/KG,,/MILLE,,VOLTS,,VOLTS,,NMOL/KG,,/MILLE,,/MILLE,,/MILLE,,/MILLE,,,,,,,,,
33RR20230722  ,I05        ,17      ,  1,36         ,36         ,2,20230726,2337, -31.4986, 108.9899,     5201,      7.4,2,  18.5283,2,  35.6715,2,  35.6702,2,    231.2,2,    230.6,2,     3.02,2,     0.06,2,     0.00,2,     0.09,2,     -999,9,     -999,9,     -999,9,   2059.0,2,   2341.1,2,   7.9963,2,    25.02,2,     -999,1,  18.5287,2,     -999,9,     -999,9,     -999,9,     -999,9,     -999,9,   4.9752,1,   0.0296,1,     -999,9,     -999,9,     -999,9,     -999,9,     -999,1,20230727,0147, -31.4986, 108.9899,-999          ,9,-999          ,9
33RR20230722  ,I05        ,17      ,  1,35         ,35         ,2,20230726,2337, -31.4986, 108.9899,     5201,     23.5,2,  18.4508,2,  35.6761,2,  35.6751,2,    231.5,2,    231.3,2,     2.93,2,     0.02,2,     0.00,2,     0.07,2,     -999,9,     -999,9,     -999,9,   -999.0,9,     -999,9,     -999,9,     -999,9,     -999,9,  18.4454,2,     -999,9,     -999,9,     -999,9,     -999,9,     -999,9,   4.9755,1,   0.0315,1,     -999,9,     -999,9,     -999,9,     -999,9,     -999,1,20230727,0145, -31.4986, 108.9899,-999          ,9,-999          ,9
33RR20230722  ,I05        ,17      ,  1,34         ,34         ,2,20230726,2337, -31.4986, 108.9899,     5201,     37.3,2,  18.1547,2,  35.6921,2,  35.6893,2,    232.9,2,    232.7,2,     2.83,2,     0.01,2,     0.00,2,     0.07,2,     -999,9,     -999,9,     -999,9,   -999.0,9,     -999,9,     -999,9,     -999,9,     -999,9,  18.2171,2,     -999,9,     -999,9,     -999,9,     -999,9,     -999,9,   4.9754,1,   0.0264,1,     -999,9,     -999,9,     -999,9,     -999,9,     -999,1,20230727,0143, -31.4986, 108.9899,-999          ,9,-999          ,9
33RR20230722  ,I05        ,17      ,  1,33         ,33         ,2,20230726,2337, -31.4986, 108.9899,     5201,     56.1,2,  17.4626,2,  35.7337,2,  35.7325,2,    237.0,2,    236.5,2,     2.63,2,     0.00,2,     0.00,2,     0.08,2,     -999,9,     -999,9,     -999,9,   2075.1,2,   2346.0,2,   7.9809,2,    24.98,2,     -999,9,  17.4631,2,     -999,9,     -999,9,     -999,9,     -999,9,     -999,9,   4.8113,1,   0.0295,1,     -999,9,     -999,9,     -999,9,     -999,9,     -999,1,20230727,0142, -31.4986, 108.9899,-999          ,9,-999          ,9
33RR20230722  ,I05        ,17      ,  1,32         ,32         ,2,20230726,2337, -31.4986, 108.9899,     5201,     74.2,2,  16.8445,2,  35.7217,2,  35.7203,2,    239.4,2,    238.3,2,     2.44,2,     0.09,2,     0.03,2,     0.11,2,     -999,9,     -999,9,     -999,9,   -999.0,9,     -999,9,     -999,9,     -999,9,     -999,9,  16.8459,2,     -999,9,     -999,9,     -999,9,     -999,9,     -999,9,   4.9748,1,   0.0334,1,     -999,9,     -999,9,     -999,9,     -999,9,     -999,1,20230727,0140, -31.4986, 108.9899,-999          ,9,-999          ,9
33RR20230722  ,I05        ,17      ,  1,31         ,31         ,2,20230726,2337, -31.4986, 108.9899,     5201,     91.1,2,  16.2764,2,  35.6770,2,  35.6763,2,    233.1,2,    234.2,2,     2.24,2,     0.72,2,     0.11,2,     0.18,2,     -999,9,     -999,9,     -999,9,   2093.7,6,   2344.0,2,   7.9438,2,    24.99,2,     -999,9,  16.2687,2,     -999,9,     -999,9,     -999,9,     -999,9,     -999,9,   4.9732,1,   0.0260,1,     -999,9,     -999,9,     -999,9,     -999,9,     -999,1,20230727,0138, -31.4986, 108.9899,-999          ,9,-999          ,9
33RR20230722  ,I05        ,17      ,  1,30         ,30         ,2,20230726,2337, -31.4986, 108.9899,     5201,    112.6,2,  16.2816,2,  35.7352,2,  35.7321,2,    238.7,2,    238.8,2,     2.05,2,     0.24,2,     0.09,2,     0.13,2,     -999,9,     -999,9,     -999,9,   -999.0,9,     -999,9,     -999,9,     -999,9,     -999,9,  16.2801,2,     -999,9,     -999,9,     -999,9,     -999,9,     -999,9,   4.7383,1,   0.0260,1,     -999,9,     -999,9,     -999,9,     -999,9,     -999,1,20230727,0136, -31.4986, 108.9899,-999          ,9,-999          ,9
33RR20230722  ,I05        ,17      ,  1,29         ,29         ,2,20230726,2337, -31.4986, 108.9899,     5201,    130.8,2,  16.0971,2,  35.7205,2,  35.7207,2,    239.3,2,    239.5,2,     2.15,2,     0.32,2,     0.09,2,     0.13,2,     -999,9,     -999,9,     -999,9,   2094.1,2,   2347.9,2,   7.9488,2,    25.00,2,     -999,9,  16.0828,2,     -999,9,     -999,9,     -999,9,     -999,9,     -999,9,   4.9736,1,   0.0252,1,     -999,9,     -999,9,     -999,9,     -999,9,     -999,1,20230727,0135, -31.4986, 108.9899,-999          ,9,-999          ,9
33RR20230722  ,I05        ,17      ,  1,28         ,28         ,2,20230726,2337, -31.4986, 108.9899,     5201,    159.4,2,  15.5226,2,  35.6381,2,  35.6374,2,    237.3,2,    238.2,2,     2.24,2,     1.06,2,     0.14,2,     0.20,2,     -999,9,     -999,9,     -999,9,   -999.0,9,     -999,9,     -999,9,     -999,9,     -999,9,  15.5168,2,     -999,9,     -999,9,     -999,9,     -999,9,     -999,9,   4.9723,1,   0.0149,1,     -999,9,     -999,9,     -999,9,     -999,9,     -999,1,20230727,0133, -31.4986, 108.9899,-999          ,9,-999          ,9
33RR20230722  ,I05        ,17      ,  1,27         ,27         ,2,20230726,2337, -31.4986, 108.9899,     5201,    186.3,2,  14.9116,2,  35.5400,2,  35.5409,2,    237.9,2,    238.3,2,     2.05,2,     2.09,2,     0.10,2,     0.26,2,     -999,9,     -999,9,     -999,9,   2104.3,2,   2338.6,2,   7.9116,6,    25.01,2,     -999,9,  14.9058,2,     -999,9,     -999,9,     -999,9,     -999,9,     -999,9,   4.9701,1,   0.0140,1,     -999,9,     -999,9,     -999,9,     -999,9,     -999,1,20230727,0132, -31.4986, 108.9899,-999          ,9,-999          ,9
33RR20230722  ,I05        ,17      ,  1,26         ,26         ,2,20230726,2337, -31.4986, 108.9899,     5201,    207.5,2,  14.1152,2,  35.3699,2,  35.3614,2,    233.3,2,    234.8,2,     1.66,2,     3.81,2,     0.02,2,     0.38,2,     -999,9,     -999,9,     -999,9,   -999.0,9,     -999,9,     -999,9,     -999,9,     -999,9,  13.9970,2,     -999,9,     -999,9,     -999,9,     -999,9,     -999,9,   4.3722,1,   0.0114,1,     -999,9,     -999,9,     -999,9,     -999,9,     -999,1,20230727,0130, -31.4986, 108.9899,-999          ,9,-999          ,9
33RR20230722  ,I05        ,17      ,  1,25         ,25         ,2,20230726,2337, -31.4986, 108.9899,     5201,    241.0,2,  13.0852,2,  35.1958,2,  35.1995,2,    237.4,2,    237.8,2,     2.05,2,     5.50,2,     0.01,2,     0.50,2,     -999,9,     -999,9,     -999,9,   2117.2,2,   2319.6,2,   7.8551,2,    25.00,2,     -999,9,  13.0897,2,     -999,9,     -999,9,     -999,9,     -999,9,     -999,9,   4.9696,1,   0.0114,1,     -999,9,     -999,9,     -999,9,     -999,9,     -999,1,20230727,0129, -31.4986, 108.9899,-999          ,9,-999          ,9
33RR20230722  ,I05        ,17      ,  1,24         ,24         ,2,20230726,2337, -31.4986, 108.9899,     5201,    280.9,2,  11.8251,2,  34.9934,2,  34.9939,2,    241.0,2,    240.9,2,     2.34,2,     8.36,2,     0.00,2,     0.65,2,     -999,9,     -999,9,     -999,9,   -999.0,9,     -999,9,     -999,9,     -999,9,     -999,9,  11.8295,2,     -999,9,     -999,9,     -999,9,     -999,9,     -999,9,   4.9692,1,   0.0114,1,     -999,9,     -999,9,     -999,9,     -999,9,     -999,1,20230727,0127, -31.4986, 108.9899,-999          ,9,-999          ,9
33RR20230722  ,I05        ,17      ,  1,23         ,23         ,2,20230726,2337, -31.4986, 108.9899,     5201,    326.4,2,  10.8184,2,  34.8454,2,  34.8475,2,    244.8,2,    244.0,2,     3.03,2,    11.11,2,     0.00,2,     0.82,2,     -999,9,     -999,9,     -999,9,   2128.7,2,   2300.9,6,   7.7943,6,    24.99,2,     -999,9,  10.8156,2,     -999,9,     -999,9,     -999,9,     -999,9,     -999,9,   4.8806,1,   0.0112,1,     -999,9,     -999,9,     -999,9,     -999,9,     -999,1,20230727,0125, -31.4986, 108.9899,-999          ,9,-999          ,9
33RR20230722  ,I05        ,17      ,  1,22         ,22         ,2,20230726,2337, -31.4986, 108.9899,     5201,    388.4,2,  10.1599,2,  34.7533,2,  34.7537,2,    246.6,2,    245.1,2,     3.51,2,    13.30,2,     0.00,2,     0.98,2,     -999,9,     -999,9,     -999,9,   -999.0,9,     -999,9,     -999,9,     -999,9,     -999,9,  10.1585,2,     -999,9,     -999,9,     -999,9,     -999,9,     -999,9,   4.8792,1,   0.0114,1,     -999,9,     -999,9,     -999,9,     -999,9,     -999,1,20230727,0123, -31.4986, 108.9899,-999          ,9,-999          ,9
33RR20230722  ,I05        ,17      ,  1,21         ,21         ,2,20230726,2337, -31.4986, 108.9899,     5201,    503.4,2,   9.7538,2,  34.7453,2,  34.7498,2,    236.6,2,    236.1,2,     4.30,2,    15.48,2,     0.00,2,     1.09,2,     -999,9,     -999,9,     -999,9,   -999.0,9,     -999,9,     -999,9,     -999,9,     -999,9,   9.7747,2,     -999,9,     -999,9,     -999,9,     -999,9,     -999,9,   4.9669,1,   0.0115,1,     -999,9,     -999,9,     -999,9,     -999,9,     -999,1,20230727,0120, -31.4986, 108.9899,-999          ,9,-999          ,9
33RR20230722  ,I05        ,17      ,  1,20         ,20         ,2,20230726,2337, -31.4986, 108.9899,     5201,    604.8,2,   9.0719,2,  34.6523,2,  34.6515,2,    235.8,2,    236.3,2,     5.76,2,    17.59,2,     0.00,2,     1.22,2,     -999,9,     -999,9,     -999,9,   -999.0,9,     -999,9,     -999,9,     -999,9,     -999,9,   9.0641,2,     -999,9,     -999,9,     -999,9,     -999,9,     -999,9,   4.9666,1,   0.0109,1,     -999,9,     -999,9,     -999,9,     -999,9,     -999,1,20230727,0117, -31.4986, 108.9899,-999          ,9,-999          ,9
33RR20230722  ,I05        ,17      ,  1,19         ,19         ,2,20230726,2337, -31.4986, 108.9899,     5201,    674.9,2,   8.2125,2,  34.5453,2,  34.5425,2,    219.9,2,    220.5,2,     9.67,2,    21.10,2,     0.00,2,     1.45,2,     -999,9,     -999,9,     -999,9,   2154.3,2,   2287.8,2,   7.7037,6,    25.00,2,     -999,9,   8.2014,2,     -999,9,     -999,9,     -999,9,     -999,9,     -999,9,   4.9514,1,   0.0114,1,     -999,9,     -999,9,     -999,9,     -999,9,     -999,1,20230727,0115, -31.4986, 108.9899,-999          ,9,-999          ,9
33RR20230722  ,I05        ,17      ,  1,18         ,18         ,2,20230726,2337, -31.4986, 108.9899,     5201,    787.1,2,   6.3703,2,  34.4210,2,  34.4214,2,    197.6,2,    198.5,2,    21.77,2,    27.22,2,     0.00,2,     1.86,2,     -999,9,     -999,9,     -999,9,   -999.0,9,     -999,9,     -999,9,     -999,9,     -999,9,   6.3894,2,     -999,9,     -999,9,     -999,9,     -999,9,     -999,9,   4.9696,1,   0.0114,1,     -999,9,     -999,9,     -999,9,     -999,9,     -999,1,20230727,0112, -31.4986, 108.9899,-999          ,9,-999          ,9
33RR20230722  ,I05        ,17      ,  1,17         ,17         ,2,20230726,2337, -31.4986, 108.9899,     5201,    964.7,2,   4.3508,2,  34.3815,2,  34.3843,2,    188.6,2,    189.1,2,    42.28,2,    31.75,2,     0.00,2,     2.18,2,     -999,9,     -999,9,     -999,9,   -999.0,9,     -999,9,     -999,9,     -999,9,     -999,9,   4.3510,2,     -999,9,     -999,9,     -999,9,     -999,9,     -999,9,   4.9343,1,   0.0113,1,     -999,9,     -999,9,     -999,9,     -999,9,     -999,1,20230727,0108, -31.4987, 108.9899,-999          ,9,-999          ,9
33RR20230722  ,I05        ,17      ,  1,16         ,16         ,2,20230726,2337, -31.4986, 108.9899,     5201,   1071.6,2,   3.7237,2,  34.4309,2,  34.4320,2,    175.2,2,    175.1,2,    55.17,2,    33.40,2,     0.00,2,     2.30,2,     -999,9,     -999,9,     -999,9,   -999.0,9,     -999,9,     -999,9,     -999,9,     -999,9,   3.7235,2,     -999,9,     -999,9,     -999,9,     -999,9,     -999,9,   4.9731,1,   0.0112,1,     -999,9,     -999,9,     -999,9,     -999,9,     -999,1,20230727,0105, -31.4986, 108.9899,-999          ,9,-999          ,9
33RR20230722  ,I05        ,17      ,  1,15         ,15         ,2,20230726,2337, -31.4986, 108.9899,     5201,   1227.2,2,   3.3467,2,  34.5025,2,  34.5027,2,    161.4,2,    161.5,2,    71.37,2,    34.60,2,     0.00,2,     2.41,2,     -999,9,     -999,9,     -999,9,   2249.2,2,   2332.2,2,   7.5616,2,    25.00,2,     -999,9,   3.3482,2,     -999,9,     -999,9,     -999,9,     -999,9,     -999,9,   4.9739,1,   0.0112,1,     -999,9,     -999,9,     -999,9,     -999,9,     -999,1,20230727,0101, -31.4986, 108.9899,-999          ,9,-999          ,9
33RR20230722  ,I05        ,17      ,  1,14         ,14         ,2,20230726,2337, -31.4986, 108.9899,     5201,   1383.6,2,   3.0632,2,  34.5666,2,  34.5673,2,    155.8,2,    155.4,2,    80.64,2,    34.75,2,     0.00,2,     2.43,2,     -999,9,     -999,9,     -999,9,   2261.6,2,   2343.2,2,   7.5602,2,    25.00,2,     -999,9,   3.0628,2,     -999,9,     -999,9,     -999,9,     -999,9,     -999,9,   4.9751,1,   0.0117,1,     -999,9,     -999,9,     -999,9,     -999,9,     -999,1,20230727,0057, -31.4986, 108.9898,-999          ,9,-999          ,9
33RR20230722  ,I05        ,17      ,  1,13         ,13         ,2,20230726,2337, -31.4986, 108.9899,     5201,   1516.0,2,   2.8967,2,  34.6092,2,  34.6093,2,    155.1,2,    154.8,2,    85.81,2,    34.52,2,     0.00,2,     2.44,2,     -999,9,     -999,9,     -999,9,   -999.0,9,     -999,9,     -999,9,     -999,9,     -999,9,   2.8972,2,     -999,9,     -999,9,     -999,9,     -999,9,     -999,9,   4.9749,1,   0.0110,1,     -999,9,     -999,9,     -999,9,     -999,9,     -999,1,20230727,0054, -31.4986, 108.9899,-999          ,9,-999          ,9
33RR20230722  ,I05        ,17      ,  1,12         ,12         ,2,20230726,2337, -31.4986, 108.9899,     5201,   1670.3,2,   2.7210,2,  34.6537,2,  34.6537,2,    156.7,2,    156.5,2,    92.25,2,    34.10,2,     0.00,2,     2.42,2,     -999,9,     -999,9,     -999,9,   -999.0,9,     -999,9,     -999,9,     -999,9,     -999,9,   2.7208,2,     -999,9,     -999,9,     -999,9,     -999,9,     -999,9,   4.9749,1,   0.0117,1,     -999,9,     -999,9,     -999,9,     -999,9,     -999,1,20230727,0050, -31.4986, 108.9899,-999          ,9,-999          ,9
33RR20230722  ,I05        ,17      ,  1,11         ,11         ,2,20230726,2337, -31.4986, 108.9899,     5201,   1880.0,2,   2.5013,2,  34.6914,2,  34.6910,2,    161.9,2,    161.7,2,    98.01,2,    33.61,2,     0.00,2,     2.41,2,     -999,9,     -999,9,     -999,9,   2271.2,2,   2363.5,2,   7.5806,2,    24.99,2,     -999,9,   2.5012,2,     -999,9,     -999,9,     -999,9,     -999,9,     -999,9,   4.9596,1,   0.0117,1,     -999,9,     -999,9,     -999,9,     -999,9,     -999,1,20230727,0046, -31.4986, 108.9899,-999          ,9,-999          ,9
33RR20230722  ,I05        ,17      ,  1,10         ,10         ,2,20230726,2337, -31.4986, 108.9899,     5201,   2150.0,2,   2.2537,2,  34.7164,2,  34.7166,2,    167.6,2,    167.9,2,   105.52,2,    33.09,2,     0.00,2,     2.38,2,     -999,9,     -999,9,     -999,9,   -999.0,9,     -999,9,     -999,9,     -999,9,     -999,9,   2.2542,2,     -999,9,     -999,9,     -999,9,     -999,9,     -999,9,   4.7614,1,   0.0112,1,     -999,9,     -999,9,     -999,9,     -999,9,     -999,1,20230727,0040, -31.4986, 108.9899,-999          ,9,-999          ,9
33RR20230722  ,I05        ,17      ,  1,9          ,9          ,2,20230726,2337, -31.4986, 108.9899,     5201,   2373.5,2,   2.0729,2,  34.7274,2,  34.7268,2,    176.5,2,    176.8,2,   106.99,2,    32.39,2,     0.00,2,     2.32,2,     -999,9,     -999,9,     -999,9,   2269.3,2,   2369.6,2,   7.6019,2,    25.00,2,     -999,9,   2.0733,2,     -999,9,     -999,9,     -999,9,     -999,9,     -999,9,   4.7056,1,   0.0113,1,     -999,9,     -999,9,     -999,9,     -999,9,     -999,1,20230727,0035, -31.4987, 108.9899,-999          ,9,-999          ,9
33RR20230722  ,I05        ,17      ,  1,8          ,8          ,2,20230726,2337, -31.4986, 108.9899,     5201,   2735.5,2,   1.8104,2,  34.7349,2,  34.7349,2,    188.1,2,    188.2,2,   107.28,2,    31.79,2,     0.00,2,     2.25,2,     -999,9,     -999,9,     -999,9,   -999.0,9,     -999,9,     -999,9,     -999,9,     -999,9,   1.8108,2,     -999,9,     -999,9,     -999,9,     -999,9,     -999,9,   4.6685,1,   0.0111,1,     -999,9,     -999,9,     -999,9,     -999,9,     -999,1,20230727,0028, -31.4986, 108.9899,-999          ,9,-999          ,9
33RR20230722  ,I05        ,17      ,  1,7          ,7          ,2,20230726,2337, -31.4986, 108.9899,     5201,   3239.1,2,   1.4800,2,  34.7306,2,  34.7298,2,    195.7,2,    195.8,2,   112.65,2,    31.92,2,     0.00,2,     2.24,2,     -999,9,     -999,9,     -999,9,   2264.6,2,   2368.2,6,   7.6168,2,    24.99,2,     -999,9,   1.4822,2,     -999,9,     -999,9,     -999,9,     -999,9,     -999,9,   4.9365,1,   0.0111,1,     -999,9,     -999,9,     -999,9,     -999,9,     -999,1,20230727,0018, -31.4987, 108.9899,-999          ,9,-999          ,9
33RR20230722  ,I05        ,17      ,  1,6          ,6          ,2,20230726,2337, -31.4986, 108.9899,     5201,   3587.6,2,   1.3082,2,  34.7245,2,  34.7243,2,    199.7,2,    199.8,2,   118.21,2,    32.00,2,     0.00,2,     2.25,2,     -999,9,     -999,9,     -999,9,   -999.0,9,     -999,9,     -999,9,     -999,9,     -999,9,   1.3085,2,     -999,9,     -999,9,     -999,9,     -999,9,     -999,9,   4.9761,1,   0.0116,1,     -999,9,     -999,9,     -999,9,     -999,9,     -999,1,20230727,0011, -31.4986, 108.9899,-999          ,9,-999          ,9
33RR20230722  ,I05        ,17      ,  1,5          ,5          ,2,20230726,2337, -31.4986, 108.9899,     5201,   3815.8,2,   1.2048,2,  34.7175,2,  34.7168,2,    196.1,2,    196.4,2,   125.24,2,    32.57,2,     0.00,2,     2.28,2,    0.039,3,   -0.022,2,  -0.0700,2,   2279.3,3,   2381.9,2,   7.6201,2,    24.99,2,     -999,9,   1.2051,2,     -999,9,     -999,9,     -999,9,     -999,9,     -999,9,   4.9764,1,   0.0111,1,     15.7,2,     -999,9,     -999,9,     -999,9,     -999,1,20230727,0006, -31.4986, 108.9899,-999          ,9,-999          ,9
33RR20230722  ,I05        ,17      ,  1,4          ,4          ,2,20230726,2337, -31.4986, 108.9899,     5201,   4128.3,2,   1.1115,2,  34.7138,2,  34.7138,2,    200.9,2,    200.9,2,   125.44,2,    32.47,2,     0.00,2,     2.25,2,    0.063,3,   -0.022,2,  -0.0100,2,   -999.0,9,     -999,9,     -999,9,     -999,9,     -999,9,   1.1119,2,     -999,9,     -999,9,     -999,9,     -999,9,     -999,9,   4.9765,1,   0.0118,1,     16.0,2,     -999,9,     -999,9,     -999,9,     -999,1,20230727,0000, -31.4986, 108.9899,-999          ,9,-999          ,9
33RR20230722  ,I05        ,17      ,  1,3          ,3          ,2,20230726,2337, -31.4986, 108.9899,     5201,   4638.0,2,   1.0541,2,  34.7096,2,  34.7097,2,    204.1,2,    204.3,2,   125.93,2,    32.45,2,     0.00,2,     2.27,2,    0.039,3,   -0.022,2,  -0.0100,2,   2273.7,3,   2377.1,2,   7.6217,2,    25.01,2,     -999,9,   1.0546,2,     -999,9,     -999,9,     -999,9,     -999,9,     -999,9,   4.9770,1,   0.0111,1,     16.1,2,     -999,9,     -999,9,     -999,9,     -999,1,20230726,2351, -31.4986, 108.9899,-999          ,9,-999          ,9