BOTTLE,20240422CCHHYDRO
EXPOCODE,SECT_ID,STNNBR,CASTNO,SAMPNO,BTLNBR,BTLNBR_FLAG_W,DATE,TIME,LATITUDE,LONGITUDE,DEPTH,CTDPRS,CTDPRS_FLAG_W,CTDTMP,CTDTMP_FLAG_W,CTDSAL,CTDSAL_FLAG_W,SALNTY,SALNTY_FLAG_W,CTDOXY,CTDOXY_FLAG_W,OXYGEN,OXYGEN_FLAG_W,SILCAT,SILCAT_FLAG_W,NITRAT,NITRAT_FLAG_W,NITRIT,NITRIT_FLAG_W,PHSPHT,PHSPHT_FLAG_W,CFC-11,CFC-11_FLAG_W,CFC-12,CFC-12_FLAG_W,SF6,SF6_FLAG_W,TCARBN,TCARBN_FLAG_W,ALKALI,ALKALI_FLAG_W,PH_TOT,PH_TOT_FLAG_W,PH_TMP,PH_TMP_FLAG_W,DOC,DOC_FLAG_W,REFTMP,REFTMP_FLAG_W,POC,POC_FLAG_W,PON,PON_FLAG_W,POP,POP_FLAG_W,DOP,DOP_FLAG_W,DELO18,DELO18_FLAG_W,CTDFLUOR,CTDFLUOR_FLAG_W,CTDXMISS,CTDXMISS_FLAG_W,N2O,N2O_FLAG_W,D15N_NO3,D15N_NO3_FLAG_W,D15N_NO2+NO3,D15N_NO2+NO3_FLAG_W,D18O_NO2+NO3,D18O_NO2+NO3_FLAG_W,D18O_NO3,D18O_NO3_FLAG_W,BTL_DATE,BTL_TIME,BTL_LAT,BTL_LON,HPLC,HPLC_FLAG_W,DNA,DNA_FLAG_W
,,,,,,,,,,,METERS,DBAR,,ITS-90,,PSS-78,,PSS-78,,UMOL/KG,,UMOL/KG,,UMOL/KG,,UMOL/KG,,UMOL/KG,,UMOL/KG,,PMOL/KG,,PMOL/KG,,FMOL/KG,,UMOL/KG,,UMOL/KG,,,,DEG C,,UMOL/KG,,ITS-90,,UG/KG,,UG/KG,,UG/L,,UMOL/KG,,/MILLE,,VOLTS,,VOLTS,,NMOL/KG,,/MILLE,,/MILLE,,/MILLE,,/MILLE,,,,,,,,,
33RR20230722  ,I05        ,55      ,  1,36         ,36         ,2,20230806,0345, -33.3115,  93.4183,     4306,      6.3,2,  15.6138,2,  35.6170,2,     -999,9,    244.9,2,     -999,9,     -999,9,     -999,9,     -999,9,     -999,9,     -999,9,     -999,9,     -999,9,   -999.0,9,     -999,9,     -999,9,     -999,9,     -999,9,     -999,1,     -999,9,     -999,9,     -999,9,     -999,9,     -999,9,   4.9751,1,   0.0262,1,     -999,9,     -999,9,     -999,9,     -999,9,     -999,9,20230806,0532, -33.3115,  93.4183,-999          ,9,-999          ,1
33RR20230722  ,I05        ,55      ,  1,35         ,35         ,2,20230806,0345, -33.3115,  93.4183,     4306,      7.7,2,  15.6146,2,  35.6170,2,  35.6188,2,    245.0,2,    245.6,2,     0.98,2,     0.84,2,     0.08,2,     0.23,2,    2.254,4,    1.384,2,   2.4900,2,   2101.6,6,   2346.4,2,   7.9313,6,    25.02,2,     -999,1,  15.6129,2,     -999,9,     -999,9,     -999,9,     -999,9,     -999,9,   4.9751,1,   0.0257,1,      8.6,2,     -999,9,     -999,9,     -999,9,     -999,9,20230806,0531, -33.3115,  93.4183,-999          ,9,-999          ,9
33RR20230722  ,I05        ,55      ,  1,34         ,34         ,2,20230806,0345, -33.3115,  93.4183,     4306,     34.4,2,  15.5811,2,  35.6126,2,  35.6125,2,    244.4,2,    245.7,2,     1.07,2,     0.82,2,     0.09,2,     0.26,2,     -999,9,     -999,9,     -999,9,   2101.5,2,   2343.0,2,   7.9296,6,    25.01,2,     -999,9,  15.5715,2,     -999,9,     -999,9,     -999,9,     -999,9,     -999,9,   4.8930,1,   0.0316,1,     -999,9,     -999,9,     -999,9,     -999,9,     -999,9,20230806,0529, -33.3114,  93.4183,-999          ,9,-999          ,9
33RR20230722  ,I05        ,55      ,  1,33         ,33         ,2,20230806,0345, -33.3115,  93.4183,     4306,     55.0,2,  14.8667,2,  35.4844,2,  35.4904,2,    248.7,2,    248.6,2,     0.98,2,     1.39,2,     0.13,2,     0.29,2,    2.542,4,    1.495,2,   2.5400,2,   2104.5,2,   2335.3,6,   7.9153,2,    25.01,2,     -999,9,  14.9041,2,     -999,9,     -999,9,     -999,9,     -999,9,     -999,9,   4.9745,1,   0.0353,1,      9.1,2,     -999,9,     -999,9,     -999,9,     -999,9,20230806,0528, -33.3114,  93.4183,-999          ,9,-999          ,9
33RR20230722  ,I05        ,55      ,  1,32         ,32         ,2,20230806,0345, -33.3115,  93.4183,     4306,     78.8,2,  14.7602,2,  35.4653,2,  35.4677,2,    248.8,2,    248.7,2,     1.17,2,     1.51,2,     0.14,2,     0.29,2,     -999,9,     -999,9,     -999,9,   2105.3,2,   2337.6,2,   7.9126,2,    24.99,2,     -999,9,  14.7587,2,     -999,9,     -999,9,     -999,9,     -999,9,     -999,9,   4.8205,1,   0.0373,1,     -999,9,     -999,9,     -999,9,     -999,9,     -999,9,20230806,0526, -33.3114,  93.4183,-999          ,9,-999          ,9
33RR20230722  ,I05        ,55      ,  1,30         ,30         ,2,20230806,0345, -33.3115,  93.4183,     4306,    105.5,2,  14.7054,2,  35.4601,2,     -999,9,    247.7,2,     -999,9,     -999,9,     -999,9,     -999,9,     -999,9,     -999,9,     -999,9,     -999,9,   -999.0,9,     -999,9,     -999,9,     -999,9,     -999,9,  14.7032,2,     -999,9,     -999,9,     -999,9,     -999,9,     -999,9,   4.5782,1,   0.0334,1,     -999,9,     -999,9,     -999,9,     -999,9,     -999,9,20230806,0524, -33.3115,  93.4183,-999          ,9,-999          ,1
33RR20230722  ,I05        ,55      ,  1,31         ,31         ,2,20230806,0345, -33.3115,  93.4183,     4306,    106.7,2,  14.7049,2,  35.4600,2,  35.4620,2,    247.9,2,    248.1,2,     0.88,2,     1.58,2,     0.14,2,     0.30,2,    2.620,4,    1.516,6,   2.5200,6,   2105.7,2,   2333.7,2,   7.9106,2,    25.00,2,     -999,9,     -999,1,     -999,9,     -999,9,     -999,9,     -999,9,     -999,9,   4.8770,1,   0.0342,1,      9.1,6,     -999,9,     -999,9,     -999,9,     -999,9,20230806,0524, -33.3114,  93.4183,-999          ,9,-999          ,9
33RR20230722  ,I05        ,55      ,  1,29         ,29         ,2,20230806,0345, -33.3115,  93.4183,     4306,    159.0,2,  14.6554,2,  35.4528,2,  35.4543,2,    247.5,2,    248.2,2,     0.88,2,     1.69,2,     0.14,2,     0.30,2,     -999,9,     -999,9,     -999,9,   2110.3,2,   2336.9,6,   7.9083,2,    25.01,2,     -999,9,  14.6570,2,     -999,9,     -999,9,     -999,9,     -999,9,     -999,9,   4.9733,1,   0.0277,1,     -999,9,     -999,9,     -999,9,     -999,9,     -999,9,20230806,0522, -33.3115,  93.4183,-999          ,9,-999          ,9
33RR20230722  ,I05        ,55      ,  1,28         ,28         ,2,20230806,0345, -33.3115,  93.4183,     4306,    195.4,2,  12.9245,2,  35.1976,2,  35.2075,2,    238.7,2,    238.8,2,     1.76,2,     6.64,2,     0.03,2,     0.60,2,    2.583,4,    1.673,2,   2.6000,2,   2127.3,2,   2320.7,2,   7.8409,2,    24.99,2,     -999,9,  12.9014,2,     -999,9,     -999,9,     -999,9,     -999,9,     -999,9,   4.8185,1,   0.0155,1,     10.9,2,     -999,9,     -999,9,     -999,9,     -999,9,20230806,0521, -33.3115,  93.4183,-999          ,9,-999          ,9
33RR20230722  ,I05        ,55      ,  1,27         ,27         ,2,20230806,0345, -33.3115,  93.4183,     4306,    209.0,2,  12.6445,2,  35.1517,2,     -999,9,    240.1,2,     -999,9,     -999,9,     -999,9,     -999,9,     -999,9,     -999,9,     -999,9,     -999,9,   -999.0,9,     -999,9,     -999,9,     -999,9,     -999,9,  12.6649,2,     -999,9,     -999,9,     -999,9,     -999,9,     -999,9,   4.8967,1,   0.0137,1,     -999,9,     -999,9,     -999,9,     -999,9,     -999,9,20230806,0520, -33.3115,  93.4183,-999          ,9,-999          ,1
33RR20230722  ,I05        ,55      ,  1,26         ,26         ,2,20230806,0345, -33.3115,  93.4183,     4306,    228.1,2,  12.4455,2,  35.1164,2,  35.1215,2,    240.9,2,    241.0,2,     2.15,2,     7.63,2,     0.02,2,     0.64,2,    2.686,4,    1.704,2,   2.6800,2,   2125.8,2,   2320.7,2,   7.8295,2,    25.00,2,     -999,9,  12.4436,2,     -999,9,     -999,9,     -999,9,     -999,9,     -999,9,   4.9694,1,   0.0125,1,     11.4,2,     -999,9,     -999,9,     -999,9,     -999,9,20230806,0518, -33.3115,  93.4183,-999          ,9,-999          ,9
33RR20230722  ,I05        ,55      ,  1,25         ,25         ,2,20230806,0345, -33.3115,  93.4183,     4306,    272.0,2,  11.9935,2,  35.0444,2,  35.0463,2,    243.6,2,    242.9,2,     2.24,2,     8.73,2,     0.01,2,     0.70,2,     -999,9,     -999,9,     -999,9,   2127.6,2,   2317.4,2,   7.8213,2,    25.01,2,     -999,9,  11.9939,2,     -999,9,     -999,9,     -999,9,     -999,9,     -999,9,   4.9694,1,   0.0116,1,     -999,9,     -999,9,     -999,9,     -999,9,     -999,9,20230806,0517, -33.3115,  93.4183,-999          ,9,-999          ,9
33RR20230722  ,I05        ,55      ,  1,24         ,24         ,2,20230806,0345, -33.3115,  93.4183,     4306,    319.7,2,  11.7423,2,  35.0205,2,  35.0154,2,    245.1,2,    244.0,2,     2.73,2,     9.24,2,     0.00,2,     0.75,2,    2.710,4,    1.744,2,   2.6100,2,   2133.4,2,   2300.9,2,   7.8156,2,    25.01,2,     -999,9,  11.7318,2,     -999,9,     -999,9,     -999,9,     -999,9,     -999,9,   4.9018,1,   0.0116,1,     12.1,2,     -999,9,     -999,9,     -999,9,     -999,9,20230806,0515, -33.3115,  93.4183,-999          ,9,-999          ,9
33RR20230722  ,I05        ,55      ,  1,23         ,23         ,4,20230806,0345, -33.3115,  93.4183,     4306,    362.4,3,  11.2791,3,  34.9349,3,     -999,9,    243.6,3,     -999,9,     -999,9,     -999,9,     -999,9,     -999,9,     -999,9,     -999,9,     -999,9,   -999.0,4,     -999,9,     -999,9,     -999,9,     -999,9,  11.2789,3,     -999,9,     -999,9,     -999,9,     -999,9,     -999,9,   4.9682,1,   0.0116,1,     -999,9,     -999,9,     -999,9,     -999,9,     -999,9,20230806,0513, -33.3115,  93.4183,-999          ,9,-999          ,9
33RR20230722  ,I05        ,55      ,  1,22         ,22         ,2,20230806,0345, -33.3115,  93.4183,     4306,    452.7,2,  10.7124,2,  34.8483,2,  34.8485,2,    242.3,2,    241.4,2,     3.22,2,    12.35,2,     0.00,2,     0.92,2,    2.822,4,    1.819,2,   2.4900,2,   2137.0,2,   2299.3,2,   7.7872,2,    24.99,2,     -999,9,  10.7126,2,     -999,9,     -999,9,     -999,9,     -999,9,     -999,9,   4.9678,1,   0.0117,1,     12.4,2,     -999,9,     -999,9,     -999,9,     -999,9,20230806,0511, -33.3115,  93.4183,-999          ,9,-999          ,9
33RR20230722  ,I05        ,55      ,  1,21         ,21         ,2,20230806,0345, -33.3115,  93.4183,     4306,    525.5,2,  10.2816,2,  34.7889,2,  34.7927,2,    239.7,2,    238.8,2,     3.90,2,    13.75,2,     0.00,2,     1.02,2,    2.922,4,    1.890,2,   2.3900,2,   2138.3,2,   2298.3,6,   7.7748,2,    25.01,2,     -999,9,  10.2828,2,     -999,9,     -999,9,     -999,9,     -999,9,     -999,9,   4.8516,1,   0.0115,1,     12.5,2,     -999,9,     -999,9,     -999,9,     -999,9,20230806,0509, -33.3115,  93.4183,-999          ,9,-999          ,9
33RR20230722  ,I05        ,55      ,  1,20         ,20         ,2,20230806,0345, -33.3115,  93.4183,     4306,    609.2,2,   9.7923,2,  34.7293,2,  34.7315,2,    233.9,2,    234.3,2,     4.39,2,    15.53,2,     0.00,2,     1.13,2,    2.996,4,    1.952,2,   2.2100,2,   2144.9,2,   2293.8,2,   7.7567,2,    25.03,2,     -999,9,   9.7930,2,     -999,9,     -999,9,     -999,9,     -999,9,     -999,9,   4.9144,1,   0.0117,1,     13.2,2,     -999,9,     -999,9,     -999,9,     -999,9,20230806,0506, -33.3115,  93.4183,-999          ,9,-999          ,9
33RR20230722  ,I05        ,55      ,  1,19         ,19         ,2,20230806,0345, -33.3115,  93.4183,     4306,    703.4,2,   9.1712,2,  34.6526,2,  34.6555,2,    230.5,2,    230.8,2,     5.37,2,    17.52,2,     0.00,2,     1.24,2,     -999,9,     -999,9,     -999,9,   2149.2,2,   2292.8,2,   7.7374,2,    25.02,2,     -999,9,   9.1692,2,     -999,9,     -999,9,     -999,9,     -999,9,     -999,9,   4.8338,1,   0.0116,1,     -999,9,     -999,9,     -999,9,     -999,9,     -999,9,20230806,0504, -33.3115,  93.4183,-999          ,9,-999          ,9
33RR20230722  ,I05        ,55      ,  1,18         ,18         ,2,20230806,0345, -33.3115,  93.4183,     4306,    810.4,2,   8.1222,2,  34.5482,2,  34.5500,2,    209.7,2,    211.1,2,    10.83,2,    21.92,2,     0.00,2,     1.54,2,    2.772,4,    1.715,2,   1.3800,2,   2162.4,2,   2287.2,2,   7.6958,6,    25.01,2,     -999,9,   8.1193,2,     -999,9,     -999,9,     -999,9,     -999,9,     -999,9,   4.7917,1,   0.0114,1,     15.6,2,     -999,9,     -999,9,     -999,9,     -999,9,20230806,0501, -33.3115,  93.4183,-999          ,9,-999          ,9
33RR20230722  ,I05        ,55      ,  1,17         ,17         ,2,20230806,0345, -33.3115,  93.4183,     4306,    932.4,2,   5.9693,2,  34.3983,2,  34.3998,2,    199.4,2,    199.7,2,    23.23,2,    27.91,2,     0.00,2,     1.93,2,    0.218,4,    1.034,2,   0.6400,2,   2188.5,2,   2289.5,2,   7.6360,2,    25.01,2,     -999,9,   5.9755,2,     -999,9,     -999,9,     -999,9,     -999,9,     -999,9,   4.9700,1,   0.0113,1,      0.2,4,     -999,9,     -999,9,     -999,9,     -999,9,20230806,0458, -33.3115,  93.4183,-999          ,9,-999          ,9
33RR20230722  ,I05        ,55      ,  1,16         ,16         ,2,20230806,0345, -33.3115,  93.4183,     4306,   1014.6,2,   5.0496,2,  34.3769,2,     -999,9,    193.3,2,     -999,9,     -999,9,     -999,9,     -999,9,     -999,9,     -999,9,     -999,9,     -999,9,   -999.0,9,     -999,9,     -999,9,     -999,9,     -999,9,   5.0923,2,     -999,9,     -999,9,     -999,9,     -999,9,     -999,9,   4.9293,1,   0.0112,1,     -999,9,     -999,9,     -999,9,     -999,9,     -999,9,20230806,0456, -33.3115,  93.4183,-999          ,9,-999          ,1
33RR20230722  ,I05        ,55      ,  1,15         ,15         ,2,20230806,0345, -33.3115,  93.4183,     4306,   1091.7,2,   4.4837,2,  34.3874,2,  34.3896,2,    185.4,2,    185.9,2,    40.80,2,    31.61,2,     0.00,2,     2.23,2,    1.599,4,    0.836,2,   0.4200,2,   2216.9,2,   2303.0,2,   7.5979,2,    25.01,2,     -999,9,   4.4885,2,     -999,9,     -999,9,     -999,9,     -999,9,     -999,9,   4.7010,1,   0.0113,1,     20.6,2,     -999,9,     -999,9,     -999,9,     -999,9,20230806,0453, -33.3115,  93.4183,-999          ,9,-999          ,9
33RR20230722  ,I05        ,55      ,  1,14         ,14         ,2,20230806,0345, -33.3115,  93.4183,     4306,   1249.2,2,   3.8201,2,  34.4554,2,  34.4589,2,    165.6,2,    165.7,2,    59.54,2,    33.59,2,     0.00,2,     2.40,2,    0.845,4,    0.405,2,   0.1600,2,   2240.9,6,   2320.0,2,   7.5718,2,    25.01,2,     -999,9,   3.8186,2,     -999,9,     -999,9,     -999,9,     -999,9,     -999,9,   4.6077,1,   0.0112,1,     22.9,2,     -999,9,     -999,9,     -999,9,     -999,9,20230806,0450, -33.3115,  93.4183,-999          ,9,-999          ,9
33RR20230722  ,I05        ,55      ,  1,13         ,13         ,2,20230806,0345, -33.3115,  93.4183,     4306,   1372.1,2,   3.4953,2,  34.5118,2,  34.5131,2,    156.6,2,    156.4,2,    70.67,2,    34.17,2,     0.00,2,     2.45,2,    0.508,4,    0.214,2,   0.1100,2,   2257.2,2,   2332.5,2,   7.5605,2,    25.00,2,     -999,9,   3.4955,2,     -999,9,     -999,9,     -999,9,     -999,9,     -999,9,   4.9742,1,   0.0120,1,     23.8,2,     -999,9,     -999,9,     -999,9,     -999,9,20230806,0447, -33.3115,  93.4183,-999          ,9,-999          ,9
33RR20230722  ,I05        ,55      ,  1,12         ,12         ,2,20230806,0345, -33.3115,  93.4183,     4306,   1497.8,2,   3.2536,2,  34.5633,2,  34.5647,2,    152.3,2,    152.1,2,    76.62,2,    34.51,2,     0.00,2,     2.46,2,    0.339,4,    0.118,2,   0.0500,2,   2193.1,4,   2340.6,2,   7.5589,2,    25.00,2,     -999,9,   3.2557,2,     -999,9,     -999,9,     -999,9,     -999,9,     -999,9,   4.8644,1,   0.0112,1,     23.9,2,     -999,9,     -999,9,     -999,9,     -999,9,20230806,0444, -33.3115,  93.4182,-999          ,9,-999          ,9
33RR20230722  ,I05        ,55      ,  1,11         ,11         ,2,20230806,0345, -33.3115,  93.4183,     4306,   1626.7,2,   3.0490,2,  34.6014,2,  34.6018,2,    152.9,2,    152.7,2,    82.08,2,    34.42,2,     0.00,2,     2.45,2,     -999,9,     -999,9,     -999,9,   2270.2,2,   2346.1,2,   7.5619,2,    25.01,2,     -999,9,   3.0523,2,     -999,9,     -999,9,     -999,9,     -999,9,     -999,9,   4.9283,1,   0.0119,1,     -999,9,     -999,9,     -999,9,     -999,9,     -999,9,20230806,0441, -33.3115,  93.4183,-999          ,9,-999          ,9
33RR20230722  ,I05        ,55      ,  1,10         ,10         ,2,20230806,0345, -33.3115,  93.4183,     4306,   1737.7,2,   2.8775,2,  34.6282,2,  34.6307,2,    156.5,2,    156.5,2,    83.64,2,    34.00,2,     0.00,2,     2.43,2,    0.015,4,    0.058,2,   0.0400,2,   2272.9,2,   2350.2,2,   7.5667,2,    25.01,2,     -999,9,   2.8775,2,     -999,9,     -999,9,     -999,9,     -999,9,     -999,9,   4.9750,1,   0.0121,1,     23.2,2,     -999,9,     -999,9,     -999,9,     -999,9,20230806,0438, -33.3115,  93.4183,-999          ,9,-999          ,9
33RR20230722  ,I05        ,55      ,  1,9          ,9          ,2,20230806,0345, -33.3115,  93.4183,     4306,   1927.5,2,   2.6094,2,  34.6713,2,  34.6724,2,    165.6,2,    165.4,2,    84.61,2,    33.01,2,     0.00,2,     2.34,2,   -0.006,4,    0.050,2,   0.0100,2,   2267.9,2,   2350.2,2,   7.5790,2,    25.01,2,     -999,9,   2.6082,2,     -999,9,     -999,9,     -999,9,     -999,9,     -999,9,   4.6204,1,   0.0117,1,     22.2,2,     -999,9,     -999,9,     -999,9,     -999,9,20230806,0434, -33.3115,  93.4183,-999          ,9,-999          ,9
33RR20230722  ,I05        ,55      ,  1,8          ,8          ,2,20230806,0345, -33.3115,  93.4183,     4306,   2158.4,2,   2.3192,2,  34.7144,3,  34.7164,2,    177.2,2,    177.4,2,    87.54,2,    31.81,2,     0.00,2,     2.26,2,     -999,9,     -999,9,     -999,9,   2263.6,2,   2352.4,2,   7.5978,2,    25.01,2,     -999,9,   2.3199,2,     -999,9,     -999,9,     -999,9,     -999,9,     -999,9,   4.9748,1,   0.0113,1,     -999,9,     -999,9,     -999,9,     -999,9,     -999,9,20230806,0429, -33.3115,  93.4183,-999          ,9,-999          ,9
33RR20230722  ,I05        ,55      ,  1,7          ,7          ,2,20230806,0345, -33.3115,  93.4183,     4306,   2440.3,2,   2.0445,2,  34.7356,3,  34.7376,2,    187.4,2,    187.5,2,    94.56,2,    31.19,2,     0.00,2,     2.19,2,   -0.008,4,    0.023,2,   0.0400,2,   2258.5,2,   2354.7,2,   7.6110,2,    25.02,2,     -999,9,   2.0445,2,     -999,9,     -999,9,     -999,9,     -999,9,     -999,9,   4.9745,1,   0.0112,1,     19.6,2,     -999,9,     -999,9,     -999,9,     -999,9,20230806,0423, -33.3115,  93.4183,-999          ,9,-999          ,9
33RR20230722  ,I05        ,55      ,  1,6          ,6          ,2,20230806,0345, -33.3115,  93.4183,     4306,   2753.4,2,   1.7273,2,  34.7387,2,  34.7406,2,    194.5,2,    194.5,2,    98.37,2,    31.07,2,     0.00,2,     2.19,2,    0.007,4,    0.026,2,   0.0600,2,   2258.6,2,   2358.1,2,   7.6170,2,    25.03,2,     -999,9,   1.7279,2,     -999,9,     -999,9,     -999,9,     -999,9,     -999,9,   4.9303,1,   0.0117,1,     19.2,2,     -999,9,     -999,9,     -999,9,     -999,9,20230806,0417, -33.3114,  93.4183,-999          ,9,-999          ,9
33RR20230722  ,I05        ,55      ,  1,5          ,5          ,2,20230806,0345, -33.3115,  93.4183,     4306,   3193.6,2,   1.3553,2,  34.7285,3,  34.7313,2,    200.6,2,    200.6,2,   109.59,2,    31.47,2,     0.00,2,     2.23,2,   -0.006,4,    0.044,2,   0.0400,2,   -999.0,5,   2361.4,2,   7.6184,6,    25.03,2,     -999,9,   1.3555,2,     -999,9,     -999,9,     -999,9,     -999,9,     -999,9,   4.9680,1,   0.0113,1,     18.5,2,     -999,9,     -999,9,     -999,9,     -999,9,20230806,0409, -33.3114,  93.4183,-999          ,9,-999          ,9
33RR20230722  ,I05        ,55      ,  1,4          ,37         ,2,20230806,0345, -33.3115,  93.4183,     4306,   3470.7,2,   1.2083,2,  34.7216,2,  34.7225,2,    202.4,2,    202.4,2,   115.35,2,    31.63,2,     0.00,2,     2.23,2,   -0.003,4,    0.041,2,   0.0000,2,   2265.3,2,   2366.1,2,   7.6189,2,    25.02,2,     -999,9,   1.2083,2,     -999,9,     -999,9,     -999,9,     -999,9,     -999,9,   4.9756,1,   0.0113,1,     19.0,2,     -999,9,     -999,9,     -999,9,     -999,9,20230806,0403, -33.3115,  93.4183,-999          ,9,-999          ,9
33RR20230722  ,I05        ,55      ,  1,3          ,3          ,2,20230806,0345, -33.3115,  93.4183,     4306,   3809.1,2,   1.1426,2,  34.7169,2,  34.7176,2,    203.1,2,    203.6,2,   118.38,2,    31.95,2,     0.00,2,     2.23,2,    0.009,4,    0.043,2,   0.0000,2,   2270.3,2,   2369.9,6,   7.6209,2,    25.00,2,     -999,9,   1.1427,2,     -999,9,     -999,9,     -999,9,     -999,9,     -999,9,   4.9044,1,   0.0119,1,     18.9,2,     -999,9,     -999,9,     -999,9,     -999,9,20230806,0356, -33.3115,  93.4183,-999          ,9,-999          ,9