BOTTLE,20240422CCHHYDRO
EXPOCODE,SECT_ID,STNNBR,CASTNO,SAMPNO,BTLNBR,BTLNBR_FLAG_W,DATE,TIME,LATITUDE,LONGITUDE,DEPTH,CTDPRS,CTDPRS_FLAG_W,CTDTMP,CTDTMP_FLAG_W,CTDSAL,CTDSAL_FLAG_W,SALNTY,SALNTY_FLAG_W,CTDOXY,CTDOXY_FLAG_W,OXYGEN,OXYGEN_FLAG_W,SILCAT,SILCAT_FLAG_W,NITRAT,NITRAT_FLAG_W,NITRIT,NITRIT_FLAG_W,PHSPHT,PHSPHT_FLAG_W,CFC-11,CFC-11_FLAG_W,CFC-12,CFC-12_FLAG_W,SF6,SF6_FLAG_W,TCARBN,TCARBN_FLAG_W,ALKALI,ALKALI_FLAG_W,PH_TOT,PH_TOT_FLAG_W,PH_TMP,PH_TMP_FLAG_W,DOC,DOC_FLAG_W,REFTMP,REFTMP_FLAG_W,POC,POC_FLAG_W,PON,PON_FLAG_W,POP,POP_FLAG_W,DOP,DOP_FLAG_W,DELO18,DELO18_FLAG_W,CTDFLUOR,CTDFLUOR_FLAG_W,CTDXMISS,CTDXMISS_FLAG_W,N2O,N2O_FLAG_W,D15N_NO3,D15N_NO3_FLAG_W,D15N_NO2+NO3,D15N_NO2+NO3_FLAG_W,D18O_NO2+NO3,D18O_NO2+NO3_FLAG_W,D18O_NO3,D18O_NO3_FLAG_W,BTL_DATE,BTL_TIME,BTL_LAT,BTL_LON,HPLC,HPLC_FLAG_W,DNA,DNA_FLAG_W
,,,,,,,,,,,METERS,DBAR,,ITS-90,,PSS-78,,PSS-78,,UMOL/KG,,UMOL/KG,,UMOL/KG,,UMOL/KG,,UMOL/KG,,UMOL/KG,,PMOL/KG,,PMOL/KG,,FMOL/KG,,UMOL/KG,,UMOL/KG,,,,DEG C,,UMOL/KG,,ITS-90,,UG/KG,,UG/KG,,UG/L,,UMOL/KG,,/MILLE,,VOLTS,,VOLTS,,NMOL/KG,,/MILLE,,/MILLE,,/MILLE,,/MILLE,,,,,,,,,
33RR20230722  ,I05        ,14      ,  1,36         ,36         ,2,20230725,2338, -31.8730, 110.9326,     5063,     18.2,2,  19.2269,2,  35.5395,2,  35.5377,2,    228.0,2,    227.8,2,     2.93,2,     0.05,2,     0.03,2,     0.11,2,     -999,9,     -999,9,     -999,9,   2052.5,2,   2333.8,2,   8.0035,2,    25.01,2,     -999,1,  19.2242,2,     -999,9,     -999,9,     -999,9,     -999,9,     -999,1,   4.7046,1,   0.0269,1,     -999,9,     -999,9,     -999,9,     -999,9,     -999,9,20230726,0148, -31.8730, 110.9326,-999          ,9,-999          ,9
33RR20230722  ,I05        ,14      ,  1,35         ,35         ,2,20230725,2338, -31.8730, 110.9326,     5063,     26.0,2,  19.2304,2,  35.5385,2,  35.5409,2,    227.9,2,    228.0,2,     2.93,2,     0.00,2,     0.03,2,     0.10,2,     -999,9,     -999,9,     -999,9,   2057.9,2,   2334.0,2,   8.0041,2,    25.00,2,     -999,1,  19.2300,2,     -999,9,     -999,9,     -999,9,     -999,9,     -999,1,   4.9755,1,   0.0285,1,     -999,9,     -999,9,     -999,9,     -999,9,     -999,9,20230726,0147, -31.8731, 110.9326,-999          ,9,-999          ,9
33RR20230722  ,I05        ,14      ,  1,34         ,34         ,2,20230725,2338, -31.8730, 110.9326,     5063,     40.6,2,  19.2103,2,  35.5537,2,  35.5435,2,    227.8,2,    227.7,2,     3.12,2,     0.00,2,     0.03,2,     0.11,2,     -999,9,     -999,9,     -999,9,   -999.0,9,     -999,9,     -999,9,     -999,9,     -999,1,  19.2117,2,     -999,9,     -999,9,     -999,9,     -999,9,     -999,1,   4.9752,1,   0.0285,1,     -999,9,     -999,9,     -999,9,     -999,9,     -999,9,20230726,0146, -31.8731, 110.9326,-999          ,9,-999          ,9
33RR20230722  ,I05        ,14      ,  1,33         ,33         ,2,20230725,2338, -31.8730, 110.9326,     5063,     57.5,2,  19.1617,2,  35.5815,2,  35.5813,2,    227.5,2,    227.4,2,     3.12,2,     0.00,2,     0.03,2,     0.11,2,     -999,9,     -999,9,     -999,9,   2063.4,2,   2333.8,2,   8.0021,2,    24.99,2,     -999,1,  19.1544,2,     -999,9,     -999,9,     -999,9,     -999,9,     -999,1,   4.8992,1,   0.0283,1,     -999,9,     -999,9,     -999,9,     -999,9,     -999,9,20230726,0144, -31.8731, 110.9326,-999          ,9,-999          ,9
33RR20230722  ,I05        ,14      ,  1,32         ,32         ,2,20230725,2338, -31.8730, 110.9326,     5063,     81.6,2,  19.0477,2,  35.6366,2,  35.6206,2,    224.8,2,    225.6,2,     2.93,2,     0.02,2,     0.11,2,     0.12,2,     -999,9,     -999,9,     -999,9,   -999.0,9,     -999,9,     -999,9,     -999,9,     -999,1,  19.0569,2,     -999,9,     -999,9,     -999,9,     -999,9,     -999,1,   4.8999,1,   0.0226,1,     -999,9,     -999,9,     -999,9,     -999,9,     -999,9,20230726,0142, -31.8731, 110.9326,-999          ,9,-999          ,9
33RR20230722  ,I05        ,14      ,  1,31         ,31         ,2,20230725,2338, -31.8730, 110.9326,     5063,    101.5,2,  18.8114,2,  35.6474,2,  35.6461,2,    225.1,2,    225.7,2,     2.83,2,     0.08,2,     0.10,2,     0.13,2,     -999,9,     -999,9,     -999,9,   2080.9,3,   2339.6,2,   7.9901,2,    25.01,2,     -999,1,  18.8089,2,     -999,9,     -999,9,     -999,9,     -999,9,     -999,1,   4.9737,1,   0.0179,1,     -999,9,     -999,9,     -999,9,     -999,9,     -999,9,20230726,0140, -31.8731, 110.9325,-999          ,9,-999          ,9
33RR20230722  ,I05        ,14      ,  1,30         ,30         ,2,20230725,2338, -31.8730, 110.9326,     5063,    124.8,2,  18.7788,2,  35.7197,2,  35.7203,2,    224.5,2,    224.4,2,     2.83,2,     0.17,2,     0.07,2,     0.13,2,     -999,9,     -999,9,     -999,9,   2084.3,3,   2346.3,2,   7.9844,2,    25.02,2,     -999,1,  18.7809,2,     -999,9,     -999,9,     -999,9,     -999,9,     -999,1,   4.9501,1,   0.0174,1,     -999,9,     -999,9,     -999,9,     -999,9,     -999,9,20230726,0138, -31.8731, 110.9326,-999          ,9,-999          ,9
33RR20230722  ,I05        ,14      ,  1,29         ,29         ,2,20230725,2338, -31.8730, 110.9326,     5063,    152.2,2,  17.6385,2,  35.6775,2,  35.6775,2,    229.5,2,    229.6,2,     2.34,2,     0.17,2,     0.21,2,     0.16,2,     -999,9,     -999,9,     -999,9,   2092.2,3,   2345.2,2,   7.9727,2,    25.01,2,     -999,1,  17.6482,2,     -999,9,     -999,9,     -999,9,     -999,9,     -999,1,   4.9481,1,   0.0172,1,     -999,9,     -999,9,     -999,9,     -999,9,     -999,9,20230726,0137, -31.8731, 110.9326,-999          ,9,-999          ,9
33RR20230722  ,I05        ,14      ,  1,28         ,28         ,2,20230725,2338, -31.8730, 110.9326,     5063,    180.0,2,  16.6224,2,  35.6830,2,  35.6818,2,    233.6,2,    233.9,2,     2.15,2,     0.46,2,     0.13,2,     0.17,2,     -999,9,     -999,9,     -999,9,   2102.9,3,   2346.0,2,   7.9523,2,    25.01,2,     -999,1,  16.6100,2,     -999,9,     -999,9,     -999,9,     -999,9,     -999,1,   4.9727,1,   0.0166,1,     -999,9,     -999,9,     -999,9,     -999,9,     -999,9,20230726,0135, -31.8731, 110.9326,-999          ,9,-999          ,9
33RR20230722  ,I05        ,14      ,  1,27         ,27         ,2,20230725,2338, -31.8730, 110.9326,     5063,    213.1,2,  15.3458,2,  35.5328,2,  35.5389,2,    233.5,2,    233.3,2,     1.66,2,     1.77,2,     0.03,2,     0.27,2,     -999,9,     -999,9,     -999,9,   2119.2,3,   2340.0,2,   7.9174,6,    25.01,2,     -999,1,  15.3532,2,     -999,9,     -999,9,     -999,9,     -999,9,     -999,1,   4.9712,1,   0.0113,1,     -999,9,     -999,9,     -999,9,     -999,9,     -999,9,20230726,0133, -31.8731, 110.9326,-999          ,9,-999          ,9
33RR20230722  ,I05        ,14      ,  1,26         ,26         ,2,20230725,2338, -31.8730, 110.9326,     5063,    244.5,2,  14.3822,2,  35.4157,2,  35.4155,2,    231.1,2,    231.5,2,     2.05,2,     3.73,2,     0.02,2,     0.40,2,     -999,9,     -999,9,     -999,9,   2128.2,3,   2332.1,2,   7.8853,2,    25.00,2,     -999,1,  14.3778,2,     -999,9,     -999,9,     -999,9,     -999,9,     -999,1,   4.9664,1,   0.0115,1,     -999,9,     -999,9,     -999,9,     -999,9,     -999,9,20230726,0132, -31.8730, 110.9326,-999          ,9,-999          ,9
33RR20230722  ,I05        ,14      ,  1,25         ,25         ,2,20230725,2338, -31.8730, 110.9326,     5063,    282.7,2,  13.2253,2,  35.2406,2,  35.2404,2,    236.9,2,    236.4,2,     1.95,2,     5.59,2,     0.01,2,     0.52,2,     -999,9,     -999,9,     -999,9,   2134.9,3,   2324.3,2,   7.8578,6,    25.01,2,     -999,1,  13.2233,2,     -999,9,     -999,9,     -999,9,     -999,9,     -999,1,   4.9695,1,   0.0115,1,     -999,9,     -999,9,     -999,9,     -999,9,     -999,9,20230726,0130, -31.8731, 110.9326,-999          ,9,-999          ,9
33RR20230722  ,I05        ,14      ,  1,24         ,24         ,2,20230725,2338, -31.8730, 110.9326,     5063,    326.6,2,  12.2069,2,  35.0635,2,  35.0644,2,    240.7,2,    240.2,2,     1.95,2,     7.44,2,     0.00,2,     0.64,2,     -999,9,     -999,9,     -999,9,   2135.6,2,   2314.8,2,   7.8324,2,    25.03,2,     -999,1,  12.1846,2,     -999,9,     -999,9,     -999,9,     -999,9,     -999,1,   4.9692,1,   0.0114,1,     -999,9,     -999,9,     -999,9,     -999,9,     -999,9,20230726,0128, -31.8731, 110.9325,-999          ,9,-999          ,9
33RR20230722  ,I05        ,14      ,  1,23         ,23         ,2,20230725,2338, -31.8730, 110.9326,     5063,    392.7,2,  10.7049,2,  34.8341,2,  34.8346,2,    241.0,2,    240.9,2,     3.02,2,    11.75,2,     0.00,2,     0.90,2,     -999,9,     -999,9,     -999,9,   2147.4,3,   2302.3,6,   7.7839,6,    25.01,2,     -999,1,  10.7012,2,     -999,9,     -999,9,     -999,9,     -999,9,     -999,1,   4.8583,1,   0.0113,1,     -999,9,     -999,9,     -999,9,     -999,9,     -999,9,20230726,0125, -31.8731, 110.9326,-999          ,9,-999          ,9
33RR20230722  ,I05        ,14      ,  1,22         ,22         ,2,20230725,2338, -31.8730, 110.9326,     5063,    491.0,2,   9.9046,2,  34.7559,2,  34.7575,2,    237.0,2,    236.4,2,     4.10,2,    14.99,2,     0.00,2,     1.08,2,     -999,9,     -999,9,     -999,9,   -999.0,9,     -999,9,     -999,9,     -999,9,     -999,1,   9.9049,2,     -999,9,     -999,9,     -999,9,     -999,9,     -999,1,   4.9003,1,   0.0113,1,     -999,9,     -999,9,     -999,9,     -999,9,     -999,9,20230726,0122, -31.8730, 110.9326,-999          ,9,-999          ,9
33RR20230722  ,I05        ,14      ,  1,21         ,21         ,2,20230725,2338, -31.8730, 110.9326,     5063,    596.9,2,   9.3717,2,  34.6888,2,  34.6895,2,    238.7,2,    238.2,2,     4.88,2,    16.47,2,     0.00,2,     1.16,2,     -999,9,     -999,9,     -999,9,   2156.5,3,   2294.7,2,   7.7454,2,    25.00,2,     -999,1,   9.3719,2,     -999,9,     -999,9,     -999,9,     -999,9,     -999,1,   4.9667,1,   0.0113,1,     -999,9,     -999,9,     -999,9,     -999,9,     -999,9,20230726,0119, -31.8731, 110.9325,-999          ,9,-999          ,9
33RR20230722  ,I05        ,14      ,  1,20         ,20         ,2,20230725,2338, -31.8730, 110.9326,     5063,    673.4,2,   8.8539,2,  34.6213,2,  34.6223,2,    232.8,2,    232.9,2,     6.25,2,    18.29,2,     0.00,2,     1.28,2,     -999,9,     -999,9,     -999,9,   2160.6,3,   2294.2,2,   7.7302,2,    25.00,2,     -999,1,   8.8540,2,     -999,9,     -999,9,     -999,9,     -999,9,     -999,1,   4.9666,1,   0.0113,1,     -999,9,     -999,9,     -999,9,     -999,9,     -999,9,20230726,0117, -31.8731, 110.9326,-999          ,9,-999          ,9
33RR20230722  ,I05        ,14      ,  1,19         ,19         ,2,20230725,2338, -31.8730, 110.9326,     5063,    782.3,2,   7.0006,2,  34.4602,2,  34.4620,2,    201.6,2,    202.6,2,    16.59,2,    25.19,2,     0.00,2,     1.74,2,     -999,9,     -999,9,     -999,9,   2188.0,3,   2292.1,2,   7.6608,2,    25.00,2,     -999,1,   6.9872,2,     -999,9,     -999,9,     -999,9,     -999,9,     -999,1,   4.9692,1,   0.0112,1,     -999,9,     -999,9,     -999,9,     -999,9,     -999,9,20230726,0114, -31.8731, 110.9326,-999          ,9,-999          ,9
33RR20230722  ,I05        ,14      ,  1,18         ,18         ,2,20230725,2338, -31.8730, 110.9326,     5063,    953.1,2,   4.6746,2,  34.3881,2,  34.3880,2,    185.9,2,    187.1,2,    38.75,2,    30.94,2,     0.00,2,     2.18,2,     -999,9,     -999,9,     -999,9,   -999.0,9,     -999,9,     -999,9,     -999,9,     -999,1,   4.6751,2,     -999,9,     -999,9,     -999,9,     -999,9,     -999,1,   4.9714,1,   0.0113,1,     -999,9,     -999,9,     -999,9,     -999,9,     -999,9,20230726,0110, -31.8731, 110.9326,-999          ,9,-999          ,9
33RR20230722  ,I05        ,14      ,  1,17         ,17         ,2,20230725,2338, -31.8730, 110.9326,     5063,   1058.3,2,   4.1730,2,  34.4379,2,  34.4383,2,    168.5,2,    169.1,2,    54.27,2,    32.83,2,     0.00,2,     2.37,2,     -999,9,     -999,9,     -999,9,   2240.2,2,   2319.1,2,   7.5777,2,    25.00,2,     -999,1,   4.1672,2,     -999,9,     -999,9,     -999,9,     -999,9,     -999,1,   4.9730,1,   0.0111,1,     -999,9,     -999,9,     -999,9,     -999,9,     -999,9,20230726,0107, -31.8731, 110.9326,-999          ,9,-999          ,9
33RR20230722  ,I05        ,14      ,  1,16         ,16         ,2,20230725,2338, -31.8730, 110.9326,     5063,   1222.1,2,   3.4611,2,  34.4905,2,  34.4909,2,    161.8,2,    162.1,2,    67.25,2,    33.98,2,     0.00,2,     2.44,2,     -999,9,     -999,9,     -999,9,   -999.0,9,     -999,9,     -999,9,     -999,9,     -999,1,   3.4606,2,     -999,9,     -999,9,     -999,9,     -999,9,     -999,1,   4.9738,1,   0.0111,1,     -999,9,     -999,9,     -999,9,     -999,9,     -999,9,20230726,0103, -31.8731, 110.9325,-999          ,9,-999          ,9
33RR20230722  ,I05        ,14      ,  1,15         ,15         ,2,20230725,2338, -31.8730, 110.9326,     5063,   1378.6,2,   3.1702,2,  34.5512,2,  34.5549,2,    155.0,2,    154.9,2,    77.98,2,    34.43,2,     0.00,2,     2.50,2,     -999,9,     -999,9,     -999,9,   2270.4,3,   2343.1,2,   7.5584,2,    25.00,2,     -999,1,   3.1799,2,     -999,9,     -999,9,     -999,9,     -999,9,     -999,1,   4.9745,1,   0.0123,1,     -999,9,     -999,9,     -999,9,     -999,9,     -999,9,20230726,0059, -31.8731, 110.9326,-999          ,9,-999          ,9
33RR20230722  ,I05        ,14      ,  1,14         ,14         ,2,20230725,2338, -31.8730, 110.9326,     5063,   1528.9,2,   3.0303,2,  34.6216,2,  34.6227,2,    148.2,2,    147.7,2,    90.17,2,    34.40,2,     0.00,2,     2.50,2,     -999,9,     -999,9,     -999,9,   2276.6,6,   2358.3,2,   7.5590,2,    25.00,2,     -999,1,   3.0308,2,     -999,9,     -999,9,     -999,9,     -999,9,     -999,1,   4.9754,1,   0.0123,1,     -999,9,     -999,9,     -999,9,     -999,9,     -999,9,20230726,0055, -31.8731, 110.9326,-999          ,9,-999          ,9
33RR20230722  ,I05        ,14      ,  1,13         ,13         ,2,20230725,2338, -31.8730, 110.9326,     5063,   1677.4,2,   2.8005,2,  34.6556,2,  34.6567,2,    151.9,2,    151.2,2,    92.90,2,    34.08,2,     0.00,2,     2.46,2,     -999,9,     -999,9,     -999,9,   2277.4,2,   2362.4,6,   7.5662,2,    25.00,2,     -999,1,   2.7999,2,     -999,9,     -999,9,     -999,9,     -999,9,     -999,1,   4.9755,1,   0.0110,1,     -999,9,     -999,9,     -999,9,     -999,9,     -999,9,20230726,0051, -31.8732, 110.9326,-999          ,9,-999          ,9
33RR20230722  ,I05        ,14      ,  1,12         ,12         ,2,20230725,2338, -31.8730, 110.9326,     5063,   1873.1,2,   2.5409,2,  34.6848,2,  34.6846,2,    159.7,2,    159.7,2,    97.20,2,    33.47,2,     0.00,2,     2.41,2,     -999,9,     -999,9,     -999,9,   -999.0,9,     -999,9,     -999,9,     -999,9,     -999,1,   2.5392,2,     -999,9,     -999,9,     -999,9,     -999,9,     -999,1,   4.6761,1,   0.0116,1,     -999,9,     -999,9,     -999,9,     -999,9,     -999,9,20230726,0046, -31.8731, 110.9326,-999          ,9,-999          ,9
33RR20230722  ,I05        ,14      ,  1,11         ,11         ,2,20230725,2338, -31.8730, 110.9326,     5063,   2120.0,2,   2.2806,2,  34.7150,2,  34.7150,2,    162.2,2,    162.1,2,   107.54,2,    33.07,2,     0.00,2,     2.40,2,     -999,9,     -999,9,     -999,9,   2285.0,2,   2376.8,2,   7.5864,6,    25.00,2,     -999,1,   2.2807,2,     -999,9,     -999,9,     -999,9,     -999,9,     -999,1,   4.3746,1,   0.0113,1,     -999,9,     -999,9,     -999,9,     -999,9,     -999,9,20230726,0041, -31.8731, 110.9326,-999          ,9,-999          ,9
33RR20230722  ,I05        ,14      ,  1,10         ,10         ,2,20230725,2338, -31.8730, 110.9326,     5063,   2392.2,2,   2.0604,2,  34.7245,2,  34.7248,2,    169.5,2,    169.8,2,   111.93,2,    32.84,2,     0.00,2,     2.36,2,     -999,9,     -999,9,     -999,9,   -999.0,9,     -999,9,     -999,9,     -999,9,     -999,1,   2.0602,2,     -999,9,     -999,9,     -999,9,     -999,9,     -999,1,   4.9756,1,   0.0123,1,     -999,9,     -999,9,     -999,9,     -999,9,     -999,9,20230726,0035, -31.8731, 110.9326,-999          ,9,-999          ,9
33RR20230722  ,I05        ,14      ,  1,9          ,9          ,2,20230725,2338, -31.8730, 110.9326,     5063,   2767.1,2,   1.8224,2,  34.7295,2,  34.7290,2,    178.9,2,    179.5,2,   113.00,2,    32.42,2,     0.00,2,     2.33,2,     -999,9,     -999,9,     -999,9,   2279.6,2,   2379.5,2,   7.6072,2,    25.00,2,     -999,1,   1.8225,2,     -999,9,     -999,9,     -999,9,     -999,9,     -999,1,   4.9377,1,   0.0117,1,     -999,9,     -999,9,     -999,9,     -999,9,     -999,9,20230726,0027, -31.8731, 110.9326,-999          ,9,-999          ,9
33RR20230722  ,I05        ,14      ,  1,8          ,8          ,2,20230725,2338, -31.8730, 110.9326,     5063,   3197.9,2,   1.5496,2,  34.7272,2,  34.7274,2,    186.4,2,    186.5,2,   119.05,2,    32.30,2,     0.00,2,     2.33,2,     -999,9,     -999,9,     -999,9,   2279.9,2,   2381.0,2,   7.6118,2,    24.99,2,     -999,1,   1.5497,2,     -999,9,     -999,9,     -999,9,     -999,9,     -999,1,   4.9760,1,   0.0114,1,     -999,9,     -999,9,     -999,9,     -999,9,     -999,9,20230726,0019, -31.8731, 110.9325,-999          ,9,-999          ,9
33RR20230722  ,I05        ,14      ,  1,7          ,7          ,2,20230725,2338, -31.8730, 110.9326,     5063,   3556.7,2,   1.3674,2,  34.7251,2,  34.7247,2,    195.6,2,    196.0,2,   117.78,2,    31.56,2,     0.00,2,     2.28,2,     -999,9,     -999,9,     -999,9,   2272.0,2,   2375.4,6,   7.6173,6,    25.00,2,     -999,1,   1.3690,2,     -999,9,     -999,9,     -999,9,     -999,9,     -999,1,   4.8233,1,   0.0118,1,     -999,9,     -999,9,     -999,9,     -999,9,     -999,9,20230726,0011, -31.8731, 110.9325,-999          ,9,-999          ,9
33RR20230722  ,I05        ,14      ,  1,6          ,6          ,2,20230725,2338, -31.8730, 110.9326,     5063,   3831.5,2,   1.2613,2,  34.7194,2,  34.7193,2,    195.4,2,    195.7,2,   122.27,2,    32.33,2,     0.00,2,     2.28,2,     -999,9,     -999,9,     -999,9,   -999.0,9,     -999,9,     -999,9,     -999,9,     -999,1,   1.2612,2,     -999,9,     -999,9,     -999,9,     -999,9,     -999,1,   4.9763,1,   0.0110,1,     -999,9,     -999,9,     -999,9,     -999,9,     -999,9,20230726,0005, -31.8731, 110.9326,-999          ,9,-999          ,9
33RR20230722  ,I05        ,14      ,  1,5          ,5          ,2,20230725,2338, -31.8730, 110.9326,     5063,   4122.6,2,   1.1861,2,  34.7155,2,  34.7154,2,    196.3,2,    196.7,2,   124.22,2,    32.51,2,     0.00,2,     2.31,2,     -999,9,     -999,9,     -999,9,   2281.9,2,   2387.5,2,   7.6221,2,    24.99,2,     -999,1,   1.1867,2,     -999,9,     -999,9,     -999,9,     -999,9,     -999,1,   4.9767,1,   0.0111,1,     -999,9,     -999,9,     -999,9,     -999,9,     -999,9,20230725,2359, -31.8731, 110.9326,-999          ,9,-999          ,9
33RR20230722  ,I05        ,14      ,  1,4          ,4          ,2,20230725,2338, -31.8730, 110.9326,     5063,   4620.1,2,   1.0894,2,  34.7108,2,  34.7111,2,    202.8,2,    202.9,2,   124.32,2,    32.13,2,     0.00,2,     2.30,2,     -999,9,     -999,9,     -999,9,   2275.9,2,   2380.1,6,   7.6220,2,    25.00,2,     -999,1,   1.0897,2,     -999,9,     -999,9,     -999,9,     -999,9,     -999,1,   4.9769,1,   0.0111,1,     -999,9,     -999,9,     -999,9,     -999,9,     -999,9,20230725,2350, -31.8731, 110.9325,-999          ,9,-999          ,9
33RR20230722  ,I05        ,14      ,  1,3          ,3          ,2,20230725,2338, -31.8730, 110.9326,     5063,   4890.5,2,   1.0543,2,  34.7082,2,  34.7087,2,    205.9,2,    206.1,2,   124.91,2,    32.20,2,     0.00,2,     2.27,2,     -999,9,     -999,9,     -999,9,   2271.8,2,   2375.1,2,   7.6196,2,    25.02,2,     -999,1,   1.0545,2,     -999,9,     -999,9,     -999,9,     -999,9,     -999,1,   4.9771,1,   0.0111,1,     -999,9,     -999,9,     -999,9,     -999,9,     -999,9,20230725,2344, -31.8731, 110.9326,-999          ,9,-999          ,9