BOTTLE,20240422CCHHYDRO
EXPOCODE,SECT_ID,STNNBR,CASTNO,SAMPNO,BTLNBR,BTLNBR_FLAG_W,DATE,TIME,LATITUDE,LONGITUDE,DEPTH,CTDPRS,CTDPRS_FLAG_W,CTDTMP,CTDTMP_FLAG_W,CTDSAL,CTDSAL_FLAG_W,SALNTY,SALNTY_FLAG_W,CTDOXY,CTDOXY_FLAG_W,OXYGEN,OXYGEN_FLAG_W,SILCAT,SILCAT_FLAG_W,NITRAT,NITRAT_FLAG_W,NITRIT,NITRIT_FLAG_W,PHSPHT,PHSPHT_FLAG_W,CFC-11,CFC-11_FLAG_W,CFC-12,CFC-12_FLAG_W,SF6,SF6_FLAG_W,TCARBN,TCARBN_FLAG_W,ALKALI,ALKALI_FLAG_W,PH_TOT,PH_TOT_FLAG_W,PH_TMP,PH_TMP_FLAG_W,DOC,DOC_FLAG_W,REFTMP,REFTMP_FLAG_W,POC,POC_FLAG_W,PON,PON_FLAG_W,POP,POP_FLAG_W,DOP,DOP_FLAG_W,DELO18,DELO18_FLAG_W,CTDFLUOR,CTDFLUOR_FLAG_W,CTDXMISS,CTDXMISS_FLAG_W,N2O,N2O_FLAG_W,D15N_NO3,D15N_NO3_FLAG_W,D15N_NO2+NO3,D15N_NO2+NO3_FLAG_W,D18O_NO2+NO3,D18O_NO2+NO3_FLAG_W,D18O_NO3,D18O_NO3_FLAG_W,BTL_DATE,BTL_TIME,BTL_LAT,BTL_LON,HPLC,HPLC_FLAG_W,DNA,DNA_FLAG_W
,,,,,,,,,,,METERS,DBAR,,ITS-90,,PSS-78,,PSS-78,,UMOL/KG,,UMOL/KG,,UMOL/KG,,UMOL/KG,,UMOL/KG,,UMOL/KG,,PMOL/KG,,PMOL/KG,,FMOL/KG,,UMOL/KG,,UMOL/KG,,,,DEG C,,UMOL/KG,,ITS-90,,UG/KG,,UG/KG,,UG/L,,UMOL/KG,,/MILLE,,VOLTS,,VOLTS,,NMOL/KG,,/MILLE,,/MILLE,,/MILLE,,/MILLE,,,,,,,,,
33RR20230722  ,I05        ,9       ,  1,36         ,36         ,2,20230723,2134, -32.3747, 113.4217,     4575,      5.8,2,  19.5086,2,  35.4810,2,  35.4829,2,    226.0,2,    226.4,2,     2.44,2,     0.02,2,     0.01,2,     0.09,2,     -999,9,     -999,9,     -999,9,   2044.1,2,   2329.6,2,   8.0113,2,    25.02,2,     -999,1,  19.5078,2,     -999,9,     -999,9,     -999,9,     -999,9,     -999,9,   4.7959,1,   0.0228,1,     -999,9,     -999,9,     -999,9,     -999,9,     -999,9,20230723,2333, -32.3747, 113.4217,-999          ,9,-999          ,9
33RR20230722  ,I05        ,9       ,  1,35         ,35         ,2,20230723,2134, -32.3747, 113.4217,     4575,     31.6,2,  19.3956,2,  35.5465,2,  35.5318,2,    223.8,2,    225.4,2,     2.93,2,     0.06,2,     0.05,2,     0.10,2,     -999,9,     -999,9,     -999,9,   2049.4,2,   2335.3,2,   8.0052,2,    25.02,2,     -999,1,  19.4062,2,     -999,9,     -999,9,     -999,9,     -999,9,     -999,9,   4.9749,1,   0.0233,1,     -999,9,     -999,9,     -999,9,     -999,9,     -999,9,20230723,2330, -32.3747, 113.4217,-999          ,9,-999          ,9
33RR20230722  ,I05        ,9       ,  1,34         ,34         ,2,20230723,2134, -32.3747, 113.4217,     4575,     50.7,2,  18.7691,2,  35.6513,2,  35.6520,2,    224.4,2,    225.7,2,     2.54,2,     0.12,2,     0.13,2,     0.06,2,     -999,9,     -999,9,     -999,9,   2065.3,2,   2341.3,2,   7.9908,2,    25.01,2,     -999,1,  18.7656,2,     -999,9,     -999,9,     -999,9,     -999,9,     -999,9,   4.9532,1,   0.0218,1,     -999,9,     -999,9,     -999,9,     -999,9,     -999,9,20230723,2329, -32.3747, 113.4217,-999          ,9,-999          ,9
33RR20230722  ,I05        ,9       ,  1,33         ,33         ,2,20230723,2134, -32.3747, 113.4217,     4575,     72.6,2,  17.3952,2,  35.7027,2,  35.7041,2,    234.4,2,    234.2,2,     2.24,2,     0.04,2,     0.04,2,     0.10,2,     -999,9,     -999,9,     -999,9,   -999.0,9,     -999,9,     -999,9,     -999,9,     -999,1,  17.3888,2,     -999,9,     -999,9,     -999,9,     -999,9,     -999,9,   4.9363,1,   0.0302,1,     -999,9,     -999,9,     -999,9,     -999,9,     -999,9,20230723,2327, -32.3747, 113.4216,-999          ,9,-999          ,9
33RR20230722  ,I05        ,9       ,  1,32         ,32         ,2,20230723,2134, -32.3747, 113.4217,     4575,     94.6,2,  16.9364,2,  35.7134,2,  35.7148,2,    238.3,2,    237.7,2,     2.24,2,     0.00,2,     0.04,2,     0.09,2,     -999,9,     -999,9,     -999,9,   2081.8,2,   2348.0,2,   7.9720,2,    25.01,2,     -999,1,  16.9382,2,     -999,9,     -999,9,     -999,9,     -999,9,     -999,9,   4.8646,1,   0.0291,1,     -999,9,     -999,9,     -999,9,     -999,9,     -999,9,20230723,2325, -32.3747, 113.4216,-999          ,9,-999          ,9
33RR20230722  ,I05        ,9       ,  1,31         ,31         ,2,20230723,2134, -32.3747, 113.4217,     4575,    111.3,2,  16.9256,2,  35.7137,2,  35.7142,2,    237.7,2,    237.3,2,     1.85,2,     0.00,2,     0.04,2,     0.10,2,     -999,9,     -999,9,     -999,9,   2082.2,2,   2348.8,2,   7.9717,2,    25.01,2,     -999,1,  16.9236,2,     -999,9,     -999,9,     -999,9,     -999,9,     -999,9,   4.9745,1,   0.0286,1,     -999,9,     -999,9,     -999,9,     -999,9,     -999,9,20230723,2324, -32.3747, 113.4217,-999          ,9,-999          ,9
33RR20230722  ,I05        ,9       ,  1,30         ,30         ,2,20230723,2134, -32.3747, 113.4217,     4575,    136.3,2,  16.8895,2,  35.7158,2,  35.7169,2,    237.5,2,    237.2,2,     1.95,2,     0.00,2,     0.05,2,     0.09,2,     -999,9,     -999,9,     -999,9,   2080.7,2,   2347.4,2,   7.9703,2,    25.02,2,     -999,1,  16.8894,2,     -999,9,     -999,9,     -999,9,     -999,9,     -999,9,   4.9744,1,   0.0234,1,     -999,9,     -999,9,     -999,9,     -999,9,     -999,9,20230723,2322, -32.3747, 113.4217,-999          ,9,-999          ,9
33RR20230722  ,I05        ,9       ,  1,29         ,29         ,2,20230723,2134, -32.3747, 113.4217,     4575,    169.3,2,  16.1207,2,  35.6467,2,  35.6490,2,    235.0,2,    235.4,2,     1.07,2,     0.68,2,     0.20,2,     0.16,2,     -999,9,     -999,9,     -999,9,   2099.7,2,   2345.9,2,   7.9438,2,    25.00,2,     -999,1,  16.1030,2,     -999,9,     -999,9,     -999,9,     -999,9,     -999,9,   4.9731,1,   0.0147,1,     -999,9,     -999,9,     -999,9,     -999,9,     -999,9,20230723,2320, -32.3747, 113.4216,-999          ,9,-999          ,9
33RR20230722  ,I05        ,9       ,  1,28         ,28         ,2,20230723,2134, -32.3747, 113.4217,     4575,    195.8,2,  15.2986,2,  35.5477,2,  33.5925,4,    239.4,2,    238.9,2,     1.95,2,     1.19,2,     0.21,2,     0.21,2,     -999,9,     -999,9,     -999,9,   2109.8,3,   2342.3,2,   7.9286,2,    25.02,2,     -999,1,  15.3143,2,     -999,9,     -999,9,     -999,9,     -999,9,     -999,9,   4.9725,1,   0.0125,1,     -999,9,     -999,9,     -999,9,     -999,9,     -999,9,20230723,2319, -32.3747, 113.4216,-999          ,9,-999          ,9
33RR20230722  ,I05        ,9       ,  1,27         ,27         ,2,20230723,2134, -32.3747, 113.4217,     4575,    231.6,2,  14.0884,2,  35.3542,2,  33.3875,4,    236.8,2,    237.1,2,     1.66,2,     3.62,2,     0.03,2,     0.36,2,     -999,9,     -999,9,     -999,9,   2113.2,2,   2330.9,2,   7.8875,2,    25.01,2,     -999,1,  14.0866,2,     -999,9,     -999,9,     -999,9,     -999,9,     -999,9,   4.9709,1,   0.0117,1,     -999,9,     -999,9,     -999,9,     -999,9,     -999,9,20230723,2317, -32.3747, 113.4217,-999          ,9,-999          ,9
33RR20230722  ,I05        ,9       ,  1,26         ,26         ,2,20230723,2134, -32.3747, 113.4217,     4575,    270.8,2,  12.4107,2,  35.0841,2,  33.1255,4,    241.8,2,    241.7,2,     2.05,2,     6.83,2,     0.01,2,     0.56,2,     -999,9,     -999,9,     -999,9,   2123.0,6,   2313.7,2,   7.8420,2,    25.01,2,     -999,1,  12.4107,2,     -999,9,     -999,9,     -999,9,     -999,9,     -999,9,   4.8103,1,   0.0115,1,     -999,9,     -999,9,     -999,9,     -999,9,     -999,9,20230723,2315, -32.3747, 113.4217,-999          ,9,-999          ,9
33RR20230722  ,I05        ,9       ,  1,25         ,25         ,2,20230723,2134, -32.3747, 113.4217,     4575,    311.2,2,  11.4974,2,  34.9326,2,  34.9347,2,    245.8,2,    245.5,2,     2.15,2,     8.84,2,     0.00,2,     0.69,2,     -999,9,     -999,9,     -999,9,   2127.7,2,   2305.6,2,   7.8184,2,    25.01,2,     -999,1,  11.4818,2,     -999,9,     -999,9,     -999,9,     -999,9,     -999,9,   4.9694,1,   0.0116,1,     -999,9,     -999,9,     -999,9,     -999,9,     -999,9,20230723,2314, -32.3747, 113.4216,-999          ,9,-999          ,9
33RR20230722  ,I05        ,9       ,  1,24         ,24         ,2,20230723,2134, -32.3747, 113.4217,     4575,    360.9,2,  10.7161,2,  34.8134,2,  34.8169,2,    247.7,2,    246.9,2,     2.44,2,    11.05,2,     0.00,2,     0.82,2,     -999,9,     -999,9,     -999,9,   2132.7,2,   2301.6,6,   7.8060,6,    25.01,2,     -999,1,  10.7089,2,     -999,9,     -999,9,     -999,9,     -999,9,     -999,9,   4.9688,1,   0.0115,1,     -999,9,     -999,9,     -999,9,     -999,9,     -999,9,20230723,2312, -32.3747, 113.4216,-999          ,9,-999          ,9
33RR20230722  ,I05        ,9       ,  1,23         ,23         ,2,20230723,2134, -32.3747, 113.4217,     4575,    431.8,2,  10.0377,2,  34.7301,2,  34.7331,2,    248.2,2,    247.1,2,     3.51,2,    13.55,2,     0.00,2,     0.98,2,     -999,9,     -999,9,     -999,9,   -999.0,9,     -999,9,     -999,9,     -999,9,     -999,1,  10.0321,2,     -999,9,     -999,9,     -999,9,     -999,9,     -999,9,   4.9682,1,   0.0113,1,     -999,9,     -999,9,     -999,9,     -999,9,     -999,9,20230723,2309, -32.3747, 113.4216,-999          ,9,-999          ,9
33RR20230722  ,I05        ,9       ,  1,22         ,22         ,2,20230723,2134, -32.3747, 113.4217,     4575,    561.8,2,   9.4236,2,  34.6857,2,  34.6887,2,    238.5,2,    238.1,2,     4.29,2,    16.18,2,     0.00,2,     1.11,2,     -999,9,     -999,9,     -999,9,   2148.9,2,   2291.9,2,   7.7484,6,    25.01,2,     -999,1,   9.4234,2,     -999,9,     -999,9,     -999,9,     -999,9,     -999,9,   4.9668,1,   0.0112,1,     -999,9,     -999,9,     -999,9,     -999,9,     -999,9,20230723,2306, -32.3747, 113.4217,-999          ,9,-999          ,9
33RR20230722  ,I05        ,9       ,  1,21         ,21         ,2,20230723,2134, -32.3747, 113.4217,     4575,    639.3,2,   9.0791,2,  34.6461,2,  34.6490,2,    237.0,2,    236.8,2,     5.37,2,    17.31,2,     0.00,2,     1.19,2,     -999,9,     -999,9,     -999,9,   2147.2,2,   2289.3,2,   7.7397,2,    25.02,2,     -999,1,   9.0780,2,     -999,9,     -999,9,     -999,9,     -999,9,     -999,9,   4.9667,1,   0.0113,1,     -999,9,     -999,9,     -999,9,     -999,9,     -999,9,20230723,2304, -32.3747, 113.4217,-999          ,9,-999          ,9
33RR20230722  ,I05        ,9       ,  1,20         ,20         ,2,20230723,2134, -32.3747, 113.4217,     4575,    711.4,2,   8.2732,2,  34.5490,2,  34.5525,2,    219.0,2,    220.7,2,     8.49,2,    20.53,2,     0.00,2,     1.41,2,     -999,9,     -999,9,     -999,9,   2160.3,2,   2289.2,2,   7.7067,2,    25.02,2,     -999,1,   8.2743,2,     -999,9,     -999,9,     -999,9,     -999,9,     -999,9,   4.9671,1,   0.0112,1,     -999,9,     -999,9,     -999,9,     -999,9,     -999,9,20230723,2301, -32.3747, 113.4216,-999          ,9,-999          ,9
33RR20230722  ,I05        ,9       ,  1,19         ,19         ,2,20230723,2134, -32.3747, 113.4217,     4575,    862.4,2,   5.8865,2,  34.3935,2,  34.3963,2,    197.1,2,    198.2,2,    23.91,2,    28.04,2,     0.00,2,     1.94,2,     -999,9,     -999,9,     -999,9,   -999.0,9,     -999,9,     -999,9,     -999,9,     -999,1,   5.8809,2,     -999,9,     -999,9,     -999,9,     -999,9,     -999,9,   4.9696,1,   0.0111,1,     -999,9,     -999,9,     -999,9,     -999,9,     -999,9,20230723,2258, -32.3747, 113.4217,-999          ,9,-999          ,9
33RR20230722  ,I05        ,9       ,  1,18         ,18         ,2,20230723,2134, -32.3747, 113.4217,     4575,    921.8,2,   5.0673,2,  34.3735,2,  34.3755,2,    194.1,2,    195.1,2,    31.23,2,    29.63,2,     0.00,2,     2.04,2,     -999,9,     -999,9,     -999,9,   2202.0,3,   2298.8,2,   7.6175,2,    25.01,2,     -999,1,   5.0811,2,     -999,9,     -999,9,     -999,9,     -999,9,     -999,9,   4.9703,1,   0.0111,1,     -999,9,     -999,9,     -999,9,     -999,9,     -999,9,20230723,2256, -32.3747, 113.4216,-999          ,9,-999          ,9
33RR20230722  ,I05        ,9       ,  1,17         ,17         ,2,20230723,2134, -32.3747, 113.4217,     4575,    992.9,2,   4.3093,2,  34.3819,2,  34.3851,2,    188.4,2,    189.4,2,    39.92,2,    31.60,2,     0.00,2,     2.19,2,     -999,9,     -999,9,     -999,9,   2214.9,2,   2305.5,2,   7.6000,2,    25.02,2,     -999,1,   4.2969,2,     -999,9,     -999,9,     -999,9,     -999,9,     -999,9,   4.9713,1,   0.0111,1,     -999,9,     -999,9,     -999,9,     -999,9,     -999,9,20230723,2253, -32.3747, 113.4217,-999          ,9,-999          ,9
33RR20230722  ,I05        ,9       ,  1,16         ,16         ,2,20230723,2134, -32.3747, 113.4217,     4575,   1152.7,2,   3.7630,2,  34.4901,2,  34.4903,2,    156.9,2,    157.3,2,    62.26,2,    34.09,2,     0.00,2,     2.37,2,     -999,9,     -999,9,     -999,9,   2252.0,2,   2332.0,2,   7.5643,2,    25.00,2,     -999,1,   3.7613,2,     -999,9,     -999,9,     -999,9,     -999,9,     -999,9,   4.9327,1,   0.0111,1,     -999,9,     -999,9,     -999,9,     -999,9,     -999,9,20230723,2250, -32.3747, 113.4217,-999          ,9,-999          ,9
33RR20230722  ,I05        ,9       ,  1,15         ,15         ,2,20230723,2134, -32.3747, 113.4217,     4575,   1315.0,2,   3.3388,2,  34.5467,2,  34.5488,2,    151.4,2,    151.4,2,    71.92,2,    34.69,2,     0.00,2,     2.43,2,     -999,9,     -999,9,     -999,9,   2262.5,2,   2343.8,2,   7.5569,2,    25.00,2,     -999,1,   3.3391,2,     -999,9,     -999,9,     -999,9,     -999,9,     -999,9,   4.9744,1,   0.0112,1,     -999,9,     -999,9,     -999,9,     -999,9,     -999,9,20230723,2246, -32.3747, 113.4216,-999          ,9,-999          ,9
33RR20230722  ,I05        ,9       ,  1,14         ,14         ,2,20230723,2134, -32.3747, 113.4217,     4575,   1315.5,2,   3.3385,2,  34.5468,2,  34.5498,2,    151.4,2,    151.3,2,    71.92,2,    34.69,2,     0.00,2,     2.43,2,     -999,9,     -999,9,     -999,9,   -999.0,9,     -999,9,     -999,9,     -999,9,     -999,1,   3.3387,2,     -999,9,     -999,9,     -999,9,     -999,9,     -999,9,   4.9744,1,   0.0119,1,     -999,9,     -999,9,     -999,9,     -999,9,     -999,9,20230723,2245, -32.3747, 113.4216,-999          ,9,-999          ,9
33RR20230722  ,I05        ,9       ,  1,13         ,13         ,2,20230723,2134, -32.3747, 113.4217,     4575,   1465.3,2,   3.0174,2,  34.5892,2,  34.5916,2,    153.5,2,    153.4,2,    75.82,2,    34.61,2,     0.00,2,     2.40,2,     -999,9,     -999,9,     -999,9,   2265.9,2,   2347.5,2,   7.5610,2,    25.01,2,     -999,1,   3.0179,2,     -999,9,     -999,9,     -999,9,     -999,9,     -999,9,   4.9749,1,   0.0112,1,     -999,9,     -999,9,     -999,9,     -999,9,     -999,9,20230723,2242, -32.3747, 113.4217,-999          ,9,-999          ,9
33RR20230722  ,I05        ,9       ,  1,12         ,12         ,2,20230723,2134, -32.3747, 113.4217,     4575,   1616.6,2,   2.8108,2,  34.6370,2,  34.6392,2,    154.4,2,    154.0,2,    84.12,2,    34.37,2,     0.00,2,     2.38,2,     -999,9,     -999,9,     -999,9,   -999.0,9,     -999,9,     -999,9,     -999,9,     -999,1,   2.8122,2,     -999,9,     -999,9,     -999,9,     -999,9,     -999,9,   4.9749,1,   0.0113,1,     -999,9,     -999,9,     -999,9,     -999,9,     -999,9,20230723,2238, -32.3747, 113.4216,-999          ,9,-999          ,9
33RR20230722  ,I05        ,9       ,  1,11         ,11         ,2,20230723,2134, -32.3747, 113.4217,     4575,   1761.8,2,   2.6499,2,  34.6708,3,  34.6390,2,    156.1,3,    154.5,2,    84.80,2,    34.31,2,     0.00,2,     2.38,2,     -999,9,     -999,9,     -999,9,   2272.0,2,   2357.0,2,   7.5669,6,    25.01,2,     -999,1,   2.6508,2,     -999,9,     -999,9,     -999,9,     -999,9,     -999,9,   4.9009,1,   0.0112,1,     -999,9,     -999,9,     -999,9,     -999,9,     -999,9,20230723,2234, -32.3747, 113.4216,-999          ,9,-999          ,9
33RR20230722  ,I05        ,9       ,  1,10         ,10         ,2,20230723,2134, -32.3747, 113.4217,     4575,   2032.5,2,   2.3322,2,  34.7101,2,  34.7119,2,    161.1,2,    161.1,2,   100.70,2,    33.44,2,     0.00,2,     2.33,2,     -999,9,     -999,9,     -999,9,   2280.3,2,   2372.2,2,   7.5851,2,    25.00,2,     -999,1,   2.3339,2,     -999,9,     -999,9,     -999,9,     -999,9,     -999,9,   4.9753,1,   0.0112,1,     -999,9,     -999,9,     -999,9,     -999,9,     -999,9,20230723,2229, -32.3747, 113.4217,-999          ,9,-999          ,9
33RR20230722  ,I05        ,9       ,  1,9          ,9          ,2,20230723,2134, -32.3747, 113.4217,     4575,   2272.0,2,   2.1208,2,  34.7219,3,  34.7248,2,    165.6,2,    165.9,2,   104.21,2,    33.22,2,     0.00,2,     2.32,2,     -999,9,     -999,9,     -999,9,   2282.0,2,   2380.1,2,   7.5928,6,    25.01,2,     -999,1,   2.1211,2,     -999,9,     -999,9,     -999,9,     -999,9,     -999,9,   4.9755,1,   0.0124,1,     -999,9,     -999,9,     -999,9,     -999,9,     -999,9,20230723,2224, -32.3747, 113.4217,-999          ,9,-999          ,9
33RR20230722  ,I05        ,9       ,  1,8          ,8          ,2,20230723,2134, -32.3747, 113.4217,     4575,   2540.7,2,   1.9383,2,  34.7267,2,  34.7280,2,    170.8,2,    171.0,2,   108.50,2,    32.81,2,     0.00,2,     2.30,2,     -999,9,     -999,9,     -999,9,   -999.0,9,     -999,9,     -999,9,     -999,9,     -999,1,   1.9386,2,     -999,9,     -999,9,     -999,9,     -999,9,     -999,9,   4.7314,1,   0.0121,1,     -999,9,     -999,9,     -999,9,     -999,9,     -999,9,20230723,2218, -32.3747, 113.4217,-999          ,9,-999          ,9
33RR20230722  ,I05        ,9       ,  1,7          ,7          ,2,20230723,2134, -32.3747, 113.4217,     4575,   2974.3,2,   1.6578,2,  34.7276,2,  34.7286,2,    179.8,2,    180.0,2,   114.85,2,    32.54,2,     0.00,2,     2.30,2,     -999,9,     -999,9,     -999,9,   2281.5,2,   2382.4,6,   7.6097,2,    25.02,2,     -999,1,   1.6582,2,     -999,9,     -999,9,     -999,9,     -999,9,     -999,9,   4.9759,1,   0.0115,1,     -999,9,     -999,9,     -999,9,     -999,9,     -999,9,20230723,2210, -32.3747, 113.4217,-999          ,9,-999          ,9
33RR20230722  ,I05        ,9       ,  1,6          ,6          ,2,20230723,2134, -32.3747, 113.4217,     4575,   3424.5,2,   1.4120,2,  34.7227,2,  34.7243,2,    186.4,2,    186.9,2,   115.53,2,    32.57,2,     0.00,2,     2.27,2,     -999,9,     -999,9,     -999,9,   -999.0,9,     -999,9,     -999,9,     -999,9,     -999,1,   1.4123,2,     -999,9,     -999,9,     -999,9,     -999,9,     -999,9,   4.9761,1,   0.0111,1,     -999,9,     -999,9,     -999,9,     -999,9,     -999,9,20230723,2201, -32.3747, 113.4216,-999          ,9,-999          ,9
33RR20230722  ,I05        ,9       ,  1,5          ,5          ,2,20230723,2134, -32.3747, 113.4217,     4575,   3679.6,2,   1.3230,2,  34.7197,2,  34.7213,2,    188.8,2,    189.2,2,   119.73,2,    32.58,2,     0.00,2,     2.25,2,     -999,9,     -999,9,     -999,9,   2281.2,2,   2388.9,2,   7.6181,2,    25.01,2,     -999,1,   1.3233,2,     -999,9,     -999,9,     -999,9,     -999,9,     -999,9,   4.9765,1,   0.0112,1,     -999,9,     -999,9,     -999,9,     -999,9,     -999,9,20230723,2156, -32.3747, 113.4216,-999          ,9,-999          ,9
33RR20230722  ,I05        ,9       ,  1,4          ,4          ,2,20230723,2134, -32.3747, 113.4217,     4575,   4265.2,2,   1.2095,2,  34.7149,3,  34.7186,2,    193.7,2,    193.9,2,   120.12,2,    32.70,2,     0.00,2,     2.24,2,    0.020,2,    0.006,2,  -0.0700,2,   -999.0,9,     -999,9,     -999,9,     -999,9,     -999,1,   1.2098,2,     -999,9,     -999,9,     -999,9,     -999,9,     -999,9,   4.8766,1,   0.0118,1,     19.0,2,     -999,9,     -999,9,     -999,9,     -999,9,20230723,2145, -32.3747, 113.4217,-999          ,9,-999          ,9
33RR20230722  ,I05        ,9       ,  1,3          ,3          ,2,20230723,2134, -32.3747, 113.4217,     4575,   4467.0,2,   1.1882,2,  34.7136,3,  34.7170,2,    195.6,2,    195.7,2,   124.02,2,    32.66,2,     0.00,2,     2.24,2,    0.016,2,    0.009,2,   0.0300,2,   2279.7,2,   2386.7,2,   7.6232,2,    25.00,2,     -999,1,   1.1882,2,     -999,9,     -999,9,     -999,9,     -999,9,     -999,9,   4.9766,1,   0.0112,1,     19.5,2,     -999,9,     -999,9,     -999,9,     -999,9,20230723,2140, -32.3747, 113.4216,-999          ,9,-999          ,9