BOTTLE,20240422CCHHYDRO
EXPOCODE,SECT_ID,STNNBR,CASTNO,SAMPNO,BTLNBR,BTLNBR_FLAG_W,DATE,TIME,LATITUDE,LONGITUDE,DEPTH,CTDPRS,CTDPRS_FLAG_W,CTDTMP,CTDTMP_FLAG_W,CTDSAL,CTDSAL_FLAG_W,SALNTY,SALNTY_FLAG_W,CTDOXY,CTDOXY_FLAG_W,OXYGEN,OXYGEN_FLAG_W,SILCAT,SILCAT_FLAG_W,NITRAT,NITRAT_FLAG_W,NITRIT,NITRIT_FLAG_W,PHSPHT,PHSPHT_FLAG_W,CFC-11,CFC-11_FLAG_W,CFC-12,CFC-12_FLAG_W,SF6,SF6_FLAG_W,TCARBN,TCARBN_FLAG_W,ALKALI,ALKALI_FLAG_W,PH_TOT,PH_TOT_FLAG_W,PH_TMP,PH_TMP_FLAG_W,DOC,DOC_FLAG_W,REFTMP,REFTMP_FLAG_W,POC,POC_FLAG_W,PON,PON_FLAG_W,POP,POP_FLAG_W,DOP,DOP_FLAG_W,DELO18,DELO18_FLAG_W,CTDFLUOR,CTDFLUOR_FLAG_W,CTDXMISS,CTDXMISS_FLAG_W,N2O,N2O_FLAG_W,D15N_NO3,D15N_NO3_FLAG_W,D15N_NO2+NO3,D15N_NO2+NO3_FLAG_W,D18O_NO2+NO3,D18O_NO2+NO3_FLAG_W,D18O_NO3,D18O_NO3_FLAG_W,BTL_DATE,BTL_TIME,BTL_LAT,BTL_LON,HPLC,HPLC_FLAG_W,DNA,DNA_FLAG_W
,,,,,,,,,,,METERS,DBAR,,ITS-90,,PSS-78,,PSS-78,,UMOL/KG,,UMOL/KG,,UMOL/KG,,UMOL/KG,,UMOL/KG,,UMOL/KG,,PMOL/KG,,PMOL/KG,,FMOL/KG,,UMOL/KG,,UMOL/KG,,,,DEG C,,UMOL/KG,,ITS-90,,UG/KG,,UG/KG,,UG/L,,UMOL/KG,,/MILLE,,VOLTS,,VOLTS,,NMOL/KG,,/MILLE,,/MILLE,,/MILLE,,/MILLE,,,,,,,,,
33RR20230722  ,I05        ,187     ,  1,35         ,35         ,2,20230908,1908, -31.7922,  31.3919,     3311,      6.9,2,  21.8859,2,  35.4208,2,  35.4204,2,    220.3,2,    220.6,2,     1.56,2,     0.00,2,     0.03,2,     0.13,2,    1.664,2,    1.084,2,   1.8900,2,   2027.3,6,   2320.2,4,   8.0245,6,    25.02,2,     -999,1,     -999,1,     -999,9,     -999,9,     -999,9,     -999,9,     -999,9,   4.8540,1,   0.0457,1,      7.1,2,     -999,9,     -999,9,     -999,9,     -999,9,20230908,2046, -31.7922,  31.3919,-999          ,9,-999          ,9
33RR20230722  ,I05        ,187     ,  1,34         ,34         ,2,20230908,1908, -31.7922,  31.3919,     3311,     14.6,2,  21.8852,2,  35.4211,2,  35.4192,2,    220.2,2,    220.3,2,     1.37,2,     0.00,2,     0.03,2,     0.12,2,     -999,9,     -999,9,     -999,9,   -999.0,9,     -999,9,     -999,9,     -999,9,     -999,9,     -999,1,     -999,9,     -999,9,     -999,9,     -999,9,     -999,9,   4.9710,1,   0.0440,1,     -999,9,     -999,9,     -999,9,     -999,9,     -999,9,20230908,2044, -31.7922,  31.3920,-999          ,9,-999          ,9
33RR20230722  ,I05        ,187     ,  1,33         ,33         ,2,20230908,1908, -31.7922,  31.3919,     3311,     24.3,2,  21.8482,2,  35.4234,2,  35.4214,2,    220.3,2,    220.0,2,     1.56,2,     0.00,2,     0.03,2,     0.12,2,     -999,9,     -999,9,     -999,9,   -999.0,9,     -999,9,     -999,9,     -999,9,     -999,9,     -999,1,     -999,9,     -999,9,     -999,9,     -999,9,     -999,9,   4.9689,1,   0.0465,1,     -999,9,     -999,9,     -999,9,     -999,9,     -999,9,20230908,2042, -31.7921,  31.3919,-999          ,9,-999          ,9
33RR20230722  ,I05        ,187     ,  1,32         ,32         ,2,20230908,1908, -31.7922,  31.3919,     3311,     38.1,2,  21.1247,2,  35.4604,2,  35.4575,2,    224.5,2,    224.0,2,     1.56,2,     0.00,2,     0.03,2,     0.12,2,     -999,9,     -999,9,     -999,9,   2033.6,2,   2317.9,4,   8.0154,2,    25.02,2,     -999,9,     -999,1,     -999,9,     -999,9,     -999,9,     -999,9,     -999,9,   4.9747,1,   0.0473,1,     -999,9,     -999,9,     -999,9,     -999,9,     -999,9,20230908,2041, -31.7922,  31.3919,-999          ,9,-999          ,9
33RR20230722  ,I05        ,187     ,  1,31         ,31         ,2,20230908,1908, -31.7922,  31.3919,     3311,     55.1,2,  19.8328,2,  35.5139,2,  35.5160,2,    229.4,2,    229.1,2,     1.76,2,     0.02,2,     0.08,2,     0.14,2,    1.852,2,    1.194,2,   2.0600,2,   -999.0,9,     -999,9,     -999,9,     -999,9,     -999,9,     -999,1,     -999,9,     -999,9,     -999,9,     -999,9,     -999,9,   4.8989,1,   0.0553,1,      7.5,2,     -999,9,     -999,9,     -999,9,     -999,9,20230908,2039, -31.7922,  31.3919,-999          ,9,-999          ,9
33RR20230722  ,I05        ,187     ,  1,30         ,30         ,2,20230908,1908, -31.7922,  31.3919,     3311,     73.1,2,  19.5008,2,  35.5296,2,  35.5296,2,    230.4,2,    229.8,2,     1.76,2,     0.02,2,     0.12,2,     0.14,2,     -999,9,     -999,9,     -999,9,   2050.4,2,   2322.8,4,   7.9939,2,    25.02,2,     -999,9,     -999,1,     -999,9,     -999,9,     -999,9,     -999,9,     -999,9,   4.5463,1,   0.0500,1,     -999,9,     -999,9,     -999,9,     -999,9,     -999,9,20230908,2037, -31.7921,  31.3919,-999          ,9,-999          ,9
33RR20230722  ,I05        ,187     ,  1,29         ,29         ,2,20230908,1908, -31.7922,  31.3919,     3311,     95.3,2,  19.4913,2,  35.5326,2,  35.5310,2,    230.9,2,    230.3,2,     1.76,2,     0.04,2,     0.10,2,     0.13,2,     -999,9,     -999,9,     -999,9,   -999.0,9,     -999,9,     -999,9,     -999,9,     -999,9,  19.4877,2,     -999,9,     -999,9,     -999,9,     -999,9,     -999,9,   4.8577,1,   0.0580,1,     -999,9,     -999,9,     -999,9,     -999,9,     -999,9,20230908,2035, -31.7922,  31.3919,-999          ,9,-999          ,9
33RR20230722  ,I05        ,187     ,  1,28         ,28         ,2,20230908,1908, -31.7922,  31.3919,     3311,    119.3,2,  19.3516,2,  35.5340,2,  35.5356,2,    223.1,2,    222.9,2,     2.05,2,     0.79,2,     0.19,2,     0.17,2,    2.004,2,    1.205,2,   2.0800,2,   -999.0,9,     -999,9,     -999,9,     -999,9,     -999,9,  19.3450,2,     -999,9,     -999,9,     -999,9,     -999,9,     -999,9,   4.9725,1,   0.0284,1,      7.7,2,     -999,9,     -999,9,     -999,9,     -999,9,20230908,2033, -31.7922,  31.3920,-999          ,9,-999          ,9
33RR20230722  ,I05        ,187     ,  1,27         ,27         ,2,20230908,1908, -31.7922,  31.3919,     3311,    147.9,2,  18.6271,2,  35.5653,2,  35.5632,2,    213.5,2,    214.4,2,     2.73,2,     2.19,2,     0.07,2,     0.25,2,     -999,9,     -999,9,     -999,9,   2074.0,2,   2324.3,2,   7.9541,2,    25.02,2,     -999,9,  18.6209,2,     -999,9,     -999,9,     -999,9,     -999,9,     -999,9,   4.9707,1,   0.0148,1,     -999,9,     -999,9,     -999,9,     -999,9,     -999,9,20230908,2031, -31.7922,  31.3920,-999          ,9,-999          ,9
33RR20230722  ,I05        ,187     ,  1,26         ,26         ,2,20230908,1908, -31.7922,  31.3919,     3311,    181.0,2,  18.0952,2,  35.5930,2,  35.5886,2,    210.1,2,    211.0,2,     2.93,2,     2.74,2,     0.03,2,     0.29,2,     -999,9,     -999,9,     -999,9,   -999.0,9,     -999,9,     -999,9,     -999,9,     -999,9,  18.1441,2,     -999,9,     -999,9,     -999,9,     -999,9,     -999,9,   4.8570,1,   0.0118,1,     -999,9,     -999,9,     -999,9,     -999,9,     -999,9,20230908,2029, -31.7921,  31.3920,-999          ,9,-999          ,9
33RR20230722  ,I05        ,187     ,  1,25         ,25         ,2,20230908,1908, -31.7922,  31.3919,     3311,    215.5,2,  17.7271,2,  35.6293,2,  35.6279,2,    223.5,2,    223.1,2,     2.44,2,     1.97,2,     0.02,2,     0.23,2,     -999,9,     -999,9,     -999,9,   2082.0,2,   2327.9,2,   7.9448,2,    25.03,2,     -999,9,  17.7244,2,     -999,9,     -999,9,     -999,9,     -999,9,     -999,9,   4.6678,1,   0.0119,1,     -999,9,     -999,9,     -999,9,     -999,9,     -999,9,20230908,2027, -31.7922,  31.3919,-999          ,9,-999          ,9
33RR20230722  ,I05        ,187     ,  1,24         ,24         ,2,20230908,1908, -31.7922,  31.3919,     3311,    256.5,2,  17.1478,2,  35.5789,2,  35.5776,2,    203.8,2,    204.3,2,     3.22,2,     4.28,2,     0.00,2,     0.38,2,    2.094,2,    1.337,2,   2.0600,2,   -999.0,9,     -999,9,     -999,9,     -999,9,     -999,9,  17.1484,2,     -999,9,     -999,9,     -999,9,     -999,9,     -999,9,   4.9679,1,   0.0119,1,      9.4,2,     -999,9,     -999,9,     -999,9,     -999,9,20230908,2025, -31.7922,  31.3919,-999          ,9,-999          ,9
33RR20230722  ,I05        ,187     ,  1,23         ,23         ,2,20230908,1908, -31.7922,  31.3919,     3311,    308.6,2,  16.2862,2,  35.5254,2,  35.5259,2,    203.6,2,    204.4,2,     3.61,2,     5.45,2,     0.00,2,     0.47,2,     -999,9,     -999,9,     -999,9,   2110.0,2,   2323.3,2,   7.8828,6,    25.02,2,     -999,9,  16.2870,2,     -999,9,     -999,9,     -999,9,     -999,9,     -999,9,   4.8491,1,   0.0119,1,     -999,9,     -999,9,     -999,9,     -999,9,     -999,9,20230908,2023, -31.7922,  31.3919,-999          ,9,-999          ,9
33RR20230722  ,I05        ,187     ,  1,22         ,22         ,2,20230908,1908, -31.7922,  31.3919,     3311,    367.6,2,  15.5696,2,  35.4713,2,  35.4693,2,    206.6,2,    206.9,2,     3.71,2,     6.33,2,     0.00,2,     0.52,2,    2.042,2,    1.443,2,   2.0000,2,   -999.0,9,     -999,9,     -999,9,     -999,9,     -999,9,  15.5646,2,     -999,9,     -999,9,     -999,9,     -999,9,     -999,9,   4.9674,1,   0.0114,1,     10.2,2,     -999,9,     -999,9,     -999,9,     -999,9,20230908,2021, -31.7922,  31.3919,-999          ,9,-999          ,9
33RR20230722  ,I05        ,187     ,  1,21         ,21         ,2,20230908,1908, -31.7922,  31.3919,     3311,    438.5,2,  14.2325,2,  35.3309,2,  35.3263,2,    210.0,2,    210.0,2,     3.90,2,     8.17,2,     0.00,2,     0.63,2,    2.407,2,    1.562,2,   1.9700,2,   2125.1,2,   2315.2,2,   7.8386,2,    25.05,2,     -999,9,  14.2235,2,     -999,9,     -999,9,     -999,9,     -999,9,     -999,9,   4.6789,1,   0.0115,1,     10.9,2,     -999,9,     -999,9,     -999,9,     -999,9,20230908,2019, -31.7922,  31.3919,-999          ,9,-999          ,9
33RR20230722  ,I05        ,187     ,  1,20         ,20         ,2,20230908,1908, -31.7922,  31.3919,     3311,    517.8,2,  13.1456,2,  35.2139,2,  35.2188,2,    216.1,2,    216.0,2,     4.10,2,     9.76,2,     0.00,2,     0.73,2,     -999,9,     -999,9,     -999,9,   -999.0,9,     -999,9,     -999,9,     -999,9,     -999,9,  13.1466,2,     -999,9,     -999,9,     -999,9,     -999,9,     -999,9,   4.8202,1,   0.0114,1,     -999,9,     -999,9,     -999,9,     -999,9,     -999,9,20230908,2016, -31.7922,  31.3919,-999          ,9,-999          ,9
33RR20230722  ,I05        ,187     ,  1,19         ,19         ,2,20230908,1908, -31.7922,  31.3919,     3311,    602.0,2,  12.1457,2,  35.0724,2,  35.0713,2,    218.2,2,    218.0,2,     4.59,2,    11.70,2,     0.00,2,     0.87,2,    3.038,2,    1.697,2,   1.8700,2,   -999.0,9,     -999,9,     -999,9,     -999,9,     -999,9,  12.1382,2,     -999,9,     -999,9,     -999,9,     -999,9,     -999,9,   4.9667,1,   0.0115,1,     12.2,2,     -999,9,     -999,9,     -999,9,     -999,9,20230908,2013, -31.7922,  31.3919,-999          ,9,-999          ,9
33RR20230722  ,I05        ,187     ,  1,18         ,18         ,2,20230908,1908, -31.7922,  31.3919,     3311,    695.3,2,  10.7992,2,  34.8816,2,  34.8804,2,    218.6,2,    218.3,2,     5.76,2,    14.63,2,     0.00,2,     1.05,2,    3.334,2,    1.765,2,   1.7100,2,   2141.3,2,   2298.8,2,   7.7670,2,    25.02,2,     -999,9,  10.8030,2,     -999,9,     -999,9,     -999,9,     -999,9,     -999,9,   4.9668,1,   0.0113,1,     13.2,2,     -999,9,     -999,9,     -999,9,     -999,9,20230908,2011, -31.7922,  31.3919,-999          ,9,-999          ,9
33RR20230722  ,I05        ,187     ,  1,17         ,17         ,2,20230908,1908, -31.7922,  31.3919,     3311,    796.4,2,   9.5967,2,  34.7346,2,  34.7370,2,    212.5,2,    212.7,2,     8.49,2,    18.01,2,     0.00,2,     1.27,2,     -999,9,     -999,9,     -999,9,   -999.0,9,     -999,9,     -999,9,     -999,9,     -999,9,   9.6221,2,     -999,9,     -999,9,     -999,9,     -999,9,     -999,9,   4.7564,1,   0.0111,1,     -999,9,     -999,9,     -999,9,     -999,9,     -999,9,20230908,2008, -31.7922,  31.3919,-999          ,9,-999          ,9
33RR20230722  ,I05        ,187     ,  1,16         ,16         ,2,20230908,1908, -31.7922,  31.3919,     3311,    901.7,2,   8.2161,2,  34.6137,2,  34.6097,2,    198.6,2,    198.4,2,    15.72,2,    22.77,2,     0.00,2,     1.58,2,    2.672,2,    1.533,2,   1.1500,2,   -999.0,9,     -999,9,     -999,9,     -999,9,     -999,9,   8.2183,2,     -999,9,     -999,9,     -999,9,     -999,9,     -999,9,   4.9690,1,   0.0112,1,     16.9,2,     -999,9,     -999,9,     -999,9,     -999,9,20230908,2005, -31.7922,  31.3919,-999          ,9,-999          ,9
33RR20230722  ,I05        ,187     ,  1,15         ,15         ,2,20230908,1908, -31.7922,  31.3919,     3311,   1007.2,2,   6.6833,2,  34.4837,2,  34.4848,2,    198.0,2,    198.4,2,    22.06,2,    26.25,2,     0.00,2,     1.82,2,     -999,9,     -999,9,     -999,9,   2183.4,2,   2291.1,2,   7.6524,6,    25.01,2,     -999,9,   6.6816,2,     -999,9,     -999,9,     -999,9,     -999,9,     -999,9,   4.8905,1,   0.0111,1,     -999,9,     -999,9,     -999,9,     -999,9,     -999,9,20230908,2002, -31.7922,  31.3919,-999          ,9,-999          ,9
33RR20230722  ,I05        ,187     ,  1,14         ,14         ,2,20230908,1908, -31.7922,  31.3919,     3311,   1116.5,2,   5.4907,2,  34.4307,2,  34.4298,2,    192.3,2,    192.9,2,    31.63,2,    29.29,2,     0.00,2,     2.04,2,     -999,9,     -999,9,     -999,9,   -999.0,9,     -999,9,     -999,9,     -999,9,     -999,9,   5.4904,2,     -999,9,     -999,9,     -999,9,     -999,9,     -999,9,   4.9711,1,   0.0111,1,     -999,9,     -999,9,     -999,9,     -999,9,     -999,9,20230908,1959, -31.7922,  31.3919,-999          ,9,-999          ,9
33RR20230722  ,I05        ,187     ,  1,13         ,13         ,2,20230908,1908, -31.7922,  31.3919,     3311,   1229.5,2,   4.6054,2,  34.4318,2,  34.4330,2,    184.9,2,    185.0,2,    41.49,2,    31.31,2,     0.00,2,     2.19,2,    1.997,2,    0.929,2,   0.5400,2,   2216.0,2,   2305.2,2,   7.5958,2,    25.05,2,     -999,9,   4.6094,2,     -999,9,     -999,9,     -999,9,     -999,9,     -999,9,   4.9717,1,   0.0110,1,     21.6,2,     -999,9,     -999,9,     -999,9,     -999,9,20230908,1956, -31.7922,  31.3919,-999          ,9,-999          ,9
33RR20230722  ,I05        ,187     ,  1,12         ,12         ,2,20230908,1908, -31.7922,  31.3919,     3311,   1343.6,2,   4.0982,2,  34.4815,2,  34.4813,2,    174.0,2,    173.7,2,    51.84,2,    32.68,2,     0.00,2,     2.28,2,     -999,9,     -999,9,     -999,9,   -999.0,9,     -999,9,     -999,9,     -999,9,     -999,9,   4.0990,2,     -999,9,     -999,9,     -999,9,     -999,9,     -999,9,   4.9727,1,   0.0110,1,     -999,9,     -999,9,     -999,9,     -999,9,     -999,9,20230908,1953, -31.7922,  31.3919,-999          ,9,-999          ,9
33RR20230722  ,I05        ,187     ,  1,11         ,11         ,2,20230908,1908, -31.7922,  31.3919,     3311,   1459.3,2,   3.7252,2,  34.5307,2,  34.5296,2,    168.3,2,    168.4,2,    60.52,2,    33.28,2,     0.00,2,     2.32,2,     -999,9,     -999,9,     -999,9,   2240.6,2,   2324.4,2,   7.5735,2,    25.04,2,     -999,9,   3.7248,2,     -999,9,     -999,9,     -999,9,     -999,9,     -999,9,   4.9176,1,   0.0118,1,     -999,9,     -999,9,     -999,9,     -999,9,     -999,9,20230908,1950, -31.7922,  31.3920,-999          ,9,-999          ,9
33RR20230722  ,I05        ,187     ,  1,10         ,10         ,2,20230908,1908, -31.7922,  31.3919,     3311,   1575.9,2,   3.5295,2,  34.5812,2,  34.5859,2,    164.9,2,    164.4,2,    66.96,2,    33.34,2,     0.00,2,     2.34,2,    0.603,2,    0.297,2,   0.1400,2,   -999.0,9,     -999,9,     -999,9,     -999,9,     -999,9,   3.5291,2,     -999,9,     -999,9,     -999,9,     -999,9,     -999,9,   4.7735,1,   0.0116,1,     23.5,2,     -999,9,     -999,9,     -999,9,     -999,9,20230908,1947, -31.7922,  31.3919,-999          ,9,-999          ,9
33RR20230722  ,I05        ,187     ,  1,9          ,9          ,2,20230908,1908, -31.7922,  31.3919,     3311,   1694.3,2,   3.3256,2,  34.6435,2,  34.6413,2,    161.1,2,    161.3,2,    73.40,2,    33.15,2,     0.00,2,     2.34,2,     -999,9,     -999,9,     -999,9,   2255.9,2,   2338.7,2,   7.5747,2,    25.02,2,     -999,9,   3.3255,2,     -999,9,     -999,9,     -999,9,     -999,9,     -999,9,   4.9314,1,   0.0121,1,     -999,9,     -999,9,     -999,9,     -999,9,     -999,9,20230908,1944, -31.7922,  31.3919,-999          ,9,-999          ,9
33RR20230722  ,I05        ,187     ,  1,8          ,8          ,2,20230908,1908, -31.7922,  31.3919,     3311,   1822.5,2,   2.9889,2,  34.6740,2,  34.6730,2,    171.3,2,    171.0,2,    73.40,2,    32.18,2,     0.00,2,     2.25,2,     -999,9,     -999,9,     -999,9,   -999.0,9,     -999,9,     -999,9,     -999,9,     -999,9,   2.9949,2,     -999,9,     -999,9,     -999,9,     -999,9,     -999,9,   4.8118,1,   0.0117,1,     -999,9,     -999,9,     -999,9,     -999,9,     -999,9,20230908,1940, -31.7922,  31.3919,-999          ,9,-999          ,9
33RR20230722  ,I05        ,187     ,  1,7          ,7          ,2,20230908,1908, -31.7922,  31.3919,     3311,   1982.2,2,   2.8516,2,  34.7205,2,  34.7205,2,    176.5,2,    176.2,2,    75.54,2,    31.25,2,     0.00,2,     2.20,2,     -999,9,     -999,9,     -999,9,   2251.4,2,   2341.6,2,   7.6013,2,    25.02,2,     -999,9,   2.8511,2,     -999,9,     -999,9,     -999,9,     -999,9,     -999,9,   4.9738,1,   0.0115,1,     -999,9,     -999,9,     -999,9,     -999,9,     -999,9,20230908,1937, -31.7922,  31.3919,-999          ,9,-999          ,9
33RR20230722  ,I05        ,187     ,  1,6          ,6          ,2,20230908,1908, -31.7922,  31.3919,     3311,   2187.6,2,   2.7049,2,  34.7498,2,  34.7492,2,    186.5,2,    186.8,2,    72.71,2,    30.01,2,     0.00,2,     2.10,2,    0.093,2,    0.045,2,   0.0200,2,   -999.0,9,     -999,9,     -999,9,     -999,9,     -999,9,   2.7046,2,     -999,9,     -999,9,     -999,9,     -999,9,     -999,9,   4.9735,1,   0.0124,1,     20.1,2,     -999,9,     -999,9,     -999,9,     -999,9,20230908,1932, -31.7922,  31.3919,-999          ,9,-999          ,9
33RR20230722  ,I05        ,187     ,  1,5          ,5          ,2,20230908,1908, -31.7922,  31.3919,     3311,   2437.7,2,   2.5988,2,  34.7757,2,  34.7758,2,    196.7,2,    197.2,2,    69.10,2,    28.79,2,     0.00,2,     2.01,2,     -999,9,     -999,9,     -999,9,   2236.8,2,   2341.5,2,   7.6339,6,    25.02,2,     -999,9,   2.5980,2,     -999,9,     -999,9,     -999,9,     -999,9,     -999,9,   4.9647,1,   0.0117,1,     -999,9,     -999,9,     -999,9,     -999,9,     -999,9,20230908,1927, -31.7922,  31.3919,-999          ,9,-999          ,9
33RR20230722  ,I05        ,187     ,  1,4          ,37         ,2,20230908,1908, -31.7922,  31.3919,     3311,   2724.6,2,   2.4641,2,  34.8027,2,  34.8011,2,    209.0,2,    209.5,2,    64.90,2,    27.30,2,     0.00,2,     1.89,2,     -999,9,     -999,9,     -999,9,   -999.0,9,     -999,9,     -999,9,     -999,9,     -999,9,   2.4637,2,     -999,9,     -999,9,     -999,9,     -999,9,     -999,9,   4.9220,1,   0.0111,1,     -999,9,     -999,9,     -999,9,     -999,9,     -999,9,20230908,1921, -31.7922,  31.3919,-999          ,9,-999          ,9
33RR20230722  ,I05        ,187     ,  1,3          ,3          ,2,20230908,1908, -31.7922,  31.3919,     3311,   2994.2,2,   2.3286,2,  34.8121,2,  34.8121,2,    215.5,2,    215.9,2,    65.39,2,    26.73,2,     0.00,2,     1.85,2,    0.043,2,    0.022,2,   0.0200,2,   2221.3,2,   2339.2,2,   7.6610,2,    25.04,2,     -999,9,   2.3287,2,     -999,9,     -999,9,     -999,9,     -999,9,     -999,9,   4.9732,1,   0.0111,1,     16.6,2,     -999,9,     -999,9,     -999,9,     -999,9,20230908,1916, -31.7922,  31.3919,-999          ,9,-999          ,9
33RR20230722  ,I05        ,187     ,  1,2          ,2          ,2,20230908,1908, -31.7922,  31.3919,     3311,   3199.4,2,   2.0996,2,  34.8047,3,  34.8025,2,    217.4,2,    217.2,2,    71.63,2,    27.08,2,     0.00,2,     1.88,2,    0.052,2,    0.029,2,   0.0300,2,   -999.0,9,     -999,9,     -999,9,     -999,9,     -999,9,   2.0997,2,     -999,9,     -999,9,     -999,9,     -999,9,     -999,9,   4.9734,1,   0.0111,1,     16.4,2,     -999,9,     -999,9,     -999,9,     -999,9,20230908,1911, -31.7922,  31.3919,-999          ,9,-999          ,9