BOTTLE,20240422CCHHYDRO
EXPOCODE,SECT_ID,STNNBR,CASTNO,SAMPNO,BTLNBR,BTLNBR_FLAG_W,DATE,TIME,LATITUDE,LONGITUDE,DEPTH,CTDPRS,CTDPRS_FLAG_W,CTDTMP,CTDTMP_FLAG_W,CTDSAL,CTDSAL_FLAG_W,SALNTY,SALNTY_FLAG_W,CTDOXY,CTDOXY_FLAG_W,OXYGEN,OXYGEN_FLAG_W,SILCAT,SILCAT_FLAG_W,NITRAT,NITRAT_FLAG_W,NITRIT,NITRIT_FLAG_W,PHSPHT,PHSPHT_FLAG_W,CFC-11,CFC-11_FLAG_W,CFC-12,CFC-12_FLAG_W,SF6,SF6_FLAG_W,TCARBN,TCARBN_FLAG_W,ALKALI,ALKALI_FLAG_W,PH_TOT,PH_TOT_FLAG_W,PH_TMP,PH_TMP_FLAG_W,DOC,DOC_FLAG_W,REFTMP,REFTMP_FLAG_W,POC,POC_FLAG_W,PON,PON_FLAG_W,POP,POP_FLAG_W,DOP,DOP_FLAG_W,DELO18,DELO18_FLAG_W,CTDFLUOR,CTDFLUOR_FLAG_W,CTDXMISS,CTDXMISS_FLAG_W,N2O,N2O_FLAG_W,D15N_NO3,D15N_NO3_FLAG_W,D15N_NO2+NO3,D15N_NO2+NO3_FLAG_W,D18O_NO2+NO3,D18O_NO2+NO3_FLAG_W,D18O_NO3,D18O_NO3_FLAG_W,BTL_DATE,BTL_TIME,BTL_LAT,BTL_LON,HPLC,HPLC_FLAG_W,DNA,DNA_FLAG_W
,,,,,,,,,,,METERS,DBAR,,ITS-90,,PSS-78,,PSS-78,,UMOL/KG,,UMOL/KG,,UMOL/KG,,UMOL/KG,,UMOL/KG,,UMOL/KG,,PMOL/KG,,PMOL/KG,,FMOL/KG,,UMOL/KG,,UMOL/KG,,,,DEG C,,UMOL/KG,,ITS-90,,UG/KG,,UG/KG,,UG/L,,UMOL/KG,,/MILLE,,VOLTS,,VOLTS,,NMOL/KG,,/MILLE,,/MILLE,,/MILLE,,/MILLE,,,,,,,,,
33RR20230722  ,I05        ,5       ,  1,24         ,24         ,2,20230723,0022, -32.5710, 114.3735,     1738,      4.9,2,  20.3064,2,  35.3708,2,  35.3699,2,    223.1,2,    222.8,2,     3.32,2,     0.05,2,     0.00,2,     0.11,2,   -0.004,2,    0.000,2,   0.1200,2,   2030.4,2,   2321.0,2,   8.0186,2,    25.01,2,     -999,9,  20.3077,2,     -999,9,     -999,9,     -999,9,     -999,9,     -999,1,   4.9756,1,   0.0259,1,      7.5,2,     -999,1,     -999,1,     -999,1,     -999,1,20230723,0121, -32.5710, 114.3735,-999          ,9,-999          ,9
33RR20230722  ,I05        ,5       ,  1,23         ,23         ,2,20230723,0022, -32.5710, 114.3735,     1738,     10.4,2,  20.3116,2,  35.3709,2,  35.3707,2,    222.9,2,    223.4,2,     3.32,2,     0.01,2,     0.00,2,     0.10,2,     -999,9,     -999,9,     -999,9,   2031.2,2,   2320.4,2,   8.0185,2,    25.00,2,     -999,9,  20.3122,2,     -999,9,     -999,9,     -999,9,     -999,9,     -999,1,   4.7815,1,   0.0298,1,     -999,9,     -999,1,     -999,1,     -999,1,     -999,1,20230723,0118, -32.5710, 114.3735,-999          ,9,-999          ,9
33RR20230722  ,I05        ,5       ,  1,22         ,22         ,2,20230723,0022, -32.5710, 114.3735,     1738,     27.3,2,  20.0952,2,  35.4064,2,  35.4018,2,    223.8,2,     -999,5,     3.32,2,     0.00,2,     0.00,2,     0.09,2,     -999,9,     -999,9,     -999,9,   -999.0,9,     -999,9,     -999,9,     -999,9,     -999,9,  20.0809,2,     -999,9,     -999,9,     -999,9,     -999,9,     -999,1,   4.9755,1,   0.0325,1,     -999,9,     -999,1,     -999,1,     -999,1,     -999,1,20230723,0116, -32.5710, 114.3735,-999          ,9,-999          ,9
33RR20230722  ,I05        ,5       ,  1,21         ,21         ,2,20230723,0022, -32.5710, 114.3735,     1738,     50.5,2,  19.3950,2,  35.5220,2,  35.5150,2,    226.8,2,    226.8,2,     2.54,2,     0.02,2,     0.00,2,     0.10,2,     -999,5,     -999,5,     -999,5,   2047.7,2,   2330.5,2,   8.0043,6,    25.01,2,     -999,9,  19.3908,2,     -999,9,     -999,9,     -999,9,     -999,9,     -999,1,   4.9753,1,   0.0322,1,     -999,5,     -999,1,     -999,1,     -999,1,     -999,1,20230723,0115, -32.5710, 114.3735,-999          ,9,-999          ,9
33RR20230722  ,I05        ,5       ,  1,20         ,20         ,2,20230723,0022, -32.5710, 114.3735,     1738,     72.8,2,  18.6164,2,  35.6266,2,  35.6338,2,    228.6,2,    227.8,2,     2.24,2,     0.11,2,     0.02,2,     0.10,2,     -999,9,     -999,9,     -999,9,   -999.0,9,     -999,9,     -999,9,     -999,9,     -999,9,  18.6162,2,     -999,9,     -999,9,     -999,9,     -999,9,     -999,1,   4.9748,1,   0.0289,1,     -999,9,     -999,1,     -999,1,     -999,1,     -999,1,20230723,0113, -32.5710, 114.3735,-999          ,9,-999          ,9
33RR20230722  ,I05        ,5       ,  1,19         ,19         ,2,20230723,0022, -32.5710, 114.3735,     1738,     94.3,2,  17.2396,2,  35.6884,2,  35.6865,2,    236.1,2,    236.1,2,     2.24,2,     0.01,2,     0.03,2,     0.09,2,     -999,9,     -999,9,     -999,9,   2073.5,2,   2343.1,2,   7.9765,2,    25.01,2,     -999,9,  17.2442,2,     -999,9,     -999,9,     -999,9,     -999,9,     -999,1,   4.9749,1,   0.0282,1,     -999,9,     -999,1,     -999,1,     -999,1,     -999,1,20230723,0111, -32.5710, 114.3735,-999          ,9,-999          ,9
33RR20230722  ,I05        ,5       ,  1,18         ,18         ,2,20230723,0022, -32.5710, 114.3735,     1738,    110.8,2,  17.1132,2,  35.6958,2,  35.6944,2,    236.0,2,    235.7,2,     1.95,2,     0.04,2,     0.06,2,     0.10,2,    1.842,2,    1.331,2,   2.3000,2,   -999.0,9,     -999,9,     -999,9,     -999,9,     -999,9,  17.1118,2,     -999,9,     -999,9,     -999,9,     -999,9,     -999,1,   4.9744,1,   0.0224,1,      8.4,2,     -999,1,     -999,1,     -999,1,     -999,1,20230723,0109, -32.5710, 114.3735,-999          ,9,-999          ,9
33RR20230722  ,I05        ,5       ,  1,17         ,17         ,2,20230723,0022, -32.5710, 114.3735,     1738,    131.0,2,  17.0575,2,  35.6951,2,  35.6932,2,    235.4,2,    235.5,2,     1.85,2,     0.06,2,     0.08,2,     0.10,2,     -999,9,     -999,9,     -999,9,   2077.6,2,   2343.1,2,   7.9712,2,    25.01,2,     -999,9,  17.0613,2,     -999,9,     -999,9,     -999,9,     -999,9,     -999,1,   4.9744,1,   0.0198,1,     -999,9,     -999,1,     -999,1,     -999,1,     -999,1,20230723,0108, -32.5710, 114.3735,-999          ,9,-999          ,9
33RR20230722  ,I05        ,5       ,  1,16         ,16         ,2,20230723,0022, -32.5710, 114.3735,     1738,    153.7,2,  16.6818,2,  35.7116,2,  35.7086,2,    234.2,2,    235.0,2,     1.56,2,     0.17,2,     0.23,2,     0.12,2,     -999,9,     -999,9,     -999,9,   -999.0,9,     -999,9,     -999,9,     -999,9,     -999,9,  16.6817,2,     -999,9,     -999,9,     -999,9,     -999,9,     -999,1,   4.8234,1,   0.0192,1,     -999,9,     -999,1,     -999,1,     -999,1,     -999,1,20230723,0106, -32.5710, 114.3736,-999          ,9,-999          ,9
33RR20230722  ,I05        ,5       ,  1,15         ,15         ,2,20230723,0022, -32.5710, 114.3735,     1738,    180.1,2,  15.9157,2,  35.6204,2,  35.6198,2,    237.6,2,    237.3,2,     1.95,2,     0.77,2,     0.17,2,     0.18,2,     -999,9,     -999,9,     -999,9,   2093.9,2,   2341.4,2,   7.9414,2,    25.01,2,     -999,9,  15.9179,2,     -999,9,     -999,9,     -999,9,     -999,9,     -999,1,   4.9733,1,   0.0147,1,     -999,9,     -999,1,     -999,1,     -999,1,     -999,1,20230723,0105, -32.5710, 114.3736,-999          ,9,-999          ,9
33RR20230722  ,I05        ,5       ,  1,14         ,14         ,2,20230723,0022, -32.5710, 114.3735,     1738,    213.6,2,  15.0931,2,  35.5278,2,  35.5271,2,    238.3,2,    238.5,2,     2.05,2,     1.64,2,     0.09,2,     0.22,2,    2.134,2,    1.483,2,   2.6900,2,   2101.5,2,   2338.6,2,   7.9212,2,    25.01,2,     -999,9,  15.1077,2,     -999,9,     -999,9,     -999,9,     -999,9,     -999,1,   4.6882,1,   0.0129,1,      9.3,2,     -999,1,     -999,1,     -999,1,     -999,1,20230723,0103, -32.5710, 114.3735,-999          ,9,-999          ,9
33RR20230722  ,I05        ,5       ,  1,13         ,13         ,2,20230723,0022, -32.5710, 114.3735,     1738,    294.7,2,  12.6748,2,  35.1091,2,  35.1110,2,    237.8,2,    238.6,2,     1.85,2,     6.29,2,     0.00,2,     0.53,2,     -999,9,     -999,9,     -999,9,   2118.8,2,   2315.4,2,   7.8453,2,    25.01,2,     -999,9,  12.6761,2,     -999,9,     -999,9,     -999,9,     -999,9,     -999,1,   4.9697,1,   0.0114,1,     -999,9,     -999,1,     -999,1,     -999,1,     -999,1,20230723,0100, -32.5710, 114.3735,-999          ,9,-999          ,9
33RR20230722  ,I05        ,5       ,  1,12         ,12         ,2,20230723,0022, -32.5710, 114.3735,     1738,    385.0,2,  10.7361,2,  34.8614,2,  34.8641,2,    236.4,2,    236.3,2,     2.83,2,    12.25,2,     0.00,2,     0.88,2,     -999,9,     -999,9,     -999,9,   -999.0,9,     -999,9,     -999,9,     -999,9,     -999,9,  10.7343,2,     -999,9,     -999,9,     -999,9,     -999,9,     -999,1,   4.9321,1,   0.0113,1,     -999,9,     -999,1,     -999,1,     -999,1,     -999,1,20230723,0058, -32.5710, 114.3735,-999          ,9,-999          ,9
33RR20230722  ,I05        ,5       ,  1,11         ,11         ,2,20230723,0022, -32.5710, 114.3735,     1738,    474.2,2,   9.7953,2,  34.7584,2,  34.7592,2,    235.5,2,    235.5,2,     4.29,2,    15.50,2,     0.00,2,     1.07,2,    2.903,2,    1.941,2,   2.6500,2,   2145.4,2,   2294.6,2,   7.7525,2,    25.02,2,     -999,9,   9.7931,2,     -999,9,     -999,9,     -999,9,     -999,9,     -999,1,   4.9572,1,   0.0113,1,     14.3,2,     -999,1,     -999,1,     -999,1,     -999,1,20230723,0055, -32.5710, 114.3735,-999          ,9,-999          ,9
33RR20230722  ,I05        ,5       ,  1,10         ,10         ,2,20230723,0022, -32.5710, 114.3735,     1738,    607.2,2,   8.8041,2,  34.6191,2,  34.6187,2,    231.9,2,    231.6,2,     6.44,2,    18.59,2,     0.00,2,     1.27,2,     -999,9,     -999,9,     -999,9,   -999.0,9,     -999,9,     -999,9,     -999,9,     -999,9,   8.8031,2,     -999,9,     -999,9,     -999,9,     -999,9,     -999,1,   4.9673,1,   0.0112,1,     -999,9,     -999,1,     -999,1,     -999,1,     -999,1,20230723,0051, -32.5710, 114.3735,-999          ,9,-999          ,9
33RR20230722  ,I05        ,5       ,  1,9          ,9          ,2,20230723,0022, -32.5710, 114.3735,     1738,    759.8,2,   6.3905,2,  34.4221,2,  34.4226,2,    198.4,2,    199.2,2,    19.91,2,    26.94,2,     0.00,2,     1.82,2,    2.304,2,    1.354,2,   0.8600,2,   2182.9,2,   2289.7,2,   7.6465,2,    24.98,2,     -999,9,   6.3967,2,     -999,9,     -999,9,     -999,9,     -999,9,     -999,1,   4.9169,1,   0.0116,1,     18.9,2,     -999,1,     -999,1,     -999,1,     -999,1,20230723,0048, -32.5710, 114.3735,-999          ,9,-999          ,9
33RR20230722  ,I05        ,5       ,  1,8          ,8          ,2,20230723,0022, -32.5710, 114.3735,     1738,    908.6,2,   4.5972,2,  34.3875,2,  34.3878,2,    186.4,2,    186.7,2,    40.21,2,    31.45,2,     0.00,2,     2.14,2,     -999,9,     -999,9,     -999,9,   -999.0,9,     -999,9,     -999,9,     -999,9,     -999,9,   4.5963,2,     -999,9,     -999,9,     -999,9,     -999,9,     -999,1,   4.9707,1,   0.0112,1,     -999,9,     -999,1,     -999,1,     -999,1,     -999,1,20230723,0044, -32.5710, 114.3735,-999          ,9,-999          ,9
33RR20230722  ,I05        ,5       ,  1,7          ,7          ,2,20230723,0022, -32.5710, 114.3735,     1738,   1059.6,2,   3.8475,2,  34.4625,2,  34.4642,2,    163.8,2,    163.4,2,    59.05,2,    33.80,2,     0.00,2,     2.32,2,    0.759,2,    0.414,2,   0.2800,2,   2239.5,2,   2325.0,2,   7.5723,6,    24.99,2,     -999,9,   3.8522,2,     -999,9,     -999,9,     -999,9,     -999,9,     -999,1,   4.9724,1,   0.0118,1,     24.1,2,     -999,1,     -999,1,     -999,1,     -999,1,20230723,0040, -32.5710, 114.3735,-999          ,9,-999          ,9
33RR20230722  ,I05        ,5       ,  1,6          ,6          ,2,20230723,0022, -32.5710, 114.3735,     1738,   1212.0,2,   3.4538,2,  34.5223,2,  34.5235,2,    153.9,2,    153.8,2,    72.32,2,    34.83,2,     0.00,2,     2.41,2,    0.280,2,    0.203,2,   0.0300,2,   -999.0,9,     -999,9,     -999,9,     -999,9,     -999,9,   3.4553,2,     -999,9,     -999,9,     -999,9,     -999,9,     -999,1,   4.9732,1,   0.0117,1,     24.9,2,     -999,1,     -999,1,     -999,1,     -999,1,20230723,0037, -32.5710, 114.3735,-999          ,9,-999          ,9
33RR20230722  ,I05        ,5       ,  1,5          ,5          ,2,20230723,0022, -32.5710, 114.3735,     1738,   1363.7,2,   3.1504,2,  34.5814,2,  34.5818,2,    150.4,2,    150.4,2,    81.00,2,    34.83,2,     0.00,2,     2.42,2,    0.171,2,    0.087,2,   0.0800,2,   2266.7,2,   2349.1,2,   7.5595,6,    25.00,2,     -999,9,   3.1501,2,     -999,9,     -999,9,     -999,9,     -999,9,     -999,1,   4.9735,1,   0.0116,1,     24.9,2,     -999,1,     -999,1,     -999,1,     -999,1,20230723,0033, -32.5710, 114.3735,-999          ,9,-999          ,9
33RR20230722  ,I05        ,5       ,  1,4          ,4          ,2,20230723,0022, -32.5710, 114.3735,     1738,   1515.5,2,   2.8806,2,  34.6221,2,  34.6231,2,    153.3,2,    153.5,2,    84.22,2,    34.29,2,     0.00,2,     2.39,2,    0.087,2,    0.052,2,  -0.0100,2,   -999.0,9,     -999,9,     -999,9,     -999,9,     -999,9,   2.8811,2,     -999,9,     -999,9,     -999,9,     -999,9,     -999,1,   4.8720,1,   0.0123,1,     23.6,2,     -999,1,     -999,1,     -999,1,     -999,1,20230723,0029, -32.5710, 114.3736,-999          ,9,-999          ,9
33RR20230722  ,I05        ,5       ,  1,3          ,3          ,2,20230723,0022, -32.5710, 114.3735,     1738,   1667.4,2,   2.6199,2,  34.6714,2,  34.6718,2,    156.6,2,    157.0,2,    94.46,2,    33.89,2,     0.00,2,     2.39,2,    0.005,2,    0.020,2,   0.2400,2,   2275.6,2,   2363.0,6,   7.5747,2,    25.01,2,     -999,9,   2.6205,2,     -999,9,     -999,9,     -999,9,     -999,9,     -999,1,   4.5765,1,   0.0123,1,     23.7,2,     -999,1,     -999,1,     -999,1,     -999,1,20230723,0026, -32.5710, 114.3736,-999          ,9,-999          ,9
33RR20230722  ,I05        ,5       ,  1,1          ,1          ,2,20230723,0022, -32.5710, 114.3735,     1738,   1742.9,2,   2.5680,2,  34.6794,2,  34.6814,2,    157.5,2,    157.4,2,    95.63,2,    33.81,2,     0.00,2,     2.38,2,    0.003,2,    0.017,2,   0.0400,2,   2275.6,6,   2363.3,2,   7.5771,2,    25.01,2,     -999,9,   2.5677,2,     -999,9,     -999,9,     -999,9,     -999,9,     -999,1,   0.7197,1,   0.0122,1,     23.6,2,     -999,1,     -999,1,     -999,1,     -999,1,20230723,0022, -32.5710, 114.3735,-999          ,9,-999          ,9
33RR20230722  ,I05        ,5       ,  1,2          ,2          ,2,20230723,0022, -32.5710, 114.3735,     1738,   1743.6,2,   2.5675,2,  34.6795,2,  34.6806,2,    157.4,2,    157.4,2,    95.14,2,    33.92,2,     0.00,2,     2.36,2,     -999,9,     -999,9,     -999,9,   -999.0,9,     -999,9,     -999,9,     -999,9,     -999,9,   2.5675,2,     -999,9,     -999,9,     -999,9,     -999,9,     -999,1,   0.6840,1,   0.0122,1,     -999,9,     -999,1,     -999,1,     -999,1,     -999,1,20230723,0023, -32.5710, 114.3735,-999          ,9,-999          ,9