BOTTLE,20240422CCHHYDRO
EXPOCODE,SECT_ID,STNNBR,CASTNO,SAMPNO,BTLNBR,BTLNBR_FLAG_W,DATE,TIME,LATITUDE,LONGITUDE,DEPTH,CTDPRS,CTDPRS_FLAG_W,CTDTMP,CTDTMP_FLAG_W,CTDSAL,CTDSAL_FLAG_W,SALNTY,SALNTY_FLAG_W,CTDOXY,CTDOXY_FLAG_W,OXYGEN,OXYGEN_FLAG_W,SILCAT,SILCAT_FLAG_W,NITRAT,NITRAT_FLAG_W,NITRIT,NITRIT_FLAG_W,PHSPHT,PHSPHT_FLAG_W,CFC-11,CFC-11_FLAG_W,CFC-12,CFC-12_FLAG_W,SF6,SF6_FLAG_W,TCARBN,TCARBN_FLAG_W,ALKALI,ALKALI_FLAG_W,PH_TOT,PH_TOT_FLAG_W,PH_TMP,PH_TMP_FLAG_W,DOC,DOC_FLAG_W,REFTMP,REFTMP_FLAG_W,POC,POC_FLAG_W,PON,PON_FLAG_W,POP,POP_FLAG_W,DOP,DOP_FLAG_W,DELO18,DELO18_FLAG_W,CTDFLUOR,CTDFLUOR_FLAG_W,CTDXMISS,CTDXMISS_FLAG_W,N2O,N2O_FLAG_W,D15N_NO3,D15N_NO3_FLAG_W,D15N_NO2+NO3,D15N_NO2+NO3_FLAG_W,D18O_NO2+NO3,D18O_NO2+NO3_FLAG_W,D18O_NO3,D18O_NO3_FLAG_W,BTL_DATE,BTL_TIME,BTL_LAT,BTL_LON,HPLC,HPLC_FLAG_W,DNA,DNA_FLAG_W
,,,,,,,,,,,METERS,DBAR,,ITS-90,,PSS-78,,PSS-78,,UMOL/KG,,UMOL/KG,,UMOL/KG,,UMOL/KG,,UMOL/KG,,UMOL/KG,,PMOL/KG,,PMOL/KG,,FMOL/KG,,UMOL/KG,,UMOL/KG,,,,DEG C,,UMOL/KG,,ITS-90,,UG/KG,,UG/KG,,UG/L,,UMOL/KG,,/MILLE,,VOLTS,,VOLTS,,NMOL/KG,,/MILLE,,/MILLE,,/MILLE,,/MILLE,,,,,,,,,
33RR20230722  ,I05        ,59      ,  1,35         ,35         ,2,20230807,0603, -32.4021,  91.3401,     4124,      5.7,2,  16.8339,2,  35.8211,2,  35.8206,2,    239.5,2,    239.6,2,     1.27,2,     0.19,2,     0.03,2,     0.17,2,    0.369,4,    1.360,2,   2.3400,2,   2094.7,6,   2351.1,2,   7.9554,2,    25.03,2,     -999,1,  16.8337,2,     -999,9,     -999,9,     -999,9,     -999,9,     -999,1,   4.9751,1,   0.0275,1,      7.6,2,     -999,9,     -999,9,     -999,9,     -999,9,20230807,0753, -32.4022,  91.3400,-999          ,9,-999          ,9
33RR20230722  ,I05        ,59      ,  1,36         ,36         ,2,20230807,0603, -32.4021,  91.3401,     4124,      7.4,2,  16.8348,2,  35.8215,2,     -999,9,    239.5,2,     -999,9,     -999,9,     -999,9,     -999,9,     -999,9,     -999,9,     -999,9,     -999,9,   -999.0,9,     -999,9,     -999,9,     -999,9,     -999,9,  16.8343,2,     -999,9,     -999,9,     -999,9,     -999,9,     -999,9,   4.9009,1,   0.0280,1,     -999,9,     -999,9,     -999,9,     -999,9,     -999,9,20230807,0753, -32.4021,  91.3401,-999          ,9,-999          ,9
33RR20230722  ,I05        ,59      ,  1,34         ,34         ,2,20230807,0603, -32.4021,  91.3401,     4124,     28.6,2,  16.8347,2,  35.8206,2,  35.8307,2,    239.3,2,    239.4,2,     1.17,2,     0.15,2,     0.03,2,     0.16,2,     -999,9,     -999,9,     -999,9,   2096.1,2,   2353.6,2,   7.9544,2,    25.02,2,     -999,9,  16.8344,2,     -999,9,     -999,9,     -999,9,     -999,9,     -999,1,   4.6404,1,   0.0277,1,     -999,9,     -999,9,     -999,9,     -999,9,     -999,9,20230807,0750, -32.4021,  91.3401,-999          ,9,-999          ,9
33RR20230722  ,I05        ,59      ,  1,33         ,33         ,2,20230807,0603, -32.4021,  91.3401,     4124,     49.5,2,  16.8369,2,  35.8204,2,  35.8194,2,    239.1,2,    239.0,2,     1.27,2,     0.13,2,     0.04,2,     0.16,2,    0.447,4,    1.363,2,   2.2600,2,   2095.6,2,   2355.0,2,   7.9579,2,    25.02,2,     -999,9,  16.8357,2,     -999,9,     -999,9,     -999,9,     -999,9,     -999,1,   4.9747,1,   0.0307,1,      7.7,2,     -999,9,     -999,9,     -999,9,     -999,9,20230807,0749, -32.4021,  91.3401,-999          ,9,-999          ,9
33RR20230722  ,I05        ,59      ,  1,32         ,32         ,2,20230807,0603, -32.4021,  91.3401,     4124,     72.1,2,  16.8370,2,  35.8194,2,  35.8303,3,    238.8,2,    239.1,2,     1.27,2,     0.13,2,     0.03,2,     0.16,2,     -999,9,     -999,9,     -999,9,   2095.0,2,   2351.1,2,   7.9541,6,    25.01,2,     -999,9,  16.8332,2,     -999,9,     -999,9,     -999,9,     -999,9,     -999,1,   4.7404,1,   0.0327,1,     -999,9,     -999,9,     -999,9,     -999,9,     -999,9,20230807,0747, -32.4021,  91.3401,-999          ,9,-999          ,9
33RR20230722  ,I05        ,59      ,  1,31         ,31         ,2,20230807,0603, -32.4021,  91.3401,     4124,     98.3,2,  16.8169,2,  35.8138,2,  35.8135,2,    238.5,2,    238.9,2,     1.17,2,     0.14,2,     0.04,2,     0.17,2,    0.511,4,    1.356,2,   2.2800,2,   2094.4,2,   2352.3,2,   7.9538,2,    25.01,2,     -999,9,  16.8162,2,     -999,9,     -999,9,     -999,9,     -999,9,     -999,1,   4.9743,1,   0.0331,1,      7.8,2,     -999,9,     -999,9,     -999,9,     -999,9,20230807,0745, -32.4021,  91.3401,-999          ,9,-999          ,9
33RR20230722  ,I05        ,59      ,  1,30         ,30         ,2,20230807,0603, -32.4021,  91.3401,     4124,    110.1,2,  16.8396,2,  35.8182,2,     -999,9,    238.3,2,     -999,9,     -999,9,     -999,9,     -999,9,     -999,9,     -999,9,     -999,9,     -999,9,   -999.0,9,     -999,9,     -999,9,     -999,9,     -999,9,  16.8283,2,     -999,9,     -999,9,     -999,9,     -999,9,     -999,9,   4.8478,1,   0.0331,1,     -999,9,     -999,9,     -999,9,     -999,9,     -999,9,20230807,0743, -32.4021,  91.3401,-999          ,9,-999          ,9
33RR20230722  ,I05        ,59      ,  1,29         ,29         ,2,20230807,0603, -32.4021,  91.3401,     4124,    140.3,2,  14.8032,2,  35.5020,3,  35.5513,2,    232.6,2,    233.3,2,     1.46,2,     2.52,2,     0.13,2,     0.36,2,    0.669,4,    1.536,2,   2.4000,2,   2111.9,2,   2338.6,2,   7.8971,2,    25.01,2,     -999,9,  14.7175,3,     -999,9,     -999,9,     -999,9,     -999,9,     -999,1,   4.9706,1,   0.0223,1,      9.4,2,     -999,9,     -999,9,     -999,9,     -999,9,20230807,0742, -32.4021,  91.3401,-999          ,9,-999          ,9
33RR20230722  ,I05        ,59      ,  1,28         ,28         ,2,20230807,0603, -32.4021,  91.3401,     4124,    173.5,2,  14.0065,2,  35.3893,2,  35.3841,2,    231.1,2,    231.7,2,     1.56,2,     4.84,2,     0.02,2,     0.50,2,    0.753,4,    1.612,6,   2.4000,6,   2120.4,2,   2326.1,2,   7.8628,2,    25.02,2,     -999,9,  13.9964,2,     -999,9,     -999,9,     -999,9,     -999,9,     -999,1,   4.9695,1,   0.0147,1,     10.3,6,     -999,9,     -999,9,     -999,9,     -999,9,20230807,0740, -32.4021,  91.3401,-999          ,9,-999          ,9
33RR20230722  ,I05        ,59      ,  1,27         ,27         ,2,20230807,0603, -32.4021,  91.3401,     4124,    208.7,2,  13.1970,2,  35.2579,2,     -999,9,    235.0,2,     -999,9,     -999,9,     -999,9,     -999,9,     -999,9,     -999,9,     -999,9,     -999,9,   -999.0,9,     -999,9,     -999,9,     -999,9,     -999,9,  13.2078,2,     -999,9,     -999,9,     -999,9,     -999,9,     -999,9,   4.9695,1,   0.0119,1,     -999,9,     -999,9,     -999,9,     -999,9,     -999,9,20230807,0738, -32.4021,  91.3401,-999          ,9,-999          ,9
33RR20230722  ,I05        ,59      ,  1,26         ,26         ,2,20230807,0603, -32.4021,  91.3401,     4124,    220.7,2,  13.0902,2,  35.2391,2,  35.2339,2,    235.5,2,    235.9,2,     1.85,2,     6.46,2,     0.01,2,     0.59,2,     -999,9,     -999,9,     -999,9,   2121.0,2,   2319.4,2,   7.8441,6,    25.02,2,     -999,9,  13.0944,2,     -999,9,     -999,9,     -999,9,     -999,9,     -999,1,   4.9695,1,   0.0119,1,     -999,9,     -999,9,     -999,9,     -999,9,     -999,9,20230807,0737, -32.4021,  91.3401,-999          ,9,-999          ,9
33RR20230722  ,I05        ,59      ,  1,25         ,25         ,2,20230807,0603, -32.4021,  91.3401,     4124,    256.1,2,  12.5664,2,  35.1467,2,  35.1457,2,    239.2,2,    238.8,2,     2.05,2,     7.40,2,     0.00,2,     0.63,2,    0.712,4,    1.678,2,   2.4800,2,   2123.4,2,   2312.5,2,   7.8342,2,    25.01,2,     -999,9,  12.5658,2,     -999,9,     -999,9,     -999,9,     -999,9,     -999,1,   4.9694,1,   0.0115,1,     11.2,2,     -999,9,     -999,9,     -999,9,     -999,9,20230807,0735, -32.4021,  91.3400,-999          ,9,-999          ,9
33RR20230722  ,I05        ,59      ,  1,24         ,24         ,2,20230807,0603, -32.4021,  91.3401,     4124,    306.1,2,  12.0122,2,  35.0514,2,  35.0463,2,    241.1,2,    240.5,2,     2.44,2,     8.87,2,     0.00,2,     0.73,2,    0.662,4,    1.750,2,   2.4400,2,   2125.4,2,   2310.7,6,   7.8202,2,    25.00,2,     -999,9,  12.0135,2,     -999,9,     -999,9,     -999,9,     -999,9,     -999,1,   4.9687,1,   0.0115,1,     11.7,2,     -999,9,     -999,9,     -999,9,     -999,9,20230807,0733, -32.4021,  91.3400,-999          ,9,-999          ,9
33RR20230722  ,I05        ,59      ,  1,23         ,23         ,2,20230807,0603, -32.4021,  91.3401,     4124,    363.3,2,  11.3262,2,  34.9420,2,  34.9416,2,    240.7,2,    240.5,2,     3.03,2,    10.83,2,     0.00,2,     0.86,2,    0.614,4,    1.812,2,   2.4300,2,   2126.1,2,   2301.7,2,   7.8020,2,    25.02,2,     -999,9,  11.3408,2,     -999,9,     -999,9,     -999,9,     -999,9,     -999,1,   4.9317,1,   0.0117,1,     12.1,2,     -999,9,     -999,9,     -999,9,     -999,9,20230807,0731, -32.4021,  91.3401,-999          ,9,-999          ,9
33RR20230722  ,I05        ,59      ,  1,22         ,22         ,2,20230807,0603, -32.4021,  91.3401,     4124,    424.9,2,  10.9108,2,  34.8806,2,  34.8804,2,    240.7,2,    239.7,2,     3.32,2,    11.96,2,     0.00,2,     0.91,2,    0.569,4,    1.864,2,   2.4200,2,   2130.5,2,   2299.4,2,   7.7921,6,    25.01,2,     -999,9,  10.9203,2,     -999,9,     -999,9,     -999,9,     -999,9,     -999,1,   4.9678,1,   0.0116,1,     11.9,2,     -999,9,     -999,9,     -999,9,     -999,9,20230807,0729, -32.4021,  91.3401,-999          ,9,-999          ,9
33RR20230722  ,I05        ,59      ,  1,21         ,21         ,2,20230807,0603, -32.4021,  91.3401,     4124,    501.1,2,  10.4017,2,  34.8065,2,  34.8078,2,    241.4,2,    240.8,2,     3.71,2,    13.22,2,     0.00,2,     0.99,2,     -999,9,     -999,9,     -999,9,   -999.0,9,     -999,9,     -999,9,     -999,9,     -999,9,  10.3966,2,     -999,9,     -999,9,     -999,9,     -999,9,     -999,1,   4.9679,1,   0.0116,1,     -999,9,     -999,9,     -999,9,     -999,9,     -999,9,20230807,0727, -32.4022,  91.3401,-999          ,9,-999          ,9
33RR20230722  ,I05        ,59      ,  1,20         ,20         ,2,20230807,0603, -32.4021,  91.3401,     4124,    582.3,2,   9.9571,2,  34.7524,2,  34.7528,2,    235.1,2,    235.1,2,     4.29,2,    15.07,2,     0.00,2,     1.09,2,    0.520,4,    1.938,2,   2.1000,2,   2136.8,2,   2295.1,2,   7.7621,2,    25.02,2,     -999,9,   9.9640,2,     -999,9,     -999,9,     -999,9,     -999,9,     -999,1,   4.9290,1,   0.0116,1,     12.8,2,     -999,9,     -999,9,     -999,9,     -999,9,20230807,0725, -32.4021,  91.3401,-999          ,9,-999          ,9
33RR20230722  ,I05        ,59      ,  1,19         ,19         ,2,20230807,0603, -32.4021,  91.3401,     4124,    672.0,2,   9.4233,2,  34.6842,2,  34.6838,2,    230.8,2,    231.2,2,     5.08,2,    16.89,2,     0.00,2,     1.19,2,    0.475,4,    1.965,2,   1.9500,2,   2138.9,2,   2289.8,2,   7.7455,2,    25.03,2,     -999,9,   9.4276,2,     -999,9,     -999,9,     -999,9,     -999,9,     -999,1,   4.9666,1,   0.0115,1,     13.2,2,     -999,9,     -999,9,     -999,9,     -999,9,20230807,0722, -32.4021,  91.3401,-999          ,9,-999          ,9
33RR20230722  ,I05        ,59      ,  1,18         ,18         ,2,20230807,0603, -32.4021,  91.3401,     4124,    775.3,2,   8.4558,2,  34.5788,2,  34.5753,2,    215.1,2,    215.8,2,     9.18,2,    20.85,2,     0.00,2,     1.44,2,    0.377,4,    1.792,2,   1.2200,2,   2154.7,2,   2289.7,2,   7.7085,2,    25.01,2,     -999,9,   8.4588,2,     -999,9,     -999,9,     -999,9,     -999,9,     -999,1,   4.8808,1,   0.0112,1,     14.8,2,     -999,9,     -999,9,     -999,9,     -999,9,20230807,0720, -32.4021,  91.3401,-999          ,9,-999          ,9
33RR20230722  ,I05        ,59      ,  1,17         ,17         ,2,20230807,0603, -32.4021,  91.3401,     4124,    894.9,2,   6.8245,2,  34.4551,2,  34.4565,2,    199.3,2,    200.0,2,    17.86,2,    25.95,2,     0.00,2,     1.76,2,    0.331,4,    1.485,2,   0.9100,2,   2173.5,2,   2286.5,2,   7.6592,2,    25.02,2,     -999,9,   6.8559,2,     -999,9,     -999,9,     -999,9,     -999,9,     -999,1,   4.9693,1,   0.0113,1,     17.0,2,     -999,9,     -999,9,     -999,9,     -999,9,20230807,0717, -32.4021,  91.3401,-999          ,9,-999          ,9
33RR20230722  ,I05        ,59      ,  1,16         ,16         ,2,20230807,0603, -32.4021,  91.3401,     4124,   1013.5,2,   5.3514,2,  34.3894,2,     -999,9,    191.6,2,     -999,9,     -999,9,     -999,9,     -999,9,     -999,9,     -999,9,     -999,9,     -999,9,   -999.0,9,     -999,9,     -999,9,     -999,9,     -999,9,   5.3459,2,     -999,9,     -999,9,     -999,9,     -999,9,     -999,9,   4.9562,1,   0.0113,1,     -999,9,     -999,9,     -999,9,     -999,9,     -999,9,20230807,0713, -32.4021,  91.3401,-999          ,9,-999          ,9
33RR20230722  ,I05        ,59      ,  1,15         ,15         ,2,20230807,0603, -32.4021,  91.3401,     4124,   1029.7,2,   5.2414,2,  34.3882,2,  34.3882,2,    190.6,2,    191.3,2,    31.24,2,    30.06,2,     0.00,2,     2.07,2,    0.217,4,    1.051,2,   0.3600,2,   2198.2,2,   2296.3,2,   7.6170,2,    25.02,2,     -999,9,   5.2358,2,     -999,9,     -999,9,     -999,9,     -999,9,     -999,1,   4.9709,1,   0.0113,1,     19.4,2,     -999,9,     -999,9,     -999,9,     -999,9,20230807,0712, -32.4021,  91.3401,-999          ,9,-999          ,9
33RR20230722  ,I05        ,59      ,  1,14         ,14         ,2,20230807,0603, -32.4021,  91.3401,     4124,   1132.4,2,   4.5510,2,  34.3973,2,  34.3976,2,    182.6,2,    182.8,2,    41.30,2,    31.88,2,     0.00,2,     2.21,2,     -999,9,     -999,9,     -999,9,   -999.0,9,     -999,9,     -999,9,     -999,9,     -999,9,   4.5578,2,     -999,9,     -999,9,     -999,9,     -999,9,     -999,1,   4.8141,1,   0.0111,1,     -999,9,     -999,9,     -999,9,     -999,9,     -999,9,20230807,0709, -32.4022,  91.3400,-999          ,9,-999          ,9
33RR20230722  ,I05        ,59      ,  1,13         ,13         ,2,20230807,0603, -32.4021,  91.3401,     4124,   1209.9,2,   4.1846,2,  34.4474,2,  34.4481,2,    164.8,2,    165.3,2,    54.86,2,    33.58,2,     0.00,2,     2.35,2,    0.425,4,    0.487,2,   0.1700,2,   2231.0,2,   2319.8,2,   7.5772,2,    25.03,2,     -999,9,   4.1799,2,     -999,9,     -999,9,     -999,9,     -999,9,     -999,1,   4.8473,1,   0.0113,1,     22.7,2,     -999,9,     -999,9,     -999,9,     -999,9,20230807,0707, -32.4021,  91.3400,-999          ,9,-999          ,9
33RR20230722  ,I05        ,59      ,  1,12         ,12         ,2,20230807,0603, -32.4021,  91.3401,     4124,   1330.2,2,   3.7678,2,  34.4944,2,  34.4940,2,    156.2,2,    155.8,2,    65.89,2,    34.62,2,     0.00,2,     2.44,2,    0.159,4,    0.271,2,   0.0600,2,   2246.2,2,   2331.5,2,   7.5647,2,    25.02,2,     -999,9,   3.7722,2,     -999,9,     -999,9,     -999,9,     -999,9,     -999,1,   4.8915,1,   0.0119,1,     23.6,2,     -999,9,     -999,9,     -999,9,     -999,9,20230807,0704, -32.4022,  91.3400,-999          ,9,-999          ,9
33RR20230722  ,I05        ,59      ,  1,11         ,11         ,2,20230807,0603, -32.4021,  91.3401,     4124,   1462.3,2,   3.4672,2,  34.5594,2,  34.5582,2,    146.8,2,    146.8,2,    77.60,2,    35.11,2,     0.00,2,     2.48,2,     -999,9,     -999,9,     -999,9,   -999.0,9,     -999,9,     -999,9,     -999,9,     -999,9,   3.4689,2,     -999,9,     -999,9,     -999,9,     -999,9,     -999,1,   4.9752,1,   0.0117,1,     -999,9,     -999,9,     -999,9,     -999,9,     -999,9,20230807,0700, -32.4022,  91.3401,-999          ,9,-999          ,9
33RR20230722  ,I05        ,59      ,  1,10         ,10         ,2,20230807,0603, -32.4021,  91.3401,     4124,   1650.8,2,   3.0263,2,  34.6031,2,  34.6022,2,    153.9,2,    153.7,2,    81.41,2,    34.74,2,     0.00,2,     2.44,2,   -0.054,4,    0.074,2,  -0.0400,2,   2266.0,2,   2347.2,2,   7.5672,2,    25.02,2,     -999,9,   3.0257,2,     -999,9,     -999,9,     -999,9,     -999,9,     -999,1,   4.9750,1,   0.0117,1,     23.2,2,     -999,9,     -999,9,     -999,9,     -999,9,20230807,0656, -32.4020,  91.3401,-999          ,9,-999          ,9
33RR20230722  ,I05        ,59      ,  1,9          ,9          ,2,20230807,0603, -32.4021,  91.3401,     4124,   1784.9,2,   2.8192,2,  34.6349,2,  34.6341,2,    159.1,2,    159.0,2,    85.02,2,    34.27,2,     0.00,2,     2.36,2,    0.079,4,    0.066,2,  -0.0300,2,   2263.0,2,   2347.8,2,   7.5728,6,    25.02,2,     -999,9,   2.8177,2,     -999,9,     -999,9,     -999,9,     -999,9,     -999,1,   4.9749,1,   0.0123,1,     23.0,2,     -999,9,     -999,9,     -999,9,     -999,9,20230807,0653, -32.4021,  91.3401,-999          ,9,-999          ,9
33RR20230722  ,I05        ,59      ,  1,8          ,8          ,2,20230807,0603, -32.4021,  91.3401,     4124,   2095.2,2,   2.4482,2,  34.6991,2,  34.6979,2,    168.3,2,    168.3,2,    92.53,2,    33.08,2,     0.00,2,     2.28,2,     -999,9,     -999,9,     -999,9,   -999.0,9,     -999,9,     -999,9,     -999,9,     -999,9,   2.4470,2,     -999,9,     -999,9,     -999,9,     -999,9,     -999,1,   4.8405,1,   0.0117,1,     -999,9,     -999,9,     -999,9,     -999,9,     -999,9,20230807,0647, -32.4021,  91.3400,-999          ,9,-999          ,9
33RR20230722  ,I05        ,59      ,  1,7          ,7          ,2,20230807,0603, -32.4021,  91.3401,     4124,   2335.9,2,   2.2253,2,  34.7265,2,  34.7254,2,    182.9,2,    183.0,2,    88.04,2,    31.55,2,     0.00,2,     2.17,2,    0.200,4,    0.033,2,  -0.1300,2,   2251.1,2,   2352.4,2,   7.6056,6,    25.02,2,     -999,9,   2.2246,2,     -999,9,     -999,9,     -999,9,     -999,9,     -999,1,   4.9747,1,   0.0119,1,     19.9,2,     -999,9,     -999,9,     -999,9,     -999,9,20230807,0642, -32.4021,  91.3400,-999          ,9,-999          ,9
33RR20230722  ,I05        ,59      ,  1,6          ,6          ,2,20230807,0603, -32.4021,  91.3401,     4124,   2644.7,2,   1.9208,2,  34.7407,2,  34.7400,2,    192.2,2,    192.3,2,    93.70,2,    30.95,2,     0.00,2,     2.17,2,    0.000,4,    0.037,2,   0.0100,2,   2253.2,2,   2354.7,6,   7.6158,2,    25.04,2,     -999,9,   1.9210,2,     -999,9,     -999,9,     -999,9,     -999,9,     -999,1,   4.9748,1,   0.0112,1,     19.3,2,     -999,9,     -999,9,     -999,9,     -999,9,20230807,0636, -32.4021,  91.3400,-999          ,9,-999          ,9
33RR20230722  ,I05        ,59      ,  1,5          ,5          ,2,20230807,0603, -32.4021,  91.3401,     4124,   2857.8,2,   1.7050,2,  34.7371,2,  34.7362,2,    194.3,2,    194.7,2,   100.73,2,    31.28,2,     0.00,2,     2.16,2,   -0.059,4,    0.028,2,  -0.1000,2,   2255.2,2,   2360.6,2,   7.6172,2,    25.02,2,     -999,9,   1.7067,2,     -999,9,     -999,9,     -999,9,     -999,9,     -999,1,   4.9751,1,   0.0111,1,     18.7,2,     -999,9,     -999,9,     -999,9,     -999,9,20230807,0631, -32.4022,  91.3400,-999          ,9,-999          ,9
33RR20230722  ,I05        ,59      ,  1,4          ,37         ,2,20230807,0603, -32.4021,  91.3401,     4124,   3080.0,2,   1.5240,2,  34.7331,2,  34.7337,2,    198.0,2,    197.9,2,   105.51,2,    31.36,2,     0.00,2,     2.17,2,     -999,9,     -999,9,     -999,9,   -999.0,9,     -999,9,     -999,9,     -999,9,     -999,9,   1.5227,2,     -999,9,     -999,9,     -999,9,     -999,9,     -999,1,   4.8727,1,   0.0111,1,     -999,9,     -999,9,     -999,9,     -999,9,     -999,9,20230807,0626, -32.4021,  91.3401,-999          ,9,-999          ,9
33RR20230722  ,I05        ,59      ,  1,3          ,3          ,2,20230807,0603, -32.4021,  91.3401,     4124,   3379.9,2,   1.3200,2,  34.7257,2,  34.7247,2,    200.9,2,    201.1,2,   110.97,2,    31.51,2,     0.00,2,     2.19,2,   -0.420,4,    0.036,2,  -0.0700,2,   2259.6,2,   2363.2,2,   7.6182,2,    25.02,2,     -999,9,   1.3201,2,     -999,9,     -999,9,     -999,9,     -999,9,     -999,1,   4.7985,1,   0.0113,1,     18.5,2,     -999,9,     -999,9,     -999,9,     -999,9,20230807,0619, -32.4021,  91.3401,-999          ,9,-999          ,9