BOTTLE,20240422CCHHYDRO
EXPOCODE,SECT_ID,STNNBR,CASTNO,SAMPNO,BTLNBR,BTLNBR_FLAG_W,DATE,TIME,LATITUDE,LONGITUDE,DEPTH,CTDPRS,CTDPRS_FLAG_W,CTDTMP,CTDTMP_FLAG_W,CTDSAL,CTDSAL_FLAG_W,SALNTY,SALNTY_FLAG_W,CTDOXY,CTDOXY_FLAG_W,OXYGEN,OXYGEN_FLAG_W,SILCAT,SILCAT_FLAG_W,NITRAT,NITRAT_FLAG_W,NITRIT,NITRIT_FLAG_W,PHSPHT,PHSPHT_FLAG_W,CFC-11,CFC-11_FLAG_W,CFC-12,CFC-12_FLAG_W,SF6,SF6_FLAG_W,TCARBN,TCARBN_FLAG_W,ALKALI,ALKALI_FLAG_W,PH_TOT,PH_TOT_FLAG_W,PH_TMP,PH_TMP_FLAG_W,DOC,DOC_FLAG_W,REFTMP,REFTMP_FLAG_W,POC,POC_FLAG_W,PON,PON_FLAG_W,POP,POP_FLAG_W,DOP,DOP_FLAG_W,DELO18,DELO18_FLAG_W,CTDFLUOR,CTDFLUOR_FLAG_W,CTDXMISS,CTDXMISS_FLAG_W,N2O,N2O_FLAG_W,D15N_NO3,D15N_NO3_FLAG_W,D15N_NO2+NO3,D15N_NO2+NO3_FLAG_W,D18O_NO2+NO3,D18O_NO2+NO3_FLAG_W,D18O_NO3,D18O_NO3_FLAG_W,BTL_DATE,BTL_TIME,BTL_LAT,BTL_LON,HPLC,HPLC_FLAG_W,DNA,DNA_FLAG_W
,,,,,,,,,,,METERS,DBAR,,ITS-90,,PSS-78,,PSS-78,,UMOL/KG,,UMOL/KG,,UMOL/KG,,UMOL/KG,,UMOL/KG,,UMOL/KG,,PMOL/KG,,PMOL/KG,,FMOL/KG,,UMOL/KG,,UMOL/KG,,,,DEG C,,UMOL/KG,,ITS-90,,UG/KG,,UG/KG,,UG/L,,UMOL/KG,,/MILLE,,VOLTS,,VOLTS,,NMOL/KG,,/MILLE,,/MILLE,,/MILLE,,/MILLE,,,,,,,,,
33RR20230722  ,I05        ,77      ,  2,36         ,36         ,2,20230811,0955, -31.1906,  81.9604,     3979,      3.5,2,  17.5932,2,  35.7299,2,  35.7288,2,    238.0,2,    237.6,2,     0.88,2,     0.09,2,     0.00,2,     0.19,2,    2.650,3,    1.318,2,   2.3200,2,   2086.5,6,   2348.0,2,   7.9650,2,    24.99,2,     -999,1,  17.5913,2,     -999,9,     -999,9,     -999,9,     -999,9,     -999,9,   4.8031,1,   0.0210,1,      8.1,2,     -999,9,     -999,9,     -999,9,     -999,9,20230811,1151, -31.1906,  81.9604,-999          ,9,-999          ,9
33RR20230722  ,I05        ,77      ,  2,35         ,35         ,2,20230811,0955, -31.1906,  81.9604,     3979,     22.5,2,  17.5972,2,  35.7298,2,  35.7280,2,    237.8,2,    237.5,2,     0.78,2,     0.04,2,     0.00,2,     0.17,2,     -999,9,     -999,9,     -999,9,   -999.0,9,     -999,9,     -999,9,     -999,9,     -999,9,  17.5974,2,     -999,9,     -999,9,     -999,9,     -999,9,     -999,9,   4.9751,1,   0.0204,1,     -999,9,     -999,9,     -999,9,     -999,9,     -999,9,20230811,1149, -31.1906,  81.9603,-999          ,9,-999          ,9
33RR20230722  ,I05        ,77      ,  2,34         ,34         ,2,20230811,0955, -31.1906,  81.9604,     3979,     41.4,2,  17.5811,2,  35.7307,2,  35.7284,2,    237.5,2,    237.5,2,     0.78,2,     0.02,2,     0.00,2,     0.16,2,     -999,9,     -999,9,     -999,9,   -999.0,9,     -999,9,     -999,9,     -999,9,     -999,9,  17.5801,2,     -999,9,     -999,9,     -999,9,     -999,9,     -999,9,   4.8830,1,   0.0215,1,     -999,9,     -999,9,     -999,9,     -999,9,     -999,9,20230811,1147, -31.1906,  81.9603,-999          ,9,-999          ,9
33RR20230722  ,I05        ,77      ,  2,33         ,33         ,2,20230811,0955, -31.1906,  81.9604,     3979,     63.5,2,  17.5729,2,  35.7291,2,  35.7278,2,    237.1,2,    237.3,2,     0.88,2,     0.00,2,     0.00,2,     0.16,2,     -999,9,     -999,9,     -999,9,   -999.0,9,     -999,9,     -999,9,     -999,9,     -999,9,  17.5720,2,     -999,9,     -999,9,     -999,9,     -999,9,     -999,9,   4.8992,1,   0.0232,1,     -999,9,     -999,9,     -999,9,     -999,9,     -999,9,20230811,1145, -31.1906,  81.9604,-999          ,9,-999          ,9
33RR20230722  ,I05        ,77      ,  2,32         ,32         ,2,20230811,0955, -31.1906,  81.9604,     3979,     88.5,2,  17.5518,2,  35.7255,2,  35.7242,2,    236.6,2,    237.4,2,     0.78,2,     0.01,2,     0.00,2,     0.16,2,    1.343,3,    1.323,2,   2.1400,2,   2083.7,2,   2347.9,2,   7.9634,2,    24.99,2,     -999,9,  17.5508,2,     -999,9,     -999,9,     -999,9,     -999,9,     -999,9,   4.9743,1,   0.0237,1,      8.0,2,     -999,9,     -999,9,     -999,9,     -999,9,20230811,1143, -31.1906,  81.9603,-999          ,9,-999          ,9
33RR20230722  ,I05        ,77      ,  2,31         ,31         ,2,20230811,0955, -31.1906,  81.9604,     3979,    112.4,2,  15.0562,2,  35.4731,2,  35.4829,2,    244.0,2,    244.2,2,     0.78,2,     1.26,2,     0.19,2,     0.31,2,     -999,9,     -999,9,     -999,9,   2108.8,2,   2334.8,2,   7.9033,2,    25.00,2,     -999,9,  15.0446,2,     -999,9,     -999,9,     -999,9,     -999,9,     -999,9,   4.9730,1,   0.0345,1,     -999,9,     -999,9,     -999,9,     -999,9,     -999,9,20230811,1141, -31.1906,  81.9604,-999          ,9,-999          ,9
33RR20230722  ,I05        ,77      ,  2,30         ,30         ,2,20230811,0955, -31.1906,  81.9604,     3979,    136.1,2,  14.2640,2,  35.4045,2,  35.4024,2,    234.2,2,    235.3,2,     1.07,2,     3.66,2,     0.25,2,     0.44,2,     -999,9,     -999,9,     -999,9,   -999.0,9,     -999,9,     -999,9,     -999,9,     -999,9,  14.2544,2,     -999,9,     -999,9,     -999,9,     -999,9,     -999,9,   4.9706,1,   0.0279,1,     -999,9,     -999,9,     -999,9,     -999,9,     -999,9,20230811,1140, -31.1906,  81.9604,-999          ,9,-999          ,9
33RR20230722  ,I05        ,77      ,  2,29         ,29         ,2,20230811,0955, -31.1906,  81.9604,     3979,    156.9,2,  13.7880,2,  35.3480,2,  35.3480,2,    234.1,2,    234.2,2,     1.27,2,     4.86,2,     0.03,2,     0.52,2,    1.873,3,    1.567,2,   2.3300,2,   2121.4,2,   2325.6,2,   7.8522,2,    25.00,2,     -999,9,  13.8203,2,     -999,9,     -999,9,     -999,9,     -999,9,     -999,9,   4.9697,1,   0.0203,1,     10.2,2,     -999,9,     -999,9,     -999,9,     -999,9,20230811,1138, -31.1906,  81.9604,-999          ,9,-999          ,9
33RR20230722  ,I05        ,77      ,  2,28         ,28         ,2,20230811,0955, -31.1906,  81.9604,     3979,    173.3,2,  13.6821,2,  35.3377,2,  35.3364,2,    237.1,2,    237.4,2,     1.07,2,     4.89,2,     0.02,2,     0.49,2,     -999,9,     -999,9,     -999,9,   -999.0,9,     -999,9,     -999,9,     -999,9,     -999,9,  13.6800,2,     -999,9,     -999,9,     -999,9,     -999,9,     -999,9,   4.9703,1,   0.0153,1,     -999,9,     -999,9,     -999,9,     -999,9,     -999,9,20230811,1136, -31.1906,  81.9604,-999          ,9,-999          ,9
33RR20230722  ,I05        ,77      ,  2,27         ,27         ,2,20230811,0955, -31.1906,  81.9604,     3979,    192.7,2,  13.6000,2,  35.3276,2,  35.3267,2,    238.6,2,    238.7,2,     1.07,2,     5.00,2,     0.01,2,     0.51,2,    2.545,3,    1.561,2,   2.4800,2,   -999.0,9,     -999,9,     -999,9,     -999,9,     -999,9,  13.5994,2,     -999,9,     -999,9,     -999,9,     -999,9,     -999,9,   4.8536,1,   0.0125,1,     10.0,2,     -999,9,     -999,9,     -999,9,     -999,9,20230811,1135, -31.1906,  81.9603,-999          ,9,-999          ,9
33RR20230722  ,I05        ,77      ,  2,26         ,26         ,2,20230811,0955, -31.1906,  81.9604,     3979,    213.1,2,  13.5819,2,  35.3247,2,  35.3230,2,    238.9,2,    239.1,2,     1.17,2,     5.01,2,     0.00,2,     0.50,2,     -999,9,     -999,9,     -999,9,   -999.0,9,     -999,9,     -999,9,     -999,9,     -999,9,  13.5811,2,     -999,9,     -999,9,     -999,9,     -999,9,     -999,9,   4.9107,1,   0.0121,1,     -999,9,     -999,9,     -999,9,     -999,9,     -999,9,20230811,1133, -31.1906,  81.9604,-999          ,9,-999          ,9
33RR20230722  ,I05        ,77      ,  2,25         ,25         ,2,20230811,0955, -31.1906,  81.9604,     3979,    243.3,2,  13.2099,2,  35.2600,2,  35.2586,2,    240.8,2,    240.4,2,     1.27,2,     5.67,2,     0.00,2,     0.54,2,    1.976,3,    1.611,2,   2.5800,2,   2121.2,2,   2321.0,2,   7.8522,2,    25.00,2,     -999,9,  13.2088,2,     -999,9,     -999,9,     -999,9,     -999,9,     -999,9,   4.9696,1,   0.0117,1,     10.2,2,     -999,9,     -999,9,     -999,9,     -999,9,20230811,1131, -31.1906,  81.9603,-999          ,9,-999          ,9
33RR20230722  ,I05        ,77      ,  2,24         ,24         ,2,20230811,0955, -31.1906,  81.9604,     3979,    286.2,2,  12.7116,2,  35.1742,2,  35.1742,2,    242.2,2,    242.1,2,     1.46,2,     6.70,2,     0.00,2,     0.59,2,     -999,9,     -999,9,     -999,9,   -999.0,9,     -999,9,     -999,9,     -999,9,     -999,9,  12.7108,2,     -999,9,     -999,9,     -999,9,     -999,9,     -999,9,   4.9695,1,   0.0116,1,     -999,9,     -999,9,     -999,9,     -999,9,     -999,9,20230811,1129, -31.1906,  81.9604,-999          ,9,-999          ,9
33RR20230722  ,I05        ,77      ,  2,23         ,23         ,2,20230811,0955, -31.1906,  81.9604,     3979,    343.9,2,  12.1154,2,  35.0657,2,  35.0681,2,    242.7,2,    242.7,2,     1.95,2,     8.43,2,     0.00,2,     0.69,2,    1.614,3,    1.709,2,   2.2500,2,   2126.5,2,   2310.8,2,   7.8251,2,    24.99,2,     -999,9,  12.1222,2,     -999,9,     -999,9,     -999,9,     -999,9,     -999,9,   4.9224,1,   0.0116,1,     11.5,2,     -999,9,     -999,9,     -999,9,     -999,9,20230811,1127, -31.1906,  81.9604,-999          ,9,-999          ,9
33RR20230722  ,I05        ,77      ,  2,22         ,22         ,2,20230811,0955, -31.1906,  81.9604,     3979,    413.6,2,  11.5069,2,  34.9616,2,  34.9618,2,    242.3,2,    241.5,2,     2.63,2,    10.40,2,     0.00,2,     0.79,2,     -999,9,     -999,9,     -999,9,   -999.0,9,     -999,9,     -999,9,     -999,9,     -999,9,  11.5072,2,     -999,9,     -999,9,     -999,9,     -999,9,     -999,9,   4.9681,1,   0.0116,1,     -999,9,     -999,9,     -999,9,     -999,9,     -999,9,20230811,1124, -31.1906,  81.9604,-999          ,9,-999          ,9
33RR20230722  ,I05        ,77      ,  2,21         ,21         ,2,20230811,0955, -31.1906,  81.9604,     3979,    477.2,2,  11.1733,2,  34.9104,2,  34.9099,2,    243.5,2,    242.7,2,     2.83,2,    11.28,2,     0.00,2,     0.86,2,    3.062,3,    1.743,2,   2.5900,2,   2129.2,2,   2301.9,2,   7.7993,6,    25.00,2,     -999,9,  11.1736,2,     -999,9,     -999,9,     -999,9,     -999,9,     -999,9,   4.9679,1,   0.0114,1,     11.8,2,     -999,9,     -999,9,     -999,9,     -999,9,20230811,1122, -31.1906,  81.9604,-999          ,9,-999          ,9
33RR20230722  ,I05        ,77      ,  2,20         ,20         ,2,20230811,0955, -31.1906,  81.9604,     3979,    549.1,2,  10.7498,2,  34.8517,2,  34.8524,2,    241.8,2,    241.1,2,     3.12,2,    12.45,2,     0.00,2,     0.94,2,     -999,9,     -999,9,     -999,9,   -999.0,9,     -999,9,     -999,9,     -999,9,     -999,9,  10.7527,2,     -999,9,     -999,9,     -999,9,     -999,9,     -999,9,   4.9672,1,   0.0114,1,     -999,9,     -999,9,     -999,9,     -999,9,     -999,9,20230811,1120, -31.1906,  81.9603,-999          ,9,-999          ,9
33RR20230722  ,I05        ,77      ,  2,19         ,19         ,2,20230811,0955, -31.1906,  81.9604,     3979,    627.9,2,  10.2976,2,  34.7924,2,  34.7919,2,    238.9,2,    238.5,2,     3.51,2,    13.85,2,     0.00,2,     1.02,2,    2.952,3,    1.872,2,   2.2600,2,   2137.0,2,   2295.2,6,   7.7747,2,    24.99,2,     -999,9,  10.2935,2,     -999,9,     -999,9,     -999,9,     -999,9,     -999,9,   4.9667,1,   0.0113,1,     12.2,2,     -999,9,     -999,9,     -999,9,     -999,9,20230811,1117, -31.1906,  81.9604,-999          ,9,-999          ,9
33RR20230722  ,I05        ,77      ,  2,18         ,18         ,2,20230811,0955, -31.1906,  81.9604,     3979,    719.2,2,   9.6640,2,  34.7121,2,  34.7121,2,    233.3,2,    233.3,2,     4.29,2,    15.99,2,     0.00,2,     1.15,2,     -999,9,     -999,9,     -999,9,   -999.0,9,     -999,9,     -999,9,     -999,9,     -999,9,   9.6674,2,     -999,9,     -999,9,     -999,9,     -999,9,     -999,9,   4.9667,1,   0.0114,1,     -999,9,     -999,9,     -999,9,     -999,9,     -999,9,20230811,1114, -31.1906,  81.9604,-999          ,9,-999          ,9
33RR20230722  ,I05        ,77      ,  2,17         ,17         ,2,20230811,0955, -31.1906,  81.9604,     3979,    833.2,2,   8.5874,2,  34.5932,2,  34.5930,2,    215.8,2,    217.2,2,     8.30,2,    20.27,2,     0.00,2,     1.42,2,    1.798,3,    1.820,2,   1.2000,2,   -999.0,9,     -999,9,     -999,9,     -999,9,     -999,9,   8.5883,2,     -999,9,     -999,9,     -999,9,     -999,9,     -999,9,   4.9444,1,   0.0114,1,     14.9,2,     -999,9,     -999,9,     -999,9,     -999,9,20230811,1111, -31.1906,  81.9604,-999          ,9,-999          ,9
33RR20230722  ,I05        ,77      ,  2,16         ,16         ,2,20230811,0955, -31.1906,  81.9604,     3979,    948.3,2,   7.0758,2,  34.4764,2,  34.4787,2,    201.5,2,    202.3,2,    16.30,2,    25.03,2,     0.00,2,     1.74,2,    1.470,3,    1.511,2,   0.6700,2,   2174.9,2,   2288.3,2,   7.6668,6,    24.99,2,     -999,9,   7.1113,2,     -999,9,     -999,9,     -999,9,     -999,9,     -999,9,   4.9051,1,   0.0114,1,     17.1,2,     -999,9,     -999,9,     -999,9,     -999,9,20230811,1108, -31.1906,  81.9603,-999          ,9,-999          ,9
33RR20230722  ,I05        ,77      ,  2,15         ,15         ,2,20230811,0955, -31.1906,  81.9604,     3979,   1058.3,2,   5.5684,2,  34.3915,2,  34.3915,2,    195.8,2,    196.2,2,    26.46,2,    28.99,2,     0.00,2,     2.00,2,    2.227,3,    1.203,2,   0.6800,2,   -999.0,9,     -999,9,     -999,9,     -999,9,     -999,9,   5.5669,2,     -999,9,     -999,9,     -999,9,     -999,9,     -999,9,   4.9706,1,   0.0112,1,     18.8,2,     -999,9,     -999,9,     -999,9,     -999,9,20230811,1105, -31.1906,  81.9604,-999          ,9,-999          ,9
33RR20230722  ,I05        ,77      ,  2,14         ,14         ,2,20230811,0955, -31.1906,  81.9604,     3979,   1165.3,2,   4.6462,2,  34.3794,2,  34.3790,2,    189.3,2,    189.7,2,    37.10,2,    31.29,2,     0.00,2,     2.16,2,    2.093,3,    0.948,2,   0.5200,2,   2209.2,2,   2301.1,2,   7.6051,2,    25.00,2,     -999,9,   4.6433,2,     -999,9,     -999,9,     -999,9,     -999,9,     -999,9,   4.9715,1,   0.0113,1,     19.4,2,     -999,9,     -999,9,     -999,9,     -999,9,20230811,1102, -31.1905,  81.9604,-999          ,9,-999          ,9
33RR20230722  ,I05        ,77      ,  2,13         ,13         ,4,20230811,0955, -31.1906,  81.9604,     3979,   1286.4,3,   3.9468,3,  34.4275,3,  34.3786,4,    173.9,3,    189.4,3,    37.00,3,    31.34,3,     0.00,3,     2.16,3,     -999,9,     -999,9,     -999,9,   -999.0,4,     -999,9,     -999,9,     -999,9,     -999,9,   3.9483,3,     -999,9,     -999,9,     -999,9,     -999,9,     -999,9,   4.9731,1,   0.0113,1,     -999,9,     -999,9,     -999,9,     -999,9,     -999,9,20230811,1058, -31.1906,  81.9604,-999          ,9,-999          ,9
33RR20230722  ,I05        ,77      ,  2,12         ,12         ,2,20230811,0955, -31.1906,  81.9604,     3979,   1430.3,2,   3.4736,2,  34.5057,2,  34.5056,2,    159.9,2,    159.8,2,    67.16,2,    34.45,2,     0.00,2,     2.45,2,    0.536,3,    0.253,2,   0.1600,2,   2251.6,2,   2332.6,2,   7.5634,2,    25.01,2,     -999,9,   3.4725,2,     -999,9,     -999,9,     -999,9,     -999,9,     -999,9,   4.6176,1,   0.0112,1,     22.4,2,     -999,9,     -999,9,     -999,9,     -999,9,20230811,1055, -31.1906,  81.9603,-999          ,9,-999          ,9
33RR20230722  ,I05        ,77      ,  2,11         ,11         ,2,20230811,0955, -31.1906,  81.9604,     3979,   1582.5,2,   3.1948,2,  34.5808,2,  34.5806,2,    152.7,2,    152.7,2,    78.39,2,    34.66,2,     0.00,2,     2.48,2,    0.169,3,    0.091,2,   0.0200,2,   -999.0,9,     -999,9,     -999,9,     -999,9,     -999,9,   3.1956,2,     -999,9,     -999,9,     -999,9,     -999,9,     -999,9,   4.9750,1,   0.0115,1,     23.5,2,     -999,9,     -999,9,     -999,9,     -999,9,20230811,1051, -31.1906,  81.9603,-999          ,9,-999          ,9
33RR20230722  ,I05        ,77      ,  2,10         ,10         ,2,20230811,0955, -31.1906,  81.9604,     3979,   1740.6,2,   2.9499,2,  34.6387,2,  34.6382,2,    153.6,2,    153.5,2,    86.00,2,    34.47,2,     0.00,2,     2.45,2,    0.064,3,    0.042,2,   0.0600,2,   2271.6,2,   2354.2,2,   7.5685,2,    25.00,2,     -999,9,   2.9501,2,     -999,9,     -999,9,     -999,9,     -999,9,     -999,9,   4.9750,1,   0.0112,1,     23.4,2,     -999,9,     -999,9,     -999,9,     -999,9,20230811,1047, -31.1906,  81.9604,-999          ,9,-999          ,9
33RR20230722  ,I05        ,77      ,  2,9          ,9          ,2,20230811,0955, -31.1906,  81.9604,     3979,   1928.1,2,   2.7082,2,  34.6816,2,  34.6810,2,    158.0,2,    157.8,2,    92.34,2,    33.77,2,     0.00,2,     2.40,2,    0.023,3,    0.023,2,  -0.0100,2,   -999.0,9,     -999,9,     -999,9,     -999,9,     -999,9,   2.7078,2,     -999,9,     -999,9,     -999,9,     -999,9,     -999,9,   4.9467,1,   0.0117,1,     22.8,2,     -999,9,     -999,9,     -999,9,     -999,9,20230811,1042, -31.1906,  81.9603,-999          ,9,-999          ,9
33RR20230722  ,I05        ,77      ,  2,8          ,8          ,2,20230811,0955, -31.1906,  81.9604,     3979,   2157.5,2,   2.3683,2,  34.7102,2,  34.7093,2,    172.1,2,    172.1,2,    92.34,2,    32.55,2,     0.00,2,     2.30,2,     -999,9,     -999,9,     -999,9,   -999.0,9,     -999,9,     -999,9,     -999,9,     -999,9,   2.3692,2,     -999,9,     -999,9,     -999,9,     -999,9,     -999,9,   4.9189,1,   0.0111,1,     -999,9,     -999,9,     -999,9,     -999,9,     -999,9,20230811,1037, -31.1906,  81.9604,-999          ,9,-999          ,9
33RR20230722  ,I05        ,77      ,  2,7          ,7          ,2,20230811,0955, -31.1906,  81.9604,     3979,   2416.1,2,   2.0768,2,  34.7355,2,  34.7347,2,    188.9,2,    189.0,2,    89.21,2,    31.16,2,     0.00,2,     2.19,2,    0.030,6,    0.034,6,   0.0600,6,   2254.3,2,   2352.9,2,   7.6119,2,    24.98,2,     -999,9,   2.0770,2,     -999,9,     -999,9,     -999,9,     -999,9,     -999,9,   4.6742,1,   0.0111,1,     19.8,6,     -999,9,     -999,9,     -999,9,     -999,9,20230811,1031, -31.1906,  81.9604,-999          ,9,-999          ,9
33RR20230722  ,I05        ,77      ,  2,6          ,6          ,2,20230811,0955, -31.1906,  81.9604,     3979,   2704.1,2,   1.7845,2,  34.7371,2,  34.7370,2,    192.9,2,    192.5,2,    98.97,2,    31.25,2,     0.00,2,     2.20,2,    0.009,3,    0.029,2,  -0.0100,2,   -999.0,9,     -999,9,     -999,9,     -999,9,     -999,9,   1.7841,2,     -999,9,     -999,9,     -999,9,     -999,9,     -999,9,   4.7514,1,   0.0114,1,     20.3,2,     -999,9,     -999,9,     -999,9,     -999,9,20230811,1024, -31.1906,  81.9604,-999          ,9,-999          ,9
33RR20230722  ,I05        ,77      ,  2,5          ,5          ,2,20230811,0955, -31.1906,  81.9604,     3979,   2966.5,2,   1.5844,2,  34.7340,2,  34.7339,2,    196.0,2,    196.9,2,   104.83,2,    31.35,2,     0.00,2,     2.21,2,    0.023,3,    0.030,2,   0.0400,2,   -999.0,9,     -999,9,     -999,9,     -999,9,     -999,9,   1.5847,2,     -999,9,     -999,9,     -999,9,     -999,9,     -999,9,   4.9761,1,   0.0113,1,     17.7,2,     -999,9,     -999,9,     -999,9,     -999,9,20230811,1019, -31.1906,  81.9604,-999          ,9,-999          ,9
33RR20230722  ,I05        ,77      ,  2,4          ,37         ,2,20230811,0955, -31.1906,  81.9604,     3979,   3310.7,2,   1.4136,2,  34.7285,2,  34.7278,2,    198.3,2,    198.2,2,   110.49,2,    31.74,2,     0.00,2,     2.22,2,    0.028,3,    0.033,2,   0.0800,2,   -999.0,9,     -999,9,     -999,9,     -999,9,     -999,9,   1.4131,2,     -999,9,     -999,9,     -999,9,     -999,9,     -999,9,   4.9754,1,   0.0112,1,     17.7,2,     -999,9,     -999,9,     -999,9,     -999,9,20230811,1012, -31.1906,  81.9604,-999          ,9,-999          ,9
33RR20230722  ,I05        ,77      ,  2,3          ,3          ,2,20230811,0955, -31.1906,  81.9604,     3979,   3781.9,2,   1.3894,2,  34.7253,2,  34.7260,2,    198.3,2,    198.5,2,   112.83,2,    31.71,2,     0.00,2,     2.23,2,    0.027,3,    0.031,2,   0.0700,2,   2266.2,2,   2368.6,2,   7.6209,2,    25.00,2,     -999,9,   1.3892,2,     -999,9,     -999,9,     -999,9,     -999,9,     -999,9,   4.9467,1,   0.0119,1,     18.8,2,     -999,9,     -999,9,     -999,9,     -999,9,20230811,1002, -31.1906,  81.9603,-999          ,9,-999          ,9