BOTTLE,20240422CCHHYDRO
EXPOCODE,SECT_ID,STNNBR,CASTNO,SAMPNO,BTLNBR,BTLNBR_FLAG_W,DATE,TIME,LATITUDE,LONGITUDE,DEPTH,CTDPRS,CTDPRS_FLAG_W,CTDTMP,CTDTMP_FLAG_W,CTDSAL,CTDSAL_FLAG_W,SALNTY,SALNTY_FLAG_W,CTDOXY,CTDOXY_FLAG_W,OXYGEN,OXYGEN_FLAG_W,SILCAT,SILCAT_FLAG_W,NITRAT,NITRAT_FLAG_W,NITRIT,NITRIT_FLAG_W,PHSPHT,PHSPHT_FLAG_W,CFC-11,CFC-11_FLAG_W,CFC-12,CFC-12_FLAG_W,SF6,SF6_FLAG_W,TCARBN,TCARBN_FLAG_W,ALKALI,ALKALI_FLAG_W,PH_TOT,PH_TOT_FLAG_W,PH_TMP,PH_TMP_FLAG_W,DOC,DOC_FLAG_W,REFTMP,REFTMP_FLAG_W,POC,POC_FLAG_W,PON,PON_FLAG_W,POP,POP_FLAG_W,DOP,DOP_FLAG_W,DELO18,DELO18_FLAG_W,CTDFLUOR,CTDFLUOR_FLAG_W,CTDXMISS,CTDXMISS_FLAG_W,N2O,N2O_FLAG_W,D15N_NO3,D15N_NO3_FLAG_W,D15N_NO2+NO3,D15N_NO2+NO3_FLAG_W,D18O_NO2+NO3,D18O_NO2+NO3_FLAG_W,D18O_NO3,D18O_NO3_FLAG_W,BTL_DATE,BTL_TIME,BTL_LAT,BTL_LON,HPLC,HPLC_FLAG_W,DNA,DNA_FLAG_W
,,,,,,,,,,,METERS,DBAR,,ITS-90,,PSS-78,,PSS-78,,UMOL/KG,,UMOL/KG,,UMOL/KG,,UMOL/KG,,UMOL/KG,,UMOL/KG,,PMOL/KG,,PMOL/KG,,FMOL/KG,,UMOL/KG,,UMOL/KG,,,,DEG C,,UMOL/KG,,ITS-90,,UG/KG,,UG/KG,,UG/L,,UMOL/KG,,/MILLE,,VOLTS,,VOLTS,,NMOL/KG,,/MILLE,,/MILLE,,/MILLE,,/MILLE,,,,,,,,,
33RR20230722  ,I05        ,133     ,  1,26         ,26         ,2,20230826,1932, -33.9981,  56.0917,     2258,      5.6,2,  16.6857,2,  35.5499,2,  35.5488,2,    244.3,2,    244.6,2,     1.66,2,     0.07,2,     0.00,2,     0.14,2,    2.074,2,    1.366,2,   2.3200,2,   2073.1,2,   2331.9,2,   7.9518,2,    25.07,2,     -999,1,  16.6847,2,     -999,9,     -999,9,     -999,9,     -999,9,     -999,9,   4.7483,1,   0.0321,1,      8.0,2,     -999,9,     -999,9,     -999,9,     -999,9,20230826,2042, -33.9981,  56.0917,-999          ,9,-999          ,9
33RR20230722  ,I05        ,133     ,  1,25         ,25         ,2,20230826,1932, -33.9981,  56.0917,     2258,     25.6,2,  16.5496,2,  35.5395,2,  35.5393,2,    245.2,2,    245.1,2,     1.76,2,     0.00,2,     0.01,2,     0.14,2,     -999,9,     -999,9,     -999,9,   -999.0,9,     -999,9,     -999,9,     -999,9,     -999,9,  16.5474,2,     -999,9,     -999,9,     -999,9,     -999,9,     -999,9,   4.9750,1,   0.0396,1,     -999,9,     -999,9,     -999,9,     -999,9,     -999,9,20230826,2040, -33.9981,  56.0917,-999          ,9,-999          ,9
33RR20230722  ,I05        ,133     ,  1,24         ,24         ,2,20230826,1932, -33.9981,  56.0917,     2258,     49.0,2,  16.3354,2,  35.5062,2,  35.5062,2,    245.9,2,    246.1,2,     1.56,2,     0.00,2,     0.00,2,     0.14,2,    2.117,2,    1.377,2,   2.2600,2,   2079.5,2,   2331.6,2,   7.9466,2,    25.05,2,     -999,9,  16.3355,2,     -999,9,     -999,9,     -999,9,     -999,9,     -999,9,   4.9749,1,   0.0432,1,      8.0,2,     -999,9,     -999,9,     -999,9,     -999,9,20230826,2038, -33.9980,  56.0917,-999          ,9,-999          ,9
33RR20230722  ,I05        ,133     ,  1,23         ,23         ,2,20230826,1932, -33.9981,  56.0917,     2258,     76.3,2,  15.9606,2,  35.5155,2,  35.5170,2,    234.8,2,    236.6,2,     1.95,2,     1.53,2,     0.21,2,     0.23,2,     -999,9,     -999,9,     -999,9,   -999.0,9,     -999,9,     -999,9,     -999,9,     -999,9,  15.9502,2,     -999,9,     -999,9,     -999,9,     -999,9,     -999,9,   4.9722,1,   0.0194,1,     -999,9,     -999,9,     -999,9,     -999,9,     -999,9,20230826,2036, -33.9980,  56.0917,-999          ,9,-999          ,9
33RR20230722  ,I05        ,133     ,  1,22         ,22         ,2,20230826,1932, -33.9981,  56.0917,     2258,    109.3,2,  15.3236,2,  35.4846,2,  35.4805,2,    232.3,2,    232.7,2,     2.54,2,     3.66,2,     0.03,2,     0.35,2,    2.255,2,    1.444,2,   2.2800,2,   2097.3,2,   2327.9,2,   7.9014,2,    25.04,2,     -999,9,  15.3215,2,     -999,9,     -999,9,     -999,9,     -999,9,     -999,9,   4.9709,1,   0.0150,1,      8.8,2,     -999,9,     -999,9,     -999,9,     -999,9,20230826,2033, -33.9980,  56.0917,-999          ,9,-999          ,9
33RR20230722  ,I05        ,133     ,  1,21         ,21         ,2,20230826,1932, -33.9981,  56.0917,     2258,    141.6,2,  14.8319,2,  35.4253,2,  35.4265,2,    225.8,2,    226.8,2,     2.73,2,     5.09,2,     0.01,2,     0.45,2,     -999,9,     -999,9,     -999,9,   -999.0,9,     -999,9,     -999,9,     -999,9,     -999,9,  14.7985,2,     -999,9,     -999,9,     -999,9,     -999,9,     -999,9,   4.9695,1,   0.0125,1,     -999,9,     -999,9,     -999,9,     -999,9,     -999,9,20230826,2032, -33.9981,  56.0917,-999          ,9,-999          ,9
33RR20230722  ,I05        ,133     ,  1,20         ,20         ,2,20230826,1932, -33.9981,  56.0917,     2258,    179.6,2,  14.2071,2,  35.3673,2,  35.3675,2,    229.2,2,    229.5,2,     2.93,2,     6.02,2,     0.00,2,     0.52,2,    2.393,2,    1.542,2,   2.4000,2,   2117.5,2,   2321.4,2,   7.8633,2,     -999,5,     -999,9,  14.2097,2,     -999,9,     -999,9,     -999,9,     -999,9,     -999,9,   4.9694,1,   0.0126,1,      9.6,2,     -999,9,     -999,9,     -999,9,     -999,9,20230826,2030, -33.9981,  56.0917,-999          ,9,-999          ,9
33RR20230722  ,I05        ,133     ,  1,19         ,19         ,2,20230826,1932, -33.9981,  56.0917,     2258,    219.4,2,  13.8620,2,  35.3338,2,  35.3334,2,    232.4,2,    232.6,2,     3.12,2,     6.55,2,     0.00,2,     0.54,2,     -999,9,     -999,9,     -999,9,   -999.0,9,     -999,9,     -999,9,     -999,9,     -999,9,  13.8604,2,     -999,9,     -999,9,     -999,9,     -999,9,     -999,9,   4.9693,1,   0.0115,1,     -999,9,     -999,9,     -999,9,     -999,9,     -999,9,20230826,2028, -33.9981,  56.0917,-999          ,9,-999          ,9
33RR20230722  ,I05        ,133     ,  1,18         ,18         ,2,20230826,1932, -33.9981,  56.0917,     2258,    267.0,2,  13.5840,2,  35.2979,2,  35.2997,2,    234.7,2,    234.5,2,     3.12,2,     7.03,2,     0.00,2,     0.57,2,    2.440,2,    1.574,2,   2.4100,2,   -999.0,9,     -999,9,     -999,9,     -999,9,     -999,9,  13.5918,2,     -999,9,     -999,9,     -999,9,     -999,9,     -999,9,   4.9693,1,   0.0115,1,     10.1,2,     -999,9,     -999,9,     -999,9,     -999,9,20230826,2026, -33.9981,  56.0917,-999          ,9,-999          ,9
33RR20230722  ,I05        ,133     ,  1,17         ,17         ,2,20230826,1932, -33.9981,  56.0917,     2258,    323.6,2,  13.3624,2,  35.2676,2,  35.2653,2,    235.8,2,    235.5,2,     3.22,2,     7.49,2,     0.00,2,     0.59,2,     -999,9,     -999,9,     -999,9,   -999.0,9,     -999,9,     -999,9,     -999,9,     -999,9,  13.3648,2,     -999,9,     -999,9,     -999,9,     -999,9,     -999,9,   4.9688,1,   0.0117,1,     -999,9,     -999,9,     -999,9,     -999,9,     -999,9,20230826,2024, -33.9981,  56.0917,-999          ,9,-999          ,9
33RR20230722  ,I05        ,133     ,  1,16         ,16         ,2,20230826,1932, -33.9981,  56.0917,     2258,    391.3,2,  12.9230,2,  35.2019,2,  35.2012,2,    231.8,2,    231.8,2,     3.61,2,     8.77,2,     0.00,2,     0.66,2,    2.567,2,    1.645,2,   2.3000,2,   2118.9,2,   2312.2,2,   7.8342,6,    25.05,2,     -999,9,  12.9251,2,     -999,9,     -999,9,     -999,9,     -999,9,     -999,9,   4.9680,1,   0.0116,1,     10.1,2,     -999,9,     -999,9,     -999,9,     -999,9,20230826,2021, -33.9981,  56.0917,-999          ,9,-999          ,9
33RR20230722  ,I05        ,133     ,  1,15         ,15         ,2,20230826,1932, -33.9981,  56.0917,     2258,    468.5,2,  12.5164,2,  35.1375,2,  35.1362,2,    229.1,2,    229.3,2,     3.90,2,    10.00,2,     0.00,2,     0.75,2,    2.652,6,    1.671,6,   2.1700,6,   -999.0,9,     -999,9,     -999,9,     -999,9,     -999,9,  12.5178,2,     -999,9,     -999,9,     -999,9,     -999,9,     -999,9,   4.9675,1,   0.0113,1,     10.7,6,     -999,9,     -999,9,     -999,9,     -999,9,20230826,2019, -33.9980,  56.0917,-999          ,9,-999          ,9
33RR20230722  ,I05        ,133     ,  1,14         ,14         ,2,20230826,1932, -33.9981,  56.0917,     2258,    552.2,2,  11.6117,2,  34.9939,2,  34.9957,2,    225.2,2,    225.1,2,     4.59,2,    12.36,2,     0.00,2,     0.91,2,     -999,9,     -999,9,     -999,9,   -999.0,9,     -999,9,     -999,9,     -999,9,     -999,9,  11.6172,2,     -999,9,     -999,9,     -999,9,     -999,9,     -999,9,   4.9668,1,   0.0114,1,     -999,9,     -999,9,     -999,9,     -999,9,     -999,9,20230826,2016, -33.9980,  56.0917,-999          ,9,-999          ,9
33RR20230722  ,I05        ,133     ,  1,13         ,13         ,2,20230826,1932, -33.9981,  56.0917,     2258,    642.8,2,  10.5454,2,  34.8407,2,  34.8416,2,    220.8,2,    221.1,2,     5.95,2,    15.18,2,     0.00,2,     1.07,2,    2.968,2,    1.795,2,   1.8400,2,   2138.0,2,   2297.7,6,   7.7661,2,    25.01,2,     -999,9,  10.5516,2,     -999,9,     -999,9,     -999,9,     -999,9,     -999,9,   4.9667,1,   0.0115,1,     12.6,2,     -999,9,     -999,9,     -999,9,     -999,9,20230826,2013, -33.9980,  56.0917,-999          ,9,-999          ,9
33RR20230722  ,I05        ,133     ,  1,12         ,12         ,2,20230826,1932, -33.9981,  56.0917,     2258,    744.5,2,   9.3696,2,  34.6972,2,  34.6962,2,    215.4,2,    215.5,2,     8.39,2,    18.47,2,     0.00,2,     1.29,2,    2.989,2,    1.781,2,   1.6000,2,   2151.1,2,   2292.2,2,   7.7323,2,    25.01,2,     -999,9,   9.3611,2,     -999,9,     -999,9,     -999,9,     -999,9,     -999,9,   4.9673,1,   0.0115,1,     13.9,2,     -999,9,     -999,9,     -999,9,     -999,9,20230826,2010, -33.9980,  56.0917,-999          ,9,-999          ,9
33RR20230722  ,I05        ,133     ,  1,11         ,11         ,2,20230826,1932, -33.9981,  56.0917,     2258,    858.3,2,   7.7831,2,  34.5443,2,  34.5447,2,    207.9,2,    208.0,2,    13.96,2,    22.88,2,     0.00,2,     1.58,2,    2.869,2,    1.657,2,   1.2900,2,   2166.2,2,   2290.6,2,   7.6859,2,    25.04,2,     -999,9,   7.7783,2,     -999,9,     -999,9,     -999,9,     -999,9,     -999,9,   4.9683,1,   0.0114,1,     15.4,2,     -999,9,     -999,9,     -999,9,     -999,9,20230826,2007, -33.9980,  56.0917,-999          ,9,-999          ,9
33RR20230722  ,I05        ,133     ,  1,10         ,10         ,2,20230826,1932, -33.9981,  56.0917,     2258,    976.2,2,   6.3517,2,  34.4376,2,  34.4375,2,    204.6,2,    204.8,2,    21.48,2,    26.47,2,     0.00,2,     1.82,2,     -999,9,     -999,9,     -999,9,   -999.0,9,     -999,9,     -999,9,     -999,9,     -999,9,   6.3501,2,     -999,9,     -999,9,     -999,9,     -999,9,     -999,9,   4.9692,1,   0.0111,1,     -999,9,     -999,9,     -999,9,     -999,9,     -999,9,20230826,2004, -33.9980,  56.0917,-999          ,9,-999          ,9
33RR20230722  ,I05        ,133     ,  1,9          ,9          ,2,20230826,1932, -33.9981,  56.0917,     2258,   1096.4,2,   5.0634,2,  34.3750,2,  34.3749,2,    202.4,2,    202.8,2,    29.97,2,    29.29,2,     0.00,2,     2.00,2,    2.324,2,    1.313,2,   0.9200,2,   2192.0,2,   2294.9,2,   7.6217,2,    25.00,2,     -999,9,   5.0626,2,     -999,9,     -999,9,     -999,9,     -999,9,     -999,9,   4.9702,1,   0.0113,1,     19.0,2,     -999,9,     -999,9,     -999,9,     -999,9,20230826,2001, -33.9980,  56.0917,-999          ,9,-999          ,9
33RR20230722  ,I05        ,133     ,  1,8          ,8          ,2,20230826,1932, -33.9981,  56.0917,     2258,   1226.6,2,   3.9171,2,  34.3951,2,  34.3945,2,    190.0,2,    190.3,2,    44.91,2,    32.07,2,     0.00,2,     2.23,2,     -999,9,     -999,9,     -999,9,   -999.0,9,     -999,9,     -999,9,     -999,9,     -999,9,   3.9166,2,     -999,9,     -999,9,     -999,9,     -999,9,     -999,9,   4.9716,1,   0.0115,1,     -999,9,     -999,9,     -999,9,     -999,9,     -999,9,20230826,1957, -33.9980,  56.0917,-999          ,9,-999          ,9
33RR20230722  ,I05        ,133     ,  1,7          ,7          ,2,20230826,1932, -33.9981,  56.0917,     2258,   1363.7,2,   3.5192,2,  34.4445,2,  34.4438,2,    181.9,2,    182.2,2,    53.79,2,    32.97,2,     0.00,2,     2.27,2,    1.253,2,    0.680,2,   0.3700,2,   2227.4,2,   2316.2,2,   7.5763,6,    25.02,2,     -999,9,   3.5242,2,     -999,9,     -999,9,     -999,9,     -999,9,     -999,9,   4.9722,1,   0.0112,1,     21.6,2,     -999,9,     -999,9,     -999,9,     -999,9,20230826,1954, -33.9980,  56.0917,-999          ,9,-999          ,9
33RR20230722  ,I05        ,133     ,  1,6          ,6          ,2,20230826,1932, -33.9981,  56.0917,     2258,   1511.2,2,   3.1310,2,  34.5281,2,  34.5284,2,    174.9,2,    174.5,2,    63.94,2,    33.23,2,     0.00,2,     2.30,2,     -999,9,     -999,9,     -999,9,   -999.0,9,     -999,9,     -999,9,     -999,9,     -999,9,   3.1303,2,     -999,9,     -999,9,     -999,9,     -999,9,     -999,9,   4.9728,1,   0.0111,1,     -999,9,     -999,9,     -999,9,     -999,9,     -999,9,20230826,1950, -33.9980,  56.0917,-999          ,9,-999          ,9
33RR20230722  ,I05        ,133     ,  1,5          ,5          ,2,20230826,1932, -33.9981,  56.0917,     2258,   1669.5,2,   2.8519,2,  34.5991,2,  34.5991,2,    173.9,2,    173.6,2,    73.21,2,    32.83,2,     0.00,2,     2.27,2,    0.356,2,    0.189,2,   0.0900,2,   2245.8,2,   2337.3,2,   7.5821,2,    25.01,2,     -999,9,   2.8519,2,     -999,9,     -999,9,     -999,9,     -999,9,     -999,9,   4.9731,1,   0.0112,1,     21.1,2,     -999,9,     -999,9,     -999,9,     -999,9,20230826,1946, -33.9980,  56.0917,-999          ,9,-999          ,9
33RR20230722  ,I05        ,133     ,  1,4          ,37         ,2,20230826,1932, -33.9981,  56.0917,     2258,   1847.6,2,   2.5895,2,  34.6568,2,  34.6565,2,    177.8,2,    177.9,2,    78.86,2,    32.08,2,     0.00,2,     2.23,2,     -999,9,     -999,9,     -999,9,   -999.0,9,     -999,9,     -999,9,     -999,9,     -999,9,   2.5890,2,     -999,9,     -999,9,     -999,9,     -999,9,     -999,9,   4.7794,1,   0.0117,1,     -999,9,     -999,9,     -999,9,     -999,9,     -999,9,20230826,1942, -33.9981,  56.0918,-999          ,9,-999          ,9
33RR20230722  ,I05        ,133     ,  1,3          ,3          ,2,20230826,1932, -33.9981,  56.0917,     2258,   2044.3,2,   2.4697,2,  34.6798,2,  34.6793,2,    180.8,2,    181.1,2,    81.59,2,    31.68,2,     0.00,2,     2.20,2,    0.181,2,    0.098,2,   0.0100,2,   2250.8,2,   2348.4,2,   7.6009,2,    25.00,2,     -999,9,   2.4698,2,     -999,9,     -999,9,     -999,9,     -999,9,     -999,9,   4.9728,1,   0.0113,1,     20.4,2,     -999,9,     -999,9,     -999,9,     -999,9,20230826,1938, -33.9980,  56.0917,-999          ,9,-999          ,9
33RR20230722  ,I05        ,133     ,  1,2          ,2          ,2,20230826,1932, -33.9981,  56.0917,     2258,   2209.3,2,   2.3345,2,  34.7007,2,  34.6999,2,    183.1,2,    183.2,2,    85.79,2,    31.42,2,     0.00,2,     2.19,2,    0.130,2,    0.076,2,   0.0800,2,   2254.8,2,   2351.6,2,   7.6054,2,    25.03,2,     -999,9,   2.3331,2,     -999,9,     -999,9,     -999,9,     -999,9,     -999,9,   3.7679,1,   0.0110,1,     19.6,2,     -999,9,     -999,9,     -999,9,     -999,9,20230826,1934, -33.9980,  56.0917,-999          ,9,-999          ,9
33RR20230722  ,I05        ,133     ,  1,1          ,1          ,2,20230826,1932, -33.9981,  56.0917,     2258,   2273.6,2,   2.2772,2,  34.7082,2,  34.7081,2,    184.3,2,    184.4,2,    87.35,2,    31.32,2,     0.00,2,     2.19,2,    0.119,2,    0.065,2,  -0.0100,2,   2251.1,2,   2353.5,2,   7.6059,2,    25.00,2,     -999,9,   2.2762,2,     -999,9,     -999,9,     -999,9,     -999,9,     -999,9,   0.6424,1,   0.0115,1,     19.5,2,     -999,9,     -999,9,     -999,9,     -999,9,20230826,1932, -33.9981,  56.0917,-999          ,9,-999          ,9