BOTTLE,20240422CCHHYDRO
EXPOCODE,SECT_ID,STNNBR,CASTNO,SAMPNO,BTLNBR,BTLNBR_FLAG_W,DATE,TIME,LATITUDE,LONGITUDE,DEPTH,CTDPRS,CTDPRS_FLAG_W,CTDTMP,CTDTMP_FLAG_W,CTDSAL,CTDSAL_FLAG_W,SALNTY,SALNTY_FLAG_W,CTDOXY,CTDOXY_FLAG_W,OXYGEN,OXYGEN_FLAG_W,SILCAT,SILCAT_FLAG_W,NITRAT,NITRAT_FLAG_W,NITRIT,NITRIT_FLAG_W,PHSPHT,PHSPHT_FLAG_W,CFC-11,CFC-11_FLAG_W,CFC-12,CFC-12_FLAG_W,SF6,SF6_FLAG_W,TCARBN,TCARBN_FLAG_W,ALKALI,ALKALI_FLAG_W,PH_TOT,PH_TOT_FLAG_W,PH_TMP,PH_TMP_FLAG_W,DOC,DOC_FLAG_W,REFTMP,REFTMP_FLAG_W,POC,POC_FLAG_W,PON,PON_FLAG_W,POP,POP_FLAG_W,DOP,DOP_FLAG_W,DELO18,DELO18_FLAG_W,CTDFLUOR,CTDFLUOR_FLAG_W,CTDXMISS,CTDXMISS_FLAG_W,N2O,N2O_FLAG_W,D15N_NO3,D15N_NO3_FLAG_W,D15N_NO2+NO3,D15N_NO2+NO3_FLAG_W,D18O_NO2+NO3,D18O_NO2+NO3_FLAG_W,D18O_NO3,D18O_NO3_FLAG_W,BTL_DATE,BTL_TIME,BTL_LAT,BTL_LON,HPLC,HPLC_FLAG_W,DNA,DNA_FLAG_W
,,,,,,,,,,,METERS,DBAR,,ITS-90,,PSS-78,,PSS-78,,UMOL/KG,,UMOL/KG,,UMOL/KG,,UMOL/KG,,UMOL/KG,,UMOL/KG,,PMOL/KG,,PMOL/KG,,FMOL/KG,,UMOL/KG,,UMOL/KG,,,,DEG C,,UMOL/KG,,ITS-90,,UG/KG,,UG/KG,,UG/L,,UMOL/KG,,/MILLE,,VOLTS,,VOLTS,,NMOL/KG,,/MILLE,,/MILLE,,/MILLE,,/MILLE,,,,,,,,,
33RR20230722  ,I05        ,57      ,  1,36         ,36         ,2,20230806,1650, -32.8560,  92.3795,     4589,      7.0,2,  16.2848,2,  35.7121,2,  35.7136,2,    242.7,2,    241.9,2,     0.98,2,     0.32,2,     0.05,2,     0.18,2,    0.000,4,    1.384,2,   2.4600,2,   2098.6,6,   2350.0,2,   7.9430,2,    25.03,2,     -999,1,  16.2848,2,     -999,9,     -999,9,     -999,9,     -999,1,     -999,1,   4.7564,1,   0.0468,1,      8.3,2,     -999,9,     -999,9,     -999,9,     -999,9,20230806,1848, -32.8560,  92.3795,-999          ,9,-999          ,9
33RR20230722  ,I05        ,57      ,  1,35         ,35         ,2,20230806,1650, -32.8560,  92.3795,     4589,     23.6,2,  16.2855,2,  35.7110,2,  35.7175,2,    242.6,2,    242.1,2,     0.78,2,     0.28,2,     0.05,2,     0.18,2,    0.002,4,    1.348,2,   2.3000,2,   2099.5,2,   2347.9,2,   7.9433,2,    25.02,2,     -999,9,  16.2758,2,     -999,9,     -999,9,     -999,9,     -999,1,     -999,1,   4.9748,1,   0.0452,1,      8.4,2,     -999,9,     -999,9,     -999,9,     -999,9,20230806,1846, -32.8560,  92.3795,-999          ,9,-999          ,9
33RR20230722  ,I05        ,57      ,  1,34         ,34         ,2,20230806,1650, -32.8560,  92.3795,     4589,     40.4,2,  16.2593,2,  35.7029,2,  35.7069,2,    242.3,2,    242.1,2,     0.98,2,     0.27,2,     0.06,2,     0.19,2,     -999,9,     -999,9,     -999,9,   -999.0,9,     -999,9,     -999,9,     -999,9,     -999,9,  16.2536,2,     -999,9,     -999,9,     -999,9,     -999,9,     -999,1,   4.9749,1,   0.0444,1,     -999,9,     -999,9,     -999,9,     -999,9,     -999,9,20230806,1844, -32.8560,  92.3795,-999          ,9,-999          ,9
33RR20230722  ,I05        ,57      ,  1,33         ,33         ,2,20230806,1650, -32.8560,  92.3795,     4589,     63.4,2,  16.2892,2,  35.7094,2,  35.7108,2,    242.2,2,    242.1,2,     0.98,2,     0.27,2,     0.05,2,     0.18,2,    0.000,4,    1.379,2,   2.3400,2,   2099.0,2,   2346.5,2,   7.9441,2,    25.03,2,     -999,9,  16.2894,2,     -999,9,     -999,9,     -999,9,     -999,1,     -999,1,   4.9746,1,   0.0442,1,      8.4,2,     -999,9,     -999,9,     -999,9,     -999,9,20230806,1843, -32.8559,  92.3795,-999          ,9,-999          ,9
33RR20230722  ,I05        ,57      ,  1,32         ,32         ,2,20230806,1650, -32.8560,  92.3795,     4589,     86.6,2,  15.8192,2,  35.6004,2,  35.5839,2,    242.8,2,    243.9,2,     0.78,2,     0.57,2,     0.09,2,     0.21,2,     -999,9,     -999,9,     -999,9,   -999.0,9,     -999,9,     -999,9,     -999,9,     -999,9,  15.9132,3,     -999,9,     -999,9,     -999,9,     -999,1,     -999,1,   4.9742,1,   0.0347,1,     -999,9,     -999,9,     -999,9,     -999,9,     -999,9,20230806,1841, -32.8560,  92.3795,-999          ,9,-999          ,9
33RR20230722  ,I05        ,57      ,  1,31         ,31         ,2,20230806,1650, -32.8560,  92.3795,     4589,    122.3,2,  15.3127,2,  35.5186,2,  35.5216,2,    244.7,2,    245.0,2,     0.68,2,     0.78,2,     0.11,2,     0.25,2,     -999,9,     -999,9,     -999,9,   2103.3,2,   2339.2,2,   7.9227,2,    25.03,2,     -999,9,  15.3133,2,     -999,9,     -999,9,     -999,9,     -999,1,     -999,1,   4.9735,1,   0.0241,1,     -999,9,     -999,9,     -999,9,     -999,9,     -999,9,20230806,1839, -32.8560,  92.3795,-999          ,9,-999          ,9
33RR20230722  ,I05        ,57      ,  1,30         ,30         ,2,20230806,1650, -32.8560,  92.3795,     4589,    150.9,2,  13.7436,2,  35.3293,2,  35.3380,2,    232.4,2,    234.0,2,     1.37,2,     4.89,2,     0.04,2,     0.49,2,    0.000,4,    1.573,2,   2.4000,2,   -999.0,9,     -999,9,     -999,9,     -999,9,     -999,9,  13.7845,2,     -999,9,     -999,9,     -999,9,     -999,9,     -999,1,   4.9697,1,   0.0164,1,     10.5,2,     -999,9,     -999,9,     -999,9,     -999,9,20230806,1837, -32.8560,  92.3795,-999          ,9,-999          ,9
33RR20230722  ,I05        ,57      ,  1,29         ,29         ,2,20230806,1650, -32.8560,  92.3795,     4589,    184.1,2,  12.8837,2,  35.1877,2,  35.1898,2,    237.1,2,    238.6,2,     1.85,2,     6.78,2,     0.02,2,     0.59,2,     -999,9,     -999,9,     -999,9,   2123.8,2,   2315.6,2,   7.8371,2,    25.03,2,     -999,9,  12.8813,2,     -999,9,     -999,9,     -999,9,     -999,9,     -999,1,   4.9694,1,   0.0116,1,     -999,9,     -999,9,     -999,9,     -999,9,     -999,9,20230806,1836, -32.8560,  92.3795,-999          ,9,-999          ,9
33RR20230722  ,I05        ,57      ,  1,28         ,28         ,2,20230806,1650, -32.8560,  92.3795,     4589,    206.2,2,  12.5788,2,  35.1365,2,  35.1413,2,    239.8,2,    240.5,2,     1.95,2,     7.33,2,     0.02,2,     0.63,2,    0.023,4,    1.613,2,   2.5900,2,   -999.0,9,     -999,9,     -999,9,     -999,9,     -999,9,  12.5657,2,     -999,9,     -999,9,     -999,9,     -999,9,     -999,1,   4.9695,1,   0.0115,1,     11.4,2,     -999,9,     -999,9,     -999,9,     -999,9,20230806,1834, -32.8560,  92.3795,-999          ,9,-999          ,9
33RR20230722  ,I05        ,57      ,  1,27         ,27         ,2,20230806,1650, -32.8560,  92.3795,     4589,    242.7,2,  12.1258,2,  35.0611,2,  35.0640,2,    242.9,2,    243.1,2,     2.34,2,     8.35,2,     0.01,2,     0.67,2,    0.591,4,    1.569,2,   2.5000,2,   2125.1,2,   2308.7,2,   7.8237,2,    25.02,2,     -999,9,  12.1252,2,     -999,9,     -999,9,     -999,9,     -999,1,     -999,1,   4.9694,1,   0.0117,1,     11.6,2,     -999,9,     -999,9,     -999,9,     -999,9,20230806,1833, -32.8560,  92.3795,-999          ,9,-999          ,9
33RR20230722  ,I05        ,57      ,  1,26         ,26         ,2,20230806,1650, -32.8560,  92.3795,     4589,    288.9,2,  11.7418,2,  34.9977,2,  33.0449,4,    245.1,2,    244.5,2,     2.73,2,     9.50,2,     0.01,2,     0.74,2,   -0.001,4,    1.733,2,   2.6700,2,   -999.0,9,     -999,9,     -999,9,     -999,9,     -999,9,  11.7660,2,     -999,9,     -999,9,     -999,9,     -999,9,     -999,1,   4.9692,1,   0.0117,1,     11.7,2,     -999,9,     -999,9,     -999,9,     -999,9,20230806,1831, -32.8560,  92.3795,-999          ,9,-999          ,9
33RR20230722  ,I05        ,57      ,  1,25         ,25         ,2,20230806,1650, -32.8560,  92.3795,     4589,    343.1,2,  11.4910,2,  34.9600,2,  34.9612,2,    242.7,2,    242.4,2,     3.02,2,    10.42,2,     0.01,2,     0.77,2,     -999,9,     -999,9,     -999,9,   2128.5,2,   2301.4,2,   7.8059,2,    25.01,2,     -999,9,  11.4875,2,     -999,9,     -999,9,     -999,9,     -999,9,     -999,1,   4.9683,1,   0.0114,1,     -999,9,     -999,9,     -999,9,     -999,9,     -999,9,20230806,1829, -32.8560,  92.3795,-999          ,9,-999          ,9
33RR20230722  ,I05        ,57      ,  1,24         ,24         ,2,20230806,1650, -32.8560,  92.3795,     4589,    398.5,2,  11.1740,2,  34.9161,2,  34.9178,2,    245.5,2,    244.7,2,     3.22,2,    11.24,2,     0.01,2,     0.86,2,     -999,9,     -999,9,     -999,9,   -999.0,9,     -999,9,     -999,9,     -999,9,     -999,9,  11.1785,2,     -999,9,     -999,9,     -999,9,     -999,9,     -999,1,   4.9683,1,   0.0116,1,     -999,9,     -999,9,     -999,9,     -999,9,     -999,9,20230806,1827, -32.8559,  92.3795,-999          ,9,-999          ,9
33RR20230722  ,I05        ,57      ,  1,23         ,23         ,2,20230806,1650, -32.8560,  92.3795,     4589,    474.7,2,  10.8109,2,  34.8660,2,  34.8642,2,    243.1,2,    242.5,2,     3.02,2,    11.77,2,     0.01,2,     0.88,2,   -0.001,4,    1.660,2,   2.5100,2,   2131.7,2,   2300.2,2,   7.7916,6,    25.03,2,     -999,9,  10.7993,2,     -999,9,     -999,9,     -999,9,     -999,9,     -999,1,   4.9676,1,   0.0115,1,     12.3,2,     -999,9,     -999,9,     -999,9,     -999,9,20230806,1824, -32.8560,  92.3795,-999          ,9,-999          ,9
33RR20230722  ,I05        ,57      ,  1,22         ,22         ,2,20230806,1650, -32.8560,  92.3795,     4589,    552.2,2,  10.2881,2,  34.7886,2,  34.7879,2,    240.0,2,    238.9,2,     3.71,2,    13.80,2,     0.01,2,     1.01,2,     -999,9,     -999,9,     -999,9,   -999.0,9,     -999,9,     -999,9,     -999,9,     -999,9,  10.2855,2,     -999,9,     -999,9,     -999,9,     -999,9,     -999,1,   4.9670,1,   0.0114,1,     -999,9,     -999,9,     -999,9,     -999,9,     -999,9,20230806,1822, -32.8559,  92.3795,-999          ,9,-999          ,9
33RR20230722  ,I05        ,57      ,  1,21         ,21         ,2,20230806,1650, -32.8560,  92.3795,     4589,    640.9,2,   9.6254,2,  34.7080,2,  34.7072,2,    232.7,2,    232.7,2,     4.68,2,    16.13,2,     0.01,2,     1.13,2,    0.000,4,    1.911,2,   2.0800,2,   2143.0,2,   2291.8,2,   7.7504,2,    25.04,2,     -999,9,   9.6284,2,     -999,9,     -999,9,     -999,9,     -999,9,     -999,1,   4.9665,1,   0.0115,1,     13.7,2,     -999,9,     -999,9,     -999,9,     -999,9,20230806,1819, -32.8560,  92.3795,-999          ,9,-999          ,9
33RR20230722  ,I05        ,57      ,  1,20         ,20         ,2,20230806,1650, -32.8560,  92.3795,     4589,    738.3,2,   8.9950,2,  34.6327,2,  34.6350,2,    225.0,2,    226.0,2,     6.44,2,    18.51,2,     0.01,2,     1.29,2,    0.429,4,    1.889,2,   1.8900,6,   -999.0,9,     -999,9,     -999,9,     -999,9,     -999,9,   9.0028,2,     -999,9,     -999,9,     -999,9,     -999,9,     -999,1,   4.9668,1,   0.0112,1,     14.2,6,     -999,9,     -999,9,     -999,9,     -999,9,20230806,1816, -32.8560,  92.3795,-999          ,9,-999          ,9
33RR20230722  ,I05        ,57      ,  1,19         ,19         ,2,20230806,1650, -32.8560,  92.3795,     4589,    852.0,2,   7.5465,2,  34.5003,2,  34.5025,2,    204.3,2,    205.2,2,    13.57,2,    23.81,2,     0.01,2,     1.65,2,    0.007,4,    1.633,2,   1.2300,2,   2169.2,2,   2287.1,6,   7.6767,2,    25.01,2,     -999,9,   7.5673,2,     -999,9,     -999,9,     -999,9,     -999,9,     -999,1,   4.9686,1,   0.0113,1,     16.8,2,     -999,9,     -999,9,     -999,9,     -999,9,20230806,1813, -32.8559,  92.3795,-999          ,9,-999          ,9
33RR20230722  ,I05        ,57      ,  1,18         ,18         ,2,20230806,1650, -32.8560,  92.3795,     4589,    977.2,2,   5.4606,2,  34.3739,2,  34.3772,2,    200.2,2,    200.3,2,    25.77,2,    28.80,2,     0.00,2,     2.00,2,     -999,9,     -999,9,     -999,9,   -999.0,9,     -999,9,     -999,9,     -999,9,     -999,9,   5.4770,2,     -999,9,     -999,9,     -999,9,     -999,9,     -999,1,   4.9702,1,   0.0112,1,     -999,9,     -999,9,     -999,9,     -999,9,     -999,9,20230806,1810, -32.8560,  92.3795,-999          ,9,-999          ,9
33RR20230722  ,I05        ,57      ,  1,17         ,17         ,2,20230806,1650, -32.8560,  92.3795,     4589,   1056.0,2,   4.7296,2,  34.3623,2,  34.3637,2,    195.4,2,    195.4,2,    33.29,2,    30.87,2,     0.01,2,     2.12,2,   -0.001,4,    1.052,2,   0.4400,2,   2203.3,2,   2296.0,2,   7.6098,6,    25.01,2,     -999,9,   4.7364,2,     -999,9,     -999,9,     -999,9,     -999,9,     -999,1,   4.9710,1,   0.0111,1,     20.3,2,     -999,9,     -999,9,     -999,9,     -999,9,20230806,1807, -32.8560,  92.3795,-999          ,9,-999          ,9
33RR20230722  ,I05        ,57      ,  1,16         ,16         ,2,20230806,1650, -32.8560,  92.3795,     4589,   1169.6,2,   4.0601,2,  34.4087,2,  34.4069,2,    178.8,2,    179.3,2,    48.71,2,    32.72,2,     0.01,2,     2.28,2,     -999,9,     -999,9,     -999,9,   -999.0,9,     -999,9,     -999,9,     -999,9,     -999,9,   4.0599,2,     -999,9,     -999,9,     -999,9,     -999,9,     -999,1,   4.9726,1,   0.0113,1,     -999,9,     -999,9,     -999,9,     -999,9,     -999,9,20230806,1804, -32.8560,  92.3795,-999          ,9,-999          ,9
33RR20230722  ,I05        ,57      ,  1,15         ,15         ,2,20230806,1650, -32.8560,  92.3795,     4589,   1288.3,2,   3.7492,2,  34.4663,2,  34.4681,2,    163.9,2,    164.0,2,    60.32,2,    34.12,2,     0.01,2,     2.40,2,    0.077,4,    0.329,2,   0.1800,2,   2239.0,2,   2326.2,2,   7.5697,2,    25.03,2,     -999,9,   3.7477,2,     -999,9,     -999,9,     -999,9,     -999,9,     -999,1,   4.9738,1,   0.0112,1,     23.1,2,     -999,9,     -999,9,     -999,9,     -999,9,20230806,1801, -32.8560,  92.3795,-999          ,9,-999          ,9
33RR20230722  ,I05        ,57      ,  1,14         ,14         ,2,20230806,1650, -32.8560,  92.3795,     4589,   1412.2,2,   3.4521,2,  34.5221,2,  34.5217,2,    155.6,2,    155.4,2,    69.59,2,    34.67,2,     0.01,2,     2.45,2,    0.000,4,    0.195,2,   0.0600,2,   -999.0,9,     -999,9,     -999,9,     -999,9,     -999,9,   3.4545,2,     -999,9,     -999,9,     -999,9,     -999,9,     -999,1,   4.9744,1,   0.0123,1,     23.5,2,     -999,9,     -999,9,     -999,9,     -999,9,20230806,1758, -32.8560,  92.3795,-999          ,9,-999          ,9
33RR20230722  ,I05        ,57      ,  1,13         ,13         ,2,20230806,1650, -32.8560,  92.3795,     4589,   1562.4,2,   3.1327,2,  34.5774,2,  34.5802,2,    154.0,2,    153.6,2,    77.78,2,    34.71,2,     0.01,2,     2.45,2,    0.000,4,    0.099,2,   0.0200,2,   2264.2,2,   2345.5,2,   7.5599,2,    25.04,2,     -999,9,   3.1361,2,     -999,9,     -999,9,     -999,9,     -999,9,     -999,1,   4.9748,1,   0.0123,1,     23.6,2,     -999,9,     -999,9,     -999,9,     -999,9,20230806,1754, -32.8559,  92.3795,-999          ,9,-999          ,9
33RR20230722  ,I05        ,57      ,  1,12         ,12         ,2,20230806,1650, -32.8560,  92.3795,     4589,   1694.1,2,   2.9284,2,  34.6150,2,  34.6168,2,    156.3,2,    156.2,2,    81.69,2,    34.35,2,     0.01,2,     2.44,2,     -999,9,     -999,9,     -999,9,   -999.0,9,     -999,9,     -999,9,     -999,9,     -999,9,   2.9266,2,     -999,9,     -999,9,     -999,9,     -999,9,     -999,1,   4.9749,1,   0.0113,1,     -999,9,     -999,9,     -999,9,     -999,9,     -999,9,20230806,1751, -32.8559,  92.3795,-999          ,9,-999          ,9
33RR20230722  ,I05        ,57      ,  1,11         ,11         ,2,20230806,1650, -32.8560,  92.3795,     4589,   1855.5,2,   2.6900,2,  34.6588,2,  34.6596,2,    162.0,2,    162.2,2,    85.88,2,    33.64,2,     0.01,2,     2.38,2,    0.000,4,    0.052,2,  -0.0500,2,   2265.0,2,   2353.1,2,   7.5791,2,    25.02,2,     -999,9,   2.6907,2,     -999,9,     -999,9,     -999,9,     -999,9,     -999,1,   4.9750,1,   0.0117,1,     22.6,2,     -999,9,     -999,9,     -999,9,     -999,9,20230806,1747, -32.8559,  92.3795,-999          ,9,-999          ,9
33RR20230722  ,I05        ,57      ,  1,10         ,10         ,2,20230806,1650, -32.8560,  92.3795,     4589,   1998.2,2,   2.5034,2,  34.6896,2,  34.6928,2,    168.7,2,    168.9,2,    87.83,2,    33.01,2,     0.01,2,     2.30,2,     -999,9,     -999,9,     -999,9,   -999.0,9,     -999,9,     -999,9,     -999,9,     -999,9,   2.5056,2,     -999,9,     -999,9,     -999,9,     -999,9,     -999,1,   4.9749,1,   0.0118,1,     -999,9,     -999,9,     -999,9,     -999,9,     -999,9,20230806,1743, -32.8560,  92.3795,-999          ,9,-999          ,9
33RR20230722  ,I05        ,57      ,  1,9          ,9          ,2,20230806,1650, -32.8560,  92.3795,     4589,   2246.0,2,   2.2493,2,  34.7214,2,  34.7229,2,    179.6,2,    179.6,2,    89.39,2,    31.90,2,     0.01,2,     2.22,2,   -0.002,4,    0.030,2,   0.0000,2,   2258.4,2,   2354.2,2,   7.6006,2,    25.02,2,     -999,9,   2.2486,2,     -999,9,     -999,9,     -999,9,     -999,9,     -999,1,   4.9748,1,   0.0118,1,     21.0,2,     -999,9,     -999,9,     -999,9,     -999,9,20230806,1738, -32.8560,  92.3795,-999          ,9,-999          ,9
33RR20230722  ,I05        ,57      ,  1,8          ,8          ,2,20230806,1650, -32.8560,  92.3795,     4589,   2538.3,2,   1.9615,2,  34.7371,2,  34.7380,2,    188.9,2,    189.1,2,    93.68,2,    31.28,2,     0.01,2,     2.16,2,    0.000,4,    0.010,2,   0.1100,2,   -999.0,9,     -999,9,     -999,9,     -999,9,     -999,9,   1.9633,2,     -999,9,     -999,9,     -999,9,     -999,9,     -999,1,   4.9749,1,   0.0116,1,     19.5,2,     -999,9,     -999,9,     -999,9,     -999,9,20230806,1732, -32.8560,  92.3795,-999          ,9,-999          ,9
33RR20230722  ,I05        ,57      ,  1,7          ,7          ,2,20230806,1650, -32.8560,  92.3795,     4589,   2973.8,2,   1.6015,2,  34.7354,2,  34.7361,2,    196.4,2,    196.6,2,   103.05,2,    31.36,2,     0.00,2,     2.18,2,   -0.002,4,    0.023,2,   0.0400,2,   2259.3,2,   2361.6,2,   7.6181,2,    25.01,2,     -999,9,   1.5998,2,     -999,9,     -999,9,     -999,9,     -999,9,     -999,1,   4.9752,1,   0.0113,1,     19.0,2,     -999,9,     -999,9,     -999,9,     -999,9,20230806,1724, -32.8560,  92.3795,-999          ,9,-999          ,9
33RR20230722  ,I05        ,57      ,  1,6          ,6          ,2,20230806,1650, -32.8560,  92.3795,     4589,   3286.3,2,   1.3725,2,  34.7282,2,  34.7288,2,    200.3,2,    200.4,2,   109.20,2,    31.58,2,     0.00,2,     2.20,2,    0.000,4,    0.028,2,   0.0200,2,   -999.0,9,     -999,9,     -999,9,     -999,9,     -999,9,   1.3725,2,     -999,9,     -999,9,     -999,9,     -999,9,     -999,1,   4.9754,1,   0.0119,1,     19.0,2,     -999,9,     -999,9,     -999,9,     -999,9,20230806,1718, -32.8559,  92.3795,-999          ,9,-999          ,9
33RR20230722  ,I05        ,57      ,  1,5          ,5          ,2,20230806,1650, -32.8560,  92.3795,     4589,   3578.6,2,   1.2474,2,  34.7223,2,  34.7227,2,    201.6,2,    201.7,2,   113.30,2,    31.75,2,     0.00,2,     2.22,2,    0.045,4,    0.036,2,  -0.0200,2,   2264.9,2,   2369.1,2,   7.6201,6,    25.02,2,     -999,9,   1.2470,2,     -999,9,     -999,9,     -999,9,     -999,9,     -999,1,   4.9757,1,   0.0111,1,     19.4,2,     -999,9,     -999,9,     -999,9,     -999,9,20230806,1712, -32.8560,  92.3795,-999          ,9,-999          ,9
33RR20230722  ,I05        ,57      ,  1,4          ,37         ,2,20230806,1650, -32.8560,  92.3795,     4589,   3987.0,2,   1.1806,2,  34.7178,2,  34.7188,2,    202.5,2,    202.5,2,   114.96,2,    32.01,2,     0.00,2,     2.22,2,    2.945,4,    0.029,2,  -0.0200,2,   -999.0,9,     -999,9,     -999,9,     -999,9,     -999,9,   1.1805,2,     -999,9,     -999,9,     -999,9,     -999,9,     -999,1,   4.9762,1,   0.0110,1,     18.9,2,     -999,9,     -999,9,     -999,9,     -999,9,20230806,1704, -32.8560,  92.3795,-999          ,9,-999          ,9
33RR20230722  ,I05        ,57      ,  1,3          ,3          ,2,20230806,1650, -32.8560,  92.3795,     4589,   4228.8,2,   1.1769,2,  34.7165,2,  34.7172,2,    202.9,2,    203.0,2,   116.52,2,    32.04,2,     0.00,2,     2.21,2,    0.006,4,    0.034,4,   0.0200,4,   -999.0,5,   2375.3,2,   7.6230,2,    25.03,2,     -999,9,   1.1770,2,     -999,9,     -999,9,     -999,9,     -999,9,     -999,1,   4.9764,1,   0.0111,1,     18.0,4,     -999,9,     -999,9,     -999,9,     -999,9,20230806,1659, -32.8559,  92.3795,-999          ,9,-999          ,9