BOTTLE,20240422CCHHYDRO
EXPOCODE,SECT_ID,STNNBR,CASTNO,SAMPNO,BTLNBR,BTLNBR_FLAG_W,DATE,TIME,LATITUDE,LONGITUDE,DEPTH,CTDPRS,CTDPRS_FLAG_W,CTDTMP,CTDTMP_FLAG_W,CTDSAL,CTDSAL_FLAG_W,SALNTY,SALNTY_FLAG_W,CTDOXY,CTDOXY_FLAG_W,OXYGEN,OXYGEN_FLAG_W,SILCAT,SILCAT_FLAG_W,NITRAT,NITRAT_FLAG_W,NITRIT,NITRIT_FLAG_W,PHSPHT,PHSPHT_FLAG_W,CFC-11,CFC-11_FLAG_W,CFC-12,CFC-12_FLAG_W,SF6,SF6_FLAG_W,TCARBN,TCARBN_FLAG_W,ALKALI,ALKALI_FLAG_W,PH_TOT,PH_TOT_FLAG_W,PH_TMP,PH_TMP_FLAG_W,DOC,DOC_FLAG_W,REFTMP,REFTMP_FLAG_W,POC,POC_FLAG_W,PON,PON_FLAG_W,POP,POP_FLAG_W,DOP,DOP_FLAG_W,DELO18,DELO18_FLAG_W,CTDFLUOR,CTDFLUOR_FLAG_W,CTDXMISS,CTDXMISS_FLAG_W,N2O,N2O_FLAG_W,D15N_NO3,D15N_NO3_FLAG_W,D15N_NO2+NO3,D15N_NO2+NO3_FLAG_W,D18O_NO2+NO3,D18O_NO2+NO3_FLAG_W,D18O_NO3,D18O_NO3_FLAG_W,BTL_DATE,BTL_TIME,BTL_LAT,BTL_LON,HPLC,HPLC_FLAG_W,DNA,DNA_FLAG_W
,,,,,,,,,,,METERS,DBAR,,ITS-90,,PSS-78,,PSS-78,,UMOL/KG,,UMOL/KG,,UMOL/KG,,UMOL/KG,,UMOL/KG,,UMOL/KG,,PMOL/KG,,PMOL/KG,,FMOL/KG,,UMOL/KG,,UMOL/KG,,,,DEG C,,UMOL/KG,,ITS-90,,UG/KG,,UG/KG,,UG/L,,UMOL/KG,,/MILLE,,VOLTS,,VOLTS,,NMOL/KG,,/MILLE,,/MILLE,,/MILLE,,/MILLE,,,,,,,,,
33RR20230722  ,I05        ,120     ,  2,36         ,38         ,2,20230823,0813, -34.0009,  60.5502,     5430,      3.0,2,  16.0705,2,  35.5168,2,  35.5160,2,    250.3,2,    249.2,2,     1.66,2,     0.35,2,     0.06,2,     0.20,2,     -999,9,     -999,9,     -999,9,   2084.7,2,   2331.5,2,   7.9403,2,    25.00,2,     -999,1,  16.0756,2,     -999,9,     -999,9,     -999,9,     -999,9,     -999,1,   4.3160,1,   0.0241,1,     -999,9,     -999,9,     -999,9,     -999,9,     -999,9,20230823,1028, -34.0009,  60.5502,-999          ,9,-999          ,9
33RR20230722  ,I05        ,120     ,  2,35         ,35         ,2,20230823,0813, -34.0009,  60.5502,     5430,     29.1,2,  15.6965,2,  35.5060,2,  35.5046,2,    250.3,2,    250.4,2,     1.66,2,     0.36,2,     0.07,2,     0.20,2,     -999,9,     -999,9,     -999,9,   2085.0,6,   2331.8,2,   7.9407,2,    25.00,2,     -999,1,  15.6954,2,     -999,9,     -999,9,     -999,9,     -999,9,     -999,1,   4.6354,1,   0.0512,1,     -999,9,     -999,9,     -999,9,     -999,9,     -999,9,20230823,1026, -34.0009,  60.5502,-999          ,9,-999          ,9
33RR20230722  ,I05        ,120     ,  2,34         ,34         ,2,20230823,0813, -34.0009,  60.5502,     5430,     52.6,2,  15.5775,2,  35.4912,2,  35.4902,2,    250.4,2,    250.1,2,     1.76,2,     0.49,2,     0.08,2,     0.20,2,     -999,9,     -999,9,     -999,9,   2085.4,2,   2333.0,2,   7.9371,2,    24.99,2,     -999,1,  15.5778,2,     -999,9,     -999,9,     -999,9,     -999,9,     -999,1,   4.9749,1,   0.0670,1,     -999,9,     -999,9,     -999,9,     -999,9,     -999,9,20230823,1024, -34.0009,  60.5502,-999          ,9,-999          ,9
33RR20230722  ,I05        ,120     ,  2,33         ,33         ,2,20230823,0813, -34.0009,  60.5502,     5430,     75.0,2,  15.1751,2,  35.4397,2,  35.4403,2,    248.6,2,    247.6,2,     1.85,2,     1.36,2,     0.20,2,     0.29,2,     -999,9,     -999,9,     -999,9,   2091.4,2,   2326.5,2,   7.9202,2,    24.99,2,     -999,1,  15.1789,2,     -999,9,     -999,9,     -999,9,     -999,9,     -999,1,   4.9640,1,   0.0300,1,     -999,9,     -999,9,     -999,9,     -999,9,     -999,9,20230823,1022, -34.0009,  60.5502,-999          ,9,-999          ,9
33RR20230722  ,I05        ,120     ,  2,32         ,32         ,2,20230823,0813, -34.0009,  60.5502,     5430,     98.3,2,  15.1007,2,  35.4492,2,  35.4476,2,    240.9,2,    241.9,2,     2.15,2,     2.41,2,     0.30,2,     0.34,2,     -999,9,     -999,9,     -999,9,   2096.8,2,   2325.2,2,   7.9095,2,    25.01,2,     -999,1,  15.1027,2,     -999,9,     -999,9,     -999,9,     -999,9,     -999,1,   4.8717,1,   0.0160,1,     -999,9,     -999,9,     -999,9,     -999,9,     -999,9,20230823,1020, -34.0009,  60.5502,-999          ,9,-999          ,9
33RR20230722  ,I05        ,120     ,  2,31         ,31         ,2,20230823,0813, -34.0009,  60.5502,     5430,    126.2,2,  15.0156,2,  35.4432,2,  35.4421,2,    240.3,2,    241.1,2,     2.24,2,     2.76,2,     0.21,2,     0.36,2,    2.182,2,    1.450,2,   2.4400,2,   2097.1,2,   2327.8,2,   7.9056,6,    25.00,2,     -999,1,  15.0135,2,     -999,9,     -999,9,     -999,9,     -999,9,     -999,1,   4.9008,1,   0.0151,1,      9.1,2,     -999,9,     -999,9,     -999,9,     -999,9,20230823,1018, -34.0009,  60.5502,-999          ,9,-999          ,9
33RR20230722  ,I05        ,120     ,  2,30         ,30         ,2,20230823,0813, -34.0009,  60.5502,     5430,    155.3,2,  14.5658,2,  35.3965,2,  35.3961,2,    224.7,3,    227.5,2,     2.83,2,     5.42,2,     0.02,2,     0.52,2,     -999,9,     -999,9,     -999,9,   2112.6,2,   2323.8,2,   7.8733,2,    24.99,2,     -999,1,  14.5770,2,     -999,9,     -999,9,     -999,9,     -999,9,     -999,1,   4.9173,1,   0.0129,1,     -999,9,     -999,9,     -999,9,     -999,9,     -999,9,20230823,1016, -34.0009,  60.5502,-999          ,9,-999          ,9
33RR20230722  ,I05        ,120     ,  2,29         ,29         ,2,20230823,0813, -34.0009,  60.5502,     5430,    185.8,2,  14.1823,2,  35.3679,2,  35.3670,2,    228.1,2,    230.1,2,     2.83,2,     5.92,2,     0.00,2,     0.55,2,     -999,9,     -999,9,     -999,9,   2116.0,2,   2324.3,2,   7.8637,2,    25.01,2,     -999,1,  14.1821,2,     -999,9,     -999,9,     -999,9,     -999,9,     -999,1,   4.9695,1,   0.0125,1,     -999,9,     -999,9,     -999,9,     -999,9,     -999,9,20230823,1013, -34.0009,  60.5502,-999          ,9,-999          ,9
33RR20230722  ,I05        ,120     ,  2,28         ,28         ,2,20230823,0813, -34.0009,  60.5502,     5430,    220.6,2,  13.8122,2,  35.3289,2,  35.3279,2,    231.8,2,    232.7,2,     3.12,2,     6.65,2,     0.00,2,     0.59,2,     -999,9,     -999,9,     -999,9,   2117.5,2,   2321.6,2,   7.8590,2,    25.03,2,     -999,1,  13.8172,2,     -999,9,     -999,9,     -999,9,     -999,9,     -999,1,   4.9695,1,   0.0114,1,     -999,9,     -999,9,     -999,9,     -999,9,     -999,9,20230823,1011, -34.0009,  60.5502,-999          ,9,-999          ,9
33RR20230722  ,I05        ,120     ,  2,27         ,27         ,2,20230823,0813, -34.0009,  60.5502,     5430,    256.9,2,  13.5243,2,  35.2869,2,  35.2871,2,    234.3,2,    234.3,2,     3.02,2,     6.98,2,     0.00,2,     0.60,2,    2.440,2,    1.571,2,   2.4400,2,   2115.4,2,   2317.8,2,   7.8528,2,    25.02,2,     -999,1,  13.5227,2,     -999,9,     -999,9,     -999,9,     -999,9,     -999,1,   4.9693,1,   0.0114,1,     10.2,2,     -999,9,     -999,9,     -999,9,     -999,9,20230823,1009, -34.0009,  60.5502,-999          ,9,-999          ,9
33RR20230722  ,I05        ,120     ,  2,26         ,26         ,2,20230823,0813, -34.0009,  60.5502,     5430,    300.8,2,  13.3944,2,  35.2733,2,  35.2720,2,    235.2,2,    235.2,2,     3.22,2,     7.40,2,     0.00,2,     0.63,2,     -999,9,     -999,9,     -999,9,   2115.6,2,   2316.7,2,   7.8501,2,    25.02,2,     -999,1,  13.3915,2,     -999,9,     -999,9,     -999,9,     -999,9,     -999,1,   4.8974,1,   0.0117,1,     -999,9,     -999,9,     -999,9,     -999,9,     -999,9,20230823,1007, -34.0009,  60.5502,-999          ,9,-999          ,9
33RR20230722  ,I05        ,120     ,  2,25         ,25         ,2,20230823,0813, -34.0009,  60.5502,     5430,    355.3,2,  13.1465,2,  35.2373,2,  35.2373,2,    235.0,2,    234.6,2,     3.41,2,     8.10,2,     0.00,2,     0.67,2,     -999,9,     -999,9,     -999,9,   2117.8,2,   2314.4,2,   7.8420,2,    25.03,2,     -999,1,  13.1450,2,     -999,9,     -999,9,     -999,9,     -999,9,     -999,1,   4.8479,1,   0.0114,1,     -999,9,     -999,9,     -999,9,     -999,9,     -999,9,20230823,1005, -34.0009,  60.5502,-999          ,9,-999          ,9
33RR20230722  ,I05        ,120     ,  2,24         ,24         ,2,20230823,0813, -34.0009,  60.5502,     5430,    416.6,2,  12.7561,2,  35.1747,2,  35.1721,2,    231.2,2,    231.2,2,     3.71,2,     9.25,2,     0.00,2,     0.75,2,     -999,9,     -999,9,     -999,9,   2121.4,2,   2310.8,2,   7.8287,2,    25.03,2,     -999,1,  12.7535,2,     -999,9,     -999,9,     -999,9,     -999,9,     -999,1,   4.9677,1,   0.0116,1,     -999,9,     -999,9,     -999,9,     -999,9,     -999,9,20230823,1003, -34.0009,  60.5502,-999          ,9,-999          ,9
33RR20230722  ,I05        ,120     ,  2,23         ,23         ,2,20230823,0813, -34.0009,  60.5502,     5430,    488.3,2,  12.3556,2,  35.1095,2,  35.1093,2,    228.7,2,    229.2,2,     4.00,2,    10.40,2,     0.00,2,     0.82,2,    2.601,2,    1.685,2,   2.2800,2,   2123.5,2,   2310.7,2,   7.8173,2,    24.83,2,     -999,1,  12.3531,2,     -999,9,     -999,9,     -999,9,     -999,9,     -999,1,   4.9673,1,   0.0115,1,     11.0,2,     -999,9,     -999,9,     -999,9,     -999,9,20230823,1001, -34.0009,  60.5502,-999          ,9,-999          ,9
33RR20230722  ,I05        ,120     ,  2,22         ,22         ,2,20230823,0813, -34.0009,  60.5502,     5430,    572.8,2,  11.6787,2,  35.0013,2,  35.0024,2,    227.0,2,    226.9,2,     4.49,2,    12.14,2,     0.00,2,     0.95,2,     -999,9,     -999,9,     -999,9,   2127.7,2,   2303.7,2,   7.7984,2,    25.07,2,     -999,1,  11.6806,2,     -999,9,     -999,9,     -999,9,     -999,9,     -999,1,   4.9562,1,   0.0116,1,     -999,9,     -999,9,     -999,9,     -999,9,     -999,9,20230823,0958, -34.0009,  60.5502,-999          ,9,-999          ,9
33RR20230722  ,I05        ,120     ,  2,21         ,21         ,2,20230823,0813, -34.0009,  60.5502,     5430,    663.7,2,  10.8037,2,  34.8731,2,  34.8725,2,    222.2,2,    222.1,2,     5.47,2,    14.55,2,     0.00,2,     1.06,2,     -999,9,     -999,9,     -999,9,   2134.6,2,   2300.5,6,   7.7727,2,    25.03,2,     -999,1,  10.7934,2,     -999,9,     -999,9,     -999,9,     -999,9,     -999,1,   4.9666,1,   0.0114,1,     -999,9,     -999,9,     -999,9,     -999,9,     -999,9,20230823,0955, -34.0009,  60.5502,-999          ,9,-999          ,9
33RR20230722  ,I05        ,120     ,  2,20         ,20         ,2,20230823,0813, -34.0009,  60.5502,     5430,    771.8,2,   9.2827,2,  34.6859,2,  34.6905,2,    214.7,2,    215.6,2,     8.59,2,    18.67,2,     0.00,2,     1.33,2,    2.752,2,    1.784,2,   1.6000,2,   2146.7,2,   2294.2,2,   7.7321,2,    25.00,2,     -999,1,   9.3010,2,     -999,9,     -999,9,     -999,9,     -999,9,     -999,1,   4.9093,1,   0.0115,1,     14.1,2,     -999,9,     -999,9,     -999,9,     -999,9,20230823,0952, -34.0009,  60.5502,-999          ,9,-999          ,9
33RR20230722  ,I05        ,120     ,  2,19         ,19         ,2,20230823,0813, -34.0009,  60.5502,     5430,    887.3,2,   7.5995,2,  34.5239,2,  34.5201,2,    206.8,2,    206.8,2,    15.03,2,    23.66,2,     0.00,2,     1.65,2,     -999,9,     -999,9,     -999,9,   2162.9,2,   2292.4,2,   7.7044,6,    25.06,2,     -999,1,   7.5979,2,     -999,9,     -999,9,     -999,9,     -999,9,     -999,1,   4.9689,1,   0.0112,1,     -999,9,     -999,9,     -999,9,     -999,9,     -999,9,20230823,0949, -34.0009,  60.5502,-999          ,9,-999          ,9
33RR20230722  ,I05        ,120     ,  2,18         ,18         ,2,20230823,0813, -34.0009,  60.5502,     5430,   1009.5,2,   5.9931,2,  34.4055,2,  34.4041,2,    206.3,2,    205.6,2,    22.55,2,    27.38,2,     0.00,2,     1.89,2,     -999,9,     -999,9,     -999,9,   2179.9,2,   2290.5,2,   7.6412,2,    25.01,2,     -999,1,   5.9929,2,     -999,9,     -999,9,     -999,9,     -999,9,     -999,1,   4.9698,1,   0.0113,1,     -999,9,     -999,9,     -999,9,     -999,9,     -999,9,20230823,0946, -34.0009,  60.5502,-999          ,9,-999          ,9
33RR20230722  ,I05        ,120     ,  2,17         ,17         ,2,20230823,0813, -34.0009,  60.5502,     5430,   1135.6,2,   4.8895,2,  34.3607,2,  34.3609,2,    203.8,2,    203.7,2,    30.85,2,    29.79,2,     0.00,2,     2.04,2,    2.250,2,    1.292,2,   0.8500,2,   2196.0,6,   2295.6,2,   7.6182,2,    24.99,2,     -999,1,   4.8908,2,     -999,9,     -999,9,     -999,9,     -999,9,     -999,1,   4.9707,1,   0.0112,1,     18.9,2,     -999,9,     -999,9,     -999,9,     -999,9,20230823,0943, -34.0009,  60.5502,-999          ,9,-999          ,9
33RR20230722  ,I05        ,120     ,  2,16         ,16         ,2,20230823,0813, -34.0009,  60.5502,     5430,   1272.5,2,   4.0803,2,  34.3835,2,  34.3851,2,    190.5,2,    190.5,2,    43.15,2,    32.02,2,     0.00,2,     2.25,2,     -999,9,     -999,9,     -999,9,   2212.0,2,   2307.6,2,   7.5927,2,    25.03,2,     -999,1,   4.0812,2,     -999,9,     -999,9,     -999,9,     -999,9,     -999,1,   4.7955,1,   0.0113,1,     -999,9,     -999,9,     -999,9,     -999,9,     -999,9,20230823,0940, -34.0009,  60.5502,-999          ,9,-999          ,9
33RR20230722  ,I05        ,120     ,  2,15         ,15         ,2,20230823,0813, -34.0009,  60.5502,     5430,   1417.0,2,   3.5306,2,  34.4639,2,  34.4628,2,    173.2,2,    174.3,2,    58.38,2,    33.50,2,     0.00,2,     2.37,2,     -999,9,     -999,9,     -999,9,   2233.3,2,   2323.1,2,   7.5705,6,    25.01,2,     -999,1,   3.5338,2,     -999,9,     -999,9,     -999,9,     -999,9,     -999,1,   4.9737,1,   0.0118,1,     -999,9,     -999,9,     -999,9,     -999,9,     -999,9,20230823,0936, -34.0009,  60.5502,-999          ,9,-999          ,9
33RR20230722  ,I05        ,120     ,  2,14         ,14         ,2,20230823,0813, -34.0009,  60.5502,     5430,   1567.7,2,   3.0927,2,  34.5343,2,  34.5376,2,    170.2,2,    170.2,2,    66.87,2,    33.69,2,     0.00,2,     2.37,2,    0.539,2,    0.294,2,   0.1400,2,   2244.1,2,   2329.7,2,   7.5712,6,    25.00,2,     -999,1,   3.0966,2,     -999,9,     -999,9,     -999,9,     -999,9,     -999,1,   4.8892,1,   0.0113,1,     22.5,2,     -999,9,     -999,9,     -999,9,     -999,9,20230823,0933, -34.0009,  60.5502,-999          ,9,-999          ,9
33RR20230722  ,I05        ,120     ,  2,13         ,13         ,2,20230823,0813, -34.0009,  60.5502,     5430,   1723.0,2,   2.8301,2,  34.5979,2,  34.5983,2,    171.3,2,    171.3,2,    73.21,2,    33.15,2,     0.00,2,     2.33,2,    0.311,2,    0.172,2,   0.0500,2,   2248.3,2,   2336.5,2,   7.5768,2,    25.05,2,     -999,1,   2.8351,2,     -999,9,     -999,9,     -999,9,     -999,9,     -999,1,   4.9746,1,   0.0112,1,     21.6,2,     -999,9,     -999,9,     -999,9,     -999,9,20230823,0929, -34.0009,  60.5502,-999          ,9,-999          ,9
33RR20230722  ,I05        ,120     ,  2,12         ,12         ,2,20230823,0813, -34.0009,  60.5502,     5430,   1894.1,2,   2.6081,2,  34.6517,2,  34.6508,2,    174.7,2,    174.9,2,    78.58,2,    32.49,2,     0.00,2,     2.28,2,     -999,9,     -999,9,     -999,9,   2249.7,2,   2343.3,2,   7.5851,2,    25.02,2,     -999,1,   2.6104,2,     -999,9,     -999,9,     -999,9,     -999,9,     -999,1,   4.9747,1,   0.0112,1,     -999,9,     -999,9,     -999,9,     -999,9,     -999,9,20230823,0925, -34.0009,  60.5502,-999          ,9,-999          ,9
33RR20230722  ,I05        ,120     ,  2,11         ,11         ,2,20230823,0813, -34.0009,  60.5502,     5430,   2102.7,2,   2.4022,2,  34.6902,3,  34.6924,2,    177.3,2,    177.4,2,    87.26,2,    32.08,2,     0.00,2,     2.26,2,    0.084,2,    0.046,2,   0.0000,2,   2256.3,2,   2354.1,6,   7.5985,2,    25.01,2,     -999,1,   2.4012,2,     -999,9,     -999,9,     -999,9,     -999,9,     -999,1,   4.9748,1,   0.0116,1,     20.4,2,     -999,9,     -999,9,     -999,9,     -999,9,20230823,0920, -34.0009,  60.5502,-999          ,9,-999          ,9
33RR20230722  ,I05        ,120     ,  2,10         ,10         ,2,20230823,0813, -34.0009,  60.5502,     5430,   2355.3,2,   2.2037,2,  34.7148,2,  34.7150,2,    177.3,2,    177.4,2,    97.61,2,    32.16,2,     0.00,2,     2.28,2,     -999,9,     -999,9,     -999,9,   2265.1,2,   2363.9,2,   7.6038,6,    25.02,2,     -999,1,   2.2055,2,     -999,9,     -999,9,     -999,9,     -999,9,     -999,1,   4.9751,1,   0.0123,1,     -999,9,     -999,9,     -999,9,     -999,9,     -999,9,20230823,0915, -34.0009,  60.5502,-999          ,9,-999          ,9
33RR20230722  ,I05        ,120     ,  2,9          ,9          ,2,20230823,0813, -34.0009,  60.5502,     5430,   2653.5,2,   2.0309,2,  34.7266,2,  34.7264,2,    178.0,2,    178.0,2,   105.51,2,    32.31,2,     0.00,2,     2.29,2,    0.034,2,    0.019,2,   0.0400,2,   2270.8,2,   2372.8,2,   7.6041,2,    25.03,2,     -999,1,   2.0301,2,     -999,9,     -999,9,     -999,9,     -999,9,     -999,1,   4.9756,1,   0.0115,1,     20.0,2,     -999,9,     -999,9,     -999,9,     -999,9,20230823,0909, -34.0009,  60.5502,-999          ,9,-999          ,9
33RR20230722  ,I05        ,120     ,  2,8          ,8          ,2,20230823,0813, -34.0009,  60.5502,     5430,   2994.8,2,   1.8262,2,  34.7291,2,  34.7282,2,    179.1,2,    178.9,2,   113.22,2,    32.62,2,     0.00,2,     2.30,2,     -999,9,     -999,9,     -999,9,   2275.6,2,   2379.8,2,   7.6069,2,    25.03,2,     -999,1,   1.8260,2,     -999,9,     -999,9,     -999,9,     -999,9,     -999,1,   4.9762,1,   0.0113,1,     -999,9,     -999,9,     -999,9,     -999,9,     -999,9,20230823,0902, -34.0009,  60.5502,-999          ,9,-999          ,9
33RR20230722  ,I05        ,120     ,  2,7          ,7          ,2,20230823,0813, -34.0009,  60.5502,     5430,   3364.8,2,   1.6153,2,  34.7269,2,  34.7266,2,    186.8,2,    186.7,2,   116.05,2,    32.38,2,     0.00,2,     2.28,2,    0.071,2,    0.045,2,   0.0300,2,   2272.5,6,   2375.2,2,   7.6083,2,    25.05,2,     -999,1,   1.6144,2,     -999,9,     -999,9,     -999,9,     -999,9,     -999,1,   4.9467,1,   0.0110,1,     19.2,2,     -999,9,     -999,9,     -999,9,     -999,9,20230823,0855, -34.0009,  60.5502,-999          ,9,-999          ,9
33RR20230722  ,I05        ,120     ,  2,6          ,6          ,2,20230823,0813, -34.0009,  60.5502,     5430,   3764.9,2,   1.2142,2,  34.7174,2,  34.7168,2,    203.6,2,    203.6,2,   115.76,2,    31.64,2,     0.00,2,     2.22,2,     -999,9,     -999,9,     -999,9,   2258.2,2,   2364.2,2,   7.6119,2,    25.05,2,     -999,1,   1.2146,2,     -999,9,     -999,9,     -999,9,     -999,9,     -999,1,   4.8855,1,   0.0111,1,     -999,9,     -999,9,     -999,9,     -999,9,     -999,9,20230823,0848, -34.0009,  60.5502,-999          ,9,-999          ,9
33RR20230722  ,I05        ,120     ,  2,5          ,5          ,2,20230823,0813, -34.0009,  60.5502,     5430,   4381.8,2,   0.6318,2,  34.6899,2,  34.6895,2,    215.6,2,    215.9,2,   129.33,2,    32.21,2,     0.00,2,     2.27,2,    0.240,2,    0.140,2,   0.0700,2,   2257.3,2,   2360.9,2,   7.6060,2,    25.02,2,     -999,1,   0.6327,2,     -999,9,     -999,9,     -999,9,     -999,9,     -999,1,   4.9764,1,   0.0113,1,     18.1,2,     -999,9,     -999,9,     -999,9,     -999,9,20230823,0836, -34.0009,  60.5503,-999          ,9,-999          ,9
33RR20230722  ,I05        ,120     ,  2,4          ,37         ,2,20230823,0813, -34.0009,  60.5502,     5430,   4715.1,2,   0.5532,2,  34.6839,2,  34.6838,2,    217.5,2,    217.7,2,   132.85,2,    32.39,2,     0.00,2,     2.28,2,     -999,9,     -999,9,     -999,9,   2258.0,2,   2360.8,2,   7.6025,6,    25.03,2,     -999,1,   0.5528,2,     -999,9,     -999,9,     -999,9,     -999,9,     -999,1,   4.9770,1,   0.0112,1,     -999,9,     -999,9,     -999,9,     -999,9,     -999,9,20230823,0830, -34.0009,  60.5502,-999          ,9,-999          ,9
33RR20230722  ,I05        ,120     ,  2,3          ,3          ,2,20230823,0813, -34.0009,  60.5502,     5430,   5204.0,2,   0.5583,2,  34.6811,2,  34.6818,2,    218.2,2,    218.7,2,   133.82,2,    32.42,2,     0.00,2,     2.27,2,    0.270,2,    0.147,2,   0.0300,2,   2259.4,2,   2361.2,2,   7.6030,2,    25.04,2,     -999,1,   0.5583,2,     -999,9,     -999,9,     -999,9,     -999,9,     -999,1,   4.9773,1,   0.0111,1,     18.1,2,     -999,9,     -999,9,     -999,9,     -999,9,20230823,0821, -34.0009,  60.5502,-999          ,9,-999          ,9