BOTTLE,20240422CCHHYDRO
EXPOCODE,SECT_ID,STNNBR,CASTNO,SAMPNO,BTLNBR,BTLNBR_FLAG_W,DATE,TIME,LATITUDE,LONGITUDE,DEPTH,CTDPRS,CTDPRS_FLAG_W,CTDTMP,CTDTMP_FLAG_W,CTDSAL,CTDSAL_FLAG_W,SALNTY,SALNTY_FLAG_W,CTDOXY,CTDOXY_FLAG_W,OXYGEN,OXYGEN_FLAG_W,SILCAT,SILCAT_FLAG_W,NITRAT,NITRAT_FLAG_W,NITRIT,NITRIT_FLAG_W,PHSPHT,PHSPHT_FLAG_W,CFC-11,CFC-11_FLAG_W,CFC-12,CFC-12_FLAG_W,SF6,SF6_FLAG_W,TCARBN,TCARBN_FLAG_W,ALKALI,ALKALI_FLAG_W,PH_TOT,PH_TOT_FLAG_W,PH_TMP,PH_TMP_FLAG_W,DOC,DOC_FLAG_W,REFTMP,REFTMP_FLAG_W,POC,POC_FLAG_W,PON,PON_FLAG_W,POP,POP_FLAG_W,DOP,DOP_FLAG_W,DELO18,DELO18_FLAG_W,CTDFLUOR,CTDFLUOR_FLAG_W,CTDXMISS,CTDXMISS_FLAG_W,N2O,N2O_FLAG_W,D15N_NO3,D15N_NO3_FLAG_W,D15N_NO2+NO3,D15N_NO2+NO3_FLAG_W,D18O_NO2+NO3,D18O_NO2+NO3_FLAG_W,D18O_NO3,D18O_NO3_FLAG_W,BTL_DATE,BTL_TIME,BTL_LAT,BTL_LON,HPLC,HPLC_FLAG_W,DNA,DNA_FLAG_W
,,,,,,,,,,,METERS,DBAR,,ITS-90,,PSS-78,,PSS-78,,UMOL/KG,,UMOL/KG,,UMOL/KG,,UMOL/KG,,UMOL/KG,,UMOL/KG,,PMOL/KG,,PMOL/KG,,FMOL/KG,,UMOL/KG,,UMOL/KG,,,,DEG C,,UMOL/KG,,ITS-90,,UG/KG,,UG/KG,,UG/L,,UMOL/KG,,/MILLE,,VOLTS,,VOLTS,,NMOL/KG,,/MILLE,,/MILLE,,/MILLE,,/MILLE,,,,,,,,,
33RR20230722  ,I05        ,162     ,  2,36         ,38         ,2,20230902,1156, -32.9968,  42.1407,     4249,      3.1,2,  18.3176,2,  35.6941,2,  35.6915,2,    239.0,2,    237.8,2,     1.66,2,     0.01,2,     0.00,2,     0.13,2,     -999,9,     -999,9,     -999,9,   2068.8,6,   2335.7,2,   7.9735,2,    24.98,2,     -999,1,     -999,1,     -999,9,     -999,9,     -999,9,     -999,9,     -999,1,   4.9192,1,   0.0197,1,     -999,9,     -999,9,     -999,9,     -999,9,     -999,9,20230902,1350, -32.9968,  42.1407,-999          ,9,-999          ,9
33RR20230722  ,I05        ,162     ,  2,35         ,35         ,2,20230902,1156, -32.9968,  42.1407,     4249,     19.1,2,  18.0918,2,  35.6935,2,  35.6921,2,    238.7,2,    238.1,2,     1.66,2,     0.00,2,     0.00,2,     0.12,2,     -999,9,     -999,9,     -999,9,   -999.0,9,     -999,9,     -999,9,     -999,9,     -999,1,     -999,1,     -999,9,     -999,9,     -999,9,     -999,9,     -999,1,   4.9380,1,   0.0216,1,     -999,9,     -999,9,     -999,9,     -999,9,     -999,9,20230902,1348, -32.9968,  42.1407,-999          ,9,-999          ,9
33RR20230722  ,I05        ,162     ,  2,34         ,34         ,2,20230902,1156, -32.9968,  42.1407,     4249,     34.8,2,  17.8594,2,  35.6923,2,  35.6907,2,    240.2,2,    238.8,2,     1.66,2,     0.00,2,     0.00,2,     0.12,2,     -999,9,     -999,9,     -999,9,   -999.0,9,     -999,9,     -999,9,     -999,9,     -999,1,     -999,1,     -999,9,     -999,9,     -999,9,     -999,9,     -999,1,   4.9162,1,   0.0260,1,     -999,9,     -999,9,     -999,9,     -999,9,     -999,9,20230902,1346, -32.9968,  42.1407,-999          ,9,-999          ,9
33RR20230722  ,I05        ,162     ,  2,33         ,33         ,2,20230902,1156, -32.9968,  42.1407,     4249,     53.8,2,  17.8057,2,  35.6928,2,  35.6903,2,    239.0,2,    237.7,2,     1.56,2,     0.00,2,     0.00,2,     0.12,2,     -999,9,     -999,9,     -999,9,   -999.0,9,     -999,9,     -999,9,     -999,9,     -999,1,     -999,1,     -999,9,     -999,9,     -999,9,     -999,9,     -999,1,   4.9745,1,   0.0351,1,     -999,9,     -999,9,     -999,9,     -999,9,     -999,9,20230902,1345, -32.9968,  42.1407,-999          ,9,-999          ,9
33RR20230722  ,I05        ,162     ,  2,32         ,32         ,2,20230902,1156, -32.9968,  42.1407,     4249,     76.4,2,  17.7452,2,  35.6856,2,  35.6836,2,    234.6,2,    234.1,2,     1.66,2,     0.02,2,     0.18,2,     0.14,2,     -999,9,     -999,9,     -999,9,   -999.0,9,     -999,9,     -999,9,     -999,9,     -999,1,     -999,1,     -999,9,     -999,9,     -999,9,     -999,9,     -999,1,   4.9739,1,   0.0331,1,     -999,9,     -999,9,     -999,9,     -999,9,     -999,9,20230902,1343, -32.9968,  42.1407,-999          ,9,-999          ,9
33RR20230722  ,I05        ,162     ,  2,31         ,31         ,2,20230902,1156, -32.9968,  42.1407,     4249,    102.3,2,  17.7129,2,  35.6826,2,  35.6808,2,    233.5,2,    233.1,2,     1.66,2,     0.07,2,     0.23,2,     0.13,2,     -999,9,     -999,9,     -999,9,   2073.6,2,   2335.1,2,   7.9635,2,    25.01,2,     -999,1,     -999,1,     -999,9,     -999,9,     -999,9,     -999,9,     -999,1,   4.9733,1,   0.0193,1,     -999,9,     -999,9,     -999,9,     -999,9,     -999,9,20230902,1340, -32.9968,  42.1407,-999          ,9,-999          ,9
33RR20230722  ,I05        ,162     ,  2,30         ,30         ,2,20230902,1156, -32.9968,  42.1407,     4249,    132.1,2,  17.6813,2,  35.6829,2,  35.6960,2,    233.9,2,    233.7,2,     1.66,2,     0.04,2,     0.20,2,     0.14,2,     -999,9,     -999,9,     -999,9,   -999.0,9,     -999,9,     -999,9,     -999,9,     -999,1,     -999,1,     -999,9,     -999,9,     -999,9,     -999,9,     -999,1,   4.9731,1,   0.0164,1,     -999,9,     -999,9,     -999,9,     -999,9,     -999,9,20230902,1338, -32.9967,  42.1405,-999          ,9,-999          ,9
33RR20230722  ,I05        ,162     ,  2,29         ,29         ,2,20230902,1156, -32.9968,  42.1407,     4249,    166.1,2,  17.3171,2,  35.6339,2,  35.6311,2,    226.8,2,    227.1,2,     1.95,2,     1.56,2,     0.05,2,     0.20,2,     -999,9,     -999,9,     -999,9,   -999.0,9,     -999,9,     -999,9,     -999,9,     -999,1,     -999,1,     -999,9,     -999,9,     -999,9,     -999,9,     -999,1,   4.9713,1,   0.0128,1,     -999,9,     -999,9,     -999,9,     -999,9,     -999,9,20230902,1336, -32.9967,  42.1405,-999          ,9,-999          ,9
33RR20230722  ,I05        ,162     ,  2,28         ,28         ,2,20230902,1156, -32.9968,  42.1407,     4249,    202.3,2,  16.8376,2,  35.5930,2,  35.5918,2,    216.1,2,    217.7,2,     2.44,2,     3.27,2,     0.00,2,     0.31,2,    2.031,2,    1.363,2,   2.2300,2,   2090.4,2,   2326.3,2,   7.9189,2,    24.98,2,     -999,1,     -999,1,     -999,9,     -999,9,     -999,9,     -999,9,     -999,1,   4.8391,1,   0.0122,1,      7.9,2,     -999,9,     -999,9,     -999,9,     -999,9,20230902,1334, -32.9967,  42.1405,-999          ,9,-999          ,9
33RR20230722  ,I05        ,162     ,  2,27         ,27         ,2,20230902,1156, -32.9968,  42.1407,     4249,    240.8,2,  16.4206,2,  35.5593,2,  35.5594,2,    213.6,2,    215.6,2,     2.73,2,     4.14,2,     0.00,2,     0.37,2,     -999,9,     -999,9,     -999,9,   -999.0,9,     -999,9,     -999,9,     -999,9,     -999,1,     -999,1,     -999,9,     -999,9,     -999,9,     -999,9,     -999,1,   4.9687,1,   0.0118,1,     -999,9,     -999,9,     -999,9,     -999,9,     -999,9,20230902,1333, -32.9968,  42.1405,-999          ,9,-999          ,9
33RR20230722  ,I05        ,162     ,  2,26         ,26         ,2,20230902,1156, -32.9968,  42.1407,     4249,    288.4,2,  15.8151,2,  35.5110,2,  35.5097,2,    215.8,2,    216.5,2,     2.93,2,     4.94,2,     0.00,2,     0.42,2,     -999,9,     -999,9,     -999,9,   -999.0,9,     -999,9,     -999,9,     -999,9,     -999,1,     -999,1,     -999,9,     -999,9,     -999,9,     -999,9,     -999,1,   4.9594,1,   0.0115,1,     -999,9,     -999,9,     -999,9,     -999,9,     -999,9,20230902,1331, -32.9968,  42.1405,-999          ,9,-999          ,9
33RR20230722  ,I05        ,162     ,  2,25         ,25         ,2,20230902,1156, -32.9968,  42.1407,     4249,    345.4,2,  15.2465,2,  35.4570,2,  35.4545,2,    216.9,2,    217.8,2,     3.12,2,     5.70,2,     0.00,2,     0.48,2,    2.290,2,    1.459,2,   2.1900,2,   2107.5,2,   2321.6,2,   7.8764,2,    25.00,2,     -999,1,     -999,1,     -999,9,     -999,9,     -999,9,     -999,9,     -999,1,   4.8712,1,   0.0120,1,      9.5,2,     -999,9,     -999,9,     -999,9,     -999,9,20230902,1328, -32.9969,  42.1406,-999          ,9,-999          ,9
33RR20230722  ,I05        ,162     ,  2,24         ,24         ,2,20230902,1156, -32.9968,  42.1407,     4249,    410.9,2,  14.4582,2,  35.3718,2,  35.3715,2,    218.0,2,    219.0,2,     3.22,2,     6.91,2,     0.00,2,     0.56,2,     -999,9,     -999,9,     -999,9,   -999.0,9,     -999,9,     -999,9,     -999,9,     -999,1,     -999,1,     -999,9,     -999,9,     -999,9,     -999,9,     -999,1,   4.9020,1,   0.0118,1,     -999,9,     -999,9,     -999,9,     -999,9,     -999,9,20230902,1326, -32.9970,  42.1406,-999          ,9,-999          ,9
33RR20230722  ,I05        ,162     ,  2,23         ,23         ,2,20230902,1156, -32.9968,  42.1407,     4249,    485.8,2,  13.5419,2,  35.2733,2,  35.2729,2,    222.4,2,    222.9,2,     3.41,2,     8.32,2,     0.00,2,     0.64,2,     -999,9,     -999,9,     -999,9,   -999.0,9,     -999,9,     -999,9,     -999,9,     -999,1,     -999,1,     -999,9,     -999,9,     -999,9,     -999,9,     -999,1,   4.7274,1,   0.0116,1,     -999,9,     -999,9,     -999,9,     -999,9,     -999,9,20230902,1324, -32.9966,  42.1404,-999          ,9,-999          ,9
33RR20230722  ,I05        ,162     ,  2,22         ,22         ,2,20230902,1156, -32.9968,  42.1407,     4249,    572.9,2,  12.9263,2,  35.1959,2,  35.1937,2,    224.6,2,    224.5,2,     3.51,2,     9.54,2,     0.00,2,     0.71,2,    2.705,2,    1.660,2,   2.1300,2,   2123.1,2,   2312.0,2,   7.8242,2,    25.00,2,     -999,1,     -999,1,     -999,9,     -999,9,     -999,9,     -999,9,     -999,1,   4.7817,1,   0.0116,1,     10.8,2,     -999,9,     -999,9,     -999,9,     -999,9,20230902,1321, -32.9967,  42.1402,-999          ,9,-999          ,9
33RR20230722  ,I05        ,162     ,  2,21         ,21         ,2,20230902,1156, -32.9968,  42.1407,     4249,    667.4,2,  11.9745,2,  35.0530,2,  35.0531,2,    224.0,2,    223.5,2,     4.10,2,    11.78,2,     0.00,2,     0.86,2,     -999,9,     -999,9,     -999,9,   -999.0,9,     -999,9,     -999,9,     -999,9,     -999,1,     -999,1,     -999,9,     -999,9,     -999,9,     -999,9,     -999,1,   4.9533,1,   0.0114,1,     -999,9,     -999,9,     -999,9,     -999,9,     -999,9,20230902,1318, -32.9967,  42.1402,-999          ,9,-999          ,9
33RR20230722  ,I05        ,162     ,  2,20         ,20         ,2,20230902,1156, -32.9968,  42.1407,     4249,    762.4,2,  11.0214,2,  34.9131,2,  34.9065,2,    221.4,2,    221.0,2,     5.07,2,    14.26,2,     0.00,2,     1.02,2,     -999,9,     -999,9,     -999,9,   -999.0,9,     -999,9,     -999,9,     -999,9,     -999,1,     -999,1,     -999,9,     -999,9,     -999,9,     -999,9,     -999,1,   4.9505,1,   0.0115,1,     -999,9,     -999,9,     -999,9,     -999,9,     -999,9,20230902,1315, -32.9969,  42.1406,-999          ,9,-999          ,9
33RR20230722  ,I05        ,162     ,  2,19         ,19         ,2,20230902,1156, -32.9968,  42.1407,     4249,    852.4,2,   9.6985,2,  34.7422,2,  34.7416,2,    216.4,2,    216.6,2,     7.51,2,    17.69,2,     0.00,2,     1.23,2,    3.094,2,    1.804,2,   1.5900,2,   2142.7,2,   2294.3,2,   7.7421,2,    24.99,2,     -999,1,     -999,1,     -999,9,     -999,9,     -999,9,     -999,9,     -999,1,   4.9672,1,   0.0114,1,     13.2,2,     -999,9,     -999,9,     -999,9,     -999,9,20230902,1313, -32.9969,  42.1406,-999          ,9,-999          ,9
33RR20230722  ,I05        ,162     ,  2,18         ,18         ,2,20230902,1156, -32.9968,  42.1407,     4249,    940.8,2,   8.5091,2,  34.6173,2,  34.6168,2,    209.9,2,    209.9,2,    11.52,2,    21.16,2,     0.00,2,     1.46,2,     -999,9,     -999,9,     -999,9,   -999.0,9,     -999,9,     -999,9,     -999,9,     -999,1,     -999,1,     -999,9,     -999,9,     -999,9,     -999,9,     -999,1,   4.9681,1,   0.0114,1,     -999,9,     -999,9,     -999,9,     -999,9,     -999,9,20230902,1310, -32.9969,  42.1406,-999          ,9,-999          ,9
33RR20230722  ,I05        ,162     ,  2,17         ,17         ,2,20230902,1156, -32.9968,  42.1407,     4249,   1036.0,2,   7.2097,2,  34.5035,2,  34.5023,2,    205.0,2,    205.3,2,    16.98,2,    24.76,2,     0.00,2,     1.70,2,     -999,9,     -999,9,     -999,9,   -999.0,9,     -999,9,     -999,9,     -999,9,     -999,1,     -999,1,     -999,9,     -999,9,     -999,9,     -999,9,     -999,1,   4.7858,1,   0.0113,1,     -999,9,     -999,9,     -999,9,     -999,9,     -999,9,20230902,1307, -32.9969,  42.1406,-999          ,9,-999          ,9
33RR20230722  ,I05        ,162     ,  2,16         ,16         ,2,20230902,1156, -32.9968,  42.1407,     4249,   1141.5,2,   6.0060,2,  34.4405,2,  34.4387,2,    198.6,2,    199.1,2,    25.67,2,    27.86,2,     0.00,2,     1.91,2,    2.467,2,    1.348,2,   0.6300,2,   2181.3,2,   2293.4,2,   7.6398,2,    25.00,2,     -999,1,     -999,1,     -999,9,     -999,9,     -999,9,     -999,9,     -999,1,   4.9703,1,   0.0113,1,     18.6,2,     -999,9,     -999,9,     -999,9,     -999,9,20230902,1305, -32.9968,  42.1406,-999          ,9,-999          ,9
33RR20230722  ,I05        ,162     ,  2,15         ,15         ,2,20230902,1156, -32.9968,  42.1407,     4249,   1258.4,2,   4.9801,2,  34.4207,2,  34.4202,2,    190.6,2,    190.8,2,    36.50,2,    30.46,2,     0.00,2,     2.10,2,     -999,9,     -999,9,     -999,9,   -999.0,9,     -999,9,     -999,9,     -999,9,     -999,1,     -999,1,     -999,9,     -999,9,     -999,9,     -999,9,     -999,1,   4.7998,1,   0.0112,1,     -999,9,     -999,9,     -999,9,     -999,9,     -999,9,20230902,1301, -32.9969,  42.1409,-999          ,9,-999          ,9
33RR20230722  ,I05        ,162     ,  2,14         ,14         ,2,20230902,1156, -32.9968,  42.1407,     4249,   1385.1,2,   4.1753,2,  34.4279,2,  34.4259,2,    185.5,2,    185.5,2,    45.48,2,    32.13,2,     0.00,2,     2.23,2,     -999,9,     -999,9,     -999,9,   -999.0,9,     -999,9,     -999,9,     -999,9,     -999,1,     -999,1,     -999,9,     -999,9,     -999,9,     -999,9,     -999,1,   4.8334,1,   0.0113,1,     -999,9,     -999,9,     -999,9,     -999,9,     -999,9,20230902,1258, -32.9969,  42.1409,-999          ,9,-999          ,9
33RR20230722  ,I05        ,162     ,  2,13         ,13         ,2,20230902,1156, -32.9968,  42.1407,     4249,   1521.8,2,   3.6275,2,  34.4799,2,  34.4779,2,    177.9,2,    177.7,2,    55.83,2,    33.13,2,     0.00,2,     2.28,2,    1.100,2,    0.563,2,   0.3200,2,   2228.5,2,   2320.1,2,   7.5816,2,    25.00,2,     -999,1,     -999,1,     -999,9,     -999,9,     -999,9,     -999,9,     -999,1,   4.9733,1,   0.0113,1,     21.3,2,     -999,9,     -999,9,     -999,9,     -999,9,20230902,1255, -32.9969,  42.1409,-999          ,9,-999          ,9
33RR20230722  ,I05        ,162     ,  2,12         ,12         ,2,20230902,1156, -32.9968,  42.1407,     4249,   1659.8,2,   3.3775,2,  34.5678,2,  34.5657,2,    169.0,2,    168.0,2,    65.88,2,    33.42,2,     0.00,2,     2.30,2,     -999,9,     -999,9,     -999,9,   -999.0,9,     -999,9,     -999,9,     -999,9,     -999,1,     -999,1,     -999,9,     -999,9,     -999,9,     -999,9,     -999,1,   4.9673,1,   0.0115,1,     -999,9,     -999,9,     -999,9,     -999,9,     -999,9,20230902,1252, -32.9969,  42.1409,-999          ,9,-999          ,9
33RR20230722  ,I05        ,162     ,  2,11         ,11         ,2,20230902,1156, -32.9968,  42.1407,     4249,   1806.4,2,   3.1149,2,  34.6505,3,  34.6413,2,    168.2,2,    169.0,2,    72.12,2,    32.86,2,     0.00,2,     2.27,2,    0.299,2,    0.164,2,   0.0600,2,   2246.4,2,   2338.1,2,   7.5836,2,    24.99,2,     -999,1,     -999,1,     -999,9,     -999,9,     -999,9,     -999,9,     -999,1,   4.9742,1,   0.0112,1,     22.1,2,     -999,9,     -999,9,     -999,9,     -999,9,20230902,1248, -32.9969,  42.1409,-999          ,9,-999          ,9
33RR20230722  ,I05        ,162     ,  2,10         ,10         ,2,20230902,1156, -32.9968,  42.1407,     4249,   1977.8,2,   2.8512,2,  34.6933,2,  34.6903,2,    177.1,2,    176.6,2,    73.48,2,    31.75,2,     0.00,2,     2.20,2,    0.175,2,    0.102,2,   0.0400,2,   -999.0,9,     -999,9,     -999,9,     -999,9,     -999,1,     -999,1,     -999,9,     -999,9,     -999,9,     -999,9,     -999,1,   4.9740,1,   0.0117,1,     20.4,2,     -999,9,     -999,9,     -999,9,     -999,9,20230902,1244, -32.9969,  42.1409,-999          ,9,-999          ,9
33RR20230722  ,I05        ,162     ,  2,9          ,9          ,2,20230902,1156, -32.9968,  42.1407,     4249,   2177.5,2,   2.6839,2,  34.7422,2,  34.7408,2,    185.1,2,    184.7,2,    74.46,2,    30.42,2,     0.00,2,     2.10,2,     -999,9,     -999,9,     -999,9,   2240.7,2,   2344.6,2,   7.6195,6,    25.00,2,     -999,1,     -999,1,     -999,9,     -999,9,     -999,9,     -999,9,     -999,1,   4.9736,1,   0.0121,1,     -999,9,     -999,9,     -999,9,     -999,9,     -999,9,20230902,1240, -32.9969,  42.1408,-999          ,9,-999          ,9
33RR20230722  ,I05        ,162     ,  2,8          ,8          ,2,20230902,1156, -32.9968,  42.1407,     4249,   2410.2,2,   2.5146,2,  34.7738,2,  34.7718,2,    196.5,2,    196.9,2,    71.92,2,    29.15,2,     0.00,2,     2.01,2,    0.060,2,    0.032,2,  -0.0100,2,   -999.0,9,     -999,9,     -999,9,     -999,9,     -999,1,     -999,1,     -999,9,     -999,9,     -999,9,     -999,9,     -999,1,   4.7268,1,   0.0113,1,     18.1,2,     -999,9,     -999,9,     -999,9,     -999,9,20230902,1235, -32.9969,  42.1409,-999          ,9,-999          ,9
33RR20230722  ,I05        ,162     ,  2,7          ,7          ,2,20230902,1156, -32.9968,  42.1407,     4249,   2690.9,2,   2.3538,2,  34.7914,2,  34.7897,2,    204.6,2,    204.7,2,    71.92,2,    28.23,2,     0.00,2,     1.93,2,    0.035,2,    0.021,2,   0.0100,2,   -999.0,9,     -999,9,     -999,9,     -999,9,     -999,1,     -999,1,     -999,9,     -999,9,     -999,9,     -999,9,     -999,1,   4.8983,1,   0.0111,1,     17.1,2,     -999,9,     -999,9,     -999,9,     -999,9,20230902,1229, -32.9969,  42.1409,-999          ,9,-999          ,9
33RR20230722  ,I05        ,162     ,  2,6          ,6          ,2,20230902,1156, -32.9968,  42.1407,     4249,   3018.1,2,   2.1968,2,  34.7955,2,  34.7938,2,    209.6,2,    209.7,2,    73.67,2,    28.02,2,     0.00,2,     1.90,2,     -999,9,     -999,9,     -999,9,   -999.0,9,     -999,9,     -999,9,     -999,9,     -999,1,     -999,1,     -999,9,     -999,9,     -999,9,     -999,9,     -999,1,   4.9744,1,   0.0115,1,     -999,9,     -999,9,     -999,9,     -999,9,     -999,9,20230902,1223, -32.9969,  42.1409,-999          ,9,-999          ,9
33RR20230722  ,I05        ,162     ,  2,5          ,5          ,2,20230902,1156, -32.9968,  42.1407,     4249,   3303.1,2,   2.0416,2,  34.7929,2,  34.7915,2,    212.8,2,    213.3,2,    76.89,2,    28.04,2,     0.00,2,     1.93,2,    0.034,2,    0.022,2,   0.0300,2,   2225.6,2,   2348.0,2,   7.6551,6,    25.00,2,     -999,1,     -999,1,     -999,9,     -999,9,     -999,9,     -999,9,     -999,1,   4.9746,1,   0.0112,1,     16.4,2,     -999,9,     -999,9,     -999,9,     -999,9,20230902,1217, -32.9969,  42.1409,-999          ,9,-999          ,9
33RR20230722  ,I05        ,162     ,  2,4          ,37         ,2,20230902,1156, -32.9968,  42.1407,     4249,   3545.1,2,   1.8225,2,  34.7808,2,  34.7793,2,    214.1,2,    214.4,2,    83.33,2,    28.58,2,     0.00,2,     1.97,2,    0.052,2,    0.033,2,   0.0700,2,   -999.0,9,     -999,9,     -999,9,     -999,9,     -999,1,     -999,1,     -999,9,     -999,9,     -999,9,     -999,9,     -999,1,   4.9747,1,   0.0120,1,     16.2,2,     -999,9,     -999,9,     -999,9,     -999,9,20230902,1212, -32.9969,  42.1409,-999          ,9,-999          ,9
33RR20230722  ,I05        ,162     ,  2,3          ,3          ,2,20230902,1156, -32.9968,  42.1407,     4249,   3824.2,2,   1.5248,2,  34.7610,2,  34.7594,2,    215.3,2,    215.9,2,    92.90,2,    29.46,2,     0.00,2,     2.01,2,     -999,9,     -999,9,     -999,9,   -999.0,9,     -999,9,     -999,9,     -999,9,     -999,1,     -999,1,     -999,9,     -999,9,     -999,9,     -999,9,     -999,1,   4.9753,1,   0.0110,1,     -999,9,     -999,9,     -999,9,     -999,9,     -999,9,20230902,1207, -32.9969,  42.1409,-999          ,9,-999          ,9