BOTTLE,20240422CCHHYDRO
EXPOCODE,SECT_ID,STNNBR,CASTNO,SAMPNO,BTLNBR,BTLNBR_FLAG_W,DATE,TIME,LATITUDE,LONGITUDE,DEPTH,CTDPRS,CTDPRS_FLAG_W,CTDTMP,CTDTMP_FLAG_W,CTDSAL,CTDSAL_FLAG_W,SALNTY,SALNTY_FLAG_W,CTDOXY,CTDOXY_FLAG_W,OXYGEN,OXYGEN_FLAG_W,SILCAT,SILCAT_FLAG_W,NITRAT,NITRAT_FLAG_W,NITRIT,NITRIT_FLAG_W,PHSPHT,PHSPHT_FLAG_W,CFC-11,CFC-11_FLAG_W,CFC-12,CFC-12_FLAG_W,SF6,SF6_FLAG_W,TCARBN,TCARBN_FLAG_W,ALKALI,ALKALI_FLAG_W,PH_TOT,PH_TOT_FLAG_W,PH_TMP,PH_TMP_FLAG_W,DOC,DOC_FLAG_W,REFTMP,REFTMP_FLAG_W,POC,POC_FLAG_W,PON,PON_FLAG_W,POP,POP_FLAG_W,DOP,DOP_FLAG_W,DELO18,DELO18_FLAG_W,CTDFLUOR,CTDFLUOR_FLAG_W,CTDXMISS,CTDXMISS_FLAG_W,N2O,N2O_FLAG_W,D15N_NO3,D15N_NO3_FLAG_W,D15N_NO2+NO3,D15N_NO2+NO3_FLAG_W,D18O_NO2+NO3,D18O_NO2+NO3_FLAG_W,D18O_NO3,D18O_NO3_FLAG_W,BTL_DATE,BTL_TIME,BTL_LAT,BTL_LON,HPLC,HPLC_FLAG_W,DNA,DNA_FLAG_W
,,,,,,,,,,,METERS,DBAR,,ITS-90,,PSS-78,,PSS-78,,UMOL/KG,,UMOL/KG,,UMOL/KG,,UMOL/KG,,UMOL/KG,,UMOL/KG,,PMOL/KG,,PMOL/KG,,FMOL/KG,,UMOL/KG,,UMOL/KG,,,,DEG C,,UMOL/KG,,ITS-90,,UG/KG,,UG/KG,,UG/L,,UMOL/KG,,/MILLE,,VOLTS,,VOLTS,,NMOL/KG,,/MILLE,,/MILLE,,/MILLE,,/MILLE,,,,,,,,,
33RR20230722  ,I05        ,181     ,  1,35         ,35         ,2,20230907,0607, -32.5451,  33.4003,     3518,      6.1,2,  19.1482,2,  35.6487,2,  35.6488,2,    231.3,2,    230.8,2,     1.85,2,     0.09,2,     0.00,2,     0.12,2,     -999,9,     -999,9,     -999,9,   2061.6,6,   2336.0,2,   7.9875,2,    25.03,2,     -999,1,  19.1443,2,     -999,9,     -999,9,     -999,9,     -999,9,     -999,9,   4.9746,1,   0.0195,1,     -999,9,     -999,9,     -999,9,     -999,9,     -999,9,20230907,0745, -32.5451,  33.4003,-999          ,9,-999          ,9
33RR20230722  ,I05        ,181     ,  1,34         ,34         ,2,20230907,0607, -32.5451,  33.4003,     3518,     16.3,2,  19.1380,2,  35.6496,2,  35.6490,2,    231.4,2,    230.7,2,     1.76,2,     0.02,2,     0.00,2,     0.11,2,    1.834,2,    1.225,2,   2.0000,2,   2061.6,2,   2334.6,2,   7.9861,2,    25.00,2,     -999,9,  19.1369,2,     -999,9,     -999,9,     -999,9,     -999,9,     -999,9,   4.7676,1,   0.0253,1,      8.0,2,     -999,9,     -999,9,     -999,9,     -999,9,20230907,0744, -32.5451,  33.4003,-999          ,9,-999          ,9
33RR20230722  ,I05        ,181     ,  1,33         ,33         ,2,20230907,0607, -32.5451,  33.4003,     3518,     28.3,2,  19.1331,2,  35.6501,2,  35.6500,2,    231.3,2,    230.9,2,     1.85,2,     0.00,2,     0.00,2,     0.11,2,     -999,9,     -999,9,     -999,9,   2062.1,2,   2334.5,2,   7.9867,2,    25.05,2,     -999,9,  19.1325,2,     -999,9,     -999,9,     -999,9,     -999,9,     -999,9,   4.9745,1,   0.0300,1,     -999,9,     -999,9,     -999,9,     -999,9,     -999,9,20230907,0742, -32.5451,  33.4003,-999          ,9,-999          ,9
33RR20230722  ,I05        ,181     ,  1,32         ,32         ,2,20230907,0607, -32.5451,  33.4003,     3518,     43.9,2,  19.1152,2,  35.6525,2,  35.6516,2,    231.2,2,    230.6,2,     1.85,2,     0.00,2,     0.00,2,     0.11,2,     -999,9,     -999,9,     -999,9,   2061.1,2,   2332.6,2,   7.9858,6,    25.01,2,     -999,9,  19.1151,2,     -999,9,     -999,9,     -999,9,     -999,9,     -999,9,   4.9743,1,   0.0359,1,     -999,9,     -999,9,     -999,9,     -999,9,     -999,9,20230907,0741, -32.5451,  33.4004,-999          ,9,-999          ,9
33RR20230722  ,I05        ,181     ,  1,31         ,31         ,2,20230907,0607, -32.5451,  33.4003,     3518,     64.2,2,  19.0707,2,  35.6532,2,  35.6528,2,    230.1,2,    230.0,2,     1.85,2,     0.01,2,     0.03,2,     0.12,2,     -999,9,     -999,9,     -999,9,   2061.0,2,   2333.6,2,   7.9834,2,    25.02,2,     -999,9,  19.0680,2,     -999,9,     -999,9,     -999,9,     -999,9,     -999,9,   4.5134,1,   0.0387,1,     -999,9,     -999,9,     -999,9,     -999,9,     -999,9,20230907,0739, -32.5451,  33.4003,-999          ,9,-999          ,9
33RR20230722  ,I05        ,181     ,  1,30         ,30         ,2,20230907,0607, -32.5451,  33.4003,     3518,     86.4,2,  18.6488,2,  35.6829,2,  35.6826,2,    229.4,2,    228.8,2,     1.85,2,     0.13,2,     0.13,2,     0.14,2,     -999,9,     -999,9,     -999,9,   2069.5,2,   2335.9,2,   7.9731,2,    25.03,2,     -999,9,  18.6486,2,     -999,9,     -999,9,     -999,9,     -999,9,     -999,9,   4.9583,1,   0.0307,1,     -999,9,     -999,9,     -999,9,     -999,9,     -999,9,20230907,0737, -32.5451,  33.4003,-999          ,9,-999          ,9
33RR20230722  ,I05        ,181     ,  1,29         ,29         ,2,20230907,0607, -32.5451,  33.4003,     3518,    113.1,2,  18.4282,2,  35.6950,2,  35.6940,2,    230.9,2,    231.0,2,     1.85,2,     0.02,2,     0.16,2,     0.13,2,    1.826,2,    1.257,2,   2.1500,2,   2071.6,2,   2335.6,2,   7.9710,2,    25.02,2,     -999,9,  18.4264,2,     -999,9,     -999,9,     -999,9,     -999,9,     -999,9,   4.9389,1,   0.0186,1,      8.0,2,     -999,9,     -999,9,     -999,9,     -999,9,20230907,0735, -32.5451,  33.4004,-999          ,9,-999          ,9
33RR20230722  ,I05        ,181     ,  1,28         ,28         ,2,20230907,0607, -32.5451,  33.4003,     3518,    142.5,2,  18.0274,2,  35.6523,2,  35.6482,2,    219.0,2,    217.4,2,     2.54,2,     1.77,2,     0.13,2,     0.23,2,     -999,9,     -999,9,     -999,9,   2083.8,2,   2332.7,2,   7.9442,6,    25.02,2,     -999,9,  18.0476,2,     -999,9,     -999,9,     -999,9,     -999,9,     -999,9,   4.9700,1,   0.0143,1,     -999,9,     -999,9,     -999,9,     -999,9,     -999,9,20230907,0734, -32.5451,  33.4003,-999          ,9,-999          ,9
33RR20230722  ,I05        ,181     ,  1,27         ,27         ,2,20230907,0607, -32.5451,  33.4003,     3518,    170.9,2,  17.2165,2,  35.5820,2,  35.5817,2,    206.6,2,    208.2,2,     3.02,2,     3.59,2,     0.02,2,     0.35,2,     -999,9,     -999,9,     -999,9,   2100.1,2,   2328.0,2,   7.9065,2,    25.02,2,     -999,9,  17.1907,2,     -999,9,     -999,9,     -999,9,     -999,9,     -999,9,   4.6192,1,   0.0125,1,     -999,9,     -999,9,     -999,9,     -999,9,     -999,9,20230907,0732, -32.5451,  33.4004,-999          ,9,-999          ,9
33RR20230722  ,I05        ,181     ,  1,26         ,26         ,2,20230907,0607, -32.5451,  33.4003,     3518,    209.5,2,  16.3671,2,  35.5385,2,  35.5326,2,    206.0,2,    207.9,2,     3.51,2,     5.10,2,     0.00,2,     0.45,2,     -999,9,     -999,9,     -999,9,   2108.3,2,   2326.8,2,   7.8874,2,    25.02,2,     -999,9,  16.3707,2,     -999,9,     -999,9,     -999,9,     -999,9,     -999,9,   4.7744,1,   0.0120,1,     -999,9,     -999,9,     -999,9,     -999,9,     -999,9,20230907,0730, -32.5452,  33.4003,-999          ,9,-999          ,9
33RR20230722  ,I05        ,181     ,  1,25         ,25         ,2,20230907,0607, -32.5451,  33.4003,     3518,    250.8,2,  15.6996,2,  35.4873,2,  35.4853,2,    207.1,2,    208.5,2,     3.61,2,     5.87,2,     0.00,2,     0.50,2,     -999,9,     -999,9,     -999,9,   2115.0,6,   2325.1,2,   7.8736,2,    25.02,2,     -999,9,  15.6944,2,     -999,9,     -999,9,     -999,9,     -999,9,     -999,9,   4.8720,1,   0.0114,1,     -999,9,     -999,9,     -999,9,     -999,9,     -999,9,20230907,0729, -32.5451,  33.4003,-999          ,9,-999          ,9
33RR20230722  ,I05        ,181     ,  1,24         ,24         ,2,20230907,0607, -32.5451,  33.4003,     3518,    303.2,2,  14.9924,2,  35.4222,2,  35.4233,2,    211.8,2,    213.2,2,     3.51,2,     6.65,2,     0.00,2,     0.56,2,    2.132,2,    1.508,2,   2.0200,2,   2117.8,2,   2320.9,2,   7.8623,6,    25.02,2,     -999,9,  14.9839,2,     -999,9,     -999,9,     -999,9,     -999,9,     -999,9,   4.8471,1,   0.0115,1,     10.3,2,     -999,9,     -999,9,     -999,9,     -999,9,20230907,0727, -32.5451,  33.4003,-999          ,9,-999          ,9
33RR20230722  ,I05        ,181     ,  1,23         ,23         ,2,20230907,0607, -32.5451,  33.4003,     3518,    365.1,2,  14.2196,2,  35.3432,2,  35.3433,2,    215.1,2,    216.5,2,     3.61,2,     7.66,2,     0.00,2,     0.61,2,     -999,9,     -999,9,     -999,9,   2122.5,2,   2317.8,6,   7.8455,6,    25.03,2,     -999,9,  14.2184,2,     -999,9,     -999,9,     -999,9,     -999,9,     -999,9,   4.9672,1,   0.0116,1,     -999,9,     -999,9,     -999,9,     -999,9,     -999,9,20230907,0725, -32.5451,  33.4004,-999          ,9,-999          ,9
33RR20230722  ,I05        ,181     ,  1,22         ,22         ,2,20230907,0607, -32.5451,  33.4003,     3518,    431.2,2,  13.6145,2,  35.2773,2,  35.2765,2,    218.6,2,    218.7,2,     3.71,2,     8.55,2,     0.00,2,     0.68,2,     -999,9,     -999,9,     -999,9,   2123.2,2,   2315.7,2,   7.8336,2,    25.02,2,     -999,9,  13.6060,2,     -999,9,     -999,9,     -999,9,     -999,9,     -999,9,   4.9670,1,   0.0117,1,     -999,9,     -999,9,     -999,9,     -999,9,     -999,9,20230907,0722, -32.5451,  33.4004,-999          ,9,-999          ,9
33RR20230722  ,I05        ,181     ,  1,21         ,21         ,2,20230907,0607, -32.5451,  33.4003,     3518,    508.7,2,  12.9153,2,  35.1926,2,  35.1922,2,    224.3,2,    224.2,2,     3.90,2,     9.68,2,     0.00,2,     0.74,2,    3.005,2,    1.666,2,   2.1400,2,   2127.6,2,   2311.2,2,   7.8221,2,    25.01,2,     -999,9,  12.9098,2,     -999,9,     -999,9,     -999,9,     -999,9,     -999,9,   4.6981,1,   0.0115,1,     11.3,2,     -999,9,     -999,9,     -999,9,     -999,9,20230907,0720, -32.5451,  33.4003,-999          ,9,-999          ,9
33RR20230722  ,I05        ,181     ,  1,20         ,20         ,2,20230907,0607, -32.5451,  33.4003,     3518,    594.5,2,  11.9483,2,  35.0502,2,  33.0908,4,    221.0,2,    220.4,2,     4.59,2,    12.02,2,     0.00,2,     0.90,2,     -999,9,     -999,9,     -999,9,   2133.7,2,   2306.2,2,   7.7943,2,    25.03,2,     -999,9,  11.9444,2,     -999,9,     -999,9,     -999,9,     -999,9,     -999,9,   4.9666,1,   0.0115,1,     -999,9,     -999,9,     -999,9,     -999,9,     -999,9,20230907,0717, -32.5452,  33.4004,-999          ,9,-999          ,9
33RR20230722  ,I05        ,181     ,  1,19         ,19         ,2,20230907,0607, -32.5451,  33.4003,     3518,    681.4,2,  11.0855,2,  34.9254,2,  34.9250,2,    220.4,2,    220.5,2,     5.37,2,    14.00,2,     0.00,2,     1.02,2,    2.710,2,    1.785,2,   1.7400,2,   2140.1,2,   2301.2,2,   7.7753,2,    25.02,2,     -999,9,  11.0801,2,     -999,9,     -999,9,     -999,9,     -999,9,     -999,9,   4.9667,1,   0.0114,1,     12.8,2,     -999,9,     -999,9,     -999,9,     -999,9,20230907,0715, -32.5451,  33.4003,-999          ,9,-999          ,9
33RR20230722  ,I05        ,181     ,  1,18         ,18         ,2,20230907,0607, -32.5451,  33.4003,     3518,    779.5,2,   9.8864,2,  34.7688,2,  34.7691,2,    216.4,2,    215.6,2,     7.61,2,    17.24,2,     0.00,2,     1.23,2,     -999,9,     -999,9,     -999,9,   2147.5,2,   2295.4,2,   7.7436,2,    25.00,2,     -999,9,   9.8876,2,     -999,9,     -999,9,     -999,9,     -999,9,     -999,9,   4.9387,1,   0.0113,1,     -999,9,     -999,9,     -999,9,     -999,9,     -999,9,20230907,0712, -32.5451,  33.4003,-999          ,9,-999          ,9
33RR20230722  ,I05        ,181     ,  1,17         ,17         ,2,20230907,0607, -32.5451,  33.4003,     3518,    881.4,2,   8.6049,2,  34.6325,2,  34.6348,2,    208.1,2,    207.1,2,    12.40,2,    21.12,2,     0.00,2,     1.49,2,    2.868,2,    1.661,2,   1.2400,2,   2162.1,2,   2291.7,2,   7.7025,6,    25.02,2,     -999,9,   8.5960,2,     -999,9,     -999,9,     -999,9,     -999,9,     -999,9,   4.7078,1,   0.0114,1,     16.2,2,     -999,9,     -999,9,     -999,9,     -999,9,20230907,0709, -32.5451,  33.4003,-999          ,9,-999          ,9
33RR20230722  ,I05        ,181     ,  1,16         ,16         ,2,20230907,0607, -32.5451,  33.4003,     3518,    985.6,2,   7.1985,2,  34.5122,2,  34.5109,2,    203.4,2,    203.1,2,    18.26,2,    24.84,2,     0.00,2,     1.74,2,     -999,9,     -999,9,     -999,9,   2175.4,2,   2290.6,2,   7.6648,2,    25.04,2,     -999,9,   7.1633,2,     -999,9,     -999,9,     -999,9,     -999,9,     -999,9,   4.9693,1,   0.0112,1,     -999,9,     -999,9,     -999,9,     -999,9,     -999,9,20230907,0707, -32.5451,  33.4003,-999          ,9,-999          ,9
33RR20230722  ,I05        ,181     ,  1,15         ,15         ,2,20230907,0607, -32.5451,  33.4003,     3518,   1094.8,2,   5.7323,2,  34.4254,2,  34.4259,2,    198.4,2,    198.8,2,    27.73,2,    28.38,2,     0.00,2,     1.98,2,    2.580,2,    1.307,2,   0.7800,2,   2193.7,2,   2295.3,2,   7.6300,2,    25.02,2,     -999,9,   5.7313,2,     -999,9,     -999,9,     -999,9,     -999,9,     -999,9,   4.9704,1,   0.0112,1,     19.4,2,     -999,9,     -999,9,     -999,9,     -999,9,20230907,0704, -32.5451,  33.4003,-999          ,9,-999          ,9
33RR20230722  ,I05        ,181     ,  1,14         ,14         ,2,20230907,0607, -32.5451,  33.4003,     3518,   1209.6,2,   4.7939,2,  34.3989,2,  34.3988,2,    194.7,2,    195.4,2,    35.73,2,    30.45,2,     0.00,2,     2.12,2,     -999,9,     -999,9,     -999,9,   2206.6,2,   2298.8,2,   7.6074,2,    25.03,2,     -999,9,   4.7933,2,     -999,9,     -999,9,     -999,9,     -999,9,     -999,9,   4.9725,1,   0.0120,1,     -999,9,     -999,9,     -999,9,     -999,9,     -999,9,20230907,0701, -32.5451,  33.4003,-999          ,9,-999          ,9
33RR20230722  ,I05        ,181     ,  1,13         ,13         ,2,20230907,0607, -32.5451,  33.4003,     3518,   1324.8,2,   4.4409,2,  34.4615,2,  34.4599,2,    177.5,2,    178.0,2,    47.25,2,    32.04,2,     0.00,2,     2.27,2,    1.533,2,    0.766,2,   0.3400,2,   2225.2,2,   2314.4,2,   7.5875,2,    25.04,2,     -999,9,   4.4402,2,     -999,9,     -999,9,     -999,9,     -999,9,     -999,9,   4.9727,1,   0.0113,1,     22.4,2,     -999,9,     -999,9,     -999,9,     -999,9,20230907,0658, -32.5452,  33.4003,-999          ,9,-999          ,9
33RR20230722  ,I05        ,181     ,  1,12         ,12         ,2,20230907,0607, -32.5451,  33.4003,     3518,   1436.7,2,   4.2400,2,  34.5273,2,  34.5268,2,    164.1,2,    163.3,2,    57.40,2,    33.05,2,     0.00,2,     2.34,2,     -999,9,     -999,9,     -999,9,   2239.7,2,   2321.5,2,   7.5739,2,    25.07,2,     -999,9,   4.2472,2,     -999,9,     -999,9,     -999,9,     -999,9,     -999,9,   4.8278,1,   0.0119,1,     -999,9,     -999,9,     -999,9,     -999,9,     -999,9,20230907,0655, -32.5451,  33.4003,-999          ,9,-999          ,9
33RR20230722  ,I05        ,181     ,  1,11         ,11         ,2,20230907,0607, -32.5451,  33.4003,     3518,   1538.2,2,   3.6814,2,  34.5603,2,  34.5590,2,    163.3,2,    163.7,2,    64.24,2,    33.48,2,     0.00,2,     2.36,2,     -999,9,     -999,9,     -999,9,   2246.9,2,   2329.4,2,   7.5685,2,    25.04,2,     -999,9,   3.6859,2,     -999,9,     -999,9,     -999,9,     -999,9,     -999,9,   4.8984,1,   0.0119,1,     -999,9,     -999,9,     -999,9,     -999,9,     -999,9,20230907,0652, -32.5451,  33.4003,-999          ,9,-999          ,9
33RR20230722  ,I05        ,181     ,  1,10         ,10         ,2,20230907,0607, -32.5451,  33.4003,     3518,   1636.1,2,   3.4459,2,  34.6069,2,  34.6089,2,    162.6,2,    162.2,2,    69.99,2,    33.35,2,     0.00,2,     2.35,2,    0.475,2,    0.241,2,   0.1100,2,   2253.4,6,   2335.6,2,   7.5701,2,    25.04,2,     -999,9,   3.4437,2,     -999,9,     -999,9,     -999,9,     -999,9,     -999,9,   4.9743,1,   0.0124,1,     23.9,2,     -999,9,     -999,9,     -999,9,     -999,9,20230907,0649, -32.5451,  33.4003,-999          ,9,-999          ,9
33RR20230722  ,I05        ,181     ,  1,9          ,9          ,2,20230907,0607, -32.5451,  33.4003,     3518,   1739.1,2,   3.1932,2,  34.6502,2,  34.6512,2,    165.6,2,    165.1,2,    73.51,2,    32.84,2,     0.00,2,     2.32,2,     -999,9,     -999,9,     -999,9,   2255.1,2,   2340.3,2,   7.5789,6,    25.02,2,     -999,9,   3.1972,2,     -999,9,     -999,9,     -999,9,     -999,9,     -999,9,   4.9538,1,   0.0121,1,     -999,9,     -999,9,     -999,9,     -999,9,     -999,9,20230907,0646, -32.5451,  33.4003,-999          ,9,-999          ,9
33RR20230722  ,I05        ,181     ,  1,8          ,8          ,2,20230907,0607, -32.5451,  33.4003,     3518,   1867.2,2,   2.9879,2,  34.6898,2,  34.6897,2,    170.8,2,    170.8,2,    74.77,2,    32.06,2,     0.00,2,     2.27,2,     -999,9,     -999,9,     -999,9,   2253.0,2,   2344.3,6,   7.5901,6,    25.02,2,     -999,9,   2.9878,2,     -999,9,     -999,9,     -999,9,     -999,9,     -999,9,   4.9726,1,   0.0113,1,     -999,9,     -999,9,     -999,9,     -999,9,     -999,9,20230907,0643, -32.5451,  33.4003,-999          ,9,-999          ,9
33RR20230722  ,I05        ,181     ,  1,7          ,7          ,2,20230907,0607, -32.5451,  33.4003,     3518,   2060.8,2,   2.7448,2,  34.7336,2,  34.7323,2,    182.8,2,    183.0,2,    73.11,2,    30.60,2,     0.00,2,     2.15,2,    0.106,2,    0.058,2,   0.0300,2,   2244.3,2,   2343.9,2,   7.6102,2,    25.02,2,     -999,9,   2.7475,2,     -999,9,     -999,9,     -999,9,     -999,9,     -999,9,   4.9739,1,   0.0119,1,     20.8,2,     -999,9,     -999,9,     -999,9,     -999,9,20230907,0639, -32.5451,  33.4003,-999          ,9,-999          ,9
33RR20230722  ,I05        ,181     ,  1,6          ,6          ,2,20230907,0607, -32.5451,  33.4003,     3518,   2320.3,2,   2.5836,2,  34.7727,2,  34.7730,2,    195.6,2,    196.0,2,    70.18,2,    28.98,2,     0.00,2,     2.02,2,     -999,9,     -999,9,     -999,9,   2235.7,2,   2342.9,2,   7.6318,2,    25.01,2,     -999,9,   2.5832,2,     -999,9,     -999,9,     -999,9,     -999,9,     -999,9,   4.9737,1,   0.0110,1,     -999,9,     -999,9,     -999,9,     -999,9,     -999,9,20230907,0633, -32.5451,  33.4003,-999          ,9,-999          ,9
33RR20230722  ,I05        ,181     ,  1,5          ,5          ,2,20230907,0607, -32.5451,  33.4003,     3518,   2630.7,2,   2.4313,2,  34.8000,2,  34.8007,2,    208.5,2,    208.9,2,    66.37,2,    27.58,2,     0.00,2,     1.91,2,    0.036,2,    0.023,2,  -0.0400,2,   2228.4,2,   2341.3,2,   7.6511,2,    24.99,2,     -999,9,   2.4318,2,     -999,9,     -999,9,     -999,9,     -999,9,     -999,9,   4.9737,1,   0.0112,1,     17.7,2,     -999,9,     -999,9,     -999,9,     -999,9,20230907,0627, -32.5451,  33.4003,-999          ,9,-999          ,9
33RR20230722  ,I05        ,181     ,  1,4          ,37         ,2,20230907,0607, -32.5451,  33.4003,     3518,   2968.2,2,   2.1939,2,  34.8054,2,  34.8058,2,    215.7,2,    215.9,2,    69.69,2,    27.17,2,     0.00,2,     1.89,2,     -999,9,     -999,9,     -999,9,   2227.4,3,   2343.6,2,   7.6584,2,    25.02,2,     -999,9,   2.1923,2,     -999,9,     -999,9,     -999,9,     -999,9,     -999,9,   4.9737,1,   0.0112,1,     -999,9,     -999,9,     -999,9,     -999,9,     -999,9,20230907,0621, -32.5451,  33.4003,-999          ,9,-999          ,9
33RR20230722  ,I05        ,181     ,  1,3          ,3          ,2,20230907,0607, -32.5451,  33.4003,     3518,   3248.3,2,   1.8109,2,  34.7865,2,  34.7870,2,    217.5,2,    217.8,2,    80.43,2,    28.07,2,     0.00,2,     1.96,2,    0.068,2,    0.039,2,  -0.0300,2,   2234.8,2,   2349.7,2,   7.6534,6,    25.02,2,     -999,9,   1.8105,2,     -999,9,     -999,9,     -999,9,     -999,9,     -999,9,   4.9742,1,   0.0114,1,     17.0,2,     -999,9,     -999,9,     -999,9,     -999,9,20230907,0615, -32.5451,  33.4003,-999          ,9,-999          ,9
33RR20230722  ,I05        ,181     ,  1,2          ,2          ,2,20230907,0607, -32.5451,  33.4003,     3518,   3425.7,2,   1.4930,2,  34.7641,2,  34.7642,2,    217.0,2,    216.9,2,    91.75,2,    29.18,2,     0.00,2,     2.02,2,    0.096,2,    0.051,2,   0.0600,2,   2243.5,2,   2355.2,2,   7.6424,2,    25.02,2,     -999,9,   1.4924,2,     -999,9,     -999,9,     -999,9,     -999,9,     -999,9,   4.6743,1,   0.0111,1,     17.3,2,     -999,9,     -999,9,     -999,9,     -999,9,20230907,0611, -32.5451,  33.4003,-999          ,9,-999          ,9