BOTTLE,20240422CCHHYDRO
EXPOCODE,SECT_ID,STNNBR,CASTNO,SAMPNO,BTLNBR,BTLNBR_FLAG_W,DATE,TIME,LATITUDE,LONGITUDE,DEPTH,CTDPRS,CTDPRS_FLAG_W,CTDTMP,CTDTMP_FLAG_W,CTDSAL,CTDSAL_FLAG_W,SALNTY,SALNTY_FLAG_W,CTDOXY,CTDOXY_FLAG_W,OXYGEN,OXYGEN_FLAG_W,SILCAT,SILCAT_FLAG_W,NITRAT,NITRAT_FLAG_W,NITRIT,NITRIT_FLAG_W,PHSPHT,PHSPHT_FLAG_W,CFC-11,CFC-11_FLAG_W,CFC-12,CFC-12_FLAG_W,SF6,SF6_FLAG_W,TCARBN,TCARBN_FLAG_W,ALKALI,ALKALI_FLAG_W,PH_TOT,PH_TOT_FLAG_W,PH_TMP,PH_TMP_FLAG_W,DOC,DOC_FLAG_W,REFTMP,REFTMP_FLAG_W,POC,POC_FLAG_W,PON,PON_FLAG_W,POP,POP_FLAG_W,DOP,DOP_FLAG_W,DELO18,DELO18_FLAG_W,CTDFLUOR,CTDFLUOR_FLAG_W,CTDXMISS,CTDXMISS_FLAG_W,N2O,N2O_FLAG_W,D15N_NO3,D15N_NO3_FLAG_W,D15N_NO2+NO3,D15N_NO2+NO3_FLAG_W,D18O_NO2+NO3,D18O_NO2+NO3_FLAG_W,D18O_NO3,D18O_NO3_FLAG_W,BTL_DATE,BTL_TIME,BTL_LAT,BTL_LON,HPLC,HPLC_FLAG_W,DNA,DNA_FLAG_W
,,,,,,,,,,,METERS,DBAR,,ITS-90,,PSS-78,,PSS-78,,UMOL/KG,,UMOL/KG,,UMOL/KG,,UMOL/KG,,UMOL/KG,,UMOL/KG,,PMOL/KG,,PMOL/KG,,FMOL/KG,,UMOL/KG,,UMOL/KG,,,,DEG C,,UMOL/KG,,ITS-90,,UG/KG,,UG/KG,,UG/L,,UMOL/KG,,/MILLE,,VOLTS,,VOLTS,,NMOL/KG,,/MILLE,,/MILLE,,/MILLE,,/MILLE,,,,,,,,,
33RR20230722  ,I05        ,139     ,  1,35         ,35         ,2,20230828,0135, -33.9982,  53.6369,     4456,      6.1,2,  15.9670,2,  35.5058,2,     -999,9,    248.2,2,     -999,9,     -999,9,     -999,9,     -999,9,     -999,9,     -999,9,     -999,9,     -999,9,   -999.0,9,     -999,9,     -999,9,     -999,9,     -999,9,  15.9654,2,     -999,9,     -999,9,     -999,9,     -999,9,     -999,9,   4.8030,1,   0.0288,1,     -999,9,     -999,9,     -999,9,     -999,9,     -999,9,20230828,0334, -33.9982,  53.6369,-999          ,1,-999          ,9
33RR20230722  ,I05        ,139     ,  1,36         ,38         ,2,20230828,0135, -33.9982,  53.6369,     4456,      6.3,2,  15.9678,2,  35.5058,2,  35.5062,2,    248.4,2,    247.5,2,     1.95,2,     0.71,2,     0.11,2,     0.20,2,    1.877,2,    1.412,2,   2.2800,2,   2083.7,2,   2328.0,2,   7.9363,2,    25.01,2,     -999,1,  15.9665,2,     -999,9,     -999,9,     -999,9,     -999,1,     -999,1,   4.0476,1,   0.0274,1,      8.3,2,     -999,9,     -999,9,     -999,9,     -999,9,20230828,0335, -33.9982,  53.6369,-999          ,9,-999          ,9
33RR20230722  ,I05        ,139     ,  1,34         ,34         ,2,20230828,0135, -33.9982,  53.6369,     4456,     24.3,2,  15.9713,2,  35.5069,2,  35.5081,2,    248.2,2,    247.4,2,     1.95,2,     0.68,2,     0.11,2,     0.20,2,     -999,9,     -999,9,     -999,9,   2082.3,2,   2328.6,2,   7.9367,2,    25.02,2,     -999,9,  15.9698,2,     -999,9,     -999,9,     -999,9,     -999,1,     -999,1,   4.9752,1,   0.0277,1,     -999,9,     -999,9,     -999,9,     -999,9,     -999,9,20230828,0332, -33.9982,  53.6369,-999          ,9,-999          ,9
33RR20230722  ,I05        ,139     ,  1,33         ,33         ,2,20230828,0135, -33.9982,  53.6369,     4456,     52.9,2,  15.7821,2,  35.5183,2,     -999,9,    245.8,2,     -999,9,     -999,9,     -999,9,     -999,9,     -999,9,     -999,9,     -999,9,     -999,9,   -999.0,9,     -999,9,     -999,9,     -999,9,     -999,9,  15.7825,2,     -999,9,     -999,9,     -999,9,     -999,9,     -999,9,   4.8701,1,   0.0292,1,     -999,9,     -999,9,     -999,9,     -999,9,     -999,9,20230828,0330, -33.9982,  53.6369,-999          ,1,-999          ,9
33RR20230722  ,I05        ,139     ,  1,32         ,32         ,2,20230828,0135, -33.9982,  53.6369,     4456,     65.2,2,  15.7536,2,  35.5244,2,  35.5245,2,    243.7,2,    243.5,2,     2.24,2,     1.30,2,     0.22,2,     0.23,2,    2.102,2,    1.416,2,   2.2800,2,   -999.0,9,     -999,9,     -999,9,     -999,9,     -999,9,  15.7527,2,     -999,9,     -999,9,     -999,9,     -999,1,     -999,1,   4.3792,1,   0.0243,1,      8.6,2,     -999,9,     -999,9,     -999,9,     -999,9,20230828,0329, -33.9982,  53.6369,-999          ,9,-999          ,9
33RR20230722  ,I05        ,139     ,  1,31         ,31         ,2,20230828,0135, -33.9982,  53.6369,     4456,     93.5,2,  15.7017,2,  35.5372,2,  35.5369,2,    240.5,2,    240.3,2,     2.34,2,     2.06,2,     0.22,2,     0.27,2,     -999,9,     -999,9,     -999,9,   2092.8,2,   2328.9,2,   7.9221,2,    25.00,2,     -999,9,  15.7008,2,     -999,9,     -999,9,     -999,9,     -999,1,     -999,1,   4.9731,1,   0.0200,1,     -999,9,     -999,9,     -999,9,     -999,9,     -999,9,20230828,0326, -33.9982,  53.6369,-999          ,9,-999          ,9
33RR20230722  ,I05        ,139     ,  1,30         ,30         ,2,20230828,0135, -33.9982,  53.6369,     4456,    125.1,2,  15.6886,2,  35.5374,2,  35.5448,2,    239.2,2,    239.0,2,     2.44,2,     2.41,2,     0.09,2,     0.27,2,    2.173,2,    1.415,2,   2.3100,2,   2093.8,2,   2328.4,2,   7.9205,2,    25.01,2,     -999,9,  15.6866,2,     -999,9,     -999,9,     -999,9,     -999,1,     -999,1,   4.9723,1,   0.0152,1,      8.5,2,     -999,9,     -999,9,     -999,9,     -999,9,20230828,0324, -33.9982,  53.6369,-999          ,9,-999          ,9
33RR20230722  ,I05        ,139     ,  1,29         ,29         ,2,20230828,0135, -33.9982,  53.6369,     4456,    160.5,2,  15.6651,2,  35.5360,2,  35.5381,2,    238.6,2,    238.4,2,     2.63,2,     2.60,2,     0.05,2,     0.29,2,     -999,9,     -999,9,     -999,9,   2094.4,2,   2327.7,2,   7.9191,6,    24.98,2,     -999,9,  15.6638,2,     -999,9,     -999,9,     -999,9,     -999,1,     -999,1,   4.9720,1,   0.0136,1,     -999,9,     -999,9,     -999,9,     -999,9,     -999,9,20230828,0322, -33.9982,  53.6369,-999          ,9,-999          ,9
33RR20230722  ,I05        ,139     ,  1,28         ,28         ,2,20230828,0135, -33.9982,  53.6369,     4456,    198.9,2,  15.6279,2,  35.5348,2,  35.5358,2,    237.5,2,    237.5,2,     2.63,2,     2.80,2,     0.03,2,     0.31,2,    1.817,2,    1.420,2,   2.3000,2,   -999.0,9,     -999,9,     -999,9,     -999,9,     -999,9,  15.6270,2,     -999,9,     -999,9,     -999,9,     -999,1,     -999,1,   4.9717,1,   0.0126,1,      8.5,2,     -999,9,     -999,9,     -999,9,     -999,9,20230828,0320, -33.9982,  53.6369,-999          ,9,-999          ,9
33RR20230722  ,I05        ,139     ,  1,27         ,27         ,2,20230828,0135, -33.9982,  53.6369,     4456,    241.7,2,  15.6199,2,  35.5336,2,  35.5336,2,    236.8,2,    237.4,2,     2.63,2,     2.89,2,     0.02,2,     0.30,2,     -999,9,     -999,9,     -999,9,   2093.9,2,   2327.4,2,   7.9160,2,    25.00,2,     -999,9,  15.6205,2,     -999,9,     -999,9,     -999,9,     -999,1,     -999,1,   4.9713,1,   0.0119,1,     -999,9,     -999,9,     -999,9,     -999,9,     -999,9,20230828,0318, -33.9982,  53.6369,-999          ,9,-999          ,9
33RR20230722  ,I05        ,139     ,  1,26         ,26         ,2,20230828,0135, -33.9982,  53.6369,     4456,    291.5,2,  15.3626,2,  35.4964,2,  35.5010,2,    232.8,2,    233.9,2,     2.83,2,     3.51,2,     0.00,2,     0.34,2,    1.898,2,    1.437,2,   2.2800,2,   2099.4,2,   2327.4,2,   7.9057,6,    25.00,2,     -999,9,  15.3811,2,     -999,9,     -999,9,     -999,9,     -999,9,     -999,1,   4.9704,1,   0.0121,1,      8.9,2,     -999,9,     -999,9,     -999,9,     -999,9,20230828,0315, -33.9982,  53.6369,-999          ,9,-999          ,9
33RR20230722  ,I05        ,139     ,  1,25         ,25         ,2,20230828,0135, -33.9982,  53.6369,     4456,    353.9,2,  14.1064,2,  35.3420,2,  35.3524,2,    222.8,2,    223.5,2,     3.41,2,     6.75,2,     0.00,2,     0.56,2,     -999,9,     -999,9,     -999,9,   2115.4,2,   2319.4,6,   7.8574,2,    25.01,2,     -999,9,  14.1485,2,     -999,9,     -999,9,     -999,9,     -999,9,     -999,1,   4.9680,1,   0.0115,1,     -999,9,     -999,9,     -999,9,     -999,9,     -999,9,20230828,0313, -33.9982,  53.6369,-999          ,9,-999          ,9
33RR20230722  ,I05        ,139     ,  1,24         ,24         ,2,20230828,0135, -33.9982,  53.6369,     4456,    426.1,2,  13.5676,2,  35.2849,2,  35.2857,2,    230.5,2,    230.5,2,     3.41,2,     7.49,2,     0.00,2,     0.58,2,    2.152,2,    1.590,2,   2.2700,2,   -999.0,9,     -999,9,     -999,9,     -999,9,     -999,9,  13.5665,2,     -999,9,     -999,9,     -999,9,     -999,9,     -999,1,   4.9681,1,   0.0116,1,     10.2,2,     -999,9,     -999,9,     -999,9,     -999,9,20230828,0310, -33.9982,  53.6369,-999          ,9,-999          ,9
33RR20230722  ,I05        ,139     ,  1,23         ,23         ,2,20230828,0135, -33.9982,  53.6369,     4456,    508.7,2,  13.1229,2,  35.2236,2,  35.2235,2,    232.0,2,    232.2,2,     3.71,2,     8.38,2,     0.00,2,     0.65,2,    2.266,2,    1.634,2,   2.3100,2,   2123.2,2,   2313.2,2,   7.8389,2,    24.99,2,     -999,9,  13.1194,2,     -999,9,     -999,9,     -999,9,     -999,9,     -999,1,   4.9677,1,   0.0115,1,     10.3,2,     -999,9,     -999,9,     -999,9,     -999,9,20230828,0308, -33.9982,  53.6369,-999          ,9,-999          ,9
33RR20230722  ,I05        ,139     ,  1,22         ,22         ,2,20230828,0135, -33.9982,  53.6369,     4456,    598.6,2,  12.4986,2,  35.1257,2,  35.1262,2,    225.2,2,    225.3,2,     4.20,2,    10.34,2,     0.00,2,     0.77,2,    2.347,2,    1.689,2,   2.0800,2,   -999.0,9,     -999,9,     -999,9,     -999,9,     -999,9,  12.4990,2,     -999,9,     -999,9,     -999,9,     -999,9,     -999,1,   4.9668,1,   0.0114,1,     11.1,2,     -999,9,     -999,9,     -999,9,     -999,9,20230828,0305, -33.9982,  53.6369,-999          ,9,-999          ,9
33RR20230722  ,I05        ,139     ,  1,21         ,21         ,2,20230828,0135, -33.9982,  53.6369,     4456,    697.5,2,  11.3165,2,  34.9483,2,  34.9518,2,    222.3,2,    222.2,2,     5.17,2,    13.27,2,     0.00,2,     0.96,2,    2.379,2,    1.763,2,   1.8600,2,   2137.3,2,   2299.8,2,   7.7859,2,    25.00,2,     -999,9,  11.3121,2,     -999,9,     -999,9,     -999,9,     -999,9,     -999,1,   4.9666,1,   0.0115,1,     11.8,2,     -999,9,     -999,9,     -999,9,     -999,9,20230828,0302, -33.9982,  53.6369,-999          ,9,-999          ,9
33RR20230722  ,I05        ,139     ,  1,20         ,20         ,2,20230828,0135, -33.9982,  53.6369,     4456,    805.8,2,   9.6648,2,  34.7332,2,  34.7331,2,    216.6,2,    216.3,2,     8.00,2,    17.69,2,     0.00,2,     1.24,2,    3.340,2,    1.787,2,   1.6100,2,   2149.3,2,   2292.9,2,   7.7385,2,    25.03,2,     -999,9,   9.6544,2,     -999,9,     -999,9,     -999,9,     -999,9,     -999,1,   4.9673,1,   0.0115,1,     13.6,2,     -999,9,     -999,9,     -999,9,     -999,9,20230828,0259, -33.9982,  53.6369,-999          ,9,-999          ,9
33RR20230722  ,I05        ,139     ,  1,19         ,19         ,2,20230828,0135, -33.9982,  53.6369,     4456,    920.7,2,   8.1738,2,  34.5744,2,  34.5739,2,    210.5,2,    210.3,2,    12.49,2,    21.89,2,     0.00,2,     1.51,2,     -999,9,     -999,9,     -999,9,   2164.9,2,   2288.1,2,   7.6952,2,    25.02,2,     -999,9,   8.1699,2,     -999,9,     -999,9,     -999,9,     -999,9,     -999,1,   4.9684,1,   0.0112,1,     -999,9,     -999,9,     -999,9,     -999,9,     -999,9,20230828,0256, -33.9982,  53.6369,-999          ,9,-999          ,9
33RR20230722  ,I05        ,139     ,  1,18         ,18         ,2,20230828,0135, -33.9982,  53.6369,     4456,   1041.1,2,   6.4236,2,  34.4287,2,  34.4245,2,    207.4,2,    207.6,2,    19.91,2,    26.41,2,     0.00,2,     1.81,2,    2.910,2,    1.601,2,   1.2600,2,   -999.0,9,     -999,9,     -999,9,     -999,9,     -999,9,   6.4652,2,     -999,9,     -999,9,     -999,9,     -999,9,     -999,1,   4.9694,1,   0.0113,1,     17.2,2,     -999,9,     -999,9,     -999,9,     -999,9,20230828,0253, -33.9982,  53.6369,-999          ,9,-999          ,9
33RR20230722  ,I05        ,139     ,  1,17         ,17         ,2,20230828,0135, -33.9982,  53.6369,     4456,   1168.8,2,   5.0575,2,  34.3663,2,  34.3676,2,    203.8,2,    204.4,2,    29.48,2,    29.51,2,     0.00,2,     2.03,2,    2.653,2,    1.360,2,   0.9600,2,   2195.4,2,   2292.2,2,   7.6267,2,    25.01,2,     -999,9,   5.0475,2,     -999,9,     -999,9,     -999,9,     -999,9,     -999,1,   4.9706,1,   0.0112,1,     18.8,2,     -999,9,     -999,9,     -999,9,     -999,9,20230828,0249, -33.9982,  53.6369,-999          ,9,-999          ,9
33RR20230722  ,I05        ,139     ,  1,16         ,16         ,2,20230828,0135, -33.9982,  53.6369,     4456,   1300.4,2,   4.0695,2,  34.3883,2,  34.3900,2,    191.6,2,    192.2,2,    42.66,2,    31.94,2,     0.00,2,     2.19,2,     -999,9,     -999,9,     -999,9,   2215.9,6,   2305.3,2,   7.5937,2,    24.98,2,     -999,9,   4.0597,2,     -999,9,     -999,9,     -999,9,     -999,9,     -999,1,   4.9721,1,   0.0111,1,     -999,9,     -999,9,     -999,9,     -999,9,     -999,9,20230828,0246, -33.9982,  53.6369,-999          ,9,-999          ,9
33RR20230722  ,I05        ,139     ,  1,15         ,15         ,2,20230828,0135, -33.9982,  53.6369,     4456,   1440.7,2,   3.5055,2,  34.4593,2,  34.4612,2,    179.7,2,    180.3,2,    54.86,2,    33.13,2,     0.00,2,     2.27,2,    1.181,2,    0.622,2,   0.3500,2,   2233.4,2,   2316.4,2,   7.5783,2,    25.01,2,     -999,9,   3.4930,2,     -999,9,     -999,9,     -999,9,     -999,9,     -999,1,   4.9734,1,   0.0111,1,     21.7,2,     -999,9,     -999,9,     -999,9,     -999,9,20230828,0242, -33.9982,  53.6369,-999          ,9,-999          ,9
33RR20230722  ,I05        ,139     ,  1,14         ,14         ,2,20230828,0135, -33.9982,  53.6369,     4456,   1584.5,2,   3.2034,2,  34.5248,2,  34.5254,2,    176.5,2,    176.3,2,    62.77,2,    33.19,2,     0.00,2,     2.30,2,    0.861,2,    0.410,2,   0.2300,2,   -999.0,9,     -999,9,     -999,9,     -999,9,     -999,9,   3.2029,2,     -999,9,     -999,9,     -999,9,     -999,9,     -999,1,   4.9736,1,   0.0112,1,     21.7,2,     -999,9,     -999,9,     -999,9,     -999,9,20230828,0239, -33.9982,  53.6369,-999          ,9,-999          ,9
33RR20230722  ,I05        ,139     ,  1,13         ,13         ,2,20230828,0135, -33.9982,  53.6369,     4456,   1731.0,2,   2.9387,2,  34.5817,2,  34.5832,2,    176.3,2,    176.0,2,    68.72,2,    32.88,2,     0.00,2,     2.28,2,     -999,9,     -999,9,     -999,9,   2245.7,2,   2333.3,2,   7.5827,2,    24.99,2,     -999,9,   2.9377,2,     -999,9,     -999,9,     -999,9,     -999,9,     -999,1,   4.9739,1,   0.0125,1,     -999,9,     -999,9,     -999,9,     -999,9,     -999,9,20230828,0235, -33.9982,  53.6369,-999          ,9,-999          ,9
33RR20230722  ,I05        ,139     ,  1,12         ,12         ,2,20230828,0135, -33.9982,  53.6369,     4456,   1890.4,2,   2.7041,2,  34.6341,2,  34.6348,2,    178.0,2,    177.6,2,    74.77,2,    32.44,2,     0.00,2,     2.24,2,    0.277,2,    0.163,2,   0.0300,2,   -999.0,9,     -999,9,     -999,9,     -999,9,     -999,9,   2.7046,2,     -999,9,     -999,9,     -999,9,     -999,9,     -999,1,   4.9744,1,   0.0112,1,     20.6,2,     -999,9,     -999,9,     -999,9,     -999,9,20230828,0232, -33.9982,  53.6369,-999          ,9,-999          ,9
33RR20230722  ,I05        ,139     ,  1,11         ,11         ,2,20230828,0135, -33.9982,  53.6369,     4456,   2071.5,2,   2.5095,2,  34.6759,2,  34.6769,2,    181.7,2,    181.8,2,    79.16,2,    31.87,2,     0.00,2,     2.22,2,    0.240,2,    0.111,2,   0.0600,2,   2248.8,2,   2344.1,2,   7.5990,6,    25.02,2,     -999,9,   2.5110,2,     -999,9,     -999,9,     -999,9,     -999,9,     -999,1,   4.8382,1,   0.0111,1,     20.3,2,     -999,9,     -999,9,     -999,9,     -999,9,20230828,0227, -33.9982,  53.6369,-999          ,9,-999          ,9
33RR20230722  ,I05        ,139     ,  1,10         ,10         ,2,20230828,0135, -33.9982,  53.6369,     4456,   2295.6,2,   2.3337,2,  34.7096,2,  34.7107,2,    185.8,2,    185.7,2,    83.64,2,    31.32,2,     0.00,2,     2.17,2,     -999,9,     -999,9,     -999,9,   2251.6,2,   2348.8,2,   7.6082,2,    25.00,2,     -999,9,   2.3324,2,     -999,9,     -999,9,     -999,9,     -999,9,     -999,1,   4.9747,1,   0.0112,1,     -999,9,     -999,9,     -999,9,     -999,9,     -999,9,20230828,0222, -33.9982,  53.6369,-999          ,9,-999          ,9
33RR20230722  ,I05        ,139     ,  1,9          ,9          ,2,20230828,0135, -33.9982,  53.6369,     4456,   2575.5,2,   2.0933,2,  34.7317,2,  34.7329,2,    191.9,2,    192.0,2,    88.52,2,    30.86,2,     0.00,2,     2.14,2,    0.114,6,    0.058,6,   0.0400,6,   2252.3,2,   2352.5,2,   7.6166,2,    24.99,2,     -999,9,   2.0928,2,     -999,9,     -999,9,     -999,9,     -999,9,     -999,1,   4.9748,1,   0.0122,1,     19.1,6,     -999,9,     -999,9,     -999,9,     -999,9,20230828,0217, -33.9982,  53.6369,-999          ,9,-999          ,9
33RR20230722  ,I05        ,139     ,  1,8          ,8          ,2,20230828,0135, -33.9982,  53.6369,     4456,   2833.1,2,   1.8577,2,  34.7344,2,  34.7353,2,    195.8,2,    196.3,2,    94.18,2,    30.90,2,     0.00,2,     2.15,2,    0.126,2,    0.062,2,   0.0300,2,   2253.9,2,   2354.5,2,   7.6174,2,    25.03,2,     -999,9,   1.8596,2,     -999,9,     -999,9,     -999,9,     -999,9,     -999,1,   4.9747,1,   0.0119,1,     18.8,2,     -999,9,     -999,9,     -999,9,     -999,9,20230828,0211, -33.9982,  53.6369,-999          ,9,-999          ,9
33RR20230722  ,I05        ,139     ,  1,7          ,7          ,2,20230828,0135, -33.9982,  53.6369,     4456,   3011.4,2,   1.7042,2,  34.7316,2,  34.7327,2,    198.3,2,    198.5,2,    98.57,2,    30.96,2,     0.00,2,     2.16,2,     -999,9,     -999,9,     -999,9,   2254.9,2,   2356.4,6,   7.6168,2,    25.01,2,     -999,9,   1.7040,2,     -999,9,     -999,9,     -999,9,     -999,9,     -999,1,   4.9752,1,   0.0115,1,     -999,9,     -999,9,     -999,9,     -999,9,     -999,9,20230828,0207, -33.9982,  53.6369,-999          ,9,-999          ,9
33RR20230722  ,I05        ,139     ,  1,6          ,6          ,2,20230828,0135, -33.9982,  53.6369,     4456,   3199.0,2,   1.5500,2,  34.7295,2,  34.7304,2,    201.7,2,    201.9,2,   101.79,2,    31.11,2,     0.00,2,     2.15,2,    0.137,2,    0.075,2,   0.0300,2,   2254.5,2,   2354.9,2,   7.6181,6,    25.00,2,     -999,9,   1.5505,2,     -999,9,     -999,9,     -999,9,     -999,9,     -999,1,   4.9753,1,   0.0112,1,     18.2,2,     -999,9,     -999,9,     -999,9,     -999,9,20230828,0203, -33.9982,  53.6369,-999          ,9,-999          ,9
33RR20230722  ,I05        ,139     ,  1,5          ,5          ,2,20230828,0135, -33.9982,  53.6369,     4456,   3520.5,2,   1.3242,2,  34.7224,2,  34.7233,2,    205.3,2,    205.9,2,   108.14,2,    31.38,2,     0.00,2,     2.16,2,    0.200,2,    0.092,2,   0.0100,2,   2254.8,2,   2357.1,2,   7.6158,2,    25.00,2,     -999,9,   1.3243,2,     -999,9,     -999,9,     -999,9,     -999,9,     -999,1,   4.9301,1,   0.0120,1,     18.0,2,     -999,9,     -999,9,     -999,9,     -999,9,20230828,0156, -33.9982,  53.6369,-999          ,9,-999          ,9
33RR20230722  ,I05        ,139     ,  1,4          ,37         ,2,20230828,0135, -33.9982,  53.6369,     4456,   3905.1,2,   1.1486,2,  34.7147,2,  34.7144,2,    208.6,2,    209.0,2,   112.92,2,    31.55,2,     0.00,2,     2.18,2,    0.197,2,    0.107,2,   0.0500,2,   -999.0,9,     -999,9,     -999,9,     -999,9,     -999,9,   1.1477,2,     -999,9,     -999,9,     -999,9,     -999,9,     -999,1,   4.9756,1,   0.0112,1,     18.2,2,     -999,9,     -999,9,     -999,9,     -999,9,20230828,0149, -33.9982,  53.6369,-999          ,9,-999          ,9
33RR20230722  ,I05        ,139     ,  1,3          ,3          ,2,20230828,0135, -33.9982,  53.6369,     4456,   4186.3,2,   1.1262,2,  34.7129,2,  34.7125,2,    209.6,2,    209.9,2,   114.97,2,    31.59,2,     0.00,2,     2.17,2,    0.264,2,    0.117,2,   0.0100,2,   2257.8,2,   2356.8,2,   7.6141,2,    25.03,2,     -999,9,   1.1262,2,     -999,9,     -999,9,     -999,9,     -999,9,     -999,1,   4.9759,1,   0.0124,1,     17.7,2,     -999,9,     -999,9,     -999,9,     -999,9,20230828,0143, -33.9982,  53.6369,-999          ,9,-999          ,9