BOTTLE,20240422CCHHYDRO
EXPOCODE,SECT_ID,STNNBR,CASTNO,SAMPNO,BTLNBR,BTLNBR_FLAG_W,DATE,TIME,LATITUDE,LONGITUDE,DEPTH,CTDPRS,CTDPRS_FLAG_W,CTDTMP,CTDTMP_FLAG_W,CTDSAL,CTDSAL_FLAG_W,SALNTY,SALNTY_FLAG_W,CTDOXY,CTDOXY_FLAG_W,OXYGEN,OXYGEN_FLAG_W,SILCAT,SILCAT_FLAG_W,NITRAT,NITRAT_FLAG_W,NITRIT,NITRIT_FLAG_W,PHSPHT,PHSPHT_FLAG_W,CFC-11,CFC-11_FLAG_W,CFC-12,CFC-12_FLAG_W,SF6,SF6_FLAG_W,TCARBN,TCARBN_FLAG_W,ALKALI,ALKALI_FLAG_W,PH_TOT,PH_TOT_FLAG_W,PH_TMP,PH_TMP_FLAG_W,DOC,DOC_FLAG_W,REFTMP,REFTMP_FLAG_W,POC,POC_FLAG_W,PON,PON_FLAG_W,POP,POP_FLAG_W,DOP,DOP_FLAG_W,DELO18,DELO18_FLAG_W,CTDFLUOR,CTDFLUOR_FLAG_W,CTDXMISS,CTDXMISS_FLAG_W,N2O,N2O_FLAG_W,D15N_NO3,D15N_NO3_FLAG_W,D15N_NO2+NO3,D15N_NO2+NO3_FLAG_W,D18O_NO2+NO3,D18O_NO2+NO3_FLAG_W,D18O_NO3,D18O_NO3_FLAG_W,BTL_DATE,BTL_TIME,BTL_LAT,BTL_LON,HPLC,HPLC_FLAG_W,DNA,DNA_FLAG_W
,,,,,,,,,,,METERS,DBAR,,ITS-90,,PSS-78,,PSS-78,,UMOL/KG,,UMOL/KG,,UMOL/KG,,UMOL/KG,,UMOL/KG,,UMOL/KG,,PMOL/KG,,PMOL/KG,,FMOL/KG,,UMOL/KG,,UMOL/KG,,,,DEG C,,UMOL/KG,,ITS-90,,UG/KG,,UG/KG,,UG/L,,UMOL/KG,,/MILLE,,VOLTS,,VOLTS,,NMOL/KG,,/MILLE,,/MILLE,,/MILLE,,/MILLE,,,,,,,,,
33RR20230722  ,I05        ,173     ,  2,36         ,38         ,2,20230905,1303, -32.9997,  36.4805,     -999,      4.7,2,  18.7520,2,  35.6679,2,  35.6672,2,    235.7,2,    235.7,2,     1.76,2,     0.00,2,     0.00,2,     0.09,2,     -999,9,     -999,9,     -999,9,   2065.3,6,   2336.0,2,   7.9846,2,    24.98,2,     -999,1,  18.7478,2,     -999,9,     -999,9,     -999,9,     -999,9,     -999,9,   4.8453,1,   0.0293,1,     -999,9,     -999,9,     -999,9,     -999,9,     -999,9,20230905,1447, -32.9997,  36.4805,-999          ,9,-999          ,9
33RR20230722  ,I05        ,173     ,  2,35         ,35         ,2,20230905,1303, -32.9997,  36.4805,     -999,     14.9,2,  18.6919,2,  35.6697,2,  35.6680,2,    235.9,2,    235.8,2,     1.76,2,     0.00,2,     0.00,2,     0.10,2,     -999,9,     -999,9,     -999,9,   -999.0,9,     -999,9,     -999,9,     -999,9,     -999,9,  18.6944,2,     -999,9,     -999,9,     -999,9,     -999,9,     -999,9,   4.9755,1,   0.0333,1,     -999,9,     -999,9,     -999,9,     -999,9,     -999,9,20230905,1446, -32.9997,  36.4805,-999          ,9,-999          ,9
33RR20230722  ,I05        ,173     ,  2,34         ,34         ,2,20230905,1303, -32.9997,  36.4805,     -999,     27.1,2,  18.5930,2,  35.6667,2,  35.6652,2,    235.3,2,    235.6,2,     1.76,2,     0.00,2,     0.00,2,     0.09,2,     -999,9,     -999,9,     -999,9,   2065.7,2,   2333.7,2,   7.9820,2,    24.99,2,     -999,9,  18.5909,2,     -999,9,     -999,9,     -999,9,     -999,9,     -999,9,   4.8363,1,   0.0414,1,     -999,9,     -999,9,     -999,9,     -999,9,     -999,9,20230905,1444, -32.9997,  36.4805,-999          ,9,-999          ,9
33RR20230722  ,I05        ,173     ,  2,33         ,33         ,2,20230905,1303, -32.9997,  36.4805,     -999,     44.1,2,  18.5759,2,  35.6623,2,  35.6603,2,    234.9,2,    234.4,2,     1.76,2,     0.00,2,     0.02,2,     0.09,2,     -999,9,     -999,9,     -999,9,   2066.8,2,   2334.9,2,   7.9828,2,    25.00,2,     -999,9,  18.5699,2,     -999,9,     -999,9,     -999,9,     -999,9,     -999,9,   4.9750,1,   0.0512,1,     -999,9,     -999,9,     -999,9,     -999,9,     -999,9,20230905,1443, -32.9996,  36.4805,-999          ,9,-999          ,9
33RR20230722  ,I05        ,173     ,  2,32         ,32         ,2,20230905,1303, -32.9997,  36.4805,     -999,     65.3,2,  18.4262,2,  35.6744,2,  35.6735,2,    231.7,2,    231.5,2,     1.66,2,     0.00,2,     0.13,2,     0.10,2,     -999,9,     -999,9,     -999,9,   2069.4,2,   2335.0,2,   7.9764,2,    24.98,2,     -999,9,  18.4260,2,     -999,9,     -999,9,     -999,9,     -999,9,     -999,9,   4.9736,1,   0.0358,1,     -999,9,     -999,9,     -999,9,     -999,9,     -999,9,20230905,1441, -32.9997,  36.4805,-999          ,9,-999          ,9
33RR20230722  ,I05        ,173     ,  2,31         ,31         ,2,20230905,1303, -32.9997,  36.4805,     -999,     90.1,2,  18.1658,2,  35.6654,2,  35.6644,2,    225.9,2,    227.1,2,     1.95,2,     0.62,2,     0.22,2,     0.15,2,     -999,9,     -999,9,     -999,9,   2075.7,2,   2333.3,2,   7.9621,2,    25.00,2,     -999,9,  18.1650,2,     -999,9,     -999,9,     -999,9,     -999,9,     -999,9,   4.9721,1,   0.0217,1,     -999,9,     -999,9,     -999,9,     -999,9,     -999,9,20230905,1439, -32.9997,  36.4805,-999          ,9,-999          ,9
33RR20230722  ,I05        ,173     ,  2,30         ,30         ,2,20230905,1303, -32.9997,  36.4805,     -999,    117.7,2,  18.0221,2,  35.6748,2,  35.6739,2,    231.3,2,    231.2,2,     1.85,2,     0.18,2,     0.38,2,     0.13,2,     -999,9,     -999,9,     -999,9,   2073.5,2,   2334.4,2,   7.9685,6,    24.95,2,     -999,9,  18.0214,2,     -999,9,     -999,9,     -999,9,     -999,9,     -999,9,   4.9730,1,   0.0193,1,     -999,9,     -999,9,     -999,9,     -999,9,     -999,9,20230905,1437, -32.9997,  36.4804,-999          ,9,-999          ,9
33RR20230722  ,I05        ,173     ,  2,29         ,29         ,2,20230905,1303, -32.9997,  36.4805,     -999,    149.7,2,  17.9085,2,  35.6782,2,  35.6767,2,    231.4,2,    231.5,2,     1.85,2,     0.18,2,     0.45,2,     0.12,2,    1.842,2,    1.294,2,   2.1200,2,   2075.8,2,   2336.3,2,   7.9641,2,    24.97,2,     -999,9,  17.9071,2,     -999,9,     -999,9,     -999,9,     -999,9,     -999,9,   4.9726,1,   0.0167,1,      8.3,2,     -999,9,     -999,9,     -999,9,     -999,9,20230905,1435, -32.9997,  36.4804,-999          ,9,-999          ,9
33RR20230722  ,I05        ,173     ,  2,28         ,28         ,2,20230905,1303, -32.9997,  36.4805,     -999,    183.3,2,  17.8541,2,  35.6800,2,  35.6788,2,    232.1,2,    232.0,2,     1.85,2,     0.13,2,     0.48,2,     0.13,2,     -999,9,     -999,9,     -999,9,   2076.9,2,   2334.1,2,   7.9632,6,    24.98,2,     -999,9,  17.8530,2,     -999,9,     -999,9,     -999,9,     -999,9,     -999,9,   4.9724,1,   0.0150,1,     -999,9,     -999,9,     -999,9,     -999,9,     -999,9,20230905,1434, -32.9997,  36.4805,-999          ,9,-999          ,9
33RR20230722  ,I05        ,173     ,  2,27         ,27         ,2,20230905,1303, -32.9997,  36.4805,     -999,    216.3,2,  17.8175,2,  35.6790,2,  35.6782,2,    231.7,2,    231.9,2,     1.85,2,     0.35,2,     0.35,2,     0.13,2,     -999,9,     -999,9,     -999,9,   2075.1,2,   2335.1,2,   7.9606,2,    24.98,2,     -999,9,  17.8164,2,     -999,9,     -999,9,     -999,9,     -999,9,     -999,9,   4.9720,1,   0.0127,1,     -999,9,     -999,9,     -999,9,     -999,9,     -999,9,20230905,1432, -32.9996,  36.4805,-999          ,9,-999          ,9
33RR20230722  ,I05        ,173     ,  2,26         ,26         ,2,20230905,1303, -32.9997,  36.4805,     -999,    243.8,2,  17.3745,2,  35.6161,2,  35.6157,2,    214.2,2,    215.2,2,     2.44,2,     2.85,2,     0.02,2,     0.27,2,    1.931,2,    1.324,2,   2.1300,2,   2092.0,2,   2330.6,6,   7.9263,2,    24.98,2,     -999,9,  17.3719,2,     -999,9,     -999,9,     -999,9,     -999,9,     -999,9,   4.7733,1,   0.0117,1,      9.0,2,     -999,9,     -999,9,     -999,9,     -999,9,20230905,1430, -32.9997,  36.4805,-999          ,9,-999          ,9
33RR20230722  ,I05        ,173     ,  2,25         ,25         ,2,20230905,1303, -32.9997,  36.4805,     -999,    272.0,2,  16.6567,2,  35.5699,2,  35.5705,2,    210.4,2,    210.7,2,     2.93,2,     4.26,2,     0.00,2,     0.37,2,     -999,9,     -999,9,     -999,9,   -999.0,9,     -999,9,     -999,9,     -999,9,     -999,9,  16.6728,2,     -999,9,     -999,9,     -999,9,     -999,9,     -999,9,   4.9682,1,   0.0117,1,     -999,9,     -999,9,     -999,9,     -999,9,     -999,9,20230905,1429, -32.9997,  36.4805,-999          ,9,-999          ,9
33RR20230722  ,I05        ,173     ,  2,24         ,24         ,2,20230905,1303, -32.9997,  36.4805,     -999,    313.3,2,  15.9627,2,  35.5178,2,  35.5164,2,    213.3,2,    213.9,2,     3.12,2,     5.08,2,     0.00,2,     0.42,2,     -999,9,     -999,9,     -999,9,   2108.2,2,   2324.2,2,   7.8869,2,    24.97,2,     -999,9,  15.9584,2,     -999,9,     -999,9,     -999,9,     -999,9,     -999,9,   4.8759,1,   0.0119,1,     -999,9,     -999,9,     -999,9,     -999,9,     -999,9,20230905,1427, -32.9997,  36.4804,-999          ,9,-999          ,9
33RR20230722  ,I05        ,173     ,  2,23         ,23         ,2,20230905,1303, -32.9997,  36.4805,     -999,    368.2,2,  15.2344,2,  35.4463,2,  35.4502,2,    211.9,2,    212.3,2,     3.41,2,     6.22,2,     0.00,2,     0.51,2,    2.237,2,    1.469,2,   2.1100,2,   -999.0,9,     -999,9,     -999,9,     -999,9,     -999,9,  15.2293,2,     -999,9,     -999,9,     -999,9,     -999,9,     -999,9,   4.9674,1,   0.0120,1,     10.0,2,     -999,9,     -999,9,     -999,9,     -999,9,20230905,1425, -32.9997,  36.4805,-999          ,9,-999          ,9
33RR20230722  ,I05        ,173     ,  2,22         ,22         ,2,20230905,1303, -32.9997,  36.4805,     -999,    415.6,2,  14.4561,2,  35.3698,2,  35.3709,2,    217.8,2,    217.4,2,     3.32,2,     6.98,2,     0.00,2,     0.55,2,     -999,9,     -999,9,     -999,9,   2117.0,2,   2319.1,2,   7.8557,2,    24.99,2,     -999,9,  14.4663,2,     -999,9,     -999,9,     -999,9,     -999,9,     -999,9,   4.9457,1,   0.0117,1,     -999,9,     -999,9,     -999,9,     -999,9,     -999,9,20230905,1423, -32.9997,  36.4805,-999          ,9,-999          ,9
33RR20230722  ,I05        ,173     ,  2,21         ,21         ,2,20230905,1303, -32.9997,  36.4805,     -999,    458.0,2,  13.9676,2,  35.3171,2,  35.3161,2,    219.0,2,    218.9,2,     3.32,2,     7.83,2,     0.00,2,     0.61,2,     -999,9,     -999,9,     -999,9,   -999.0,9,     -999,9,     -999,9,     -999,9,     -999,9,  13.9679,2,     -999,9,     -999,9,     -999,9,     -999,9,     -999,9,   4.8418,1,   0.0117,1,     -999,9,     -999,9,     -999,9,     -999,9,     -999,9,20230905,1421, -32.9997,  36.4805,-999          ,9,-999          ,9
33RR20230722  ,I05        ,173     ,  2,20         ,20         ,2,20230905,1303, -32.9997,  36.4805,     -999,    522.0,2,  13.2958,2,  35.2422,2,  35.2367,2,    222.6,2,    222.7,2,     3.51,2,     8.95,2,     0.00,2,     0.67,2,    2.538,2,    1.647,2,   2.1300,2,   2125.1,2,   2314.2,2,   7.8292,2,    24.99,2,     -999,9,  13.2907,2,     -999,9,     -999,9,     -999,9,     -999,9,     -999,9,   4.9668,1,   0.0116,1,     10.9,2,     -999,9,     -999,9,     -999,9,     -999,9,20230905,1419, -32.9997,  36.4805,-999          ,9,-999          ,9
33RR20230722  ,I05        ,173     ,  2,19         ,19         ,2,20230905,1303, -32.9997,  36.4805,     -999,    607.4,2,  12.5248,2,  35.1367,2,  35.1376,2,    223.1,2,    222.7,2,     4.00,2,    10.54,2,     0.00,2,     0.79,2,     -999,9,     -999,9,     -999,9,   -999.0,9,     -999,9,     -999,9,     -999,9,     -999,9,  12.5263,2,     -999,9,     -999,9,     -999,9,     -999,9,     -999,9,   4.9667,1,   0.0115,1,     -999,9,     -999,9,     -999,9,     -999,9,     -999,9,20230905,1416, -32.9997,  36.4804,-999          ,9,-999          ,9
33RR20230722  ,I05        ,173     ,  2,18         ,18         ,2,20230905,1303, -32.9997,  36.4805,     -999,    702.0,2,  11.4211,2,  34.9717,2,  34.9701,2,    221.6,2,    221.0,2,     4.78,2,    13.21,2,     0.00,2,     0.96,2,     -999,9,     -999,9,     -999,9,   2135.9,2,   2303.9,2,   7.7855,2,    24.99,2,     -999,9,  11.4299,2,     -999,9,     -999,9,     -999,9,     -999,9,     -999,9,   4.9665,1,   0.0113,1,     -999,9,     -999,9,     -999,9,     -999,9,     -999,9,20230905,1413, -32.9997,  36.4805,-999          ,9,-999          ,9
33RR20230722  ,I05        ,173     ,  2,17         ,17         ,2,20230905,1303, -32.9997,  36.4805,     -999,    800.5,2,  10.1798,2,  34.8031,2,  34.8025,2,    217.9,2,    217.8,2,     6.64,2,    16.41,2,     0.00,2,     1.16,2,    2.985,2,    1.795,2,   1.6200,2,   -999.0,9,     -999,9,     -999,9,     -999,9,     -999,9,  10.1763,2,     -999,9,     -999,9,     -999,9,     -999,9,     -999,9,   4.8706,1,   0.0114,1,     13.6,2,     -999,9,     -999,9,     -999,9,     -999,9,20230905,1410, -32.9997,  36.4805,-999          ,9,-999          ,9
33RR20230722  ,I05        ,173     ,  2,16         ,16         ,2,20230905,1303, -32.9997,  36.4805,     -999,    906.5,2,   9.1100,2,  34.6791,2,  34.6779,2,    213.0,2,    213.1,2,     9.66,2,    19.45,2,     0.00,2,     1.38,2,     -999,9,     -999,9,     -999,9,   2155.2,2,   2293.9,2,   7.7231,2,    24.97,2,     -999,9,   9.1057,2,     -999,9,     -999,9,     -999,9,     -999,9,     -999,9,   4.9215,1,   0.0112,1,     -999,9,     -999,9,     -999,9,     -999,9,     -999,9,20230905,1408, -32.9997,  36.4804,-999          ,9,-999          ,9
33RR20230722  ,I05        ,173     ,  2,15         ,15         ,2,20230905,1303, -32.9997,  36.4805,     -999,   1012.0,2,   7.6016,2,  34.5409,2,  34.5362,2,    205.1,2,    204.4,2,    16.20,2,    23.89,2,     0.00,2,     1.65,2,     -999,9,     -999,9,     -999,9,   -999.0,9,     -999,9,     -999,9,     -999,9,     -999,9,   7.6048,2,     -999,9,     -999,9,     -999,9,     -999,9,     -999,9,   4.6895,1,   0.0113,1,     -999,9,     -999,9,     -999,9,     -999,9,     -999,9,20230905,1405, -32.9997,  36.4805,-999          ,9,-999          ,9
33RR20230722  ,I05        ,173     ,  2,14         ,14         ,2,20230905,1303, -32.9997,  36.4805,     -999,   1119.0,2,   6.2987,2,  34.4540,2,  34.4530,2,    198.4,2,    199.4,2,    24.11,2,    27.27,2,     0.00,2,     1.87,2,    2.418,2,    1.393,2,   0.9900,2,   2186.1,2,   2293.7,2,   7.6422,6,    24.98,2,     -999,9,   6.2993,2,     -999,9,     -999,9,     -999,9,     -999,9,     -999,9,   4.9702,1,   0.0112,1,     18.6,2,     -999,9,     -999,9,     -999,9,     -999,9,20230905,1402, -32.9997,  36.4805,-999          ,9,-999          ,9
33RR20230722  ,I05        ,173     ,  2,13         ,13         ,2,20230905,1303, -32.9997,  36.4805,     -999,   1231.5,2,   5.1330,2,  34.4286,2,  34.4288,2,    189.7,2,    189.9,2,    35.53,2,    30.21,2,     0.00,2,     2.11,2,     -999,9,     -999,9,     -999,9,   2207.3,2,   2301.6,2,   7.6108,2,    25.01,2,     -999,9,   5.1343,2,     -999,9,     -999,9,     -999,9,     -999,9,     -999,9,   4.9713,1,   0.0111,1,     -999,9,     -999,9,     -999,9,     -999,9,     -999,9,20230905,1359, -32.9997,  36.4805,-999          ,9,-999          ,9
33RR20230722  ,I05        ,173     ,  2,12         ,12         ,2,20230905,1303, -32.9997,  36.4805,     -999,   1353.6,2,   4.3491,2,  34.4421,2,  34.4408,2,    182.0,2,    182.6,2,    45.68,2,    31.95,2,     0.00,2,     2.24,2,     -999,9,     -999,9,     -999,9,   2223.1,2,   2308.8,2,   7.5915,2,    24.98,2,     -999,9,   4.3499,2,     -999,9,     -999,9,     -999,9,     -999,9,     -999,9,   4.8739,1,   0.0113,1,     -999,9,     -999,9,     -999,9,     -999,9,     -999,9,20230905,1356, -32.9997,  36.4805,-999          ,9,-999          ,9
33RR20230722  ,I05        ,173     ,  2,11         ,11         ,2,20230905,1303, -32.9997,  36.4805,     -999,   1483.2,2,   3.9955,2,  34.5079,2,  34.5076,2,    169.2,2,    169.4,2,    56.90,2,    33.10,2,     0.00,2,     2.31,2,    0.965,2,    0.531,2,   0.2900,2,   2236.4,2,   2321.9,2,   7.5760,2,    24.98,2,     -999,9,   3.9970,2,     -999,9,     -999,9,     -999,9,     -999,9,     -999,9,   4.9735,1,   0.0111,1,     23.5,2,     -999,9,     -999,9,     -999,9,     -999,9,20230905,1353, -32.9997,  36.4804,-999          ,9,-999          ,9
33RR20230722  ,I05        ,173     ,  2,10         ,10         ,2,20230905,1303, -32.9997,  36.4805,     -999,   1618.3,2,   3.5108,2,  34.5577,2,  34.5569,2,    167.3,2,    167.1,2,    64.41,2,    33.45,2,     0.00,2,     2.34,2,     -999,9,     -999,9,     -999,9,   -999.0,9,     -999,9,     -999,9,     -999,9,     -999,9,   3.5106,2,     -999,9,     -999,9,     -999,9,     -999,9,     -999,9,   4.9073,1,   0.0111,1,     -999,9,     -999,9,     -999,9,     -999,9,     -999,9,20230905,1349, -32.9997,  36.4805,-999          ,9,-999          ,9
33RR20230722  ,I05        ,173     ,  2,9          ,9          ,2,20230905,1303, -32.9997,  36.4805,     -999,   1766.1,2,   3.2431,2,  34.6218,2,  34.6219,2,    166.5,2,    165.9,2,    71.15,2,    33.12,2,     0.00,2,     2.33,2,    0.372,2,    0.206,2,   0.0700,2,   2252.9,2,   2338.8,2,   7.5782,2,    24.98,2,     -999,9,   3.2434,2,     -999,9,     -999,9,     -999,9,     -999,9,     -999,9,   4.6793,1,   0.0111,1,     23.2,2,     -999,9,     -999,9,     -999,9,     -999,9,20230905,1346, -32.9997,  36.4805,-999          ,9,-999          ,9
33RR20230722  ,I05        ,173     ,  2,8          ,8          ,2,20230905,1303, -32.9997,  36.4805,     -999,   1938.6,2,   2.9633,2,  34.6910,2,  34.6901,2,    172.3,2,    172.0,2,    74.36,2,    32.04,2,     0.00,2,     2.25,2,     -999,9,     -999,9,     -999,9,   -999.0,9,     -999,9,     -999,9,     -999,9,     -999,9,   2.9631,2,     -999,9,     -999,9,     -999,9,     -999,9,     -999,9,   4.9741,1,   0.0111,1,     -999,9,     -999,9,     -999,9,     -999,9,     -999,9,20230905,1342, -32.9997,  36.4805,-999          ,9,-999          ,9
33RR20230722  ,I05        ,173     ,  2,7          ,7          ,2,20230905,1303, -32.9997,  36.4805,     -999,   2153.8,2,   2.7241,2,  34.7449,2,  34.7429,2,    187.6,2,    187.8,2,    69.97,2,    30.08,2,     0.00,2,     2.10,2,    0.103,2,    0.059,2,   0.0300,2,   2241.4,2,   2342.3,2,   7.6174,2,    25.02,2,     -999,9,   2.7243,2,     -999,9,     -999,9,     -999,9,     -999,9,     -999,9,   4.9737,1,   0.0114,1,     20.2,2,     -999,9,     -999,9,     -999,9,     -999,9,20230905,1337, -32.9997,  36.4805,-999          ,9,-999          ,9
33RR20230722  ,I05        ,173     ,  2,6          ,6          ,2,20230905,1303, -32.9997,  36.4805,     -999,   2421.3,2,   2.5716,2,  34.7838,2,  34.7832,2,    200.1,2,    200.6,2,    66.94,2,    28.43,2,     0.00,2,     1.98,2,     -999,9,     -999,9,     -999,9,   -999.0,9,     -999,9,     -999,9,     -999,9,     -999,9,   2.5706,2,     -999,9,     -999,9,     -999,9,     -999,9,     -999,9,   4.9735,1,   0.0110,1,     -999,9,     -999,9,     -999,9,     -999,9,     -999,9,20230905,1332, -32.9997,  36.4805,-999          ,9,-999          ,9
33RR20230722  ,I05        ,173     ,  2,5          ,5          ,2,20230905,1303, -32.9997,  36.4805,     -999,   2737.7,2,   2.3991,2,  34.8018,2,  34.8013,2,    209.1,2,    209.6,2,    67.04,2,    27.57,2,     0.00,2,     1.91,2,    0.055,2,    0.036,2,   0.0500,2,   2227.2,2,   2342.4,6,   7.6528,6,    25.01,2,     -999,9,   2.3990,2,     -999,9,     -999,9,     -999,9,     -999,9,     -999,9,   4.6892,1,   0.0113,1,     17.6,2,     -999,9,     -999,9,     -999,9,     -999,9,20230905,1325, -32.9997,  36.4805,-999          ,9,-999          ,9
33RR20230722  ,I05        ,173     ,  2,4          ,37         ,2,20230905,1303, -32.9997,  36.4805,     -999,   3093.9,2,   2.1844,2,  34.8048,2,  34.8041,2,    214.9,2,    215.3,2,    70.45,2,    27.33,2,     0.00,2,     1.90,2,     -999,9,     -999,9,     -999,9,   -999.0,9,     -999,9,     -999,9,     -999,9,     -999,9,   2.1840,2,     -999,9,     -999,9,     -999,9,     -999,9,     -999,9,   4.9740,1,   0.0111,1,     -999,9,     -999,9,     -999,9,     -999,9,     -999,9,20230905,1318, -32.9997,  36.4805,-999          ,9,-999          ,9
33RR20230722  ,I05        ,173     ,  2,3          ,3          ,2,20230905,1303, -32.9997,  36.4805,     -999,   3412.1,2,   1.8578,2,  34.7863,2,  34.7858,2,    216.0,2,    216.0,2,    80.80,2,    28.15,2,     0.00,2,     1.96,2,    0.047,2,    0.029,2,  -0.0200,2,   2236.4,2,   2349.6,2,   7.6526,6,    25.01,2,     -999,9,   1.8571,2,     -999,9,     -999,9,     -999,9,     -999,9,     -999,9,   4.9743,1,   0.0117,1,     17.1,2,     -999,9,     -999,9,     -999,9,     -999,9,20230905,1312, -32.9997,  36.4805,-999          ,9,-999          ,9