BOTTLE,20240422CCHHYDRO
EXPOCODE,SECT_ID,STNNBR,CASTNO,SAMPNO,BTLNBR,BTLNBR_FLAG_W,DATE,TIME,LATITUDE,LONGITUDE,DEPTH,CTDPRS,CTDPRS_FLAG_W,CTDTMP,CTDTMP_FLAG_W,CTDSAL,CTDSAL_FLAG_W,SALNTY,SALNTY_FLAG_W,CTDOXY,CTDOXY_FLAG_W,OXYGEN,OXYGEN_FLAG_W,SILCAT,SILCAT_FLAG_W,NITRAT,NITRAT_FLAG_W,NITRIT,NITRIT_FLAG_W,PHSPHT,PHSPHT_FLAG_W,CFC-11,CFC-11_FLAG_W,CFC-12,CFC-12_FLAG_W,SF6,SF6_FLAG_W,TCARBN,TCARBN_FLAG_W,ALKALI,ALKALI_FLAG_W,PH_TOT,PH_TOT_FLAG_W,PH_TMP,PH_TMP_FLAG_W,DOC,DOC_FLAG_W,REFTMP,REFTMP_FLAG_W,POC,POC_FLAG_W,PON,PON_FLAG_W,POP,POP_FLAG_W,DOP,DOP_FLAG_W,DELO18,DELO18_FLAG_W,CTDFLUOR,CTDFLUOR_FLAG_W,CTDXMISS,CTDXMISS_FLAG_W,N2O,N2O_FLAG_W,D15N_NO3,D15N_NO3_FLAG_W,D15N_NO2+NO3,D15N_NO2+NO3_FLAG_W,D18O_NO2+NO3,D18O_NO2+NO3_FLAG_W,D18O_NO3,D18O_NO3_FLAG_W,BTL_DATE,BTL_TIME,BTL_LAT,BTL_LON,HPLC,HPLC_FLAG_W,DNA,DNA_FLAG_W
,,,,,,,,,,,METERS,DBAR,,ITS-90,,PSS-78,,PSS-78,,UMOL/KG,,UMOL/KG,,UMOL/KG,,UMOL/KG,,UMOL/KG,,UMOL/KG,,PMOL/KG,,PMOL/KG,,FMOL/KG,,UMOL/KG,,UMOL/KG,,,,DEG C,,UMOL/KG,,ITS-90,,UG/KG,,UG/KG,,UG/L,,UMOL/KG,,/MILLE,,VOLTS,,VOLTS,,NMOL/KG,,/MILLE,,/MILLE,,/MILLE,,/MILLE,,,,,,,,,
33RR20230722  ,I05        ,100     ,  2,36         ,38         ,2,20230817,1507, -33.9991,  71.9854,     4839,      7.6,2,  16.4823,2,  35.5382,2,  35.5383,2,    245.3,2,    244.8,2,     0.98,2,     0.06,2,     0.01,2,     0.17,2,    1.441,3,    1.336,2,   2.1900,2,   2084.1,6,   2336.0,2,   7.9488,2,    24.99,2,     -999,1,  16.4781,2,     -999,9,     -999,9,     -999,9,     -999,9,     -999,1,   4.9755,1,   0.0499,1,      6.8,2,     -999,9,     -999,9,     -999,9,     -999,9,20230817,1718, -33.9991,  71.9854,-999          ,9,-999          ,9
33RR20230722  ,I05        ,100     ,  2,35         ,35         ,2,20230817,1507, -33.9991,  71.9854,     4839,     25.9,2,  16.4870,2,  35.5390,2,  35.5387,2,    245.1,2,    244.6,2,     0.98,2,     0.02,2,     0.01,2,     0.15,2,     -999,9,     -999,9,     -999,9,   2083.8,2,   2337.6,2,   7.9491,6,    24.99,2,     -999,1,  16.4849,2,     -999,9,     -999,9,     -999,9,     -999,9,     -999,1,   4.8368,1,   0.0481,1,     -999,9,     -999,9,     -999,9,     -999,9,     -999,9,20230817,1716, -33.9991,  71.9854,-999          ,9,-999          ,9
33RR20230722  ,I05        ,100     ,  2,34         ,34         ,2,20230817,1507, -33.9991,  71.9854,     4839,     49.1,2,  16.4680,2,  35.5354,2,  35.5356,2,    244.9,2,    244.9,2,     0.98,2,     0.00,2,     0.01,2,     0.15,2,     -999,9,     -999,9,     -999,9,   2080.3,2,   2335.2,2,   7.9480,2,    25.01,2,     -999,1,  16.4705,2,     -999,9,     -999,9,     -999,9,     -999,9,     -999,1,   4.9751,1,   0.0480,1,     -999,9,     -999,9,     -999,9,     -999,9,     -999,9,20230817,1714, -33.9990,  71.9854,-999          ,9,-999          ,9
33RR20230722  ,I05        ,100     ,  2,33         ,33         ,2,20230817,1507, -33.9991,  71.9854,     4839,     71.3,2,  16.4541,2,  35.5383,2,  35.5352,2,    243.9,2,    244.3,2,     0.98,2,     0.07,2,     0.03,2,     0.17,2,     -999,9,     -999,9,     -999,9,   2084.9,2,   2336.4,2,   7.9455,2,    25.00,2,     -999,1,  16.4415,2,     -999,9,     -999,9,     -999,9,     -999,9,     -999,1,   4.9750,1,   0.0481,1,     -999,9,     -999,9,     -999,9,     -999,9,     -999,9,20230817,1712, -33.9991,  71.9854,-999          ,9,-999          ,9
33RR20230722  ,I05        ,100     ,  2,32         ,32         ,2,20230817,1507, -33.9991,  71.9854,     4839,     96.2,2,  15.4761,2,  35.3965,2,  35.4068,2,    243.0,2,    243.8,2,     1.17,2,     1.16,2,     0.15,2,     0.24,2,     -999,9,     -999,9,     -999,9,   2090.8,2,   2326.4,2,   7.9204,2,    25.01,2,     -999,1,  15.4774,2,     -999,9,     -999,9,     -999,9,     -999,9,     -999,1,   4.9735,1,   0.0414,1,     -999,9,     -999,9,     -999,9,     -999,9,     -999,9,20230817,1710, -33.9991,  71.9854,-999          ,9,-999          ,9
33RR20230722  ,I05        ,100     ,  2,31         ,31         ,2,20230817,1507, -33.9991,  71.9854,     4839,    124.2,2,  14.1064,2,  35.3349,2,  35.3396,2,    232.7,2,    234.0,2,     1.85,2,     4.77,2,     0.03,2,     0.44,2,    3.006,4,    1.561,2,   2.4300,2,   2114.0,2,   2322.4,2,   7.8666,2,    25.01,2,     -999,1,  14.1181,2,     -999,9,     -999,9,     -999,9,     -999,9,     -999,1,   4.9704,1,   0.0196,1,      8.9,2,     -999,9,     -999,9,     -999,9,     -999,9,20230817,1707, -33.9991,  71.9854,-999          ,9,-999          ,9
33RR20230722  ,I05        ,100     ,  2,30         ,30         ,2,20230817,1507, -33.9991,  71.9854,     4839,    155.8,2,  13.6574,2,  35.2893,2,  35.2907,2,    232.6,2,    233.5,2,     2.24,2,     6.17,2,     0.02,2,     0.53,2,     -999,9,     -999,9,     -999,9,   2119.5,2,   2318.2,2,   7.8531,2,    25.02,2,     -999,1,  13.6565,2,     -999,9,     -999,9,     -999,9,     -999,9,     -999,1,   4.9696,1,   0.0134,1,     -999,9,     -999,9,     -999,9,     -999,9,     -999,9,20230817,1705, -33.9991,  71.9854,-999          ,9,-999          ,9
33RR20230722  ,I05        ,100     ,  2,29         ,29         ,2,20230817,1507, -33.9991,  71.9854,     4839,    185.7,2,  13.3958,2,  35.2642,2,  35.2649,2,    234.7,2,    235.1,2,     2.73,2,     7.11,2,     0.01,2,     0.57,2,     -999,9,     -999,9,     -999,9,   2119.3,2,   2316.6,2,   7.8499,2,    25.00,2,     -999,1,  13.3919,2,     -999,9,     -999,9,     -999,9,     -999,9,     -999,1,   4.9695,1,   0.0121,1,     -999,9,     -999,9,     -999,9,     -999,9,     -999,9,20230817,1703, -33.9991,  71.9854,-999          ,9,-999          ,9
33RR20230722  ,I05        ,100     ,  2,28         ,28         ,2,20230817,1507, -33.9991,  71.9854,     4839,    217.8,2,  13.1876,2,  35.2405,2,  35.2412,2,    236.9,2,    236.7,2,     2.93,2,     7.49,2,     0.00,2,     0.60,2,     -999,9,     -999,9,     -999,9,   2118.2,2,   2314.4,2,   7.8454,2,    25.00,2,     -999,1,  13.1865,2,     -999,9,     -999,9,     -999,9,     -999,9,     -999,1,   4.9696,1,   0.0115,1,     -999,9,     -999,9,     -999,9,     -999,9,     -999,9,20230817,1701, -33.9991,  71.9854,-999          ,9,-999          ,9
33RR20230722  ,I05        ,100     ,  2,27         ,27         ,2,20230817,1507, -33.9991,  71.9854,     4839,    255.7,2,  13.0804,2,  35.2250,2,  35.2257,2,    237.3,2,    237.6,2,     2.93,2,     7.73,2,     0.00,2,     0.61,2,    2.929,4,    1.605,2,   2.4300,2,   2119.2,2,   2313.9,2,   7.8437,2,    25.00,2,     -999,1,  13.0801,2,     -999,9,     -999,9,     -999,9,     -999,9,     -999,1,   4.9694,1,   0.0115,1,      9.6,2,     -999,9,     -999,9,     -999,9,     -999,9,20230817,1659, -33.9990,  71.9854,-999          ,9,-999          ,9
33RR20230722  ,I05        ,100     ,  2,26         ,26         ,2,20230817,1507, -33.9991,  71.9854,     4839,    303.1,2,  12.8392,2,  35.1887,2,  35.1819,2,    238.6,2,    238.5,2,     3.02,2,     8.26,2,     0.00,2,     0.65,2,     -999,9,     -999,9,     -999,9,   2123.6,2,   2311.2,2,   7.8360,2,    25.00,2,     -999,1,  12.8347,2,     -999,9,     -999,9,     -999,9,     -999,9,     -999,1,   4.9702,1,   0.0114,1,     -999,9,     -999,9,     -999,9,     -999,9,     -999,9,20230817,1656, -33.9991,  71.9854,-999          ,9,-999          ,9
33RR20230722  ,I05        ,100     ,  2,25         ,25         ,2,20230817,1507, -33.9991,  71.9854,     4839,    356.4,2,  12.3887,2,  35.1149,2,  35.1161,2,    237.7,2,    237.4,2,     3.12,2,     9.33,2,     0.00,2,     0.71,2,     -999,9,     -999,9,     -999,9,   2123.5,2,   2308.6,2,   7.8241,2,    25.02,2,     -999,1,  12.3934,2,     -999,9,     -999,9,     -999,9,     -999,9,     -999,1,   4.9683,1,   0.0118,1,     -999,9,     -999,9,     -999,9,     -999,9,     -999,9,20230817,1653, -33.9991,  71.9854,-999          ,9,-999          ,9
33RR20230722  ,I05        ,100     ,  2,24         ,24         ,2,20230817,1507, -33.9991,  71.9854,     4839,    421.7,2,  11.9934,2,  35.0521,2,  35.0533,2,    241.9,2,    241.0,2,     3.42,2,    10.09,2,     0.00,2,     0.75,2,    4.078,4,    1.802,2,   2.3800,2,   2128.5,2,   2306.1,2,   7.8174,2,    25.02,2,     -999,1,  11.9955,2,     -999,9,     -999,9,     -999,9,     -999,9,     -999,1,   4.9045,1,   0.0116,1,      9.3,2,     -999,9,     -999,9,     -999,9,     -999,9,20230817,1651, -33.9991,  71.9854,-999          ,9,-999          ,9
33RR20230722  ,I05        ,100     ,  2,23         ,23         ,2,20230817,1507, -33.9991,  71.9854,     4839,    495.6,2,  11.6329,2,  34.9953,2,  34.9961,2,    242.5,2,    241.6,2,     3.61,2,    10.91,2,     0.00,2,     0.82,2,     -999,9,     -999,9,     -999,9,   2127.7,2,   2305.2,2,   7.8103,6,    25.00,2,     -999,1,  11.6328,2,     -999,9,     -999,9,     -999,9,     -999,9,     -999,1,   4.9339,1,   0.0115,1,     -999,9,     -999,9,     -999,9,     -999,9,     -999,9,20230817,1649, -33.9991,  71.9854,-999          ,9,-999          ,9
33RR20230722  ,I05        ,100     ,  2,22         ,22         ,2,20230817,1507, -33.9991,  71.9854,     4839,    580.3,2,  11.0590,2,  34.9041,2,  34.9059,2,    234.1,2,    233.6,2,     4.39,2,    13.05,2,     0.00,2,     0.96,2,    3.877,4,    1.586,2,   2.1700,2,   2135.2,2,   2299.7,2,   7.7872,2,    25.00,2,     -999,1,  11.0602,2,     -999,9,     -999,9,     -999,9,     -999,9,     -999,1,   4.9667,1,   0.0114,1,     10.3,2,     -999,9,     -999,9,     -999,9,     -999,9,20230817,1646, -33.9991,  71.9854,-999          ,9,-999          ,9
33RR20230722  ,I05        ,100     ,  2,21         ,21         ,2,20230817,1507, -33.9991,  71.9854,     4839,    679.4,2,  10.1258,2,  34.7807,2,  34.7754,2,    221.2,2,    221.9,2,     5.86,2,    16.27,2,     0.00,2,     1.14,2,    3.659,4,    1.812,2,   1.7400,2,   2143.2,6,   2295.8,6,   7.7533,2,    25.02,2,     -999,1,  10.1173,2,     -999,9,     -999,9,     -999,9,     -999,9,     -999,1,   4.9668,1,   0.0115,1,     10.2,2,     -999,9,     -999,9,     -999,9,     -999,9,20230817,1643, -33.9991,  71.9854,-999          ,9,-999          ,9
33RR20230722  ,I05        ,100     ,  2,20         ,20         ,2,20230817,1507, -33.9991,  71.9854,     4839,    788.7,2,   8.6999,2,  34.6212,2,  34.6209,2,    210.4,2,    211.1,2,     9.76,2,    20.57,2,     0.00,2,     1.43,2,    3.086,4,    1.647,2,   1.2500,2,   2157.4,2,   2288.9,2,   7.7146,2,    25.01,2,     -999,1,   8.6909,2,     -999,9,     -999,9,     -999,9,     -999,9,     -999,1,   4.8677,1,   0.0113,1,     13.4,2,     -999,9,     -999,9,     -999,9,     -999,9,20230817,1640, -33.9990,  71.9854,-999          ,9,-999          ,9
33RR20230722  ,I05        ,100     ,  2,19         ,19         ,2,20230817,1507, -33.9991,  71.9854,     4839,    917.7,2,   7.1838,2,  34.4869,2,  34.4887,2,    204.6,2,    205.1,2,    15.91,2,    24.69,2,     0.00,2,     1.68,2,     -999,9,     -999,9,     -999,9,   2175.8,2,   2288.2,2,   7.6676,6,    25.02,2,     -999,1,   7.1961,2,     -999,9,     -999,9,     -999,9,     -999,9,     -999,1,   4.7616,1,   0.0113,1,     -999,9,     -999,9,     -999,9,     -999,9,     -999,9,20230817,1636, -33.9990,  71.9854,-999          ,9,-999          ,9
33RR20230722  ,I05        ,100     ,  2,18         ,18         ,2,20230817,1507, -33.9991,  71.9854,     4839,   1033.7,2,   5.6966,2,  34.3830,2,  34.3833,2,    204.8,2,    204.8,2,    23.72,2,    28.25,2,     0.00,2,     1.92,2,    2.945,4,    1.429,2,   0.9500,2,   2189.1,2,   2289.5,2,   7.6342,2,    25.02,2,     -999,1,   5.6915,2,     -999,9,     -999,9,     -999,9,     -999,9,     -999,1,   4.9701,1,   0.0112,1,     16.5,2,     -999,9,     -999,9,     -999,9,     -999,9,20230817,1633, -33.9991,  71.9854,-999          ,9,-999          ,9
33RR20230722  ,I05        ,100     ,  2,17         ,17         ,2,20230817,1507, -33.9991,  71.9854,     4839,   1162.6,2,   4.4914,2,  34.3558,2,  34.3566,2,    199.6,2,    199.3,2,    34.85,2,    31.05,2,     0.00,2,     2.10,2,     -999,9,     -999,9,     -999,9,   2207.5,2,   2298.1,2,   7.6068,2,    25.02,2,     -999,1,   4.4935,2,     -999,9,     -999,9,     -999,9,     -999,9,     -999,1,   4.9317,1,   0.0112,1,     -999,9,     -999,9,     -999,9,     -999,9,     -999,9,20230817,1630, -33.9991,  71.9854,-999          ,9,-999          ,9
33RR20230722  ,I05        ,100     ,  2,16         ,16         ,2,20230817,1507, -33.9991,  71.9854,     4839,   1279.0,2,   3.8432,2,  34.3871,2,  34.3878,2,    189.4,2,    189.5,2,    45.40,2,    32.68,2,     0.00,2,     2.25,2,     -999,9,     -999,9,     -999,9,   2223.1,2,   2305.8,2,   7.5870,2,    25.01,2,     -999,1,   3.8377,2,     -999,9,     -999,9,     -999,9,     -999,9,     -999,1,   4.7491,1,   0.0113,1,     -999,9,     -999,9,     -999,9,     -999,9,     -999,9,20230817,1626, -33.9991,  71.9854,-999          ,9,-999          ,9
33RR20230722  ,I05        ,100     ,  2,15         ,15         ,2,20230817,1507, -33.9991,  71.9854,     4839,   1403.3,2,   3.4113,2,  34.4565,2,  34.4559,2,    176.1,2,    176.2,2,    57.01,2,    33.71,2,     0.00,2,     2.32,2,    1.246,4,    0.585,2,   0.2400,2,   2239.5,2,   2318.7,2,   7.5713,2,    25.00,2,     -999,1,   3.4161,2,     -999,9,     -999,9,     -999,9,     -999,9,     -999,1,   4.9734,1,   0.0112,1,     19.7,2,     -999,9,     -999,9,     -999,9,     -999,9,20230817,1623, -33.9991,  71.9854,-999          ,9,-999          ,9
33RR20230722  ,I05        ,100     ,  2,14         ,14         ,2,20230817,1507, -33.9991,  71.9854,     4839,   1523.6,2,   3.1017,2,  34.5164,2,  34.5176,2,    170.7,2,    170.6,2,    65.01,2,    33.92,2,     0.00,2,     2.34,2,    0.502,4,    0.316,2,   0.1200,2,   2248.1,2,   2327.6,2,   7.5670,6,    25.03,2,     -999,1,   3.1043,2,     -999,9,     -999,9,     -999,9,     -999,9,     -999,1,   4.9740,1,   0.0112,1,     19.5,2,     -999,9,     -999,9,     -999,9,     -999,9,20230817,1620, -33.9990,  71.9854,-999          ,9,-999          ,9
33RR20230722  ,I05        ,100     ,  2,13         ,13         ,4,20230817,1507, -33.9991,  71.9854,     4839,   1647.5,3,   2.8869,3,  34.5712,3,  34.6111,4,    170.1,3,    177.3,3,    65.60,3,    31.97,3,     0.00,3,     2.19,3,     -999,9,     -999,9,     -999,9,   2238.8,4,   2332.8,3,   7.5992,3,    25.02,3,     -999,1,   2.8830,3,     -999,9,     -999,9,     -999,9,     -999,9,     -999,1,   4.9742,1,   0.0114,1,     -999,9,     -999,9,     -999,9,     -999,9,     -999,9,20230817,1616, -33.9990,  71.9854,-999          ,9,-999          ,9
33RR20230722  ,I05        ,100     ,  2,12         ,12         ,2,20230817,1507, -33.9991,  71.9854,     4839,   1791.5,2,   2.7068,2,  34.6228,2,  34.6234,2,    172.8,2,    172.8,2,    73.50,2,    32.99,2,     0.00,2,     2.25,2,     -999,9,     -999,9,     -999,9,   2251.9,2,   2336.6,2,   7.5761,2,    25.01,2,     -999,1,   2.7072,2,     -999,9,     -999,9,     -999,9,     -999,9,     -999,1,   4.9408,1,   0.0113,1,     -999,9,     -999,9,     -999,9,     -999,9,     -999,9,20230817,1612, -33.9990,  71.9854,-999          ,9,-999          ,9
33RR20230722  ,I05        ,100     ,  2,11         ,11         ,2,20230817,1507, -33.9991,  71.9854,     4839,   1964.2,2,   2.4993,2,  34.6793,2,  34.6787,2,    178.6,2,    178.6,2,    77.50,2,    32.04,2,     0.00,2,     2.19,2,     -999,9,     -999,9,     -999,9,   2252.7,2,   2341.9,6,   7.5904,2,    25.01,2,     -999,1,   2.4989,2,     -999,9,     -999,9,     -999,9,     -999,9,     -999,1,   4.9203,1,   0.0111,1,     -999,9,     -999,9,     -999,9,     -999,9,     -999,9,20230817,1608, -33.9990,  71.9855,-999          ,9,-999          ,9
33RR20230722  ,I05        ,100     ,  2,10         ,10         ,2,20230817,1507, -33.9991,  71.9854,     4839,   2181.8,2,   2.2890,2,  34.7126,2,  34.7133,2,    183.2,2,    183.5,2,    84.43,2,    31.46,2,     0.00,2,     2.18,2,     -999,9,     -999,9,     -999,9,   2255.6,2,   2348.6,2,   7.6029,2,    25.02,2,     -999,1,   2.2902,2,     -999,9,     -999,9,     -999,9,     -999,9,     -999,1,   4.9745,1,   0.0117,1,     -999,9,     -999,9,     -999,9,     -999,9,     -999,9,20230817,1603, -33.9990,  71.9855,-999          ,9,-999          ,9
33RR20230722  ,I05        ,100     ,  2,9          ,9          ,2,20230817,1507, -33.9991,  71.9854,     4839,   2455.3,2,   1.9941,2,  34.7257,2,  34.7276,2,    179.9,2,    180.1,2,   102.09,2,    32.24,2,     0.00,2,     2.25,2,   -0.071,4,    0.003,2,   0.0300,2,   2272.2,6,   2368.2,2,   7.6062,2,    25.01,2,     -999,1,   1.9964,2,     -999,9,     -999,9,     -999,9,     -999,9,     -999,1,   4.9753,1,   0.0111,1,     17.2,2,     -999,9,     -999,9,     -999,9,     -999,9,20230817,1558, -33.9990,  71.9855,-999          ,9,-999          ,9
33RR20230722  ,I05        ,100     ,  2,8          ,8          ,2,20230817,1507, -33.9991,  71.9854,     4839,   2732.6,2,   1.8339,2,  34.7261,2,  34.7278,2,    178.1,2,    178.0,2,   112.05,2,    32.79,2,     0.00,2,     2.28,2,     -999,9,     -999,9,     -999,9,   2281.0,2,   2378.7,2,   7.6056,2,    25.04,2,     -999,1,   1.8337,2,     -999,9,     -999,9,     -999,9,     -999,9,     -999,1,   4.9443,1,   0.0112,1,     -999,9,     -999,9,     -999,9,     -999,9,     -999,9,20230817,1552, -33.9990,  71.9855,-999          ,9,-999          ,9
33RR20230722  ,I05        ,100     ,  2,7          ,7          ,2,20230817,1507, -33.9991,  71.9854,     4839,   3047.0,2,   1.6773,2,  34.7252,2,  34.7250,2,    179.7,2,    179.6,2,   118.39,2,    33.01,2,     0.00,2,     2.30,2,     -999,9,     -999,9,     -999,9,   2283.6,2,   2382.1,2,   7.6072,2,    25.01,2,     -999,1,   1.6777,2,     -999,9,     -999,9,     -999,9,     -999,9,     -999,1,   4.6538,1,   0.0115,1,     -999,9,     -999,9,     -999,9,     -999,9,     -999,9,20230817,1546, -33.9990,  71.9855,-999          ,9,-999          ,9
33RR20230722  ,I05        ,100     ,  2,6          ,6          ,2,20230817,1507, -33.9991,  71.9854,     4839,   3339.4,2,   1.5255,2,  34.7199,2,  34.7201,2,    184.0,2,    184.2,2,   121.51,2,    32.95,2,     0.00,2,     2.29,2,     -999,9,     -999,9,     -999,9,   2285.5,2,   2381.7,2,   7.6076,2,    25.01,2,     -999,1,   1.5248,2,     -999,9,     -999,9,     -999,9,     -999,9,     -999,1,   4.9761,1,   0.0118,1,     -999,9,     -999,9,     -999,9,     -999,9,     -999,9,20230817,1540, -33.9991,  71.9855,-999          ,9,-999          ,9
33RR20230722  ,I05        ,100     ,  2,5          ,5          ,2,20230817,1507, -33.9991,  71.9854,     4839,   3787.6,2,   1.2527,2,  34.7105,2,  34.7105,2,    193.3,2,    193.4,2,   124.34,2,    32.80,2,     0.00,2,     2.27,2,     -999,9,     -999,9,     -999,9,   2279.4,2,   2377.3,2,   7.6101,2,    25.02,2,     -999,1,   1.2534,2,     -999,9,     -999,9,     -999,9,     -999,9,     -999,1,   4.9763,1,   0.0122,1,     -999,9,     -999,9,     -999,9,     -999,9,     -999,9,20230817,1531, -33.9990,  71.9855,-999          ,9,-999          ,9
33RR20230722  ,I05        ,100     ,  2,4          ,37         ,2,20230817,1507, -33.9991,  71.9854,     4839,   4112.5,2,   1.1294,2,  34.7056,2,  34.7062,2,    198.2,2,    198.7,2,   125.81,2,    32.68,2,     0.00,2,     2.27,2,   -0.034,4,    0.018,2,   0.0200,2,   2277.3,2,   2375.7,2,   7.6108,2,    25.01,2,     -999,1,   1.1286,2,     -999,9,     -999,9,     -999,9,     -999,9,     -999,1,   4.7660,1,   0.0116,1,     17.5,2,     -999,9,     -999,9,     -999,9,     -999,9,20230817,1524, -33.9990,  71.9855,-999          ,9,-999          ,9
33RR20230722  ,I05        ,100     ,  2,3          ,3          ,2,20230817,1507, -33.9991,  71.9854,     4839,   4497.0,2,   1.0684,2,  34.7026,2,  34.7030,2,    201.3,2,    201.5,2,   126.49,2,    32.62,2,     0.00,2,     2.27,2,   -0.026,4,    0.023,2,  -0.0300,2,   2275.3,2,   2372.3,2,   7.6120,2,    25.02,2,     -999,1,   1.0684,2,     -999,9,     -999,9,     -999,9,     -999,9,     -999,1,   4.9767,1,   0.0112,1,     16.2,2,     -999,9,     -999,9,     -999,9,     -999,9,20230817,1517, -33.9990,  71.9855,-999          ,9,-999          ,9