BOTTLE,20240422CCHHYDRO
EXPOCODE,SECT_ID,STNNBR,CASTNO,SAMPNO,BTLNBR,BTLNBR_FLAG_W,DATE,TIME,LATITUDE,LONGITUDE,DEPTH,CTDPRS,CTDPRS_FLAG_W,CTDTMP,CTDTMP_FLAG_W,CTDSAL,CTDSAL_FLAG_W,SALNTY,SALNTY_FLAG_W,CTDOXY,CTDOXY_FLAG_W,OXYGEN,OXYGEN_FLAG_W,SILCAT,SILCAT_FLAG_W,NITRAT,NITRAT_FLAG_W,NITRIT,NITRIT_FLAG_W,PHSPHT,PHSPHT_FLAG_W,CFC-11,CFC-11_FLAG_W,CFC-12,CFC-12_FLAG_W,SF6,SF6_FLAG_W,TCARBN,TCARBN_FLAG_W,ALKALI,ALKALI_FLAG_W,PH_TOT,PH_TOT_FLAG_W,PH_TMP,PH_TMP_FLAG_W,DOC,DOC_FLAG_W,REFTMP,REFTMP_FLAG_W,POC,POC_FLAG_W,PON,PON_FLAG_W,POP,POP_FLAG_W,DOP,DOP_FLAG_W,DELO18,DELO18_FLAG_W,CTDFLUOR,CTDFLUOR_FLAG_W,CTDXMISS,CTDXMISS_FLAG_W,N2O,N2O_FLAG_W,D15N_NO3,D15N_NO3_FLAG_W,D15N_NO2+NO3,D15N_NO2+NO3_FLAG_W,D18O_NO2+NO3,D18O_NO2+NO3_FLAG_W,D18O_NO3,D18O_NO3_FLAG_W,BTL_DATE,BTL_TIME,BTL_LAT,BTL_LON,HPLC,HPLC_FLAG_W,DNA,DNA_FLAG_W
,,,,,,,,,,,METERS,DBAR,,ITS-90,,PSS-78,,PSS-78,,UMOL/KG,,UMOL/KG,,UMOL/KG,,UMOL/KG,,UMOL/KG,,UMOL/KG,,PMOL/KG,,PMOL/KG,,FMOL/KG,,UMOL/KG,,UMOL/KG,,,,DEG C,,UMOL/KG,,ITS-90,,UG/KG,,UG/KG,,UG/L,,UMOL/KG,,/MILLE,,VOLTS,,VOLTS,,NMOL/KG,,/MILLE,,/MILLE,,/MILLE,,/MILLE,,,,,,,,,
33RR20230722  ,I05        ,189     ,  1,33         ,33         ,2,20230909,0553, -31.4947,  30.9752,     2908,      7.5,2,  21.6050,2,  35.4398,2,  35.4403,2,    222.2,2,    221.1,2,     1.66,2,     0.00,2,     0.02,2,     0.14,2,    1.553,2,    1.112,2,   2.0100,2,   2032.6,6,   2318.9,2,   8.0183,2,    25.01,2,     -999,1,  21.6057,2,     -999,9,     -999,9,     -999,9,     -999,9,     -999,1,   4.9723,1,   0.0260,1,      7.4,2,     -999,9,     -999,9,     -999,9,     -999,9,20230909,0717, -31.4947,  30.9752,-999          ,9,-999          ,9
33RR20230722  ,I05        ,189     ,  1,32         ,32         ,2,20230909,0553, -31.4947,  30.9752,     2908,     28.2,2,  21.5803,2,  35.4397,2,  35.4397,2,    222.0,2,    221.4,2,     1.56,2,     0.00,2,     0.02,2,     0.14,2,     -999,9,     -999,9,     -999,9,   -999.0,9,     -999,9,     -999,9,     -999,9,     -999,9,  21.5841,2,     -999,9,     -999,9,     -999,9,     -999,9,     -999,1,   4.9578,1,   0.0342,1,     -999,9,     -999,9,     -999,9,     -999,9,     -999,9,20230909,0715, -31.4946,  30.9751,-999          ,9,-999          ,9
33RR20230722  ,I05        ,189     ,  1,31         ,31         ,2,20230909,0553, -31.4947,  30.9752,     2908,     45.0,2,  21.4578,2,  35.4363,2,  35.4371,2,    221.5,2,    220.7,2,     1.56,2,     0.00,2,     0.07,2,     0.13,2,    1.641,2,    1.118,2,   1.9600,2,   2033.6,2,   2319.6,2,   8.0156,6,    24.98,2,     -999,9,  21.4565,2,     -999,9,     -999,9,     -999,9,     -999,9,     -999,1,   4.6925,1,   0.0450,1,      7.4,2,     -999,9,     -999,9,     -999,9,     -999,9,20230909,0714, -31.4946,  30.9751,-999          ,9,-999          ,9
33RR20230722  ,I05        ,189     ,  1,30         ,30         ,2,20230909,0553, -31.4947,  30.9752,     2908,     59.7,2,  21.4491,2,  35.4361,2,  35.4364,2,    221.0,2,    220.4,2,     1.66,2,     0.00,2,     0.09,2,     0.14,2,     -999,9,     -999,9,     -999,9,   -999.0,9,     -999,9,     -999,9,     -999,9,     -999,9,  21.4481,2,     -999,9,     -999,9,     -999,9,     -999,9,     -999,1,   4.9743,1,   0.0438,1,     -999,9,     -999,9,     -999,9,     -999,9,     -999,9,20230909,0712, -31.4946,  30.9751,-999          ,9,-999          ,9
33RR20230722  ,I05        ,189     ,  1,29         ,29         ,2,20230909,0553, -31.4947,  30.9752,     2908,     79.7,2,  21.4220,2,  35.4386,2,  35.4379,2,    220.3,2,    219.7,2,     1.56,2,     0.00,2,     0.13,2,     0.13,2,    1.488,2,    1.122,2,   1.9900,2,   2035.5,2,   2317.7,6,   8.0136,2,    25.00,2,     -999,9,  21.4192,2,     -999,9,     -999,9,     -999,9,     -999,9,     -999,1,   4.8485,1,   0.0351,1,      7.4,2,     -999,9,     -999,9,     -999,9,     -999,9,20230909,0711, -31.4946,  30.9752,-999          ,9,-999          ,9
33RR20230722  ,I05        ,189     ,  1,28         ,28         ,2,20230909,0553, -31.4947,  30.9752,     2908,    101.1,2,  21.2703,2,  35.4343,2,  35.4342,2,    216.7,2,    217.1,2,     1.66,2,     0.02,2,     0.48,2,     0.15,2,     -999,9,     -999,9,     -999,9,   2039.1,2,   2318.7,2,   8.0063,2,    24.98,2,     -999,9,  21.2718,2,     -999,9,     -999,9,     -999,9,     -999,9,     -999,1,   4.8909,1,   0.0216,1,     -999,9,     -999,9,     -999,9,     -999,9,     -999,9,20230909,0709, -31.4946,  30.9751,-999          ,9,-999          ,9
33RR20230722  ,I05        ,189     ,  1,27         ,27         ,2,20230909,0553, -31.4947,  30.9752,     2908,    125.8,2,  20.9600,2,  35.4634,2,  35.4624,2,    188.5,3,    201.3,2,     2.44,2,     1.81,2,     0.20,2,     0.23,2,    1.762,2,    1.126,2,   1.9000,2,   2053.6,2,   2320.2,2,   7.9798,6,    24.97,2,     -999,9,  20.9525,2,     -999,9,     -999,9,     -999,9,     -999,9,     -999,1,   4.8563,1,   0.0142,1,      8.4,2,     -999,9,     -999,9,     -999,9,     -999,9,20230909,0707, -31.4946,  30.9751,-999          ,9,-999          ,9
33RR20230722  ,I05        ,189     ,  1,26         ,26         ,2,20230909,0553, -31.4947,  30.9752,     2908,    153.5,2,  19.9645,2,  35.5642,2,  35.5608,2,    187.8,3,    189.9,2,     3.41,2,     3.36,2,     0.02,2,     0.32,2,     -999,9,     -999,9,     -999,9,   -999.0,9,     -999,9,     -999,9,     -999,9,     -999,9,  19.9638,2,     -999,9,     -999,9,     -999,9,     -999,9,     -999,1,   4.9681,1,   0.0117,1,     -999,9,     -999,9,     -999,9,     -999,9,     -999,9,20230909,0706, -31.4946,  30.9752,-999          ,9,-999          ,9
33RR20230722  ,I05        ,189     ,  1,25         ,25         ,2,20230909,0553, -31.4947,  30.9752,     2908,    186.5,2,  18.8329,2,  35.5589,2,  35.5581,2,    178.5,3,    182.3,2,     4.29,2,     4.88,2,     0.02,2,     0.44,2,    1.906,2,    1.243,2,   1.8600,2,   2101.9,2,   2328.2,2,   7.9064,2,    24.95,2,     -999,9,  18.8513,2,     -999,9,     -999,9,     -999,9,     -999,9,     -999,1,   4.9668,1,   0.0116,1,     10.7,2,     -999,9,     -999,9,     -999,9,     -999,9,20230909,0704, -31.4946,  30.9751,-999          ,9,-999          ,9
33RR20230722  ,I05        ,189     ,  1,24         ,24         ,2,20230909,0553, -31.4947,  30.9752,     2908,    220.4,2,  17.7805,2,  35.5871,2,  35.5861,2,    194.9,2,    196.5,2,     3.61,2,     4.20,2,     0.01,2,     0.41,2,     -999,9,     -999,9,     -999,9,   -999.0,9,     -999,9,     -999,9,     -999,9,     -999,9,  17.7802,2,     -999,9,     -999,9,     -999,9,     -999,9,     -999,1,   4.9676,1,   0.0118,1,     -999,9,     -999,9,     -999,9,     -999,9,     -999,9,20230909,0702, -31.4946,  30.9752,-999          ,9,-999          ,9
33RR20230722  ,I05        ,189     ,  1,23         ,23         ,2,20230909,0553, -31.4947,  30.9752,     2908,    262.7,2,  16.8018,2,  35.5738,2,  35.5754,2,    208.6,2,    208.8,2,     3.02,2,     4.18,2,     0.01,2,     0.41,2,     -999,9,     -999,9,     -999,9,   2104.3,2,     -999,5,   7.9010,2,    24.99,2,     -999,9,  16.7969,2,     -999,9,     -999,9,     -999,9,     -999,9,     -999,1,   4.6688,1,   0.0114,1,     -999,9,     -999,9,     -999,9,     -999,9,     -999,9,20230909,0700, -31.4946,  30.9751,-999          ,9,-999          ,9
33RR20230722  ,I05        ,189     ,  1,22         ,22         ,2,20230909,0553, -31.4947,  30.9752,     2908,    314.7,2,  15.9536,2,  35.5108,2,  35.5129,2,    208.6,2,    209.5,2,     3.32,2,     5.29,2,     0.01,2,     0.48,2,    2.050,2,    1.424,2,   2.0100,2,   2112.8,2,   2325.3,2,   7.8814,6,    24.98,2,     -999,9,  15.9429,2,     -999,9,     -999,9,     -999,9,     -999,9,     -999,1,   4.9228,1,   0.0117,1,      9.9,2,     -999,9,     -999,9,     -999,9,     -999,9,20230909,0658, -31.4946,  30.9752,-999          ,9,-999          ,9
33RR20230722  ,I05        ,189     ,  1,21         ,21         ,2,20230909,0553, -31.4947,  30.9752,     2908,    376.4,2,  14.9529,2,  35.4141,2,  35.4155,2,    208.1,2,    208.7,2,     3.71,2,     6.83,2,     0.01,2,     0.58,2,     -999,9,     -999,9,     -999,9,   2122.4,2,   2322.3,2,   7.8563,2,    24.99,2,     -999,9,  14.9549,2,     -999,9,     -999,9,     -999,9,     -999,9,     -999,1,   4.9668,1,   0.0114,1,     -999,9,     -999,9,     -999,9,     -999,9,     -999,9,20230909,0656, -31.4946,  30.9751,-999          ,9,-999          ,9
33RR20230722  ,I05        ,189     ,  1,20         ,20         ,2,20230909,0553, -31.4947,  30.9752,     2908,    446.1,2,  13.9346,2,  35.3038,2,  35.3047,2,    209.1,2,    209.7,2,     4.20,2,     8.54,2,     0.00,2,     0.68,2,     -999,9,     -999,9,     -999,9,   -999.0,9,     -999,9,     -999,9,     -999,9,     -999,9,  13.9319,2,     -999,9,     -999,9,     -999,9,     -999,9,     -999,1,   4.9627,1,   0.0115,1,     -999,9,     -999,9,     -999,9,     -999,9,     -999,9,20230909,0654, -31.4946,  30.9751,-999          ,9,-999          ,9
33RR20230722  ,I05        ,189     ,  1,19         ,19         ,2,20230909,0553, -31.4947,  30.9752,     2908,    555.5,2,  12.5460,2,  35.1366,2,  35.1370,2,    219.9,2,    219.2,2,     4.20,2,    10.59,2,     0.00,2,     0.82,2,    2.801,2,    1.684,2,   2.1100,2,   2133.2,2,   2309.7,2,   7.8089,2,    25.00,2,     -999,9,  12.5295,2,     -999,9,     -999,9,     -999,9,     -999,9,     -999,1,   4.9665,1,   0.0115,1,     11.9,2,     -999,9,     -999,9,     -999,9,     -999,9,20230909,0651, -31.4946,  30.9751,-999          ,9,-999          ,9
33RR20230722  ,I05        ,189     ,  1,18         ,18         ,2,20230909,0553, -31.4947,  30.9752,     2908,    611.6,2,  11.8120,2,  35.0319,2,  35.0321,2,    223.0,2,    222.3,2,     4.20,2,    11.74,2,     0.00,2,     0.89,2,     -999,9,     -999,9,     -999,9,   2135.2,2,   2305.5,2,   7.7968,2,    24.97,2,     -999,9,  11.7878,2,     -999,9,     -999,9,     -999,9,     -999,9,     -999,1,   4.9668,1,   0.0112,1,     -999,9,     -999,9,     -999,9,     -999,9,     -999,9,20230909,0649, -31.4946,  30.9751,-999          ,9,-999          ,9
33RR20230722  ,I05        ,189     ,  1,17         ,17         ,2,20230909,0553, -31.4947,  30.9752,     2908,    705.5,2,  10.5735,2,  34.8571,2,  34.8603,2,    221.6,2,    221.6,2,     5.56,2,    14.82,2,     0.00,2,     1.08,2,    2.943,2,    1.803,2,   1.7400,2,   2140.0,2,   2297.6,2,   7.7667,2,    24.98,2,     -999,9,  10.5579,2,     -999,9,     -999,9,     -999,9,     -999,9,     -999,1,   4.9318,1,   0.0107,1,     12.9,2,     -999,9,     -999,9,     -999,9,     -999,9,20230909,0647, -31.4946,  30.9751,-999          ,9,-999          ,9
33RR20230722  ,I05        ,189     ,  1,16         ,16         ,2,20230909,0553, -31.4947,  30.9752,     2908,    806.9,2,   9.5366,2,  34.7283,2,  34.7304,2,    216.3,2,    215.9,2,     8.00,2,    17.88,2,     0.00,2,     1.28,2,     -999,9,     -999,9,     -999,9,   -999.0,9,     -999,9,     -999,9,     -999,9,     -999,9,   9.5178,2,     -999,9,     -999,9,     -999,9,     -999,9,     -999,1,   4.9266,1,   0.0114,1,     -999,9,     -999,9,     -999,9,     -999,9,     -999,9,20230909,0644, -31.4946,  30.9751,-999          ,9,-999          ,9
33RR20230722  ,I05        ,189     ,  1,15         ,15         ,2,20230909,0553, -31.4947,  30.9752,     2908,    914.0,2,   8.0121,2,  34.6076,2,  34.6083,2,    192.2,2,    193.1,2,    18.06,2,    23.61,2,     0.00,2,     1.65,2,    2.545,2,    1.447,2,   1.0100,2,   2174.3,2,   2294.7,2,   7.6766,2,    24.98,2,     -999,9,   8.0179,2,     -999,9,     -999,9,     -999,9,     -999,9,     -999,1,   4.9693,1,   0.0112,1,     18.2,2,     -999,9,     -999,9,     -999,9,     -999,9,20230909,0641, -31.4946,  30.9751,-999          ,9,-999          ,9
33RR20230722  ,I05        ,189     ,  1,14         ,14         ,2,20230909,0553, -31.4947,  30.9752,     2908,   1020.6,2,   6.6736,2,  34.5172,3,  34.5241,2,    182.6,2,    184.4,2,    27.24,2,    27.29,2,     0.00,2,     1.91,2,     -999,9,     -999,9,     -999,9,   2193.0,2,   2298.1,2,   7.6380,2,    24.99,2,     -999,9,   6.7080,2,     -999,9,     -999,9,     -999,9,     -999,9,     -999,1,   4.9705,1,   0.0112,1,     -999,9,     -999,9,     -999,9,     -999,9,     -999,9,20230909,0638, -31.4946,  30.9751,-999          ,9,-999          ,9
33RR20230722  ,I05        ,189     ,  1,13         ,13         ,2,20230909,0553, -31.4947,  30.9752,     2908,   1129.4,2,   6.4861,2,  34.6692,3,  34.6769,2,    137.1,2,    136.6,2,    48.32,2,    31.32,2,     0.00,2,     2.26,2,     -999,9,     -999,9,     -999,9,   2234.4,2,   2321.3,6,   7.5809,6,    24.98,2,     -999,9,   6.4854,2,     -999,9,     -999,9,     -999,9,     -999,9,     -999,1,   4.8423,1,   0.0123,1,     -999,9,     -999,9,     -999,9,     -999,9,     -999,9,20230909,0635, -31.4946,  30.9752,-999          ,9,-999          ,9
33RR20230722  ,I05        ,189     ,  1,12         ,12         ,2,20230909,0553, -31.4947,  30.9752,     2908,   1241.5,2,   5.1899,2,  34.6136,2,  34.6158,2,    142.2,2,    141.7,2,    58.38,2,    33.06,2,     0.00,2,     2.34,2,    0.769,2,    0.455,2,   0.2100,2,   -999.0,9,     -999,9,     -999,9,     -999,9,     -999,9,   5.1808,2,     -999,9,     -999,9,     -999,9,     -999,9,     -999,1,   4.8527,1,   0.0122,1,     25.8,2,     -999,9,     -999,9,     -999,9,     -999,9,20230909,0632, -31.4946,  30.9751,-999          ,9,-999          ,9
33RR20230722  ,I05        ,189     ,  1,11         ,11         ,2,20230909,0553, -31.4947,  30.9752,     2908,   1357.2,2,   4.1935,2,  34.5819,2,  34.5838,2,    153.3,2,    152.7,2,    64.63,2,    33.56,2,     0.00,2,     2.38,2,     -999,9,     -999,9,     -999,9,   2250.0,2,   2330.2,2,   7.5670,2,    24.96,2,     -999,9,   4.1964,2,     -999,9,     -999,9,     -999,9,     -999,9,     -999,1,   4.9455,1,   0.0123,1,     -999,9,     -999,9,     -999,9,     -999,9,     -999,9,20230909,0629, -31.4946,  30.9751,-999          ,9,-999          ,9
33RR20230722  ,I05        ,189     ,  1,10         ,10         ,2,20230909,0553, -31.4947,  30.9752,     2908,   1475.7,2,   3.8713,2,  34.6199,2,  34.6205,2,    151.9,2,    151.7,2,    70.49,2,    33.71,2,     0.00,2,     2.38,2,     -999,9,     -999,9,     -999,9,   2258.3,2,   2337.9,2,   7.5653,2,    25.00,2,     -999,9,   3.8686,2,     -999,9,     -999,9,     -999,9,     -999,9,     -999,1,   4.9741,1,   0.0117,1,     -999,9,     -999,9,     -999,9,     -999,9,     -999,9,20230909,0626, -31.4946,  30.9751,-999          ,9,-999          ,9
33RR20230722  ,I05        ,189     ,  1,9          ,9          ,2,20230909,0553, -31.4947,  30.9752,     2908,   1595.7,2,   3.4966,2,  34.6559,2,  34.6576,2,    155.8,2,    155.5,2,    75.37,2,    33.43,2,     0.00,2,     2.36,2,     -999,9,     -999,9,     -999,9,   2261.7,2,   2343.4,2,   7.5709,2,    25.03,2,     -999,9,   3.4971,2,     -999,9,     -999,9,     -999,9,     -999,9,     -999,1,   4.8375,1,   0.0119,1,     -999,9,     -999,9,     -999,9,     -999,9,     -999,9,20230909,0623, -31.4947,  30.9751,-999          ,9,-999          ,9
33RR20230722  ,I05        ,189     ,  1,8          ,8          ,2,20230909,0553, -31.4947,  30.9752,     2908,   1718.9,2,   3.1439,2,  34.6808,2,  34.6818,2,    164.1,2,    164.2,2,    76.83,2,    32.71,2,     0.00,2,     2.30,2,    0.219,2,    0.114,2,   0.0600,2,   -999.0,9,     -999,9,     -999,9,     -999,9,     -999,9,   3.1429,2,     -999,9,     -999,9,     -999,9,     -999,9,     -999,1,   4.9738,1,   0.0115,1,     23.0,2,     -999,9,     -999,9,     -999,9,     -999,9,20230909,0620, -31.4946,  30.9751,-999          ,9,-999          ,9
33RR20230722  ,I05        ,189     ,  1,7          ,7          ,2,20230909,0553, -31.4947,  30.9752,     2908,   1859.5,2,   2.8625,2,  34.7177,2,  34.7182,2,    174.9,2,    175.3,2,    76.24,2,    31.48,2,     0.00,2,     2.20,2,     -999,9,     -999,9,     -999,9,   2254.2,2,   2346.0,2,   7.5991,2,    25.04,2,     -999,9,   2.8620,2,     -999,9,     -999,9,     -999,9,     -999,9,     -999,1,   4.8909,1,   0.0119,1,     -999,9,     -999,9,     -999,9,     -999,9,     -999,9,20230909,0617, -31.4946,  30.9751,-999          ,9,-999          ,9
33RR20230722  ,I05        ,189     ,  1,6          ,6          ,2,20230909,0553, -31.4947,  30.9752,     2908,   2031.7,2,   2.7118,2,  34.7447,2,  34.7457,2,    184.6,2,    185.1,2,    73.41,2,    30.32,2,     0.00,2,     2.12,2,    0.091,2,    0.049,2,   0.0200,2,   -999.0,9,     -999,9,     -999,9,     -999,9,     -999,9,   2.7112,2,     -999,9,     -999,9,     -999,9,     -999,9,     -999,1,   4.7613,1,   0.0111,1,     20.4,2,     -999,9,     -999,9,     -999,9,     -999,9,20230909,0613, -31.4946,  30.9751,-999          ,9,-999          ,9
33RR20230722  ,I05        ,189     ,  1,5          ,5          ,2,20230909,0553, -31.4947,  30.9752,     2908,   2247.7,2,   2.6087,2,  34.7722,2,  34.7724,2,    195.2,2,    195.7,2,    69.21,2,    28.98,2,     0.00,2,     2.01,2,     -999,9,     -999,9,     -999,9,   2237.0,2,   2342.3,2,   7.6304,2,    25.03,2,     -999,9,   2.6079,2,     -999,9,     -999,9,     -999,9,     -999,9,     -999,1,   4.9729,1,   0.0120,1,     -999,9,     -999,9,     -999,9,     -999,9,     -999,9,20230909,0608, -31.4947,  30.9751,-999          ,9,-999          ,9
33RR20230722  ,I05        ,189     ,  1,4          ,37         ,2,20230909,0553, -31.4947,  30.9752,     2908,   2496.2,2,   2.4804,2,  34.7924,2,  34.7927,2,    204.3,2,    204.6,2,    67.84,2,    27.99,2,     0.00,2,     1.94,2,    0.043,2,    0.026,2,   0.0000,2,   2233.1,2,   2342.8,2,   7.6444,6,    25.03,2,     -999,9,   2.4799,2,     -999,9,     -999,9,     -999,9,     -999,9,     -999,1,   4.6609,1,   0.0112,1,     17.7,2,     -999,9,     -999,9,     -999,9,     -999,9,20230909,0603, -31.4946,  30.9751,-999          ,9,-999          ,9
33RR20230722  ,I05        ,189     ,  1,3          ,3          ,2,20230909,0553, -31.4947,  30.9752,     2908,   2713.3,2,   2.3426,2,  34.8056,2,  34.8062,2,    212.2,2,    212.5,2,    66.96,2,    27.19,2,     0.00,2,     1.90,2,     -999,9,     -999,9,     -999,9,   2225.9,2,   2342.5,6,   7.6562,2,    25.01,2,     -999,9,   2.3424,2,     -999,9,     -999,9,     -999,9,     -999,9,     -999,1,   4.6405,1,   0.0122,1,     -999,9,     -999,9,     -999,9,     -999,9,     -999,9,20230909,0559, -31.4946,  30.9751,-999          ,9,-999          ,9
33RR20230722  ,I05        ,189     ,  1,2          ,2          ,2,20230909,0553, -31.4947,  30.9752,     2908,   2845.6,2,   2.2128,2,  34.8064,2,  34.8074,2,    215.2,2,    215.1,2,    69.11,2,    27.09,2,     0.00,2,     1.86,2,    0.041,2,    0.025,2,   0.0300,2,   2228.8,2,   2344.1,2,   7.6593,6,    25.00,2,     -999,9,   2.2125,2,     -999,9,     -999,9,     -999,9,     -999,9,     -999,1,   4.9711,1,   0.0117,1,     17.1,2,     -999,9,     -999,9,     -999,9,     -999,9,20230909,0555, -31.4946,  30.9751,-999          ,9,-999          ,9
33RR20230722  ,I05        ,189     ,  1,1          ,1          ,2,20230909,0553, -31.4947,  30.9752,     2908,   2939.9,2,   2.1149,2,  34.8040,2,  34.8051,2,    216.5,2,    216.0,2,    71.65,2,    27.19,2,     0.00,2,     1.88,2,    0.047,2,    0.029,2,   0.0100,2,   2229.3,6,   2345.1,2,   7.6584,2,    25.04,2,     -999,9,   2.1143,2,     -999,9,     -999,9,     -999,9,     -999,9,     -999,1,   0.4164,1,   0.0116,1,     17.0,2,     -999,9,     -999,9,     -999,9,     -999,9,20230909,0553, -31.4947,  30.9751,-999          ,9,-999          ,9