BOTTLE,20240422CCHHYDRO
EXPOCODE,SECT_ID,STNNBR,CASTNO,SAMPNO,BTLNBR,BTLNBR_FLAG_W,DATE,TIME,LATITUDE,LONGITUDE,DEPTH,CTDPRS,CTDPRS_FLAG_W,CTDTMP,CTDTMP_FLAG_W,CTDSAL,CTDSAL_FLAG_W,SALNTY,SALNTY_FLAG_W,CTDOXY,CTDOXY_FLAG_W,OXYGEN,OXYGEN_FLAG_W,SILCAT,SILCAT_FLAG_W,NITRAT,NITRAT_FLAG_W,NITRIT,NITRIT_FLAG_W,PHSPHT,PHSPHT_FLAG_W,CFC-11,CFC-11_FLAG_W,CFC-12,CFC-12_FLAG_W,SF6,SF6_FLAG_W,TCARBN,TCARBN_FLAG_W,ALKALI,ALKALI_FLAG_W,PH_TOT,PH_TOT_FLAG_W,PH_TMP,PH_TMP_FLAG_W,DOC,DOC_FLAG_W,REFTMP,REFTMP_FLAG_W,POC,POC_FLAG_W,PON,PON_FLAG_W,POP,POP_FLAG_W,DOP,DOP_FLAG_W,DELO18,DELO18_FLAG_W,CTDFLUOR,CTDFLUOR_FLAG_W,CTDXMISS,CTDXMISS_FLAG_W,N2O,N2O_FLAG_W,D15N_NO3,D15N_NO3_FLAG_W,D15N_NO2+NO3,D15N_NO2+NO3_FLAG_W,D18O_NO2+NO3,D18O_NO2+NO3_FLAG_W,D18O_NO3,D18O_NO3_FLAG_W,BTL_DATE,BTL_TIME,BTL_LAT,BTL_LON,HPLC,HPLC_FLAG_W,DNA,DNA_FLAG_W
,,,,,,,,,,,METERS,DBAR,,ITS-90,,PSS-78,,PSS-78,,UMOL/KG,,UMOL/KG,,UMOL/KG,,UMOL/KG,,UMOL/KG,,UMOL/KG,,PMOL/KG,,PMOL/KG,,FMOL/KG,,UMOL/KG,,UMOL/KG,,,,DEG C,,UMOL/KG,,ITS-90,,UG/KG,,UG/KG,,UG/L,,UMOL/KG,,/MILLE,,VOLTS,,VOLTS,,NMOL/KG,,/MILLE,,/MILLE,,/MILLE,,/MILLE,,,,,,,,,
33RR20230722  ,I05        ,8       ,  1,36         ,36         ,2,20230723,1454, -32.4886, 113.9751,     4033,     16.5,2,  18.7771,2,  35.5928,2,  35.5950,2,    228.9,2,    230.4,2,     2.93,2,     0.06,2,     0.01,2,     0.10,2,    1.653,2,    1.051,2,   2.0400,2,   2054.0,6,   2338.0,2,   7.9979,2,    25.02,2,     -999,1,  18.7990,2,     -999,9,     -999,9,     -999,9,     -999,9,     -999,1,   4.6572,1,   0.0248,1,      7.9,2,     -999,9,     -999,9,     -999,9,     -999,9,20230723,1654, -32.4886, 113.9751,-999          ,9,-999          ,9
33RR20230722  ,I05        ,8       ,  1,35         ,35         ,2,20230723,1454, -32.4886, 113.9751,     4033,     36.3,2,  17.3022,2,  35.6793,2,  35.6796,2,    237.3,2,    237.8,2,     2.73,2,     0.00,2,     0.01,2,     0.08,2,     -999,9,     -999,9,     -999,9,   -999.0,9,     -999,9,     -999,9,     -999,9,     -999,1,  17.2765,2,     -999,9,     -999,9,     -999,9,     -999,9,     -999,1,   4.9684,1,   0.0276,1,     -999,9,     -999,9,     -999,9,     -999,9,     -999,9,20230723,1652, -32.4886, 113.9751,-999          ,9,-999          ,9
33RR20230722  ,I05        ,8       ,  1,34         ,34         ,2,20230723,1454, -32.4886, 113.9751,     4033,     57.5,2,  16.9841,2,  35.6950,2,  35.6952,2,    239.8,2,    239.8,2,     2.83,2,     0.00,2,     0.00,2,     0.10,2,     -999,9,     -999,9,     -999,9,   2075.9,2,   2344.7,2,   7.9747,2,    25.01,2,     -999,1,  16.9842,2,     -999,9,     -999,9,     -999,9,     -999,9,     -999,1,   4.9761,1,   0.0312,1,     -999,9,     -999,9,     -999,9,     -999,9,     -999,9,20230723,1649, -32.4886, 113.9751,-999          ,9,-999          ,9
33RR20230722  ,I05        ,8       ,  1,33         ,33         ,2,20230723,1454, -32.4886, 113.9751,     4033,     76.9,2,  16.9704,2,  35.6986,2,  35.6996,2,    239.0,2,    238.4,2,     2.44,2,     0.00,2,     0.01,2,     0.11,2,     -999,9,     -999,9,     -999,9,   2077.7,2,   2346.2,2,   7.9732,2,    25.00,2,     -999,1,  16.9653,2,     -999,9,     -999,9,     -999,9,     -999,9,     -999,1,   4.9755,1,   0.0311,1,     -999,9,     -999,9,     -999,9,     -999,9,     -999,9,20230723,1648, -32.4886, 113.9751,-999          ,9,-999          ,9
33RR20230722  ,I05        ,8       ,  1,32         ,32         ,2,20230723,1454, -32.4886, 113.9751,     4033,     97.0,2,  16.9217,2,  35.7045,2,  35.7053,2,    237.8,2,    237.8,2,     2.15,2,     0.00,2,     0.03,2,     0.08,2,     -999,9,     -999,9,     -999,9,   -999.0,9,     -999,9,     -999,9,     -999,9,     -999,1,  16.9211,2,     -999,9,     -999,9,     -999,9,     -999,9,     -999,1,   4.9751,1,   0.0324,1,     -999,9,     -999,9,     -999,9,     -999,9,     -999,9,20230723,1646, -32.4886, 113.9751,-999          ,9,-999          ,9
33RR20230722  ,I05        ,8       ,  1,31         ,31         ,2,20230723,1454, -32.4886, 113.9751,     4033,    121.1,2,  16.4117,2,  35.6751,2,  35.6761,2,    236.8,2,    236.4,2,     2.54,2,     0.25,2,     0.23,2,     0.15,2,     -999,9,     -999,9,     -999,9,   2087.7,2,   2345.7,2,   7.9538,2,    25.00,2,     -999,1,  16.4166,2,     -999,9,     -999,9,     -999,9,     -999,9,     -999,1,   4.9740,1,   0.0228,1,     -999,9,     -999,9,     -999,9,     -999,9,     -999,9,20230723,1644, -32.4886, 113.9751,-999          ,9,-999          ,9
33RR20230722  ,I05        ,8       ,  1,30         ,30         ,2,20230723,1454, -32.4886, 113.9751,     4033,    156.9,2,  15.5730,2,  35.5962,2,  35.5981,2,    239.6,2,    239.4,2,     1.95,2,     0.87,2,     0.21,2,     0.17,2,     -999,9,     -999,9,     -999,9,   -999.0,9,     -999,9,     -999,9,     -999,9,     -999,1,  15.5696,2,     -999,9,     -999,9,     -999,9,     -999,9,     -999,1,   4.9734,1,   0.0163,1,     -999,9,     -999,9,     -999,9,     -999,9,     -999,9,20230723,1642, -32.4886, 113.9751,-999          ,9,-999          ,9
33RR20230722  ,I05        ,8       ,  1,29         ,29         ,2,20230723,1454, -32.4886, 113.9751,     4033,    182.1,2,  15.4632,2,  35.6299,2,  35.6313,2,    239.3,2,    239.8,2,     2.63,2,     0.84,2,     0.22,2,     0.19,2,     -999,9,     -999,9,     -999,9,   -999.0,9,     -999,9,     -999,9,     -999,9,     -999,1,  15.4515,2,     -999,9,     -999,9,     -999,9,     -999,9,     -999,1,   4.9311,1,   0.0137,1,     -999,9,     -999,9,     -999,9,     -999,9,     -999,9,20230723,1640, -32.4886, 113.9751,-999          ,9,-999          ,9
33RR20230722  ,I05        ,8       ,  1,28         ,28         ,2,20230723,1454, -32.4886, 113.9751,     4033,    218.0,2,  14.0501,2,  35.3421,2,  35.3466,2,    233.3,2,    235.4,2,     2.54,2,     3.67,2,     0.02,2,     0.38,2,    2.206,2,    1.354,2,   2.4600,2,   2108.6,2,   2327.7,2,   7.8844,2,    25.00,2,     -999,1,  14.0581,2,     -999,9,     -999,9,     -999,9,     -999,9,     -999,1,   4.9707,1,   0.0120,1,      9.9,2,     -999,9,     -999,9,     -999,9,     -999,9,20230723,1638, -32.4886, 113.9751,-999          ,9,-999          ,9
33RR20230722  ,I05        ,8       ,  1,27         ,27         ,2,20230723,1454, -32.4886, 113.9751,     4033,    258.2,2,  12.5739,2,  35.0941,2,  33.1388,4,    238.1,2,    239.3,2,     2.93,2,     6.24,2,     0.01,2,     0.55,2,     -999,9,     -999,9,     -999,9,   -999.0,9,     -999,9,     -999,9,     -999,9,     -999,1,  12.5770,2,     -999,9,     -999,9,     -999,9,     -999,9,     -999,1,   4.9111,1,   0.0116,1,     -999,9,     -999,9,     -999,9,     -999,9,     -999,9,20230723,1636, -32.4886, 113.9751,-999          ,9,-999          ,9
33RR20230722  ,I05        ,8       ,  1,26         ,26         ,2,20230723,1454, -32.4886, 113.9751,     4033,    297.1,2,  11.6379,2,  34.9488,2,  34.9526,2,    242.3,2,    242.5,2,     2.83,2,     8.48,2,     0.00,2,     0.68,2,     -999,9,     -999,9,     -999,9,   -999.0,9,     -999,9,     -999,9,     -999,9,     -999,1,  11.6381,2,     -999,9,     -999,9,     -999,9,     -999,9,     -999,1,   4.9695,1,   0.0115,1,     -999,9,     -999,9,     -999,9,     -999,9,     -999,9,20230723,1634, -32.4886, 113.9751,-999          ,9,-999          ,9
33RR20230722  ,I05        ,8       ,  1,25         ,25         ,2,20230723,1454, -32.4886, 113.9751,     4033,    327.8,2,  11.0877,2,  34.8686,2,  34.8770,2,    244.5,2,    243.8,2,     3.51,2,    10.01,2,     0.00,2,     0.77,2,     -999,9,     -999,9,     -999,9,   2127.3,2,   2303.8,2,   7.8021,2,    25.00,2,     -999,1,  11.0979,2,     -999,9,     -999,9,     -999,9,     -999,9,     -999,1,   4.8009,1,   0.0114,1,     -999,9,     -999,9,     -999,9,     -999,9,     -999,9,20230723,1632, -32.4886, 113.9751,-999          ,9,-999          ,9
33RR20230722  ,I05        ,8       ,  1,24         ,24         ,2,20230723,1454, -32.4886, 113.9751,     4033,    375.6,2,  10.2397,2,  34.7541,2,  34.7563,2,    246.6,2,    245.8,2,     4.20,2,    12.62,2,     0.00,2,     0.96,2,     -999,9,     -999,9,     -999,9,   -999.0,9,     -999,9,     -999,9,     -999,9,     -999,1,  10.2276,2,     -999,9,     -999,9,     -999,9,     -999,9,     -999,1,   4.8187,1,   0.0114,1,     -999,9,     -999,9,     -999,9,     -999,9,     -999,9,20230723,1630, -32.4886, 113.9751,-999          ,9,-999          ,9
33RR20230722  ,I05        ,8       ,  1,23         ,23         ,2,20230723,1454, -32.4886, 113.9751,     4033,    483.4,2,   9.8023,2,  34.7280,2,  34.7331,2,    238.0,2,    238.4,2,     5.07,2,    14.83,2,     0.00,2,     1.07,2,   -0.014,4,    0.000,4,  -0.0500,4,   2138.0,2,   2294.7,2,   7.7573,2,    25.00,2,     -999,1,   9.8051,2,     -999,9,     -999,9,     -999,9,     -999,9,     -999,1,   4.8670,1,   0.0114,1,     -0.2,4,     -999,9,     -999,9,     -999,9,     -999,9,20230723,1627, -32.4885, 113.9751,-999          ,9,-999          ,9
33RR20230722  ,I05        ,8       ,  1,22         ,22         ,2,20230723,1454, -32.4886, 113.9751,     4033,    537.4,2,   9.5922,2,  34.7226,2,  34.7274,2,    237.4,2,    236.7,2,     5.76,2,    15.66,2,     0.00,2,     1.14,2,     -999,9,     -999,9,     -999,9,   -999.0,9,     -999,9,     -999,9,     -999,9,     -999,1,   9.5967,2,     -999,9,     -999,9,     -999,9,     -999,9,     -999,1,   4.9668,1,   0.0113,1,     -999,9,     -999,9,     -999,9,     -999,9,     -999,9,20230723,1624, -32.4886, 113.9751,-999          ,9,-999          ,9
33RR20230722  ,I05        ,8       ,  1,21         ,21         ,2,20230723,1454, -32.4886, 113.9751,     4033,    617.3,2,   8.8730,2,  34.6172,2,  34.6225,2,    233.2,2,    233.5,2,     7.61,2,    17.99,2,     0.00,2,     1.28,2,     -999,9,     -999,9,     -999,9,   -999.0,9,     -999,9,     -999,9,     -999,9,     -999,1,   8.8662,2,     -999,9,     -999,9,     -999,9,     -999,9,     -999,1,   4.8844,1,   0.0112,1,     -999,9,     -999,9,     -999,9,     -999,9,     -999,9,20230723,1622, -32.4886, 113.9751,-999          ,9,-999          ,9
33RR20230722  ,I05        ,8       ,  1,20         ,20         ,2,20230723,1454, -32.4886, 113.9751,     4033,    682.5,2,   8.0760,2,  34.5333,2,  34.5380,2,    217.5,2,    217.9,2,    10.73,2,    21.04,2,     0.00,2,     1.48,2,     -999,9,     -999,9,     -999,9,   2157.6,3,   2288.1,2,   7.7012,2,    25.00,2,     -999,1,   8.0713,2,     -999,9,     -999,9,     -999,9,     -999,9,     -999,1,   4.9672,1,   0.0112,1,     -999,9,     -999,9,     -999,9,     -999,9,     -999,9,20230723,1619, -32.4886, 113.9751,-999          ,9,-999          ,9
33RR20230722  ,I05        ,8       ,  1,19         ,19         ,2,20230723,1454, -32.4886, 113.9751,     4033,    772.8,2,   6.7544,2,  34.4402,2,  34.4438,2,    199.0,2,    199.8,2,    18.25,2,    25.53,2,     0.00,2,     1.77,2,     -999,9,     -999,9,     -999,9,   -999.0,9,     -999,9,     -999,9,     -999,9,     -999,1,   6.7789,2,     -999,9,     -999,9,     -999,9,     -999,9,     -999,1,   4.9692,1,   0.0113,1,     -999,9,     -999,9,     -999,9,     -999,9,     -999,9,20230723,1616, -32.4886, 113.9751,-999          ,9,-999          ,9
33RR20230722  ,I05        ,8       ,  1,18         ,18         ,2,20230723,1454, -32.4886, 113.9751,     4033,    836.8,2,   5.8624,2,  34.3943,2,  34.3990,2,    196.8,2,    197.4,2,    22.74,2,    27.75,2,     0.00,2,     1.93,2,    2.462,2,    1.310,2,   0.6700,2,   2185.8,2,   2290.3,2,   7.6350,2,    24.99,2,     -999,1,   5.8775,2,     -999,9,     -999,9,     -999,9,     -999,9,     -999,1,   4.8324,1,   0.0112,1,     19.5,2,     -999,9,     -999,9,     -999,9,     -999,9,20230723,1614, -32.4886, 113.9751,-999          ,9,-999          ,9
33RR20230722  ,I05        ,8       ,  1,17         ,17         ,2,20230723,1454, -32.4886, 113.9751,     4033,    948.2,2,   4.5224,2,  34.3723,2,  34.3753,2,    191.3,2,    192.3,2,    35.62,2,    30.75,2,     0.00,2,     2.13,2,     -999,9,     -999,9,     -999,9,   -999.0,9,     -999,9,     -999,9,     -999,9,     -999,1,   4.5268,2,     -999,9,     -999,9,     -999,9,     -999,9,     -999,1,   4.9710,1,   0.0112,1,     -999,9,     -999,9,     -999,9,     -999,9,     -999,9,20230723,1610, -32.4886, 113.9752,-999          ,9,-999          ,9
33RR20230722  ,I05        ,8       ,  1,16         ,16         ,2,20230723,1454, -32.4886, 113.9751,     4033,   1071.5,2,   3.7256,2,  34.4295,2,  34.4326,2,    174.4,2,    175.3,2,    52.02,2,    32.97,2,     0.00,2,     2.31,2,     -999,9,     -999,9,     -999,9,   -999.0,9,     -999,9,     -999,9,     -999,9,     -999,1,   3.7258,2,     -999,9,     -999,9,     -999,9,     -999,9,     -999,1,   4.8943,1,   0.0112,1,     -999,9,     -999,9,     -999,9,     -999,9,     -999,9,20230723,1607, -32.4885, 113.9751,-999          ,9,-999          ,9
33RR20230722  ,I05        ,8       ,  1,15         ,15         ,2,20230723,1454, -32.4886, 113.9751,     4033,   1224.8,2,   3.3617,2,  34.5128,2,  34.5166,2,    158.3,2,    158.3,2,    66.17,2,    34.10,2,     0.00,2,     2.43,2,    0.399,2,    0.207,2,  -0.0400,2,   2255.8,3,   2333.0,2,   7.5619,2,    25.00,2,     -999,1,   3.3604,2,     -999,9,     -999,9,     -999,9,     -999,9,     -999,1,   4.9312,1,   0.0119,1,     24.2,2,     -999,9,     -999,9,     -999,9,     -999,9,20230723,1603, -32.4886, 113.9751,-999          ,9,-999          ,9
33RR20230722  ,I05        ,8       ,  1,14         ,14         ,4,20230723,1454, -32.4886, 113.9751,     4033,   1365.6,3,   3.1787,3,  34.5698,3,  35.5839,4,    151.6,3,    229.8,3,     2.44,3,     0.17,3,     0.00,3,     0.11,3,     -999,9,     -999,9,     -999,9,   -999.0,4,     -999,9,     -999,9,     -999,9,     -999,1,   3.1783,3,     -999,9,     -999,9,     -999,9,     -999,9,     -999,1,   4.9747,1,   0.0122,1,     -999,9,     -999,9,     -999,9,     -999,9,     -999,9,20230723,1559, -32.4886, 113.9751,-999          ,9,-999          ,9
33RR20230722  ,I05        ,8       ,  1,13         ,13         ,2,20230723,1454, -32.4886, 113.9751,     4033,   1521.0,2,   2.9142,2,  34.6179,2,  34.6187,2,    153.0,2,    152.6,2,    81.78,2,    34.05,2,     0.00,2,     2.41,2,     -999,9,     -999,9,     -999,9,   2271.5,3,   2354.5,2,   7.5637,6,    25.00,2,     -999,1,   2.9170,2,     -999,9,     -999,9,     -999,9,     -999,9,     -999,1,   4.9749,1,   0.0117,1,     -999,9,     -999,9,     -999,9,     -999,9,     -999,9,20230723,1555, -32.4886, 113.9751,-999          ,9,-999          ,9
33RR20230722  ,I05        ,8       ,  1,12         ,12         ,2,20230723,1454, -32.4886, 113.9751,     4033,   1671.2,2,   2.7229,2,  34.6578,2,  34.6586,2,    155.0,2,    154.7,2,    87.73,2,    33.71,2,     0.00,2,     2.40,2,     -999,9,     -999,9,     -999,9,   -999.0,9,     -999,9,     -999,9,     -999,9,     -999,1,   2.7239,2,     -999,9,     -999,9,     -999,9,     -999,9,     -999,1,   4.9263,1,   0.0123,1,     -999,9,     -999,9,     -999,9,     -999,9,     -999,9,20230723,1551, -32.4886, 113.9751,-999          ,9,-999          ,9
33RR20230722  ,I05        ,8       ,  1,11         ,11         ,2,20230723,1454, -32.4886, 113.9751,     4033,   1796.3,2,   2.5548,2,  34.6845,3,  34.6604,2,    158.0,3,    154.9,2,    90.46,2,    33.73,2,     0.00,2,     2.39,2,    0.050,2,    0.025,2,  -0.0400,2,   2271.9,2,   2360.7,6,   7.5694,2,    25.01,2,     -999,1,   2.5545,2,     -999,9,     -999,9,     -999,9,     -999,9,     -999,1,   4.9264,1,   0.0117,1,     23.8,2,     -999,9,     -999,9,     -999,9,     -999,9,20230723,1548, -32.4886, 113.9751,-999          ,9,-999          ,9
33RR20230722  ,I05        ,8       ,  1,10         ,10         ,2,20230723,1454, -32.4886, 113.9751,     4033,   1949.5,2,   2.4084,2,  34.7031,2,  34.7038,2,    160.4,2,    160.4,2,    99.53,2,    33.20,2,     0.00,2,     2.38,2,     -999,9,     -999,9,     -999,9,   -999.0,9,     -999,9,     -999,9,     -999,9,     -999,1,   2.4086,2,     -999,9,     -999,9,     -999,9,     -999,9,     -999,1,   4.9752,1,   0.0114,1,     -999,9,     -999,9,     -999,9,     -999,9,     -999,9,20230723,1543, -32.4886, 113.9751,-999          ,9,-999          ,9
33RR20230722  ,I05        ,8       ,  1,9          ,9          ,2,20230723,1454, -32.4886, 113.9751,     4033,   2187.9,2,   2.1841,2,  34.7196,2,  34.7205,2,    164.7,2,    164.6,2,   104.89,2,    32.96,2,     0.00,2,     2.37,2,     -999,9,     -999,9,     -999,9,   -999.0,9,     -999,9,     -999,9,     -999,9,     -999,1,   2.1851,2,     -999,9,     -999,9,     -999,9,     -999,9,     -999,1,   4.9754,1,   0.0111,1,     -999,9,     -999,9,     -999,9,     -999,9,     -999,9,20230723,1538, -32.4886, 113.9751,-999          ,9,-999          ,9
33RR20230722  ,I05        ,8       ,  1,8          ,8          ,2,20230723,1454, -32.4886, 113.9751,     4033,   2411.5,2,   2.0045,2,  34.7258,2,     -999,5,    169.4,2,    169.5,2,   108.89,2,    32.65,2,     0.00,2,     2.37,2,    0.026,2,    0.017,2,   0.0900,2,   2279.2,2,   2380.7,2,   7.5978,2,    25.00,2,     -999,1,   2.0049,2,     -999,9,     -999,9,     -999,9,     -999,9,     -999,1,   4.9701,1,   0.0112,1,     21.7,2,     -999,9,     -999,9,     -999,9,     -999,9,20230723,1533, -32.4886, 113.9752,-999          ,9,-999          ,9
33RR20230722  ,I05        ,8       ,  1,7          ,7          ,2,20230723,1454, -32.4886, 113.9751,     4033,   2684.8,2,   1.8201,2,  34.7283,3,  34.7414,2,    175.6,2,    175.8,2,   110.94,2,    32.33,2,     0.00,2,     2.35,2,     -999,9,     -999,9,     -999,9,   -999.0,9,     -999,9,     -999,9,     -999,9,     -999,1,   1.8207,2,     -999,9,     -999,9,     -999,9,     -999,9,     -999,1,   4.6488,1,   0.0123,1,     -999,9,     -999,9,     -999,9,     -999,9,     -999,9,20230723,1526, -32.4886, 113.9751,-999          ,9,-999          ,9
33RR20230722  ,I05        ,8       ,  1,6          ,6          ,2,20230723,1454, -32.4886, 113.9751,     4033,   2915.3,2,   1.6681,2,  34.7277,2,  34.7268,2,    179.8,2,    180.1,2,   111.24,2,    32.40,2,     0.00,2,     2.32,2,     -999,9,     -999,9,     -999,9,   -999.0,9,     -999,9,     -999,9,     -999,9,     -999,1,   1.6689,2,     -999,9,     -999,9,     -999,9,     -999,9,     -999,1,   4.9756,1,   0.0120,1,     -999,9,     -999,9,     -999,9,     -999,9,     -999,9,20230723,1521, -32.4886, 113.9752,-999          ,9,-999          ,9
33RR20230722  ,I05        ,8       ,  1,5          ,5          ,2,20230723,1454, -32.4886, 113.9751,     4033,   3174.1,2,   1.5123,2,  34.7252,2,  34.7250,2,    184.1,2,    184.4,2,   115.24,2,    32.41,2,     0.00,2,     2.30,2,    0.020,2,    0.011,2,  -0.0700,2,   -999.0,9,     -999,9,     -999,9,     -999,9,     -999,1,   1.5125,2,     -999,9,     -999,9,     -999,9,     -999,9,     -999,1,   4.9758,1,   0.0117,1,     20.1,2,     -999,9,     -999,9,     -999,9,     -999,9,20230723,1515, -32.4886, 113.9751,-999          ,9,-999          ,9
33RR20230722  ,I05        ,8       ,  1,4          ,4          ,2,20230723,1454, -32.4886, 113.9751,     4033,   3546.8,2,   1.3155,2,  34.7196,2,  34.7188,2,    188.6,2,    188.8,2,   120.60,2,    32.44,2,     0.00,2,     2.29,2,    0.011,2,    0.006,2,  -0.0300,2,   2285.7,3,   2389.8,2,   7.6194,6,    25.00,2,     -999,1,   1.3151,2,     -999,9,     -999,9,     -999,9,     -999,9,     -999,1,   4.9432,1,   0.0117,1,     19.4,2,     -999,9,     -999,9,     -999,9,     -999,9,20230723,1508, -32.4886, 113.9751,-999          ,9,-999          ,9
33RR20230722  ,I05        ,8       ,  1,3          ,3          ,2,20230723,1454, -32.4886, 113.9751,     4033,   3809.9,2,   1.2545,2,  34.7175,2,  34.7160,2,    190.5,2,    190.9,2,   123.73,2,    32.39,2,     0.00,2,     2.29,2,     -999,5,     -999,5,     -999,5,   -999.0,9,     -999,9,     -999,9,     -999,9,     -999,1,   1.2551,2,     -999,9,     -999,9,     -999,9,     -999,9,     -999,1,   4.9455,1,   0.0113,1,     -999,5,     -999,9,     -999,9,     -999,9,     -999,9,20230723,1502, -32.4886, 113.9751,-999          ,9,-999          ,9