BOTTLE,20240422CCHHYDRO
EXPOCODE,SECT_ID,STNNBR,CASTNO,SAMPNO,BTLNBR,BTLNBR_FLAG_W,DATE,TIME,LATITUDE,LONGITUDE,DEPTH,CTDPRS,CTDPRS_FLAG_W,CTDTMP,CTDTMP_FLAG_W,CTDSAL,CTDSAL_FLAG_W,SALNTY,SALNTY_FLAG_W,CTDOXY,CTDOXY_FLAG_W,OXYGEN,OXYGEN_FLAG_W,SILCAT,SILCAT_FLAG_W,NITRAT,NITRAT_FLAG_W,NITRIT,NITRIT_FLAG_W,PHSPHT,PHSPHT_FLAG_W,CFC-11,CFC-11_FLAG_W,CFC-12,CFC-12_FLAG_W,SF6,SF6_FLAG_W,TCARBN,TCARBN_FLAG_W,ALKALI,ALKALI_FLAG_W,PH_TOT,PH_TOT_FLAG_W,PH_TMP,PH_TMP_FLAG_W,DOC,DOC_FLAG_W,REFTMP,REFTMP_FLAG_W,POC,POC_FLAG_W,PON,PON_FLAG_W,POP,POP_FLAG_W,DOP,DOP_FLAG_W,DELO18,DELO18_FLAG_W,CTDFLUOR,CTDFLUOR_FLAG_W,CTDXMISS,CTDXMISS_FLAG_W,N2O,N2O_FLAG_W,D15N_NO3,D15N_NO3_FLAG_W,D15N_NO2+NO3,D15N_NO2+NO3_FLAG_W,D18O_NO2+NO3,D18O_NO2+NO3_FLAG_W,D18O_NO3,D18O_NO3_FLAG_W,BTL_DATE,BTL_TIME,BTL_LAT,BTL_LON,HPLC,HPLC_FLAG_W,DNA,DNA_FLAG_W
,,,,,,,,,,,METERS,DBAR,,ITS-90,,PSS-78,,PSS-78,,UMOL/KG,,UMOL/KG,,UMOL/KG,,UMOL/KG,,UMOL/KG,,UMOL/KG,,PMOL/KG,,PMOL/KG,,FMOL/KG,,UMOL/KG,,UMOL/KG,,,,DEG C,,UMOL/KG,,ITS-90,,UG/KG,,UG/KG,,UG/L,,UMOL/KG,,/MILLE,,VOLTS,,VOLTS,,NMOL/KG,,/MILLE,,/MILLE,,/MILLE,,/MILLE,,,,,,,,,
33RR20230722  ,I05        ,114     ,  2,36         ,38         ,2,20230821,1312, -33.9976,  63.9808,     4613,      5.3,2,  16.1329,2,  35.4933,2,  35.4957,2,    247.3,2,    247.2,2,     2.05,2,     0.17,2,     0.04,2,     0.18,2,    2.257,2,    1.403,2,   2.3900,2,   2083.5,6,   2331.4,2,   7.9453,2,    24.99,2,     -999,1,  16.1320,2,     -999,9,     -999,9,     -999,9,     -999,9,     -999,1,   4.5893,1,   0.0653,1,      8.6,2,     -999,1,     -999,1,     -999,1,     -999,1,20230821,1518, -33.9976,  63.9808,-999          ,9,-999          ,9
33RR20230722  ,I05        ,114     ,  2,35         ,35         ,2,20230821,1312, -33.9976,  63.9808,     4613,     20.6,2,  16.1136,2,  35.4903,2,  35.4918,2,    247.5,2,    247.4,2,     2.05,2,     0.13,2,     0.04,2,     0.19,2,     -999,9,     -999,9,     -999,9,   2083.9,2,   2331.3,2,   7.9446,2,    25.00,2,     -999,1,  16.1239,2,     -999,9,     -999,9,     -999,9,     -999,9,     -999,1,   4.9470,1,   0.0688,1,     -999,9,     -999,1,     -999,1,     -999,1,     -999,1,20230821,1515, -33.9976,  63.9809,-999          ,9,-999          ,9
33RR20230722  ,I05        ,114     ,  2,34         ,34         ,2,20230821,1312, -33.9976,  63.9808,     4613,     37.9,2,  15.8900,2,  35.4553,2,  35.4582,2,    249.5,2,    249.0,2,     1.85,2,     0.19,2,     0.05,2,     0.18,2,     -999,9,     -999,9,     -999,9,   2083.6,2,   2330.7,2,   7.9425,2,    24.97,2,     -999,1,  15.8889,2,     -999,9,     -999,9,     -999,9,     -999,9,     -999,1,   4.9756,1,   0.0682,1,     -999,9,     -999,1,     -999,1,     -999,1,     -999,1,20230821,1512, -33.9976,  63.9809,-999          ,9,-999          ,9
33RR20230722  ,I05        ,114     ,  2,33         ,33         ,2,20230821,1312, -33.9976,  63.9808,     4613,     55.7,2,  15.5751,2,  35.4346,2,  35.4342,2,    248.1,2,    247.5,2,     1.95,2,     0.80,2,     0.14,2,     0.22,2,     -999,9,     -999,9,     -999,9,   2087.4,2,   2328.6,2,   7.9293,2,    25.00,2,     -999,1,  15.5445,2,     -999,9,     -999,9,     -999,9,     -999,9,     -999,1,   4.9747,1,   0.0451,1,     -999,9,     -999,1,     -999,1,     -999,1,     -999,1,20230821,1510, -33.9976,  63.9808,-999          ,9,-999          ,9
33RR20230722  ,I05        ,114     ,  2,32         ,32         ,2,20230821,1312, -33.9976,  63.9808,     4613,     82.1,2,  15.4158,2,  35.4309,2,  35.4295,2,    246.0,2,    245.4,2,     2.34,2,     1.23,2,     0.24,2,     0.25,2,     -999,9,     -999,9,     -999,9,   2092.7,2,   2327.0,2,   7.9237,2,    25.01,2,     -999,1,  15.4141,2,     -999,9,     -999,9,     -999,9,     -999,9,     -999,1,   4.9741,1,   0.0287,1,     -999,9,     -999,1,     -999,1,     -999,1,     -999,1,20230821,1508, -33.9977,  63.9808,-999          ,9,-999          ,9
33RR20230722  ,I05        ,114     ,  2,31         ,31         ,2,20230821,1312, -33.9976,  63.9808,     4613,    108.8,2,  15.1667,2,  35.4215,2,  35.4229,2,    241.3,2,    241.8,2,     2.34,2,     2.56,2,     0.25,2,     0.31,2,     -999,9,     -999,9,     -999,9,   2096.5,2,   2325.0,2,   7.9090,2,    24.98,2,     -999,1,  15.1649,2,     -999,9,     -999,9,     -999,9,     -999,9,     -999,1,   4.9726,1,   0.0172,1,     -999,9,     -999,1,     -999,1,     -999,1,     -999,1,20230821,1505, -33.9976,  63.9808,-999          ,9,-999          ,9
33RR20230722  ,I05        ,114     ,  2,30         ,30         ,2,20230821,1312, -33.9976,  63.9808,     4613,    137.7,2,  15.0392,2,  35.4186,2,  35.4184,2,    241.4,2,    241.6,2,     2.63,2,     3.19,2,     0.05,2,     0.34,2,     -999,9,     -999,9,     -999,9,   2095.5,2,   2326.5,6,   7.9059,2,    24.98,2,     -999,1,  15.0364,2,     -999,9,     -999,9,     -999,9,     -999,9,     -999,1,   4.9722,1,   0.0150,1,     -999,9,     -999,1,     -999,1,     -999,1,     -999,1,20230821,1503, -33.9977,  63.9809,-999          ,9,-999          ,9
33RR20230722  ,I05        ,114     ,  2,29         ,29         ,2,20230821,1312, -33.9976,  63.9808,     4613,    167.7,2,  15.0487,2,  35.4289,2,  35.4267,2,    240.9,2,    240.8,2,     2.54,2,     3.39,2,     0.02,2,     0.34,2,     -999,9,     -999,9,     -999,9,   2099.5,2,   2324.9,2,   7.9048,2,    25.00,2,     -999,1,  15.0469,2,     -999,9,     -999,9,     -999,9,     -999,9,     -999,1,   4.9720,1,   0.0126,1,     -999,9,     -999,1,     -999,1,     -999,1,     -999,1,20230821,1502, -33.9976,  63.9809,-999          ,9,-999          ,9
33RR20230722  ,I05        ,114     ,  2,28         ,28         ,2,20230821,1312, -33.9976,  63.9808,     4613,    200.1,2,  14.5765,2,  35.3729,2,  35.7880,4,    225.8,3,    228.8,2,     2.93,2,     5.31,2,     0.02,2,     0.45,2,    2.619,2,    1.521,2,   2.2200,2,   -999.0,9,     -999,9,     -999,9,     -999,9,     -999,1,  14.5962,2,     -999,9,     -999,9,     -999,9,     -999,9,     -999,1,   4.8323,1,   0.0127,1,      9.9,2,     -999,1,     -999,1,     -999,1,     -999,1,20230821,1500, -33.9976,  63.9809,-999          ,9,-999          ,9
33RR20230722  ,I05        ,114     ,  2,27         ,27         ,2,20230821,1312, -33.9976,  63.9808,     4613,    233.4,2,  14.0201,2,  35.3557,2,  35.7667,4,    231.5,2,    232.7,2,     3.02,2,     6.12,2,     0.00,2,     0.53,2,     -999,9,     -999,9,     -999,9,   2114.9,2,   2321.6,2,   7.8625,6,    24.98,2,     -999,1,  14.0133,2,     -999,9,     -999,9,     -999,9,     -999,9,     -999,1,   4.9695,1,   0.0116,1,     -999,9,     -999,1,     -999,1,     -999,1,     -999,1,20230821,1458, -33.9976,  63.9809,-999          ,9,-999          ,9
33RR20230722  ,I05        ,114     ,  2,26         ,26         ,2,20230821,1312, -33.9976,  63.9808,     4613,    272.3,2,  13.6583,2,  35.3092,2,  35.3039,2,    234.3,2,    234.8,2,     3.32,2,     6.92,2,     0.00,2,     0.56,2,     -999,9,     -999,9,     -999,9,   -999.0,9,     -999,9,     -999,9,     -999,9,     -999,1,  13.6520,2,     -999,9,     -999,9,     -999,9,     -999,9,     -999,1,   4.8921,1,   0.0117,1,     -999,9,     -999,1,     -999,1,     -999,1,     -999,1,20230821,1456, -33.9976,  63.9809,-999          ,9,-999          ,9
33RR20230722  ,I05        ,114     ,  2,25         ,25         ,2,20230821,1312, -33.9976,  63.9808,     4613,    320.1,2,  13.3132,2,  35.2625,2,  35.2631,2,    236.2,2,    236.0,2,     3.51,2,     7.47,2,     0.00,2,     0.60,2,    2.757,2,    1.592,2,   2.3800,2,   2119.0,2,   2316.6,2,   7.8486,2,    25.00,2,     -999,1,  13.3125,2,     -999,9,     -999,9,     -999,9,     -999,9,     -999,1,   4.9692,1,   0.0119,1,     10.4,2,     -999,1,     -999,1,     -999,1,     -999,1,20230821,1454, -33.9977,  63.9809,-999          ,9,-999          ,9
33RR20230722  ,I05        ,114     ,  2,24         ,24         ,2,20230821,1312, -33.9976,  63.9808,     4613,    375.9,2,  12.9116,2,  35.2008,2,  35.1991,2,    232.7,2,    232.9,2,     3.81,2,     8.66,2,     0.00,2,     0.67,2,     -999,9,     -999,9,     -999,9,   -999.0,9,     -999,9,     -999,9,     -999,9,     -999,1,  12.9089,2,     -999,9,     -999,9,     -999,9,     -999,9,     -999,1,   4.3693,1,   0.0113,1,     -999,9,     -999,1,     -999,1,     -999,1,     -999,1,20230821,1451, -33.9977,  63.9808,-999          ,9,-999          ,9
33RR20230722  ,I05        ,114     ,  2,23         ,23         ,2,20230821,1312, -33.9976,  63.9808,     4613,    445.0,2,  12.5824,2,  35.1475,2,  35.1561,2,    231.5,2,    232.2,2,     3.71,2,     9.53,2,     0.00,2,     0.73,2,     -999,9,     -999,9,     -999,9,   2127.1,2,   2313.7,2,   7.8241,6,    24.99,2,     -999,1,  12.5824,2,     -999,9,     -999,9,     -999,9,     -999,9,     -999,1,   4.9398,1,   0.0115,1,     -999,9,     -999,1,     -999,1,     -999,1,     -999,1,20230821,1449, -33.9976,  63.9808,-999          ,9,-999          ,9
33RR20230722  ,I05        ,114     ,  2,22         ,22         ,2,20230821,1312, -33.9976,  63.9808,     4613,    523.4,2,  11.8439,2,  35.0319,2,  35.0305,2,    231.5,2,    231.1,2,     4.39,2,    11.17,2,     0.00,2,     0.84,2,    3.006,2,    1.749,2,   2.1900,2,   2130.7,2,   2307.7,2,   7.8067,2,    25.00,2,     -999,1,  11.8432,2,     -999,9,     -999,9,     -999,9,     -999,9,     -999,1,   4.9672,1,   0.0113,1,     11.4,2,     -999,1,     -999,1,     -999,1,     -999,1,20230821,1447, -33.9977,  63.9809,-999          ,9,-999          ,9
33RR20230722  ,I05        ,114     ,  2,21         ,21         ,2,20230821,1312, -33.9976,  63.9808,     4613,    612.6,2,  10.9683,2,  34.8988,2,  34.8987,2,    223.5,2,    223.6,2,     5.27,2,    13.95,2,     0.00,2,     1.01,2,     -999,9,     -999,9,     -999,9,   -999.0,9,     -999,9,     -999,9,     -999,9,     -999,1,  10.9684,2,     -999,9,     -999,9,     -999,9,     -999,9,     -999,1,   4.9665,1,   0.0113,1,     -999,9,     -999,1,     -999,1,     -999,1,     -999,1,20230821,1444, -33.9977,  63.9808,-999          ,9,-999          ,9
33RR20230722  ,I05        ,114     ,  2,20         ,20         ,2,20230821,1312, -33.9976,  63.9808,     4613,    709.8,2,  10.1443,2,  34.7868,2,  34.7878,2,    223.4,2,    223.6,2,     5.86,2,    15.74,2,     0.00,2,     1.12,2,     -999,9,     -999,9,     -999,9,   2141.1,2,   2296.6,2,   7.7603,2,    24.99,2,     -999,1,  10.1503,2,     -999,9,     -999,9,     -999,9,     -999,9,     -999,1,   4.9667,1,   0.0114,1,     -999,9,     -999,1,     -999,1,     -999,1,     -999,1,20230821,1441, -33.9976,  63.9808,-999          ,9,-999          ,9
33RR20230722  ,I05        ,114     ,  2,19         ,19         ,2,20230821,1312, -33.9976,  63.9808,     4613,    815.9,2,   8.8311,2,  34.6365,2,  34.6358,2,    211.7,2,    212.3,2,    10.15,2,    20.05,2,     0.00,2,     1.41,2,    3.154,2,    1.769,2,   1.5100,2,   2155.8,2,   2293.0,2,   7.7143,2,    24.99,2,     -999,1,   8.8303,2,     -999,9,     -999,9,     -999,9,     -999,9,     -999,1,   4.9691,1,   0.0112,1,     14.8,2,     -999,1,     -999,1,     -999,1,     -999,1,20230821,1438, -33.9977,  63.9808,-999          ,9,-999          ,9
33RR20230722  ,I05        ,114     ,  2,18         ,18         ,2,20230821,1312, -33.9976,  63.9808,     4613,    930.5,2,   7.1858,2,  34.4902,2,  34.4899,2,    204.6,2,    204.6,2,    16.79,2,    24.62,2,     0.00,2,     1.71,2,     -999,9,     -999,9,     -999,9,   2173.2,2,   2291.6,2,   7.6691,2,    24.98,2,     -999,1,   7.1824,2,     -999,9,     -999,9,     -999,9,     -999,9,     -999,1,   4.9691,1,   0.0113,1,     -999,9,     -999,1,     -999,1,     -999,1,     -999,1,20230821,1435, -33.9976,  63.9809,-999          ,9,-999          ,9
33RR20230722  ,I05        ,114     ,  2,17         ,17         ,2,20230821,1312, -33.9976,  63.9808,     4613,   1056.5,2,   5.6674,2,  34.3896,2,  34.3892,2,    204.0,2,    203.4,2,    24.90,2,    28.12,2,     0.00,2,     1.93,2,     -999,9,     -999,9,     -999,9,   2186.8,2,   2294.3,2,   7.6351,2,    25.00,2,     -999,1,   5.6579,2,     -999,9,     -999,9,     -999,9,     -999,9,     -999,1,   4.9700,1,   0.0113,1,     -999,9,     -999,1,     -999,1,     -999,1,     -999,1,20230821,1432, -33.9976,  63.9809,-999          ,9,-999          ,9
33RR20230722  ,I05        ,114     ,  2,16         ,16         ,2,20230821,1312, -33.9976,  63.9808,     4613,   1191.8,2,   4.3835,2,  34.3653,2,  34.3643,2,    197.9,2,    197.6,2,    37.20,2,    30.93,2,     0.00,2,     2.15,2,    2.090,2,    1.122,2,   0.1200,2,   2207.8,2,   2302.2,2,   7.6042,2,    24.98,2,     -999,1,   4.3969,2,     -999,9,     -999,9,     -999,9,     -999,9,     -999,1,   4.9712,1,   0.0112,1,     20.2,2,     -999,1,     -999,1,     -999,1,     -999,1,20230821,1429, -33.9976,  63.9808,-999          ,9,-999          ,9
33RR20230722  ,I05        ,114     ,  2,15         ,15         ,2,20230821,1312, -33.9976,  63.9808,     4613,   1329.6,2,   3.7448,2,  34.4071,2,  34.4065,2,    186.6,2,    187.2,2,    50.28,2,    32.58,2,     0.00,2,     2.26,2,     -999,9,     -999,9,     -999,9,   2223.9,2,   2308.8,2,   7.5834,2,    25.00,2,     -999,1,   3.7437,2,     -999,9,     -999,9,     -999,9,     -999,9,     -999,1,   4.9724,1,   0.0113,1,     -999,9,     -999,1,     -999,1,     -999,1,     -999,1,20230821,1426, -33.9977,  63.9809,-999          ,9,-999          ,9
33RR20230722  ,I05        ,114     ,  2,14         ,14         ,2,20230821,1312, -33.9976,  63.9808,     4613,   1480.1,2,   3.2067,2,  34.4991,2,  34.4991,2,    172.6,2,    172.6,2,    63.26,2,    33.59,2,     0.00,2,     2.34,2,     -999,9,     -999,9,     -999,9,   -999.0,9,     -999,9,     -999,9,     -999,9,     -999,1,   3.2058,2,     -999,9,     -999,9,     -999,9,     -999,9,     -999,1,   4.9737,1,   0.0112,1,     -999,9,     -999,1,     -999,1,     -999,1,     -999,1,20230821,1422, -33.9976,  63.9808,-999          ,9,-999          ,9
33RR20230722  ,I05        ,114     ,  2,13         ,13         ,2,20230821,1312, -33.9976,  63.9808,     4613,   1623.8,2,   2.9637,2,  34.5620,2,  34.5620,2,    168.9,2,    169.2,2,    71.75,2,    33.55,2,     0.00,2,     2.32,2,    0.658,2,    0.227,2,   0.0400,2,   2250.8,2,   2335.9,6,   7.5707,2,    24.99,2,     -999,1,   2.9649,2,     -999,9,     -999,9,     -999,9,     -999,9,     -999,1,   4.9741,1,   0.0112,1,     22.3,2,     -999,1,     -999,1,     -999,1,     -999,1,20230821,1418, -33.9976,  63.9809,-999          ,9,-999          ,9
33RR20230722  ,I05        ,114     ,  2,12         ,12         ,2,20230821,1312, -33.9976,  63.9808,     4613,   1769.1,2,   2.7033,2,  34.6278,2,  34.6276,2,    173.3,2,    173.9,2,    75.65,2,    32.67,2,     0.00,2,     2.29,2,     -999,9,     -999,9,     -999,9,   -999.0,9,     -999,9,     -999,9,     -999,9,     -999,1,   2.7033,2,     -999,9,     -999,9,     -999,9,     -999,9,     -999,1,   4.9741,1,   0.0120,1,     -999,9,     -999,1,     -999,1,     -999,1,     -999,1,20230821,1415, -33.9977,  63.9808,-999          ,9,-999          ,9
33RR20230722  ,I05        ,114     ,  2,11         ,11         ,2,20230821,1312, -33.9976,  63.9808,     4613,   1946.4,2,   2.5270,2,  34.6740,2,  34.6985,4,    177.9,2,    178.1,2,    78.09,2,    31.89,2,     0.00,2,     2.22,2,     -999,9,     -999,9,     -999,9,   2252.9,2,   2345.9,6,   7.5917,2,    24.98,2,     -999,1,   2.5272,2,     -999,9,     -999,9,     -999,9,     -999,9,     -999,1,   4.8823,1,   0.0111,1,     -999,9,     -999,1,     -999,1,     -999,1,     -999,1,20230821,1410, -33.9977,  63.9808,-999          ,9,-999          ,9
33RR20230722  ,I05        ,114     ,  2,10         ,10         ,2,20230821,1312, -33.9976,  63.9808,     4613,   2154.9,2,   2.3000,2,  34.7105,2,  34.7097,2,    181.2,2,    181.4,2,    87.65,2,    31.55,2,     0.00,2,     2.19,2,    0.081,2,    0.035,2,   0.0400,2,   2258.4,2,   2356.8,2,   7.6035,6,    25.00,2,     -999,1,   2.2992,2,     -999,9,     -999,9,     -999,9,     -999,9,     -999,1,   4.9266,1,   0.0114,1,     19.8,2,     -999,1,     -999,1,     -999,1,     -999,1,20230821,1405, -33.9977,  63.9809,-999          ,9,-999          ,9
33RR20230722  ,I05        ,114     ,  2,9          ,9          ,2,20230821,1312, -33.9976,  63.9808,     4613,   2411.3,2,   2.0907,2,  34.7238,2,  34.7235,2,    178.6,2,    178.4,2,   101.51,2,    32.04,2,     0.00,2,     2.24,2,    0.056,2,    0.016,2,   0.0000,2,   -999.0,9,     -999,9,     -999,9,     -999,9,     -999,1,   2.0901,2,     -999,9,     -999,9,     -999,9,     -999,9,     -999,1,   4.9750,1,   0.0110,1,     20.0,2,     -999,1,     -999,1,     -999,1,     -999,1,20230821,1400, -33.9977,  63.9808,-999          ,9,-999          ,9
33RR20230722  ,I05        ,114     ,  2,8          ,8          ,2,20230821,1312, -33.9976,  63.9808,     4613,   2715.9,2,   1.9104,2,  34.7285,2,  34.7282,2,    177.6,2,    177.6,2,   110.49,2,    32.43,2,     0.00,2,     2.28,2,     -999,9,     -999,9,     -999,9,   2278.4,2,   2380.4,2,   7.6053,2,    24.97,2,     -999,1,   1.9100,2,     -999,9,     -999,9,     -999,9,     -999,9,     -999,1,   4.9756,1,   0.0125,1,     -999,9,     -999,1,     -999,1,     -999,1,     -999,1,20230821,1353, -33.9977,  63.9808,-999          ,9,-999          ,9
33RR20230722  ,I05        ,114     ,  2,7          ,7          ,2,20230821,1312, -33.9976,  63.9808,     4613,   3055.0,2,   1.7590,2,  34.7283,2,  34.7278,2,    179.8,2,    179.7,2,   114.78,2,    32.59,2,     0.00,2,     2.28,2,    0.032,2,    0.015,2,   0.0000,2,   2282.0,2,   2383.3,2,   7.6072,2,    25.00,2,     -999,1,   1.7587,2,     -999,9,     -999,9,     -999,9,     -999,9,     -999,1,   4.8291,1,   0.0120,1,     19.9,2,     -999,1,     -999,1,     -999,1,     -999,1,20230821,1347, -33.9977,  63.9809,-999          ,9,-999          ,9
33RR20230722  ,I05        ,114     ,  2,6          ,6          ,2,20230821,1312, -33.9976,  63.9808,     4613,   3420.5,2,   1.5542,2,  34.7231,2,  34.7227,2,    184.8,2,    184.7,2,   118.20,2,    32.67,2,     0.00,2,     2.29,2,    0.055,2,    0.022,2,   0.0000,2,   -999.0,9,     -999,9,     -999,9,     -999,9,     -999,1,   1.5535,2,     -999,9,     -999,9,     -999,9,     -999,9,     -999,1,   4.6852,1,   0.0117,1,     19.4,2,     -999,1,     -999,1,     -999,1,     -999,1,20230821,1339, -33.9977,  63.9808,-999          ,9,-999          ,9
33RR20230722  ,I05        ,114     ,  2,5          ,5          ,2,20230821,1312, -33.9976,  63.9808,     4613,   3787.8,2,   1.1891,2,  34.7109,2,  34.7109,2,    196.9,2,    197.2,2,   123.57,2,    32.46,2,     0.00,2,     2.28,2,     -999,9,     -999,9,     -999,9,   2273.5,2,   2374.2,2,   7.6085,2,    25.00,2,     -999,1,   1.1896,2,     -999,9,     -999,9,     -999,9,     -999,9,     -999,1,   4.9645,1,   0.0112,1,     -999,9,     -999,1,     -999,1,     -999,1,     -999,1,20230821,1332, -33.9977,  63.9808,-999          ,9,-999          ,9
33RR20230722  ,I05        ,114     ,  2,4          ,37         ,2,20230821,1312, -33.9976,  63.9808,     4613,   4131.3,2,   0.8216,2,  34.6969,2,  34.6962,2,    208.6,2,    208.9,2,   127.96,2,    32.38,2,     0.00,2,     2.26,2,    0.204,2,    0.074,2,   0.0000,2,   -999.0,9,     -999,9,     -999,9,     -999,9,     -999,1,   0.8208,2,     -999,9,     -999,9,     -999,9,     -999,9,     -999,1,   4.9761,1,   0.0112,1,     18.4,2,     -999,1,     -999,1,     -999,1,     -999,1,20230821,1325, -33.9977,  63.9808,-999          ,9,-999          ,9
33RR20230722  ,I05        ,114     ,  2,3          ,3          ,2,20230821,1312, -33.9976,  63.9808,     4613,   4375.9,2,   0.7249,2,  34.6921,2,  34.6912,2,    211.3,2,    211.9,2,   129.92,2,    32.45,2,     0.00,2,     2.25,2,    0.263,2,    0.082,2,   0.0500,2,   2268.3,2,   2369.8,2,   7.6098,6,    24.99,2,     -999,1,   0.7248,2,     -999,9,     -999,9,     -999,9,     -999,9,     -999,1,   4.9094,1,   0.0111,1,     18.2,2,     -999,1,     -999,1,     -999,1,     -999,1,20230821,1320, -33.9977,  63.9808,-999          ,9,-999          ,9