BOTTLE,20240422CCHHYDRO
EXPOCODE,SECT_ID,STNNBR,CASTNO,SAMPNO,BTLNBR,BTLNBR_FLAG_W,DATE,TIME,LATITUDE,LONGITUDE,DEPTH,CTDPRS,CTDPRS_FLAG_W,CTDTMP,CTDTMP_FLAG_W,CTDSAL,CTDSAL_FLAG_W,SALNTY,SALNTY_FLAG_W,CTDOXY,CTDOXY_FLAG_W,OXYGEN,OXYGEN_FLAG_W,SILCAT,SILCAT_FLAG_W,NITRAT,NITRAT_FLAG_W,NITRIT,NITRIT_FLAG_W,PHSPHT,PHSPHT_FLAG_W,CFC-11,CFC-11_FLAG_W,CFC-12,CFC-12_FLAG_W,SF6,SF6_FLAG_W,TCARBN,TCARBN_FLAG_W,ALKALI,ALKALI_FLAG_W,PH_TOT,PH_TOT_FLAG_W,PH_TMP,PH_TMP_FLAG_W,DOC,DOC_FLAG_W,REFTMP,REFTMP_FLAG_W,POC,POC_FLAG_W,PON,PON_FLAG_W,POP,POP_FLAG_W,DOP,DOP_FLAG_W,DELO18,DELO18_FLAG_W,CTDFLUOR,CTDFLUOR_FLAG_W,CTDXMISS,CTDXMISS_FLAG_W,N2O,N2O_FLAG_W,D15N_NO3,D15N_NO3_FLAG_W,D15N_NO2+NO3,D15N_NO2+NO3_FLAG_W,D18O_NO2+NO3,D18O_NO2+NO3_FLAG_W,D18O_NO3,D18O_NO3_FLAG_W,BTL_DATE,BTL_TIME,BTL_LAT,BTL_LON,HPLC,HPLC_FLAG_W,DNA,DNA_FLAG_W
,,,,,,,,,,,METERS,DBAR,,ITS-90,,PSS-78,,PSS-78,,UMOL/KG,,UMOL/KG,,UMOL/KG,,UMOL/KG,,UMOL/KG,,UMOL/KG,,PMOL/KG,,PMOL/KG,,FMOL/KG,,UMOL/KG,,UMOL/KG,,,,DEG C,,UMOL/KG,,ITS-90,,UG/KG,,UG/KG,,UG/L,,UMOL/KG,,/MILLE,,VOLTS,,VOLTS,,NMOL/KG,,/MILLE,,/MILLE,,/MILLE,,/MILLE,,,,,,,,,
33RR20230722  ,I05        ,4       ,  1,23         ,23         ,2,20230722,2132, -32.5868, 114.4676,      975,      4.9,2,  20.3426,2,  35.3653,2,  35.3636,2,    222.4,2,    222.1,2,     2.05,2,     0.07,2,     0.03,2,     0.08,2,     -999,9,     -999,9,     -999,9,   2030.8,6,   2320.6,2,   8.0190,2,    25.01,2,     -999,9,  20.3531,2,     -999,9,     -999,9,     -999,9,     -999,9,     -999,1,   4.9756,1,   0.0349,1,     -999,9,     -999,9,     -999,9,     -999,9,     -999,9,20230722,2217, -32.5868, 114.4676,-999          ,9,-999          ,9
33RR20230722  ,I05        ,4       ,  1,22         ,22         ,2,20230722,2132, -32.5868, 114.4676,      975,     18.6,2,  20.3586,2,  35.3636,2,  35.3618,2,    222.0,2,    222.1,2,     1.56,2,     0.01,2,     0.03,2,     0.08,2,     -999,9,     -999,9,     -999,9,   -999.0,9,     -999,9,     -999,9,     -999,9,     -999,9,  20.3537,2,     -999,9,     -999,9,     -999,9,     -999,9,     -999,1,   4.9755,1,   0.0344,1,     -999,9,     -999,9,     -999,9,     -999,9,     -999,9,20230722,2215, -32.5868, 114.4676,-999          ,9,-999          ,9
33RR20230722  ,I05        ,4       ,  1,21         ,21         ,2,20230722,2132, -32.5868, 114.4676,      975,     36.6,2,  19.8050,2,  35.4481,2,  35.4435,2,    225.7,2,    225.4,2,     1.46,2,     0.00,2,     0.01,2,     0.08,2,     -999,9,     -999,9,     -999,9,   2041.1,2,   2325.8,6,   8.0116,2,    25.01,2,     -999,9,  19.7970,2,     -999,9,     -999,9,     -999,9,     -999,9,     -999,1,   4.9756,1,   0.0350,1,     -999,9,     -999,9,     -999,9,     -999,9,     -999,9,20230722,2214, -32.5868, 114.4676,-999          ,9,-999          ,9
33RR20230722  ,I05        ,4       ,  1,20         ,20         ,2,20230722,2132, -32.5868, 114.4676,      975,     53.4,2,  19.4834,2,  35.5016,2,  35.4959,2,    225.7,2,    225.5,2,     1.27,2,     0.00,2,     0.03,2,     0.08,2,     -999,9,     -999,9,     -999,9,   -999.0,9,     -999,9,     -999,9,     -999,9,     -999,9,  19.4937,2,     -999,9,     -999,9,     -999,9,     -999,9,     -999,1,   4.8665,1,   0.0350,1,     -999,9,     -999,9,     -999,9,     -999,9,     -999,9,20230722,2212, -32.5868, 114.4676,-999          ,9,-999          ,9
33RR20230722  ,I05        ,4       ,  1,19         ,19         ,2,20230722,2132, -32.5868, 114.4676,      975,     73.7,2,  18.9182,2,  35.6215,2,  35.6135,2,    225.4,2,    226.7,2,     0.59,2,     0.08,2,     0.03,2,     0.08,2,     -999,9,     -999,9,     -999,9,   2059.6,2,   2337.8,2,   7.9927,6,    25.01,2,     -999,9,  18.9160,2,     -999,9,     -999,9,     -999,9,     -999,9,     -999,1,   4.8056,1,   0.0267,1,     -999,9,     -999,9,     -999,9,     -999,9,     -999,9,20230722,2210, -32.5868, 114.4676,-999          ,9,-999          ,9
33RR20230722  ,I05        ,4       ,  1,18         ,18         ,2,20230722,2132, -32.5868, 114.4676,      975,     97.7,2,  17.6942,2,  35.6578,2,  35.6569,2,    233.6,2,    233.4,2,     1.66,2,     0.05,2,     0.03,2,     0.10,2,     -999,9,     -999,9,     -999,9,   -999.0,9,     -999,9,     -999,9,     -999,9,     -999,9,  17.6865,2,     -999,9,     -999,9,     -999,9,     -999,9,     -999,1,   4.9751,1,   0.0307,1,     -999,9,     -999,9,     -999,9,     -999,9,     -999,9,20230722,2209, -32.5868, 114.4676,-999          ,9,-999          ,9
33RR20230722  ,I05        ,4       ,  1,17         ,17         ,2,20230722,2132, -32.5868, 114.4676,      975,    124.3,2,  16.9582,2,  35.6944,2,  35.6931,2,    237.5,2,    237.2,2,     0.88,2,     0.03,2,     0.02,2,     0.10,2,     -999,9,     -999,9,     -999,9,   2079.5,2,   2345.0,2,   7.9700,2,    25.01,2,     -999,9,  16.9575,2,     -999,9,     -999,9,     -999,9,     -999,9,     -999,1,   4.9748,1,   0.0290,1,     -999,9,     -999,9,     -999,9,     -999,9,     -999,9,20230722,2207, -32.5869, 114.4676,-999          ,9,-999          ,9
33RR20230722  ,I05        ,4       ,  1,16         ,16         ,2,20230722,2132, -32.5868, 114.4676,      975,    144.1,2,  16.8852,2,  35.6969,2,  35.6948,2,    236.6,2,    236.9,2,     0.98,2,     0.16,2,     0.03,2,     0.11,2,     -999,9,     -999,9,     -999,9,   -999.0,9,     -999,9,     -999,9,     -999,9,     -999,9,  16.8867,2,     -999,9,     -999,9,     -999,9,     -999,9,     -999,1,   4.9214,1,   0.0263,1,     -999,9,     -999,9,     -999,9,     -999,9,     -999,9,20230722,2205, -32.5868, 114.4677,-999          ,9,-999          ,9
33RR20230722  ,I05        ,4       ,  1,15         ,15         ,2,20230722,2132, -32.5868, 114.4676,      975,    169.5,2,  16.6137,2,  35.6693,2,  35.6692,2,    233.2,2,    233.8,2,     0.68,2,     0.90,2,     0.05,2,     0.16,2,     -999,9,     -999,9,     -999,9,   2086.1,2,   2343.7,2,   7.9530,2,    25.01,2,     -999,9,  16.6159,2,     -999,9,     -999,9,     -999,9,     -999,9,     -999,1,   4.9733,1,   0.0209,1,     -999,9,     -999,9,     -999,9,     -999,9,     -999,9,20230722,2204, -32.5868, 114.4677,-999          ,9,-999          ,9
33RR20230722  ,I05        ,4       ,  1,14         ,14         ,2,20230722,2132, -32.5868, 114.4676,      975,    203.1,2,  15.5777,2,  35.5778,2,  35.5776,2,    236.3,2,    236.8,2,     0.68,2,     1.82,2,     0.10,2,     0.19,2,     -999,9,     -999,9,     -999,9,   -999.0,9,     -999,9,     -999,9,     -999,9,     -999,9,  15.5771,2,     -999,9,     -999,9,     -999,9,     -999,9,     -999,1,   4.9729,1,   0.0141,1,     -999,9,     -999,9,     -999,9,     -999,9,     -999,9,20230722,2202, -32.5868, 114.4676,-999          ,9,-999          ,9
33RR20230722  ,I05        ,4       ,  1,13         ,13         ,2,20230722,2132, -32.5868, 114.4676,      975,    244.0,2,  14.4641,2,  35.4084,2,  35.4109,2,    238.5,2,    239.0,2,     0.20,2,     2.77,2,     0.04,2,     0.31,2,     -999,9,     -999,9,     -999,9,   2104.9,2,   2332.9,2,   7.9020,6,    25.01,2,     -999,9,  14.4659,2,     -999,9,     -999,9,     -999,9,     -999,9,     -999,1,   4.8666,1,   0.0125,1,     -999,9,     -999,9,     -999,9,     -999,9,     -999,9,20230722,2200, -32.5868, 114.4676,-999          ,9,-999          ,9
33RR20230722  ,I05        ,4       ,  1,12         ,12         ,2,20230722,2132, -32.5868, 114.4676,      975,    285.0,2,  13.0230,2,  35.1599,2,  35.1561,2,    237.4,2,    237.9,2,     0.39,2,     5.76,2,     0.01,2,     0.51,2,     -999,9,     -999,9,     -999,9,   -999.0,9,     -999,9,     -999,9,     -999,9,     -999,9,  13.0173,2,     -999,9,     -999,9,     -999,9,     -999,9,     -999,1,   4.9701,1,   0.0119,1,     -999,9,     -999,9,     -999,9,     -999,9,     -999,9,20230722,2159, -32.5868, 114.4677,-999          ,9,-999          ,9
33RR20230722  ,I05        ,4       ,  1,11         ,11         ,2,20230722,2132, -32.5868, 114.4676,      975,    324.3,2,  11.6994,2,  34.9682,2,  34.9750,2,    239.1,2,    239.5,2,     1.07,2,     8.95,2,     0.01,2,     0.70,2,     -999,9,     -999,9,     -999,9,   2122.7,2,   2308.0,2,   7.8173,2,    25.01,2,     -999,9,  11.6996,2,     -999,9,     -999,9,     -999,9,     -999,9,     -999,1,   4.9694,1,   0.0113,1,     -999,9,     -999,9,     -999,9,     -999,9,     -999,9,20230722,2157, -32.5869, 114.4676,-999          ,9,-999          ,9
33RR20230722  ,I05        ,4       ,  1,10         ,10         ,2,20230722,2132, -32.5868, 114.4676,      975,    365.8,2,  10.9790,2,  34.8820,2,  34.8877,2,    238.1,2,    237.7,2,     1.37,2,    11.55,2,     0.00,2,     0.85,2,     -999,9,     -999,9,     -999,9,   -999.0,9,     -999,9,     -999,9,     -999,9,     -999,9,  10.9967,2,     -999,9,     -999,9,     -999,9,     -999,9,     -999,1,   4.9684,1,   0.0114,1,     -999,9,     -999,9,     -999,9,     -999,9,     -999,9,20230722,2155, -32.5868, 114.4677,-999          ,9,-999          ,9
33RR20230722  ,I05        ,4       ,  1,9          ,9          ,2,20230722,2132, -32.5868, 114.4676,      975,    405.2,2,  10.2868,2,  34.7962,2,  34.7960,2,    238.8,2,    238.4,2,     2.24,2,    13.90,2,     0.00,2,     0.98,2,     -999,9,     -999,9,     -999,9,   2134.3,2,   2297.3,2,   7.7699,2,    25.02,2,     -999,9,  10.2869,2,     -999,9,     -999,9,     -999,9,     -999,9,     -999,1,   4.9680,1,   0.0115,1,     -999,9,     -999,9,     -999,9,     -999,9,     -999,9,20230722,2153, -32.5869, 114.4677,-999          ,9,-999          ,9
33RR20230722  ,I05        ,4       ,  1,8          ,8          ,2,20230722,2132, -32.5868, 114.4676,      975,    446.5,2,  10.0222,2,  34.7757,2,  34.7744,2,    235.6,2,    236.1,2,     2.54,2,    15.03,2,     0.00,2,     1.05,2,     -999,9,     -999,9,     -999,9,   -999.0,9,     -999,9,     -999,9,     -999,9,     -999,9,  10.0203,2,     -999,9,     -999,9,     -999,9,     -999,9,     -999,1,   4.9677,1,   0.0113,1,     -999,9,     -999,9,     -999,9,     -999,9,     -999,9,20230722,2151, -32.5868, 114.4677,-999          ,9,-999          ,9
33RR20230722  ,I05        ,4       ,  1,7          ,7          ,2,20230722,2132, -32.5868, 114.4676,      975,    523.9,2,   9.4331,2,  34.7051,2,  34.7036,2,    237.8,2,    237.9,2,     3.42,2,    16.71,2,     0.00,2,     1.16,2,     -999,9,     -999,9,     -999,9,   2141.2,2,   2291.9,2,   7.7472,2,    25.00,2,     -999,9,   9.4374,2,     -999,9,     -999,9,     -999,9,     -999,9,     -999,1,   4.9673,1,   0.0111,1,     -999,9,     -999,9,     -999,9,     -999,9,     -999,9,20230722,2149, -32.5868, 114.4676,-999          ,9,-999          ,9
33RR20230722  ,I05        ,4       ,  1,6          ,6          ,2,20230722,2132, -32.5868, 114.4676,      975,    600.1,2,   8.7423,2,  34.6102,2,  34.6101,2,    230.8,2,    231.1,2,     5.27,2,    19.29,2,     0.00,2,     1.29,2,     -999,9,     -999,9,     -999,9,   -999.0,9,     -999,9,     -999,9,     -999,9,     -999,9,   8.7475,2,     -999,9,     -999,9,     -999,9,     -999,9,     -999,1,   4.9667,1,   0.0112,1,     -999,9,     -999,9,     -999,9,     -999,9,     -999,9,20230722,2146, -32.5869, 114.4676,-999          ,9,-999          ,9
33RR20230722  ,I05        ,4       ,  1,5          ,5          ,2,20230722,2132, -32.5868, 114.4676,      975,    671.9,2,   7.8083,2,  34.5116,2,  34.5099,2,    211.9,2,    211.9,2,    10.83,2,    23.26,2,     0.00,2,     1.56,2,    2.933,2,    1.672,2,   1.4700,2,   2160.2,2,   2287.6,2,   7.6876,2,    25.03,2,     -999,9,   7.8103,2,     -999,9,     -999,9,     -999,9,     -999,9,     -999,1,   4.9671,1,   0.0112,1,     16.4,2,     -999,9,     -999,9,     -999,9,     -999,9,20230722,2144, -32.5868, 114.4677,-999          ,9,-999          ,9
33RR20230722  ,I05        ,4       ,  1,4          ,4          ,2,20230722,2132, -32.5868, 114.4676,      975,    753.8,2,   6.5544,2,  34.4323,2,  34.4330,2,    199.0,2,    199.0,2,    18.35,2,    27.07,2,     0.00,2,     1.79,2,     -999,9,     -999,9,     -999,9,   -999.0,9,     -999,9,     -999,9,     -999,9,     -999,9,   6.5639,2,     -999,9,     -999,9,     -999,9,     -999,9,     -999,1,   4.9682,1,   0.0112,1,     -999,9,     -999,9,     -999,9,     -999,9,     -999,9,20230722,2141, -32.5868, 114.4676,-999          ,9,-999          ,9
33RR20230722  ,I05        ,4       ,  1,3          ,3          ,2,20230722,2132, -32.5868, 114.4676,      975,    843.0,2,   5.2160,2,  34.3822,2,  34.3829,2,    193.8,2,    194.0,2,    28.41,2,    30.58,2,     0.00,2,     2.02,2,     -999,5,     -999,5,     -999,5,   2197.4,3,   2297.4,2,   7.6207,2,    25.02,2,     -999,9,   5.2152,2,     -999,9,     -999,9,     -999,9,     -999,9,     -999,1,   4.9687,1,   0.0112,1,     -999,5,     -999,9,     -999,9,     -999,9,     -999,9,20230722,2139, -32.5868, 114.4676,-999          ,9,-999          ,9
33RR20230722  ,I05        ,4       ,  1,2          ,2          ,2,20230722,2132, -32.5868, 114.4676,      975,    933.2,2,   4.4276,2,  34.3978,2,  34.3988,2,    182.7,2,    182.6,2,    42.27,2,    32.77,2,     0.00,2,     2.20,2,    1.533,2,    0.783,2,   0.5200,2,   -999.0,9,     -999,9,     -999,9,     -999,9,     -999,9,   4.4127,2,     -999,9,     -999,9,     -999,9,     -999,9,     -999,1,   2.5614,1,   0.0112,1,     22.3,2,     -999,9,     -999,9,     -999,9,     -999,9,20230722,2135, -32.5868, 114.4676,-999          ,9,-999          ,9
33RR20230722  ,I05        ,4       ,  1,1          ,1          ,2,20230722,2132, -32.5868, 114.4676,      975,    975.0,2,   4.1261,2,  34.4221,2,  34.4204,2,    175.3,2,    175.7,2,    48.61,2,    33.62,2,     0.00,2,     2.25,2,    1.270,2,    0.639,2,   0.3000,2,   2229.5,3,   2324.9,2,   7.5868,2,    25.00,2,     -999,9,   4.1196,2,     -999,9,     -999,9,     -999,9,     -999,9,     -999,1,   0.4736,1,   0.0111,1,     23.1,2,     -999,9,     -999,9,     -999,9,     -999,9,20230722,2132, -32.5868, 114.4676,-999          ,9,-999          ,9