BOTTLE,20240422CCHHYDRO
EXPOCODE,SECT_ID,STNNBR,CASTNO,SAMPNO,BTLNBR,BTLNBR_FLAG_W,DATE,TIME,LATITUDE,LONGITUDE,DEPTH,CTDPRS,CTDPRS_FLAG_W,CTDTMP,CTDTMP_FLAG_W,CTDSAL,CTDSAL_FLAG_W,SALNTY,SALNTY_FLAG_W,CTDOXY,CTDOXY_FLAG_W,OXYGEN,OXYGEN_FLAG_W,SILCAT,SILCAT_FLAG_W,NITRAT,NITRAT_FLAG_W,NITRIT,NITRIT_FLAG_W,PHSPHT,PHSPHT_FLAG_W,CFC-11,CFC-11_FLAG_W,CFC-12,CFC-12_FLAG_W,SF6,SF6_FLAG_W,TCARBN,TCARBN_FLAG_W,ALKALI,ALKALI_FLAG_W,PH_TOT,PH_TOT_FLAG_W,PH_TMP,PH_TMP_FLAG_W,DOC,DOC_FLAG_W,REFTMP,REFTMP_FLAG_W,POC,POC_FLAG_W,PON,PON_FLAG_W,POP,POP_FLAG_W,DOP,DOP_FLAG_W,DELO18,DELO18_FLAG_W,CTDFLUOR,CTDFLUOR_FLAG_W,CTDXMISS,CTDXMISS_FLAG_W,N2O,N2O_FLAG_W,D15N_NO3,D15N_NO3_FLAG_W,D15N_NO2+NO3,D15N_NO2+NO3_FLAG_W,D18O_NO2+NO3,D18O_NO2+NO3_FLAG_W,D18O_NO3,D18O_NO3_FLAG_W,BTL_DATE,BTL_TIME,BTL_LAT,BTL_LON,HPLC,HPLC_FLAG_W,DNA,DNA_FLAG_W
,,,,,,,,,,,METERS,DBAR,,ITS-90,,PSS-78,,PSS-78,,UMOL/KG,,UMOL/KG,,UMOL/KG,,UMOL/KG,,UMOL/KG,,UMOL/KG,,PMOL/KG,,PMOL/KG,,FMOL/KG,,UMOL/KG,,UMOL/KG,,,,DEG C,,UMOL/KG,,ITS-90,,UG/KG,,UG/KG,,UG/L,,UMOL/KG,,/MILLE,,VOLTS,,VOLTS,,NMOL/KG,,/MILLE,,/MILLE,,/MILLE,,/MILLE,,,,,,,,,
33RR20230722  ,I05        ,150     ,  1,36         ,38         ,2,20230831,0128, -33.3805,  47.4280,     3578,      5.3,2,  18.8022,2,  35.6143,2,  35.6143,2,    234.2,2,    234.3,2,     0.59,2,     0.02,2,     0.01,2,     0.12,2,     -999,9,     -999,9,     -999,9,   2059.1,6,   2334.8,2,   7.9911,2,    25.02,2,     -999,1,     -999,1,     -999,9,     -999,9,     -999,9,     -999,1,     -999,1,   4.7876,1,   0.0439,1,     -999,9,     -999,9,     -999,9,     -999,9,     -999,9,20230831,0310, -33.3805,  47.4280,-999          ,9,-999          ,9
33RR20230722  ,I05        ,150     ,  1,35         ,35         ,2,20230831,0128, -33.3805,  47.4280,     3578,     16.6,2,  18.6415,2,  35.6273,2,  35.6311,2,    234.5,2,    234.8,2,     0.78,2,     0.00,2,     0.01,2,     0.10,2,     -999,9,     -999,9,     -999,9,   2064.5,2,   2336.4,2,   7.9868,2,    24.98,2,     -999,1,     -999,1,     -999,9,     -999,9,     -999,9,     -999,1,     -999,1,   4.8479,1,   0.0502,1,     -999,9,     -999,9,     -999,9,     -999,9,     -999,9,20230831,0309, -33.3804,  47.4280,-999          ,9,-999          ,9
33RR20230722  ,I05        ,150     ,  1,34         ,34         ,2,20230831,0128, -33.3805,  47.4280,     3578,     28.3,2,  18.4237,2,  35.6365,2,  35.6362,2,    234.7,2,    235.0,2,     0.88,2,     0.00,2,     0.01,2,     0.09,2,     -999,9,     -999,9,     -999,9,   2065.1,2,   2334.7,2,   7.9852,2,    24.98,2,     -999,1,     -999,1,     -999,9,     -999,9,     -999,9,     -999,1,     -999,1,   4.9747,1,   0.0444,1,     -999,9,     -999,9,     -999,9,     -999,9,     -999,9,20230831,0307, -33.3805,  47.4280,-999          ,9,-999          ,9
33RR20230722  ,I05        ,150     ,  1,33         ,33         ,2,20230831,0128, -33.3805,  47.4280,     3578,     44.2,2,  18.2954,2,  35.6397,2,  35.6409,2,    235.9,2,    235.1,2,     0.98,2,     0.00,2,     0.02,2,     0.10,2,     -999,9,     -999,9,     -999,9,   2068.0,2,   2337.1,2,   7.9824,2,    24.98,2,     -999,1,     -999,1,     -999,9,     -999,9,     -999,9,     -999,1,     -999,1,   4.9389,1,   0.0379,1,     -999,9,     -999,9,     -999,9,     -999,9,     -999,9,20230831,0306, -33.3805,  47.4280,-999          ,9,-999          ,9
33RR20230722  ,I05        ,150     ,  1,32         ,32         ,2,20230831,0128, -33.3805,  47.4280,     3578,     62.6,2,  17.8645,2,  35.6652,2,  35.6628,2,    235.4,2,    234.4,2,     1.66,2,     0.06,2,     0.06,2,     0.13,2,     -999,9,     -999,9,     -999,9,   2074.2,2,   2337.5,2,   7.9681,2,    25.00,2,     -999,1,     -999,1,     -999,9,     -999,9,     -999,9,     -999,1,     -999,1,   4.9744,1,   0.0500,1,     -999,9,     -999,9,     -999,9,     -999,9,     -999,9,20230831,0304, -33.3805,  47.4281,-999          ,9,-999          ,9
33RR20230722  ,I05        ,150     ,  1,31         ,31         ,2,20230831,0128, -33.3805,  47.4280,     3578,     83.5,2,  17.5638,2,  35.6725,2,  35.6715,2,    235.8,2,    235.6,2,     1.76,2,     0.00,2,     0.12,2,     0.13,2,     -999,9,     -999,9,     -999,9,   2075.2,2,   2337.1,2,   7.9666,2,    24.98,2,     -999,1,     -999,1,     -999,9,     -999,9,     -999,9,     -999,1,     -999,1,   4.9366,1,   0.0329,1,     -999,9,     -999,9,     -999,9,     -999,9,     -999,9,20230831,0303, -33.3805,  47.4280,-999          ,9,-999          ,9
33RR20230722  ,I05        ,150     ,  1,30         ,30         ,2,20230831,0128, -33.3805,  47.4280,     3578,    105.9,2,  17.5133,2,  35.6660,2,  35.6711,2,    234.4,2,    233.7,2,     1.76,2,     0.17,2,     0.25,2,     0.15,2,     -999,9,     -999,9,     -999,9,   2079.2,2,   2336.1,2,   7.9614,2,    24.99,2,     -999,1,     -999,1,     -999,9,     -999,9,     -999,9,     -999,9,     -999,1,   4.9115,1,   0.0202,1,     -999,9,     -999,9,     -999,9,     -999,9,     -999,9,20230831,0301, -33.3805,  47.4280,-999          ,9,-999          ,9
33RR20230722  ,I05        ,150     ,  1,29         ,29         ,2,20230831,0128, -33.3805,  47.4280,     3578,    129.5,2,  17.3841,2,  35.6545,2,  35.6540,2,    231.9,2,    232.3,2,     1.85,2,     0.58,2,     0.41,2,     0.18,2,     -999,9,     -999,9,     -999,9,   2082.6,2,   2336.7,2,   7.9542,2,    25.00,2,     -999,1,     -999,1,     -999,9,     -999,9,     -999,9,     -999,1,     -999,1,   4.9048,1,   0.0154,1,     -999,9,     -999,9,     -999,9,     -999,9,     -999,9,20230831,0300, -33.3805,  47.4280,-999          ,9,-999          ,9
33RR20230722  ,I05        ,150     ,  1,28         ,28         ,2,20230831,0128, -33.3805,  47.4280,     3578,    152.1,2,  17.2081,2,  35.6365,2,  35.6354,2,    232.1,2,    232.4,2,     2.05,2,     1.01,2,     0.25,2,     0.18,2,     -999,9,     -999,9,     -999,9,      5.1,4,   2334.1,2,   7.9494,2,    25.00,2,     -999,1,     -999,1,     -999,9,     -999,9,     -999,9,     -999,9,     -999,1,   4.9535,1,   0.0129,1,     -999,9,     -999,9,     -999,9,     -999,9,     -999,9,20230831,0258, -33.3805,  47.4280,-999          ,9,-999          ,9
33RR20230722  ,I05        ,150     ,  1,27         ,27         ,2,20230831,0128, -33.3805,  47.4280,     3578,    172.2,2,  17.1652,2,  35.6341,2,  35.6299,2,    232.0,2,    231.4,2,     2.15,2,     1.37,2,     0.14,2,     0.20,2,     -999,9,     -999,9,     -999,9,   2080.9,2,   2335.1,2,   7.9465,2,    24.98,2,     -999,1,     -999,1,     -999,9,     -999,9,     -999,9,     -999,9,     -999,1,   4.9719,1,   0.0130,1,     -999,9,     -999,9,     -999,9,     -999,9,     -999,9,20230831,0257, -33.3805,  47.4280,-999          ,9,-999          ,9
33RR20230722  ,I05        ,150     ,  1,26         ,26         ,2,20230831,0128, -33.3805,  47.4280,     3578,    192.9,2,  17.0298,2,  35.6188,2,  35.6180,2,    228.6,2,    228.9,2,     2.24,2,     2.07,2,     0.06,2,     0.23,2,     -999,9,     -999,9,     -999,9,   2081.5,2,   2333.7,2,   7.9397,2,    24.99,2,     -999,1,     -999,1,     -999,9,     -999,9,     -999,9,     -999,9,     -999,1,   4.9711,1,   0.0128,1,     -999,9,     -999,9,     -999,9,     -999,9,     -999,9,20230831,0255, -33.3804,  47.4280,-999          ,9,-999          ,9
33RR20230722  ,I05        ,150     ,  1,25         ,25         ,2,20230831,0128, -33.3805,  47.4280,     3578,    213.3,2,  16.9199,2,  35.6060,2,  35.6050,2,    230.8,2,    230.9,2,     2.44,2,     2.27,2,     0.04,2,     0.25,2,    1.397,4,    1.286,2,   2.2100,2,   2085.6,6,   2332.8,2,   7.9393,6,    25.00,2,     -999,1,     -999,1,     -999,9,     -999,9,     -999,9,     -999,9,     -999,1,   4.9714,1,   0.0118,1,      7.8,2,     -999,9,     -999,9,     -999,9,     -999,9,20230831,0254, -33.3805,  47.4280,-999          ,9,-999          ,9
33RR20230722  ,I05        ,150     ,  1,24         ,24         ,2,20230831,0128, -33.3805,  47.4280,     3578,    243.4,2,  16.5626,2,  35.5725,2,  35.5723,2,    215.6,2,    217.0,2,     2.73,2,     3.93,2,     0.00,2,     0.35,2,     -999,9,     -999,9,     -999,9,   2095.5,2,   2331.2,2,   7.9103,6,    25.00,2,     -999,1,     -999,1,     -999,9,     -999,9,     -999,9,     -999,9,     -999,1,   4.9689,1,   0.0118,1,     -999,9,     -999,9,     -999,9,     -999,9,     -999,9,20230831,0252, -33.3805,  47.4280,-999          ,9,-999          ,9
33RR20230722  ,I05        ,150     ,  1,23         ,23         ,2,20230831,0128, -33.3805,  47.4280,     3578,    275.8,2,  16.1718,2,  35.5371,2,  35.5367,2,    214.8,2,    215.4,2,     2.93,2,     4.59,2,     0.00,2,     0.39,2,    1.520,4,    1.369,2,   2.2500,2,   2101.3,2,   2329.2,6,   7.8978,2,    25.01,2,     -999,1,     -999,1,     -999,9,     -999,9,     -999,9,     -999,1,     -999,1,   4.9135,1,   0.0118,1,      8.8,2,     -999,9,     -999,9,     -999,9,     -999,9,20230831,0251, -33.3805,  47.4280,-999          ,9,-999          ,9
33RR20230722  ,I05        ,150     ,  1,22         ,22         ,2,20230831,0128, -33.3805,  47.4280,     3578,    309.8,2,  15.5469,2,  35.4860,2,  35.4845,2,    216.8,2,    217.2,2,     3.12,2,     5.32,2,     0.00,2,     0.46,2,     -999,9,     -999,9,     -999,9,   2107.2,2,   2326.7,2,   7.8854,2,    25.00,2,     -999,1,     -999,1,     -999,9,     -999,9,     -999,9,     -999,9,     -999,1,   4.9682,1,   0.0120,1,     -999,9,     -999,9,     -999,9,     -999,9,     -999,9,20230831,0249, -33.3805,  47.4280,-999          ,9,-999          ,9
33RR20230722  ,I05        ,150     ,  1,21         ,21         ,2,20230831,0128, -33.3805,  47.4280,     3578,    343.5,2,  15.2565,2,  35.4577,2,  35.4580,2,    217.5,2,    217.8,2,     3.12,2,     5.67,2,     0.00,2,     0.48,2,    1.569,4,    1.237,2,   2.2400,2,   2109.5,2,   2325.9,2,   7.8783,2,    25.02,2,     -999,1,     -999,1,     -999,9,     -999,9,     -999,9,     -999,9,     -999,1,   4.9680,1,   0.0120,1,      9.0,2,     -999,9,     -999,9,     -999,9,     -999,9,20230831,0247, -33.3804,  47.4280,-999          ,9,-999          ,9
33RR20230722  ,I05        ,150     ,  1,20         ,20         ,2,20230831,0128, -33.3805,  47.4280,     3578,    400.3,2,  14.3449,2,  35.3591,2,  35.3587,2,    218.8,2,    219.5,2,     3.32,2,     7.14,2,     0.00,2,     0.58,2,     -999,9,     -999,9,     -999,9,   2113.2,2,   2321.4,2,   7.8562,2,    24.99,2,     -999,1,     -999,1,     -999,9,     -999,9,     -999,9,     -999,9,     -999,1,   4.6702,1,   0.0118,1,     -999,9,     -999,9,     -999,9,     -999,9,     -999,9,20230831,0245, -33.3804,  47.4280,-999          ,9,-999          ,9
33RR20230722  ,I05        ,150     ,  1,19         ,19         ,2,20230831,0128, -33.3805,  47.4280,     3578,    474.1,2,  13.4115,2,  35.2583,2,  35.2576,2,    224.2,2,    223.5,2,     3.51,2,     8.58,2,     0.00,2,     0.67,2,     -999,9,     -999,9,     -999,9,   2118.9,2,   2316.6,2,   7.8369,2,    24.99,2,     -999,1,     -999,1,     -999,9,     -999,9,     -999,9,     -999,9,     -999,1,   4.9674,1,   0.0117,1,     -999,9,     -999,9,     -999,9,     -999,9,     -999,9,20230831,0242, -33.3805,  47.4280,-999          ,9,-999          ,9
33RR20230722  ,I05        ,150     ,  1,18         ,18         ,2,20230831,0128, -33.3805,  47.4280,     3578,    557.4,2,  12.8681,2,  35.1907,2,  35.1906,2,    229.7,2,    229.4,2,     3.51,2,     9.30,2,     0.00,2,     0.71,2,     -999,9,     -999,9,     -999,9,   2120.6,2,   2311.6,2,   7.8291,2,    24.99,2,     -999,1,     -999,1,     -999,9,     -999,9,     -999,9,     -999,9,     -999,1,   4.6345,1,   0.0115,1,     -999,9,     -999,9,     -999,9,     -999,9,     -999,9,20230831,0240, -33.3805,  47.4280,-999          ,9,-999          ,9
33RR20230722  ,I05        ,150     ,  1,17         ,17         ,2,20230831,0128, -33.3805,  47.4280,     3578,    647.6,2,  12.1606,2,  35.0807,2,  35.0813,2,    227.8,2,    228.2,2,     4.00,2,    11.09,2,     0.00,2,     0.82,2,     -999,9,     -999,9,     -999,9,   2124.8,2,   2308.4,2,   7.8120,2,    25.01,2,     -999,1,     -999,1,     -999,9,     -999,9,     -999,9,     -999,9,     -999,1,   4.9667,1,   0.0109,1,     -999,9,     -999,9,     -999,9,     -999,9,     -999,9,20230831,0237, -33.3805,  47.4280,-999          ,9,-999          ,9
33RR20230722  ,I05        ,150     ,  1,16         ,16         ,2,20230831,0128, -33.3805,  47.4280,     3578,    749.3,2,  10.9867,2,  34.9052,2,  34.9059,2,    221.4,2,    220.9,2,     5.27,2,    14.31,2,     0.00,2,     1.02,2,     -999,9,     -999,9,     -999,9,   2132.4,2,   2301.9,2,   7.7769,2,    25.02,2,     -999,1,     -999,1,     -999,9,     -999,9,     -999,9,     -999,9,     -999,1,   4.8141,1,   0.0114,1,     -999,9,     -999,9,     -999,9,     -999,9,     -999,9,20230831,0234, -33.3805,  47.4280,-999          ,9,-999          ,9
33RR20230722  ,I05        ,150     ,  1,15         ,15         ,2,20230831,0128, -33.3805,  47.4280,     3578,    863.0,2,   9.3579,2,  34.7002,2,  34.7003,2,    215.2,2,    215.3,2,     8.59,2,    18.78,2,     0.00,2,     1.31,2,     -999,9,     -999,9,     -999,9,   2148.7,2,   2293.4,2,   7.7321,6,    24.99,2,     -999,1,     -999,1,     -999,9,     -999,9,     -999,9,     -999,9,     -999,1,   4.9673,1,   0.0114,1,     -999,9,     -999,9,     -999,9,     -999,9,     -999,9,20230831,0231, -33.3805,  47.4280,-999          ,9,-999          ,9
33RR20230722  ,I05        ,150     ,  1,14         ,14         ,2,20230831,0128, -33.3805,  47.4280,     3578,    979.5,2,   7.7783,2,  34.5484,2,  34.5470,2,    207.7,2,    207.4,2,    14.64,2,    23.28,2,     0.00,2,     1.61,2,     -999,9,     -999,9,     -999,9,   2161.3,2,   2290.8,2,   7.6853,2,    25.00,2,     -999,1,     -999,1,     -999,9,     -999,9,     -999,9,     -999,9,     -999,1,   4.9689,1,   0.0114,1,     -999,9,     -999,9,     -999,9,     -999,9,     -999,9,20230831,0227, -33.3805,  47.4280,-999          ,9,-999          ,9
33RR20230722  ,I05        ,150     ,  1,13         ,13         ,2,20230831,0128, -33.3805,  47.4280,     3578,   1101.6,2,   6.1597,2,  34.4251,2,  34.4257,2,    205.2,2,    205.4,2,    22.35,2,    27.26,2,     0.00,2,     1.88,2,     -999,9,     -999,9,     -999,9,   2176.1,2,   2290.2,2,   7.6454,2,    25.00,2,     -999,1,     -999,1,     -999,9,     -999,9,     -999,9,     -999,9,     -999,1,   4.8797,1,   0.0113,1,     -999,9,     -999,9,     -999,9,     -999,9,     -999,9,20230831,0224, -33.3805,  47.4280,-999          ,9,-999          ,9
33RR20230722  ,I05        ,150     ,  1,12         ,12         ,2,20230831,0128, -33.3805,  47.4280,     3578,   1230.8,2,   4.9118,2,  34.3845,2,  34.3853,2,    198.6,2,    199.1,2,    33.09,2,    30.23,2,     0.00,2,     2.09,2,     -999,9,     -999,9,     -999,9,   2192.8,2,   2297.2,2,   7.6162,2,    24.99,2,     -999,1,     -999,1,     -999,9,     -999,9,     -999,9,     -999,9,     -999,1,   4.8763,1,   0.0114,1,     -999,9,     -999,9,     -999,9,     -999,9,     -999,9,20230831,0220, -33.3804,  47.4280,-999          ,9,-999          ,9
33RR20230722  ,I05        ,150     ,  1,11         ,11         ,2,20230831,0128, -33.3805,  47.4280,     3578,   1366.1,2,   4.1010,2,  34.4189,2,  34.4192,2,    186.4,2,    187.2,2,    46.07,2,    32.28,2,     0.00,2,     2.25,2,    1.130,4,    0.798,2,   0.5200,2,   2212.4,2,   2309.1,2,   7.5918,2,    24.98,2,     -999,1,     -999,1,     -999,9,     -999,9,     -999,9,     -999,9,     -999,1,   4.9723,1,   0.0113,1,     19.7,2,     -999,9,     -999,9,     -999,9,     -999,9,20230831,0217, -33.3804,  47.4280,-999          ,9,-999          ,9
33RR20230722  ,I05        ,150     ,  1,10         ,10         ,2,20230831,0128, -33.3805,  47.4280,     3578,   1509.3,2,   3.4910,2,  34.4836,2,  34.4840,2,    178.3,2,    178.3,2,    57.59,2,    33.31,2,     0.00,2,     2.32,2,     -999,9,     -999,9,     -999,9,   2228.6,2,   2321.4,2,   7.5792,2,    25.00,2,     -999,1,     -999,1,     -999,9,     -999,9,     -999,9,     -999,9,     -999,1,   4.9728,1,   0.0113,1,     -999,9,     -999,9,     -999,9,     -999,9,     -999,9,20230831,0213, -33.3805,  47.4280,-999          ,9,-999          ,9
33RR20230722  ,I05        ,150     ,  1,9          ,9          ,2,20230831,0128, -33.3805,  47.4280,     3578,   1660.8,2,   3.1867,2,  34.5580,2,  34.5580,2,    171.5,2,    170.7,2,    68.52,2,    33.58,2,     0.00,2,     2.33,2,    0.326,4,    0.232,2,   0.1200,2,   2240.7,6,   2334.1,2,   7.5778,2,    24.99,2,     -999,1,     -999,1,     -999,9,     -999,9,     -999,9,     -999,9,     -999,1,   4.9741,1,   0.0122,1,     21.3,2,     -999,9,     -999,9,     -999,9,     -999,9,20230831,0210, -33.3805,  47.4280,-999          ,9,-999          ,9
33RR20230722  ,I05        ,150     ,  1,8          ,8          ,2,20230831,0128, -33.3805,  47.4280,     3578,   1819.4,2,   2.9049,2,  34.6111,2,  34.6111,2,    174.5,2,    174.0,2,    73.20,2,    33.08,2,     0.00,2,     2.30,2,     -999,9,     -999,9,     -999,9,   2243.5,2,   2337.9,2,   7.5849,6,    25.00,2,     -999,1,     -999,1,     -999,9,     -999,9,     -999,9,     -999,9,     -999,1,   4.9742,1,   0.0113,1,     -999,9,     -999,9,     -999,9,     -999,9,     -999,9,20230831,0206, -33.3805,  47.4280,-999          ,9,-999          ,9
33RR20230722  ,I05        ,150     ,  1,7          ,7          ,2,20230831,0128, -33.3805,  47.4280,     3578,   2020.7,2,   2.6456,2,  34.6735,2,  34.6726,2,    181.0,2,    181.2,2,    76.03,2,    31.97,2,     0.00,2,     2.22,2,    0.280,4,    0.169,2,   0.0700,2,   2239.3,2,   2342.7,6,   7.5987,2,    25.00,2,     -999,1,     -999,1,     -999,9,     -999,9,     -999,9,     -999,9,     -999,1,   4.9743,1,   0.0112,1,     19.4,2,     -999,9,     -999,9,     -999,9,     -999,9,20230831,0201, -33.3805,  47.4280,-999          ,9,-999          ,9
33RR20230722  ,I05        ,150     ,  1,6          ,6          ,2,20230831,0128, -33.3805,  47.4280,     3578,   2266.1,2,   2.3446,2,  34.7166,2,  34.7166,2,    189.3,2,    189.7,2,    81.00,2,    31.00,2,     0.00,2,     2.16,2,     -999,9,     -999,9,     -999,9,   2237.4,2,   2346.4,2,   7.6118,2,    25.01,2,     -999,1,     -999,1,     -999,9,     -999,9,     -999,9,     -999,9,     -999,1,   4.9661,1,   0.0112,1,     -999,9,     -999,9,     -999,9,     -999,9,     -999,9,20230831,0156, -33.3805,  47.4280,-999          ,9,-999          ,9
33RR20230722  ,I05        ,150     ,  1,5          ,5          ,2,20230831,0128, -33.3805,  47.4280,     3578,   2552.5,2,   2.0457,2,  34.7368,3,  34.7337,2,    195.1,2,    195.1,2,    86.95,2,    30.77,2,     0.00,2,     2.15,2,    0.217,4,    0.074,2,   0.0500,2,   2244.2,2,   2351.2,2,   7.6187,2,    24.98,2,     -999,1,     -999,1,     -999,9,     -999,9,     -999,9,     -999,9,     -999,1,   4.9742,1,   0.0111,1,     18.2,2,     -999,9,     -999,9,     -999,9,     -999,9,20230831,0150, -33.3805,  47.4280,-999          ,9,-999          ,9
33RR20230722  ,I05        ,150     ,  1,4          ,37         ,2,20230831,0128, -33.3805,  47.4280,     3578,   2878.2,2,   1.7530,2,  34.7373,2,  34.7362,2,    197.9,2,    198.6,2,    98.08,2,    31.09,2,     0.00,2,     2.16,2,     -999,9,     -999,9,     -999,9,   2248.7,2,   2358.8,2,   7.6201,2,    25.00,2,     -999,1,     -999,1,     -999,9,     -999,9,     -999,9,     -999,9,     -999,1,   4.9745,1,   0.0112,1,     -999,9,     -999,9,     -999,9,     -999,9,     -999,9,20230831,0143, -33.3804,  47.4280,-999          ,9,-999          ,9
33RR20230722  ,I05        ,150     ,  1,3          ,3          ,2,20230831,0128, -33.3805,  47.4280,     3578,   3193.1,2,   1.4668,2,  34.7294,2,  34.7288,2,    198.7,2,    198.8,2,   109.69,2,    31.69,2,     0.00,2,     2.21,2,    0.177,4,    0.127,2,   0.0400,2,   2258.0,2,   2367.0,2,   7.6176,2,    25.00,2,     -999,1,     -999,1,     -999,9,     -999,9,     -999,9,     -999,9,     -999,1,   4.7783,1,   0.0118,1,     17.6,2,     -999,9,     -999,9,     -999,9,     -999,9,20230831,0137, -33.3805,  47.4280,-999          ,9,-999          ,9