BOTTLE,20240422CCHHYDRO
EXPOCODE,SECT_ID,STNNBR,CASTNO,SAMPNO,BTLNBR,BTLNBR_FLAG_W,DATE,TIME,LATITUDE,LONGITUDE,DEPTH,CTDPRS,CTDPRS_FLAG_W,CTDTMP,CTDTMP_FLAG_W,CTDSAL,CTDSAL_FLAG_W,SALNTY,SALNTY_FLAG_W,CTDOXY,CTDOXY_FLAG_W,OXYGEN,OXYGEN_FLAG_W,SILCAT,SILCAT_FLAG_W,NITRAT,NITRAT_FLAG_W,NITRIT,NITRIT_FLAG_W,PHSPHT,PHSPHT_FLAG_W,CFC-11,CFC-11_FLAG_W,CFC-12,CFC-12_FLAG_W,SF6,SF6_FLAG_W,TCARBN,TCARBN_FLAG_W,ALKALI,ALKALI_FLAG_W,PH_TOT,PH_TOT_FLAG_W,PH_TMP,PH_TMP_FLAG_W,DOC,DOC_FLAG_W,REFTMP,REFTMP_FLAG_W,POC,POC_FLAG_W,PON,PON_FLAG_W,POP,POP_FLAG_W,DOP,DOP_FLAG_W,DELO18,DELO18_FLAG_W,CTDFLUOR,CTDFLUOR_FLAG_W,CTDXMISS,CTDXMISS_FLAG_W,N2O,N2O_FLAG_W,D15N_NO3,D15N_NO3_FLAG_W,D15N_NO2+NO3,D15N_NO2+NO3_FLAG_W,D18O_NO2+NO3,D18O_NO2+NO3_FLAG_W,D18O_NO3,D18O_NO3_FLAG_W,BTL_DATE,BTL_TIME,BTL_LAT,BTL_LON,HPLC,HPLC_FLAG_W,DNA,DNA_FLAG_W
,,,,,,,,,,,METERS,DBAR,,ITS-90,,PSS-78,,PSS-78,,UMOL/KG,,UMOL/KG,,UMOL/KG,,UMOL/KG,,UMOL/KG,,UMOL/KG,,PMOL/KG,,PMOL/KG,,FMOL/KG,,UMOL/KG,,UMOL/KG,,,,DEG C,,UMOL/KG,,ITS-90,,UG/KG,,UG/KG,,UG/L,,UMOL/KG,,/MILLE,,VOLTS,,VOLTS,,NMOL/KG,,/MILLE,,/MILLE,,/MILLE,,/MILLE,,,,,,,,,
33RR20230722  ,I05        ,174     ,  1,33         ,33         ,2,20230905,1813, -32.9992,  36.4333,     2907,      4.2,2,  18.7104,2,  35.6562,2,  35.6548,2,    236.5,2,    235.6,2,     1.85,2,     0.00,2,     0.00,2,     0.12,2,    1.914,6,    1.252,6,   2.1100,6,   2061.2,6,   2335.7,2,   7.9863,2,    24.97,2,     -999,1,  18.7085,2,     -999,9,     -999,9,     -999,9,     -999,9,     -999,1,   4.6581,1,   0.0345,1,      7.8,6,     -999,9,     -999,9,     -999,9,     -999,9,20230905,1943, -32.9992,  36.4333,-999          ,9,-999          ,9
33RR20230722  ,I05        ,174     ,  1,32         ,32         ,2,20230905,1813, -32.9992,  36.4333,     2907,     21.5,2,  18.7202,2,  35.6563,2,  35.6550,2,    236.5,2,    235.7,2,     1.85,2,     0.00,2,     0.00,2,     0.12,2,     -999,9,     -999,9,     -999,9,   -999.0,9,     -999,9,     -999,9,     -999,9,     -999,1,  18.7190,2,     -999,9,     -999,9,     -999,9,     -999,9,     -999,1,   4.6239,1,   0.0365,1,     -999,9,     -999,9,     -999,9,     -999,9,     -999,9,20230905,1941, -32.9992,  36.4333,-999          ,9,-999          ,9
33RR20230722  ,I05        ,174     ,  1,31         ,31         ,2,20230905,1813, -32.9992,  36.4333,     2907,     37.9,2,  18.6150,2,  35.6613,2,  35.6609,2,    235.4,2,    234.5,2,     1.85,2,     0.00,2,     0.00,2,     0.11,2,     -999,9,     -999,9,     -999,9,   2060.8,2,   2335.0,2,   7.9835,2,    24.98,2,     -999,1,  18.6140,2,     -999,9,     -999,9,     -999,9,     -999,9,     -999,1,   4.8704,1,   0.0490,1,     -999,9,     -999,9,     -999,9,     -999,9,     -999,9,20230905,1940, -32.9992,  36.4333,-999          ,9,-999          ,9
33RR20230722  ,I05        ,174     ,  1,30         ,30         ,2,20230905,1813, -32.9992,  36.4333,     2907,     56.8,2,  18.5814,2,  35.6717,2,  35.6709,2,    233.5,2,    233.0,2,     1.76,2,     0.00,2,     0.03,2,     0.12,2,    1.920,2,    1.244,2,   2.1400,2,   -999.0,9,     -999,9,     -999,9,     -999,9,     -999,1,  18.5807,2,     -999,9,     -999,9,     -999,9,     -999,9,     -999,1,   4.9743,1,   0.0490,1,      7.8,2,     -999,9,     -999,9,     -999,9,     -999,9,20230905,1938, -32.9992,  36.4333,-999          ,9,-999          ,9
33RR20230722  ,I05        ,174     ,  1,29         ,29         ,2,20230905,1813, -32.9992,  36.4333,     2907,     79.8,2,  18.4468,2,  35.6779,2,  35.6777,2,    231.6,2,    231.4,2,     1.76,2,     0.00,2,     0.11,2,     0.12,2,     -999,9,     -999,9,     -999,9,   2064.9,2,   2336.8,2,   7.9761,2,    24.99,2,     -999,1,  18.4476,2,     -999,9,     -999,9,     -999,9,     -999,9,     -999,1,   4.9736,1,   0.0349,1,     -999,9,     -999,9,     -999,9,     -999,9,     -999,9,20230905,1936, -32.9992,  36.4333,-999          ,9,-999          ,9
33RR20230722  ,I05        ,174     ,  1,28         ,28         ,2,20230905,1813, -32.9992,  36.4333,     2907,    106.3,2,  18.1938,2,  35.6667,2,  35.6658,2,    229.5,2,    229.5,2,     1.95,2,     0.25,2,     0.30,2,     0.15,2,    1.856,2,    1.257,2,   2.2200,2,   -999.0,9,     -999,9,     -999,9,     -999,9,     -999,1,  18.1956,2,     -999,9,     -999,9,     -999,9,     -999,9,     -999,1,   4.9726,1,   0.0233,1,      8.1,2,     -999,9,     -999,9,     -999,9,     -999,9,20230905,1934, -32.9992,  36.4333,-999          ,9,-999          ,9
33RR20230722  ,I05        ,174     ,  1,27         ,27         ,2,20230905,1813, -32.9992,  36.4333,     2907,    135.7,2,  17.9722,2,  35.6755,2,  35.6749,2,    230.9,2,    231.0,2,     1.95,2,     0.19,2,     0.42,2,     0.16,2,     -999,9,     -999,9,     -999,9,   2069.3,2,   2335.2,2,   7.9658,2,    24.99,2,     -999,1,  17.9721,2,     -999,9,     -999,9,     -999,9,     -999,9,     -999,1,   4.9724,1,   0.0185,1,     -999,9,     -999,9,     -999,9,     -999,9,     -999,9,20230905,1932, -32.9992,  36.4333,-999          ,9,-999          ,9
33RR20230722  ,I05        ,174     ,  1,26         ,26         ,2,20230905,1813, -32.9992,  36.4333,     2907,    167.2,2,  17.9031,2,  35.6787,2,  35.6777,2,    231.6,2,    231.9,2,     1.95,2,     0.15,2,     0.46,2,     0.15,2,    1.992,2,    1.275,2,   2.0500,2,   -999.0,9,     -999,9,     -999,9,     -999,9,     -999,1,  17.9019,2,     -999,9,     -999,9,     -999,9,     -999,9,     -999,1,   4.9724,1,   0.0168,1,      8.1,2,     -999,9,     -999,9,     -999,9,     -999,9,20230905,1930, -32.9992,  36.4333,-999          ,9,-999          ,9
33RR20230722  ,I05        ,174     ,  1,25         ,25         ,2,20230905,1813, -32.9992,  36.4333,     2907,    199.4,2,  17.8318,2,  35.6793,2,  35.6782,2,    231.7,2,    231.5,2,     1.95,2,     0.29,2,     0.40,2,     0.16,2,     -999,9,     -999,9,     -999,9,   2074.1,2,   2336.7,2,   7.9620,2,    24.96,2,     -999,1,  17.8308,2,     -999,9,     -999,9,     -999,9,     -999,9,     -999,1,   4.9722,1,   0.0143,1,     -999,9,     -999,9,     -999,9,     -999,9,     -999,9,20230905,1929, -32.9992,  36.4333,-999          ,9,-999          ,9
33RR20230722  ,I05        ,174     ,  1,24         ,24         ,2,20230905,1813, -32.9992,  36.4333,     2907,    231.0,2,  17.5961,2,  35.6427,2,  35.6403,2,    221.5,2,    221.6,2,     2.24,2,     1.97,2,     0.03,2,     0.23,2,     -999,9,     -999,9,     -999,9,   -999.0,9,     -999,9,     -999,9,     -999,9,     -999,1,  17.5936,2,     -999,9,     -999,9,     -999,9,     -999,9,     -999,1,   4.9537,1,   0.0118,1,     -999,9,     -999,9,     -999,9,     -999,9,     -999,9,20230905,1927, -32.9992,  36.4333,-999          ,9,-999          ,9
33RR20230722  ,I05        ,174     ,  1,23         ,23         ,2,20230905,1813, -32.9992,  36.4333,     2907,    261.0,2,  17.0203,2,  35.5917,2,  35.5926,2,    209.3,2,    211.3,2,     2.73,2,     3.69,2,     0.02,2,     0.34,2,    2.030,2,    1.330,2,   2.1000,2,   2096.7,2,   2331.1,2,   7.9123,2,    25.00,2,     -999,1,  17.0178,2,     -999,9,     -999,9,     -999,9,     -999,9,     -999,1,   4.9684,1,   0.0118,1,      9.2,2,     -999,9,     -999,9,     -999,9,     -999,9,20230905,1926, -32.9992,  36.4333,-999          ,9,-999          ,9
33RR20230722  ,I05        ,174     ,  1,22         ,22         ,2,20230905,1813, -32.9992,  36.4333,     2907,    296.9,2,  16.3945,2,  35.5524,2,  35.5492,2,    210.9,2,    211.8,2,     3.12,2,     4.67,2,     0.00,2,     0.40,2,     -999,9,     -999,9,     -999,9,   -999.0,9,     -999,9,     -999,9,     -999,9,     -999,1,  16.4024,2,     -999,9,     -999,9,     -999,9,     -999,9,     -999,1,   4.7767,1,   0.0119,1,     -999,9,     -999,9,     -999,9,     -999,9,     -999,9,20230905,1924, -32.9992,  36.4333,-999          ,9,-999          ,9
33RR20230722  ,I05        ,174     ,  1,21         ,21         ,2,20230905,1813, -32.9992,  36.4333,     2907,    343.0,2,  15.6692,2,  35.4879,2,  35.4862,2,    210.4,2,    211.5,2,     3.41,2,     5.73,2,     0.00,2,     0.48,2,    2.261,2,    1.441,2,   2.1900,2,   2109.9,2,   2323.6,2,   7.8782,2,    25.00,2,     -999,1,  15.6683,2,     -999,9,     -999,9,     -999,9,     -999,9,     -999,1,   4.9187,1,   0.0115,1,      9.9,2,     -999,9,     -999,9,     -999,9,     -999,9,20230905,1922, -32.9992,  36.4333,-999          ,9,-999          ,9
33RR20230722  ,I05        ,174     ,  1,20         ,20         ,2,20230905,1813, -32.9992,  36.4333,     2907,    393.4,2,  14.8692,2,  35.4102,2,  35.4085,2,    212.7,2,    213.6,2,     3.51,2,     6.69,2,     0.00,2,     0.56,2,     -999,9,     -999,9,     -999,9,   -999.0,9,     -999,9,     -999,9,     -999,9,     -999,1,  14.8673,2,     -999,9,     -999,9,     -999,9,     -999,9,     -999,1,   4.9672,1,   0.0115,1,     -999,9,     -999,9,     -999,9,     -999,9,     -999,9,20230905,1920, -32.9992,  36.4333,-999          ,9,-999          ,9
33RR20230722  ,I05        ,174     ,  1,19         ,19         ,2,20230905,1813, -32.9992,  36.4333,     2907,    444.2,2,  14.2587,2,  35.3470,2,  35.3453,2,    215.3,2,    215.6,2,     3.61,2,     7.61,2,     0.00,2,     0.60,2,    2.439,2,    1.548,2,   2.2700,2,   2119.7,2,   2320.3,2,   7.8478,2,    24.98,2,     -999,1,  14.2487,2,     -999,9,     -999,9,     -999,9,     -999,9,     -999,1,   4.7528,1,   0.0117,1,     10.7,2,     -999,9,     -999,9,     -999,9,     -999,9,20230905,1918, -32.9992,  36.4333,-999          ,9,-999          ,9
33RR20230722  ,I05        ,174     ,  1,18         ,18         ,2,20230905,1813, -32.9992,  36.4333,     2907,    501.1,2,  13.5319,2,  35.2667,2,  35.2655,2,    217.7,2,    218.0,2,     3.71,2,     8.79,2,     0.00,2,     0.68,2,     -999,9,     -999,9,     -999,9,   -999.0,9,     -999,9,     -999,9,     -999,9,     -999,1,  13.5267,2,     -999,9,     -999,9,     -999,9,     -999,9,     -999,1,   4.9670,1,   0.0116,1,     -999,9,     -999,9,     -999,9,     -999,9,     -999,9,20230905,1915, -32.9992,  36.4333,-999          ,9,-999          ,9
33RR20230722  ,I05        ,174     ,  1,17         ,17         ,2,20230905,1813, -32.9992,  36.4333,     2907,    575.5,2,  12.8299,2,  35.1795,2,  35.1784,2,    221.6,2,    221.8,2,     3.90,2,    10.01,2,     0.00,2,     0.76,2,    2.699,2,    1.640,2,   2.0500,2,   2128.7,2,   2312.0,6,   7.8200,6,    24.99,2,     -999,1,  12.8361,2,     -999,9,     -999,9,     -999,9,     -999,9,     -999,1,   4.8215,1,   0.0116,1,     11.2,2,     -999,9,     -999,9,     -999,9,     -999,9,20230905,1913, -32.9992,  36.4333,-999          ,9,-999          ,9
33RR20230722  ,I05        ,174     ,  1,16         ,16         ,2,20230905,1813, -32.9992,  36.4333,     2907,    662.2,2,  11.9433,2,  35.0481,2,  35.0461,2,    220.7,2,    220.5,2,     4.59,2,    12.05,2,     0.00,2,     0.89,2,    2.835,2,    1.721,2,   1.8900,2,   -999.0,9,     -999,9,     -999,9,     -999,9,     -999,1,  11.9460,2,     -999,9,     -999,9,     -999,9,     -999,9,     -999,1,   4.9667,1,   0.0114,1,     11.9,2,     -999,9,     -999,9,     -999,9,     -999,9,20230905,1910, -32.9992,  36.4333,-999          ,9,-999          ,9
33RR20230722  ,I05        ,174     ,  1,15         ,15         ,2,20230905,1813, -32.9992,  36.4333,     2907,    759.9,2,  10.7063,2,  34.8714,2,  34.8774,2,    219.6,2,    219.2,2,     5.76,2,    14.88,2,     0.00,2,     1.07,2,    3.015,2,    1.778,2,   1.7200,2,   2138.8,2,   2299.3,2,   7.7694,6,    25.00,2,     -999,1,  10.7325,2,     -999,9,     -999,9,     -999,9,     -999,9,     -999,1,   4.9549,1,   0.0115,1,     13.2,2,     -999,9,     -999,9,     -999,9,     -999,9,20230905,1907, -32.9992,  36.4333,-999          ,9,-999          ,9
33RR20230722  ,I05        ,174     ,  1,14         ,14         ,2,20230905,1813, -32.9992,  36.4333,     2907,    861.9,2,   9.5088,2,  34.7232,2,  34.7211,2,    214.8,2,    214.7,2,     8.59,2,    18.27,2,     0.00,2,     1.29,2,    3.033,2,    1.751,2,   1.5600,2,   -999.0,9,     -999,9,     -999,9,     -999,9,     -999,1,   9.5033,2,     -999,9,     -999,9,     -999,9,     -999,9,     -999,1,   4.9675,1,   0.0113,1,     14.2,2,     -999,9,     -999,9,     -999,9,     -999,9,20230905,1904, -32.9992,  36.4333,-999          ,9,-999          ,9
33RR20230722  ,I05        ,174     ,  1,13         ,13         ,2,20230905,1813, -32.9992,  36.4333,     2907,    968.8,2,   8.0080,2,  34.5752,2,  34.5775,2,    207.8,2,    207.5,2,    13.76,2,    22.40,2,     0.00,2,     1.55,2,    2.902,2,    1.663,2,   1.3000,2,   2162.6,2,   2289.3,2,   7.6914,2,    25.00,2,     -999,1,   8.0294,2,     -999,9,     -999,9,     -999,9,     -999,9,     -999,1,   4.9685,1,   0.0114,1,     16.1,2,     -999,9,     -999,9,     -999,9,     -999,9,20230905,1901, -32.9992,  36.4333,-999          ,9,-999          ,9
33RR20230722  ,I05        ,174     ,  1,12         ,12         ,2,20230905,1813, -32.9992,  36.4333,     2907,   1074.8,2,   6.6363,2,  34.4718,2,  34.4705,2,    201.8,2,    201.9,2,    21.08,2,    26.24,2,     0.00,2,     1.82,2,    2.664,2,    1.472,2,   1.0300,2,   -999.0,9,     -999,9,     -999,9,     -999,9,     -999,1,   6.6289,2,     -999,9,     -999,9,     -999,9,     -999,9,     -999,1,   4.9603,1,   0.0112,1,     18.0,2,     -999,9,     -999,9,     -999,9,     -999,9,20230905,1858, -32.9992,  36.4333,-999          ,9,-999          ,9
33RR20230722  ,I05        ,174     ,  1,11         ,11         ,2,20230905,1813, -32.9992,  36.4333,     2907,   1184.8,2,   5.6643,2,  34.4527,2,  34.4532,2,    188.6,2,    188.7,2,    32.01,2,    29.24,2,     0.00,2,     2.03,2,     -999,9,     -999,9,     -999,9,   2201.4,2,   2302.6,2,   7.6210,2,    24.99,2,     -999,1,   5.6685,2,     -999,9,     -999,9,     -999,9,     -999,9,     -999,1,   4.9713,1,   0.0112,1,     -999,9,     -999,9,     -999,9,     -999,9,     -999,9,20230905,1855, -32.9992,  36.4333,-999          ,9,-999          ,9
33RR20230722  ,I05        ,174     ,  1,10         ,10         ,2,20230905,1813, -32.9992,  36.4333,     2907,   1303.8,2,   4.7624,2,  34.4468,2,  34.4447,2,    181.5,2,    182.5,2,    42.36,2,    31.31,2,     0.00,2,     2.19,2,    1.707,2,    0.901,2,   0.4700,2,   -999.0,9,     -999,9,     -999,9,     -999,9,     -999,1,   4.7616,2,     -999,9,     -999,9,     -999,9,     -999,9,     -999,1,   4.9720,1,   0.0112,1,     21.9,2,     -999,9,     -999,9,     -999,9,     -999,9,20230905,1852, -32.9992,  36.4333,-999          ,9,-999          ,9
33RR20230722  ,I05        ,174     ,  1,9          ,9          ,2,20230905,1813, -32.9992,  36.4333,     2907,   1430.8,2,   4.1421,2,  34.4827,2,  34.4850,2,    172.9,2,    172.8,2,    53.00,2,    32.75,2,     0.00,2,     2.28,2,     -999,9,     -999,9,     -999,9,   2228.7,2,   2318.6,2,   7.5807,2,    25.00,2,     -999,1,   4.1596,2,     -999,9,     -999,9,     -999,9,     -999,9,     -999,1,   4.9730,1,   0.0113,1,     -999,9,     -999,9,     -999,9,     -999,9,     -999,9,20230905,1849, -32.9992,  36.4333,-999          ,9,-999          ,9
33RR20230722  ,I05        ,174     ,  1,8          ,8          ,2,20230905,1813, -32.9992,  36.4333,     2907,   1564.2,2,   3.5606,2,  34.5312,2,  34.5311,2,    170.4,2,    170.5,2,    62.17,2,    33.23,2,     0.00,2,     2.33,2,    0.788,2,    0.406,2,   0.1600,2,   -999.0,9,     -999,9,     -999,9,     -999,9,     -999,1,   3.5592,2,     -999,9,     -999,9,     -999,9,     -999,9,     -999,1,   4.9401,1,   0.0112,1,     23.0,2,     -999,9,     -999,9,     -999,9,     -999,9,20230905,1845, -32.9992,  36.4333,-999          ,9,-999          ,9
33RR20230722  ,I05        ,174     ,  1,7          ,7          ,2,20230905,1813, -32.9992,  36.4333,     2907,   1705.6,2,   3.4087,2,  34.6175,2,  34.6166,2,    162.4,2,    161.7,2,    71.63,2,    33.36,2,     0.00,2,     2.34,2,    0.412,2,    0.217,2,   0.1300,2,   2252.3,2,   2338.7,2,   7.5727,2,    24.98,2,     -999,1,   3.4095,2,     -999,9,     -999,9,     -999,9,     -999,9,     -999,1,   4.9676,1,   0.0112,1,     23.6,2,     -999,9,     -999,9,     -999,9,     -999,9,20230905,1842, -32.9992,  36.4333,-999          ,9,-999          ,9
33RR20230722  ,I05        ,174     ,  1,6          ,6          ,2,20230905,1813, -32.9992,  36.4333,     2907,   1869.5,2,   3.0804,2,  34.6622,2,  34.6614,2,    168.5,2,    168.3,2,    74.56,2,    32.61,2,     0.00,2,     2.29,2,    0.264,2,    0.137,2,   0.0500,2,   -999.0,9,     -999,9,     -999,9,     -999,9,     -999,1,   3.0813,2,     -999,9,     -999,9,     -999,9,     -999,9,     -999,1,   4.9574,1,   0.0111,1,     22.8,2,     -999,9,     -999,9,     -999,9,     -999,9,20230905,1838, -32.9992,  36.4333,-999          ,9,-999          ,9
33RR20230722  ,I05        ,174     ,  1,5          ,5          ,2,20230905,1813, -32.9992,  36.4333,     2907,   2069.9,2,   2.8237,2,  34.7195,2,  34.7203,2,    179.9,2,    180.0,2,    73.29,2,    31.00,2,     0.00,2,     2.17,2,     -999,9,     -999,9,     -999,9,   2244.7,2,   2344.5,2,   7.6049,2,    24.97,2,     -999,1,   2.8230,2,     -999,9,     -999,9,     -999,9,     -999,9,     -999,1,   4.8133,1,   0.0124,1,     -999,9,     -999,9,     -999,9,     -999,9,     -999,9,20230905,1833, -32.9992,  36.4333,-999          ,9,-999          ,9
33RR20230722  ,I05        ,174     ,  1,4          ,37         ,2,20230905,1813, -32.9992,  36.4333,     2907,   2317.6,2,   2.6430,2,  34.7689,2,  34.7677,2,    194.7,2,    195.2,2,    68.89,2,    29.04,2,     0.00,2,     2.02,2,     -999,9,     -999,9,     -999,9,   -999.0,9,     -999,9,     -999,9,     -999,9,     -999,1,   2.6424,2,     -999,9,     -999,9,     -999,9,     -999,9,     -999,1,   4.9732,1,   0.0112,1,     -999,9,     -999,9,     -999,9,     -999,9,     -999,9,20230905,1828, -32.9992,  36.4333,-999          ,9,-999          ,9
33RR20230722  ,I05        ,174     ,  1,3          ,3          ,2,20230905,1813, -32.9992,  36.4333,     2907,   2571.3,2,   2.4307,2,  34.7952,2,  34.7948,2,    205.8,2,    206.4,2,    67.72,2,    27.87,2,     0.00,2,     1.93,2,    0.046,2,    0.027,2,   0.0200,2,   2225.8,2,   2344.0,2,   7.6487,2,    25.02,2,     -999,1,   2.4303,2,     -999,9,     -999,9,     -999,9,     -999,9,     -999,1,   4.9730,1,   0.0119,1,     18.0,2,     -999,9,     -999,9,     -999,9,     -999,9,20230905,1822, -32.9992,  36.4333,-999          ,9,-999          ,9
33RR20230722  ,I05        ,174     ,  1,2          ,2          ,2,20230905,1813, -32.9992,  36.4333,     2907,   2772.6,2,   2.3921,2,  34.7994,2,  34.8001,2,    208.7,2,    208.8,2,    67.91,2,    27.65,2,     0.00,2,     1.91,2,    0.041,2,    0.026,2,   0.0400,2,   2227.0,2,   2344.5,2,   7.6522,2,    24.99,2,     -999,1,   2.3921,2,     -999,9,     -999,9,     -999,9,     -999,9,     -999,1,   4.9525,1,   0.0111,1,     17.5,2,     -999,9,     -999,9,     -999,9,     -999,9,20230905,1817, -32.9992,  36.4333,-999          ,9,-999          ,9
33RR20230722  ,I05        ,174     ,  1,1          ,1          ,2,20230905,1813, -32.9992,  36.4333,     2907,   2937.6,2,   2.3025,2,  34.8034,2,  34.8041,2,    212.2,2,    212.0,2,    68.89,2,    27.44,2,     0.00,2,     1.89,2,    0.042,2,    0.025,2,   0.0000,2,   2224.8,6,   2342.8,2,   7.6557,6,    25.01,2,     -999,1,   2.3023,2,     -999,9,     -999,9,     -999,9,     -999,9,     -999,1,   0.5165,1,   0.0110,1,     17.3,2,     -999,9,     -999,9,     -999,9,     -999,9,20230905,1813, -32.9992,  36.4333,-999          ,9,-999          ,9