BOTTLE,20240422CCHHYDRO
EXPOCODE,SECT_ID,STNNBR,CASTNO,SAMPNO,BTLNBR,BTLNBR_FLAG_W,DATE,TIME,LATITUDE,LONGITUDE,DEPTH,CTDPRS,CTDPRS_FLAG_W,CTDTMP,CTDTMP_FLAG_W,CTDSAL,CTDSAL_FLAG_W,SALNTY,SALNTY_FLAG_W,CTDOXY,CTDOXY_FLAG_W,OXYGEN,OXYGEN_FLAG_W,SILCAT,SILCAT_FLAG_W,NITRAT,NITRAT_FLAG_W,NITRIT,NITRIT_FLAG_W,PHSPHT,PHSPHT_FLAG_W,CFC-11,CFC-11_FLAG_W,CFC-12,CFC-12_FLAG_W,SF6,SF6_FLAG_W,TCARBN,TCARBN_FLAG_W,ALKALI,ALKALI_FLAG_W,PH_TOT,PH_TOT_FLAG_W,PH_TMP,PH_TMP_FLAG_W,DOC,DOC_FLAG_W,REFTMP,REFTMP_FLAG_W,POC,POC_FLAG_W,PON,PON_FLAG_W,POP,POP_FLAG_W,DOP,DOP_FLAG_W,DELO18,DELO18_FLAG_W,CTDFLUOR,CTDFLUOR_FLAG_W,CTDXMISS,CTDXMISS_FLAG_W,N2O,N2O_FLAG_W,D15N_NO3,D15N_NO3_FLAG_W,D15N_NO2+NO3,D15N_NO2+NO3_FLAG_W,D18O_NO2+NO3,D18O_NO2+NO3_FLAG_W,D18O_NO3,D18O_NO3_FLAG_W,BTL_DATE,BTL_TIME,BTL_LAT,BTL_LON,HPLC,HPLC_FLAG_W,DNA,DNA_FLAG_W
,,,,,,,,,,,METERS,DBAR,,ITS-90,,PSS-78,,PSS-78,,UMOL/KG,,UMOL/KG,,UMOL/KG,,UMOL/KG,,UMOL/KG,,UMOL/KG,,PMOL/KG,,PMOL/KG,,FMOL/KG,,UMOL/KG,,UMOL/KG,,,,DEG C,,UMOL/KG,,ITS-90,,UG/KG,,UG/KG,,UG/L,,UMOL/KG,,/MILLE,,VOLTS,,VOLTS,,NMOL/KG,,/MILLE,,/MILLE,,/MILLE,,/MILLE,,,,,,,,,
33RR20230722  ,I05        ,185     ,  1,34         ,34         ,2,20230908,0619, -32.0600,  31.9603,     3557,      4.9,2,  19.2927,2,  35.5637,2,  35.5638,2,    234.7,2,    233.6,2,     1.85,2,     0.00,2,     0.01,2,     0.13,2,    1.924,2,    1.230,2,   2.1900,2,   2054.7,6,   2326.4,2,   7.9916,2,    25.03,2,     -999,1,  19.2869,2,     -999,9,     -999,9,     -999,9,     -999,9,     -999,9,   4.8306,1,   0.0190,1,      7.7,2,     -999,9,     -999,9,     -999,9,     -999,9,20230908,0757, -32.0600,  31.9603,-999          ,9,-999          ,9
33RR20230722  ,I05        ,185     ,  1,33         ,33         ,2,20230908,0619, -32.0600,  31.9603,     3557,     18.9,2,  19.2338,2,  35.5621,2,  35.5614,2,    234.5,2,    233.1,2,     1.85,2,     0.00,2,     0.02,2,     0.13,2,     -999,9,     -999,9,     -999,9,   2052.6,2,   2327.5,2,   7.9922,2,    25.04,2,     -999,9,  19.2320,2,     -999,9,     -999,9,     -999,9,     -999,9,     -999,9,   4.9752,1,   0.0274,1,     -999,9,     -999,9,     -999,9,     -999,9,     -999,9,20230908,0755, -32.0600,  31.9603,-999          ,9,-999          ,9
33RR20230722  ,I05        ,185     ,  1,32         ,32         ,2,20230908,0619, -32.0600,  31.9603,     3557,     32.9,2,  19.1676,2,  35.5580,2,  35.5579,2,    233.1,2,    232.5,2,     1.85,2,     0.00,2,     0.04,2,     0.14,2,     -999,9,     -999,9,     -999,9,   2052.9,2,   2325.8,2,   7.9909,6,    25.03,2,     -999,9,  19.1664,2,     -999,9,     -999,9,     -999,9,     -999,9,     -999,9,   4.9748,1,   0.0418,1,     -999,9,     -999,9,     -999,9,     -999,9,     -999,9,20230908,0754, -32.0600,  31.9603,-999          ,9,-999          ,9
33RR20230722  ,I05        ,185     ,  1,31         ,31         ,2,20230908,0619, -32.0600,  31.9603,     3557,     48.8,2,  19.0593,2,  35.5658,2,  35.5656,2,    232.8,2,    232.5,2,     1.95,2,     0.00,2,     0.05,2,     0.12,2,     -999,9,     -999,9,     -999,9,   2057.5,2,   2326.9,2,   7.9890,2,    25.04,2,     -999,9,  19.0593,2,     -999,9,     -999,9,     -999,9,     -999,9,     -999,9,   4.8559,1,   0.0443,1,     -999,9,     -999,9,     -999,9,     -999,9,     -999,9,20230908,0752, -32.0600,  31.9603,-999          ,9,-999          ,9
33RR20230722  ,I05        ,185     ,  1,30         ,30         ,2,20230908,0619, -32.0600,  31.9603,     3557,     66.7,2,  18.2197,2,  35.5827,2,  35.5843,2,    227.0,2,    226.7,2,     2.24,2,     1.21,2,     0.17,2,     0.21,2,    1.953,2,    1.273,2,   2.1300,2,   2067.6,2,   2328.4,2,   7.9634,2,    25.02,2,     -999,9,  18.2164,2,     -999,9,     -999,9,     -999,9,     -999,9,     -999,9,   4.9726,1,   0.0368,1,      8.1,2,     -999,9,     -999,9,     -999,9,     -999,9,20230908,0751, -32.0600,  31.9603,-999          ,9,-999          ,9
33RR20230722  ,I05        ,185     ,  1,29         ,29         ,2,20230908,0619, -32.0600,  31.9603,     3557,     87.4,2,  17.9456,2,  35.6022,2,  35.6025,2,    224.7,2,    224.5,2,     2.44,2,     1.70,2,     0.05,2,     0.23,2,     -999,9,     -999,9,     -999,9,   2075.5,2,   2327.5,2,   7.9541,2,    25.03,2,     -999,9,  17.9454,2,     -999,9,     -999,9,     -999,9,     -999,9,     -999,9,   4.9637,1,   0.0208,1,     -999,9,     -999,9,     -999,9,     -999,9,     -999,9,20230908,0749, -32.0600,  31.9603,-999          ,9,-999          ,9
33RR20230722  ,I05        ,185     ,  1,28         ,28         ,2,20230908,0619, -32.0600,  31.9603,     3557,    111.3,2,  17.8081,2,  35.6257,2,  35.6255,2,    225.8,2,    226.0,2,     2.54,2,     1.71,2,     0.02,2,     0.22,2,     -999,9,     -999,9,     -999,9,   2078.7,2,   2330.2,2,   7.9511,6,    25.02,2,     -999,9,  17.8052,2,     -999,9,     -999,9,     -999,9,     -999,9,     -999,9,   4.9718,1,   0.0151,1,     -999,9,     -999,9,     -999,9,     -999,9,     -999,9,20230908,0747, -32.0600,  31.9603,-999          ,9,-999          ,9
33RR20230722  ,I05        ,185     ,  1,27         ,27         ,2,20230908,0619, -32.0600,  31.9603,     3557,    141.4,2,  17.7311,2,  35.6327,2,  35.6317,2,    224.5,2,    224.7,2,     2.54,2,     1.81,2,     0.02,2,     0.24,2,    1.825,2,    1.295,2,   2.2100,2,   2081.2,2,   2331.1,6,   7.9483,2,    25.02,2,     -999,9,  17.7340,2,     -999,9,     -999,9,     -999,9,     -999,9,     -999,9,   4.9227,1,   0.0118,1,      8.2,2,     -999,9,     -999,9,     -999,9,     -999,9,20230908,0746, -32.0600,  31.9603,-999          ,9,-999          ,9
33RR20230722  ,I05        ,185     ,  1,26         ,26         ,2,20230908,0619, -32.0600,  31.9603,     3557,    171.6,2,  17.4945,2,  35.6126,2,  35.6139,2,    216.0,2,    217.5,2,     2.83,2,     2.71,2,     0.00,2,     0.30,2,     -999,9,     -999,9,     -999,9,   2088.1,2,   2328.6,2,   7.9323,6,    25.03,2,     -999,9,  17.4747,2,     -999,9,     -999,9,     -999,9,     -999,9,     -999,9,   4.9695,1,   0.0120,1,     -999,9,     -999,9,     -999,9,     -999,9,     -999,9,20230908,0744, -32.0600,  31.9603,-999          ,9,-999          ,9
33RR20230722  ,I05        ,185     ,  1,25         ,25         ,2,20230908,0619, -32.0600,  31.9603,     3557,    206.5,2,  16.7953,2,  35.5628,2,  35.5628,2,    202.1,3,    204.2,2,     3.51,2,     4.74,2,     0.00,2,     0.43,2,     -999,9,     -999,9,     -999,9,   2104.1,6,   2328.1,2,   7.8953,2,    25.04,2,     -999,9,  16.7964,2,     -999,9,     -999,9,     -999,9,     -999,9,     -999,9,   4.9136,1,   0.0116,1,     -999,9,     -999,9,     -999,9,     -999,9,     -999,9,20230908,0742, -32.0600,  31.9603,-999          ,9,-999          ,9
33RR20230722  ,I05        ,185     ,  1,24         ,24         ,2,20230908,0619, -32.0600,  31.9603,     3557,    246.7,2,  16.2156,2,  35.5226,2,  35.5164,2,    203.4,2,    205.3,2,     3.71,2,     5.59,2,     0.00,2,     0.48,2,    2.112,2,    1.399,2,   2.0300,2,   2108.3,2,   2324.6,2,   7.8807,2,    25.02,2,     -999,9,  16.2004,2,     -999,9,     -999,9,     -999,9,     -999,9,     -999,9,   4.9676,1,   0.0115,1,     10.0,2,     -999,9,     -999,9,     -999,9,     -999,9,20230908,0741, -32.0600,  31.9603,-999          ,9,-999          ,9
33RR20230722  ,I05        ,185     ,  1,23         ,23         ,2,20230908,0619, -32.0600,  31.9603,     3557,    297.2,2,  15.3471,2,  35.4499,2,  35.4474,2,    205.8,2,    207.5,2,     3.90,2,     6.60,2,     0.00,2,     0.55,2,     -999,9,     -999,9,     -999,9,   2115.5,2,   2321.6,2,   7.8633,2,    25.01,2,     -999,9,  15.3473,2,     -999,9,     -999,9,     -999,9,     -999,9,     -999,9,   4.8369,1,   0.0117,1,     -999,9,     -999,9,     -999,9,     -999,9,     -999,9,20230908,0739, -32.0600,  31.9603,-999          ,9,-999          ,9
33RR20230722  ,I05        ,185     ,  1,22         ,22         ,2,20230908,0619, -32.0600,  31.9603,     3557,    356.8,2,  14.5312,2,  35.3657,2,  35.3666,2,    207.5,2,    208.2,2,     4.10,2,     7.64,2,     0.00,2,     0.62,2,     -999,9,     -999,9,     -999,9,   2120.9,2,   2320.7,2,   7.8454,2,    25.02,2,     -999,9,  14.5325,2,     -999,9,     -999,9,     -999,9,     -999,9,     -999,9,   4.6830,1,   0.0113,1,     -999,9,     -999,9,     -999,9,     -999,9,     -999,9,20230908,0737, -32.0600,  31.9603,-999          ,9,-999          ,9
33RR20230722  ,I05        ,185     ,  1,21         ,21         ,2,20230908,0619, -32.0600,  31.9603,     3557,    425.3,2,  13.5660,2,  35.2633,2,  35.2629,2,    214.0,2,    214.2,2,     4.00,2,     9.02,2,     0.00,2,     0.72,2,    2.433,2,    1.600,2,   2.0900,2,   2123.5,2,   2314.0,2,   7.8274,2,    25.03,2,     -999,9,  13.5419,2,     -999,9,     -999,9,     -999,9,     -999,9,     -999,9,   4.7746,1,   0.0113,1,     11.2,2,     -999,9,     -999,9,     -999,9,     -999,9,20230908,0734, -32.0600,  31.9603,-999          ,9,-999          ,9
33RR20230722  ,I05        ,185     ,  1,20         ,20         ,2,20230908,0619, -32.0600,  31.9603,     3557,    502.5,2,  12.8312,2,  35.1737,2,  35.1729,2,    219.0,2,    218.5,2,     4.20,2,    10.18,2,     0.00,2,     0.78,2,     -999,9,     -999,9,     -999,9,   2129.4,2,   2308.2,2,   7.8145,2,    25.03,2,     -999,9,  12.8295,2,     -999,9,     -999,9,     -999,9,     -999,9,     -999,9,   4.8410,1,   0.0113,1,     -999,9,     -999,9,     -999,9,     -999,9,     -999,9,20230908,0732, -32.0600,  31.9603,-999          ,9,-999          ,9
33RR20230722  ,I05        ,185     ,  1,19         ,19         ,2,20230908,0619, -32.0600,  31.9603,     3557,    587.2,2,  11.9003,2,  35.0379,2,  35.0362,2,    221.0,2,    220.4,2,     4.59,2,    12.09,2,     0.00,2,     0.89,2,    2.864,2,    1.732,2,   1.8800,2,   2133.8,2,   2307.6,2,   7.7938,2,    25.03,2,     -999,9,  11.8978,2,     -999,9,     -999,9,     -999,9,     -999,9,     -999,9,   4.7971,1,   0.0112,1,     12.0,2,     -999,9,     -999,9,     -999,9,     -999,9,20230908,0729, -32.0600,  31.9603,-999          ,9,-999          ,9
33RR20230722  ,I05        ,185     ,  1,18         ,18         ,2,20230908,0619, -32.0600,  31.9603,     3557,    677.8,2,  10.8311,2,  34.8875,2,  34.8818,2,    218.2,2,    217.5,2,     5.86,2,    14.69,2,     0.00,2,     1.06,2,     -999,9,     -999,9,     -999,9,   2143.3,2,   2297.5,2,   7.7670,6,    25.05,2,     -999,9,  10.8320,2,     -999,9,     -999,9,     -999,9,     -999,9,     -999,9,   4.9668,1,   0.0115,1,     -999,9,     -999,9,     -999,9,     -999,9,     -999,9,20230908,0727, -32.0600,  31.9603,-999          ,9,-999          ,9
33RR20230722  ,I05        ,185     ,  1,17         ,17         ,2,20230908,0619, -32.0600,  31.9603,     3557,    775.8,2,   9.8285,2,  34.7649,2,  34.7638,2,    212.5,2,    212.5,2,     8.30,2,    17.52,2,     0.00,2,     1.25,2,    3.012,2,    1.749,2,   1.4800,2,   2148.9,2,   2293.5,2,   7.7372,2,    25.03,2,     -999,9,   9.8254,2,     -999,9,     -999,9,     -999,9,     -999,9,     -999,9,   4.9672,1,   0.0112,1,     14.6,2,     -999,9,     -999,9,     -999,9,     -999,9,20230908,0724, -32.0600,  31.9603,-999          ,9,-999          ,9
33RR20230722  ,I05        ,185     ,  1,16         ,16         ,2,20230908,0619, -32.0600,  31.9603,     3557,    984.9,2,   7.0761,2,  34.5413,2,  34.5400,2,    186.8,2,    186.7,2,    24.50,2,    26.38,2,     0.00,2,     1.85,2,     -999,9,     -999,9,     -999,9,   2185.9,2,   2293.5,2,   7.6447,2,    25.04,2,     -999,9,   7.0692,2,     -999,9,     -999,9,     -999,9,     -999,9,     -999,9,   4.9703,1,   0.0116,1,     -999,9,     -999,9,     -999,9,     -999,9,     -999,9,20230908,0719, -32.0600,  31.9603,-999          ,9,-999          ,9
33RR20230722  ,I05        ,185     ,  1,15         ,15         ,2,20230908,0619, -32.0600,  31.9603,     3557,   1094.2,2,   5.7737,2,  34.4623,2,  34.4591,2,    185.9,3,    187.9,2,    31.93,2,    29.04,2,     0.00,2,     2.03,2,    1.954,2,    1.128,2,   0.6900,2,   2197.8,2,   2297.4,2,   7.6205,2,    25.05,2,     -999,9,   5.7923,2,     -999,9,     -999,9,     -999,9,     -999,9,     -999,9,   4.9072,1,   0.0112,1,     20.3,2,     -999,9,     -999,9,     -999,9,     -999,9,20230908,0716, -32.0600,  31.9603,-999          ,9,-999          ,9
33RR20230722  ,I05        ,185     ,  1,14         ,14         ,2,20230908,0619, -32.0600,  31.9603,     3557,   1208.7,2,   5.3662,2,  34.5350,2,  34.5315,2,    163.2,2,    163.2,2,    45.98,2,    31.46,2,     0.00,2,     2.22,2,     -999,9,     -999,9,     -999,9,   2224.3,2,   2312.9,2,   7.5898,6,    25.04,2,     -999,9,   5.3718,2,     -999,9,     -999,9,     -999,9,     -999,9,     -999,9,   4.8809,1,   0.0115,1,     -999,9,     -999,9,     -999,9,     -999,9,     -999,9,20230908,0713, -32.0600,  31.9603,-999          ,9,-999          ,9
33RR20230722  ,I05        ,185     ,  1,13         ,13         ,2,20230908,0619, -32.0600,  31.9603,     3557,   1320.4,2,   4.1940,2,  34.4745,2,  34.4734,2,    174.4,2,    175.0,2,    50.87,2,    32.55,2,     0.00,2,     2.27,2,    1.390,2,    0.688,2,   0.3800,2,   2227.7,2,   2313.8,6,   7.5802,2,    25.03,2,     -999,9,   4.1919,2,     -999,9,     -999,9,     -999,9,     -999,9,     -999,9,   4.9728,1,   0.0112,1,     23.0,2,     -999,9,     -999,9,     -999,9,     -999,9,20230908,0710, -32.0600,  31.9603,-999          ,9,-999          ,9
33RR20230722  ,I05        ,185     ,  1,12         ,12         ,2,20230908,0619, -32.0600,  31.9603,     3557,   1433.3,2,   4.2344,2,  34.5911,2,  34.5918,2,    151.6,2,    150.6,2,    65.21,2,    33.60,2,     0.00,2,     2.38,2,     -999,9,     -999,9,     -999,9,   2248.9,2,   2331.7,2,   7.5658,6,    25.04,2,     -999,9,   4.2338,2,     -999,9,     -999,9,     -999,9,     -999,9,     -999,9,   4.9604,1,   0.0116,1,     -999,9,     -999,9,     -999,9,     -999,9,     -999,9,20230908,0707, -32.0600,  31.9603,-999          ,9,-999          ,9
33RR20230722  ,I05        ,185     ,  1,11         ,11         ,2,20230908,0619, -32.0600,  31.9603,     3557,   1547.9,2,   3.8397,2,  34.6279,2,  34.6280,2,    151.9,2,    151.7,2,    71.46,2,    33.69,2,     0.00,2,     2.38,2,    0.412,2,    0.225,2,   0.1000,2,   2256.8,6,   2338.6,2,   7.5646,2,    25.02,2,     -999,9,   3.8414,2,     -999,9,     -999,9,     -999,9,     -999,9,     -999,9,   4.9003,1,   0.0114,1,     24.8,2,     -999,9,     -999,9,     -999,9,     -999,9,20230908,0704, -32.0600,  31.9603,-999          ,9,-999          ,9
33RR20230722  ,I05        ,185     ,  1,10         ,10         ,2,20230908,0619, -32.0600,  31.9603,     3557,   1663.6,2,   3.4696,2,  34.6577,2,  34.6574,2,    156.7,2,    156.1,2,    75.07,2,    33.33,2,     0.00,2,     2.35,2,     -999,9,     -999,9,     -999,9,   2258.0,2,   2342.8,2,   7.5712,2,    25.03,2,     -999,9,   3.4727,2,     -999,9,     -999,9,     -999,9,     -999,9,     -999,9,   4.9365,1,   0.0118,1,     -999,9,     -999,9,     -999,9,     -999,9,     -999,9,20230908,0701, -32.0600,  31.9603,-999          ,9,-999          ,9
33RR20230722  ,I05        ,185     ,  1,9          ,9          ,2,20230908,0619, -32.0600,  31.9603,     3557,   1786.1,2,   3.1382,2,  34.6858,2,  34.6851,2,    164.3,2,    164.2,2,    76.53,2,    32.56,2,     0.00,2,     2.29,2,    0.217,2,    0.105,2,   0.0500,2,   2256.0,2,   2345.4,2,   7.5826,2,    25.02,2,     -999,9,   3.1439,2,     -999,9,     -999,9,     -999,9,     -999,9,     -999,9,   4.9745,1,   0.0117,1,     23.4,2,     -999,9,     -999,9,     -999,9,     -999,9,20230908,0658, -32.0600,  31.9603,-999          ,9,-999          ,9
33RR20230722  ,I05        ,185     ,  1,8          ,8          ,2,20230908,0619, -32.0600,  31.9603,     3557,   1933.1,2,   2.8953,2,  34.7137,2,  34.7133,2,    174.0,2,    174.3,2,    75.85,2,    31.52,2,     0.00,2,     2.20,2,     -999,9,     -999,9,     -999,9,   2253.0,2,   2344.4,2,   7.5972,2,    25.03,2,     -999,9,   2.8953,2,     -999,9,     -999,9,     -999,9,     -999,9,     -999,9,   4.9307,1,   0.0122,1,     -999,9,     -999,9,     -999,9,     -999,9,     -999,9,20230908,0654, -32.0600,  31.9603,-999          ,9,-999          ,9
33RR20230722  ,I05        ,185     ,  1,7          ,7          ,2,20230908,0619, -32.0600,  31.9603,     3557,   2122.0,2,   2.7300,2,  34.7445,2,  34.7443,2,    184.7,2,    185.0,2,    72.92,2,    30.23,2,     0.00,2,     2.12,2,    0.089,2,    0.049,2,   0.0400,2,   2245.6,2,   2345.6,2,   7.6141,2,    25.04,2,     -999,9,   2.7298,2,     -999,9,     -999,9,     -999,9,     -999,9,     -999,9,   4.9740,1,   0.0118,1,     20.3,2,     -999,9,     -999,9,     -999,9,     -999,9,20230908,0650, -32.0600,  31.9603,-999          ,9,-999          ,9
33RR20230722  ,I05        ,185     ,  1,6          ,6          ,2,20230908,0619, -32.0600,  31.9603,     3557,   2359.5,2,   2.5802,2,  34.7754,2,  34.7752,2,    196.4,2,    196.7,2,    69.60,2,    28.82,2,     0.00,2,     2.01,2,     -999,9,     -999,9,     -999,9,   2235.8,2,   2342.7,2,   7.6331,2,    25.05,2,     -999,9,   2.5802,2,     -999,9,     -999,9,     -999,9,     -999,9,     -999,9,   4.9737,1,   0.0115,1,     -999,9,     -999,9,     -999,9,     -999,9,     -999,9,20230908,0645, -32.0600,  31.9603,-999          ,9,-999          ,9
33RR20230722  ,I05        ,185     ,  1,5          ,5          ,2,20230908,0619, -32.0600,  31.9603,     3557,   2644.5,2,   2.4559,2,  34.7993,2,  34.7990,2,    207.9,2,    208.3,2,    66.28,2,    27.54,2,     0.00,2,     1.90,2,    0.039,2,    0.024,2,   0.0300,2,   2226.4,2,   2340.6,2,   7.6504,6,    25.03,2,     -999,9,   2.4532,2,     -999,9,     -999,9,     -999,9,     -999,9,     -999,9,   4.9735,1,   0.0122,1,     17.5,2,     -999,9,     -999,9,     -999,9,     -999,9,20230908,0639, -32.0600,  31.9603,-999          ,9,-999          ,9
33RR20230722  ,I05        ,185     ,  1,4          ,37         ,2,20230908,0619, -32.0600,  31.9603,     3557,   2958.5,2,   2.2811,2,  34.8133,2,  34.8125,2,    217.1,2,    217.2,2,    65.88,2,    26.68,2,     0.00,2,     1.84,2,     -999,9,     -999,9,     -999,9,   2222.5,2,   2340.2,2,   7.6621,2,    25.00,2,     -999,9,   2.2810,2,     -999,9,     -999,9,     -999,9,     -999,9,     -999,9,   4.8357,1,   0.0111,1,     -999,9,     -999,9,     -999,9,     -999,9,     -999,9,20230908,0633, -32.0600,  31.9603,-999          ,9,-999          ,9
33RR20230722  ,I05        ,185     ,  1,3          ,3          ,2,20230908,0619, -32.0600,  31.9603,     3557,   3247.2,2,   2.0320,2,  34.8025,2,  34.8021,2,    218.8,2,    219.0,2,    73.21,2,    27.16,2,     0.00,2,     1.87,2,    0.056,2,    0.031,2,   0.0000,2,   2226.6,2,   2345.3,2,   7.6592,2,    25.02,2,     -999,9,   2.0318,2,     -999,9,     -999,9,     -999,9,     -999,9,     -999,9,   4.9740,1,   0.0120,1,     16.8,2,     -999,9,     -999,9,     -999,9,     -999,9,20230908,0627, -32.0600,  31.9603,-999          ,9,-999          ,9
33RR20230722  ,I05        ,185     ,  1,2          ,2          ,2,20230908,0619, -32.0600,  31.9603,     3557,   3454.8,2,   1.7459,2,  34.7821,2,  34.7819,2,    218.0,2,    217.6,2,    83.16,2,    28.14,2,     0.00,2,     1.94,2,    0.077,2,    0.045,2,   0.0300,2,   2236.1,2,   2350.1,2,   7.6507,2,    25.02,2,     -999,9,   1.7470,2,     -999,9,     -999,9,     -999,9,     -999,9,     -999,9,   4.6568,1,   0.0111,1,     16.7,2,     -999,9,     -999,9,     -999,9,     -999,9,20230908,0623, -32.0600,  31.9603,-999          ,9,-999          ,9
33RR20230722  ,I05        ,185     ,  1,1          ,1          ,2,20230908,0619, -32.0600,  31.9603,     3557,   3604.4,2,   1.3615,2,  34.7536,2,  34.7537,2,    216.5,2,    216.7,2,    97.03,2,    29.57,2,     0.00,2,     2.05,2,    0.128,2,    0.065,2,   0.0200,2,   2248.0,6,   2358.2,2,   7.6386,2,    25.00,2,     -999,9,   1.3611,2,     -999,9,     -999,9,     -999,9,     -999,9,     -999,9,   0.4033,1,   0.0110,1,     17.3,2,     -999,9,     -999,9,     -999,9,     -999,9,20230908,0619, -32.0600,  31.9603,-999          ,9,-999          ,9