BOTTLE,20240422CCHHYDRO
EXPOCODE,SECT_ID,STNNBR,CASTNO,SAMPNO,BTLNBR,BTLNBR_FLAG_W,DATE,TIME,LATITUDE,LONGITUDE,DEPTH,CTDPRS,CTDPRS_FLAG_W,CTDTMP,CTDTMP_FLAG_W,CTDSAL,CTDSAL_FLAG_W,SALNTY,SALNTY_FLAG_W,CTDOXY,CTDOXY_FLAG_W,OXYGEN,OXYGEN_FLAG_W,SILCAT,SILCAT_FLAG_W,NITRAT,NITRAT_FLAG_W,NITRIT,NITRIT_FLAG_W,PHSPHT,PHSPHT_FLAG_W,CFC-11,CFC-11_FLAG_W,CFC-12,CFC-12_FLAG_W,SF6,SF6_FLAG_W,TCARBN,TCARBN_FLAG_W,ALKALI,ALKALI_FLAG_W,PH_TOT,PH_TOT_FLAG_W,PH_TMP,PH_TMP_FLAG_W,DOC,DOC_FLAG_W,REFTMP,REFTMP_FLAG_W,POC,POC_FLAG_W,PON,PON_FLAG_W,POP,POP_FLAG_W,DOP,DOP_FLAG_W,DELO18,DELO18_FLAG_W,CTDFLUOR,CTDFLUOR_FLAG_W,CTDXMISS,CTDXMISS_FLAG_W,N2O,N2O_FLAG_W,D15N_NO3,D15N_NO3_FLAG_W,D15N_NO2+NO3,D15N_NO2+NO3_FLAG_W,D18O_NO2+NO3,D18O_NO2+NO3_FLAG_W,D18O_NO3,D18O_NO3_FLAG_W,BTL_DATE,BTL_TIME,BTL_LAT,BTL_LON,HPLC,HPLC_FLAG_W,DNA,DNA_FLAG_W
,,,,,,,,,,,METERS,DBAR,,ITS-90,,PSS-78,,PSS-78,,UMOL/KG,,UMOL/KG,,UMOL/KG,,UMOL/KG,,UMOL/KG,,UMOL/KG,,PMOL/KG,,PMOL/KG,,FMOL/KG,,UMOL/KG,,UMOL/KG,,,,DEG C,,UMOL/KG,,ITS-90,,UG/KG,,UG/KG,,UG/L,,UMOL/KG,,/MILLE,,VOLTS,,VOLTS,,NMOL/KG,,/MILLE,,/MILLE,,/MILLE,,/MILLE,,,,,,,,,
33RR20230722  ,I05        ,117     ,  2,36         ,38         ,2,20230822,1126, -34.0125,  62.2707,     4905,      6.0,2,  15.9957,2,  35.4984,2,  35.4987,2,    247.2,2,    246.9,2,     1.66,2,     0.10,2,     0.03,2,     0.17,2,    1.912,2,    1.398,2,   2.4100,2,   2085.4,6,   2330.7,2,   7.9430,2,    24.97,2,     -999,1,  15.9944,2,     -999,9,     -999,9,     -999,9,     -999,9,     -999,1,   4.9756,1,   0.0440,1,      8.3,2,     -999,9,     -999,9,     -999,9,     -999,9,20230822,1331, -34.0125,  62.2707,-999          ,9,-999          ,9
33RR20230722  ,I05        ,117     ,  2,35         ,35         ,2,20230822,1126, -34.0125,  62.2707,     4905,     20.9,2,  15.9989,2,  35.4983,2,  35.4979,2,    247.3,2,    247.0,2,     1.37,2,     0.05,2,     0.03,2,     0.17,2,     -999,9,     -999,9,     -999,9,   -999.0,9,     -999,9,     -999,9,     -999,9,     -999,9,  15.9959,2,     -999,9,     -999,9,     -999,9,     -999,9,     -999,1,   4.9751,1,   0.0507,1,     -999,9,     -999,9,     -999,9,     -999,9,     -999,9,20230822,1328, -34.0126,  62.2707,-999          ,9,-999          ,9
33RR20230722  ,I05        ,117     ,  2,34         ,34         ,2,20230822,1126, -34.0125,  62.2707,     4905,     38.9,2,  15.9640,2,  35.4941,2,  35.4935,2,    246.4,2,    246.3,2,     1.56,2,     0.09,2,     0.04,2,     0.18,2,    2.166,2,    1.406,2,   2.3100,2,   2085.3,2,   2334.3,2,   7.9409,2,    25.00,2,     -999,9,  15.9611,2,     -999,9,     -999,9,     -999,9,     -999,9,     -999,1,   4.9748,1,   0.0506,1,      8.3,2,     -999,9,     -999,9,     -999,9,     -999,9,20230822,1327, -34.0126,  62.2707,-999          ,9,-999          ,9
33RR20230722  ,I05        ,117     ,  2,33         ,33         ,2,20230822,1126, -34.0125,  62.2707,     4905,     55.8,2,  15.9613,2,  35.4936,2,  35.4933,2,    246.3,2,    245.9,2,     1.46,2,     0.07,2,     0.04,2,     0.15,2,     -999,9,     -999,9,     -999,9,   -999.0,9,     -999,9,     -999,9,     -999,9,     -999,9,  15.9580,2,     -999,9,     -999,9,     -999,9,     -999,9,     -999,1,   4.9549,1,   0.0503,1,     -999,9,     -999,9,     -999,9,     -999,9,     -999,9,20230822,1324, -34.0126,  62.2707,-999          ,9,-999          ,9
33RR20230722  ,I05        ,117     ,  2,32         ,32         ,2,20230822,1126, -34.0125,  62.2707,     4905,     78.7,2,  15.9606,2,  35.4932,2,  35.4930,2,    246.1,2,    246.3,2,     1.56,2,     0.07,2,     0.04,2,     0.16,2,    2.272,2,    1.411,2,   2.3500,2,   2087.2,2,   2329.6,2,   7.9398,2,    25.01,2,     -999,9,  15.9578,2,     -999,9,     -999,9,     -999,9,     -999,9,     -999,1,   4.8540,1,   0.0515,1,      8.2,2,     -999,9,     -999,9,     -999,9,     -999,9,20230822,1322, -34.0125,  62.2707,-999          ,9,-999          ,9
33RR20230722  ,I05        ,117     ,  2,31         ,31         ,2,20230822,1126, -34.0125,  62.2707,     4905,    105.3,2,  15.9462,2,  35.4930,2,  35.4933,2,    244.4,2,    244.8,2,     1.37,2,     0.17,2,     0.06,2,     0.18,2,     -999,9,     -999,9,     -999,9,   -999.0,9,     -999,9,     -999,9,     -999,9,     -999,9,  15.9422,2,     -999,9,     -999,9,     -999,9,     -999,9,     -999,1,   4.9738,1,   0.0394,1,     -999,9,     -999,9,     -999,9,     -999,9,     -999,9,20230822,1320, -34.0125,  62.2708,-999          ,9,-999          ,9
33RR20230722  ,I05        ,117     ,  2,30         ,30         ,2,20230822,1126, -34.0125,  62.2707,     4905,    130.1,2,  15.1941,2,  35.4382,2,  35.4383,2,    225.4,3,    228.2,2,     2.34,2,     3.90,2,     0.03,2,     0.40,2,    2.205,2,    1.466,2,   2.3500,2,   -999.0,9,     -999,9,     -999,9,     -999,9,     -999,9,  15.1933,2,     -999,9,     -999,9,     -999,9,     -999,9,     -999,1,   4.5574,1,   0.0154,1,      9.6,2,     -999,9,     -999,9,     -999,9,     -999,9,20230822,1318, -34.0125,  62.2707,-999          ,9,-999          ,9
33RR20230722  ,I05        ,117     ,  2,29         ,29         ,2,20230822,1126, -34.0125,  62.2707,     4905,    160.3,2,  14.5177,2,  35.3991,2,  35.3995,2,    224.8,3,    227.1,2,     2.54,2,     5.44,2,     0.01,2,     0.49,2,     -999,9,     -999,9,     -999,9,   -999.0,9,     -999,9,     -999,9,     -999,9,     -999,9,  14.5198,2,     -999,9,     -999,9,     -999,9,     -999,9,     -999,1,   4.9623,1,   0.0126,1,     -999,9,     -999,9,     -999,9,     -999,9,     -999,9,20230822,1317, -34.0125,  62.2707,-999          ,9,-999          ,9
33RR20230722  ,I05        ,117     ,  2,28         ,28         ,2,20230822,1126, -34.0125,  62.2707,     4905,    195.6,2,  14.0631,2,  35.3584,2,  35.3599,2,    230.2,2,    231.1,2,     2.73,2,     6.01,2,     0.00,2,     0.52,2,    2.427,2,    1.540,2,   2.3500,2,   2115.9,2,   2320.6,2,   7.8624,2,    25.00,2,     -999,9,  14.0749,2,     -999,9,     -999,9,     -999,9,     -999,9,     -999,1,   4.9695,1,   0.0123,1,      9.9,2,     -999,9,     -999,9,     -999,9,     -999,9,20230822,1315, -34.0125,  62.2707,-999          ,9,-999          ,9
33RR20230722  ,I05        ,117     ,  2,27         ,27         ,2,20230822,1126, -34.0125,  62.2707,     4905,    225.7,2,  13.8141,2,  35.3331,2,  35.3317,2,    233.6,2,    233.8,2,     3.12,2,     6.59,2,     0.00,2,     0.57,2,     -999,9,     -999,9,     -999,9,   -999.0,9,     -999,9,     -999,9,     -999,9,     -999,9,  13.8147,2,     -999,9,     -999,9,     -999,9,     -999,9,     -999,1,   4.9695,1,   0.0119,1,     -999,9,     -999,9,     -999,9,     -999,9,     -999,9,20230822,1313, -34.0125,  62.2707,-999          ,9,-999          ,9
33RR20230722  ,I05        ,117     ,  2,26         ,26         ,2,20230822,1126, -34.0125,  62.2707,     4905,    264.7,2,  13.5473,2,  35.2950,2,  35.2946,2,    235.4,2,    235.3,2,     3.32,2,     7.05,2,     0.00,2,     0.58,2,    2.367,2,    1.580,2,   2.3600,2,   -999.0,9,     -999,9,     -999,9,     -999,9,     -999,9,  13.5414,2,     -999,9,     -999,9,     -999,9,     -999,9,     -999,1,   4.9581,1,   0.0116,1,     10.3,2,     -999,9,     -999,9,     -999,9,     -999,9,20230822,1312, -34.0126,  62.2707,-999          ,9,-999          ,9
33RR20230722  ,I05        ,117     ,  2,25         ,25         ,2,20230822,1126, -34.0125,  62.2707,     4905,    308.6,2,  13.3171,2,  35.2649,2,  35.2668,2,    237.1,2,    236.5,2,     3.12,2,     7.43,2,     0.00,2,     0.60,2,     -999,9,     -999,9,     -999,9,   -999.0,9,     -999,9,     -999,9,     -999,9,     -999,9,  13.3149,2,     -999,9,     -999,9,     -999,9,     -999,9,     -999,1,   4.9269,1,   0.0118,1,     -999,9,     -999,9,     -999,9,     -999,9,     -999,9,20230822,1310, -34.0126,  62.2708,-999          ,9,-999          ,9
33RR20230722  ,I05        ,117     ,  2,24         ,24         ,2,20230822,1126, -34.0125,  62.2707,     4905,    361.7,2,  13.0361,2,  35.2203,2,  35.2199,2,    234.0,2,    233.6,2,     3.32,2,     8.31,2,     0.00,2,     0.64,2,    2.520,2,    1.604,2,   2.3500,2,   2123.5,2,   2314.8,2,   7.8385,2,    25.01,2,     -999,9,  13.0364,2,     -999,9,     -999,9,     -999,9,     -999,9,     -999,1,   4.9561,1,   0.0109,1,     10.3,2,     -999,9,     -999,9,     -999,9,     -999,9,20230822,1308, -34.0125,  62.2708,-999          ,9,-999          ,9
33RR20230722  ,I05        ,117     ,  2,23         ,23         ,2,20230822,1126, -34.0125,  62.2707,     4905,    429.5,2,  12.5620,2,  35.1453,2,  35.1410,2,    232.2,2,    232.2,2,     3.51,2,     9.54,2,     0.00,2,     0.75,2,     -999,9,     -999,9,     -999,9,   -999.0,9,     -999,9,     -999,9,     -999,9,     -999,9,  12.5599,2,     -999,9,     -999,9,     -999,9,     -999,9,     -999,1,   4.9676,1,   0.0117,1,     -999,9,     -999,9,     -999,9,     -999,9,     -999,9,20230822,1305, -34.0125,  62.2707,-999          ,9,-999          ,9
33RR20230722  ,I05        ,117     ,  2,22         ,22         ,2,20230822,1126, -34.0125,  62.2707,     4905,    503.5,2,  11.8972,2,  35.0360,2,  35.0392,2,    230.5,2,    230.4,2,     4.10,2,    11.24,2,     0.00,2,     0.85,2,    2.630,2,    1.753,2,   2.1900,2,   -999.0,9,     -999,9,     -999,9,     -999,9,     -999,9,  11.9051,2,     -999,9,     -999,9,     -999,9,     -999,9,     -999,1,   4.9671,1,   0.0115,1,     11.2,2,     -999,9,     -999,9,     -999,9,     -999,9,20230822,1303, -34.0125,  62.2707,-999          ,9,-999          ,9
33RR20230722  ,I05        ,117     ,  2,21         ,21         ,2,20230822,1126, -34.0125,  62.2707,     4905,    591.7,2,  11.2046,2,  34.9283,2,  34.9307,2,    224.8,2,    225.4,2,     5.07,2,    13.23,2,     0.00,2,     0.97,2,    2.834,2,    1.785,2,   2.0300,2,   -999.0,9,     -999,9,     -999,9,     -999,9,     -999,9,  11.1846,2,     -999,9,     -999,9,     -999,9,     -999,9,     -999,1,   4.9217,1,   0.0114,1,     11.8,2,     -999,9,     -999,9,     -999,9,     -999,9,20230822,1300, -34.0126,  62.2708,-999          ,9,-999          ,9
33RR20230722  ,I05        ,117     ,  2,20         ,20         ,2,20230822,1126, -34.0125,  62.2707,     4905,    687.7,2,  10.1175,2,  34.7818,2,  34.7767,2,    219.0,2,    219.1,2,     6.64,2,    16.37,2,     0.00,2,     1.17,2,    2.991,2,    1.806,2,   1.7000,2,   2144.2,2,   2295.3,2,   7.7517,2,    25.00,2,     -999,9,  10.1121,2,     -999,9,     -999,9,     -999,9,     -999,9,     -999,1,   4.9669,1,   0.0115,1,     12.9,2,     -999,9,     -999,9,     -999,9,     -999,9,20230822,1257, -34.0125,  62.2708,-999          ,9,-999          ,9
33RR20230722  ,I05        ,117     ,  2,19         ,19         ,2,20230822,1126, -34.0125,  62.2707,     4905,    794.6,2,   8.9132,2,  34.6462,2,  34.6466,2,    212.4,2,    213.1,2,     9.37,2,    19.69,2,     0.00,2,     1.39,2,     -999,9,     -999,9,     -999,9,   -999.0,9,     -999,9,     -999,9,     -999,9,     -999,9,   8.9215,2,     -999,9,     -999,9,     -999,9,     -999,9,     -999,1,   4.9677,1,   0.0115,1,     -999,9,     -999,9,     -999,9,     -999,9,     -999,9,20230822,1254, -34.0126,  62.2707,-999          ,9,-999          ,9
33RR20230722  ,I05        ,117     ,  2,18         ,18         ,2,20230822,1126, -34.0125,  62.2707,     4905,    908.4,2,   7.5889,2,  34.5230,2,  34.5215,2,    205.8,2,    205.9,2,    14.64,2,    23.52,2,     0.00,2,     1.64,2,    2.929,6,    1.630,6,   1.1800,6,   -999.0,9,     -999,9,     -999,9,     -999,9,     -999,9,   7.5835,2,     -999,9,     -999,9,     -999,9,     -999,9,     -999,1,   4.7572,1,   0.0115,1,     16.0,6,     -999,9,     -999,9,     -999,9,     -999,9,20230822,1251, -34.0126,  62.2707,-999          ,9,-999          ,9
33RR20230722  ,I05        ,117     ,  2,17         ,17         ,2,20230822,1126, -34.0125,  62.2707,     4905,   1028.7,2,   5.5861,2,  34.3813,2,  34.3819,2,    205.3,2,    205.0,2,    24.40,2,    28.04,2,     0.00,2,     1.94,2,    2.599,2,    1.428,2,   0.9800,2,   2189.7,2,   2291.3,2,   7.6331,2,    25.01,2,     -999,9,   5.5956,2,     -999,9,     -999,9,     -999,9,     -999,9,     -999,1,   4.9700,1,   0.0112,1,     18.0,2,     -999,9,     -999,9,     -999,9,     -999,9,20230822,1248, -34.0125,  62.2708,-999          ,9,-999          ,9
33RR20230722  ,I05        ,117     ,  2,16         ,16         ,2,20230822,1126, -34.0125,  62.2707,     4905,   1160.4,2,   4.4246,2,  34.3620,2,  34.3621,2,    198.4,2,    198.4,2,    37.39,2,    30.71,2,     0.00,2,     2.16,2,     -999,9,     -999,9,     -999,9,   -999.0,9,     -999,9,     -999,9,     -999,9,     -999,9,   4.4250,2,     -999,9,     -999,9,     -999,9,     -999,9,     -999,1,   4.9502,1,   0.0112,1,     -999,9,     -999,9,     -999,9,     -999,9,     -999,9,20230822,1245, -34.0125,  62.2707,-999          ,9,-999          ,9
33RR20230722  ,I05        ,117     ,  2,15         ,15         ,2,20230822,1126, -34.0125,  62.2707,     4905,   1297.9,2,   3.7604,2,  34.4095,2,  34.4088,2,    185.0,2,    185.1,2,    49.39,2,    32.46,2,     0.00,2,     2.27,2,    1.414,2,    0.777,2,   0.3900,2,   2225.8,2,   2312.6,2,   7.5840,2,    25.01,2,     -999,9,   3.7575,2,     -999,9,     -999,9,     -999,9,     -999,9,     -999,1,   4.9727,1,   0.0113,1,     21.4,2,     -999,9,     -999,9,     -999,9,     -999,9,20230822,1242, -34.0125,  62.2708,-999          ,9,-999          ,9
33RR20230722  ,I05        ,117     ,  2,14         ,14         ,2,20230822,1126, -34.0125,  62.2707,     4905,   1453.8,2,   3.3303,2,  34.4823,2,  34.4840,2,    173.1,2,    173.1,2,    60.03,2,    33.40,2,     0.00,2,     2.34,2,    0.720,2,    0.437,2,  -0.0100,2,   -999.0,9,     -999,9,     -999,9,     -999,9,     -999,9,   3.3314,2,     -999,9,     -999,9,     -999,9,     -999,9,     -999,1,   4.9736,1,   0.0111,1,     22.4,2,     -999,9,     -999,9,     -999,9,     -999,9,20230822,1238, -34.0126,  62.2707,-999          ,9,-999          ,9
33RR20230722  ,I05        ,117     ,  2,13         ,13         ,2,20230822,1126, -34.0125,  62.2707,     4905,   1594.6,2,   3.0066,2,  34.5486,2,  34.5482,2,    170.5,2,    170.4,2,    67.93,2,    33.33,2,     0.00,2,     2.34,2,    0.566,2,    0.279,2,   0.0900,2,   2250.1,2,   2330.5,2,   7.5698,2,    25.00,2,     -999,9,   3.0091,2,     -999,9,     -999,9,     -999,9,     -999,9,     -999,1,   4.9739,1,   0.0112,1,     22.2,2,     -999,9,     -999,9,     -999,9,     -999,9,20230822,1235, -34.0125,  62.2708,-999          ,9,-999          ,9
33RR20230722  ,I05        ,117     ,  2,12         ,12         ,2,20230822,1126, -34.0125,  62.2707,     4905,   1754.2,2,   2.7489,2,  34.6166,2,  34.6164,2,    173.5,2,    173.7,2,    71.74,2,    32.56,2,     0.00,2,     2.28,2,     -999,9,     -999,9,     -999,9,   -999.0,9,     -999,9,     -999,9,     -999,9,     -999,9,   2.7503,2,     -999,9,     -999,9,     -999,9,     -999,9,     -999,1,   4.8741,1,   0.0119,1,     -999,9,     -999,9,     -999,9,     -999,9,     -999,9,20230822,1231, -34.0126,  62.2708,-999          ,9,-999          ,9
33RR20230722  ,I05        ,117     ,  2,11         ,11         ,2,20230822,1126, -34.0125,  62.2707,     4905,   1917.7,2,   2.5618,2,  34.6672,2,  34.6675,2,    177.4,2,    177.8,2,    76.81,2,    31.85,2,     0.00,2,     2.22,2,    0.164,2,    0.091,2,   0.0200,2,   2251.0,2,   2339.8,2,   7.5902,2,    25.02,2,     -999,9,   2.5611,2,     -999,9,     -999,9,     -999,9,     -999,9,     -999,1,   4.7969,1,   0.0116,1,     20.7,2,     -999,9,     -999,9,     -999,9,     -999,9,20230822,1227, -34.0125,  62.2708,-999          ,9,-999          ,9
33RR20230722  ,I05        ,117     ,  2,10         ,10         ,2,20230822,1126, -34.0125,  62.2707,     4905,   2127.4,2,   2.3523,2,  34.7055,2,  34.7062,2,    181.0,2,    181.1,2,    84.42,2,    31.37,2,     0.00,2,     2.21,2,    0.082,2,    0.044,2,   0.0500,2,   -999.0,9,     -999,9,     -999,9,     -999,9,     -999,9,   2.3524,2,     -999,9,     -999,9,     -999,9,     -999,9,     -999,1,   4.9747,1,   0.0119,1,     20.4,2,     -999,9,     -999,9,     -999,9,     -999,9,20230822,1223, -34.0126,  62.2707,-999          ,9,-999          ,9
33RR20230722  ,I05        ,117     ,  2,9          ,9          ,2,20230822,1126, -34.0125,  62.2707,     4905,   2379.3,2,   2.1132,2,  34.7236,2,  34.7237,2,    179.4,2,    179.7,2,    98.37,2,    31.80,2,     0.00,2,     2.25,2,    0.026,2,    0.016,2,   0.0400,2,   2269.7,2,   2364.0,2,   7.6069,6,    24.99,2,     -999,9,   2.1135,2,     -999,9,     -999,9,     -999,9,     -999,9,     -999,1,   4.8060,1,   0.0118,1,     20.0,2,     -999,9,     -999,9,     -999,9,     -999,9,20230822,1217, -34.0126,  62.2708,-999          ,9,-999          ,9
33RR20230722  ,I05        ,117     ,  2,8          ,8          ,2,20230822,1126, -34.0125,  62.2707,     4905,   2684.9,2,   1.9363,2,  34.7279,2,  34.7282,2,    177.8,2,    177.7,2,   108.23,2,    32.25,2,     0.00,2,     2.29,2,     -999,9,     -999,9,     -999,9,   -999.0,9,     -999,9,     -999,9,     -999,9,     -999,9,   1.9357,2,     -999,9,     -999,9,     -999,9,     -999,9,     -999,1,   4.9754,1,   0.0115,1,     -999,9,     -999,9,     -999,9,     -999,9,     -999,9,20230822,1211, -34.0126,  62.2707,-999          ,9,-999          ,9
33RR20230722  ,I05        ,117     ,  2,7          ,7          ,2,20230822,1126, -34.0125,  62.2707,     4905,   3027.2,2,   1.7391,2,  34.7272,2,  34.7268,2,    179.4,2,    179.3,2,   115.25,2,    32.56,2,     0.00,2,     2.30,2,    0.017,2,    0.010,2,   0.0300,2,   2283.5,2,   2379.6,6,   7.6069,2,    24.98,2,     -999,9,   1.7393,2,     -999,9,     -999,9,     -999,9,     -999,9,     -999,1,   4.9760,1,   0.0112,1,     20.0,2,     -999,9,     -999,9,     -999,9,     -999,9,20230822,1204, -34.0126,  62.2708,-999          ,9,-999          ,9
33RR20230722  ,I05        ,117     ,  2,6          ,6          ,2,20230822,1126, -34.0125,  62.2707,     4905,   3383.1,2,   1.5627,2,  34.7235,2,  34.7233,2,    184.5,2,    184.3,2,   118.77,2,    32.53,2,     0.00,2,     2.30,2,    0.030,2,    0.020,2,   0.0300,2,   -999.0,9,     -999,9,     -999,9,     -999,9,     -999,9,   1.5631,2,     -999,9,     -999,9,     -999,9,     -999,9,     -999,1,   4.9764,1,   0.0113,1,     19.5,2,     -999,9,     -999,9,     -999,9,     -999,9,20230822,1157, -34.0126,  62.2708,-999          ,9,-999          ,9
33RR20230722  ,I05        ,117     ,  2,5          ,5          ,2,20230822,1126, -34.0125,  62.2707,     4905,   3736.8,2,   1.2437,2,  34.7132,2,  34.7123,2,    195.5,2,    195.8,2,   119.94,2,    32.27,2,     0.00,2,     2.27,2,    0.054,2,    0.034,2,   0.0100,2,   2275.9,2,   2374.7,2,   7.6109,6,    24.97,2,     -999,9,   1.2430,2,     -999,9,     -999,9,     -999,9,     -999,9,     -999,1,   4.9765,1,   0.0112,1,     18.9,2,     -999,9,     -999,9,     -999,9,     -999,9,20230822,1150, -34.0125,  62.2708,-999          ,9,-999          ,9
33RR20230722  ,I05        ,117     ,  2,4          ,37         ,2,20230822,1126, -34.0125,  62.2707,     4905,   4191.0,2,   0.7902,2,  34.6956,2,  34.6954,2,    209.4,2,    209.7,2,   127.75,2,    32.19,2,     0.00,2,     2.26,2,     -999,9,     -999,9,     -999,9,   -999.0,9,     -999,9,     -999,9,     -999,9,     -999,9,   0.7898,2,     -999,9,     -999,9,     -999,9,     -999,9,     -999,1,   4.9765,1,   0.0111,1,     -999,9,     -999,9,     -999,9,     -999,9,     -999,9,20230822,1142, -34.0126,  62.2708,-999          ,9,-999          ,9
33RR20230722  ,I05        ,117     ,  2,3          ,3          ,2,20230822,1126, -34.0125,  62.2707,     4905,   4450.5,2,   0.6621,2,  34.6897,2,  34.6897,2,    213.6,2,    214.0,2,   129.41,2,    32.14,2,     0.00,2,     2.25,2,    0.185,2,    0.101,2,   0.0300,2,   2265.0,2,   2365.2,2,   7.6081,2,    24.96,2,     -999,9,   0.6626,2,     -999,9,     -999,9,     -999,9,     -999,9,     -999,1,   4.9765,1,   0.0111,1,     18.2,2,     -999,9,     -999,9,     -999,9,     -999,9,20230822,1137, -34.0125,  62.2708,-999          ,9,-999          ,9