BOTTLE,20240422CCHHYDRO
EXPOCODE,SECT_ID,STNNBR,CASTNO,SAMPNO,BTLNBR,BTLNBR_FLAG_W,DATE,TIME,LATITUDE,LONGITUDE,DEPTH,CTDPRS,CTDPRS_FLAG_W,CTDTMP,CTDTMP_FLAG_W,CTDSAL,CTDSAL_FLAG_W,SALNTY,SALNTY_FLAG_W,CTDOXY,CTDOXY_FLAG_W,OXYGEN,OXYGEN_FLAG_W,SILCAT,SILCAT_FLAG_W,NITRAT,NITRAT_FLAG_W,NITRIT,NITRIT_FLAG_W,PHSPHT,PHSPHT_FLAG_W,CFC-11,CFC-11_FLAG_W,CFC-12,CFC-12_FLAG_W,SF6,SF6_FLAG_W,TCARBN,TCARBN_FLAG_W,ALKALI,ALKALI_FLAG_W,PH_TOT,PH_TOT_FLAG_W,PH_TMP,PH_TMP_FLAG_W,DOC,DOC_FLAG_W,REFTMP,REFTMP_FLAG_W,POC,POC_FLAG_W,PON,PON_FLAG_W,POP,POP_FLAG_W,DOP,DOP_FLAG_W,DELO18,DELO18_FLAG_W,CTDFLUOR,CTDFLUOR_FLAG_W,CTDXMISS,CTDXMISS_FLAG_W,N2O,N2O_FLAG_W,D15N_NO3,D15N_NO3_FLAG_W,D15N_NO2+NO3,D15N_NO2+NO3_FLAG_W,D18O_NO2+NO3,D18O_NO2+NO3_FLAG_W,D18O_NO3,D18O_NO3_FLAG_W,BTL_DATE,BTL_TIME,BTL_LAT,BTL_LON,HPLC,HPLC_FLAG_W,DNA,DNA_FLAG_W
,,,,,,,,,,,METERS,DBAR,,ITS-90,,PSS-78,,PSS-78,,UMOL/KG,,UMOL/KG,,UMOL/KG,,UMOL/KG,,UMOL/KG,,UMOL/KG,,PMOL/KG,,PMOL/KG,,FMOL/KG,,UMOL/KG,,UMOL/KG,,,,DEG C,,UMOL/KG,,ITS-90,,UG/KG,,UG/KG,,UG/L,,UMOL/KG,,/MILLE,,VOLTS,,VOLTS,,NMOL/KG,,/MILLE,,/MILLE,,/MILLE,,/MILLE,,,,,,,,,
33RR20230722  ,I05        ,83      ,  1,36         ,36         ,2,20230812,2043, -30.3809,  79.2514,     3847,      4.1,2,  19.1740,2,  35.8032,2,  35.8030,2,    231.2,2,    230.3,2,     1.17,2,     0.08,2,     0.00,2,     0.10,2,    1.667,2,    1.423,2,   2.6700,2,   2070.2,6,   2349.8,2,   7.9954,2,    24.99,2,     -999,1,  19.1714,2,     -999,9,     -999,9,     -999,9,     -999,1,     -999,9,   4.9750,1,   0.0145,1,      7.5,2,     -999,9,     -999,9,     -999,9,     -999,9,20230812,2233, -30.3809,  79.2514,-999          ,9,-999          ,9
33RR20230722  ,I05        ,83      ,  1,35         ,35         ,2,20230812,2043, -30.3809,  79.2514,     3847,     26.6,2,  19.1769,2,  35.8033,2,  35.8028,2,    231.1,2,    230.2,2,     1.27,2,     0.04,2,     0.00,2,     0.09,2,     -999,9,     -999,9,     -999,9,   2071.7,2,   2352.6,2,   7.9943,2,    25.00,2,     -999,9,  19.1764,2,     -999,9,     -999,9,     -999,9,     -999,1,     -999,9,   4.9747,1,   0.0145,1,     -999,9,     -999,9,     -999,9,     -999,9,     -999,9,20230812,2231, -30.3809,  79.2514,-999          ,9,-999          ,9
33RR20230722  ,I05        ,83      ,  1,34         ,34         ,2,20230812,2043, -30.3809,  79.2514,     3847,     46.1,2,  19.0741,2,  35.8041,2,  35.8082,2,    230.9,2,    230.6,2,     1.17,2,     0.02,2,     0.00,2,     0.09,2,    1.624,2,    1.216,2,   2.2400,2,   -999.0,9,     -999,9,     -999,9,     -999,9,     -999,9,  19.0750,2,     -999,9,     -999,9,     -999,9,     -999,9,     -999,9,   3.7400,1,   0.0135,1,      7.5,2,     -999,9,     -999,9,     -999,9,     -999,9,20230812,2229, -30.3809,  79.2514,-999          ,9,-999          ,9
33RR20230722  ,I05        ,83      ,  1,33         ,33         ,2,20230812,2043, -30.3809,  79.2514,     3847,     66.8,2,  18.7937,2,  35.8050,2,  35.8021,2,    231.3,2,    232.1,2,     1.17,2,     0.00,2,     0.00,2,     0.08,2,     -999,9,     -999,9,     -999,9,   2077.6,2,   2349.0,2,   7.9847,2,    24.99,2,     -999,9,  18.7924,2,     -999,9,     -999,9,     -999,9,     -999,1,     -999,9,   4.9745,1,   0.0166,1,     -999,9,     -999,9,     -999,9,     -999,9,     -999,9,20230812,2227, -30.3809,  79.2514,-999          ,9,-999          ,9
33RR20230722  ,I05        ,83      ,  1,32         ,32         ,2,20230812,2043, -30.3809,  79.2514,     3847,     91.2,2,  17.8846,2,  35.7001,2,  35.6960,2,    239.8,2,    240.0,2,     1.07,2,     0.01,2,     0.00,2,     0.15,2,    1.877,2,    1.334,2,   2.2800,2,   -999.0,9,     -999,9,     -999,9,     -999,9,     -999,9,  17.8935,2,     -999,9,     -999,9,     -999,9,     -999,1,     -999,9,   4.9751,1,   0.0278,1,      8.2,2,     -999,9,     -999,9,     -999,9,     -999,9,20230812,2225, -30.3809,  79.2514,-999          ,9,-999          ,9
33RR20230722  ,I05        ,83      ,  1,31         ,31         ,2,20230812,2043, -30.3809,  79.2514,     3847,    117.5,2,  15.7917,2,  35.5674,2,  35.5596,2,    228.8,2,    229.6,2,     1.17,2,     1.71,2,     0.04,2,     0.29,2,     -999,9,     -999,9,     -999,9,   2110.6,2,   2337.4,2,   7.9031,2,    24.99,2,     -999,9,  15.8215,2,     -999,9,     -999,9,     -999,9,     -999,9,     -999,9,   4.9709,1,   0.0313,1,     -999,9,     -999,9,     -999,9,     -999,9,     -999,9,20230812,2223, -30.3809,  79.2514,-999          ,9,-999          ,9
33RR20230722  ,I05        ,83      ,  1,30         ,30         ,2,20230812,2043, -30.3809,  79.2514,     3847,    146.0,2,  14.9658,2,  35.4788,2,  35.4724,2,    224.0,2,    226.0,2,     1.37,2,     3.40,2,     0.01,2,     0.39,2,    2.300,2,    1.509,2,   2.3800,2,   2119.3,2,   2333.5,2,   7.8806,2,    25.00,2,     -999,9,  14.9659,2,     -999,9,     -999,9,     -999,9,     -999,1,     -999,9,   4.9695,1,   0.0147,1,      9.6,2,     -999,9,     -999,9,     -999,9,     -999,9,20230812,2221, -30.3809,  79.2514,-999          ,9,-999          ,9
33RR20230722  ,I05        ,83      ,  1,29         ,29         ,2,20230812,2043, -30.3809,  79.2514,     3847,    178.7,2,  14.1782,2,  35.3605,2,  35.3585,2,    226.9,2,    228.6,2,     1.46,2,     4.78,2,     0.01,2,     0.46,2,     -999,9,     -999,9,     -999,9,   2121.2,2,   2325.2,2,   7.8627,2,    24.99,2,     -999,9,  14.1668,2,     -999,9,     -999,9,     -999,9,     -999,9,     -999,9,   4.9695,1,   0.0133,1,     -999,9,     -999,9,     -999,9,     -999,9,     -999,9,20230812,2220, -30.3809,  79.2514,-999          ,9,-999          ,9
33RR20230722  ,I05        ,83      ,  1,28         ,28         ,2,20230812,2043, -30.3809,  79.2514,     3847,    216.0,2,  13.6123,2,  35.2831,2,  35.2806,2,    228.0,2,    229.1,2,     1.76,2,     6.10,2,     0.00,2,     0.53,2,    2.480,2,    1.609,2,   2.4200,2,   2125.8,2,   2320.0,2,   7.8486,6,    25.00,2,     -999,9,  13.6095,2,     -999,9,     -999,9,     -999,9,     -999,9,     -999,9,   4.6988,1,   0.0117,1,     10.5,2,     -999,9,     -999,9,     -999,9,     -999,9,20230812,2218, -30.3809,  79.2514,-999          ,9,-999          ,9
33RR20230722  ,I05        ,83      ,  1,27         ,27         ,2,20230812,2043, -30.3809,  79.2514,     3847,    259.6,2,  12.8983,2,  35.1819,2,  35.1851,2,    230.4,2,    231.3,2,     2.15,2,     7.68,2,     0.00,2,     0.61,2,    2.649,6,    1.653,6,   2.3700,6,   2126.5,2,   2315.4,6,   7.8323,2,    25.01,2,     -999,9,  12.9181,2,     -999,9,     -999,9,     -999,9,     -999,1,     -999,9,   4.9084,1,   0.0117,1,     11.1,6,     -999,9,     -999,9,     -999,9,     -999,9,20230812,2216, -30.3809,  79.2514,-999          ,9,-999          ,9
33RR20230722  ,I05        ,83      ,  1,26         ,26         ,2,20230812,2043, -30.3809,  79.2514,     3847,    299.4,2,  12.4253,2,  35.1134,2,  35.1161,2,    233.5,2,    233.4,2,     2.54,2,     8.84,2,     0.00,2,     0.68,2,     -999,9,     -999,9,     -999,9,   -999.0,9,     -999,9,     -999,9,     -999,9,     -999,9,  12.4318,2,     -999,9,     -999,9,     -999,9,     -999,9,     -999,9,   4.9681,1,   0.0116,1,     -999,9,     -999,9,     -999,9,     -999,9,     -999,9,20230812,2214, -30.3809,  79.2514,-999          ,9,-999          ,9
33RR20230722  ,I05        ,83      ,  1,25         ,25         ,2,20230812,2043, -30.3809,  79.2514,     3847,    343.7,2,  12.0925,2,  35.0638,2,  35.0622,2,    234.9,2,    234.7,2,     2.73,2,     9.73,2,     0.00,2,     0.73,2,    2.857,2,    1.721,2,   2.3500,2,   -999.0,5,   2307.4,2,   7.8154,6,    25.00,2,     -999,9,  12.0898,2,     -999,9,     -999,9,     -999,9,     -999,9,     -999,9,   4.9575,1,   0.0116,1,     11.4,2,     -999,9,     -999,9,     -999,9,     -999,9,20230812,2212, -30.3809,  79.2514,-999          ,9,-999          ,9
33RR20230722  ,I05        ,83      ,  1,24         ,24         ,2,20230812,2043, -30.3809,  79.2514,     3847,    388.8,2,  11.7765,2,  35.0186,2,  35.0183,2,    235.3,2,    235.4,2,     2.93,2,    10.53,2,     0.00,2,     0.79,2,    2.706,2,    1.760,2,   2.3700,2,   -999.0,9,     -999,9,     -999,9,     -999,9,     -999,9,  11.7732,2,     -999,9,     -999,9,     -999,9,     -999,9,     -999,9,   4.9679,1,   0.0115,1,     11.6,2,     -999,9,     -999,9,     -999,9,     -999,9,20230812,2210, -30.3809,  79.2514,-999          ,9,-999          ,9
33RR20230722  ,I05        ,83      ,  1,23         ,23         ,2,20230812,2043, -30.3809,  79.2514,     3847,    440.8,2,  11.4903,2,  34.9765,2,  34.9784,2,    235.8,2,    236.3,2,     3.22,2,    11.25,2,     0.00,2,     0.83,2,    2.940,2,    1.775,2,   2.2800,2,   2130.4,2,   2304.0,2,   7.8019,2,    25.00,2,     -999,9,  11.4926,2,     -999,9,     -999,9,     -999,9,     -999,9,     -999,9,   4.6755,1,   0.0115,1,     11.7,2,     -999,9,     -999,9,     -999,9,     -999,9,20230812,2208, -30.3809,  79.2514,-999          ,9,-999          ,9
33RR20230722  ,I05        ,83      ,  1,22         ,22         ,2,20230812,2043, -30.3809,  79.2514,     3847,    495.8,2,  11.1160,2,  34.9210,2,  34.9244,2,    235.4,2,    235.0,2,     3.42,2,    12.26,2,     0.00,2,     0.91,2,    2.820,2,    1.802,2,   2.2600,2,   2123.6,2,   2300.3,2,   7.7931,2,    25.00,2,     -999,9,  11.1161,2,     -999,9,     -999,9,     -999,9,     -999,9,     -999,9,   4.9671,1,   0.0115,1,     11.7,2,     -999,9,     -999,9,     -999,9,     -999,9,20230812,2206, -30.3809,  79.2514,-999          ,9,-999          ,9
33RR20230722  ,I05        ,83      ,  1,21         ,21         ,2,20230812,2043, -30.3809,  79.2514,     3847,    560.4,2,  10.6388,2,  34.8537,2,  34.8534,2,    234.4,2,    234.1,2,     3.71,2,    13.50,2,     0.00,2,     0.97,2,     -999,9,     -999,9,     -999,9,   2136.5,2,   2297.7,2,   7.7814,2,    25.01,2,     -999,9,  10.6379,2,     -999,9,     -999,9,     -999,9,     -999,9,     -999,9,   4.9667,1,   0.0115,1,     -999,9,     -999,9,     -999,9,     -999,9,     -999,9,20230812,2203, -30.3809,  79.2514,-999          ,9,-999          ,9
33RR20230722  ,I05        ,83      ,  1,20         ,20         ,2,20230812,2043, -30.3809,  79.2514,     3847,    634.5,2,  10.1212,2,  34.7791,2,  34.7760,2,    234.6,2,    234.2,2,     4.00,2,    14.84,2,     0.00,2,     1.04,2,    3.168,2,    1.893,2,   2.0300,2,   -999.0,9,     -999,9,     -999,9,     -999,9,     -999,9,  10.1250,2,     -999,9,     -999,9,     -999,9,     -999,9,     -999,9,   4.9667,1,   0.0115,1,     12.7,2,     -999,9,     -999,9,     -999,9,     -999,9,20230812,2201, -30.3809,  79.2514,-999          ,9,-999          ,9
33RR20230722  ,I05        ,83      ,  1,19         ,19         ,2,20230812,2043, -30.3809,  79.2514,     3847,    720.2,2,   9.4486,2,  34.6911,2,  34.6893,2,    227.2,2,    227.3,2,     5.37,2,    17.28,2,     0.00,2,     1.19,2,    3.125,2,    1.900,2,   1.7500,2,   2144.1,2,   2290.9,2,   7.7452,2,    25.02,2,     -999,9,   9.4499,2,     -999,9,     -999,9,     -999,9,     -999,9,     -999,9,   4.9491,1,   0.0116,1,     13.1,2,     -999,9,     -999,9,     -999,9,     -999,9,20230812,2158, -30.3809,  79.2514,-999          ,9,-999          ,9
33RR20230722  ,I05        ,83      ,  1,18         ,18         ,2,20230812,2043, -30.3809,  79.2514,     3847,    837.7,2,   8.0912,2,  34.5528,2,  34.5504,2,    208.7,2,    208.9,2,    11.32,2,    22.44,2,     0.00,2,     1.52,2,    3.073,2,    1.682,2,   1.2300,2,   -999.0,9,     -999,9,     -999,9,     -999,9,     -999,9,   8.0711,2,     -999,9,     -999,9,     -999,9,     -999,9,     -999,9,   4.9682,1,   0.0115,1,     15.3,2,     -999,9,     -999,9,     -999,9,     -999,9,20230812,2155, -30.3809,  79.2514,-999          ,9,-999          ,9
33RR20230722  ,I05        ,83      ,  1,17         ,17         ,2,20230812,2043, -30.3809,  79.2514,     3847,    956.1,2,   6.2783,2,  34.4229,2,  34.4218,2,    199.9,2,    200.5,2,    20.99,2,    27.31,2,     0.00,2,     1.84,2,    2.450,2,    1.396,2,   0.8700,2,   2182.1,2,   2288.4,2,   7.6467,6,    25.00,2,     -999,9,   6.2795,2,     -999,9,     -999,9,     -999,9,     -999,9,     -999,9,   4.6586,1,   0.0114,1,     17.9,2,     -999,9,     -999,9,     -999,9,     -999,9,20230812,2152, -30.3809,  79.2514,-999          ,9,-999          ,9
33RR20230722  ,I05        ,83      ,  1,16         ,16         ,2,20230812,2043, -30.3809,  79.2514,     3847,   1054.1,2,   5.0652,2,  34.3816,2,  34.3825,2,    193.2,2,    193.2,2,    32.02,2,    30.42,2,     0.00,2,     2.08,2,     -999,9,     -999,9,     -999,9,   -999.0,9,     -999,9,     -999,9,     -999,9,     -999,9,   5.0789,2,     -999,9,     -999,9,     -999,9,     -999,9,     -999,9,   4.1076,1,   0.0112,1,     -999,9,     -999,9,     -999,9,     -999,9,     -999,9,20230812,2149, -30.3809,  79.2514,-999          ,9,-999          ,9
33RR20230722  ,I05        ,83      ,  1,15         ,15         ,2,20230812,2043, -30.3809,  79.2514,     3847,   1151.8,2,   4.4601,2,  34.4042,2,  34.4033,2,    180.8,2,    181.6,2,    43.15,2,    32.26,2,     0.00,2,     2.21,2,    1.416,2,    0.756,2,   0.3900,2,   2217.6,2,   2306.8,2,   7.5966,2,    25.00,2,     -999,9,   4.4651,2,     -999,9,     -999,9,     -999,9,     -999,9,     -999,9,   4.7993,1,   0.0112,1,     20.7,2,     -999,9,     -999,9,     -999,9,     -999,9,20230812,2146, -30.3809,  79.2514,-999          ,9,-999          ,9
33RR20230722  ,I05        ,83      ,  1,14         ,14         ,2,20230812,2043, -30.3809,  79.2514,     3847,   1250.2,2,   4.0982,2,  34.4511,2,  34.4524,2,    166.6,2,    166.4,2,    55.15,2,    33.74,2,     0.00,2,     2.32,2,     -999,9,     -999,9,     -999,9,   2236.5,2,   2318.8,2,   7.5777,2,    25.01,2,     -999,9,   4.0976,2,     -999,9,     -999,9,     -999,9,     -999,9,     -999,9,   4.9733,1,   0.0119,1,     -999,9,     -999,9,     -999,9,     -999,9,     -999,9,20230812,2143, -30.3809,  79.2514,-999          ,9,-999          ,9
33RR20230722  ,I05        ,83      ,  1,13         ,13         ,2,20230812,2043, -30.3809,  79.2514,     3847,   1355.0,2,   3.7515,2,  34.4942,2,  34.4926,2,    157.8,2,    158.1,2,    64.52,2,    34.55,2,     0.00,2,     2.38,2,    0.508,2,    0.279,2,   0.0900,2,   2247.1,2,   2328.7,2,   7.5677,2,    25.00,2,     -999,9,   3.7537,2,     -999,9,     -999,9,     -999,9,     -999,9,     -999,9,   4.9740,1,   0.0118,1,     23.4,2,     -999,9,     -999,9,     -999,9,     -999,9,20230812,2140, -30.3809,  79.2514,-999          ,9,-999          ,9
33RR20230722  ,I05        ,83      ,  1,12         ,12         ,2,20230812,2043, -30.3809,  79.2514,     3847,   1477.3,2,   3.3243,2,  34.5322,2,  34.5329,2,    159.2,2,    158.8,2,    70.47,2,    34.60,2,     0.00,2,     2.40,2,    0.352,2,    0.215,2,   0.0900,2,   2255.7,6,   2333.4,2,   7.5636,2,    25.01,2,     -999,9,   3.3244,2,     -999,9,     -999,9,     -999,9,     -999,9,     -999,9,   4.9217,1,   0.0112,1,     23.0,2,     -999,9,     -999,9,     -999,9,     -999,9,20230812,2137, -30.3809,  79.2514,-999          ,9,-999          ,9
33RR20230722  ,I05        ,83      ,  1,11         ,11         ,2,20230812,2043, -30.3809,  79.2514,     3847,   1598.5,2,   3.0592,2,  34.5791,2,  34.5787,2,    159.6,2,    159.6,2,    75.74,2,    34.42,2,     0.00,2,     2.37,2,    0.229,2,    0.148,2,   0.0600,2,   2261.8,2,   2338.4,2,   7.5658,6,    25.00,2,     -999,9,   3.0596,2,     -999,9,     -999,9,     -999,9,     -999,9,     -999,9,   4.9565,1,   0.0114,1,     22.8,2,     -999,9,     -999,9,     -999,9,     -999,9,20230812,2133, -30.3809,  79.2514,-999          ,9,-999          ,9
33RR20230722  ,I05        ,83      ,  1,10         ,10         ,2,20230812,2043, -30.3809,  79.2514,     3847,   1711.0,2,   2.8463,2,  34.6207,2,  34.6201,2,    162.8,2,    163.0,2,    78.96,2,    33.82,2,     0.00,2,     2.33,2,     -999,9,     -999,9,     -999,9,   -999.0,9,     -999,9,     -999,9,     -999,9,     -999,9,   2.8456,2,     -999,9,     -999,9,     -999,9,     -999,9,     -999,9,   4.9511,1,   0.0113,1,     -999,9,     -999,9,     -999,9,     -999,9,     -999,9,20230812,2130, -30.3809,  79.2514,-999          ,9,-999          ,9
33RR20230722  ,I05        ,83      ,  1,9          ,9          ,2,20230812,2043, -30.3809,  79.2514,     3847,   1826.9,2,   2.6712,2,  34.6547,2,  34.6529,2,    167.7,2,    167.8,2,    80.62,2,    33.24,2,     0.00,2,     2.29,2,    0.139,2,    0.095,2,   0.0300,2,   2258.7,2,   2344.9,6,   7.5791,2,    25.00,2,     -999,9,   2.6718,2,     -999,9,     -999,9,     -999,9,     -999,9,     -999,9,   4.8579,1,   0.0115,1,     21.6,2,     -999,9,     -999,9,     -999,9,     -999,9,20230812,2127, -30.3809,  79.2514,-999          ,9,-999          ,9
33RR20230722  ,I05        ,83      ,  1,8          ,8          ,2,20230812,2043, -30.3809,  79.2514,     3847,   1993.7,2,   2.4442,2,  34.6976,2,  34.6967,2,    177.9,2,    178.1,2,    81.10,2,    32.01,2,     0.00,2,     2.22,2,     -999,9,     -999,9,     -999,9,   -999.0,9,     -999,9,     -999,9,     -999,9,     -999,9,   2.4443,2,     -999,9,     -999,9,     -999,9,     -999,9,     -999,9,   4.8118,1,   0.0113,1,     -999,9,     -999,9,     -999,9,     -999,9,     -999,9,20230812,2123, -30.3809,  79.2514,-999          ,9,-999          ,9
33RR20230722  ,I05        ,83      ,  1,7          ,7          ,2,20230812,2043, -30.3809,  79.2514,     3847,   2204.1,2,   2.2132,2,  34.7304,2,  34.7296,2,    187.2,2,    187.1,2,    84.13,2,    31.04,2,     0.00,2,     2.14,2,    0.076,2,    0.049,2,  -0.0300,2,   2249.9,2,   2347.8,2,   7.6087,2,    25.00,2,     -999,9,   2.2129,2,     -999,9,     -999,9,     -999,9,     -999,9,     -999,9,   4.9741,1,   0.0118,1,     19.3,2,     -999,9,     -999,9,     -999,9,     -999,9,20230812,2118, -30.3809,  79.2514,-999          ,9,-999          ,9
33RR20230722  ,I05        ,83      ,  1,6          ,6          ,2,20230812,2043, -30.3809,  79.2514,     3847,   2457.1,2,   1.9266,2,  34.7432,2,  34.7425,2,    194.0,2,    194.1,2,    91.06,2,    30.61,2,     0.00,2,     2.11,2,     -999,9,     -999,9,     -999,9,   -999.0,9,     -999,9,     -999,9,     -999,9,     -999,9,   1.9245,2,     -999,9,     -999,9,     -999,9,     -999,9,     -999,9,   4.9745,1,   0.0111,1,     -999,9,     -999,9,     -999,9,     -999,9,     -999,9,20230812,2113, -30.3809,  79.2514,-999          ,9,-999          ,9
33RR20230722  ,I05        ,83      ,  1,5          ,5          ,2,20230812,2043, -30.3809,  79.2514,     3847,   2739.4,2,   1.6268,2,  34.7359,2,  34.7353,2,    196.2,2,    196.4,2,   102.18,2,    31.24,2,     0.00,2,     2.15,2,    0.062,2,    0.042,2,   0.0400,2,   2259.1,2,   2359.7,2,   7.6173,2,    25.01,2,     -999,9,   1.6279,2,     -999,9,     -999,9,     -999,9,     -999,9,     -999,9,   4.9747,1,   0.0111,1,     18.4,2,     -999,9,     -999,9,     -999,9,     -999,9,20230812,2107, -30.3809,  79.2514,-999          ,9,-999          ,9
33RR20230722  ,I05        ,83      ,  1,4          ,37         ,2,20230812,2043, -30.3809,  79.2514,     3847,   3093.0,2,   1.4836,2,  34.7309,3,  34.7337,2,    197.1,2,    197.2,2,   107.94,2,    31.51,2,     0.00,2,     2.18,2,     -999,9,     -999,9,     -999,9,   -999.0,9,     -999,9,     -999,9,     -999,9,     -999,9,   1.4833,2,     -999,9,     -999,9,     -999,9,     -999,9,     -999,9,   4.8301,1,   0.0118,1,     -999,9,     -999,9,     -999,9,     -999,9,     -999,9,20230812,2100, -30.3809,  79.2514,-999          ,9,-999          ,9
33RR20230722  ,I05        ,83      ,  1,3          ,3          ,2,20230812,2043, -30.3809,  79.2514,     3847,   3562.8,2,   1.4253,2,  34.7264,2,  34.7258,2,    195.5,2,    196.0,2,   113.31,2,    31.96,2,     0.00,2,     2.20,2,    0.021,2,    0.016,2,  -0.0500,2,   2270.0,2,   2372.9,2,   7.6214,2,    25.01,2,     -999,9,   1.4250,2,     -999,9,     -999,9,     -999,9,     -999,9,     -999,9,   4.9755,1,   0.0111,1,     18.4,2,     -999,9,     -999,9,     -999,9,     -999,9,20230812,2051, -30.3809,  79.2514,-999          ,9,-999          ,9