BOTTLE,20240422CCHHYDRO
EXPOCODE,SECT_ID,STNNBR,CASTNO,SAMPNO,BTLNBR,BTLNBR_FLAG_W,DATE,TIME,LATITUDE,LONGITUDE,DEPTH,CTDPRS,CTDPRS_FLAG_W,CTDTMP,CTDTMP_FLAG_W,CTDSAL,CTDSAL_FLAG_W,SALNTY,SALNTY_FLAG_W,CTDOXY,CTDOXY_FLAG_W,OXYGEN,OXYGEN_FLAG_W,SILCAT,SILCAT_FLAG_W,NITRAT,NITRAT_FLAG_W,NITRIT,NITRIT_FLAG_W,PHSPHT,PHSPHT_FLAG_W,CFC-11,CFC-11_FLAG_W,CFC-12,CFC-12_FLAG_W,SF6,SF6_FLAG_W,TCARBN,TCARBN_FLAG_W,ALKALI,ALKALI_FLAG_W,PH_TOT,PH_TOT_FLAG_W,PH_TMP,PH_TMP_FLAG_W,DOC,DOC_FLAG_W,REFTMP,REFTMP_FLAG_W,POC,POC_FLAG_W,PON,PON_FLAG_W,POP,POP_FLAG_W,DOP,DOP_FLAG_W,DELO18,DELO18_FLAG_W,CTDFLUOR,CTDFLUOR_FLAG_W,CTDXMISS,CTDXMISS_FLAG_W,N2O,N2O_FLAG_W,D15N_NO3,D15N_NO3_FLAG_W,D15N_NO2+NO3,D15N_NO2+NO3_FLAG_W,D18O_NO2+NO3,D18O_NO2+NO3_FLAG_W,D18O_NO3,D18O_NO3_FLAG_W,BTL_DATE,BTL_TIME,BTL_LAT,BTL_LON,HPLC,HPLC_FLAG_W,DNA,DNA_FLAG_W
,,,,,,,,,,,METERS,DBAR,,ITS-90,,PSS-78,,PSS-78,,UMOL/KG,,UMOL/KG,,UMOL/KG,,UMOL/KG,,UMOL/KG,,UMOL/KG,,PMOL/KG,,PMOL/KG,,FMOL/KG,,UMOL/KG,,UMOL/KG,,,,DEG C,,UMOL/KG,,ITS-90,,UG/KG,,UG/KG,,UG/L,,UMOL/KG,,/MILLE,,VOLTS,,VOLTS,,NMOL/KG,,/MILLE,,/MILLE,,/MILLE,,/MILLE,,,,,,,,,
33RR20230722  ,I05        ,170     ,  1,36         ,38         ,2,20230904,1820, -32.9977,  37.5278,     5117,      6.8,2,  18.7490,2,  35.6968,2,  35.6960,2,    232.8,2,    233.5,2,     1.76,2,     0.00,2,     0.00,2,     0.10,2,    1.794,2,    1.244,2,   2.1300,2,   2064.7,2,   2338.4,2,   7.9816,2,    25.02,2,     -999,1,  18.7489,2,     -999,9,     -999,9,     -999,9,     -999,9,     -999,9,   4.8152,1,   0.0238,1,      7.9,2,     -999,1,     -999,1,     -999,1,     -999,1,20230904,2030, -32.9977,  37.5278,-999          ,9,-999          ,9
33RR20230722  ,I05        ,170     ,  1,35         ,35         ,2,20230904,1820, -32.9977,  37.5278,     5117,     25.5,2,  18.4329,2,  35.6794,2,  35.6780,2,    237.1,2,    237.0,2,     1.95,2,     0.00,2,     0.00,2,     0.11,2,     -999,9,     -999,9,     -999,9,   2073.6,2,   2336.6,2,   7.9783,2,    25.00,2,     -999,1,  18.4328,2,     -999,9,     -999,9,     -999,9,     -999,9,     -999,9,   4.9753,1,   0.0246,1,     -999,9,     -999,1,     -999,1,     -999,1,     -999,1,20230904,2028, -32.9977,  37.5278,-999          ,9,-999          ,9
33RR20230722  ,I05        ,170     ,  1,34         ,34         ,2,20230904,1820, -32.9977,  37.5278,     5117,     46.8,2,  17.9279,2,  35.6645,2,  35.6652,2,    234.2,2,    234.5,2,     2.05,2,     0.20,2,     0.24,2,     0.14,2,    1.899,2,    1.282,2,   2.2400,2,   2076.5,2,   2335.1,2,   7.9688,6,    25.00,2,     -999,1,  17.9269,2,     -999,9,     -999,9,     -999,9,     -999,9,     -999,9,   4.7324,1,   0.0347,1,      8.0,2,     -999,1,     -999,1,     -999,1,     -999,1,20230904,2026, -32.9978,  37.5278,-999          ,9,-999          ,9
33RR20230722  ,I05        ,170     ,  1,33         ,33         ,2,20230904,1820, -32.9977,  37.5278,     5117,     71.6,2,  17.8793,2,  35.6638,2,  35.6636,2,    232.8,2,    233.0,2,     2.15,2,     0.31,2,     0.30,2,     0.16,2,     -999,9,     -999,9,     -999,9,   2076.5,2,   2333.3,2,   7.9664,2,    24.97,2,     -999,1,  17.8782,2,     -999,9,     -999,9,     -999,9,     -999,9,     -999,9,   4.9732,1,   0.0319,1,     -999,9,     -999,1,     -999,1,     -999,1,     -999,1,20230904,2024, -32.9977,  37.5278,-999          ,9,-999          ,9
33RR20230722  ,I05        ,170     ,  1,32         ,32         ,2,20230904,1820, -32.9977,  37.5278,     5117,     99.0,2,  17.6535,2,  35.6671,2,  35.6670,2,    235.3,2,    234.8,2,     2.05,2,     0.25,2,     0.23,2,     0.16,2,    1.862,2,    1.296,2,   2.1200,2,   2081.9,2,   2334.6,6,   7.9621,2,    24.96,2,     -999,1,  17.6546,2,     -999,9,     -999,9,     -999,9,     -999,9,     -999,9,   4.9732,1,   0.0229,1,      7.9,2,     -999,1,     -999,1,     -999,1,     -999,1,20230904,2022, -32.9977,  37.5278,-999          ,9,-999          ,9
33RR20230722  ,I05        ,170     ,  1,31         ,31         ,2,20230904,1820, -32.9977,  37.5278,     5117,    127.7,2,  17.4188,2,  35.6472,2,  35.6417,2,    235.5,2,    233.4,2,     2.24,2,     0.86,2,     0.29,2,     0.20,2,     -999,9,     -999,9,     -999,9,   2083.3,2,   2332.4,2,   7.9534,6,    24.99,2,     -999,1,  17.4136,2,     -999,9,     -999,9,     -999,9,     -999,9,     -999,9,   4.8953,1,   0.0210,1,     -999,9,     -999,1,     -999,1,     -999,1,     -999,1,20230904,2020, -32.9977,  37.5278,-999          ,9,-999          ,9
33RR20230722  ,I05        ,170     ,  1,30         ,30         ,2,20230904,1820, -32.9977,  37.5278,     5117,    159.0,2,  17.3066,2,  35.6258,2,  35.6259,2,    233.2,2,    233.2,2,     2.34,2,     1.17,2,     0.36,2,     0.20,2,    1.933,6,    1.303,6,   2.1100,6,   2082.9,2,   2332.6,2,   7.9505,2,    25.00,2,     -999,1,  17.3058,2,     -999,9,     -999,9,     -999,9,     -999,9,     -999,9,   4.8728,1,   0.0159,1,      8.3,6,     -999,1,     -999,1,     -999,1,     -999,1,20230904,2018, -32.9977,  37.5278,-999          ,9,-999          ,9
33RR20230722  ,I05        ,170     ,  1,29         ,29         ,2,20230904,1820, -32.9977,  37.5278,     5117,    193.0,2,  17.2643,2,  35.6356,2,  35.6380,2,    229.2,2,    229.7,2,     2.24,2,     1.60,2,     0.11,2,     0.21,2,     -999,9,     -999,9,     -999,9,   2086.4,2,   2332.5,2,   7.9439,2,    24.99,2,     -999,1,  17.2661,2,     -999,9,     -999,9,     -999,9,     -999,9,     -999,9,   4.6724,1,   0.0126,1,     -999,9,     -999,1,     -999,1,     -999,1,     -999,1,20230904,2016, -32.9977,  37.5278,-999          ,9,-999          ,9
33RR20230722  ,I05        ,170     ,  1,28         ,28         ,2,20230904,1820, -32.9977,  37.5278,     5117,    229.2,2,  17.0216,2,  35.6092,2,  35.6107,2,    222.2,2,    224.3,2,     2.54,2,     2.53,2,     0.00,2,     0.28,2,    2.109,2,    1.341,2,   2.1900,2,   2089.7,2,   2330.4,2,   7.9307,2,    25.01,2,     -999,1,  17.0035,2,     -999,9,     -999,9,     -999,9,     -999,9,     -999,9,   4.9698,1,   0.0117,1,      8.7,2,     -999,1,     -999,1,     -999,1,     -999,1,20230904,2015, -32.9977,  37.5278,-999          ,9,-999          ,9
33RR20230722  ,I05        ,170     ,  1,27         ,27         ,2,20230904,1820, -32.9977,  37.5278,     5117,    274.0,2,  16.1539,2,  35.5314,2,  35.5318,2,    208.0,3,    211.8,2,     3.12,2,     4.87,2,     0.00,2,     0.42,2,    2.222,3,    1.407,2,   2.0900,2,   2109.3,2,   2326.1,2,   7.8898,2,    24.97,2,     -999,1,  16.1609,2,     -999,9,     -999,9,     -999,9,     -999,9,     -999,9,   4.9681,1,   0.0119,1,      9.7,2,     -999,1,     -999,1,     -999,1,     -999,1,20230904,2013, -32.9977,  37.5278,-999          ,9,-999          ,9
33RR20230722  ,I05        ,170     ,  1,26         ,26         ,2,20230904,1820, -32.9977,  37.5278,     5117,    324.9,2,  15.5199,2,  35.4789,2,  35.4788,2,    211.8,3,    214.5,2,     3.32,2,     5.61,2,     0.00,2,     0.48,2,     -999,9,     -999,9,     -999,9,   2111.6,2,   2325.6,2,   7.8778,2,    25.02,2,     -999,1,  15.5041,2,     -999,9,     -999,9,     -999,9,     -999,9,     -999,9,   4.8453,1,   0.0116,1,     -999,9,     -999,1,     -999,1,     -999,1,     -999,1,20230904,2011, -32.9977,  37.5278,-999          ,9,-999          ,9
33RR20230722  ,I05        ,170     ,  1,25         ,25         ,2,20230904,1820, -32.9977,  37.5278,     5117,    390.0,2,  14.6395,2,  35.3892,2,  35.3938,2,    213.9,2,    215.8,2,     3.41,2,     6.77,2,     0.00,2,     0.56,2,    2.402,2,    1.515,2,   2.0500,2,   2119.8,6,   2320.5,2,   7.8586,6,    25.00,2,     -999,1,  14.6493,2,     -999,9,     -999,9,     -999,9,     -999,9,     -999,9,   4.8806,1,   0.0114,1,     10.2,2,     -999,1,     -999,1,     -999,1,     -999,1,20230904,2008, -32.9977,  37.5277,-999          ,9,-999          ,9
33RR20230722  ,I05        ,170     ,  1,24         ,24         ,2,20230904,1820, -32.9977,  37.5278,     5117,    463.0,2,  13.8041,2,  35.2998,2,  35.2997,2,    219.1,2,    219.6,2,     3.61,2,     8.07,2,     0.00,2,     0.63,2,    2.613,3,    1.582,2,   2.1400,2,   2126.1,2,   2317.4,2,   7.8414,2,    24.99,2,     -999,1,  13.8041,2,     -999,9,     -999,9,     -999,9,     -999,9,     -999,9,   4.9672,1,   0.0116,1,     10.6,2,     -999,1,     -999,1,     -999,1,     -999,1,20230904,2006, -32.9978,  37.5278,-999          ,9,-999          ,9
33RR20230722  ,I05        ,170     ,  1,23         ,23         ,2,20230904,1820, -32.9977,  37.5278,     5117,    544.1,2,  13.0265,2,  35.2097,2,  35.2093,2,    224.6,2,    224.5,2,     3.71,2,     9.37,2,     0.00,2,     0.72,2,    2.626,3,    1.628,2,   2.0900,2,   2129.4,2,   2313.3,2,   7.8258,2,    25.00,2,     -999,1,  13.0160,2,     -999,9,     -999,9,     -999,9,     -999,9,     -999,9,   4.8723,1,   0.0115,1,     10.7,2,     -999,1,     -999,1,     -999,1,     -999,1,20230904,2003, -32.9977,  37.5278,-999          ,9,-999          ,9
33RR20230722  ,I05        ,170     ,  1,22         ,22         ,2,20230904,1820, -32.9977,  37.5278,     5117,    631.7,2,  12.2570,2,  35.0954,2,  35.0965,2,    222.9,2,    222.8,2,     4.29,2,    11.21,2,     0.00,2,     0.84,2,    2.759,3,    1.691,2,   2.0200,2,   2130.8,2,   2307.4,2,   7.8082,2,    25.02,2,     -999,1,  12.2563,2,     -999,9,     -999,9,     -999,9,     -999,9,     -999,9,   4.7631,1,   0.0105,1,     11.3,2,     -999,1,     -999,1,     -999,1,     -999,1,20230904,2000, -32.9977,  37.5278,-999          ,9,-999          ,9
33RR20230722  ,I05        ,170     ,  1,21         ,21         ,2,20230904,1820, -32.9977,  37.5278,     5117,    724.1,2,  11.3955,2,  34.9670,2,  34.9665,2,    220.9,2,    220.6,2,     4.88,2,    13.30,2,     0.00,2,     0.97,2,    2.924,3,    1.753,2,   1.8700,2,   2138.7,2,   2303.7,2,   7.7851,2,    24.99,2,     -999,1,  11.3931,2,     -999,9,     -999,9,     -999,9,     -999,9,     -999,9,   4.9255,1,   0.0116,1,     12.1,2,     -999,1,     -999,1,     -999,1,     -999,1,20230904,1958, -32.9977,  37.5277,-999          ,9,-999          ,9
33RR20230722  ,I05        ,170     ,  1,20         ,20         ,2,20230904,1820, -32.9977,  37.5278,     5117,    824.2,2,  10.2142,2,  34.8065,2,  34.8049,2,    218.9,2,    218.5,2,     6.54,2,    16.26,2,     0.00,2,     1.16,2,    3.047,2,    1.796,2,   1.5900,2,   2144.9,2,   2294.6,2,   7.7542,2,    25.02,2,     -999,1,  10.2124,2,     -999,9,     -999,9,     -999,9,     -999,9,     -999,9,   4.9670,1,   0.0113,1,     13.5,2,     -999,1,     -999,1,     -999,1,     -999,1,20230904,1955, -32.9977,  37.5278,-999          ,9,-999          ,9
33RR20230722  ,I05        ,170     ,  1,19         ,19         ,2,20230904,1820, -32.9977,  37.5278,     5117,    927.8,2,   8.7489,2,  34.6426,2,  34.6429,2,    209.5,2,    209.9,2,    11.32,2,    20.58,2,     0.00,2,     1.43,2,     -999,9,     -999,9,     -999,9,   2161.4,2,   2290.6,2,   7.7099,2,    25.02,2,     -999,1,   8.7478,2,     -999,9,     -999,9,     -999,9,     -999,9,     -999,9,   4.9682,1,   0.0114,1,     -999,9,     -999,1,     -999,1,     -999,1,     -999,1,20230904,1952, -32.9977,  37.5278,-999          ,9,-999          ,9
33RR20230722  ,I05        ,170     ,  1,18         ,18         ,2,20230904,1820, -32.9977,  37.5278,     5117,   1031.5,2,   7.0293,2,  34.4989,2,  34.4989,2,    200.7,2,    201.3,2,    19.52,2,    25.48,2,     0.00,2,     1.77,2,    2.681,2,    1.509,2,   1.1200,2,   2178.8,2,   2291.7,2,   7.6584,2,    25.01,2,     -999,1,   7.0165,2,     -999,9,     -999,9,     -999,9,     -999,9,     -999,9,   4.9696,1,   0.0112,1,     17.7,2,     -999,1,     -999,1,     -999,1,     -999,1,20230904,1949, -32.9977,  37.5278,-999          ,9,-999          ,9
33RR20230722  ,I05        ,170     ,  1,17         ,17         ,2,20230904,1820, -32.9977,  37.5278,     5117,   1137.8,2,   5.6607,2,  34.4231,2,  34.4233,2,    196.7,2,    197.3,2,    28.89,2,    28.80,2,     0.00,2,     2.00,2,    2.331,2,    1.286,2,   0.8800,2,   2197.7,2,   2296.3,2,   7.6275,6,    24.98,2,     -999,1,   5.6750,2,     -999,9,     -999,9,     -999,9,     -999,9,     -999,9,   4.9705,1,   0.0112,1,     19.5,2,     -999,1,     -999,1,     -999,1,     -999,1,20230904,1946, -32.9977,  37.5278,-999          ,9,-999          ,9
33RR20230722  ,I05        ,170     ,  1,16         ,16         ,2,20230904,1820, -32.9977,  37.5278,     5117,   1251.3,2,   4.7457,2,  34.4096,2,  34.4098,2,    191.1,2,    191.1,2,    37.97,2,    30.92,2,     0.00,2,     2.16,2,     -999,9,     -999,9,     -999,9,   2211.3,2,   2302.8,2,   7.6036,2,    25.01,2,     -999,1,   4.7401,2,     -999,9,     -999,9,     -999,9,     -999,9,     -999,9,   4.7387,1,   0.0110,1,     -999,9,     -999,1,     -999,1,     -999,1,     -999,1,20230904,1942, -32.9977,  37.5278,-999          ,9,-999          ,9
33RR20230722  ,I05        ,170     ,  1,15         ,15         ,2,20230904,1820, -32.9977,  37.5278,     5117,   1374.0,2,   4.1733,2,  34.4436,2,  34.4442,2,    181.0,2,    181.2,2,    48.02,2,    32.40,2,     0.00,2,     2.25,2,    1.437,2,    0.794,2,   0.4900,2,   2225.7,2,   2311.6,2,   7.5866,2,    25.02,2,     -999,1,   4.1735,2,     -999,9,     -999,9,     -999,9,     -999,9,     -999,9,   4.9726,1,   0.0111,1,     22.3,2,     -999,1,     -999,1,     -999,1,     -999,1,20230904,1939, -32.9977,  37.5278,-999          ,9,-999          ,9
33RR20230722  ,I05        ,170     ,  1,14         ,14         ,2,20230904,1820, -32.9977,  37.5278,     5117,   1505.8,2,   3.6654,2,  34.4977,2,  34.4983,2,    172.4,2,    172.4,2,    57.88,2,    33.41,2,     0.00,2,     2.34,2,    1.015,2,    0.534,2,   0.2900,2,   2238.8,2,   2320.3,2,   7.5728,2,    25.03,2,     -999,1,   3.6653,2,     -999,9,     -999,9,     -999,9,     -999,9,     -999,9,   4.6888,1,   0.0112,1,     23.4,2,     -999,1,     -999,1,     -999,1,     -999,1,20230904,1936, -32.9977,  37.5278,-999          ,9,-999          ,9
33RR20230722  ,I05        ,170     ,  1,13         ,13         ,2,20230904,1820, -32.9977,  37.5278,     5117,   1643.4,2,   3.3183,2,  34.5727,2,  34.5726,2,    167.9,2,    167.9,2,    66.07,2,    33.43,2,     0.00,2,     2.33,2,    0.575,2,    0.302,2,   0.1800,2,   2248.1,6,   2330.3,2,   7.5726,2,    24.99,2,     -999,1,   3.3164,2,     -999,9,     -999,9,     -999,9,     -999,9,     -999,9,   4.7873,1,   0.0118,1,     23.5,2,     -999,1,     -999,1,     -999,1,     -999,1,20230904,1932, -32.9977,  37.5278,-999          ,9,-999          ,9
33RR20230722  ,I05        ,170     ,  1,12         ,12         ,2,20230904,1820, -32.9977,  37.5278,     5117,   1792.1,2,   3.2030,2,  34.6551,2,  34.6547,2,    164.1,2,    164.0,2,    74.17,2,    32.98,2,     0.00,2,     2.32,2,     -999,9,     -999,9,     -999,9,   2257.6,2,   2342.4,2,   7.5794,2,    24.99,2,     -999,1,   3.1997,2,     -999,9,     -999,9,     -999,9,     -999,9,     -999,9,   4.9627,1,   0.0117,1,     -999,9,     -999,1,     -999,1,     -999,1,     -999,1,20230904,1929, -32.9977,  37.5278,-999          ,9,-999          ,9
33RR20230722  ,I05        ,170     ,  1,11         ,11         ,2,20230904,1820, -32.9977,  37.5278,     5117,   1966.8,2,   2.8796,2,  34.6972,2,  34.6977,2,    174.3,2,    174.5,2,    75.63,2,    31.83,2,     0.00,2,     2.23,2,    0.155,2,    0.089,2,  -0.0100,2,   2253.1,2,   2344.6,2,   7.5964,6,    24.97,2,     -999,1,   2.8798,2,     -999,9,     -999,9,     -999,9,     -999,9,     -999,9,   4.8173,1,   0.0111,1,     21.9,2,     -999,1,     -999,1,     -999,1,     -999,1,20230904,1925, -32.9977,  37.5278,-999          ,9,-999          ,9
33RR20230722  ,I05        ,170     ,  1,10         ,10         ,2,20230904,1820, -32.9977,  37.5278,     5117,   2188.7,2,   2.6769,2,  34.7442,2,  34.7445,2,    185.3,2,    185.4,2,    74.85,2,    30.41,2,     0.00,2,     2.11,2,     -999,9,     -999,9,     -999,9,   2245.2,2,   2344.8,2,   7.6159,6,    24.97,2,     -999,1,   2.6763,2,     -999,9,     -999,9,     -999,9,     -999,9,     -999,9,   4.9743,1,   0.0111,1,     -999,9,     -999,1,     -999,1,     -999,1,     -999,1,20230904,1920, -32.9977,  37.5278,-999          ,9,-999          ,9
33RR20230722  ,I05        ,170     ,  1,9          ,9          ,2,20230904,1820, -32.9977,  37.5278,     5117,   2458.9,2,   2.5225,2,  34.7830,2,  34.7830,2,    199.7,2,    199.9,2,    70.07,2,    28.61,2,     0.00,2,     1.99,2,    0.044,2,    0.029,2,   0.0400,2,   2235.8,2,   2342.2,6,   7.6399,2,    24.99,2,     -999,1,   2.5216,2,     -999,9,     -999,9,     -999,9,     -999,9,     -999,9,   4.9742,1,   0.0112,1,     18.4,2,     -999,1,     -999,1,     -999,1,     -999,1,20230904,1914, -32.9977,  37.5278,-999          ,9,-999          ,9
33RR20230722  ,I05        ,170     ,  1,8          ,8          ,2,20230904,1820, -32.9977,  37.5278,     5117,   2773.3,2,   2.3541,2,  34.7971,2,  34.7970,2,    207.0,2,    207.2,2,    70.26,2,    27.95,2,     0.00,2,     1.94,2,     -999,9,     -999,9,     -999,9,   2232.6,2,   2346.8,2,   7.6505,2,    24.95,2,     -999,1,   2.3540,2,     -999,9,     -999,9,     -999,9,     -999,9,     -999,9,   4.9755,1,   0.0112,1,     -999,9,     -999,1,     -999,1,     -999,1,     -999,1,20230904,1908, -32.9977,  37.5278,-999          ,9,-999          ,9
33RR20230722  ,I05        ,170     ,  1,7          ,7          ,2,20230904,1820, -32.9977,  37.5278,     5117,   3135.0,2,   2.1454,2,  34.7993,2,  34.7996,2,    212.9,2,    212.9,2,    73.87,2,    27.72,2,     0.00,2,     1.92,2,    0.030,2,    0.020,2,  -0.0200,2,   2232.0,2,   2346.5,2,   7.6564,2,    25.04,2,     -999,1,   2.1448,2,     -999,9,     -999,9,     -999,9,     -999,9,     -999,9,   4.9747,1,   0.0117,1,     17.2,2,     -999,1,     -999,1,     -999,1,     -999,1,20230904,1901, -32.9977,  37.5278,-999          ,9,-999          ,9
33RR20230722  ,I05        ,170     ,  1,6          ,6          ,2,20230904,1820, -32.9977,  37.5278,     5117,   3524.9,2,   1.8089,2,  34.7813,2,  34.7813,2,    214.8,2,    214.9,2,    83.63,2,    28.53,2,     0.00,2,     1.97,2,     -999,9,     -999,9,     -999,9,   2238.9,2,   2349.8,2,   7.6510,2,    25.02,2,     -999,1,   1.8094,2,     -999,9,     -999,9,     -999,9,     -999,9,     -999,9,   4.9754,1,   0.0111,1,     -999,9,     -999,1,     -999,1,     -999,1,     -999,1,20230904,1853, -32.9977,  37.5278,-999          ,9,-999          ,9
33RR20230722  ,I05        ,170     ,  1,5          ,5          ,2,20230904,1820, -32.9977,  37.5278,     5117,   3920.6,2,   1.3579,2,  34.7507,2,  34.7510,2,    216.0,2,    216.4,2,    98.27,2,    29.84,2,     0.00,2,     2.07,2,    0.078,2,    0.047,2,   0.0600,2,   2246.5,2,   2356.4,2,   7.6403,2,    25.02,2,     -999,1,   1.3582,2,     -999,9,     -999,9,     -999,9,     -999,9,     -999,9,   4.9303,1,   0.0110,1,     17.4,2,     -999,1,     -999,1,     -999,1,     -999,1,20230904,1846, -32.9977,  37.5278,-999          ,9,-999          ,9
33RR20230722  ,I05        ,170     ,  1,4          ,37         ,2,20230904,1820, -32.9977,  37.5278,     5117,   4313.9,2,   0.9273,2,  34.7189,2,  34.7186,2,    217.6,2,    217.6,2,   112.62,2,    31.17,2,     0.00,2,     2.18,2,    0.133,2,    0.078,2,   0.0400,2,   2256.2,2,   2361.6,2,   7.6268,2,    25.00,2,     -999,1,   0.9264,2,     -999,9,     -999,9,     -999,9,     -999,9,     -999,9,   4.9381,1,   0.0111,1,     17.8,2,     -999,1,     -999,1,     -999,1,     -999,1,20230904,1838, -32.9977,  37.5277,-999          ,9,-999          ,9
33RR20230722  ,I05        ,170     ,  1,3          ,3          ,2,20230904,1820, -32.9977,  37.5278,     5117,   4664.4,2,   0.7468,2,  34.7037,2,  34.7038,2,    218.2,2,    218.5,2,   118.47,2,    31.79,2,     0.00,2,     2.22,2,    0.189,2,    0.107,2,   0.1200,2,   2261.5,2,   2364.4,2,   7.6225,6,    25.00,2,     -999,1,   0.7470,2,     -999,9,     -999,9,     -999,9,     -999,9,     -999,9,   4.7871,1,   0.0111,1,     18.1,2,     -999,1,     -999,1,     -999,1,     -999,1,20230904,1831, -32.9977,  37.5277,-999          ,9,-999          ,9