BOTTLE,20240422CCHHYDRO
EXPOCODE,SECT_ID,STNNBR,CASTNO,SAMPNO,BTLNBR,BTLNBR_FLAG_W,DATE,TIME,LATITUDE,LONGITUDE,DEPTH,CTDPRS,CTDPRS_FLAG_W,CTDTMP,CTDTMP_FLAG_W,CTDSAL,CTDSAL_FLAG_W,SALNTY,SALNTY_FLAG_W,CTDOXY,CTDOXY_FLAG_W,OXYGEN,OXYGEN_FLAG_W,SILCAT,SILCAT_FLAG_W,NITRAT,NITRAT_FLAG_W,NITRIT,NITRIT_FLAG_W,PHSPHT,PHSPHT_FLAG_W,CFC-11,CFC-11_FLAG_W,CFC-12,CFC-12_FLAG_W,SF6,SF6_FLAG_W,TCARBN,TCARBN_FLAG_W,ALKALI,ALKALI_FLAG_W,PH_TOT,PH_TOT_FLAG_W,PH_TMP,PH_TMP_FLAG_W,DOC,DOC_FLAG_W,REFTMP,REFTMP_FLAG_W,POC,POC_FLAG_W,PON,PON_FLAG_W,POP,POP_FLAG_W,DOP,DOP_FLAG_W,DELO18,DELO18_FLAG_W,CTDFLUOR,CTDFLUOR_FLAG_W,CTDXMISS,CTDXMISS_FLAG_W,N2O,N2O_FLAG_W,D15N_NO3,D15N_NO3_FLAG_W,D15N_NO2+NO3,D15N_NO2+NO3_FLAG_W,D18O_NO2+NO3,D18O_NO2+NO3_FLAG_W,D18O_NO3,D18O_NO3_FLAG_W,BTL_DATE,BTL_TIME,BTL_LAT,BTL_LON,HPLC,HPLC_FLAG_W,DNA,DNA_FLAG_W
,,,,,,,,,,,METERS,DBAR,,ITS-90,,PSS-78,,PSS-78,,UMOL/KG,,UMOL/KG,,UMOL/KG,,UMOL/KG,,UMOL/KG,,UMOL/KG,,PMOL/KG,,PMOL/KG,,FMOL/KG,,UMOL/KG,,UMOL/KG,,,,DEG C,,UMOL/KG,,ITS-90,,UG/KG,,UG/KG,,UG/L,,UMOL/KG,,/MILLE,,VOLTS,,VOLTS,,NMOL/KG,,/MILLE,,/MILLE,,/MILLE,,/MILLE,,,,,,,,,
33RR20230722  ,I05        ,146     ,  1,36         ,38         ,2,20230830,0033, -33.6894,  49.7921,     4077,      8.1,2,  17.6616,2,  35.6440,2,  35.6443,2,    239.2,2,    238.1,2,     1.46,2,     0.02,2,     0.00,2,     0.12,2,     -999,9,     -999,9,     -999,9,   2073.9,2,   2333.7,2,   7.9675,2,    25.01,2,     -999,1,  17.6612,2,     -999,9,     -999,9,     -999,9,     -999,1,     -999,9,   4.9749,1,   0.0246,1,     -999,9,     -999,1,     -999,1,     -999,1,     -999,1,20230830,0225, -33.6894,  49.7921,-999          ,9,-999          ,9
33RR20230722  ,I05        ,146     ,  1,35         ,35         ,2,20230830,0033, -33.6894,  49.7921,     4077,     19.9,2,  17.6430,2,  35.6428,2,  35.6441,2,    239.2,2,    238.5,2,     1.46,2,     0.00,2,     0.00,2,     0.11,2,     -999,9,     -999,9,     -999,9,   2077.3,2,   2333.8,2,   7.9668,2,    25.00,2,     -999,1,  17.6457,2,     -999,9,     -999,9,     -999,9,     -999,1,     -999,9,   4.8532,1,   0.0257,1,     -999,9,     -999,1,     -999,1,     -999,1,     -999,1,20230830,0224, -33.6894,  49.7921,-999          ,9,-999          ,9
33RR20230722  ,I05        ,146     ,  1,34         ,34         ,2,20230830,0033, -33.6894,  49.7921,     4077,     35.6,2,  17.4737,2,  35.6355,2,  35.6370,2,    239.9,2,    239.3,2,     1.56,2,     0.00,2,     0.00,2,     0.10,2,     -999,9,     -999,9,     -999,9,   -999.0,9,     -999,9,     -999,9,     -999,9,     -999,1,  17.4733,2,     -999,9,     -999,9,     -999,9,     -999,1,     -999,9,   4.9751,1,   0.0283,1,     -999,9,     -999,1,     -999,1,     -999,1,     -999,1,20230830,0222, -33.6894,  49.7921,-999          ,9,-999          ,9
33RR20230722  ,I05        ,146     ,  1,33         ,33         ,2,20230830,0033, -33.6894,  49.7921,     4077,     53.2,2,  17.3429,2,  35.6267,2,  35.6275,2,    240.2,2,    239.5,2,     1.66,2,     0.09,2,     0.04,2,     0.12,2,     -999,9,     -999,9,     -999,9,   2078.4,2,   2333.0,2,   7.9600,2,    25.02,2,     -999,1,  17.3410,2,     -999,9,     -999,9,     -999,9,     -999,1,     -999,9,   4.9746,1,   0.0418,1,     -999,9,     -999,1,     -999,1,     -999,1,     -999,1,20230830,0221, -33.6893,  49.7921,-999          ,9,-999          ,9
33RR20230722  ,I05        ,146     ,  1,32         ,32         ,2,20230830,0033, -33.6894,  49.7921,     4077,     74.0,2,  17.1259,2,  35.6293,2,  35.6287,2,    235.0,2,    235.5,2,     1.76,2,     0.63,2,     0.23,2,     0.17,2,     -999,9,     -999,9,     -999,9,   -999.0,9,     -999,9,     -999,9,     -999,9,     -999,1,  17.1066,2,     -999,9,     -999,9,     -999,9,     -999,1,     -999,9,   4.8948,1,   0.0239,1,     -999,9,     -999,1,     -999,1,     -999,1,     -999,1,20230830,0219, -33.6893,  49.7921,-999          ,9,-999          ,9
33RR20230722  ,I05        ,146     ,  1,31         ,31         ,2,20230830,0033, -33.6894,  49.7921,     4077,     97.8,2,  16.8775,2,  35.5989,2,  35.5999,2,    231.1,2,    231.1,2,     2.05,2,     1.59,2,     0.14,2,     0.21,2,     -999,9,     -999,9,     -999,9,   2086.9,2,   2332.1,2,   7.9380,2,    25.00,2,     -999,1,  16.8749,2,     -999,9,     -999,9,     -999,9,     -999,1,     -999,9,   4.8079,1,   0.0198,1,     -999,9,     -999,1,     -999,1,     -999,1,     -999,1,20230830,0217, -33.6894,  49.7921,-999          ,9,-999          ,9
33RR20230722  ,I05        ,146     ,  1,30         ,30         ,2,20230830,0033, -33.6894,  49.7921,     4077,    122.9,2,  16.6037,2,  35.5712,2,  35.5725,2,    226.2,2,    226.9,2,     2.24,2,     2.55,2,     0.03,2,     0.26,2,     -999,9,     -999,9,     -999,9,   2092.9,2,   2328.5,6,   7.9250,2,    25.00,2,     -999,1,  16.6001,2,     -999,9,     -999,9,     -999,9,     -999,9,     -999,9,   4.9449,1,   0.0142,1,     -999,9,     -999,1,     -999,1,     -999,1,     -999,1,20230830,0215, -33.6894,  49.7921,-999          ,9,-999          ,9
33RR20230722  ,I05        ,146     ,  1,29         ,29         ,2,20230830,0033, -33.6894,  49.7921,     4077,    147.1,2,  16.1035,2,  35.5228,2,  35.5255,2,    219.4,2,    221.0,2,     2.44,2,     3.82,2,     0.02,2,     0.35,2,     -999,9,     -999,9,     -999,9,   2104.2,2,   2326.4,2,   7.9024,6,    25.00,2,     -999,1,  16.1042,2,     -999,9,     -999,9,     -999,9,     -999,9,     -999,9,   4.8408,1,   0.0127,1,     -999,9,     -999,1,     -999,1,     -999,1,     -999,1,20230830,0213, -33.6894,  49.7921,-999          ,9,-999          ,9
33RR20230722  ,I05        ,146     ,  1,28         ,28         ,2,20230830,0033, -33.6894,  49.7921,     4077,    172.4,2,  15.6089,2,  35.4823,2,  35.4831,2,    214.3,2,    216.0,2,     3.12,2,     5.24,2,     0.00,2,     0.44,2,     -999,9,     -999,9,     -999,9,   -999.0,9,     -999,9,     -999,9,     -999,9,     -999,1,  15.6083,2,     -999,9,     -999,9,     -999,9,     -999,9,     -999,9,   4.9685,1,   0.0120,1,     -999,9,     -999,1,     -999,1,     -999,1,     -999,1,20230830,0212, -33.6894,  49.7921,-999          ,9,-999          ,9
33RR20230722  ,I05        ,146     ,  1,27         ,27         ,2,20230830,0033, -33.6894,  49.7921,     4077,    197.5,2,  15.3537,2,  35.4610,2,  35.4634,2,    214.9,2,    216.2,2,     3.12,2,     5.61,2,     0.00,2,     0.47,2,     -999,9,     -999,9,     -999,9,   2113.7,6,   2324.4,2,   7.8800,2,    25.05,2,     -999,1,  15.3546,2,     -999,9,     -999,9,     -999,9,     -999,1,     -999,9,   4.9684,1,   0.0124,1,     -999,9,     -999,1,     -999,1,     -999,1,     -999,1,20230830,0210, -33.6893,  49.7921,-999          ,9,-999          ,9
33RR20230722  ,I05        ,146     ,  1,26         ,26         ,2,20230830,0033, -33.6894,  49.7921,     4077,    223.6,2,  15.0747,2,  35.4388,2,  35.4397,2,    218.1,2,    218.7,2,     3.02,2,     5.69,2,     0.00,2,     0.49,2,     -999,9,     -999,9,     -999,9,   2117.0,2,   2322.6,2,   7.8721,2,    25.00,2,     -999,1,  15.0636,2,     -999,9,     -999,9,     -999,9,     -999,9,     -999,9,   4.9081,1,   0.0119,1,     -999,9,     -999,1,     -999,1,     -999,1,     -999,1,20230830,0208, -33.6894,  49.7921,-999          ,9,-999          ,9
33RR20230722  ,I05        ,146     ,  1,25         ,25         ,2,20230830,0033, -33.6894,  49.7921,     4077,    256.6,2,  14.5040,2,  35.3839,2,  35.3867,2,    220.3,2,    220.4,2,     2.93,2,     6.39,2,     0.00,2,     0.52,2,     -999,9,     -999,9,     -999,9,   2120.6,2,   2321.7,2,   7.8618,2,    25.04,2,     -999,1,  14.4995,2,     -999,9,     -999,9,     -999,9,     -999,1,     -999,9,   4.9530,1,   0.0120,1,     -999,9,     -999,1,     -999,1,     -999,1,     -999,1,20230830,0207, -33.6893,  49.7921,-999          ,9,-999          ,9
33RR20230722  ,I05        ,146     ,  1,24         ,24         ,2,20230830,0033, -33.6894,  49.7921,     4077,    302.8,2,  14.0177,2,  35.3204,2,  35.3216,2,    217.8,2,    218.7,2,     3.51,2,     7.78,2,     0.00,2,     0.61,2,     -999,9,     -999,9,     -999,9,   -999.0,9,     -999,9,     -999,9,     -999,9,     -999,1,  14.0208,2,     -999,9,     -999,9,     -999,9,     -999,9,     -999,9,   4.9677,1,   0.0114,1,     -999,9,     -999,1,     -999,1,     -999,1,     -999,1,20230830,0205, -33.6894,  49.7921,-999          ,9,-999          ,9
33RR20230722  ,I05        ,146     ,  1,23         ,23         ,2,20230830,0033, -33.6894,  49.7921,     4077,    348.0,2,  13.6242,2,  35.2834,2,  35.2875,2,    224.5,2,    223.8,2,     3.32,2,     8.10,2,     0.00,2,     0.62,2,     -999,9,     -999,9,     -999,9,   2126.4,2,   2315.0,2,   7.8438,2,    25.01,2,     -999,1,  13.6200,2,     -999,9,     -999,9,     -999,9,     -999,9,     -999,9,   4.9677,1,   0.0118,1,     -999,9,     -999,1,     -999,1,     -999,1,     -999,1,20230830,0203, -33.6894,  49.7921,-999          ,9,-999          ,9
33RR20230722  ,I05        ,146     ,  1,22         ,22         ,2,20230830,0033, -33.6894,  49.7921,     4077,    385.3,2,  13.3942,2,  35.2591,2,  35.2597,2,    227.6,2,    226.9,2,     3.22,2,     8.35,2,     0.00,2,     0.62,2,     -999,9,     -999,9,     -999,9,   2123.1,2,   2314.1,2,   7.8389,6,    25.00,2,     -999,1,  13.3931,2,     -999,9,     -999,9,     -999,9,     -999,9,     -999,9,   4.9679,1,   0.0117,1,     -999,9,     -999,1,     -999,1,     -999,1,     -999,1,20230830,0201, -33.6894,  49.7921,-999          ,9,-999          ,9
33RR20230722  ,I05        ,146     ,  1,21         ,21         ,2,20230830,0033, -33.6894,  49.7921,     4077,    436.0,2,  13.0439,2,  35.2114,2,  35.2125,2,    227.3,2,    226.9,2,     3.41,2,     9.18,2,     0.00,2,     0.67,2,     -999,9,     -999,9,     -999,9,   2124.1,2,   2313.1,2,   7.8314,2,    25.01,2,     -999,1,  13.0426,2,     -999,9,     -999,9,     -999,9,     -999,9,     -999,9,   4.9527,1,   0.0114,1,     -999,9,     -999,1,     -999,1,     -999,1,     -999,1,20230830,0159, -33.6894,  49.7921,-999          ,9,-999          ,9
33RR20230722  ,I05        ,146     ,  1,20         ,20         ,2,20230830,0033, -33.6894,  49.7921,     4077,    511.9,2,  12.4069,2,  35.1152,2,  35.1154,2,    222.9,2,    222.7,2,     4.00,2,    10.95,2,     0.00,2,     0.81,2,   -0.003,4,    1.770,2,   2.0800,2,   -999.0,9,     -999,9,     -999,9,     -999,9,     -999,1,  12.4046,2,     -999,9,     -999,9,     -999,9,     -999,9,     -999,9,   4.8256,1,   0.0115,1,     11.0,2,     -999,1,     -999,1,     -999,1,     -999,1,20230830,0156, -33.6893,  49.7921,-999          ,9,-999          ,9
33RR20230722  ,I05        ,146     ,  1,19         ,19         ,2,20230830,0033, -33.6894,  49.7921,     4077,    606.4,2,  11.2638,2,  34.9443,2,  34.9429,2,    222.2,2,    221.7,2,     4.98,2,    13.59,2,     0.00,2,     0.97,2,    2.662,4,    1.798,2,   1.8900,2,   2140.3,2,   2299.7,2,   7.7845,2,    24.99,2,     -999,1,  11.2640,2,     -999,9,     -999,9,     -999,9,     -999,9,     -999,9,   4.9667,1,   0.0116,1,     11.8,2,     -999,1,     -999,1,     -999,1,     -999,1,20230830,0154, -33.6894,  49.7921,-999          ,9,-999          ,9
33RR20230722  ,I05        ,146     ,  1,18         ,18         ,2,20230830,0033, -33.6894,  49.7921,     4077,    707.2,2,  10.1512,2,  34.7968,2,  34.7966,2,    217.8,2,    217.5,2,     6.64,2,    16.55,2,     0.00,2,     1.16,2,     -999,9,     -999,9,     -999,9,   2147.3,2,   2294.1,2,   7.7499,2,    25.01,2,     -999,1,  10.1405,2,     -999,9,     -999,9,     -999,9,     -999,9,     -999,9,   4.9051,1,   0.0114,1,     -999,9,     -999,1,     -999,1,     -999,1,     -999,1,20230830,0151, -33.6893,  49.7921,-999          ,9,-999          ,9
33RR20230722  ,I05        ,146     ,  1,17         ,17         ,2,20230830,0033, -33.6894,  49.7921,     4077,    819.5,2,   8.5592,2,  34.6201,2,  34.6211,2,    210.6,2,    210.9,2,    11.22,2,    21.04,2,     0.00,2,     1.45,2,   -0.003,4,    1.732,2,   1.3500,2,   2160.5,2,   2294.1,2,   7.7086,2,    25.04,2,     -999,1,   8.5581,2,     -999,9,     -999,9,     -999,9,     -999,9,     -999,9,   4.9692,1,   0.0113,1,     14.8,2,     -999,1,     -999,1,     -999,1,     -999,1,20230830,0148, -33.6894,  49.7921,-999          ,9,-999          ,9
33RR20230722  ,I05        ,146     ,  1,16         ,16         ,2,20230830,0033, -33.6894,  49.7921,     4077,    936.8,2,   7.1304,2,  34.4940,2,  34.5025,2,    206.1,2,    206.6,2,    17.08,2,    24.87,2,     0.00,2,     1.70,2,     -999,9,     -999,9,     -999,9,   2171.4,2,   2288.1,2,   7.6645,2,    25.01,2,     -999,1,   7.1289,2,     -999,9,     -999,9,     -999,9,     -999,9,     -999,9,   4.9690,1,   0.0113,1,     -999,9,     -999,1,     -999,1,     -999,1,     -999,1,20230830,0145, -33.6894,  49.7921,-999          ,9,-999          ,9
33RR20230722  ,I05        ,146     ,  1,15         ,15         ,2,20230830,0033, -33.6894,  49.7921,     4077,   1056.1,2,   5.6485,2,  34.3984,2,  34.3992,2,    203.9,2,    204.4,2,    25.57,2,    28.38,2,     0.00,2,     1.94,2,    2.378,4,    1.444,2,   1.0500,2,   2189.2,2,   2291.3,6,   7.6358,2,    25.04,2,     -999,1,   5.6391,2,     -999,9,     -999,9,     -999,9,     -999,9,     -999,9,   4.6886,1,   0.0111,1,     18.0,2,     -999,1,     -999,1,     -999,1,     -999,1,20230830,0141, -33.6894,  49.7921,-999          ,9,-999          ,9
33RR20230722  ,I05        ,146     ,  1,14         ,14         ,2,20230830,0033, -33.6894,  49.7921,     4077,   1182.6,2,   4.5003,2,  34.3833,2,  34.3843,2,    195.9,2,    196.5,2,    37.29,2,    31.10,2,     0.00,2,     2.14,2,     -999,9,     -999,9,     -999,9,   -999.0,9,     -999,9,     -999,9,     -999,9,     -999,1,   4.5002,2,     -999,9,     -999,9,     -999,9,     -999,9,     -999,9,   4.9711,1,   0.0112,1,     -999,9,     -999,1,     -999,1,     -999,1,     -999,1,20230830,0138, -33.6894,  49.7921,-999          ,9,-999          ,9
33RR20230722  ,I05        ,146     ,  1,13         ,13         ,2,20230830,0033, -33.6894,  49.7921,     4077,   1317.1,2,   3.8316,2,  34.4290,2,  34.4281,2,    184.2,2,    184.3,2,    50.17,2,    32.73,2,     0.00,2,     2.25,2,    1.583,4,    0.744,2,   0.3900,2,   2225.4,2,   2312.1,2,   7.5873,6,    24.99,2,     -999,1,   3.8315,2,     -999,9,     -999,9,     -999,9,     -999,9,     -999,9,   4.9725,1,   0.0113,1,     21.0,2,     -999,1,     -999,1,     -999,1,     -999,1,20230830,0135, -33.6894,  49.7921,-999          ,9,-999          ,9
33RR20230722  ,I05        ,146     ,  1,12         ,12         ,2,20230830,0033, -33.6894,  49.7921,     4077,   1458.5,2,   3.3552,2,  34.4931,2,  34.4928,2,    176.8,2,    176.7,2,    60.03,2,    33.52,2,     0.00,2,     2.32,2,     -999,9,     -999,9,     -999,9,   -999.0,9,     -999,9,     -999,9,     -999,9,     -999,1,   3.3554,2,     -999,9,     -999,9,     -999,9,     -999,9,     -999,9,   4.7879,1,   0.0117,1,     -999,9,     -999,1,     -999,1,     -999,1,     -999,1,20230830,0131, -33.6894,  49.7921,-999          ,9,-999          ,9
33RR20230722  ,I05        ,146     ,  1,11         ,11         ,2,20230830,0033, -33.6894,  49.7921,     4077,   1602.2,2,   3.0618,2,  34.5598,2,  34.5565,2,    176.0,2,    176.1,2,    66.17,2,    33.25,2,     0.00,2,     2.28,2,    0.613,4,    0.332,2,   0.1300,2,   2244.1,6,   2328.6,2,   7.5778,2,    25.03,2,     -999,1,   3.0612,2,     -999,9,     -999,9,     -999,9,     -999,9,     -999,9,   4.9552,1,   0.0112,1,     21.3,2,     -999,1,     -999,1,     -999,1,     -999,1,20230830,0128, -33.6893,  49.7921,-999          ,9,-999          ,9
33RR20230722  ,I05        ,146     ,  1,10         ,10         ,2,20230830,0033, -33.6894,  49.7921,     4077,   1755.3,2,   2.8325,2,  34.6136,2,  34.6142,2,    177.1,2,    177.0,2,    71.73,2,    32.82,2,     0.00,2,     2.27,2,     -999,9,     -999,9,     -999,9,   -999.0,9,     -999,9,     -999,9,     -999,9,     -999,1,   2.8322,2,     -999,9,     -999,9,     -999,9,     -999,9,     -999,9,   4.9739,1,   0.0111,1,     -999,9,     -999,1,     -999,1,     -999,1,     -999,1,20230830,0124, -33.6893,  49.7921,-999          ,9,-999          ,9
33RR20230722  ,I05        ,146     ,  1,9          ,9          ,2,20230830,0033, -33.6894,  49.7921,     4077,   1932.3,2,   2.5904,2,  34.6666,2,  34.6673,2,    180.5,2,    180.2,2,    78.17,2,    32.19,2,     0.00,2,     2.23,2,    0.251,4,    0.123,2,   0.0400,2,   2249.3,2,   2341.4,2,   7.5970,2,    25.01,2,     -999,1,   2.5912,2,     -999,9,     -999,9,     -999,9,     -999,9,     -999,9,   4.9741,1,   0.0112,1,     20.2,2,     -999,1,     -999,1,     -999,1,     -999,1,20230830,0120, -33.6893,  49.7921,-999          ,9,-999          ,9
33RR20230722  ,I05        ,146     ,  1,8          ,8          ,2,20230830,0033, -33.6894,  49.7921,     4077,   2147.4,2,   2.4186,2,  34.7085,2,  34.7095,2,    184.7,2,    184.7,2,    81.68,2,    31.47,2,     0.00,2,     2.18,2,     -999,9,     -999,9,     -999,9,   2251.5,2,   2348.2,2,   7.6073,2,    25.02,2,     -999,1,   2.4171,2,     -999,9,     -999,9,     -999,9,     -999,9,     -999,9,   4.9742,1,   0.0117,1,     -999,9,     -999,1,     -999,1,     -999,1,     -999,1,20230830,0115, -33.6893,  49.7921,-999          ,9,-999          ,9
33RR20230722  ,I05        ,146     ,  1,7          ,7          ,2,20230830,0033, -33.6894,  49.7921,     4077,   2411.3,2,   2.2159,2,  34.7378,2,  34.7384,2,    191.0,2,    191.2,2,    86.17,2,    30.80,2,     0.00,2,     2.13,2,    0.087,4,    0.048,2,   0.0700,2,   2250.4,2,   2351.0,2,   7.6182,2,    25.02,2,     -999,1,   2.2155,2,     -999,9,     -999,9,     -999,9,     -999,9,     -999,9,   4.8946,1,   0.0112,1,     18.8,2,     -999,1,     -999,1,     -999,1,     -999,1,20230830,0110, -33.6894,  49.7921,-999          ,9,-999          ,9
33RR20230722  ,I05        ,146     ,  1,6          ,6          ,2,20230830,0033, -33.6894,  49.7921,     4077,   2715.0,2,   2.0187,2,  34.7515,3,  34.7490,2,    194.2,2,    194.5,2,    91.83,2,    30.68,2,     0.00,2,     2.11,2,   -0.001,4,    0.047,2,   0.0100,2,   -999.0,9,     -999,9,     -999,9,     -999,9,     -999,1,   2.0162,2,     -999,9,     -999,9,     -999,9,     -999,9,     -999,9,   4.8816,1,   0.0112,1,     18.4,2,     -999,1,     -999,1,     -999,1,     -999,1,20230830,0103, -33.6894,  49.7921,-999          ,9,-999          ,9
33RR20230722  ,I05        ,146     ,  1,5          ,5          ,2,20230830,0033, -33.6894,  49.7921,     4077,   3053.5,2,   1.6369,2,  34.7369,2,  34.7380,2,    194.0,2,    194.0,2,   106.76,2,    31.75,2,     0.00,2,     2.22,2,    0.004,4,    0.053,2,   0.0000,2,   2266.7,2,   2366.4,2,   7.6188,6,    25.03,2,     -999,1,   1.6379,2,     -999,9,     -999,9,     -999,9,     -999,9,     -999,9,   4.8553,1,   0.0112,1,     18.5,2,     -999,1,     -999,1,     -999,1,     -999,1,20230830,0056, -33.6894,  49.7921,-999          ,9,-999          ,9
33RR20230722  ,I05        ,146     ,  1,4          ,37         ,2,20230830,0033, -33.6894,  49.7921,     4077,   3405.3,2,   1.3490,2,  34.7229,2,  34.7235,2,    198.5,2,    198.7,2,   115.05,2,    32.13,2,     0.00,2,     2.22,2,    0.060,4,    0.044,2,   0.0500,2,   -999.0,9,     -999,9,     -999,9,     -999,9,     -999,1,   1.3484,2,     -999,9,     -999,9,     -999,9,     -999,9,     -999,9,   4.7093,1,   0.0110,1,     18.2,2,     -999,1,     -999,1,     -999,1,     -999,1,20230830,0049, -33.6894,  49.7921,-999          ,9,-999          ,9
33RR20230722  ,I05        ,146     ,  1,3          ,3          ,2,20230830,0033, -33.6894,  49.7921,     4077,   3711.0,2,   1.1768,2,  34.7151,2,  34.7162,2,    203.2,2,    203.4,2,   117.69,2,    32.17,2,     0.00,2,     2.22,2,    0.077,4,    0.058,2,   0.0800,2,   2265.1,2,   2364.8,2,   7.6148,2,    25.01,2,     -999,1,   1.1779,2,     -999,9,     -999,9,     -999,9,     -999,9,     -999,9,   4.9757,1,   0.0110,1,     18.1,2,     -999,1,     -999,1,     -999,1,     -999,1,20230830,0043, -33.6894,  49.7921,-999          ,9,-999          ,9