BOTTLE,20240422CCHHYDRO
EXPOCODE,SECT_ID,STNNBR,CASTNO,SAMPNO,BTLNBR,BTLNBR_FLAG_W,DATE,TIME,LATITUDE,LONGITUDE,DEPTH,CTDPRS,CTDPRS_FLAG_W,CTDTMP,CTDTMP_FLAG_W,CTDSAL,CTDSAL_FLAG_W,SALNTY,SALNTY_FLAG_W,CTDOXY,CTDOXY_FLAG_W,OXYGEN,OXYGEN_FLAG_W,SILCAT,SILCAT_FLAG_W,NITRAT,NITRAT_FLAG_W,NITRIT,NITRIT_FLAG_W,PHSPHT,PHSPHT_FLAG_W,CFC-11,CFC-11_FLAG_W,CFC-12,CFC-12_FLAG_W,SF6,SF6_FLAG_W,TCARBN,TCARBN_FLAG_W,ALKALI,ALKALI_FLAG_W,PH_TOT,PH_TOT_FLAG_W,PH_TMP,PH_TMP_FLAG_W,DOC,DOC_FLAG_W,REFTMP,REFTMP_FLAG_W,POC,POC_FLAG_W,PON,PON_FLAG_W,POP,POP_FLAG_W,DOP,DOP_FLAG_W,DELO18,DELO18_FLAG_W,CTDFLUOR,CTDFLUOR_FLAG_W,CTDXMISS,CTDXMISS_FLAG_W,N2O,N2O_FLAG_W,D15N_NO3,D15N_NO3_FLAG_W,D15N_NO2+NO3,D15N_NO2+NO3_FLAG_W,D18O_NO2+NO3,D18O_NO2+NO3_FLAG_W,D18O_NO3,D18O_NO3_FLAG_W,BTL_DATE,BTL_TIME,BTL_LAT,BTL_LON,HPLC,HPLC_FLAG_W,DNA,DNA_FLAG_W
,,,,,,,,,,,METERS,DBAR,,ITS-90,,PSS-78,,PSS-78,,UMOL/KG,,UMOL/KG,,UMOL/KG,,UMOL/KG,,UMOL/KG,,UMOL/KG,,PMOL/KG,,PMOL/KG,,FMOL/KG,,UMOL/KG,,UMOL/KG,,,,DEG C,,UMOL/KG,,ITS-90,,UG/KG,,UG/KG,,UG/L,,UMOL/KG,,/MILLE,,VOLTS,,VOLTS,,NMOL/KG,,/MILLE,,/MILLE,,/MILLE,,/MILLE,,,,,,,,,
33RR20230722  ,I05        ,115     ,  1,36         ,38         ,2,20230821,1952, -34.0029,  63.4091,     4751,      6.3,2,  16.3619,2,  35.5148,2,  35.5143,2,    244.3,2,    243.6,2,     1.07,2,     0.08,2,     0.03,2,     0.15,2,    2.056,2,    1.378,2,   2.4000,2,   2083.4,6,   2328.8,2,   7.9459,2,    25.01,2,     -999,1,  16.3608,2,     -999,9,     -999,9,     -999,9,     -999,9,     -999,1,   4.7460,1,   0.0368,1,      8.1,2,     -999,9,     -999,9,     -999,9,     -999,9,20230821,2155, -34.0029,  63.4091,-999          ,9,-999          ,9
33RR20230722  ,I05        ,115     ,  1,35         ,35         ,2,20230821,1952, -34.0029,  63.4091,     4751,     20.2,2,  16.3647,2,  35.5149,2,  35.5147,2,    244.4,2,    243.5,2,     0.78,2,     0.02,2,     0.03,2,     0.15,2,     -999,9,     -999,9,     -999,9,   2084.5,2,   2332.1,2,   7.9461,2,    24.99,2,     -999,9,  16.3624,2,     -999,9,     -999,9,     -999,9,     -999,9,     -999,1,   4.9750,1,   0.0384,1,     -999,9,     -999,9,     -999,9,     -999,9,     -999,9,20230821,2153, -34.0029,  63.4091,-999          ,9,-999          ,9
33RR20230722  ,I05        ,115     ,  1,34         ,34         ,2,20230821,1952, -34.0029,  63.4091,     4751,     33.8,2,  16.3693,2,  35.5149,2,  35.5147,2,    244.3,2,    243.6,2,     1.17,2,     0.01,2,     0.03,2,     0.14,2,    1.988,2,    1.384,2,   2.3300,2,   2085.1,2,   2329.8,2,   7.9443,2,    24.98,2,     -999,9,  16.3645,2,     -999,9,     -999,9,     -999,9,     -999,9,     -999,1,   4.9748,1,   0.0403,1,      8.2,2,     -999,9,     -999,9,     -999,9,     -999,9,20230821,2152, -34.0029,  63.4091,-999          ,9,-999          ,9
33RR20230722  ,I05        ,115     ,  1,33         ,33         ,2,20230821,1952, -34.0029,  63.4091,     4751,     50.2,2,  16.3682,2,  35.5142,2,  35.5145,2,    244.2,2,    243.2,2,     1.27,2,     0.01,2,     0.03,2,     0.15,2,     -999,9,     -999,9,     -999,9,   2084.3,2,   2333.9,2,   7.9448,2,    24.96,2,     -999,9,  16.3677,2,     -999,9,     -999,9,     -999,9,     -999,9,     -999,1,   4.9747,1,   0.0384,1,     -999,9,     -999,9,     -999,9,     -999,9,     -999,9,20230821,2150, -34.0029,  63.4090,-999          ,9,-999          ,9
33RR20230722  ,I05        ,115     ,  1,32         ,32         ,2,20230821,1952, -34.0029,  63.4091,     4751,     75.2,2,  16.3495,2,  35.5101,2,  35.5081,2,    243.0,2,    243.1,2,     1.17,2,     0.08,2,     0.05,2,     0.15,2,    2.035,2,    1.398,2,   2.3600,2,   2083.4,2,   2330.2,2,   7.9425,2,    24.96,2,     -999,9,  16.3489,2,     -999,9,     -999,9,     -999,9,     -999,9,     -999,1,   4.9745,1,   0.0370,1,      8.3,2,     -999,9,     -999,9,     -999,9,     -999,9,20230821,2148, -34.0029,  63.4090,-999          ,9,-999          ,9
33RR20230722  ,I05        ,115     ,  1,31         ,31         ,2,20230821,1952, -34.0029,  63.4091,     4751,     97.7,2,  15.9931,2,  35.4707,2,  35.4709,2,    237.0,2,    237.8,2,     1.46,2,     1.07,2,     0.20,2,     0.22,2,     -999,9,     -999,9,     -999,9,   2090.7,2,   2327.4,2,   7.9252,6,    24.97,2,     -999,9,  16.0019,2,     -999,9,     -999,9,     -999,9,     -999,9,     -999,1,   4.9726,1,   0.0268,1,     -999,9,     -999,9,     -999,9,     -999,9,     -999,9,20230821,2146, -34.0029,  63.4090,-999          ,9,-999          ,9
33RR20230722  ,I05        ,115     ,  1,30         ,30         ,2,20230821,1952, -34.0029,  63.4091,     4751,    126.5,2,  14.8307,2,  35.4107,2,  35.4103,2,    224.7,3,    227.1,2,     2.44,2,     5.00,2,     0.03,2,     0.46,2,    2.467,2,    1.485,2,   2.2800,2,   2112.2,2,   2323.6,2,   7.8750,2,    24.93,2,     -999,9,  14.8297,2,     -999,9,     -999,9,     -999,9,     -999,9,     -999,1,   4.8520,1,   0.0185,1,      9.7,2,     -999,9,     -999,9,     -999,9,     -999,9,20230821,2144, -34.0029,  63.4090,-999          ,9,-999          ,9
33RR20230722  ,I05        ,115     ,  1,29         ,29         ,2,20230821,1952, -34.0029,  63.4091,     4751,    156.2,2,  14.2923,2,  35.3789,2,  35.3807,2,    229.4,2,    230.6,2,     2.54,2,     5.38,2,     0.02,2,     0.47,2,     -999,9,     -999,9,     -999,9,   2117.0,2,   2323.3,2,   7.8681,2,    24.95,2,     -999,9,  14.2843,2,     -999,9,     -999,9,     -999,9,     -999,9,     -999,1,   4.9695,1,   0.0151,1,     -999,9,     -999,9,     -999,9,     -999,9,     -999,9,20230821,2142, -34.0029,  63.4090,-999          ,9,-999          ,9
33RR20230722  ,I05        ,115     ,  1,28         ,28         ,2,20230821,1952, -34.0029,  63.4091,     4751,    185.2,2,  14.0181,2,  35.3559,2,  35.3545,2,    232.2,2,    233.1,2,     2.73,2,     6.08,2,     0.01,2,     0.52,2,    2.793,3,    1.631,6,   2.4800,6,   2117.6,2,   2321.5,2,   7.8638,2,    24.97,2,     -999,9,  14.0103,2,     -999,9,     -999,9,     -999,9,     -999,9,     -999,1,   4.9696,1,   0.0126,1,      9.7,6,     -999,9,     -999,9,     -999,9,     -999,9,20230821,2141, -34.0029,  63.4090,-999          ,9,-999          ,9
33RR20230722  ,I05        ,115     ,  1,27         ,27         ,2,20230821,1952, -34.0029,  63.4091,     4751,    217.7,2,  13.7657,2,  35.3250,2,  35.3275,2,    234.9,2,    234.9,2,     2.83,2,     6.48,2,     0.00,2,     0.54,2,     -999,9,     -999,9,     -999,9,   2114.4,2,   2319.8,2,   7.8595,2,    24.98,2,     -999,9,  13.7690,2,     -999,9,     -999,9,     -999,9,     -999,9,     -999,1,   4.8570,1,   0.0117,1,     -999,9,     -999,9,     -999,9,     -999,9,     -999,9,20230821,2139, -34.0029,  63.4090,-999          ,9,-999          ,9
33RR20230722  ,I05        ,115     ,  1,26         ,26         ,2,20230821,1952, -34.0029,  63.4091,     4751,    254.9,2,  13.5271,2,  35.2925,2,  35.2952,2,    236.0,2,    235.7,2,     3.02,2,     6.97,2,     0.00,2,     0.58,2,    3.004,2,    1.665,2,   2.3900,2,   2114.3,2,   2318.8,2,   7.8547,2,    24.97,2,     -999,9,  13.5358,2,     -999,9,     -999,9,     -999,9,     -999,9,     -999,1,   4.9695,1,   0.0120,1,     10.2,2,     -999,9,     -999,9,     -999,9,     -999,9,20230821,2137, -34.0029,  63.4090,-999          ,9,-999          ,9
33RR20230722  ,I05        ,115     ,  1,25         ,25         ,2,20230821,1952, -34.0029,  63.4091,     4751,    298.9,2,  13.3617,2,  35.2712,2,  35.2716,2,    236.4,2,    236.2,2,     3.12,2,     7.40,2,     0.00,2,     0.61,2,    2.682,2,    1.594,2,   2.4000,2,   2117.8,6,   2316.9,2,   7.8503,2,    24.98,2,     -999,9,  13.3618,2,     -999,9,     -999,9,     -999,9,     -999,9,     -999,1,   4.8568,1,   0.0116,1,     10.3,2,     -999,9,     -999,9,     -999,9,     -999,9,20230821,2135, -34.0029,  63.4090,-999          ,9,-999          ,9
33RR20230722  ,I05        ,115     ,  1,24         ,24         ,2,20230821,1952, -34.0029,  63.4091,     4751,    351.8,2,  13.0905,2,  35.2278,2,  35.2270,2,    234.2,2,    234.4,2,     3.12,2,     8.20,2,     0.00,2,     0.64,2,     -999,9,     -999,9,     -999,9,   2119.2,2,   2315.5,2,   7.8399,2,    25.02,2,     -999,9,  13.0901,2,     -999,9,     -999,9,     -999,9,     -999,9,     -999,1,   4.9571,1,   0.0116,1,     -999,9,     -999,9,     -999,9,     -999,9,     -999,9,20230821,2134, -34.0029,  63.4090,-999          ,9,-999          ,9
33RR20230722  ,I05        ,115     ,  1,23         ,23         ,2,20230821,1952, -34.0029,  63.4091,     4751,    415.0,2,  12.6373,2,  35.1571,2,  35.1591,2,    231.8,2,    231.9,2,     3.51,2,     9.40,2,     0.00,2,     0.72,2,    2.967,2,    1.658,2,   2.2400,2,   2123.8,2,   2313.6,2,   7.8261,2,    25.02,2,     -999,9,  12.6409,2,     -999,9,     -999,9,     -999,9,     -999,9,     -999,1,   4.9679,1,   0.0116,1,     10.4,2,     -999,9,     -999,9,     -999,9,     -999,9,20230821,2131, -34.0029,  63.4090,-999          ,9,-999          ,9
33RR20230722  ,I05        ,115     ,  1,22         ,22         ,2,20230821,1952, -34.0029,  63.4091,     4751,    490.5,2,  12.1005,2,  35.0677,2,  35.0677,2,    229.8,2,    230.2,2,     4.00,2,    10.89,2,     0.00,2,     0.82,2,    3.021,3,    1.710,2,   2.2100,2,   2126.7,2,   2307.1,2,   7.8108,2,    24.99,2,     -999,9,  12.0997,2,     -999,9,     -999,9,     -999,9,     -999,9,     -999,1,   4.9673,1,   0.0115,1,     11.0,2,     -999,9,     -999,9,     -999,9,     -999,9,20230821,2129, -34.0029,  63.4091,-999          ,9,-999          ,9
33RR20230722  ,I05        ,115     ,  1,21         ,21         ,2,20230821,1952, -34.0029,  63.4091,     4751,    575.4,2,  11.3651,2,  34.9552,2,  34.9555,2,    224.9,2,    225.1,2,     4.59,2,    12.95,2,     0.00,2,     0.95,2,     -999,9,     -999,9,     -999,9,   2132.5,2,   2301.4,2,   7.7884,2,    24.97,2,     -999,9,  11.3595,2,     -999,9,     -999,9,     -999,9,     -999,9,     -999,1,   4.8016,1,   0.0115,1,     -999,9,     -999,9,     -999,9,     -999,9,     -999,9,20230821,2126, -34.0029,  63.4090,-999          ,9,-999          ,9
33RR20230722  ,I05        ,115     ,  1,20         ,20         ,2,20230821,1952, -34.0029,  63.4091,     4751,    673.7,2,  10.1717,2,  34.7910,2,  34.7872,2,    221.5,2,    221.3,2,     6.25,2,    16.04,2,     0.00,2,     1.15,2,    3.177,2,    1.857,2,   1.7800,2,   2139.0,2,   2296.0,2,   7.7561,2,    24.97,2,     -999,9,  10.1655,2,     -999,9,     -999,9,     -999,9,     -999,9,     -999,1,   4.9667,1,   0.0116,1,     13.0,2,     -999,9,     -999,9,     -999,9,     -999,9,20230821,2123, -34.0029,  63.4090,-999          ,9,-999          ,9
33RR20230722  ,I05        ,115     ,  1,19         ,19         ,2,20230821,1952, -34.0029,  63.4091,     4751,    774.2,2,   9.0776,2,  34.6635,2,  34.6598,2,    213.0,2,    213.3,2,     9.37,2,    19.47,2,     0.00,2,     1.36,2,    3.899,3,    1.899,2,   1.5000,2,   2149.6,2,   2291.5,2,   7.7203,2,    24.99,2,     -999,9,   9.0844,2,     -999,9,     -999,9,     -999,9,     -999,9,     -999,1,   4.8072,1,   0.0113,1,     14.2,2,     -999,9,     -999,9,     -999,9,     -999,9,20230821,2121, -34.0029,  63.4090,-999          ,9,-999          ,9
33RR20230722  ,I05        ,115     ,  1,18         ,18         ,2,20230821,1952, -34.0029,  63.4091,     4751,    880.5,2,   7.7046,2,  34.5321,2,  34.5315,2,    205.9,2,    206.1,2,    14.25,2,    23.35,2,     0.00,2,     1.61,2,     -999,9,     -999,9,     -999,9,   2164.4,2,   2288.5,2,   7.6819,2,    25.00,2,     -999,9,   7.7015,2,     -999,9,     -999,9,     -999,9,     -999,9,     -999,1,   4.9069,1,   0.0111,1,     -999,9,     -999,9,     -999,9,     -999,9,     -999,9,20230821,2118, -34.0029,  63.4090,-999          ,9,-999          ,9
33RR20230722  ,I05        ,115     ,  1,17         ,17         ,2,20230821,1952, -34.0029,  63.4091,     4751,   1007.0,2,   6.1751,2,  34.4131,2,  34.4145,2,    205.9,2,    205.8,2,    21.09,2,    26.89,2,     0.00,2,     1.84,2,    2.701,2,    1.534,2,   1.2300,2,   2180.2,2,   2292.8,2,   7.6470,6,    25.00,2,     -999,9,   6.1823,2,     -999,9,     -999,9,     -999,9,     -999,9,     -999,1,   4.9696,1,   0.0112,1,     17.8,2,     -999,9,     -999,9,     -999,9,     -999,9,20230821,2115, -34.0029,  63.4090,-999          ,9,-999          ,9
33RR20230722  ,I05        ,115     ,  1,16         ,16         ,2,20230821,1952, -34.0029,  63.4091,     4751,   1128.6,2,   4.9031,2,  34.3606,2,  34.3627,2,    202.5,2,    202.3,2,    30.37,2,    29.76,2,     0.00,2,     2.07,2,    2.581,2,    1.434,2,   0.8000,2,   2194.9,2,   2296.9,2,   7.6183,2,    24.98,2,     -999,9,   4.8941,2,     -999,9,     -999,9,     -999,9,     -999,9,     -999,1,   4.9703,1,   0.0110,1,     19.1,2,     -999,9,     -999,9,     -999,9,     -999,9,20230821,2111, -34.0029,  63.4090,-999          ,9,-999          ,9
33RR20230722  ,I05        ,115     ,  1,15         ,15         ,2,20230821,1952, -34.0029,  63.4091,     4751,   1272.9,2,   4.0209,2,  34.3850,2,  34.3862,2,    190.6,2,    190.5,2,    43.16,2,    32.08,2,     0.00,2,     2.25,2,     -999,9,     -999,9,     -999,9,   2212.4,2,   2306.7,6,   7.5919,2,    25.00,2,     -999,9,   4.0179,2,     -999,9,     -999,9,     -999,9,     -999,9,     -999,1,   4.8703,1,   0.0111,1,     -999,9,     -999,9,     -999,9,     -999,9,     -999,9,20230821,2108, -34.0029,  63.4090,-999          ,9,-999          ,9
33RR20230722  ,I05        ,115     ,  1,14         ,14         ,2,20230821,1952, -34.0029,  63.4091,     4751,   1422.4,2,   3.4297,2,  34.4533,2,  34.4546,2,    178.2,2,    178.5,2,    55.95,2,    33.41,2,     0.00,2,     2.33,2,    1.225,2,    0.615,2,   0.2500,2,   2230.2,2,   2317.9,2,   7.5743,6,    25.00,2,     -999,9,   3.4313,2,     -999,9,     -999,9,     -999,9,     -999,9,     -999,1,   4.9732,1,   0.0112,1,     22.2,2,     -999,9,     -999,9,     -999,9,     -999,9,20230821,2104, -34.0029,  63.4091,-999          ,9,-999          ,9
33RR20230722  ,I05        ,115     ,  1,13         ,13         ,2,20230821,1952, -34.0029,  63.4091,     4751,   1563.3,2,   3.0704,2,  34.5267,2,  34.5296,2,    171.7,2,    171.7,2,    65.90,2,    33.75,2,     0.00,2,     2.35,2,    0.774,2,    0.362,2,   0.1500,2,   2243.5,2,   2327.6,2,   7.5686,2,    25.01,2,     -999,9,   3.0705,2,     -999,9,     -999,9,     -999,9,     -999,9,     -999,1,   4.9739,1,   0.0118,1,     22.6,2,     -999,9,     -999,9,     -999,9,     -999,9,20230821,2100, -34.0029,  63.4090,-999          ,9,-999          ,9
33RR20230722  ,I05        ,115     ,  1,12         ,12         ,2,20230821,1952, -34.0029,  63.4091,     4751,   1715.8,2,   2.8022,2,  34.5991,2,  34.6007,2,    171.3,2,    171.5,2,    72.44,2,    33.34,2,     0.00,2,     2.32,2,    0.374,2,    0.178,2,   0.0800,2,   2247.7,6,   2336.3,2,   7.5734,2,    25.00,2,     -999,9,   2.8015,2,     -999,9,     -999,9,     -999,9,     -999,9,     -999,1,   4.9506,1,   0.0113,1,     21.6,2,     -999,9,     -999,9,     -999,9,     -999,9,20230821,2057, -34.0029,  63.4091,-999          ,9,-999          ,9
33RR20230722  ,I05        ,115     ,  1,11         ,11         ,2,20230821,1952, -34.0029,  63.4091,     4751,   1873.0,2,   2.6015,2,  34.6567,2,  34.6570,2,    175.9,2,    176.2,2,    75.56,2,    32.45,2,     0.00,2,     2.27,2,    0.218,2,    0.099,2,   0.0300,2,   2247.6,2,   2341.5,2,   7.5857,2,    24.99,2,     -999,9,   2.6014,2,     -999,9,     -999,9,     -999,9,     -999,9,     -999,1,   4.9743,1,   0.0118,1,     21.1,2,     -999,9,     -999,9,     -999,9,     -999,9,20230821,2053, -34.0029,  63.4090,-999          ,9,-999          ,9
33RR20230722  ,I05        ,115     ,  1,10         ,10         ,2,20230821,1952, -34.0029,  63.4091,     4751,   2069.3,2,   2.3844,2,  34.7020,2,  34.7024,2,    181.3,2,    181.7,2,    81.71,2,    31.70,2,     0.00,2,     2.22,2,    0.120,2,    0.059,2,   0.0700,2,   2250.7,2,   2346.6,2,   7.5984,2,    25.00,2,     -999,9,   2.3839,2,     -999,9,     -999,9,     -999,9,     -999,9,     -999,1,   4.9743,1,   0.0112,1,     19.9,2,     -999,9,     -999,9,     -999,9,     -999,9,20230821,2048, -34.0029,  63.4090,-999          ,9,-999          ,9
33RR20230722  ,I05        ,115     ,  1,9          ,9          ,2,20230821,1952, -34.0029,  63.4091,     4751,   2309.9,2,   2.1396,2,  34.7228,2,  34.7239,2,    180.3,2,    180.5,2,    97.23,2,    32.08,2,     0.00,2,     2.26,2,    0.038,2,    0.011,2,   0.0400,2,   2260.3,2,   2363.3,2,   7.6066,2,    25.00,2,     -999,9,   2.1410,2,     -999,9,     -999,9,     -999,9,     -999,9,     -999,1,   4.9748,1,   0.0117,1,     19.7,2,     -999,9,     -999,9,     -999,9,     -999,9,20230821,2043, -34.0029,  63.4091,-999          ,9,-999          ,9
33RR20230722  ,I05        ,115     ,  1,8          ,8          ,2,20230821,1952, -34.0029,  63.4091,     4751,   2596.0,2,   1.9468,2,  34.7275,2,  34.7280,2,    177.5,2,    177.5,2,   108.65,2,    32.74,2,     0.00,2,     2.28,2,    0.022,2,    0.005,2,   0.0700,2,   2274.3,2,   2377.0,2,   7.6073,6,    25.00,2,     -999,9,   1.9457,2,     -999,9,     -999,9,     -999,9,     -999,9,     -999,1,   4.9054,1,   0.0111,1,     19.9,2,     -999,9,     -999,9,     -999,9,     -999,9,20230821,2037, -34.0029,  63.4090,-999          ,9,-999          ,9
33RR20230722  ,I05        ,115     ,  1,7          ,7          ,2,20230821,1952, -34.0029,  63.4091,     4751,   2925.1,2,   1.7754,2,  34.7275,2,  34.7282,2,    178.6,2,    178.5,2,   115.29,2,    33.00,2,     0.00,2,     2.30,2,    0.018,2,    0.007,2,  -0.0100,2,   2276.7,2,   2380.8,2,   7.6066,2,    24.99,2,     -999,9,   1.7749,2,     -999,9,     -999,9,     -999,9,     -999,9,     -999,1,   4.9379,1,   0.0111,1,     19.9,2,     -999,9,     -999,9,     -999,9,     -999,9,20230821,2031, -34.0029,  63.4090,-999          ,9,-999          ,9
33RR20230722  ,I05        ,115     ,  1,6          ,6          ,2,20230821,1952, -34.0029,  63.4091,     4751,   3287.5,2,   1.5993,2,  34.7241,2,  34.7247,2,    182.9,2,    183.0,2,   117.83,2,    33.02,2,     0.00,2,     2.32,2,     -999,9,     -999,9,     -999,9,   2276.9,2,   2381.7,6,   7.6072,2,    24.99,2,     -999,9,   1.5990,2,     -999,9,     -999,9,     -999,9,     -999,9,     -999,1,   4.6614,1,   0.0113,1,     -999,9,     -999,9,     -999,9,     -999,9,     -999,9,20230821,2023, -34.0029,  63.4090,-999          ,9,-999          ,9
33RR20230722  ,I05        ,115     ,  1,5          ,5          ,2,20230821,1952, -34.0029,  63.4091,     4751,   3654.3,2,   1.3004,2,  34.7149,2,  34.7156,2,    193.2,2,    193.1,2,   121.64,2,    32.74,2,     0.00,2,     2.28,2,    0.062,2,    0.023,2,   0.0000,2,   2271.9,2,   2377.5,2,   7.6092,6,    25.00,2,     -999,9,   1.3009,2,     -999,9,     -999,9,     -999,9,     -999,9,     -999,1,   4.9022,1,   0.0118,1,     19.0,2,     -999,9,     -999,9,     -999,9,     -999,9,20230821,2016, -34.0029,  63.4090,-999          ,9,-999          ,9
33RR20230722  ,I05        ,115     ,  1,4          ,37         ,2,20230821,1952, -34.0029,  63.4091,     4751,   3987.4,2,   0.9553,2,  34.7022,2,  34.7022,2,    204.1,2,    204.2,2,   125.25,2,    32.50,2,     0.00,2,     2.27,2,     -999,9,     -999,9,     -999,9,   2266.1,2,   2369.6,2,   7.6101,2,    25.00,2,     -999,9,   0.9552,2,     -999,9,     -999,9,     -999,9,     -999,9,     -999,1,   4.9730,1,   0.0117,1,     -999,9,     -999,9,     -999,9,     -999,9,     -999,9,20230821,2009, -34.0029,  63.4090,-999          ,9,-999          ,9
33RR20230722  ,I05        ,115     ,  1,3          ,3          ,2,20230821,1952, -34.0029,  63.4091,     4751,   4270.7,2,   0.7590,2,  34.6939,2,  34.6956,2,    210.2,2,    210.6,2,   128.77,2,    32.54,2,     0.00,2,     2.26,2,    0.146,2,    0.057,2,   0.0300,2,   2262.6,2,   2368.5,2,   7.6103,2,    25.00,2,     -999,9,   0.7588,2,     -999,9,     -999,9,     -999,9,     -999,9,     -999,1,   4.8168,1,   0.0111,1,     18.2,2,     -999,9,     -999,9,     -999,9,     -999,9,20230821,2003, -34.0029,  63.4090,-999          ,9,-999          ,9