BOTTLE,20240422CCHHYDRO
EXPOCODE,SECT_ID,STNNBR,CASTNO,SAMPNO,BTLNBR,BTLNBR_FLAG_W,DATE,TIME,LATITUDE,LONGITUDE,DEPTH,CTDPRS,CTDPRS_FLAG_W,CTDTMP,CTDTMP_FLAG_W,CTDSAL,CTDSAL_FLAG_W,SALNTY,SALNTY_FLAG_W,CTDOXY,CTDOXY_FLAG_W,OXYGEN,OXYGEN_FLAG_W,SILCAT,SILCAT_FLAG_W,NITRAT,NITRAT_FLAG_W,NITRIT,NITRIT_FLAG_W,PHSPHT,PHSPHT_FLAG_W,CFC-11,CFC-11_FLAG_W,CFC-12,CFC-12_FLAG_W,SF6,SF6_FLAG_W,TCARBN,TCARBN_FLAG_W,ALKALI,ALKALI_FLAG_W,PH_TOT,PH_TOT_FLAG_W,PH_TMP,PH_TMP_FLAG_W,DOC,DOC_FLAG_W,REFTMP,REFTMP_FLAG_W,POC,POC_FLAG_W,PON,PON_FLAG_W,POP,POP_FLAG_W,DOP,DOP_FLAG_W,DELO18,DELO18_FLAG_W,CTDFLUOR,CTDFLUOR_FLAG_W,CTDXMISS,CTDXMISS_FLAG_W,N2O,N2O_FLAG_W,D15N_NO3,D15N_NO3_FLAG_W,D15N_NO2+NO3,D15N_NO2+NO3_FLAG_W,D18O_NO2+NO3,D18O_NO2+NO3_FLAG_W,D18O_NO3,D18O_NO3_FLAG_W,BTL_DATE,BTL_TIME,BTL_LAT,BTL_LON,HPLC,HPLC_FLAG_W,DNA,DNA_FLAG_W
,,,,,,,,,,,METERS,DBAR,,ITS-90,,PSS-78,,PSS-78,,UMOL/KG,,UMOL/KG,,UMOL/KG,,UMOL/KG,,UMOL/KG,,UMOL/KG,,PMOL/KG,,PMOL/KG,,FMOL/KG,,UMOL/KG,,UMOL/KG,,,,DEG C,,UMOL/KG,,ITS-90,,UG/KG,,UG/KG,,UG/L,,UMOL/KG,,/MILLE,,VOLTS,,VOLTS,,NMOL/KG,,/MILLE,,/MILLE,,/MILLE,,/MILLE,,,,,,,,,
33RR20230722  ,I05        ,140     ,  2,36         ,38         ,2,20230828,0922, -34.0002,  53.1249,     4744,      4.4,2,  16.1789,2,  35.5310,2,  35.5308,2,    248.2,2,    246.8,2,     1.95,2,     0.54,2,     0.14,2,     0.20,2,     -999,9,     -999,9,     -999,9,   2083.5,6,   2329.1,2,   7.9422,2,    25.02,2,     -999,1,  16.1766,2,     -999,9,     -999,9,     -999,9,     -999,9,     -999,9,   4.6723,1,   0.0370,1,     -999,9,     -999,9,     -999,9,     -999,9,     -999,9,20230828,1123, -34.0002,  53.1249,-999          ,9,-999          ,9
33RR20230722  ,I05        ,140     ,  2,35         ,35         ,2,20230828,0922, -34.0002,  53.1249,     4744,     22.0,2,  16.1695,2,  35.5327,2,  35.5324,2,    248.0,2,    247.3,2,     1.85,2,     0.50,2,     0.14,2,     0.20,2,     -999,9,     -999,9,     -999,9,   2083.1,2,   2330.8,2,   7.9388,2,    24.99,2,     -999,1,  16.1674,2,     -999,9,     -999,9,     -999,9,     -999,9,     -999,9,   4.9753,1,   0.0415,1,     -999,9,     -999,9,     -999,9,     -999,9,     -999,9,20230828,1121, -34.0002,  53.1249,-999          ,9,-999          ,9
33RR20230722  ,I05        ,140     ,  2,34         ,34         ,2,20230828,0922, -34.0002,  53.1249,     4744,     35.7,2,  16.1494,2,  35.5369,2,  35.5371,2,    246.7,2,    246.3,2,     1.95,2,     0.52,2,     0.15,2,     0.19,2,     -999,9,     -999,9,     -999,9,   2084.4,2,   2329.5,2,   7.9415,2,    25.00,2,     -999,1,  16.1413,2,     -999,9,     -999,9,     -999,9,     -999,9,     -999,9,   4.6719,1,   0.0457,1,     -999,9,     -999,9,     -999,9,     -999,9,     -999,9,20230828,1119, -34.0003,  53.1249,-999          ,9,-999          ,9
33RR20230722  ,I05        ,140     ,  2,33         ,33         ,2,20230828,0922, -34.0002,  53.1249,     4744,     57.1,2,  16.0108,2,  35.5469,2,  35.5468,2,    244.0,2,    243.4,2,     1.95,2,     0.68,2,     0.20,2,     0.21,2,     -999,9,     -999,9,     -999,9,   2086.8,2,   2330.8,2,   7.9376,2,    25.03,2,     -999,1,  16.0095,2,     -999,9,     -999,9,     -999,9,     -999,9,     -999,9,   4.9743,1,   0.0337,1,     -999,9,     -999,9,     -999,9,     -999,9,     -999,9,20230828,1117, -34.0003,  53.1249,-999          ,9,-999          ,9
33RR20230722  ,I05        ,140     ,  2,32         ,32         ,2,20230828,0922, -34.0002,  53.1249,     4744,     83.1,2,  15.9644,2,  35.5395,2,  35.5393,2,    243.9,2,    243.3,2,     1.95,2,     0.73,2,     0.20,2,     0.20,2,     -999,9,     -999,9,     -999,9,   2088.5,2,   2330.7,2,   7.9355,2,    25.01,2,     -999,1,  15.9640,2,     -999,9,     -999,9,     -999,9,     -999,9,     -999,9,   4.9739,1,   0.0294,1,     -999,9,     -999,9,     -999,9,     -999,9,     -999,9,20230828,1116, -34.0003,  53.1249,-999          ,9,-999          ,9
33RR20230722  ,I05        ,140     ,  2,31         ,31         ,2,20230828,0922, -34.0002,  53.1249,     4744,    113.3,2,  15.9365,2,  35.5360,2,  35.5362,2,    243.4,2,    242.4,2,     1.85,2,     0.79,2,     0.20,2,     0.21,2,    2.098,2,    1.407,2,   2.3300,2,   2086.4,2,   2329.2,2,   7.9342,2,    25.02,2,     -999,1,  15.9350,2,     -999,9,     -999,9,     -999,9,     -999,9,     -999,9,   4.9226,1,   0.0243,1,      8.7,2,     -999,9,     -999,9,     -999,9,     -999,9,20230828,1113, -34.0003,  53.1249,-999          ,9,-999          ,9
33RR20230722  ,I05        ,140     ,  2,30         ,30         ,2,20230828,0922, -34.0002,  53.1249,     4744,    145.1,2,  15.8260,2,  35.5279,2,  35.5279,2,    238.5,2,    238.8,2,     2.15,2,     1.67,2,     0.20,2,     0.25,2,     -999,9,     -999,9,     -999,9,   2093.4,2,   2328.2,2,   7.9248,2,    25.01,2,     -999,1,  15.8150,2,     -999,9,     -999,9,     -999,9,     -999,9,     -999,9,   4.9722,1,   0.0176,1,     -999,9,     -999,9,     -999,9,     -999,9,     -999,9,20230828,1112, -34.0002,  53.1249,-999          ,9,-999          ,9
33RR20230722  ,I05        ,140     ,  2,29         ,29         ,2,20230828,0922, -34.0002,  53.1249,     4744,    184.5,2,  15.4701,2,  35.4952,2,  35.4947,2,    229.7,2,    230.9,2,     2.54,2,     3.61,2,     0.03,2,     0.35,2,     -999,9,     -999,9,     -999,9,   2101.9,2,   2326.7,2,   7.9040,2,    25.02,2,     -999,1,  15.4716,2,     -999,9,     -999,9,     -999,9,     -999,9,     -999,9,   4.9705,1,   0.0123,1,     -999,9,     -999,9,     -999,9,     -999,9,     -999,9,20230828,1110, -34.0002,  53.1249,-999          ,9,-999          ,9
33RR20230722  ,I05        ,140     ,  2,28         ,28         ,2,20230828,0922, -34.0002,  53.1249,     4744,    223.1,2,  14.7931,2,  35.4211,2,  35.4224,2,    223.9,2,    225.2,2,     2.93,2,     5.39,2,     0.02,2,     0.48,2,     -999,9,     -999,9,     -999,9,   2113.5,2,   2323.2,2,   7.8768,2,    25.01,2,     -999,1,  14.8170,2,     -999,9,     -999,9,     -999,9,     -999,9,     -999,9,   4.9689,1,   0.0115,1,     -999,9,     -999,9,     -999,9,     -999,9,     -999,9,20230828,1108, -34.0002,  53.1249,-999          ,9,-999          ,9
33RR20230722  ,I05        ,140     ,  2,27         ,27         ,2,20230828,0922, -34.0002,  53.1249,     4744,    270.9,2,  14.3470,2,  35.3758,2,  35.3750,2,    224.0,2,    225.2,2,     3.02,2,     6.28,2,     0.02,2,     0.53,2,    2.533,2,    1.547,2,   2.2700,2,   2117.0,2,   2322.2,2,   7.8639,2,    25.03,2,     -999,1,  14.3565,2,     -999,9,     -999,9,     -999,9,     -999,9,     -999,9,   4.8098,1,   0.0117,1,     10.2,2,     -999,9,     -999,9,     -999,9,     -999,9,20230828,1106, -34.0002,  53.1249,-999          ,9,-999          ,9
33RR20230722  ,I05        ,140     ,  2,26         ,26         ,2,20230828,0922, -34.0002,  53.1249,     4744,    326.2,2,  13.9273,2,  35.3371,2,  35.3364,2,    229.5,2,    229.8,2,     3.22,2,     6.73,2,     0.00,2,     0.55,2,     -999,9,     -999,9,     -999,9,   2117.7,2,   2319.6,6,   7.8586,2,    25.03,2,     -999,1,  13.9278,2,     -999,9,     -999,9,     -999,9,     -999,9,     -999,9,   4.9684,1,   0.0118,1,     -999,9,     -999,9,     -999,9,     -999,9,     -999,9,20230828,1104, -34.0003,  53.1249,-999          ,9,-999          ,9
33RR20230722  ,I05        ,140     ,  2,25         ,25         ,2,20230828,0922, -34.0002,  53.1249,     4744,    394.3,2,  13.5157,2,  35.2768,2,  35.2755,2,    228.3,2,    228.5,2,     3.41,2,     7.85,2,     0.00,2,     0.61,2,     -999,9,     -999,9,     -999,9,   2121.8,2,   2316.2,2,   7.8461,6,    25.01,2,     -999,1,  13.5144,2,     -999,9,     -999,9,     -999,9,     -999,9,     -999,9,   4.9686,1,   0.0117,1,     -999,9,     -999,9,     -999,9,     -999,9,     -999,9,20230828,1101, -34.0003,  53.1249,-999          ,9,-999          ,9
33RR20230722  ,I05        ,140     ,  2,24         ,24         ,2,20230828,0922, -34.0002,  53.1249,     4744,    474.8,2,  13.0326,2,  35.2090,2,  35.2093,2,    227.3,2,    227.6,2,     3.71,2,     9.00,2,     0.00,2,     0.69,2,     -999,9,     -999,9,     -999,9,   2126.0,2,   2312.6,2,   7.8329,2,    25.02,2,     -999,1,  13.0320,2,     -999,9,     -999,9,     -999,9,     -999,9,     -999,9,   4.9249,1,   0.0116,1,     -999,9,     -999,9,     -999,9,     -999,9,     -999,9,20230828,1059, -34.0002,  53.1249,-999          ,9,-999          ,9
33RR20230722  ,I05        ,140     ,  2,23         ,23         ,2,20230828,0922, -34.0002,  53.1249,     4744,    563.1,2,  12.3199,2,  35.0998,2,  35.1008,2,    223.6,2,    224.0,2,     4.29,2,    10.91,2,     0.00,2,     0.81,2,    2.702,2,    1.712,2,   2.0100,2,   2130.3,6,   2308.9,2,   7.8116,2,    25.02,2,     -999,1,  12.3270,2,     -999,9,     -999,9,     -999,9,     -999,9,     -999,9,   4.9667,1,   0.0116,1,     11.5,2,     -999,9,     -999,9,     -999,9,     -999,9,20230828,1056, -34.0003,  53.1249,-999          ,9,-999          ,9
33RR20230722  ,I05        ,140     ,  2,22         ,22         ,2,20230828,0922, -34.0002,  53.1249,     4744,    656.5,2,  11.3448,2,  34.9541,2,  34.9549,2,    224.1,2,    223.8,2,     4.88,2,    13.11,2,     0.00,2,     0.96,2,     -999,9,     -999,9,     -999,9,   2135.2,2,   2302.7,2,   7.7878,2,    25.02,2,     -999,1,  11.3436,2,     -999,9,     -999,9,     -999,9,     -999,9,     -999,9,   4.8638,1,   0.0115,1,     -999,9,     -999,9,     -999,9,     -999,9,     -999,9,20230828,1054, -34.0002,  53.1249,-999          ,9,-999          ,9
33RR20230722  ,I05        ,140     ,  2,21         ,21         ,2,20230828,0922, -34.0002,  53.1249,     4744,    761.4,2,  10.1687,2,  34.7939,2,  34.7948,2,    219.4,2,    219.2,2,     6.54,2,    16.21,2,     0.00,2,     1.16,2,     -999,9,     -999,9,     -999,9,   2145.2,2,   2296.3,2,   7.7564,2,    25.01,2,     -999,1,  10.1766,2,     -999,9,     -999,9,     -999,9,     -999,9,     -999,9,   4.7405,1,   0.0113,1,     -999,9,     -999,9,     -999,9,     -999,9,     -999,9,20230828,1051, -34.0003,  53.1249,-999          ,9,-999          ,9
33RR20230722  ,I05        ,140     ,  2,20         ,20         ,2,20230828,0922, -34.0002,  53.1249,     4744,    872.2,2,   8.7596,2,  34.6350,2,  34.6352,2,    211.8,2,    212.5,2,    10.54,2,    20.33,2,     0.00,2,     1.42,2,     -999,9,     -999,9,     -999,9,   2157.9,2,   2290.7,2,   7.7147,2,    25.00,2,     -999,1,   8.7591,2,     -999,9,     -999,9,     -999,9,     -999,9,     -999,9,   4.6536,1,   0.0112,1,     -999,9,     -999,9,     -999,9,     -999,9,     -999,9,20230828,1048, -34.0002,  53.1249,-999          ,9,-999          ,9
33RR20230722  ,I05        ,140     ,  2,19         ,19         ,2,20230828,0922, -34.0002,  53.1249,     4744,    988.9,2,   6.8678,2,  34.4657,2,  34.4665,2,    206.9,2,    207.2,2,    18.06,2,    25.33,2,     0.00,2,     1.75,2,    2.932,2,    1.621,2,   1.2600,2,   2174.7,2,   2290.2,2,   7.6628,2,    25.00,2,     -999,1,   6.8555,2,     -999,9,     -999,9,     -999,9,     -999,9,     -999,9,   4.6944,1,   0.0112,1,     16.9,2,     -999,9,     -999,9,     -999,9,     -999,9,20230828,1044, -34.0003,  53.1249,-999          ,9,-999          ,9
33RR20230722  ,I05        ,140     ,  2,18         ,18         ,2,20230828,0922, -34.0002,  53.1249,     4744,   1115.2,2,   5.6997,2,  34.3883,2,  34.3892,2,    206.8,2,    206.8,2,    24.11,2,    28.02,2,     0.00,2,     1.92,2,     -999,9,     -999,9,     -999,9,   2188.0,2,   2290.6,2,   7.6364,2,    25.03,2,     -999,1,   5.7012,2,     -999,9,     -999,9,     -999,9,     -999,9,     -999,9,   4.2337,1,   0.0112,1,     -999,9,     -999,9,     -999,9,     -999,9,     -999,9,20230828,1041, -34.0002,  53.1249,-999          ,9,-999          ,9
33RR20230722  ,I05        ,140     ,  2,17         ,17         ,2,20230828,0922, -34.0002,  53.1249,     4744,   1247.3,2,   4.4179,2,  34.3707,2,  34.3707,2,    197.8,2,    198.5,2,    37.10,2,    31.09,2,     0.00,2,     2.15,2,     -999,9,     -999,9,     -999,9,   2208.9,2,   2299.8,2,   7.6053,2,    25.02,2,     -999,1,   4.4162,2,     -999,9,     -999,9,     -999,9,     -999,9,     -999,9,   4.9720,1,   0.0112,1,     -999,9,     -999,9,     -999,9,     -999,9,     -999,9,20230828,1038, -34.0002,  53.1249,-999          ,9,-999          ,9
33RR20230722  ,I05        ,140     ,  2,16         ,16         ,2,20230828,0922, -34.0002,  53.1249,     4744,   1384.4,2,   3.8208,2,  34.4218,2,  34.4220,2,    186.2,2,    186.2,2,    48.61,2,    32.63,2,     0.00,2,     2.26,2,    1.432,2,    0.812,2,   0.3600,2,   2225.1,2,   2310.9,2,   7.5862,2,    25.00,2,     -999,1,   3.8210,2,     -999,9,     -999,9,     -999,9,     -999,9,     -999,9,   4.9725,1,   0.0112,1,     21.8,2,     -999,9,     -999,9,     -999,9,     -999,9,20230828,1034, -34.0003,  53.1249,-999          ,9,-999          ,9
33RR20230722  ,I05        ,140     ,  2,15         ,15         ,2,20230828,0922, -34.0002,  53.1249,     4744,   1527.3,2,   3.3717,2,  34.4898,2,  34.4895,2,    178.1,2,    177.9,2,    59.15,2,    33.30,2,     0.00,2,     2.30,2,     -999,9,     -999,9,     -999,9,   2237.5,2,   2321.0,2,   7.5781,2,    25.00,2,     -999,1,   3.3710,2,     -999,9,     -999,9,     -999,9,     -999,9,     -999,9,   4.9734,1,   0.0116,1,     -999,9,     -999,9,     -999,9,     -999,9,     -999,9,20230828,1031, -34.0003,  53.1249,-999          ,9,-999          ,9
33RR20230722  ,I05        ,140     ,  2,14         ,14         ,2,20230828,0922, -34.0002,  53.1249,     4744,   1668.7,2,   3.0574,2,  34.5562,2,  34.5559,2,    176.3,2,    175.6,2,    66.37,2,    33.09,2,     0.00,2,     2.29,2,     -999,9,     -999,9,     -999,9,   2243.1,2,   2329.6,2,   7.5807,6,    25.02,2,     -999,1,   3.0569,2,     -999,9,     -999,9,     -999,9,     -999,9,     -999,9,   4.9739,1,   0.0111,1,     -999,9,     -999,9,     -999,9,     -999,9,     -999,9,20230828,1027, -34.0003,  53.1249,-999          ,9,-999          ,9
33RR20230722  ,I05        ,140     ,  2,13         ,13         ,2,20230828,0922, -34.0002,  53.1249,     4744,   1819.0,2,   2.8224,2,  34.6082,2,  34.6081,2,    176.3,2,    175.8,2,    71.93,2,    32.80,2,     0.00,2,     2.28,2,    0.417,2,    0.207,2,   0.0700,2,   2250.7,6,   2336.0,2,   7.5849,2,    25.01,2,     -999,1,   2.8222,2,     -999,9,     -999,9,     -999,9,     -999,9,     -999,9,   4.9004,1,   0.0110,1,     21.6,2,     -999,9,     -999,9,     -999,9,     -999,9,20230828,1024, -34.0003,  53.1249,-999          ,9,-999          ,9
33RR20230722  ,I05        ,140     ,  2,12         ,12         ,2,20230828,0922, -34.0002,  53.1249,     4744,   1995.3,2,   2.6347,2,  34.6513,2,  34.6510,2,    178.9,2,    178.4,2,    77.10,2,    32.29,2,     0.00,2,     2.24,2,     -999,9,     -999,9,     -999,9,   2253.6,2,   2342.1,2,   7.5926,6,    25.01,2,     -999,1,   2.6337,2,     -999,9,     -999,9,     -999,9,     -999,9,     -999,9,   4.9742,1,   0.0118,1,     -999,9,     -999,9,     -999,9,     -999,9,     -999,9,20230828,1020, -34.0002,  53.1249,-999          ,9,-999          ,9
33RR20230722  ,I05        ,140     ,  2,11         ,11         ,2,20230828,0922, -34.0002,  53.1249,     4744,   2213.5,2,   2.4133,2,  34.6955,2,  34.6944,2,    184.7,2,    184.7,2,    81.59,2,    31.49,2,     0.00,2,     2.20,2,    0.198,2,    0.094,2,   0.0100,2,   2251.9,2,   2347.1,6,   7.6053,2,    25.01,2,     -999,1,   2.4133,2,     -999,9,     -999,9,     -999,9,     -999,9,     -999,9,   4.6932,1,   0.0112,1,     19.9,2,     -999,9,     -999,9,     -999,9,     -999,9,20230828,1015, -34.0003,  53.1249,-999          ,9,-999          ,9
33RR20230722  ,I05        ,140     ,  2,10         ,10         ,2,20230828,0922, -34.0002,  53.1249,     4744,   2464.9,2,   2.1829,2,  34.7259,2,  34.7256,2,    189.9,2,    189.9,2,    87.15,2,    30.99,2,     0.00,2,     2.15,2,     -999,9,     -999,9,     -999,9,   2250.5,2,   2351.6,2,   7.6138,2,    25.01,2,     -999,1,   2.1826,2,     -999,9,     -999,9,     -999,9,     -999,9,     -999,9,   4.9746,1,   0.0118,1,     -999,9,     -999,9,     -999,9,     -999,9,     -999,9,20230828,1010, -34.0003,  53.1249,-999          ,9,-999          ,9
33RR20230722  ,I05        ,140     ,  2,9          ,9          ,2,20230828,0922, -34.0002,  53.1249,     4744,   2772.1,2,   1.9075,2,  34.7338,2,  34.7329,2,    195.2,2,    195.4,2,    93.79,2,    30.87,2,     0.00,2,     2.15,2,    0.124,2,    0.062,2,   0.0700,2,   2251.7,2,   2356.1,2,   7.6176,2,    25.01,2,     -999,1,   1.9069,2,     -999,9,     -999,9,     -999,9,     -999,9,     -999,9,   4.9750,1,   0.0112,1,     18.7,2,     -999,9,     -999,9,     -999,9,     -999,9,20230828,1004, -34.0003,  53.1249,-999          ,9,-999          ,9
33RR20230722  ,I05        ,140     ,  2,8          ,8          ,2,20230828,0922, -34.0002,  53.1249,     4744,   3114.2,2,   1.5948,2,  34.7310,2,  34.7305,2,    201.1,2,    201.4,2,   100.52,2,    30.93,2,     0.00,2,     2.15,2,     -999,9,     -999,9,     -999,9,   2250.4,2,   2356.3,2,   7.6186,2,    24.99,2,     -999,1,   1.5950,2,     -999,9,     -999,9,     -999,9,     -999,9,     -999,9,   4.7991,1,   0.0110,1,     -999,9,     -999,9,     -999,9,     -999,9,     -999,9,20230828,0957, -34.0002,  53.1249,-999          ,9,-999          ,9
33RR20230722  ,I05        ,140     ,  2,7          ,7          ,2,20230828,0922, -34.0002,  53.1249,     4744,   3441.6,2,   1.3898,2,  34.7245,2,  34.7241,2,    203.6,2,    204.1,2,   107.55,2,    31.26,2,     0.00,2,     2.16,2,    0.165,2,    0.083,2,   0.0300,2,   2259.0,2,   2358.6,2,   7.6183,2,    25.02,2,     -999,1,   1.3906,2,     -999,9,     -999,9,     -999,9,     -999,9,     -999,9,   4.8686,1,   0.0111,1,     18.1,2,     -999,9,     -999,9,     -999,9,     -999,9,20230828,0951, -34.0003,  53.1249,-999          ,9,-999          ,9
33RR20230722  ,I05        ,140     ,  2,6          ,6          ,2,20230828,0922, -34.0002,  53.1249,     4744,   3763.3,2,   1.2263,2,  34.7178,2,  34.7176,2,    206.0,2,    206.5,2,   112.92,2,    31.56,2,     0.00,2,     2.20,2,     -999,9,     -999,9,     -999,9,   2257.8,2,   2358.6,2,   7.6156,2,    25.03,2,     -999,1,   1.2262,2,     -999,9,     -999,9,     -999,9,     -999,9,     -999,9,   4.9757,1,   0.0111,1,     -999,9,     -999,9,     -999,9,     -999,9,     -999,9,20230828,0944, -34.0002,  53.1249,-999          ,9,-999          ,9
33RR20230722  ,I05        ,140     ,  2,5          ,5          ,2,20230828,0922, -34.0002,  53.1249,     4744,   4109.4,2,   1.1585,2,  34.7135,2,  34.7134,2,    206.6,2,    206.8,2,   116.33,2,    31.76,2,     0.00,2,     2.21,2,    0.178,2,    0.087,2,   0.0400,2,   2259.8,2,   2361.7,2,   7.6158,2,    25.03,2,     -999,1,   1.1585,2,     -999,9,     -999,9,     -999,9,     -999,9,     -999,9,   4.9761,1,   0.0112,1,     18.1,2,     -999,9,     -999,9,     -999,9,     -999,9,20230828,0938, -34.0003,  53.1249,-999          ,9,-999          ,9
33RR20230722  ,I05        ,140     ,  2,4          ,37         ,2,20230828,0922, -34.0002,  53.1249,     4744,   4413.5,2,   1.1264,2,  34.7101,2,  34.7101,2,    207.1,2,    207.3,2,   118.48,2,    31.87,2,     0.00,2,     2.22,2,    0.211,2,    0.091,2,   0.0200,2,   2260.2,2,   2362.5,2,   7.6151,2,    25.00,2,     -999,1,   1.1260,2,     -999,9,     -999,9,     -999,9,     -999,9,     -999,9,   4.9765,1,   0.0116,1,     18.1,2,     -999,9,     -999,9,     -999,9,     -999,9,20230828,0932, -34.0003,  53.1249,-999          ,9,-999          ,9
33RR20230722  ,I05        ,140     ,  2,3          ,3          ,2,20230828,0922, -34.0002,  53.1249,     4744,   4622.0,2,   1.1373,2,  34.7092,2,  34.7097,2,    207.2,2,    207.4,2,   118.87,2,    31.90,2,     0.00,2,     2.22,2,    0.166,2,    0.082,2,   0.0300,2,   2262.7,2,   2362.6,2,   7.6143,2,    25.00,2,     -999,1,   1.1366,2,     -999,9,     -999,9,     -999,9,     -999,9,     -999,9,   4.9719,1,   0.0111,1,     18.4,2,     -999,9,     -999,9,     -999,9,     -999,9,20230828,0927, -34.0002,  53.1249,-999          ,9,-999          ,9