BOTTLE,20240422CCHHYDRO
EXPOCODE,SECT_ID,STNNBR,CASTNO,SAMPNO,BTLNBR,BTLNBR_FLAG_W,DATE,TIME,LATITUDE,LONGITUDE,DEPTH,CTDPRS,CTDPRS_FLAG_W,CTDTMP,CTDTMP_FLAG_W,CTDSAL,CTDSAL_FLAG_W,SALNTY,SALNTY_FLAG_W,CTDOXY,CTDOXY_FLAG_W,OXYGEN,OXYGEN_FLAG_W,SILCAT,SILCAT_FLAG_W,NITRAT,NITRAT_FLAG_W,NITRIT,NITRIT_FLAG_W,PHSPHT,PHSPHT_FLAG_W,CFC-11,CFC-11_FLAG_W,CFC-12,CFC-12_FLAG_W,SF6,SF6_FLAG_W,TCARBN,TCARBN_FLAG_W,ALKALI,ALKALI_FLAG_W,PH_TOT,PH_TOT_FLAG_W,PH_TMP,PH_TMP_FLAG_W,DOC,DOC_FLAG_W,REFTMP,REFTMP_FLAG_W,POC,POC_FLAG_W,PON,PON_FLAG_W,POP,POP_FLAG_W,DOP,DOP_FLAG_W,DELO18,DELO18_FLAG_W,CTDFLUOR,CTDFLUOR_FLAG_W,CTDXMISS,CTDXMISS_FLAG_W,N2O,N2O_FLAG_W,D15N_NO3,D15N_NO3_FLAG_W,D15N_NO2+NO3,D15N_NO2+NO3_FLAG_W,D18O_NO2+NO3,D18O_NO2+NO3_FLAG_W,D18O_NO3,D18O_NO3_FLAG_W,BTL_DATE,BTL_TIME,BTL_LAT,BTL_LON,HPLC,HPLC_FLAG_W,DNA,DNA_FLAG_W
,,,,,,,,,,,METERS,DBAR,,ITS-90,,PSS-78,,PSS-78,,UMOL/KG,,UMOL/KG,,UMOL/KG,,UMOL/KG,,UMOL/KG,,UMOL/KG,,PMOL/KG,,PMOL/KG,,FMOL/KG,,UMOL/KG,,UMOL/KG,,,,DEG C,,UMOL/KG,,ITS-90,,UG/KG,,UG/KG,,UG/L,,UMOL/KG,,/MILLE,,VOLTS,,VOLTS,,NMOL/KG,,/MILLE,,/MILLE,,/MILLE,,/MILLE,,,,,,,,,
33RR20230722  ,I05        ,63      ,  1,35         ,35         ,2,20230808,0552, -31.9084,  89.2287,     3458,      4.2,2,  16.9539,2,  35.7788,2,  35.7791,2,    239.4,2,    239.5,2,     1.27,2,     0.13,2,     0.03,2,     0.16,2,    2.512,3,    1.309,2,   2.3200,2,   2095.3,2,   2353.3,2,   7.9540,2,    25.03,2,     -999,1,  16.9521,2,     -999,9,     -999,9,     -999,9,     -999,9,     -999,1,   4.9238,1,   0.0160,1,      7.9,2,     -999,9,     -999,9,     -999,9,     -999,9,20230808,0727, -31.9084,  89.2287,-999          ,9,-999          ,9
33RR20230722  ,I05        ,63      ,  1,36         ,36         ,2,20230808,0552, -31.9084,  89.2287,     3458,      4.6,2,  16.9526,2,  35.7788,2,     -999,9,    239.7,2,     -999,9,     -999,9,     -999,9,     -999,9,     -999,9,     -999,9,     -999,9,     -999,9,   -999.0,9,     -999,9,     -999,9,     -999,9,     -999,9,  16.9507,2,     -999,9,     -999,9,     -999,9,     -999,9,     -999,9,   4.6112,1,   0.0167,1,     -999,9,     -999,9,     -999,9,     -999,9,     -999,9,20230808,0728, -31.9084,  89.2287,-999          ,1,-999          ,1
33RR20230722  ,I05        ,63      ,  1,34         ,34         ,2,20230808,0552, -31.9084,  89.2287,     3458,     23.8,2,  16.9153,2,  35.7777,2,  35.7807,2,    239.4,2,    239.6,2,     1.36,2,     0.09,2,     0.03,2,     0.14,2,    2.478,3,    1.296,2,   2.2600,2,   -999.0,9,     -999,9,     -999,9,     -999,9,     -999,9,  16.9156,2,     -999,9,     -999,9,     -999,9,     -999,9,     -999,1,   4.9541,1,   0.0224,1,      7.9,2,     -999,9,     -999,9,     -999,9,     -999,9,20230808,0725, -31.9084,  89.2287,-999          ,9,-999          ,9
33RR20230722  ,I05        ,63      ,  1,33         ,33         ,2,20230808,0552, -31.9084,  89.2287,     3458,     39.5,2,  16.9077,2,  35.7772,2,  35.7784,2,    238.9,2,    239.5,2,     1.27,2,     0.08,2,     0.03,2,     0.15,2,    2.443,3,    1.335,2,   2.3600,2,   2094.7,2,   2352.1,2,   7.9552,2,    25.02,2,     -999,9,  16.9068,2,     -999,9,     -999,9,     -999,9,     -999,9,     -999,1,   4.9075,1,   0.0291,1,      7.8,2,     -999,9,     -999,9,     -999,9,     -999,9,20230808,0724, -31.9084,  89.2287,-999          ,9,-999          ,9
33RR20230722  ,I05        ,63      ,  1,32         ,32         ,2,20230808,0552, -31.9084,  89.2287,     3458,     62.2,2,  16.9050,2,  35.7775,2,  35.7770,2,    238.9,2,    239.4,2,     1.27,2,     0.07,2,     0.03,2,     0.15,2,    2.468,3,    1.343,2,   2.3300,2,   2095.3,2,   2353.6,2,   7.9538,2,    25.02,2,     -999,9,  16.9023,2,     -999,9,     -999,9,     -999,9,     -999,9,     -999,1,   4.8350,1,   0.0324,1,      7.8,2,     -999,9,     -999,9,     -999,9,     -999,9,20230808,0722, -31.9084,  89.2287,-999          ,9,-999          ,9
33RR20230722  ,I05        ,63      ,  1,31         ,31         ,2,20230808,0552, -31.9084,  89.2287,     3458,     85.1,2,  16.9084,2,  35.7780,2,  35.7770,2,    238.5,2,    239.2,2,     1.46,2,     0.05,2,     0.03,2,     0.16,2,     -999,9,     -999,9,     -999,9,   2096.8,2,   2353.9,2,   7.9542,2,    25.01,2,     -999,9,  16.9064,2,     -999,9,     -999,9,     -999,9,     -999,9,     -999,1,   4.7689,1,   0.0343,1,     -999,9,     -999,9,     -999,9,     -999,9,     -999,9,20230808,0720, -31.9084,  89.2287,-999          ,9,-999          ,9
33RR20230722  ,I05        ,63      ,  1,30         ,30         ,2,20230808,0552, -31.9084,  89.2287,     3458,    106.6,2,  16.8963,2,  35.7757,2,     -999,9,    238.5,2,     -999,9,     -999,9,     -999,9,     -999,9,     -999,9,     -999,9,     -999,9,     -999,9,   -999.0,9,     -999,9,     -999,9,     -999,9,     -999,9,  16.8959,2,     -999,9,     -999,9,     -999,9,     -999,9,     -999,9,   4.9497,1,   0.0332,1,     -999,9,     -999,9,     -999,9,     -999,9,     -999,9,20230808,0719, -31.9084,  89.2287,-999          ,9,-999          ,1
33RR20230722  ,I05        ,63      ,  1,29         ,29         ,2,20230808,0552, -31.9084,  89.2287,     3458,    121.1,2,  16.7676,2,  35.7480,2,  35.7499,2,    238.9,2,    239.1,2,     1.37,2,     0.22,2,     0.05,2,     0.17,2,     -999,9,     -999,9,     -999,9,   2095.4,2,   2350.7,2,   7.9489,6,    25.00,2,     -999,9,  16.7957,2,     -999,9,     -999,9,     -999,9,     -999,9,     -999,1,   4.9739,1,   0.0309,1,     -999,9,     -999,9,     -999,9,     -999,9,     -999,9,20230808,0717, -31.9084,  89.2287,-999          ,9,-999          ,9
33RR20230722  ,I05        ,63      ,  1,28         ,28         ,2,20230808,0552, -31.9084,  89.2287,     3458,    146.5,2,  14.2927,2,  35.4161,2,  35.4216,2,    232.2,2,    233.7,2,     1.76,2,     3.94,2,     0.11,2,     0.42,2,    2.525,3,    1.567,2,   2.4600,2,   -999.0,9,     -999,9,     -999,9,     -999,9,     -999,9,  14.2975,2,     -999,9,     -999,9,     -999,9,     -999,9,     -999,1,   4.9704,1,   0.0233,1,      9.8,2,     -999,9,     -999,9,     -999,9,     -999,9,20230808,0716, -31.9084,  89.2287,-999          ,9,-999          ,9
33RR20230722  ,I05        ,63      ,  1,27         ,27         ,2,20230808,0552, -31.9084,  89.2287,     3458,    182.5,2,  13.1593,2,  35.2328,2,  35.2314,2,    236.8,2,    237.0,2,     2.15,2,     6.31,2,     0.02,2,     0.56,2,     -999,9,     -999,9,     -999,9,   2122.1,2,   2326.0,2,   7.8441,2,    25.01,2,     -999,9,  13.1419,2,     -999,9,     -999,9,     -999,9,     -999,9,     -999,1,   4.9335,1,   0.0139,1,     -999,9,     -999,9,     -999,9,     -999,9,     -999,9,20230808,0714, -31.9084,  89.2287,-999          ,9,-999          ,9
33RR20230722  ,I05        ,63      ,  1,26         ,26         ,2,20230808,0552, -31.9084,  89.2287,     3458,    206.7,2,  12.7048,2,  35.1650,2,  35.1670,2,    239.9,2,    238.5,2,     2.34,2,     7.15,2,     0.01,2,     0.60,2,    2.745,3,    1.646,2,   2.6300,2,   2123.6,2,   2317.2,2,   7.8371,2,    25.00,2,     -999,9,  12.7078,2,     -999,9,     -999,9,     -999,9,     -999,9,     -999,1,   4.9695,1,   0.0124,1,     10.7,2,     -999,9,     -999,9,     -999,9,     -999,9,20230808,0713, -31.9084,  89.2287,-999          ,9,-999          ,9
33RR20230722  ,I05        ,63      ,  1,25         ,25         ,2,20230808,0552, -31.9084,  89.2287,     3458,    206.8,2,  12.7174,2,  35.1688,2,     -999,9,    239.9,2,     -999,9,     -999,9,     -999,9,     -999,9,     -999,9,     -999,9,     -999,9,     -999,9,   -999.0,9,     -999,9,     -999,9,     -999,9,     -999,9,  12.7155,2,     -999,9,     -999,9,     -999,9,     -999,9,     -999,9,   4.9695,1,   0.0124,1,     -999,9,     -999,9,     -999,9,     -999,9,     -999,9,20230808,0712, -31.9084,  89.2287,-999          ,9,-999          ,1
33RR20230722  ,I05        ,63      ,  1,24         ,24         ,2,20230808,0552, -31.9084,  89.2287,     3458,    240.4,2,  12.1940,2,  35.0743,2,  35.0736,2,    243.3,2,    242.3,2,     2.54,2,     8.20,2,     0.00,2,     0.67,2,     -999,9,     -999,9,     -999,9,   2126.3,2,   2310.2,2,   7.8255,2,    25.00,2,     -999,9,  12.1925,2,     -999,9,     -999,9,     -999,9,     -999,9,     -999,1,   4.7870,1,   0.0114,1,     -999,9,     -999,9,     -999,9,     -999,9,     -999,9,20230808,0710, -31.9084,  89.2287,-999          ,9,-999          ,9
33RR20230722  ,I05        ,63      ,  1,23         ,23         ,2,20230808,0552, -31.9084,  89.2287,     3458,    287.8,2,  11.7053,2,  34.9916,2,  34.9925,2,    246.3,2,    244.7,2,     3.02,2,     9.58,2,     0.00,2,     0.75,2,    2.708,3,    1.746,2,   2.6000,2,   2126.9,2,   2305.7,2,   7.8161,2,    25.00,2,     -999,9,  11.7047,2,     -999,9,     -999,9,     -999,9,     -999,9,     -999,1,   4.8896,1,   0.0114,1,     11.6,2,     -999,9,     -999,9,     -999,9,     -999,9,20230808,0709, -31.9084,  89.2287,-999          ,9,-999          ,9
33RR20230722  ,I05        ,63      ,  1,22         ,22         ,2,20230808,0552, -31.9084,  89.2287,     3458,    339.6,2,  11.4761,2,  34.9655,2,  34.9665,2,    245.3,2,    244.0,2,     3.22,2,    10.19,2,     0.00,2,     0.79,2,     -999,9,     -999,9,     -999,9,   -999.0,9,     -999,9,     -999,9,     -999,9,     -999,9,  11.4749,2,     -999,9,     -999,9,     -999,9,     -999,9,     -999,1,   4.6213,1,   0.0109,1,     -999,9,     -999,9,     -999,9,     -999,9,     -999,9,20230808,0707, -31.9084,  89.2287,-999          ,9,-999          ,9
33RR20230722  ,I05        ,63      ,  1,21         ,21         ,2,20230808,0552, -31.9084,  89.2287,     3458,    403.3,2,  11.0900,2,  34.9055,2,  34.9107,2,    243.4,2,    242.1,2,     3.61,2,    11.36,2,     0.00,2,     0.85,2,    2.734,3,    1.799,2,   2.5300,2,   2131.2,2,   2302.7,2,   7.7989,2,    25.00,2,     -999,9,  11.1173,2,     -999,9,     -999,9,     -999,9,     -999,9,     -999,1,   4.8882,1,   0.0114,1,     11.2,2,     -999,9,     -999,9,     -999,9,     -999,9,20230808,0705, -31.9084,  89.2287,-999          ,9,-999          ,9
33RR20230722  ,I05        ,63      ,  1,20         ,20         ,2,20230808,0552, -31.9084,  89.2287,     3458,    473.1,2,  10.5975,2,  34.8307,2,  34.8326,2,    240.1,2,    239.9,2,     4.10,2,    13.04,2,     0.00,2,     0.97,2,     -999,9,     -999,9,     -999,9,   2136.9,2,   2297.6,2,   7.7817,2,    25.02,2,     -999,9,  10.5913,2,     -999,9,     -999,9,     -999,9,     -999,9,     -999,1,   4.7938,1,   0.0114,1,     -999,9,     -999,9,     -999,9,     -999,9,     -999,9,20230808,0703, -31.9084,  89.2287,-999          ,9,-999          ,9
33RR20230722  ,I05        ,63      ,  1,19         ,19         ,2,20230808,0552, -31.9084,  89.2287,     3458,    552.3,2,  10.1919,2,  34.7805,2,  34.7815,2,    236.2,2,    236.0,2,     4.39,2,    14.35,2,     0.00,2,     1.04,2,    2.866,3,    1.915,2,   2.2100,2,   2137.0,2,   2294.7,2,   7.7642,2,    25.02,2,     -999,9,  10.1891,2,     -999,9,     -999,9,     -999,9,     -999,9,     -999,1,   4.8793,1,   0.0112,1,     12.1,2,     -999,9,     -999,9,     -999,9,     -999,9,20230808,0700, -31.9084,  89.2287,-999          ,9,-999          ,9
33RR20230722  ,I05        ,63      ,  1,18         ,18         ,2,20230808,0552, -31.9084,  89.2287,     3458,    637.7,2,   9.4963,2,  34.6927,2,  34.6920,2,    223.7,2,    224.8,2,     6.54,2,    17.43,2,     0.00,2,     1.25,2,     -999,9,     -999,9,     -999,9,   -999.0,9,     -999,9,     -999,9,     -999,9,     -999,9,   9.4841,2,     -999,9,     -999,9,     -999,9,     -999,9,     -999,1,   4.9668,1,   0.0113,1,     -999,9,     -999,9,     -999,9,     -999,9,     -999,9,20230808,0658, -31.9084,  89.2287,-999          ,9,-999          ,9
33RR20230722  ,I05        ,63      ,  1,17         ,17         ,2,20230808,0552, -31.9084,  89.2287,     3458,    738.4,2,   8.4728,2,  34.5792,2,  34.5791,2,    216.1,2,    217.3,2,     9.08,2,    20.70,2,     0.00,2,     1.44,2,    2.739,3,    1.819,2,   1.5300,2,   2154.9,2,   2289.0,2,   7.7097,6,    25.00,2,     -999,9,   8.4554,2,     -999,9,     -999,9,     -999,9,     -999,9,     -999,1,   4.9672,1,   0.0114,1,     14.2,2,     -999,9,     -999,9,     -999,9,     -999,9,20230808,0655, -31.9084,  89.2287,-999          ,9,-999          ,9
33RR20230722  ,I05        ,63      ,  1,16         ,16         ,2,20230808,0552, -31.9084,  89.2287,     3458,    849.2,2,   7.0017,2,  34.4625,2,  34.4628,2,    201.2,2,    201.7,2,    16.79,2,    25.55,2,     0.00,2,     1.75,2,     -999,9,     -999,9,     -999,9,   2173.8,2,   2288.3,2,   7.6615,2,    25.01,2,     -999,9,   7.0011,2,     -999,9,     -999,9,     -999,9,     -999,9,     -999,1,   4.9279,1,   0.0112,1,     -999,9,     -999,9,     -999,9,     -999,9,     -999,9,20230808,0652, -31.9084,  89.2287,-999          ,9,-999          ,9
33RR20230722  ,I05        ,63      ,  1,15         ,15         ,2,20230808,0552, -31.9084,  89.2287,     3458,    970.4,2,   5.3546,2,  34.3721,2,  34.3725,2,    198.6,2,    199.0,2,    27.33,2,    29.34,2,     0.00,2,     2.04,2,    2.167,3,    1.259,2,   0.5800,2,   2191.5,2,   2294.7,2,   7.6245,2,    25.02,2,     -999,9,   5.3526,2,     -999,9,     -999,9,     -999,9,     -999,9,     -999,1,   4.9702,1,   0.0112,1,     18.3,2,     -999,9,     -999,9,     -999,9,     -999,9,20230808,0649, -31.9084,  89.2287,-999          ,9,-999          ,9
33RR20230722  ,I05        ,63      ,  1,14         ,14         ,2,20230808,0552, -31.9084,  89.2287,     3458,   1012.4,2,   4.9847,2,  34.3708,2,     -999,9,    194.7,2,     -999,9,     -999,9,     -999,9,     -999,9,     -999,9,     -999,9,     -999,9,     -999,9,   -999.0,9,     -999,9,     -999,9,     -999,9,     -999,9,   4.9853,2,     -999,9,     -999,9,     -999,9,     -999,9,     -999,9,   4.9716,1,   0.0111,1,     -999,9,     -999,9,     -999,9,     -999,9,     -999,9,20230808,0647, -31.9084,  89.2287,-999          ,9,-999          ,1
33RR20230722  ,I05        ,63      ,  1,13         ,13         ,2,20230808,0552, -31.9084,  89.2287,     3458,   1061.9,2,   4.6041,2,  34.3755,2,  34.3755,2,    190.2,2,    190.2,2,    36.80,2,    31.26,2,     0.00,2,     2.18,2,    1.848,2,    0.949,2,   0.4800,2,   2208.1,2,   2299.1,2,   7.6045,2,    25.01,2,     -999,9,   4.6042,2,     -999,9,     -999,9,     -999,9,     -999,9,     -999,1,   4.6615,1,   0.0113,1,     19.7,2,     -999,9,     -999,9,     -999,9,     -999,9,20230808,0645, -31.9084,  89.2287,-999          ,9,-999          ,9
33RR20230722  ,I05        ,63      ,  1,12         ,12         ,2,20230808,0552, -31.9084,  89.2287,     3458,   1173.6,2,   3.9947,2,  34.4215,2,  34.4218,2,    174.4,2,    174.9,2,    50.56,2,    33.17,2,     0.00,2,     2.35,2,    1.105,2,    0.595,2,   0.3000,2,   -999.0,9,     -999,9,     -999,9,     -999,9,     -999,9,   3.9958,2,     -999,9,     -999,9,     -999,9,     -999,9,     -999,1,   4.9726,1,   0.0118,1,     21.3,2,     -999,9,     -999,9,     -999,9,     -999,9,20230808,0642, -31.9084,  89.2287,-999          ,9,-999          ,9
33RR20230722  ,I05        ,63      ,  1,11         ,11         ,2,20230808,0552, -31.9084,  89.2287,     3458,   1287.9,2,   3.8016,2,  34.5015,2,  34.5007,2,    153.6,2,    153.6,2,    66.56,2,    34.54,2,     0.00,2,     2.45,2,    0.485,3,    0.258,2,   0.0900,2,   2250.3,2,   2330.7,2,   7.5627,2,    25.02,2,     -999,9,   3.8030,2,     -999,9,     -999,9,     -999,9,     -999,9,     -999,1,   4.6983,1,   0.0111,1,     23.1,2,     -999,9,     -999,9,     -999,9,     -999,9,20230808,0639, -31.9084,  89.2287,-999          ,9,-999          ,9
33RR20230722  ,I05        ,63      ,  1,10         ,10         ,2,20230808,0552, -31.9084,  89.2287,     3458,   1416.8,2,   3.4914,2,  34.5373,2,  34.5382,2,    151.4,2,    150.6,2,    72.80,2,    34.87,2,     0.00,2,     2.45,2,     -999,9,     -999,9,     -999,9,   2259.9,2,   2336.8,2,   7.5621,2,    25.02,2,     -999,9,   3.4918,2,     -999,9,     -999,9,     -999,9,     -999,9,     -999,1,   4.9608,1,   0.0112,1,     -999,9,     -999,9,     -999,9,     -999,9,     -999,9,20230808,0636, -31.9084,  89.2287,-999          ,9,-999          ,9
33RR20230722  ,I05        ,63      ,  1,9          ,9          ,2,20230808,0552, -31.9084,  89.2287,     3458,   1567.9,2,   3.2103,2,  34.5803,2,  34.5808,2,    151.1,2,    151.0,2,    78.75,2,    34.78,2,     0.00,2,     2.46,2,    0.117,2,    0.089,6,   0.0600,6,   2264.1,2,   2344.8,2,   7.5603,2,    25.00,2,     -999,9,   3.2130,2,     -999,9,     -999,9,     -999,9,     -999,9,     -999,1,   4.8775,1,   0.0122,1,     22.6,6,     -999,9,     -999,9,     -999,9,     -999,9,20230808,0633, -31.9084,  89.2287,-999          ,9,-999          ,9
33RR20230722  ,I05        ,63      ,  1,8          ,8          ,2,20230808,0552, -31.9084,  89.2287,     3458,   1693.4,2,   2.8559,2,  34.6120,2,  34.6122,2,    161.4,2,    161.4,2,    78.75,2,    33.93,2,     0.00,2,     2.39,2,    0.089,2,    0.103,3,   0.0700,2,   -999.0,9,     -999,9,     -999,9,     -999,9,     -999,9,   2.8559,2,     -999,9,     -999,9,     -999,9,     -999,9,     -999,1,   4.9073,1,   0.0111,1,     21.8,2,     -999,9,     -999,9,     -999,9,     -999,9,20230808,0630, -31.9084,  89.2287,-999          ,9,-999          ,9
33RR20230722  ,I05        ,63      ,  1,7          ,7          ,2,20230808,0552, -31.9084,  89.2287,     3458,   1976.2,2,   2.4875,2,  34.6904,2,  34.6914,2,    170.8,2,    171.0,2,    85.38,2,    32.68,2,     0.00,2,     2.30,2,    0.081,2,    0.052,2,   0.0900,2,   2262.5,2,   2350.4,2,   7.5881,6,    25.01,2,     -999,9,   2.4869,2,     -999,9,     -999,9,     -999,9,     -999,9,     -999,1,   4.9744,1,   0.0114,1,     20.1,2,     -999,9,     -999,9,     -999,9,     -999,9,20230808,0624, -31.9084,  89.2287,-999          ,9,-999          ,9
33RR20230722  ,I05        ,63      ,  1,6          ,6          ,2,20230808,0552, -31.9084,  89.2287,     3458,   2251.7,2,   2.2027,2,  34.7255,2,  34.7266,2,    181.7,2,    181.9,2,    89.09,2,    31.61,2,     0.00,2,     2.21,2,     -999,9,     -999,9,     -999,9,   2257.5,2,   2352.4,2,   7.6047,2,    25.02,2,     -999,9,   2.2022,2,     -999,9,     -999,9,     -999,9,     -999,9,     -999,1,   4.9418,1,   0.0113,1,     -999,9,     -999,9,     -999,9,     -999,9,     -999,9,20230808,0618, -31.9084,  89.2287,-999          ,9,-999          ,9
33RR20230722  ,I05        ,63      ,  1,5          ,5          ,2,20230808,0552, -31.9084,  89.2287,     3458,   2531.9,2,   1.9051,2,  34.7406,2,  34.7412,2,    192.0,2,    192.2,2,    92.70,2,    30.97,2,     0.00,2,     2.18,2,    0.044,2,    0.031,2,   0.0300,2,   2253.6,2,   2355.1,6,   7.6163,2,    25.01,2,     -999,9,   1.9061,2,     -999,9,     -999,9,     -999,9,     -999,9,     -999,1,   4.9263,1,   0.0112,1,     18.1,2,     -999,9,     -999,9,     -999,9,     -999,9,20230808,0612, -31.9084,  89.2287,-999          ,9,-999          ,9
33RR20230722  ,I05        ,63      ,  1,4          ,37         ,2,20230808,0552, -31.9084,  89.2287,     3458,   2965.1,2,   1.4354,2,  34.7305,2,  34.7313,2,    198.4,2,    198.6,2,   107.82,2,    31.44,2,     0.00,2,     2.19,2,    0.017,2,    0.038,2,   0.0300,2,   -999.0,9,     -999,9,     -999,9,     -999,9,     -999,9,   1.4355,2,     -999,9,     -999,9,     -999,9,     -999,9,     -999,1,   4.7974,1,   0.0112,1,     17.8,2,     -999,9,     -999,9,     -999,9,     -999,9,20230808,0604, -31.9084,  89.2287,-999          ,9,-999          ,9
33RR20230722  ,I05        ,63      ,  1,3          ,3          ,2,20230808,0552, -31.9084,  89.2287,     3458,   3282.3,2,   1.3002,2,  34.7250,2,  34.7258,2,    200.4,2,    200.6,2,   111.14,2,    31.69,2,     0.00,2,     2.21,2,    0.082,2,    0.058,2,   0.0300,2,   2263.5,2,   2364.9,2,   7.6189,2,    25.02,2,     -999,9,   1.3004,2,     -999,9,     -999,9,     -999,9,     -999,9,     -999,1,   4.9725,1,   0.0112,1,     17.2,2,     -999,9,     -999,9,     -999,9,     -999,9,20230808,0558, -31.9084,  89.2287,-999          ,9,-999          ,9