BOTTLE,20240422CCHHYDRO
EXPOCODE,SECT_ID,STNNBR,CASTNO,SAMPNO,BTLNBR,BTLNBR_FLAG_W,DATE,TIME,LATITUDE,LONGITUDE,DEPTH,CTDPRS,CTDPRS_FLAG_W,CTDTMP,CTDTMP_FLAG_W,CTDSAL,CTDSAL_FLAG_W,SALNTY,SALNTY_FLAG_W,CTDOXY,CTDOXY_FLAG_W,OXYGEN,OXYGEN_FLAG_W,SILCAT,SILCAT_FLAG_W,NITRAT,NITRAT_FLAG_W,NITRIT,NITRIT_FLAG_W,PHSPHT,PHSPHT_FLAG_W,CFC-11,CFC-11_FLAG_W,CFC-12,CFC-12_FLAG_W,SF6,SF6_FLAG_W,TCARBN,TCARBN_FLAG_W,ALKALI,ALKALI_FLAG_W,PH_TOT,PH_TOT_FLAG_W,PH_TMP,PH_TMP_FLAG_W,DOC,DOC_FLAG_W,REFTMP,REFTMP_FLAG_W,POC,POC_FLAG_W,PON,PON_FLAG_W,POP,POP_FLAG_W,DOP,DOP_FLAG_W,DELO18,DELO18_FLAG_W,CTDFLUOR,CTDFLUOR_FLAG_W,CTDXMISS,CTDXMISS_FLAG_W,N2O,N2O_FLAG_W,D15N_NO3,D15N_NO3_FLAG_W,D15N_NO2+NO3,D15N_NO2+NO3_FLAG_W,D18O_NO2+NO3,D18O_NO2+NO3_FLAG_W,D18O_NO3,D18O_NO3_FLAG_W,BTL_DATE,BTL_TIME,BTL_LAT,BTL_LON,HPLC,HPLC_FLAG_W,DNA,DNA_FLAG_W
,,,,,,,,,,,METERS,DBAR,,ITS-90,,PSS-78,,PSS-78,,UMOL/KG,,UMOL/KG,,UMOL/KG,,UMOL/KG,,UMOL/KG,,UMOL/KG,,PMOL/KG,,PMOL/KG,,FMOL/KG,,UMOL/KG,,UMOL/KG,,,,DEG C,,UMOL/KG,,ITS-90,,UG/KG,,UG/KG,,UG/L,,UMOL/KG,,/MILLE,,VOLTS,,VOLTS,,NMOL/KG,,/MILLE,,/MILLE,,/MILLE,,/MILLE,,,,,,,,,
33RR20230722  ,I05        ,18      ,  2,36         ,36         ,2,20230727,0740, -31.4282, 108.4012,     5331,      5.3,2,  17.4069,2,  35.7290,2,  35.7276,2,    237.4,2,    237.4,2,     2.34,2,     0.04,2,     0.00,2,     0.11,2,    1.435,4,    1.613,2,   2.3800,2,   2071.0,6,   2345.8,2,   7.9831,2,    25.00,2,     -999,1,  17.4060,2,     -999,9,     -999,9,     -999,9,     -999,9,     -999,1,   1.5145,1,   0.0218,1,      6.8,2,     -999,9,     -999,9,     -999,9,     -999,9,20230727,0953, -31.4282, 108.4012,-999          ,9,-999          ,9
33RR20230722  ,I05        ,18      ,  2,35         ,35         ,2,20230727,0740, -31.4282, 108.4012,     5331,     19.3,2,  17.4099,2,  35.7292,2,  35.7276,2,    237.3,2,    237.4,2,     2.24,2,     0.00,2,     0.00,2,     0.11,2,     -999,9,     -999,9,     -999,9,   2072.1,2,   2347.4,2,   7.9829,2,    24.99,2,     -999,1,  17.4092,2,     -999,9,     -999,9,     -999,9,     -999,9,     -999,1,   4.9756,1,   0.0221,1,     -999,9,     -999,9,     -999,9,     -999,9,     -999,9,20230727,0951, -31.4282, 108.4012,-999          ,9,-999          ,9
33RR20230722  ,I05        ,18      ,  2,34         ,34         ,2,20230727,0740, -31.4282, 108.4012,     5331,     30.9,2,  16.7350,2,  35.7386,2,  35.7331,2,    239.1,2,    238.8,2,     1.95,2,     0.00,2,     0.05,2,     0.11,2,     -999,9,     -999,9,     -999,9,   2080.9,2,   2349.2,2,   7.9671,2,    24.99,2,     -999,1,  16.7519,2,     -999,9,     -999,9,     -999,9,     -999,9,     -999,1,   4.9752,1,   0.0349,1,     -999,9,     -999,9,     -999,9,     -999,9,     -999,9,20230727,0949, -31.4282, 108.4012,-999          ,9,-999          ,9
33RR20230722  ,I05        ,18      ,  2,33         ,33         ,2,20230727,0740, -31.4282, 108.4012,     5331,     62.5,2,  16.5230,2,  35.7359,2,  35.7347,2,    238.0,2,    238.2,2,     2.15,2,     0.05,2,     0.13,2,     0.11,2,     -999,9,     -999,9,     -999,9,   2086.7,2,   2348.7,2,   7.9595,2,    24.99,2,     -999,1,  16.5238,2,     -999,9,     -999,9,     -999,9,     -999,9,     -999,1,   4.9074,1,   0.0228,1,     -999,9,     -999,9,     -999,9,     -999,9,     -999,9,20230727,0947, -31.4282, 108.4012,-999          ,9,-999          ,9
33RR20230722  ,I05        ,18      ,  2,32         ,32         ,2,20230727,0740, -31.4282, 108.4012,     5331,     83.2,2,  16.2716,2,  35.7037,2,  35.6857,2,    235.5,2,    236.0,2,     1.95,2,     0.53,2,     0.10,2,     0.16,2,     -999,9,     -999,9,     -999,9,   2094.0,2,   2347.9,2,   7.9467,6,    25.00,2,     -999,1,  16.2560,2,     -999,9,     -999,9,     -999,9,     -999,9,     -999,1,   4.9735,1,   0.0199,1,     -999,9,     -999,9,     -999,9,     -999,9,     -999,9,20230727,0945, -31.4282, 108.4012,-999          ,9,-999          ,9
33RR20230722  ,I05        ,18      ,  2,31         ,31         ,2,20230727,0740, -31.4282, 108.4012,     5331,    121.9,2,  16.0590,2,  35.7327,2,  35.7312,2,    240.7,2,    240.2,2,     2.05,2,     0.22,2,     0.09,2,     0.13,2,    1.857,4,    1.679,2,   2.4500,2,   2094.4,2,   2351.4,2,   7.9490,2,    24.98,2,     -999,1,  16.0560,2,     -999,9,     -999,9,     -999,9,     -999,9,     -999,1,   4.9734,1,   0.0198,1,      7.1,2,     -999,9,     -999,9,     -999,9,     -999,9,20230727,0943, -31.4282, 108.4012,-999          ,9,-999          ,9
33RR20230722  ,I05        ,18      ,  2,30         ,30         ,2,20230727,0740, -31.4282, 108.4012,     5331,    149.1,2,  15.2795,2,  35.5677,2,  35.5756,2,    235.0,2,    237.1,2,     1.66,2,     1.33,2,     0.08,2,     0.21,2,     -999,9,     -999,9,     -999,9,   2100.9,2,   2342.3,2,   7.9255,2,    24.99,2,     -999,1,  15.3033,2,     -999,9,     -999,9,     -999,9,     -999,9,     -999,1,   4.9721,1,   0.0156,1,     -999,9,     -999,9,     -999,9,     -999,9,     -999,9,20230727,0941, -31.4282, 108.4012,-999          ,9,-999          ,9
33RR20230722  ,I05        ,18      ,  2,29         ,29         ,2,20230727,0740, -31.4282, 108.4012,     5331,    169.6,2,  14.9054,2,  35.5120,2,  35.5164,2,    236.3,2,    237.5,2,     1.37,2,     1.95,2,     0.08,2,     0.26,2,     -999,9,     -999,9,     -999,9,   2108.1,2,   2339.9,2,   7.9131,2,    25.00,2,     -999,1,  14.9133,2,     -999,9,     -999,9,     -999,9,     -999,9,     -999,1,   4.9720,1,   0.0134,1,     -999,9,     -999,9,     -999,9,     -999,9,     -999,9,20230727,0939, -31.4282, 108.4012,-999          ,9,-999          ,9
33RR20230722  ,I05        ,18      ,  2,28         ,28         ,2,20230727,0740, -31.4282, 108.4012,     5331,    200.6,2,  14.1380,2,  35.3882,2,  35.3973,2,    235.7,2,    236.6,2,     1.66,2,     3.46,2,     0.03,2,     0.37,2,     -999,9,     -999,9,     -999,9,   2111.1,2,   2333.7,2,   7.8890,6,    25.01,2,     -999,1,  14.1550,2,     -999,9,     -999,9,     -999,9,     -999,9,     -999,1,   4.9714,1,   0.0120,1,     -999,9,     -999,9,     -999,9,     -999,9,     -999,9,20230727,0938, -31.4282, 108.4012,-999          ,9,-999          ,9
33RR20230722  ,I05        ,18      ,  2,27         ,27         ,2,20230727,0740, -31.4282, 108.4012,     5331,    232.2,2,  12.8514,2,  35.1658,2,  35.1788,2,    238.7,2,    238.8,2,     1.56,2,     5.75,2,     0.01,2,     0.54,2,    2.426,4,    2.087,2,   2.7300,2,   2119.3,2,   2322.1,6,   7.8530,2,    24.98,2,     -999,1,  12.8710,2,     -999,9,     -999,9,     -999,9,     -999,9,     -999,1,   4.9695,1,   0.0117,1,      8.9,2,     -999,9,     -999,9,     -999,9,     -999,9,20230727,0936, -31.4282, 108.4012,-999          ,9,-999          ,9
33RR20230722  ,I05        ,18      ,  2,26         ,26         ,2,20230727,0740, -31.4282, 108.4012,     5331,    269.9,2,  11.8952,2,  35.0062,2,  35.0132,2,    243.1,2,    242.8,2,     2.05,2,     7.83,2,     0.00,2,     0.67,2,     -999,9,     -999,9,     -999,9,   -999.0,9,     -999,9,     -999,9,     -999,9,     -999,1,  11.9162,2,     -999,9,     -999,9,     -999,9,     -999,9,     -999,1,   4.9694,1,   0.0117,1,     -999,9,     -999,9,     -999,9,     -999,9,     -999,9,20230727,0935, -31.4282, 108.4012,-999          ,9,-999          ,9
33RR20230722  ,I05        ,18      ,  2,25         ,25         ,2,20230727,0740, -31.4282, 108.4012,     5331,    312.1,2,  11.0039,2,  34.8721,2,  34.8729,2,    245.4,2,    244.6,2,     2.54,2,    10.38,2,     0.00,2,     0.83,2,     -999,9,     -999,9,     -999,9,   2128.0,2,   2304.7,2,   7.8003,2,    24.98,2,     -999,1,  11.0175,2,     -999,9,     -999,9,     -999,9,     -999,9,     -999,1,   4.9687,1,   0.0115,1,     -999,9,     -999,9,     -999,9,     -999,9,     -999,9,20230727,0933, -31.4282, 108.4012,-999          ,9,-999          ,9
33RR20230722  ,I05        ,18      ,  2,24         ,24         ,2,20230727,0740, -31.4282, 108.4012,     5331,    369.4,2,  10.3705,2,  34.7809,2,  34.7813,2,    246.1,2,    245.0,2,     3.42,2,    12.46,2,     0.00,2,     0.98,2,     -999,9,     -999,9,     -999,9,   -999.0,9,     -999,9,     -999,9,     -999,9,     -999,1,  10.3720,2,     -999,9,     -999,9,     -999,9,     -999,9,     -999,1,   4.9680,1,   0.0114,1,     -999,9,     -999,9,     -999,9,     -999,9,     -999,9,20230727,0931, -31.4282, 108.4012,-999          ,9,-999          ,9
33RR20230722  ,I05        ,18      ,  2,23         ,23         ,2,20230727,0740, -31.4282, 108.4012,     5331,    447.0,2,  10.0976,2,  34.7721,2,  34.7714,2,    240.7,2,    240.2,2,     3.81,2,    14.01,2,     0.00,2,     1.06,2,    2.864,4,    2.467,2,   2.7200,2,   2139.3,2,   2296.8,2,   7.7646,6,    25.00,2,     -999,1,  10.0956,2,     -999,9,     -999,9,     -999,9,     -999,9,     -999,1,   4.9673,1,   0.0115,1,     11.3,2,     -999,9,     -999,9,     -999,9,     -999,9,20230727,0928, -31.4282, 108.4012,-999          ,9,-999          ,9
33RR20230722  ,I05        ,18      ,  2,22         ,22         ,2,20230727,0740, -31.4282, 108.4012,     5331,    535.1,2,   9.6852,2,  34.7247,2,  34.7274,2,    237.6,2,    236.9,2,     4.20,2,    15.62,2,     0.00,2,     1.13,2,     -999,9,     -999,9,     -999,9,   2141.3,2,   2295.3,2,   7.7513,2,    25.00,2,     -999,1,   9.6845,2,     -999,9,     -999,9,     -999,9,     -999,9,     -999,1,   4.8658,1,   0.0115,1,     -999,9,     -999,9,     -999,9,     -999,9,     -999,9,20230727,0925, -31.4282, 108.4012,-999          ,9,-999          ,9
33RR20230722  ,I05        ,18      ,  2,21         ,21         ,2,20230727,0740, -31.4282, 108.4012,     5331,    640.5,2,   8.9330,2,  34.6280,2,  34.6278,2,    233.7,2,    233.9,2,     5.76,2,    17.98,2,     0.00,2,     1.28,2,     -999,9,     -999,9,     -999,9,   2146.4,2,   2290.4,2,   7.7336,2,    24.98,2,     -999,1,   8.9316,2,     -999,9,     -999,9,     -999,9,     -999,9,     -999,1,   4.9666,1,   0.0115,1,     -999,9,     -999,9,     -999,9,     -999,9,     -999,9,20230727,0922, -31.4282, 108.4012,-999          ,9,-999          ,9
33RR20230722  ,I05        ,18      ,  2,20         ,20         ,2,20230727,0740, -31.4282, 108.4012,     5331,    748.7,2,   7.6862,2,  34.5048,2,  34.5058,2,    207.4,2,    208.8,2,    12.69,2,    23.18,2,     0.00,2,     1.64,2,     -999,9,     -999,9,     -999,9,   2163.4,2,   2289.6,2,   7.6827,2,    24.99,2,     -999,1,   7.6884,2,     -999,9,     -999,9,     -999,9,     -999,9,     -999,1,   4.9352,1,   0.0114,1,     -999,9,     -999,9,     -999,9,     -999,9,     -999,9,20230727,0920, -31.4282, 108.4013,-999          ,9,-999          ,9
33RR20230722  ,I05        ,18      ,  2,19         ,19         ,2,20230727,0740, -31.4282, 108.4012,     5331,    872.7,2,   5.6726,2,  34.3871,2,  34.3880,2,    196.4,2,    197.7,2,    26.16,2,    28.40,2,     0.00,2,     2.03,2,    2.041,4,    1.497,2,   0.6900,2,   2190.0,2,   2291.2,2,   7.6303,2,    24.99,2,     -999,1,   5.6735,2,     -999,9,     -999,9,     -999,9,     -999,9,     -999,1,   4.8472,1,   0.0114,1,     16.1,2,     -999,9,     -999,9,     -999,9,     -999,9,20230727,0916, -31.4282, 108.4013,-999          ,9,-999          ,9
33RR20230722  ,I05        ,18      ,  2,18         ,18         ,2,20230727,0740, -31.4282, 108.4012,     5331,   1001.8,2,   4.3928,2,  34.3862,2,  34.3882,2,    186.4,2,    186.8,2,    42.47,2,    31.56,2,     0.00,2,     2.26,2,     -999,9,     -999,9,     -999,9,   2211.5,2,   2305.7,2,   7.5984,2,    24.99,2,     -999,1,   4.3943,2,     -999,9,     -999,9,     -999,9,     -999,9,     -999,1,   4.9715,1,   0.0118,1,     -999,9,     -999,9,     -999,9,     -999,9,     -999,9,20230727,0913, -31.4282, 108.4012,-999          ,9,-999          ,9
33RR20230722  ,I05        ,18      ,  2,17         ,17         ,2,20230727,0740, -31.4282, 108.4012,     5331,   1145.7,2,   3.8480,2,  34.4610,2,  34.4612,2,    163.5,2,    164.2,2,    60.82,2,    33.68,2,     0.00,2,     2.45,2,     -999,9,     -999,9,     -999,9,   -999.0,9,     -999,9,     -999,9,     -999,9,     -999,1,   3.8478,2,     -999,9,     -999,9,     -999,9,     -999,9,     -999,1,   4.9735,1,   0.0112,1,     -999,9,     -999,9,     -999,9,     -999,9,     -999,9,20230727,0910, -31.4282, 108.4012,-999          ,9,-999          ,9
33RR20230722  ,I05        ,18      ,  2,16         ,16         ,2,20230727,0740, -31.4282, 108.4012,     5331,   1302.6,2,   3.5052,2,  34.5513,2,  34.5514,2,    146.3,2,    146.1,2,    76.63,2,    34.89,2,     0.00,2,     2.52,2,     -999,9,     -999,9,     -999,9,   2263.0,2,   2344.0,2,   7.5542,2,    24.99,2,     -999,1,   3.5038,2,     -999,9,     -999,9,     -999,9,     -999,9,     -999,1,   4.9748,1,   0.0116,1,     -999,9,     -999,9,     -999,9,     -999,9,     -999,9,20230727,0906, -31.4282, 108.4012,-999          ,9,-999          ,9
33RR20230722  ,I05        ,18      ,  2,15         ,15         ,2,20230727,0740, -31.4282, 108.4012,     5331,   1467.3,2,   3.1094,2,  34.5999,2,  34.5997,2,    148.7,2,    148.0,2,    83.07,2,    34.77,2,     0.00,2,     2.53,2,     -999,9,     -999,9,     -999,9,   -999.0,9,     -999,9,     -999,9,     -999,9,     -999,1,   3.1121,2,     -999,9,     -999,9,     -999,9,     -999,9,     -999,1,   4.9334,1,   0.0117,1,     -999,9,     -999,9,     -999,9,     -999,9,     -999,9,20230727,0902, -31.4282, 108.4012,-999          ,9,-999          ,9
33RR20230722  ,I05        ,18      ,  2,14         ,14         ,2,20230727,0740, -31.4282, 108.4012,     5331,   1620.5,2,   2.8137,2,  34.6410,2,  34.6417,2,    154.0,2,    153.6,2,    87.46,2,    34.04,2,     0.00,2,     2.47,2,    0.089,3,   -0.002,2,  -0.0500,2,   2270.4,2,   2357.4,2,   7.5665,2,    24.99,2,     -999,1,   2.8136,2,     -999,9,     -999,9,     -999,9,     -999,9,     -999,1,   4.9752,1,   0.0123,1,     19.6,2,     -999,9,     -999,9,     -999,9,     -999,9,20230727,0858, -31.4282, 108.4012,-999          ,9,-999          ,9
33RR20230722  ,I05        ,18      ,  2,13         ,13         ,4,20230727,0740, -31.4282, 108.4012,     5331,   1778.5,3,   2.5903,3,  34.6749,3,  35.0081,4,    159.2,3,    187.1,3,    51.44,3,    20.12,3,     0.00,3,     1.51,3,     -999,9,     -999,9,     -999,9,   -999.0,4,     -999,9,     -999,9,     -999,9,     -999,1,   2.5936,3,     -999,9,     -999,9,     -999,9,     -999,9,     -999,1,   4.8414,1,   0.0119,1,     -999,9,     -999,9,     -999,9,     -999,9,     -999,9,20230727,0855, -31.4282, 108.4013,-999          ,9,-999          ,9
33RR20230722  ,I05        ,18      ,  2,12         ,12         ,2,20230727,0740, -31.4282, 108.4012,     5331,   1991.2,2,   2.3908,2,  34.7056,2,  34.7060,2,    161.0,2,    160.9,2,   102.19,2,    33.17,2,     0.00,2,     2.44,2,    0.010,2,    0.001,2,   0.0400,2,   2278.9,2,   2371.1,2,   7.5832,6,    24.99,2,     -999,1,   2.3910,2,     -999,9,     -999,9,     -999,9,     -999,9,     -999,1,   4.8979,1,   0.0119,1,     17.2,2,     -999,9,     -999,9,     -999,9,     -999,9,20230727,0850, -31.4282, 108.4012,-999          ,9,-999          ,9
33RR20230722  ,I05        ,18      ,  2,11         ,11         ,2,20230727,0740, -31.4282, 108.4012,     5331,   2261.3,2,   2.1448,2,  34.7221,2,  34.7219,2,    169.1,2,    169.1,2,   106.29,2,    32.65,2,     0.00,2,     2.37,2,     -999,9,     -999,9,     -999,9,   -999.0,9,     -999,9,     -999,9,     -999,9,     -999,1,   2.1439,2,     -999,9,     -999,9,     -999,9,     -999,9,     -999,1,   4.9055,1,   0.0116,1,     -999,9,     -999,9,     -999,9,     -999,9,     -999,9,20230727,0844, -31.4282, 108.4012,-999          ,9,-999          ,9
33RR20230722  ,I05        ,18      ,  2,10         ,10         ,2,20230727,0740, -31.4282, 108.4012,     5331,   2611.6,2,   1.8751,2,  34.7291,2,  34.7329,3,    177.3,2,    177.5,2,   109.51,2,    32.35,2,     0.00,2,     2.33,2,   -0.003,2,   -0.019,2,  -0.0500,2,   2277.9,2,   2375.0,6,   7.6069,6,    24.98,2,     -999,1,   1.8754,2,     -999,9,     -999,9,     -999,9,     -999,9,     -999,1,   4.9755,1,   0.0112,1,     16.9,2,     -999,9,     -999,9,     -999,9,     -999,9,20230727,0837, -31.4282, 108.4013,-999          ,9,-999          ,9
33RR20230722  ,I05        ,18      ,  2,9          ,9          ,2,20230727,0740, -31.4282, 108.4012,     5331,   2986.6,2,   1.6401,2,  34.7296,2,  34.7286,2,    185.2,2,    185.3,2,   114.39,2,    32.02,2,     0.00,2,     2.31,2,     -999,9,     -999,9,     -999,9,   -999.0,9,     -999,9,     -999,9,     -999,9,     -999,1,   1.6405,2,     -999,9,     -999,9,     -999,9,     -999,9,     -999,1,   4.9376,1,   0.0111,1,     -999,9,     -999,9,     -999,9,     -999,9,     -999,9,20230727,0830, -31.4282, 108.4012,-999          ,9,-999          ,9
33RR20230722  ,I05        ,18      ,  2,8          ,8          ,2,20230727,0740, -31.4282, 108.4012,     5331,   3354.1,2,   1.4384,2,  34.7273,2,  34.7264,2,    193.9,2,    194.1,2,   114.29,2,    31.68,2,     0.00,2,     2.29,2,     -999,9,     -999,9,     -999,9,   -999.0,9,     -999,9,     -999,9,     -999,9,     -999,1,   1.4387,2,     -999,9,     -999,9,     -999,9,     -999,9,     -999,1,   4.7130,1,   0.0114,1,     -999,9,     -999,9,     -999,9,     -999,9,     -999,9,20230727,0823, -31.4283, 108.4012,-999          ,9,-999          ,9
33RR20230722  ,I05        ,18      ,  2,7          ,7          ,2,20230727,0740, -31.4282, 108.4012,     5331,   3706.4,2,   1.2567,2,  34.7212,2,  34.7201,2,    198.3,2,    198.5,2,   117.61,2,    31.75,2,     0.00,2,     2.30,2,    0.024,2,    0.005,2,  -0.0300,2,   2270.5,2,   2365.7,2,   7.6177,2,    25.00,2,     -999,1,   1.2575,2,     -999,9,     -999,9,     -999,9,     -999,9,     -999,1,   4.9762,1,   0.0118,1,     15.4,2,     -999,9,     -999,9,     -999,9,     -999,9,20230727,0816, -31.4282, 108.4012,-999          ,9,-999          ,9
33RR20230722  ,I05        ,18      ,  2,6          ,6          ,2,20230727,0740, -31.4282, 108.4012,     5331,   4023.2,2,   1.1535,2,  34.7160,2,  34.7150,2,    200.2,2,    200.1,2,   121.12,2,    32.00,2,     0.00,2,     2.29,2,    0.045,3,   -0.019,2,  -0.0600,2,   -999.0,9,     -999,9,     -999,9,     -999,9,     -999,1,   1.1540,2,     -999,9,     -999,9,     -999,9,     -999,9,     -999,1,   4.9765,1,   0.0118,1,     15.5,2,     -999,9,     -999,9,     -999,9,     -999,9,20230727,0809, -31.4282, 108.4012,-999          ,9,-999          ,9
33RR20230722  ,I05        ,18      ,  2,5          ,5          ,2,20230727,0740, -31.4282, 108.4012,     5331,   4381.9,2,   1.0879,2,  34.7119,2,  34.7111,2,    202.6,2,    202.8,2,   123.08,2,    31.98,2,     0.00,2,     2.28,2,    0.041,3,    0.004,2,   0.0000,2,   2272.3,2,   2376.5,2,   7.6215,2,    24.99,2,     -999,1,   1.0882,2,     -999,9,     -999,9,     -999,9,     -999,9,     -999,1,   4.6909,1,   0.0112,1,     15.9,2,     -999,9,     -999,9,     -999,9,     -999,9,20230727,0802, -31.4282, 108.4013,-999          ,9,-999          ,9
33RR20230722  ,I05        ,18      ,  2,4          ,4          ,2,20230727,0740, -31.4282, 108.4012,     5331,   4786.7,2,   1.0528,2,  34.7090,2,  34.7081,2,    205.6,2,    205.6,2,   123.37,2,    31.91,2,     0.00,2,     2.30,2,    0.123,3,    0.013,2,  -0.0500,2,   -999.0,9,     -999,9,     -999,9,     -999,9,     -999,1,   1.0531,2,     -999,9,     -999,9,     -999,9,     -999,9,     -999,1,   4.9540,1,   0.0111,1,     15.0,2,     -999,9,     -999,9,     -999,9,     -999,9,20230727,0754, -31.4282, 108.4013,-999          ,9,-999          ,9
33RR20230722  ,I05        ,18      ,  2,3          ,3          ,2,20230727,0740, -31.4282, 108.4012,     5331,   5107.1,2,   1.0587,2,  34.7072,2,  34.7072,2,    206.5,2,    206.8,2,   124.05,2,    31.93,2,     0.00,2,     2.29,2,    0.142,3,    0.001,2,  -0.0600,2,   2268.7,2,   2372.6,2,   7.6189,2,    24.98,2,     -999,1,   1.0589,2,     -999,9,     -999,9,     -999,9,     -999,9,     -999,1,   4.6602,1,   0.0111,1,     15.6,2,     -999,9,     -999,9,     -999,9,     -999,9,20230727,0748, -31.4282, 108.4013,-999          ,9,-999          ,9