BOTTLE,20240422CCHHYDRO
EXPOCODE,SECT_ID,STNNBR,CASTNO,SAMPNO,BTLNBR,BTLNBR_FLAG_W,DATE,TIME,LATITUDE,LONGITUDE,DEPTH,CTDPRS,CTDPRS_FLAG_W,CTDTMP,CTDTMP_FLAG_W,CTDSAL,CTDSAL_FLAG_W,SALNTY,SALNTY_FLAG_W,CTDOXY,CTDOXY_FLAG_W,OXYGEN,OXYGEN_FLAG_W,SILCAT,SILCAT_FLAG_W,NITRAT,NITRAT_FLAG_W,NITRIT,NITRIT_FLAG_W,PHSPHT,PHSPHT_FLAG_W,CFC-11,CFC-11_FLAG_W,CFC-12,CFC-12_FLAG_W,SF6,SF6_FLAG_W,TCARBN,TCARBN_FLAG_W,ALKALI,ALKALI_FLAG_W,PH_TOT,PH_TOT_FLAG_W,PH_TMP,PH_TMP_FLAG_W,DOC,DOC_FLAG_W,REFTMP,REFTMP_FLAG_W,POC,POC_FLAG_W,PON,PON_FLAG_W,POP,POP_FLAG_W,DOP,DOP_FLAG_W,DELO18,DELO18_FLAG_W,CTDFLUOR,CTDFLUOR_FLAG_W,CTDXMISS,CTDXMISS_FLAG_W,N2O,N2O_FLAG_W,D15N_NO3,D15N_NO3_FLAG_W,D15N_NO2+NO3,D15N_NO2+NO3_FLAG_W,D18O_NO2+NO3,D18O_NO2+NO3_FLAG_W,D18O_NO3,D18O_NO3_FLAG_W,BTL_DATE,BTL_TIME,BTL_LAT,BTL_LON,HPLC,HPLC_FLAG_W,DNA,DNA_FLAG_W
,,,,,,,,,,,METERS,DBAR,,ITS-90,,PSS-78,,PSS-78,,UMOL/KG,,UMOL/KG,,UMOL/KG,,UMOL/KG,,UMOL/KG,,UMOL/KG,,PMOL/KG,,PMOL/KG,,FMOL/KG,,UMOL/KG,,UMOL/KG,,,,DEG C,,UMOL/KG,,ITS-90,,UG/KG,,UG/KG,,UG/L,,UMOL/KG,,/MILLE,,VOLTS,,VOLTS,,NMOL/KG,,/MILLE,,/MILLE,,/MILLE,,/MILLE,,,,,,,,,
33RR20230722  ,I05        ,50      ,  1,36         ,36         ,2,20230804,2005, -33.9969,  96.1328,     4354,     11.1,2,  14.5659,2,  35.4976,2,  35.4985,2,    249.2,2,    248.9,2,     1.07,2,     2.01,2,     0.11,2,     0.29,2,    2.576,2,    1.499,2,   2.5300,2,   2105.4,6,   2335.3,2,   7.9101,2,    25.00,2,     -999,1,  14.5615,2,     -999,9,     -999,9,     -999,9,     -999,1,     -999,1,   4.9079,1,   0.0366,1,      8.9,2,     -999,9,     -999,9,     -999,9,     -999,9,20230804,2202, -33.9969,  96.1328,-999          ,9,-999          ,9
33RR20230722  ,I05        ,50      ,  1,35         ,35         ,2,20230804,2005, -33.9969,  96.1328,     4354,     31.5,2,  14.5963,2,  35.5057,2,  35.5056,2,    248.8,2,    248.8,2,     0.98,2,     1.92,2,     0.11,2,     0.30,2,     -999,9,     -999,9,     -999,9,   2104.9,2,   2338.7,2,   7.9108,2,    25.01,2,     -999,1,  14.5940,2,     -999,9,     -999,9,     -999,9,     -999,1,     -999,1,   4.9746,1,   0.0381,1,     -999,9,     -999,9,     -999,9,     -999,9,     -999,9,20230804,2200, -33.9969,  96.1328,-999          ,9,-999          ,9
33RR20230722  ,I05        ,50      ,  1,34         ,34         ,2,20230804,2005, -33.9969,  96.1328,     4354,     52.5,2,  14.5395,2,  35.4892,2,  35.4827,2,    248.9,2,    249.0,2,     0.98,2,     2.04,2,     0.12,2,     0.30,2,     -999,9,     -999,9,     -999,9,   2108.4,2,   2335.4,2,   7.9088,2,    25.02,2,     -999,1,  14.5349,2,     -999,9,     -999,9,     -999,9,     -999,1,     -999,1,   4.9742,1,   0.0372,1,     -999,9,     -999,9,     -999,9,     -999,9,     -999,9,20230804,2159, -33.9969,  96.1328,-999          ,9,-999          ,9
33RR20230722  ,I05        ,50      ,  1,33         ,33         ,2,20230804,2005, -33.9969,  96.1328,     4354,     74.6,2,  14.4222,2,  35.4559,2,  35.4594,2,    249.0,2,    249.4,2,     0.98,2,     2.16,2,     0.12,2,     0.30,2,    2.608,2,    1.505,2,   2.4800,2,   2106.1,2,   2335.7,2,   7.9064,6,    25.01,2,     -999,1,  14.4462,2,     -999,9,     -999,9,     -999,9,     -999,1,     -999,1,   4.9741,1,   0.0383,1,      8.9,2,     -999,9,     -999,9,     -999,9,     -999,9,20230804,2157, -33.9969,  96.1328,-999          ,9,-999          ,9
33RR20230722  ,I05        ,50      ,  1,32         ,32         ,2,20230804,2005, -33.9969,  96.1328,     4354,    100.1,2,  14.4001,2,  35.4494,2,  35.4592,2,    248.7,2,    249.4,2,     0.88,2,     2.17,2,     0.12,2,     0.30,2,     -999,9,     -999,9,     -999,9,   2106.1,2,   2335.5,2,   7.9067,2,    25.01,2,     -999,1,  14.3987,2,     -999,9,     -999,9,     -999,9,     -999,9,     -999,1,   4.8380,1,   0.0369,1,     -999,9,     -999,9,     -999,9,     -999,9,     -999,9,20230804,2155, -33.9969,  96.1328,-999          ,9,-999          ,9
33RR20230722  ,I05        ,50      ,  1,31         ,31         ,2,20230804,2005, -33.9969,  96.1328,     4354,    128.9,2,  14.3374,2,  35.4317,2,  35.4316,2,    248.6,2,    249.6,2,     0.98,2,     2.30,2,     0.13,2,     0.31,2,     -999,9,     -999,9,     -999,9,   2106.7,2,   2334.2,2,   7.9048,2,    25.02,2,     -999,1,  14.3360,2,     -999,9,     -999,9,     -999,9,     -999,1,     -999,1,   4.9735,1,   0.0369,1,     -999,9,     -999,9,     -999,9,     -999,9,     -999,9,20230804,2153, -33.9969,  96.1328,-999          ,9,-999          ,9
33RR20230722  ,I05        ,50      ,  1,30         ,30         ,2,20230804,2005, -33.9969,  96.1328,     4354,    173.7,2,  13.5382,2,  35.3272,2,  35.3216,2,    233.0,3,    238.2,2,     1.56,2,     5.30,2,     0.05,2,     0.49,2,    2.597,2,    1.593,2,   2.4500,2,   2117.9,2,   2325.3,2,   7.8641,6,    25.01,2,     -999,1,  13.5424,2,     -999,9,     -999,9,     -999,9,     -999,9,     -999,1,   4.9706,1,   0.0143,1,     10.5,2,     -999,9,     -999,9,     -999,9,     -999,9,20230804,2151, -33.9969,  96.1328,-999          ,9,-999          ,9
33RR20230722  ,I05        ,50      ,  1,29         ,29         ,2,20230804,2005, -33.9969,  96.1328,     4354,    222.0,2,  12.5554,2,  35.1654,2,  35.1650,2,    238.1,2,    239.6,2,     1.85,2,     7.30,2,     0.01,2,     0.61,2,     -999,9,     -999,9,     -999,9,   2123.4,2,   2315.0,6,   7.8353,2,    25.02,2,     -999,1,  12.5542,2,     -999,9,     -999,9,     -999,9,     -999,9,     -999,1,   4.9695,1,   0.0114,1,     -999,9,     -999,9,     -999,9,     -999,9,     -999,9,20230804,2149, -33.9969,  96.1329,-999          ,9,-999          ,9
33RR20230722  ,I05        ,50      ,  1,28         ,28         ,2,20230804,2005, -33.9969,  96.1328,     4354,    258.9,2,  12.1444,2,  35.0980,2,  35.0990,2,    244.4,2,    244.5,2,     2.05,2,     7.81,2,     0.00,2,     0.64,2,     -999,9,     -999,9,     -999,9,   2125.0,2,   2315.2,2,   7.8298,2,    25.02,2,     -999,1,  12.1432,2,     -999,9,     -999,9,     -999,9,     -999,1,     -999,1,   4.9696,1,   0.0115,1,     -999,9,     -999,9,     -999,9,     -999,9,     -999,9,20230804,2147, -33.9969,  96.1328,-999          ,9,-999          ,9
33RR20230722  ,I05        ,50      ,  1,27         ,27         ,2,20230804,2005, -33.9969,  96.1328,     4354,    308.7,2,  11.7086,2,  35.0222,2,  35.0228,2,    247.1,2,    247.0,2,     2.24,2,     8.80,2,     0.00,2,     0.71,2,    2.770,2,    1.728,2,   2.5900,2,   2127.3,2,   2308.5,2,   7.8211,6,    25.03,2,     -999,1,  11.7144,2,     -999,9,     -999,9,     -999,9,     -999,9,     -999,1,   4.9694,1,   0.0113,1,     11.7,2,     -999,9,     -999,9,     -999,9,     -999,9,20230804,2145, -33.9969,  96.1328,-999          ,9,-999          ,9
33RR20230722  ,I05        ,50      ,  1,26         ,26         ,2,20230804,2005, -33.9969,  96.1328,     4354,    387.6,2,  10.9584,2,  34.8907,2,  34.8906,2,    246.8,2,    246.1,2,     2.63,2,    10.84,2,     0.00,2,     0.83,2,     -999,9,     -999,9,     -999,9,   2130.6,2,   2301.5,6,   7.8004,2,    25.04,2,     -999,1,  10.9490,2,     -999,9,     -999,9,     -999,9,     -999,9,     -999,1,   4.8424,1,   0.0112,1,     -999,9,     -999,9,     -999,9,     -999,9,     -999,9,20230804,2143, -33.9969,  96.1328,-999          ,9,-999          ,9
33RR20230722  ,I05        ,50      ,  1,25         ,25         ,2,20230804,2005, -33.9969,  96.1328,     4354,    435.1,2,  10.6614,2,  34.8388,2,  34.8397,2,    248.3,2,    247.1,2,     2.83,2,    11.60,2,     0.00,2,     0.89,2,     -999,9,     -999,9,     -999,9,   2129.9,6,   2299.3,2,   7.7940,2,    25.01,2,     -999,1,  10.6642,2,     -999,9,     -999,9,     -999,9,     -999,9,     -999,1,   4.9683,1,   0.0113,1,     -999,9,     -999,9,     -999,9,     -999,9,     -999,9,20230804,2141, -33.9969,  96.1328,-999          ,9,-999          ,9
33RR20230722  ,I05        ,50      ,  1,24         ,24         ,2,20230804,2005, -33.9969,  96.1328,     4354,    498.4,2,  10.2237,2,  34.7673,2,  34.7669,2,    245.9,2,    244.9,2,     3.42,2,    13.31,2,     0.00,2,     1.00,2,    3.019,2,    1.847,2,   2.4700,2,   2134.7,2,   2296.3,2,   7.7784,2,    25.02,2,     -999,1,  10.2234,2,     -999,9,     -999,9,     -999,9,     -999,9,     -999,1,   4.9676,1,   0.0114,1,     12.3,2,     -999,9,     -999,9,     -999,9,     -999,9,20230804,2138, -33.9969,  96.1328,-999          ,9,-999          ,9
33RR20230722  ,I05        ,50      ,  1,23         ,23         ,2,20230804,2005, -33.9969,  96.1328,     4354,    583.6,2,   9.8993,2,  34.7384,2,  34.7382,2,    236.7,2,    236.3,2,     4.00,2,    15.06,2,     0.00,2,     1.09,2,     -999,9,     -999,9,     -999,9,   2139.2,2,   2290.4,2,   7.7605,2,    25.01,2,     -999,1,   9.8997,2,     -999,9,     -999,9,     -999,9,     -999,9,     -999,1,   4.9667,1,   0.0113,1,     -999,9,     -999,9,     -999,9,     -999,9,     -999,9,20230804,2136, -33.9969,  96.1328,-999          ,9,-999          ,9
33RR20230722  ,I05        ,50      ,  1,22         ,22         ,2,20230804,2005, -33.9969,  96.1328,     4354,    675.2,2,   9.3600,2,  34.6766,2,  34.6759,2,    235.1,2,    234.9,2,     5.07,2,    16.85,2,     0.00,2,     1.21,2,     -999,9,     -999,9,     -999,9,   2142.0,2,   2289.5,2,   7.7454,2,    25.02,2,     -999,1,   9.3584,2,     -999,9,     -999,9,     -999,9,     -999,9,     -999,1,   4.9666,1,   0.0115,1,     -999,9,     -999,9,     -999,9,     -999,9,     -999,9,20230804,2133, -33.9969,  96.1328,-999          ,9,-999          ,9
33RR20230722  ,I05        ,50      ,  1,21         ,21         ,2,20230804,2005, -33.9969,  96.1328,     4354,    780.0,2,   8.5090,2,  34.5770,2,  34.5769,2,    219.9,2,    220.8,2,     8.10,2,    20.26,2,     0.00,2,     1.42,2,    3.080,2,    1.818,2,   1.7100,2,   2153.7,2,   2287.3,2,   7.7140,2,    25.04,2,     -999,1,   8.5070,2,     -999,9,     -999,9,     -999,9,     -999,9,     -999,1,   4.9671,1,   0.0112,1,     14.8,2,     -999,9,     -999,9,     -999,9,     -999,9,20230804,2130, -33.9969,  96.1328,-999          ,9,-999          ,9
33RR20230722  ,I05        ,50      ,  1,20         ,20         ,2,20230804,2005, -33.9969,  96.1328,     4354,    893.6,2,   6.9995,2,  34.4562,2,  34.4559,2,    200.8,2,    202.0,2,    16.20,2,    25.53,2,     0.00,2,     1.78,2,     -999,9,     -999,9,     -999,9,   2175.4,2,   2286.3,2,   7.6609,6,    25.01,2,     -999,1,   7.0092,2,     -999,9,     -999,9,     -999,9,     -999,9,     -999,1,   4.8239,1,   0.0111,1,     -999,9,     -999,9,     -999,9,     -999,9,     -999,9,20230804,2127, -33.9969,  96.1328,-999          ,9,-999          ,9
33RR20230722  ,I05        ,50      ,  1,19         ,19         ,2,20230804,2005, -33.9969,  96.1328,     4354,    957.8,2,   5.8772,2,  34.3917,2,  34.3937,2,    198.3,2,    198.8,2,    22.94,2,    28.06,2,     0.00,2,     1.95,2,     -999,9,     -999,9,     -999,9,   2187.8,2,   2288.6,2,   7.6359,2,    25.02,2,     -999,1,   5.9001,2,     -999,9,     -999,9,     -999,9,     -999,9,     -999,1,   4.9698,1,   0.0113,1,     -999,9,     -999,9,     -999,9,     -999,9,     -999,9,20230804,2125, -33.9969,  96.1328,-999          ,9,-999          ,9
33RR20230722  ,I05        ,50      ,  1,18         ,18         ,2,20230804,2005, -33.9969,  96.1328,     4354,   1037.4,2,   4.9727,2,  34.3613,2,  34.3617,2,    197.5,2,    197.4,2,    30.35,2,    30.22,2,     0.00,2,     2.11,2,    2.069,2,    1.122,2,   0.5600,2,   2206.4,2,   2294.1,2,   7.6168,2,    25.02,2,     -999,1,   4.9771,2,     -999,9,     -999,9,     -999,9,     -999,9,     -999,1,   4.9703,1,   0.0112,1,     19.2,2,     -999,9,     -999,9,     -999,9,     -999,9,20230804,2122, -33.9969,  96.1328,-999          ,9,-999          ,9
33RR20230722  ,I05        ,50      ,  1,17         ,17         ,2,20230804,2005, -33.9969,  96.1328,     4354,   1140.3,2,   4.2224,2,  34.3884,2,  34.3886,2,    184.8,2,    185.4,2,    43.82,2,    32.33,2,     0.00,2,     2.27,2,     -999,9,     -999,9,     -999,9,   2224.2,2,   2305.2,2,   7.5965,2,    25.02,2,     -999,1,   4.2318,2,     -999,9,     -999,9,     -999,9,     -999,9,     -999,1,   4.9716,1,   0.0112,1,     -999,9,     -999,9,     -999,9,     -999,9,     -999,9,20230804,2119, -33.9969,  96.1328,-999          ,9,-999          ,9
33RR20230722  ,I05        ,50      ,  1,16         ,16         ,2,20230804,2005, -33.9969,  96.1328,     4354,   1218.3,2,   3.9296,2,  34.4195,2,  34.4216,2,    175.5,2,    175.4,2,    51.82,2,    33.41,2,     0.00,2,     2.35,2,     -999,9,     -999,9,     -999,9,   2233.9,2,   2313.4,2,   7.5817,2,    25.02,2,     -999,1,   3.9273,2,     -999,9,     -999,9,     -999,9,     -999,9,     -999,1,   4.9589,1,   0.0111,1,     -999,9,     -999,9,     -999,9,     -999,9,     -999,9,20230804,2117, -33.9969,  96.1328,-999          ,9,-999          ,9
33RR20230722  ,I05        ,50      ,  1,15         ,15         ,2,20230804,2005, -33.9969,  96.1328,     4354,   1337.4,2,   3.6512,2,  34.4886,2,  34.4868,2,    159.1,2,    160.2,2,    65.88,2,    34.21,2,     0.00,2,     2.44,2,    0.574,2,    0.293,2,   0.1300,2,   2249.5,6,   2328.6,2,   7.5666,2,    25.02,2,     -999,1,   3.6534,2,     -999,9,     -999,9,     -999,9,     -999,9,     -999,1,   4.9740,1,   0.0120,1,     23.2,2,     -999,9,     -999,9,     -999,9,     -999,9,20230804,2114, -33.9969,  96.1328,-999          ,9,-999          ,9
33RR20230722  ,I05        ,50      ,  1,14         ,14         ,2,20230804,2005, -33.9969,  96.1328,     4354,   1461.8,2,   3.3880,2,  34.5370,2,  34.5396,2,    153.6,2,    153.1,2,    73.78,2,    34.73,2,     0.00,2,     2.48,2,     -999,9,     -999,9,     -999,9,   2266.6,2,   2338.8,2,   7.5604,2,    25.02,2,     -999,1,   3.3884,2,     -999,9,     -999,9,     -999,9,     -999,9,     -999,1,   4.9745,1,   0.0111,1,     -999,9,     -999,9,     -999,9,     -999,9,     -999,9,20230804,2111, -33.9969,  96.1328,-999          ,9,-999          ,9
33RR20230722  ,I05        ,50      ,  1,13         ,13         ,2,20230804,2005, -33.9969,  96.1328,     4354,   1533.2,2,   3.2688,2,  34.5707,2,  34.5712,2,    150.8,2,    150.5,2,    78.17,2,    34.81,2,     0.00,2,     2.49,2,     -999,9,     -999,9,     -999,9,   2268.0,2,   2342.0,2,   7.5601,2,    25.03,2,     -999,1,   3.2585,2,     -999,9,     -999,9,     -999,9,     -999,9,     -999,1,   4.9748,1,   0.0117,1,     -999,9,     -999,9,     -999,9,     -999,9,     -999,9,20230804,2108, -33.9969,  96.1328,-999          ,9,-999          ,9
33RR20230722  ,I05        ,50      ,  1,12         ,12         ,2,20230804,2005, -33.9969,  96.1328,     4354,   1659.1,2,   3.0311,2,  34.6082,2,  34.6089,2,    152.7,2,    152.6,2,    83.04,2,    34.48,2,     0.00,2,     2.47,2,    0.122,2,    0.067,2,   0.0400,2,   2269.2,2,   2349.0,2,   7.5644,2,    25.02,2,     -999,1,   3.0303,2,     -999,9,     -999,9,     -999,9,     -999,9,     -999,1,   4.8270,1,   0.0115,1,     23.4,2,     -999,9,     -999,9,     -999,9,     -999,9,20230804,2105, -33.9969,  96.1328,-999          ,9,-999          ,9
33RR20230722  ,I05        ,50      ,  1,11         ,11         ,2,20230804,2005, -33.9969,  96.1328,     4354,   1796.5,2,   2.8512,2,  34.6392,2,  34.6394,2,    155.9,2,    155.5,2,    86.07,2,    34.23,2,     0.00,2,     2.44,2,     -999,9,     -999,9,     -999,9,   2271.6,2,   2351.7,2,   7.5685,2,    25.02,2,     -999,1,   2.8513,2,     -999,9,     -999,9,     -999,9,     -999,9,     -999,1,   4.9751,1,   0.0119,1,     -999,9,     -999,9,     -999,9,     -999,9,     -999,9,20230804,2101, -33.9969,  96.1328,-999          ,9,-999          ,9
33RR20230722  ,I05        ,50      ,  1,10         ,10         ,2,20230804,2005, -33.9969,  96.1328,     4354,   2090.1,2,   2.4577,2,  34.6974,2,  34.6973,2,    169.7,2,    169.7,2,    89.58,2,    32.63,2,     0.00,2,     2.31,2,     -999,9,     -999,9,     -999,9,   2267.4,2,   2355.9,2,   7.5889,2,    25.00,2,     -999,1,   2.4581,2,     -999,9,     -999,9,     -999,9,     -999,9,     -999,1,   4.9112,1,   0.0112,1,     -999,9,     -999,9,     -999,9,     -999,9,     -999,9,20230804,2055, -33.9969,  96.1328,-999          ,9,-999          ,9
33RR20230722  ,I05        ,50      ,  1,9          ,9          ,2,20230804,2005, -33.9969,  96.1328,     4354,   2352.6,2,   2.1708,2,  34.7291,2,  34.7288,2,    183.6,2,    183.7,2,    90.55,2,    31.41,2,     0.00,2,     2.21,2,    0.049,2,    0.030,2,  -0.0300,2,   2258.4,2,   2353.9,6,   7.6063,2,    25.01,2,     -999,1,   2.1691,2,     -999,9,     -999,9,     -999,9,     -999,9,     -999,1,   4.9746,1,   0.0111,1,     19.5,2,     -999,9,     -999,9,     -999,9,     -999,9,20230804,2050, -33.9968,  96.1328,-999          ,9,-999          ,9
33RR20230722  ,I05        ,50      ,  1,8          ,8          ,2,20230804,2005, -33.9969,  96.1328,     4354,   2657.8,2,   1.8768,2,  34.7383,2,  34.7384,2,    191.1,2,    191.3,2,    96.70,2,    30.97,2,     0.00,2,     2.20,2,     -999,9,     -999,9,     -999,9,   2256.0,2,   2357.8,2,   7.6159,2,    25.01,2,     -999,1,   1.8769,2,     -999,9,     -999,9,     -999,9,     -999,9,     -999,1,   4.9749,1,   0.0111,1,     -999,9,     -999,9,     -999,9,     -999,9,     -999,9,20230804,2043, -33.9969,  96.1328,-999          ,9,-999          ,9
33RR20230722  ,I05        ,50      ,  1,7          ,7          ,2,20230804,2005, -33.9969,  96.1328,     4354,   2847.8,2,   1.7170,2,  34.7375,2,  34.7380,2,    194.4,2,    194.6,2,   100.11,2,    30.96,2,     0.00,2,     2.18,2,    0.037,2,    0.026,2,  -0.0400,2,   2256.8,2,   2359.8,2,   7.6178,6,    25.02,2,     -999,1,   1.7166,2,     -999,9,     -999,9,     -999,9,     -999,9,     -999,1,   4.9750,1,   0.0111,1,     18.9,2,     -999,9,     -999,9,     -999,9,     -999,9,20230804,2039, -33.9969,  96.1328,-999          ,9,-999          ,9
33RR20230722  ,I05        ,50      ,  1,6          ,6          ,2,20230804,2005, -33.9969,  96.1328,     4354,   3094.9,2,   1.4943,2,  34.7335,2,  34.7331,2,    198.9,2,    199.3,2,   106.26,2,    31.12,2,     0.00,2,     2.20,2,     -999,9,     -999,9,     -999,9,   2258.6,2,   2359.6,6,   7.6194,2,    25.02,2,     -999,1,   1.4931,2,     -999,9,     -999,9,     -999,9,     -999,9,     -999,1,   4.9228,1,   0.0117,1,     -999,9,     -999,9,     -999,9,     -999,9,     -999,9,20230804,2033, -33.9969,  96.1328,-999          ,9,-999          ,9
33RR20230722  ,I05        ,50      ,  1,5          ,5          ,2,20230804,2005, -33.9969,  96.1328,     4354,   3399.1,2,   1.2784,2,  34.7247,2,  34.7248,2,    201.9,2,    202.1,2,   112.21,2,    31.50,2,     0.00,2,     2.21,2,    0.074,2,    0.045,2,   0.1000,2,   2259.0,2,   2362.7,2,   7.6188,2,    25.03,2,     -999,1,   1.2774,2,     -999,9,     -999,9,     -999,9,     -999,9,     -999,1,   4.9752,1,   0.0112,1,     18.4,2,     -999,9,     -999,9,     -999,9,     -999,9,20230804,2027, -33.9969,  96.1328,-999          ,9,-999          ,9
33RR20230722  ,I05        ,50      ,  1,4          ,37         ,2,20230804,2005, -33.9969,  96.1328,     4354,   3702.1,2,   1.1499,2,  34.7182,2,  34.7180,2,    203.3,2,    203.3,2,   116.70,2,    31.73,2,     0.00,2,     2.23,2,    0.075,2,    0.048,2,   0.0800,2,   2264.6,2,   2370.2,2,   7.6212,2,    25.04,2,     -999,1,   1.1499,2,     -999,9,     -999,9,     -999,9,     -999,9,     -999,1,   4.6787,1,   0.0118,1,     18.6,2,     -999,9,     -999,9,     -999,9,     -999,9,20230804,2021, -33.9969,  96.1328,-999          ,9,-999          ,9
33RR20230722  ,I05        ,50      ,  1,3          ,3          ,2,20230804,2005, -33.9969,  96.1328,     4354,   3935.5,2,   1.1149,2,  34.7156,2,  34.7152,2,    203.9,2,    204.2,2,   117.78,2,    31.77,2,     0.00,2,     2.24,2,     -999,9,     -999,9,     -999,9,   2265.7,2,   2371.2,2,   7.6213,2,    25.04,2,     -999,1,   1.1150,2,     -999,9,     -999,9,     -999,9,     -999,9,     -999,1,   4.9759,1,   0.0118,1,     -999,9,     -999,9,     -999,9,     -999,9,     -999,9,20230804,2016, -33.9969,  96.1328,-999          ,9,-999          ,9