BOTTLE,20240422CCHHYDRO
EXPOCODE,SECT_ID,STNNBR,CASTNO,SAMPNO,BTLNBR,BTLNBR_FLAG_W,DATE,TIME,LATITUDE,LONGITUDE,DEPTH,CTDPRS,CTDPRS_FLAG_W,CTDTMP,CTDTMP_FLAG_W,CTDSAL,CTDSAL_FLAG_W,SALNTY,SALNTY_FLAG_W,CTDOXY,CTDOXY_FLAG_W,OXYGEN,OXYGEN_FLAG_W,SILCAT,SILCAT_FLAG_W,NITRAT,NITRAT_FLAG_W,NITRIT,NITRIT_FLAG_W,PHSPHT,PHSPHT_FLAG_W,CFC-11,CFC-11_FLAG_W,CFC-12,CFC-12_FLAG_W,SF6,SF6_FLAG_W,TCARBN,TCARBN_FLAG_W,ALKALI,ALKALI_FLAG_W,PH_TOT,PH_TOT_FLAG_W,PH_TMP,PH_TMP_FLAG_W,DOC,DOC_FLAG_W,REFTMP,REFTMP_FLAG_W,POC,POC_FLAG_W,PON,PON_FLAG_W,POP,POP_FLAG_W,DOP,DOP_FLAG_W,DELO18,DELO18_FLAG_W,CTDFLUOR,CTDFLUOR_FLAG_W,CTDXMISS,CTDXMISS_FLAG_W,N2O,N2O_FLAG_W,D15N_NO3,D15N_NO3_FLAG_W,D15N_NO2+NO3,D15N_NO2+NO3_FLAG_W,D18O_NO2+NO3,D18O_NO2+NO3_FLAG_W,D18O_NO3,D18O_NO3_FLAG_W,BTL_DATE,BTL_TIME,BTL_LAT,BTL_LON,HPLC,HPLC_FLAG_W,DNA,DNA_FLAG_W
,,,,,,,,,,,METERS,DBAR,,ITS-90,,PSS-78,,PSS-78,,UMOL/KG,,UMOL/KG,,UMOL/KG,,UMOL/KG,,UMOL/KG,,UMOL/KG,,PMOL/KG,,PMOL/KG,,FMOL/KG,,UMOL/KG,,UMOL/KG,,,,DEG C,,UMOL/KG,,ITS-90,,UG/KG,,UG/KG,,UG/L,,UMOL/KG,,/MILLE,,VOLTS,,VOLTS,,NMOL/KG,,/MILLE,,/MILLE,,/MILLE,,/MILLE,,,,,,,,,
33RR20230722  ,I05        ,72      ,  1,36         ,36         ,2,20230810,0054, -31.1978,  84.9729,     4386,      5.0,2,  16.8033,2,  35.5540,2,  35.5545,2,    241.4,2,    241.6,2,     0.78,2,     0.06,2,     0.01,2,     0.18,2,    2.265,3,    1.398,2,   2.3000,2,   2088.0,2,   2337.1,2,   7.9486,2,    25.01,2,     -999,1,  16.8033,2,     -999,9,     -999,9,     -999,9,     -999,9,     -999,1,   4.7608,1,   0.0279,1,      7.9,2,     -999,9,     -999,9,     -999,9,     -999,9,20230810,0244, -31.1978,  84.9729,-999          ,9,-999          ,9
33RR20230722  ,I05        ,72      ,  1,35         ,35         ,2,20230810,0054, -31.1978,  84.9729,     4386,     28.7,2,  16.8029,2,  35.5537,2,  35.5695,2,    241.3,2,    241.5,2,     0.68,2,     0.01,2,     0.01,2,     0.17,2,     -999,9,     -999,9,     -999,9,   -999.0,9,     -999,9,     -999,9,     -999,9,     -999,1,  16.7998,2,     -999,9,     -999,9,     -999,9,     -999,9,     -999,1,   4.9153,1,   0.0314,1,     -999,9,     -999,9,     -999,9,     -999,9,     -999,9,20230810,0242, -31.1978,  84.9729,-999          ,9,-999          ,9
33RR20230722  ,I05        ,72      ,  1,34         ,34         ,2,20230810,0054, -31.1978,  84.9729,     4386,     40.7,2,  16.8616,2,  35.5941,2,  35.5880,2,    241.3,2,    241.6,2,     0.78,2,     0.00,2,     0.01,2,     0.18,2,     -999,9,     -999,9,     -999,9,   -999.0,9,     -999,9,     -999,9,     -999,9,     -999,1,  16.8570,2,     -999,9,     -999,9,     -999,9,     -999,9,     -999,1,   4.9748,1,   0.0330,1,     -999,9,     -999,9,     -999,9,     -999,9,     -999,9,20230810,0241, -31.1977,  84.9729,-999          ,9,-999          ,9
33RR20230722  ,I05        ,72      ,  1,33         ,33         ,2,20230810,0054, -31.1978,  84.9729,     4386,     64.8,2,  16.8522,2,  35.5986,2,  35.5997,2,    241.3,2,    241.3,2,     0.78,2,     0.00,2,     0.01,2,     0.19,2,     -999,9,     -999,9,     -999,9,   2090.6,2,   2342.5,2,   7.9487,2,    25.00,2,     -999,1,  16.8500,2,     -999,9,     -999,9,     -999,9,     -999,9,     -999,1,   4.9746,1,   0.0347,1,     -999,9,     -999,9,     -999,9,     -999,9,     -999,9,20230810,0239, -31.1977,  84.9729,-999          ,9,-999          ,9
33RR20230722  ,I05        ,72      ,  1,32         ,32         ,2,20230810,0054, -31.1978,  84.9729,     4386,     89.9,2,  16.8523,2,  35.6012,2,  35.6015,2,    240.3,2,    241.2,2,     0.68,2,     0.01,2,     0.01,2,     0.17,2,     -999,9,     -999,9,     -999,9,   -999.0,9,     -999,9,     -999,9,     -999,9,     -999,1,  16.8513,2,     -999,9,     -999,9,     -999,9,     -999,9,     -999,1,   4.9293,1,   0.0335,1,     -999,9,     -999,9,     -999,9,     -999,9,     -999,9,20230810,0238, -31.1977,  84.9729,-999          ,9,-999          ,9
33RR20230722  ,I05        ,72      ,  1,31         ,31         ,2,20230810,0054, -31.1978,  84.9729,     4386,    120.7,2,  13.5913,2,  35.2461,2,  35.2452,2,    239.6,2,    239.6,2,     1.56,2,     4.86,2,     0.34,2,     0.52,2,    2.525,3,    1.656,2,   2.5100,2,   -999.0,9,     -999,9,     -999,9,     -999,9,     -999,1,  13.5080,2,     -999,9,     -999,9,     -999,9,     -999,9,     -999,1,   4.9707,1,   0.0263,1,      9.9,2,     -999,9,     -999,9,     -999,9,     -999,9,20230810,0236, -31.1977,  84.9729,-999          ,9,-999          ,9
33RR20230722  ,I05        ,72      ,  1,30         ,30         ,2,20230810,0054, -31.1978,  84.9729,     4386,    151.8,2,  13.0768,2,  35.1998,2,  35.2056,2,    235.4,2,    236.0,2,     1.85,2,     6.59,2,     0.01,2,     0.58,2,     -999,9,     -999,9,     -999,9,   -999.0,9,     -999,9,     -999,9,     -999,9,     -999,1,  13.0697,2,     -999,9,     -999,9,     -999,9,     -999,9,     -999,1,   4.9696,1,   0.0143,1,     -999,9,     -999,9,     -999,9,     -999,9,     -999,9,20230810,0234, -31.1978,  84.9729,-999          ,9,-999          ,9
33RR20230722  ,I05        ,72      ,  1,29         ,29         ,2,20230810,0054, -31.1978,  84.9729,     4386,    182.7,2,  12.5773,2,  35.1230,2,  35.1248,2,    240.2,2,    240.0,2,     2.24,2,     7.62,2,     0.01,2,     0.65,2,     -999,9,     -999,9,     -999,9,   2125.0,2,   2313.0,2,   7.8313,2,    25.00,2,     -999,1,  12.5786,2,     -999,9,     -999,9,     -999,9,     -999,9,     -999,1,   4.9695,1,   0.0124,1,     -999,9,     -999,9,     -999,9,     -999,9,     -999,9,20230810,0233, -31.1977,  84.9729,-999          ,9,-999          ,9
33RR20230722  ,I05        ,72      ,  1,28         ,28         ,4,20230810,0054, -31.1978,  84.9729,     4386,    203.4,3,  12.3822,3,  35.0969,3,  34.9201,4,    242.2,3,    216.2,3,    36.69,3,    17.46,3,     0.00,3,     1.26,3,     -999,5,     -999,5,     -999,5,   -999.0,4,     -999,9,     -999,9,     -999,9,     -999,1,  12.3920,3,     -999,9,     -999,9,     -999,9,     -999,9,     -999,1,   4.9265,1,   0.0115,1,     -999,5,     -999,9,     -999,9,     -999,9,     -999,9,20230810,0231, -31.1977,  84.9729,-999          ,9,-999          ,9
33RR20230722  ,I05        ,72      ,  1,27         ,27         ,2,20230810,0054, -31.1978,  84.9729,     4386,    242.8,2,  12.1447,2,  35.0582,2,  35.0575,2,    244.4,2,    243.9,2,     2.54,2,     8.64,2,     0.00,2,     0.70,2,     -999,9,     -999,9,     -999,9,   2124.4,2,   2308.3,2,   7.8240,2,    24.99,2,     -999,1,  12.1475,2,     -999,9,     -999,9,     -999,9,     -999,9,     -999,1,   4.9122,1,   0.0117,1,     -999,9,     -999,9,     -999,9,     -999,9,     -999,9,20230810,0230, -31.1978,  84.9729,-999          ,9,-999          ,9
33RR20230722  ,I05        ,72      ,  1,26         ,26         ,2,20230810,0054, -31.1978,  84.9729,     4386,    286.1,2,  11.8925,2,  35.0205,2,  35.0203,2,    244.8,2,    243.8,2,     2.93,2,     9.50,2,     0.00,2,     0.75,2,     -999,9,     -999,9,     -999,9,   -999.0,9,     -999,9,     -999,9,     -999,9,     -999,1,  11.8921,2,     -999,9,     -999,9,     -999,9,     -999,9,     -999,1,   4.9694,1,   0.0116,1,     -999,9,     -999,9,     -999,9,     -999,9,     -999,9,20230810,0228, -31.1977,  84.9729,-999          ,9,-999          ,9
33RR20230722  ,I05        ,72      ,  1,25         ,25         ,2,20230810,0054, -31.1978,  84.9729,     4386,    342.0,2,  11.6287,2,  34.9821,2,  34.9807,2,    244.7,2,    243.6,2,     3.22,2,    10.33,2,     0.00,2,     0.80,2,    2.733,3,    1.765,2,   2.5000,2,   2125.7,2,   2305.6,2,   7.8109,2,    24.99,2,     -999,1,  11.6361,2,     -999,9,     -999,9,     -999,9,     -999,9,     -999,1,   4.9516,1,   0.0116,1,     10.3,2,     -999,9,     -999,9,     -999,9,     -999,9,20230810,0226, -31.1977,  84.9729,-999          ,9,-999          ,9
33RR20230722  ,I05        ,72      ,  1,24         ,24         ,2,20230810,0054, -31.1978,  84.9729,     4386,    403.1,2,  11.2849,2,  34.9307,2,  34.9288,2,    242.0,2,    241.6,2,     3.42,2,    11.38,2,     0.00,2,     0.86,2,     -999,9,     -999,9,     -999,9,   -999.0,9,     -999,9,     -999,9,     -999,9,     -999,1,  11.2884,2,     -999,9,     -999,9,     -999,9,     -999,9,     -999,1,   4.9679,1,   0.0116,1,     -999,9,     -999,9,     -999,9,     -999,9,     -999,9,20230810,0224, -31.1977,  84.9729,-999          ,9,-999          ,9
33RR20230722  ,I05        ,72      ,  1,23         ,23         ,2,20230810,0054, -31.1978,  84.9729,     4386,    473.5,2,  10.9076,2,  34.8783,2,  34.8808,2,    238.9,2,    238.9,2,     3.81,2,    12.63,2,     0.00,2,     0.94,2,     -999,9,     -999,9,     -999,9,   2132.5,2,   2297.1,2,   7.7906,2,    24.99,2,     -999,1,  10.9132,2,     -999,9,     -999,9,     -999,9,     -999,9,     -999,1,   4.7992,1,   0.0114,1,     -999,9,     -999,9,     -999,9,     -999,9,     -999,9,20230810,0222, -31.1977,  84.9729,-999          ,9,-999          ,9
33RR20230722  ,I05        ,72      ,  1,22         ,22         ,2,20230810,0054, -31.1978,  84.9729,     4386,    552.7,2,  10.4211,2,  34.8131,2,  34.8117,2,    235.1,2,    234.9,2,     4.10,2,    14.09,2,     0.00,2,     1.02,2,    2.914,3,    1.873,2,   2.1200,2,   -999.0,9,     -999,9,     -999,9,     -999,9,     -999,1,  10.4215,2,     -999,9,     -999,9,     -999,9,     -999,9,     -999,1,   4.9667,1,   0.0116,1,     11.5,2,     -999,9,     -999,9,     -999,9,     -999,9,20230810,0220, -31.1977,  84.9729,-999          ,9,-999          ,9
33RR20230722  ,I05        ,72      ,  1,21         ,21         ,2,20230810,0054, -31.1978,  84.9729,     4386,    643.8,2,   9.7504,2,  34.7265,2,  34.7254,2,    229.4,2,    229.4,2,     5.07,2,    16.23,2,     0.00,2,     1.16,2,     -999,9,     -999,9,     -999,9,   2142.0,2,   2288.6,2,   7.7518,2,    24.99,2,     -999,1,   9.7496,2,     -999,9,     -999,9,     -999,9,     -999,9,     -999,1,   4.9187,1,   0.0113,1,     -999,9,     -999,9,     -999,9,     -999,9,     -999,9,20230810,0217, -31.1977,  84.9729,-999          ,9,-999          ,9
33RR20230722  ,I05        ,72      ,  1,20         ,20         ,2,20230810,0054, -31.1978,  84.9729,     4386,    735.3,2,   8.9266,2,  34.6315,2,  34.6289,2,    216.8,2,    217.5,2,     8.00,2,    19.54,2,     0.00,2,     1.37,2,     -999,9,     -999,9,     -999,9,   -999.0,9,     -999,9,     -999,9,     -999,9,     -999,1,   8.9248,2,     -999,9,     -999,9,     -999,9,     -999,9,     -999,1,   4.8848,1,   0.0115,1,     -999,9,     -999,9,     -999,9,     -999,9,     -999,9,20230810,0215, -31.1978,  84.9729,-999          ,9,-999          ,9
33RR20230722  ,I05        ,72      ,  1,19         ,19         ,2,20230810,0054, -31.1978,  84.9729,     4386,    820.3,2,   7.6774,2,  34.5183,2,  34.5213,2,    205.3,2,    206.6,2,    12.88,2,    23.35,2,     0.00,2,     1.61,2,    2.736,3,    1.689,2,   1.2300,2,   2163.6,2,   2286.3,2,   7.6825,2,    24.99,2,     -999,1,   7.6938,2,     -999,9,     -999,9,     -999,9,     -999,9,     -999,1,   4.9593,1,   0.0107,1,     15.1,2,     -999,9,     -999,9,     -999,9,     -999,9,20230810,0212, -31.1977,  84.9729,-999          ,9,-999          ,9
33RR20230722  ,I05        ,72      ,  1,18         ,18         ,2,20230810,0054, -31.1978,  84.9729,     4386,    962.6,2,   5.6058,2,  34.3830,2,  34.3843,2,    199.2,2,    199.2,2,    24.89,2,    28.65,2,     0.00,2,     2.00,2,     -999,9,     -999,9,     -999,9,   -999.0,9,     -999,9,     -999,9,     -999,9,     -999,1,   5.6053,2,     -999,9,     -999,9,     -999,9,     -999,9,     -999,1,   4.9260,1,   0.0111,1,     -999,9,     -999,9,     -999,9,     -999,9,     -999,9,20230810,0209, -31.1978,  84.9729,-999          ,9,-999          ,9
33RR20230722  ,I05        ,72      ,  1,17         ,17         ,2,20230810,0054, -31.1978,  84.9729,     4386,   1054.6,2,   4.7034,2,  34.3709,2,  34.3717,2,    192.6,2,    193.0,2,    34.75,2,    30.97,2,     0.00,2,     2.14,2,     -999,9,     -999,9,     -999,9,   2206.1,2,   2302.2,2,   7.6089,2,    25.00,2,     -999,1,   4.7020,2,     -999,9,     -999,9,     -999,9,     -999,9,     -999,1,   4.8030,1,   0.0111,1,     -999,9,     -999,9,     -999,9,     -999,9,     -999,9,20230810,0206, -31.1977,  84.9729,-999          ,9,-999          ,9
33RR20230722  ,I05        ,72      ,  1,16         ,16         ,2,20230810,0054, -31.1978,  84.9729,     4386,   1193.7,2,   3.9547,2,  34.4269,2,  34.4284,2,    174.0,2,    174.1,2,    52.52,2,    33.24,2,     0.00,2,     2.36,2,    1.092,3,    0.569,2,   0.2000,2,   -999.0,9,     -999,9,     -999,9,     -999,9,     -999,1,   3.9554,2,     -999,9,     -999,9,     -999,9,     -999,9,     -999,1,   4.8446,1,   0.0112,1,     20.5,2,     -999,9,     -999,9,     -999,9,     -999,9,20230810,0203, -31.1977,  84.9729,-999          ,9,-999          ,9
33RR20230722  ,I05        ,72      ,  1,15         ,15         ,2,20230810,0054, -31.1978,  84.9729,     4386,   1312.3,2,   3.5876,2,  34.4865,2,  34.4856,2,    162.0,2,    161.9,2,    63.35,2,    34.23,2,     0.00,2,     2.41,2,     -999,9,     -999,9,     -999,9,   2245.7,6,   2339.3,2,   7.5657,6,    25.00,2,     -999,1,   3.5919,2,     -999,9,     -999,9,     -999,9,     -999,9,     -999,1,   4.9739,1,   0.0119,1,     -999,9,     -999,9,     -999,9,     -999,9,     -999,9,20230810,0200, -31.1978,  84.9729,-999          ,9,-999          ,9
33RR20230722  ,I05        ,72      ,  1,14         ,14         ,2,20230810,0054, -31.1978,  84.9729,     4386,   1410.1,2,   3.3736,2,  34.5246,2,  34.5256,2,    158.1,2,    157.8,2,    69.69,2,    34.47,2,     0.00,2,     2.44,2,     -999,9,     -999,9,     -999,9,   -999.0,9,     -999,9,     -999,9,     -999,9,     -999,1,   3.3731,2,     -999,9,     -999,9,     -999,9,     -999,9,     -999,1,   4.7989,1,   0.0118,1,     -999,9,     -999,9,     -999,9,     -999,9,     -999,9,20230810,0157, -31.1977,  84.9729,-999          ,9,-999          ,9
33RR20230722  ,I05        ,72      ,  1,13         ,13         ,2,20230810,0054, -31.1978,  84.9729,     4386,   1536.0,2,   3.1139,2,  34.5802,2,  34.5791,2,    155.8,2,    155.5,2,    76.91,2,    34.33,2,     0.00,2,     2.41,2,    0.158,3,    0.112,2,   0.0100,2,   2261.6,2,   2343.3,2,   7.5641,2,    25.00,2,     -999,1,   3.1132,2,     -999,9,     -999,9,     -999,9,     -999,9,     -999,1,   4.9751,1,   0.0118,1,     21.7,2,     -999,9,     -999,9,     -999,9,     -999,9,20230810,0154, -31.1978,  84.9729,-999          ,9,-999          ,9
33RR20230722  ,I05        ,72      ,  1,12         ,12         ,2,20230810,0054, -31.1978,  84.9729,     4386,   1616.9,2,   2.9332,2,  34.6106,2,  34.6109,2,    158.1,2,    158.0,2,    80.04,2,    34.14,2,     0.00,2,     2.41,2,     -999,9,     -999,9,     -999,9,   -999.0,9,     -999,9,     -999,9,     -999,9,     -999,1,   2.9336,2,     -999,9,     -999,9,     -999,9,     -999,9,     -999,1,   4.7607,1,   0.0119,1,     -999,9,     -999,9,     -999,9,     -999,9,     -999,9,20230810,0152, -31.1977,  84.9729,-999          ,9,-999          ,9
33RR20230722  ,I05        ,72      ,  1,11         ,11         ,2,20230810,0054, -31.1978,  84.9729,     4386,   1694.5,2,   2.8188,2,  34.6366,2,  34.6372,2,    159.9,2,    159.8,2,    82.86,2,    33.83,2,     0.00,2,     2.39,2,    0.065,3,    0.066,2,   0.0400,2,   2264.3,2,   2349.4,2,   7.5724,2,    25.00,2,     -999,1,   2.8181,2,     -999,9,     -999,9,     -999,9,     -999,9,     -999,1,   4.9747,1,   0.0118,1,     21.3,2,     -999,9,     -999,9,     -999,9,     -999,9,20230810,0150, -31.1977,  84.9729,-999          ,9,-999          ,9
33RR20230722  ,I05        ,72      ,  1,10         ,10         ,2,20230810,0054, -31.1978,  84.9729,     4386,   1891.5,2,   2.5412,2,  34.6873,2,  34.6881,2,    165.5,2,    165.7,2,    89.69,2,    33.08,2,     0.00,2,     2.32,2,     -999,9,     -999,9,     -999,9,   -999.0,9,     -999,9,     -999,9,     -999,9,     -999,1,   2.5410,2,     -999,9,     -999,9,     -999,9,     -999,9,     -999,1,   4.8655,1,   0.0110,1,     -999,9,     -999,9,     -999,9,     -999,9,     -999,9,20230810,0145, -31.1977,  84.9729,-999          ,9,-999          ,9
33RR20230722  ,I05        ,72      ,  1,9          ,9          ,2,20230810,0054, -31.1978,  84.9729,     4386,   2131.9,2,   2.2448,2,  34.7163,2,  34.7170,2,    173.7,2,    173.8,2,    95.55,2,    32.31,2,     0.00,2,     2.27,2,    0.011,3,    0.015,2,   0.0300,2,   2266.5,2,   2361.1,2,   7.5980,6,    25.01,2,     -999,1,   2.2431,2,     -999,9,     -999,9,     -999,9,     -999,9,     -999,1,   4.9038,1,   0.0111,1,     18.3,2,     -999,9,     -999,9,     -999,9,     -999,9,20230810,0140, -31.1978,  84.9729,-999          ,9,-999          ,9
33RR20230722  ,I05        ,72      ,  1,8          ,8          ,2,20230810,0054, -31.1978,  84.9729,     4386,   2334.9,2,   2.0416,2,  34.7246,2,  34.7250,2,    178.1,2,    178.5,2,   100.43,2,    32.15,2,     0.00,2,     2.26,2,     -999,9,     -999,9,     -999,9,   -999.0,9,     -999,9,     -999,9,     -999,9,     -999,1,   2.0419,2,     -999,9,     -999,9,     -999,9,     -999,9,     -999,1,   4.9186,1,   0.0113,1,     -999,9,     -999,9,     -999,9,     -999,9,     -999,9,20230810,0135, -31.1977,  84.9729,-999          ,9,-999          ,9
33RR20230722  ,I05        ,72      ,  1,7          ,7          ,2,20230810,0054, -31.1978,  84.9729,     4386,   2498.5,2,   1.9051,2,  34.7317,2,  34.7323,2,    185.5,2,    185.7,2,    99.25,2,    31.63,2,     0.00,2,     2.21,2,    0.010,4,    0.012,4,  -0.0200,4,   2265.5,2,   2363.8,6,   7.6115,2,    25.00,2,     -999,1,   1.9046,2,     -999,9,     -999,9,     -999,9,     -999,9,     -999,1,   4.9749,1,   0.0118,1,     11.5,4,     -999,9,     -999,9,     -999,9,     -999,9,20230810,0132, -31.1977,  84.9729,-999          ,9,-999          ,9
33RR20230722  ,I05        ,72      ,  1,6          ,6          ,2,20230810,0054, -31.1978,  84.9729,     4386,   3194.6,2,   1.4408,2,  34.7257,2,  34.7252,2,    192.1,2,    192.2,2,   113.50,2,    32.15,2,     0.00,2,     2.24,2,     -999,9,     -999,9,     -999,9,   -999.0,9,     -999,9,     -999,9,     -999,9,     -999,1,   1.4410,2,     -999,9,     -999,9,     -999,9,     -999,9,     -999,1,   4.7723,1,   0.0121,1,     -999,9,     -999,9,     -999,9,     -999,9,     -999,9,20230810,0119, -31.1977,  84.9729,-999          ,9,-999          ,9
33RR20230722  ,I05        ,72      ,  1,5          ,5          ,2,20230810,0054, -31.1978,  84.9729,     4386,   3443.9,2,   1.3835,2,  34.7244,2,  34.7247,2,    194.8,2,    194.9,2,   114.09,2,    32.02,2,     0.00,2,     2.23,2,    0.026,4,    0.016,4,   0.0200,4,   2271.0,2,   2373.1,2,   7.6186,2,    25.02,2,     -999,1,   1.3835,2,     -999,9,     -999,9,     -999,9,     -999,9,     -999,1,   4.9570,1,   0.0120,1,      4.2,4,     -999,9,     -999,9,     -999,9,     -999,9,20230810,0114, -31.1977,  84.9729,-999          ,9,-999          ,9
33RR20230722  ,I05        ,72      ,  1,4          ,37         ,2,20230810,0054, -31.1978,  84.9729,     4386,   3752.1,2,   1.3687,2,  34.7243,2,  34.7243,2,    197.8,2,    197.8,2,   113.89,2,    31.78,2,     0.00,2,     2.23,2,     -999,9,     -999,9,     -999,9,   -999.0,9,     -999,9,     -999,9,     -999,9,     -999,1,   1.3686,2,     -999,9,     -999,9,     -999,9,     -999,9,     -999,1,   4.6740,1,   0.0115,1,     -999,9,     -999,9,     -999,9,     -999,9,     -999,9,20230810,0108, -31.1977,  84.9729,-999          ,9,-999          ,9
33RR20230722  ,I05        ,72      ,  1,3          ,3          ,2,20230810,0054, -31.1978,  84.9729,     4386,   4105.0,2,   1.3787,2,  34.7231,2,  34.7237,2,    198.1,2,    198.3,2,   113.50,2,    31.73,2,     0.00,2,     2.23,2,    0.064,4,    0.029,4,  -0.0100,4,   2265.2,2,   2371.5,2,   7.6203,2,    25.02,2,     -999,1,   1.3787,2,     -999,9,     -999,9,     -999,9,     -999,9,     -999,1,   4.9770,1,   0.0112,1,     12.3,4,     -999,9,     -999,9,     -999,9,     -999,9,20230810,0102, -31.1977,  84.9729,-999          ,9,-999          ,9