BOTTLE,20240422CCHHYDRO
EXPOCODE,SECT_ID,STNNBR,CASTNO,SAMPNO,BTLNBR,BTLNBR_FLAG_W,DATE,TIME,LATITUDE,LONGITUDE,DEPTH,CTDPRS,CTDPRS_FLAG_W,CTDTMP,CTDTMP_FLAG_W,CTDSAL,CTDSAL_FLAG_W,SALNTY,SALNTY_FLAG_W,CTDOXY,CTDOXY_FLAG_W,OXYGEN,OXYGEN_FLAG_W,SILCAT,SILCAT_FLAG_W,NITRAT,NITRAT_FLAG_W,NITRIT,NITRIT_FLAG_W,PHSPHT,PHSPHT_FLAG_W,CFC-11,CFC-11_FLAG_W,CFC-12,CFC-12_FLAG_W,SF6,SF6_FLAG_W,TCARBN,TCARBN_FLAG_W,ALKALI,ALKALI_FLAG_W,PH_TOT,PH_TOT_FLAG_W,PH_TMP,PH_TMP_FLAG_W,DOC,DOC_FLAG_W,REFTMP,REFTMP_FLAG_W,POC,POC_FLAG_W,PON,PON_FLAG_W,POP,POP_FLAG_W,DOP,DOP_FLAG_W,DELO18,DELO18_FLAG_W,CTDFLUOR,CTDFLUOR_FLAG_W,CTDXMISS,CTDXMISS_FLAG_W,N2O,N2O_FLAG_W,D15N_NO3,D15N_NO3_FLAG_W,D15N_NO2+NO3,D15N_NO2+NO3_FLAG_W,D18O_NO2+NO3,D18O_NO2+NO3_FLAG_W,D18O_NO3,D18O_NO3_FLAG_W,BTL_DATE,BTL_TIME,BTL_LAT,BTL_LON,HPLC,HPLC_FLAG_W,DNA,DNA_FLAG_W
,,,,,,,,,,,METERS,DBAR,,ITS-90,,PSS-78,,PSS-78,,UMOL/KG,,UMOL/KG,,UMOL/KG,,UMOL/KG,,UMOL/KG,,UMOL/KG,,PMOL/KG,,PMOL/KG,,FMOL/KG,,UMOL/KG,,UMOL/KG,,,,DEG C,,UMOL/KG,,ITS-90,,UG/KG,,UG/KG,,UG/L,,UMOL/KG,,/MILLE,,VOLTS,,VOLTS,,NMOL/KG,,/MILLE,,/MILLE,,/MILLE,,/MILLE,,,,,,,,,
33RR20230722  ,I05        ,163     ,  1,36         ,38         ,2,20230902,1804, -32.9947,  41.5624,     4841,      7.1,2,  18.7515,2,  35.6954,2,  35.6889,2,    235.5,2,    234.4,2,     1.56,2,     0.00,2,     0.00,2,     0.11,2,    1.983,2,    1.269,2,   2.2300,2,   2067.1,6,   2336.0,2,   7.9796,2,    25.02,2,     -999,1,  18.7543,2,     -999,9,     -999,9,     -999,9,     -999,9,     -999,9,   4.7306,1,   0.0178,1,     10.6,2,     -999,9,     -999,9,     -999,9,     -999,9,20230902,2008, -32.9947,  41.5624,-999          ,9,-999          ,9
33RR20230722  ,I05        ,163     ,  1,35         ,35         ,2,20230902,1804, -32.9947,  41.5624,     4841,     28.6,2,  18.4913,2,  35.6964,2,  35.6929,2,    235.7,2,    234.6,2,     1.46,2,     0.00,2,     0.00,2,     0.11,2,    1.955,2,    1.258,2,   2.1500,2,   2066.0,2,   2334.1,2,   7.9801,2,    24.98,2,     -999,9,  18.4913,2,     -999,9,     -999,9,     -999,9,     -999,9,     -999,9,   4.9737,1,   0.0180,1,      8.0,2,     -999,9,     -999,9,     -999,9,     -999,9,20230902,2006, -32.9947,  41.5624,-999          ,9,-999          ,9
33RR20230722  ,I05        ,163     ,  1,34         ,34         ,2,20230902,1804, -32.9947,  41.5624,     4841,     47.3,2,  18.3434,2,  35.6990,2,  35.6960,2,    235.5,2,    235.3,2,     1.46,2,     0.00,2,     0.00,2,     0.12,2,     -999,9,     -999,9,     -999,9,   2069.8,2,   2337.7,2,   7.9765,2,    25.02,2,     -999,9,  18.3386,2,     -999,9,     -999,9,     -999,9,     -999,9,     -999,9,   4.8582,1,   0.0298,1,     -999,9,     -999,9,     -999,9,     -999,9,     -999,9,20230902,2004, -32.9947,  41.5624,-999          ,9,-999          ,9
33RR20230722  ,I05        ,163     ,  1,33         ,33         ,2,20230902,1804, -32.9947,  41.5624,     4841,     68.9,2,  18.1069,2,  35.6988,2,  35.6911,2,    237.0,2,    235.8,2,     1.56,2,     0.00,2,     0.00,2,     0.11,2,    1.641,2,    1.272,2,   2.1000,2,   2070.7,2,   2335.8,2,   7.9755,2,    25.00,2,     -999,9,  18.1076,2,     -999,9,     -999,9,     -999,9,     -999,9,     -999,9,   4.9740,1,   0.0358,1,      8.7,2,     -999,9,     -999,9,     -999,9,     -999,9,20230902,2002, -32.9947,  41.5623,-999          ,9,-999          ,9
33RR20230722  ,I05        ,163     ,  1,32         ,32         ,2,20230902,1804, -32.9947,  41.5624,     4841,     94.7,2,  18.0772,2,  35.6982,2,  35.6923,2,    234.9,2,    234.0,2,     1.56,2,     0.00,2,     0.03,2,     0.13,2,     -999,9,     -999,9,     -999,9,   2070.0,2,   2335.2,2,   7.9722,2,    25.02,2,     -999,9,  18.0756,2,     -999,9,     -999,9,     -999,9,     -999,9,     -999,9,   4.9730,1,   0.0298,1,     -999,9,     -999,9,     -999,9,     -999,9,     -999,9,20230902,2001, -32.9947,  41.5624,-999          ,9,-999          ,9
33RR20230722  ,I05        ,163     ,  1,31         ,31         ,2,20230902,1804, -32.9947,  41.5624,     4841,    120.4,2,  17.8452,2,  35.6861,2,  35.6824,2,    230.7,2,    231.0,2,     1.56,2,     0.00,2,     0.54,2,     0.16,2,    2.271,3,    1.268,2,   2.1700,2,   2074.7,2,   2336.0,2,   7.9629,2,    25.01,2,     -999,9,  17.8446,2,     -999,9,     -999,9,     -999,9,     -999,9,     -999,9,   4.9725,1,   0.0190,1,      8.8,2,     -999,9,     -999,9,     -999,9,     -999,9,20230902,1958, -32.9947,  41.5624,-999          ,9,-999          ,9
33RR20230722  ,I05        ,163     ,  1,30         ,30         ,2,20230902,1804, -32.9947,  41.5624,     4841,    152.3,2,  17.7526,2,  35.6801,2,  35.6757,2,    231.7,2,    231.8,2,     1.66,2,     0.08,2,     0.47,2,     0.15,2,     -999,9,     -999,9,     -999,9,   2077.2,2,   2335.9,2,   7.9615,2,    25.00,2,     -999,9,  17.7517,2,     -999,9,     -999,9,     -999,9,     -999,9,     -999,9,   4.9722,1,   0.0141,1,     -999,9,     -999,9,     -999,9,     -999,9,     -999,9,20230902,1957, -32.9947,  41.5624,-999          ,9,-999          ,9
33RR20230722  ,I05        ,163     ,  1,29         ,29         ,2,20230902,1804, -32.9947,  41.5624,     4841,    187.8,2,  17.7059,2,  35.6749,2,  35.6705,2,    231.6,2,    231.5,2,     1.56,2,     0.22,2,     0.39,2,     0.16,2,    2.130,6,    1.284,6,   2.1700,6,   2074.0,2,   2334.3,2,   7.9601,6,    25.01,2,     -999,9,  17.7045,2,     -999,9,     -999,9,     -999,9,     -999,9,     -999,9,   4.8674,1,   0.0128,1,      8.6,6,     -999,9,     -999,9,     -999,9,     -999,9,20230902,1955, -32.9947,  41.5624,-999          ,9,-999          ,9
33RR20230722  ,I05        ,163     ,  1,28         ,28         ,2,20230902,1804, -32.9947,  41.5624,     4841,    224.7,2,  17.3631,2,  35.6311,2,  35.6277,2,    223.5,2,    224.1,2,     2.05,2,     1.84,2,     0.00,2,     0.23,2,     -999,9,     -999,9,     -999,9,   -999.0,9,     -999,9,     -999,9,     -999,9,     -999,9,  17.3630,2,     -999,9,     -999,9,     -999,9,     -999,9,     -999,9,   4.9700,1,   0.0121,1,     -999,9,     -999,9,     -999,9,     -999,9,     -999,9,20230902,1953, -32.9947,  41.5624,-999          ,9,-999          ,9
33RR20230722  ,I05        ,163     ,  1,27         ,27         ,2,20230902,1804, -32.9947,  41.5624,     4841,    268.3,2,  16.7517,2,  35.5914,2,  35.5900,2,    216.1,2,    217.3,2,     2.63,2,     3.69,2,     0.00,2,     0.35,2,    2.150,2,    1.358,2,   2.1500,2,   2096.9,2,   2329.2,6,   7.9140,2,    25.03,2,     -999,9,  16.7522,2,     -999,9,     -999,9,     -999,9,     -999,9,     -999,9,   4.9620,1,   0.0114,1,     11.4,2,     -999,9,     -999,9,     -999,9,     -999,9,20230902,1951, -32.9947,  41.5624,-999          ,9,-999          ,9
33RR20230722  ,I05        ,163     ,  1,26         ,26         ,2,20230902,1804, -32.9947,  41.5624,     4841,    322.1,2,  15.9448,2,  35.5143,2,  35.5099,2,    211.2,2,    212.5,2,     3.02,2,     5.07,2,     0.00,2,     0.45,2,     -999,9,     -999,9,     -999,9,   -999.0,9,     -999,9,     -999,9,     -999,9,     -999,9,  15.9721,2,     -999,9,     -999,9,     -999,9,     -999,9,     -999,9,   4.9676,1,   0.0116,1,     -999,9,     -999,9,     -999,9,     -999,9,     -999,9,20230902,1949, -32.9947,  41.5624,-999          ,9,-999          ,9
33RR20230722  ,I05        ,163     ,  1,25         ,25         ,2,20230902,1804, -32.9947,  41.5624,     4841,    383.3,2,  15.1047,2,  35.4333,2,  35.4330,2,    215.5,2,    216.1,2,     3.12,2,     6.07,2,     0.00,2,     0.53,2,    2.322,2,    1.487,2,   2.1200,2,   2113.8,2,   2323.2,2,   7.8727,2,    25.03,2,     -999,9,  15.1032,2,     -999,9,     -999,9,     -999,9,     -999,9,     -999,9,   4.9675,1,   0.0117,1,     10.2,2,     -999,9,     -999,9,     -999,9,     -999,9,20230902,1947, -32.9947,  41.5624,-999          ,9,-999          ,9
33RR20230722  ,I05        ,163     ,  1,24         ,24         ,2,20230902,1804, -32.9947,  41.5624,     4841,    454.0,2,  14.0612,2,  35.3306,2,  35.3232,2,    218.0,2,    218.6,2,     3.32,2,     7.65,2,     0.00,2,     0.60,2,    2.551,2,    1.562,2,   2.1500,2,   2122.2,2,   2317.3,2,   7.8490,2,    25.00,2,     -999,9,  14.0659,2,     -999,9,     -999,9,     -999,9,     -999,9,     -999,9,   4.8975,1,   0.0114,1,     12.1,2,     -999,9,     -999,9,     -999,9,     -999,9,20230902,1944, -32.9947,  41.5624,-999          ,9,-999          ,9
33RR20230722  ,I05        ,163     ,  1,23         ,23         ,2,20230902,1804, -32.9947,  41.5624,     4841,    536.7,2,  13.3033,2,  35.2456,2,  35.2365,2,    223.3,2,    223.6,2,     3.51,2,     8.83,2,     0.00,2,     0.68,2,    2.634,2,    1.608,2,   2.1000,2,   2121.8,2,   2312.9,2,   7.8338,2,    24.99,2,     -999,9,  13.3043,2,     -999,9,     -999,9,     -999,9,     -999,9,     -999,9,   4.9669,1,   0.0116,1,     13.2,2,     -999,9,     -999,9,     -999,9,     -999,9,20230902,1942, -32.9947,  41.5624,-999          ,9,-999          ,9
33RR20230722  ,I05        ,163     ,  1,22         ,22         ,2,20230902,1804, -32.9947,  41.5624,     4841,    626.9,2,  12.4993,2,  35.1333,2,  35.1289,2,    224.4,2,    224.4,2,     3.90,2,    10.59,2,     0.00,2,     0.80,2,    2.894,2,    1.682,2,   1.9900,2,   2127.3,2,   2308.7,2,   7.8152,2,    25.01,2,     -999,9,  12.5073,2,     -999,9,     -999,9,     -999,9,     -999,9,     -999,9,   4.9276,1,   0.0116,1,     11.0,2,     -999,9,     -999,9,     -999,9,     -999,9,20230902,1939, -32.9947,  41.5624,-999          ,9,-999          ,9
33RR20230722  ,I05        ,163     ,  1,21         ,21         ,2,20230902,1804, -32.9947,  41.5624,     4841,    719.8,2,  11.3767,2,  34.9698,3,  34.9581,2,    222.2,2,    222.0,2,     4.68,2,    13.23,2,     0.00,2,     0.98,2,    2.898,2,    1.779,2,   1.8400,2,   2135.2,2,   2302.6,2,   7.7880,2,    24.98,2,     -999,9,  11.3562,2,     -999,9,     -999,9,     -999,9,     -999,9,     -999,9,   4.9666,1,   0.0113,1,     13.2,2,     -999,9,     -999,9,     -999,9,     -999,9,20230902,1936, -32.9947,  41.5624,-999          ,9,-999          ,9
33RR20230722  ,I05        ,163     ,  1,20         ,20         ,2,20230902,1804, -32.9947,  41.5624,     4841,    814.4,2,  10.1611,2,  34.7993,2,  34.7927,2,    218.2,2,    218.0,2,     6.73,2,    16.42,2,     0.00,2,     1.17,2,    3.004,2,    1.782,2,   1.6500,2,   2143.0,2,   2296.2,2,   7.7593,2,    25.00,2,     -999,9,  10.1625,2,     -999,9,     -999,9,     -999,9,     -999,9,     -999,9,   4.9292,1,   0.0114,1,     13.7,2,     -999,9,     -999,9,     -999,9,     -999,9,20230902,1934, -32.9947,  41.5624,-999          ,9,-999          ,9
33RR20230722  ,I05        ,163     ,  1,19         ,19         ,2,20230902,1804, -32.9947,  41.5624,     4841,    908.5,2,   9.1116,2,  34.6833,2,  34.6777,2,    212.8,2,    213.0,2,     9.86,2,    19.41,2,     0.00,2,     1.38,2,     -999,9,     -999,9,     -999,9,   -999.0,9,     -999,9,     -999,9,     -999,9,     -999,9,   9.1145,2,     -999,9,     -999,9,     -999,9,     -999,9,     -999,9,   4.9679,1,   0.0113,1,     -999,9,     -999,9,     -999,9,     -999,9,     -999,9,20230902,1931, -32.9947,  41.5624,-999          ,9,-999          ,9
33RR20230722  ,I05        ,163     ,  1,18         ,18         ,2,20230902,1804, -32.9947,  41.5624,     4841,   1001.4,2,   7.6901,2,  34.5433,3,  34.5356,2,    207.1,2,    206.7,2,    15.03,2,    23.48,2,     0.00,2,     1.63,2,    2.927,2,    1.626,2,   1.2400,2,   2168.4,2,   2287.3,2,   7.6823,2,    25.00,2,     -999,9,   7.6961,2,     -999,9,     -999,9,     -999,9,     -999,9,     -999,9,   4.9690,1,   0.0113,1,     16.9,2,     -999,9,     -999,9,     -999,9,     -999,9,20230902,1928, -32.9947,  41.5624,-999          ,9,-999          ,9
33RR20230722  ,I05        ,163     ,  1,17         ,17         ,2,20230902,1804, -32.9947,  41.5624,     4841,   1102.7,2,   6.3742,2,  34.4641,3,  34.4579,2,    200.4,2,    199.7,2,    23.72,2,    26.96,2,     0.00,2,     1.87,2,    2.402,2,    1.384,2,   0.8000,2,   2181.8,2,   2292.2,2,   7.6479,2,    24.97,2,     -999,9,   6.3779,2,     -999,9,     -999,9,     -999,9,     -999,9,     -999,9,   4.6665,1,   0.0112,1,     20.5,2,     -999,9,     -999,9,     -999,9,     -999,9,20230902,1926, -32.9947,  41.5624,-999          ,9,-999          ,9
33RR20230722  ,I05        ,163     ,  1,16         ,16         ,2,20230902,1804, -32.9947,  41.5624,     4841,   1214.3,2,   5.2368,2,  34.4047,3,  34.3970,2,    198.5,2,    198.5,2,    31.43,2,    29.51,2,     0.00,2,     2.04,2,     -999,9,     -999,9,     -999,9,   2196.4,2,   2296.2,2,   7.6224,2,    25.00,2,     -999,9,   5.2370,2,     -999,9,     -999,9,     -999,9,     -999,9,     -999,9,   4.6801,1,   0.0112,1,     -999,9,     -999,9,     -999,9,     -999,9,     -999,9,20230902,1923, -32.9947,  41.5624,-999          ,9,-999          ,9
33RR20230722  ,I05        ,163     ,  1,15         ,15         ,2,20230902,1804, -32.9947,  41.5624,     4841,   1336.3,2,   4.3504,2,  34.4148,3,  34.4092,2,    189.2,2,    189.4,2,    42.46,2,    31.61,2,     0.00,2,     2.20,2,    1.761,2,    0.938,2,   0.4900,2,   2211.8,2,   2305.0,2,   7.5988,2,    24.99,2,     -999,9,   4.3509,2,     -999,9,     -999,9,     -999,9,     -999,9,     -999,9,   4.6842,1,   0.0111,1,     21.2,2,     -999,9,     -999,9,     -999,9,     -999,9,20230902,1919, -32.9947,  41.5624,-999          ,9,-999          ,9
33RR20230722  ,I05        ,163     ,  1,14         ,14         ,2,20230902,1804, -32.9947,  41.5624,     4841,   1469.2,2,   3.8402,2,  34.4667,2,  34.4620,2,    177.8,2,    177.4,2,    53.10,2,    32.97,2,     0.00,2,     2.29,2,     -999,9,     -999,9,     -999,9,   -999.0,9,     -999,9,     -999,9,     -999,9,     -999,9,   3.8407,2,     -999,9,     -999,9,     -999,9,     -999,9,     -999,9,   4.9734,1,   0.0111,1,     -999,9,     -999,9,     -999,9,     -999,9,     -999,9,20230902,1916, -32.9947,  41.5624,-999          ,9,-999          ,9
33RR20230722  ,I05        ,163     ,  1,13         ,13         ,2,20230902,1804, -32.9947,  41.5624,     4841,   1607.7,2,   3.4136,2,  34.5226,3,  34.5156,2,    174.0,2,    173.8,2,    61.20,2,    33.27,2,     0.00,2,     2.31,2,    0.826,2,    0.434,2,   0.1800,2,   2238.2,2,   2324.3,2,   7.5771,2,    25.04,2,     -999,9,   3.4139,2,     -999,9,     -999,9,     -999,9,     -999,9,     -999,9,   4.9738,1,   0.0112,1,     22.9,2,     -999,9,     -999,9,     -999,9,     -999,9,20230902,1913, -32.9947,  41.5623,-999          ,9,-999          ,9
33RR20230722  ,I05        ,163     ,  1,12         ,12         ,2,20230902,1804, -32.9947,  41.5624,     4841,   1750.7,2,   3.1555,2,  34.5963,3,  34.5901,2,    171.2,2,    170.7,2,    68.51,2,    33.04,2,     0.00,2,     2.31,2,     -999,9,     -999,9,     -999,9,   -999.0,9,     -999,9,     -999,9,     -999,9,     -999,9,   3.1556,2,     -999,9,     -999,9,     -999,9,     -999,9,     -999,9,   4.9021,1,   0.0113,1,     -999,9,     -999,9,     -999,9,     -999,9,     -999,9,20230902,1909, -32.9947,  41.5624,-999          ,9,-999          ,9
33RR20230722  ,I05        ,163     ,  1,11         ,11         ,2,20230902,1804, -32.9947,  41.5624,     4841,   1912.2,2,   2.9043,2,  34.6643,2,  34.6622,2,    175.9,2,    176.1,2,    71.24,2,    32.04,2,     0.00,2,     2.23,2,    0.242,2,    0.137,2,   0.0500,2,   2246.3,2,   2336.2,2,   7.5923,2,    25.01,2,     -999,9,   2.9046,2,     -999,9,     -999,9,     -999,9,     -999,9,     -999,9,   4.8547,1,   0.0117,1,     21.4,2,     -999,9,     -999,9,     -999,9,     -999,9,20230902,1905, -32.9947,  41.5624,-999          ,9,-999          ,9
33RR20230722  ,I05        ,163     ,  1,10         ,10         ,2,20230902,1804, -32.9947,  41.5624,     4841,   2102.1,2,   2.7493,2,  34.7126,3,  34.7066,2,    182.6,2,    182.7,2,    72.51,2,    30.94,2,     0.00,2,     2.16,2,     -999,9,     -999,9,     -999,9,   -999.0,9,     -999,9,     -999,9,     -999,9,     -999,9,   2.7495,2,     -999,9,     -999,9,     -999,9,     -999,9,     -999,9,   4.9743,1,   0.0122,1,     -999,9,     -999,9,     -999,9,     -999,9,     -999,9,20230902,1901, -32.9947,  41.5624,-999          ,9,-999          ,9
33RR20230722  ,I05        ,163     ,  1,9          ,9          ,2,20230902,1804, -32.9947,  41.5624,     4841,   2327.1,2,   2.5940,2,  34.7580,3,  34.7543,2,    192.1,2,    192.7,2,    71.92,2,    29.60,2,     0.00,2,     2.06,2,    0.077,2,    0.045,2,   0.0000,2,   2237.2,2,   2344.1,2,   7.6250,2,    25.02,2,     -999,9,   2.5943,2,     -999,9,     -999,9,     -999,9,     -999,9,     -999,9,   4.8999,1,   0.0111,1,     19.1,2,     -999,9,     -999,9,     -999,9,     -999,9,20230902,1856, -32.9947,  41.5624,-999          ,9,-999          ,9
33RR20230722  ,I05        ,163     ,  1,8          ,8          ,2,20230902,1804, -32.9947,  41.5624,     4841,   2591.7,2,   2.4200,2,  34.7886,2,  34.7868,2,    202.0,2,    202.6,2,    71.33,2,    28.40,2,     0.00,2,     1.97,2,     -999,9,     -999,9,     -999,9,   -999.0,9,     -999,9,     -999,9,     -999,9,     -999,9,   2.4201,2,     -999,9,     -999,9,     -999,9,     -999,9,     -999,9,   4.9205,1,   0.0112,1,     -999,9,     -999,9,     -999,9,     -999,9,     -999,9,20230902,1851, -32.9947,  41.5624,-999          ,9,-999          ,9
33RR20230722  ,I05        ,163     ,  1,7          ,7          ,2,20230902,1804, -32.9947,  41.5624,     4841,   2893.9,2,   2.2537,2,  34.7975,3,  34.7940,2,    208.1,2,    208.4,2,    72.80,2,    27.96,2,     0.00,2,     1.94,2,    0.028,2,    0.018,2,  -0.0200,2,   2231.7,2,   2345.9,2,   7.6523,6,    24.99,2,     -999,9,   2.2549,2,     -999,9,     -999,9,     -999,9,     -999,9,     -999,9,   4.9746,1,   0.0118,1,     17.2,2,     -999,9,     -999,9,     -999,9,     -999,9,20230902,1844, -32.9947,  41.5624,-999          ,9,-999          ,9
33RR20230722  ,I05        ,163     ,  1,6          ,6          ,2,20230902,1804, -32.9947,  41.5624,     4841,   3269.6,2,   2.0672,2,  34.7953,3,  34.7917,2,    212.6,2,    212.9,2,    76.51,2,    27.92,2,     0.00,2,     1.95,2,    0.030,2,    0.019,2,   0.0200,2,   -999.0,9,     -999,9,     -999,9,     -999,9,     -999,9,   2.0674,2,     -999,9,     -999,9,     -999,9,     -999,9,     -999,9,   4.6824,1,   0.0118,1,     17.4,2,     -999,9,     -999,9,     -999,9,     -999,9,20230902,1837, -32.9947,  41.5624,-999          ,9,-999          ,9
33RR20230722  ,I05        ,163     ,  1,5          ,5          ,2,20230902,1804, -32.9947,  41.5624,     4841,   3732.0,2,   1.6341,2,  34.7697,3,  34.7646,2,    214.8,2,    215.0,2,    89.88,2,    29.04,2,     0.00,2,     2.03,2,    0.053,2,    0.032,2,  -0.0100,2,   2241.2,2,   2353.7,6,   7.6465,2,    25.01,2,     -999,9,   1.6346,2,     -999,9,     -999,9,     -999,9,     -999,9,     -999,9,   4.9756,1,   0.0112,1,     17.2,2,     -999,9,     -999,9,     -999,9,     -999,9,20230902,1828, -32.9947,  41.5624,-999          ,9,-999          ,9
33RR20230722  ,I05        ,163     ,  1,4          ,37         ,2,20230902,1804, -32.9947,  41.5624,     4841,   4190.8,2,   1.1851,2,  34.7376,2,  34.7378,2,    216.4,2,    216.7,2,   103.54,2,    30.37,2,     0.00,2,     2.13,2,    0.102,2,    0.056,2,   0.0200,2,   -999.0,9,     -999,9,     -999,9,     -999,9,     -999,9,   1.1850,2,     -999,9,     -999,9,     -999,9,     -999,9,     -999,9,   4.9763,1,   0.0110,1,     17.3,2,     -999,9,     -999,9,     -999,9,     -999,9,20230902,1820, -32.9947,  41.5624,-999          ,9,-999          ,9
33RR20230722  ,I05        ,163     ,  1,3          ,3          ,2,20230902,1804, -32.9947,  41.5624,     4841,   4537.0,2,   0.8215,2,  34.7104,2,  34.7095,2,    217.7,2,    218.0,2,   115.84,2,    31.49,2,     0.00,2,     2.20,2,    0.167,2,    0.090,2,   0.0100,2,   2259.6,2,   2364.0,2,   7.6239,6,    25.01,2,     -999,9,   0.8231,2,     -999,9,     -999,9,     -999,9,     -999,9,     -999,9,   4.8060,1,   0.0119,1,     17.3,2,     -999,9,     -999,9,     -999,9,     -999,9,20230902,1813, -32.9947,  41.5624,-999          ,9,-999          ,9