BOTTLE,20240422CCHHYDRO
EXPOCODE,SECT_ID,STNNBR,CASTNO,SAMPNO,BTLNBR,BTLNBR_FLAG_W,DATE,TIME,LATITUDE,LONGITUDE,DEPTH,CTDPRS,CTDPRS_FLAG_W,CTDTMP,CTDTMP_FLAG_W,CTDSAL,CTDSAL_FLAG_W,SALNTY,SALNTY_FLAG_W,CTDOXY,CTDOXY_FLAG_W,OXYGEN,OXYGEN_FLAG_W,SILCAT,SILCAT_FLAG_W,NITRAT,NITRAT_FLAG_W,NITRIT,NITRIT_FLAG_W,PHSPHT,PHSPHT_FLAG_W,CFC-11,CFC-11_FLAG_W,CFC-12,CFC-12_FLAG_W,SF6,SF6_FLAG_W,TCARBN,TCARBN_FLAG_W,ALKALI,ALKALI_FLAG_W,PH_TOT,PH_TOT_FLAG_W,PH_TMP,PH_TMP_FLAG_W,DOC,DOC_FLAG_W,REFTMP,REFTMP_FLAG_W,POC,POC_FLAG_W,PON,PON_FLAG_W,POP,POP_FLAG_W,DOP,DOP_FLAG_W,DELO18,DELO18_FLAG_W,CTDFLUOR,CTDFLUOR_FLAG_W,CTDXMISS,CTDXMISS_FLAG_W,N2O,N2O_FLAG_W,D15N_NO3,D15N_NO3_FLAG_W,D15N_NO2+NO3,D15N_NO2+NO3_FLAG_W,D18O_NO2+NO3,D18O_NO2+NO3_FLAG_W,D18O_NO3,D18O_NO3_FLAG_W,BTL_DATE,BTL_TIME,BTL_LAT,BTL_LON,HPLC,HPLC_FLAG_W,DNA,DNA_FLAG_W
,,,,,,,,,,,METERS,DBAR,,ITS-90,,PSS-78,,PSS-78,,UMOL/KG,,UMOL/KG,,UMOL/KG,,UMOL/KG,,UMOL/KG,,UMOL/KG,,PMOL/KG,,PMOL/KG,,FMOL/KG,,UMOL/KG,,UMOL/KG,,,,DEG C,,UMOL/KG,,ITS-90,,UG/KG,,UG/KG,,UG/L,,UMOL/KG,,/MILLE,,VOLTS,,VOLTS,,NMOL/KG,,/MILLE,,/MILLE,,/MILLE,,/MILLE,,,,,,,,,
33RR20230722  ,I05        ,23      ,  1,36         ,36         ,2,20230728,1924, -31.0850, 105.4582,     5186,      5.9,2,  16.4053,2,  35.7970,2,     -999,9,    240.7,2,     -999,9,     -999,9,     -999,9,     -999,9,     -999,9,     -999,9,     -999,9,     -999,9,   -999.0,9,     -999,9,     -999,9,     -999,9,     -999,9,  16.4049,2,     -999,1,     -999,1,     -999,9,     -999,9,     -999,9,   4.9750,1,   0.0319,1,     -999,9,     -999,9,     -999,9,     -999,9,     -999,9,20230728,2129, -31.0850, 105.4582,-999          ,1,-999          ,9
33RR20230722  ,I05        ,23      ,  1,35         ,35         ,2,20230728,1924, -31.0850, 105.4582,     5186,      5.9,2,  16.4038,2,  35.7972,2,  35.7973,2,    240.7,2,    239.9,2,     1.56,2,     0.20,2,     0.03,2,     0.12,2,    2.345,2,    1.378,2,   2.2000,2,   2098.6,2,   2350.1,2,   7.9536,2,    25.00,2,     -999,1,  16.4038,2,     -999,9,     -999,9,     -999,9,     -999,9,     -999,1,   4.9675,1,   0.0327,1,      8.2,2,     -999,9,     -999,9,     -999,9,     -999,9,20230728,2129, -31.0850, 105.4583,-999          ,9,-999          ,9
33RR20230722  ,I05        ,23      ,  1,34         ,34         ,2,20230728,1924, -31.0850, 105.4582,     5186,     20.1,2,  16.3987,2,  35.7971,2,  35.7959,2,    240.7,2,    240.1,2,     1.27,2,     0.15,2,     0.03,2,     0.13,2,     -999,9,     -999,9,     -999,9,   -999.0,9,     -999,9,     -999,9,     -999,9,     -999,9,  16.3979,2,     -999,9,     -999,9,     -999,9,     -999,9,     -999,1,   4.9746,1,   0.0338,1,     -999,9,     -999,9,     -999,9,     -999,9,     -999,9,20230728,2127, -31.0850, 105.4582,-999          ,9,-999          ,9
33RR20230722  ,I05        ,23      ,  1,33         ,33         ,2,20230728,1924, -31.0850, 105.4582,     5186,     34.7,2,  16.4097,2,  35.7977,2,  35.7961,2,    240.6,2,    239.9,2,     1.27,2,     0.14,2,     0.03,2,     0.10,2,    2.342,6,    1.366,6,   2.2600,6,   2099.8,2,   2348.4,2,   7.9544,2,    25.00,2,     -999,9,  16.4063,2,     -999,9,     -999,9,     -999,9,     -999,9,     -999,1,   4.9749,1,   0.0356,1,      8.2,6,     -999,9,     -999,9,     -999,9,     -999,9,20230728,2126, -31.0850, 105.4582,-999          ,9,-999          ,9
33RR20230722  ,I05        ,23      ,  1,32         ,32         ,2,20230728,1924, -31.0850, 105.4582,     5186,     59.1,2,  16.3816,2,  35.7966,2,  35.7963,2,    240.5,2,    240.0,2,     1.27,2,     0.11,2,     0.03,2,     0.10,2,     -999,9,     -999,9,     -999,9,   2099.7,2,   2350.5,2,   7.9547,2,    24.98,2,     -999,9,  16.3804,2,     -999,9,     -999,9,     -999,9,     -999,9,     -999,1,   4.9744,1,   0.0299,1,     -999,9,     -999,9,     -999,9,     -999,9,     -999,9,20230728,2124, -31.0850, 105.4582,-999          ,9,-999          ,9
33RR20230722  ,I05        ,23      ,  1,31         ,31         ,2,20230728,1924, -31.0850, 105.4582,     5186,     84.7,2,  16.3640,2,  35.7988,2,     -999,9,    240.5,2,     -999,9,     -999,9,     -999,9,     -999,9,     -999,9,     -999,9,     -999,9,     -999,9,   -999.0,9,     -999,9,     -999,9,     -999,9,     -999,9,     -999,1,     -999,1,     -999,1,     -999,9,     -999,9,     -999,9,   4.9192,1,   0.0303,1,     -999,9,     -999,9,     -999,9,     -999,9,     -999,9,20230728,2122, -31.0850, 105.4582,-999          ,1,-999          ,9
33RR20230722  ,I05        ,23      ,  1,30         ,30         ,2,20230728,1924, -31.0850, 105.4582,     5186,     84.8,2,  16.3586,2,  35.7980,2,  35.7975,2,    240.6,2,    240.1,2,     1.27,2,     0.10,2,     0.03,2,     0.10,2,    2.322,2,    1.370,2,   2.2200,2,   2094.6,2,   2350.3,2,   7.9526,2,    24.99,2,     -999,9,  16.3615,2,     -999,9,     -999,9,     -999,9,     -999,9,     -999,1,   4.8989,1,   0.0293,1,      8.0,2,     -999,9,     -999,9,     -999,9,     -999,9,20230728,2122, -31.0850, 105.4583,-999          ,9,-999          ,9
33RR20230722  ,I05        ,23      ,  1,29         ,29         ,2,20230728,1924, -31.0850, 105.4582,     5186,    115.1,2,  16.2731,2,  35.7788,2,  35.7791,2,    239.1,2,    239.5,2,     1.27,2,     0.22,2,     0.05,2,     0.12,2,     -999,9,     -999,9,     -999,9,   2097.3,2,   2347.4,2,   7.9489,2,    25.00,2,     -999,9,  16.2712,2,     -999,9,     -999,9,     -999,9,     -999,9,     -999,1,   4.9739,1,   0.0264,1,     -999,9,     -999,9,     -999,9,     -999,9,     -999,9,20230728,2120, -31.0850, 105.4583,-999          ,9,-999          ,9
33RR20230722  ,I05        ,23      ,  1,28         ,28         ,2,20230728,1924, -31.0850, 105.4582,     5186,    149.6,2,  15.9889,2,  35.7564,2,  35.7535,2,    242.4,2,    242.2,2,     1.27,2,     0.25,2,     0.05,2,     0.11,2,    2.380,2,    1.399,2,   2.2300,2,   2099.9,2,   2349.1,2,   7.9468,2,    25.00,2,     -999,9,  15.9923,2,     -999,9,     -999,9,     -999,9,     -999,9,     -999,1,   4.9738,1,   0.0382,1,      8.3,2,     -999,9,     -999,9,     -999,9,     -999,9,20230728,2118, -31.0850, 105.4583,-999          ,9,-999          ,9
33RR20230722  ,I05        ,23      ,  1,27         ,27         ,2,20230728,1924, -31.0850, 105.4582,     5186,    173.3,2,  15.8957,2,  35.7385,2,  35.7426,2,    240.5,2,    241.7,2,     1.27,2,     0.33,2,     0.05,2,     0.12,2,     -999,9,     -999,9,     -999,9,   2098.9,2,   2346.6,2,   7.9388,6,    24.99,2,     -999,9,  15.8957,2,     -999,9,     -999,9,     -999,9,     -999,9,     -999,1,   4.9735,1,   0.0292,1,     -999,9,     -999,9,     -999,9,     -999,9,     -999,9,20230728,2117, -31.0850, 105.4582,-999          ,9,-999          ,9
33RR20230722  ,I05        ,23      ,  1,26         ,26         ,2,20230728,1924, -31.0850, 105.4582,     5186,    195.5,2,  14.2837,2,  35.4052,2,  35.4117,2,    232.1,2,    234.0,2,     1.17,2,     3.56,2,     0.01,2,     0.34,2,    2.406,2,    1.549,2,   2.4100,2,   2117.3,2,   2329.2,2,   7.8864,2,    25.00,2,     -999,9,  14.2946,2,     -999,9,     -999,9,     -999,9,     -999,9,     -999,1,   4.9704,1,   0.0125,1,      9.5,2,     -999,9,     -999,9,     -999,9,     -999,9,20230728,2115, -31.0850, 105.4583,-999          ,9,-999          ,9
33RR20230722  ,I05        ,23      ,  1,25         ,25         ,2,20230728,1924, -31.0850, 105.4582,     5186,    221.6,2,  13.3742,2,  35.2934,2,  35.2854,2,    234.7,2,    236.6,2,     1.37,2,     5.59,2,     0.01,2,     0.47,2,     -999,9,     -999,9,     -999,9,   2122.1,6,   2322.0,2,   7.8585,2,    24.99,2,     -999,9,  13.3698,2,     -999,9,     -999,9,     -999,9,     -999,9,     -999,1,   4.9696,1,   0.0117,1,     -999,9,     -999,9,     -999,9,     -999,9,     -999,9,20230728,2114, -31.0850, 105.4583,-999          ,9,-999          ,9
33RR20230722  ,I05        ,23      ,  1,24         ,24         ,2,20230728,1924, -31.0850, 105.4582,     5186,    253.4,2,  12.6212,2,  35.1764,2,  35.1784,2,    239.6,2,    240.2,2,     1.66,2,     6.90,2,     0.00,2,     0.57,2,    2.577,2,    1.679,2,   2.5100,2,   2128.2,2,   2316.0,2,   7.8414,6,    25.00,2,     -999,9,  12.6182,2,     -999,9,     -999,9,     -999,9,     -999,9,     -999,1,   4.9694,1,   0.0114,1,     11.1,2,     -999,9,     -999,9,     -999,9,     -999,9,20230728,2112, -31.0850, 105.4583,-999          ,9,-999          ,9
33RR20230722  ,I05        ,23      ,  1,23         ,23         ,2,20230728,1924, -31.0850, 105.4582,     5186,    291.1,2,  11.8377,2,  35.0395,2,  35.0423,2,    244.1,2,    244.1,2,     1.95,2,     8.58,2,     0.00,2,     0.67,2,     -999,9,     -999,9,     -999,9,   2130.2,2,   2309.1,6,   7.8223,2,    25.01,2,     -999,9,  11.8262,2,     -999,9,     -999,9,     -999,9,     -999,9,     -999,1,   4.9694,1,   0.0115,1,     -999,9,     -999,9,     -999,9,     -999,9,     -999,9,20230728,2111, -31.0850, 105.4583,-999          ,9,-999          ,9
33RR20230722  ,I05        ,23      ,  1,22         ,22         ,2,20230728,1924, -31.0850, 105.4582,     5186,    337.5,2,  10.9437,2,  34.8815,2,  34.8821,2,    247.7,2,    247.1,2,     2.54,2,    10.70,2,     0.00,2,     0.80,2,    2.803,2,    1.799,2,   2.5300,2,   -999.0,9,     -999,9,     -999,9,     -999,9,     -999,9,  10.9562,2,     -999,9,     -999,9,     -999,9,     -999,9,     -999,1,   4.9024,1,   0.0115,1,     11.9,2,     -999,9,     -999,9,     -999,9,     -999,9,20230728,2109, -31.0850, 105.4582,-999          ,9,-999          ,9
33RR20230722  ,I05        ,23      ,  1,21         ,21         ,2,20230728,1924, -31.0850, 105.4582,     5186,    400.4,2,  10.3404,2,  34.7807,2,  34.7805,2,    247.9,2,    246.6,2,     3.22,2,    12.63,2,     0.00,2,     0.92,2,    2.872,2,    1.859,2,   2.5400,2,   2133.0,2,   2296.7,2,   7.7850,2,    24.99,2,     -999,9,  10.3477,2,     -999,9,     -999,9,     -999,9,     -999,9,     -999,1,   4.9681,1,   0.0116,1,     11.8,2,     -999,9,     -999,9,     -999,9,     -999,9,20230728,2107, -31.0850, 105.4583,-999          ,9,-999          ,9
33RR20230722  ,I05        ,23      ,  1,20         ,20         ,2,20230728,1924, -31.0850, 105.4582,     5186,    515.4,2,   9.7107,2,  34.7210,2,  34.7223,2,    237.2,2,    236.9,2,     4.20,2,    15.57,2,     0.00,2,     1.10,2,    3.015,2,    1.928,2,   2.2500,2,   2142.0,2,   2291.9,2,   7.7526,2,    25.00,2,     -999,9,   9.7227,2,     -999,9,     -999,9,     -999,9,     -999,9,     -999,1,   4.9668,1,   0.0116,1,     13.2,2,     -999,9,     -999,9,     -999,9,     -999,9,20230728,2104, -31.0851, 105.4582,-999          ,9,-999          ,9
33RR20230722  ,I05        ,23      ,  1,19         ,19         ,2,20230728,1924, -31.0850, 105.4582,     5186,    611.5,2,   9.3134,2,  34.6730,2,  34.6737,2,    238.1,2,    237.7,2,     4.49,2,    16.66,2,     0.00,2,     1.17,2,    3.076,2,    1.963,2,   2.1900,2,   2143.6,2,   2285.9,2,   7.7451,6,    25.00,2,     -999,9,   9.3039,2,     -999,9,     -999,9,     -999,9,     -999,9,     -999,1,   4.9666,1,   0.0115,1,     13.2,2,     -999,9,     -999,9,     -999,9,     -999,9,20230728,2101, -31.0850, 105.4582,-999          ,9,-999          ,9
33RR20230722  ,I05        ,23      ,  1,18         ,18         ,2,20230728,1924, -31.0850, 105.4582,     5186,    682.9,2,   8.8730,2,  34.6174,2,  34.6183,2,    231.5,2,    231.9,2,     5.96,2,    18.34,2,     0.00,2,     1.27,2,    3.028,2,    1.913,2,   1.9700,2,   -999.0,9,     -999,9,     -999,9,     -999,9,     -999,9,   8.8490,2,     -999,9,     -999,9,     -999,9,     -999,9,     -999,1,   4.9665,1,   0.0114,1,     13.3,2,     -999,9,     -999,9,     -999,9,     -999,9,20230728,2059, -31.0850, 105.4583,-999          ,9,-999          ,9
33RR20230722  ,I05        ,23      ,  1,17         ,17         ,2,20230728,1924, -31.0850, 105.4582,     5186,    798.0,2,   7.5144,2,  34.4947,2,  34.4950,2,    205.7,2,    206.8,2,    12.99,2,    23.80,2,     0.00,2,     1.62,2,     -999,9,     -999,9,     -999,9,   2165.7,2,   2283.9,2,   7.6775,2,    25.01,2,     -999,9,   7.5128,2,     -999,9,     -999,9,     -999,9,     -999,9,     -999,1,   4.3708,1,   0.0113,1,     -999,9,     -999,9,     -999,9,     -999,9,     -999,9,20230728,2056, -31.0851, 105.4583,-999          ,9,-999          ,9
33RR20230722  ,I05        ,23      ,  1,16         ,16         ,2,20230728,1924, -31.0850, 105.4582,     5186,    972.8,2,   4.7138,2,  34.3647,2,  34.3637,2,    195.3,2,    195.5,2,    33.10,2,    30.56,2,     0.00,2,     2.11,2,     -999,5,     -999,5,     -999,5,   2202.9,2,   2294.3,2,   7.6103,2,    24.99,2,     -999,9,   4.7211,2,     -999,9,     -999,9,     -999,9,     -999,9,     -999,1,   4.9709,1,   0.0112,1,     -999,5,     -999,9,     -999,9,     -999,9,     -999,9,20230728,2052, -31.0850, 105.4583,-999          ,9,-999          ,9
33RR20230722  ,I05        ,23      ,  1,15         ,15         ,2,20230728,1924, -31.0850, 105.4582,     5186,   1068.9,2,   4.0574,2,  34.4071,2,  34.4084,2,    179.8,2,    181.0,2,    47.55,2,    32.75,2,     0.00,2,     2.26,2,     -999,9,     -999,9,     -999,9,   2224.1,2,   2309.4,2,   7.5812,2,    25.01,2,     -999,9,   4.0510,2,     -999,9,     -999,9,     -999,9,     -999,9,     -999,1,   4.9722,1,   0.0113,1,     -999,9,     -999,9,     -999,9,     -999,9,     -999,9,20230728,2049, -31.0850, 105.4583,-999          ,9,-999          ,9
33RR20230722  ,I05        ,23      ,  1,14         ,14         ,2,20230728,1924, -31.0850, 105.4582,     5186,   1198.4,2,   3.7965,2,  34.4984,2,  34.4964,2,    154.2,2,    154.7,2,    65.51,2,    34.51,2,     0.00,2,     2.44,2,    0.571,2,    0.287,2,   0.0400,2,   -999.0,9,     -999,9,     -999,9,     -999,9,     -999,9,   3.7944,2,     -999,9,     -999,9,     -999,9,     -999,9,     -999,1,   4.9705,1,   0.0114,1,     23.8,2,     -999,9,     -999,9,     -999,9,     -999,9,20230728,2046, -31.0850, 105.4582,-999          ,9,-999          ,9
33RR20230722  ,I05        ,23      ,  1,13         ,13         ,2,20230728,1924, -31.0850, 105.4582,     5186,   1395.2,2,   3.2683,2,  34.5635,2,  34.5641,2,    150.5,2,    149.8,2,    77.33,2,    35.01,2,     0.00,2,     2.45,2,    0.200,2,    0.105,2,   0.0600,2,   2264.6,6,   2340.5,2,   7.5558,2,    25.01,2,     -999,9,   3.2694,2,     -999,9,     -999,9,     -999,9,     -999,9,     -999,1,   4.9747,1,   0.0120,1,     22.8,2,     -999,9,     -999,9,     -999,9,     -999,9,20230728,2041, -31.0850, 105.4583,-999          ,9,-999          ,9
33RR20230722  ,I05        ,23      ,  1,12         ,12         ,2,20230728,1924, -31.0850, 105.4582,     5186,   1513.2,2,   3.0705,2,  34.5973,2,  34.5985,2,    150.9,2,    150.5,2,    81.91,2,    34.89,2,     0.00,2,     2.45,2,    0.054,2,    0.067,2,  -0.0400,2,   -999.0,9,     -999,9,     -999,9,     -999,9,     -999,9,   3.0711,2,     -999,9,     -999,9,     -999,9,     -999,9,     -999,1,   4.9496,1,   0.0112,1,     23.7,2,     -999,9,     -999,9,     -999,9,     -999,9,20230728,2038, -31.0850, 105.4582,-999          ,9,-999          ,9
33RR20230722  ,I05        ,23      ,  1,11         ,11         ,2,20230728,1924, -31.0850, 105.4582,     5186,   1598.3,2,   2.9391,2,  34.6236,2,  34.6240,2,    151.7,2,    151.6,2,    85.23,2,    34.66,2,     0.00,2,     2.41,2,     -999,9,     -999,9,     -999,9,   2271.5,2,   2350.8,2,   7.5625,6,    25.00,2,     -999,9,   2.9413,2,     -999,9,     -999,9,     -999,9,     -999,9,     -999,1,   4.9752,1,   0.0117,1,     -999,9,     -999,9,     -999,9,     -999,9,     -999,9,20230728,2036, -31.0851, 105.4583,-999          ,9,-999          ,9
33RR20230722  ,I05        ,23      ,  1,10         ,10         ,2,20230728,1924, -31.0850, 105.4582,     5186,   1908.2,2,   2.5625,2,  34.6892,2,  34.6871,2,    157.5,2,    157.6,2,    94.11,2,    33.88,2,     0.00,2,     2.37,2,    0.004,2,    0.009,2,  -0.0200,2,   2278.0,2,   2362.8,6,   7.5761,2,    24.99,2,     -999,9,   2.5610,2,     -999,9,     -999,9,     -999,9,     -999,9,     -999,1,   4.8964,1,   0.0118,1,     22.9,2,     -999,9,     -999,9,     -999,9,     -999,9,20230728,2029, -31.0850, 105.4582,-999          ,9,-999          ,9
33RR20230722  ,I05        ,23      ,  1,9          ,9          ,2,20230728,1924, -31.0850, 105.4582,     5186,   2160.1,2,   2.2862,2,  34.7184,3,  34.7150,2,    163.0,2,    163.0,2,   102.99,2,    33.46,2,     0.00,2,     2.34,2,    0.002,2,    0.005,2,  -0.0500,2,   2281.4,2,   2370.5,2,   7.5875,2,    25.00,2,     -999,9,   2.2867,2,     -999,9,     -999,9,     -999,9,     -999,9,     -999,1,   4.9489,1,   0.0113,1,     21.8,2,     -999,9,     -999,9,     -999,9,     -999,9,20230728,2024, -31.0850, 105.4583,-999          ,9,-999          ,9
33RR20230722  ,I05        ,23      ,  1,8          ,8          ,2,20230728,1924, -31.0850, 105.4582,     5186,   2360.7,2,   2.1050,2,  34.7223,2,  34.7233,2,    166.9,2,    167.1,2,   107.68,2,    33.22,2,     0.00,2,     2.33,2,     -999,9,     -999,9,     -999,9,   -999.0,9,     -999,9,     -999,9,     -999,9,     -999,9,   2.1053,2,     -999,9,     -999,9,     -999,9,     -999,9,     -999,1,   4.9757,1,   0.0117,1,     -999,9,     -999,9,     -999,9,     -999,9,     -999,9,20230728,2020, -31.0850, 105.4583,-999          ,9,-999          ,9
33RR20230722  ,I05        ,23      ,  1,7          ,7          ,2,20230728,1924, -31.0850, 105.4582,     5186,   2704.7,2,   1.8679,2,  34.7263,2,  34.7268,2,    173.8,2,    174.1,2,   111.87,2,    32.92,2,     0.00,2,     2.30,2,    0.001,2,    0.003,2,  -0.0400,2,   2283.6,2,   2378.9,2,   7.6009,2,    25.01,2,     -999,9,   1.8680,2,     -999,9,     -999,9,     -999,9,     -999,9,     -999,1,   4.9756,1,   0.0111,1,     20.6,2,     -999,9,     -999,9,     -999,9,     -999,9,20230728,2013, -31.0851, 105.4582,-999          ,9,-999          ,9
33RR20230722  ,I05        ,23      ,  1,6          ,6          ,2,20230728,1924, -31.0850, 105.4582,     5186,   3221.1,2,   1.5582,2,  34.7264,2,  34.7278,2,    186.1,2,    186.2,2,   117.44,2,    32.07,2,     0.00,2,     2.28,2,    0.002,2,    0.005,2,  -0.0200,2,   2279.6,2,   2375.4,2,   7.6114,2,    25.00,2,     -999,9,   1.5582,2,     -999,9,     -999,9,     -999,9,     -999,9,     -999,1,   4.8898,1,   0.0111,1,     19.5,2,     -999,9,     -999,9,     -999,9,     -999,9,20230728,2003, -31.0850, 105.4583,-999          ,9,-999          ,9
33RR20230722  ,I05        ,23      ,  1,5          ,5          ,2,20230728,1924, -31.0850, 105.4582,     5186,   3589.7,2,   1.3582,2,  34.7212,3,  34.7243,2,    191.2,2,    191.4,2,   120.56,2,    32.36,2,     0.00,2,     2.28,2,    0.012,2,    0.007,2,  -0.0200,2,   2278.6,2,   2377.8,2,   7.6168,2,    24.99,2,     -999,9,   1.3595,2,     -999,9,     -999,9,     -999,9,     -999,9,     -999,1,   4.9762,1,   0.0112,1,     19.5,2,     -999,9,     -999,9,     -999,9,     -999,9,20230728,1956, -31.0850, 105.4583,-999          ,9,-999          ,9
33RR20230722  ,I05        ,23      ,  1,4          ,37         ,2,20230728,1924, -31.0850, 105.4582,     5186,   4141.1,2,   1.1858,2,  34.7154,2,  34.7158,2,    196.5,2,    196.6,2,   121.54,2,    32.48,2,     0.00,2,     2.26,2,    0.004,2,    0.011,2,  -0.0500,2,   -999.0,9,     -999,9,     -999,9,     -999,9,     -999,9,   1.1873,2,     -999,9,     -999,9,     -999,9,     -999,9,     -999,1,   4.9766,1,   0.0112,1,     18.8,2,     -999,9,     -999,9,     -999,9,     -999,9,20230728,1946, -31.0850, 105.4583,-999          ,9,-999          ,9
33RR20230722  ,I05        ,23      ,  1,3          ,3          ,2,20230728,1924, -31.0850, 105.4582,     5186,   4641.3,2,   1.0773,2,  34.7103,2,  34.7097,2,    203.6,2,    203.8,2,   121.64,2,    32.31,2,     0.00,2,     2.25,2,    0.032,4,    0.032,4,  -0.0300,4,   2271.4,2,   2372.7,2,   7.6206,2,    24.99,2,     -999,9,   1.0780,2,     -999,9,     -999,9,     -999,9,     -999,9,     -999,1,   4.6675,1,   0.0116,1,     18.1,2,     -999,9,     -999,9,     -999,9,     -999,9,20230728,1937, -31.0850, 105.4583,-999          ,9,-999          ,9