BOTTLE,20240422CCHHYDRO
EXPOCODE,SECT_ID,STNNBR,CASTNO,SAMPNO,BTLNBR,BTLNBR_FLAG_W,DATE,TIME,LATITUDE,LONGITUDE,DEPTH,CTDPRS,CTDPRS_FLAG_W,CTDTMP,CTDTMP_FLAG_W,CTDSAL,CTDSAL_FLAG_W,SALNTY,SALNTY_FLAG_W,CTDOXY,CTDOXY_FLAG_W,OXYGEN,OXYGEN_FLAG_W,SILCAT,SILCAT_FLAG_W,NITRAT,NITRAT_FLAG_W,NITRIT,NITRIT_FLAG_W,PHSPHT,PHSPHT_FLAG_W,CFC-11,CFC-11_FLAG_W,CFC-12,CFC-12_FLAG_W,SF6,SF6_FLAG_W,TCARBN,TCARBN_FLAG_W,ALKALI,ALKALI_FLAG_W,PH_TOT,PH_TOT_FLAG_W,PH_TMP,PH_TMP_FLAG_W,DOC,DOC_FLAG_W,REFTMP,REFTMP_FLAG_W,POC,POC_FLAG_W,PON,PON_FLAG_W,POP,POP_FLAG_W,DOP,DOP_FLAG_W,DELO18,DELO18_FLAG_W,CTDFLUOR,CTDFLUOR_FLAG_W,CTDXMISS,CTDXMISS_FLAG_W,N2O,N2O_FLAG_W,D15N_NO3,D15N_NO3_FLAG_W,D15N_NO2+NO3,D15N_NO2+NO3_FLAG_W,D18O_NO2+NO3,D18O_NO2+NO3_FLAG_W,D18O_NO3,D18O_NO3_FLAG_W,BTL_DATE,BTL_TIME,BTL_LAT,BTL_LON,HPLC,HPLC_FLAG_W,DNA,DNA_FLAG_W
,,,,,,,,,,,METERS,DBAR,,ITS-90,,PSS-78,,PSS-78,,UMOL/KG,,UMOL/KG,,UMOL/KG,,UMOL/KG,,UMOL/KG,,UMOL/KG,,PMOL/KG,,PMOL/KG,,FMOL/KG,,UMOL/KG,,UMOL/KG,,,,DEG C,,UMOL/KG,,ITS-90,,UG/KG,,UG/KG,,UG/L,,UMOL/KG,,/MILLE,,VOLTS,,VOLTS,,NMOL/KG,,/MILLE,,/MILLE,,/MILLE,,/MILLE,,,,,,,,,
33RR20230722  ,I05        ,38      ,  1,30         ,30         ,4,20230801,0159, -32.3707, 100.6231,     2424,      8.7,3,  17.0148,3,  35.8334,3,  35.6127,4,    237.5,3,    232.2,3,     6.24,3,     3.73,3,     0.01,3,     0.38,3,    2.324,3,    1.317,3,   2.2400,3,   2106.9,4,   2341.7,3,   7.9190,3,    25.00,3,     -999,1,  17.0117,3,     -999,9,     -999,9,     -999,9,     -999,9,     -999,1,   4.7041,1,   0.0303,1,      9.7,3,     -999,9,     -999,9,     -999,9,     -999,9,20230801,0309, -32.3707, 100.6231,-999          ,9,-999          ,9
33RR20230722  ,I05        ,38      ,  1,29         ,29         ,2,20230801,0159, -32.3707, 100.6231,     2424,     20.9,2,  17.0132,2,  35.8324,2,  35.8368,2,    237.3,2,    237.8,2,     1.95,2,     0.02,2,     0.01,2,     0.11,2,    2.382,2,    1.326,2,   2.3300,2,   2091.1,2,   2349.9,2,   7.9643,2,    24.98,2,     -999,1,  17.0141,2,     -999,9,     -999,9,     -999,9,     -999,9,     -999,1,   4.9749,1,   0.0305,1,      8.1,2,     -999,9,     -999,9,     -999,9,     -999,9,20230801,0307, -32.3707, 100.6230,-999          ,9,-999          ,9
33RR20230722  ,I05        ,38      ,  1,28         ,28         ,2,20230801,0159, -32.3707, 100.6231,     2424,     38.8,2,  17.0184,2,  35.8325,2,  35.8333,2,    237.5,2,    237.9,2,     2.05,2,     0.01,2,     0.01,2,     0.10,2,     -999,9,     -999,9,     -999,9,   -999.0,9,     -999,9,     -999,9,     -999,9,     -999,1,  17.0180,2,     -999,9,     -999,9,     -999,9,     -999,9,     -999,1,   4.9748,1,   0.0291,1,     -999,9,     -999,9,     -999,9,     -999,9,     -999,9,20230801,0306, -32.3707, 100.6231,-999          ,9,-999          ,9
33RR20230722  ,I05        ,38      ,  1,27         ,27         ,2,20230801,0159, -32.3707, 100.6231,     2424,     60.4,2,  17.0283,2,  35.8365,2,  35.8358,2,    237.2,2,    237.6,2,     1.66,2,     0.00,2,     0.01,2,     0.10,2,    2.384,2,    1.324,2,   2.2700,2,   2091.8,2,   2348.6,2,   7.9634,2,    25.01,2,     -999,1,  17.0271,2,     -999,9,     -999,9,     -999,9,     -999,9,     -999,1,   4.9746,1,   0.0299,1,      8.1,2,     -999,9,     -999,9,     -999,9,     -999,9,20230801,0304, -32.3707, 100.6231,-999          ,9,-999          ,9
33RR20230722  ,I05        ,38      ,  1,26         ,26         ,2,20230801,0159, -32.3707, 100.6231,     2424,     74.3,2,  17.0212,2,  35.8342,2,  35.8339,2,    236.9,2,    237.3,2,     1.17,2,     0.02,2,     0.01,2,     0.10,2,     -999,9,     -999,9,     -999,9,   -999.0,9,     -999,9,     -999,9,     -999,9,     -999,1,  17.0115,2,     -999,9,     -999,9,     -999,9,     -999,9,     -999,1,   4.9746,1,   0.0297,1,     -999,9,     -999,9,     -999,9,     -999,9,     -999,9,20230801,0303, -32.3707, 100.6231,-999          ,9,-999          ,9
33RR20230722  ,I05        ,38      ,  1,25         ,25         ,2,20230801,0159, -32.3707, 100.6231,     2424,     96.8,2,  16.4679,2,  35.7504,2,  35.7543,2,    235.0,2,    236.1,2,     1.66,2,     0.36,2,     0.09,2,     0.16,2,     -999,9,     -999,9,     -999,9,   2103.2,2,   2347.2,2,   7.9417,6,    24.98,2,     -999,1,  16.4708,2,     -999,9,     -999,9,     -999,9,     -999,9,     -999,1,   4.9274,1,   0.0201,1,     -999,9,     -999,9,     -999,9,     -999,9,     -999,9,20230801,0301, -32.3707, 100.6231,-999          ,9,-999          ,9
33RR20230722  ,I05        ,38      ,  1,24         ,24         ,2,20230801,0159, -32.3707, 100.6231,     2424,    120.3,2,  15.6494,2,  35.6304,2,  35.6401,2,    231.8,2,    233.0,2,     1.66,2,     1.56,2,     0.11,2,     0.25,2,    2.366,6,    1.439,6,   2.3900,6,   -999.0,9,     -999,9,     -999,9,     -999,9,     -999,1,  15.6642,2,     -999,9,     -999,9,     -999,9,     -999,9,     -999,1,   4.9719,1,   0.0181,1,      8.8,6,     -999,9,     -999,9,     -999,9,     -999,9,20230801,0300, -32.3707, 100.6230,-999          ,9,-999          ,9
33RR20230722  ,I05        ,38      ,  1,23         ,23         ,2,20230801,0159, -32.3707, 100.6231,     2424,    142.7,2,  15.0552,2,  35.5584,2,  35.5478,2,    233.1,2,    234.7,2,     1.56,2,     2.53,2,     0.06,2,     0.30,2,     -999,9,     -999,9,     -999,9,   2112.6,2,   2337.2,2,   7.9012,2,    24.99,2,     -999,1,  15.0447,2,     -999,9,     -999,9,     -999,9,     -999,9,     -999,1,   4.9715,1,   0.0154,1,     -999,9,     -999,9,     -999,9,     -999,9,     -999,9,20230801,0258, -32.3707, 100.6231,-999          ,9,-999          ,9
33RR20230722  ,I05        ,38      ,  1,22         ,22         ,2,20230801,0159, -32.3707, 100.6231,     2424,    174.0,2,  14.1478,2,  35.4389,2,  35.4397,2,    232.3,2,    232.9,2,     1.85,2,     4.21,2,     0.01,2,     0.41,2,     -999,9,     -999,9,     -999,9,   2123.3,2,   2329.5,2,   7.8736,2,    25.00,2,     -999,1,  14.1502,2,     -999,9,     -999,9,     -999,9,     -999,9,     -999,1,   4.9701,1,   0.0143,1,     -999,9,     -999,9,     -999,9,     -999,9,     -999,9,20230801,0257, -32.3707, 100.6231,-999          ,9,-999          ,9
33RR20230722  ,I05        ,38      ,  1,21         ,21         ,2,20230801,0159, -32.3707, 100.6231,     2424,    204.4,2,  13.4363,2,  35.3215,2,  35.3283,2,    234.9,2,    235.2,2,     1.85,2,     5.35,2,     0.00,2,     0.49,2,    2.560,2,    1.593,2,   2.5900,2,   2124.5,2,   2322.8,2,   7.8577,2,    25.00,2,     -999,1,  13.4547,2,     -999,9,     -999,9,     -999,9,     -999,9,     -999,1,   4.9696,1,   0.0125,1,     10.6,2,     -999,9,     -999,9,     -999,9,     -999,9,20230801,0255, -32.3707, 100.6231,-999          ,9,-999          ,9
33RR20230722  ,I05        ,38      ,  1,20         ,20         ,2,20230801,0159, -32.3707, 100.6231,     2424,    234.2,2,  12.9774,2,  35.2400,2,  35.2426,2,    237.1,2,    237.7,2,     1.95,2,     6.22,2,     0.00,2,     0.54,2,     -999,9,     -999,9,     -999,9,   -999.0,9,     -999,9,     -999,9,     -999,9,     -999,1,  12.9780,2,     -999,9,     -999,9,     -999,9,     -999,9,     -999,1,   4.9695,1,   0.0114,1,     -999,9,     -999,9,     -999,9,     -999,9,     -999,9,20230801,0254, -32.3707, 100.6230,-999          ,9,-999          ,9
33RR20230722  ,I05        ,38      ,  1,19         ,19         ,2,20230801,0159, -32.3707, 100.6231,     2424,    266.3,2,  12.3491,2,  35.1303,2,  35.1293,2,    242.0,2,    242.3,2,     2.24,2,     7.44,2,     0.00,2,     0.62,2,     -999,9,     -999,9,     -999,9,   2127.5,2,   2314.2,2,   7.8330,2,    24.98,2,     -999,1,  12.3311,2,     -999,9,     -999,9,     -999,9,     -999,9,     -999,1,   4.9184,1,   0.0114,1,     -999,9,     -999,9,     -999,9,     -999,9,     -999,9,20230801,0252, -32.3707, 100.6231,-999          ,9,-999          ,9
33RR20230722  ,I05        ,38      ,  1,18         ,18         ,2,20230801,0159, -32.3707, 100.6231,     2424,    305.6,2,  11.7214,2,  35.0201,2,  35.0321,2,    243.7,2,    242.9,2,     2.54,2,     8.77,2,     0.00,2,     0.71,2,    2.784,2,    1.733,2,   2.5900,2,   -999.0,9,     -999,9,     -999,9,     -999,9,     -999,1,  11.7754,2,     -999,9,     -999,9,     -999,9,     -999,9,     -999,1,   4.9692,1,   0.0116,1,     11.8,2,     -999,9,     -999,9,     -999,9,     -999,9,20230801,0251, -32.3707, 100.6231,-999          ,9,-999          ,9
33RR20230722  ,I05        ,38      ,  1,17         ,17         ,2,20230801,0159, -32.3707, 100.6231,     2424,    352.4,2,  11.1203,2,  34.9188,2,  34.9197,2,    245.4,2,    244.8,2,     3.02,2,    10.57,2,     0.00,2,     0.83,2,     -999,9,     -999,9,     -999,9,   2129.9,2,   2301.3,2,   7.8024,2,    24.98,2,     -999,1,  11.1204,2,     -999,9,     -999,9,     -999,9,     -999,9,     -999,1,   4.9688,1,   0.0115,1,     -999,9,     -999,9,     -999,9,     -999,9,     -999,9,20230801,0249, -32.3707, 100.6231,-999          ,9,-999          ,9
33RR20230722  ,I05        ,38      ,  1,16         ,16         ,2,20230801,0159, -32.3707, 100.6231,     2424,    417.3,2,  10.4435,2,  34.8027,2,  34.8117,2,    247.2,2,    247.2,2,     3.22,2,    12.12,2,     0.00,2,     0.91,2,    2.979,2,    1.827,2,   2.7600,2,   -999.0,9,     -999,9,     -999,9,     -999,9,     -999,1,  10.4949,2,     -999,9,     -999,9,     -999,9,     -999,9,     -999,1,   4.8888,1,   0.0115,1,     12.1,2,     -999,9,     -999,9,     -999,9,     -999,9,20230801,0247, -32.3707, 100.6231,-999          ,9,-999          ,9
33RR20230722  ,I05        ,38      ,  1,15         ,15         ,2,20230801,0159, -32.3707, 100.6231,     2424,    458.7,2,  10.1692,2,  34.7593,2,  34.7590,2,    245.3,2,    245.6,2,     3.71,2,    13.32,2,     0.00,2,     0.97,2,     -999,9,     -999,9,     -999,9,   2136.4,2,   2291.1,2,   7.7765,2,    24.97,2,     -999,1,  10.1611,2,     -999,9,     -999,9,     -999,9,     -999,9,     -999,1,   4.9677,1,   0.0114,1,     -999,9,     -999,9,     -999,9,     -999,9,     -999,9,20230801,0246, -32.3707, 100.6231,-999          ,9,-999          ,9
33RR20230722  ,I05        ,38      ,  1,14         ,14         ,2,20230801,0159, -32.3707, 100.6231,     2424,    531.5,2,   9.7242,2,  34.7203,2,  34.7207,2,    236.4,2,    236.7,2,     4.39,2,    15.52,2,     0.00,2,     1.10,2,    3.115,2,    1.912,2,   2.3000,2,   -999.0,9,     -999,9,     -999,9,     -999,9,     -999,1,   9.7249,2,     -999,9,     -999,9,     -999,9,     -999,9,     -999,1,   4.9668,1,   0.0113,1,     13.7,2,     -999,9,     -999,9,     -999,9,     -999,9,20230801,0244, -32.3707, 100.6230,-999          ,9,-999          ,9
33RR20230722  ,I05        ,38      ,  1,13         ,13         ,2,20230801,0159, -32.3707, 100.6231,     2424,    616.2,2,   9.1579,2,  34.6536,2,  34.6541,2,    235.0,2,    235.4,2,     5.27,2,    17.24,2,     0.00,2,     1.21,2,     -999,9,     -999,9,     -999,9,   2148.1,2,   2285.7,2,   7.7417,2,    24.98,2,     -999,1,   9.1580,2,     -999,9,     -999,9,     -999,9,     -999,9,     -999,1,   4.9667,1,   0.0113,1,     -999,9,     -999,9,     -999,9,     -999,9,     -999,9,20230801,0241, -32.3707, 100.6231,-999          ,9,-999          ,9
33RR20230722  ,I05        ,38      ,  1,12         ,12         ,2,20230801,0159, -32.3707, 100.6231,     2424,    698.5,2,   8.3766,2,  34.5664,2,  34.5667,2,    220.4,2,    221.2,2,     8.39,2,    20.45,2,     0.00,2,     1.41,2,     -999,9,     -999,9,     -999,9,   -999.0,9,     -999,9,     -999,9,     -999,9,     -999,1,   8.3856,2,     -999,9,     -999,9,     -999,9,     -999,9,     -999,1,   4.9340,1,   0.0114,1,     -999,9,     -999,9,     -999,9,     -999,9,     -999,9,20230801,0239, -32.3707, 100.6231,-999          ,9,-999          ,9
33RR20230722  ,I05        ,38      ,  1,11         ,11         ,2,20230801,0159, -32.3707, 100.6231,     2424,    852.3,2,   6.2478,2,  34.4187,2,  34.4194,2,    196.4,2,    197.6,2,    21.76,2,    27.32,2,     0.00,2,     1.90,2,    2.329,2,    1.285,2,   0.8200,2,   2185.7,2,   2288.5,2,   7.6420,2,    24.99,2,     -999,1,   6.2584,2,     -999,9,     -999,9,     -999,9,     -999,9,     -999,1,   4.9279,1,   0.0112,1,     18.6,2,     -999,9,     -999,9,     -999,9,     -999,9,20230801,0235, -32.3706, 100.6230,-999          ,9,-999          ,9
33RR20230722  ,I05        ,38      ,  1,10         ,10         ,2,20230801,0159, -32.3707, 100.6231,     2424,    955.1,2,   4.9173,2,  34.3808,2,  34.3815,2,    189.9,2,    190.7,2,    34.65,2,    30.65,2,     0.00,2,     2.14,2,     -999,9,     -999,9,     -999,9,   -999.0,9,     -999,9,     -999,9,     -999,9,     -999,1,   4.9147,2,     -999,9,     -999,9,     -999,9,     -999,9,     -999,1,   4.9705,1,   0.0113,1,     -999,9,     -999,9,     -999,9,     -999,9,     -999,9,20230801,0233, -32.3706, 100.6230,-999          ,9,-999          ,9
33RR20230722  ,I05        ,38      ,  1,9          ,9          ,2,20230801,0159, -32.3707, 100.6231,     2424,   1041.3,2,   4.2377,2,  34.3925,2,  34.3935,2,    183.5,2,    184.3,2,    44.21,2,    32.14,2,     0.00,2,     2.23,2,    1.472,2,    0.774,2,   0.4000,2,   2219.8,6,   2307.1,2,   7.5941,6,    24.98,2,     -999,1,   4.2374,2,     -999,9,     -999,9,     -999,9,     -999,9,     -999,1,   4.9714,1,   0.0112,1,     21.1,2,     -999,9,     -999,9,     -999,9,     -999,9,20230801,0230, -32.3706, 100.6229,-999          ,9,-999          ,9
33RR20230722  ,I05        ,38      ,  1,8          ,8          ,2,20230801,0159, -32.3707, 100.6231,     2424,   1147.0,2,   3.8504,2,  34.4529,2,  34.4536,2,    166.7,2,    167.1,2,    58.26,2,    33.71,2,     0.00,2,     2.36,2,     -999,9,     -999,9,     -999,9,   -999.0,9,     -999,9,     -999,9,     -999,9,     -999,1,   3.8496,2,     -999,9,     -999,9,     -999,9,     -999,9,     -999,1,   4.9706,1,   0.0111,1,     -999,9,     -999,9,     -999,9,     -999,9,     -999,9,20230801,0227, -32.3707, 100.6230,-999          ,9,-999          ,9
33RR20230722  ,I05        ,38      ,  1,7          ,7          ,2,20230801,0159, -32.3707, 100.6231,     2424,   1235.4,2,   3.6515,2,  34.4916,2,  34.4915,2,    158.7,2,    158.4,2,    65.68,2,    34.38,2,     0.00,2,     2.42,2,    0.571,2,    0.287,2,   0.1400,2,   2252.2,2,   2326.9,2,   7.5656,6,    24.98,2,     -999,1,   3.6539,2,     -999,9,     -999,9,     -999,9,     -999,9,     -999,1,   4.9735,1,   0.0111,1,     23.7,2,     -999,9,     -999,9,     -999,9,     -999,9,20230801,0225, -32.3706, 100.6229,-999          ,9,-999          ,9
33RR20230722  ,I05        ,38      ,  1,6          ,6          ,2,20230801,0159, -32.3707, 100.6231,     2424,   1335.9,2,   3.4290,2,  34.5273,2,  34.5274,2,    154.4,2,    154.0,2,    72.41,2,    34.66,2,     0.00,2,     2.45,2,     -999,9,     -999,9,     -999,9,   -999.0,9,     -999,9,     -999,9,     -999,9,     -999,1,   3.4296,2,     -999,9,     -999,9,     -999,9,     -999,9,     -999,1,   4.9255,1,   0.0117,1,     -999,9,     -999,9,     -999,9,     -999,9,     -999,9,20230801,0222, -32.3706, 100.6230,-999          ,9,-999          ,9
33RR20230722  ,I05        ,38      ,  1,5          ,5          ,2,20230801,0159, -32.3707, 100.6231,     2424,   1441.0,2,   3.2149,2,  34.5669,2,  34.5679,2,    152.3,2,    151.8,2,    78.46,2,    34.76,2,     0.00,2,     2.47,2,    0.207,2,    0.102,2,   0.0400,2,   2268.8,2,   2341.4,6,   7.5607,2,    24.99,2,     -999,1,   3.2156,2,     -999,9,     -999,9,     -999,9,     -999,9,     -999,1,   4.9742,1,   0.0122,1,     23.8,2,     -999,9,     -999,9,     -999,9,     -999,9,20230801,0219, -32.3706, 100.6229,-999          ,9,-999          ,9
33RR20230722  ,I05        ,38      ,  1,4          ,37         ,2,20230801,0159, -32.3707, 100.6231,     2424,   1691.2,2,   2.8100,2,  34.6485,2,  34.6492,2,    153.8,2,    153.4,2,    90.36,2,    34.31,2,     0.00,2,     2.43,2,     -999,9,     -999,9,     -999,9,   -999.0,9,     -999,9,     -999,9,     -999,9,     -999,1,   2.8103,2,     -999,9,     -999,9,     -999,9,     -999,9,     -999,1,   4.8717,1,   0.0117,1,     -999,9,     -999,9,     -999,9,     -999,9,     -999,9,20230801,0214, -32.3706, 100.6230,-999          ,9,-999          ,9
33RR20230722  ,I05        ,38      ,  1,3          ,3          ,2,20230801,0159, -32.3707, 100.6231,     2424,   1936.5,2,   2.5143,2,  34.6927,2,  34.6928,2,    161.2,2,    160.9,2,    96.99,2,    33.63,2,     0.00,2,     2.38,2,    0.010,2,    0.017,2,   0.0000,2,   2277.4,2,   2363.6,2,   7.5819,2,    24.99,2,     -999,1,   2.5136,2,     -999,9,     -999,9,     -999,9,     -999,9,     -999,1,   4.9743,1,   0.0115,1,     22.7,2,     -999,9,     -999,9,     -999,9,     -999,9,20230801,0209, -32.3707, 100.6230,-999          ,9,-999          ,9
33RR20230722  ,I05        ,38      ,  1,2          ,2          ,2,20230801,0159, -32.3707, 100.6231,     2424,   2171.9,2,   2.3204,2,  34.7103,2,  34.7099,2,    171.2,2,    171.2,2,    96.01,2,    32.72,2,     0.00,2,     2.31,2,    0.033,2,    0.022,2,   0.0600,2,   2271.7,2,   2367.1,2,   7.5939,2,    24.98,2,     -999,1,   2.3211,2,     -999,9,     -999,9,     -999,9,     -999,9,     -999,1,   4.9739,1,   0.0114,1,     20.1,2,     -999,9,     -999,9,     -999,9,     -999,9,20230801,0204, -32.3706, 100.6230,-999          ,9,-999          ,9
33RR20230722  ,I05        ,38      ,  1,1          ,1          ,2,20230801,0159, -32.3707, 100.6231,     2424,   2443.1,2,   2.1588,2,  34.7239,2,  34.7239,2,    179.4,2,    179.1,2,    95.92,2,    32.05,2,     0.00,2,     2.25,2,    0.030,2,    0.024,2,   0.0700,2,   1984.5,4,   2358.5,2,   7.6022,2,    24.98,2,     -999,1,   2.1590,2,     -999,9,     -999,9,     -999,9,     -999,9,     -999,1,   0.5986,1,   0.0119,1,     20.7,2,     -999,9,     -999,9,     -999,9,     -999,9,20230801,0159, -32.3707, 100.6230,-999          ,9,-999          ,9