BOTTLE,20240422CCHHYDRO
EXPOCODE,SECT_ID,STNNBR,CASTNO,SAMPNO,BTLNBR,BTLNBR_FLAG_W,DATE,TIME,LATITUDE,LONGITUDE,DEPTH,CTDPRS,CTDPRS_FLAG_W,CTDTMP,CTDTMP_FLAG_W,CTDSAL,CTDSAL_FLAG_W,SALNTY,SALNTY_FLAG_W,CTDOXY,CTDOXY_FLAG_W,OXYGEN,OXYGEN_FLAG_W,SILCAT,SILCAT_FLAG_W,NITRAT,NITRAT_FLAG_W,NITRIT,NITRIT_FLAG_W,PHSPHT,PHSPHT_FLAG_W,CFC-11,CFC-11_FLAG_W,CFC-12,CFC-12_FLAG_W,SF6,SF6_FLAG_W,TCARBN,TCARBN_FLAG_W,ALKALI,ALKALI_FLAG_W,PH_TOT,PH_TOT_FLAG_W,PH_TMP,PH_TMP_FLAG_W,DOC,DOC_FLAG_W,REFTMP,REFTMP_FLAG_W,POC,POC_FLAG_W,PON,PON_FLAG_W,POP,POP_FLAG_W,DOP,DOP_FLAG_W,DELO18,DELO18_FLAG_W,CTDFLUOR,CTDFLUOR_FLAG_W,CTDXMISS,CTDXMISS_FLAG_W,N2O,N2O_FLAG_W,D15N_NO3,D15N_NO3_FLAG_W,D15N_NO2+NO3,D15N_NO2+NO3_FLAG_W,D18O_NO2+NO3,D18O_NO2+NO3_FLAG_W,D18O_NO3,D18O_NO3_FLAG_W,BTL_DATE,BTL_TIME,BTL_LAT,BTL_LON,HPLC,HPLC_FLAG_W,DNA,DNA_FLAG_W
,,,,,,,,,,,METERS,DBAR,,ITS-90,,PSS-78,,PSS-78,,UMOL/KG,,UMOL/KG,,UMOL/KG,,UMOL/KG,,UMOL/KG,,UMOL/KG,,PMOL/KG,,PMOL/KG,,FMOL/KG,,UMOL/KG,,UMOL/KG,,,,DEG C,,UMOL/KG,,ITS-90,,UG/KG,,UG/KG,,UG/L,,UMOL/KG,,/MILLE,,VOLTS,,VOLTS,,NMOL/KG,,/MILLE,,/MILLE,,/MILLE,,/MILLE,,,,,,,,,
33RR20230722  ,I05        ,121     ,  1,36         ,38         ,2,20230823,1440, -33.9978,  59.9791,     4941,      3.8,2,  16.4502,2,  35.5961,2,  35.5942,2,    245.6,2,    245.0,2,     1.37,2,     0.05,2,     0.02,2,     0.17,2,    2.152,2,    1.368,2,   2.3200,2,   2083.6,2,   2337.4,2,   7.9484,2,    25.02,2,     -999,1,  16.4493,2,     -999,9,     -999,9,     -999,9,     -999,9,     -999,1,   4.8883,1,   0.0519,1,      8.1,2,     -999,9,     -999,9,     -999,9,     -999,9,20230823,1646, -33.9978,  59.9791,-999          ,9,-999          ,9
33RR20230722  ,I05        ,121     ,  1,35         ,35         ,2,20230823,1440, -33.9978,  59.9791,     4941,     23.8,2,  16.3223,2,  35.5845,2,  35.5817,2,    246.2,2,    246.1,2,     1.37,2,     0.02,2,     0.03,2,     0.17,2,     -999,9,     -999,9,     -999,9,   2083.1,6,   2334.0,2,   7.9470,2,    25.02,2,     -999,9,  16.3219,2,     -999,9,     -999,9,     -999,9,     -999,9,     -999,1,   4.9752,1,   0.0553,1,     -999,9,     -999,9,     -999,9,     -999,9,     -999,9,20230823,1643, -33.9978,  59.9790,-999          ,9,-999          ,9
33RR20230722  ,I05        ,121     ,  1,34         ,34         ,2,20230823,1440, -33.9978,  59.9791,     4941,     42.7,2,  16.2585,2,  35.5763,2,  35.5738,2,    244.6,2,    245.1,2,     1.46,2,     0.06,2,     0.03,2,     0.18,2,     -999,9,     -999,9,     -999,9,   2085.2,2,   2335.7,2,   7.9454,2,    25.00,2,     -999,9,  16.2505,2,     -999,9,     -999,9,     -999,9,     -999,9,     -999,1,   4.9749,1,   0.0666,1,     -999,9,     -999,9,     -999,9,     -999,9,     -999,9,20230823,1642, -33.9978,  59.9791,-999          ,9,-999          ,9
33RR20230722  ,I05        ,121     ,  1,33         ,33         ,2,20230823,1440, -33.9978,  59.9791,     4941,     63.2,2,  16.1868,2,  35.5676,2,  35.5654,2,    244.3,2,    244.6,2,     1.56,2,     0.16,2,     0.05,2,     0.19,2,    2.023,2,    1.376,2,   2.3200,2,   2086.7,2,   2336.1,2,   7.9435,6,    25.01,2,     -999,9,  16.1863,2,     -999,9,     -999,9,     -999,9,     -999,9,     -999,1,   4.8519,1,   0.0521,1,      8.2,2,     -999,9,     -999,9,     -999,9,     -999,9,20230823,1640, -33.9978,  59.9790,-999          ,9,-999          ,9
33RR20230722  ,I05        ,121     ,  1,32         ,32         ,2,20230823,1440, -33.9978,  59.9791,     4941,     88.5,2,  15.9352,2,  35.5303,2,  35.5324,2,    245.8,2,    245.2,2,     1.56,2,     0.39,2,     0.08,2,     0.20,2,     -999,9,     -999,9,     -999,9,   2088.2,2,   2332.7,2,   7.9371,2,    25.01,2,     -999,9,  15.9310,2,     -999,9,     -999,9,     -999,9,     -999,9,     -999,1,   4.9743,1,   0.0396,1,     -999,9,     -999,9,     -999,9,     -999,9,     -999,9,20230823,1638, -33.9979,  59.9791,-999          ,9,-999          ,9
33RR20230722  ,I05        ,121     ,  1,31         ,31         ,2,20230823,1440, -33.9978,  59.9791,     4941,    115.2,2,  15.3785,2,  35.4491,2,  35.4506,2,    248.4,2,    247.1,2,     1.76,2,     1.11,2,     0.16,2,     0.26,2,    2.218,2,    1.446,2,   2.3700,2,   2090.1,2,   2327.1,2,   7.9227,2,    24.96,2,     -999,9,  15.3866,2,     -999,9,     -999,9,     -999,9,     -999,9,     -999,1,   4.9739,1,   0.0269,1,      8.6,2,     -999,9,     -999,9,     -999,9,     -999,9,20230823,1636, -33.9979,  59.9790,-999          ,9,-999          ,9
33RR20230722  ,I05        ,121     ,  1,30         ,30         ,2,20230823,1440, -33.9978,  59.9791,     4941,    142.0,2,  15.0961,2,  35.4232,2,  35.4235,2,    248.3,2,    246.2,2,     1.85,2,     1.71,2,     0.20,2,     0.30,2,     -999,9,     -999,9,     -999,9,   -999.0,9,     -999,9,     -999,9,     -999,9,     -999,9,  15.0957,2,     -999,9,     -999,9,     -999,9,     -999,9,     -999,1,   4.3748,1,   0.0226,1,     -999,9,     -999,9,     -999,9,     -999,9,     -999,9,20230823,1634, -33.9979,  59.9790,-999          ,9,-999          ,9
33RR20230722  ,I05        ,121     ,  1,29         ,29         ,2,20230823,1440, -33.9978,  59.9791,     4941,    173.1,2,  14.8794,2,  35.4314,2,  35.4324,2,    231.6,3,    234.3,2,     2.44,2,     4.05,2,     0.06,2,     0.42,2,    2.189,2,    1.470,2,   2.3900,2,   2106.1,2,   2324.9,2,   7.8896,2,    24.98,2,     -999,9,  14.8805,2,     -999,9,     -999,9,     -999,9,     -999,9,     -999,1,   4.9649,1,   0.0127,1,      9.3,2,     -999,9,     -999,9,     -999,9,     -999,9,20230823,1632, -33.9978,  59.9790,-999          ,9,-999          ,9
33RR20230722  ,I05        ,121     ,  1,28         ,28         ,4,20230823,1440, -33.9978,  59.9791,     4941,    205.1,3,  14.2664,3,  35.3718,3,  35.4237,4,    225.9,3,    246.3,3,     1.95,3,     1.72,3,     0.20,3,     0.28,3,     -999,9,     -999,9,     -999,9,   -999.0,4,     -999,9,     -999,9,     -999,9,     -999,9,  14.2647,3,     -999,9,     -999,9,     -999,9,     -999,9,     -999,1,   4.9692,1,   0.0119,1,     -999,9,     -999,9,     -999,9,     -999,9,     -999,9,20230823,1630, -33.9979,  59.9791,-999          ,9,-999          ,9
33RR20230722  ,I05        ,121     ,  1,27         ,27         ,2,20230823,1440, -33.9978,  59.9791,     4941,    240.5,2,  13.9922,2,  35.3444,2,  35.3423,2,    227.9,2,    229.6,2,     3.32,2,     6.76,2,     0.02,2,     0.57,2,    2.335,2,    1.558,2,   2.3400,2,   2119.1,2,   2320.9,6,   7.8674,2,    24.96,2,     -999,9,  13.9914,2,     -999,9,     -999,9,     -999,9,     -999,9,     -999,1,   4.9687,1,   0.0115,1,     10.2,2,     -999,9,     -999,9,     -999,9,     -999,9,20230823,1629, -33.9978,  59.9791,-999          ,9,-999          ,9
33RR20230722  ,I05        ,121     ,  1,26         ,26         ,2,20230823,1440, -33.9978,  59.9791,     4941,    282.5,2,  13.7391,2,  35.3155,2,  35.3131,2,    231.4,2,    232.0,2,     3.32,2,     7.10,2,     0.02,2,     0.59,2,     -999,9,     -999,9,     -999,9,   -999.0,9,     -999,9,     -999,9,     -999,9,     -999,9,  13.7388,2,     -999,9,     -999,9,     -999,9,     -999,9,     -999,1,   4.9689,1,   0.0120,1,     -999,9,     -999,9,     -999,9,     -999,9,     -999,9,20230823,1627, -33.9978,  59.9790,-999          ,9,-999          ,9
33RR20230722  ,I05        ,121     ,  1,25         ,25         ,2,20230823,1440, -33.9978,  59.9791,     4941,    331.1,2,  13.5121,2,  35.2869,2,  35.2846,2,    234.0,2,    234.2,2,     3.41,2,     7.49,2,     0.02,2,     0.61,2,    2.367,2,    1.575,2,   2.3700,2,   2119.4,2,   2317.4,2,   7.8511,6,    25.01,2,     -999,9,  13.5125,2,     -999,9,     -999,9,     -999,9,     -999,9,     -999,1,   4.9687,1,   0.0115,1,     10.1,2,     -999,9,     -999,9,     -999,9,     -999,9,20230823,1625, -33.9978,  59.9791,-999          ,9,-999          ,9
33RR20230722  ,I05        ,121     ,  1,24         ,24         ,2,20230823,1440, -33.9978,  59.9791,     4941,    390.4,2,  13.1412,2,  35.2344,2,  35.2325,2,    233.9,2,    233.9,2,     3.41,2,     8.31,2,     0.00,2,     0.64,2,    2.344,2,    1.613,2,   2.4000,2,   2121.2,2,   2315.8,2,   7.8401,2,    24.98,2,     -999,9,  13.1386,2,     -999,9,     -999,9,     -999,9,     -999,9,     -999,1,   4.9528,1,   0.0114,1,     10.2,2,     -999,9,     -999,9,     -999,9,     -999,9,20230823,1622, -33.9978,  59.9791,-999          ,9,-999          ,9
33RR20230722  ,I05        ,121     ,  1,23         ,23         ,4,20230823,1440, -33.9978,  59.9791,     4941,    458.8,3,  12.7674,3,  35.1760,3,     -999,9,    231.5,3,     -999,9,     -999,9,     -999,9,     -999,9,     -999,9,     -999,9,     -999,9,     -999,9,   -999.0,4,     -999,9,     -999,9,     -999,9,     -999,9,  12.7660,3,     -999,9,     -999,9,     -999,9,     -999,9,     -999,9,   4.8636,1,   0.0115,1,     -999,9,     -999,9,     -999,9,     -999,9,     -999,9,20230823,1620, -33.9978,  59.9791,-999          ,9,-999          ,9
33RR20230722  ,I05        ,121     ,  1,22         ,22         ,2,20230823,1440, -33.9978,  59.9791,     4941,    537.5,2,  12.1391,2,  35.0751,2,  35.0758,2,    233.0,2,    232.6,2,     3.61,2,    10.58,2,     0.00,2,     0.79,2,    2.699,2,    1.707,2,   2.2100,2,   2128.2,2,   2308.4,2,   7.8148,2,    24.95,2,     -999,9,  12.1462,2,     -999,9,     -999,9,     -999,9,     -999,9,     -999,1,   4.9280,1,   0.0112,1,     10.8,2,     -999,9,     -999,9,     -999,9,     -999,9,20230823,1617, -33.9978,  59.9790,-999          ,9,-999          ,9
33RR20230722  ,I05        ,121     ,  1,21         ,21         ,2,20230823,1440, -33.9978,  59.9791,     4941,    627.6,2,  11.3564,2,  34.9551,2,  34.9543,2,    228.9,2,    228.6,2,     4.29,2,    12.78,2,     0.00,2,     0.94,2,    2.828,2,    1.777,2,   2.0600,2,   2133.8,2,   2303.1,2,   7.7919,2,    24.96,2,     -999,9,  11.3569,2,     -999,9,     -999,9,     -999,9,     -999,9,     -999,1,   4.9666,1,   0.0115,1,     11.5,2,     -999,9,     -999,9,     -999,9,     -999,9,20230823,1615, -33.9978,  59.9790,-999          ,9,-999          ,9
33RR20230722  ,I05        ,121     ,  1,20         ,20         ,2,20230823,1440, -33.9978,  59.9791,     4941,    726.1,2,  10.2984,2,  34.8083,2,  34.8074,2,    222.6,2,    222.7,2,     5.66,2,    15.74,2,     0.00,2,     1.10,2,    2.953,2,    1.827,2,   1.7400,2,   2142.1,2,   2297.1,2,   7.7635,6,    24.97,2,     -999,9,  10.2951,2,     -999,9,     -999,9,     -999,9,     -999,9,     -999,1,   4.9667,1,   0.0116,1,     12.7,2,     -999,9,     -999,9,     -999,9,     -999,9,20230823,1612, -33.9978,  59.9790,-999          ,9,-999          ,9
33RR20230722  ,I05        ,121     ,  1,19         ,19         ,2,20230823,1440, -33.9978,  59.9791,     4941,    836.8,2,   8.9360,2,  34.6462,2,  34.6535,2,    213.6,2,    214.1,2,     8.98,2,    19.77,2,     0.00,2,     1.36,2,    3.031,2,    1.806,2,   1.4800,2,   2150.6,2,   2292.8,2,   7.7217,2,    24.99,2,     -999,9,   8.9255,2,     -999,9,     -999,9,     -999,9,     -999,9,     -999,1,   4.8318,1,   0.0113,1,     14.0,2,     -999,9,     -999,9,     -999,9,     -999,9,20230823,1609, -33.9978,  59.9791,-999          ,9,-999          ,9
33RR20230722  ,I05        ,121     ,  1,18         ,18         ,2,20230823,1440, -33.9978,  59.9791,     4941,    958.9,2,   7.2953,2,  34.4985,2,  34.4993,2,    204.2,2,    204.6,2,    15.81,2,    24.55,2,     0.00,2,     1.67,2,     -999,9,     -999,9,     -999,9,   2171.6,2,   2290.7,2,   7.6727,2,    24.98,2,     -999,9,   7.2679,2,     -999,9,     -999,9,     -999,9,     -999,9,     -999,1,   4.9692,1,   0.0114,1,     -999,9,     -999,9,     -999,9,     -999,9,     -999,9,20230823,1606, -33.9979,  59.9791,-999          ,9,-999          ,9
33RR20230722  ,I05        ,121     ,  1,17         ,17         ,2,20230823,1440, -33.9978,  59.9791,     4941,   1080.8,2,   5.7727,2,  34.3941,2,  34.3917,2,    203.6,2,    203.6,2,    24.11,2,    28.13,2,     0.00,2,     1.92,2,    2.503,6,    1.420,6,   0.8300,6,   2188.9,2,   2290.4,2,   7.6360,2,    24.99,2,     -999,9,   5.7664,2,     -999,9,     -999,9,     -999,9,     -999,9,     -999,1,   4.9700,1,   0.0113,1,     17.9,6,     -999,9,     -999,9,     -999,9,     -999,9,20230823,1602, -33.9979,  59.9791,-999          ,9,-999          ,9
33RR20230722  ,I05        ,121     ,  1,16         ,16         ,2,20230823,1440, -33.9978,  59.9791,     4941,   1215.3,2,   4.3283,2,  34.3704,2,  34.3692,2,    194.8,2,    194.5,2,    38.37,2,    31.43,2,     0.00,2,     2.16,2,     -999,9,     -999,9,     -999,9,   2209.8,2,   2302.7,2,   7.6012,2,    24.97,2,     -999,9,   4.3319,2,     -999,9,     -999,9,     -999,9,     -999,9,     -999,1,   4.8742,1,   0.0112,1,     -999,9,     -999,9,     -999,9,     -999,9,     -999,9,20230823,1559, -33.9979,  59.9791,-999          ,9,-999          ,9
33RR20230722  ,I05        ,121     ,  1,15         ,15         ,2,20230823,1440, -33.9978,  59.9791,     4941,   1354.8,2,   3.7194,2,  34.4219,2,  34.4198,2,    181.3,2,    181.5,2,    51.35,2,    33.04,2,     0.00,2,     2.28,2,    1.263,2,    0.677,2,   0.3100,2,   2230.1,2,   2315.3,2,   7.5819,2,    24.98,2,     -999,9,   3.7203,2,     -999,9,     -999,9,     -999,9,     -999,9,     -999,1,   4.9728,1,   0.0119,1,     21.8,2,     -999,9,     -999,9,     -999,9,     -999,9,20230823,1556, -33.9979,  59.9791,-999          ,9,-999          ,9
33RR20230722  ,I05        ,121     ,  1,14         ,14         ,2,20230823,1440, -33.9978,  59.9791,     4941,   1503.3,2,   3.3644,2,  34.4917,2,  34.4909,2,    170.4,2,    170.2,2,    62.67,2,    33.74,2,     0.00,2,     2.34,2,     -999,9,     -999,9,     -999,9,   2240.9,2,   2327.1,2,   7.5710,2,    24.97,2,     -999,9,   3.3644,2,     -999,9,     -999,9,     -999,9,     -999,9,     -999,1,   4.9742,1,   0.0113,1,     -999,9,     -999,9,     -999,9,     -999,9,     -999,9,20230823,1552, -33.9979,  59.9791,-999          ,9,-999          ,9
33RR20230722  ,I05        ,121     ,  1,13         ,13         ,2,20230823,1440, -33.9978,  59.9791,     4941,   1653.0,2,   2.9595,2,  34.5691,2,  34.5677,2,    169.2,2,    169.3,2,    70.67,2,    33.49,2,     0.00,2,     2.32,2,    0.360,2,    0.204,2,   0.0700,2,   -999.0,9,     -999,9,     -999,9,     -999,9,     -999,9,   2.9608,2,     -999,9,     -999,9,     -999,9,     -999,9,     -999,1,   4.9741,1,   0.0111,1,     22.0,2,     -999,9,     -999,9,     -999,9,     -999,9,20230823,1549, -33.9978,  59.9791,-999          ,9,-999          ,9
33RR20230722  ,I05        ,121     ,  1,12         ,12         ,2,20230823,1440, -33.9978,  59.9791,     4941,   1815.8,2,   2.7345,2,  34.6229,2,  34.6217,2,    171.6,2,    172.3,2,    76.43,2,    32.88,2,     0.00,2,     2.29,2,     -999,9,     -999,9,     -999,9,   2253.2,2,   2343.0,2,   7.5817,2,    24.98,2,     -999,9,   2.7348,2,     -999,9,     -999,9,     -999,9,     -999,9,     -999,1,   4.9745,1,   0.0121,1,     -999,9,     -999,9,     -999,9,     -999,9,     -999,9,20230823,1545, -33.9979,  59.9791,-999          ,9,-999          ,9
33RR20230722  ,I05        ,121     ,  1,11         ,11         ,2,20230823,1440, -33.9978,  59.9791,     4941,   2010.0,2,   2.5108,2,  34.6719,2,  34.6708,2,    176.0,2,    176.1,2,    82.18,2,    32.20,2,     0.00,2,     2.24,2,    0.120,2,    0.066,2,  -0.0100,2,   -999.0,9,     -999,9,     -999,9,     -999,9,     -999,9,   2.5106,2,     -999,9,     -999,9,     -999,9,     -999,9,     -999,1,   4.9746,1,   0.0120,1,     21.1,2,     -999,9,     -999,9,     -999,9,     -999,9,20230823,1541, -33.9978,  59.9790,-999          ,9,-999          ,9
33RR20230722  ,I05        ,121     ,  1,10         ,10         ,2,20230823,1440, -33.9978,  59.9791,     4941,   2252.7,2,   2.2788,2,  34.7092,2,  34.7074,2,    179.0,2,    179.1,2,    91.65,2,    31.89,2,     0.00,2,     2.24,2,     -999,9,     -999,9,     -999,9,   2259.9,2,   2359.2,2,   7.6036,2,    24.97,2,     -999,9,   2.2784,2,     -999,9,     -999,9,     -999,9,     -999,9,     -999,1,   4.9747,1,   0.0113,1,     -999,9,     -999,9,     -999,9,     -999,9,     -999,9,20230823,1536, -33.9978,  59.9791,-999          ,9,-999          ,9
33RR20230722  ,I05        ,121     ,  1,9          ,9          ,2,20230823,1440, -33.9978,  59.9791,     4941,   2536.7,2,   2.0787,2,  34.7254,3,  34.7233,2,    178.2,2,    178.3,2,   102.38,2,    32.15,2,     0.00,2,     2.25,2,    0.031,2,    0.018,2,   0.0500,2,   -999.0,9,     -999,9,     -999,9,     -999,9,     -999,9,   2.0778,2,     -999,9,     -999,9,     -999,9,     -999,9,     -999,1,   4.9754,1,   0.0119,1,     20.1,2,     -999,9,     -999,9,     -999,9,     -999,9,20230823,1530, -33.9978,  59.9791,-999          ,9,-999          ,9
33RR20230722  ,I05        ,121     ,  1,8          ,8          ,2,20230823,1440, -33.9978,  59.9791,     4941,   2861.9,2,   1.8997,2,  34.7290,2,  34.7272,2,    178.3,2,    178.1,2,   110.87,2,    32.50,2,     0.00,2,     2.28,2,     -999,9,     -999,9,     -999,9,   2278.3,2,   2378.8,2,   7.6066,2,    24.95,2,     -999,9,   1.8991,2,     -999,9,     -999,9,     -999,9,     -999,9,     -999,1,   4.9758,1,   0.0123,1,     -999,9,     -999,9,     -999,9,     -999,9,     -999,9,20230823,1523, -33.9979,  59.9791,-999          ,9,-999          ,9
33RR20230722  ,I05        ,121     ,  1,7          ,7          ,2,20230823,1440, -33.9978,  59.9791,     4941,   3234.3,2,   1.6896,2,  34.7281,2,  34.7264,2,    183.6,2,    183.4,2,   115.17,2,    32.46,2,     0.00,2,     2.26,2,     -999,9,     -999,9,     -999,9,   -999.0,9,     -999,9,     -999,9,     -999,9,     -999,9,   1.6896,2,     -999,9,     -999,9,     -999,9,     -999,9,     -999,1,   4.8419,1,   0.0118,1,     -999,9,     -999,9,     -999,9,     -999,9,     -999,9,20230823,1516, -33.9979,  59.9791,-999          ,9,-999          ,9
33RR20230722  ,I05        ,121     ,  1,6          ,6          ,2,20230823,1440, -33.9978,  59.9791,     4941,   3678.5,2,   1.3237,2,  34.7194,2,  34.7176,2,    198.2,2,    198.4,2,   116.44,2,    31.92,2,     0.00,2,     2.22,2,    0.092,2,    0.060,2,   0.0100,2,   2266.3,2,   2369.7,2,   7.6118,2,    24.96,2,     -999,9,   1.3230,2,     -999,9,     -999,9,     -999,9,     -999,9,     -999,1,   4.9559,1,   0.0112,1,     18.8,2,     -999,9,     -999,9,     -999,9,     -999,9,20230823,1507, -33.9978,  59.9790,-999          ,9,-999          ,9
33RR20230722  ,I05        ,121     ,  1,5          ,5          ,2,20230823,1440, -33.9978,  59.9791,     4941,   3964.4,2,   0.9871,2,  34.7071,3,  34.7048,2,    208.3,2,    208.6,2,   120.54,2,    31.83,2,     0.00,2,     2.22,2,     -999,5,     -999,5,     -999,5,   -999.0,9,     -999,9,     -999,9,     -999,9,     -999,9,   0.9905,2,     -999,9,     -999,9,     -999,9,     -999,9,     -999,1,   4.9761,1,   0.0111,1,     -999,5,     -999,9,     -999,9,     -999,9,     -999,9,20230823,1501, -33.9978,  59.9790,-999          ,9,-999          ,9
33RR20230722  ,I05        ,121     ,  1,4          ,37         ,2,20230823,1440, -33.9978,  59.9791,     4941,   4219.6,2,   0.7407,2,  34.6958,2,  34.6942,2,    213.9,2,    214.1,2,   125.91,2,    32.00,2,     0.00,2,     2.23,2,    0.233,2,    0.128,2,   0.0400,2,   2259.5,2,   2361.5,2,   7.6081,2,    24.98,2,     -999,9,   0.7398,2,     -999,9,     -999,9,     -999,9,     -999,9,     -999,1,   4.9764,1,   0.0111,1,     18.1,2,     -999,9,     -999,9,     -999,9,     -999,9,20230823,1456, -33.9978,  59.9790,-999          ,9,-999          ,9
33RR20230722  ,I05        ,121     ,  1,3          ,3          ,2,20230823,1440, -33.9978,  59.9791,     4941,   4554.0,2,   0.6141,2,  34.6879,2,  34.6861,2,    216.4,2,    216.6,2,   130.40,2,    32.19,2,     0.00,2,     2.25,2,    0.243,2,    0.142,2,   0.0400,2,   2260.4,2,   2361.2,2,   7.6067,6,    24.96,2,     -999,9,   0.6148,2,     -999,9,     -999,9,     -999,9,     -999,9,     -999,1,   4.8062,1,   0.0110,1,     18.2,2,     -999,9,     -999,9,     -999,9,     -999,9,20230823,1449, -33.9978,  59.9790,-999          ,9,-999          ,9