BOTTLE,20240422CCHHYDRO
EXPOCODE,SECT_ID,STNNBR,CASTNO,SAMPNO,BTLNBR,BTLNBR_FLAG_W,DATE,TIME,LATITUDE,LONGITUDE,DEPTH,CTDPRS,CTDPRS_FLAG_W,CTDTMP,CTDTMP_FLAG_W,CTDSAL,CTDSAL_FLAG_W,SALNTY,SALNTY_FLAG_W,CTDOXY,CTDOXY_FLAG_W,OXYGEN,OXYGEN_FLAG_W,SILCAT,SILCAT_FLAG_W,NITRAT,NITRAT_FLAG_W,NITRIT,NITRIT_FLAG_W,PHSPHT,PHSPHT_FLAG_W,CFC-11,CFC-11_FLAG_W,CFC-12,CFC-12_FLAG_W,SF6,SF6_FLAG_W,TCARBN,TCARBN_FLAG_W,ALKALI,ALKALI_FLAG_W,PH_TOT,PH_TOT_FLAG_W,PH_TMP,PH_TMP_FLAG_W,DOC,DOC_FLAG_W,REFTMP,REFTMP_FLAG_W,POC,POC_FLAG_W,PON,PON_FLAG_W,POP,POP_FLAG_W,DOP,DOP_FLAG_W,DELO18,DELO18_FLAG_W,CTDFLUOR,CTDFLUOR_FLAG_W,CTDXMISS,CTDXMISS_FLAG_W,N2O,N2O_FLAG_W,D15N_NO3,D15N_NO3_FLAG_W,D15N_NO2+NO3,D15N_NO2+NO3_FLAG_W,D18O_NO2+NO3,D18O_NO2+NO3_FLAG_W,D18O_NO3,D18O_NO3_FLAG_W,BTL_DATE,BTL_TIME,BTL_LAT,BTL_LON,HPLC,HPLC_FLAG_W,DNA,DNA_FLAG_W
,,,,,,,,,,,METERS,DBAR,,ITS-90,,PSS-78,,PSS-78,,UMOL/KG,,UMOL/KG,,UMOL/KG,,UMOL/KG,,UMOL/KG,,UMOL/KG,,PMOL/KG,,PMOL/KG,,FMOL/KG,,UMOL/KG,,UMOL/KG,,,,DEG C,,UMOL/KG,,ITS-90,,UG/KG,,UG/KG,,UG/L,,UMOL/KG,,/MILLE,,VOLTS,,VOLTS,,NMOL/KG,,/MILLE,,/MILLE,,/MILLE,,/MILLE,,,,,,,,,
33RR20230722  ,I05        ,81      ,  1,36         ,36         ,2,20230812,1035, -30.9182,  79.8518,     3741,      3.7,2,  18.9264,2,  35.8126,2,  35.8115,2,    231.7,2,    231.3,2,     1.07,2,     0.07,2,     0.00,2,     0.12,2,    1.499,2,    1.251,2,   2.1600,2,   2073.2,6,   2348.4,2,   7.9900,2,    25.00,2,     -999,1,  18.9311,2,     -999,9,     -999,9,     -999,9,     -999,9,     -999,1,   4.3991,1,   0.0154,1,      7.6,2,     -999,9,     -999,9,     -999,9,     -999,9,20230812,1217, -30.9182,  79.8518,-999          ,9,-999          ,9
33RR20230722  ,I05        ,81      ,  1,35         ,35         ,2,20230812,1035, -30.9182,  79.8518,     3741,     23.6,2,  18.9100,2,  35.8143,2,  35.8127,2,    231.6,2,    231.2,2,     1.07,2,     0.03,2,     0.00,2,     0.11,2,     -999,9,     -999,9,     -999,9,   -999.0,9,     -999,9,     -999,9,     -999,9,     -999,9,  18.9085,2,     -999,9,     -999,9,     -999,9,     -999,9,     -999,1,   4.9749,1,   0.0154,1,     -999,9,     -999,9,     -999,9,     -999,9,     -999,9,20230812,1215, -30.9182,  79.8518,-999          ,9,-999          ,9
33RR20230722  ,I05        ,81      ,  1,34         ,34         ,2,20230812,1035, -30.9182,  79.8518,     3741,     41.5,2,  18.8808,2,  35.8171,2,  35.8155,2,    231.3,2,    231.6,2,     1.07,2,     0.01,2,     0.00,2,     0.13,2,     -999,9,     -999,9,     -999,9,   2073.3,2,   2350.2,2,   7.9899,2,    25.04,2,     -999,9,  18.8803,2,     -999,9,     -999,9,     -999,9,     -999,9,     -999,1,   4.9755,1,   0.0150,1,     -999,9,     -999,9,     -999,9,     -999,9,     -999,9,20230812,1213, -30.9182,  79.8518,-999          ,9,-999          ,9
33RR20230722  ,I05        ,81      ,  1,33         ,33         ,2,20230812,1035, -30.9182,  79.8518,     3741,     62.2,2,  18.8703,2,  35.8183,2,  35.8173,2,    231.3,2,    231.1,2,     1.07,2,     0.01,2,     0.00,2,     0.13,2,     -999,9,     -999,9,     -999,9,   2073.8,2,   2349.1,2,   7.9861,2,    25.02,2,     -999,9,  18.8680,2,     -999,9,     -999,9,     -999,9,     -999,9,     -999,1,   4.8680,1,   0.0153,1,     -999,9,     -999,9,     -999,9,     -999,9,     -999,9,20230812,1212, -30.9182,  79.8518,-999          ,9,-999          ,9
33RR20230722  ,I05        ,81      ,  1,32         ,32         ,2,20230812,1035, -30.9182,  79.8518,     3741,     84.2,2,  18.8607,2,  35.8187,2,  35.8175,2,    230.9,2,    231.2,2,     0.98,2,     0.00,2,     0.00,2,     0.11,2,     -999,9,     -999,9,     -999,9,   2073.2,2,   2348.1,2,   7.9892,2,    25.00,2,     -999,9,  18.8602,2,     -999,9,     -999,9,     -999,9,     -999,9,     -999,1,   4.9744,1,   0.0180,1,     -999,9,     -999,9,     -999,9,     -999,9,     -999,9,20230812,1210, -30.9182,  79.8518,-999          ,9,-999          ,9
33RR20230722  ,I05        ,81      ,  1,31         ,31         ,2,20230812,1035, -30.9182,  79.8518,     3741,    108.8,2,  18.7204,2,  35.8100,2,  35.8104,2,    231.2,2,    231.8,2,     0.88,2,     0.00,2,     0.00,2,     0.13,2,    1.502,2,    1.239,2,   2.1600,2,   -999.0,9,     -999,9,     -999,9,     -999,9,     -999,9,  18.7267,2,     -999,9,     -999,9,     -999,9,     -999,9,     -999,1,   4.9737,1,   0.0264,1,      7.6,2,     -999,9,     -999,9,     -999,9,     -999,9,20230812,1208, -30.9182,  79.8518,-999          ,9,-999          ,9
33RR20230722  ,I05        ,81      ,  1,30         ,30         ,2,20230812,1035, -30.9182,  79.8518,     3741,    136.6,2,  17.1633,2,  35.6789,2,  35.6731,2,    238.2,2,    238.3,2,     0.78,2,     0.13,2,     0.05,2,     0.20,2,     -999,9,     -999,9,     -999,9,   2097.1,2,   2343.6,2,   7.9428,2,    25.00,2,     -999,9,  17.1537,2,     -999,9,     -999,9,     -999,9,     -999,9,     -999,1,   4.9736,1,   0.0282,1,     -999,9,     -999,9,     -999,9,     -999,9,     -999,9,20230812,1207, -30.9182,  79.8518,-999          ,9,-999          ,9
33RR20230722  ,I05        ,81      ,  1,29         ,29         ,2,20230812,1035, -30.9182,  79.8518,     3741,    169.6,2,  15.4030,2,  35.5282,2,  35.5287,2,    232.5,2,    233.2,2,     0.88,2,     1.70,2,     0.13,2,     0.34,2,     -999,9,     -999,9,     -999,9,   2112.0,2,   2336.6,2,   7.9007,2,    25.00,2,     -999,9,  15.4131,2,     -999,9,     -999,9,     -999,9,     -999,9,     -999,1,   4.9708,1,   0.0195,1,     -999,9,     -999,9,     -999,9,     -999,9,     -999,9,20230812,1205, -30.9182,  79.8518,-999          ,9,-999          ,9
33RR20230722  ,I05        ,81      ,  1,28         ,28         ,2,20230812,1035, -30.9182,  79.8518,     3741,    204.9,2,  14.6090,2,  35.4332,2,  35.4354,2,    229.1,2,    230.0,2,     0.98,2,     3.51,2,     0.02,2,     0.44,2,    2.400,2,    1.535,2,   2.3900,2,   -999.0,9,     -999,9,     -999,9,     -999,9,     -999,9,  14.6104,2,     -999,9,     -999,9,     -999,9,     -999,9,     -999,1,   4.9695,1,   0.0148,1,      9.9,2,     -999,9,     -999,9,     -999,9,     -999,9,20230812,1204, -30.9182,  79.8518,-999          ,9,-999          ,9
33RR20230722  ,I05        ,81      ,  1,27         ,27         ,2,20230812,1035, -30.9182,  79.8518,     3741,    245.3,2,  13.8874,2,  35.3533,2,  35.3520,2,    229.9,2,    230.7,2,     1.17,2,     5.20,2,     0.01,2,     0.52,2,     -999,9,     -999,9,     -999,9,   2122.8,2,   2325.7,2,   7.8600,2,    25.00,2,     -999,9,  13.8881,2,     -999,9,     -999,9,     -999,9,     -999,9,     -999,1,   4.7724,1,   0.0121,1,     -999,9,     -999,9,     -999,9,     -999,9,     -999,9,20230812,1202, -30.9182,  79.8518,-999          ,9,-999          ,9
33RR20230722  ,I05        ,81      ,  1,26         ,26         ,2,20230812,1035, -30.9182,  79.8518,     3741,    288.9,2,  13.0457,2,  35.2093,2,  35.2121,2,    232.7,2,    233.3,2,     1.46,2,     6.99,2,     0.00,2,     0.62,2,     -999,9,     -999,9,     -999,9,   -999.0,9,     -999,9,     -999,9,     -999,9,     -999,9,  13.0469,2,     -999,9,     -999,9,     -999,9,     -999,9,     -999,1,   4.7651,1,   0.0113,1,     -999,9,     -999,9,     -999,9,     -999,9,     -999,9,20230812,1200, -30.9182,  79.8518,-999          ,9,-999          ,9
33RR20230722  ,I05        ,81      ,  1,25         ,25         ,2,20230812,1035, -30.9182,  79.8518,     3741,    338.1,2,  12.4534,2,  35.1135,2,  35.1138,2,    239.1,2,    238.4,2,     1.76,2,     8.10,2,     0.00,2,     0.69,2,    2.608,2,    1.682,2,   2.5300,2,   2123.1,2,   2312.3,2,   7.8284,2,    25.01,2,     -999,9,  12.4502,2,     -999,9,     -999,9,     -999,9,     -999,9,     -999,1,   4.6777,1,   0.0115,1,     11.3,2,     -999,9,     -999,9,     -999,9,     -999,9,20230812,1158, -30.9182,  79.8518,-999          ,9,-999          ,9
33RR20230722  ,I05        ,81      ,  1,24         ,24         ,2,20230812,1035, -30.9182,  79.8518,     3741,    387.0,2,  11.9565,2,  35.0320,2,  35.0295,2,    241.6,2,    240.5,2,     2.24,2,     9.44,2,     0.00,2,     0.76,2,     -999,9,     -999,9,     -999,9,   -999.0,9,     -999,9,     -999,9,     -999,9,     -999,9,  11.9550,2,     -999,9,     -999,9,     -999,9,     -999,9,     -999,1,   4.9683,1,   0.0114,1,     -999,9,     -999,9,     -999,9,     -999,9,     -999,9,20230812,1156, -30.9182,  79.8518,-999          ,9,-999          ,9
33RR20230722  ,I05        ,81      ,  1,23         ,23         ,2,20230812,1035, -30.9182,  79.8518,     3741,    433.3,2,  11.6223,2,  34.9834,2,  34.9787,2,    239.6,2,    239.2,2,     2.54,2,    10.63,2,     0.00,2,     0.82,2,    2.898,2,    1.761,2,   2.4700,2,   2129.7,2,   2303.7,2,   7.8078,2,    25.01,2,     -999,9,  11.6316,2,     -999,9,     -999,9,     -999,9,     -999,9,     -999,1,   4.9680,1,   0.0114,1,     11.8,2,     -999,9,     -999,9,     -999,9,     -999,9,20230812,1154, -30.9182,  79.8518,-999          ,9,-999          ,9
33RR20230722  ,I05        ,81      ,  1,22         ,22         ,2,20230812,1035, -30.9182,  79.8518,     3741,    483.7,2,  11.3343,2,  34.9410,2,  34.9368,2,    239.0,2,    238.6,2,     2.83,2,    11.52,2,     0.00,2,     0.88,2,     -999,9,     -999,9,     -999,9,   -999.0,9,     -999,9,     -999,9,     -999,9,     -999,9,  11.3329,2,     -999,9,     -999,9,     -999,9,     -999,9,     -999,1,   4.9677,1,   0.0113,1,     -999,9,     -999,9,     -999,9,     -999,9,     -999,9,20230812,1152, -30.9182,  79.8518,-999          ,9,-999          ,9
33RR20230722  ,I05        ,81      ,  1,21         ,21         ,2,20230812,1035, -30.9182,  79.8518,     3741,    545.5,2,  11.0011,2,  34.8966,2,  34.8947,2,    237.6,2,    237.0,2,     3.12,2,    12.36,2,     0.00,2,     0.92,2,    2.731,2,    1.817,2,   2.3500,2,   2133.2,2,   2300.9,2,   7.7907,2,    25.01,2,     -999,9,  11.0001,2,     -999,9,     -999,9,     -999,9,     -999,9,     -999,1,   4.9592,1,   0.0115,1,     11.9,2,     -999,9,     -999,9,     -999,9,     -999,9,20230812,1150, -30.9182,  79.8518,-999          ,9,-999          ,9
33RR20230722  ,I05        ,81      ,  1,20         ,20         ,2,20230812,1035, -30.9182,  79.8518,     3741,    616.7,2,  10.5891,2,  34.8378,2,  34.8365,2,    236.6,2,    236.2,2,     3.42,2,    13.48,2,     0.00,2,     1.00,2,     -999,9,     -999,9,     -999,9,   -999.0,9,     -999,9,     -999,9,     -999,9,     -999,9,  10.5863,2,     -999,9,     -999,9,     -999,9,     -999,9,     -999,1,   4.9667,1,   0.0109,1,     -999,9,     -999,9,     -999,9,     -999,9,     -999,9,20230812,1148, -30.9182,  79.8518,-999          ,9,-999          ,9
33RR20230722  ,I05        ,81      ,  1,19         ,19         ,2,20230812,1035, -30.9182,  79.8518,     3741,    705.8,2,  10.1152,2,  34.7737,2,  34.7744,2,    232.9,2,    233.0,2,     4.00,2,    14.99,2,     0.00,2,     1.09,2,    2.993,2,    1.870,2,   2.0600,2,   2139.1,2,   2293.7,2,   7.7647,2,    25.00,2,     -999,9,  10.1159,2,     -999,9,     -999,9,     -999,9,     -999,9,     -999,1,   4.9665,1,   0.0113,1,     12.9,2,     -999,9,     -999,9,     -999,9,     -999,9,20230812,1146, -30.9182,  79.8518,-999          ,9,-999          ,9
33RR20230722  ,I05        ,81      ,  1,18         ,18         ,2,20230812,1035, -30.9182,  79.8518,     3741,    806.0,2,   8.5402,2,  34.5953,2,  34.5959,2,    214.2,2,    215.4,2,     8.79,2,    20.56,2,     0.00,2,     1.44,2,     -999,9,     -999,9,     -999,9,   2154.2,2,   2289.7,2,   7.7122,6,    25.00,2,     -999,9,   8.5410,2,     -999,9,     -999,9,     -999,9,     -999,9,     -999,1,   4.7609,1,   0.0113,1,     -999,9,     -999,9,     -999,9,     -999,9,     -999,9,20230812,1143, -30.9182,  79.8518,-999          ,9,-999          ,9
33RR20230722  ,I05        ,81      ,  1,17         ,17         ,2,20230812,1035, -30.9182,  79.8518,     3741,    928.0,2,   7.0276,2,  34.4678,2,  34.4691,2,    200.5,2,    201.4,2,    16.30,2,    25.39,2,     0.00,2,     1.76,2,     -999,9,     -999,9,     -999,9,   2176.4,2,   2288.8,6,   7.6633,2,    25.00,2,     -999,9,   7.0313,2,     -999,9,     -999,9,     -999,9,     -999,9,     -999,1,   4.9694,1,   0.0113,1,     -999,9,     -999,9,     -999,9,     -999,9,     -999,9,20230812,1140, -30.9182,  79.8518,-999          ,9,-999          ,9
33RR20230722  ,I05        ,81      ,  1,16         ,16         ,2,20230812,1035, -30.9182,  79.8518,     3741,   1036.9,2,   5.5365,2,  34.4028,2,  34.4021,2,    190.8,2,    191.2,2,    29.00,2,    29.40,2,     0.00,2,     2.04,2,    2.000,2,    1.070,2,   0.5800,2,   -999.0,9,     -999,9,     -999,9,     -999,9,     -999,9,   5.5321,2,     -999,9,     -999,9,     -999,9,     -999,9,     -999,1,   4.9720,1,   0.0113,1,     18.9,2,     -999,9,     -999,9,     -999,9,     -999,9,20230812,1137, -30.9182,  79.8518,-999          ,9,-999          ,9
33RR20230722  ,I05        ,81      ,  1,15         ,15         ,2,20230812,1035, -30.9182,  79.8518,     3741,   1140.2,2,   4.6592,2,  34.3991,2,  34.3996,2,    183.0,2,    183.1,2,    39.93,2,    31.56,2,     0.00,2,     2.22,2,    1.525,2,    0.791,2,   0.3500,2,   2213.0,2,   2304.3,2,   7.6006,2,    25.01,2,     -999,9,   4.6568,2,     -999,9,     -999,9,     -999,9,     -999,9,     -999,1,   4.9720,1,   0.0111,1,     20.5,2,     -999,9,     -999,9,     -999,9,     -999,9,20230812,1134, -30.9182,  79.8518,-999          ,9,-999          ,9
33RR20230722  ,I05        ,81      ,  1,14         ,14         ,2,20230812,1035, -30.9182,  79.8518,     3741,   1230.7,2,   4.1170,2,  34.4331,2,  34.4326,2,    171.4,2,    171.8,2,    51.65,2,    33.14,2,     0.00,2,     2.33,2,    1.180,2,    0.541,2,   0.2200,2,   2229.8,2,   2315.2,2,   7.5816,2,    25.02,2,     -999,9,   4.1238,2,     -999,9,     -999,9,     -999,9,     -999,9,     -999,1,   4.9730,1,   0.0112,1,     22.3,2,     -999,9,     -999,9,     -999,9,     -999,9,20230812,1132, -30.9182,  79.8518,-999          ,9,-999          ,9
33RR20230722  ,I05        ,81      ,  1,13         ,13         ,2,20230812,1035, -30.9182,  79.8518,     3741,   1327.2,2,   3.8072,2,  34.4780,2,  34.4783,2,    161.1,2,    160.9,2,    61.70,2,    34.01,2,     0.00,2,     2.41,2,     -999,9,     -999,9,     -999,9,   2244.6,2,   2326.9,2,   7.5673,2,    25.00,2,     -999,9,   3.8069,2,     -999,9,     -999,9,     -999,9,     -999,9,     -999,1,   4.9740,1,   0.0112,1,     -999,9,     -999,9,     -999,9,     -999,9,     -999,9,20230812,1129, -30.9182,  79.8518,-999          ,9,-999          ,9
33RR20230722  ,I05        ,81      ,  1,12         ,12         ,2,20230812,1035, -30.9182,  79.8518,     3741,   1436.9,2,   3.5857,2,  34.5346,2,  34.5341,2,    151.0,2,    151.1,2,    71.95,2,    34.69,2,     0.00,2,     2.45,2,    0.282,2,    0.150,2,   0.0800,2,   2258.9,2,   2338.9,2,   7.5599,2,    25.00,2,     -999,9,   3.5863,2,     -999,9,     -999,9,     -999,9,     -999,9,     -999,1,   4.9347,1,   0.0113,1,     23.8,2,     -999,9,     -999,9,     -999,9,     -999,9,20230812,1126, -30.9182,  79.8518,-999          ,9,-999          ,9
33RR20230722  ,I05        ,81      ,  1,11         ,11         ,2,20230812,1035, -30.9182,  79.8518,     3741,   1563.1,2,   3.3335,2,  34.5866,2,  34.5857,2,    147.8,2,    147.8,2,    79.86,2,    34.87,2,     0.00,2,     2.45,2,    0.106,2,    0.064,2,   0.0300,2,   2266.4,2,   2346.9,2,   7.5600,2,    25.00,2,     -999,9,   3.3329,2,     -999,9,     -999,9,     -999,9,     -999,9,     -999,1,   4.8558,1,   0.0124,1,     23.2,2,     -999,9,     -999,9,     -999,9,     -999,9,20230812,1123, -30.9182,  79.8518,-999          ,9,-999          ,9
33RR20230722  ,I05        ,81      ,  1,10         ,10         ,2,20230812,1035, -30.9182,  79.8518,     3741,   1742.5,2,   2.9362,2,  34.6270,2,  34.6270,2,    159.0,2,    157.7,2,    81.81,2,    34.08,2,     0.00,2,     2.40,2,    0.143,2,    0.086,2,   0.0500,2,   2264.1,2,   2347.9,2,   7.5688,2,    24.99,2,     -999,9,   2.9455,2,     -999,9,     -999,9,     -999,9,     -999,9,     -999,1,   4.9746,1,   0.0118,1,     23.1,2,     -999,9,     -999,9,     -999,9,     -999,9,20230812,1119, -30.9182,  79.8518,-999          ,9,-999          ,9
33RR20230722  ,I05        ,81      ,  1,9          ,9          ,2,20230812,1035, -30.9182,  79.8518,     3741,   1930.4,2,   2.5876,2,  34.6715,2,  34.6720,2,    171.1,2,    171.2,2,    80.93,2,    32.90,2,     0.00,2,     2.28,2,    0.119,2,    0.079,2,   0.0600,2,   2256.2,2,   2345.4,6,   7.5847,6,    25.00,2,     -999,9,   2.5870,2,     -999,9,     -999,9,     -999,9,     -999,9,     -999,1,   4.9750,1,   0.0119,1,     21.2,2,     -999,9,     -999,9,     -999,9,     -999,9,20230812,1115, -30.9182,  79.8518,-999          ,9,-999          ,9
33RR20230722  ,I05        ,81      ,  1,8          ,8          ,2,20230812,1035, -30.9182,  79.8518,     3741,   2135.2,2,   2.3228,2,  34.7143,2,  34.7142,2,    181.5,2,    181.8,2,    83.66,2,    31.67,2,     0.00,2,     2.20,2,    0.091,2,    0.055,2,   0.0200,2,   -999.0,9,     -999,9,     -999,9,     -999,9,     -999,9,   2.3237,2,     -999,9,     -999,9,     -999,9,     -999,9,     -999,1,   4.9110,1,   0.0111,1,     19.9,2,     -999,9,     -999,9,     -999,9,     -999,9,20230812,1110, -30.9182,  79.8518,-999          ,9,-999          ,9
33RR20230722  ,I05        ,81      ,  1,7          ,7          ,2,20230812,1035, -30.9182,  79.8518,     3741,   2389.0,2,   2.0471,2,  34.7405,2,  34.7408,2,    191.6,2,    191.9,2,    87.56,2,    30.75,2,     0.00,2,     2.16,2,     -999,9,     -999,9,     -999,9,   2251.0,2,   2349.9,2,   7.6149,6,    25.00,2,     -999,9,   2.0490,2,     -999,9,     -999,9,     -999,9,     -999,9,     -999,1,   4.9743,1,   0.0111,1,     -999,9,     -999,9,     -999,9,     -999,9,     -999,9,20230812,1105, -30.9182,  79.8518,-999          ,9,-999          ,9
33RR20230722  ,I05        ,81      ,  1,6          ,6          ,2,20230812,1035, -30.9182,  79.8518,     3741,   2657.0,2,   1.7438,2,  34.7387,2,  34.7392,2,    194.9,2,    195.1,2,    97.91,2,    31.13,2,     0.00,2,     2.17,2,    0.061,2,    0.040,2,   0.0300,2,   -999.0,9,     -999,9,     -999,9,     -999,9,     -999,9,   1.7423,2,     -999,9,     -999,9,     -999,9,     -999,9,     -999,1,   4.9746,1,   0.0111,1,     18.6,2,     -999,9,     -999,9,     -999,9,     -999,9,20230812,1059, -30.9182,  79.8518,-999          ,9,-999          ,9
33RR20230722  ,I05        ,81      ,  1,5          ,5          ,2,20230812,1035, -30.9182,  79.8518,     3741,   2968.0,2,   1.5390,2,  34.7331,2,  34.7339,2,    196.9,2,    197.1,2,   105.13,2,    31.48,2,     0.00,2,     2.19,2,    0.053,2,    0.038,2,  -0.0300,2,   2260.5,2,   2361.9,2,   7.6177,2,    25.01,2,     -999,9,   1.5390,2,     -999,9,     -999,9,     -999,9,     -999,9,     -999,1,   4.7067,1,   0.0111,1,     18.5,2,     -999,9,     -999,9,     -999,9,     -999,9,20230812,1053, -30.9182,  79.8518,-999          ,9,-999          ,9
33RR20230722  ,I05        ,81      ,  1,4          ,37         ,2,20230812,1035, -30.9182,  79.8518,     3741,   3321.2,2,   1.4528,2,  34.7293,2,  34.7300,2,    197.3,2,    197.5,2,   109.33,2,    31.85,2,     0.00,2,     2.22,2,    0.042,2,    0.030,2,   0.0000,2,   -999.0,9,     -999,9,     -999,9,     -999,9,     -999,9,   1.4526,2,     -999,9,     -999,9,     -999,9,     -999,9,     -999,1,   4.9749,1,   0.0116,1,     18.6,2,     -999,9,     -999,9,     -999,9,     -999,9,20230812,1046, -30.9182,  79.8518,-999          ,9,-999          ,9
33RR20230722  ,I05        ,81      ,  1,3          ,3          ,2,20230812,1035, -30.9182,  79.8518,     3741,   3611.0,2,   1.4320,2,  34.7268,3,  34.7292,2,    196.3,2,    196.5,2,   112.36,2,    32.02,2,     0.00,2,     2.22,2,    0.029,2,    0.023,2,  -0.0300,2,   2269.1,2,   2373.4,2,   7.6208,2,    24.99,2,     -999,9,   1.4318,2,     -999,9,     -999,9,     -999,9,     -999,9,     -999,1,   4.9660,1,   0.0111,1,     18.5,2,     -999,9,     -999,9,     -999,9,     -999,9,20230812,1040, -30.9182,  79.8518,-999          ,9,-999          ,9