BOTTLE,20240404CCHSIOADS
EXPOCODE,STNNBR,CASTNO,SAMPNO,BTLNBR,DATE,TIME,LATITUDE,LONGITUDE,DEPTH,CTDPRS,CTDTMP,CTDSAL,CTDSAL_FLAG_W,CTDOXY,CTDOXY_FLAG_W,SALNTY,SALNTY_FLAG_W,OXYGEN,OXYGEN_FLAG_W,PH_TOT,PH_TOT_FLAG_W,SILCAT,SILCAT_FLAG_W,PHSPHT,PHSPHT_FLAG_W,NITRAT,NITRAT_FLAG_W,NITRIT,NITRIT_FLAG_W,DELO18,DELO18_FLAG_W,DELD,DELD_FLAG_W,ALKALI,ALKALI_FLAG_W,I-129,I129ER
,,,,,,,,,METERS,DBAR,DEG C,PSS-78,,UMOL/KG,,PSS-78,,UMOL/KG,,,,UMOL/KG,,UMOL/KG,,UMOL/KG,,UMOL/KG,,/MILLE,,/MILLE,,UMOL/KG,,E7/KG,E7/KG
 35HT20180611,98,1, 1, 3,20180707,0518,59.84192,-42.5932, 200, 191.9, 3.9836,34.4905,2,307.5,2,34.4858,4,309.7,4,7.746,2,4.99,2,0.84,2,10.83,2,0.17,2,0.05,2,-0.57,2,-999,9,-999,-999
 35HT20180611,98,1, 3, 5,20180707,0518,59.84192,-42.5932, 200, 144.1, 4.1846,34.4966,2,312.5,2,34.4924,4,311.8,2,7.756,2,4.23,2,0.80,2,10.29,2,0.17,2,-999,9,-999,9,-999,9,-999,-999
 35HT20180611,98,1, 5, 7,20180707,0518,59.84192,-42.5932, 200, 101.1, 2.6841,34.1081,2,325.6,2,34.1059,4,327.1,2,7.749,2,3.14,2,0.69,2, 8.38,2,0.12,2,-0.135,2,-2.22,2,-999,9,-999,-999
 35HT20180611,98,1, 6, 8,20180707,0518,59.84192,-42.5932, 200,  80.2, 1.9066,33.9777,2,328.1,2,   -999,9, -999,9, -999,9,-999,9,-999,9, -999,9,-999,9,-0.212,2,-2.71,2,-999,9,-999,-999
 35HT20180611,98,1, 7, 9,20180707,0518,59.84192,-42.5932, 200,  65.3, 2.1523,33.9382,2,328.9,2,   -999,9, -999,9, -999,9,-999,9,-999,9, -999,9,-999,9,-0.279,2,-2.94,2,-999,9,-999,-999
 35HT20180611,98,1, 8,10,20180707,0518,59.84192,-42.5932, 200,  55.3, 2.3454,33.8912,2,331.1,2,   -999,9, -999,9, -999,9,-999,9,-999,9, -999,9,-999,9,-1.662,4,-8.03,4,-999,9,-999,-999
 35HT20180611,98,1, 9,11,20180707,0518,59.84192,-42.5932, 200,  45.3, 2.2760,33.8445,2,334.6,2,33.8346,4,336.3,2,7.764,2,2.35,2,0.58,2, 6.38,2,0.08,2,-0.356,2,-3.65,2,-999,9,-999,-999
 35HT20180611,98,1,10,12,20180707,0518,59.84192,-42.5932, 200,  34.9, 1.6971,33.6432,2,338.2,2,   -999,9, -999,9, -999,9,-999,9,-999,9, -999,9,-999,9,-0.433,2,-4.3,2,-999,9,-999,-999
 35HT20180611,98,1,11,13,20180707,0518,59.84192,-42.5932, 200,  26.1, 1.6802,33.6015,2,339.6,2,   -999,9, -999,9, -999,9,-999,9,-999,9, -999,9,-999,9,-0.424,2,-4.38,2,-999,9,-999,-999
 35HT20180611,98,1,12,14,20180707,0518,59.84192,-42.5932, 200,  16.3, 1.6796,33.5652,2,340.3,2,   -999,9, -999,9, -999,9,-999,9,-999,9, -999,9,-999,9,-0.493,2,-4.77,2,-999,9,-999,-999
 35HT20180611,98,1,13,15,20180707,0518,59.84192,-42.5932, 200,   3.7, 2.2641,33.5818,2,338.0,2,33.5798,2,340.7,4,7.762,2,1.91,2,0.54,2, 5.35,2,0.07,2,-0.475,2,-4.51,2,-999,9,-999,-999
 35HT20180611,104,1, 1, 3,20180708,1401,56.79928,-34.16918,2398,2417.0, 3.3571,34.9676,2,274.0,2,34.9678,2,273.5,2, -999,9,11.24,2,0.99,2,16.18,2,0.00,2,-999,9,-999,9,-999,9,-999,-999
 35HT20180611,104,1, 2, 4,20180708,1401,56.79928,-34.16918,2398,2416.8, 3.3566,34.9678,2,274.0,2,   -999,9, -999,9, -999,9,-999,9,-999,9, -999,9,-999,9,-999,9,-999,9,-999,9,28.8,0.4
 35HT20180611,104,1, 3, 5,20180708,1401,56.79928,-34.16918,2398,2367.5, 3.3632,34.9675,2,273.9,2,34.9676,2,272.8,2, -999,9,11.16,2,1.00,2,16.29,2,0.00,2,-999,9,-999,9,-999,9,-999,-999
 35HT20180611,104,1, 4, 6,20180708,1401,56.79928,-34.16918,2398,2302.0, 3.3564,34.9676,2,273.9,2,34.9672,2,273.7,2, -999,9,11.11,2,1.02,2,16.32,2,0.00,2,-999,9,-999,9,-999,9,-999,-999
 35HT20180611,104,1, 5, 7,20180708,1401,56.79928,-34.16918,2398,2199.6, 3.3668,34.9672,2,273.8,2,34.9670,2,273.4,2, -999,9,11.21,2,1.06,2,16.32,2,0.00,2,-999,9,-999,9,-999,9,-999,-999
 35HT20180611,104,1, 6, 8,20180708,1401,56.79928,-34.16918,2398,2101.1, 3.3670,34.9670,2,274.3,2,34.9668,2,275.2,2, -999,9,11.27,2,1.07,2,16.26,2,0.00,2,-999,9,-999,9,-999,9,-999,-999
 35HT20180611,104,1, 7, 9,20180708,1401,56.79928,-34.16918,2398,2001.3, 3.3909,34.9661,2,273.4,2,34.9658,2,273.7,2, -999,9,11.1,2,1.05,2,16.15,2,0.00,2,-999,9,-999,9,-999,9,-999,-999
 35HT20180611,104,1, 8,10,20180708,1401,56.79928,-34.16918,2398,1902.1, 3.3944,34.9656,2,273.3,2,34.9651,2,273.1,2, -999,9,11.08,2,1.03,2,16.26,2,0.00,2,-999,9,-999,9,-999,9,-999,-999
 35HT20180611,104,1, 9,11,20180708,1401,56.79928,-34.16918,2398,1800.9, 3.4317,34.9653,2,273.2,2,34.9651,2,273.3,2, -999,9,11.0,2,1.03,2,16.21,2,0.00,2,-999,9,-999,9,-999,9,-999,-999
 35HT20180611,104,1,10,12,20180708,1401,56.79928,-34.16918,2398,1701.3, 3.4786,34.9629,2,272.8,2,34.9625,2,272.4,2, -999,9,11.02,2,1.03,2,16.25,2,0.00,2,-999,9,-999,9,-999,9,-999,-999
 35HT20180611,104,1,11,13,20180708,1401,56.79928,-34.16918,2398,1601.9, 3.5285,34.9608,2,272.7,2,34.9605,2,271.7,2, -999,9,10.92,2,1.03,2,16.43,2,0.00,2,-999,9,-999,9,-999,9,-999,-999
 35HT20180611,104,1,12,14,20180708,1401,56.79928,-34.16918,2398,1502.7, 3.5864,34.9574,2,272.4,2,34.9568,2,272.3,2, -999,9,10.96,2,1.04,2,16.54,2,0.00,2,-999,9,-999,9,-999,9,-999,-999
 35HT20180611,104,1,13,15,20180708,1401,56.79928,-34.16918,2398,1250.5, 3.7632,34.9309,2,274.5,2,34.9304,2,275.7,2, -999,9,10.77,2,1.07,2,16.97,2,0.00,2,-999,9,-999,9,-999,9,-999,-999
 35HT20180611,104,1,14,16,20180708,1401,56.79928,-34.16918,2398,1250.4, 3.7618,34.9309,2,273.8,2,34.9302,2,273.8,2, -999,9,10.73,2,1.07,2,16.95,2,0.00,2,-999,9,-999,9,-999,9,18.2,0.3
 35HT20180611,104,1,15,17,20180708,1401,56.79928,-34.16918,2398,1101.7, 3.8612,34.9180,2,275.3,2,34.9175,2,275.6,2, -999,9,10.41,2,1.09,2,17.05,2,0.00,2,-999,9,-999,9,-999,9,-999,-999
 35HT20180611,104,1,17,19,20180708,1401,56.79928,-34.16918,2398, 900.9, 4.0872,34.9238,2,272.2,2,34.9226,2,272.1,2, -999,9,10.2,2,1.11,2,17.40,2,0.00,2,-999,9,-999,9,-999,9,-999,-999
 35HT20180611,104,1,18,20,20180708,1401,56.79928,-34.16918,2398, 701.6, 4.4422,34.9413,2,263.6,2,34.9414,2,263.2,2, -999,9,10.24,2,1.12,2,17.78,2,0.00,2,-999,9,-999,9,-999,9,-999,-999
 35HT20180611,104,1,20,22,20180708,1401,56.79928,-34.16918,2398, 502.4, 5.1690,34.9508,2,253.5,2,34.9501,2,253.4,2, -999,9,10.0,2,1.14,2,17.76,2,0.00,2,-999,9,-999,9,-999,9,-999,-999
 35HT20180611,104,1,21,23,20180708,1401,56.79928,-34.16918,2398, 299.9, 6.1123,34.9601,2,266.9,2,34.9542,4,266.6,2, -999,9,8.40,2,1.05,2,15.99,2,0.00,2,-999,9,-999,9,-999,9,23.6,0.3
 35HT20180611,104,1,22,24,20180708,1401,56.79928,-34.16918,2398, 101.5, 6.4015,34.8647,2,285.7,2,34.8643,2,285.1,2, -999,9,7.33,2,0.95,2,14.17,2,0.18,2,-999,9,-999,9,-999,9,-999,-999
 35HT20180611,104,1,23,25,20180708,1401,56.79928,-34.16918,2398,   6.9, 8.0201,34.7513,2,300.8,2,34.7509,2,301.6,2, -999,9,0.68,2,0.59,2, 7.59,2,0.17,2,-999,9,-999,9,-999,9,-999,-999
 35HT20180611,107,1, 1, 3,20180709,0008,56.74918,-34.12342,2229,2243.4, 3.2802,34.9690,2,274.9,2,34.9671,2,275.8,2, -999,9,11.34,2,0.96,2,16.26,2,0.00,2,-999,9,-999,9,-999,9,-999,-999
 35HT20180611,107,1, 3, 5,20180709,0008,56.74918,-34.12342,2229,2001.3, 3.2887,34.9680,2,275.0,2,34.9679,2,275.0,2, -999,9,11.29,2,0.99,2,16.30,2,0.00,2,-999,9,-999,9,-999,9,-999,-999
 35HT20180611,107,1, 4, 6,20180709,0008,56.74918,-34.12342,2229,1751.4, 3.4351,34.9624,2,273.7,2,34.9620,2,273.5,2, -999,9,10.98,2,1.01,2,16.35,2,0.00,2,-999,9,-999,9,-999,9,-999,-999
 35HT20180611,107,1, 5, 7,20180709,0008,56.74918,-34.12342,2229,1499.9, 3.6288,34.9511,2,272.8,2,34.9501,2,272.3,2, -999,9,10.94,2,0.99,2,16.66,2,0.00,2,-999,9,-999,9,-999,9,-999,-999
 35HT20180611,107,1, 6, 8,20180709,0008,56.74918,-34.12342,2229,1249.6, 3.7939,34.9304,2,274.4,2,34.9299,2,273.8,2, -999,9,10.73,2,1.02,2,17.04,2,0.00,2,-999,9,-999,9,-999,9,-999,-999
 35HT20180611,107,1, 7, 9,20180709,0008,56.74918,-34.12342,2229,1099.9, 3.8729,34.9184,2,275.9,2,34.9182,2,276.1,2, -999,9,10.26,2,1.03,2,16.94,2,0.00,2,-999,9,-999,9,-999,9,-999,-999
 35HT20180611,107,1, 8,10,20180709,0008,56.74918,-34.12342,2229, 900.9, 4.0702,34.9216,2,271.9,2,34.9207,2,272.2,2, -999,9,10.08,2,1.05,2,17.23,2,0.01,2,-999,9,-999,9,-999,9,-999,-999
 35HT20180611,107,1, 9,11,20180709,0008,56.74918,-34.12342,2229, 751.9, 4.3265,34.9353,2,267.1,2,34.9346,2,267.1,2, -999,9,9.95,2,1.06,2,17.42,2,0.00,2,-999,9,-999,9,-999,9,-999,-999