BOTTLE,20240404CCHSIOADS
EXPOCODE,STNNBR,CASTNO,SAMPNO,BTLNBR,DATE,TIME,LATITUDE,LONGITUDE,DEPTH,CTDPRS,CTDTMP,CTDSAL,CTDSAL_FLAG_W,CTDOXY,CTDOXY_FLAG_W,SALNTY,SALNTY_FLAG_W,OXYGEN,OXYGEN_FLAG_W,PH_TOT,PH_TOT_FLAG_W,SILCAT,SILCAT_FLAG_W,PHSPHT,PHSPHT_FLAG_W,NITRAT,NITRAT_FLAG_W,NITRIT,NITRIT_FLAG_W,DELO18,DELO18_FLAG_W,DELD,DELD_FLAG_W,ALKALI,ALKALI_FLAG_W,I-129,I129ER
,,,,,,,,,METERS,DBAR,DEG C,PSS-78,,UMOL/KG,,PSS-78,,UMOL/KG,,,,UMOL/KG,,UMOL/KG,,UMOL/KG,,UMOL/KG,,/MILLE,,/MILLE,,UMOL/KG,,E7/KG,E7/KG
 35HT20180611,12,1, 1, 3,20180618,2042,40.33332,-11.78382,5217,5307.7, 2.5495,34.8932,2,244.8,2,34.8935,2,244.3,2,7.745,2,45.9,2,1.45,2,22.25,2,0.00,2,-999,9,-999,9,-999,9,-999,-999
 35HT20180611,12,1, 2, 4,20180618,2042,40.33332,-11.78382,5217,4507.0, 2.4816,34.8972,2,243.4,2,34.8968,2,243.6,2,7.746,2,45.3,2,1.42,2,22.23,2,0.00,2,-999,9,-999,9,-999,9,-999,-999
 35HT20180611,12,1, 3, 5,20180618,2042,40.33332,-11.78382,5217,4001.3, 2.5024,34.9055,2,242.9,2,34.9055,2,243.3,2,7.746,2,43.2,2,1.39,2,22.19,2,0.00,2,-999,9,-999,9,-999,9,-999,-999
 35HT20180611,12,1, 4, 6,20180618,2042,40.33332,-11.78382,5217,3751.3, 2.5350,34.9112,2,243.0,2,34.9116,2,243.5,2,7.743,2,41.7,2,1.43,2,21.88,2,0.00,2,-999,9,-999,9,-999,9,-999,-999
 35HT20180611,12,1, 5, 7,20180618,2042,40.33332,-11.78382,5217,3500.0, 2.5897,34.9187,2,245.1,2,34.9191,2,244.5,2,7.746,2,39.7,2,1.39,2,21.80,2,0.00,2,-999,9,-999,9,-999,9,-999,-999
 35HT20180611,12,1, 6, 8,20180618,2042,40.33332,-11.78382,5217,3250.8, 2.6812,34.9289,2,246.5,2,34.9289,2,246.0,2,7.745,2,36.9,2,1.37,2,21.35,2,0.01,2,-999,9,-999,9,-999,9,-999,-999
 35HT20180611,12,1, 7, 9,20180618,2042,40.33332,-11.78382,5217,3000.2, 2.7973,34.9401,2,248.4,2,34.9407,2,247.7,2,7.745,2,33.8,2,1.35,2,20.67,2,0.01,2,-999,9,-999,9,-999,9,-999,-999
 35HT20180611,12,1, 8,10,20180618,2042,40.33332,-11.78382,5217,2751.5, 2.9523,34.9535,2,250.6,2,   -999,9, -999,9,7.756,4,26.1,4,1.19,4,19.14,4,0.00,2,-999,9,-999,9,-999,9,-999,-999
 35HT20180611,12,1, 9,11,20180618,2042,40.33332,-11.78382,5217,2504.8, 3.1804,34.9713,2,252.5,2,34.9724,2,252.0,2,7.746,2,26.0,2,1.22,2,19.60,2,0.01,2,-999,9,-999,9,-999,9,-999,-999
 35HT20180611,12,1,10,12,20180618,2042,40.33332,-11.78382,5217,2250.4, 3.5087,34.9943,2,254.0,2,34.9949,2,254.8,2,7.745,2,20.8,2,1.18,2,18.89,2,0.01,2,-999,9,-999,9,-999,9,-999,-999
 35HT20180611,12,1,11,13,20180618,2042,40.33332,-11.78382,5217,2001.0, 3.9278,35.0284,2,255.3,2,35.0283,2,255.6,2,7.740,2,16.9,2,1.12,2,18.25,2,0.00,2,-999,9,-999,9,-999,9,-999,-999
 35HT20180611,12,1,12,14,20180618,2042,40.33332,-11.78382,5217,1802.1, 4.7758,35.1453,2,246.9,2,35.1529,4,246.9,2,7.744,2,14.6,2,1.10,2,18.01,2,0.00,2,-999,9,-999,9,-999,9,-999,-999
 35HT20180611,12,1,13,15,20180618,2042,40.33332,-11.78382,5217,1600.7, 6.2489,35.3814,2,228.6,2,35.3873,4,228.8,2,7.751,2,12.8,2,1.10,2,17.65,2,0.00,2,-999,9,-999,9,-999,9,-999,-999
 35HT20180611,12,1,14,16,20180618,2042,40.33332,-11.78382,5217,1399.8, 8.5026,35.7601,2,205.0,2,35.7629,4,204.5,2,7.771,2,11.1,2,1.06,2,17.00,2,0.00,2,-999,9,-999,9,-999,9,-999,-999
 35HT20180611,12,1,15,17,20180618,2042,40.33332,-11.78382,5217,1203.1, 9.8501,35.9453,2,191.1,2,35.9478,4,190.7,2,7.786,2,10.1,2,1.04,2,16.81,2,0.01,2,-999,9,-999,9,-999,9,-999,-999
 35HT20180611,12,1,16,18,20180618,2042,40.33332,-11.78382,5217,1000.5,11.2630,36.1472,2,180.1,2,36.1473,2,179.6,2,7.799,2,8.70,2,0.97,2,15.75,2,0.02,2,-999,9,-999,9,-999,9,-999,-999
 35HT20180611,12,1,17,19,20180618,2042,40.33332,-11.78382,5217, 900.6,11.5025,36.1179,2,180.5,2,36.1186,2,180.1,2,7.798,2,8.18,2,0.94,2,15.23,2,0.01,2,-999,9,-999,9,-999,9,-999,-999
 35HT20180611,12,1,18,20,20180618,2042,40.33332,-11.78382,5217, 802.1,11.7676,36.0820,2,181.7,2,36.0814,2,181.0,2,7.802,2,7.65,2,0.91,2,14.82,2,0.00,2,-999,9,-999,9,-999,9,-999,-999
 35HT20180611,12,1,19,21,20180618,2042,40.33332,-11.78382,5217, 699.7,11.7964,35.9804,2,182.6,2,35.9801,2,181.9,2,7.799,2,7.24,2,0.92,2,14.90,2,0.00,2,-999,9,-999,9,-999,9,-999,-999
 35HT20180611,12,1,20,22,20180618,2042,40.33332,-11.78382,5217, 600.7,11.3925,35.7300,2,190.6,2,35.7340,4,190.9,2,7.788,2,6.83,2,0.96,2,14.95,2,0.00,2,-999,9,-999,9,-999,9,-999,-999
 35HT20180611,12,1,21,23,20180618,2042,40.33332,-11.78382,5217, 502.5,11.5076,35.6470,2,204.2,2,35.6464,2,202.6,2,7.792,2,5.47,2,0.89,2,13.85,2,0.00,2,-999,9,-999,9,-999,9,-999,-999
 35HT20180611,12,1,22,24,20180618,2042,40.33332,-11.78382,5217, 400.9,11.7445,35.6170,2,213.4,2,35.6160,2,211.4,2,7.802,2,4.50,2,0.82,2,12.57,2,0.00,2,-999,9,-999,9,-999,9,-999,-999
 35HT20180611,12,1,23,25,20180618,2042,40.33332,-11.78382,5217, 299.6,12.1116,35.6309,2,214.6,2,35.6314,2,213.8,2,7.814,2,3.69,2,0.70,2,11.52,2,0.00,2,-999,9,-999,9,-999,9,-999,-999
 35HT20180611,12,1,24,26,20180618,2042,40.33332,-11.78382,5217, 202.0,12.7952,35.7001,2,222.4,2,35.7004,2,220.7,2,7.837,2,2.77,2,0.58,2, 8.63,2,0.00,2,-999,9,-999,9,-999,9,-999,-999
 35HT20180611,12,1,25,27,20180618,2042,40.33332,-11.78382,5217, 152.5,13.4831,35.7942,2,237.2,2,35.7963,2,236.9,2,7.879,2,1.50,2,0.33,2, 5.24,2,0.00,2,-999,9,-999,9,-999,9,-999,-999
 35HT20180611,12,1,26,28,20180618,2042,40.33332,-11.78382,5217, 103.2,13.7443,35.8165,2,241.1,2,35.8172,2,240.7,2,7.893,2,1.38,2,0.28,2, 4.15,2,0.00,2,-999,9,-999,9,-999,9,-999,-999
 35HT20180611,12,1,27,29,20180618,2042,40.33332,-11.78382,5217,  56.1,14.5350,35.8237,2,247.8,2,35.8258,2,247.3,2,7.927,2,0.63,2,0.12,2, 1.14,2,0.36,2,-999,9,-999,9,-999,9,-999,-999
 35HT20180611,12,1,28,30,20180618,2042,40.33332,-11.78382,5217,   7.5,16.5249,35.7640,2,247.7,2,35.7636,2,247.8,2,7.959,2,0.51,2,0.06,2, 0.06,2,0.00,2,-999,9,-999,9,-999,9,-999,-999
 35HT20180611,13,1, 1, 3,20180619,0227,40.33332,-12.22366,5260,5350.6, 2.5534,34.8930,2,244.7,2,34.8926,2,243.5,2,7.742,2,46.0,2,1.46,2,22.56,2,0.00,2,-999,9,-999,9,2354,2,-999,-999
 35HT20180611,13,1, 2, 4,20180619,0227,40.33332,-12.22366,5260,5002.2, 2.5141,34.8938,2,243.9,2,34.8944,2,243.6,2,7.745,2,45.7,2,1.45,2,22.37,2,0.00,2,-999,9,-999,9,2354,2,-999,-999
 35HT20180611,13,1, 3, 5,20180619,0227,40.33332,-12.22366,5260,4500.6, 2.4754,34.8968,2,244.3,2,34.8937,4,244.0,2,7.744,2,45.1,2,1.44,2,22.19,2,0.00,2,-999,9,-999,9,2352,2,-999,-999
 35HT20180611,13,1, 4, 6,20180619,0227,40.33332,-12.22366,5260,4002.0, 2.4979,34.9050,2,244.0,2,34.9156,4,243.9,2,7.743,2,42.6,2,1.42,2,22.01,2,0.00,2,-999,9,-999,9,2349,2,-999,-999
 35HT20180611,13,1, 5, 7,20180619,0227,40.33332,-12.22366,5260,3502.5, 2.5976,34.9194,2,243.5,2,34.9783,4,243.1,2,7.754,4,36.1,2,1.36,2,21.13,2,0.00,2,-999,9,-999,9,2344,2,-999,-999
 35HT20180611,13,1, 6, 8,20180619,0227,40.33332,-12.22366,5260,3250.3, 2.6825,34.9292,2,244.8,2,34.9859,4,244.7,2,7.746,2,34.1,2,1.33,2,20.56,2,0.00,2,-999,9,-999,9,2342,2,-999,-999
 35HT20180611,13,1, 7, 9,20180619,0227,40.33332,-12.22366,5260,3000.0, 2.8006,34.9408,2,248.6,2,34.9416,2,248.9,2,7.745,2,33.4,2,1.35,2,20.94,2,0.00,2,-999,9,-999,9,2338,2,-999,-999
 35HT20180611,13,1, 8,10,20180619,0227,40.33332,-12.22366,5260,2750.2, 2.9678,34.9540,2,251.3,2,   -999,9, -999,9,7.754,4,25.6,4,1.22,4,19.22,4,0.00,2,-999,9,-999,9,2336,2,-999,-999
 35HT20180611,13,1, 9,11,20180619,0227,40.33332,-12.22366,5260,2501.3, 3.2506,34.9762,2,254.7,2,34.9769,2,254.8,2,7.745,2,25.1,2,1.26,2,19.40,2,0.00,2,-999,9,-999,9,2329,2,-999,-999
 35HT20180611,13,1,10,12,20180619,0227,40.33332,-12.22366,5260,2252.0, 3.5096,34.9854,2,257.8,2,34.9860,2,257.5,2,7.741,2,19.7,2,1.19,2,18.75,2,0.00,2,-999,9,-999,9,2319,2,-999,-999
 35HT20180611,13,1,11,13,20180619,0227,40.33332,-12.22366,5260,2001.4, 3.9912,35.0274,2,257.3,2,35.0282,2,257.2,2,7.736,2,15.8,2,1.16,2,18.15,2,0.00,2,-999,9,-999,9,2317,2,-999,-999
 35HT20180611,13,1,12,14,20180619,0227,40.33332,-12.22366,5260,1800.5, 4.6367,35.1030,2,250.8,2,35.1054,2,250.8,2,7.740,2,13.7,2,1.14,2,17.98,2,0.00,2,-999,9,-999,9,2320,2,-999,-999
 35HT20180611,13,1,13,15,20180619,0227,40.33332,-12.22366,5260,1599.9, 5.6991,35.2673,2,237.6,2,35.2716,4,237.5,2,7.745,2,12.5,2,1.09,2,17.85,2,0.00,2,-999,9,-999,9,2331,2,-999,-999
 35HT20180611,13,1,14,16,20180619,0227,40.33332,-12.22366,5260,1400.9, 8.1393,35.6874,2,208.8,2,35.6947,4,209.1,2,7.769,2,11.4,2,1.04,2,17.37,2,0.00,2,-999,9,-999,9,2359,2,-999,-999
 35HT20180611,13,1,15,17,20180619,0227,40.33332,-12.22366,5260,1200.1,10.4739,36.1089,2,186.9,2,36.1110,2,186.5,2,7.794,2,9.79,2,0.96,2,16.08,2,0.00,2,-999,9,-999,9,2389,2,-999,-999
 35HT20180611,13,1,16,18,20180619,0227,40.33332,-12.22366,5260, 997.6,10.0022,35.8179,2,184.7,2,35.8151,4,184.6,2,7.773,2,9.74,2,1.05,2,17.30,2,0.00,2,-999,9,-999,9,2365,2,-999,-999
 35HT20180611,13,1,17,19,20180619,0227,40.33332,-12.22366,5260, 902.3,10.5135,35.8532,2,181.8,2,35.8533,2,182.1,2,7.777,2,9.10,2,1.04,2,16.85,2,0.00,2,-999,9,-999,9,-999,9,-999,-999
 35HT20180611,13,1,18,20,20180619,0227,40.33332,-12.22366,5260, 800.9,10.9619,35.8574,2,182.3,2,35.8590,2,181.6,2,7.780,2,8.24,2,0.98,2,16.28,2,0.00,2,-999,9,-999,9,2366,2,-999,-999
 35HT20180611,13,1,19,21,20180619,0227,40.33332,-12.22366,5260, 700.9,11.0277,35.7520,2,185.5,2,35.7551,4,185.6,2,7.781,2,7.65,2,0.96,2,16.19,2,0.00,2,-999,9,-999,9,-999,9,-999,-999
 35HT20180611,13,1,20,22,20180619,0227,40.33332,-12.22366,5260, 600.1,11.4637,35.7163,2,193.7,2,35.7177,2,192.4,2,7.782,2,6.50,2,0.90,2,15.01,2,0.00,2,-999,9,-999,9,2349,2,-999,-999
 35HT20180611,13,1,21,23,20180619,0227,40.33332,-12.22366,5260, 500.2,11.1154,35.5344,2,215.5,2,35.5338,2,215.7,2,7.792,2,5.28,2,0.83,2,13.55,2,0.00,2,-999,9,-999,9,2336,2,-999,-999
 35HT20180611,13,1,22,24,20180619,0227,40.33332,-12.22366,5260, 400.0,11.6594,35.5820,2,217.1,2,35.5790,4,215.8,2,7.803,2,4.52,2,0.74,2,12.40,2,0.00,2,-999,9,-999,9,2337,2,-999,-999
 35HT20180611,13,1,23,25,20180619,0227,40.33332,-12.22366,5260, 300.6,12.1978,35.6261,2,219.6,2,35.6262,2,219.1,2,7.815,2,3.46,2,0.65,2,10.80,2,0.00,2,-999,9,-999,9,2339,2,-999,-999
 35HT20180611,13,1,24,26,20180619,0227,40.33332,-12.22366,5260, 200.2,12.8287,35.6951,2,237.4,2,35.6947,2,237.2,2,7.861,2,1.78,2,0.45,2, 6.67,2,0.00,2,-999,9,-999,9,2344,2,-999,-999
 35HT20180611,13,1,25,27,20180619,0227,40.33332,-12.22366,5260, 150.6,13.2019,35.7421,2,238.7,2,35.7416,2,238.6,2,7.871,2,1.69,2,0.34,2, 5.75,2,0.01,2,-999,9,-999,9,-999,9,-999,-999
 35HT20180611,13,1,26,28,20180619,0227,40.33332,-12.22366,5260,  99.9,13.5898,35.7817,2,241.0,2,35.7829,2,240.5,2,7.877,2,1.25,2,0.26,2, 4.52,2,0.01,2,-999,9,-999,9,2350,2,-999,-999
 35HT20180611,13,1,27,29,20180619,0227,40.33332,-12.22366,5260,  57.3,14.6809,35.7975,2,251.5,2,35.7941,4,251.3,2,7.929,2,0.67,2,0.09,2, 0.63,2,0.22,2,-999,9,-999,9,-999,9,-999,-999
 35HT20180611,13,1,28,30,20180619,0227,40.33332,-12.22366,5260,   6.5,16.7484,35.6925,2,248.0,2,35.6926,2,246.9,2,7.966,2,0.66,2,0.01,2, 0.08,2,0.00,2,0.71,2,4.49,2,2350,2,-999,-999
 35HT20180611,14,1, 1, 3,20180619,0835,40.55200,-12.65496,5308,5401.1, 2.5607,34.8929,2,244.7,2,34.8930,2,244.4,2,7.746,2,45.7,2,1.46,2,22.60,2,0.00,2,-999,9,-999,9,-999,9,-999,-999
 35HT20180611,14,1, 2, 4,20180619,0835,40.55200,-12.65496,5308,5004.9, 2.5202,34.8945,2,244.2,2,34.8948,2,244.2,2,7.747,2,45.4,2,1.45,2,22.89,2,0.00,2,-999,9,-999,9,-999,9,-999,-999
 35HT20180611,14,1, 3, 5,20180619,0835,40.55200,-12.65496,5308,4503.2, 2.4969,34.8989,2,243.9,2,34.8991,2,243.6,2,7.743,2,44.4,2,1.43,2,22.06,2,0.00,2,-999,9,-999,9,-999,9,-999,-999
 35HT20180611,14,1, 4, 6,20180619,0835,40.55200,-12.65496,5308,4004.6, 2.5335,34.9082,2,244.0,2,34.9090,2,244.2,2,7.744,2,42.6,2,1.40,2,21.75,2,0.00,2,-999,9,-999,9,-999,9,-999,-999
 35HT20180611,14,1, 5, 7,20180619,0835,40.55200,-12.65496,5308,3503.6, 2.6500,34.9241,2,245.2,2,34.9245,2,245.1,2,7.746,2,38.1,2,1.37,2,21.65,2,0.00,2,-999,9,-999,9,-999,9,-999,-999
 35HT20180611,14,1, 6, 8,20180619,0835,40.55200,-12.65496,5308,3253.4, 2.7432,34.9340,2,246.7,2,34.9350,2,246.8,2,7.747,2,34.6,2,1.35,2,20.79,2,0.00,2,-999,9,-999,9,-999,9,-999,-999
 35HT20180611,14,1, 7, 9,20180619,0835,40.55200,-12.65496,5308,3005.6, 2.8649,34.9457,2,248.5,2,34.9469,2,248.8,2,7.747,2,32.0,2,1.32,2,20.44,2,0.00,2,-999,9,-999,9,-999,9,-999,-999
 35HT20180611,14,1, 8,10,20180619,0835,40.55200,-12.65496,5308,2746.4, 3.0299,34.9600,2,250.5,2,   -999,9, -999,9,7.754,4,24.7,4,1.21,4,18.85,4,0.00,2,-999,9,-999,9,-999,9,-999,-999
 35HT20180611,14,1, 9,11,20180619,0835,40.55200,-12.65496,5308,2499.4, 3.2434,34.9762,2,252.6,2,34.9775,2,252.8,2,7.745,2,24.8,2,1.26,2,19.25,2,0.00,2,-999,9,-999,9,-999,9,-999,-999
 35HT20180611,14,1,10,12,20180619,0835,40.55200,-12.65496,5308,2250.5, 3.5574,34.9965,2,255.8,2,34.9978,2,255.7,2,7.743,2,19.9,2,1.22,2,18.61,2,0.00,2,-999,9,-999,9,-999,9,-999,-999
 35HT20180611,14,1,11,13,20180619,0835,40.55200,-12.65496,5308,1999.2, 3.8633,35.0029,2,258.7,2,35.0090,4,259.2,2,7.736,2,15.1,2,1.13,2,17.95,2,0.00,2,-999,9,-999,9,-999,9,-999,-999
 35HT20180611,14,1,12,14,20180619,0835,40.55200,-12.65496,5308,1800.9, 4.4370,35.0671,2,253.9,2,35.0708,4,253.8,2,7.744,2,13.5,2,1.11,2,17.78,2,0.00,2,-999,9,-999,9,-999,9,-999,-999
 35HT20180611,14,1,13,15,20180619,0835,40.55200,-12.65496,5308,1602.5, 5.3983,35.2040,2,242.9,2,35.2109,4,241.8,2,7.739,2,12.2,2,1.09,2,17.68,2,0.00,2,-999,9,-999,9,-999,9,-999,-999
 35HT20180611,14,1,14,16,20180619,0835,40.55200,-12.65496,5308,1401.4, 7.6451,35.5922,2,214.4,2,35.5983,4,214.5,2,7.761,2,11.2,2,1.07,2,17.28,2,0.00,2,-999,9,-999,9,-999,9,-999,-999
 35HT20180611,14,1,15,17,20180619,0835,40.55200,-12.65496,5308,1198.6,10.1317,36.0446,2,188.6,2,36.0457,2,188.5,2,7.783,2,9.75,2,0.99,2,16.24,2,0.00,2,-999,9,-999,9,-999,9,-999,-999
 35HT20180611,14,1,16,18,20180619,0835,40.55200,-12.65496,5308,1000.4,10.6320,36.0147,2,181.6,2,36.0156,2,181.7,2,7.789,2,9.23,2,1.00,2,16.41,2,0.00,2,-999,9,-999,9,-999,9,-999,-999
 35HT20180611,14,1,17,19,20180619,0835,40.55200,-12.65496,5308, 900.5,10.8209,35.9370,2,180.6,2,35.9372,2,180.2,2,7.783,2,8.75,2,1.02,2,16.44,2,0.00,2,-999,9,-999,9,-999,9,-999,-999
 35HT20180611,14,1,18,20,20180619,0835,40.55200,-12.65496,5308, 801.4,10.7588,35.8004,2,182.3,2,35.8025,2,181.9,2,7.777,2,8.52,2,1.04,2,16.54,2,0.00,2,-999,9,-999,9,-999,9,-999,-999
 35HT20180611,14,1,19,21,20180619,0835,40.55200,-12.65496,5308, 700.9,10.9994,35.7054,2,187.7,2,35.7050,2,187.9,2,7.778,2,7.48,2,1.02,2,16.11,2,0.00,2,-999,9,-999,9,-999,9,-999,-999
 35HT20180611,14,1,20,22,20180619,0835,40.55200,-12.65496,5308, 599.8,11.2575,35.6479,2,200.0,2,35.6514,4,198.3,2,7.787,2,6.16,2,0.91,2,14.88,2,0.00,2,-999,9,-999,9,-999,9,-999,-999
 35HT20180611,14,1,21,23,20180619,0835,40.55200,-12.65496,5308, 501.2,11.5169,35.6069,2,211.3,2,35.6069,2,210.3,2,7.794,2,4.81,2,0.79,2,13.12,2,0.00,2,-999,9,-999,9,-999,9,-999,-999
 35HT20180611,14,1,22,24,20180619,0835,40.55200,-12.65496,5308, 399.9,11.8290,35.6103,2,214.5,2,35.6107,2,213.3,2,7.804,2,4.00,2,0.73,2,12.19,2,0.00,2,-999,9,-999,9,-999,9,-999,-999
 35HT20180611,14,1,23,25,20180619,0835,40.55200,-12.65496,5308, 302.5,12.0951,35.5954,2,222.3,2,35.5952,2,221.3,2,7.821,2,3.60,2,0.65,2,10.93,2,0.00,2,-999,9,-999,9,-999,9,-999,-999
 35HT20180611,14,1,24,26,20180619,0835,40.55200,-12.65496,5308, 200.1,13.0754,35.7116,2,239.8,2,35.7124,2,239.3,2,7.872,2,1.91,2,0.40,2, 6.36,2,0.00,2,-999,9,-999,9,-999,9,-999,-999
 35HT20180611,14,1,25,27,20180619,0835,40.55200,-12.65496,5308, 153.6,13.3097,35.7401,2,243.0,2,35.7412,2,243.2,2,7.876,2,1.63,2,0.34,2, 5.42,2,0.00,2,-999,9,-999,9,-999,9,-999,-999
 35HT20180611,14,1,26,28,20180619,0835,40.55200,-12.65496,5308, 100.7,13.7923,35.8102,2,241.3,2,35.8107,2,240.3,2,7.894,2,1.10,2,0.27,2, 4.12,2,0.01,2,-999,9,-999,9,-999,9,-999,-999
 35HT20180611,14,1,27,29,20180619,0835,40.55200,-12.65496,5308,  56.8,14.8066,35.7916,2,255.4,2,35.7913,2,256.5,2,7.948,2,0.53,2,0.08,2, 0.02,2,0.01,2,-999,9,-999,9,-999,9,-999,-999
 35HT20180611,14,1,28,30,20180619,0835,40.55200,-12.65496,5308,   7.2,16.5912,35.7331,2,247.6,2,35.7340,2,246.7,2,7.958,2,0.48,2,0.06,2, 0.02,2,0.00,2,-999,9,-999,9,-999,9,-999,-999