BOTTLE,20240404CCHSIOADS
EXPOCODE,STNNBR,CASTNO,SAMPNO,BTLNBR,DATE,TIME,LATITUDE,LONGITUDE,DEPTH,CTDPRS,CTDTMP,CTDSAL,CTDSAL_FLAG_W,CTDOXY,CTDOXY_FLAG_W,SALNTY,SALNTY_FLAG_W,OXYGEN,OXYGEN_FLAG_W,PH_TOT,PH_TOT_FLAG_W,SILCAT,SILCAT_FLAG_W,PHSPHT,PHSPHT_FLAG_W,NITRAT,NITRAT_FLAG_W,NITRIT,NITRIT_FLAG_W,DELO18,DELO18_FLAG_W,DELD,DELD_FLAG_W,ALKALI,ALKALI_FLAG_W,I-129,I129ER
,,,,,,,,,METERS,DBAR,DEG C,PSS-78,,UMOL/KG,,PSS-78,,UMOL/KG,,,,UMOL/KG,,UMOL/KG,,UMOL/KG,,UMOL/KG,,/MILLE,,/MILLE,,UMOL/KG,,E7/KG,E7/KG
 35HT20180611,48,1, 1, 3,20180627,0930,52.14694,-24.07264,3905,3963.6, 2.5756,34.9124,2,243.1,2,34.9129,2,242.1,2,7.732,2,42.81,2,1.33,2,21.89,2,0.00,2,-999,9,-999,9,-999,9,-999,-999
 35HT20180611,48,1, 2, 4,20180627,0930,52.14694,-24.07264,3905,3751.9, 2.7225,34.9312,2,250.9,2,34.9306,2,250.8,2,7.730,2,33.9,2,1.21,2,20.34,2,0.00,2,-999,9,-999,9,-999,9,-999,-999
 35HT20180611,48,1, 3, 5,20180627,0930,52.14694,-24.07264,3905,3751.9, 2.7230,34.9314,2,250.9,2,34.9313,2,250.9,2,7.727,2,33.67,2,1.20,2,20.06,2,0.00,2,-999,9,-999,9,-999,9,-999,-999
 35HT20180611,48,1, 4, 6,20180627,0930,52.14694,-24.07264,3905,3501.6, 2.8124,34.9443,2,259.0,2,34.9441,2,258.8,2,7.726,2,26.68,2,1.09,2,18.72,2,0.00,2,-999,9,-999,9,-999,9,-999,-999
 35HT20180611,48,1, 5, 7,20180627,0930,52.14694,-24.07264,3905,3250.9, 2.8772,34.9504,2,263.6,2,34.9500,2,263.8,2,7.725,2,22.06,2,1.06,2,17.91,2,0.00,2,-999,9,-999,9,-999,9,-999,-999
 35HT20180611,48,1, 6, 8,20180627,0930,52.14694,-24.07264,3905,3001.3, 2.9770,34.9508,2,268.2,2,34.9504,2,268.5,2,7.726,2,18.2,2,1.04,2,17.34,2,0.00,2,-999,9,-999,9,-999,9,-999,-999
 35HT20180611,48,1, 7, 9,20180627,0930,52.14694,-24.07264,3905,2752.7, 3.0909,34.9445,2,270.4,2,34.9445,2,270.7,2,7.725,2,15.75,2,1.03,2,17.21,2,0.00,2,-999,9,-999,9,-999,9,-999,-999
 35HT20180611,48,1, 8,10,20180627,0930,52.14694,-24.07264,3905,2501.6, 3.2243,34.9382,2,272.3,2,34.9378,2,272.5,2,7.729,2,13.48,2,1.02,2,16.85,2,0.00,2,-999,9,-999,9,-999,9,-999,-999
 35HT20180611,48,1, 9,11,20180627,0930,52.14694,-24.07264,3905,2251.0, 3.3979,34.9305,2,271.8,2,34.9294,2,272.4,2,7.724,2,12.66,2,1.03,2,17.10,2,0.00,2,-999,9,-999,9,-999,9,-999,-999
 35HT20180611,48,1,10,12,20180627,0930,52.14694,-24.07264,3905,2002.2, 3.5903,34.9266,2,271.1,2,34.9259,2,271.2,2,7.724,2,11.99,2,1.05,2,17.44,2,0.00,2,-999,9,-999,9,-999,9,-999,-999
 35HT20180611,48,1,11,13,20180627,0930,52.14694,-24.07264,3905,1801.4, 3.6593,34.9126,2,276.1,2,34.9129,2,276.6,2,7.721,2,10.94,2,1.04,2,17.22,2,0.00,2,-999,9,-999,9,-999,9,-999,-999
 35HT20180611,48,1,12,14,20180627,0930,52.14694,-24.07264,3905,1601.3, 3.7041,34.9001,2,280.4,2,34.9024,2,280.3,2,7.715,2,10.19,2,1.02,2,17.09,2,0.00,2,-999,9,-999,9,-999,9,-999,-999
 35HT20180611,48,1,13,15,20180627,0930,52.14694,-24.07264,3905,1399.4, 3.8414,34.9063,2,277.8,2,34.9064,2,278.0,2,7.711,2,10.14,2,1.02,2,17.33,2,0.00,2,-999,9,-999,9,-999,9,-999,-999
 35HT20180611,48,1,14,16,20180627,0930,52.14694,-24.07264,3905,1200.4, 4.0368,34.9172,2,273.0,2,34.9187,2,272.6,2,7.711,2,10.1,2,1.03,2,17.23,2,0.00,2,-999,9,-999,9,-999,9,-999,-999
 35HT20180611,48,1,15,17,20180627,0930,52.14694,-24.07264,3905,1000.7, 4.4123,34.9374,2,263.4,2,34.9380,2,262.9,2,7.705,2,10.35,2,1.06,2,17.77,2,0.00,2,-999,9,-999,9,-999,9,-999,-999
 35HT20180611,48,1,16,18,20180627,0930,52.14694,-24.07264,3905, 900.2, 4.6518,34.9494,2,256.9,2,34.9493,2,256.9,2,7.703,2,10.47,2,1.07,2,18.05,2,0.00,2,-999,9,-999,9,-999,9,-999,-999
 35HT20180611,48,1,17,19,20180627,0930,52.14694,-24.07264,3905, 801.1, 5.2979,34.9941,2,242.1,2,34.9945,2,240.1,2,7.699,2,10.89,2,1.07,2,18.71,2,0.00,2,-999,9,-999,9,-999,9,-999,-999
 35HT20180611,48,1,18,20,20180627,0930,52.14694,-24.07264,3905, 801.1, 5.2977,34.9942,2,242.1,2,34.9941,2,239.9,4,7.697,2,10.88,2,1.04,2,18.65,2,0.00,2,-999,9,-999,9,-999,9,-999,-999
 35HT20180611,48,1,19,21,20180627,0930,52.14694,-24.07264,3905, 700.0, 5.6904,34.9494,2,228.0,2,34.9481,2,225.8,4,7.689,2,11.52,2,1.10,2,19.12,2,0.00,2,-999,9,-999,9,-999,9,-999,-999
 35HT20180611,48,1,20,22,20180627,0930,52.14694,-24.07264,3905, 601.9, 6.5670,34.9563,2,210.6,2,34.9571,2,209.9,2,7.690,2,11.35,2,1.16,2,19.52,2,0.00,2,-999,9,-999,9,-999,9,-999,-999
 35HT20180611,48,1,21,23,20180627,0930,52.14694,-24.07264,3905, 499.5, 7.7189,35.0101,2,200.6,2,35.0095,2,198.7,2,7.703,2,10.72,2,1.16,2,19.37,2,0.00,2,-999,9,-999,9,-999,9,-999,-999
 35HT20180611,48,1,22,24,20180627,0930,52.14694,-24.07264,3905, 400.2, 9.1441,35.1379,2,229.7,2,35.1397,2,226.4,4,7.757,2,7.67,2,0.94,2,15.63,2,0.00,2,-999,9,-999,9,-999,9,-999,-999
 35HT20180611,48,1,23,25,20180627,0930,52.14694,-24.07264,3905, 301.2, 9.8874,35.2387,2,256.3,2,35.2396,2,253.9,4,7.803,2,5.01,2,0.77,2,12.35,2,0.01,2,-999,9,-999,9,-999,9,-999,-999
 35HT20180611,48,1,24,26,20180627,0930,52.14694,-24.07264,3905, 200.6,10.4231,35.3148,2,249.8,2,35.3166,2,249.6,2,7.812,2,4.68,2,0.72,2,11.84,2,0.08,2,-999,9,-999,9,-999,9,-999,-999
 35HT20180611,48,1,25,27,20180627,0930,52.14694,-24.07264,3905, 150.5,10.7634,35.3671,2,254.0,2,35.3657,2,253.5,2,7.824,2,4.12,2,0.66,2,11.34,2,0.02,2,-999,9,-999,9,-999,9,-999,-999
 35HT20180611,48,1,26,28,20180627,0930,52.14694,-24.07264,3905, 100.7,11.1845,35.4297,2,251.2,2,35.4291,2,251.0,2,7.832,2,4.09,2,0.64,2,10.80,2,0.04,2,-999,9,-999,9,-999,9,-999,-999
 35HT20180611,48,1,27,29,20180627,0930,52.14694,-24.07264,3905,  56.1,11.7816,35.3905,2,259.1,2,35.3905,2,260.1,2,7.859,2,2.17,2,0.55,2, 8.18,2,0.22,2,-999,9,-999,9,-999,9,-999,-999
 35HT20180611,48,1,28,30,20180627,0930,52.14694,-24.07264,3905,   7.1,13.2395,35.3021,2,279.0,2,35.3021,2,279.6,2,7.929,2,0.31,2,0.29,2, 4.17,2,0.09,2,0.535,2,3.14,2,-999,9,-999,-999
 35HT20180611,49,1, 1, 3,20180627,1505,52.52050,-24.36102,3599,3649.1, 2.5247,34.9109,2,242.2,2,34.9110,2,242.3,2,7.736,2,43.4,2,1.43,2,22.14,2,0.00,2,-999,9,-999,9,2351,2,-999,-999
 35HT20180611,49,1, 2, 4,20180627,1505,52.52050,-24.36102,3599,3500.7, 2.6201,34.9226,2,247.8,2,34.9227,2,247.9,2,7.738,2,37.28,2,1.33,2,21.07,2,0.00,2,-999,9,-999,9,2341,2,-999,-999
 35HT20180611,49,1, 3, 5,20180627,1505,52.52050,-24.36102,3599,3250.7, 2.7653,34.9396,2,257.4,2,34.9396,2,259.8,4,7.727,2,28.58,2,1.24,2,19.20,2,0.00,2,-999,9,-999,9,2329,2,-999,-999
 35HT20180611,49,1, 4, 6,20180627,1505,52.52050,-24.36102,3599,3001.2, 2.9036,34.9491,2,264.5,2,34.9492,2,264.7,2,7.723,2,21.32,2,1.13,2,17.92,2,0.00,2,-999,9,-999,9,2318,2,-999,-999
 35HT20180611,49,1, 5, 7,20180627,1505,52.52050,-24.36102,3599,3001.3, 2.9033,34.9490,2,264.5,2,34.9489,2,264.7,2,7.724,2,21.15,2,1.13,2,17.80,2,0.00,2,-999,9,-999,9,-999,9,-999,-999
 35HT20180611,49,1, 6, 8,20180627,1505,52.52050,-24.36102,3599,2750.1, 3.0136,34.9477,2,268.8,2,34.9477,2,268.8,2,7.729,2,17.55,2,1.11,2,17.34,2,0.00,2,-999,9,-999,9,2312,2,-999,-999
 35HT20180611,49,1, 7, 9,20180627,1505,52.52050,-24.36102,3599,2500.9, 3.1429,34.9407,2,271.4,2,34.9406,2,271.5,2,7.725,2,14.54,2,1.09,2,17.14,2,0.00,2,-999,9,-999,9,2308,2,-999,-999
 35HT20180611,49,1, 8,10,20180627,1505,52.52050,-24.36102,3599,2251.2, 3.2836,34.9329,2,272.2,2,34.9328,2,272.5,2,7.724,2,13.07,2,1.08,2,16.92,2,0.00,2,-999,9,-999,9,2306,2,-999,-999
 35HT20180611,49,1, 9,11,20180627,1505,52.52050,-24.36102,3599,2001.2, 3.4605,34.9284,2,271.6,2,34.9279,2,272.5,2,7.725,2,12.26,2,1.09,2,17.14,2,0.00,2,-999,9,-999,9,2305,2,-999,-999
 35HT20180611,49,1,10,12,20180627,1505,52.52050,-24.36102,3599,1801.5, 3.5863,34.9260,2,271.7,2,34.9250,2,271.7,2,7.720,2,11.65,2,1.08,2,17.14,2,0.00,2,-999,9,-999,9,2304,2,-999,-999
 35HT20180611,49,1,11,13,20180627,1505,52.52050,-24.36102,3599,1600.9, 3.6358,34.9117,2,276.7,2,34.9120,2,276.6,2,7.716,2,10.66,2,1.07,2,17.05,2,0.00,2,-999,9,-999,9,2304,2,-999,-999
 35HT20180611,49,1,12,14,20180627,1505,52.52050,-24.36102,3599,1400.7, 3.7120,34.9069,2,278.9,2,34.9064,2,278.4,2,7.714,2,10.37,2,1.07,2,17.21,2,0.00,2,-999,9,-999,9,2304,2,-999,-999
 35HT20180611,49,1,13,15,20180627,1505,52.52050,-24.36102,3599,1200.3, 3.7920,34.9022,2,279.0,2,34.9024,2,279.0,2,7.709,2,10.07,2,1.05,2,16.96,2,0.00,2,-999,9,-999,9,2303,2,-999,-999
 35HT20180611,49,1,14,16,20180627,1505,52.52050,-24.36102,3599,1000.4, 3.9597,34.9083,2,275.8,2,34.9077,2,275.9,2,7.708,2,9.82,2,1.05,2,17.16,2,0.00,2,-999,9,-999,9,2303,2,-999,-999
 35HT20180611,49,1,15,17,20180627,1505,52.52050,-24.36102,3599, 900.7, 4.0835,34.9144,2,272.7,2,34.9146,2,272.7,2,7.702,2,9.82,2,1.04,2,17.47,2,0.00,2,-999,9,-999,9,-999,9,-999,-999
 35HT20180611,49,1,16,18,20180627,1505,52.52050,-24.36102,3599, 800.7, 4.2481,34.9225,2,267.6,2,34.9207,2,266.9,2,7.702,2,9.97,2,1.08,2,17.55,2,0.00,2,-999,9,-999,9,2304,2,-999,-999
 35HT20180611,49,1,17,19,20180627,1505,52.52050,-24.36102,3599, 699.7, 4.4897,34.9378,2,260.9,2,34.9373,2,259.7,2,7.702,2,10.02,2,1.06,2,17.95,2,0.00,2,-999,9,-999,9,-999,9,-999,-999
 35HT20180611,49,1,18,20,20180627,1505,52.52050,-24.36102,3599, 601.2, 4.6978,34.9211,2,253.6,2,34.9209,2,253.0,2,7.696,2,10.24,2,1.11,2,18.14,2,0.00,2,-999,9,-999,9,2305,2,-999,-999
 35HT20180611,49,1,19,21,20180627,1505,52.52050,-24.36102,3599, 500.9, 5.1672,34.9283,2,238.7,2,34.9257,2,239.8,2,7.691,2,10.64,2,1.17,2,18.48,2,0.01,2,-999,9,-999,9,2306,2,-999,-999
 35HT20180611,49,1,20,22,20180627,1505,52.52050,-24.36102,3599, 500.9, 5.1811,34.9302,2,241.1,2,34.9259,4,240.0,2,7.687,2,10.69,2,1.17,2,18.35,2,0.00,2,-999,9,-999,9,2306,2,-999,-999
 35HT20180611,49,1,21,23,20180627,1505,52.52050,-24.36102,3599, 401.1, 5.5721,34.8383,2,236.3,2,34.8388,2,235.9,2,7.690,2,10.23,2,1.16,2,18.33,2,0.00,2,-999,9,-999,9,2301,2,-999,-999
 35HT20180611,49,1,22,24,20180627,1505,52.52050,-24.36102,3599, 301.0, 6.6855,34.8882,2,228.2,2,34.8848,4,227.8,2,7.708,2,9.91,2,1.14,2,18.07,2,0.00,2,-999,9,-999,9,2305,2,-999,-999
 35HT20180611,49,1,23,25,20180627,1505,52.52050,-24.36102,3599, 200.2, 7.5028,34.9209,2,258.7,2,34.9203,2,257.8,2,7.748,2,7.50,2,0.95,2,14.79,2,0.01,2,-999,9,-999,9,2307,2,-999,-999
 35HT20180611,49,1,24,26,20180627,1505,52.52050,-24.36102,3599, 151.8, 8.1764,35.0021,2,264.8,2,35.0021,2,265.1,2,7.771,2,6.33,2,0.88,2,13.69,2,0.01,2,-999,9,-999,9,-999,9,-999,-999
 35HT20180611,49,1,25,27,20180627,1505,52.52050,-24.36102,3599, 101.4, 8.6919,35.0576,2,267.9,2,35.0556,2,267.4,2,7.783,2,5.35,2,0.84,2,12.82,2,0.28,2,-999,9,-999,9,2313,2,-999,-999
 35HT20180611,49,1,26,28,20180627,1505,52.52050,-24.36102,3599,  55.3, 9.5620,35.0515,2,278.9,2,35.0531,2,278.6,2,7.829,2,3.55,2,0.70,2, 9.33,2,0.25,2,-999,9,-999,9,-999,9,-999,-999
 35HT20180611,49,1,27,29,20180627,1505,52.52050,-24.36102,3599,   5.6,12.1513,34.9501,2,305.1,4,   -999,9, -999,9, -999,9,1.29,2,0.35,2, 4.07,2,0.11,2,-999,9,-999,9,-999,9,-999,-999
 35HT20180611,49,1,28,30,20180627,1505,52.52050,-24.36102,3599,   5.6,12.1609,34.9502,2,298.2,2,34.9514,2,297.4,2,7.919,2,-999,9,-999,9, -999,9,-999,9,0.34,2,1.59,2,2312,2,-999,-999
 35HT20180611,50,1, 1, 3,20180627,2040,52.89086,-24.66214,3606,3656.6, 2.4827,34.9067,2,241.0,2,34.9062,2,239.8,2,7.736,2,43.36,2,1.41,2, -999,9,0.03,2,-999,9,-999,9,-999,9,-999,-999
 35HT20180611,50,1, 2, 4,20180627,2040,52.89086,-24.66214,3606,3500.9, 2.6466,34.9257,2,248.8,2,34.9263,2,248.5,2,7.732,2,35.95,2,1.34,2,20.57,2,0.01,2,-999,9,-999,9,-999,9,-999,-999
 35HT20180611,50,1, 3, 5,20180627,2040,52.89086,-24.66214,3606,3250.5, 2.8145,34.9435,2,259.2,2,34.9438,2,259.2,2,7.725,2,26.13,2,1.20,2,18.59,2,0.02,2,-999,9,-999,9,-999,9,-999,-999
 35HT20180611,50,1, 4, 6,20180627,2040,52.89086,-24.66214,3606,3001.7, 2.9277,34.9459,2,263.4,2,34.9456,2,263.4,2,7.729,2,21.68,2,1.16,2,17.90,2,0.02,2,-999,9,-999,9,-999,9,-999,-999
 35HT20180611,50,1, 5, 7,20180627,2040,52.89086,-24.66214,3606,2750.6, 3.1103,34.9436,2,270.2,2,34.9434,2,270.7,2,7.728,2,15.59,2,1.08,2,16.90,2,0.01,2,-999,9,-999,9,-999,9,-999,-999
 35HT20180611,50,1, 6, 8,20180627,2040,52.89086,-24.66214,3606,2501.2, 3.2310,34.9372,2,271.1,2,34.9362,2,271.1,2,7.727,2,14.24,2,1.08,2,16.79,2,0.01,2,-999,9,-999,9,-999,9,-999,-999
 35HT20180611,50,1, 7, 9,20180627,2040,52.89086,-24.66214,3606,2501.4, 3.2311,34.9371,2,271.3,2,34.9364,2,271.3,2,7.726,2,14.21,2,1.09,2,16.91,2,0.01,2,-999,9,-999,9,-999,9,-999,-999
 35HT20180611,50,1, 8,10,20180627,2040,52.89086,-24.66214,3606,2252.3, 3.3807,34.9304,2,271.9,2,34.9303,2,272.1,2,7.727,2,12.73,2,1.09,2,16.97,2,0.02,2,-999,9,-999,9,-999,9,-999,-999
 35HT20180611,50,1, 9,11,20180627,2040,52.89086,-24.66214,3606,2001.2, 3.5467,34.9268,2,270.8,2,34.9267,2,270.9,2,7.723,2,12.11,2,1.08,2,17.15,2,0.01,2,-999,9,-999,9,-999,9,-999,-999
 35HT20180611,50,1,10,12,20180627,2040,52.89086,-24.66214,3606,1801.0, 3.6701,34.9223,2,272.3,2,34.9223,2,272.4,2,7.721,2,11.23,2,1.08,2,16.83,2,0.01,2,-999,9,-999,9,-999,9,-999,-999
 35HT20180611,50,1,11,13,20180627,2040,52.89086,-24.66214,3606,1600.1, 3.6615,34.9024,2,280.0,2,34.9023,2,280.1,2,7.716,2,10.34,2,1.09,2,16.69,2,0.00,2,-999,9,-999,9,-999,9,-999,-999
 35HT20180611,50,1,12,14,20180627,2040,52.89086,-24.66214,3606,1399.4, 3.7665,34.9026,2,279.3,2,34.9041,2,279.0,2,7.712,2,10.02,2,1.10,2,16.61,2,0.01,2,-999,9,-999,9,-999,9,-999,-999
 35HT20180611,50,1,13,15,20180627,2040,52.89086,-24.66214,3606,1203.6, 3.9089,34.9083,2,276.6,2,34.9079,2,277.0,2,7.712,2,10.07,2,1.09,2,16.82,2,0.00,2,-999,9,-999,9,-999,9,-999,-999
 35HT20180611,50,1,14,16,20180627,2040,52.89086,-24.66214,3606,1000.1, 4.1717,34.9281,2,268.8,2,34.9284,2,268.6,2,7.711,2,10.22,2,1.13,2,17.29,2,0.00,2,-999,9,-999,9,-999,9,-999,-999
 35HT20180611,50,1,15,17,20180627,2040,52.89086,-24.66214,3606, 858.8, 4.5479,34.9531,2,258.7,2,34.9538,2,258.9,2,7.703,2,10.42,2,1.14,2,17.49,2,0.01,2,-999,9,-999,9,-999,9,-999,-999
 35HT20180611,50,1,16,18,20180627,2040,52.89086,-24.66214,3606, 801.6, 4.9231,34.9930,2,251.9,2,34.9929,2,251.1,2,7.706,2,10.41,2,1.12,2,17.80,2,0.01,2,-999,9,-999,9,-999,9,-999,-999
 35HT20180611,50,1,17,19,20180627,2040,52.89086,-24.66214,3606, 702.3, 5.2435,35.0033,2,243.3,2,35.0031,2,242.4,2,7.700,2,10.49,2,1.15,2,18.16,2,0.01,2,-999,9,-999,9,-999,9,-999,-999
 35HT20180611,50,1,18,20,20180627,2040,52.89086,-24.66214,3606, 601.0, 5.6633,34.9965,2,229.7,2,34.9969,2,230.1,2,7.697,2,10.9,2,1.19,2,18.64,2,0.01,2,-999,9,-999,9,-999,9,-999,-999
 35HT20180611,50,1,19,21,20180627,2040,52.89086,-24.66214,3606, 500.8, 6.4035,34.9856,2,215.4,2,34.9857,2,213.2,4,7.695,2,10.93,2,1.22,2,18.96,2,0.01,2,-999,9,-999,9,-999,9,-999,-999
 35HT20180611,50,1,20,22,20180627,2040,52.89086,-24.66214,3606, 402.0, 7.0133,34.9297,2,218.1,2,34.9302,2,217.5,2,7.701,2,10.15,2,1.18,2,18.01,2,0.02,2,-999,9,-999,9,-999,9,-999,-999
 35HT20180611,50,1,21,23,20180627,2040,52.89086,-24.66214,3606, 301.1, 8.4597,35.0461,2,237.3,2,35.0427,4,236.0,2,7.751,2,7.72,2,1.00,2,15.13,2,0.02,2,-999,9,-999,9,-999,9,-999,-999
 35HT20180611,50,1,22,24,20180627,2040,52.89086,-24.66214,3606, 301.4, 8.4366,35.0437,2,237.1,2,35.0453,2,236.3,2,7.752,2,7.66,2,0.98,2,15.22,2,0.03,2,-999,9,-999,9,-999,9,-999,-999
 35HT20180611,50,1,23,25,20180627,2040,52.89086,-24.66214,3606, 200.8, 9.6912,35.2195,2,258.4,2,35.2191,2,257.8,2,7.750,2,5.06,2,0.76,2,12.16,2,0.03,2,-999,9,-999,9,-999,9,-999,-999
 35HT20180611,50,1,24,26,20180627,2040,52.89086,-24.66214,3606, 151.0,10.1088,35.2844,2,257.4,2,35.2840,2,257.3,2,7.815,2,5.23,2,0.73,2,11.80,2,0.03,2,-999,9,-999,9,-999,9,-999,-999
 35HT20180611,50,1,25,27,20180627,2040,52.89086,-24.66214,3606, 101.2,10.3796,35.3225,2,259.0,2,35.3154,4,256.7,4,7.816,2,4.45,2,0.68,2,11.36,2,0.04,2,-999,9,-999,9,-999,9,-999,-999
 35HT20180611,50,1,26,28,20180627,2040,52.89086,-24.66214,3606,  55.5,10.5850,35.3439,2,259.8,2,35.3441,2,259.7,2,7.817,2,3.59,2,0.67,2,10.94,2,0.16,2,-999,9,-999,9,-999,9,-999,-999
 35HT20180611,50,1,28,30,20180627,2040,52.89086,-24.66214,3606,   6.5,12.1611,35.1480,2,291.5,2,35.1474,2,291.2,2,7.920,2,0.94,2,0.34,2, 4.40,2,0.11,2,-999,9,-999,9,-999,9,-999,-999