BOTTLE,20240404CCHSIOADS
EXPOCODE,STNNBR,CASTNO,SAMPNO,BTLNBR,DATE,TIME,LATITUDE,LONGITUDE,DEPTH,CTDPRS,CTDTMP,CTDSAL,CTDSAL_FLAG_W,CTDOXY,CTDOXY_FLAG_W,SALNTY,SALNTY_FLAG_W,OXYGEN,OXYGEN_FLAG_W,PH_TOT,PH_TOT_FLAG_W,SILCAT,SILCAT_FLAG_W,PHSPHT,PHSPHT_FLAG_W,NITRAT,NITRAT_FLAG_W,NITRIT,NITRIT_FLAG_W,DELO18,DELO18_FLAG_W,DELD,DELD_FLAG_W,ALKALI,ALKALI_FLAG_W,I-129,I129ER
,,,,,,,,,METERS,DBAR,DEG C,PSS-78,,UMOL/KG,,PSS-78,,UMOL/KG,,,,UMOL/KG,,UMOL/KG,,UMOL/KG,,UMOL/KG,,/MILLE,,/MILLE,,UMOL/KG,,E7/KG,E7/KG
 35HT20180611,21,1, 1, 3,20180621,0359,42.58144,-15.4664,4999,5082.5, 2.5277,34.8943,2,244.7,2,34.8932,2,243.2,2,7.743,2,46.28,2,1.47,2,22.00,2,0.00,2,-999,9,-999,9,2354,2,-999,-999
 35HT20180611,21,1, 2, 4,20180621,0359,42.58144,-15.4664,4999,5082.4, 2.5279,34.8944,2,244.7,2,34.8937,2,243.5,2,7.745,2,45.98,2,1.47,2,21.90,2,0.00,2,-999,9,-999,9,2354,2,-999,-999
 35HT20180611,21,1, 3, 5,20180621,0359,42.58144,-15.4664,4999,4500.0, 2.4825,34.8977,2,244.0,2,34.8975,2,243.9,2,7.744,2,45.22,2,1.48,2,21.70,2,0.00,2,-999,9,-999,9,2351,2,-999,-999
 35HT20180611,21,1, 4, 6,20180621,0359,42.58144,-15.4664,4999,4000.2, 2.5097,34.9064,2,244.1,2,34.9061,2,243.9,2,7.744,2,43.04,2,1.47,2,21.70,2,0.00,2,-999,9,-999,9,2348,2,-999,-999
 35HT20180611,21,1, 5, 7,20180621,0359,42.58144,-15.4664,4999,3499.9, 2.6001,34.9201,2,244.9,2,34.9198,2,247.7,4,7.744,2,39.69,2,1.43,2,21.10,2,0.00,2,-999,9,-999,9,2344,2,-999,-999
 35HT20180611,21,1, 6, 8,20180621,0359,42.58144,-15.4664,4999,3003.8, 2.8379,34.9440,2,248.3,2,34.9434,2,248.4,2,7.744,2,33.48,2,1.37,2,20.00,2,0.00,2,-999,9,-999,9,2336,2,-999,-999
 35HT20180611,21,1, 7, 9,20180621,0359,42.58144,-15.4664,4999,2750.9, 3.0117,34.9572,2,251.2,2,34.9573,2,253.5,4,7.744,2,29.04,2,1.32,2,19.40,2,0.00,2,-999,9,-999,9,2331,2,-999,-999
 35HT20180611,21,1, 8,10,20180621,0359,42.58144,-15.4664,4999,2501.3, 3.2273,34.9669,2,256.8,2,34.9665,2,257.7,2,7.742,2,23.58,2,1.25,2,18.80,2,0.00,2,-999,9,-999,9,2323,2,-999,-999
 35HT20180611,21,1, 9,11,20180621,0359,42.58144,-15.4664,4999,2250.7, 3.4969,34.9751,2,260.6,2,34.9745,2,261.5,2,7.738,2,18.47,2,1.18,2,18.30,2,0.00,2,-999,9,-999,9,2316,2,-999,-999
 35HT20180611,21,1,10,12,20180621,0359,42.58144,-15.4664,4999,2000.7, 3.9396,35.0106,2,259.0,2,35.0108,2,260.7,2,7.736,2,15.4,2,1.17,2,17.70,2,0.00,2,-999,9,-999,9,2314,2,-999,-999
 35HT20180611,21,1,11,13,20180621,0359,42.58144,-15.4664,4999,1799.9, 4.2739,35.0292,2,257.4,2,35.0293,2,259.1,2,7.730,2,13.03,2,1.14,2,17.40,2,0.00,2,-999,9,-999,9,2312,2,-999,-999
 35HT20180611,21,1,12,14,20180621,0359,42.58144,-15.4664,4999,1601.2, 5.0595,35.1310,2,248.6,2,35.1307,2,248.6,2,7.731,2,11.94,2,1.13,2,17.20,2,0.00,2,-999,9,-999,9,2318,2,-999,-999
 35HT20180611,21,1,13,15,20180621,0359,42.58144,-15.4664,4999,1401.2, 6.7827,35.4034,2,225.7,2,35.4044,2,227.0,2,7.744,2,11.3,2,1.12,2,17.00,2,0.00,2,-999,9,-999,9,2337,2,-999,-999
 35HT20180611,21,1,14,16,20180621,0359,42.58144,-15.4664,4999,1200.6, 8.3816,35.6330,2,204.4,2,35.6344,2,204.6,2,7.758,2,10.69,2,1.12,2,17.10,2,0.00,2,-999,9,-999,9,2352,2,-999,-999
 35HT20180611,21,1,15,17,20180621,0359,42.58144,-15.4664,4999,1000.6,10.3101,35.8877,2,184.7,2,35.8876,2,184.9,2,7.777,2,9.42,2,1.04,2,16.40,2,0.00,2,-999,9,-999,9,2368,2,-999,-999
 35HT20180611,21,1,16,18,20180621,0359,42.58144,-15.4664,4999, 900.7,10.5061,35.8154,2,184.8,2,35.8151,2,185.0,2,7.774,2,8.94,2,1.05,2,16.30,2,0.00,2,-999,9,-999,9,-999,9,-999,-999
 35HT20180611,21,1,17,19,20180621,0359,42.58144,-15.4664,4999, 801.6,10.9564,35.7821,2,186.3,2,35.7822,2,186.1,2,7.781,2,7.97,2,0.98,2,15.50,2,0.00,2,-999,9,-999,9,2355,2,-999,-999
 35HT20180611,21,1,18,20,20180621,0359,42.58144,-15.4664,4999, 681.1,11.0457,35.6532,2,198.2,2,35.6527,2,198.0,2,7.784,2,6.81,2,0.93,2,14.70,2,0.00,2,-999,9,-999,9,-999,9,-999,-999
 35HT20180611,21,1,19,21,20180621,0359,42.58144,-15.4664,4999, 601.0,10.9756,35.5644,2,208.9,2,35.5643,2,208.5,2,7.787,2,5.94,2,0.89,2,14.10,2,0.00,2,-999,9,-999,9,2338,2,-999,-999
 35HT20180611,21,1,20,22,20180621,0359,42.58144,-15.4664,4999, 501.2,11.0712,35.5131,2,214.7,2,35.5115,2,214.6,2,7.789,2,5.42,2,0.84,2,13.50,2,0.01,2,-999,9,-999,9,2333,2,-999,-999
 35HT20180611,21,1,21,23,20180621,0359,42.58144,-15.4664,4999, 401.0,11.4854,35.5257,2,222.8,2,35.5237,2,222.0,2,7.804,2,4.53,2,0.75,2,12.00,2,0.00,2,-999,9,-999,9,2332,2,-999,-999
 35HT20180611,21,1,22,24,20180621,0359,42.58144,-15.4664,4999, 300.7,12.1097,35.5874,2,225.1,2,35.5853,2,224.9,2,7.825,2,3.74,2,0.64,2,10.60,2,0.00,2,-999,9,-999,9,2336,2,-999,-999
 35HT20180611,21,1,23,25,20180621,0359,42.58144,-15.4664,4999, 200.9,12.7701,35.6734,2,244.4,2,35.6721,2,244.5,2,7.866,2,2.42,2,0.45,2, 6.97,2,0.00,2,-999,9,-999,9,2339,2,-999,-999
 35HT20180611,21,1,24,26,20180621,0359,42.58144,-15.4664,4999, 150.5,13.0286,35.7030,2,243.4,2,35.7026,2,243.1,2,7.872,2,2.29,2,0.44,2, 6.59,2,0.01,2,-999,9,-999,9,-999,9,-999,-999
 35HT20180611,21,1,25,27,20180621,0359,42.58144,-15.4664,4999, 100.3,13.3843,35.7442,2,241.9,2,35.7436,2,242.0,2,7.882,2,1.98,2,0.37,2, 5.78,2,0.01,2,-999,9,-999,9,2336,2,-999,-999
 35HT20180611,21,1,26,28,20180621,0359,42.58144,-15.4664,4999,  31.0,15.4171,35.7709,2,258.2,2,35.7711,2,258.3,2,7.967,2,0.53,2,0.07,2, 0.05,2,0.00,2,-999,9,-999,9,-999,9,-999,-999
 35HT20180611,21,1,27,29,20180621,0359,42.58144,-15.4664,4999,   5.4,17.2128,35.7682,2,248.0,2,35.7687,2,248.1,2,7.967,2,0.10,2,0.08,2, 0.03,2,0.00,2,-999,9,-999,9,-999,9,-999,-999
 35HT20180611,21,1,28,30,20180621,0359,42.58144,-15.4664,4999,   5.4,17.2132,35.7684,2,248.7,2,   -999,9, -999,9, -999,9,-999,9,-999,9, -999,9,-999,9,0.761,2,4.62,2,2348,2,-999,-999
 35HT20180611,22,1, 1, 3,20180621,0934,42.88090,-15.85376,4201,4262.5, 2.4968,34.9015,2,243.6,2,34.9012,2,243.3,2,7.741,2,44.07,2,1.44,2,22.10,2,0.00,2,-999,9,-999,9,-999,9,-999,-999
 35HT20180611,22,1, 2, 4,20180621,0934,42.88090,-15.85376,4201,4000.2, 2.5010,34.9051,2,243.6,2,34.9049,2,243.0,2,7.742,2,43.26,2,1.42,2,21.70,2,0.00,2,-999,9,-999,9,-999,9,-999,-999
 35HT20180611,22,1, 3, 5,20180621,0934,42.88090,-15.85376,4201,3750.1, 2.5303,34.9108,2,243.7,2,34.9104,2,243.2,2,7.746,2,42.08,2,1.42,2,21.50,2,0.00,2,-999,9,-999,9,-999,9,-999,-999
 35HT20180611,22,1, 4, 6,20180621,0934,42.88090,-15.85376,4201,3501.5, 2.6170,34.9211,2,245.1,2,34.9215,2,246.2,2,7.743,2,39.06,2,1.39,2,21.20,2,0.00,2,-999,9,-999,9,-999,9,-999,-999
 35HT20180611,22,1, 5, 7,20180621,0934,42.88090,-15.85376,4201,3250.5, 2.6973,34.9302,2,246.2,2,34.9309,2,246.1,2,7.742,2,36.19,2,1.38,2,20.90,2,0.00,2,-999,9,-999,9,-999,9,-999,-999
 35HT20180611,22,1, 6, 8,20180621,0934,42.88090,-15.85376,4201,3002.1, 2.8354,34.9425,2,248.8,2,34.9427,2,248.8,2,7.742,2,32.62,2,1.30,2,20.20,2,0.00,2,-999,9,-999,9,-999,9,-999,-999
 35HT20180611,22,1, 7, 9,20180621,0934,42.88090,-15.85376,4201,2750.6, 3.0071,34.9533,2,252.5,2,34.9538,2,252.4,2,7.742,2,27.82,2,1.26,2,19.70,2,0.00,2,-999,9,-999,9,-999,9,-999,-999
 35HT20180611,22,1, 8,10,20180621,0934,42.88090,-15.85376,4201,2501.2, 3.1797,34.9613,2,255.7,2,34.9622,2,255.7,2,7.740,2,23.86,2,1.23,2,19.10,2,0.00,2,-999,9,-999,9,-999,9,-999,-999
 35HT20180611,22,1, 9,11,20180621,0934,42.88090,-15.85376,4201,2251.9, 3.4734,34.9687,2,261.2,2,34.9695,2,261.2,2,7.739,2,18.22,2,1.17,2,18.20,2,0.00,2,-999,9,-999,9,-999,9,-999,-999
 35HT20180611,22,1,10,12,20180621,0934,42.88090,-15.85376,4201,2000.7, 3.8623,34.9898,2,261.1,2,34.9907,2,261.2,2,7.732,2,14.67,2,1.13,2,17.70,2,0.00,2,-999,9,-999,9,-999,9,-999,-999
 35HT20180611,22,1,11,13,20180621,0934,42.88090,-15.85376,4201,2000.7, 3.8625,34.9898,2,261.1,2,34.9905,2,261.0,2,7.734,2,14.52,2,1.13,2,17.80,2,0.00,2,-999,9,-999,9,-999,9,-999,-999
 35HT20180611,22,1,12,14,20180621,0934,42.88090,-15.85376,4201,1801.3, 4.3753,35.0449,2,255.5,2,35.0452,2,256.0,2,7.730,2,12.91,2,1.14,2,17.60,2,0.00,2,-999,9,-999,9,-999,9,-999,-999
 35HT20180611,22,1,13,15,20180621,0934,42.88090,-15.85376,4201,1602.1, 5.0520,35.1336,2,247.7,2,35.1365,4,248.2,2,7.730,2,11.93,2,1.11,2,17.50,2,0.00,2,-999,9,-999,9,-999,9,-999,-999
 35HT20180611,22,1,14,16,20180621,0934,42.88090,-15.85376,4201,1400.0, 6.3748,35.3295,2,230.2,2,35.3297,2,230.0,2,7.738,2,11.24,2,1.11,2,17.80,2,0.00,2,-999,9,-999,9,-999,9,-999,-999
 35HT20180611,22,1,15,17,20180621,0934,42.88090,-15.85376,4201,1201.1, 7.8102,35.5261,2,209.5,2,35.5245,2,210.3,2,7.750,2,10.72,2,1.11,2,17.50,2,0.00,2,-999,9,-999,9,-999,9,-999,-999
 35HT20180611,22,1,16,18,20180621,0934,42.88090,-15.85376,4201, 999.8, 9.7610,35.7661,2,187.7,2,35.7657,2,186.7,2,7.765,2,9.75,2,1.06,2,17.10,2,0.00,2,-999,9,-999,9,-999,9,-999,-999
 35HT20180611,22,1,17,19,20180621,0934,42.88090,-15.85376,4201, 899.5,10.0154,35.7263,2,185.4,2,35.7201,4,185.0,2,7.764,2,9.31,2,1.04,2,17.10,2,0.00,2,-999,9,-999,9,-999,9,-999,-999
 35HT20180611,22,1,18,20,20180621,0934,42.88090,-15.85376,4201, 801.8,10.1837,35.6298,2,187.4,2,35.6271,4,186.0,2,7.761,2,8.72,2,1.04,2,17.00,2,0.00,2,-999,9,-999,9,-999,9,-999,-999
 35HT20180611,22,1,19,21,20180621,0934,42.88090,-15.85376,4201, 701.7,10.3894,35.5247,2,194.4,2,35.5241,2,194.4,2,7.765,2,7.66,2,0.95,2,16.30,2,0.01,2,-999,9,-999,9,-999,9,-999,-999
 35HT20180611,22,1,20,22,20180621,0934,42.88090,-15.85376,4201, 602.5,10.8170,35.4958,2,208.3,2,35.4950,2,208.9,2,7.780,2,6.01,2,0.86,2,14.50,2,0.01,2,-999,9,-999,9,-999,9,-999,-999
 35HT20180611,22,1,21,23,20180621,0934,42.88090,-15.85376,4201, 500.9,11.1162,35.4923,2,215.8,2,35.4913,2,215.5,2,7.791,2,5.13,2,0.80,2,13.30,2,0.01,2,-999,9,-999,9,-999,9,-999,-999
 35HT20180611,22,1,22,24,20180621,0934,42.88090,-15.85376,4201, 400.8,11.6540,35.5395,2,219.2,2,35.5431,4,219.3,2,7.806,2,4.24,2,0.71,2,12.10,2,0.01,2,-999,9,-999,9,-999,9,-999,-999
 35HT20180611,22,1,23,25,20180621,0934,42.88090,-15.85376,4201, 292.1,12.2983,35.6090,2,228.1,2,35.6086,2,227.2,2,7.836,2,3.31,2,0.59,2, 9.90,2,0.01,2,-999,9,-999,9,-999,9,-999,-999
 35HT20180611,22,1,24,26,20180621,0934,42.88090,-15.85376,4201, 201.3,12.7976,35.6741,2,241.9,2,35.6733,2,240.8,2,7.864,2,2.45,2,0.47,2, 7.46,2,0.01,2,-999,9,-999,9,-999,9,-999,-999
 35HT20180611,22,1,25,27,20180621,0934,42.88090,-15.85376,4201, 150.9,13.1812,35.7191,2,241.5,2,35.7185,2,241.7,2,7.873,2,2.25,2,0.42,2, 6.91,2,0.02,2,-999,9,-999,9,-999,9,-999,-999
 35HT20180611,22,1,26,28,20180621,0934,42.88090,-15.85376,4201, 100.7,13.5687,35.7630,2,241.3,2,35.7621,2,241.1,2,7.886,2,1.83,2,0.37,2, 5.65,2,0.04,2,-999,9,-999,9,-999,9,-999,-999
 35HT20180611,22,1,27,29,20180621,0934,42.88090,-15.85376,4201,  56.7,14.1852,35.8037,2,244.9,2,35.8017,2,245.3,2,7.909,2,1.20,2,0.24,2, 3.15,2,0.66,2,-999,9,-999,9,-999,9,-999,-999
 35HT20180611,22,1,28,30,20180621,0934,42.88090,-15.85376,4201,   7.0,17.7468,35.7780,2,248.5,2,35.7786,2,247.4,2,7.972,2,0.02,2,0.06,2, 0.00,2,0.01,2,-999,9,-999,9,-999,9,-999,-999
 35HT20180611,23,1, 1, 3,20180621,1524,43.18198,-16.2469,5126,5213.6, 2.5527,34.8950,2,245.0,2,34.8971,2,245.4,2,7.743,2,45.68,2,1.45,2,22.00,2,0.00,2,-999,9,-999,9,2354,2,-999,-999
 35HT20180611,23,1, 2, 4,20180621,1524,43.18198,-16.2469,5126,5001.1, 2.5251,34.8951,2,244.8,2,34.8950,2,245.8,2,7.743,2,45.81,2,1.42,2,22.10,2,0.00,2,-999,9,-999,9,2354,2,-999,-999
 35HT20180611,23,1, 3, 5,20180621,1524,43.18198,-16.2469,5126,4500.3, 2.4855,34.8977,2,244.1,2,34.8978,2,245.6,2,7.744,2,45.57,2,1.47,2,22.20,2,0.00,2,-999,9,-999,9,2353,2,-999,-999
 35HT20180611,23,1, 4, 6,20180621,1524,43.18198,-16.2469,5126,4001.1, 2.5193,34.9071,2,243.7,2,34.9069,2,244.8,2,7.740,2,43.38,2,1.49,2,21.80,2,0.00,2,-999,9,-999,9,2351,2,-999,-999
 35HT20180611,23,1, 5, 7,20180621,1524,43.18198,-16.2469,5126,3501.5, 2.5783,34.9175,2,244.4,2,34.9181,2,246.0,2,7.738,2,40.0,2,1.43,2,21.30,2,0.00,2,-999,9,-999,9,2346,2,-999,-999
 35HT20180611,23,1, 6, 8,20180621,1524,43.18198,-16.2469,5126,3251.1, 2.6278,34.9240,2,246.8,2,34.9243,2,247.0,2,7.739,2,37.47,2,1.38,2,20.80,2,0.00,2,-999,9,-999,9,2343,2,-999,-999
 35HT20180611,23,1, 7, 9,20180621,1524,43.18198,-16.2469,5126,3002.2, 2.7291,34.9340,2,249.1,2,34.9344,2,251.0,2,7.740,2,33.96,2,1.34,2,20.30,2,0.00,2,-999,9,-999,9,2338,2,-999,-999
 35HT20180611,23,1, 8,10,20180621,1524,43.18198,-16.2469,5126,2750.1, 2.8840,34.9461,2,253.4,2,34.9466,2,253.2,2,7.739,2,29.87,2,1.36,2,19.90,2,0.00,2,-999,9,-999,9,2332,2,-999,-999
 35HT20180611,23,1, 9,11,20180621,1524,43.18198,-16.2469,5126,2500.5, 3.0640,34.9516,2,257.2,2,34.9525,2,259.0,2,7.738,2,24.12,2,1.29,2,19.10,2,0.01,2,-999,9,-999,9,2324,2,-999,-999
 35HT20180611,23,1,10,12,20180621,1524,43.18198,-16.2469,5126,2250.8, 3.3271,34.9646,2,259.5,2,34.9647,2,259.9,2,7.737,2,20.44,2,1.22,2,18.50,2,0.00,2,-999,9,-999,9,2319,2,-999,-999
 35HT20180611,23,1,11,13,20180621,1524,43.18198,-16.2469,5126,2000.8, 3.6911,34.9943,2,259.1,2,34.9947,2,259.7,2,7.735,2,17.36,2,1.18,2,17.90,2,0.01,2,-999,9,-999,9,2317,2,-999,-999
 35HT20180611,23,1,12,14,20180621,1524,43.18198,-16.2469,5126,1800.0, 4.5415,35.1146,2,250.3,2,35.1164,2,249.9,2,7.737,2,15.54,2,1.18,2,17.90,2,0.00,2,-999,9,-999,9,2323,2,-999,-999
 35HT20180611,23,1,13,15,20180621,1524,43.18198,-16.2469,5126,1601.6, 5.9545,35.3236,2,233.8,2,35.3242,2,234.0,2,7.743,2,13.1,2,1.09,2,17.50,2,0.00,2,-999,9,-999,9,2335,2,-999,-999
 35HT20180611,23,1,14,16,20180621,1524,43.18198,-16.2469,5126,1400.3, 7.4124,35.5429,2,216.9,2,35.5456,4,216.8,2,7.755,2,11.66,2,1.04,2,17.00,2,0.00,2,-999,9,-999,9,2349,2,-999,-999
 35HT20180611,23,1,15,17,20180621,1524,43.18198,-16.2469,5126,1199.3, 8.4159,35.6678,2,204.4,2,35.6684,2,204.4,2,7.757,2,10.7,2,1.06,2,17.00,2,0.00,2,-999,9,-999,9,2356,2,-999,-999
 35HT20180611,23,1,16,18,20180621,1524,43.18198,-16.2469,5126,1001.7, 8.9512,35.6069,2,196.1,2,35.6094,4,195.6,2,7.752,2,10.18,2,1.13,2,17.60,2,0.00,2,-999,9,-999,9,2351,2,-999,-999
 35HT20180611,23,1,17,19,20180621,1524,43.18198,-16.2469,5126, 900.9, 9.1004,35.5317,2,191.5,2,35.5325,2,191.8,2,7.745,2,9.98,2,1.11,2,17.70,2,0.00,2,-999,9,-999,9,-999,9,-999,-999
 35HT20180611,23,1,18,20,20180621,1524,43.18198,-16.2469,5126, 800.0, 9.7761,35.5311,2,189.5,2,35.5312,2,188.7,2,7.752,2,9.22,2,1.06,2,17.30,2,0.00,2,-999,9,-999,9,2343,2,-999,-999
 35HT20180611,23,1,19,21,20180621,1524,43.18198,-16.2469,5126, 701.3,10.1183,35.4741,2,197.0,2,35.4748,2,196.1,2,7.759,2,7.96,2,1.02,2,16.50,2,0.00,2,-999,9,-999,9,-999,9,-999,-999
 35HT20180611,23,1,20,22,20180621,1524,43.18198,-16.2469,5126, 601.9,10.4794,35.4391,2,210.3,2,35.4393,2,210.4,2,7.773,2,6.50,2,0.88,2,14.80,2,0.01,2,-999,9,-999,9,2333,2,-999,-999
 35HT20180611,23,1,21,23,20180621,1524,43.18198,-16.2469,5126, 501.2,11.1622,35.4955,2,221.1,2,35.4951,2,221.4,2,7.795,2,4.80,2,0.66,2,12.70,2,0.01,2,-999,9,-999,9,2343,2,-999,-999
 35HT20180611,23,1,22,24,20180621,1524,43.18198,-16.2469,5126, 401.4,11.5800,35.5205,2,226.0,2,35.5204,2,226.2,2,7.809,2,4.15,2,0.65,2,11.60,2,0.01,2,-999,9,-999,9,2333,2,-999,-999
 35HT20180611,23,1,23,25,20180621,1524,43.18198,-16.2469,5126, 301.0,12.2753,35.6053,2,234.3,2,35.6048,2,233.8,2,7.838,2,3.24,2,0.60,2, 9.49,2,0.02,2,-999,9,-999,9,2334,2,-999,-999
 35HT20180611,23,1,24,26,20180621,1524,43.18198,-16.2469,5126, 201.5,12.7003,35.6614,2,243.4,2,35.6608,2,243.0,2,7.858,2,2.50,2,0.48,2, 7.50,2,0.02,2,-999,9,-999,9,2339,2,-999,-999
 35HT20180611,23,1,25,27,20180621,1524,43.18198,-16.2469,5126, 151.7,13.0142,35.6985,2,237.6,2,35.7004,2,238.2,2,7.867,2,2.44,2,0.49,2, 7.48,2,0.02,2,-999,9,-999,9,-999,9,-999,-999
 35HT20180611,23,1,26,28,20180621,1524,43.18198,-16.2469,5126, 101.2,13.4922,35.7586,2,240.8,2,35.7587,2,240.7,2,7.885,2,1.95,2,0.42,2, 6.09,2,0.02,2,-999,9,-999,9,2348,2,-999,-999
 35HT20180611,23,1,27,29,20180621,1524,43.18198,-16.2469,5126,  55.6,14.3029,35.7573,2,254.3,2,35.7578,2,253.9,2,7.927,2,0.60,2,0.21,2, 1.34,2,0.42,2,-999,9,-999,9,-999,9,-999,-999
 35HT20180611,23,1,28,30,20180621,1524,43.18198,-16.2469,5126,   5.5,17.7595,35.7925,2,249.8,2,35.7927,2,249.9,2,7.978,2,0.01,2,0.11,2, 0.00,2,0.01,2,0.766,2,4.73,2,2354,2,-999,-999