BOTTLE,20240404CCHSIOADS
EXPOCODE,STNNBR,CASTNO,SAMPNO,BTLNBR,DATE,TIME,LATITUDE,LONGITUDE,DEPTH,CTDPRS,CTDTMP,CTDSAL,CTDSAL_FLAG_W,CTDOXY,CTDOXY_FLAG_W,SALNTY,SALNTY_FLAG_W,OXYGEN,OXYGEN_FLAG_W,PH_TOT,PH_TOT_FLAG_W,SILCAT,SILCAT_FLAG_W,PHSPHT,PHSPHT_FLAG_W,NITRAT,NITRAT_FLAG_W,NITRIT,NITRIT_FLAG_W,DELO18,DELO18_FLAG_W,DELD,DELD_FLAG_W,ALKALI,ALKALI_FLAG_W,I-129,I129ER
,,,,,,,,,METERS,DBAR,DEG C,PSS-78,,UMOL/KG,,PSS-78,,UMOL/KG,,,,UMOL/KG,,UMOL/KG,,UMOL/KG,,UMOL/KG,,/MILLE,,/MILLE,,UMOL/KG,,E7/KG,E7/KG
 35HT20180611,9,1, 1, 3,20180618,0428,40.33326,-10.5767,4356,4419.2, 2.4855,34.8983,2,243.0,2,34.8986,2,242.2,2,7.744,2,45.0,2,1.48,2,22.30,2,0.00,2,-999,9,-999,9,2352,2,-999,-999
 35HT20180611,9,1, 2, 4,20180618,0428,40.33326,-10.5767,4356,4001.8, 2.4797,34.9028,2,243.0,2,34.9036,2,243.0,2,7.747,2,43.7,2,1.47,2,22.20,2,0.00,2,-999,9,-999,9,2348,2,-999,-999
 35HT20180611,9,1, 3, 5,20180618,0428,40.33326,-10.5767,4356,3748.7, 2.5065,34.9082,2,243.0,2,34.9081,2,243.2,2,7.743,2,42.5,2,1.44,2,22.10,2,0.00,2,-999,9,-999,9,2347,2,-999,-999
 35HT20180611,9,1, 4, 6,20180618,0428,40.33326,-10.5767,4356,3499.8, 2.5617,34.9161,2,243.4,2,34.9170,2,243.5,2,7.745,2,40.4,2,1.41,2,22.10,2,0.00,2,-999,9,-999,9,2346,2,-999,-999
 35HT20180611,9,1, 5, 7,20180618,0428,40.33326,-10.5767,4356,3250.6, 2.6518,34.9270,2,244.4,2,34.9278,2,244.2,2,7.746,2,38.2,2,1.38,2,21.80,2,0.00,2,-999,9,-999,9,2343,2,-999,-999
 35HT20180611,9,1, 6, 8,20180618,0428,40.33326,-10.5767,4356,2999.5, 2.7879,34.9418,2,245.4,2,34.9431,2,245.5,2,7.747,2,35.3,2,1.37,2,21.30,2,0.00,2,-999,9,-999,9,2339,2,-999,-999
 35HT20180611,9,1, 7, 9,20180618,0428,40.33326,-10.5767,4356,2748.8, 3.0005,34.9641,2,246.3,2,34.9650,2,246.4,2,7.758,4,31.7,2,1.37,2,20.80,2,0.00,2,-999,9,-999,9,2335,2,-999,-999
 35HT20180611,9,1, 8,10,20180618,0428,40.33326,-10.5767,4356,2502.3, 3.2717,34.9907,2,247.2,2,   -999,9, -999,9,7.756,4,24.5,4,1.26,4,19.10,4,0.00,2,-999,9,-999,9,2335,2,-999,-999
 35HT20180611,9,1, 9,11,20180618,0428,40.33326,-10.5767,4356,2250.7, 3.7293,35.0404,2,247.5,2,35.0413,2,247.9,2,7.747,2,22.5,2,1.25,2,19.30,2,0.00,2,-999,9,-999,9,2327,2,-999,-999
 35HT20180611,9,1,10,12,20180618,0428,40.33326,-10.5767,4356,2000.6, 4.3160,35.1046,2,247.1,2,35.1056,2,247.2,2,7.747,2,17.6,2,1.16,2,18.50,2,0.00,2,-999,9,-999,9,2325,2,-999,-999
 35HT20180611,9,1,11,13,20180618,0428,40.33326,-10.5767,4356,2000.5, 4.3158,35.1045,2,247.6,2,35.1058,2,247.8,2,7.745,2,17.5,2,1.14,2,18.50,2,0.00,2,-999,9,-999,9,-999,9,-999,-999
 35HT20180611,9,1,12,14,20180618,0428,40.33326,-10.5767,4356,1801.7, 4.8926,35.1683,2,244.8,2,35.1717,4,244.8,2,7.743,2,14.4,2,1.13,2,17.90,2,0.00,2,-999,9,-999,9,2325,2,-999,-999
 35HT20180611,9,1,13,15,20180618,0428,40.33326,-10.5767,4356,1600.9, 6.2959,35.3933,2,228.3,2,35.3949,2,228.6,2, -999,9,12.7,2,1.13,2,17.80,2,0.00,2,-999,9,-999,9,2338,2,-999,-999
 35HT20180611,9,1,14,16,20180618,0428,40.33326,-10.5767,4356,1401.7, 8.1216,35.7009,2,208.7,2,35.7054,4,208.7,2,7.770,2,11.3,2,1.07,2,17.30,2,0.00,2,-999,9,-999,9,2360,2,-999,-999
 35HT20180611,9,1,15,17,20180618,0428,40.33326,-10.5767,4356,1198.7,10.4326,36.1137,2,187.3,2,36.1142,2,186.8,2,7.794,2,9.47,2,0.96,2,15.90,2,0.00,2,-999,9,-999,9,2390,2,-999,-999
 35HT20180611,9,1,16,18,20180618,0428,40.33326,-10.5767,4356,1000.8,11.0505,36.1173,2,180.0,2,36.1177,2,180.1,2,7.795,2,8.68,2,0.91,2,15.80,2,0.00,2,-999,9,-999,9,2385,2,-999,-999
 35HT20180611,9,1,17,19,20180618,0428,40.33326,-10.5767,4356, 900.1,11.3050,36.0693,2,179.6,2,36.0700,2,179.6,2,7.795,2,8.05,2,0.89,2,15.60,2,0.00,2,-999,9,-999,9,-999,9,-999,-999
 35HT20180611,9,1,18,20,20180618,0428,40.33326,-10.5767,4356, 800.0,11.7546,36.0741,2,181.2,2,36.0727,2,181.7,2,7.807,2,7.39,2,0.89,2,14.80,2,0.00,2,-999,9,-999,9,2379,2,-999,-999
 35HT20180611,9,1,19,21,20180618,0428,40.33326,-10.5767,4356, 702.0,11.8689,36.0177,2,182.1,2,36.0180,2,181.9,2,7.802,2,6.91,2,0.89,2,14.70,2,0.00,2,-999,9,-999,9,2373,2,-999,-999
 35HT20180611,9,1,20,22,20180618,0428,40.33326,-10.5767,4356, 600.7,11.5988,35.7897,2,190.9,2,35.7905,2,189.7,2,7.791,2,6.30,2,0.89,2,14.90,2,0.00,2,-999,9,-999,9,2354,2,-999,-999
 35HT20180611,9,1,21,23,20180618,0428,40.33326,-10.5767,4356, 499.4,11.3151,35.6012,2,209.2,2,35.6015,2,209.3,2,7.792,2,5.10,2,0.80,2,13.40,2,0.01,2,-999,9,-999,9,2339,2,-999,-999
 35HT20180611,9,1,22,24,20180618,0428,40.33326,-10.5767,4356, 400.7,11.5688,35.5906,2,216.0,2,35.5908,2,216.2,2,7.801,2,4.20,2,0.77,2,12.20,2,0.01,2,-999,9,-999,9,2337,2,-999,-999
 35HT20180611,9,1,23,25,20180618,0428,40.33326,-10.5767,4356, 301.4,11.9150,35.6072,2,217.8,2,35.6072,2,217.8,2,7.810,2,3.70,2,0.72,2,11.30,2,0.01,2,-999,9,-999,9,2338,2,-999,-999
 35HT20180611,9,1,24,26,20180618,0428,40.33326,-10.5767,4356, 199.8,12.5128,35.6596,2,237.2,2,35.6605,2,237.4,2,7.852,2,2.00,2,0.52,2, 6.83,2,0.01,2,-999,9,-999,9,2342,2,-999,-999
 35HT20180611,9,1,25,27,20180618,0428,40.33326,-10.5767,4356, 150.6,12.8199,35.6925,2,239.1,2,35.6923,2,239.2,2,7.862,2,1.60,2,0.46,2, 6.06,2,0.02,2,-999,9,-999,9,-999,9,-999,-999
 35HT20180611,9,1,26,28,20180618,0428,40.33326,-10.5767,4356,  99.8,13.4657,35.7770,2,240.7,2,35.7768,2,240.6,2,7.886,2,1.30,2,0.34,2, 4.38,2,0.02,2,-999,9,-999,9,2349,2,-999,-999
 35HT20180611,9,1,27,29,20180618,0428,40.33326,-10.5767,4356,  56.3,15.2773,35.6380,2,250.4,2,35.6572,4,251.5,2,7.940,2,0.60,2,0.11,2, 0.00,2,0.07,2,-999,9,-999,9,-999,9,-999,-999
 35HT20180611,9,1,28,30,20180618,0428,40.33326,-10.5767,4356,   5.7,16.7785,35.5952,2,245.5,2,35.5957,2,245.5,2,7.968,2,0.60,2,0.05,2, 0.00,2,0.00,2,0.73,2,4.75,2,2345,2,-999,-999
 35HT20180611,10,1, 1, 3,20180618,0915,40.33340,-10.90564,4852,4930.5, 2.5077,34.8936,2,243.8,2,34.8941,2,240.1,4,7.743,2,45.9,2,1.46,2,22.00,2,0.00,2,-999,9,-999,9,-999,9,-999,-999
 35HT20180611,10,1, 2, 4,20180618,0915,40.33340,-10.90564,4852,4505.8, 2.4695,34.8956,2,243.1,2,34.8958,2,242.8,2,7.744,2,45.4,2,1.45,2,22.10,2,0.00,2,-999,9,-999,9,-999,9,-999,-999
 35HT20180611,10,1, 3, 5,20180618,0915,40.33340,-10.90564,4852,4004.8, 2.4912,34.9041,2,243.7,2,34.9044,2,243.3,2,7.743,2,43.5,2,1.46,2,21.90,2,0.00,2,0.24,2,0.89,2,-999,9,-999,-999
 35HT20180611,10,1, 4, 6,20180618,0915,40.33340,-10.90564,4852,3750.3, 2.5318,34.9104,2,243.9,2,34.9105,2,244.1,2,7.743,2,41.8,2,1.48,2,21.90,2,0.01,2,-999,9,-999,9,-999,9,-999,-999
 35HT20180611,10,1, 5, 7,20180618,0915,40.33340,-10.90564,4852,3503.5, 2.5946,34.9188,2,244.5,2,34.9198,2,244.3,2,7.745,2,39.8,2,1.46,2,21.70,2,0.01,2,-999,9,-999,9,-999,9,-999,-999
 35HT20180611,10,1, 6, 8,20180618,0915,40.33340,-10.90564,4852,3250.5, 2.6947,34.9303,2,245.4,2,34.9300,2,245.5,2,7.747,2,37.1,2,1.40,2,21.20,2,0.00,2,-999,9,-999,9,-999,9,-999,-999
 35HT20180611,10,1, 7, 9,20180618,0915,40.33340,-10.90564,4852,3001.4, 2.8539,34.9471,2,245.9,2,34.9477,2,246.0,2,7.746,2,34.3,2,1.36,2,20.70,2,0.00,2,0.24,2,0.98,2,-999,9,-999,-999
 35HT20180611,10,1, 8,10,20180618,0915,40.33340,-10.90564,4852,2738.2, 3.0524,34.9645,2,248.2,2,   -999,9, -999,9,7.752,4,26.0,4,1.23,4,18.90,4,0.00,2,-999,9,-999,9,-999,9,-999,-999
 35HT20180611,10,1, 9,11,20180618,0915,40.33340,-10.90564,4852,2501.7, 3.2514,34.9829,2,249.4,2,34.9833,2,249.6,2,7.745,2,26.4,2,1.27,2,19.60,2,0.00,2,-999,9,-999,9,-999,9,-999,-999
 35HT20180611,10,1,10,12,20180618,0915,40.33340,-10.90564,4852,2249.4, 3.5595,35.0028,2,252.4,2,35.0029,2,252.9,2,7.742,2,21.9,2,1.25,2,19.10,2,0.00,2,-999,9,-999,9,-999,9,-999,-999
 35HT20180611,10,1,11,13,20180618,0915,40.33340,-10.90564,4852,1984.5, 4.0525,35.0491,2,252.5,2,35.0491,2,252.6,2,7.741,2,17.6,2,1.20,2,18.30,2,0.00,2,0.32,2,1.41,2,-999,9,-999,-999
 35HT20180611,10,1,12,14,20180618,0915,40.33340,-10.90564,4852,1802.5, 4.7529,35.1401,2,246.8,2,35.1429,4,246.7,2,7.743,2,15.1,2,1.17,2,18.00,2,0.00,2,-999,9,-999,9,-999,9,-999,-999
 35HT20180611,10,1,13,15,20180618,0915,40.33340,-10.90564,4852,1601.5, 6.5055,35.4199,2,226.8,2,35.4242,4,226.7,2,7.756,2,12.9,2,1.12,2,17.80,2,0.00,2,-999,9,-999,9,-999,9,-999,-999
 35HT20180611,10,1,14,16,20180618,0915,40.33340,-10.90564,4852,1399.9, 8.6092,35.7892,2,204.0,2,35.7918,4,203.8,2,7.775,2,11.2,2,1.07,2,16.90,2,0.01,2,-999,9,-999,9,-999,9,-999,-999
 35HT20180611,10,1,15,17,20180618,0915,40.33340,-10.90564,4852,1199.7,10.5076,36.1178,2,185.6,2,36.1184,2,185.6,2,7.796,2,9.62,2,0.99,2,15.90,2,0.00,2,-999,9,-999,9,-999,9,-999,-999
 35HT20180611,10,1,16,18,20180618,0915,40.33340,-10.90564,4852, 998.7,11.2196,36.1483,2,179.8,2,36.1491,2,180.2,2,7.798,2,8.68,2,0.96,2,15.60,2,0.00,2,-999,9,-999,9,-999,9,-999,-999
 35HT20180611,10,1,17,19,20180618,0915,40.33340,-10.90564,4852, 902.1,11.0750,36.0333,2,179.9,2,36.0335,2,180.2,2,7.789,2,8.67,2,0.98,2,16.00,2,0.00,2,0.71,2,4.37,2,-999,9,-999,-999
 35HT20180611,10,1,18,20,20180618,0915,40.33340,-10.90564,4852, 801.6,11.3557,35.9959,2,180.6,2,35.9957,2,180.7,2,7.794,2,8.09,2,0.93,2,15.70,2,0.01,2,-999,9,-999,9,-999,9,-999,-999
 35HT20180611,10,1,19,21,20180618,0915,40.33340,-10.90564,4852, 697.4,11.4240,35.8904,2,183.2,2,35.8914,2,183.3,2,7.794,2,7.35,2,0.89,2,15.40,2,0.01,2,-999,9,-999,9,-999,9,-999,-999
 35HT20180611,10,1,20,22,20180618,0915,40.33340,-10.90564,4852, 602.0,11.1776,35.7116,2,189.9,2,35.7105,2,189.7,2,7.782,2,7.40,2,0.87,2,15.50,2,0.01,2,-999,9,-999,9,-999,9,-999,-999
 35HT20180611,10,1,21,23,20180618,0915,40.33340,-10.90564,4852, 501.9,11.1752,35.5932,2,205.4,2,35.5940,2,205.6,2,7.786,2,5.60,2,0.76,2,13.90,2,0.00,2,0.59,2,3.62,2,-999,9,-999,-999
 35HT20180611,10,1,22,24,20180618,0915,40.33340,-10.90564,4852, 401.9,11.5007,35.5797,2,216.4,2,35.5817,2,216.2,2,7.798,2,4.30,2,0.65,2,12.40,2,0.00,2,-999,9,-999,9,-999,9,-999,-999
 35HT20180611,10,1,23,25,20180618,0915,40.33340,-10.90564,4852, 301.4,11.9405,35.6118,2,216.0,2,35.6130,2,215.9,2,7.807,2,3.70,2,0.62,2,11.60,2,0.00,2,-999,9,-999,9,-999,9,-999,-999
 35HT20180611,10,1,24,26,20180618,0915,40.33340,-10.90564,4852, 203.8,12.6184,35.6707,2,228.0,2,35.6712,2,228.2,2,7.843,2,2.40,2,0.47,2, 8.42,2,0.00,2,-999,9,-999,9,-999,9,-999,-999
 35HT20180611,10,1,25,27,20180618,0915,40.33340,-10.90564,4852, 151.2,13.3659,35.7666,2,239.0,2,35.7649,2, -999,9,7.878,2,1.40,2,0.29,2, 5.28,2,0.02,2,0.69,2,4.52,2,-999,9,-999,-999
 35HT20180611,10,1,26,28,20180618,0915,40.33340,-10.90564,4852, 101.7,13.7401,35.8166,2,240.9,2,35.8168,2,240.8,2,7.892,2,1.10,2,0.25,2, 4.15,2,0.01,2,-999,9,-999,9,-999,9,-999,-999
 35HT20180611,10,1,27,29,20180618,0915,40.33340,-10.90564,4852,  57.1,14.4273,35.7586,2,247.3,2,35.7597,2,247.9,2,7.920,2,0.60,2,0.13,2, 1.19,2,0.20,2,-999,9,-999,9,-999,9,-999,-999
 35HT20180611,10,1,28,30,20180618,0915,40.33340,-10.90564,4852,   7.0,16.6588,35.5883,2,246.5,2,35.5881,2,246.5,2,7.966,2,0.50,2,0.03,2, 0.00,2,0.00,2,0.67,2,4.35,2,-999,9,-999,-999
 35HT20180611,11,1, 1, 3,20180618,1502,40.33320,-11.34298,5100,5185.5, 2.5353,34.8936,2,243.5,2,34.8892,4,243.1,2,7.745,2,45.6,2,1.46,2,22.40,2,0.00,2,-999,9,-999,9,2354,2,-999,-999
 35HT20180611,11,1, 2, 4,20180618,1502,40.33320,-11.34298,5100,4500.0, 2.4702,34.8963,2,244.1,2,34.8953,2,244.5,2,7.746,2,44.5,2,1.46,2,22.60,2,0.00,2,-999,9,-999,9,2352,2,-999,-999
 35HT20180611,11,1, 3, 5,20180618,1502,40.33320,-11.34298,5100,4002.0, 2.4916,34.9043,2,243.7,2,34.9040,2,244.5,2,7.745,2,42.8,2,1.42,2,22.30,2,0.00,2,-999,9,-999,9,2351,2,-999,-999
 35HT20180611,11,1, 4, 6,20180618,1502,40.33320,-11.34298,5100,3750.4, 2.5302,34.9108,2,243.7,2,34.9104,2,243.9,2,7.746,2,41.3,2,1.42,2,21.80,2,0.00,2,-999,9,-999,9,2349,2,-999,-999
 35HT20180611,11,1, 5, 7,20180618,1502,40.33320,-11.34298,5100,3499.5, 2.5982,34.9196,2,244.5,2,34.9196,2,244.9,2,7.745,2,38.8,2,1.41,2,21.70,2,0.00,2,-999,9,-999,9,2346,2,-999,-999
 35HT20180611,11,1, 6, 8,20180618,1502,40.33320,-11.34298,5100,3250.7, 2.6854,34.9295,2,245.7,2,34.9296,2,246.5,2,7.746,2,36.2,2,1.37,2,21.00,2,0.00,2,-999,9,-999,9,2343,2,-999,-999
 35HT20180611,11,1, 7, 9,20180618,1502,40.33320,-11.34298,5100,3002.2, 2.8330,34.9448,2,246.1,2,34.9447,2,247.6,2,7.746,2,33.7,2,1.35,2,20.80,2,0.00,2,-999,9,-999,9,2339,2,-999,-999
 35HT20180611,11,1, 8,10,20180618,1502,40.33320,-11.34298,5100,2749.4, 3.0930,34.9724,2,246.4,2,   -999,9, -999,9,7.754,4,27.1,4,1.23,4,19.70,4,0.00,2,-999,9,-999,9,2336,2,-999,-999
 35HT20180611,11,1, 9,11,20180618,1502,40.33320,-11.34298,5100,2499.8, 3.2998,34.9828,2,251.1,2,34.9834,2,251.8,2,7.745,2,24.9,2,1.22,2,19.60,2,0.00,2,-999,9,-999,9,2328,2,-999,-999
 35HT20180611,11,1,10,12,20180618,1502,40.33320,-11.34298,5100,2251.1, 3.6286,35.0076,2,253.3,2,35.0076,2,253.6,2,7.743,2,20.7,2,1.15,2,19.10,2,0.00,2,-999,9,-999,9,2322,2,-999,-999
 35HT20180611,11,1,11,13,20180618,1502,40.33320,-11.34298,5100,2001.2, 4.3704,35.1023,2,247.7,2,35.1011,2,249.2,2,7.744,2,16.8,2,1.10,2,18.50,2,0.00,2,-999,9,-999,9,2323,2,-999,-999
 35HT20180611,11,1,12,14,20180618,1502,40.33320,-11.34298,5100,1801.2, 4.9351,35.1690,2,244.4,2,35.1747,4,245.9,2,7.745,2,14.2,2,1.08,2,17.90,2,0.00,2,-999,9,-999,9,2326,2,-999,-999
 35HT20180611,11,1,13,15,20180618,1502,40.33320,-11.34298,5100,1601.2, 6.2179,35.3611,2,230.6,2,35.3627,2,230.9,2,7.750,2,12.9,2,1.07,2,17.50,2,0.00,2,-999,9,-999,9,2338,2,-999,-999
 35HT20180611,11,1,14,16,20180618,1502,40.33320,-11.34298,5100,1400.1, 8.7356,35.8033,2,202.6,2,35.8075,4,203.5,2,7.776,2,11.6,2,1.05,2,16.70,2,0.00,2,-999,9,-999,9,2367,2,-999,-999
 35HT20180611,11,1,15,17,20180618,1502,40.33320,-11.34298,5100,1199.9,10.7914,36.1634,2,183.3,2,36.1636,2,183.3,2,7.799,2,9.26,2,0.96,2,15.80,2,0.00,2,-999,9,-999,9,2391,2,-999,-999
 35HT20180611,11,1,16,18,20180618,1502,40.33320,-11.34298,5100,1000.8,11.2114,36.1132,2,180.2,2,36.1127,2,179.8,2,7.797,2,8.60,2,0.98,2,15.70,2,0.00,2,-999,9,-999,9,2384,2,-999,-999
 35HT20180611,11,1,17,19,20180618,1502,40.33320,-11.34298,5100, 901.9,11.6162,36.1088,2,180.8,2,36.1088,2,181.2,2,7.800,2,7.76,2,0.98,2,15.10,2,0.00,2,-999,9,-999,9,-999,9,-999,-999
 35HT20180611,11,1,18,20,20180618,1502,40.33320,-11.34298,5100, 802.6,11.5858,36.0002,2,182.3,2,35.9993,2,182.5,2,7.798,2,7.57,2,1.00,2,15.30,2,0.00,2,-999,9,-999,9,2373,2,-999,-999
 35HT20180611,11,1,19,21,20180618,1502,40.33320,-11.34298,5100, 700.8,11.3546,35.8266,2,185.4,2,35.8235,4,185.6,2,7.790,2,7.19,2,0.89,2,15.60,2,0.00,2,-999,9,-999,9,-999,9,-999,-999
 35HT20180611,11,1,20,22,20180618,1502,40.33320,-11.34298,5100, 600.1,11.1461,35.6592,2,195.5,2,35.6587,2,195.5,2,7.783,2,7.04,2,0.88,2,15.00,2,0.00,2,-999,9,-999,9,2345,2,-999,-999
 35HT20180611,11,1,21,23,20180618,1502,40.33320,-11.34298,5100, 501.3,11.2568,35.5816,2,210.2,2,35.5810,2,210.4,2,7.795,2,5.23,2,0.78,2,13.50,2,0.00,2,-999,9,-999,9,2341,2,-999,-999
 35HT20180611,11,1,22,24,20180618,1502,40.33320,-11.34298,5100, 402.1,11.6557,35.5968,2,215.3,2,35.5968,2,215.7,2,7.804,2,4.33,2,0.72,2,12.30,2,0.00,2,-999,9,-999,9,2337,2,-999,-999
 35HT20180611,11,1,23,25,20180618,1502,40.33320,-11.34298,5100, 300.0,12.0511,35.6191,2,216.9,2,35.6186,2,217.5,2,7.821,2,3.56,2,0.66,2,11.20,2,0.00,2,-999,9,-999,9,2337,2,-999,-999
 35HT20180611,11,1,24,26,20180618,1502,40.33320,-11.34298,5100, 200.7,12.7672,35.6914,2,232.4,2,35.6900,2,234.0,2,7.855,2,2.04,2,0.47,2, 7.41,2,0.00,2,-999,9,-999,9,2343,2,-999,-999
 35HT20180611,11,1,25,27,20180618,1502,40.33320,-11.34298,5100, 151.7,13.2036,35.7516,2,240.5,2,35.7523,2,239.3,2,7.877,2,1.63,2,0.34,2, 5.72,2,0.00,2,-999,9,-999,9,-999,9,-999,-999
 35HT20180611,11,1,26,28,20180618,1502,40.33320,-11.34298,5100, 100.6,13.6054,35.8045,2,240.9,2,35.8038,2,241.2,2,7.890,2,1.24,2,0.29,2, 4.49,2,0.01,2,-999,9,-999,9,2350,2,-999,-999
 35HT20180611,11,1,27,29,20180618,1502,40.33320,-11.34298,5100,  57.2,13.9959,35.8118,2,242.9,2,35.8116,2,243.5,2,7.905,2,0.92,2,0.23,2, 3.21,2,0.05,2,-999,9,-999,9,-999,9,-999,-999
 35HT20180611,11,1,28,30,20180618,1502,40.33320,-11.34298,5100,   5.9,16.5449,35.6789,2,247.8,2,35.6788,2,248.3,2,7.962,2,0.48,2,0.06,2, 0.10,2,0.00,2,-999,9,-999,9,2348,2,-999,-999