BOTTLE,20240404CCHSIOADS
EXPOCODE,STNNBR,CASTNO,SAMPNO,BTLNBR,DATE,TIME,LATITUDE,LONGITUDE,DEPTH,CTDPRS,CTDTMP,CTDSAL,CTDSAL_FLAG_W,CTDOXY,CTDOXY_FLAG_W,SALNTY,SALNTY_FLAG_W,OXYGEN,OXYGEN_FLAG_W,PH_TOT,PH_TOT_FLAG_W,SILCAT,SILCAT_FLAG_W,PHSPHT,PHSPHT_FLAG_W,NITRAT,NITRAT_FLAG_W,NITRIT,NITRIT_FLAG_W,DELO18,DELO18_FLAG_W,DELD,DELD_FLAG_W,ALKALI,ALKALI_FLAG_W,I-129,I129ER
,,,,,,,,,METERS,DBAR,DEG C,PSS-78,,UMOL/KG,,PSS-78,,UMOL/KG,,,,UMOL/KG,,UMOL/KG,,UMOL/KG,,UMOL/KG,,/MILLE,,/MILLE,,UMOL/KG,,E7/KG,E7/KG
 35HT20180611,36,1, 1, 3,20180624,1642,47.66582,-20.55268,4353,4423.1, 2.5472,34.9043,2,240.9,2,34.9037,2,240.6,2,7.738,2,44.89,2,1.48,2,22.53,2,0.00,2,-999,9,-999,9,-999,9,-999,-999
 35HT20180611,36,1, 2, 4,20180624,1642,47.66582,-20.55268,4353,4000.3, 2.5478,34.9094,2,241.8,2,34.9089,2,242.1,2,7.739,2,43.07,2,1.47,2,22.28,2,0.01,2,-999,9,-999,9,-999,9,-999,-999
 35HT20180611,36,1, 3, 5,20180624,1642,47.66582,-20.55268,4353,3749.5, 2.5822,34.9154,2,243.4,2,34.9149,2,243.4,2,7.738,2,40.62,2,1.42,2,21.93,2,0.00,2,-999,9,-999,9,-999,9,-999,-999
 35HT20180611,36,1, 4, 6,20180624,1642,47.66582,-20.55268,4353,3503.4, 2.6524,34.9240,2,247.3,2,34.9230,2,247.5,2,7.735,2,36.72,2,1.36,2,21.32,2,0.00,2,-999,9,-999,9,-999,9,-999,-999
 35HT20180611,36,1, 5, 7,20180624,1642,47.66582,-20.55268,4353,3251.5, 2.7457,34.9332,2,251.7,2,34.9320,2,252.2,2,7.733,2,32.16,2,1.32,2,20.49,2,0.01,2,-999,9,-999,9,-999,9,-999,-999
 35HT20180611,36,1, 6, 8,20180624,1642,47.66582,-20.55268,4353,3251.8, 2.7462,34.9333,2,251.5,2,34.9324,2,251.5,2,7.734,2,32.3,2,1.32,2,20.08,2,0.00,2,-999,9,-999,9,-999,9,-999,-999
 35HT20180611,36,1, 7, 9,20180624,1642,47.66582,-20.55268,4353,3000.5, 2.8811,34.9411,2,256.4,2,34.9399,2,256.5,2,7.733,2,27.12,2,1.26,2,19.30,2,0.00,2,-999,9,-999,9,-999,9,-999,-999
 35HT20180611,36,1, 8,10,20180624,1642,47.66582,-20.55268,4353,2750.4, 3.0236,34.9422,2,262.7,2,34.9413,2,264.3,2,7.731,2,21.32,2,1.19,2,18.73,2,0.01,2,-999,9,-999,9,-999,9,-999,-999
 35HT20180611,36,1, 9,11,20180624,1642,47.66582,-20.55268,4353,2498.8, 3.2086,34.9351,2,268.0,2,34.9347,2,269.1,2,7.730,2,16.3,2,1.14,2,17.88,2,0.01,2,-999,9,-999,9,-999,9,-999,-999
 35HT20180611,36,1,10,12,20180624,1642,47.66582,-20.55268,4353,2249.8, 3.4172,34.9302,2,269.4,2,34.9304,2,269.4,2,7.728,2,13.95,2,1.13,2,17.52,2,0.00,2,-999,9,-999,9,-999,9,-999,-999
 35HT20180611,36,1,11,13,20180624,1642,47.66582,-20.55268,4353,1999.7, 3.7094,34.9349,2,267.9,2,34.9351,2,267.9,2,7.723,2,12.48,2,1.11,2,17.67,2,0.01,2,-999,9,-999,9,-999,9,-999,-999
 35HT20180611,36,1,12,14,20180624,1642,47.66582,-20.55268,4353,1799.1, 3.8909,34.9381,2,267.8,2,34.9388,2,267.8,2,7.720,2,11.54,2,1.11,2,17.44,2,0.00,2,-999,9,-999,9,-999,9,-999,-999
 35HT20180611,36,1,13,15,20180624,1642,47.66582,-20.55268,4353,1599.8, 4.2202,34.9658,2,264.7,2,34.9662,2,264.6,2,7.717,2,11.03,2,1.13,2,17.63,2,0.00,2,-999,9,-999,9,-999,9,-999,-999
 35HT20180611,36,1,14,16,20180624,1642,47.66582,-20.55268,4353,1401.3, 4.5346,34.9879,2,260.3,2,34.9893,2,260.4,2,7.714,2,10.64,2,1.12,2,17.78,2,0.01,2,-999,9,-999,9,-999,9,-999,-999
 35HT20180611,36,1,15,17,20180624,1642,47.66582,-20.55268,4353,1200.8, 5.5304,35.1101,2,241.8,2,35.1096,2,241.1,2,7.713,2,10.59,2,1.13,2,18.17,2,0.00,2,-999,9,-999,9,-999,9,-999,-999
 35HT20180611,36,1,16,18,20180624,1642,47.66582,-20.55268,4353,1000.3, 7.1009,35.2865,2,216.8,2,35.2867,2,214.7,2,7.722,2,10.65,2,1.15,2,18.45,2,0.00,2,-999,9,-999,9,-999,9,-999,-999
 35HT20180611,36,1,17,19,20180624,1642,47.66582,-20.55268,4353, 860.9, 7.6854,35.2487,2,202.2,2,35.2486,2,201.7,2,7.716,2,10.67,2,1.19,2,19.06,2,0.00,2,-999,9,-999,9,-999,9,-999,-999
 35HT20180611,36,1,18,20,20180624,1642,47.66582,-20.55268,4353, 789.1, 9.1046,35.4422,2,191.7,2,35.4425,2,191.5,2,7.738,2,9.76,2,1.12,2,18.44,2,0.00,2,-999,9,-999,9,-999,9,-999,-999
 35HT20180611,36,1,19,21,20180624,1642,47.66582,-20.55268,4353, 700.4, 9.1765,35.3303,2,196.0,2,35.3294,2,195.4,2,7.738,2,9.17,2,1.09,2,18.01,2,0.00,2,-999,9,-999,9,-999,9,-999,-999
 35HT20180611,36,1,20,22,20180624,1642,47.66582,-20.55268,4353, 601.1, 9.9035,35.3570,2,204.0,2,35.3566,2,202.9,2,7.753,2,7.84,2,1.01,2,16.37,2,0.00,2,-999,9,-999,9,-999,9,-999,-999
 35HT20180611,36,1,21,23,20180624,1642,47.66582,-20.55268,4353, 499.9,10.5280,35.3895,2,215.7,2,35.3889,2,216.0,2,7.776,2,6.06,2,0.87,2,14.42,2,0.00,2,-999,9,-999,9,-999,9,-999,-999
 35HT20180611,36,1,22,24,20180624,1642,47.66582,-20.55268,4353, 396.7,11.1214,35.4280,2,227.2,2,35.4264,2,227.5,2,7.802,2,4.98,2,0.75,2,12.48,2,0.01,2,-999,9,-999,9,-999,9,-999,-999
 35HT20180611,36,1,23,25,20180624,1642,47.66582,-20.55268,4353, 299.8,11.7672,35.5316,2,245.6,2,35.5314,2,245.0,2,7.840,2,3.61,2,0.58,2, 9.73,2,0.01,2,-999,9,-999,9,-999,9,-999,-999
 35HT20180611,36,1,24,26,20180624,1642,47.66582,-20.55268,4353, 200.4,12.1774,35.5923,2,245.8,2,35.5920,2,244.6,2,7.851,2,3.46,2,0.56,2, 9.30,2,0.01,2,-999,9,-999,9,-999,9,-999,-999
 35HT20180611,36,1,25,27,20180624,1642,47.66582,-20.55268,4353, 151.1,12.4855,35.6347,2,247.9,2,35.6334,2,247.9,2,7.861,2,2.83,2,0.49,2, 8.00,2,0.01,2,-999,9,-999,9,-999,9,-999,-999
 35HT20180611,36,1,26,28,20180624,1642,47.66582,-20.55268,4353, 100.2,12.8294,35.6707,2,248.3,2,35.6679,4,247.3,2,7.870,2,2.46,2,0.47,2, 7.49,2,0.04,2,-999,9,-999,9,-999,9,-999,-999
 35HT20180611,36,1,27,29,20180624,1642,47.66582,-20.55268,4353,  54.9,13.6413,35.6620,2,261.1,2,35.6616,2,261.1,2,7.923,2,0.42,2,0.29,2, 3.04,2,0.11,2,-999,9,-999,9,-999,9,-999,-999
 35HT20180611,36,1,28,30,20180624,1642,47.66582,-20.55268,4353,   5.3,16.6311,35.7095,2,257.4,2,35.7121,4,256.8,2,7.983,2,0.21,2,0.08,2, 0.00,2,0.00,2,0.726,2,4.43,2,-999,9,-999,-999
 35HT20180611,37,1, 1, 3,20180624,2212,48.03890,-20.8505,4456,4528.0, 2.5582,34.9040,2,241.1,2,34.9044,2,240.3,2,7.736,2,45.19,2,1.51,2,22.15,2,0.02,2,-999,9,-999,9,2353,2,-999,-999
 35HT20180611,37,1, 2, 4,20180624,2212,48.03890,-20.8505,4456,4001.3, 2.5702,34.9116,2,242.7,2,34.9092,2,244.6,2,7.738,2,42.73,2,1.49,2,21.93,2,0.01,2,-999,9,-999,9,2350,2,-999,-999
 35HT20180611,37,1, 3, 5,20180624,2212,48.03890,-20.8505,4456,3751.4, 2.6010,34.9172,2,244.4,2,34.9162,2,244.9,2,7.737,2,40.26,2,1.46,2,21.44,2,0.01,2,-999,9,-999,9,2347,2,-999,-999
 35HT20180611,37,1, 4, 6,20180624,2212,48.03890,-20.8505,4456,3500.8, 2.6638,34.9251,2,247.9,2,34.9241,2,248.7,2,7.736,2,36.71,2,1.42,2,20.98,2,0.02,2,-999,9,-999,9,2342,2,-999,-999
 35HT20180611,37,1, 5, 7,20180624,2212,48.03890,-20.8505,4456,3248.4, 2.7817,34.9357,2,253.6,2,34.9338,2,253.3,2,7.734,2,30.8,2,1.35,2,19.81,2,0.01,2,-999,9,-999,9,2333,2,-999,-999
 35HT20180611,37,1, 6, 8,20180624,2212,48.03890,-20.8505,4456,2999.8, 2.9142,34.9420,2,257.9,2,34.9412,2,258.3,2,7.734,2,26.12,2,1.29,2,18.99,2,0.01,2,-999,9,-999,9,2324,2,-999,-999
 35HT20180611,37,1, 7, 9,20180624,2212,48.03890,-20.8505,4456,2751.1, 3.0767,34.9416,2,264.2,2,34.9417,2,264.5,2,7.732,2,20.5,2,1.23,2,17.81,2,0.01,2,-999,9,-999,9,2317,2,-999,-999
 35HT20180611,37,1, 8,10,20180624,2212,48.03890,-20.8505,4456,2500.1, 3.2453,34.9340,2,268.7,2,34.9334,2,269.7,2,7.730,2,15.98,2,1.18,2,17.52,2,0.02,2,-999,9,-999,9,2310,2,-999,-999
 35HT20180611,37,1, 9,11,20180624,2212,48.03890,-20.8505,4456,2250.9, 3.4529,34.9278,2,270.2,2,34.9273,2,271.8,2,7.726,2,13.63,2,1.12,2,17.40,2,0.01,2,-999,9,-999,9,2306,2,-999,-999
 35HT20180611,37,1,10,12,20180624,2212,48.03890,-20.8505,4456,1999.2, 3.6767,34.9295,2,269.3,2,34.9293,2,269.7,2,7.721,2,12.34,2,1.12,2,17.31,2,0.01,2,-999,9,-999,9,2305,2,-999,-999
 35HT20180611,37,1,11,13,20180624,2212,48.03890,-20.8505,4456,1800.0, 3.8875,34.9350,2,268.7,2,34.9344,2,268.6,2,7.719,2,11.57,2,1.12,2,17.41,2,0.01,2,-999,9,-999,9,2305,2,-999,-999
 35HT20180611,37,1,12,14,20180624,2212,48.03890,-20.8505,4456,1602.5, 4.1054,34.9449,2,267.3,2,34.9448,2,267.6,2,7.715,2,11.03,2,1.12,2,17.29,2,0.02,2,-999,9,-999,9,2305,2,-999,-999
 35HT20180611,37,1,13,15,20180624,2212,48.03890,-20.8505,4456,1399.9, 4.4924,34.9806,2,263.3,2,34.9820,2,262.3,2,7.712,2,10.71,2,1.13,2,17.25,2,0.01,2,-999,9,-999,9,2307,2,-999,-999
 35HT20180611,37,1,14,16,20180624,2212,48.03890,-20.8505,4456,1201.2, 5.3196,35.0745,2,245.9,2,35.0741,2,245.6,2,7.712,2,10.63,2,1.17,2,17.83,2,0.01,2,-999,9,-999,9,2314,2,-999,-999
 35HT20180611,37,1,15,17,20180624,2212,48.03890,-20.8505,4456,1000.4, 6.9835,35.2704,2,216.2,2,35.2701,2,215.9,2,7.723,2,10.82,2,1.18,2,18.31,2,0.01,2,-999,9,-999,9,2328,2,-999,-999
 35HT20180611,37,1,16,18,20180624,2212,48.03890,-20.8505,4456, 900.6, 7.2798,35.2282,2,207.7,2,35.2275,2,207.7,2,7.714,2,10.91,2,1.23,2,18.83,2,0.02,2,-999,9,-999,9,-999,9,-999,-999
 35HT20180611,37,1,17,19,20180624,2212,48.03890,-20.8505,4456, 799.9, 8.2727,35.2938,2,196.6,2,35.2930,2,196.4,2,7.722,2,10.53,2,1.22,2,18.89,2,0.02,2,-999,9,-999,9,2327,2,-999,-999
 35HT20180611,37,1,18,20,20180624,2212,48.03890,-20.8505,4456, 702.0, 8.5158,35.1956,2,194.2,2,35.1963,2,193.5,2,7.718,2,10.29,2,1.25,2,18.82,2,0.02,2,-999,9,-999,9,-999,9,-999,-999
 35HT20180611,37,1,19,21,20180624,2212,48.03890,-20.8505,4456, 601.8, 9.0551,35.1516,2,208.5,2,35.1530,2,208.9,2,7.747,2,8.70,2,1.12,2,16.94,2,0.02,2,-999,9,-999,9,2317,2,-999,-999
 35HT20180611,37,1,20,22,20180624,2212,48.03890,-20.8505,4456, 601.8, 9.0705,35.1538,2,208.5,2,35.1551,2,208.8,2, -999,9,8.64,2,1.13,2,16.81,2,0.01,2,-999,9,-999,9,-999,9,-999,-999
 35HT20180611,37,1,21,23,20180624,2212,48.03890,-20.8505,4456, 510.9, 9.9965,35.2614,2,255.3,2,35.2615,2,254.9,2,7.806,2,5.18,2,0.78,2,11.89,2,0.02,2,-999,9,-999,9,2321,2,-999,-999
 35HT20180611,37,1,22,24,20180624,2212,48.03890,-20.8505,4456, 400.0,10.8126,35.3700,2,239.1,2,35.3698,2,238.2,2,7.812,2,5.10,2,0.79,2,12.25,2,0.02,2,-999,9,-999,9,2327,2,-999,-999
 35HT20180611,37,1,23,25,20180624,2212,48.03890,-20.8505,4456, 302.3,11.6094,35.4983,2,242.6,2,35.4996,2,242.8,2,7.834,2,4.16,2,0.68,2,10.49,2,0.01,2,-999,9,-999,9,2335,2,-999,-999
 35HT20180611,37,1,24,26,20180624,2212,48.03890,-20.8505,4456, 199.5,12.2151,35.6031,2,248.2,2,35.6029,2,247.4,2,7.856,2,3.44,2,0.56,2, 8.99,2,0.01,2,-999,9,-999,9,2340,2,-999,-999
 35HT20180611,37,1,25,27,20180624,2212,48.03890,-20.8505,4456, 151.0,12.3863,35.6324,2,249.4,2,35.6314,2,248.7,2,7.861,2,3.30,2,0.47,2, 8.66,2,0.01,2,-999,9,-999,9,-999,9,-999,-999
 35HT20180611,37,1,26,28,20180624,2212,48.03890,-20.8505,4456, 100.1,12.4814,35.6417,2,249.6,2,35.6405,2,249.9,2,7.864,2,3.02,2,0.51,2, 7.91,2,0.02,2,-999,9,-999,9,2341,2,-999,-999
 35HT20180611,37,1,27,29,20180624,2212,48.03890,-20.8505,4456,  57.3,14.0160,35.6378,2,256.6,2,35.6373,2,256.7,2,7.926,2,0.75,2,0.26,2, 2.94,2,0.17,2,-999,9,-999,9,-999,9,-999,-999
 35HT20180611,37,1,28,30,20180624,2212,48.03890,-20.8505,4456,   8.2,15.0313,35.6445,2,275.3,2,35.6443,2,274.5,2,7.974,2,0.43,2,0.13,2, 0.82,2,0.07,2,0.701,2,4.32,2,2350,2,-999,-999
 35HT20180611,38,1, 1, 3,20180625,0348,48.41284,-21.14122,4340,4408.4, 2.5725,34.9068,2,241.6,2,34.9068,2,241.5,2,7.736,2,44.1,2,1.39,2,22.64,2,0.00,2,-999,9,-999,9,-999,9,-999,-999
 35HT20180611,38,1, 2, 4,20180625,0348,48.41284,-21.14122,4340,4001.0, 2.5973,34.9140,2,243.3,2,34.9134,2,244.0,2,7.736,2,41.32,2,1.37,2,21.81,2,0.00,2,-999,9,-999,9,-999,9,-999,-999
 35HT20180611,38,1, 3, 5,20180625,0348,48.41284,-21.14122,4340,3750.7, 2.6376,34.9202,2,245.9,2,34.9198,2,245.9,2,7.736,2,38.51,2,1.33,2,21.19,2,0.00,2,-999,9,-999,9,-999,9,-999,-999
 35HT20180611,38,1, 4, 6,20180625,0348,48.41284,-21.14122,4340,3500.3, 2.7103,34.9287,2,250.6,2,34.9284,2,251.5,2,7.733,2,33.9,2,1.26,2,20.43,2,0.00,2,-999,9,-999,9,-999,9,-999,-999
 35HT20180611,38,1, 5, 7,20180625,0348,48.41284,-21.14122,4340,3250.1, 2.8334,34.9380,2,257.4,2,34.9384,2,257.6,2,7.730,2,27.21,2,1.20,2,19.16,2,0.00,2,-999,9,-999,9,-999,9,-999,-999
 35HT20180611,38,1, 6, 8,20180625,0348,48.41284,-21.14122,4340,3000.8, 2.9820,34.9415,2,263.8,2,34.9413,2,263.9,2,7.728,2,21.23,2,1.13,2,18.26,2,0.00,2,-999,9,-999,9,-999,9,-999,-999
 35HT20180611,38,1, 7, 9,20180625,0348,48.41284,-21.14122,4340,2750.1, 3.1158,34.9383,2,267.8,2,34.9386,2,267.9,2,7.728,2,17.53,2,1.08,2,17.47,2,0.00,2,-999,9,-999,9,-999,9,-999,-999
 35HT20180611,38,1, 8,10,20180625,0348,48.41284,-21.14122,4340,2501.6, 3.2943,34.9296,2,271.1,2,34.9297,2,271.2,2,7.727,2,13.8,2,1.06,2,17.28,2,0.00,2,-999,9,-999,9,-999,9,-999,-999
 35HT20180611,38,1, 9,11,20180625,0348,48.41284,-21.14122,4340,2250.6, 3.4770,34.9265,2,271.1,2,34.9259,2,271.3,2,7.725,2,12.64,2,1.07,2,17.40,2,0.00,2,-999,9,-999,9,-999,9,-999,-999
 35HT20180611,38,1,10,12,20180625,0348,48.41284,-21.14122,4340,2000.8, 3.6827,34.9255,2,270.7,2,34.9252,2,270.7,2,7.719,2,11.8,2,1.07,2,17.33,2,0.01,2,-999,9,-999,9,-999,9,-999,-999
 35HT20180611,38,1,11,13,20180625,0348,48.41284,-21.14122,4340,1800.8, 3.7938,34.9207,2,272.2,2,34.9206,2,272.2,2,7.717,2,11.06,2,1.06,2,17.34,2,0.01,2,-999,9,-999,9,-999,9,-999,-999
 35HT20180611,38,1,12,14,20180625,0348,48.41284,-21.14122,4340,1599.9, 3.9424,34.9173,2,273.2,2,34.9171,2,274.3,2,7.713,2,10.4,2,1.06,2,17.35,2,0.01,2,-999,9,-999,9,-999,9,-999,-999
 35HT20180611,38,1,13,15,20180625,0348,48.41284,-21.14122,4340,1600.0, 3.9428,34.9174,2,273.0,2,34.9173,2,272.9,2,7.710,2,10.39,2,1.05,2,17.03,2,0.00,2,-999,9,-999,9,-999,9,-999,-999
 35HT20180611,38,1,14,16,20180625,0348,48.41284,-21.14122,4340,1400.8, 4.2033,34.9347,2,268.4,2,34.9365,2,268.4,2,7.709,2,10.19,2,1.07,2,17.39,2,0.00,2,-999,9,-999,9,-999,9,-999,-999
 35HT20180611,38,1,15,17,20180625,0348,48.41284,-21.14122,4340,1200.9, 4.8777,35.0108,2,253.3,2,35.0106,2,253.4,2,7.708,2,10.46,2,1.08,2,17.92,2,0.00,2,-999,9,-999,9,-999,9,-999,-999
 35HT20180611,38,1,16,18,20180625,0348,48.41284,-21.14122,4340, 999.6, 6.3719,35.1666,2,224.3,2,35.1663,2,224.7,2,7.712,2,10.9,2,1.11,2,18.54,2,0.01,2,-999,9,-999,9,-999,9,-999,-999
 35HT20180611,38,1,17,19,20180625,0348,48.41284,-21.14122,4340, 899.8, 6.8954,35.1601,2,214.7,2,35.1600,2,212.4,4,7.710,2,10.92,2,1.14,2,19.07,2,0.01,2,-999,9,-999,9,-999,9,-999,-999
 35HT20180611,38,1,18,20,20180625,0348,48.41284,-21.14122,4340, 769.7, 7.3260,35.0531,2,199.8,2,35.0557,4,199.8,2,7.694,2,11.52,2,1.23,2,19.90,2,0.00,2,-999,9,-999,9,-999,9,-999,-999
 35HT20180611,38,1,19,21,20180625,0348,48.41284,-21.14122,4340, 695.0, 8.2414,35.1479,2,194.6,2,35.1487,2,193.8,2,7.712,2,10.57,2,1.15,2,19.21,2,0.01,2,-999,9,-999,9,-999,9,-999,-999
 35HT20180611,38,1,20,22,20180625,0348,48.41284,-21.14122,4340, 601.6, 9.7178,35.2860,2,201.8,2,35.2851,2,201.5,2,7.746,2,8.19,2,1.00,2,16.69,2,0.01,2,-999,9,-999,9,-999,9,-999,-999
 35HT20180611,38,1,21,23,20180625,0348,48.41284,-21.14122,4340, 488.5,10.1961,35.2826,2,251.5,2,35.2811,2,250.6,2,7.806,2,5.19,2,0.71,2,12.15,2,0.02,2,-999,9,-999,9,-999,9,-999,-999
 35HT20180611,38,1,22,24,20180625,0348,48.41284,-21.14122,4340, 363.0,11.1010,35.4180,2,230.6,2,35.4189,2,230.6,2,7.805,2,5.09,2,0.72,2,12.31,2,0.01,2,-999,9,-999,9,-999,9,-999,-999
 35HT20180611,38,1,23,25,20180625,0348,48.41284,-21.14122,4340, 298.3,11.5939,35.4915,2,236.3,2,35.4912,2,234.8,2,7.825,2,5.06,2,0.67,2,11.66,2,0.02,2,-999,9,-999,9,-999,9,-999,-999
 35HT20180611,38,1,24,26,20180625,0348,48.41284,-21.14122,4340, 204.2,12.1579,35.5836,2,240.1,2,35.5835,2,238.4,2,7.844,2,4.26,2,0.60,2,10.38,2,0.01,2,-999,9,-999,9,-999,9,-999,-999
 35HT20180611,38,1,25,27,20180625,0348,48.41284,-21.14122,4340, 150.4,12.4451,35.6379,2,250.4,2,35.6365,2,249.3,2,7.862,2,3.20,2,0.47,2, 8.30,2,0.01,2,-999,9,-999,9,-999,9,-999,-999
 35HT20180611,38,1,26,28,20180625,0348,48.41284,-21.14122,4340, 100.0,12.6301,35.6469,2,245.8,2,35.6467,2,247.3,2,7.864,2,2.84,2,0.47,2, 8.15,2,0.04,2,-999,9,-999,9,-999,9,-999,-999
 35HT20180611,38,1,27,29,20180625,0348,48.41284,-21.14122,4340,  58.1,13.1750,35.6840,2,249.7,2,35.6829,2,250.7,2,7.880,2,2.54,2,0.45,2, 7.23,2,0.43,2,-999,9,-999,9,-999,9,-999,-999
 35HT20180611,38,1,28,30,20180625,0348,48.41284,-21.14122,4340,   5.3,14.8778,35.6136,2,274.3,2,35.6135,2,273.6,2,7.958,2,0.47,2,0.15,2, 1.93,2,0.09,2,-999,9,-999,9,-999,9,-999,-999