BOTTLE,20240404CCHSIOADS
EXPOCODE,STNNBR,CASTNO,SAMPNO,BTLNBR,DATE,TIME,LATITUDE,LONGITUDE,DEPTH,CTDPRS,CTDTMP,CTDSAL,CTDSAL_FLAG_W,CTDOXY,CTDOXY_FLAG_W,SALNTY,SALNTY_FLAG_W,OXYGEN,OXYGEN_FLAG_W,PH_TOT,PH_TOT_FLAG_W,SILCAT,SILCAT_FLAG_W,PHSPHT,PHSPHT_FLAG_W,NITRAT,NITRAT_FLAG_W,NITRIT,NITRIT_FLAG_W,DELO18,DELO18_FLAG_W,DELD,DELD_FLAG_W,ALKALI,ALKALI_FLAG_W,I-129,I129ER
,,,,,,,,,METERS,DBAR,DEG C,PSS-78,,UMOL/KG,,PSS-78,,UMOL/KG,,,,UMOL/KG,,UMOL/KG,,UMOL/KG,,UMOL/KG,,/MILLE,,/MILLE,,UMOL/KG,,E7/KG,E7/KG
 35HT20180611,81,1, 1, 3,20180705,0140,59.62432,-38.95546,2926,2962.2, 1.4348,34.8889,2,303.3,2,34.8888,2,303.8,2,7.706,2,7.80,2,0.91,2,13.75,2,0.00,2,-999,9,-999,9,2302,2,-999,-999
 35HT20180611,81,1, 2, 4,20180705,0140,59.62432,-38.95546,2926,2962.7, 1.4346,34.8889,2,303.3,2,   -999,9, -999,9, -999,9,-999,9,-999,9, -999,9,-999,9,-999,9,-999,9,-999,9,114.0,2.0
 35HT20180611,81,1, 3, 5,20180705,0140,59.62432,-38.95546,2926,2901.3, 1.5139,34.8875,2,303.1,2,34.8872,2,303.2,2,7.708,2,7.66,2,0.90,2,13.75,2,0.00,2,-999,9,-999,9,2302,2,-999,-999
 35HT20180611,81,1, 4, 6,20180705,0140,59.62432,-38.95546,2926,2901.5, 1.5142,34.8874,2,302.7,2,34.8869,2,302.4,2,7.707,2,-999,9,-999,9, -999,9,0.00,2,-999,9,-999,9,-999,9,111.0,1.0
 35HT20180611,81,1, 5, 7,20180705,0140,59.62432,-38.95546,2926,2850.5, 1.6996,34.8898,2,299.9,2,   -999,9, -999,9, -999,9,-999,9,-999,9, -999,9,-999,9,-999,9,-999,9,-999,9,105.0,1.0
 35HT20180611,81,1, 6, 8,20180705,0140,59.62432,-38.95546,2926,2801.7, 2.0117,34.8978,2,295.2,2,34.8977,2,295.0,2,7.714,2,8.77,2,0.94,2,14.42,2,0.00,2,-999,9,-999,9,2303,2,-999,-999
 35HT20180611,81,1, 7, 9,20180705,0140,59.62432,-38.95546,2926,2801.6, 2.0164,34.8978,2,295.1,2,   -999,9, -999,9, -999,9,-999,9,-999,9, -999,9,-999,9,-999,9,-999,9,-999,9,93.3,1.2
 35HT20180611,81,1, 8,10,20180705,0140,59.62432,-38.95546,2926,2702.3, 2.4693,34.9123,2,287.6,2,34.9126,2,286.7,2,7.717,2,11.04,2,0.99,2,15.48,2,0.00,2,-999,9,-999,9,2306,2,-999,-999
 35HT20180611,81,1, 9,11,20180705,0140,59.62432,-38.95546,2926,2702.4, 2.4705,34.9122,2,287.7,2,   -999,9, -999,9, -999,9,-999,9,-999,9, -999,9,-999,9,-999,9,-999,9,-999,9,63.6,0.9
 35HT20180611,81,1,10,12,20180705,0140,59.62432,-38.95546,2926,2601.1, 2.7273,34.9221,2,282.1,2,34.9225,2,281.4,2,7.722,2,11.94,2,1.03,2,15.90,2,0.00,2,-999,9,-999,9,-999,9,-999,-999
 35HT20180611,81,1,11,13,20180705,0140,59.62432,-38.95546,2926,2502.3, 2.9077,34.9316,2,277.9,2,34.9316,2,277.8,2,7.724,2,-999,9,-999,9, -999,9,0.00,2,-999,9,-999,9,2308,2,-999,-999
 35HT20180611,81,1,12,14,20180705,0140,59.62432,-38.95546,2926,2502.5, 2.9076,34.9316,2,278.0,2,   -999,9, -999,9, -999,9,12.67,2,1.07,2,16.25,2,-999,9,-999,9,-999,9,-999,9,35.6,0.7
 35HT20180611,81,1,13,15,20180705,0140,59.62432,-38.95546,2926,2251.5, 3.1379,34.9281,2,277.1,2,34.9283,2,277.6,2,7.723,2,11.55,2,1.06,2,16.30,2,0.00,2,-999,9,-999,9,2307,2,-999,-999
 35HT20180611,81,1,14,16,20180705,0140,59.62432,-38.95546,2926,1999.1, 3.3848,34.9326,2,275.2,2,   -999,9, -999,9, -999,9,-999,9,-999,9, -999,9,-999,9,-999,9,-999,9,-999,9,26.2,0.5
 35HT20180611,81,1,15,17,20180705,0140,59.62432,-38.95546,2926,1801.3, 3.5337,34.9262,2,275.8,2,34.9269,2,275.4,2,7.720,2,10.62,2,1.08,2,16.81,2,0.00,2,-999,9,-999,9,2305,2,-999,-999
 35HT20180611,81,1,16,18,20180705,0140,59.62432,-38.95546,2926,1600.5, 3.3992,34.8808,2,291.7,2,34.8803,2,291.6,2,7.711,2,-999,9,-999,9, -999,9,0.00,2,-999,9,-999,9,2302,2,-999,-999
 35HT20180611,81,1,17,19,20180705,0140,59.62432,-38.95546,2926,1501.7, 3.3385,34.8676,2,297.6,2,   -999,9, -999,9, -999,9,9.20,2,1.03,2,16.39,2,-999,9,-999,9,-999,9,-999,9,32.8,0.6
 35HT20180611,81,1,18,20,20180705,0140,59.62432,-38.95546,2926,1401.1, 3.3136,34.8629,2,299.8,2,34.8637,2,299.8,2,7.710,2,8.73,2,1.02,2,16.50,2,0.00,2,-999,9,-999,9,2301,2,-999,-999
 35HT20180611,81,1,19,21,20180705,0140,59.62432,-38.95546,2926,1199.5, 3.2822,34.8577,2,301.2,2,34.8614,4, -999,9,7.708,2,-999,9,-999,9, -999,9,0.00,2,-999,9,-999,9,2301,2,-999,-999
 35HT20180611,81,1,20,22,20180705,0140,59.62432,-38.95546,2926,1000.8, 3.3078,34.8610,2,300.5,2,34.8612,2, -999,9, -999,9,8.58,2,1.03,2,16.33,2,0.00,2,-999,9,-999,9,2301,2,32.4,0.6
 35HT20180611,81,1,21,23,20180705,0140,59.62432,-38.95546,2926, 799.7, 3.3722,34.8687,2,301.4,2,34.8679,2,301.5,2,7.707,2,8.67,2,1.03,2,16.29,2,0.00,2,-999,9,-999,9,2302,2,-999,-999
 35HT20180611,81,1,22,24,20180705,0140,59.62432,-38.95546,2926, 601.4, 3.4200,34.8740,2,302.0,2,34.8788,4,301.6,2,7.711,2,8.57,2,1.02,2,16.55,2,0.00,2,-999,9,-999,9,2301,2,-999,-999
 35HT20180611,81,1,23,25,20180705,0140,59.62432,-38.95546,2926, 500.7, 3.4798,34.8799,2,301.0,2,   -999,9, -999,9, -999,9,8.60,2,1.00,2,16.50,2,-999,9,-999,9,-999,9,-999,9,30.1,0.6
 35HT20180611,81,1,24,26,20180705,0140,59.62432,-38.95546,2926, 400.1, 3.5428,34.8843,2,300.6,2,34.8847,2,299.7,2,7.713,2,8.61,2,0.99,2,16.75,2,0.00,2,-999,9,-999,9,2301,2,-999,-999
 35HT20180611,81,1,25,27,20180705,0140,59.62432,-38.95546,2926, 300.3, 3.6470,34.8883,2,299.3,2,34.8894,2,298.5,2,7.711,2,-999,9,-999,9, -999,9,0.00,2,-999,9,-999,9,2301,2,-999,-999
 35HT20180611,81,1,26,28,20180705,0140,59.62432,-38.95546,2926, 200.3, 3.8687,34.8934,2,298.7,2,34.8938,2,298.4,2,7.713,2,8.74,2,0.99,2,16.56,2,0.01,2,-999,9,-999,9,2302,2,-999,-999
 35HT20180611,81,1,27,29,20180705,0140,59.62432,-38.95546,2926, 100.8, 4.1791,34.8778,2,307.5,2,   -999,9, -999,9, -999,9,8.19,2,0.97,2,16.11,2,-999,9,-999,9,-999,9,-999,9,33.5,0.6
 35HT20180611,81,1,28,30,20180705,0140,59.62432,-38.95546,2926,   6.1, 6.1294,34.7960,2,318.8,2,34.7957,2,319.1,2,7.844,2,1.81,2,0.47,2, 7.80,2,0.13,2,0.198,2,0.62,2,2306,2,34.3,0.6
 35HT20180611,82,1, 1, 3,20180705,0655,59.68554,-39.59858,2793,2826.1, 1.4257,34.8895,2,302.7,2,34.8899,2,303.1,2,7.709,2,8.38,2,0.88,2,13.57,2,0.00,2,-999,9,-999,9,-999,9,-999,-999
 35HT20180611,82,1, 2, 4,20180705,0655,59.68554,-39.59858,2793,2760.7, 1.4670,34.8902,2,302.3,2,34.8906,2,302.5,2,7.711,2,7.99,2,0.89,2,13.66,2,0.01,2,-999,9,-999,9,-999,9,-999,-999
 35HT20180611,82,1, 3, 5,20180705,0655,59.68554,-39.59858,2793,2700.7, 1.6293,34.8874,2,301.1,2,   -999,9, -999,9, -999,9,-999,9,-999,9, -999,9,-999,9,-999,9,-999,9,-999,9,-999,-999
 35HT20180611,82,1, 4, 6,20180705,0655,59.68554,-39.59858,2793,2600.6, 1.9769,34.8939,2,295.9,2,34.8951,2,295.8,2,7.716,2,8.60,2,0.91,2,14.18,2,0.01,2,-999,9,-999,9,-999,9,-999,-999
 35HT20180611,82,1, 5, 7,20180705,0655,59.68554,-39.59858,2793,2600.5, 1.9866,34.8943,2,295.9,2,34.8951,2,296.0,2,7.716,2,8.78,2,0.91,2,14.33,2,0.01,2,-999,9,-999,9,-999,9,-999,-999
 35HT20180611,82,1, 6, 8,20180705,0655,59.68554,-39.59858,2793,2500.9, 2.4016,34.9134,2,286.7,2,34.9139,2,286.3,2,7.717,2,11.06,2,0.98,2,15.21,2,0.00,2,-999,9,-999,9,-999,9,-999,-999
 35HT20180611,82,1, 8,10,20180705,0655,59.68554,-39.59858,2793,2200.9, 2.9835,34.9168,2,281.7,2,34.9169,2,281.4,2,7.721,2,10.76,2,1.00,2,15.76,2,0.00,2,-999,9,-999,9,-999,9,-999,-999
 35HT20180611,82,1, 9,11,20180705,0655,59.68554,-39.59858,2793,2000.7, 3.2693,34.9230,2,279.7,2,34.9234,2,279.3,2,7.722,2,10.67,2,1.03,2,16.14,2,0.00,2,-999,9,-999,9,-999,9,-999,-999
 35HT20180611,82,1,10,12,20180705,0655,59.68554,-39.59858,2793,1730.2, 3.5415,34.9234,2,277.6,2,34.9233,2,277.9,2,7.720,2,10.26,2,1.05,2,16.23,2,0.01,2,-999,9,-999,9,-999,9,-999,-999
 35HT20180611,82,1,11,13,20180705,0655,59.68554,-39.59858,2793,1631.1, 3.5335,34.9105,2,282.2,2,34.9104,2,282.2,2,7.718,2,9.81,2,1.03,2,16.23,2,0.01,2,-999,9,-999,9,-999,9,-999,-999
 35HT20180611,82,1,12,14,20180705,0655,59.68554,-39.59858,2793,1499.6, 3.4513,34.8867,2,290.8,2,34.8870,2,290.0,2,7.718,2,9.16,2,1.03,2,16.20,2,0.01,2,-999,9,-999,9,-999,9,-999,-999
 35HT20180611,82,1,13,15,20180705,0655,59.68554,-39.59858,2793,1200.9, 3.3927,34.8708,2,298.5,2,34.8704,2,297.9,2,7.713,2,8.89,2,1.03,2,16.27,2,0.01,2,-999,9,-999,9,-999,9,-999,-999
 35HT20180611,82,1,14,16,20180705,0655,59.68554,-39.59858,2793, 998.9, 3.4470,34.8773,2,298.8,2,34.8778,2,299.1,2,7.714,2,8.76,2,1.04,2,16.27,2,0.00,2,-999,9,-999,9,-999,9,-999,-999
 35HT20180611,82,1,16,18,20180705,0655,59.68554,-39.59858,2793, 801.8, 3.5270,34.8852,2,298.2,2,34.8849,2,298.9,2,7.713,2,8.71,2,1.04,2,16.47,2,0.01,2,-999,9,-999,9,-999,9,-999,-999
 35HT20180611,82,1,18,20,20180705,0655,59.68554,-39.59858,2793, 601.8, 3.6541,34.8955,2,295.7,2,34.8955,2,295.9,2,7.715,2,8.86,2,1.05,2,16.52,2,0.01,2,-999,9,-999,9,-999,9,-999,-999
 35HT20180611,82,1,19,21,20180705,0655,59.68554,-39.59858,2793, 502.2, 3.7564,34.9037,2,291.9,2,34.9035,2,292.2,2,7.714,2,8.79,2,1.04,2,16.45,2,0.01,2,-999,9,-999,9,-999,9,-999,-999
 35HT20180611,82,1,20,22,20180705,0655,59.68554,-39.59858,2793, 401.6, 3.8543,34.9051,2,292.0,2,34.9058,2,291.3,2,7.714,2,8.82,2,1.05,2,16.49,2,0.02,2,-999,9,-999,9,-999,9,-999,-999
 35HT20180611,82,1,21,23,20180705,0655,59.68554,-39.59858,2793, 300.8, 3.9821,34.9033,2,292.5,2,34.9030,2,292.7,2,7.716,2,8.67,2,1.04,2,16.10,2,0.04,2,-999,9,-999,9,-999,9,-999,-999
 35HT20180611,82,1,22,24,20180705,0655,59.68554,-39.59858,2793, 201.1, 4.2573,34.9066,2,291.9,2,34.9064,2,291.1,2,7.720,2,8.73,2,1.02,2,15.98,2,0.15,2,-999,9,-999,9,-999,9,-999,-999
 35HT20180611,82,1,23,25,20180705,0655,59.68554,-39.59858,2793, 151.3, 4.4937,34.9083,2,292.5,2,34.9080,2,289.5,4,7.723,2,8.46,2,1.02,2,15.71,2,0.14,2,-999,9,-999,9,-999,9,-999,-999
 35HT20180611,82,1,24,26,20180705,0655,59.68554,-39.59858,2793, 101.5, 4.6742,34.8956,2,299.9,2,34.8958,2,298.7,2,7.729,2,8.03,2,0.99,2,14.74,2,0.26,2,-999,9,-999,9,-999,9,-999,-999
 35HT20180611,82,1,25,27,20180705,0655,59.68554,-39.59858,2793,  55.1, 6.0965,34.8407,2,311.2,2,34.8390,2,311.9,2,7.829,2,2.25,2,0.62,2, 8.44,2,0.15,2,-999,9,-999,9,-999,9,-999,-999
 35HT20180611,82,1,26,28,20180705,0655,59.68554,-39.59858,2793,   5.1, 6.5955,34.8251,2,308.7,2,34.8250,2,309.0,2,7.836,2,0.67,2,0.60,2, 8.12,2,0.15,2,-999,9,-999,9,-999,9,-999,-999
 35HT20180611,83,1, 1, 3,20180705,1143,59.72260,-40.25198,2659,2688.2, 1.4417,34.8907,2,302.4,2,34.8894,2,303.4,2,7.709,2,8.32,2,0.89,2,13.54,2,0.00,2,-999,9,-999,9,2303,2,-999,-999
 35HT20180611,83,1, 2, 4,20180705,1143,59.72260,-40.25198,2659,2688.2, 1.4422,34.8905,2,302.3,2,   -999,9, -999,9, -999,9,-999,9,-999,9, -999,9,-999,9,-999,9,-999,9,-999,9,111.0,1.0
 35HT20180611,83,1, 3, 5,20180705,1143,59.72260,-40.25198,2659,2603.9, 1.8646,34.9003,2,296.3,2,34.8995,2,296.3,2,7.713,2,9.12,2,0.92,2,14.05,2,0.00,2,-999,9,-999,9,2304,2,-999,-999
 35HT20180611,83,1, 4, 6,20180705,1143,59.72260,-40.25198,2659,2604.3, 1.8639,34.9001,2,296.2,2,   -999,9, -999,9, -999,9,-999,9,-999,9, -999,9,-999,9,-999,9,-999,9,-999,9,98.7,1.3
 35HT20180611,83,1, 5, 7,20180705,1143,59.72260,-40.25198,2659,2502.3, 2.4465,34.9127,2,287.5,2,34.9111,2,286.4,2,7.716,2,11.18,2,0.97,2,15.21,2,0.00,2,-999,9,-999,9,2306,2,-999,-999
 35HT20180611,83,1, 6, 8,20180705,1143,59.72260,-40.25198,2659,2502.8, 2.4468,34.9126,2,287.5,2,34.9126,2,286.9,2, -999,9,11.24,2,0.98,2,15.18,2,0.00,2,-999,9,-999,9,-999,9,62.7,0.9
 35HT20180611,83,1, 7, 9,20180705,1143,59.72260,-40.25198,2659,2402.0, 2.7468,34.9231,2,282.4,2,34.9231,2,282.8,2,7.722,2,12.23,2,1.03,2,15.76,2,0.00,2,-999,9,-999,9,2307,2,-999,-999
 35HT20180611,83,1, 8,10,20180705,1143,59.72260,-40.25198,2659,2300.9, 2.9596,34.9321,2,277.7,2,   -999,9, -999,9, -999,9,-999,9,-999,9, -999,9,-999,9,-999,9,-999,9,-999,9,-999,-999
 35HT20180611,83,1, 9,11,20180705,1143,59.72260,-40.25198,2659,2201.3, 3.0163,34.9260,2,279.6,2,34.9262,2,279.7,2,7.722,2,11.79,2,1.05,2,16.03,2,0.00,2,-999,9,-999,9,2307,2,-999,-999
 35HT20180611,83,1,11,13,20180705,1143,59.72260,-40.25198,2659,2000.9, 3.2768,34.9345,2,275.7,2,34.9341,2,276.0,2,7.724,2,11.76,2,1.07,2,16.48,2,0.00,2,0.30,2,1.27,2,2308,2,-999,-999
 35HT20180611,83,1,12,14,20180705,1143,59.72260,-40.25198,2659,1800.6, 3.4437,34.9319,2,276.1,2,34.9318,2,276.0,2,7.722,2,11.13,2,1.07,2,16.52,2,0.00,2,-999,9,-999,9,2307,2,-999,-999
 35HT20180611,83,1,13,15,20180705,1143,59.72260,-40.25198,2659,1600.1, 3.5147,34.9098,2,281.9,2,34.9088,2,282.1,2,7.717,2,10.06,2,1.05,2,16.34,2,0.00,2,-999,9,-999,9,2305,2,-999,-999
 35HT20180611,83,1,14,16,20180705,1143,59.72260,-40.25198,2659,1399.0, 3.3265,34.8649,2,299.6,2,34.8650,2,301.3,2,7.710,2,8.87,2,1.02,2,16.06,2,0.00,2,-999,9,-999,9,2303,2,-999,-999
 35HT20180611,83,1,15,17,20180705,1143,59.72260,-40.25198,2659,1150.4, 3.3391,34.8641,2,299.8,2,   -999,9,300.1,2,7.712,2,-999,9,-999,9, -999,9,-999,9,-999,9,-999,9,2302,2,-999,-999
 35HT20180611,83,1,16,18,20180705,1143,59.72260,-40.25198,2659,1000.2, 3.4073,34.8729,2,300.8,2,34.8728,2,300.2,2,7.714,2,8.87,2,1.05,2,16.13,2,0.00,2,0.236,2,0.99,2,2303,2,-999,-999
 35HT20180611,83,1,18,20,20180705,1143,59.72260,-40.25198,2659, 800.9, 3.4561,34.8784,2,301.2,2,34.8777,2,300.9,2,7.713,2,8.90,2,1.04,2,16.15,2,0.00,2,0.26,2,1.09,2,2303,2,-999,-999
 35HT20180611,83,1,19,21,20180705,1143,59.72260,-40.25198,2659, 700.8, 3.5373,34.8869,2,299.8,2,34.8867,2,299.1,2,7.714,2,8.81,2,1.00,2,16.41,2,0.00,2,-999,9,-999,9,-999,9,-999,-999
 35HT20180611,83,1,20,22,20180705,1143,59.72260,-40.25198,2659, 600.4, 3.5493,34.8852,2,299.7,2,34.8849,2,299.6,2,7.711,2,8.79,2,1.00,2,16.32,2,0.00,2,-999,9,-999,9,2302,2,-999,-999
 35HT20180611,83,1,21,23,20180705,1143,59.72260,-40.25198,2659, 499.2, 3.6610,34.8935,2,297.5,2,34.8934,2,296.4,2,7.713,2,8.77,2,0.99,2,16.41,2,0.00,2,-999,9,-999,9,2303,2,-999,-999
 35HT20180611,83,1,22,24,20180705,1143,59.72260,-40.25198,2659, 401.0, 3.7658,34.8980,2,296.7,2,34.8973,2,296.6,2,7.710,2,8.77,2,1.00,2,16.28,2,0.00,2,-999,9,-999,9,2304,2,-999,-999
 35HT20180611,83,1,23,25,20180705,1143,59.72260,-40.25198,2659, 300.6, 4.0180,34.9011,2,296.0,2,34.9009,2,295.0,2,7.716,2,8.61,2,0.99,2,16.01,2,0.02,2,-999,9,-999,9,2304,2,-999,-999
 35HT20180611,83,1,24,26,20180705,1143,59.72260,-40.25198,2659, 200.2, 4.2817,34.9033,2,295.3,2,34.9025,2,294.0,2,7.721,2,8.44,2,1.00,2,15.91,2,0.20,2,0.261,2,0.86,2,2304,2,-999,-999
 35HT20180611,83,1,25,27,20180705,1143,59.72260,-40.25198,2659, 150.1, 4.4358,34.9011,2,296.1,2,34.8998,2,295.9,2,7.725,2,8.38,2,0.98,2,15.50,2,0.24,2,0.27,2,1.12,2,-999,9,-999,-999
 35HT20180611,83,1,26,28,20180705,1143,59.72260,-40.25198,2659, 100.2, 4.7256,34.9096,2,294.2,2,34.9086,2,292.8,2,7.726,2,8.16,2,1.02,2,15.48,2,0.20,2,-999,9,-999,9,2305,2,-999,-999
 35HT20180611,83,1,27,29,20180705,1143,59.72260,-40.25198,2659,  56.1, 5.4981,34.8786,2,306.0,2,34.8755,4,306.4,2,7.773,2,5.50,2,0.88,2,11.59,2,0.21,2,0.25,2,0.95,2,-999,9,-999,-999
 35HT20180611,83,1,28,30,20180705,1143,59.72260,-40.25198,2659,   7.4, 6.5506,34.8177,2,318.7,2,34.8174,2,318.9,2,7.853,2,0.90,2,0.50,2, 7.19,2,0.13,2,0.23,2,0.88,2,2305,2,-999,-999
 35HT20180611,84,1, 1, 3,20180705,1633,59.75558,-40.90332,2274,2294.4, 1.9413,34.8912,2,297.5,2,34.8913,2,297.6,2,7.710,2,8.94,2,0.94,2,13.96,2,0.00,2,-999,9,-999,9,-999,9,-999,-999
 35HT20180611,84,1, 2, 4,20180705,1633,59.75558,-40.90332,2274,2246.4, 1.9423,34.8916,2,297.3,2,   -999,9, -999,9, -999,9,-999,9,-999,9, -999,9,-999,9,-999,9,-999,9,-999,9,-999,-999
 35HT20180611,84,1, 3, 5,20180705,1633,59.75558,-40.90332,2274,2200.4, 1.9379,34.8916,2,297.4,2,34.8917,2,297.3,2,7.712,2,9.01,2,0.93,2,14.04,2,0.00,2,-999,9,-999,9,-999,9,-999,-999
 35HT20180611,84,1, 4, 6,20180705,1633,59.75558,-40.90332,2274,2101.0, 2.3106,34.9023,2,290.5,2,   -999,9, -999,9, -999,9,-999,9,-999,9, -999,9,-999,9,-999,9,-999,9,-999,9,-999,-999
 35HT20180611,84,1, 5, 7,20180705,1633,59.75558,-40.90332,2274,2000.1, 2.7293,34.9070,2,285.9,2,34.9068,2,286.1,2,7.715,2,10.41,2,0.99,2,15.07,2,0.00,2,-999,9,-999,9,-999,9,-999,-999
 35HT20180611,84,1, 6, 8,20180705,1633,59.75558,-40.90332,2274,1901.6, 2.9892,34.9252,2,280.0,2,34.9240,2,279.2,2,7.721,2,11.85,2,1.05,2,15.92,2,0.00,2,-999,9,-999,9,-999,9,-999,-999
 35HT20180611,84,1, 7, 9,20180705,1633,59.75558,-40.90332,2274,1901.4, 2.9901,34.9254,2,280.0,2,34.9241,2,279.4,2, -999,9,11.82,2,1.03,2,15.91,2,0.00,2,-999,9,-999,9,-999,9,-999,-999
 35HT20180611,84,1, 8,10,20180705,1633,59.75558,-40.90332,2274,1802.1, 3.1186,34.9291,2,277.2,2,34.9296,2,277.2,2,7.722,2,12.08,2,1.08,2,17.04,2,0.06,2,-999,9,-999,9,-999,9,-999,-999
 35HT20180611,84,1, 9,11,20180705,1633,59.75558,-40.90332,2274,1701.9, 3.2005,34.9306,2,277.8,2,   -999,9, -999,9, -999,9,-999,9,-999,9, -999,9,-999,9,-999,9,-999,9,-999,9,-999,-999
 35HT20180611,84,1,10,12,20180705,1633,59.75558,-40.90332,2274,1599.1, 3.2610,34.9208,2,279.6,2,34.9202,2,279.7,2,7.723,2,10.54,2,1.07,2,15.97,2,0.00,2,-999,9,-999,9,-999,9,-999,-999
 35HT20180611,84,1,11,13,20180705,1633,59.75558,-40.90332,2274,1401.8, 3.4742,34.9170,2,281.5,2,34.9171,2,281.9,2,7.719,2,10.17,2,1.06,2,16.03,2,0.00,2,-999,9,-999,9,-999,9,-999,-999
 35HT20180611,84,1,12,14,20180705,1633,59.75558,-40.90332,2274,1256.2, 3.5128,34.9064,2,284.8,2,34.9053,2,285.3,2,7.715,2,9.69,2,1.07,2,16.08,2,0.00,2,-999,9,-999,9,-999,9,-999,-999
 35HT20180611,84,1,13,15,20180705,1633,59.75558,-40.90332,2274,1094.2, 3.4837,34.8882,2,292.0,2,34.8877,2,291.6,2,7.711,2,9.30,2,1.07,2,16.21,2,0.00,2,-999,9,-999,9,-999,9,-999,-999
 35HT20180611,84,1,14,16,20180705,1633,59.75558,-40.90332,2274, 900.4, 3.5920,34.8956,2,292.5,2,   -999,9, -999,9, -999,9,-999,9,-999,9, -999,9,-999,9,-999,9,-999,9,-999,9,-999,-999
 35HT20180611,84,1,15,17,20180705,1633,59.75558,-40.90332,2274, 801.4, 3.6668,34.9005,2,291.7,2,34.9001,2,292.5,2,7.715,2,9.06,2,1.08,2,16.31,2,0.00,2,-999,9,-999,9,-999,9,-999,-999
 35HT20180611,84,1,18,20,20180705,1633,59.75558,-40.90332,2274, 604.0, 3.8319,34.9096,2,288.8,2,34.9091,2,288.4,2,7.716,2,9.08,2,1.08,2,16.12,2,0.01,2,-999,9,-999,9,-999,9,-999,-999
 35HT20180611,84,1,19,21,20180705,1633,59.75558,-40.90332,2274, 502.5, 4.0101,34.9125,2,286.2,2,34.9122,2,286.4,2,7.711,2,9.01,2,1.07,2,16.11,2,0.00,2,-999,9,-999,9,-999,9,-999,-999
 35HT20180611,84,1,20,22,20180705,1633,59.75558,-40.90332,2274, 400.9, 4.2151,34.9144,2,284.8,2,34.9133,2,285.0,2,7.712,2,8.89,2,1.06,2,16.06,2,0.00,2,-999,9,-999,9,-999,9,-999,-999
 35HT20180611,84,1,21,23,20180705,1633,59.75558,-40.90332,2274, 300.7, 4.4308,34.9148,2,284.1,2,34.9138,2,283.5,2,7.712,2,8.78,2,1.06,2,15.88,2,0.02,2,-999,9,-999,9,-999,9,-999,-999
 35HT20180611,84,1,22,24,20180705,1633,59.75558,-40.90332,2274, 200.3, 4.8548,34.9177,2,288.0,2,34.9173,2,286.5,2,7.727,2,8.27,2,1.04,2,15.43,2,0.05,2,-999,9,-999,9,-999,9,-999,-999
 35HT20180611,84,1,23,25,20180705,1633,59.75558,-40.90332,2274, 151.0, 5.0085,34.9163,2,289.4,2,34.9166,2,289.2,2,7.728,2,8.05,2,1.01,2,15.30,2,0.10,2,-999,9,-999,9,-999,9,-999,-999
 35HT20180611,84,1,24,26,20180705,1633,59.75558,-40.90332,2274, 101.8, 5.4802,34.9426,2,287.1,2,34.9423,2,285.6,2,7.734,2,7.71,2,1.02,2,15.31,2,0.14,2,-999,9,-999,9,-999,9,-999,-999
 35HT20180611,84,1,25,27,20180705,1633,59.75558,-40.90332,2274,  55.2, 5.8331,34.9256,2,294.2,2,34.9252,2,293.7,2,7.757,2,5.93,2,0.94,2,13.36,2,0.32,2,-999,9,-999,9,-999,9,-999,-999
 35HT20180611,84,1,26,28,20180705,1633,59.75558,-40.90332,2274,   5.6, 6.8384,34.8359,2,311.0,2,34.8364,2,311.4,2,7.846,2,1.19,2,0.59,2, 7.94,2,0.16,2,-999,9,-999,9,-999,9,-999,-999