BOTTLE,20240404CCHSIOADS
EXPOCODE,STNNBR,CASTNO,SAMPNO,BTLNBR,DATE,TIME,LATITUDE,LONGITUDE,DEPTH,CTDPRS,CTDTMP,CTDSAL,CTDSAL_FLAG_W,CTDOXY,CTDOXY_FLAG_W,SALNTY,SALNTY_FLAG_W,OXYGEN,OXYGEN_FLAG_W,PH_TOT,PH_TOT_FLAG_W,SILCAT,SILCAT_FLAG_W,PHSPHT,PHSPHT_FLAG_W,NITRAT,NITRAT_FLAG_W,NITRIT,NITRIT_FLAG_W,DELO18,DELO18_FLAG_W,DELD,DELD_FLAG_W,ALKALI,ALKALI_FLAG_W,I-129,I129ER
,,,,,,,,,METERS,DBAR,DEG C,PSS-78,,UMOL/KG,,PSS-78,,UMOL/KG,,,,UMOL/KG,,UMOL/KG,,UMOL/KG,,UMOL/KG,,/MILLE,,/MILLE,,UMOL/KG,,E7/KG,E7/KG
 35HT20180611,39,1, 1, 3,20180625,0908,48.78572,-21.43056,4063,4124.0, 2.6037,34.9127,2,242.9,2,34.9121,2,241.7,2,7.736,2,41.95,2,1.36,2,21.83,2,0.00,2,-999,9,-999,9,2348,2,-999,-999
 35HT20180611,39,1, 2, 4,20180625,0908,48.78572,-21.43056,4063,3999.2, 2.6070,34.9146,2,243.4,2,34.9148,2,242.8,2,7.736,2,41.13,2,1.35,2,21.72,2,0.01,2,-999,9,-999,9,2347,2,-999,-999
 35HT20180611,39,1, 3, 5,20180625,0908,48.78572,-21.43056,4063,3750.5, 2.6120,34.9178,2,244.7,2,34.9175,2,244.2,2,7.737,2,39.33,2,1.32,2,21.27,2,0.00,2,-999,9,-999,9,2344,2,-999,-999
 35HT20180611,39,1, 4, 6,20180625,0908,48.78572,-21.43056,4063,3500.0, 2.7041,34.9283,2,250.2,2,34.9282,2,250.1,2,7.733,2,33.61,2,1.23,2,20.40,2,0.01,2,-999,9,-999,9,2337,2,-999,-999
 35HT20180611,39,1, 5, 7,20180625,0908,48.78572,-21.43056,4063,3250.2, 2.8506,34.9399,2,258.3,2,34.9403,2,258.4,2,7.730,2,26.01,2,1.14,2,18.74,2,0.01,2,-999,9,-999,9,2325,2,-999,-999
 35HT20180611,39,1, 6, 8,20180625,0908,48.78572,-21.43056,4063,2998.9, 2.9797,34.9430,2,264.8,2,34.9429,2,264.9,2,7.729,2,20.32,2,1.08,2,17.78,2,0.00,2,-999,9,-999,9,2317,2,-999,-999
 35HT20180611,39,1, 7, 9,20180625,0908,48.78572,-21.43056,4063,2749.0, 3.1442,34.9365,2,269.0,2,34.9357,2,269.0,2,7.728,2,16.04,2,1.04,2,17.18,2,0.00,2,-999,9,-999,9,2310,2,-999,-999
 35HT20180611,39,1, 8,10,20180625,0908,48.78572,-21.43056,4063,2499.5, 3.3211,34.9290,2,271.5,2,34.9292,2,271.5,2,7.729,2,13.52,2,1.05,2,17.06,2,0.00,2,-999,9,-999,9,2306,2,-999,-999
 35HT20180611,39,1, 9,11,20180625,0908,48.78572,-21.43056,4063,2250.2, 3.5089,34.9252,2,270.9,2,34.9248,2,270.8,2,7.726,2,12.39,2,1.06,2,17.24,2,0.00,2,-999,9,-999,9,2304,2,-999,-999
 35HT20180611,39,1,10,12,20180625,0908,48.78572,-21.43056,4063,1998.1, 3.7266,34.9246,2,270.6,2,34.9249,2,270.7,2,7.720,2,11.61,2,1.05,2,17.13,2,0.00,2,-999,9,-999,9,2303,2,-999,-999
 35HT20180611,39,1,11,13,20180625,0908,48.78572,-21.43056,4063,1763.4, 3.8508,34.9161,2,274.2,2,34.9143,2,273.8,2,7.716,2,11.29,2,1.04,2,17.08,2,0.00,2,-999,9,-999,9,2303,2,-999,-999
 35HT20180611,39,1,12,14,20180625,0908,48.78572,-21.43056,4063,1600.3, 3.9461,34.9124,2,274.4,2,34.9145,2,274.7,2,7.711,2,10.5,2,1.03,2,16.82,2,0.00,2,-999,9,-999,9,2302,2,-999,-999
 35HT20180611,39,1,13,15,20180625,0908,48.78572,-21.43056,4063,1400.6, 4.5705,34.9901,2,260.0,2,34.9898,2,260.0,2,7.712,2,10.97,2,1.05,2,17.42,2,0.01,2,-999,9,-999,9,2308,2,-999,-999
 35HT20180611,39,1,14,16,20180625,0908,48.78572,-21.43056,4063,1200.8, 5.3557,35.0667,2,244.2,2,35.0682,2,243.9,2,7.711,2,10.42,2,1.07,2,17.98,2,0.00,2,-999,9,-999,9,2313,2,-999,-999
 35HT20180611,39,1,15,17,20180625,0908,48.78572,-21.43056,4063, 999.4, 7.4533,35.3336,2,209.7,2,35.3331,2,209.8,2,7.727,2,10.63,2,1.07,2,18.40,2,0.00,2,-999,9,-999,9,2333,2,-999,-999
 35HT20180611,39,1,16,18,20180625,0908,48.78572,-21.43056,4063, 999.0, 7.4538,35.3338,2,209.7,2,35.3333,2,210.0,2,7.726,2,10.71,2,1.07,2,18.36,2,0.01,2,-999,9,-999,9,-999,9,-999,-999
 35HT20180611,39,1,17,19,20180625,0908,48.78572,-21.43056,4063, 901.4, 7.4739,35.1982,2,202.9,2,35.1958,2,203.2,2,7.713,2,10.88,2,1.10,2,18.87,2,0.00,2,-999,9,-999,9,-999,9,-999,-999
 35HT20180611,39,1,18,20,20180625,0908,48.78572,-21.43056,4063, 801.8, 8.5391,35.2713,2,193.9,2,35.2698,2,193.5,2,7.724,2,10.22,2,1.09,2,18.61,2,0.00,2,-999,9,-999,9,2327,2,-999,-999
 35HT20180611,39,1,19,21,20180625,0908,48.78572,-21.43056,4063, 700.4, 8.8994,35.1803,2,192.6,2,35.1806,2,191.7,2,7.723,2,9.77,2,1.09,2,18.53,2,0.00,2,-999,9,-999,9,-999,9,-999,-999
 35HT20180611,39,1,20,22,20180625,0908,48.78572,-21.43056,4063, 600.1,10.0703,35.3235,2,201.7,2,35.3229,2,201.3,2,7.756,2,7.73,2,0.95,2,16.11,2,0.00,2,-999,9,-999,9,2329,2,-999,-999
 35HT20180611,39,1,21,23,20180625,0908,48.78572,-21.43056,4063, 499.3,11.0326,35.4173,2,219.2,2,35.4183,2,218.6,2,7.792,2,5.57,2,0.76,2,13.44,2,0.01,2,-999,9,-999,9,2331,2,-999,-999
 35HT20180611,39,1,22,24,20180625,0908,48.78572,-21.43056,4063, 401.1,11.7989,35.5247,2,235.0,2,35.5252,2,237.4,4,7.835,2,4.14,2,0.59,2,10.61,2,0.01,2,-999,9,-999,9,2337,2,-999,-999
 35HT20180611,39,1,23,25,20180625,0908,48.78572,-21.43056,4063, 301.5,12.2811,35.6099,2,248.6,2,35.6096,2,248.5,2,7.861,2,3.37,2,0.48,2, 8.82,2,0.02,2,-999,9,-999,9,2342,2,-999,-999
 35HT20180611,39,1,24,26,20180625,0908,48.78572,-21.43056,4063, 199.8,12.5698,35.6451,2,242.4,2,35.6439,2,242.8,2,7.859,2,3.33,2,0.48,2, 8.84,2,0.01,2,-999,9,-999,9,2343,2,-999,-999
 35HT20180611,39,1,25,27,20180625,0908,48.78572,-21.43056,4063, 150.8,12.8150,35.6755,2,238.6,2,35.6748,2,239.8,2,7.862,2,3.10,2,0.48,2, 8.78,2,0.01,2,-999,9,-999,9,-999,9,-999,-999
 35HT20180611,39,1,26,28,20180625,0908,48.78572,-21.43056,4063, 101.0,13.2124,35.7348,2,242.9,2,35.7341,2,243.5,2,7.876,2,2.71,2,0.41,2, 7.52,2,0.02,2,-999,9,-999,9,2348,2,-999,-999
 35HT20180611,39,1,27,29,20180625,0908,48.78572,-21.43056,4063,  55.3,13.7873,35.7463,2,249.7,2,35.7463,2,249.3,2,7.902,2,1.52,2,0.33,2, 4.97,2,0.48,2,-999,9,-999,9,-999,9,-999,-999
 35HT20180611,39,1,28,30,20180625,0908,48.78572,-21.43056,4063,   5.8,15.7619,35.7622,2,262.2,2,35.7614,2,261.5,2,7.987,2,0.48,2,0.05,2, 0.02,2,0.02,2,0.746,2,4.67,2,2355,2,-999,-999
 35HT20180611,40,1, 1, 3,20180625,1501,49.15970,-21.71986,4342,4414.4, 2.6026,34.9098,2,241.8,2,34.9087,2,241.9,2,7.737,2,43.25,2,1.41,2,22.06,2,0.00,2,-999,9,-999,9,-999,9,-999,-999
 35HT20180611,40,1, 2, 4,20180625,1501,49.15970,-21.71986,4342,3999.9, 2.6455,34.9186,2,245.1,2,34.9154,4,246.1,2,7.733,2,39.15,2,1.35,2,21.25,2,0.00,2,-999,9,-999,9,-999,9,-999,-999
 35HT20180611,40,1, 3, 5,20180625,1501,49.15970,-21.71986,4342,3751.1, 2.6963,34.9255,2,248.7,2,34.9243,2,248.8,2,7.734,2,35.62,2,1.30,2,20.68,2,0.01,2,-999,9,-999,9,-999,9,-999,-999
 35HT20180611,40,1, 4, 6,20180625,1501,49.15970,-21.71986,4342,3493.7, 2.7789,34.9354,2,255.1,2,34.9345,2,256.8,2,7.729,2,29.8,2,1.22,2,19.89,2,0.00,2,-999,9,-999,9,-999,9,-999,-999
 35HT20180611,40,1, 5, 7,20180625,1501,49.15970,-21.71986,4342,3251.3, 2.8791,34.9410,2,260.0,2,34.9362,4,260.7,2,7.731,2,24.73,2,1.16,2,18.60,2,0.00,2,-999,9,-999,9,-999,9,-999,-999
 35HT20180611,40,1, 6, 8,20180625,1501,49.15970,-21.71986,4342,3001.8, 3.0170,34.9447,2,266.7,2,34.9442,2,267.4,2,7.727,2,18.95,2,1.08,2,17.65,2,0.00,2,-999,9,-999,9,-999,9,-999,-999
 35HT20180611,40,1, 7, 9,20180625,1501,49.15970,-21.71986,4342,2751.3, 3.1444,34.9355,2,269.1,2,34.9347,2,269.9,2,7.729,2,16.21,2,1.07,2,17.46,2,0.00,2,-999,9,-999,9,-999,9,-999,-999
 35HT20180611,40,1, 8,10,20180625,1501,49.15970,-21.71986,4342,2502.3, 3.2708,34.9310,2,269.8,2,34.9301,2,270.2,2,7.729,2,14.89,2,1.07,2,17.27,2,0.01,2,-999,9,-999,9,-999,9,-999,-999
 35HT20180611,40,1, 9,11,20180625,1501,49.15970,-21.71986,4342,2250.2, 3.4857,34.9260,2,270.3,2,34.9256,2,272.2,2,7.724,2,12.87,2,1.07,2,17.46,2,0.00,2,-999,9,-999,9,-999,9,-999,-999
 35HT20180611,40,1,10,12,20180625,1501,49.15970,-21.71986,4342,2000.3, 3.7140,34.9311,2,268.7,2,34.9305,2,269.3,2,7.723,2,12.07,2,1.08,2,17.44,2,0.00,2,-999,9,-999,9,-999,9,-999,-999
 35HT20180611,40,1,11,13,20180625,1501,49.15970,-21.71986,4342,1801.6, 3.9681,34.9454,2,267.1,2,34.9451,2,267.4,2,7.719,2,11.41,2,1.07,2,17.41,2,0.00,2,-999,9,-999,9,-999,9,-999,-999
 35HT20180611,40,1,12,14,20180625,1501,49.15970,-21.71986,4342,1600.3, 4.2265,34.9626,2,265.5,2,34.9629,2,265.5,2,7.716,2,10.8,2,1.07,2,17.53,2,0.00,2,-999,9,-999,9,-999,9,-999,-999
 35HT20180611,40,1,13,15,20180625,1501,49.15970,-21.71986,4342,1400.8, 4.3629,34.9511,2,265.1,2,34.9504,2,265.2,2,7.708,2,10.27,2,1.07,2,17.45,2,0.00,2,-999,9,-999,9,-999,9,-999,-999
 35HT20180611,40,1,14,16,20180625,1501,49.15970,-21.71986,4342,1201.2, 5.4154,35.0801,2,243.3,2,35.0808,2,243.6,2,7.711,2,10.57,2,1.08,2,18.13,2,0.00,2,-999,9,-999,9,-999,9,-999,-999
 35HT20180611,40,1,15,17,20180625,1501,49.15970,-21.71986,4342,1000.3, 6.5716,35.1657,2,219.9,2,35.1657,2,219.9,2,7.712,2,10.84,2,1.12,2,18.63,2,0.00,2,-999,9,-999,9,-999,9,-999,-999
 35HT20180611,40,1,16,18,20180625,1501,49.15970,-21.71986,4342, 900.7, 7.6266,35.2759,2,204.5,2,35.2754,2,204.4,2,7.722,2,10.75,2,1.12,2,18.78,2,0.00,2,-999,9,-999,9,-999,9,-999,-999
 35HT20180611,40,1,17,19,20180625,1501,49.15970,-21.71986,4342, 900.8, 7.6254,35.2760,2,204.5,2,35.2755,2,204.4,2,7.720,2,10.68,2,1.12,2,18.83,2,0.00,2,-999,9,-999,9,-999,9,-999,-999
 35HT20180611,40,1,18,20,20180625,1501,49.15970,-21.71986,4342, 802.0, 7.8036,35.1783,2,197.5,2,35.1774,2,197.4,2,7.709,2,11.0,2,1.15,2,19.31,2,0.00,2,-999,9,-999,9,-999,9,-999,-999
 35HT20180611,40,1,19,21,20180625,1501,49.15970,-21.71986,4342, 700.8, 8.6611,35.2055,2,193.3,2,35.1996,4,193.4,2,7.720,2,10.27,2,1.13,2,18.77,2,0.00,2,-999,9,-999,9,-999,9,-999,-999
 35HT20180611,40,1,20,22,20180625,1501,49.15970,-21.71986,4342, 600.4, 9.5522,35.2429,2,200.8,2,35.2426,2,199.9,2,7.742,2,8.65,2,1.03,2,16.88,2,0.00,2,-999,9,-999,9,-999,9,-999,-999
 35HT20180611,40,1,21,23,20180625,1501,49.15970,-21.71986,4342, 518.3,10.1690,35.2823,2,247.2,2,35.2819,2,244.5,4,7.799,2,5.64,2,0.75,2,12.61,2,0.00,2,-999,9,-999,9,-999,9,-999,-999
 35HT20180611,40,1,22,24,20180625,1501,49.15970,-21.71986,4342, 400.1,11.1896,35.4268,2,234.3,2,35.4252,2,234.5,2,7.815,2,4.96,2,0.70,2,11.72,2,0.00,2,-999,9,-999,9,-999,9,-999,-999
 35HT20180611,40,1,23,25,20180625,1501,49.15970,-21.71986,4342, 283.1,12.0079,35.5644,2,242.1,2,35.5651,2,241.8,2,7.843,2,3.95,2,0.58,2, 9.81,2,0.00,2,-999,9,-999,9,-999,9,-999,-999
 35HT20180611,40,1,24,26,20180625,1501,49.15970,-21.71986,4342, 200.2,12.3247,35.6135,2,244.1,2,35.6130,2,243.5,2,7.853,2,3.72,2,0.52,2, 9.16,2,0.01,2,-999,9,-999,9,-999,9,-999,-999
 35HT20180611,40,1,25,27,20180625,1501,49.15970,-21.71986,4342, 152.6,12.5644,35.6458,2,243.5,2,35.6458,2,243.8,2,7.860,2,3.44,2,0.50,2, 8.66,2,0.01,2,-999,9,-999,9,-999,9,-999,-999
 35HT20180611,40,1,26,28,20180625,1501,49.15970,-21.71986,4342, 100.1,13.0273,35.7102,2,241.0,2,35.7095,2,239.5,2,7.867,2,3.34,2,0.50,2, 8.32,2,0.02,2,-999,9,-999,9,-999,9,-999,-999
 35HT20180611,40,1,27,29,20180625,1501,49.15970,-21.71986,4342,  55.9,13.6371,35.7247,2,248.1,2,35.7152,4,249.9,2,7.896,2,1.80,2,0.36,2, 5.74,2,0.30,2,-999,9,-999,9,-999,9,-999,-999
 35HT20180611,40,1,28,30,20180625,1501,49.15970,-21.71986,4342,   5.4,15.3389,35.6726,2,267.5,2,35.6718,2,267.4,2,7.970,2,0.44,2,0.11,2, 1.37,2,0.08,2,0.75,2,4.59,2,-999,9,-999,-999
 35HT20180611,41,1, 1, 3,20180625,2028,49.53118,-22.02034,4228,4294.6, 2.5904,34.9113,2,241.8,2,34.9101,2,242.2,2,7.736,2,43.22,2,1.36,2,22.06,2,0.01,2,-999,9,-999,9,2351,2,-999,-999
 35HT20180611,41,1, 2, 4,20180625,2028,49.53118,-22.02034,4228,4001.0, 2.5754,34.9133,2,242.2,2,34.9117,2,242.3,2,7.736,2,42.47,2,1.36,2,21.96,2,0.01,2,-999,9,-999,9,2351,2,-999,-999
 35HT20180611,41,1, 3, 5,20180625,2028,49.53118,-22.02034,4228,3750.9, 2.6468,34.9226,2,246.1,2,34.9214,2,246.8,2,7.737,2,38.12,2,1.30,2,21.12,2,0.01,2,-999,9,-999,9,2343,2,-999,-999
 35HT20180611,41,1, 4, 6,20180625,2028,49.53118,-22.02034,4228,3500.3, 2.7460,34.9331,2,251.6,2,34.9314,2,252.0,2,7.732,2,32.43,2,1.23,2,20.24,2,0.01,2,-999,9,-999,9,2335,2,-999,-999
 35HT20180611,41,1, 5, 7,20180625,2028,49.53118,-22.02034,4228,3251.1, 2.8595,34.9418,2,258.9,2,34.9407,2,258.8,2,7.727,3,26.16,2,1.15,2,18.80,2,0.01,2,-999,9,-999,9,2327,2,-999,-999
 35HT20180611,41,1, 6, 8,20180625,2028,49.53118,-22.02034,4228,3001.5, 2.9791,34.9435,2,259.7,2,34.9429,2,259.0,2,7.732,2,22.69,2,1.13,2,18.17,2,0.01,2,-999,9,-999,9,2321,2,-999,-999
 35HT20180611,41,1, 7, 9,20180625,2028,49.53118,-22.02034,4228,2755.3, 3.1357,34.9399,2,266.2,2,34.9389,2,266.8,2,7.730,2,18.15,2,1.08,2,17.42,2,0.00,2,-999,9,-999,9,2314,2,-999,-999
 35HT20180611,41,1, 8,10,20180625,2028,49.53118,-22.02034,4228,2499.9, 3.3004,34.9308,2,269.6,2,34.9297,2,270.8,2,7.731,2,14.6,2,1.06,2,17.03,2,0.00,2,-999,9,-999,9,2308,2,-999,-999
 35HT20180611,41,1, 9,11,20180625,2028,49.53118,-22.02034,4228,2250.6, 3.4843,34.9264,2,270.2,2,34.9247,2,271.6,2,7.721,2,12.8,2,1.07,2,17.19,2,0.00,2,-999,9,-999,9,2306,2,-999,-999
 35HT20180611,41,1,10,12,20180625,2028,49.53118,-22.02034,4228,1999.9, 3.7136,34.9318,2,268.5,2,34.9313,2,269.0,2,7.723,2,12.11,2,1.07,2,17.16,2,0.00,2,-999,9,-999,9,2305,2,-999,-999
 35HT20180611,41,1,11,13,20180625,2028,49.53118,-22.02034,4228,1800.8, 3.8467,34.9298,2,269.6,2,34.9282,2,269.9,2,7.720,2,11.4,2,1.09,2,17.10,2,0.00,2,-999,9,-999,9,2304,2,-999,-999
 35HT20180611,41,1,12,14,20180625,2028,49.53118,-22.02034,4228,1600.0, 4.1854,34.9586,2,265.9,2,34.9595,2,265.9,2,7.716,2,10.83,2,1.07,2,17.06,2,0.00,2,-999,9,-999,9,2306,2,-999,-999
 35HT20180611,41,1,13,15,20180625,2028,49.53118,-22.02034,4228,1401.1, 4.2772,34.9444,2,266.8,2,34.9425,2,267.2,2,7.708,2,10.22,2,1.07,2,16.89,2,0.01,2,-999,9,-999,9,2305,2,-999,-999
 35HT20180611,41,1,14,16,20180625,2028,49.53118,-22.02034,4228,1199.8, 5.0483,35.0294,2,250.3,2,35.0302,2,250.4,2,7.710,2,10.49,2,1.07,2,17.58,2,0.01,2,-999,9,-999,9,2311,2,-999,-999
 35HT20180611,41,1,15,17,20180625,2028,49.53118,-22.02034,4228, 971.1, 7.4129,35.3523,2,210.5,2,35.3536,2,211.0,2,7.729,3,10.58,2,1.08,2,18.01,2,0.00,2,-999,9,-999,9,2336,2,-999,-999
 35HT20180611,41,1,16,18,20180625,2028,49.53118,-22.02034,4228, 900.4, 6.9384,35.1801,2,212.7,2,35.1786,2,212.4,2,7.707,2,10.95,2,1.14,2,18.64,2,0.00,2,-999,9,-999,9,-999,9,-999,-999
 35HT20180611,41,1,17,19,20180625,2028,49.53118,-22.02034,4228, 799.8, 7.7811,35.2442,2,200.1,2,35.2445,2,200.5,2,7.717,2,10.65,2,1.12,2,18.78,2,0.00,2,-999,9,-999,9,2325,2,-999,-999
 35HT20180611,41,1,18,20,20180625,2028,49.53118,-22.02034,4228, 799.9, 7.7799,35.2453,2,200.1,2,35.2448,2,200.5,2,7.717,2,10.76,2,1.14,2,18.81,2,0.00,2,-999,9,-999,9,-999,9,-999,-999
 35HT20180611,41,1,19,21,20180625,2028,49.53118,-22.02034,4228, 700.3, 8.6467,35.2734,2,193.7,2,35.2751,2,193.7,2,7.725,2,9.95,2,1.10,2,18.43,2,0.01,2,-999,9,-999,9,-999,9,-999,-999
 35HT20180611,41,1,20,22,20180625,2028,49.53118,-22.02034,4228, 601.1, 8.9847,35.1904,2,194.9,2,35.1889,2,194.3,2,7.725,2,9.63,2,1.13,2,18.03,2,0.01,2,-999,9,-999,9,2320,2,-999,-999
 35HT20180611,41,1,21,23,20180625,2028,49.53118,-22.02034,4228, 497.8,10.1661,35.2854,2,210.7,2,35.2841,2,211.3,2,7.763,2,7.15,2,0.93,2,15.33,2,0.00,2,-999,9,-999,9,2322,2,-999,-999
 35HT20180611,41,1,22,24,20180625,2028,49.53118,-22.02034,4228, 400.1,11.0518,35.4045,2,236.1,2,35.4039,2,234.6,2,7.809,2,5.04,2,0.69,2,11.95,2,0.01,2,-999,9,-999,9,2329,2,-999,-999
 35HT20180611,41,1,23,25,20180625,2028,49.53118,-22.02034,4228, 300.9,11.8317,35.5373,2,241.7,2,35.5351,2,242.1,2,7.837,2,3.96,2,0.58,2,10.09,2,0.01,2,-999,9,-999,9,2336,2,-999,-999
 35HT20180611,41,1,24,26,20180625,2028,49.53118,-22.02034,4228, 200.7,12.2731,35.6095,2,246.3,2,35.6078,2,248.5,4,7.855,2,3.32,2,0.50,2, 8.88,2,0.01,2,-999,9,-999,9,2339,2,-999,-999
 35HT20180611,41,1,25,27,20180625,2028,49.53118,-22.02034,4228, 150.0,12.4205,35.6253,2,245.7,2,35.6235,2,246.6,2,7.859,2,3.28,2,0.49,2, 8.61,2,0.01,2,-999,9,-999,9,-999,9,-999,-999
 35HT20180611,41,1,26,28,20180625,2028,49.53118,-22.02034,4228, 100.2,12.6839,35.6504,2,246.5,2,35.6488,2,247.2,2,7.864,2,2.75,2,0.48,2, 8.06,2,0.02,2,-999,9,-999,9,2341,2,-999,-999
 35HT20180611,41,1,27,29,20180625,2028,49.53118,-22.02034,4228,  55.6,13.1567,35.6819,2,250.0,2,35.6821,2,249.5,2,7.879,2,1.81,2,0.51,2, 6.71,2,0.69,2,-999,9,-999,9,-999,9,-999,-999
 35HT20180611,41,1,28,30,20180625,2028,49.53118,-22.02034,4228,   6.1,15.2231,35.6714,2,270.4,2,35.6708,2,271.8,2,7.966,2,0.18,2,0.41,2, 1.39,2,0.06,2,0.72,2,4.45,2,2347,2,-999,-999