BOTTLE,20240404CCHSIOADS
EXPOCODE,STNNBR,CASTNO,SAMPNO,BTLNBR,DATE,TIME,LATITUDE,LONGITUDE,DEPTH,CTDPRS,CTDTMP,CTDSAL,CTDSAL_FLAG_W,CTDOXY,CTDOXY_FLAG_W,SALNTY,SALNTY_FLAG_W,OXYGEN,OXYGEN_FLAG_W,PH_TOT,PH_TOT_FLAG_W,SILCAT,SILCAT_FLAG_W,PHSPHT,PHSPHT_FLAG_W,NITRAT,NITRAT_FLAG_W,NITRIT,NITRIT_FLAG_W,DELO18,DELO18_FLAG_W,DELD,DELD_FLAG_W,ALKALI,ALKALI_FLAG_W,I-129,I129ER
,,,,,,,,,METERS,DBAR,DEG C,PSS-78,,UMOL/KG,,PSS-78,,UMOL/KG,,,,UMOL/KG,,UMOL/KG,,UMOL/KG,,UMOL/KG,,/MILLE,,/MILLE,,UMOL/KG,,E7/KG,E7/KG
 35HT20180611,69,1, 1, 3,20180702,0152,58.84418,-31.2674,1392,1381.6, 3.8856,34.9569,2,269.5,2,34.9580,2,270.3,2,7.712,2,10.51,2,1.06,2,16.43,2,0.00,2,-999,9,-999,9,2307,2,-999,-999
 35HT20180611,69,1, 2, 4,20180702,0152,58.84418,-31.2674,1392,1381.4, 3.8863,34.9570,2,269.5,2,   -999,9, -999,9, -999,9,-999,9,-999,9, -999,9,-999,9,-999,9,-999,9,-999,9,29.4,0.6
 35HT20180611,69,1, 3, 5,20180702,0152,58.84418,-31.2674,1392,1381.3, 3.8858,34.9570,2,269.5,2,   -999,9, -999,9, -999,9,-999,9,-999,9, -999,9,-999,9,-999,9,-999,9,-999,9,-999,-999
 35HT20180611,69,1, 4, 6,20180702,0152,58.84418,-31.2674,1392,1301.5, 3.8936,34.9578,2,269.2,2,34.9585,2,269.0,2,7.716,2,10.38,2,1.05,2,16.32,2,0.00,2,-999,9,-999,9,-999,9,-999,-999
 35HT20180611,69,1, 6, 8,20180702,0152,58.84418,-31.2674,1392,1200.7, 3.8884,34.9573,2,269.6,2,34.9575,2,269.6,2,7.712,2,10.38,2,1.06,2,16.48,2,0.00,2,-999,9,-999,9,2307,2,-999,-999
 35HT20180611,69,1, 7, 9,20180702,0152,58.84418,-31.2674,1392,1101.3, 3.9078,34.9521,2,270.3,2,34.9525,2,270.3,2,7.714,2,10.43,2,1.07,2,16.56,2,0.00,2,-999,9,-999,9,2307,2,-999,-999
 35HT20180611,69,1, 9,11,20180702,0152,58.84418,-31.2674,1392,1001.8, 4.1492,34.9511,2,269.0,2,34.9521,2,269.7,2,7.712,2,10.15,2,1.07,2,16.53,2,0.00,2,-999,9,-999,9,2307,2,-999,-999
 35HT20180611,69,1,10,12,20180702,0152,58.84418,-31.2674,1392,1001.7, 4.1509,34.9512,2,268.2,2,   -999,9, -999,9, -999,9,-999,9,-999,9, -999,9,-999,9,-999,9,-999,9,-999,9,25.1,0.5
 35HT20180611,69,1,11,13,20180702,0152,58.84418,-31.2674,1392, 901.3, 4.3943,34.9520,2,265.1,2,34.9538,2,265.1,2,7.709,2,10.11,2,1.08,2,16.92,2,0.00,2,-999,9,-999,9,-999,9,-999,-999
 35HT20180611,69,1,12,14,20180702,0152,58.84418,-31.2674,1392, 802.9, 4.6018,34.9614,2,260.4,2,34.9618,2,259.6,2,7.707,2,10.16,2,1.10,2,17.22,2,0.00,2,-999,9,-999,9,2307,2,-999,-999
 35HT20180611,69,1,13,15,20180702,0152,58.84418,-31.2674,1392, 701.0, 4.9949,34.9840,2,252.4,2,34.9843,2,252.5,2,7.699,2,10.24,2,1.11,2,17.66,2,0.00,2,-999,9,-999,9,-999,9,-999,-999
 35HT20180611,69,1,15,17,20180702,0152,58.84418,-31.2674,1392, 601.4, 5.4176,34.9943,2,244.7,2,34.9941,2,245.2,2,7.701,2,10.3,2,1.13,2,17.91,2,0.00,2,-999,9,-999,9,2310,2,-999,-999
 35HT20180611,69,1,16,18,20180702,0152,58.84418,-31.2674,1392, 601.3, 5.4200,34.9947,2,243.5,2,34.9946,2,243.3,2,7.701,2,10.25,2,1.13,2,17.92,2,0.00,2,-999,9,-999,9,-999,9,-999,-999
 35HT20180611,69,1,17,19,20180702,0152,58.84418,-31.2674,1392, 500.8, 5.9992,35.0120,2,240.0,2,35.0129,2,240.9,2,7.709,2,9.96,2,1.11,2,17.63,2,0.00,2,-999,9,-999,9,2311,2,-999,-999
 35HT20180611,69,1,18,20,20180702,0152,58.84418,-31.2674,1392, 500.7, 6.0050,35.0125,2,239.7,2,   -999,9, -999,9, -999,9,-999,9,-999,9, -999,9,-999,9,-999,9,-999,9,-999,9,21.9,0.5
 35HT20180611,69,1,20,22,20180702,0152,58.84418,-31.2674,1392, 401.7, 6.4502,35.0082,2,253.4,2,35.0070,2,252.8,2,7.725,2,8.77,2,1.05,2,16.54,2,0.00,2,-999,9,-999,9,2310,2,-999,-999
 35HT20180611,69,1,21,23,20180702,0152,58.84418,-31.2674,1392, 301.9, 6.6307,34.9849,2,265.6,2,34.9851,2,267.4,2,7.737,2,7.91,2,1.01,2,15.64,2,0.00,2,-999,9,-999,9,2308,2,-999,-999
 35HT20180611,69,1,22,24,20180702,0152,58.84418,-31.2674,1392, 201.3, 6.6429,34.9444,2,273.8,2,34.9449,2,273.7,2,7.743,2,7.52,2,0.95,2,15.02,2,0.00,2,-999,9,-999,9,2306,2,-999,-999
 35HT20180611,69,1,24,26,20180702,0152,58.84418,-31.2674,1392, 151.5, 7.0390,34.9834,2,280.2,2,34.9820,2,282.8,4,7.761,2,6.54,2,0.90,2,13.77,2,0.21,2,-999,9,-999,9,-999,9,-999,-999
 35HT20180611,69,1,25,27,20180702,0152,58.84418,-31.2674,1392, 101.1, 7.2046,34.9716,2,285.3,2,34.9710,2,285.2,2,7.772,2,5.95,2,0.84,2,12.77,2,0.31,2,-999,9,-999,9,2309,2,27.7,0.5
 35HT20180611,69,1,26,28,20180702,0152,58.84418,-31.2674,1392,  54.7, 7.6602,34.9509,2,288.4,2,34.9502,2,288.1,2,7.790,2,4.50,2,0.77,2,10.85,2,0.24,2,-999,9,-999,9,-999,9,-999,-999
 35HT20180611,69,1,28,30,20180702,0152,58.84418,-31.2674,1392,   4.3, 8.5287,34.9056,2,299.5,2,34.9059,2,299.3,2,7.846,2,2.06,2,0.58,2, 8.28,2,0.11,2,-999,9,-999,9,2307,2,29.3,0.5
 35HT20180611,70,1, 1, 3,20180702,0603,58.91050,-31.90896,1678,1689.5, 3.8042,34.9496,2,272.6,2,34.9504,2,273.4,2,7.713,2,10.78,2,1.05,2,16.49,2,0.00,2,-999,9,-999,9,-999,9,-999,-999
 35HT20180611,70,1, 2, 4,20180702,0603,58.91050,-31.90896,1678,1689.4, 3.8040,34.9495,2,272.5,2,   -999,9, -999,9, -999,9,-999,9,-999,9, -999,9,-999,9,-999,9,-999,9,-999,9,-999,-999
 35HT20180611,70,1, 3, 5,20180702,0603,58.91050,-31.90896,1678,1598.6, 3.7943,34.9461,2,273.5,2,34.9467,2,274.3,2,7.714,2,10.7,2,1.05,2,16.46,2,0.00,2,-999,9,-999,9,-999,9,-999,-999
 35HT20180611,70,1, 4, 6,20180702,0603,58.91050,-31.90896,1678,1502.6, 3.7808,34.9416,2,275.0,2,34.9417,2,275.3,2,7.717,2,10.66,2,1.05,2,16.56,2,0.00,2,-999,9,-999,9,-999,9,-999,-999
 35HT20180611,70,1, 5, 7,20180702,0603,58.91050,-31.90896,1678,1401.7, 3.7776,34.9363,2,276.3,2,34.9363,2,276.5,2,7.714,2,10.52,2,1.04,2,16.68,2,0.00,2,-999,9,-999,9,-999,9,-999,-999
 35HT20180611,70,1, 6, 8,20180702,0603,58.91050,-31.90896,1678,1300.6, 3.7764,34.9326,2,277.4,2,34.9328,2,279.0,2,7.715,2,10.47,2,1.06,2,16.60,2,0.00,2,-999,9,-999,9,-999,9,-999,-999
 35HT20180611,70,1, 7, 9,20180702,0603,58.91050,-31.90896,1678,1201.4, 3.8126,34.9309,2,277.2,2,34.9304,2,277.4,2,7.712,2,10.34,2,1.06,2,16.71,2,0.00,2,-999,9,-999,9,-999,9,-999,-999
 35HT20180611,70,1, 8,10,20180702,0603,58.91050,-31.90896,1678,1100.1, 3.8587,34.9219,2,279.5,2,34.9209,2,279.3,2,7.712,2,10.13,2,1.06,2,16.71,2,0.00,2,-999,9,-999,9,-999,9,-999,-999
 35HT20180611,70,1, 9,11,20180702,0603,58.91050,-31.90896,1678,1000.4, 3.9821,34.9229,2,276.3,2,34.9232,2,276.2,2,7.711,2,10.18,2,1.07,2,17.03,2,0.00,2,-999,9,-999,9,-999,9,-999,-999
 35HT20180611,70,1,10,12,20180702,0603,58.91050,-31.90896,1678,1000.4, 3.9820,34.9230,2,275.3,2,   -999,9, -999,9, -999,9,-999,9,-999,9, -999,9,-999,9,-999,9,-999,9,-999,9,-999,-999
 35HT20180611,70,1,11,13,20180702,0603,58.91050,-31.90896,1678, 902.3, 4.1966,34.9315,2,270.2,2,34.9312,2,270.5,2,7.710,2,10.12,2,1.08,2,17.27,2,0.00,2,-999,9,-999,9,-999,9,-999,-999
 35HT20180611,70,1,12,14,20180702,0603,58.91050,-31.90896,1678, 801.4, 4.3903,34.9381,2,266.9,2,34.9383,2,267.0,2,7.704,2,10.07,2,1.09,2,17.13,2,0.00,2,-999,9,-999,9,-999,9,-999,-999
 35HT20180611,70,1,14,16,20180702,0603,58.91050,-31.90896,1678, 701.4, 4.7117,34.9523,2,260.3,2,34.9526,2,260.9,2,7.705,2,10.08,2,1.08,2,17.49,2,0.00,2,-999,9,-999,9,-999,9,-999,-999
 35HT20180611,70,1,15,17,20180702,0603,58.91050,-31.90896,1678, 701.7, 4.7118,34.9526,2,260.3,2,34.9528,2,260.3,2,7.705,2,10.1,2,1.10,2,17.40,2,0.00,2,-999,9,-999,9,-999,9,-999,-999
 35HT20180611,70,1,16,18,20180702,0603,58.91050,-31.90896,1678, 599.5, 5.0891,34.9600,2,253.7,2,34.9597,2,254.0,2,7.700,2,10.09,2,1.11,2,17.78,2,0.00,2,-999,9,-999,9,-999,9,-999,-999
 35HT20180611,70,1,17,19,20180702,0603,58.91050,-31.90896,1678, 501.2, 5.1297,34.8903,2,267.0,2,34.8912,2,266.6,2,7.706,2,9.14,2,1.07,2,16.63,2,0.00,2,-999,9,-999,9,-999,9,-999,-999
 35HT20180611,70,1,20,22,20180702,0603,58.91050,-31.90896,1678, 401.4, 5.6657,34.9080,2,279.2,2,34.9079,2,279.0,2,7.731,2,8.22,2,1.00,2,15.59,2,0.00,2,-999,9,-999,9,-999,9,-999,-999
 35HT20180611,70,1,21,23,20180702,0603,58.91050,-31.90896,1678, 302.2, 6.0015,34.9243,2,284.8,2,34.9239,2,285.3,2,7.745,2,7.74,2,0.98,2,14.95,2,0.01,2,-999,9,-999,9,-999,9,-999,-999
 35HT20180611,70,1,23,25,20180702,0603,58.91050,-31.90896,1678, 201.1, 6.4555,34.9633,2,279.4,2,34.9650,2,279.2,2,7.746,2,7.61,2,0.96,2,14.78,2,0.02,2,-999,9,-999,9,-999,9,-999,-999
 35HT20180611,70,1,24,26,20180702,0603,58.91050,-31.90896,1678, 150.3, 6.6256,34.9820,2,279.4,2,34.9815,2,278.0,2,7.751,2,7.52,2,0.96,2,14.86,2,0.03,2,-999,9,-999,9,-999,9,-999,-999
 35HT20180611,70,1,25,27,20180702,0603,58.91050,-31.90896,1678, 100.3, 6.6103,34.9475,2,284.5,2,34.9494,4,283.2,2,7.751,2,7.70,2,0.94,2,14.37,2,0.14,2,-999,9,-999,9,-999,9,-999,-999
 35HT20180611,70,1,27,29,20180702,0603,58.91050,-31.90896,1678,  54.4, 6.5604,34.8445,2,295.1,2,34.8441,2,294.9,2,7.768,2,7.86,2,0.88,2,12.39,2,0.23,2,-999,9,-999,9,-999,9,-999,-999
 35HT20180611,70,1,28,30,20180702,0603,58.91050,-31.90896,1678,   5.0, 7.2202,34.7371,2,311.4,2,34.7371,2,311.3,2,7.827,2,2.45,2,0.56,2, 8.80,2,0.14,2,-999,9,-999,9,-999,9,-999,-999
 35HT20180611,71,1, 1, 3,20180703,0039,58.97404,-32.55356,1872,1887.7, 3.5030,34.9477,2,273.3,2,34.9491,2,274.3,2,7.721,2,11.74,2,1.03,2,16.49,2,0.00,2,-999,9,-999,9,2308,2,-999,-999
 35HT20180611,71,1, 2, 4,20180703,0039,58.97404,-32.55356,1872,1888.1, 3.5027,34.9477,2,273.3,2,   -999,9, -999,9, -999,9,-999,9,-999,9, -999,9,-999,9,-999,9,-999,9,-999,9,-999,-999
 35HT20180611,71,1, 3, 5,20180703,0039,58.97404,-32.55356,1872,1800.1, 3.5565,34.9476,2,273.3,2,34.9487,2,274.0,2,7.723,2,11.49,2,1.04,2,16.50,2,0.00,2,-999,9,-999,9,-999,9,-999,-999
 35HT20180611,71,1, 4, 6,20180703,0039,58.97404,-32.55356,1872,1602.3, 3.6250,34.9400,2,274.6,2,34.9398,2,274.6,2,7.721,2,11.03,2,1.02,2,16.70,2,0.00,2,-999,9,-999,9,2306,2,-999,-999
 35HT20180611,71,1, 5, 7,20180703,0039,58.97404,-32.55356,1872,1501.2, 3.5997,34.9253,2,277.9,2,34.9259,2,278.6,2,7.720,2,10.6,2,1.05,2,16.61,2,0.00,2,-999,9,-999,9,-999,9,-999,-999
 35HT20180611,71,1, 6, 8,20180703,0039,58.97404,-32.55356,1872,1400.1, 3.5730,34.9141,2,282.0,2,34.9152,2,281.9,2,7.717,2,10.22,2,1.02,2,16.38,2,0.00,2,-999,9,-999,9,2305,2,-999,-999
 35HT20180611,71,1, 7, 9,20180703,0039,58.97404,-32.55356,1872,1204.0, 3.5544,34.8974,2,288.9,2,34.8973,2,288.7,2,7.714,2,9.64,2,1.01,2,16.33,2,0.00,2,-999,9,-999,9,2303,2,-999,-999
 35HT20180611,71,1, 9,11,20180703,0039,58.97404,-32.55356,1872,1000.4, 3.7508,34.9105,2,285.8,2,34.9118,2,286.3,2,7.715,2,9.68,2,1.02,2,16.63,2,0.00,2,-999,9,-999,9,2303,2,-999,-999
 35HT20180611,71,1,10,12,20180703,0039,58.97404,-32.55356,1872,1000.6, 3.7479,34.9102,2,285.7,2,   -999,9, -999,9, -999,9,-999,9,-999,9, -999,9,-999,9,-999,9,-999,9,-999,9,-999,-999
 35HT20180611,71,1,11,13,20180703,0039,58.97404,-32.55356,1872, 901.5, 3.8943,34.9161,2,281.3,2,34.9167,2,281.3,2,7.710,2,9.79,2,1.05,2,17.07,2,0.00,2,-999,9,-999,9,-999,9,-999,-999
 35HT20180611,71,1,12,14,20180703,0039,58.97404,-32.55356,1872, 800.8, 4.0450,34.9238,2,275.5,2,34.9244,2,275.6,2,7.711,2,9.91,2,1.07,2,17.07,2,0.00,2,-999,9,-999,9,2305,2,-999,-999
 35HT20180611,71,1,14,16,20180703,0039,58.97404,-32.55356,1872, 701.5, 4.1679,34.9232,2,273.9,2,34.9246,2,274.6,2,7.707,2,9.79,2,1.04,2,17.17,2,0.00,2,-999,9,-999,9,-999,9,-999,-999
 35HT20180611,71,1,15,17,20180703,0039,58.97404,-32.55356,1872, 601.1, 4.2938,34.9171,2,273.4,2,34.9175,2,273.6,2,7.704,2,9.74,2,1.04,2,17.27,2,0.00,2,-999,9,-999,9,2304,2,-999,-999
 35HT20180611,71,1,16,18,20180703,0039,58.97404,-32.55356,1872, 601.0, 4.2915,34.9171,2,273.3,2,   -999,9, -999,9, -999,9,-999,9,-999,9, -999,9,-999,9,-999,9,-999,9,-999,9,-999,-999
 35HT20180611,71,1,17,19,20180703,0039,58.97404,-32.55356,1872, 501.2, 4.5835,34.9270,2,268.1,2,34.9269,2,267.9,2,7.705,2,9.65,2,1.06,2,17.29,2,0.00,2,-999,9,-999,9,2305,2,-999,-999
 35HT20180611,71,1,18,20,20180703,0039,58.97404,-32.55356,1872, 501.2, 4.5837,34.9269,2,268.1,2,34.9268,2,268.7,2, -999,9,9.70,2,1.05,2,17.25,2,0.00,2,-999,9,-999,9,-999,9,-999,-999
 35HT20180611,71,1,20,22,20180703,0039,58.97404,-32.55356,1872, 400.5, 5.3866,35.0042,2,247.2,2,35.0055,2,246.8,2,7.705,2,10.24,2,1.07,2,17.62,2,0.00,2,-999,9,-999,9,2310,2,-999,-999
 35HT20180611,71,1,21,23,20180703,0039,58.97404,-32.55356,1872, 300.0, 5.4421,34.9418,2,259.9,2,34.9428,2,260.2,2,7.714,2,9.35,2,1.03,2,16.97,2,0.00,2,-999,9,-999,9,2306,2,-999,-999
 35HT20180611,71,1,22,24,20180703,0039,58.97404,-32.55356,1872, 299.8, 5.4468,34.9423,2,261.2,2,   -999,9, -999,9, -999,9,-999,9,-999,9, -999,9,-999,9,-999,9,-999,9,-999,9,-999,-999
 35HT20180611,71,1,23,25,20180703,0039,58.97404,-32.55356,1872, 200.6, 5.3865,34.8679,2,288.5,2,34.8668,2,287.3,2,7.729,2,8.07,2,0.94,2,15.43,2,0.15,2,-999,9,-999,9,2302,2,-999,-999
 35HT20180611,71,1,24,26,20180703,0039,58.97404,-32.55356,1872, 150.4, 5.4713,34.8567,2,294.9,2,34.8573,2,296.6,2,7.734,2,7.71,2,0.92,2,14.77,2,0.14,2,-999,9,-999,9,-999,9,-999,-999
 35HT20180611,71,1,25,27,20180703,0039,58.97404,-32.55356,1872, 101.0, 5.7474,34.8723,2,292.9,2,34.8728,2,292.5,2,7.740,2,7.55,2,0.91,2,14.80,2,0.11,2,-999,9,-999,9,2303,2,-999,-999
 35HT20180611,71,1,26,28,20180703,0039,58.97404,-32.55356,1872, 101.0, 5.7465,34.8720,2,291.6,2,   -999,9, -999,9, -999,9,-999,9,-999,9, -999,9,-999,9,-999,9,-999,9,-999,9,-999,-999
 35HT20180611,71,1,27,29,20180703,0039,58.97404,-32.55356,1872,  57.3, 6.5037,34.8019,2,304.6,2,34.8030,2,305.1,2,7.786,2,5.33,2,0.72,2,10.64,2,0.17,2,-999,9,-999,9,-999,9,-999,-999
 35HT20180611,71,1,28,30,20180703,0039,58.97404,-32.55356,1872,   7.8, 7.2140,34.7688,2,312.1,2,34.7692,2,314.0,2,7.829,2,2.11,2,0.55,2, 8.49,2,0.13,2,0.182,2,0.54,2,2300,2,-999,-999
 35HT20180611,72,1, 1, 3,20180703,0509,59.04296,-33.19126,2283,2304.7, 3.2842,34.9453,2,274.1,2,34.9451,2,275.5,2,7.720,2,12.73,2,1.06,2,16.67,2,0.03,2,-999,9,-999,9,-999,9,-999,-999
 35HT20180611,72,1, 2, 4,20180703,0509,59.04296,-33.19126,2283,2304.5, 3.2840,34.9454,2,274.0,2,   -999,9, -999,9, -999,9,-999,9,-999,9, -999,9,-999,9,-999,9,-999,9,-999,9,-999,-999
 35HT20180611,72,1, 3, 5,20180703,0509,59.04296,-33.19126,2283,2200.6, 3.3193,34.9456,2,273.9,2,34.9459,2,275.5,2,7.726,2,12.39,2,1.05,2,16.57,2,0.03,2,-999,9,-999,9,-999,9,-999,-999
 35HT20180611,72,1, 4, 6,20180703,0509,59.04296,-33.19126,2283,2002.2, 3.4201,34.9467,2,273.3,2,34.9467,2,273.5,2,7.720,2,11.96,2,1.05,2,16.54,2,0.02,2,-999,9,-999,9,-999,9,-999,-999
 35HT20180611,72,1, 6, 8,20180703,0509,59.04296,-33.19126,2283,1802.0, 3.6008,34.9449,2,273.2,2,34.9453,2,273.2,2,7.723,2,11.32,2,1.07,2,16.50,2,0.02,2,-999,9,-999,9,-999,9,-999,-999
 35HT20180611,72,1, 7, 9,20180703,0509,59.04296,-33.19126,2283,1600.3, 3.7347,34.9449,2,273.6,2,34.9450,2,273.6,2,7.716,2,10.72,2,1.04,2,16.74,2,0.02,2,-999,9,-999,9,-999,9,-999,-999
 35HT20180611,72,1, 9,11,20180703,0509,59.04296,-33.19126,2283,1399.5, 3.6389,34.9173,2,281.4,2,34.9177,2,281.2,2,7.716,2,10.15,2,1.03,2,16.36,2,0.02,2,-999,9,-999,9,-999,9,-999,-999
 35HT20180611,72,1,10,12,20180703,0509,59.04296,-33.19126,2283,1199.5, 3.6314,34.9018,2,287.6,2,34.9018,2,287.6,2,7.714,2,9.67,2,1.03,2,16.55,2,0.01,2,-999,9,-999,9,-999,9,-999,-999
 35HT20180611,72,1,12,14,20180703,0509,59.04296,-33.19126,2283,1000.5, 3.7767,34.9065,2,286.9,2,34.9066,2,286.3,2,7.715,2,9.57,2,1.06,2,16.57,2,0.01,2,-999,9,-999,9,-999,9,-999,-999
 35HT20180611,72,1,14,16,20180703,0509,59.04296,-33.19126,2283, 899.7, 3.8794,34.9111,2,285.3,2,34.9115,2,283.1,4,7.715,2,9.62,2,1.04,2,16.82,2,0.02,2,-999,9,-999,9,-999,9,-999,-999
 35HT20180611,72,1,15,17,20180703,0509,59.04296,-33.19126,2283, 801.6, 4.0238,34.9129,2,282.8,2,34.9139,2,281.2,2,7.716,2,9.68,2,1.05,2,16.87,2,0.01,2,-999,9,-999,9,-999,9,-999,-999
 35HT20180611,72,1,16,18,20180703,0509,59.04296,-33.19126,2283, 701.0, 4.2475,34.9268,2,271.1,2,34.9277,2,272.0,2,7.707,2,9.91,2,1.07,2,17.21,2,0.01,2,-999,9,-999,9,-999,9,-999,-999
 35HT20180611,72,1,17,19,20180703,0509,59.04296,-33.19126,2283, 602.7, 4.3452,34.9169,2,273.9,2,34.9170,2,273.9,2,7.708,2,9.68,2,1.07,2,17.27,2,0.00,2,-999,9,-999,9,-999,9,-999,-999
 35HT20180611,72,1,18,20,20180703,0509,59.04296,-33.19126,2283, 500.8, 5.1121,34.9937,2,250.2,2,34.9941,2,249.1,2,7.704,2,10.24,2,1.08,2,17.59,2,0.00,2,-999,9,-999,9,-999,9,-999,-999
 35HT20180611,72,1,20,22,20180703,0509,59.04296,-33.19126,2283, 501.3, 5.1122,34.9936,2,250.3,2,34.9941,2,249.4,2,7.704,2,10.26,2,1.07,2,17.59,2,0.01,2,-999,9,-999,9,-999,9,-999,-999
 35HT20180611,72,1,21,23,20180703,0509,59.04296,-33.19126,2283, 399.2, 5.6765,35.0159,2,245.6,2,35.0145,2,244.0,2,7.709,2,10.08,2,1.07,2,17.57,2,0.00,2,0.267,2,1.11,2,-999,9,-999,-999
 35HT20180611,72,1,22,24,20180703,0509,59.04296,-33.19126,2283, 301.9, 5.2951,34.8766,2,282.3,2,34.8765,2,280.5,2,7.725,2,8.39,2,0.98,2,15.75,2,0.01,2,-999,9,-999,9,-999,9,-999,-999
 35HT20180611,72,1,23,25,20180703,0509,59.04296,-33.19126,2283, 202.8, 5.7152,34.9085,2,290.8,2,34.9062,4,291.0,2,7.743,2,7.60,2,0.93,2,15.25,2,0.03,2,-999,9,-999,9,-999,9,-999,-999
 35HT20180611,72,1,24,26,20180703,0509,59.04296,-33.19126,2283, 150.1, 5.7676,34.8808,2,293.1,2,34.8807,2,292.7,2,7.740,2,7.70,2,0.93,2,14.54,2,0.14,2,-999,9,-999,9,-999,9,-999,-999
 35HT20180611,72,1,25,27,20180703,0509,59.04296,-33.19126,2283, 100.0, 5.7363,34.8420,2,293.7,2,34.8446,4,294.5,2,7.741,2,7.92,2,0.90,2,13.96,2,0.25,2,-999,9,-999,9,-999,9,-999,-999
 35HT20180611,72,1,27,29,20180703,0509,59.04296,-33.19126,2283,  53.8, 6.6440,34.8598,2,298.0,2,34.8606,2,298.1,2,7.840,2,6.62,2,0.78,2,11.22,2,0.21,2,-999,9,-999,9,-999,9,-999,-999
 35HT20180611,72,1,28,30,20180703,0509,59.04296,-33.19126,2283,   5.5, 7.4296,34.8331,2,307.8,2,34.8340,2,308.2,2,7.779,2,3.09,2,0.54,2, 8.21,2,0.16,2,-999,9,-999,9,-999,9,-999,-999