BOTTLE,20240404CCHSIOADS
EXPOCODE,STNNBR,CASTNO,SAMPNO,BTLNBR,DATE,TIME,LATITUDE,LONGITUDE,DEPTH,CTDPRS,CTDTMP,CTDSAL,CTDSAL_FLAG_W,CTDOXY,CTDOXY_FLAG_W,SALNTY,SALNTY_FLAG_W,OXYGEN,OXYGEN_FLAG_W,PH_TOT,PH_TOT_FLAG_W,SILCAT,SILCAT_FLAG_W,PHSPHT,PHSPHT_FLAG_W,NITRAT,NITRAT_FLAG_W,NITRIT,NITRIT_FLAG_W,DELO18,DELO18_FLAG_W,DELD,DELD_FLAG_W,ALKALI,ALKALI_FLAG_W,I-129,I129ER
,,,,,,,,,METERS,DBAR,DEG C,PSS-78,,UMOL/KG,,PSS-78,,UMOL/KG,,,,UMOL/KG,,UMOL/KG,,UMOL/KG,,UMOL/KG,,/MILLE,,/MILLE,,UMOL/KG,,E7/KG,E7/KG
 35HT20180611,73,1, 1, 3,20180703,0940,59.10254,-33.83018,2284,2302.6, 3.1922,34.9439,2,274.2,2,34.9444,2,273.4,2,7.724,2,13.4,2,1.10,2,17.21,2,0.06,2,0.299,2,1.35,2,2308,2,-999,-999
 35HT20180611,73,1, 2, 4,20180703,0940,59.10254,-33.83018,2284,2302.5, 3.1931,34.9439,2,274.4,2,   -999,9, -999,9, -999,9,-999,9,-999,9, -999,9,-999,9,-999,9,-999,9,-999,9,25.2,0.5
 35HT20180611,73,1, 3, 5,20180703,0940,59.10254,-33.83018,2284,2202.6, 3.1988,34.9443,2,274.1,2,34.9443,2,273.6,2,7.724,2,13.3,2,1.13,2,16.95,2,0.04,2,-999,9,-999,9,-999,9,-999,-999
 35HT20180611,73,1, 4, 6,20180703,0940,59.10254,-33.83018,2284,2202.8, 3.1993,34.9443,2,274.1,2,   -999,9, -999,9, -999,9,-999,9,-999,9, -999,9,-999,9,-999,9,-999,9,-999,9,24.4,0.5
 35HT20180611,73,1, 5, 7,20180703,0940,59.10254,-33.83018,2284,2002.0, 3.4237,34.9478,2,273.1,2,34.9482,2,272.8,2,7.721,2,12.12,2,1.08,2,17.16,2,0.00,2,-999,9,-999,9,2305,2,-999,-999
 35HT20180611,73,1, 6, 8,20180703,0940,59.10254,-33.83018,2284,1800.4, 3.5858,34.9457,2,273.0,2,34.9462,2,272.9,2,7.722,2,11.51,2,1.16,2,17.04,2,0.00,2,-999,9,-999,9,2305,2,-999,-999
 35HT20180611,73,1, 7, 9,20180703,0940,59.10254,-33.83018,2284,1598.5, 3.6644,34.9352,2,275.6,2,34.9354,2,275.1,2,7.717,2,10.86,2,1.07,2,17.51,2,0.00,2,-999,9,-999,9,2307,2,-999,-999
 35HT20180611,73,1, 8,10,20180703,0940,59.10254,-33.83018,2284,1597.9, 3.6645,34.9354,2,275.8,2,   -999,9, -999,9, -999,9,-999,9,-999,9, -999,9,-999,9,-999,9,-999,9,-999,9,-999,-999
 35HT20180611,73,1, 9,11,20180703,0940,59.10254,-33.83018,2284,1401.8, 3.5937,34.9072,2,284.7,2,34.9067,2,284.6,2,7.717,2,10.02,2,1.09,2,16.62,2,0.03,2,-999,9,-999,9,2304,2,-999,-999
 35HT20180611,73,1,10,12,20180703,0940,59.10254,-33.83018,2284,1202.7, 3.5475,34.8912,2,291.5,2,34.8920,2,290.2,2,7.714,2,9.69,2,1.08,2,16.66,2,0.02,2,-999,9,-999,9,2304,2,-999,-999
 35HT20180611,73,1,11,13,20180703,0940,59.10254,-33.83018,2284,1202.2, 3.5483,34.8913,2,292.0,2,   -999,9, -999,9, -999,9,-999,9,-999,9, -999,9,-999,9,-999,9,-999,9,-999,9,-999,-999
 35HT20180611,73,1,12,14,20180703,0940,59.10254,-33.83018,2284,1001.1, 3.6341,34.8944,2,291.4,2,34.8938,2,291.3,2,7.713,2,9.53,2,1.09,2,16.92,2,0.02,2,-999,9,-999,9,2303,2,-999,-999
 35HT20180611,73,1,14,16,20180703,0940,59.10254,-33.83018,2284, 900.7, 3.7590,34.9049,2,287.5,2,34.9043,2,286.3,2,7.712,2,9.67,2,1.14,2,17.20,2,0.01,2,-999,9,-999,9,-999,9,-999,-999
 35HT20180611,73,1,15,17,20180703,0940,59.10254,-33.83018,2284, 801.6, 3.7994,34.8969,2,288.3,2,34.8968,2,287.7,2,7.708,2,9.50,2,1.13,2,17.13,2,0.00,2,-999,9,-999,9,2303,2,-999,-999
 35HT20180611,73,1,16,18,20180703,0940,59.10254,-33.83018,2284, 672.1, 3.9500,34.8988,2,282.8,2,34.8985,2,282.5,2,7.709,2,9.64,2,1.10,2,17.67,2,0.00,2,-999,9,-999,9,-999,9,-999,-999
 35HT20180611,73,1,17,19,20180703,0940,59.10254,-33.83018,2284, 602.2, 4.1088,34.9041,2,279.2,2,34.9042,2,278.2,2,7.707,2,9.79,2,1.12,2,17.27,2,0.00,2,-999,9,-999,9,2303,2,-999,-999
 35HT20180611,73,1,18,20,20180703,0940,59.10254,-33.83018,2284, 500.8, 4.3074,34.9034,2,275.8,2,34.9031,2,274.3,2,7.701,2,9.84,2,1.15,2,17.37,2,0.02,2,-999,9,-999,9,2304,2,-999,-999
 35HT20180611,73,1,20,22,20180703,0940,59.10254,-33.83018,2284, 401.6, 4.8606,34.9418,2,261.7,2,34.9409,2,259.4,4,7.702,2,10.09,2,1.18,2,17.51,2,0.00,2,-999,9,-999,9,2307,2,-999,-999
 35HT20180611,73,1,21,23,20180703,0940,59.10254,-33.83018,2284, 401.4, 4.8602,34.9417,2,261.6,2,34.9408,2,258.8,4,7.701,2,10.03,2,1.13,2,17.66,2,0.01,2,-999,9,-999,9,-999,9,-999,-999
 35HT20180611,73,1,22,24,20180703,0940,59.10254,-33.83018,2284, 302.0, 4.8627,34.8823,2,279.7,2,34.8815,2,280.0,2,7.713,2,8.91,2,1.10,2,16.38,2,0.02,2,-999,9,-999,9,2306,2,-999,-999
 35HT20180611,73,1,23,25,20180703,0940,59.10254,-33.83018,2284, 200.5, 5.2845,34.8715,2,288.0,2,34.8706,2,286.7,2,7.730,2,8.17,2,1.06,2,15.73,2,0.01,2,0.218,2,0.73,2,2302,2,-999,-999
 35HT20180611,73,1,24,26,20180703,0940,59.10254,-33.83018,2284, 151.6, 5.7129,34.9085,2,290.2,2,34.9064,4,290.0,2,7.742,2,7.84,2,1.03,2,15.20,2,0.00,2,0.217,2,1.02,2,-999,9,-999,-999
 35HT20180611,73,1,25,27,20180703,0940,59.10254,-33.83018,2284, 101.8, 5.3992,34.8306,2,293.7,2,34.8291,2,293.5,2,7.736,2,7.89,2,1.00,2,14.73,2,0.09,2,-999,9,-999,9,2301,2,-999,-999
 35HT20180611,73,1,26,28,20180703,0940,59.10254,-33.83018,2284, 101.8, 5.4028,34.8313,2,295.3,2,   -999,9, -999,9, -999,9,-999,9,-999,9, -999,9,-999,9,0.238,2,0.98,2,-999,9,-999,-999
 35HT20180611,73,1,27,29,20180703,0940,59.10254,-33.83018,2284,  55.8, 5.7181,34.8366,2,293.6,2,34.8363,2,293.9,2,7.739,2,7.91,2,1.02,2,14.16,2,0.22,2,0.208,2,0.72,2,-999,9,-999,-999
 35HT20180611,73,1,28,30,20180703,0940,59.10254,-33.83018,2284,   5.7, 7.2436,34.7977,2,306.1,2,34.7977,2,305.5,2,7.823,2,2.61,2,0.64,2, 9.00,2,0.15,2,0.188,2,0.60,2,2305,2,-999,-999
 35HT20180611,74,1, 1, 3,20180703,1429,59.16402,-34.47452,2491,2514.8, 3.1152,34.9407,2,275.3,2,34.9409,2,275.8,2,7.723,2,13.17,2,1.11,2,15.92,2,0.00,2,-999,9,-999,9,-999,9,-999,-999
 35HT20180611,74,1, 2, 4,20180703,1429,59.16402,-34.47452,2491,2514.7, 3.1157,34.9408,2,275.3,2,   -999,9, -999,9, -999,9,-999,9,-999,9, -999,9,-999,9,-999,9,-999,9,-999,9,-999,-999
 35HT20180611,74,1, 3, 5,20180703,1429,59.16402,-34.47452,2491,2401.2, 3.1917,34.9434,2,274.5,2,34.9436,2,277.0,4,7.726,2,12.95,2,1.09,2,16.08,2,0.00,2,-999,9,-999,9,-999,9,-999,-999
 35HT20180611,74,1, 4, 6,20180703,1429,59.16402,-34.47452,2491,2201.4, 3.2949,34.9455,2,273.8,2,34.9453,2,273.8,2,7.723,2,12.46,2,1.10,2,16.05,2,0.00,2,-999,9,-999,9,-999,9,-999,-999
 35HT20180611,74,1, 6, 8,20180703,1429,59.16402,-34.47452,2491,2000.2, 3.4613,34.9467,2,273.2,2,34.9466,2,273.2,2,7.722,2,11.86,2,1.10,2,16.25,2,0.01,2,-999,9,-999,9,-999,9,-999,-999
 35HT20180611,74,1, 7, 9,20180703,1429,59.16402,-34.47452,2491,1802.1, 3.5880,34.9429,2,273.9,2,34.9428,2,274.5,2,7.719,2,11.39,2,1.11,2,16.32,2,0.00,2,-999,9,-999,9,-999,9,-999,-999
 35HT20180611,74,1, 8,10,20180703,1429,59.16402,-34.47452,2491,1601.0, 3.6208,34.9266,2,277.8,2,34.9265,2,278.0,2,7.717,2,10.73,2,1.13,2,16.38,2,0.00,2,-999,9,-999,9,-999,9,-999,-999
 35HT20180611,74,1, 9,11,20180703,1429,59.16402,-34.47452,2491,1401.5, 3.6078,34.9114,2,282.9,2,34.9116,2,283.1,2,7.717,2,10.27,2,1.11,2,16.28,2,0.02,2,-999,9,-999,9,-999,9,-999,-999
 35HT20180611,74,1,11,13,20180703,1429,59.16402,-34.47452,2491,1199.3, 3.4960,34.8849,2,292.4,2,34.8845,2,292.7,2,7.715,2,9.59,2,1.12,2,16.18,2,0.01,2,-999,9,-999,9,-999,9,-999,-999
 35HT20180611,74,1,12,14,20180703,1429,59.16402,-34.47452,2491,1001.6, 3.5846,34.8927,2,292.6,2,34.8924,2,292.7,2,7.714,2,9.62,2,1.13,2,16.28,2,0.00,2,-999,9,-999,9,-999,9,-999,-999
 35HT20180611,74,1,14,16,20180703,1429,59.16402,-34.47452,2491, 899.8, 3.6224,34.8924,2,293.3,2,34.8922,2,293.6,2,7.712,2,9.50,2,1.16,2,16.67,2,0.00,2,-999,9,-999,9,-999,9,-999,-999
 35HT20180611,74,1,15,17,20180703,1429,59.16402,-34.47452,2491, 800.8, 3.6896,34.8953,2,290.8,2,34.8947,2,291.0,2,7.713,2,9.48,2,1.14,2,16.51,2,0.00,2,-999,9,-999,9,-999,9,-999,-999
 35HT20180611,74,1,16,18,20180703,1429,59.16402,-34.47452,2491, 701.3, 3.7731,34.8953,2,289.7,2,34.8947,2,290.1,2,7.709,2,9.43,2,1.14,2,16.55,2,0.00,2,-999,9,-999,9,-999,9,-999,-999
 35HT20180611,74,1,17,19,20180703,1429,59.16402,-34.47452,2491, 600.6, 3.8678,34.8956,2,285.3,2,34.8957,2,285.4,2,7.708,2,9.54,2,1.12,2,16.65,2,0.00,2,-999,9,-999,9,-999,9,-999,-999
 35HT20180611,74,1,18,20,20180703,1429,59.16402,-34.47452,2491, 501.9, 4.2218,34.9256,2,272.9,2,34.9255,2,271.1,2,7.708,2,9.90,2,1.13,2,16.92,2,0.00,2,-999,9,-999,9,-999,9,-999,-999
 35HT20180611,74,1,20,22,20180703,1429,59.16402,-34.47452,2491, 400.8, 4.3991,34.9196,2,275.8,2,34.9207,2,272.4,4,7.707,2,9.66,2,1.11,2,16.92,2,0.00,2,-999,9,-999,9,-999,9,-999,-999
 35HT20180611,74,1,21,23,20180703,1429,59.16402,-34.47452,2491, 301.4, 4.4915,34.8862,2,284.2,2,34.8856,2,284.5,2,7.710,2,9.17,2,1.11,2,16.43,2,0.11,2,-999,9,-999,9,-999,9,-999,-999
 35HT20180611,74,1,22,24,20180703,1429,59.16402,-34.47452,2491, 301.7, 4.4910,34.8861,2,283.9,2,34.8860,2,283.0,2,7.710,2,9.12,2,1.09,2,16.28,2,0.08,2,-999,9,-999,9,-999,9,-999,-999
 35HT20180611,74,1,23,25,20180703,1429,59.16402,-34.47452,2491, 200.9, 4.7511,34.8487,2,277.6,2,34.8481,2,275.6,2,7.708,2,8.95,2,1.07,2,16.24,2,0.05,2,-999,9,-999,9,-999,9,-999,-999
 35HT20180611,74,1,25,27,20180703,1429,59.16402,-34.47452,2491, 152.1, 5.0154,34.8288,2,289.4,2,34.8275,2,290.0,2,7.724,2,8.96,2,1.05,2,15.16,2,0.15,2,-999,9,-999,9,-999,9,-999,-999
 35HT20180611,74,1,26,28,20180703,1429,59.16402,-34.47452,2491, 100.6, 5.2444,34.8284,2,297.2,2,34.8283,2,297.0,2,7.735,2,7.85,2,0.98,2,14.38,2,0.23,2,-999,9,-999,9,-999,9,-999,-999
 35HT20180611,74,1,27,29,20180703,1429,59.16402,-34.47452,2491,  56.3, 5.3287,34.7692,2,301.8,2,34.7692,2,301.8,2,7.744,2,7.65,2,0.96,2,13.10,2,0.22,2,-999,9,-999,9,-999,9,-999,-999
 35HT20180611,74,1,28,30,20180703,1429,59.16402,-34.47452,2491,   6.4, 6.9157,34.7678,2,310.3,2,34.7678,2,318.4,4,7.815,2,2.92,2,0.66,2, 9.30,2,0.13,2,-999,9,-999,9,-999,9,-999,-999
 35HT20180611,75,1, 1, 3,20180703,1905,59.23268,-35.11664,2989,3024.7, 2.6690,34.9249,2,281.6,2,34.9254,2,279.5,2,7.720,2,12.66,2,0.99,2,16.04,2,0.00,2,-999,9,-999,9,2309,2,-999,-999
 35HT20180611,75,1, 2, 4,20180703,1905,59.23268,-35.11664,2989,2900.5, 2.7899,34.9294,2,279.3,2,34.9298,2,278.8,2,7.722,2,13.17,2,1.02,2,16.29,2,0.00,2,-999,9,-999,9,2308,2,-999,-999
 35HT20180611,75,1, 3, 5,20180703,1905,59.23268,-35.11664,2989,2800.6, 2.8786,34.9329,2,277.7,2,34.9333,2,277.2,2,7.722,2,13.27,2,1.02,2,16.38,2,0.00,2,-999,9,-999,9,2309,2,-999,-999
 35HT20180611,75,1, 4, 6,20180703,1905,59.23268,-35.11664,2989,2701.7, 2.9380,34.9330,2,277.1,2,34.9332,2,276.5,2,7.724,2,13.2,2,1.03,2,16.51,2,0.00,2,-999,9,-999,9,2308,2,-999,-999
 35HT20180611,75,1, 5, 7,20180703,1905,59.23268,-35.11664,2989,2601.8, 2.9991,34.9356,2,276.0,2,34.9357,2,276.1,2,7.725,2,13.17,2,1.03,2,16.59,2,0.00,2,-999,9,-999,9,2308,2,-999,-999
 35HT20180611,75,1, 6, 8,20180703,1905,59.23268,-35.11664,2989,2501.5, 3.0662,34.9388,2,275.2,2,34.9390,2,274.8,2,7.725,2,13.05,2,1.04,2,16.71,2,0.00,2,-999,9,-999,9,2309,2,-999,-999
 35HT20180611,75,1, 7, 9,20180703,1905,59.23268,-35.11664,2989,2249.6, 3.2742,34.9424,2,274.5,2,34.9428,2,274.5,2,7.724,2,12.25,2,1.05,2,17.01,2,0.00,2,-999,9,-999,9,2307,2,-999,-999
 35HT20180611,75,1, 8,10,20180703,1905,59.23268,-35.11664,2989,2001.0, 3.4512,34.9438,2,273.6,2,34.9448,2,273.3,2,7.722,2,11.64,2,1.05,2,16.67,2,0.00,2,-999,9,-999,9,2307,2,-999,-999
 35HT20180611,75,1, 9,11,20180703,1905,59.23268,-35.11664,2989,1800.0, 3.5937,34.9393,2,274.7,2,34.9393,2,274.5,2,7.720,2,11.05,2,1.07,2,16.44,2,0.00,2,-999,9,-999,9,2306,2,-999,-999
 35HT20180611,75,1,10,12,20180703,1905,59.23268,-35.11664,2989,1601.1, 3.4654,34.8925,2,287.7,2,34.8927,2,287.3,2,7.715,2,9.86,2,1.05,2,16.08,2,0.00,2,-999,9,-999,9,2304,2,-999,-999
 35HT20180611,75,1,11,13,20180703,1905,59.23268,-35.11664,2989,1400.4, 3.3949,34.8716,2,295.8,2,34.8718,2,295.8,2,7.712,2,9.19,2,1.04,2,16.08,2,0.00,2,-999,9,-999,9,2302,2,-999,-999
 35HT20180611,75,1,12,14,20180703,1905,59.23268,-35.11664,2989,1201.1, 3.4305,34.8739,2,298.1,2,34.8731,2,298.3,2,7.712,2,9.01,2,1.04,2,16.07,2,0.00,2,-999,9,-999,9,2301,2,-999,-999
 35HT20180611,75,1,13,15,20180703,1905,59.23268,-35.11664,2989,1000.9, 3.5200,34.8833,2,298.0,2,34.8833,2,298.0,2,7.712,2,9.02,2,1.06,2,16.16,2,0.00,2,-999,9,-999,9,2302,2,-999,-999
 35HT20180611,75,1,14,16,20180703,1905,59.23268,-35.11664,2989, 901.1, 3.5779,34.8882,2,297.3,2,34.8882,2,296.7,2,7.712,2,9.07,2,1.04,2,16.31,2,0.00,2,-999,9,-999,9,-999,9,-999,-999
 35HT20180611,75,1,15,17,20180703,1905,59.23268,-35.11664,2989, 801.7, 3.6323,34.8886,2,297.3,2,34.8887,2,296.9,2,7.712,2,9.09,2,1.04,2,16.36,2,0.00,2,-999,9,-999,9,2302,2,-999,-999
 35HT20180611,75,1,16,18,20180703,1905,59.23268,-35.11664,2989, 702.0, 3.6829,34.8877,2,297.5,2,34.8876,2,297.1,2,7.712,2,9.09,2,1.05,2,16.35,2,0.00,2,-999,9,-999,9,-999,9,-999,-999
 35HT20180611,75,1,17,19,20180703,1905,59.23268,-35.11664,2989, 601.2, 3.8985,34.9030,2,282.9,2,34.9032,2,282.4,2,7.708,2,9.55,2,1.08,2,16.66,2,0.00,2,-999,9,-999,9,2303,2,-999,-999
 35HT20180611,75,1,18,20,20180703,1905,59.23268,-35.11664,2989, 500.7, 4.0775,34.9054,2,280.6,2,34.9055,2,279.5,2,7.706,2,9.54,2,1.07,2,16.79,2,0.00,2,-999,9,-999,9,2303,2,-999,-999
 35HT20180611,75,1,20,22,20180703,1905,59.23268,-35.11664,2989, 400.7, 4.4916,34.9325,2,268.9,2,34.9318,2,266.8,2,7.703,2,9.83,2,1.08,2,17.48,2,0.00,2,-999,9,-999,9,2305,2,-999,-999
 35HT20180611,75,1,21,23,20180703,1905,59.23268,-35.11664,2989, 300.1, 4.7141,34.9206,2,268.9,2,34.9208,2,267.6,2,7.703,2,9.61,2,1.08,2,17.24,2,0.00,2,-999,9,-999,9,2305,2,-999,-999
 35HT20180611,75,1,22,24,20180703,1905,59.23268,-35.11664,2989, 200.4, 5.0019,34.9025,2,268.8,2,34.9021,2,267.7,2,7.708,2,9.21,2,1.07,2,16.89,2,0.10,2,-999,9,-999,9,2305,2,-999,-999
 35HT20180611,75,1,23,25,20180703,1905,59.23268,-35.11664,2989, 200.4, 5.0019,34.9024,2,268.8,2,34.9019,2,268.5,2,7.708,2,9.15,2,1.07,2,16.63,2,0.00,2,-999,9,-999,9,-999,9,-999,-999
 35HT20180611,75,1,24,26,20180703,1905,59.23268,-35.11664,2989, 100.9, 5.1674,34.8251,2,295.4,2,   -999,9, -999,9, -999,9,-999,9,-999,9, -999,9,-999,9,-999,9,-999,9,-999,9,-999,-999
 35HT20180611,75,1,25,27,20180703,1905,59.23268,-35.11664,2989, 101.0, 5.1753,34.8255,2,295.3,2,34.8263,2,294.5,2,7.732,2,7.66,2,0.98,2,14.44,2,0.21,2,-999,9,-999,9,2299,2,-999,-999
 35HT20180611,75,1,26,28,20180703,1905,59.23268,-35.11664,2989,  55.8, 5.5212,34.7900,2,301.4,2,   -999,9, -999,9,7.743,2,-999,9,-999,9, -999,9,-999,9,-999,9,-999,9,-999,9,-999,-999
 35HT20180611,75,1,27,29,20180703,1905,59.23268,-35.11664,2989,   6.3, 7.1795,34.7927,2,309.2,2,34.7932,2,309.4,2,7.820,2,2.74,2,0.60,2, 8.90,2,0.13,2,0.193,2,0.72,2,2301,2,-999,-999
 35HT20180611,75,1,28,30,20180703,1905,59.23268,-35.11664,2989,   6.3, 7.1812,34.7927,2,309.2,2,   -999,9, -999,9, -999,9,-999,9,-999,9, -999,9,-999,9,-999,9,-999,9,-999,9,-999,-999
 35HT20180611,76,1, 1, 3,20180704,0011,59.30016,-35.76202,3101,3140.6, 1.4378,34.8916,2,302.8,2,34.8915,2,304.2,2,7.708,2,8.33,2,0.88,2,13.50,2,0.00,2,-999,9,-999,9,-999,9,129.0,2.0
 35HT20180611,76,1, 2, 4,20180704,0011,59.30016,-35.76202,3101,3072.4, 1.6365,34.8936,2,299.9,2,34.8933,2,299.8,2,7.710,2,8.42,2,0.88,2,13.82,2,0.00,2,-999,9,-999,9,-999,9,120.0,2.0
 35HT20180611,76,1, 3, 5,20180704,0011,59.30016,-35.76202,3101,3000.9, 2.1053,34.8941,2,296.1,2,34.8938,2,296.0,2,7.712,2,8.94,2,0.91,2,14.20,2,0.00,2,-999,9,-999,9,-999,9,105.0,2.0
 35HT20180611,76,1, 4, 6,20180704,0011,59.30016,-35.76202,3101,2899.7, 2.5697,34.9142,2,285.4,2,   -999,9, -999,9, -999,9,-999,9,-999,9, -999,9,-999,9,-999,9,-999,9,-999,9,66.4,1.2
 35HT20180611,76,1, 5, 7,20180704,0011,59.30016,-35.76202,3101,2801.3, 2.7949,34.9295,2,279.5,2,34.9299,2,278.2,2,7.724,2,13.45,2,1.03,2,15.88,2,0.00,2,-999,9,-999,9,-999,9,38.5,0.7
 35HT20180611,76,1, 6, 8,20180704,0011,59.30016,-35.76202,3101,2650.7, 2.9503,34.9344,2,277.2,2,34.9347,2,276.4,2,7.725,2,13.38,2,1.07,2,16.10,2,0.00,2,-999,9,-999,9,-999,9,29.5,0.6
 35HT20180611,76,1, 7, 9,20180704,0011,59.30016,-35.76202,3101,2501.0, 3.0541,34.9343,2,276.9,2,34.9343,2,276.0,2,7.725,2,12.95,2,1.04,2,16.20,2,0.00,2,-999,9,-999,9,-999,9,27.8,0.5
 35HT20180611,76,1, 9,11,20180704,0011,59.30016,-35.76202,3101,2200.7, 3.2848,34.9349,2,275.6,2,34.9344,2,275.3,2,7.723,2,11.89,2,1.04,2,16.09,2,0.00,2,-999,9,-999,9,-999,9,-999,-999
 35HT20180611,76,1,10,12,20180704,0011,59.30016,-35.76202,3101,2001.6, 3.4518,34.9340,2,275.0,2,34.9347,2,275.3,2,7.723,2,11.32,2,1.03,2,16.27,2,0.00,2,-999,9,-999,9,-999,9,25.5,0.5
 35HT20180611,76,1,11,13,20180704,0011,59.30016,-35.76202,3101,1800.0, 3.5846,34.9288,2,276.0,2,34.9289,2,276.1,2,7.719,2,10.83,2,1.04,2,16.44,2,0.00,2,-999,9,-999,9,-999,9,-999,-999
 35HT20180611,76,1,12,14,20180704,0011,59.30016,-35.76202,3101,1600.2, 3.4838,34.8918,2,289.0,2,34.8920,2,288.9,2,7.713,2,9.64,2,1.02,2,16.15,2,0.00,2,-999,9,-999,9,-999,9,-999,-999
 35HT20180611,76,1,13,15,20180704,0011,59.30016,-35.76202,3101,1500.8, 3.4264,34.8781,2,294.9,2,   -999,9, -999,9, -999,9,-999,9,-999,9, -999,9,-999,9,-999,9,-999,9,-999,9,30.4,0.6
 35HT20180611,76,1,14,16,20180704,0011,59.30016,-35.76202,3101,1401.2, 3.3688,34.8669,2,298.6,2,34.8700,4,298.5,2,7.716,2,8.97,2,1.00,2,15.99,2,0.00,2,-999,9,-999,9,-999,9,-999,-999
 35HT20180611,76,1,15,17,20180704,0011,59.30016,-35.76202,3101,1200.6, 3.3971,34.8696,2,300.8,2,34.8699,2,300.6,2,7.712,2,8.93,2,1.00,2,16.05,2,0.00,2,-999,9,-999,9,-999,9,-999,-999
 35HT20180611,76,1,16,18,20180704,0011,59.30016,-35.76202,3101,1000.6, 3.4486,34.8765,2,301.7,2,34.8773,2,303.1,2,7.711,2,8.86,2,1.01,2,16.06,2,0.00,2,-999,9,-999,9,-999,9,30.2,0.6
 35HT20180611,76,1,17,19,20180704,0011,59.30016,-35.76202,3101, 801.4, 3.5084,34.8834,2,301.0,2,34.8837,2,300.8,2,7.711,2,8.96,2,1.01,2,16.22,2,0.00,2,-999,9,-999,9,-999,9,-999,-999
 35HT20180611,76,1,18,20,20180704,0011,59.30016,-35.76202,3101, 601.1, 3.5514,34.8854,2,299.8,2,34.8857,2,299.2,2,7.709,2,9.04,2,1.03,2,16.24,2,0.00,2,-999,9,-999,9,-999,9,-999,-999
 35HT20180611,76,1,20,22,20180704,0011,59.30016,-35.76202,3101, 500.7, 3.6348,34.8920,2,297.7,2,34.8924,2,298.1,2,7.710,2,8.99,2,1.05,2,16.34,2,0.00,2,-999,9,-999,9,-999,9,-999,-999
 35HT20180611,76,1,21,23,20180704,0011,59.30016,-35.76202,3101, 401.4, 3.7396,34.8952,2,295.7,2,34.8957,2,296.3,2,7.712,2,8.99,2,1.05,2,16.36,2,0.00,2,-999,9,-999,9,-999,9,27.2,0.5
 35HT20180611,76,1,22,24,20180704,0011,59.30016,-35.76202,3101, 301.3, 3.8432,34.8882,2,297.2,2,34.8888,2,297.2,2,7.712,2,8.99,2,1.05,2,16.30,2,0.00,2,-999,9,-999,9,-999,9,-999,-999
 35HT20180611,76,1,23,25,20180704,0011,59.30016,-35.76202,3101, 200.6, 4.0353,34.8803,2,293.9,2,34.8813,2,293.1,2,7.711,2,9.08,2,1.07,2,16.46,2,0.10,2,-999,9,-999,9,-999,9,-999,-999
 35HT20180611,76,1,24,26,20180704,0011,59.30016,-35.76202,3101, 200.6, 4.0344,34.8803,2,293.9,2,34.8811,2,292.6,2,7.711,2,9.10,2,1.06,2,16.44,2,0.10,2,-999,9,-999,9,-999,9,-999,-999
 35HT20180611,76,1,25,27,20180704,0011,59.30016,-35.76202,3101, 101.5, 4.3178,34.8722,2,301.8,2,34.8728,2,301.5,2,7.723,2,8.73,2,1.03,2,15.34,2,0.25,2,-999,9,-999,9,-999,9,29.3,0.6
 35HT20180611,76,1,26,28,20180704,0011,59.30016,-35.76202,3101,  56.8, 4.7384,34.8340,2,302.7,2,34.8345,2,305.2,4,7.724,2,8.35,2,1.05,2,14.45,2,0.31,2,-999,9,-999,9,-999,9,-999,-999
 35HT20180611,76,1,27,29,20180704,0011,59.30016,-35.76202,3101,   7.7, 6.3658,34.7953,2,317.0,2,34.7956,2,317.0,2,7.818,2,2.52,2,0.60,2, 8.71,2,0.12,2,-999,9,-999,9,-999,9,-999,-999
 35HT20180611,76,1,28,30,20180704,0011,59.30016,-35.76202,3101,   7.8, 6.3677,34.7952,2,316.4,2,   -999,9, -999,9, -999,9,-999,9,-999,9, -999,9,-999,9,-999,9,-999,9,-999,9,29.8,0.6