BOTTLE,20240404CCHSIOADS
EXPOCODE,STNNBR,CASTNO,SAMPNO,BTLNBR,DATE,TIME,LATITUDE,LONGITUDE,DEPTH,CTDPRS,CTDTMP,CTDSAL,CTDSAL_FLAG_W,CTDOXY,CTDOXY_FLAG_W,SALNTY,SALNTY_FLAG_W,OXYGEN,OXYGEN_FLAG_W,PH_TOT,PH_TOT_FLAG_W,SILCAT,SILCAT_FLAG_W,PHSPHT,PHSPHT_FLAG_W,NITRAT,NITRAT_FLAG_W,NITRIT,NITRIT_FLAG_W,DELO18,DELO18_FLAG_W,DELD,DELD_FLAG_W,ALKALI,ALKALI_FLAG_W,I-129,I129ER
,,,,,,,,,METERS,DBAR,DEG C,PSS-78,,UMOL/KG,,PSS-78,,UMOL/KG,,,,UMOL/KG,,UMOL/KG,,UMOL/KG,,UMOL/KG,,/MILLE,,/MILLE,,UMOL/KG,,E7/KG,E7/KG
 35HT20180611,51,1, 1, 3,20180628,0213,53.26674,-24.9529,3531,3577.5, 2.5793,34.9177,2,245.3,2,34.9183,2,245.4,2,7.728,2,39.57,2,1.42,2,21.26,2,0.00,2,-999,9,-999,9,2348,2,-999,-999
 35HT20180611,51,1, 2, 4,20180628,0213,53.26674,-24.9529,3531,3577.7, 2.5802,34.9179,2,245.7,2,   -999,9, -999,9,7.741,2,-999,9,-999,9, -999,9,-999,9,-999,9,-999,9,-999,9,-999,-999
 35HT20180611,51,1, 3, 5,20180628,0213,53.26674,-24.9529,3531,3251.2, 2.8289,34.9505,2,263.1,2,34.9499,2,264.0,2,7.720,2,23.44,2,1.22,2,17.87,2,0.02,2,-999,9,-999,9,2323,2,-999,-999
 35HT20180611,51,1, 4, 6,20180628,0213,53.26674,-24.9529,3531,3001.2, 2.9120,34.9494,2,265.4,2,34.9489,2,265.5,2,7.727,2,20.51,2,1.14,2,17.71,2,0.02,2,-999,9,-999,9,2320,2,-999,-999
 35HT20180611,51,1, 5, 7,20180628,0213,53.26674,-24.9529,3531,2752.0, 3.0400,34.9465,2,269.2,2,34.9463,2,269.3,2,7.723,2,17.07,2,1.15,2,17.16,2,0.01,2,-999,9,-999,9,2315,2,-999,-999
 35HT20180611,51,1, 6, 8,20180628,0213,53.26674,-24.9529,3531,2500.8, 3.1812,34.9390,2,271.7,2,34.9387,2,272.2,2,7.724,2,14.09,2,1.11,2,16.93,2,0.00,2,-999,9,-999,9,2309,2,-999,-999
 35HT20180611,51,1, 7, 9,20180628,0213,53.26674,-24.9529,3531,2251.6, 3.3140,34.9321,2,272.1,2,34.9320,2,272.1,2,7.728,2,13.0,2,1.12,2,17.03,2,0.02,2,-999,9,-999,9,2307,2,-999,-999
 35HT20180611,51,1, 8,10,20180628,0213,53.26674,-24.9529,3531,2000.8, 3.4876,34.9280,2,271.6,2,34.9277,2,271.8,2,7.725,2,11.99,2,1.16,2,17.32,2,0.02,2,-999,9,-999,9,2307,2,-999,-999
 35HT20180611,51,1, 9,11,20180628,0213,53.26674,-24.9529,3531,2000.9, 3.4880,34.9281,2,271.6,2,34.9283,2,271.6,2,7.722,2,11.84,2,1.14,2,17.37,2,0.01,2,-999,9,-999,9,-999,9,-999,-999
 35HT20180611,51,1,10,12,20180628,0213,53.26674,-24.9529,3531,1801.2, 3.6101,34.9245,2,272.4,2,34.9246,2,272.6,2,7.718,2,10.94,2,1.14,2,17.23,2,0.01,2,-999,9,-999,9,2306,2,-999,-999
 35HT20180611,51,1,11,13,20180628,0213,53.26674,-24.9529,3531,1601.5, 3.6747,34.9123,2,276.5,2,34.9122,2,276.6,2,7.715,2,10.25,2,1.14,2,17.02,2,0.00,2,-999,9,-999,9,2305,2,-999,-999
 35HT20180611,51,1,12,14,20180628,0213,53.26674,-24.9529,3531,1400.2, 3.7022,34.9003,2,280.9,2,34.8995,2,280.7,2,7.711,2,9.74,2,1.13,2,16.68,2,0.02,2,-999,9,-999,9,2304,2,-999,-999
 35HT20180611,51,1,13,15,20180628,0213,53.26674,-24.9529,3531,1200.2, 3.8334,34.9048,2,278.1,2,34.9047,2,278.1,2,7.713,2,9.56,2,1.12,2,16.94,2,0.02,2,-999,9,-999,9,2304,2,-999,-999
 35HT20180611,51,1,14,16,20180628,0213,53.26674,-24.9529,3531,1000.1, 4.1215,34.9290,2,270.7,2,34.9291,2,270.0,2,7.707,2,9.67,2,1.14,2,17.27,2,0.00,2,-999,9,-999,9,2306,2,-999,-999
 35HT20180611,51,1,15,17,20180628,0213,53.26674,-24.9529,3531, 901.8, 4.2739,34.9374,2,266.4,2,34.9371,2,266.6,2,7.704,2,9.68,2,1.19,2,17.27,2,0.00,2,-999,9,-999,9,-999,9,-999,-999
 35HT20180611,51,1,16,18,20180628,0213,53.26674,-24.9529,3531, 799.8, 4.6097,34.9677,2,259.5,2,34.9676,2,257.8,2,7.704,2,9.77,2,1.17,2,17.78,2,0.03,2,-999,9,-999,9,2308,2,-999,-999
 35HT20180611,51,1,17,19,20180628,0213,53.26674,-24.9529,3531, 700.3, 4.7379,34.9567,2,252.6,2,34.9584,2,253.4,2,7.701,2,10.04,2,1.17,2,17.89,2,0.01,2,-999,9,-999,9,-999,9,-999,-999
 35HT20180611,51,1,18,20,20180628,0213,53.26674,-24.9529,3531, 601.0, 4.8532,34.9287,2,248.0,2,34.9282,2,248.0,2,7.695,2,9.98,2,1.25,2,18.25,2,0.02,2,-999,9,-999,9,2306,2,-999,-999
 35HT20180611,51,1,19,21,20180628,0213,53.26674,-24.9529,3531, 500.8, 5.3427,34.8877,2,236.2,2,34.8871,2,235.8,2,7.682,2,10.28,2,1.24,2,18.66,2,0.02,2,-999,9,-999,9,2305,2,-999,-999
 35HT20180611,51,1,20,22,20180628,0213,53.26674,-24.9529,3531, 400.9, 6.6686,34.9327,2,216.2,2,34.9322,2,211.7,4,7.687,2,10.35,2,1.33,2,19.06,2,0.01,2,-999,9,-999,9,2307,2,-999,-999
 35HT20180611,51,1,21,23,20180628,0213,53.26674,-24.9529,3531, 300.5, 7.6798,34.9658,2,228.8,2,34.9661,2,227.8,2,7.725,2,8.56,2,1.13,2,16.86,2,0.00,2,-999,9,-999,9,2309,2,-999,-999
 35HT20180611,51,1,22,24,20180628,0213,53.26674,-24.9529,3531, 199.8, 9.0802,35.1282,2,249.6,2,35.1286,2,249.4,2,7.776,2,6.10,2,0.93,2,13.35,2,0.00,2,-999,9,-999,9,2317,2,-999,-999
 35HT20180611,51,1,23,25,20180628,0213,53.26674,-24.9529,3531, 150.7, 9.5703,35.2004,2,261.1,2,35.1998,2,260.3,2,7.796,2,4.89,2,0.82,2,12.00,2,0.04,2,-999,9,-999,9,-999,9,-999,-999
 35HT20180611,51,1,24,26,20180628,0213,53.26674,-24.9529,3531, 150.8, 9.5748,35.2011,2,261.0,2,35.2002,2,260.4,2,7.802,2,4.90,2,0.85,2,12.04,2,0.03,2,-999,9,-999,9,-999,9,-999,-999
 35HT20180611,51,1,25,27,20180628,0213,53.26674,-24.9529,3531, 101.4, 9.9099,35.2458,2,263.8,2,35.2438,2,265.1,2,7.816,2,3.58,2,0.76,2,11.07,2,0.13,2,-999,9,-999,9,2323,2,-999,-999
 35HT20180611,51,1,26,28,20180628,0213,53.26674,-24.9529,3531,  55.8,10.1777,35.2419,2,272.0,2,35.2428,2,270.9,2,7.832,2,3.58,2,0.70,2,11.40,2,0.31,2,-999,9,-999,9,-999,9,-999,-999
 35HT20180611,51,1,28,30,20180628,0213,53.26674,-24.9529,3531,   6.0,11.8441,35.0422,2,293.5,2,35.0434,2,294.2,2,7.911,2,1.63,2,0.45,2, 4.31,2,0.14,2,0.38,2,1.79,2,2319,2,-999,-999
 35HT20180611,52,1, 1, 3,20180628,0744,53.63758,-25.2381,3593,3643.8, 2.7973,34.9473,2,258.8,2,34.9480,2,258.7,2,7.720,2,27.37,2,1.24,2,18.63,2,0.03,2,-999,9,-999,9,-999,9,-999,-999
 35HT20180611,52,1, 2, 4,20180628,0744,53.63758,-25.2381,3593,3500.8, 2.8545,34.9495,2,262.0,2,34.9482,2,262.0,2,7.724,2,23.99,2,1.21,2,18.09,2,0.02,2,-999,9,-999,9,-999,9,-999,-999
 35HT20180611,52,1, 3, 5,20180628,0744,53.63758,-25.2381,3593,3250.2, 2.8707,34.9513,2,264.1,2,34.9506,2,264.1,2,7.723,2,21.98,2,1.19,2,17.73,2,0.03,2,-999,9,-999,9,-999,9,-999,-999
 35HT20180611,52,1, 4, 6,20180628,0744,53.63758,-25.2381,3593,2999.7, 2.9187,34.9525,2,266.4,2,34.9523,2,266.4,2,7.724,2,19.54,2,1.17,2,17.36,2,0.02,2,-999,9,-999,9,-999,9,-999,-999
 35HT20180611,52,1, 5, 7,20180628,0744,53.63758,-25.2381,3593,2749.8, 3.0751,34.9492,2,271.4,2,34.9488,2,271.7,2,7.724,2,14.88,2,1.13,2,16.71,2,0.02,2,-999,9,-999,9,-999,9,-999,-999
 35HT20180611,52,1, 6, 8,20180628,0744,53.63758,-25.2381,3593,2500.4, 3.2075,34.9401,2,272.4,2,34.9401,2,272.7,2,7.725,2,13.57,2,1.16,2,16.66,2,0.02,2,-999,9,-999,9,-999,9,-999,-999
 35HT20180611,52,1, 7, 9,20180628,0744,53.63758,-25.2381,3593,2252.7, 3.3145,34.9333,2,272.3,2,34.9328,2,272.4,2,7.725,2,12.92,2,1.13,2,16.72,2,0.02,2,-999,9,-999,9,-999,9,-999,-999
 35HT20180611,52,1, 8,10,20180628,0744,53.63758,-25.2381,3593,2001.9, 3.4683,34.9295,2,271.9,2,34.9295,2,272.3,2,7.722,2,12.12,2,1.13,2,16.86,2,0.03,2,-999,9,-999,9,-999,9,-999,-999
 35HT20180611,52,1, 9,11,20180628,0744,53.63758,-25.2381,3593,1801.8, 3.5836,34.9261,2,272.5,2,34.9257,2,272.6,2,7.719,2,11.63,2,1.12,2,16.82,2,0.03,2,-999,9,-999,9,-999,9,-999,-999
 35HT20180611,52,1,10,12,20180628,0744,53.63758,-25.2381,3593,1600.6, 3.6285,34.9112,2,277.3,2,34.9109,2,278.0,2,7.717,2,10.83,2,1.12,2,16.74,2,0.04,2,-999,9,-999,9,-999,9,-999,-999
 35HT20180611,52,1,11,13,20180628,0744,53.63758,-25.2381,3593,1600.6, 3.6285,34.9112,2,277.3,2,34.9107,2,277.7,2,7.716,2,10.87,2,1.11,2,16.65,2,0.03,2,-999,9,-999,9,-999,9,-999,-999
 35HT20180611,52,1,12,14,20180628,0744,53.63758,-25.2381,3593,1401.5, 3.6407,34.8947,2,283.2,2,34.8942,2,284.3,2,7.714,2,9.96,2,1.12,2,16.51,2,0.03,2,-999,9,-999,9,-999,9,-999,-999
 35HT20180611,52,1,13,15,20180628,0744,53.63758,-25.2381,3593,1200.3, 3.7446,34.8978,2,280.9,2,34.8972,2,280.9,2,7.709,2,9.95,2,1.12,2,16.62,2,0.03,2,-999,9,-999,9,-999,9,-999,-999
 35HT20180611,52,1,14,16,20180628,0744,53.63758,-25.2381,3593,1001.8, 3.9739,34.9132,2,275.0,2,34.9131,2,274.0,2,7.709,2,10.12,2,1.16,2,17.02,2,0.02,2,-999,9,-999,9,-999,9,-999,-999
 35HT20180611,52,1,15,17,20180628,0744,53.63758,-25.2381,3593, 901.7, 4.0551,34.9135,2,272.8,2,34.9125,2,272.3,2,7.705,2,10.16,2,1.18,2,17.07,2,0.02,2,-999,9,-999,9,-999,9,-999,-999
 35HT20180611,52,1,16,18,20180628,0744,53.63758,-25.2381,3593, 800.7, 4.2062,34.9225,2,267.7,2,34.9220,2,268.6,2,7.703,2,10.22,2,1.18,2,17.21,2,0.02,2,-999,9,-999,9,-999,9,-999,-999
 35HT20180611,52,1,17,19,20180628,0744,53.63758,-25.2381,3593, 701.0, 4.5187,34.9477,2,260.2,2,34.9469,2,259.4,2,7.702,2,10.53,2,1.18,2,17.57,2,0.01,2,-999,9,-999,9,-999,9,-999,-999
 35HT20180611,52,1,18,20,20180628,0744,53.63758,-25.2381,3593, 601.6, 4.8244,34.9660,2,253.1,2,34.9663,2,251.1,2,7.701,2,10.65,2,1.17,2,17.87,2,0.02,2,-999,9,-999,9,-999,9,-999,-999
 35HT20180611,52,1,19,21,20180628,0744,53.63758,-25.2381,3593, 499.8, 5.1393,34.9671,2,244.7,2,34.9662,2,242.5,4,7.694,2,10.82,2,1.21,2,18.18,2,0.02,2,-999,9,-999,9,-999,9,-999,-999
 35HT20180611,52,1,20,22,20180628,0744,53.63758,-25.2381,3593, 405.5, 5.2059,34.8927,2,235.9,2,34.8918,2,236.8,2,7.685,2,10.87,2,1.20,2,18.58,2,0.02,2,-999,9,-999,9,-999,9,-999,-999
 35HT20180611,52,1,21,23,20180628,0744,53.63758,-25.2381,3593, 302.7, 6.2710,34.9187,2,219.6,2,34.9146,4,216.4,4,7.687,2,10.99,2,1.21,2,19.04,2,0.03,2,-999,9,-999,9,-999,9,-999,-999
 35HT20180611,52,1,22,24,20180628,0744,53.63758,-25.2381,3593, 201.7, 7.2601,34.9004,2,251.4,2,34.8996,2,251.0,2,7.735,2,8.11,2,1.03,2,15.40,2,0.03,2,-999,9,-999,9,-999,9,-999,-999
 35HT20180611,52,1,23,25,20180628,0744,53.63758,-25.2381,3593, 153.0, 7.8160,34.9542,2,268.0,2,34.9555,2,266.9,2,7.764,2,6.69,2,0.91,2,13.55,2,0.04,2,-999,9,-999,9,-999,9,-999,-999
 35HT20180611,52,1,24,26,20180628,0744,53.63758,-25.2381,3593, 101.1, 8.4929,35.0377,2,274.3,2,35.0378,2,274.3,2,7.788,2,4.64,2,0.81,2,12.08,2,0.29,2,-999,9,-999,9,-999,9,-999,-999
 35HT20180611,52,1,25,27,20180628,0744,53.63758,-25.2381,3593,  56.8, 8.8126,35.0542,2,278.0,2,35.0594,4,277.8,2,7.801,2,4.18,2,0.76,2,10.97,2,0.46,2,-999,9,-999,9,-999,9,-999,-999
 35HT20180611,52,1,26,28,20180628,0744,53.63758,-25.2381,3593,  56.9, 8.8172,35.0551,2,277.2,2,35.0606,4,277.2,2,7.802,2,4.17,2,0.78,2,10.94,2,0.46,2,-999,9,-999,9,-999,9,-999,-999
 35HT20180611,52,1,28,30,20180628,0744,53.63758,-25.2381,3593,   6.0,10.6351,34.7331,2,287.1,2,34.7325,2,286.7,2,7.864,2,1.98,2,0.53,2, 5.54,2,0.15,2,0.15,2,0.59,2,-999,9,-999,-999
 35HT20180611,53,1, 1, 3,20180628,1313,54.01524,-25.53362,3062,3099.6, 2.8134,34.9493,2,263.6,2,34.9492,2,263.9,2,7.723,2,23.85,2,1.18,2,17.95,2,0.00,2,-999,9,-999,9,2327,2,-999,-999
 35HT20180611,53,1, 2, 4,20180628,1313,54.01524,-25.53362,3062,3099.6, 2.8136,34.9494,2,263.2,2,34.9494,2,262.5,2,7.724,2,23.94,2,1.18,2,17.88,2,0.00,2,-999,9,-999,9,2326,2,-999,-999
 35HT20180611,53,1, 3, 5,20180628,1313,54.01524,-25.53362,3062,3001.2, 2.8248,34.9487,2,264.0,2,34.9487,2,262.8,2,7.724,2,23.38,2,1.18,2,18.00,2,0.00,2,-999,9,-999,9,2326,2,-999,-999
 35HT20180611,53,1, 4, 6,20180628,1313,54.01524,-25.53362,3062,2751.1, 2.9577,34.9527,2,270.0,2,34.9526,2,270.0,2,7.725,2,17.42,2,1.11,2,16.98,2,0.00,2,-999,9,-999,9,2317,2,-999,-999
 35HT20180611,53,1, 5, 7,20180628,1313,54.01524,-25.53362,3062,2501.8, 3.0755,34.9443,2,270.5,2,34.9442,2,270.0,2,7.726,2,16.06,2,1.09,2,17.18,2,0.00,2,-999,9,-999,9,2315,2,-999,-999
 35HT20180611,53,1, 6, 8,20180628,1313,54.01524,-25.53362,3062,2250.3, 3.2621,34.9367,2,272.7,2,34.9368,2,272.7,2,7.725,2,13.41,2,1.07,2,16.92,2,0.00,2,-999,9,-999,9,2310,2,-999,-999
 35HT20180611,53,1, 7, 9,20180628,1313,54.01524,-25.53362,3062,2000.7, 3.4277,34.9298,2,272.3,2,34.9304,2,272.4,2,7.725,2,12.43,2,1.07,2,17.08,2,0.00,2,-999,9,-999,9,2309,2,-999,-999
 35HT20180611,53,1, 8,10,20180628,1313,54.01524,-25.53362,3062,1800.8, 3.5800,34.9269,2,272.4,2,34.9273,2,272.5,2,7.721,2,11.71,2,1.08,2,17.00,2,0.00,2,-999,9,-999,9,2308,2,-999,-999
 35HT20180611,53,1, 9,11,20180628,1313,54.01524,-25.53362,3062,1600.4, 3.6799,34.9193,2,272.9,2,34.9195,2,273.1,2,7.720,2,11.09,2,1.08,2,17.00,2,0.00,2,-999,9,-999,9,2307,2,-999,-999
 35HT20180611,53,1,10,12,20180628,1313,54.01524,-25.53362,3062,1400.7, 3.7701,34.9117,2,275.5,2,34.9124,2, -999,9,7.714,2,10.49,2,1.08,2,16.94,2,0.00,2,-999,9,-999,9,2306,2,-999,-999
 35HT20180611,53,1,11,13,20180628,1313,54.01524,-25.53362,3062,1200.3, 3.8452,34.9049,2,278.0,2,34.9048,2,275.2,4,7.711,2,9.84,2,1.08,2,16.91,2,0.00,2,-999,9,-999,9,2305,2,-999,-999
 35HT20180611,53,1,12,14,20180628,1313,54.01524,-25.53362,3062,1001.0, 4.0757,34.9232,2,272.4,2,34.9238,2,272.2,2,7.710,2,9.98,2,1.11,2,17.20,2,0.00,2,-999,9,-999,9,2306,2,-999,-999
 35HT20180611,53,1,13,15,20180628,1313,54.01524,-25.53362,3062,1001.0, 4.0757,34.9231,2,271.8,2,34.9233,2, -999,9,7.708,2,10.0,2,1.12,2,17.34,2,0.00,2,-999,9,-999,9,-999,9,-999,-999
 35HT20180611,53,1,14,16,20180628,1313,54.01524,-25.53362,3062,1000.9, 4.0758,34.9231,2,271.8,2,34.9231,2,271.5,2,7.710,2,9.99,2,1.11,2,17.13,2,0.00,2,-999,9,-999,9,-999,9,-999,-999
 35HT20180611,53,1,15,17,20180628,1313,54.01524,-25.53362,3062, 900.5, 4.1961,34.9300,2,268.9,2,34.9307,2,268.3,2,7.707,2,9.99,2,1.14,2,17.23,2,0.00,2,-999,9,-999,9,-999,9,-999,-999
 35HT20180611,53,1,16,18,20180628,1313,54.01524,-25.53362,3062, 802.0, 4.3494,34.9418,2,264.9,2,34.9421,2,264.0,2,7.706,2,10.03,2,1.15,2,17.30,2,0.00,2,-999,9,-999,9,2309,2,-999,-999
 35HT20180611,53,1,17,19,20180628,1313,54.01524,-25.53362,3062, 700.7, 4.6365,34.9576,2,258.3,2,34.9579,2,257.2,2,7.704,2,10.22,2,1.14,2,17.74,2,0.00,2,-999,9,-999,9,-999,9,-999,-999
 35HT20180611,53,1,18,20,20180628,1313,54.01524,-25.53362,3062, 601.2, 4.9376,34.9734,2,250.9,2,34.9733,2,248.8,2,7.699,2,10.31,2,1.16,2,17.95,2,0.00,2,-999,9,-999,9,2310,2,-999,-999
 35HT20180611,53,1,19,21,20180628,1313,54.01524,-25.53362,3062, 501.1, 5.6305,35.0343,2,236.6,2,35.0348,2,234.7,2,7.703,2,10.54,2,1.19,2,18.41,2,0.00,2,-999,9,-999,9,2314,2,-999,-999
 35HT20180611,53,1,20,22,20180628,1313,54.01524,-25.53362,3062, 401.6, 5.6255,34.9395,2,230.7,2,34.9387,2,231.3,2,7.688,2,10.6,2,1.25,2,18.83,2,0.00,2,-999,9,-999,9,2309,2,-999,-999
 35HT20180611,53,1,21,23,20180628,1313,54.01524,-25.53362,3062, 300.0, 6.3311,34.9109,2,218.4,2,34.9110,2,216.6,2,7.687,2,10.52,2,1.26,2,18.73,2,0.01,2,-999,9,-999,9,2307,2,-999,-999
 35HT20180611,53,1,22,24,20180628,1313,54.01524,-25.53362,3062, 201.2, 7.4047,34.9093,2,248.2,2,34.9142,4,248.8,2,7.738,2,7.59,2,1.02,2,15.31,2,0.01,2,-999,9,-999,9,2307,2,-999,-999
 35HT20180611,53,1,23,25,20180628,1313,54.01524,-25.53362,3062, 151.5, 8.2338,35.0048,2,266.3,2,35.0034,2,266.2,2,7.773,2,5.66,2,0.88,2,13.24,2,0.01,2,-999,9,-999,9,-999,9,-999,-999
 35HT20180611,53,1,24,26,20180628,1313,54.01524,-25.53362,3062, 100.5, 8.6193,35.0386,2,277.1,2,35.0396,2,278.9,2,7.798,2,4.12,2,0.79,2,11.70,2,0.10,2,-999,9,-999,9,2314,2,-999,-999
 35HT20180611,53,1,25,27,20180628,1313,54.01524,-25.53362,3062,  55.1, 8.8561,35.0525,2,278.7,2,35.0526,2,277.7,2,7.803,2,3.93,2,0.75,2,11.04,2,0.45,2,-999,9,-999,9,-999,9,-999,-999
 35HT20180611,53,1,26,28,20180628,1313,54.01524,-25.53362,3062,   5.2,11.2085,35.0564,2,292.3,2,35.0572,2,292.0,2,7.891,2,1.82,2,0.43,2, 6.13,2,0.12,2,-999,9,-999,9,-999,9,-999,-999
 35HT20180611,53,1,27,29,20180628,1313,54.01524,-25.53362,3062,   5.1,11.2075,35.0566,2,292.4,2,35.0571,2,292.5,2,7.891,2,1.88,2,0.45,2, 6.07,2,0.12,2,-999,9,-999,9,-999,9,-999,-999
 35HT20180611,53,1,28,30,20180628,1313,54.01524,-25.53362,3062,   5.1,11.2109,35.0563,2,292.4,2,35.0565,2,292.6,2,7.891,2,1.84,2,0.44,2, 6.09,2,0.12,2,-999,9,-999,9,2316,2,-999,-999