BOTTLE,20240404CCHSIOADS
EXPOCODE,STNNBR,CASTNO,SAMPNO,BTLNBR,DATE,TIME,LATITUDE,LONGITUDE,DEPTH,CTDPRS,CTDTMP,CTDSAL,CTDSAL_FLAG_W,CTDOXY,CTDOXY_FLAG_W,SALNTY,SALNTY_FLAG_W,OXYGEN,OXYGEN_FLAG_W,PH_TOT,PH_TOT_FLAG_W,SILCAT,SILCAT_FLAG_W,PHSPHT,PHSPHT_FLAG_W,NITRAT,NITRAT_FLAG_W,NITRIT,NITRIT_FLAG_W,DELO18,DELO18_FLAG_W,DELD,DELD_FLAG_W,ALKALI,ALKALI_FLAG_W,I-129,I129ER
,,,,,,,,,METERS,DBAR,DEG C,PSS-78,,UMOL/KG,,PSS-78,,UMOL/KG,,,,UMOL/KG,,UMOL/KG,,UMOL/KG,,UMOL/KG,,/MILLE,,/MILLE,,UMOL/KG,,E7/KG,E7/KG
 35HT20180611,42,1, 1, 3,20180626,0152,49.90422,-22.31084,4003,4063.1, 2.5726,34.9117,2,241.1,2,34.9111,2,242.0,2,7.739,2,43.1,2,1.37,2,21.98,2,0.00,2,-999,9,-999,9,-999,9,-999,-999
 35HT20180611,42,1, 2, 4,20180626,0152,49.90422,-22.31084,4003,3750.7, 2.6101,34.9189,2,243.9,2,34.9175,2,245.0,2,7.739,2,40.14,2,1.33,2,21.63,2,0.00,2,-999,9,-999,9,-999,9,-999,-999
 35HT20180611,42,1, 3, 5,20180626,0152,49.90422,-22.31084,4003,3503.6, 2.6770,34.9273,2,247.7,2,34.9249,2,248.8,2,7.736,2,35.61,2,1.29,2,20.63,2,0.01,2,-999,9,-999,9,-999,9,-999,-999
 35HT20180611,42,1, 4, 6,20180626,0152,49.90422,-22.31084,4003,3252.4, 2.7782,34.9374,2,254.7,2,34.9352,2,257.3,4,7.734,2,28.99,2,1.19,2,19.31,2,0.00,2,-999,9,-999,9,-999,9,-999,-999
 35HT20180611,42,1, 5, 7,20180626,0152,49.90422,-22.31084,4003,3001.2, 2.9305,34.9435,2,261.0,2,34.9419,2,262.9,2,7.730,2,22.54,2,1.12,2,18.41,2,0.00,2,-999,9,-999,9,-999,9,-999,-999
 35HT20180611,42,1, 6, 8,20180626,0152,49.90422,-22.31084,4003,2751.7, 3.0772,34.9412,2,268.5,2,34.9400,2,268.7,2,7.730,2,17.18,2,1.07,2,17.47,2,0.01,2,-999,9,-999,9,-999,9,-999,-999
 35HT20180611,42,1, 7, 9,20180626,0152,49.90422,-22.31084,4003,2501.4, 3.2320,34.9347,2,270.6,2,34.9332,2,271.2,2,7.729,2,14.43,2,1.05,2,17.35,2,0.00,2,-999,9,-999,9,-999,9,-999,-999
 35HT20180611,42,1, 8,10,20180626,0152,49.90422,-22.31084,4003,2238.6, 3.3996,34.9284,2,271.1,2,34.9269,2,271.2,2,7.725,2,13.17,2,1.07,2,17.24,2,0.01,2,-999,9,-999,9,-999,9,-999,-999
 35HT20180611,42,1, 9,11,20180626,0152,49.90422,-22.31084,4003,2005.0, 3.5929,34.9282,2,269.4,2,34.9268,2,270.3,2,7.724,2,12.34,2,1.07,2,17.41,2,0.01,2,-999,9,-999,9,-999,9,-999,-999
 35HT20180611,42,1,10,12,20180626,0152,49.90422,-22.31084,4003,1801.2, 3.7691,34.9332,2,268.5,2,34.9317,2,268.8,2,7.723,2,11.9,2,1.08,2,17.55,2,0.00,2,-999,9,-999,9,-999,9,-999,-999
 35HT20180611,42,1,11,13,20180626,0152,49.90422,-22.31084,4003,1600.2, 3.9952,34.9406,2,267.8,2,34.9397,2,268.5,2,7.717,2,11.07,2,1.07,2,17.45,2,0.01,2,-999,9,-999,9,-999,9,-999,-999
 35HT20180611,42,1,12,14,20180626,0152,49.90422,-22.31084,4003,1400.1, 4.3641,34.9777,2,262.9,2,34.9785,2,263.3,2,7.717,2,10.72,2,1.07,2,17.51,2,0.01,2,-999,9,-999,9,-999,9,-999,-999
 35HT20180611,42,1,13,15,20180626,0152,49.90422,-22.31084,4003,1203.2, 5.1106,35.0698,2,249.2,2,35.0700,2,249.5,2,7.715,2,10.79,2,1.09,2,17.89,2,0.00,2,-999,9,-999,9,-999,9,-999,-999
 35HT20180611,42,1,14,16,20180626,0152,49.90422,-22.31084,4003,1001.0, 6.1912,35.1946,2,228.9,2,35.1932,2,230.7,2,7.720,2,10.76,2,1.10,2,18.02,2,0.01,2,-999,9,-999,9,-999,9,-999,-999
 35HT20180611,42,1,15,17,20180626,0152,49.90422,-22.31084,4003, 900.2, 5.9795,35.0913,2,228.1,2,35.0897,2,228.2,2,7.706,2,11.04,2,1.13,2,18.46,2,0.01,2,-999,9,-999,9,-999,9,-999,-999
 35HT20180611,42,1,16,18,20180626,0152,49.90422,-22.31084,4003, 799.5, 6.7597,35.1411,2,213.7,2,35.1414,2,213.4,2,7.709,2,11.01,2,1.16,2,19.08,2,0.01,2,-999,9,-999,9,-999,9,-999,-999
 35HT20180611,42,1,17,19,20180626,0152,49.90422,-22.31084,4003, 701.0, 7.9242,35.2638,2,199.9,2,35.2657,2,199.6,2,7.718,2,10.53,2,1.13,2,18.96,2,0.01,2,-999,9,-999,9,-999,9,-999,-999
 35HT20180611,42,1,18,20,20180626,0152,49.90422,-22.31084,4003, 602.8, 7.4413,35.0025,2,199.4,2,34.9976,4,199.5,2,7.699,2,11.22,2,1.20,2,19.76,2,0.01,2,-999,9,-999,9,-999,9,-999,-999
 35HT20180611,42,1,19,21,20180626,0152,49.90422,-22.31084,4003, 603.1, 7.4358,35.0017,2,199.4,2,34.9989,4,199.1,2,7.695,2,11.11,2,1.20,2,19.55,2,0.01,2,-999,9,-999,9,-999,9,-999,-999
 35HT20180611,42,1,20,22,20180626,0152,49.90422,-22.31084,4003, 500.8, 8.9518,35.1280,2,195.0,2,35.1264,2,195.1,2,7.727,2,9.57,2,1.10,2,18.40,2,0.01,2,-999,9,-999,9,-999,9,-999,-999
 35HT20180611,42,1,21,23,20180626,0152,49.90422,-22.31084,4003, 401.3,10.3308,35.3036,2,217.8,2,35.3020,2,219.3,2,7.780,2,6.73,2,0.86,2,14.60,2,0.01,2,-999,9,-999,9,-999,9,-999,-999
 35HT20180611,42,1,22,24,20180626,0152,49.90422,-22.31084,4003, 401.3,10.3317,35.3037,2,217.8,2,35.3030,2,219.1,2,7.780,2,6.64,2,0.86,2,14.60,2,0.00,2,-999,9,-999,9,-999,9,-999,-999
 35HT20180611,42,1,23,25,20180626,0152,49.90422,-22.31084,4003, 301.8,11.2383,35.4367,2,238.5,2,35.4346,2,237.8,2,7.824,2,4.84,2,0.68,2,11.91,2,0.01,2,-999,9,-999,9,-999,9,-999,-999
 35HT20180611,42,1,24,26,20180626,0152,49.90422,-22.31084,4003, 200.5,12.0380,35.5662,2,238.4,2,35.5652,2,239.0,2,7.844,2,4.39,2,0.60,2,10.52,2,0.01,2,-999,9,-999,9,-999,9,-999,-999
 35HT20180611,42,1,25,27,20180626,0152,49.90422,-22.31084,4003, 152.0,12.4286,35.6294,2,241.9,2,35.6277,2,243.6,2,7.855,2,3.67,2,0.54,2, 9.48,2,0.01,2,-999,9,-999,9,-999,9,-999,-999
 35HT20180611,42,1,26,28,20180626,0152,49.90422,-22.31084,4003, 100.8,12.8764,35.6922,2,241.4,2,35.6909,2,243.3,2,7.867,2,3.28,2,0.51,2, 8.85,2,0.02,2,-999,9,-999,9,-999,9,-999,-999
 35HT20180611,42,1,27,29,20180626,0152,49.90422,-22.31084,4003,  55.8,13.5386,35.6246,2,255.2,2,35.6224,2,256.6,2,7.906,2,1.22,2,0.38,2, 5.33,2,0.21,2,-999,9,-999,9,-999,9,-999,-999
 35HT20180611,42,1,28,30,20180626,0152,49.90422,-22.31084,4003,   5.5,14.9281,35.4202,2,274.9,2,35.4328,4,276.1,2,7.963,2,0.23,2,0.17,2, 2.05,2,0.08,2,-999,9,-999,9,-999,9,-999,-999
 35HT20180611,43,1, 1, 3,20180626,0707,50.27690,-22.60304,4132,4196.5, 2.5911,34.9120,2,243.1,2,34.9114,2,241.2,2,7.737,2,42.7,2,1.41,2,22.28,2,0.00,2,-999,9,-999,9,2353,2,1.0,0.1
 35HT20180611,43,1, 2, 4,20180626,0707,50.27690,-22.60304,4132,3998.4, 2.5978,34.9149,2,244.2,2,34.9140,2,243.5,2,7.736,2,41.59,2,1.39,2,22.22,2,0.00,2,-999,9,-999,9,2350,2,1.4,0.1
 35HT20180611,43,1, 3, 5,20180626,0707,50.27690,-22.60304,4132,3751.0, 2.6156,34.9192,2,246.0,2,34.9182,2,244.7,2,7.737,2,39.32,2,1.36,2,21.72,2,0.00,2,-999,9,-999,9,2347,2,-999,-999
 35HT20180611,43,1, 4, 6,20180626,0707,50.27690,-22.60304,4132,3501.4, 2.6791,34.9282,2,250.6,2,34.9271,2,249.5,2,7.734,2,34.91,2,1.31,2,20.97,2,0.01,2,-999,9,-999,9,2340,2,5.2,0.1
 35HT20180611,43,1, 5, 7,20180626,0707,50.27690,-22.60304,4132,3251.5, 2.7768,34.9384,2,256.3,2,34.9378,2,255.3,2,7.731,2,29.43,2,1.23,2,19.94,2,0.00,2,-999,9,-999,9,2333,2,-999,-999
 35HT20180611,43,1, 6, 8,20180626,0707,50.27690,-22.60304,4132,3001.1, 2.9102,34.9447,2,262.8,2,34.9441,2,262.8,2,7.728,2,23.22,2,1.15,2,18.51,2,0.00,2,-999,9,-999,9,2323,2,11.3,0.2
 35HT20180611,43,1, 7, 9,20180626,0707,50.27690,-22.60304,4132,2751.4, 3.0650,34.9428,2,269.4,2,34.9416,2,268.3,2,7.728,2,17.41,2,1.10,2,17.85,2,0.00,2,-999,9,-999,9,2314,2,-999,-999
 35HT20180611,43,1, 8,10,20180626,0707,50.27690,-22.60304,4132,2499.8, 3.2246,34.9348,2,272.2,2,34.9343,2,271.3,2,7.728,2,14.35,2,1.07,2,17.40,2,0.00,2,-999,9,-999,9,2310,2,14.9,0.3
 35HT20180611,43,1, 9,11,20180626,0707,50.27690,-22.60304,4132,2250.2, 3.4032,34.9285,2,272.4,2,34.9270,2,272.2,2,7.728,2,12.87,2,1.07,2,17.53,2,0.00,2,-999,9,-999,9,2307,2,-999,-999
 35HT20180611,43,1,10,12,20180626,0707,50.27690,-22.60304,4132,2000.6, 3.6046,34.9266,2,272.9,2,34.9258,2,271.7,2,7.721,2,11.84,2,1.07,2,17.62,2,0.00,2,-999,9,-999,9,2306,2,15.6,0.3
 35HT20180611,43,1,11,13,20180626,0707,50.27690,-22.60304,4132,1801.0, 3.6849,34.9156,2,275.5,2,34.9148,2,275.9,2,7.718,2,10.9,2,1.07,2,17.24,2,0.00,2,-999,9,-999,9,2304,2,-999,-999
 35HT20180611,43,1,12,14,20180626,0707,50.27690,-22.60304,4132,1600.3, 3.7803,34.9117,2,277.0,2,34.9110,2,276.1,2,7.718,2,10.49,2,1.07,2,17.27,2,0.00,2,-999,9,-999,9,2305,2,-999,-999
 35HT20180611,43,1,13,15,20180626,0707,50.27690,-22.60304,4132,1400.8, 3.9532,34.9223,2,274.7,2,34.9214,2,272.8,2,7.712,2,10.4,2,1.07,2,17.49,2,0.00,2,-999,9,-999,9,2304,2,22.5,0.4
 35HT20180611,43,1,14,16,20180626,0707,50.27690,-22.60304,4132,1200.5, 4.2158,34.9405,2,267.8,2,34.9413,2,267.7,2,7.709,2,10.13,2,1.07,2,17.67,2,0.00,2,-999,9,-999,9,2306,2,-999,-999
 35HT20180611,43,1,15,17,20180626,0707,50.27690,-22.60304,4132, 998.5, 4.9509,35.0284,2,251.0,2,35.0275,2,251.7,2,7.707,2,10.5,2,1.27,2,18.13,2,0.00,2,-999,9,-999,9,2312,2,38.1,0.7
 35HT20180611,43,1,16,18,20180626,0707,50.27690,-22.60304,4132, 900.0, 5.8952,35.1587,2,235.2,2,35.1589,2,235.2,2,7.717,2,10.69,2,1.11,2,18.32,2,0.00,2,-999,9,-999,9,-999,9,-999,-999
 35HT20180611,43,1,17,19,20180626,0707,50.27690,-22.60304,4132, 801.7, 6.2906,35.1828,2,226.1,2,35.1841,2,226.6,2,7.717,2,10.83,2,1.12,2,18.47,2,0.00,2,-999,9,-999,9,2323,2,-999,-999
 35HT20180611,43,1,18,20,20180626,0707,50.27690,-22.60304,4132, 701.0, 6.7451,35.1870,2,217.7,2,35.1855,2,216.0,2,7.713,2,11.08,2,1.16,2,18.99,2,0.00,2,-999,9,-999,9,-999,9,-999,-999
 35HT20180611,43,1,19,21,20180626,0707,50.27690,-22.60304,4132, 600.8, 6.9977,35.0820,2,205.8,2,35.0787,4,207.0,2,7.698,2,11.37,2,1.21,2,20.03,2,0.01,2,-999,9,-999,9,2316,2,-999,-999
 35HT20180611,43,1,20,22,20180626,0707,50.27690,-22.60304,4132, 501.9, 7.6023,34.9840,2,210.6,2,34.9811,4,206.6,4,7.704,2,10.48,2,1.17,2,19.36,2,0.01,2,-999,9,-999,9,2310,2,26.2,0.5
 35HT20180611,43,1,21,23,20180626,0707,50.27690,-22.60304,4132, 401.1, 9.0765,35.1568,2,212.4,2,35.1556,2,209.6,4,7.742,2,8.40,2,1.05,2,17.06,2,0.01,2,-999,9,-999,9,2317,2,-999,-999
 35HT20180611,43,1,22,24,20180626,0707,50.27690,-22.60304,4132, 301.6, 9.8178,35.2385,2,252.0,2,35.2358,4,251.4,2,7.796,2,5.57,2,0.75,2,12.78,2,0.02,2,-999,9,-999,9,2321,2,-999,-999
 35HT20180611,43,1,23,25,20180626,0707,50.27690,-22.60304,4132, 301.6, 9.8191,35.2388,2,252.0,2,35.2359,4,251.8,2,7.797,2,5.59,2,0.75,2,12.74,2,0.01,2,-999,9,-999,9,-999,9,-999,-999
 35HT20180611,43,1,24,26,20180626,0707,50.27690,-22.60304,4132, 203.0,10.3066,35.3018,2,254.6,2,35.3015,2,255.2,2,7.816,2,4.20,2,0.69,2,11.46,2,0.15,2,-999,9,-999,9,2325,2,-999,-999
 35HT20180611,43,1,25,27,20180626,0707,50.27690,-22.60304,4132, 151.1,10.6082,35.3395,2,255.9,2,35.3381,2,256.0,2,7.823,2,3.63,2,0.66,2,11.01,2,0.35,2,-999,9,-999,9,-999,9,-999,-999
 35HT20180611,43,1,26,28,20180626,0707,50.27690,-22.60304,4132,  99.9,11.0923,35.3906,2,261.3,2,35.3902,2,259.4,2,7.843,2,2.35,2,0.62,2, 8.69,2,0.24,2,-999,9,-999,9,2332,2,27.7,0.5
 35HT20180611,43,1,27,29,20180626,0707,50.27690,-22.60304,4132,  55.9,12.1168,35.3451,2,280.0,2,35.3397,4,277.8,4,7.907,2,0.82,2,0.40,2, 5.58,2,0.08,2,-999,9,-999,9,-999,9,-999,-999
 35HT20180611,43,1,28,30,20180626,0707,50.27690,-22.60304,4132,   6.5,13.8349,35.3429,2,291.7,2,35.3420,2,290.2,2,7.968,2,0.21,2,0.22,2, 2.59,2,0.03,2,0.498,2,2.80,2,2335,2,18.1,0.4
 35HT20180611,44,1, 1, 3,20180626,1245,50.63988,-22.90068,3739,3793.6, 2.5807,34.9145,2,243.5,2,34.9144,2,243.0,2,7.741,2,42.12,2,1.40,2,21.49,2,0.00,2,-999,9,-999,9,-999,9,-999,-999
 35HT20180611,44,1, 2, 4,20180626,1245,50.63988,-22.90068,3739,3793.8, 2.5800,34.9146,2,243.5,2,34.9139,2,243.3,2,7.741,2,42.03,2,1.40,2,21.63,2,0.01,2,-999,9,-999,9,-999,9,-999,-999
 35HT20180611,44,1, 3, 5,20180626,1245,50.63988,-22.90068,3739,3500.8, 2.6365,34.9235,2,247.5,2,34.9234,2,247.1,2,7.732,2,37.14,2,1.36,2,20.85,2,0.01,2,-999,9,-999,9,-999,9,-999,-999
 35HT20180611,44,1, 4, 6,20180626,1245,50.63988,-22.90068,3739,3500.7, 2.6365,34.9235,2,247.7,2,34.9228,2,247.6,2,7.735,2,36.95,2,1.35,2,20.93,2,0.00,2,-999,9,-999,9,-999,9,-999,-999
 35HT20180611,44,1, 5, 7,20180626,1245,50.63988,-22.90068,3739,3250.8, 2.7420,34.9351,2,253.9,2,34.9347,2,253.6,2,7.727,2,30.66,2,1.27,2,19.91,2,0.01,2,-999,9,-999,9,-999,9,-999,-999
 35HT20180611,44,1, 6, 8,20180626,1245,50.63988,-22.90068,3739,3000.2, 2.8798,34.9434,2,261.6,2,34.9430,2,261.6,2,7.728,2,23.91,2,1.18,2,18.29,2,0.01,2,-999,9,-999,9,-999,9,-999,-999
 35HT20180611,44,1, 7, 9,20180626,1245,50.63988,-22.90068,3739,2751.4, 3.0331,34.9424,2,265.6,2,34.9420,2,266.7,2,7.728,2,19.36,2,1.12,2,17.72,2,0.01,2,-999,9,-999,9,-999,9,-999,-999
 35HT20180611,44,1, 8,10,20180626,1245,50.63988,-22.90068,3739,2500.0, 3.1868,34.9372,2,270.3,2,34.9366,2,272.6,4,7.727,2,15.32,2,1.09,2,17.19,2,0.01,2,-999,9,-999,9,-999,9,-999,-999
 35HT20180611,44,1, 9,11,20180626,1245,50.63988,-22.90068,3739,2251.3, 3.3584,34.9294,2,270.7,2,34.9292,2,271.1,2,7.726,2,13.46,2,1.09,2,17.19,2,0.01,2,-999,9,-999,9,-999,9,-999,-999
 35HT20180611,44,1,10,12,20180626,1245,50.63988,-22.90068,3739,2002.2, 3.5801,34.9281,2,270.0,2,34.9279,2,270.9,2,7.723,2,12.6,2,1.08,2,17.52,2,0.01,2,-999,9,-999,9,-999,9,-999,-999
 35HT20180611,44,1,11,13,20180626,1245,50.63988,-22.90068,3739,1800.4, 3.7625,34.9278,2,269.6,2,34.9274,2,271.2,2,7.719,2,11.67,2,1.10,2,17.49,2,0.00,2,-999,9,-999,9,-999,9,-999,-999
 35HT20180611,44,1,12,14,20180626,1245,50.63988,-22.90068,3739,1602.2, 3.8914,34.9253,2,271.2,2,34.9254,2,272.2,2,7.715,2,10.9,2,1.07,2,17.26,2,0.00,2,-999,9,-999,9,-999,9,-999,-999
 35HT20180611,44,1,13,15,20180626,1245,50.63988,-22.90068,3739,1400.3, 4.0410,34.9266,2,271.5,2,34.9265,2,272.5,2,7.710,2,10.45,2,1.08,2,17.22,2,0.00,2,-999,9,-999,9,-999,9,-999,-999
 35HT20180611,44,1,14,16,20180626,1245,50.63988,-22.90068,3739,1200.7, 4.3313,34.9450,2,266.4,2,34.9446,2,266.4,2,7.709,2,10.2,2,1.09,2,17.35,2,0.00,2,-999,9,-999,9,-999,9,-999,-999
 35HT20180611,44,1,15,17,20180626,1245,50.63988,-22.90068,3739,1000.7, 5.0200,35.0164,2,250.2,2,35.0150,2,250.5,2,7.704,2,10.5,2,1.13,2,17.95,2,0.00,2,-999,9,-999,9,-999,9,-999,-999
 35HT20180611,44,1,16,18,20180626,1245,50.63988,-22.90068,3739, 900.7, 5.5061,35.0604,2,239.7,2,35.0600,2,239.6,2,7.705,2,10.61,2,1.13,2,18.17,2,0.00,2,-999,9,-999,9,-999,9,-999,-999
 35HT20180611,44,1,17,19,20180626,1245,50.63988,-22.90068,3739, 801.6, 5.9413,35.0790,2,230.8,2,35.0753,4,230.5,2,7.703,2,10.94,2,1.15,2,18.60,2,0.00,2,-999,9,-999,9,-999,9,-999,-999
 35HT20180611,44,1,18,20,20180626,1245,50.63988,-22.90068,3739, 701.0, 6.3900,35.0387,2,219.4,2,35.0381,2,219.0,2,7.698,2,11.04,2,1.21,2,18.76,2,0.00,2,-999,9,-999,9,-999,9,-999,-999
 35HT20180611,44,1,19,21,20180626,1245,50.63988,-22.90068,3739, 600.1, 7.5450,35.0896,2,203.3,2,35.0904,2,202.5,2,7.704,2,10.71,2,1.20,2,18.98,2,0.01,2,-999,9,-999,9,-999,9,-999,-999
 35HT20180611,44,1,20,22,20180626,1245,50.63988,-22.90068,3739, 500.8, 8.4595,35.1227,2,205.8,2,35.1218,2,205.4,2,7.719,2,9.47,2,1.11,2,17.83,2,0.01,2,-999,9,-999,9,-999,9,-999,-999
 35HT20180611,44,1,21,23,20180626,1245,50.63988,-22.90068,3739, 400.0, 9.4210,35.2039,2,238.8,2,35.2032,2,241.5,4,7.776,2,6.47,2,0.87,2,13.75,2,0.02,2,-999,9,-999,9,-999,9,-999,-999
 35HT20180611,44,1,22,24,20180626,1245,50.63988,-22.90068,3739, 300.8, 9.6663,35.2136,2,265.8,2,35.2129,2,265.7,2,7.806,2,5.01,2,0.73,2,11.58,2,0.02,2,-999,9,-999,9,-999,9,-999,-999
 35HT20180611,44,1,23,25,20180626,1245,50.63988,-22.90068,3739, 200.8, 9.8983,35.2558,2,264.6,2,35.2551,2,264.3,2,7.813,2,4.50,2,0.70,2,11.33,2,0.02,2,-999,9,-999,9,-999,9,-999,-999
 35HT20180611,44,1,24,26,20180626,1245,50.63988,-22.90068,3739, 151.6,10.0732,35.2806,2,263.5,2,35.2798,2,263.2,2,7.814,2,4.02,2,0.70,2,10.93,2,0.04,2,-999,9,-999,9,-999,9,-999,-999
 35HT20180611,44,1,25,27,20180626,1245,50.63988,-22.90068,3739, 151.6,10.0742,35.2807,2,263.9,2,35.2799,2,266.9,4,7.816,2,3.95,2,0.69,2,10.93,2,0.03,2,-999,9,-999,9,-999,9,-999,-999
 35HT20180611,44,1,26,28,20180626,1245,50.63988,-22.90068,3739, 101.2,10.3984,35.3146,2,262.8,2,35.3132,2,262.6,2,7.823,2,3.14,2,0.66,2,10.11,2,0.25,2,-999,9,-999,9,-999,9,-999,-999
 35HT20180611,44,1,27,29,20180626,1245,50.63988,-22.90068,3739,  56.2,11.4519,35.3078,2,270.2,2,35.3072,2,271.3,2,7.873,2,1.25,2,0.50,2, 6.75,2,0.20,2,-999,9,-999,9,-999,9,-999,-999
 35HT20180611,44,1,28,30,20180626,1245,50.63988,-22.90068,3739,   6.3,13.0980,35.2834,2,292.5,2,35.2831,2,294.3,2,7.948,2,0.31,2,0.27,2, 3.46,2,0.04,2,0.507,2,2.81,2,-999,9,-999,-999