BOTTLE,20240404CCHSIOADS
EXPOCODE,STNNBR,CASTNO,SAMPNO,BTLNBR,DATE,TIME,LATITUDE,LONGITUDE,DEPTH,CTDPRS,CTDTMP,CTDSAL,CTDSAL_FLAG_W,CTDOXY,CTDOXY_FLAG_W,SALNTY,SALNTY_FLAG_W,OXYGEN,OXYGEN_FLAG_W,PH_TOT,PH_TOT_FLAG_W,SILCAT,SILCAT_FLAG_W,PHSPHT,PHSPHT_FLAG_W,NITRAT,NITRAT_FLAG_W,NITRIT,NITRIT_FLAG_W,DELO18,DELO18_FLAG_W,DELD,DELD_FLAG_W,ALKALI,ALKALI_FLAG_W,I-129,I129ER
,,,,,,,,,METERS,DBAR,DEG C,PSS-78,,UMOL/KG,,PSS-78,,UMOL/KG,,,,UMOL/KG,,UMOL/KG,,UMOL/KG,,UMOL/KG,,/MILLE,,/MILLE,,UMOL/KG,,E7/KG,E7/KG
 35HT20180611,27,1, 1, 3,20180622,1402,44.37714,-17.82116,4922,5008.5, 2.6525,34.9071,2,242.3,2,34.9070,2,240.4,2,7.743,2,44.07,2,1.43,2,21.80,2,0.01,2,-999,9,-999,9,2354,2,0.2,0.1
 35HT20180611,27,1, 2, 4,20180622,1402,44.37714,-17.82116,4922,5008.8, 2.6526,34.9070,2,242.3,2,34.9072,2,241.1,2,7.739,2,44.09,2,1.46,2,21.80,2,0.01,2,-999,9,-999,9,2353,2,-999,-999
 35HT20180611,27,1, 3, 5,20180622,1402,44.37714,-17.82116,4922,4501.6, 2.5966,34.9082,2,242.0,2,34.9075,2,242.7,2,7.740,2,43.64,2,1.47,2,22.00,2,0.01,2,-999,9,-999,9,2354,2,-999,-999
 35HT20180611,27,1, 4, 6,20180622,1402,44.37714,-17.82116,4922,4001.2, 2.5814,34.9126,2,242.7,2,34.9124,2,242.5,2,7.738,2,41.87,2,1.45,2,21.40,2,0.01,2,-999,9,-999,9,2351,2,-999,-999
 35HT20180611,27,1, 5, 7,20180622,1402,44.37714,-17.82116,4922,3501.5, 2.6549,34.9237,2,246.7,2,34.9235,2,246.8,2,7.739,2,36.79,2,1.38,2,20.70,2,0.01,2,-999,9,-999,9,2344,2,-999,-999
 35HT20180611,27,1, 6, 8,20180622,1402,44.37714,-17.82116,4922,3250.7, 2.7506,34.9328,2,250.9,2,34.9385,4,253.3,4,7.739,2,30.6,2,1.28,2,19.80,2,0.00,2,-999,9,-999,9,2334,2,-999,-999
 35HT20180611,27,1, 7, 9,20180622,1402,44.37714,-17.82116,4922,3000.8, 2.9462,34.9456,2,254.2,2,34.9446,2,255.9,2,7.740,2,27.73,2,1.25,2,19.50,2,0.01,2,-999,9,-999,9,2330,2,-999,-999
 35HT20180611,27,1, 8,10,20180622,1402,44.37714,-17.82116,4922,2750.2, 3.1046,34.9455,2,260.4,2,34.9458,2,260.5,2,7.731,2,21.8,2,1.19,2,18.60,2,0.01,2,-999,9,-999,9,2322,2,-999,-999
 35HT20180611,27,1, 9,11,20180622,1402,44.37714,-17.82116,4922,2502.3, 3.3311,34.9473,2,264.6,2,34.9472,2,265.2,2,7.734,2,18.05,2,1.16,2,17.80,2,0.01,2,-999,9,-999,9,2316,2,-999,-999
 35HT20180611,27,1,10,12,20180622,1402,44.37714,-17.82116,4922,2249.9, 3.5546,34.9412,2,267.8,2,34.9414,2,268.4,2,7.729,2,14.0,2,1.13,2,17.40,2,0.01,2,-999,9,-999,9,2307,2,-999,-999
 35HT20180611,27,1,11,13,20180622,1402,44.37714,-17.82116,4922,1999.3, 3.9356,34.9562,2,265.6,2,34.9566,2,266.2,2,7.724,2,12.12,2,1.13,2,17.40,2,0.01,2,-999,9,-999,9,2307,2,-999,-999
 35HT20180611,27,1,12,14,20180622,1402,44.37714,-17.82116,4922,1800.0, 4.1228,34.9533,2,266.3,2,34.9552,2,267.3,2,7.719,2,11.17,2,1.13,2,17.30,2,0.01,2,-999,9,-999,9,2306,2,-999,-999
 35HT20180611,27,1,13,15,20180622,1402,44.37714,-17.82116,4922,1601.6, 4.4870,34.9839,2,262.6,2,34.9853,2,262.5,2,7.715,2,10.87,2,1.15,2,17.90,2,0.01,2,-999,9,-999,9,2307,2,-999,-999
 35HT20180611,27,1,14,16,20180622,1402,44.37714,-17.82116,4922,1399.9, 5.7062,35.1622,2,239.7,2,35.1664,4,239.9,2,7.724,2,10.75,2,1.13,2,17.40,2,0.01,2,-999,9,-999,9,2321,2,-999,-999
 35HT20180611,27,1,15,17,20180622,1402,44.37714,-17.82116,4922,1200.4, 7.8720,35.4552,2,207.5,2,35.4558,2,207.9,2,7.740,2,10.55,2,1.13,2,17.80,2,0.01,2,-999,9,-999,9,2341,2,-999,-999
 35HT20180611,27,1,16,18,20180622,1402,44.37714,-17.82116,4922,1000.8,10.4945,35.7968,2,185.4,2,35.7955,2,184.9,2,7.773,2,8.82,2,1.03,2,16.50,2,0.01,2,-999,9,-999,9,2361,2,-999,-999
 35HT20180611,27,1,17,19,20180622,1402,44.37714,-17.82116,4922, 901.5,10.7399,35.7466,2,187.5,2,35.7450,2,187.6,2,7.774,2,8.07,2,1.01,2,16.20,2,0.01,2,-999,9,-999,9,-999,9,-999,-999
 35HT20180611,27,1,18,20,20180622,1402,44.37714,-17.82116,4922, 799.9,10.4479,35.5208,2,204.1,2,35.5204,2,205.7,2,7.773,2,7.29,2,0.96,2,15.50,2,0.01,2,-999,9,-999,9,2342,2,-999,-999
 35HT20180611,27,1,19,21,20180622,1402,44.37714,-17.82116,4922, 699.9,10.7185,35.4593,2,225.7,2,35.4589,2,226.9,2,7.793,2,5.43,2,0.81,2,13.10,2,0.02,2,-999,9,-999,9,-999,9,-999,-999
 35HT20180611,27,1,20,22,20180622,1402,44.37714,-17.82116,4922, 600.1,11.0571,35.4790,2,231.3,2,35.4782,2,231.7,2,7.803,2,5.29,2,0.77,2,12.20,2,0.02,2,-999,9,-999,9,2333,2,-999,-999
 35HT20180611,27,1,21,23,20180622,1402,44.37714,-17.82116,4922, 501.1,11.2903,35.4891,2,235.5,2,35.4901,2,234.4,2,7.812,2,4.23,2,0.71,2,11.30,2,0.02,2,-999,9,-999,9,2333,2,-999,-999
 35HT20180611,27,1,22,24,20180622,1402,44.37714,-17.82116,4922, 401.6,11.6253,35.5146,2,236.0,2,35.5147,2,235.9,2,7.822,2,3.94,2,0.68,2,10.50,2,0.03,2,-999,9,-999,9,2333,2,-999,-999
 35HT20180611,27,1,23,25,20180622,1402,44.37714,-17.82116,4922, 301.4,12.3204,35.6147,2,245.8,2,35.6148,2,246.4,2,7.857,2,3.10,2,0.54,2, 8.14,2,0.03,2,-999,9,-999,9,2340,2,-999,-999
 35HT20180611,27,1,24,26,20180622,1402,44.37714,-17.82116,4922, 201.5,12.6425,35.6662,2,250.0,2,35.6657,2,250.2,2,7.871,2,2.49,2,0.47,2, 6.75,2,0.03,2,-999,9,-999,9,2343,2,-999,-999
 35HT20180611,27,1,25,27,20180622,1402,44.37714,-17.82116,4922, 151.0,12.6498,35.6655,2,249.2,2,35.6659,2,249.2,2,7.868,2,2.69,2,0.47,2, 6.96,2,0.03,2,-999,9,-999,9,-999,9,-999,-999
 35HT20180611,27,1,26,28,20180622,1402,44.37714,-17.82116,4922, 101.5,12.7798,35.6687,2,247.7,2,35.6689,2,247.6,2,7.871,2,2.50,2,0.45,2, 6.78,2,0.03,2,-999,9,-999,9,2343,2,-999,-999
 35HT20180611,27,1,27,29,20180622,1402,44.37714,-17.82116,4922,  56.3,13.4084,35.6668,2,253.2,2,35.6670,2,253.2,2,7.902,2,1.14,2,0.31,2, 3.36,2,0.60,2,-999,9,-999,9,-999,9,-999,-999
 35HT20180611,27,1,28,30,20180622,1402,44.37714,-17.82116,4922,   6.5,16.2426,35.6949,2,263.3,2,35.6948,2,262.7,2,7.977,2,0.55,2,0.04,2, 0.13,2,0.01,2,0.74,2,4.47,2,2352,2,-999,-999
 35HT20180611,28,1, 1, 3,20180622,1946,44.67988,-18.21674,4844,4922.6, 2.6440,34.9072,2,241.7,2,34.9077,2,240.6,2,7.741,2,44.05,2,1.45,2,22.00,2,0.00,2,0.25,2,1.00,2,-999,9,-999,-999
 35HT20180611,28,1, 2, 4,20180622,1946,44.67988,-18.21674,4844,4501.1, 2.5996,34.9084,2,241.3,2,34.9086,2,240.5,2,7.742,2,43.63,2,1.47,2,21.90,2,0.00,2,-999,9,-999,9,-999,9,-999,-999
 35HT20180611,28,1, 3, 5,20180622,1946,44.67988,-18.21674,4844,4003.3, 2.5845,34.9129,2,242.3,2,34.9127,2,242.1,2,7.741,2,41.92,2,1.46,2,21.50,2,0.00,2,-999,9,-999,9,-999,9,-999,-999
 35HT20180611,28,1, 4, 6,20180622,1946,44.67988,-18.21674,4844,3751.5, 2.6030,34.9172,2,244.0,2,34.9174,2,243.8,2,7.738,2,40.3,2,1.42,2,21.20,2,0.00,2,-999,9,-999,9,-999,9,-999,-999
 35HT20180611,28,1, 5, 7,20180622,1946,44.67988,-18.21674,4844,3501.2, 2.6675,34.9248,2,247.1,2,34.9252,2,247.1,2,7.738,2,36.65,2,1.38,2,20.80,2,0.00,2,0.26,2,1.12,2,-999,9,-999,-999
 35HT20180611,28,1, 6, 8,20180622,1946,44.67988,-18.21674,4844,3250.3, 2.7666,34.9338,2,251.1,2,34.9340,2,251.2,2,7.737,2,32.16,2,1.32,2,19.80,2,0.00,2,-999,9,-999,9,-999,9,-999,-999
 35HT20180611,28,1, 7, 9,20180622,1946,44.67988,-18.21674,4844,3000.5, 2.9323,34.9428,2,255.7,2,34.9430,2,255.9,2,7.738,2,26.65,2,1.25,2,19.00,2,0.00,2,0.265,2,1.27,2,-999,9,-999,-999
 35HT20180611,28,1, 8,10,20180622,1946,44.67988,-18.21674,4844,2750.2, 3.1088,34.9437,2,261.6,2,34.9438,2,262.0,2,7.736,2,21.15,2,1.19,2,18.10,2,0.00,2,-999,9,-999,9,-999,9,-999,-999
 35HT20180611,28,1, 9,11,20180622,1946,44.67988,-18.21674,4844,2502.3, 3.2781,34.9436,2,264.7,2,34.9446,2,270.6,4,7.735,2,18.07,2,1.15,2,17.90,2,0.00,2,0.246,2,1.21,2,-999,9,-999,-999
 35HT20180611,28,1,10,12,20180622,1946,44.67988,-18.21674,4844,2250.7, 3.5377,34.9397,2,267.4,2,34.9401,2,267.6,2,7.732,2,14.31,2,1.13,2,17.60,2,0.00,2,-999,9,-999,9,-999,9,-999,-999
 35HT20180611,28,1,11,13,20180622,1946,44.67988,-18.21674,4844,2002.5, 3.8927,34.9548,2,265.5,2,34.9561,2,265.7,2,7.725,2,12.48,2,1.15,2,17.40,2,0.00,2,0.241,2,1.12,2,-999,9,-999,-999
 35HT20180611,28,1,12,14,20180622,1946,44.67988,-18.21674,4844,1800.6, 4.3919,35.0085,2,259.3,2,35.0091,2,259.3,2,7.723,2,11.88,2,1.12,2,17.30,2,0.00,2,-999,9,-999,9,-999,9,-999,-999
 35HT20180611,28,1,13,15,20180622,1946,44.67988,-18.21674,4844,1600.6, 4.7858,35.0389,2,255.7,2,35.0408,2,255.7,2,7.719,2,10.96,2,1.13,2,17.30,2,0.00,2,0.345,2,1.58,2,-999,9,-999,-999
 35HT20180611,28,1,14,16,20180622,1946,44.67988,-18.21674,4844,1399.7, 5.5510,35.1149,2,242.6,2,35.1257,4,241.1,2,7.714,2,10.73,2,1.14,2,17.70,2,0.00,2,-999,9,-999,9,-999,9,-999,-999
 35HT20180611,28,1,15,17,20180622,1946,44.67988,-18.21674,4844,1199.7, 7.6703,35.4162,2,211.5,2,35.4215,4,209.3,4,7.744,2,10.65,2,1.12,2,17.90,2,0.00,2,0.484,2,2.55,2,-999,9,-999,-999
 35HT20180611,28,1,16,18,20180622,1946,44.67988,-18.21674,4844,1000.6, 9.9407,35.7038,2,188.4,2,35.7039,2,195.6,4,7.763,2,9.39,2,1.07,2,16.90,2,0.00,2,-999,9,-999,9,-999,9,-999,-999
 35HT20180611,28,1,17,19,20180622,1946,44.67988,-18.21674,4844, 899.7,10.3684,35.6627,2,187.6,2,35.6632,2,187.3,2,7.765,2,8.47,2,1.04,2,16.60,2,0.00,2,0.596,2,3.42,2,-999,9,-999,-999
 35HT20180611,28,1,18,20,20180622,1946,44.67988,-18.21674,4844, 801.5,10.4486,35.5022,2,203.0,2,35.5022,2,202.8,2,7.771,2,7.00,2,0.95,2,15.60,2,0.00,2,-999,9,-999,9,-999,9,-999,-999
 35HT20180611,28,1,19,21,20180622,1946,44.67988,-18.21674,4844, 700.3,10.7387,35.4708,2,216.5,2,35.4707,2,216.4,2,7.787,2,5.83,2,0.85,2,13.70,2,0.00,2,-999,9,-999,9,-999,9,-999,-999
 35HT20180611,28,1,20,22,20180622,1946,44.67988,-18.21674,4844, 602.2,11.1060,35.4888,2,225.0,2,35.4886,2,225.0,2,7.799,2,4.90,2,0.75,2,12.30,2,0.00,2,-999,9,-999,9,-999,9,-999,-999
 35HT20180611,28,1,21,23,20180622,1946,44.67988,-18.21674,4844, 500.5,11.4150,35.5003,2,231.9,2,35.5004,2,231.0,2,7.811,2,4.06,2,0.66,2,11.10,2,0.00,2,0.638,2,3.67,2,-999,9,-999,-999
 35HT20180611,28,1,22,24,20180622,1946,44.67988,-18.21674,4844, 400.8,11.9369,35.5558,2,236.7,2,35.5568,2,236.2,2,7.834,2,3.46,2,0.58,2, 9.58,2,0.01,2,-999,9,-999,9,-999,9,-999,-999
 35HT20180611,28,1,23,25,20180622,1946,44.67988,-18.21674,4844, 301.5,12.6355,35.6633,2,250.0,2,35.6626,2,249.3,2,7.870,2,2.40,2,0.44,2, 6.81,2,0.01,2,0.669,2,3.94,2,-999,9,-999,-999
 35HT20180611,28,1,24,26,20180622,1946,44.67988,-18.21674,4844, 200.3,12.8142,35.6809,2,243.9,2,35.6790,2,242.8,2,7.867,2,2.84,2,0.48,2, 7.71,2,0.01,2,-999,9,-999,9,-999,9,-999,-999
 35HT20180611,28,1,25,27,20180622,1946,44.67988,-18.21674,4844, 150.8,13.0166,35.7078,2,244.8,2,35.7106,4,244.6,2,7.872,2,2.61,2,0.45,2, 7.07,2,0.01,2,0.702,2,4.39,2,-999,9,-999,-999
 35HT20180611,28,1,26,28,20180622,1946,44.67988,-18.21674,4844, 101.6,13.3316,35.7418,2,244.5,2,35.7410,2,245.2,2,7.884,2,2.11,2,0.38,2, 6.19,2,0.01,2,-999,9,-999,9,-999,9,-999,-999
 35HT20180611,28,1,27,29,20180622,1946,44.67988,-18.21674,4844,  56.3,13.9376,35.7618,2,253.0,2,35.7621,2,253.0,2,7.918,2,1.00,2,0.28,2, 2.66,2,0.32,2,-999,9,-999,9,-999,9,-999,-999
 35HT20180611,28,1,28,30,20180622,1946,44.67988,-18.21674,4844,   6.9,16.4532,35.6819,2,256.9,2,35.6809,2,256.3,2,7.974,2,0.47,2,0.09,2, 0.01,2,0.00,2,0.689,2,4.15,2,-999,9,-999,-999
 35HT20180611,29,1, 1, 3,20180623,0133,45.05026,-18.50638,4573,4642.8, 2.6014,34.9067,2,241.4,2,34.9074,2,240.7,2,7.741,2,44.26,2,1.44,2,22.30,2,0.00,2,-999,9,-999,9,2353,2,-999,-999
 35HT20180611,29,1, 2, 4,20180623,0133,45.05026,-18.50638,4573,4001.4, 2.5768,34.9122,2,242.2,2,34.9122,2,242.2,2,7.742,2,42.36,2,1.42,2,22.00,2,0.00,2,-999,9,-999,9,2350,2,-999,-999
 35HT20180611,29,1, 3, 5,20180623,0133,45.05026,-18.50638,4573,3749.9, 2.5981,34.9167,2,243.6,2,34.9161,2,243.4,2,7.739,2,40.34,2,1.39,2,21.30,2,0.00,2,-999,9,-999,9,2347,2,-999,-999
 35HT20180611,29,1, 4, 6,20180623,0133,45.05026,-18.50638,4573,3500.9, 2.6613,34.9243,2,246.9,2,34.9242,2,246.7,2,7.741,2,36.83,2,1.37,2,20.90,2,0.00,2,-999,9,-999,9,2341,2,-999,-999
 35HT20180611,29,1, 5, 7,20180623,0133,45.05026,-18.50638,4573,3249.7, 2.7753,34.9345,2,251.3,2,34.9348,2,251.5,2,7.741,2,32.01,2,1.29,2,20.30,2,0.00,2,-999,9,-999,9,2334,2,-999,-999
 35HT20180611,29,1, 6, 8,20180623,0133,45.05026,-18.50638,4573,3001.7, 2.9170,34.9421,2,256.1,2,34.9425,2,256.5,2,7.742,2,26.91,2,1.25,2,19.40,2,0.00,2,-999,9,-999,9,2327,2,-999,-999
 35HT20180611,29,1, 7, 9,20180623,0133,45.05026,-18.50638,4573,2750.4, 3.0527,34.9419,2,261.7,2,34.9426,2,261.8,2,7.740,2,21.68,2,1.19,2,18.60,2,0.00,2,-999,9,-999,9,2318,2,-999,-999
 35HT20180611,29,1, 8,10,20180623,0133,45.05026,-18.50638,4573,2500.4, 3.2445,34.9351,2,267.6,2,34.9353,2,267.5,2,7.736,2,16.61,2,1.15,2,17.60,2,0.00,2,-999,9,-999,9,2309,2,-999,-999
 35HT20180611,29,1, 9,11,20180623,0133,45.05026,-18.50638,4573,2251.2, 3.5076,34.9322,2,268.9,2,34.9330,2,269.8,2,7.729,2,13.57,2,1.13,2,17.30,2,0.00,2,-999,9,-999,9,2306,2,-999,-999
 35HT20180611,29,1,10,12,20180623,0133,45.05026,-18.50638,4573,2000.9, 3.8574,34.9492,2,266.4,2,34.9495,2,266.4,2,7.721,2,12.11,2,1.12,2,17.40,2,0.00,2,-999,9,-999,9,2306,2,-999,-999
 35HT20180611,29,1,11,13,20180623,0133,45.05026,-18.50638,4573,1800.0, 4.1927,34.9733,2,263.8,2,34.9744,2,263.6,2,7.724,2,11.24,2,1.12,2,17.40,2,0.00,2,-999,9,-999,9,2305,2,-999,-999
 35HT20180611,29,1,12,14,20180623,0133,45.05026,-18.50638,4573,1600.6, 4.6421,35.0200,2,257.5,2,35.0234,4,257.7,2,7.723,2,10.76,2,1.12,2,17.60,2,0.00,2,-999,9,-999,9,2308,2,-999,-999
 35HT20180611,29,1,13,15,20180623,0133,45.05026,-18.50638,4573,1399.1, 5.5826,35.1311,2,241.5,2,35.1311,2,241.2,2,7.720,2,10.66,2,1.12,2,17.50,2,0.00,2,-999,9,-999,9,2316,2,-999,-999
 35HT20180611,29,1,14,16,20180623,0133,45.05026,-18.50638,4573,1200.9, 7.7360,35.4543,2,209.1,2,35.4605,4,209.1,2,7.741,2,10.57,2,1.10,2,17.60,2,0.00,2,-999,9,-999,9,2339,2,-999,-999
 35HT20180611,29,1,15,17,20180623,0133,45.05026,-18.50638,4573,1000.2, 9.6173,35.6532,2,189.0,2,35.6547,2,188.2,2,7.758,2,9.60,2,1.04,2,17.20,2,0.00,2,-999,9,-999,9,2350,2,-999,-999
 35HT20180611,29,1,16,18,20180623,0133,45.05026,-18.50638,4573, 899.9,10.3123,35.6978,2,184.9,2,35.7052,4,185.0,2,7.768,2,8.69,2,1.02,2,16.70,2,0.00,2,-999,9,-999,9,-999,9,-999,-999
 35HT20180611,29,1,17,19,20180623,0133,45.05026,-18.50638,4573, 801.3,10.1617,35.5364,2,192.5,2,35.5352,2,191.9,2,7.761,2,8.20,2,1.03,2,16.60,2,0.00,2,-999,9,-999,9,2338,2,-999,-999
 35HT20180611,29,1,18,20,20180623,0133,45.05026,-18.50638,4573, 699.8,10.6368,35.5068,2,207.5,2,35.5068,2,206.5,2,7.777,2,6.65,2,0.88,2,14.80,2,0.01,2,-999,9,-999,9,-999,9,-999,-999
 35HT20180611,29,1,19,21,20180623,0133,45.05026,-18.50638,4573, 602.0,10.9405,35.4911,2,218.7,2,35.4907,2,219.0,2,7.792,2,5.34,2,0.82,2,13.30,2,0.01,2,-999,9,-999,9,2331,2,-999,-999
 35HT20180611,29,1,20,22,20180623,0133,45.05026,-18.50638,4573, 500.7,11.2287,35.4967,2,223.3,2,35.4974,2,223.2,2,7.800,2,4.74,2,0.75,2,12.40,2,0.01,2,-999,9,-999,9,2330,2,-999,-999
 35HT20180611,29,1,21,23,20180623,0133,45.05026,-18.50638,4573, 400.6,11.7221,35.5289,2,228.4,2,35.5277,2,228.5,2,7.820,2,4.01,2,0.66,2,11.10,2,0.02,2,-999,9,-999,9,2331,2,-999,-999
 35HT20180611,29,1,22,24,20180623,0133,45.05026,-18.50638,4573, 301.3,12.3494,35.6151,2,240.3,2,35.6151,2,240.8,2,7.852,2,3.16,2,0.53,2, 8.70,2,0.02,2,-999,9,-999,9,2336,2,-999,-999
 35HT20180611,29,1,23,25,20180623,0133,45.05026,-18.50638,4573, 200.5,12.6859,35.6651,2,245.9,2,35.6645,2,246.6,2,7.869,2,2.59,2,0.46,2, 7.33,2,0.02,2,-999,9,-999,9,2338,2,-999,-999
 35HT20180611,29,1,24,26,20180623,0133,45.05026,-18.50638,4573, 151.5,12.9699,35.7009,2,243.6,2,35.7002,2,244.5,2,7.872,2,2.62,2,0.46,2, 7.35,2,0.02,2,-999,9,-999,9,-999,9,-999,-999
 35HT20180611,29,1,25,27,20180623,0133,45.05026,-18.50638,4573, 100.4,13.3250,35.7529,2,243.8,2,35.7524,2,243.9,2,7.885,2,2.49,2,0.42,2, 6.97,2,0.02,2,-999,9,-999,9,2342,2,-999,-999
 35HT20180611,29,1,26,28,20180623,0133,45.05026,-18.50638,4573,  57.7,13.6125,35.7508,2,247.7,2,35.7512,2,247.5,2,7.898,2,1.53,2,0.37,2, 4.37,2,0.78,2,-999,9,-999,9,-999,9,-999,-999
 35HT20180611,29,1,27,29,20180623,0133,45.05026,-18.50638,4573,   7.7,16.6676,35.7752,2,257.8,2,35.7747,2,257.6,2,7.981,2,0.35,2,0.08,2, 0.10,2,0.01,2,-999,9,-999,9,2350,2,-999,-999
 35HT20180611,29,1,28,30,20180623,0133,45.05026,-18.50638,4573,   7.8,16.6763,35.7750,2,257.1,2,35.7745,2,257.2,2, -999,9,-999,9,-999,9, -999,9,-999,9,0.74,2,4.61,2,-999,9,-999,-999