BOTTLE,20240404CCHSIOADS
EXPOCODE,STNNBR,CASTNO,SAMPNO,BTLNBR,DATE,TIME,LATITUDE,LONGITUDE,DEPTH,CTDPRS,CTDTMP,CTDSAL,CTDSAL_FLAG_W,CTDOXY,CTDOXY_FLAG_W,SALNTY,SALNTY_FLAG_W,OXYGEN,OXYGEN_FLAG_W,PH_TOT,PH_TOT_FLAG_W,SILCAT,SILCAT_FLAG_W,PHSPHT,PHSPHT_FLAG_W,NITRAT,NITRAT_FLAG_W,NITRIT,NITRIT_FLAG_W,DELO18,DELO18_FLAG_W,DELD,DELD_FLAG_W,ALKALI,ALKALI_FLAG_W,I-129,I129ER
,,,,,,,,,METERS,DBAR,DEG C,PSS-78,,UMOL/KG,,PSS-78,,UMOL/KG,,,,UMOL/KG,,UMOL/KG,,UMOL/KG,,UMOL/KG,,/MILLE,,/MILLE,,UMOL/KG,,E7/KG,E7/KG
 35HT20180611,54,1, 1, 3,20180628,1823,54.38692,-25.82814,3052,3088.9, 2.7166,34.9429,2,258.5,2,34.9433,2,258.3,2,7.723,2,29.21,2,1.26,2,19.08,2,0.00,2,-999,9,-999,9,-999,9,-999,-999
 35HT20180611,54,1, 2, 4,20180628,1823,54.38692,-25.82814,3052,3000.9, 2.7421,34.9463,2,260.4,2,34.9470,2,259.2,2,7.725,2,26.77,2,1.24,2,18.52,2,0.00,2,-999,9,-999,9,-999,9,-999,-999
 35HT20180611,54,1, 3, 5,20180628,1823,54.38692,-25.82814,3052,2750.7, 2.8730,34.9522,2,266.1,2,34.9525,2,265.6,2,7.724,2,20.89,2,1.18,2,17.53,2,0.00,2,-999,9,-999,9,-999,9,-999,-999
 35HT20180611,54,1, 4, 6,20180628,1823,54.38692,-25.82814,3052,2500.5, 3.0456,34.9484,2,271.9,2,34.9481,2,271.9,2,7.726,2,15.52,2,1.12,2,16.89,2,0.00,2,-999,9,-999,9,-999,9,-999,-999
 35HT20180611,54,1, 5, 7,20180628,1823,54.38692,-25.82814,3052,2500.5, 3.0454,34.9484,2,272.3,2,34.9480,2,272.4,2,7.724,2,15.48,2,1.12,2,16.85,2,0.00,2,-999,9,-999,9,-999,9,-999,-999
 35HT20180611,54,1, 6, 8,20180628,1823,54.38692,-25.82814,3052,2251.4, 3.1941,34.9397,2,271.9,2,34.9401,2,271.9,2,7.725,2,14.59,2,1.14,2,17.08,2,0.00,2,-999,9,-999,9,-999,9,-999,-999
 35HT20180611,54,1, 7, 9,20180628,1823,54.38692,-25.82814,3052,2002.4, 3.3778,34.9322,2,272.2,2,34.9319,2,271.8,2,7.724,2,12.99,2,1.14,2,17.27,2,0.00,2,-999,9,-999,9,-999,9,-999,-999
 35HT20180611,54,1, 8,10,20180628,1823,54.38692,-25.82814,3052,1801.0, 3.5448,34.9279,2,271.7,2,34.9279,2,271.2,2,7.721,2,12.23,2,1.14,2,17.05,2,0.00,2,-999,9,-999,9,-999,9,-999,-999
 35HT20180611,54,1, 9,11,20180628,1823,54.38692,-25.82814,3052,1600.5, 3.6321,34.9086,2,279.2,2,34.9088,2,279.9,2,7.716,2,10.73,2,1.12,2,16.88,2,0.00,2,-999,9,-999,9,-999,9,-999,-999
 35HT20180611,54,1,10,12,20180628,1823,54.38692,-25.82814,3052,1400.5, 3.6979,34.9006,2,281.0,2,34.9009,2,280.3,2,7.713,2,10.33,2,1.12,2,16.84,2,0.00,2,-999,9,-999,9,-999,9,-999,-999
 35HT20180611,54,1,11,13,20180628,1823,54.38692,-25.82814,3052,1400.6, 3.6980,34.9007,2,281.0,2,34.9006,2,280.1,2,7.713,2,10.32,2,1.12,2,16.86,2,0.00,2,-999,9,-999,9,-999,9,-999,-999
 35HT20180611,54,1,12,14,20180628,1823,54.38692,-25.82814,3052,1201.8, 3.8486,34.9063,2,278.3,2,34.9067,2,277.2,2,7.711,2,10.17,2,1.11,2,17.08,2,0.00,2,-999,9,-999,9,-999,9,-999,-999
 35HT20180611,54,1,13,15,20180628,1823,54.38692,-25.82814,3052,1000.7, 4.0501,34.9178,2,271.6,2,34.9180,2,272.0,2,7.706,2,10.17,2,1.13,2,17.27,2,0.00,2,-999,9,-999,9,-999,9,-999,-999
 35HT20180611,54,1,14,16,20180628,1823,54.38692,-25.82814,3052, 900.2, 4.2026,34.9277,2,267.8,2,34.9279,2,267.9,2,7.705,2,10.27,2,1.13,2,17.16,2,0.00,2,-999,9,-999,9,-999,9,-999,-999
 35HT20180611,54,1,15,17,20180628,1823,54.38692,-25.82814,3052, 800.7, 4.4494,34.9459,2,261.6,2,34.9462,2,261.9,2,7.703,2,10.31,2,1.16,2,17.54,2,0.00,2,-999,9,-999,9,-999,9,-999,-999
 35HT20180611,54,1,16,18,20180628,1823,54.38692,-25.82814,3052, 700.9, 4.9475,34.9954,2,251.0,2,34.9960,2,250.5,2,7.703,2,10.62,2,1.17,2,17.76,2,0.00,2,-999,9,-999,9,-999,9,-999,-999
 35HT20180611,54,1,17,19,20180628,1823,54.38692,-25.82814,3052, 601.1, 5.1613,34.9878,2,243.6,2,34.9876,2,244.2,2,7.698,2,10.78,2,1.20,2,18.18,2,0.00,2,-999,9,-999,9,-999,9,-999,-999
 35HT20180611,54,1,18,20,20180628,1823,54.38692,-25.82814,3052, 500.6, 5.7229,35.0177,2,232.8,2,35.0171,2,231.3,2,7.694,2,11.0,2,1.24,2,18.51,2,0.01,2,-999,9,-999,9,-999,9,-999,-999
 35HT20180611,54,1,19,21,20180628,1823,54.38692,-25.82814,3052, 401.1, 5.9724,34.9470,2,222.9,2,34.9468,2,222.6,2,7.685,2,11.01,2,1.26,2,18.89,2,0.01,2,-999,9,-999,9,-999,9,-999,-999
 35HT20180611,54,1,20,22,20180628,1823,54.38692,-25.82814,3052, 301.4, 6.6827,34.8781,2,231.2,2,34.8811,4,233.2,2,7.708,2,9.75,2,1.18,2,17.25,2,0.01,2,-999,9,-999,9,-999,9,-999,-999
 35HT20180611,54,1,21,23,20180628,1823,54.38692,-25.82814,3052, 200.9, 7.7515,34.9396,2,274.9,2,34.9407,2,273.8,2,7.767,2,6.25,2,0.92,2,13.20,2,0.02,2,-999,9,-999,9,-999,9,-999,-999
 35HT20180611,54,1,22,24,20180628,1823,54.38692,-25.82814,3052, 150.8, 8.1909,35.0015,2,271.5,2,35.0010,2,271.4,2,7.777,2,5.70,2,0.90,2,12.95,2,0.02,2,-999,9,-999,9,-999,9,-999,-999
 35HT20180611,54,1,23,25,20180628,1823,54.38692,-25.82814,3052, 100.1, 8.7090,35.0653,2,271.0,2,35.0658,2,271.3,2,7.792,2,4.87,2,0.85,2,12.31,2,0.14,2,-999,9,-999,9,-999,9,-999,-999
 35HT20180611,54,1,24,26,20180628,1823,54.38692,-25.82814,3052,  55.2, 9.7166,35.0835,2,277.8,2,35.0821,2,279.9,2,7.832,2,3.30,2,0.67,2, 8.62,2,0.22,2,-999,9,-999,9,-999,9,-999,-999
 35HT20180611,54,1,25,27,20180628,1823,54.38692,-25.82814,3052,   5.5,11.0482,35.1094,2,292.1,2,35.1094,2,293.2,2,7.895,2,2.52,2,0.48,2, 6.05,2,0.15,2,-999,9,-999,9,-999,9,-999,-999
 35HT20180611,54,1,28,30,20180628,1823,54.38692,-25.82814,3052,   5.5,11.0448,35.1099,2,290.4,2,   -999,9, -999,9, -999,9,-999,9,-999,9, -999,9,-999,9,-999,9,-999,9,-999,9,-999,-999
 35HT20180611,55,1, 1, 3,20180628,2312,54.76194,-26.12806,3610,3660.7, 2.8338,34.9555,2,264.3,2,34.9567,2,263.4,2,7.720,2,24.59,2,1.24,2,17.00,2,0.03,2,-999,9,-999,9,2325,2,-999,-999
 35HT20180611,55,1, 2, 4,20180628,2312,54.76194,-26.12806,3610,3582.1, 2.8242,34.9557,2,264.2,2,34.9564,2,262.9,2,7.720,2,24.29,2,1.18,2,17.10,2,0.00,2,-999,9,-999,9,2324,2,-999,-999
 35HT20180611,55,1, 3, 5,20180628,2312,54.76194,-26.12806,3610,3500.8, 2.8122,34.9538,2,263.3,2,34.9548,2,262.3,2,7.722,2,24.38,2,1.19,2,17.20,2,0.00,2,-999,9,-999,9,2325,2,-999,-999
 35HT20180611,55,1, 4, 6,20180628,2312,54.76194,-26.12806,3610,3500.4, 2.8123,34.9539,2,263.3,2,34.9538,2,261.9,2,7.721,2,24.74,2,1.22,2,16.90,2,0.00,2,-999,9,-999,9,-999,9,-999,-999
 35HT20180611,55,1, 5, 7,20180628,2312,54.76194,-26.12806,3610,3251.9, 2.8426,34.9526,2,264.5,2,34.9532,2,263.0,2,7.724,2,22.8,2,1.15,2,17.10,2,0.00,2,-999,9,-999,9,2323,2,-999,-999
 35HT20180611,55,1, 6, 8,20180628,2312,54.76194,-26.12806,3610,3000.6, 2.9010,34.9535,2,267.0,2,34.9541,2,265.8,2,7.725,2,20.51,2,1.12,2,16.70,2,0.00,2,-999,9,-999,9,2319,2,-999,-999
 35HT20180611,55,1, 7, 9,20180628,2312,54.76194,-26.12806,3610,2751.6, 3.0121,34.9456,2,267.5,2,34.9467,2,267.5,2,7.727,2,18.97,2,1.11,2,16.70,2,0.00,2,-999,9,-999,9,2317,2,-999,-999
 35HT20180611,55,1, 8,10,20180628,2312,54.76194,-26.12806,3610,2501.6, 3.2057,34.9398,2,272.6,2,34.9406,2,272.5,2,7.727,2,14.42,2,1.08,2,16.30,2,0.00,2,-999,9,-999,9,2309,2,-999,-999
 35HT20180611,55,1, 9,11,20180628,2312,54.76194,-26.12806,3610,2250.1, 3.3977,34.9314,2,272.7,2,34.9321,2,273.7,2,7.725,2,13.19,2,0.95,2,16.60,2,0.01,2,-999,9,-999,9,2306,2,-999,-999
 35HT20180611,55,1,10,12,20180628,2312,54.76194,-26.12806,3610,2000.7, 3.5591,34.9278,2,271.4,2,34.9286,2,271.5,2,7.723,2,12.41,2,1.09,2,16.80,2,0.02,2,-999,9,-999,9,2306,2,-999,-999
 35HT20180611,55,1,11,13,20180628,2312,54.76194,-26.12806,3610,1803.0, 3.6674,34.9236,2,272.5,2,34.9240,2,272.8,2,7.720,2,12.01,2,1.11,2,17.00,2,0.02,2,-999,9,-999,9,2305,2,-999,-999
 35HT20180611,55,1,12,14,20180628,2312,54.76194,-26.12806,3610,1599.9, 3.7594,34.9138,2,275.6,2,34.9153,2,275.7,2,7.717,2,11.24,2,1.10,2,17.00,2,0.02,2,-999,9,-999,9,2304,2,-999,-999
 35HT20180611,55,1,13,15,20180628,2312,54.76194,-26.12806,3610,1402.0, 3.8680,34.9087,2,276.7,2,34.9092,2,276.5,2,7.710,2,10.92,2,1.11,2,16.90,2,0.02,2,-999,9,-999,9,2303,2,-999,-999
 35HT20180611,55,1,14,16,20180628,2312,54.76194,-26.12806,3610,1199.9, 4.0258,34.9160,2,272.9,2,34.9174,2,273.3,2,7.709,2,10.6,2,1.11,2,16.90,2,0.02,2,-999,9,-999,9,2304,2,-999,-999
 35HT20180611,55,1,15,17,20180628,2312,54.76194,-26.12806,3610,1000.4, 4.3787,34.9409,2,265.7,2,34.9418,2,266.4,2,7.705,2,10.82,2,1.15,2,17.30,2,0.02,2,-999,9,-999,9,2305,2,-999,-999
 35HT20180611,55,1,16,18,20180628,2312,54.76194,-26.12806,3610, 900.2, 4.6696,34.9644,2,258.4,2,34.9659,2,258.1,2,7.703,2,10.93,2,1.16,2,17.40,2,0.02,2,-999,9,-999,9,-999,9,-999,-999
 35HT20180611,55,1,17,19,20180628,2312,54.76194,-26.12806,3610, 800.3, 5.0158,34.9851,2,249.0,2,34.9854,2,248.2,2,7.702,2,11.18,2,1.16,2,17.60,2,0.01,2,-999,9,-999,9,2309,2,-999,-999
 35HT20180611,55,1,18,20,20180628,2312,54.76194,-26.12806,3610, 701.2, 5.2363,34.9476,2,240.6,2,34.9453,4,240.4,2,7.693,2,11.27,2,1.20,2,18.10,2,0.02,2,-999,9,-999,9,-999,9,-999,-999
 35HT20180611,55,1,20,22,20180628,2312,54.76194,-26.12806,3610, 600.5, 6.2891,35.0227,2,221.2,2,35.0225,2,220.4,2,7.695,2,11.41,2,1.22,2,18.70,2,0.02,2,-999,9,-999,9,2312,2,-999,-999
 35HT20180611,55,1,21,23,20180628,2312,54.76194,-26.12806,3610, 500.5, 6.6547,34.9321,2,218.8,2,34.9307,2,218.9,2,7.696,2,10.96,2,1.23,2,18.10,2,0.02,2,-999,9,-999,9,2307,2,-999,-999
 35HT20180611,55,1,22,24,20180628,2312,54.76194,-26.12806,3610, 401.3, 7.9469,35.0171,2,230.0,2,35.0141,4,230.1,2,7.733,2,8.98,2,1.08,2,16.00,2,0.02,2,-999,9,-999,9,2311,2,-999,-999
 35HT20180611,55,1,23,25,20180628,2312,54.76194,-26.12806,3610, 300.9, 9.4440,35.2275,2,262.9,2,35.2277,2,271.9,4,7.801,2,4.55,2,0.80,2,11.40,2,0.05,2,-999,9,-999,9,2321,2,-999,-999
 35HT20180611,55,1,24,26,20180628,2312,54.76194,-26.12806,3610, 200.1, 9.4732,35.1944,2,263.2,2,35.1952,2,263.9,2,7.803,2,4.74,2,0.82,2,11.50,2,0.12,2,-999,9,-999,9,2320,2,-999,-999
 35HT20180611,55,1,25,27,20180628,2312,54.76194,-26.12806,3610, 150.5, 9.6062,35.2087,2,265.3,2,35.2084,2,267.6,4,7.807,2,4.81,2,0.80,2,11.40,2,0.08,2,-999,9,-999,9,-999,9,-999,-999
 35HT20180611,55,1,26,28,20180628,2312,54.76194,-26.12806,3610, 100.9, 9.7132,35.2231,2,267.1,2,35.2217,2,267.1,2,7.808,2,4.31,2,0.80,2,11.10,2,0.13,2,-999,9,-999,9,2322,2,-999,-999
 35HT20180611,55,1,27,29,20180628,2312,54.76194,-26.12806,3610,  56.5,10.4231,35.1678,2,280.9,2,35.1677,2,281.5,2,7.872,2,1.90,2,0.58,2, 6.36,2,0.21,2,-999,9,-999,9,-999,9,-999,-999
 35HT20180611,55,1,28,30,20180628,2312,54.76194,-26.12806,3610,   6.1,11.2019,35.1473,2,294.7,2,35.1476,2,296.9,4,7.911,2,1.38,2,0.48,2, 5.01,2,0.17,2,0.426,2,2.31,2,2322,2,-999,-999
 35HT20180611,56,1, 1, 3,20180629,0421,55.14976,-26.40834,3379,3424.1, 2.8031,34.9551,2,263.5,2,34.9546,2,261.9,2,7.720,2,24.34,2,1.28,2,17.84,2,0.00,2,-999,9,-999,9,-999,9,-999,-999
 35HT20180611,56,1, 2, 4,20180629,0421,55.14976,-26.40834,3379,3328.7, 2.7995,34.9516,2,262.6,2,34.9514,2,261.2,2,7.722,2,24.52,2,1.31,2,17.93,2,0.00,2,-999,9,-999,9,-999,9,-999,-999
 35HT20180611,56,1, 3, 5,20180629,0421,55.14976,-26.40834,3379,3200.8, 2.8275,34.9514,2,264.3,2,34.9511,2,263.1,2,7.722,2,22.76,2,1.27,2,17.56,2,0.00,2,-999,9,-999,9,-999,9,-999,-999
 35HT20180611,56,1, 4, 6,20180629,0421,55.14976,-26.40834,3379,2999.8, 2.9268,34.9556,2,268.5,2,34.9547,2,267.7,2,7.724,2,18.74,2,1.22,2,16.96,2,0.00,2,-999,9,-999,9,-999,9,-999,-999
 35HT20180611,56,1, 5, 7,20180629,0421,55.14976,-26.40834,3379,2750.8, 3.0204,34.9516,2,271.3,2,34.9516,2,271.1,2,7.723,2,15.91,2,1.15,2,16.78,2,0.00,2,-999,9,-999,9,-999,9,-999,-999
 35HT20180611,56,1, 6, 8,20180629,0421,55.14976,-26.40834,3379,2750.7, 3.0205,34.9516,2,271.3,2,34.9519,2,271.3,2,7.725,2,15.91,2,1.17,2,16.61,2,0.00,2,-999,9,-999,9,-999,9,-999,-999
 35HT20180611,56,1, 7, 9,20180629,0421,55.14976,-26.40834,3379,2501.0, 3.1344,34.9420,2,272.2,2,34.9419,2,272.2,2,7.725,2,14.34,2,1.11,2,16.75,2,0.00,2,-999,9,-999,9,-999,9,-999,-999
 35HT20180611,56,1, 8,10,20180629,0421,55.14976,-26.40834,3379,2251.2, 3.2687,34.9346,2,272.9,2,34.9343,2,272.9,2,7.725,2,12.97,2,1.12,2,16.71,2,0.00,2,-999,9,-999,9,-999,9,-999,-999
 35HT20180611,56,1, 9,11,20180629,0421,55.14976,-26.40834,3379,2003.4, 3.4450,34.9294,2,273.0,2,34.9286,2,273.2,2,7.723,2,12.11,2,1.12,2,16.74,2,0.00,2,-999,9,-999,9,-999,9,-999,-999
 35HT20180611,56,1,10,12,20180629,0421,55.14976,-26.40834,3379,1802.3, 3.6160,34.9248,2,273.1,2,34.9240,2,272.8,2,7.721,2,11.42,2,1.12,2,16.72,2,0.00,2,-999,9,-999,9,-999,9,-999,-999
 35HT20180611,56,1,11,13,20180629,0421,55.14976,-26.40834,3379,1601.6, 3.6205,34.9023,2,280.7,2,34.9016,2,280.8,2,7.715,2,10.24,2,1.12,2,16.39,2,0.00,2,-999,9,-999,9,-999,9,-999,-999
 35HT20180611,56,1,12,14,20180629,0421,55.14976,-26.40834,3379,1601.6, 3.6207,34.9024,2,280.7,2,34.9024,2,280.8,2,7.716,2,10.07,2,1.12,2,16.22,2,0.00,2,-999,9,-999,9,-999,9,-999,-999
 35HT20180611,56,1,13,15,20180629,0421,55.14976,-26.40834,3379,1399.6, 3.6646,34.8941,2,282.7,2,34.8935,2,285.1,4,7.712,2,9.43,2,1.12,2,16.06,2,0.00,2,-999,9,-999,9,-999,9,-999,-999
 35HT20180611,56,1,14,16,20180629,0421,55.14976,-26.40834,3379,1201.3, 3.8629,34.9075,2,276.8,2,34.9079,2,276.7,2,7.711,2,9.54,2,1.10,2,16.34,2,0.00,2,-999,9,-999,9,-999,9,-999,-999
 35HT20180611,56,1,15,17,20180629,0421,55.14976,-26.40834,3379,1002.2, 4.0552,34.9185,2,272.7,2,34.9173,2,273.3,2,7.708,2,9.66,2,1.15,2,16.54,2,0.00,2,-999,9,-999,9,-999,9,-999,-999
 35HT20180611,56,1,16,18,20180629,0421,55.14976,-26.40834,3379, 899.6, 4.2567,34.9321,2,267.2,2,34.9311,2,267.0,2,7.705,2,10.01,2,1.17,2,17.02,2,0.00,2,-999,9,-999,9,-999,9,-999,-999
 35HT20180611,56,1,17,19,20180629,0421,55.14976,-26.40834,3379, 802.3, 4.5295,34.9537,2,260.9,2,34.9526,2,259.8,2,7.703,2,10.15,2,1.12,2,17.30,2,0.00,2,-999,9,-999,9,-999,9,-999,-999
 35HT20180611,56,1,18,20,20180629,0421,55.14976,-26.40834,3379, 701.2, 4.8566,34.9736,2,252.9,2,34.9740,2,251.4,2,7.701,2,10.12,2,1.17,2,17.94,2,0.00,2,-999,9,-999,9,-999,9,-999,-999
 35HT20180611,56,1,20,22,20180629,0421,55.14976,-26.40834,3379, 598.6, 5.1906,34.9659,2,241.9,2,34.9649,2,242.2,2,7.694,2,10.49,2,1.23,2,18.62,2,0.00,2,-999,9,-999,9,-999,9,-999,-999
 35HT20180611,56,1,21,23,20180629,0421,55.14976,-26.40834,3379, 499.8, 6.2190,35.0412,2,224.3,2,35.0403,2,222.6,2,7.698,2,10.68,2,1.24,2,18.84,2,0.00,2,-999,9,-999,9,-999,9,-999,-999
 35HT20180611,56,1,22,24,20180629,0421,55.14976,-26.40834,3379, 405.1, 6.8803,34.9827,2,212.5,2,34.9819,2,212.3,2,7.696,2,10.51,2,1.23,2,19.32,2,0.01,2,-999,9,-999,9,-999,9,-999,-999
 35HT20180611,56,1,23,25,20180629,0421,55.14976,-26.40834,3379, 301.3, 7.8233,34.9858,2,243.3,2,34.9872,2,242.7,2,7.742,2,7.92,2,1.04,2,15.93,2,0.02,2,-999,9,-999,9,-999,9,-999,-999
 35HT20180611,56,1,24,26,20180629,0421,55.14976,-26.40834,3379, 203.4, 9.1921,35.1782,2,261.8,2,35.1783,2,261.9,2,7.795,2,4.59,2,0.78,2,12.61,2,0.01,2,-999,9,-999,9,-999,9,-999,-999
 35HT20180611,56,1,25,27,20180629,0421,55.14976,-26.40834,3379, 151.3, 9.3219,35.1656,2,262.2,2,35.1650,2,262.6,2,7.797,2,4.97,2,0.72,2,12.63,2,0.05,2,-999,9,-999,9,-999,9,-999,-999
 35HT20180611,56,1,26,28,20180629,0421,55.14976,-26.40834,3379, 100.8, 9.6498,35.2147,2,265.4,2,35.2156,2,265.4,2,7.805,2,4.46,2,0.75,2,11.94,2,0.10,2,-999,9,-999,9,-999,9,-999,-999
 35HT20180611,56,1,27,29,20180629,0421,55.14976,-26.40834,3379,  56.7,10.1935,35.1622,2,275.8,2,35.1632,2,276.9,2,7.846,2,2.90,2,0.57,2, 8.30,2,0.22,2,-999,9,-999,9,-999,9,-999,-999
 35HT20180611,56,1,28,30,20180629,0421,55.14976,-26.40834,3379,   6.4,10.8487,34.8302,2,290.2,2,34.8333,4,291.2,2,7.893,2,1.32,2,0.42,2, 4.86,2,0.15,2,0.237,2,0.94,2,-999,9,-999,-999