BOTTLE,20240404CCHSIOADS
EXPOCODE,STNNBR,CASTNO,SAMPNO,BTLNBR,DATE,TIME,LATITUDE,LONGITUDE,DEPTH,CTDPRS,CTDTMP,CTDSAL,CTDSAL_FLAG_W,CTDOXY,CTDOXY_FLAG_W,SALNTY,SALNTY_FLAG_W,OXYGEN,OXYGEN_FLAG_W,PH_TOT,PH_TOT_FLAG_W,SILCAT,SILCAT_FLAG_W,PHSPHT,PHSPHT_FLAG_W,NITRAT,NITRAT_FLAG_W,NITRIT,NITRIT_FLAG_W,DELO18,DELO18_FLAG_W,DELD,DELD_FLAG_W,ALKALI,ALKALI_FLAG_W,I-129,I129ER
,,,,,,,,,METERS,DBAR,DEG C,PSS-78,,UMOL/KG,,PSS-78,,UMOL/KG,,,,UMOL/KG,,UMOL/KG,,UMOL/KG,,UMOL/KG,,/MILLE,,/MILLE,,UMOL/KG,,E7/KG,E7/KG
 35HT20180611,24,1, 1, 3,20180621,2121,43.48002,-16.63594,4172,4234.8, 2.4995,34.9016,2,242.9,2,34.9024,2,243.0,2,7.745,2,44.7,2,1.46,2,22.00,2,0.00,2,-999,9,-999,9,-999,9,-999,-999
 35HT20180611,24,1, 2, 4,20180621,2121,43.48002,-16.63594,4172,4001.6, 2.5270,34.9072,2,242.9,2,34.9077,2,242.5,2,7.743,2,43.09,2,1.44,2,21.90,2,0.00,2,-999,9,-999,9,-999,9,-999,-999
 35HT20180611,24,1, 3, 5,20180621,2121,43.48002,-16.63594,4172,3749.5, 2.5541,34.9126,2,242.9,2,34.9127,2,242.6,2,7.742,2,41.71,2,1.41,2,21.80,2,0.00,2,-999,9,-999,9,-999,9,-999,-999
 35HT20180611,24,1, 4, 6,20180621,2121,43.48002,-16.63594,4172,3500.1, 2.5903,34.9184,2,244.2,2,34.9187,2,244.2,2,7.741,2,39.73,2,1.39,2,21.50,2,0.00,2,-999,9,-999,9,-999,9,-999,-999
 35HT20180611,24,1, 5, 7,20180621,2121,43.48002,-16.63594,4172,3251.5, 2.6709,34.9270,2,247.0,2,34.9273,2,247.0,2,7.748,2,36.34,2,1.34,2,21.20,2,0.00,2,-999,9,-999,9,-999,9,-999,-999
 35HT20180611,24,1, 6, 8,20180621,2121,43.48002,-16.63594,4172,3001.9, 2.7935,34.9376,2,250.2,2,34.9376,2,250.2,2,7.742,2,32.22,2,1.33,2,20.20,2,0.00,2,-999,9,-999,9,-999,9,-999,-999
 35HT20180611,24,1, 7, 9,20180621,2121,43.48002,-16.63594,4172,2750.6, 2.9549,34.9470,2,253.8,2,34.9469,2,253.9,2,7.743,2,27.5,2,1.27,2,19.50,2,0.00,2,-999,9,-999,9,-999,9,-999,-999
 35HT20180611,24,1, 8,10,20180621,2121,43.48002,-16.63594,4172,2501.4, 3.1530,34.9503,2,259.5,2,34.9506,2,259.4,2,7.739,2,22.09,2,1.24,2,18.60,2,0.00,2,-999,9,-999,9,-999,9,-999,-999
 35HT20180611,24,1, 9,11,20180621,2121,43.48002,-16.63594,4172,2251.2, 3.3455,34.9432,2,265.5,2,34.9435,2,265.7,2,7.736,2,16.84,2,1.16,2,17.90,2,0.00,2,-999,9,-999,9,-999,9,-999,-999
 35HT20180611,24,1,10,12,20180621,2121,43.48002,-16.63594,4172,1999.2, 3.5920,34.9376,2,268.0,2,34.9383,2,268.1,2,7.730,2,13.4,2,1.13,2,17.70,2,0.01,2,-999,9,-999,9,-999,9,-999,-999
 35HT20180611,24,1,11,13,20180621,2121,43.48002,-16.63594,4172,1801.5, 4.0118,34.9762,2,263.3,2,34.9764,2,263.3,2,7.728,2,12.59,2,1.14,2,17.60,2,0.01,2,-999,9,-999,9,-999,9,-999,-999
 35HT20180611,24,1,12,14,20180621,2121,43.48002,-16.63594,4172,1600.6, 4.4717,35.0264,2,258.8,2,35.0372,4,257.3,2,7.726,2,11.56,2,1.13,2,17.70,2,0.01,2,-999,9,-999,9,-999,9,-999,-999
 35HT20180611,24,1,13,15,20180621,2121,43.48002,-16.63594,4172,1400.7, 6.1401,35.2972,2,233.6,2,35.2987,2,234.0,2,7.738,2,11.43,2,1.13,2,17.30,2,0.01,2,-999,9,-999,9,-999,9,-999,-999
 35HT20180611,24,1,14,16,20180621,2121,43.48002,-16.63594,4172,1400.8, 6.1468,35.2985,2,233.6,2,35.3012,4,233.0,2,7.740,2,11.47,2,1.14,2,17.80,2,0.01,2,-999,9,-999,9,-999,9,-999,-999
 35HT20180611,24,1,15,17,20180621,2121,43.48002,-16.63594,4172,1201.6, 7.7528,35.5347,2,211.5,2,35.5343,2,211.8,2,7.751,2,10.77,2,1.14,2,17.50,2,0.00,2,-999,9,-999,9,-999,9,-999,-999
 35HT20180611,24,1,16,18,20180621,2121,43.48002,-16.63594,4172,1002.8, 8.3559,35.4990,2,201.2,2,35.4989,2,201.3,2,7.743,2,10.34,2,1.14,2,17.90,2,0.00,2,-999,9,-999,9,-999,9,-999,-999
 35HT20180611,24,1,17,19,20180621,2121,43.48002,-16.63594,4172, 900.5, 9.0888,35.5210,2,192.5,2,35.5211,2,191.7,2,7.748,2,9.84,2,1.13,2,17.90,2,0.00,2,-999,9,-999,9,-999,9,-999,-999
 35HT20180611,24,1,18,20,20180621,2121,43.48002,-16.63594,4172, 800.9, 9.6593,35.5197,2,190.5,2,35.5198,2,190.5,2,7.754,2,9.17,2,1.11,2,17.40,2,0.00,2,-999,9,-999,9,-999,9,-999,-999
 35HT20180611,24,1,19,21,20180621,2121,43.48002,-16.63594,4172, 702.2,10.1562,35.4793,2,197.2,2,35.4797,2,196.8,2,7.761,2,7.82,2,1.05,2,16.50,2,0.00,2,-999,9,-999,9,-999,9,-999,-999
 35HT20180611,24,1,20,22,20180621,2121,43.48002,-16.63594,4172, 600.1,10.5370,35.4607,2,209.5,2,35.4611,2,209.5,2,7.777,2,6.51,2,0.90,2,14.80,2,0.00,2,-999,9,-999,9,-999,9,-999,-999
 35HT20180611,24,1,21,23,20180621,2121,43.48002,-16.63594,4172, 500.4,10.9886,35.4823,2,218.9,2,35.4821,2,218.5,2,7.792,2,5.23,2,0.78,2,13.10,2,0.00,2,-999,9,-999,9,-999,9,-999,-999
 35HT20180611,24,1,22,24,20180621,2121,43.48002,-16.63594,4172, 400.7,11.3863,35.5093,2,224.3,2,35.5099,2,223.9,2,7.805,2,4.34,2,0.73,2,12.10,2,0.00,2,-999,9,-999,9,-999,9,-999,-999
 35HT20180611,24,1,23,25,20180621,2121,43.48002,-16.63594,4172, 299.7,11.8856,35.5563,2,225.9,2,35.5552,2,227.0,2,7.823,2,3.61,2,0.64,2,10.70,2,0.00,2,-999,9,-999,9,-999,9,-999,-999
 35HT20180611,24,1,24,26,20180621,2121,43.48002,-16.63594,4172, 200.2,12.6028,35.6603,2,247.4,2,35.6602,2,246.9,2,7.868,2,2.23,2,0.44,2, 5.01,2,0.01,2,-999,9,-999,9,-999,9,-999,-999
 35HT20180611,24,1,25,27,20180621,2121,43.48002,-16.63594,4172, 150.6,12.6858,35.6658,2,244.2,2,35.6684,4,244.2,2,7.867,2,2.38,2,0.46,2, 7.21,2,0.01,2,-999,9,-999,9,-999,9,-999,-999
 35HT20180611,24,1,26,28,20180621,2121,43.48002,-16.63594,4172, 101.7,12.9696,35.6843,2,244.9,2,35.6835,2,244.4,2,7.873,2,1.99,2,0.40,2, 6.68,2,0.01,2,-999,9,-999,9,-999,9,-999,-999
 35HT20180611,24,1,27,29,20180621,2121,43.48002,-16.63594,4172,  56.7,13.6753,35.7208,2,250.2,2,35.7178,4,249.0,2,7.905,2,0.85,2,0.30,2, 3.13,2,0.48,2,-999,9,-999,9,-999,9,-999,-999
 35HT20180611,24,1,28,30,20180621,2121,43.48002,-16.63594,4172,   7.8,17.5429,35.7340,2,251.3,2,35.7347,2,251.8,2,7.988,2,0.45,2,0.07,2, 0.06,2,0.00,2,-999,9,-999,9,-999,9,-999,-999
 35HT20180611,25,1, 1, 3,20180622,0312,43.78010,-17.03008,4005,4060.4, 2.5791,34.9105,2,241.9,2,34.9124,2,241.2,2,7.741,2,42.85,2,1.44,2,22.04,2,0.00,2,-999,9,-999,9,2352,2,-999,-999
 35HT20180611,25,1, 2, 4,20180622,0312,43.78010,-17.03008,4005,4060.1, 2.5792,34.9105,2,241.8,2,34.9105,2,241.1,2,7.739,2,42.68,2,1.46,2,22.10,2,0.00,2,-999,9,-999,9,2352,2,-999,-999
 35HT20180611,25,1, 3, 5,20180622,0312,43.78010,-17.03008,4005,3751.4, 2.5838,34.9147,2,243.3,2,34.9156,2,244.2,2,7.741,2,40.98,2,1.47,2,21.46,2,0.00,2,-999,9,-999,9,2349,2,-999,-999
 35HT20180611,25,1, 4, 6,20180622,0312,43.78010,-17.03008,4005,3500.2, 2.6100,34.9195,2,244.9,2,34.9201,2,244.9,2,7.741,2,39.05,2,1.45,2,21.18,2,0.00,2,-999,9,-999,9,2346,2,-999,-999
 35HT20180611,25,1, 5, 7,20180622,0312,43.78010,-17.03008,4005,3499.9, 2.6102,34.9195,2,244.9,2,34.9203,2,245.6,2,7.740,2,39.06,2,1.43,2,20.99,2,0.00,2,-999,9,-999,9,-999,9,-999,-999
 35HT20180611,25,1, 6, 8,20180622,0312,43.78010,-17.03008,4005,2999.3, 2.8097,34.9378,2,251.8,2,34.9381,2,252.2,2,7.737,2,30.86,2,1.34,2,19.61,2,0.00,2,-999,9,-999,9,2336,2,-999,-999
 35HT20180611,25,1, 7, 9,20180622,0312,43.78010,-17.03008,4005,2750.5, 2.9741,34.9458,2,256.1,2,34.9465,2,256.3,2,7.739,2,26.13,2,1.27,2,18.95,2,0.00,2,-999,9,-999,9,2328,2,-999,-999
 35HT20180611,25,1, 8,10,20180622,0312,43.78010,-17.03008,4005,2503.9, 3.1625,34.9435,2,262.6,2,34.9434,2,263.2,2,7.735,2,19.92,2,1.19,2,18.14,2,0.00,2,-999,9,-999,9,2318,2,-999,-999
 35HT20180611,25,1, 9,11,20180622,0312,43.78010,-17.03008,4005,2251.3, 3.3795,34.9403,2,266.7,2,34.9406,2,267.3,2,7.733,2,15.93,2,1.15,2,17.76,2,0.00,2,-999,9,-999,9,2313,2,-999,-999
 35HT20180611,25,1,10,12,20180622,0312,43.78010,-17.03008,4005,1998.8, 3.6878,34.9478,2,266.4,2,34.9477,2,266.4,2,7.729,2,13.46,2,1.14,2,17.40,2,0.00,2,-999,9,-999,9,2310,2,-999,-999
 35HT20180611,25,1,11,13,20180622,0312,43.78010,-17.03008,4005,1802.3, 4.0653,34.9785,2,263.0,2,34.9790,2,263.0,2,7.726,2,12.41,2,1.14,2,17.65,2,0.00,2,-999,9,-999,9,2311,2,-999,-999
 35HT20180611,25,1,12,14,20180622,0312,43.78010,-17.03008,4005,1602.3, 4.4427,35.0049,2,260.4,2,35.0074,2,261.6,2,7.723,2,11.34,2,1.14,2,17.61,2,0.00,2,-999,9,-999,9,2312,2,-999,-999
 35HT20180611,25,1,13,15,20180622,0312,43.78010,-17.03008,4005,1403.1, 5.2880,35.1130,2,247.3,2,35.1156,2,246.6,2,7.722,2,10.84,2,1.14,2,17.43,2,0.00,2,-999,9,-999,9,2320,2,-999,-999
 35HT20180611,25,1,14,16,20180622,0312,43.78010,-17.03008,4005,1218.7, 6.9876,35.3685,2,220.9,2,35.3705,2,221.2,2,7.737,2,10.79,2,1.16,2,17.53,2,0.00,2,-999,9,-999,9,2336,2,-999,-999
 35HT20180611,25,1,15,17,20180622,0312,43.78010,-17.03008,4005,1002.6, 8.9626,35.6221,2,196.1,2,35.6221,2,194.7,2,7.754,2,10.05,2,1.12,2,17.38,2,0.00,2,-999,9,-999,9,2353,2,-999,-999
 35HT20180611,25,1,16,18,20180622,0312,43.78010,-17.03008,4005, 901.6, 9.2350,35.5212,2,191.3,2,35.5205,2,191.1,2,7.746,2,9.66,2,1.13,2,17.64,2,0.00,2,-999,9,-999,9,-999,9,-999,-999
 35HT20180611,25,1,17,19,20180622,0312,43.78010,-17.03008,4005, 801.5, 9.4430,35.4111,2,194.2,2,35.4137,4,195.5,2,7.743,2,9.05,2,1.14,2,17.48,2,0.00,2,-999,9,-999,9,2335,2,-999,-999
 35HT20180611,25,1,18,20,20180622,0312,43.78010,-17.03008,4005, 700.0,10.1854,35.4287,2,203.3,2,35.4296,2,203.1,2,7.764,2,7.40,2,1.02,2,15.95,2,0.00,2,-999,9,-999,9,-999,9,-999,-999
 35HT20180611,25,1,19,21,20180622,0312,43.78010,-17.03008,4005, 601.4,10.8355,35.4836,2,216.2,2,35.4832,2,216.1,2,7.785,2,5.61,2,0.86,2,13.87,2,0.00,2,-999,9,-999,9,2333,2,-999,-999
 35HT20180611,25,1,20,22,20180622,0312,43.78010,-17.03008,4005, 500.8,11.1864,35.4982,2,221.8,2,35.4982,2,221.9,2,7.798,2,4.79,2,0.77,2,12.70,2,0.00,2,-999,9,-999,9,2333,2,-999,-999
 35HT20180611,25,1,21,23,20180622,0312,43.78010,-17.03008,4005, 399.7,11.5499,35.5214,2,225.1,2,35.5212,2,226.0,2,7.809,2,4.16,2,0.73,2,11.86,2,0.00,2,-999,9,-999,9,2334,2,-999,-999
 35HT20180611,25,1,22,24,20180622,0312,43.78010,-17.03008,4005, 299.9,12.0637,35.5755,2,228.4,2,35.5756,2,227.7,2,7.828,2,3.71,2,0.65,2,10.57,2,0.00,2,-999,9,-999,9,2337,2,-999,-999
 35HT20180611,25,1,23,25,20180622,0312,43.78010,-17.03008,4005, 201.3,12.6444,35.6532,2,235.1,2,35.6525,2,234.2,2,7.853,2,2.84,2,0.54,2, 8.49,2,0.00,2,-999,9,-999,9,2342,2,-999,-999
 35HT20180611,25,1,24,26,20180622,0312,43.78010,-17.03008,4005, 149.0,12.9493,35.6902,2,239.2,2,35.6901,2,239.4,2,7.867,2,2.00,2,0.40,2, 6.13,2,0.01,2,-999,9,-999,9,-999,9,-999,-999
 35HT20180611,25,1,25,27,20180622,0312,43.78010,-17.03008,4005,  98.3,13.4774,35.7574,2,243.4,2,35.7609,4,243.2,2,7.885,2,2.50,2,0.47,2, 7.51,2,0.01,2,-999,9,-999,9,-999,9,-999,-999
 35HT20180611,25,1,26,28,20180622,0312,43.78010,-17.03008,4005,  56.1,14.0449,35.8122,2,243.8,2,35.8118,2,244.3,2,7.901,2,1.66,2,0.29,2, 4.80,2,0.04,2,-999,9,-999,9,-999,9,-999,-999
 35HT20180611,25,1,27,29,20180622,0312,43.78010,-17.03008,4005,   5.7,17.1128,35.7656,2,252.5,2,35.7648,2,253.0,2,7.983,2,0.43,2,0.07,2, 0.04,2,0.00,2,-999,9,-999,9,2354,2,-999,-999
 35HT20180611,25,1,28,30,20180622,0312,43.78010,-17.03008,4005,   5.7,17.1145,35.7656,2,252.5,2,   -999,9, -999,9, -999,9,-999,9,-999,9, -999,9,-999,9,0.772,2,4.64,2,-999,9,-999,-999
 35HT20180611,26,1, 1, 3,20180622,0822,44.07842,-17.4229,3771,3822.7, 2.5549,34.9113,2,242.7,2,34.9120,2,242.1,2,7.739,2,42.06,2,1.37,2,21.53,2,0.01,2,-999,9,-999,9,-999,9,-999,-999
 35HT20180611,26,1, 2, 4,20180622,0822,44.07842,-17.4229,3771,3750.9, 2.5806,34.9143,2,243.4,2,34.9145,2,243.3,2,7.739,2,40.93,2,1.38,2,21.72,2,0.00,2,-999,9,-999,9,-999,9,-999,-999
 35HT20180611,26,1, 3, 5,20180622,0822,44.07842,-17.4229,3771,3501.8, 2.6499,34.9227,2,245.9,2,34.9235,2,245.6,2,7.740,2,37.76,2,1.34,2,21.20,2,0.02,2,-999,9,-999,9,-999,9,-999,-999
 35HT20180611,26,1, 4, 6,20180622,0822,44.07842,-17.4229,3771,3250.3, 2.7228,34.9304,2,249.1,2,34.9307,2,249.4,2,7.737,2,34.33,2,1.33,2,20.39,2,0.01,2,-999,9,-999,9,-999,9,-999,-999
 35HT20180611,26,1, 5, 7,20180622,0822,44.07842,-17.4229,3771,3001.2, 2.8695,34.9403,2,252.5,2,34.9406,2,252.3,2,7.734,2,29.85,2,1.27,2,19.71,2,0.02,2,-999,9,-999,9,-999,9,-999,-999
 35HT20180611,26,1, 6, 8,20180622,0822,44.07842,-17.4229,3771,2751.5, 3.0548,34.9494,2,256.1,2,34.9489,2,256.1,2,7.740,2,25.17,2,1.22,2,18.94,2,0.02,2,-999,9,-999,9,-999,9,-999,-999
 35HT20180611,26,1, 7, 9,20180622,0822,44.07842,-17.4229,3771,2502.7, 3.2974,34.9510,2,261.9,2,34.9513,2,262.2,2,7.735,2,19.43,2,1.19,2,18.04,2,0.01,2,-999,9,-999,9,-999,9,-999,-999
 35HT20180611,26,1, 8,10,20180622,0822,44.07842,-17.4229,3771,2503.1, 3.2987,34.9508,2,261.8,2,34.9506,2,262.4,2,7.735,2,19.37,2,1.22,2,18.10,2,0.02,2,-999,9,-999,9,-999,9,-999,-999
 35HT20180611,26,1, 9,11,20180622,0822,44.07842,-17.4229,3771,2249.9, 3.5040,34.9452,2,265.9,2,34.9451,2,266.5,2,7.732,2,15.22,2,1.16,2,17.57,2,0.02,2,-999,9,-999,9,-999,9,-999,-999
 35HT20180611,26,1,10,12,20180622,0822,44.07842,-17.4229,3771,1999.6, 3.8131,34.9551,2,265.5,2,34.9554,2,265.4,2,7.727,2,13.18,2,1.14,2,17.59,2,0.03,2,-999,9,-999,9,-999,9,-999,-999
 35HT20180611,26,1,11,13,20180622,0822,44.07842,-17.4229,3771,1800.8, 4.4576,35.0391,2,257.6,2,35.0396,2,257.3,2,7.725,2,12.36,2,1.14,2,17.57,2,0.01,2,-999,9,-999,9,-999,9,-999,-999
 35HT20180611,26,1,12,14,20180622,0822,44.07842,-17.4229,3771,1601.8, 5.0698,35.1162,2,249.7,2,35.1190,4,249.0,2,7.727,2,11.52,2,1.16,2,17.46,2,0.01,2,-999,9,-999,9,-999,9,-999,-999
 35HT20180611,26,1,13,15,20180622,0822,44.07842,-17.4229,3771,1601.9, 5.0702,35.1163,2,249.7,2,35.1168,2,249.2,2,7.724,2,11.58,2,1.16,2,17.34,2,0.02,2,-999,9,-999,9,-999,9,-999,-999
 35HT20180611,26,1,14,16,20180622,0822,44.07842,-17.4229,3771,1400.8, 6.0926,35.2584,2,234.2,2,35.2607,2,234.3,2,7.734,2,11.23,2,1.21,2,17.25,2,0.00,2,-999,9,-999,9,-999,9,-999,-999
 35HT20180611,26,1,15,17,20180622,0822,44.07842,-17.4229,3771,1200.7, 7.9154,35.5414,2,209.9,2,35.5420,2,209.7,2,7.750,3,10.69,2,1.12,2,17.17,2,0.00,2,-999,9,-999,9,-999,9,-999,-999
 35HT20180611,26,1,16,18,20180622,0822,44.07842,-17.4229,3771,1001.9, 8.6990,35.4920,2,195.2,2,35.4928,2,196.0,2,7.742,2,10.19,2,1.08,2,17.65,2,0.01,2,-999,9,-999,9,-999,9,-999,-999
 35HT20180611,26,1,17,19,20180622,0822,44.07842,-17.4229,3771, 900.6, 9.7351,35.5959,2,186.8,2,35.5954,2,188.3,2,7.754,2,9.31,2,1.08,2,17.17,2,0.04,2,-999,9,-999,9,-999,9,-999,-999
 35HT20180611,26,1,18,20,20180622,0822,44.07842,-17.4229,3771, 802.7,10.3422,35.6192,2,189.5,2,35.6185,2,188.8,2,7.764,2,8.39,2,1.05,2,16.47,2,0.03,2,-999,9,-999,9,-999,9,-999,-999
 35HT20180611,26,1,19,21,20180622,0822,44.07842,-17.4229,3771, 699.3,10.0188,35.3688,2,202.8,2,35.3687,2,202.3,2,7.757,2,7.56,2,1.03,2,16.05,2,0.04,2,-999,9,-999,9,-999,9,-999,-999
 35HT20180611,26,1,20,22,20180622,0822,44.07842,-17.4229,3771, 600.9,10.6879,35.4242,2,215.3,2,35.4255,2,214.1,2,7.781,2,6.14,2,0.96,2,14.19,2,0.04,2,-999,9,-999,9,-999,9,-999,-999
 35HT20180611,26,1,21,23,20180622,0822,44.07842,-17.4229,3771, 501.5,11.3321,35.5040,2,225.1,2,35.5070,4,225.2,2,7.804,2,4.42,2,0.80,2,11.79,2,0.04,2,-999,9,-999,9,-999,9,-999,-999
 35HT20180611,26,1,22,24,20180622,0822,44.07842,-17.4229,3771, 401.3,11.7504,35.5319,2,230.6,2,35.5325,2,230.7,2,7.822,2,3.88,2,0.64,2,10.58,2,0.03,2,-999,9,-999,9,-999,9,-999,-999
 35HT20180611,26,1,23,25,20180622,0822,44.07842,-17.4229,3771, 301.0,12.4394,35.6317,2,244.2,2,35.6303,2,244.4,2,7.860,2,2.83,2,0.40,2, 7.79,2,0.02,2,-999,9,-999,9,-999,9,-999,-999
 35HT20180611,26,1,24,26,20180622,0822,44.07842,-17.4229,3771, 202.4,12.6470,35.6631,2,248.2,2,35.6625,2,248.1,2,7.868,2,2.50,2,0.21,2, 6.95,2,0.03,2,-999,9,-999,9,-999,9,-999,-999
 35HT20180611,26,1,25,27,20180622,0822,44.07842,-17.4229,3771, 151.4,12.7396,35.6707,2,246.3,2,35.6742,4,246.3,2,7.866,2,2.63,2,0.29,2, 7.15,2,0.06,2,-999,9,-999,9,-999,9,-999,-999
 35HT20180611,26,1,26,28,20180622,0822,44.07842,-17.4229,3771, 100.5,13.0677,35.6914,2,247.3,2,35.6916,2,246.1,2,7.875,2,2.16,2,0.27,2, 6.27,2,0.08,2,-999,9,-999,9,-999,9,-999,-999
 35HT20180611,26,1,27,29,20180622,0822,44.07842,-17.4229,3771,  55.6,13.4309,35.6884,2,251.7,2,35.6872,2,251.0,2,7.901,2,1.09,2,0.25,2, 3.84,2,1.59,2,-999,9,-999,9,-999,9,-999,-999
 35HT20180611,26,1,28,30,20180622,0822,44.07842,-17.4229,3771,   6.0,16.7537,35.7219,2,258.5,2,35.7220,2,257.8,2,7.983,2,0.45,2,0.12,2, 0.03,2,0.00,2,-999,9,-999,9,-999,9,-999,-999