BOTTLE,20240404CCHSIOADS
EXPOCODE,STNNBR,CASTNO,SAMPNO,BTLNBR,DATE,TIME,LATITUDE,LONGITUDE,DEPTH,CTDPRS,CTDTMP,CTDSAL,CTDSAL_FLAG_W,CTDOXY,CTDOXY_FLAG_W,SALNTY,SALNTY_FLAG_W,OXYGEN,OXYGEN_FLAG_W,PH_TOT,PH_TOT_FLAG_W,SILCAT,SILCAT_FLAG_W,PHSPHT,PHSPHT_FLAG_W,NITRAT,NITRAT_FLAG_W,NITRIT,NITRIT_FLAG_W,DELO18,DELO18_FLAG_W,DELD,DELD_FLAG_W,ALKALI,ALKALI_FLAG_W,I-129,I129ER
,,,,,,,,,METERS,DBAR,DEG C,PSS-78,,UMOL/KG,,PSS-78,,UMOL/KG,,,,UMOL/KG,,UMOL/KG,,UMOL/KG,,UMOL/KG,,/MILLE,,/MILLE,,UMOL/KG,,E7/KG,E7/KG
 35HT20180611,18,1, 1, 3,20180620,0922,41.68402,-14.28152,5339,5432.4, 2.5723,34.8939,2,243.9,2,34.8939,2,243.1,2,7.744,2,45.91,2,1.48,2,22.37,2,0.01,2,-999,9,-999,9,-999,9,-999,-999
 35HT20180611,18,1, 2, 4,20180620,0922,41.68402,-14.28152,5339,5000.9, 2.5205,34.8950,2,243.2,2,34.8949,2,243.3,2,7.744,2,45.6,2,1.48,2,22.47,2,0.01,2,-999,9,-999,9,-999,9,-999,-999
 35HT20180611,18,1, 3, 5,20180620,0922,41.68402,-14.28152,5339,4501.3, 2.4934,34.8988,2,243.2,2,34.8980,2,243.1,2,7.742,2,44.69,2,1.48,2,22.49,2,0.01,2,-999,9,-999,9,-999,9,-999,-999
 35HT20180611,18,1, 4, 6,20180620,0922,41.68402,-14.28152,5339,4002.0, 2.5346,34.9089,2,243.1,2,34.9088,2,243.3,2,7.746,2,42.21,2,1.47,2,21.85,2,0.01,2,-999,9,-999,9,-999,9,-999,-999
 35HT20180611,18,1, 5, 7,20180620,0922,41.68402,-14.28152,5339,3502.1, 2.6437,34.9237,2,244.7,2,34.9236,2,245.4,2,7.745,2,38.09,2,1.43,2,21.05,2,0.01,2,-999,9,-999,9,-999,9,-999,-999
 35HT20180611,18,1, 6, 8,20180620,0922,41.68402,-14.28152,5339,3251.7, 2.7473,34.9344,2,246.3,2,34.9235,4,247.1,2,7.747,2,34.85,2,1.38,2,20.56,2,0.00,2,-999,9,-999,9,-999,9,-999,-999
 35HT20180611,18,1, 7, 9,20180620,0922,41.68402,-14.28152,5339,3000.9, 2.8625,34.9449,2,248.6,2,34.9451,2,249.1,2,7.746,2,31.57,2,1.35,2,20.10,2,0.00,2,-999,9,-999,9,-999,9,-999,-999
 35HT20180611,18,1, 8,10,20180620,0922,41.68402,-14.28152,5339,2751.6, 3.0362,34.9586,2,250.7,2,   -999,9, -999,9,7.753,4,24.93,4,1.25,4,18.80,4,0.01,2,-999,9,-999,9,-999,9,-999,-999
 35HT20180611,18,1, 9,11,20180620,0922,41.68402,-14.28152,5339,2500.5, 3.2539,34.9717,2,254.2,2,34.9719,2,254.8,2,7.742,2,23.47,2,1.27,2,19.15,2,0.01,2,-999,9,-999,9,-999,9,-999,-999
 35HT20180611,18,1,10,12,20180620,0922,41.68402,-14.28152,5339,2251.1, 3.5051,34.9817,2,258.2,2,34.9820,2,258.6,2,7.740,2,18.68,2,1.22,2,18.36,2,0.01,2,-999,9,-999,9,-999,9,-999,-999
 35HT20180611,18,1,11,13,20180620,0922,41.68402,-14.28152,5339,2000.7, 3.8196,34.9946,2,260.2,2,34.9918,4,260.6,2,7.737,2,15.41,2,1.18,2,18.07,2,0.01,2,-999,9,-999,9,-999,9,-999,-999
 35HT20180611,18,1,12,14,20180620,0922,41.68402,-14.28152,5339,1801.8, 4.2370,35.0307,2,257.1,2,35.0319,2,257.1,2,7.731,2,13.34,2,1.14,2,17.95,2,0.01,2,-999,9,-999,9,-999,9,-999,-999
 35HT20180611,18,1,13,15,20180620,0922,41.68402,-14.28152,5339,1601.8, 4.8572,35.1095,2,248.8,2,35.1094,2, -999,9,7.729,2,12.24,2,1.16,2,17.55,2,0.01,2,-999,9,-999,9,-999,9,-999,-999
 35HT20180611,18,1,14,16,20180620,0922,41.68402,-14.28152,5339,1401.6, 6.0607,35.2873,2,232.3,2,35.2856,2,233.3,2,7.742,2,11.48,2,1.14,2,17.53,2,0.01,2,-999,9,-999,9,-999,9,-999,-999
 35HT20180611,18,1,15,17,20180620,0922,41.68402,-14.28152,5339,1200.4, 8.6037,35.7355,2,203.8,2,35.7369,2,203.8,2,7.768,2,10.64,2,1.07,2,16.98,2,0.01,2,-999,9,-999,9,-999,9,-999,-999
 35HT20180611,18,1,16,18,20180620,0922,41.68402,-14.28152,5339,1001.3, 9.8472,35.8450,2,187.9,2,35.8456,2,188.0,2,7.774,2,9.81,2,1.07,2,16.87,2,0.01,2,-999,9,-999,9,-999,9,-999,-999
 35HT20180611,18,1,17,19,20180620,0922,41.68402,-14.28152,5339, 900.8, 9.8015,35.7380,2,186.8,2,35.7455,4,186.3,2,7.766,2,9.62,2,1.08,2,17.13,2,0.01,2,-999,9,-999,9,-999,9,-999,-999
 35HT20180611,18,1,18,20,20180620,0922,41.68402,-14.28152,5339, 800.4,10.0162,35.6614,2,184.9,2,35.6618,2,184.5,2,7.764,2,9.26,2,1.09,2,17.30,2,0.01,2,-999,9,-999,9,-999,9,-999,-999
 35HT20180611,18,1,20,22,20180620,0922,41.68402,-14.28152,5339, 700.2,10.5996,35.6638,2,187.6,2,35.6642,2,187.0,2,7.771,2,8.05,2,1.04,2,16.32,2,0.01,2,-999,9,-999,9,-999,9,-999,-999
 35HT20180611,18,1,21,23,20180620,0922,41.68402,-14.28152,5339, 599.4,10.7628,35.5547,2,201.8,2,35.5544,2,200.8,2,7.778,2,6.68,2,0.96,2,15.11,2,0.02,2,-999,9,-999,9,-999,9,-999,-999
 35HT20180611,18,1,22,24,20180620,0922,41.68402,-14.28152,5339, 500.8,11.0056,35.5200,2,214.3,2,35.5201,2,214.2,2,7.790,2,5.43,2,0.86,2,13.78,2,0.01,2,-999,9,-999,9,-999,9,-999,-999
 35HT20180611,18,1,23,25,20180620,0922,41.68402,-14.28152,5339, 398.9,11.4870,35.5568,2,220.7,2,35.5571,2,219.9,2,7.805,2,4.30,2,0.77,2,12.06,2,0.01,2,-999,9,-999,9,-999,9,-999,-999
 35HT20180611,18,1,24,26,20180620,0922,41.68402,-14.28152,5339, 301.1,11.8105,35.5773,2,224.8,2,35.5772,2,224.7,2,7.814,2,3.49,2,0.68,2,10.60,2,0.02,2,-999,9,-999,9,-999,9,-999,-999
 35HT20180611,18,1,25,27,20180620,0922,41.68402,-14.28152,5339, 200.7,12.5800,35.6665,2,244.1,2,35.6673,2,244.6,2,7.865,2,1.53,2,0.40,2, 5.95,2,0.01,2,-999,9,-999,9,-999,9,-999,-999
 35HT20180611,18,1,26,28,20180620,0922,41.68402,-14.28152,5339, 100.7,13.1993,35.7078,2,244.5,2,35.7093,2,244.1,2,7.880,2,0.89,2,0.34,2, 4.65,2,0.02,2,-999,9,-999,9,-999,9,-999,-999
 35HT20180611,18,1,27,29,20180620,0922,41.68402,-14.28152,5339,  50.3,14.8482,35.7585,2,255.8,2,35.7589,2,254.9,2,7.948,2,0.34,2,0.11,2, 0.06,2,0.02,2,-999,9,-999,9,-999,9,-999,-999
 35HT20180611,18,1,28,30,20180620,0922,41.68402,-14.28152,5339,   5.0,16.7027,35.7759,2,248.7,2,35.7758,2,248.9,2,7.970,2,0.33,2,0.09,2, 0.06,2,0.01,2,-999,9,-999,9,-999,9,-999,-999
 35HT20180611,19,1, 1, 3,20180620,1539,41.98298,-14.67726,5330,5424.2, 2.5713,34.8940,2,243.7,2,34.8921,2,243.1,2,7.747,2,45.89,2,1.46,2,22.58,2,0.00,2,-999,9,-999,9,2356,2,-999,-999
 35HT20180611,19,1, 2, 4,20180620,1539,41.98298,-14.67726,5330,4999.7, 2.5199,34.8950,2,243.1,2,34.8945,2,243.3,2,7.745,2,45.63,2,1.47,2,22.44,2,0.01,2,-999,9,-999,9,2355,2,-999,-999
 35HT20180611,19,1, 3, 5,20180620,1539,41.98298,-14.67726,5330,4500.7, 2.4866,34.8983,2,243.1,2,34.8989,2,243.0,2,7.747,2,44.96,2,1.46,2,22.30,2,0.00,2,-999,9,-999,9,2354,2,-999,-999
 35HT20180611,19,1, 4, 6,20180620,1539,41.98298,-14.67726,5330,3999.2, 2.5233,34.9078,2,242.8,2,34.9081,2,243.4,2,7.746,2,42.79,2,1.47,2,21.98,2,0.00,2,-999,9,-999,9,2351,2,-999,-999
 35HT20180611,19,1, 5, 7,20180620,1539,41.98298,-14.67726,5330,3501.5, 2.6182,34.9216,2,244.0,2,34.9217,2,244.5,2,7.746,2,39.26,2,1.41,2,21.77,2,0.01,2,-999,9,-999,9,2347,2,-999,-999
 35HT20180611,19,1, 6, 8,20180620,1539,41.98298,-14.67726,5330,3250.1, 2.7171,34.9323,2,245.6,2,34.9314,2,246.5,2,7.748,2,36.14,2,1.39,2,21.21,2,0.01,2,-999,9,-999,9,2342,2,-999,-999
 35HT20180611,19,1, 7, 9,20180620,1539,41.98298,-14.67726,5330,3000.0, 2.8498,34.9445,2,247.4,2,34.9454,2,248.8,2,7.746,2,32.52,2,1.35,2,20.57,2,0.01,2,-999,9,-999,9,2339,2,-999,-999
 35HT20180611,19,1, 8,10,20180620,1539,41.98298,-14.67726,5330,2750.1, 3.0264,34.9582,2,250.1,2,34.9585,2,251.5,2,7.746,2,28.67,2,1.32,2,20.27,2,0.00,2,-999,9,-999,9,2333,2,-999,-999
 35HT20180611,19,1, 9,11,20180620,1539,41.98298,-14.67726,5330,2501.0, 3.2457,34.9719,2,253.3,2,34.9724,2,259.6,4,7.745,2,24.15,2,1.26,2,19.41,2,0.01,2,-999,9,-999,9,2328,2,-999,-999
 35HT20180611,19,1,10,12,20180620,1539,41.98298,-14.67726,5330,2249.9, 3.5263,34.9821,2,257.4,2,34.9826,2,258.4,2,7.741,2,19.3,2,1.20,2,18.64,2,0.01,2,-999,9,-999,9,2319,2,-999,-999
 35HT20180611,19,1,11,13,20180620,1539,41.98298,-14.67726,5330,2000.2, 3.8356,34.9957,2,259.3,2,34.9970,2,260.4,2,7.737,2,15.58,2,1.16,2,18.07,2,0.00,2,-999,9,-999,9,2315,2,-999,-999
 35HT20180611,19,1,12,14,20180620,1539,41.98298,-14.67726,5330,1800.8, 4.3800,35.0542,2,254.0,2,35.0557,2,255.2,2,7.735,2,13.64,2,1.16,2,18.04,2,0.01,2,-999,9,-999,9,2317,2,-999,-999
 35HT20180611,19,1,13,15,20180620,1539,41.98298,-14.67726,5330,1600.6, 5.3247,35.1964,2,242.6,2,35.1982,2,243.5,2,7.738,2,12.82,2,1.14,2,17.81,2,0.01,2,-999,9,-999,9,2327,2,-999,-999
 35HT20180611,19,1,14,16,20180620,1539,41.98298,-14.67726,5330,1401.1, 7.0010,35.4667,2,222.5,2,35.4747,4,222.6,2,7.752,2,11.5,2,1.09,2,17.58,2,0.00,2,-999,9,-999,9,2346,2,-999,-999
 35HT20180611,19,1,15,17,20180620,1539,41.98298,-14.67726,5330,1200.2, 9.1833,35.8296,2,197.8,2,35.8289,2,197.2,2,7.773,2,10.34,2,1.06,2,17.06,2,0.01,2,-999,9,-999,9,2369,2,-999,-999
 35HT20180611,19,1,16,18,20180620,1539,41.98298,-14.67726,5330, 999.8,10.4008,35.9785,2,186.2,2,35.9793,2,185.4,2,7.785,2,9.35,2,1.00,2,16.34,2,0.02,2,-999,9,-999,9,2378,2,-999,-999
 35HT20180611,19,1,17,19,20180620,1539,41.98298,-14.67726,5330, 900.2,10.9017,36.0176,2,182.0,2,36.0178,2,181.6,2,7.787,2,8.88,2,1.00,2,16.06,2,0.01,2,-999,9,-999,9,-999,9,-999,-999
 35HT20180611,19,1,18,20,20180620,1539,41.98298,-14.67726,5330, 801.5,10.9928,35.9538,2,181.4,2,35.9542,2,181.8,2,7.787,2,8.45,2,0.98,2,16.11,2,0.01,2,-999,9,-999,9,2373,2,-999,-999
 35HT20180611,19,1,19,21,20180620,1539,41.98298,-14.67726,5330, 700.7,11.1091,35.8376,2,185.5,2,35.8391,2,185.3,2,7.782,2,7.88,2,0.97,2,15.86,2,0.01,2,-999,9,-999,9,-999,9,-999,-999
 35HT20180611,19,1,20,22,20180620,1539,41.98298,-14.67726,5330, 601.9,11.0571,35.6817,2,193.3,2,35.6834,2,193.7,2,7.782,2,6.98,2,0.95,2,15.45,2,0.01,2,-999,9,-999,9,2349,2,-999,-999
 35HT20180611,19,1,21,23,20180620,1539,41.98298,-14.67726,5330, 499.9,11.1464,35.5802,2,211.4,2,35.5802,2,211.7,2,7.789,2,5.40,2,0.84,2,13.58,2,0.01,2,-999,9,-999,9,2341,2,-999,-999
 35HT20180611,19,1,22,24,20180620,1539,41.98298,-14.67726,5330, 401.2,11.4486,35.5638,2,218.6,2,35.5643,2,219.0,2,7.800,2,4.41,2,0.77,2,12.38,2,0.01,2,-999,9,-999,9,2336,2,-999,-999
 35HT20180611,19,1,23,25,20180620,1539,41.98298,-14.67726,5330, 301.4,11.9441,35.5923,2,224.2,2,35.5910,2,223.4,2,7.819,2,3.50,2,0.64,2,10.66,2,0.01,2,-999,9,-999,9,2338,2,-999,-999
 35HT20180611,19,1,24,26,20180620,1539,41.98298,-14.67726,5330, 202.4,12.5641,35.6615,2,242.8,2,35.6603,2,242.3,2,7.858,2,1.94,2,0.44,2, 6.63,2,0.01,2,-999,9,-999,9,2343,2,-999,-999
 35HT20180611,19,1,25,27,20180620,1539,41.98298,-14.67726,5330, 150.9,12.7657,35.6845,2,246.4,2,35.6847,2,246.3,2,7.871,2,1.42,2,0.38,2, 5.68,2,0.02,2,-999,9,-999,9,-999,9,-999,-999
 35HT20180611,19,1,26,28,20180620,1539,41.98298,-14.67726,5330, 100.5,13.0692,35.7093,2,244.8,2,35.7095,2,244.4,2,7.875,2,1.24,2,0.36,2, 5.37,2,0.01,2,-999,9,-999,9,2345,2,-999,-999
 35HT20180611,19,1,27,29,20180620,1539,41.98298,-14.67726,5330,  56.9,14.7803,35.7816,2,253.9,2,35.7829,2,255.3,2,7.942,2,0.39,2,0.09,2, 0.11,2,0.05,2,-999,9,-999,9,-999,9,-999,-999
 35HT20180611,19,1,28,30,20180620,1539,41.98298,-14.67726,5330,   6.3,16.9152,35.8241,2,248.8,2,35.8245,2,249.0,2,7.957,2,0.01,2,0.06,2, 0.02,2,0.01,2,0.77,2,4.87,2,2358,2,-999,-999
 35HT20180611,20,1, 1, 3,20180620,2135,42.28370,-15.06634,5307,5402.3, 2.5660,34.8939,2,243.7,2,34.8941,2,243.0,2,7.747,2,45.69,2,1.44,2,22.00,2,0.00,2,-999,9,-999,9,-999,9,-999,-999
 35HT20180611,20,1, 2, 4,20180620,2135,42.28370,-15.06634,5307,5001.1, 2.5167,34.8946,2,243.0,2,34.8943,2,242.8,2,7.746,2,45.59,2,1.46,2,22.20,2,0.00,2,-999,9,-999,9,-999,9,-999,-999
 35HT20180611,20,1, 3, 5,20180620,2135,42.28370,-15.06634,5307,4501.5, 2.4865,34.8983,2,243.1,2,34.8970,2,243.1,2,7.744,2,44.78,2,1.47,2,22.20,2,0.00,2,-999,9,-999,9,-999,9,-999,-999
 35HT20180611,20,1, 4, 6,20180620,2135,42.28370,-15.06634,5307,4001.3, 2.5232,34.9077,2,242.9,2,34.9078,2,243.3,2,7.745,2,42.68,2,1.47,2,22.10,2,0.00,2,-999,9,-999,9,-999,9,-999,-999
 35HT20180611,20,1, 5, 7,20180620,2135,42.28370,-15.06634,5307,3502.7, 2.6278,34.9226,2,244.2,2,34.9233,2,244.6,2,7.746,2,38.68,2,1.42,2,21.60,2,0.00,2,-999,9,-999,9,-999,9,-999,-999
 35HT20180611,20,1, 6, 8,20180620,2135,42.28370,-15.06634,5307,3250.8, 2.7220,34.9321,2,246.0,2,34.9326,2,246.6,2,7.742,2,35.51,2,1.38,2,21.10,2,0.00,2,-999,9,-999,9,-999,9,-999,-999
 35HT20180611,20,1, 7, 9,20180620,2135,42.28370,-15.06634,5307,3002.1, 2.8446,34.9438,2,248.0,2,34.9447,2,248.1,2,7.746,2,32.36,2,1.36,2,20.40,2,0.00,2,0.26,2,1.23,2,-999,9,-999,-999
 35HT20180611,20,1, 8,10,20180620,2135,42.28370,-15.06634,5307,2752.3, 3.0357,34.9562,2,251.2,2,34.9564,2,251.7,2,7.744,2,27.75,2,1.29,2,19.60,2,0.01,2,-999,9,-999,9,-999,9,-999,-999
 35HT20180611,20,1, 9,11,20180620,2135,42.28370,-15.06634,5307,2502.1, 3.2731,34.9719,2,254.0,2,34.9724,2,254.9,2,7.744,2,23.52,2,1.24,2,19.00,2,0.00,2,-999,9,-999,9,-999,9,-999,-999
 35HT20180611,20,1,10,12,20180620,2135,42.28370,-15.06634,5307,2250.9, 3.5899,34.9927,2,255.9,2,34.9941,2,255.9,2,7.740,2,19.65,2,1.22,2,18.80,2,0.00,2,-999,9,-999,9,-999,9,-999,-999
 35HT20180611,20,1,11,13,20180620,2135,42.28370,-15.06634,5307,1999.7, 3.9691,35.0119,2,258.8,2,35.0136,2,257.9,2,7.736,2,15.31,2,1.17,2,18.00,2,0.01,2,-999,9,-999,9,-999,9,-999,-999
 35HT20180611,20,1,12,14,20180620,2135,42.28370,-15.06634,5307,1801.9, 4.4967,35.0712,2,253.7,2,35.0724,2,253.8,2,7.735,2,13.58,2,1.16,2,18.00,2,0.00,2,-999,9,-999,9,-999,9,-999,-999
 35HT20180611,20,1,13,15,20180620,2135,42.28370,-15.06634,5307,1601.6, 5.4532,35.2086,2,240.7,2,35.2083,2,238.8,2,7.736,2,12.33,2,1.13,2,17.70,2,0.00,2,-999,9,-999,9,-999,9,-999,-999
 35HT20180611,20,1,14,16,20180620,2135,42.28370,-15.06634,5307,1400.4, 7.0096,35.4574,2,221.7,2,35.4575,2,221.9,2,7.751,2,11.52,2,1.10,2,17.40,2,0.00,2,-999,9,-999,9,-999,9,-999,-999
 35HT20180611,20,1,15,17,20180620,2135,42.28370,-15.06634,5307,1400.4, 7.0092,35.4574,2,221.7,2,35.4589,2,221.8,2,7.750,2,11.46,2,1.14,2,17.40,2,0.00,2,-999,9,-999,9,-999,9,-999,-999
 35HT20180611,20,1,16,18,20180620,2135,42.28370,-15.06634,5307,1051.5,10.4494,35.9877,2,183.7,2,35.9884,2,184.2,2,7.784,2,9.41,2,1.01,2,16.50,2,0.00,2,-999,9,-999,9,-999,9,-999,-999
 35HT20180611,20,1,17,19,20180620,2135,42.28370,-15.06634,5307, 951.3,10.7601,35.9757,2,182.2,2,35.9715,4,182.1,2,7.785,2,8.28,2,0.97,2,15.80,2,0.00,2,-999,9,-999,9,-999,9,-999,-999
 35HT20180611,20,1,18,20,20180620,2135,42.28370,-15.06634,5307, 851.0,11.1946,35.9730,2,180.8,2,35.9702,4,180.7,2,7.789,2,8.18,2,0.95,2,15.80,2,0.00,2,-999,9,-999,9,-999,9,-999,-999
 35HT20180611,20,1,19,21,20180620,2135,42.28370,-15.06634,5307, 750.3,11.0746,35.8213,2,185.0,2,35.8197,2,184.7,2,7.782,2,7.81,2,0.96,2,16.00,2,0.00,2,-999,9,-999,9,-999,9,-999,-999
 35HT20180611,20,1,20,22,20180620,2135,42.28370,-15.06634,5307, 601.1,10.9248,35.5748,2,203.8,2,35.5762,2,204.9,2,7.781,2,6.12,2,0.88,2,14.60,2,0.00,2,-999,9,-999,9,-999,9,-999,-999
 35HT20180611,20,1,21,23,20180620,2135,42.28370,-15.06634,5307, 500.4,11.2073,35.5540,2,217.2,2,35.5533,2,217.7,2,7.795,2,4.83,2,0.78,2,12.90,2,0.00,2,-999,9,-999,9,-999,9,-999,-999
 35HT20180611,20,1,22,24,20180620,2135,42.28370,-15.06634,5307, 400.3,11.4674,35.5583,2,219.8,2,35.5576,2,220.0,2,7.800,2,4.15,2,0.73,2,12.20,2,0.00,2,-999,9,-999,9,-999,9,-999,-999
 35HT20180611,20,1,23,25,20180620,2135,42.28370,-15.06634,5307, 300.7,11.8288,35.5750,2,222.3,2,35.5746,2,222.2,2,7.815,2,3.60,2,0.67,2,11.20,2,0.00,2,-999,9,-999,9,-999,9,-999,-999
 35HT20180611,20,1,24,26,20180620,2135,42.28370,-15.06634,5307, 201.0,12.5199,35.6524,2,237.1,2,35.6437,4,236.5,2,7.852,2,2.19,2,0.48,2, 7.55,2,0.00,2,-999,9,-999,9,-999,9,-999,-999
 35HT20180611,20,1,25,27,20180620,2135,42.28370,-15.06634,5307, 151.2,12.8128,35.6898,2,243.3,2,35.6907,2,243.3,2,7.869,2,1.50,2,0.36,2, 6.04,2,0.00,2,0.68,2,4.32,2,-999,9,-999,-999
 35HT20180611,20,1,26,28,20180620,2135,42.28370,-15.06634,5307,  99.7,13.1286,35.7252,2,242.2,2,35.7259,2,241.2,2,7.876,2,1.39,2,0.34,2, 5.51,2,0.01,2,-999,9,-999,9,-999,9,-999,-999
 35HT20180611,20,1,27,29,20180620,2135,42.28370,-15.06634,5307,  57.4,14.1310,35.7771,2,249.0,2,35.7794,4,250.5,2,7.917,2,0.73,2,0.17,2, 1.62,2,0.30,2,-999,9,-999,9,-999,9,-999,-999
 35HT20180611,20,1,28,30,20180620,2135,42.28370,-15.06634,5307,   8.2,17.2269,35.8222,2,247.1,2,35.8225,2,247.0,2,7.960,2,0.02,2,0.04,2, 0.07,2,0.00,2,0.733,2,4.48,2,-999,9,-999,-999