BOTTLE,20240404CCHSIOADS
EXPOCODE,STNNBR,CASTNO,SAMPNO,BTLNBR,DATE,TIME,LATITUDE,LONGITUDE,DEPTH,CTDPRS,CTDTMP,CTDSAL,CTDSAL_FLAG_W,CTDOXY,CTDOXY_FLAG_W,SALNTY,SALNTY_FLAG_W,OXYGEN,OXYGEN_FLAG_W,PH_TOT,PH_TOT_FLAG_W,SILCAT,SILCAT_FLAG_W,PHSPHT,PHSPHT_FLAG_W,NITRAT,NITRAT_FLAG_W,NITRIT,NITRIT_FLAG_W,DELO18,DELO18_FLAG_W,DELD,DELD_FLAG_W,ALKALI,ALKALI_FLAG_W,I-129,I129ER
,,,,,,,,,METERS,DBAR,DEG C,PSS-78,,UMOL/KG,,PSS-78,,UMOL/KG,,,,UMOL/KG,,UMOL/KG,,UMOL/KG,,UMOL/KG,,/MILLE,,/MILLE,,UMOL/KG,,E7/KG,E7/KG
 35HT20180611,65,1, 1, 3,20180701,0116,58.20710,-29.7234,2220,2241.3, 2.8963,34.9702,2,274.9,2,34.9689,2,275.6,2,7.712,2,12.22,2,1.02,2,16.19,2,0.00,2,-999,9,-999,9,2309,2,-999,-999
 35HT20180611,65,1, 3, 5,20180701,0116,58.20710,-29.7234,2220,2200.9, 2.9028,34.9703,2,274.8,2,34.9699,2,275.6,2,7.712,2,12.16,2,1.02,2,16.18,2,0.00,2,-999,9,-999,9,2308,2,-999,-999
 35HT20180611,65,1, 4, 6,20180701,0116,58.20710,-29.7234,2220,2099.8, 2.9590,34.9697,2,274.7,2,34.9700,2,277.2,4,7.714,2,11.94,2,1.01,2,16.27,2,0.00,2,-999,9,-999,9,2308,2,-999,-999
 35HT20180611,65,1, 5, 7,20180701,0116,58.20710,-29.7234,2220,2001.0, 3.0884,34.9684,2,273.9,2,34.9676,2,273.8,2,7.717,2,11.51,2,0.98,2,16.36,2,0.00,2,-999,9,-999,9,2307,2,-999,-999
 35HT20180611,65,1, 7, 9,20180701,0116,58.20710,-29.7234,2220,1801.5, 3.3647,34.9559,2,273.3,2,34.9559,2,273.6,2,7.723,2,11.58,2,1.05,2,16.72,2,0.00,2,-999,9,-999,9,2307,2,-999,-999
 35HT20180611,65,1, 9,11,20180701,0116,58.20710,-29.7234,2220,1600.5, 3.6538,34.9499,2,271.7,2,34.9498,2,273.0,2,7.719,2,10.78,2,1.03,2,16.93,2,0.00,2,-999,9,-999,9,2305,2,-999,-999
 35HT20180611,65,1,11,13,20180701,0116,58.20710,-29.7234,2220,1401.3, 3.7058,34.9181,2,274.6,2,34.9181,2,274.9,2,7.719,2,10.58,2,1.08,2,17.42,2,0.00,2,-999,9,-999,9,2304,2,-999,-999
 35HT20180611,65,1,12,14,20180701,0116,58.20710,-29.7234,2220,1401.2, 3.7061,34.9181,2,274.6,2,34.9178,2,274.8,2,7.718,2,10.44,2,1.07,2,17.41,2,0.00,2,-999,9,-999,9,-999,9,-999,-999
 35HT20180611,65,1,13,15,20180701,0116,58.20710,-29.7234,2220,1201.3, 3.8653,34.9105,2,275.5,2,34.9100,2,275.5,2,7.712,2,9.66,2,1.07,2,17.23,2,0.00,2,-999,9,-999,9,2303,2,-999,-999
 35HT20180611,65,1,14,16,20180701,0116,58.20710,-29.7234,2220,1002.3, 4.1302,34.9212,2,270.4,2,34.9189,4,270.6,2,7.708,2,9.47,2,1.07,2,17.59,2,0.00,2,-999,9,-999,9,2303,2,-999,-999
 35HT20180611,65,1,15,17,20180701,0116,58.20710,-29.7234,2220, 902.2, 4.3303,34.9359,2,266.4,2,34.9360,2,266.5,2,7.705,2,9.59,2,1.07,2,17.96,2,0.00,2,-999,9,-999,9,-999,9,-999,-999
 35HT20180611,65,1,16,18,20180701,0116,58.20710,-29.7234,2220, 800.4, 4.5210,34.9468,2,260.3,2,34.9467,2,260.5,2,7.701,2,9.61,2,1.11,2,18.31,2,0.00,2,-999,9,-999,9,2305,2,-999,-999
 35HT20180611,65,1,17,19,20180701,0116,58.20710,-29.7234,2220, 701.6, 4.8683,34.9638,2,252.4,2,34.9635,2,252.0,2,7.699,2,9.77,2,1.18,2,18.63,2,0.00,2,-999,9,-999,9,-999,9,-999,-999
 35HT20180611,65,1,18,20,20180701,0116,58.20710,-29.7234,2220, 601.2, 5.3065,34.9836,2,243.4,2,34.9831,2,243.0,2,7.699,2,9.70,2,1.17,2,18.86,2,0.00,2,-999,9,-999,9,2308,2,-999,-999
 35HT20180611,65,1,20,22,20180701,0116,58.20710,-29.7234,2220, 500.9, 5.8499,34.9957,2,235.6,2,34.9955,2,235.6,2,7.702,2,9.59,2,1.17,2,18.64,2,0.00,2,-999,9,-999,9,2310,2,-999,-999
 35HT20180611,65,1,21,23,20180701,0116,58.20710,-29.7234,2220, 401.2, 6.4075,34.9920,2,250.7,2,34.9905,2,251.7,2,7.721,2,8.01,2,1.09,2,17.28,2,0.00,2,-999,9,-999,9,2309,2,-999,-999
 35HT20180611,65,1,22,24,20180701,0116,58.20710,-29.7234,2220, 301.4, 6.9657,35.0221,2,275.9,2,35.0233,2,276.1,2,7.755,2,6.17,2,1.00,2,15.00,2,0.00,2,-999,9,-999,9,2309,2,-999,-999
 35HT20180611,65,1,23,25,20180701,0116,58.20710,-29.7234,2220, 201.1, 6.9635,34.9696,2,279.7,2,34.9690,2, -999,9,7.757,2,6.00,2,1.01,2,14.58,2,0.06,2,-999,9,-999,9,2307,2,-999,-999
 35HT20180611,65,1,25,27,20180701,0116,58.20710,-29.7234,2220, 151.3, 7.1543,34.9653,2,282.4,2,34.9643,2,282.7,2,7.765,2,5.58,2,1.00,2,14.23,2,0.19,2,-999,9,-999,9,-999,9,-999,-999
 35HT20180611,65,1,26,28,20180701,0116,58.20710,-29.7234,2220, 100.8, 7.2548,34.9366,2,282.6,2,34.9363,2, -999,9,7.767,2,5.62,2,1.00,2,14.20,2,0.34,2,-999,9,-999,9,2305,2,-999,-999
 35HT20180611,65,1,27,29,20180701,0116,58.20710,-29.7234,2220,  55.3, 7.9259,34.9472,2,287.5,2,34.9459,2,288.2,2,7.798,2,4.38,2,-999,9,11.65,2,0.26,2,-999,9,-999,9,-999,9,-999,-999
 35HT20180611,65,1,28,30,20180701,0116,58.20710,-29.7234,2220,   6.5, 8.8929,34.9247,2,296.5,2,34.9244,2,296.4,2,7.847,2,3.12,2,-999,9, 9.09,2,0.12,2,0.23,2,1.12,2,2310,2,-999,-999
 35HT20180611,66,1, 1, 3,20180701,0531,58.41034,-30.10254,2177,2197.9, 3.1200,34.9689,2,274.7,2,34.9679,2,275.9,2,7.715,2,11.65,2,1.04,2,16.11,2,0.00,2,-999,9,-999,9,-999,9,-999,-999
 35HT20180611,66,1, 2, 4,20180701,0531,58.41034,-30.10254,2177,2197.5, 3.1187,34.9690,2,274.7,2,   -999,9, -999,9, -999,9,-999,9,-999,9, -999,9,-999,9,-999,9,-999,9,-999,9,-999,-999
 35HT20180611,66,1, 3, 5,20180701,0531,58.41034,-30.10254,2177,2101.3, 3.1467,34.9687,2,274.5,2,34.9669,2,276.0,2,7.714,2,11.45,2,1.01,2,16.21,2,0.01,2,-999,9,-999,9,-999,9,-999,-999
 35HT20180611,66,1, 4, 6,20180701,0531,58.41034,-30.10254,2177,2001.9, 3.1712,34.9682,2,274.4,2,34.9668,2,274.8,2,7.716,2,11.35,2,1.07,2,16.05,2,0.01,2,-999,9,-999,9,-999,9,-999,-999
 35HT20180611,66,1, 5, 7,20180701,0531,58.41034,-30.10254,2177,2001.8, 3.1710,34.9682,2,274.2,2,   -999,9, -999,9, -999,9,-999,9,-999,9, -999,9,-999,9,-999,9,-999,9,-999,9,-999,-999
 35HT20180611,66,1, 6, 8,20180701,0531,58.41034,-30.10254,2177,1801.5, 3.2422,34.9673,2,274.3,2,34.9663,2,274.2,2,7.716,2,11.29,2,1.05,2,16.07,2,0.01,2,-999,9,-999,9,-999,9,-999,-999
 35HT20180611,66,1, 7, 9,20180701,0531,58.41034,-30.10254,2177,1600.7, 3.4190,34.9641,2,273.0,2,34.9631,2,273.1,2,7.717,2,10.85,2,1.06,2,16.10,2,0.00,2,-999,9,-999,9,-999,9,-999,-999
 35HT20180611,66,1, 9,11,20180701,0531,58.41034,-30.10254,2177,1400.8, 3.6753,34.9512,2,271.2,2,34.9499,2,271.3,2,7.718,2,11.06,2,1.07,2,16.72,2,0.01,2,-999,9,-999,9,-999,9,-999,-999
 35HT20180611,66,1,10,12,20180701,0531,58.41034,-30.10254,2177,1202.0, 3.9824,34.9477,2,269.7,2,34.9462,2,269.7,2,7.714,2,10.55,2,1.09,2,16.99,2,0.01,2,-999,9,-999,9,-999,9,-999,-999
 35HT20180611,66,1,12,14,20180701,0531,58.41034,-30.10254,2177,1000.3, 4.2922,34.9499,2,266.3,2,34.9478,4,266.2,2,7.713,2,10.29,2,1.15,2,17.07,2,0.00,2,-999,9,-999,9,-999,9,-999,-999
 35HT20180611,66,1,13,15,20180701,0531,58.41034,-30.10254,2177,1000.7, 4.2899,34.9495,2,266.3,2,34.9480,2,266.5,2,7.709,2,10.23,2,1.12,2,17.01,2,0.00,2,-999,9,-999,9,-999,9,-999,-999
 35HT20180611,66,1,14,16,20180701,0531,58.41034,-30.10254,2177, 900.1, 4.5100,34.9638,2,262.4,2,34.9618,4,261.9,2,7.707,2,10.12,2,1.11,2,17.03,2,0.00,2,-999,9,-999,9,-999,9,-999,-999
 35HT20180611,66,1,15,17,20180701,0531,58.41034,-30.10254,2177, 800.3, 4.8778,34.9858,2,255.2,2,34.9846,2,254.9,2,7.708,2,10.27,2,1.10,2,17.11,2,0.01,2,-999,9,-999,9,-999,9,-999,-999
 35HT20180611,66,1,16,18,20180701,0531,58.41034,-30.10254,2177, 700.6, 5.3608,35.0086,2,247.9,2,35.0067,2,247.6,2,7.706,2,10.57,2,1.12,2,17.72,2,0.01,2,-999,9,-999,9,-999,9,-999,-999
 35HT20180611,66,1,17,19,20180701,0531,58.41034,-30.10254,2177, 604.6, 5.9032,35.0346,2,241.2,2,35.0330,2,240.2,2,7.712,2,10.24,2,1.10,2,17.56,2,0.02,2,-999,9,-999,9,-999,9,-999,-999
 35HT20180611,66,1,20,22,20180701,0531,58.41034,-30.10254,2177, 517.7, 6.2329,35.0026,2,239.5,2,35.0006,4,239.2,2,7.711,2,9.90,2,1.11,2,17.53,2,0.01,2,-999,9,-999,9,-999,9,-999,-999
 35HT20180611,66,1,21,23,20180701,0531,58.41034,-30.10254,2177, 400.9, 6.8010,35.0283,2,263.8,2,35.0268,2,264.1,2,7.745,2,7.91,2,1.01,2,15.48,2,0.01,2,-999,9,-999,9,-999,9,-999,-999
 35HT20180611,66,1,22,24,20180701,0531,58.41034,-30.10254,2177, 301.0, 7.0037,35.0257,2,275.2,2,35.0241,2,274.8,2,7.755,2,7.19,2,0.92,2,14.56,2,0.01,2,-999,9,-999,9,-999,9,-999,-999
 35HT20180611,66,1,23,25,20180701,0531,58.41034,-30.10254,2177, 201.1, 7.0604,34.9870,2,279.3,2,34.9850,4,278.9,2,7.760,2,6.74,2,0.84,2,14.04,2,0.20,2,-999,9,-999,9,-999,9,-999,-999
 35HT20180611,66,1,24,26,20180701,0531,58.41034,-30.10254,2177, 150.8, 7.0821,34.9572,2,279.8,2,34.9560,2,279.4,2,7.761,2,6.63,2,0.85,2,13.91,2,0.20,2,-999,9,-999,9,-999,9,-999,-999
 35HT20180611,66,1,25,27,20180701,0531,58.41034,-30.10254,2177, 101.1, 7.3421,34.9519,2,280.4,2,34.9499,4,279.8,2,7.770,2,6.23,2,0.81,2,13.51,2,0.24,2,-999,9,-999,9,-999,9,-999,-999
 35HT20180611,66,1,26,28,20180701,0531,58.41034,-30.10254,2177, 101.1, 7.3494,34.9525,2,280.4,2,   -999,9,280.0,2, -999,9,-999,9,-999,9, -999,9,-999,9,-999,9,-999,9,-999,9,-999,-999
 35HT20180611,66,1,27,29,20180701,0531,58.41034,-30.10254,2177,  54.6, 7.8219,34.9708,2,285.2,2,34.9691,2,285.8,2,7.790,2,5.01,2,0.72,2,11.59,2,0.34,2,-999,9,-999,9,-999,9,-999,-999
 35HT20180611,66,1,28,30,20180701,0531,58.41034,-30.10254,2177,   4.7, 8.8316,34.9323,2,295.2,2,34.9311,2,295.3,2,7.848,2,3.33,2,0.55,2, 8.63,2,0.12,2,0.284,2,1.33,2,-999,9,-999,-999
 35HT20180611,67,1, 1, 3,20180701,0915,58.54974,-30.36100,1585,1591.9, 3.5566,34.9617,2,272.2,2,34.9612,2,272.8,2,7.717,2,10.8,2,1.11,2,16.44,2,0.00,2,-999,9,-999,9,2307,2,-999,-999
 35HT20180611,67,1, 2, 4,20180701,0915,58.54974,-30.36100,1585,1592.0, 3.5570,34.9617,2,272.2,2,   -999,9, -999,9, -999,9,-999,9,-999,9, -999,9,-999,9,-999,9,-999,9,-999,9,-999,-999
 35HT20180611,67,1, 3, 5,20180701,0915,58.54974,-30.36100,1585,1500.7, 3.6299,34.9591,2,271.6,2,34.9592,2,271.7,2,7.717,2,10.61,2,1.11,2,16.69,2,0.00,2,-999,9,-999,9,2306,2,-999,-999
 35HT20180611,67,1, 4, 6,20180701,0915,58.54974,-30.36100,1585,1500.7, 3.6305,34.9592,2,271.4,2,   -999,9, -999,9, -999,9,-999,9,-999,9, -999,9,-999,9,-999,9,-999,9,-999,9,-999,-999
 35HT20180611,67,1, 5, 7,20180701,0915,58.54974,-30.36100,1585,1400.8, 3.6436,34.9591,2,271.7,2,34.9593,2,272.3,2,7.718,2,10.62,2,1.12,2,16.50,2,0.00,2,-999,9,-999,9,2306,2,-999,-999
 35HT20180611,67,1, 6, 8,20180701,0915,58.54974,-30.36100,1585,1301.1, 3.6960,34.9574,2,271.0,2,34.9574,2,270.9,2,7.720,2,10.55,2,1.13,2,16.54,2,0.00,2,-999,9,-999,9,2306,2,-999,-999
 35HT20180611,67,1, 7, 9,20180701,0915,58.54974,-30.36100,1585,1201.0, 3.7563,34.9553,2,270.6,2,34.9552,2,270.7,2,7.715,2,10.52,2,1.18,2,16.68,2,0.00,2,-999,9,-999,9,2306,2,-999,-999
 35HT20180611,67,1, 9,11,20180701,0915,58.54974,-30.36100,1585,1102.6, 4.0280,34.9495,2,268.7,2,34.9490,2,268.6,2,7.715,2,10.23,2,1.14,2,16.96,2,0.00,2,-999,9,-999,9,2305,2,-999,-999
 35HT20180611,67,1,10,12,20180701,0915,58.54974,-30.36100,1585,1001.3, 4.2683,34.9550,2,266.5,2,34.9551,2,266.4,2,7.714,2,10.17,2,1.17,2,17.13,2,0.00,2,-999,9,-999,9,2306,2,-999,-999
 35HT20180611,67,1,11,13,20180701,0915,58.54974,-30.36100,1585,1001.3, 4.2674,34.9550,2,266.1,2,   -999,9, -999,9, -999,9,-999,9,-999,9, -999,9,-999,9,-999,9,-999,9,-999,9,-999,-999
 35HT20180611,67,1,12,14,20180701,0915,58.54974,-30.36100,1585, 901.8, 4.5867,34.9688,2,260.9,2,34.9694,2,260.7,2,7.710,2,9.83,2,1.14,2,17.50,2,0.00,2,-999,9,-999,9,-999,9,-999,-999
 35HT20180611,67,1,13,15,20180701,0915,58.54974,-30.36100,1585, 798.5, 4.7907,34.9726,2,256.1,2,34.9723,2,255.4,2,7.705,2,9.99,2,1.20,2,17.79,2,0.00,2,-999,9,-999,9,2307,2,-999,-999
 35HT20180611,67,1,14,16,20180701,0915,58.54974,-30.36100,1585, 798.1, 4.7926,34.9727,2,256.1,2,34.9723,2,256.1,2,7.706,2,10.07,2,1.19,2,17.79,2,0.01,2,-999,9,-999,9,-999,9,-999,-999
 35HT20180611,67,1,15,17,20180701,0915,58.54974,-30.36100,1585, 700.2, 5.3804,35.0157,2,248.6,2,35.0154,2,248.3,2,7.711,2,9.77,2,1.13,2,17.66,2,0.00,2,-999,9,-999,9,-999,9,-999,-999
 35HT20180611,67,1,16,18,20180701,0915,58.54974,-30.36100,1585, 601.6, 5.9427,35.0343,2,243.7,2,35.0341,2,243.0,2,7.710,2,9.55,2,1.13,2,17.68,2,0.00,2,-999,9,-999,9,2312,2,-999,-999
 35HT20180611,67,1,17,19,20180701,0915,58.54974,-30.36100,1585, 500.5, 6.3237,35.0011,2,243.3,2,35.0005,2,243.0,2,7.721,2,9.26,2,1.13,2,17.45,2,0.00,2,-999,9,-999,9,2311,2,-999,-999
 35HT20180611,67,1,18,20,20180701,0915,58.54974,-30.36100,1585, 500.3, 6.3234,35.0010,2,243.3,2,   -999,9, -999,9, -999,9,-999,9,-999,9, -999,9,-999,9,-999,9,-999,9,-999,9,-999,-999
 35HT20180611,67,1,20,22,20180701,0915,58.54974,-30.36100,1585, 302.7, 6.9190,35.0305,2,276.1,2,35.0298,2,276.0,2,7.757,2,7.08,2,1.00,2,14.82,2,0.01,2,-999,9,-999,9,2311,2,-999,-999
 35HT20180611,67,1,21,23,20180701,0915,58.54974,-30.36100,1585, 302.4, 6.9191,35.0305,2,276.6,2,35.0297,2,276.4,2,7.758,2,6.90,2,0.94,2,14.77,2,0.01,2,-999,9,-999,9,2311,2,-999,-999
 35HT20180611,67,1,22,24,20180701,0915,58.54974,-30.36100,1585, 249.2, 6.9508,35.0202,2,279.0,2,   -999,9,279.1,2, -999,9,-999,9,-999,9, -999,9,-999,9,-999,9,-999,9,-999,9,-999,-999
 35HT20180611,67,1,23,25,20180701,0915,58.54974,-30.36100,1585, 198.3, 7.0133,35.0191,2,280.1,2,35.0185,2, -999,9,7.760,2,6.78,2,0.91,2,14.41,2,0.00,2,-999,9,-999,9,2310,2,-999,-999
 35HT20180611,67,1,24,26,20180701,0915,58.54974,-30.36100,1585, 150.3, 7.0314,35.0001,2,282.5,2,34.9998,2,282.3,2,7.763,2,6.66,2,0.89,2,14.08,2,0.22,2,-999,9,-999,9,-999,9,-999,-999
 35HT20180611,67,1,25,27,20180701,0915,58.54974,-30.36100,1585,  99.7, 7.0600,34.9715,2,281.7,2,34.9696,4,281.1,2,7.766,2,6.41,2,0.92,2,13.93,2,0.32,2,-999,9,-999,9,2308,2,-999,-999
 35HT20180611,67,1,26,28,20180701,0915,58.54974,-30.36100,1585,  55.5, 8.1536,34.9673,2,297.7,2,34.9658,2,298.1,2,7.836,2,1.98,2,0.63,2, 8.99,2,0.14,2,-999,9,-999,9,-999,9,-999,-999
 35HT20180611,67,1,27,29,20180701,0915,58.54974,-30.36100,1585,   6.4, 8.5767,34.9300,2,298.2,2,   -999,9, -999,9, -999,9,-999,9,-999,9, -999,9,-999,9,-999,9,-999,9,-999,9,-999,-999
 35HT20180611,67,1,28,30,20180701,0915,58.54974,-30.36100,1585,   6.4, 8.5762,34.9300,2,297.3,2,34.9300,2,297.7,2,7.844,2,2.50,2,0.60,2, 8.60,2,0.14,2,0.28,2,1.26,2,2307,2,-999,-999
 35HT20180611,68,1, 1, 3,20180701,2127,58.72574,-30.69432,1448,1454.2, 3.8343,34.9586,2,269.8,2,34.9590,2,270.7,2,7.713,2,11.21,2,1.06,2,17.00,2,0.00,2,-999,9,-999,9,-999,9,-999,-999
 35HT20180611,68,1, 3, 5,20180701,2127,58.72574,-30.69432,1448,1401.3, 3.8438,34.9590,2,269.6,2,34.9585,2,269.7,2,7.715,2,11.1,2,1.07,2,17.00,2,0.00,2,-999,9,-999,9,-999,9,-999,-999
 35HT20180611,68,1, 5, 7,20180701,2127,58.72574,-30.69432,1448,1300.0, 3.8823,34.9593,2,269.2,2,34.9592,2,268.8,2,7.716,2,10.87,2,1.05,2,17.00,2,0.00,2,-999,9,-999,9,-999,9,-999,-999
 35HT20180611,68,1, 6, 8,20180701,2127,58.72574,-30.69432,1448,1202.5, 3.9003,34.9585,2,268.9,2,34.9582,2,268.8,2,7.716,2,10.84,2,1.05,2,17.20,2,0.00,2,-999,9,-999,9,-999,9,-999,-999
 35HT20180611,68,1, 8,10,20180701,2127,58.72574,-30.69432,1448,1100.4, 3.9442,34.9584,2,268.8,2,34.9581,2,268.4,2,7.714,2,10.63,2,1.05,2,17.00,2,0.00,2,-999,9,-999,9,-999,9,-999,-999
 35HT20180611,68,1, 9,11,20180701,2127,58.72574,-30.69432,1448,1000.9, 4.0932,34.9580,2,267.7,2,34.9576,2,266.9,2,7.713,2,10.48,2,1.07,2,17.20,2,0.00,2,-999,9,-999,9,-999,9,-999,-999
 35HT20180611,68,1,11,13,20180701,2127,58.72574,-30.69432,1448, 900.7, 4.3889,34.9652,2,264.2,2,34.9651,2,263.5,2,7.713,2,10.44,2,1.06,2,17.40,2,0.00,2,-999,9,-999,9,-999,9,-999,-999
 35HT20180611,68,1,12,14,20180701,2127,58.72574,-30.69432,1448, 801.3, 4.8211,34.9866,2,256.9,2,34.9861,2,256.5,2,7.711,2,10.37,2,1.07,2,17.70,2,0.00,2,-999,9,-999,9,-999,9,-999,-999
 35HT20180611,68,1,14,16,20180701,2127,58.72574,-30.69432,1448, 700.6, 5.2520,35.0074,2,247.9,2,35.0070,2,248.5,2,7.709,2,10.53,2,1.10,2,18.10,2,0.00,2,-999,9,-999,9,-999,9,-999,-999
 35HT20180611,68,1,15,17,20180701,2127,58.72574,-30.69432,1448, 700.7, 5.2538,35.0076,2,247.9,2,35.0070,2,248.7,2,7.710,2,10.52,2,1.09,2,18.00,2,0.00,2,-999,9,-999,9,-999,9,-999,-999
 35HT20180611,68,1,16,18,20180701,2127,58.72574,-30.69432,1448, 601.3, 5.7400,35.0187,2,242.2,2,35.0176,2,241.9,2,7.711,2,10.44,2,1.11,2,18.20,2,0.00,2,-999,9,-999,9,-999,9,-999,-999
 35HT20180611,68,1,17,19,20180701,2127,58.72574,-30.69432,1448, 501.7, 6.3251,35.0364,2,242.1,2,35.0350,2,242.0,2,7.719,2,9.86,2,1.09,2,17.80,2,0.00,2,-999,9,-999,9,-999,9,-999,-999
 35HT20180611,68,1,20,22,20180701,2127,58.72574,-30.69432,1448, 400.8, 6.6703,35.0231,2,267.0,2,35.0224,2,267.4,2,7.745,2,8.10,2,0.99,2,15.80,2,0.00,2,-999,9,-999,9,-999,9,-999,-999
 35HT20180611,68,1,21,23,20180701,2127,58.72574,-30.69432,1448, 299.7, 6.8062,35.0090,2,270.6,2,35.0085,2,270.0,2,7.749,2,7.79,2,0.97,2,15.60,2,0.00,2,-999,9,-999,9,-999,9,-999,-999
 35HT20180611,68,1,23,25,20180701,2127,58.72574,-30.69432,1448, 200.1, 6.9441,34.9950,2,275.5,2,34.9949,2,275.0,2,7.753,2,7.43,2,0.92,2,15.10,2,0.00,2,-999,9,-999,9,-999,9,-999,-999
 35HT20180611,68,1,24,26,20180701,2127,58.72574,-30.69432,1448, 150.1, 6.9991,34.9824,2,279.3,2,34.9815,2,278.4,2,7.761,2,6.99,2,0.90,2,14.60,2,0.11,2,-999,9,-999,9,-999,9,-999,-999
 35HT20180611,68,1,25,27,20180701,2127,58.72574,-30.69432,1448, 100.2, 7.1430,34.9752,2,282.3,2,34.9736,2,283.3,2,7.771,2,6.27,2,0.87,2,13.30,2,0.33,2,-999,9,-999,9,-999,9,-999,-999
 35HT20180611,68,1,27,29,20180701,2127,58.72574,-30.69432,1448,  55.1, 7.2532,34.9495,2,283.3,2,34.9476,4,282.4,2,7.774,2,5.89,2,0.88,2,13.20,2,0.37,2,-999,9,-999,9,-999,9,-999,-999
 35HT20180611,68,1,28,30,20180701,2127,58.72574,-30.69432,1448,   5.2, 8.7209,34.9246,2,298.3,2,34.9242,2,298.2,2,7.852,2,2.50,2,0.60,2, 8.34,2,0.10,2,-999,9,-999,9,-999,9,-999,-999