BOTTLE,20240404CCHSIOADS
EXPOCODE,STNNBR,CASTNO,SAMPNO,BTLNBR,DATE,TIME,LATITUDE,LONGITUDE,DEPTH,CTDPRS,CTDTMP,CTDSAL,CTDSAL_FLAG_W,CTDOXY,CTDOXY_FLAG_W,SALNTY,SALNTY_FLAG_W,OXYGEN,OXYGEN_FLAG_W,PH_TOT,PH_TOT_FLAG_W,SILCAT,SILCAT_FLAG_W,PHSPHT,PHSPHT_FLAG_W,NITRAT,NITRAT_FLAG_W,NITRIT,NITRIT_FLAG_W,DELO18,DELO18_FLAG_W,DELD,DELD_FLAG_W,ALKALI,ALKALI_FLAG_W,I-129,I129ER
,,,,,,,,,METERS,DBAR,DEG C,PSS-78,,UMOL/KG,,PSS-78,,UMOL/KG,,,,UMOL/KG,,UMOL/KG,,UMOL/KG,,UMOL/KG,,/MILLE,,/MILLE,,UMOL/KG,,E7/KG,E7/KG
 35HT20180611,77,1, 1, 3,20180704,0518,59.36322,-36.39468,3094,3135.1, 1.7614,34.8965,2,298.7,2,34.8975,2,297.5,2,7.707,2,9.43,2,0.96,2,13.93,2,0.00,2,0.272,2,1.27,2,2302,2,-999,-999
 35HT20180611,77,1, 2, 4,20180704,0518,59.36322,-36.39468,3094,3066.0, 2.2057,34.9087,2,291.3,2,   -999,9, -999,9, -999,9,-999,9,-999,9, -999,9,-999,9,-999,9,-999,9,-999,9,-999,-999
 35HT20180611,77,1, 3, 5,20180704,0518,59.36322,-36.39468,3094,3001.3, 2.4989,34.9189,2,285.4,2,34.9197,2,285.1,2,7.720,2,12.58,2,1.04,2,15.44,2,0.00,2,-999,9,-999,9,2306,2,-999,-999
 35HT20180611,77,1, 4, 6,20180704,0518,59.36322,-36.39468,3094,2900.6, 2.7121,34.9262,2,281.3,2,   -999,9, -999,9, -999,9,-999,9,-999,9, -999,9,-999,9,-999,9,-999,9,-999,9,-999,-999
 35HT20180611,77,1, 5, 7,20180704,0518,59.36322,-36.39468,3094,2801.4, 2.8405,34.9323,2,278.5,2,34.9331,2,277.7,2,7.724,2,13.7,2,1.06,2,16.02,2,0.00,2,-999,9,-999,9,2307,2,-999,-999
 35HT20180611,77,1, 6, 8,20180704,0518,59.36322,-36.39468,3094,2701.4, 2.9279,34.9337,2,277.0,2,   -999,9, -999,9, -999,9,-999,9,-999,9, -999,9,-999,9,-999,9,-999,9,-999,9,-999,-999
 35HT20180611,77,1, 7, 9,20180704,0518,59.36322,-36.39468,3094,2600.5, 3.0187,34.9359,2,276.4,2,34.9364,2,276.4,2,7.726,2,13.5,2,1.07,2,16.23,2,0.00,2,-999,9,-999,9,2307,2,-999,-999
 35HT20180611,77,1, 8,10,20180704,0518,59.36322,-36.39468,3094,2501.1, 3.0707,34.9312,2,276.5,2,   -999,9, -999,9, -999,9,-999,9,-999,9, -999,9,-999,9,-999,9,-999,9,-999,9,-999,-999
 35HT20180611,77,1, 9,11,20180704,0518,59.36322,-36.39468,3094,2401.6, 3.1556,34.9330,2,276.1,2,34.9335,2,275.7,2,7.724,2,12.4,2,1.09,2,16.42,2,0.00,2,-999,9,-999,9,2306,2,-999,-999
 35HT20180611,77,1,10,12,20180704,0518,59.36322,-36.39468,3094,2200.1, 3.2923,34.9331,2,276.4,2,34.9342,2,276.1,2,7.725,2,11.71,2,1.09,2,16.43,2,0.00,2,-999,9,-999,9,2305,2,-999,-999
 35HT20180611,77,1,11,13,20180704,0518,59.36322,-36.39468,3094,2140.5, 3.3425,34.9350,2,275.3,2,34.9359,2,275.0,2,7.723,2,11.62,2,1.09,2,16.55,2,0.00,2,-999,9,-999,9,2306,2,-999,-999
 35HT20180611,77,1,12,14,20180704,0518,59.36322,-36.39468,3094,1901.2, 3.5394,34.9346,2,274.7,2,34.9357,2,274.6,2,7.720,2,11.0,2,1.10,2,16.78,2,0.00,2,-999,9,-999,9,2305,2,-999,-999
 35HT20180611,77,1,13,15,20180704,0518,59.36322,-36.39468,3094,1601.4, 3.4437,34.8873,2,290.1,2,34.8889,2,289.7,2,7.714,2,9.43,2,1.10,2,16.21,2,0.00,2,-999,9,-999,9,2301,2,-999,-999
 35HT20180611,77,1,14,16,20180704,0518,59.36322,-36.39468,3094,1400.8, 3.3699,34.8678,2,297.6,2,34.8690,2,297.8,2,7.712,2,8.93,2,1.08,2,16.14,2,0.00,2,0.255,2,1.07,2,2301,2,-999,-999
 35HT20180611,77,1,15,17,20180704,0518,59.36322,-36.39468,3094,1201.3, 3.3746,34.8676,2,300.3,2,34.8689,2,299.4,2,7.712,2,8.82,2,1.10,2,16.11,2,0.00,2,-999,9,-999,9,2300,2,-999,-999
 35HT20180611,77,1,16,18,20180704,0518,59.36322,-36.39468,3094,1000.9, 3.4077,34.8720,2,301.5,2,34.8726,2,301.5,2,7.712,2,8.85,2,1.11,2,16.21,2,0.00,2,-999,9,-999,9,2301,2,-999,-999
 35HT20180611,77,1,17,19,20180704,0518,59.36322,-36.39468,3094, 801.4, 3.4678,34.8791,2,300.9,2,34.8801,2,300.9,2,7.712,2,8.77,2,1.11,2,16.29,2,0.00,2,-999,9,-999,9,2301,2,-999,-999
 35HT20180611,77,1,18,20,20180704,0518,59.36322,-36.39468,3094, 601.1, 3.5589,34.8869,2,299.5,2,34.8876,2,299.2,2,7.711,2,9.04,2,1.14,2,16.73,2,0.00,2,-999,9,-999,9,2301,2,-999,-999
 35HT20180611,77,1,20,22,20180704,0518,59.36322,-36.39468,3094, 501.3, 3.6144,34.8878,2,298.5,2,34.8892,2,297.3,2,7.710,2,8.89,2,1.12,2,16.48,2,0.00,2,0.234,2,0.89,2,2301,2,-999,-999
 35HT20180611,77,1,21,23,20180704,0518,59.36322,-36.39468,3094, 401.3, 3.6976,34.8905,2,296.8,2,34.8910,2,295.7,2,7.711,2,8.94,2,1.12,2,16.52,2,0.00,2,-999,9,-999,9,2301,2,-999,-999
 35HT20180611,77,1,22,24,20180704,0518,59.36322,-36.39468,3094, 401.3, 3.6965,34.8903,2,297.6,2,   -999,9, -999,9, -999,9,-999,9,-999,9, -999,9,-999,9,-999,9,-999,9,-999,9,-999,-999
 35HT20180611,77,1,23,25,20180704,0518,59.36322,-36.39468,3094, 301.8, 3.8711,34.8913,2,291.9,2,34.8931,2,290.1,2,7.709,2,8.98,2,1.12,2,16.92,2,0.00,2,0.262,2,0.95,2,2303,2,-999,-999
 35HT20180611,77,1,24,26,20180704,0518,59.36322,-36.39468,3094, 200.8, 4.1147,34.8729,2,291.8,2,34.8728,2,294.3,4,7.714,2,8.67,2,1.09,2,16.16,2,0.17,2,-999,9,-999,9,2302,2,-999,-999
 35HT20180611,77,1,25,27,20180704,0518,59.36322,-36.39468,3094, 200.8, 4.1155,34.8731,2,291.8,2,34.8733,2,293.9,2,7.713,2,-999,9,-999,9, -999,9,-999,9,0.235,2,0.88,2,-999,9,-999,-999
 35HT20180611,77,1,26,28,20180704,0518,59.36322,-36.39468,3094, 101.3, 4.5584,34.8757,2,284.1,2,34.8759,2,280.4,4,7.708,2,8.72,2,1.10,2,16.61,2,0.09,2,0.245,2,0.86,2,2302,2,-999,-999
 35HT20180611,77,1,27,29,20180704,0518,59.36322,-36.39468,3094,   5.3, 6.2569,34.7943,2,316.7,2,   -999,9, -999,9, -999,9,-999,9,-999,9, -999,9,-999,9,-999,9,-999,9,-999,9,-999,-999
 35HT20180611,77,1,28,30,20180704,0518,59.36322,-36.39468,3094,   5.3, 6.2572,34.7941,2,316.7,2,34.7947,2,316.0,2,7.812,2,3.56,2,0.65,2, 9.37,2,0.11,2,-999,9,-999,9,2301,2,-999,-999
 35HT20180611,78,1, 1, 3,20180704,1026,59.42738,-37.03976,3116,3157.2, 1.4311,34.8888,2,303.9,2,34.8895,2,303.5,2,7.710,2,8.07,2,0.89,2,13.50,2,0.00,2,-999,9,-999,9,-999,9,-999,-999
 35HT20180611,78,1, 3, 5,20180704,1026,59.42738,-37.03976,3116,3001.8, 2.2464,34.9091,2,290.2,2,34.9094,2,290.2,2,7.715,2,10.64,2,0.99,2,14.78,2,0.00,2,-999,9,-999,9,-999,9,-999,-999
 35HT20180611,78,1, 5, 7,20180704,1026,59.42738,-37.03976,3116,2801.9, 2.7758,34.9271,2,281.8,2,34.9271,2,281.9,2,7.725,2,12.98,2,1.05,2,15.84,2,0.00,2,-999,9,-999,9,-999,9,-999,-999
 35HT20180611,78,1, 7, 9,20180704,1026,59.42738,-37.03976,3116,2600.3, 3.0330,34.9331,2,277.4,2,34.9333,2,276.6,2,7.726,2,12.69,2,1.05,2,16.29,2,0.00,2,-999,9,-999,9,-999,9,-999,-999
 35HT20180611,78,1, 9,11,20180704,1026,59.42738,-37.03976,3116,2401.4, 3.1784,34.9330,2,276.5,2,34.9327,2,276.0,2,7.726,2,12.1,2,1.05,2,16.31,2,0.00,2,-999,9,-999,9,-999,9,-999,-999
 35HT20180611,78,1,10,12,20180704,1026,59.42738,-37.03976,3116,2201.6, 3.3393,34.9348,2,275.3,2,34.9352,2,275.8,2,7.724,2,11.57,2,1.07,2,16.26,2,0.00,2,-999,9,-999,9,-999,9,-999,-999
 35HT20180611,78,1,11,13,20180704,1026,59.42738,-37.03976,3116,2001.7, 3.5277,34.9391,2,275.1,2,34.9395,2,275.1,2,7.722,2,11.21,2,1.07,2,16.33,2,0.00,2,-999,9,-999,9,-999,9,-999,-999
 35HT20180611,78,1,12,14,20180704,1026,59.42738,-37.03976,3116,1802.9, 3.5891,34.9261,2,277.8,2,34.9256,2,278.0,2,7.719,2,10.58,2,1.07,2,16.21,2,0.00,2,-999,9,-999,9,-999,9,-999,-999
 35HT20180611,78,1,13,15,20180704,1026,59.42738,-37.03976,3116,1600.2, 3.4579,34.8878,2,290.2,2,34.8883,2,290.8,2,7.715,2,9.48,2,1.07,2,15.99,2,0.00,2,-999,9,-999,9,-999,9,-999,-999
 35HT20180611,78,1,14,16,20180704,1026,59.42738,-37.03976,3116,1402.4, 3.3829,34.8692,2,297.0,2,34.8694,2,297.1,2,7.714,2,9.04,2,1.04,2,16.08,2,0.00,2,-999,9,-999,9,-999,9,-999,-999
 35HT20180611,78,1,15,17,20180704,1026,59.42738,-37.03976,3116,1201.4, 3.4069,34.8712,2,300.1,2,34.8719,2,300.7,2,7.713,2,8.88,2,1.04,2,16.12,2,0.00,2,-999,9,-999,9,-999,9,-999,-999
 35HT20180611,78,1,16,18,20180704,1026,59.42738,-37.03976,3116, 999.5, 3.4497,34.8764,2,298.1,4,34.8766,2, -999,9,7.712,2,8.80,2,1.04,2,16.11,2,0.00,2,-999,9,-999,9,-999,9,-999,-999
 35HT20180611,78,1,17,19,20180704,1026,59.42738,-37.03976,3116, 803.1, 3.5148,34.8839,2,301.1,2,34.8840,2,301.9,2,7.714,2,8.81,2,1.04,2,16.26,2,0.00,2,-999,9,-999,9,-999,9,-999,-999
 35HT20180611,78,1,18,20,20180704,1026,59.42738,-37.03976,3116, 601.0, 3.5792,34.8869,2,300.1,2,34.8872,2,299.8,2,7.712,2,8.85,2,1.06,2,16.37,2,0.00,2,-999,9,-999,9,-999,9,-999,-999
 35HT20180611,78,1,20,22,20180704,1026,59.42738,-37.03976,3116, 500.6, 3.6482,34.8923,2,299.0,2,34.8930,2,299.2,2,7.711,2,8.79,2,1.05,2,16.59,2,0.00,2,-999,9,-999,9,-999,9,-999,-999
 35HT20180611,78,1,21,23,20180704,1026,59.42738,-37.03976,3116, 399.2, 3.7332,34.8960,2,297.7,2,34.8965,2,297.0,2,7.711,2,8.76,2,1.05,2,16.24,2,0.00,2,-999,9,-999,9,-999,9,-999,-999
 35HT20180611,78,1,23,25,20180704,1026,59.42738,-37.03976,3116, 300.7, 3.8348,34.8952,2,295.8,2,34.8950,2,295.1,2,7.713,2,8.78,2,1.05,2,16.29,2,0.00,2,-999,9,-999,9,-999,9,-999,-999
 35HT20180611,78,1,24,26,20180704,1026,59.42738,-37.03976,3116, 201.6, 3.9837,34.8857,2,298.5,2,34.8857,2,297.4,2,7.716,2,8.69,2,1.05,2,16.05,2,0.21,2,-999,9,-999,9,-999,9,-999,-999
 35HT20180611,78,1,25,27,20180704,1026,59.42738,-37.03976,3116,  99.4, 4.2968,34.8683,2,305.2,2,34.8690,2,304.6,2,7.725,2,8.58,2,1.01,2,14.68,2,0.24,2,-999,9,-999,9,-999,9,-999,-999
 35HT20180611,78,1,26,28,20180704,1026,59.42738,-37.03976,3116,  99.4, 4.2988,34.8683,2,305.2,2,34.8686,2,305.1,2,7.722,2,8.82,2,1.03,2,14.80,2,0.23,2,-999,9,-999,9,-999,9,-999,-999
 35HT20180611,78,1,28,30,20180704,1026,59.42738,-37.03976,3116,   6.2, 6.5450,34.8056,2,313.9,2,34.8063,2,314.1,2,7.820,2,2.72,2,0.61,2, 8.66,2,0.11,2,-999,9,-999,9,-999,9,-999,-999
 35HT20180611,79,1, 1, 3,20180704,1538,59.49218,-37.6774,3111,3152.8, 1.4018,34.8893,2,303.8,2,34.8887,2,303.3,2,7.711,2,8.24,2,0.94,2,13.54,2,0.00,2,-999,9,-999,9,2302,2,117.0,2.0
 35HT20180611,79,1, 2, 4,20180704,1538,59.49218,-37.6774,3111,3152.9, 1.4018,34.8893,2,303.8,2,34.8890,2,303.2,2, -999,9,-999,9,-999,9, -999,9,-999,9,-999,9,-999,9,-999,9,-999,-999
 35HT20180611,79,1, 3, 5,20180704,1538,59.49218,-37.6774,3111,3076.3, 1.8935,34.8973,2,296.4,2,   -999,9, -999,9, -999,9,-999,9,-999,9, -999,9,-999,9,-999,9,-999,9,-999,9,100.0,1.0
 35HT20180611,79,1, 4, 6,20180704,1538,59.49218,-37.6774,3111,3001.3, 2.3003,34.9045,2,291.6,2,34.9049,2,291.3,2,7.718,2,10.09,2,1.02,2,14.81,2,0.00,2,-999,9,-999,9,2306,2,-999,-999
 35HT20180611,79,1, 5, 7,20180704,1538,59.49218,-37.6774,3111,2901.4, 2.6280,34.9157,2,285.9,2,   -999,9, -999,9, -999,9,-999,9,-999,9, -999,9,-999,9,-999,9,-999,9,-999,9,57.7,0.8
 35HT20180611,79,1, 6, 8,20180704,1538,59.49218,-37.6774,3111,2801.9, 2.8237,34.9215,2,282.7,2,34.9215,2,283.0,2,7.719,2,11.96,2,1.07,2,15.72,2,0.00,2,-999,9,-999,9,2306,2,-999,-999
 35HT20180611,79,1, 7, 9,20180704,1538,59.49218,-37.6774,3111,2700.6, 2.9490,34.9273,2,279.4,2,   -999,9, -999,9, -999,9,-999,9,-999,9, -999,9,-999,9,-999,9,-999,9,-999,9,-999,-999
 35HT20180611,79,1, 8,10,20180704,1538,59.49218,-37.6774,3111,2601.9, 3.0242,34.9277,2,279.3,2,34.9276,2,278.6,2,7.725,2,12.2,2,1.08,2,16.11,2,0.00,2,-999,9,-999,9,2306,2,-999,-999
 35HT20180611,79,1, 9,11,20180704,1538,59.49218,-37.6774,3111,2501.1, 3.1290,34.9330,2,276.9,2,   -999,9, -999,9, -999,9,-999,9,-999,9, -999,9,-999,9,-999,9,-999,9,-999,9,-999,-999
 35HT20180611,79,1,10,12,20180704,1538,59.49218,-37.6774,3111,2401.0, 3.2007,34.9339,2,276.3,2,34.9341,2,276.1,2,7.726,2,12.2,2,1.09,2,16.50,2,0.00,2,-999,9,-999,9,2306,2,-999,-999
 35HT20180611,79,1,11,13,20180704,1538,59.49218,-37.6774,3111,2201.2, 3.3452,34.9355,2,275.5,2,34.9357,2,275.5,2,7.726,2,11.8,2,1.09,2,16.50,2,0.00,2,-999,9,-999,9,2306,2,-999,-999
 35HT20180611,79,1,12,14,20180704,1538,59.49218,-37.6774,3111,2000.7, 3.4996,34.9338,2,275.9,2,34.9336,2,275.5,2,7.721,2,11.17,2,1.05,2,16.66,2,0.00,2,-999,9,-999,9,2305,2,-999,-999
 35HT20180611,79,1,13,15,20180704,1538,59.49218,-37.6774,3111,1851.6, 3.5803,34.9292,2,276.3,2,34.9292,2,276.7,2,7.717,2,10.76,2,1.00,2,16.61,2,0.00,2,-999,9,-999,9,2305,2,-999,-999
 35HT20180611,79,1,14,16,20180704,1538,59.49218,-37.6774,3111,1602.2, 3.4417,34.8843,2,291.4,2,34.8833,2,290.9,2,7.716,2,9.41,2,1.01,2,16.19,2,0.00,2,-999,9,-999,9,2302,2,-999,-999
 35HT20180611,79,1,15,17,20180704,1538,59.49218,-37.6774,3111,1351.3, 3.3648,34.8660,2,299.5,2,34.8655,2,299.5,2,7.711,2,8.93,2,1.04,2,16.16,2,0.00,2,-999,9,-999,9,2300,2,-999,-999
 35HT20180611,79,1,16,18,20180704,1538,59.49218,-37.6774,3111,1200.4, 3.3860,34.8688,2,299.7,2,34.8688,2,300.2,2,7.711,2,8.97,2,1.05,2,16.16,2,0.00,2,-999,9,-999,9,2301,2,-999,-999
 35HT20180611,79,1,17,19,20180704,1538,59.49218,-37.6774,3111,1001.8, 3.4106,34.8716,2,301.3,2,34.8716,2,300.9,2,7.714,2,8.94,2,1.06,2,16.31,2,0.00,2,-999,9,-999,9,2301,2,-999,-999
 35HT20180611,79,1,18,20,20180704,1538,59.49218,-37.6774,3111, 800.8, 3.4992,34.8826,2,298.3,2,34.8828,2,298.2,2,7.711,2,9.26,2,1.07,2,16.48,2,0.00,2,-999,9,-999,9,2302,2,-999,-999
 35HT20180611,79,1,19,21,20180704,1538,59.49218,-37.6774,3111, 601.3, 3.5750,34.8884,2,299.6,2,34.8886,2,300.1,2,7.711,2,9.10,2,1.08,2,16.50,2,0.00,2,-999,9,-999,9,2302,2,-999,-999
 35HT20180611,79,1,20,22,20180704,1538,59.49218,-37.6774,3111, 501.0, 3.6365,34.8911,2,298.8,2,34.8912,2,298.5,2,7.712,2,9.04,2,1.07,2,16.52,2,0.00,2,-999,9,-999,9,2303,2,-999,-999
 35HT20180611,79,1,21,23,20180704,1538,59.49218,-37.6774,3111, 363.4, 3.7739,34.8958,2,294.0,2,34.8965,2,294.3,2,7.713,2,9.15,2,1.09,2,16.54,2,0.00,2,-999,9,-999,9,2302,2,-999,-999
 35HT20180611,79,1,22,24,20180704,1538,59.49218,-37.6774,3111, 301.8, 3.7496,34.8812,2,298.3,2,34.8804,2,297.7,2,7.710,2,9.13,2,1.09,2,16.64,2,0.02,2,-999,9,-999,9,2302,2,-999,-999
 35HT20180611,79,1,23,25,20180704,1538,59.49218,-37.6774,3111, 201.5, 4.1258,34.9013,2,289.1,2,34.9007,2,287.7,2,7.712,2,9.13,2,1.09,2,16.96,2,0.02,2,-999,9,-999,9,2303,2,-999,-999
 35HT20180611,79,1,24,26,20180704,1538,59.49218,-37.6774,3111, 150.5, 4.2083,34.8866,2,299.1,2,34.8853,2,298.9,2,7.718,2,8.74,2,1.07,2,16.18,2,0.24,2,-999,9,-999,9,-999,9,-999,-999
 35HT20180611,79,1,25,27,20180704,1538,59.49218,-37.6774,3111, 102.3, 4.4887,34.8841,2,303.7,2,34.8831,2,303.5,2,7.724,2,8.67,2,1.04,2,14.73,2,0.31,2,-999,9,-999,9,2303,2,-999,-999
 35HT20180611,79,1,26,28,20180704,1538,59.49218,-37.6774,3111,  54.7, 4.7038,34.8562,2,297.0,2,34.8573,2,295.9,2, -999,9,8.59,2,1.07,2,15.39,2,0.28,2,-999,9,-999,9,-999,9,-999,-999
 35HT20180611,79,1,27,29,20180704,1538,59.49218,-37.6774,3111,   4.8, 6.5445,34.8045,2,314.1,2,   -999,9, -999,9,7.720,2,-999,9,-999,9, -999,9,-999,9,-999,9,-999,9,-999,9,-999,-999
 35HT20180611,79,1,28,30,20180704,1538,59.49218,-37.6774,3111,   4.9, 6.5442,34.8046,2,314.1,2,34.8041,2,313.8,2,7.822,2,2.75,2,0.63,2, 8.84,2,0.12,2,-999,9,-999,9,2303,2,-999,-999
 35HT20180611,80,1, 1, 3,20180704,2039,59.55684,-38.31578,3041,3076.8, 1.4193,34.8907,2,302.7,2,34.8904,2,302.2,2,7.705,2,8.32,2,0.84,2,13.61,2,0.00,2,-999,9,-999,9,-999,9,-999,-999
 35HT20180611,80,1, 2, 4,20180704,2039,59.55684,-38.31578,3041,3003.3, 1.8257,34.8979,2,297.6,2,34.8983,2,297.5,2,7.710,2,8.84,2,0.89,2,14.25,2,0.00,2,-999,9,-999,9,-999,9,-999,-999
 35HT20180611,80,1, 3, 5,20180704,2039,59.55684,-38.31578,3041,3003.3, 1.8304,34.8980,2,297.6,2,34.8981,2,297.6,2,7.713,2,9.04,2,0.92,2,14.04,2,0.00,2,-999,9,-999,9,-999,9,-999,-999
 35HT20180611,80,1, 5, 7,20180704,2039,59.55684,-38.31578,3041,2802.6, 2.6642,34.9230,2,282.7,2,34.9226,2,282.1,2,7.723,2,12.82,2,1.05,2,15.78,2,0.00,2,-999,9,-999,9,-999,9,-999,-999
 35HT20180611,80,1, 6, 8,20180704,2039,59.55684,-38.31578,3041,2653.0, 2.8920,34.9321,2,278.4,2,34.9322,2,278.1,2,7.724,2,13.26,2,1.07,2,16.05,2,0.00,2,-999,9,-999,9,-999,9,-999,-999
 35HT20180611,80,1, 7, 9,20180704,2039,59.55684,-38.31578,3041,2251.5, 3.2187,34.9341,2,275.8,2,34.9344,2,276.1,2,7.726,2,12.23,2,1.07,2,16.38,2,0.00,2,-999,9,-999,9,-999,9,-999,-999
 35HT20180611,80,1, 8,10,20180704,2039,59.55684,-38.31578,3041,2001.6, 3.3966,34.9293,2,275.6,2,34.9294,2,275.8,2,7.726,2,11.35,2,0.98,2,16.54,2,0.01,2,-999,9,-999,9,-999,9,-999,-999
 35HT20180611,80,1, 9,11,20180704,2039,59.55684,-38.31578,3041,2001.5, 3.3967,34.9293,2,275.6,2,34.9297,2,275.8,2,7.723,2,11.35,2,1.03,2,16.45,2,0.01,2,-999,9,-999,9,-999,9,-999,-999
 35HT20180611,80,1,10,12,20180704,2039,59.55684,-38.31578,3041,1803.0, 3.5446,34.9288,2,275.9,2,34.9289,2,276.2,2,7.722,2,10.92,2,1.08,2,16.65,2,0.01,2,-999,9,-999,9,-999,9,-999,-999
 35HT20180611,80,1,11,13,20180704,2039,59.55684,-38.31578,3041,1601.4, 3.4743,34.8947,2,288.0,2,34.8940,2,288.1,2,7.717,2,9.74,2,1.07,2,16.27,2,0.00,2,-999,9,-999,9,-999,9,-999,-999
 35HT20180611,80,1,12,14,20180704,2039,59.55684,-38.31578,3041,1401.6, 3.3721,34.8696,2,296.9,2,34.8690,2,297.6,2,7.712,2,9.07,2,1.07,2,16.08,2,0.00,2,-999,9,-999,9,-999,9,-999,-999
 35HT20180611,80,1,13,15,20180704,2039,59.55684,-38.31578,3041,1200.5, 3.3695,34.8672,2,300.0,2,34.8672,2,299.8,2,7.717,2,9.00,2,1.07,2,16.27,2,0.01,2,-999,9,-999,9,-999,9,-999,-999
 35HT20180611,80,1,14,16,20180704,2039,59.55684,-38.31578,3041,1001.2, 3.4186,34.8737,2,301.5,2,34.8737,2,301.6,2,7.717,2,8.84,2,1.08,2,16.28,2,0.00,2,-999,9,-999,9,-999,9,-999,-999
 35HT20180611,80,1,15,17,20180704,2039,59.55684,-38.31578,3041, 801.4, 3.4584,34.8782,2,301.7,2,34.8779,2,301.6,2,7.713,2,8.85,2,1.08,2,16.32,2,0.00,2,-999,9,-999,9,-999,9,-999,-999
 35HT20180611,80,1,16,18,20180704,2039,59.55684,-38.31578,3041, 600.5, 3.5291,34.8845,2,300.8,2,34.8843,2,300.7,2,7.714,2,8.87,2,1.07,2,16.31,2,0.00,2,-999,9,-999,9,-999,9,-999,-999
 35HT20180611,80,1,17,19,20180704,2039,59.55684,-38.31578,3041, 500.5, 3.5818,34.8880,2,298.6,2,34.8880,2,299.1,2,7.713,2,8.94,2,1.09,2,16.56,2,0.00,2,-999,9,-999,9,-999,9,-999,-999
 35HT20180611,80,1,18,20,20180704,2039,59.55684,-38.31578,3041, 401.9, 3.6435,34.8881,2,298.4,2,34.8873,2,297.3,2,7.708,2,8.97,2,1.09,2,16.57,2,0.00,2,-999,9,-999,9,-999,9,-999,-999
 35HT20180611,80,1,19,21,20180704,2039,59.55684,-38.31578,3041, 302.6, 3.7617,34.8902,2,298.1,2,34.8899,2,295.9,4,7.710,2,9.00,2,1.10,2,16.35,2,0.01,2,-999,9,-999,9,-999,9,-999,-999
 35HT20180611,80,1,20,22,20180704,2039,59.55684,-38.31578,3041, 201.8, 3.8965,34.8806,2,302.0,2,34.8802,2,301.9,2,7.714,2,8.80,2,1.10,2,16.15,2,0.16,2,-999,9,-999,9,-999,9,-999,-999
 35HT20180611,80,1,21,23,20180704,2039,59.55684,-38.31578,3041, 152.5, 4.0729,34.8748,2,298.9,2,34.8739,2,298.9,2,7.716,2,8.89,2,1.11,2,16.04,2,0.24,2,-999,9,-999,9,-999,9,-999,-999
 35HT20180611,80,1,22,24,20180704,2039,59.55684,-38.31578,3041,  99.9, 4.2209,34.8614,2,296.5,2,34.8609,2,295.1,2,7.716,2,8.79,2,1.11,2,16.17,2,0.17,2,-999,9,-999,9,-999,9,-999,-999
 35HT20180611,80,1,23,25,20180704,2039,59.55684,-38.31578,3041,  55.1, 5.0266,34.8274,2,309.4,2,34.8272,2,309.4,2,7.759,2,6.76,2,0.91,2,12.67,2,0.20,2,-999,9,-999,9,-999,9,-999,-999
 35HT20180611,80,1,24,26,20180704,2039,59.55684,-38.31578,3041,   6.0, 6.0052,34.8086,2,318.5,2,34.8084,2,318.3,2,7.815,2,2.97,2,0.64,2, 8.99,2,0.13,2,-999,9,-999,9,-999,9,-999,-999