BOTTLE,20240404CCHSIOADS
EXPOCODE,STNNBR,CASTNO,SAMPNO,BTLNBR,DATE,TIME,LATITUDE,LONGITUDE,DEPTH,CTDPRS,CTDTMP,CTDSAL,CTDSAL_FLAG_W,CTDOXY,CTDOXY_FLAG_W,SALNTY,SALNTY_FLAG_W,OXYGEN,OXYGEN_FLAG_W,PH_TOT,PH_TOT_FLAG_W,SILCAT,SILCAT_FLAG_W,PHSPHT,PHSPHT_FLAG_W,NITRAT,NITRAT_FLAG_W,NITRIT,NITRIT_FLAG_W,DELO18,DELO18_FLAG_W,DELD,DELD_FLAG_W,ALKALI,ALKALI_FLAG_W,I-129,I129ER
,,,,,,,,,METERS,DBAR,DEG C,PSS-78,,UMOL/KG,,PSS-78,,UMOL/KG,,,,UMOL/KG,,UMOL/KG,,UMOL/KG,,UMOL/KG,,/MILLE,,/MILLE,,UMOL/KG,,E7/KG,E7/KG
 35HT20180611,6,1, 1, 3,20180617,1412,40.33330,-9.94610,3419,3457.6, 2.6310,34.9220,2,244.0,2,34.9232,2,246.9,4,7.745,2,39.4,2,1.36,2,21.60,2,0.00,2,-999,9,-999,9,-999,9,-999,-999
 35HT20180611,6,1, 2, 4,20180617,1412,40.33330,-9.94610,3419,3252.4, 2.6715,34.9282,2,244.6,2,34.9297,2,245.8,2,7.746,2,38.5,2,1.37,2,21.60,2,0.00,2,-999,9,-999,9,-999,9,-999,-999
 35HT20180611,6,1, 3, 5,20180617,1412,40.33330,-9.94610,3419,2999.9, 2.8736,34.9501,2,245.2,2,34.9510,2,246.1,2,7.747,2,34.8,2,1.36,2,21.00,2,0.00,2,-999,9,-999,9,-999,9,-999,-999
 35HT20180611,6,1, 4, 6,20180617,1412,40.33330,-9.94610,3419,3000.1, 2.8745,34.9502,2,245.1,2,34.9512,2,245.1,2,7.747,2,34.7,2,1.29,2,20.90,2,0.00,2,-999,9,-999,9,-999,9,-999,-999
 35HT20180611,6,1, 5, 7,20180617,1412,40.33330,-9.94610,3419,2751.1, 3.1198,34.9767,2,245.6,2,34.9782,2,245.5,2,7.748,2,31.1,2,1.30,2,20.60,2,0.00,2,-999,9,-999,9,-999,9,-999,-999
 35HT20180611,6,1, 6, 8,20180617,1412,40.33330,-9.94610,3419,2500.8, 3.3931,35.0058,2,246.2,2,35.0067,2,246.2,2,7.747,2,27.7,2,1.25,2,20.00,2,0.00,2,-999,9,-999,9,-999,9,-999,-999
 35HT20180611,6,1, 7, 9,20180617,1412,40.33330,-9.94610,3419,2250.8, 3.7876,35.0477,2,246.8,2,35.0490,2,246.6,2,7.748,2,23.1,2,1.26,2,19.40,2,0.00,2,0.31,2,1.29,2,-999,9,-999,-999
 35HT20180611,6,1, 8,10,20180617,1412,40.33330,-9.94610,3419,2001.2, 4.4629,35.1334,2,243.8,2,   -999,9, -999,9,7.756,4,16.8,4,1.11,4,18.20,4,0.00,2,-999,9,-999,9,-999,9,-999,-999
 35HT20180611,6,1, 9,11,20180617,1412,40.33330,-9.94610,3419,2001.2, 4.4647,35.1337,2,244.1,2,35.1362,2,244.3,2,7.747,2,18.3,2,1.11,2,18.50,2,0.00,2,-999,9,-999,9,-999,9,-999,-999
 35HT20180611,6,1,10,12,20180617,1412,40.33330,-9.94610,3419,1802.2, 5.6490,35.3127,2,232.7,2,35.3157,4,232.9,2,7.755,2,15.2,2,1.17,2,18.10,2,0.00,2,-999,9,-999,9,-999,9,-999,-999
 35HT20180611,6,1,11,13,20180617,1412,40.33330,-9.94610,3419,1599.8, 7.3052,35.5798,2,217.3,2,35.5841,4,216.2,2,7.768,2,12.5,2,1.05,2,17.50,2,0.00,2,-999,9,-999,9,-999,9,-999,-999
 35HT20180611,6,1,12,14,20180617,1412,40.33330,-9.94610,3419,1399.6, 9.3703,35.9689,2,197.6,2,35.9718,4,196.5,2,7.788,2,11.8,2,1.04,2,16.30,2,0.01,2,-999,9,-999,9,-999,9,-999,-999
 35HT20180611,6,1,13,15,20180617,1412,40.33330,-9.94610,3419,1200.8,10.9302,36.2361,2,182.6,2,36.2406,4,182.9,2,7.804,2,9.29,2,0.88,2,15.60,2,0.01,2,-999,9,-999,9,-999,9,-999,-999
 35HT20180611,6,1,14,16,20180617,1412,40.33330,-9.94610,3419,1072.4,11.5518,36.3074,2,180.6,2,36.3070,2,180.8,2,7.811,2,8.53,2,0.90,2,14.80,2,0.00,2,-999,9,-999,9,-999,9,-999,-999
 35HT20180611,6,1,15,17,20180617,1412,40.33330,-9.94610,3419,1072.5,11.5520,36.3075,2,180.6,2,36.3084,2,180.7,2,7.809,2,8.60,2,0.85,2,14.80,2,0.00,2,-999,9,-999,9,-999,9,-999,-999
 35HT20180611,6,1,16,18,20180617,1412,40.33330,-9.94610,3419, 900.6,11.6824,36.2009,2,180.5,2,36.2015,2,180.5,2,7.807,2,8.06,2,0.86,2,14.90,2,0.00,2,-999,9,-999,9,-999,9,-999,-999
 35HT20180611,6,1,17,19,20180617,1412,40.33330,-9.94610,3419, 800.5,11.9521,36.1819,2,183.2,2,36.1833,2,183.5,2,7.810,2,7.34,2,0.81,2,14.40,2,0.00,2,-999,9,-999,9,-999,9,-999,-999
 35HT20180611,6,1,18,20,20180617,1412,40.33330,-9.94610,3419, 714.3,12.2766,36.1734,2,185.1,2,36.1738,2,184.6,2,7.817,2,6.64,2,0.78,2,13.70,2,0.01,2,-999,9,-999,9,-999,9,-999,-999
 35HT20180611,6,1,19,21,20180617,1412,40.33330,-9.94610,3419, 602.0,11.7570,35.9256,2,184.6,2,35.9269,2,183.6,2,7.798,2,7.34,2,0.89,2,15.00,2,0.01,2,-999,9,-999,9,-999,9,-999,-999
 35HT20180611,6,1,20,22,20180617,1412,40.33330,-9.94610,3419, 501.3,11.5864,35.7638,2,189.8,2,35.7650,2,190.2,2,7.791,2,6.30,2,0.84,2,14.70,2,0.01,2,-999,9,-999,9,-999,9,-999,-999
 35HT20180611,6,1,21,23,20180617,1412,40.33330,-9.94610,3419, 400.8,11.4653,35.6200,2,208.1,2,35.6221,2,207.4,2,7.795,2,5.10,2,0.78,2,13.30,2,0.01,2,-999,9,-999,9,-999,9,-999,-999
 35HT20180611,6,1,22,24,20180617,1412,40.33330,-9.94610,3419, 300.2,11.9155,35.6372,2,209.2,2,35.6374,2,209.1,2,7.802,2,4.50,2,0.67,2,12.40,2,0.01,2,-999,9,-999,9,-999,9,-999,-999
 35HT20180611,6,1,23,25,20180617,1412,40.33330,-9.94610,3419, 201.3,12.3783,35.6452,2,227.5,2,35.6459,2,226.5,2,7.837,2,2.80,2,0.54,2, 9.08,2,0.01,2,-999,9,-999,9,-999,9,-999,-999
 35HT20180611,6,1,24,26,20180617,1412,40.33330,-9.94610,3419, 201.3,12.3800,35.6456,2,227.5,2,35.6459,2,226.5,2,7.836,2,2.80,2,0.59,2, 9.10,2,0.01,2,-999,9,-999,9,-999,9,-999,-999
 35HT20180611,6,1,25,27,20180617,1412,40.33330,-9.94610,3419, 149.9,12.7900,35.6912,2,238.7,2,35.6934,2,238.6,2,7.862,2,1.90,2,0.49,2, 6.44,2,0.02,2,-999,9,-999,9,-999,9,-999,-999
 35HT20180611,6,1,26,28,20180617,1412,40.33330,-9.94610,3419, 100.1,13.2180,35.7436,2,239.8,2,35.7447,2,239.6,2,7.875,2,1.40,2,0.32,2, 5.21,2,0.02,2,-999,9,-999,9,-999,9,-999,-999
 35HT20180611,6,1,27,29,20180617,1412,40.33330,-9.94610,3419,  51.3,13.9800,35.6404,2,251.1,2,35.6330,4,250.2,2,7.913,2,0.80,2,0.08,2, 0.84,2,0.10,2,-999,9,-999,9,-999,9,-999,-999
 35HT20180611,6,1,28,30,20180617,1412,40.33330,-9.94610,3419,   5.1,16.7788,35.4251,2,250.4,2,35.4265,2,250.3,2,7.992,2,0.40,2,0.06,2, 0.00,2,0.01,2,-999,9,-999,9,-999,9,-999,-999
 35HT20180611,7,1, 1, 3,20180617,1843,40.33286,-10.03738,3532,3572.9, 2.5633,34.9148,2,243.6,2,34.9133,2,243.1,2,7.745,2,41.2,2,1.38,2,21.80,2,0.00,2,-999,9,-999,9,2344,2,7.8,0.2
 35HT20180611,7,1, 2, 4,20180617,1843,40.33286,-10.03738,3532,3573.0, 2.5634,34.9147,2,243.6,2,34.9157,2,243.3,2,7.745,2,41.0,2,1.39,2,21.84,2,0.00,2,-999,9,-999,9,-999,9,-999,-999
 35HT20180611,7,1, 3, 5,20180617,1843,40.33286,-10.03738,3532,3249.5, 2.7171,34.9328,2,244.7,2,34.9342,2,244.6,2,7.745,2,37.5,2,1.41,2,21.53,2,0.00,2,-999,9,-999,9,2343,3,-999,-999
 35HT20180611,7,1, 4, 6,20180617,1843,40.33286,-10.03738,3532,3002.6, 2.9585,34.9586,2,245.1,2,34.9599,2,245.1,2,7.746,2,33.4,2,1.36,2,20.84,2,0.00,2,-999,9,-999,9,2339,2,-999,-999
 35HT20180611,7,1, 5, 7,20180617,1843,40.33286,-10.03738,3532,2751.1, 3.1211,34.9782,2,245.2,2,34.9799,2,245.2,2,7.747,2,31.4,2,1.36,2,20.58,2,0.00,2,-999,9,-999,9,2337,2,-999,-999
 35HT20180611,7,1, 6, 8,20180617,1843,40.33286,-10.03738,3532,2502.0, 3.3961,35.0075,2,246.0,2,35.0092,2,246.0,2,7.747,2,27.3,2,1.34,2,20.03,2,0.00,2,-999,9,-999,9,2332,2,-999,-999
 35HT20180611,7,1, 7, 9,20180617,1843,40.33286,-10.03738,3532,2250.7, 3.8458,35.0590,2,245.9,2,35.0599,2,246.0,2,7.748,2,22.9,2,1.28,2,19.12,2,0.00,2,-999,9,-999,9,2330,2,-999,-999
 35HT20180611,7,1, 8,10,20180617,1843,40.33286,-10.03738,3532,1999.1, 4.6240,35.1598,2,242.1,2,   -999,9, -999,9,7.755,4,17.0,4,1.15,4,18.06,4,0.00,2,-999,9,-999,9,2335,2,2.9,0.1
 35HT20180611,7,1, 9,11,20180617,1843,40.33286,-10.03738,3532,1999.2, 4.6231,35.1597,2,242.5,2,35.1610,2,242.4,2,7.747,2,-999,9,-999,9, -999,9,-999,9,-999,9,-999,9,-999,9,-999,-999
 35HT20180611,7,1,10,12,20180617,1843,40.33286,-10.03738,3532,1799.6, 5.6009,35.3002,2,234.7,2,35.3006,2,235.2,2,7.752,2,14.8,2,1.13,2,17.79,2,0.00,2,-999,9,-999,9,2335,2,-999,-999
 35HT20180611,7,1,11,13,20180617,1843,40.33286,-10.03738,3532,1600.4, 7.2743,35.5649,2,217.2,2,35.5711,4,217.6,2,7.764,2,12.2,2,1.06,2,17.31,2,0.00,2,-999,9,-999,9,2352,2,-999,-999
 35HT20180611,7,1,12,14,20180617,1843,40.33286,-10.03738,3532,1404.7, 9.2475,35.9259,2,197.5,2,35.9302,4,197.5,2,7.772,2,10.9,2,0.97,2,16.45,2,0.00,2,-999,9,-999,9,2377,2,-999,-999
 35HT20180611,7,1,13,15,20180617,1843,40.33286,-10.03738,3532,1201.2,10.8393,36.1937,2,183.4,2,36.1942,2,183.7,2,7.799,2,9.54,2,0.92,2,15.67,2,0.00,2,-999,9,-999,9,2393,2,-999,-999
 35HT20180611,7,1,15,17,20180617,1843,40.33286,-10.03738,3532, 999.7,11.0879,36.1146,2,180.1,2,36.1154,2,180.6,2,7.797,2,8.84,2,0.95,2,15.92,2,0.00,2,-999,9,-999,9,2385,2,5.2,0.1
 35HT20180611,7,1,16,18,20180617,1843,40.33286,-10.03738,3532, 900.0,11.2709,36.0961,2,179.5,2,36.0968,2,179.5,2,7.797,2,8.44,2,0.93,2,15.66,2,0.00,2,-999,9,-999,9,-999,9,-999,-999
 35HT20180611,7,1,17,19,20180617,1843,40.33286,-10.03738,3532, 800.0,11.5900,36.0801,2,180.6,2,36.0809,2,180.6,2,7.800,2,7.75,2,0.90,2,15.09,2,0.00,2,-999,9,-999,9,2379,2,-999,-999
 35HT20180611,7,1,18,20,20180617,1843,40.33286,-10.03738,3532, 701.6,11.7449,35.9979,2,182.4,2,35.9986,2,182.6,2,7.799,2,7.36,2,0.90,2,14.90,2,0.00,2,-999,9,-999,9,2372,2,-999,-999
 35HT20180611,7,1,19,21,20180617,1843,40.33286,-10.03738,3532, 601.2,11.6622,35.8506,2,186.3,2,35.8515,2,186.2,2,7.793,2,6.88,2,0.91,2,15.12,2,0.00,2,-999,9,-999,9,2359,2,-999,-999
 35HT20180611,7,1,20,22,20180617,1843,40.33286,-10.03738,3532, 501.3,11.4933,35.6765,2,200.3,2,35.6796,4,200.2,2,7.792,2,6.00,2,0.85,2,14.20,2,0.00,2,-999,9,-999,9,2345,2,-999,-999
 35HT20180611,7,1,21,23,20180617,1843,40.33286,-10.03738,3532, 501.4,11.4939,35.6769,2,199.2,2,35.6805,4,199.3,2,7.789,2,5.80,2,0.85,2,14.20,2,0.00,2,-999,9,-999,9,-999,9,-999,-999
 35HT20180611,7,1,22,24,20180617,1843,40.33286,-10.03738,3532, 399.5,11.5670,35.6044,2,212.8,2,35.6046,2,212.6,2,7.797,2,4.70,2,0.74,2,12.85,2,0.00,2,-999,9,-999,9,2339,2,-999,-999
 35HT20180611,7,1,23,25,20180617,1843,40.33286,-10.03738,3532, 301.6,12.0082,35.6222,2,214.5,2,35.6237,2,214.1,2,7.808,2,4.10,2,0.65,2,11.48,2,0.00,2,-999,9,-999,9,2338,2,-999,-999
 35HT20180611,7,1,24,26,20180617,1843,40.33286,-10.03738,3532, 199.8,12.5405,35.6616,2,236.1,2,35.6615,2,235.8,2,7.852,2,2.10,2,0.47,2, 7.34,2,0.00,2,-999,9,-999,9,2341,2,-999,-999
 35HT20180611,7,1,25,27,20180617,1843,40.33286,-10.03738,3532, 150.1,12.8393,35.6969,2,239.4,2,35.6985,2,239.0,2,7.866,2,1.60,2,0.38,2, 6.32,2,0.00,2,-999,9,-999,9,-999,9,-999,-999
 35HT20180611,7,1,26,28,20180617,1843,40.33286,-10.03738,3532, 101.5,13.1829,35.7381,2,238.7,2,35.7388,2,238.0,2,7.874,2,1.40,2,0.32,2, 5.49,2,0.01,2,-999,9,-999,9,2345,2,16.6,0.3
 35HT20180611,7,1,27,29,20180617,1843,40.33286,-10.03738,3532,  56.7,13.5394,35.7294,2,239.4,2,35.7302,2,238.2,2,7.883,2,1.00,2,0.25,2, 4.21,2,0.04,2,-999,9,-999,9,-999,9,-999,-999
 35HT20180611,7,1,28,30,20180617,1843,40.33286,-10.03738,3532,   8.8,16.6534,35.4789,2,249.7,2,35.4794,2,249.7,2,7.992,2,0.30,2,0.05,2, 0.06,2,0.00,2,0.70,2,4.48,2,2339,2,-999,-999
 35HT20180611,8,1, 1, 3,20180617,2318,40.33332,-10.30214,3903,3959.1, 2.4927,34.9040,2,243.4,2,34.9048,2,243.9,2,7.746,2,43.5,2,1.43,2,21.80,2,0.00,2,-999,9,-999,9,-999,9,-999,-999
 35HT20180611,8,1, 2, 4,20180617,2318,40.33332,-10.30214,3903,3731.8, 2.5173,34.9090,2,243.7,2,34.9079,2,245.1,2,7.747,2,42.3,2,1.42,2,21.83,2,0.00,2,-999,9,-999,9,-999,9,-999,-999
 35HT20180611,8,1, 3, 5,20180617,2318,40.33332,-10.30214,3903,3502.4, 2.5924,34.9186,2,244.1,2,34.9187,2,245.1,2,7.746,2,40.1,2,1.36,2,21.58,2,0.00,2,-999,9,-999,9,-999,9,-999,-999
 35HT20180611,8,1, 4, 6,20180617,2318,40.33332,-10.30214,3903,3248.9, 2.7047,34.9319,2,244.4,2,34.9327,2,244.3,2,7.746,2,37.6,2,1.37,2,21.46,2,0.00,2,-999,9,-999,9,-999,9,-999,-999
 35HT20180611,8,1, 5, 7,20180617,2318,40.33332,-10.30214,3903,3002.2, 2.8666,34.9495,2,245.0,2,34.9502,2,245.1,2,7.749,2,34.4,2,1.39,2,20.91,2,0.00,2,-999,9,-999,9,-999,9,-999,-999
 35HT20180611,8,1, 6, 8,20180617,2318,40.33332,-10.30214,3903,2729.1, 3.0914,34.9734,2,245.9,2,34.9742,2,245.7,2,7.750,2,30.9,2,1.37,2,20.14,2,0.00,2,-999,9,-999,9,-999,9,-999,-999
 35HT20180611,8,1, 7, 9,20180617,2318,40.33332,-10.30214,3903,2502.4, 3.3936,35.0089,2,245.2,2,35.0095,2,245.3,2,7.748,2,28.1,2,1.37,2,19.95,2,0.00,2,-999,9,-999,9,-999,9,-999,-999
 35HT20180611,8,1, 8,10,20180617,2318,40.33332,-10.30214,3903,2251.8, 3.9547,35.0711,2,246.8,2,   -999,9, -999,9,7.759,4,20.0,4,1.20,4,18.22,4,0.00,2,-999,9,-999,9,-999,9,-999,-999
 35HT20180611,8,1, 9,11,20180617,2318,40.33332,-10.30214,3903,2000.6, 4.6032,35.1566,2,242.7,2,35.1587,2,242.6,2,7.748,2,18.2,2,1.19,2,18.53,2,0.00,2,-999,9,-999,9,-999,9,-999,-999
 35HT20180611,8,1,10,12,20180617,2318,40.33332,-10.30214,3903,2000.8, 4.6032,35.1566,2,242.7,2,35.1583,2,242.6,2,7.749,2,18.2,2,1.16,2,18.78,2,0.00,2,-999,9,-999,9,-999,9,-999,-999
 35HT20180611,8,1,11,13,20180617,2318,40.33332,-10.30214,3903,1802.0, 5.3928,35.2681,2,236.3,2,35.2692,2,236.2,2,7.751,2,15.3,2,1.12,2,17.89,2,0.00,2,-999,9,-999,9,-999,9,-999,-999
 35HT20180611,8,1,12,14,20180617,2318,40.33332,-10.30214,3903,1600.5, 6.8490,35.5023,2,221.6,2,35.5079,4,220.9,2,7.762,2,12.9,2,1.08,2,17.42,2,0.00,2,-999,9,-999,9,-999,9,-999,-999
 35HT20180611,8,1,13,15,20180617,2318,40.33332,-10.30214,3903,1399.8, 8.9318,35.8686,2,199.8,2,   -999,9,199.9,2,7.783,2,13.0,2,1.07,2,17.54,2,0.00,2,-999,9,-999,9,-999,9,-999,-999
 35HT20180611,8,1,14,16,20180617,2318,40.33332,-10.30214,3903,1202.4,10.8539,36.2195,2,184.4,2,36.2179,2,184.6,2,7.798,2,9.41,2,0.94,2,15.56,2,0.01,2,-999,9,-999,9,-999,9,-999,-999
 35HT20180611,8,1,15,17,20180617,2318,40.33332,-10.30214,3903,1001.9,11.2041,36.1624,2,179.6,2,36.1628,2,179.8,2,7.799,2,8.77,2,0.89,2,15.72,2,0.00,2,-999,9,-999,9,-999,9,-999,-999
 35HT20180611,8,1,16,18,20180617,2318,40.33332,-10.30214,3903, 900.1,11.3037,36.1062,2,181.0,2,36.1061,2,180.9,2,7.799,2,8.37,2,0.86,2,15.77,2,0.00,2,-999,9,-999,9,-999,9,-999,-999
 35HT20180611,8,1,17,19,20180617,2318,40.33332,-10.30214,3903, 800.3,11.6011,36.0860,2,180.9,2,36.0852,2,181.1,2,7.801,2,7.83,2,0.83,2,15.15,2,0.00,2,-999,9,-999,9,-999,9,-999,-999
 35HT20180611,8,1,18,20,20180617,2318,40.33332,-10.30214,3903, 701.1,11.7861,36.0228,2,181.9,2,36.0221,2,182.1,2,7.800,2,7.88,2,0.85,2,14.92,2,0.00,2,-999,9,-999,9,-999,9,-999,-999
 35HT20180611,8,1,19,21,20180617,2318,40.33332,-10.30214,3903, 601.6,11.6796,35.8624,2,185.5,2,35.8632,2,185.4,2,7.794,2,6.85,2,0.83,2,15.04,2,0.00,2,-999,9,-999,9,-999,9,-999,-999
 35HT20180611,8,1,20,22,20180617,2318,40.33332,-10.30214,3903, 501.2,11.5271,35.6683,2,199.9,2,35.6683,2,200.0,2,7.795,2,5.70,2,0.78,2,14.30,2,0.01,2,-999,9,-999,9,-999,9,-999,-999
 35HT20180611,8,1,21,23,20180617,2318,40.33332,-10.30214,3903, 501.3,11.5272,35.6684,2,199.8,2,35.6686,2,200.0,2,7.792,2,5.60,2,0.83,2,14.23,2,0.01,2,-999,9,-999,9,-999,9,-999,-999
 35HT20180611,8,1,22,24,20180617,2318,40.33332,-10.30214,3903, 402.1,11.6941,35.6268,2,209.4,2,35.6267,2,208.8,2,7.799,2,4.70,2,0.75,2,13.07,2,0.02,2,-999,9,-999,9,-999,9,-999,-999
 35HT20180611,8,1,23,25,20180617,2318,40.33332,-10.30214,3903, 300.9,12.0390,35.6296,2,213.8,2,35.6297,2,213.5,2,7.809,2,3.80,2,0.70,2,11.84,2,0.01,2,-999,9,-999,9,-999,9,-999,-999
 35HT20180611,8,1,24,26,20180617,2318,40.33332,-10.30214,3903, 201.0,12.4057,35.6415,2,221.7,2,35.6403,2,221.3,2,7.831,2,3.10,2,0.64,2,10.16,2,0.00,2,-999,9,-999,9,-999,9,-999,-999
 35HT20180611,8,1,25,27,20180617,2318,40.33332,-10.30214,3903, 150.0,13.0718,35.7230,2,233.4,2,35.7221,2,234.1,2,7.867,2,2.10,2,0.46,2, 6.90,2,0.01,2,-999,9,-999,9,-999,9,-999,-999
 35HT20180611,8,1,26,28,20180617,2318,40.33332,-10.30214,3903, 101.6,13.5152,35.7791,2,242.4,2,35.7781,2,242.2,2,7.890,2,1.40,2,0.32,2, 4.74,2,0.02,2,-999,9,-999,9,-999,9,-999,-999
 35HT20180611,8,1,27,29,20180617,2318,40.33332,-10.30214,3903,  56.7,14.2501,35.8124,2,243.9,2,35.8168,4,245.0,2,7.911,2,0.90,2,0.19,2, 2.46,2,0.19,2,-999,9,-999,9,-999,9,-999,-999
 35HT20180611,8,1,28,30,20180617,2318,40.33332,-10.30214,3903,   6.1,16.5089,35.5004,2,250.0,2,35.5007,2,249.8,2,7.986,2,0.40,2,0.03,2, 0.00,2,0.00,2,-999,9,-999,9,-999,9,-999,-999