BOTTLE,20240404CCHSIOADS
EXPOCODE,STNNBR,CASTNO,SAMPNO,BTLNBR,DATE,TIME,LATITUDE,LONGITUDE,DEPTH,CTDPRS,CTDTMP,CTDSAL,CTDSAL_FLAG_W,CTDOXY,CTDOXY_FLAG_W,SALNTY,SALNTY_FLAG_W,OXYGEN,OXYGEN_FLAG_W,PH_TOT,PH_TOT_FLAG_W,SILCAT,SILCAT_FLAG_W,PHSPHT,PHSPHT_FLAG_W,NITRAT,NITRAT_FLAG_W,NITRIT,NITRIT_FLAG_W,DELO18,DELO18_FLAG_W,DELD,DELD_FLAG_W,ALKALI,ALKALI_FLAG_W,I-129,I129ER
,,,,,,,,,METERS,DBAR,DEG C,PSS-78,,UMOL/KG,,PSS-78,,UMOL/KG,,,,UMOL/KG,,UMOL/KG,,UMOL/KG,,UMOL/KG,,/MILLE,,/MILLE,,UMOL/KG,,E7/KG,E7/KG
 35HT20180611,15,1, 1, 3,20180619,1452,40.78780,-13.10152,5337,5430.9, 2.5622,34.8930,2,244.9,2,34.8907,2,244.2,2,7.744,2,46.0,2,1.47,2,22.13,2,0.00,2,-999,9,-999,9,2351,2,-999,-999
 35HT20180611,15,1, 2, 4,20180619,1452,40.78780,-13.10152,5337,5000.1, 2.5171,34.8945,2,244.3,2,34.8939,2,244.1,2,7.745,2,45.56,2,1.45,2,22.25,2,0.00,2,-999,9,-999,9,2352,2,-999,-999
 35HT20180611,15,1, 3, 5,20180619,1452,40.78780,-13.10152,5337,4501.8, 2.4883,34.8982,2,243.8,2,34.8980,2,244.6,2,7.743,2,44.76,2,1.48,2,22.18,2,0.00,2,-999,9,-999,9,2351,2,-999,-999
 35HT20180611,15,1, 4, 6,20180619,1452,40.78780,-13.10152,5337,4001.1, 2.5374,34.9087,2,244.0,2,34.9084,2,244.5,2,7.743,2,42.68,2,1.45,2,22.15,2,0.00,2,-999,9,-999,9,2348,2,-999,-999
 35HT20180611,15,1, 5, 7,20180619,1452,40.78780,-13.10152,5337,3500.0, 2.6580,34.9248,2,246.0,2,34.9247,2,246.3,2,7.744,2,37.59,2,1.39,2,20.98,2,0.00,2,-999,9,-999,9,2342,2,-999,-999
 35HT20180611,15,1, 6, 8,20180619,1452,40.78780,-13.10152,5337,3251.4, 2.7592,34.9354,2,247.0,2,34.9354,2,247.6,2,7.744,2,34.87,2,1.32,2,20.52,2,0.00,2,-999,9,-999,9,2339,2,-999,-999
 35HT20180611,15,1, 7, 9,20180619,1452,40.78780,-13.10152,5337,2999.8, 2.8418,34.9442,2,248.2,2,34.9446,2,248.8,2,7.744,2,32.95,2,1.30,2,20.32,2,0.00,2,-999,9,-999,9,2337,2,-999,-999
 35HT20180611,15,1, 8,10,20180619,1452,40.78780,-13.10152,5337,2749.5, 3.0056,34.9586,2,250.5,2,   -999,9, -999,9,7.751,4,26.0,4,1.21,4,19.14,4,0.00,2,-999,9,-999,9,2335,2,-999,-999
 35HT20180611,15,1, 9,11,20180619,1452,40.78780,-13.10152,5337,2501.4, 3.3172,34.9796,2,251.7,2,34.9801,2,252.0,2,7.741,2,24.64,2,1.17,2,19.34,2,0.00,2,-999,9,-999,9,2328,2,-999,-999
 35HT20180611,15,1,10,12,20180619,1452,40.78780,-13.10152,5337,2250.3, 3.4779,34.9850,2,255.3,2,34.9852,2,255.6,2,7.741,2,21.24,2,1.21,2,18.66,2,0.00,2,-999,9,-999,9,2321,3,-999,-999
 35HT20180611,15,1,11,13,20180619,1452,40.78780,-13.10152,5337,2002.0, 3.9928,35.0297,2,257.1,2,35.0310,2,257.6,2,7.740,2,15.33,2,1.17,2,17.78,2,0.00,2,-999,9,-999,9,2317,2,-999,-999
 35HT20180611,15,1,12,14,20180619,1452,40.78780,-13.10152,5337,1800.0, 4.8071,35.1415,2,247.8,2,35.1429,2,248.5,2,7.738,2,13.5,2,1.15,2,17.49,2,0.00,2,-999,9,-999,9,2322,2,-999,-999
 35HT20180611,15,1,13,15,20180619,1452,40.78780,-13.10152,5337,1603.9, 5.7413,35.2650,2,237.6,2,35.2658,2,237.9,2,7.741,2,11.69,2,1.11,2,17.33,2,0.00,2,-999,9,-999,9,2330,2,-999,-999
 35HT20180611,15,1,14,16,20180619,1452,40.78780,-13.10152,5337,1401.0, 7.7119,35.5999,2,213.9,2,35.6076,4,214.0,2,7.762,2,11.38,2,0.99,2,17.41,2,0.00,2,-999,9,-999,9,2353,2,-999,-999
 35HT20180611,15,1,15,17,20180619,1452,40.78780,-13.10152,5337,1200.2, 9.7349,35.9241,2,190.7,2,35.9251,2,190.7,2,7.779,2,9.51,2,0.98,2,16.40,2,0.00,2,-999,9,-999,9,2374,2,-999,-999
 35HT20180611,15,1,16,18,20180619,1452,40.78780,-13.10152,5337,1000.9,10.4988,35.9286,2,182.1,2,35.9293,2,182.5,2,7.782,2,8.71,2,0.96,2,16.26,2,0.00,2,-999,9,-999,9,2373,2,-999,-999
 35HT20180611,15,1,17,19,20180619,1452,40.78780,-13.10152,5337, 898.6,10.9396,35.9228,2,181.6,2,35.9229,2,181.1,2,7.784,2,8.03,2,0.98,2,15.47,2,0.00,2,-999,9,-999,9,-999,9,-999,-999
 35HT20180611,15,1,18,20,20180619,1452,40.78780,-13.10152,5337, 799.8,11.2289,35.8764,2,182.6,2,35.8769,2,182.1,2,7.784,2,7.43,2,0.98,2,14.59,2,0.00,2,-999,9,-999,9,2365,2,-999,-999
 35HT20180611,15,1,19,21,20180619,1452,40.78780,-13.10152,5337, 698.7,11.0323,35.6870,2,188.8,2,35.6877,2,188.0,2,7.779,2,6.94,2,0.97,2,14.71,2,0.00,2,-999,9,-999,9,-999,9,-999,-999
 35HT20180611,15,1,20,22,20180619,1452,40.78780,-13.10152,5337, 601.5,11.1074,35.5881,2,202.0,2,35.5874,2,201.8,2,7.787,2,6.32,2,0.89,2,13.61,2,0.00,2,-999,9,-999,9,2340,2,-999,-999
 35HT20180611,15,1,21,23,20180619,1452,40.78780,-13.10152,5337, 500.2,11.5317,35.5872,2,212.9,2,35.5871,2,213.6,2,7.796,2,4.70,2,0.78,2,12.03,2,0.01,2,-999,9,-999,9,2337,2,-999,-999
 35HT20180611,15,1,22,24,20180619,1452,40.78780,-13.10152,5337, 401.7,11.8439,35.5948,2,216.4,2,35.5947,2,216.4,2,7.802,2,4.22,2,0.75,2,11.19,2,0.00,2,-999,9,-999,9,2339,2,-999,-999
 35HT20180611,15,1,23,25,20180619,1452,40.78780,-13.10152,5337, 301.3,12.3096,35.6363,2,218.0,2,35.6376,2,217.5,2,7.820,2,3.83,2,0.66,2,10.10,2,0.00,2,-999,9,-999,9,2340,2,-999,-999
 35HT20180611,15,1,24,26,20180619,1452,40.78780,-13.10152,5337, 200.7,13.1257,35.7320,2,221.9,2,35.7321,2,222.1,2,7.852,2,2.89,2,0.55,2, 7.94,2,0.00,2,-999,9,-999,9,2345,2,-999,-999
 35HT20180611,15,1,25,27,20180619,1452,40.78780,-13.10152,5337, 151.3,13.8138,35.8282,2,234.6,2,35.8286,2,235.3,2,7.888,2,1.99,2,0.27,2, 4.94,2,0.01,2,-999,9,-999,9,-999,9,-999,-999
 35HT20180611,15,1,26,28,20180619,1452,40.78780,-13.10152,5337, 103.2,14.0104,35.8261,2,239.4,2,35.8261,2,239.6,2,7.896,2,1.41,2,0.27,2, 4.64,2,0.01,2,-999,9,-999,9,2352,2,-999,-999
 35HT20180611,15,1,27,29,20180619,1452,40.78780,-13.10152,5337,  58.2,14.7612,35.9033,2,243.5,2,35.9032,2,243.5,2,7.922,2,0.75,2,0.13,2, 1.80,2,0.62,2,-999,9,-999,9,-999,9,-999,-999
 35HT20180611,15,1,28,30,20180619,1452,40.78780,-13.10152,5337,   7.1,16.5649,35.8664,2,248.2,2,35.8667,2,247.5,2,7.964,2,0.51,2,0.06,2, 0.16,2,0.00,2,0.80,2,4.93,2,2358,2,-999,-999
 35HT20180611,16,1, 1, 3,20180619,2101,41.08810,-13.49700,5349,5443.8, 2.5667,34.8930,2,244.6,2,34.8941,2,244.2,2,7.746,2,45.74,2,1.41,2,22.30,2,0.00,2,-999,9,-999,9,-999,9,-999,-999
 35HT20180611,16,1, 2, 4,20180619,2101,41.08810,-13.49700,5349,5001.2, 2.5258,34.8954,2,243.3,2,34.8959,2,243.2,2,7.748,2,45.44,2,1.45,2,22.50,2,0.00,2,-999,9,-999,9,-999,9,-999,-999
 35HT20180611,16,1, 3, 5,20180619,2101,41.08810,-13.49700,5349,4497.6, 2.5089,34.9002,2,243.6,2,34.8999,2,243.3,2,7.747,2,44.44,2,1.45,2,21.90,2,0.00,2,-999,9,-999,9,-999,9,-999,-999
 35HT20180611,16,1, 4, 6,20180619,2101,41.08810,-13.49700,5349,4002.1, 2.5621,34.9112,2,243.6,2,34.9114,2,243.6,2,7.748,2,41.78,2,1.44,2,21.60,2,0.00,2,-999,9,-999,9,-999,9,-999,-999
 35HT20180611,16,1, 5, 7,20180619,2101,41.08810,-13.49700,5349,3503.2, 2.6869,34.9272,2,245.7,2,34.9276,2,245.8,2,7.747,2,37.14,2,1.33,2,20.90,2,0.00,2,-999,9,-999,9,-999,9,-999,-999
 35HT20180611,16,1, 6, 8,20180619,2101,41.08810,-13.49700,5349,3252.2, 2.7807,34.9373,2,247.0,2,34.9376,2,246.9,2,7.749,2,34.53,2,1.31,2,20.40,2,0.00,2,-999,9,-999,9,-999,9,-999,-999
 35HT20180611,16,1, 7, 9,20180619,2101,41.08810,-13.49700,5349,3001.2, 2.9030,34.9493,2,248.5,2,34.9496,2,248.6,2,7.754,4,31.66,2,1.31,2,20.10,2,0.00,2,0.23,2,1.11,2,-999,9,-999,-999
 35HT20180611,16,1, 8,10,20180619,2101,41.08810,-13.49700,5349,2752.1, 3.0541,34.9625,2,249.9,2,   -999,9, -999,9,7.756,4,25.85,4,1.19,4,19.00,4,0.00,2,-999,9,-999,9,-999,9,-999,-999
 35HT20180611,16,1, 9,11,20180619,2101,41.08810,-13.49700,5349,2501.9, 3.3358,34.9862,2,252.0,2,34.9872,2,252.1,2,7.748,2,24.06,2,1.21,2,19.40,2,0.00,2,-999,9,-999,9,-999,9,-999,-999
 35HT20180611,16,1,10,12,20180619,2101,41.08810,-13.49700,5349,2251.4, 3.6447,35.0065,2,254.9,2,35.0073,2,254.4,2,7.752,2,19.71,2,1.14,2,18.30,2,0.00,2,-999,9,-999,9,-999,9,-999,-999
 35HT20180611,16,1,11,13,20180619,2101,41.08810,-13.49700,5349,2005.4, 4.0483,35.0400,2,253.9,2,35.0390,2,255.5,2,7.739,2,15.81,2,1.12,2,17.80,2,0.00,2,-999,9,-999,9,-999,9,-999,-999
 35HT20180611,16,1,12,14,20180619,2101,41.08810,-13.49700,5349,1802.0, 4.6880,35.1156,2,249.1,2,35.1195,4,249.6,2,7.742,2,13.38,2,1.09,2,17.60,2,0.00,2,-999,9,-999,9,-999,9,-999,-999
 35HT20180611,16,1,13,15,20180619,2101,41.08810,-13.49700,5349,1603.2, 6.0012,35.3247,2,232.6,2,35.3274,4,233.2,2,7.744,2,12.29,2,1.07,2,17.50,2,0.00,2,-999,9,-999,9,-999,9,-999,-999
 35HT20180611,16,1,14,16,20180619,2101,41.08810,-13.49700,5349,1400.6, 8.2253,35.7075,2,207.4,2,35.7099,2,206.8,2,7.771,2,11.06,2,1.04,2,17.10,2,0.00,2,-999,9,-999,9,-999,9,-999,-999
 35HT20180611,16,1,15,17,20180619,2101,41.08810,-13.49700,5349,1200.1,10.0527,35.9789,2,187.2,2,35.9789,2,187.0,2,7.783,2,9.82,2,1.01,2,16.60,2,0.00,2,-999,9,-999,9,-999,9,-999,-999
 35HT20180611,16,1,16,18,20180619,2101,41.08810,-13.49700,5349,1003.4,10.8370,36.0330,2,179.5,2,36.0324,2,179.8,2,7.790,2,9.13,2,0.98,2,16.20,2,0.00,2,-999,9,-999,9,-999,9,-999,-999
 35HT20180611,16,1,17,19,20180619,2101,41.08810,-13.49700,5349, 898.5,11.0996,35.9782,2,178.7,2,35.9780,2,178.3,2,7.785,2,8.57,2,0.97,2,16.10,2,0.00,2,-999,9,-999,9,-999,9,-999,-999
 35HT20180611,16,1,18,20,20180619,2101,41.08810,-13.49700,5349, 801.7,11.1855,35.8672,2,181.4,2,35.8589,4,180.7,2,7.784,2,8.03,2,0.94,2,15.90,2,0.00,2,-999,9,-999,9,-999,9,-999,-999
 35HT20180611,16,1,19,21,20180619,2101,41.08810,-13.49700,5349, 701.7,10.9173,35.6486,2,190.9,2,35.6484,2,190.3,2,7.777,2,-999,9,-999,9, -999,9,-999,9,-999,9,-999,9,-999,9,-999,-999
 35HT20180611,16,1,20,22,20180619,2101,41.08810,-13.49700,5349, 600.4,11.2037,35.6041,2,202.3,2,35.6048,2,202.2,2,7.788,2,5.94,2,0.84,2,14.30,2,0.00,2,-999,9,-999,9,-999,9,-999,-999
 35HT20180611,16,1,21,23,20180619,2101,41.08810,-13.49700,5349, 500.8,11.5422,35.6046,2,209.7,2,35.6045,2,208.5,2,7.795,2,4.93,2,0.77,2,13.20,2,0.00,2,-999,9,-999,9,-999,9,-999,-999
 35HT20180611,16,1,22,24,20180619,2101,41.08810,-13.49700,5349, 400.7,11.9040,35.6205,2,211.5,2,35.6210,2,210.7,2,7.809,2,4.11,2,0.71,2,12.40,2,0.00,2,-999,9,-999,9,-999,9,-999,-999
 35HT20180611,16,1,23,25,20180619,2101,41.08810,-13.49700,5349, 300.2,12.1965,35.6188,2,218.4,2,35.6179,2,218.8,2,7.821,2,3.50,2,0.65,2,10.80,2,0.00,2,-999,9,-999,9,-999,9,-999,-999
 35HT20180611,16,1,24,26,20180619,2101,41.08810,-13.49700,5349, 199.9,13.0007,35.7162,2,226.0,2,35.7162,2,224.2,2,7.850,2,2.45,2,0.52,2, 8.28,2,0.00,2,-999,9,-999,9,-999,9,-999,-999
 35HT20180611,16,1,25,27,20180619,2101,41.08810,-13.49700,5349, 150.7,13.7303,35.8167,2,232.3,2,35.8144,4,232.0,2,7.882,2,1.71,2,0.36,2, 5.65,2,0.00,2,0.77,2,4.85,2,-999,9,-999,-999
 35HT20180611,16,1,26,28,20180619,2101,41.08810,-13.49700,5349, 101.0,14.5153,35.9381,2,237.8,2,35.9382,2,237.5,2,7.908,2,0.97,2,0.21,2, 3.12,2,0.02,2,-999,9,-999,9,-999,9,-999,-999
 35HT20180611,16,1,27,29,20180619,2101,41.08810,-13.49700,5349,  56.1,15.3748,35.9179,2,250.5,2,35.9199,2,251.0,2,7.953,2,0.52,2,0.11,2, 0.07,2,0.00,2,-999,9,-999,9,-999,9,-999,-999
 35HT20180611,16,1,28,30,20180619,2101,41.08810,-13.49700,5349,   7.3,16.7223,35.9111,2,249.9,2,35.9107,2,248.3,2,7.965,2,0.45,2,0.10,2, 0.05,2,0.00,2,0.78,2,4.95,2,-999,9,-999,-999
 35HT20180611,17,1, 1, 3,20180620,0312,41.38260,-13.88892,5346,5439.6, 2.5712,34.8937,2,244.2,2,34.8927,2,246.7,4,7.744,2,45.86,2,1.43,2,22.47,2,0.00,2,-999,9,-999,9,2354,2,0.7,0.1
 35HT20180611,17,1, 2, 4,20180620,0312,41.38260,-13.88892,5346,4999.6, 2.5200,34.8950,2,243.8,2,34.8936,2,245.9,2,7.743,2,45.74,2,1.45,2,22.49,2,0.00,2,-999,9,-999,9,2354,2,0.1,0.1
 35HT20180611,17,1, 3, 5,20180620,0312,41.38260,-13.88892,5346,4499.8, 2.4949,34.8990,2,243.4,2,34.8983,2,244.3,2,7.744,2,44.92,2,1.45,2,22.52,2,0.00,2,-999,9,-999,9,2351,2,0.1,0.1
 35HT20180611,17,1, 4, 6,20180620,0312,41.38260,-13.88892,5346,4001.0, 2.5360,34.9089,2,243.2,2,34.9086,2,244.4,2,7.745,2,42.41,2,1.46,2,22.24,2,0.00,2,-999,9,-999,9,2345,2,0.1,0.1
 35HT20180611,17,1, 5, 7,20180620,0312,41.38260,-13.88892,5346,3499.8, 2.6327,34.9229,2,244.8,2,34.9227,2,246.9,2,7.744,2,39.49,2,1.42,2,21.62,2,0.00,2,-999,9,-999,9,2348,2,0.2,0.1
 35HT20180611,17,1, 6, 8,20180620,0312,41.38260,-13.88892,5346,3251.3, 2.7277,34.9327,2,246.7,2,34.9327,2,247.3,2,7.743,2,35.34,2,1.38,2,20.70,2,0.00,2,-999,9,-999,9,2340,2,-999,-999
 35HT20180611,17,1, 7, 9,20180620,0312,41.38260,-13.88892,5346,2999.9, 2.8457,34.9430,2,249.3,2,34.9430,2,249.7,2,7.743,2,31.71,2,1.35,2,20.36,2,0.00,2,-999,9,-999,9,2335,2,0.9,0.1
 35HT20180611,17,1, 8,10,20180620,0312,41.38260,-13.88892,5346,2749.8, 3.0249,34.9577,2,251.0,2,   -999,9, -999,9,7.752,4,25.08,4,1.23,4,18.85,4,0.00,2,-999,9,-999,9,2332,2,-999,-999
 35HT20180611,17,1, 9,11,20180620,0312,41.38260,-13.88892,5346,2502.1, 3.2346,34.9712,2,254.2,2,34.9921,4,254.1,2,7.749,4,23.22,2,1.23,2,18.95,2,0.00,2,-999,9,-999,9,2327,2,1.8,0.1
 35HT20180611,17,1,10,12,20180620,0312,41.38260,-13.88892,5346,2250.7, 3.5023,34.9790,2,259.0,2,34.9793,2,260.3,2,7.739,2,18.76,2,1.18,2,18.59,2,0.00,2,-999,9,-999,9,2319,2,-999,-999
 35HT20180611,17,1,11,13,20180620,0312,41.38260,-13.88892,5346,2002.2, 3.8490,34.9987,2,260.2,2,34.9991,2,260.1,2,7.736,2,15.05,2,1.15,2,18.03,2,0.00,2,-999,9,-999,9,2314,2,4.4,0.1
 35HT20180611,17,1,12,14,20180620,0312,41.38260,-13.88892,5346,1800.6, 4.3654,35.0494,2,255.9,2,35.0502,2,257.5,2,7.733,2,12.92,2,1.14,2,17.93,2,0.00,2,-999,9,-999,9,2317,2,-999,-999
 35HT20180611,17,1,13,15,20180620,0312,41.38260,-13.88892,5346,1601.1, 4.9879,35.1275,2,248.4,2,35.1283,2,248.5,2,7.731,2,12.01,2,1.15,2,17.95,2,0.00,2,-999,9,-999,9,2320,2,-999,-999
 35HT20180611,17,1,14,16,20180620,0312,41.38260,-13.88892,5346,1401.1, 6.4767,35.3551,2,228.4,2,35.3579,4,228.5,2,7.742,2,11.33,2,1.07,2,17.86,2,0.00,2,-999,9,-999,9,2336,2,8.1,0.2
 35HT20180611,17,1,15,17,20180620,0312,41.38260,-13.88892,5346,1200.5, 8.2289,35.6221,2,205.7,2,35.6233,2,205.3,2,7.758,2,10.54,2,1.07,2,17.50,2,0.00,2,-999,9,-999,9,2354,2,-999,-999
 35HT20180611,17,1,16,18,20180620,0312,41.38260,-13.88892,5346,1000.6, 9.8303,35.7855,2,186.2,2,35.7862,2,186.7,2,7.768,2,9.61,2,1.03,2,17.14,2,0.00,2,-999,9,-999,9,2363,2,-999,-999
 35HT20180611,17,1,17,19,20180620,0312,41.38260,-13.88892,5346, 901.3,10.0259,35.6848,2,185.5,2,35.6856,2,185.2,2,7.764,2,9.14,2,1.03,2,17.24,2,0.00,2,-999,9,-999,9,-999,9,-999,-999
 35HT20180611,17,1,18,20,20180620,0312,41.38260,-13.88892,5346, 800.6,10.3775,35.6314,2,186.0,2,35.6319,2,185.6,2,7.768,2,8.41,2,1.01,2,16.75,2,0.00,2,-999,9,-999,9,2348,2,7.8,0.2
 35HT20180611,17,1,19,21,20180620,0312,41.38260,-13.88892,5346, 699.8,10.5944,35.5423,2,196.3,2,35.5430,2,196.0,2,7.764,2,7.25,2,0.96,2,15.79,2,0.00,2,-999,9,-999,9,-999,9,-999,-999
 35HT20180611,17,1,20,22,20180620,0312,41.38260,-13.88892,5346, 600.1,11.0371,35.5347,2,211.5,2,35.5343,2,211.3,2,7.792,2,5.56,2,0.83,2,14.00,2,0.00,2,-999,9,-999,9,2336,2,-999,-999
 35HT20180611,17,1,21,23,20180620,0312,41.38260,-13.88892,5346, 500.7,11.3989,35.5549,2,216.4,2,35.5544,2,216.2,2,7.798,2,4.56,2,0.75,2,12.79,2,0.00,2,-999,9,-999,9,2336,2,-999,-999
 35HT20180611,17,1,22,24,20180620,0312,41.38260,-13.88892,5346, 402.5,11.7546,35.5787,2,219.1,2,35.5785,2,219.0,2,7.812,2,3.96,2,0.69,2,11.81,2,0.00,2,-999,9,-999,9,2337,2,-999,-999
 35HT20180611,17,1,23,25,20180620,0312,41.38260,-13.88892,5346, 300.4,12.4648,35.6425,2,221.1,2,35.6424,2,221.8,2,7.831,2,3.22,2,0.59,2,10.10,2,0.00,2,-999,9,-999,9,2341,2,-999,-999
 35HT20180611,17,1,24,26,20180620,0312,41.38260,-13.88892,5346, 199.1,13.3734,35.7448,2,238.4,2,35.7450,2,238.5,2,7.873,2,1.99,2,0.43,2, 6.29,2,0.01,2,-999,9,-999,9,2346,2,-999,-999
 35HT20180611,17,1,25,27,20180620,0312,41.38260,-13.88892,5346, 150.3,13.8414,35.8221,2,241.6,2,35.8218,2,240.7,2,7.892,2,1.59,2,0.34,2, 4.59,2,0.02,2,-999,9,-999,9,-999,9,-999,-999
 35HT20180611,17,1,26,28,20180620,0312,41.38260,-13.88892,5346, 101.0,14.3161,35.9030,2,239.7,2,35.9021,2,239.6,2,7.909,2,1.44,2,0.30,2, 3.58,2,0.02,2,-999,9,-999,9,2357,2,-999,-999
 35HT20180611,17,1,27,29,20180620,0312,41.38260,-13.88892,5346,  56.8,14.8466,35.8799,2,244.2,2,35.8798,2,244.5,2,7.921,2,0.71,2,0.21,2, 1.26,2,0.54,2,-999,9,-999,9,-999,9,-999,-999
 35HT20180611,17,1,28,30,20180620,0312,41.38260,-13.88892,5346,   6.9,16.7644,35.9110,2,246.8,2,35.9105,2,246.6,2,7.962,2,0.42,2,0.11,2, 0.07,2,0.00,2,0.83,2,5.07,2,2361,2,-999,-999