BOTTLE,20240404CCHSIOADS
EXPOCODE,STNNBR,CASTNO,SAMPNO,BTLNBR,DATE,TIME,LATITUDE,LONGITUDE,DEPTH,CTDPRS,CTDTMP,CTDSAL,CTDSAL_FLAG_W,CTDOXY,CTDOXY_FLAG_W,SALNTY,SALNTY_FLAG_W,OXYGEN,OXYGEN_FLAG_W,PH_TOT,PH_TOT_FLAG_W,SILCAT,SILCAT_FLAG_W,PHSPHT,PHSPHT_FLAG_W,NITRAT,NITRAT_FLAG_W,NITRIT,NITRIT_FLAG_W,DELO18,DELO18_FLAG_W,DELD,DELD_FLAG_W,ALKALI,ALKALI_FLAG_W,I-129,I129ER
,,,,,,,,,METERS,DBAR,DEG C,PSS-78,,UMOL/KG,,PSS-78,,UMOL/KG,,,,UMOL/KG,,UMOL/KG,,UMOL/KG,,UMOL/KG,,/MILLE,,/MILLE,,UMOL/KG,,E7/KG,E7/KG
 35HT20180611,85,1, 1, 3,20180705,2009,59.77244,-41.29676,2040,2052.8, 2.5061,34.9010,2,289.8,2,34.9005,2,289.8,2,7.717,2,10.86,2,0.96,2,14.98,2,0.00,2,-999,9,-999,9,2305,2,-999,-999
 35HT20180611,85,1, 2, 4,20180705,2009,59.77244,-41.29676,2040,2052.8, 2.5064,34.9010,2,289.8,2,   -999,9, -999,9, -999,9,-999,9,-999,9, -999,9,-999,9,-999,9,-999,9,-999,9,-999,-999
 35HT20180611,85,1, 3, 5,20180705,2009,59.77244,-41.29676,2040,2004.6, 2.5058,34.9013,2,289.7,2,34.8969,4,290.6,2,7.715,2,10.66,2,0.94,2,15.03,2,0.00,2,-999,9,-999,9,2305,2,-999,-999
 35HT20180611,85,1, 4, 6,20180705,2009,59.77244,-41.29676,2040,2004.6, 2.5058,34.9013,2,289.3,2,   -999,9, -999,9, -999,9,-999,9,-999,9, -999,9,-999,9,-999,9,-999,9,-999,9,69.6,1.0
 35HT20180611,85,1, 5, 7,20180705,2009,59.77244,-41.29676,2040,1902.4, 2.9283,34.9307,2,278.0,2,34.9290,2,277.6,2,7.727,2,12.74,2,1.03,2,16.24,2,0.00,2,-999,9,-999,9,2309,2,-999,-999
 35HT20180611,85,1, 6, 8,20180705,2009,59.77244,-41.29676,2040,1901.2, 2.9291,34.9308,2,278.0,2,   -999,9, -999,9, -999,9,-999,9,-999,9, -999,9,-999,9,-999,9,-999,9,-999,9,30.9,0.4
 35HT20180611,85,1, 7, 9,20180705,2009,59.77244,-41.29676,2040,1802.7, 2.9880,34.9318,2,277.7,2,34.9319,2,277.8,2,7.722,2,12.51,2,1.03,2,16.28,2,0.00,2,-999,9,-999,9,2308,2,70.7,1.0
 35HT20180611,85,1, 8,10,20180705,2009,59.77244,-41.29676,2040,1702.4, 3.0666,34.9223,2,279.8,2,   -999,9, -999,9, -999,9,-999,9,-999,9, -999,9,-999,9,-999,9,-999,9,-999,9,-999,-999
 35HT20180611,85,1, 9,11,20180705,2009,59.77244,-41.29676,2040,1628.9, 3.1149,34.9159,2,282.3,2,34.9149,2,282.3,2,7.722,2,10.59,2,1.01,2,15.90,2,0.00,2,-999,9,-999,9,2306,2,-999,-999
 35HT20180611,85,1,10,12,20180705,2009,59.77244,-41.29676,2040,1494.8, 3.3428,34.9218,2,278.6,2,   -999,9, -999,9, -999,9,-999,9,-999,9, -999,9,-999,9,-999,9,-999,9,-999,9,-999,-999
 35HT20180611,85,1,11,13,20180705,2009,59.77244,-41.29676,2040,1393.7, 3.4513,34.9184,2,280.7,2,34.9174,2,280.7,2,7.721,2,10.31,2,1.03,2,16.35,2,0.00,2,-999,9,-999,9,2306,2,-999,-999
 35HT20180611,85,1,12,14,20180705,2009,59.77244,-41.29676,2040,1307.5, 3.5070,34.9138,2,282.1,2,   -999,9, -999,9, -999,9,-999,9,-999,9, -999,9,-999,9,-999,9,-999,9,-999,9,-999,-999
 35HT20180611,85,1,13,15,20180705,2009,59.77244,-41.29676,2040,1211.1, 3.4729,34.8960,2,287.4,2,34.8938,4,287.7,2,7.718,2,9.71,2,0.99,2,16.36,2,0.00,2,-999,9,-999,9,2304,2,-999,-999
 35HT20180611,85,1,15,17,20180705,2009,59.77244,-41.29676,2040,1002.5, 3.4253,34.8773,2,297.1,2,34.8761,2,296.4,2,7.712,2,9.06,2,0.97,2,16.30,2,0.00,2,-999,9,-999,9,2304,2,-999,-999
 35HT20180611,85,1,16,18,20180705,2009,59.77244,-41.29676,2040,1002.4, 3.4254,34.8774,2,295.7,2,   -999,9, -999,9, -999,9,-999,9,-999,9, -999,9,-999,9,-999,9,-999,9,-999,9,-999,-999
 35HT20180611,85,1,17,19,20180705,2009,59.77244,-41.29676,2040, 885.9, 3.4528,34.8793,2,299.0,2,34.8790,2,299.0,2,7.715,2,9.00,2,0.98,2,16.26,2,0.00,2,-999,9,-999,9,2304,2,-999,-999
 35HT20180611,85,1,18,20,20180705,2009,59.77244,-41.29676,2040, 701.1, 3.5948,34.8930,2,297.3,2,34.8903,4,297.6,2,7.707,2,9.05,2,1.01,2,16.42,2,0.00,2,-999,9,-999,9,2305,2,-999,-999
 35HT20180611,85,1,19,21,20180705,2009,59.77244,-41.29676,2040, 602.1, 3.7006,34.9003,2,295.2,2,34.8983,2,293.7,2,7.713,2,9.08,2,1.01,2,16.31,2,0.00,2,-999,9,-999,9,2305,2,-999,-999
 35HT20180611,85,1,20,22,20180705,2009,59.77244,-41.29676,2040, 510.3, 3.8355,34.9080,2,290.7,2,34.9071,2,290.6,2,7.713,2,9.06,2,1.03,2,16.28,2,0.00,2,-999,9,-999,9,-999,9,-999,-999
 35HT20180611,85,1,21,23,20180705,2009,59.77244,-41.29676,2040, 426.7, 3.9206,34.8934,2,296.5,2,34.8864,4,296.5,2,7.715,2,8.95,2,1.01,2,16.28,2,0.03,2,-999,9,-999,9,-999,9,-999,-999
 35HT20180611,85,1,22,24,20180705,2009,59.77244,-41.29676,2040, 325.8, 4.2709,34.9112,2,287.8,2,34.9089,4,287.9,2,7.716,2,8.85,2,1.02,2,16.16,2,0.06,2,-999,9,-999,9,-999,9,-999,-999
 35HT20180611,85,1,23,25,20180705,2009,59.77244,-41.29676,2040, 230.6, 4.5839,34.9102,2,284.0,2,34.9104,2,283.3,2,7.725,2,8.55,2,1.02,2,15.82,2,0.04,2,-999,9,-999,9,-999,9,-999,-999
 35HT20180611,85,1,24,26,20180705,2009,59.77244,-41.29676,2040, 148.9, 4.7306,34.8932,2,288.0,2,34.8923,2,287.1,2,7.723,2,8.11,2,0.99,2,15.40,2,0.02,2,-999,9,-999,9,-999,9,-999,-999
 35HT20180611,85,1,25,27,20180705,2009,59.77244,-41.29676,2040,  97.5, 5.1394,34.9182,2,287.7,2,34.9161,4,288.1,2,7.733,2,7.93,2,1.01,2,15.37,2,0.06,2,-999,9,-999,9,-999,9,-999,-999
 35HT20180611,85,1,26,28,20180705,2009,59.77244,-41.29676,2040,  55.6, 5.4727,34.9262,2,290.8,2,34.9255,2,290.9,2,7.742,2,6.92,2,0.98,2,14.86,2,0.33,2,-999,9,-999,9,-999,9,-999,-999
 35HT20180611,85,1,27,29,20180705,2009,59.77244,-41.29676,2040,   7.8, 6.5787,34.8387,2,311.6,2,34.8384,2,311.9,2,7.833,2,1.51,2,0.60,2, 8.73,2,0.18,2,-999,9,-999,9,-999,9,-999,-999
 35HT20180611,85,1,28,30,20180705,2009,59.77244,-41.29676,2040,   7.9, 6.5801,34.8386,2,311.6,2,   -999,9, -999,9, -999,9,-999,9,-999,9, -999,9,-999,9,-999,9,-999,9,-999,9,-999,-999
 35HT20180611,86,1, 1, 3,20180706,0655,59.79340,-41.73088,1845,1855.0, 2.5758,34.9021,2,288.7,2,34.9017,2,288.7,2,7.718,2,11.07,2,1.00,2,15.12,2,0.00,2,-999,9,-999,9,-999,9,-999,-999
 35HT20180611,86,1, 2, 4,20180706,0655,59.79340,-41.73088,1845,1796.0, 2.6867,34.9084,2,285.9,2,   -999,9, -999,9, -999,9,-999,9,-999,9, -999,9,-999,9,-999,9,-999,9,-999,9,-999,-999
 35HT20180611,86,1, 3, 5,20180706,0655,59.79340,-41.73088,1845,1700.9, 2.8641,34.9132,2,283.3,2,34.9132,2,283.6,2,7.721,2,10.81,2,1.03,2,15.65,2,0.00,2,-999,9,-999,9,-999,9,-999,-999
 35HT20180611,86,1, 4, 6,20180706,0655,59.79340,-41.73088,1845,1600.9, 3.0320,34.9184,2,281.1,2,   -999,9, -999,9, -999,9,-999,9,-999,9, -999,9,-999,9,-999,9,-999,9,-999,9,-999,-999
 35HT20180611,86,1, 5, 7,20180706,0655,59.79340,-41.73088,1845,1501.8, 3.2166,34.9244,2,278.9,2,34.9242,2,278.9,2,7.721,2,10.92,2,1.04,2,16.12,2,0.00,2,-999,9,-999,9,-999,9,-999,-999
 35HT20180611,86,1, 7, 9,20180706,0655,59.79340,-41.73088,1845,1299.7, 3.4456,34.9198,2,280.6,2,34.9198,2,280.8,2,7.717,2,10.21,2,1.04,2,16.05,2,0.00,2,-999,9,-999,9,-999,9,-999,-999
 35HT20180611,86,1, 8,10,20180706,0655,59.79340,-41.73088,1845,1300.0, 3.4471,34.9198,2,281.9,2,34.9198,2,282.3,2,7.717,2,10.28,2,1.04,2,16.10,2,0.00,2,-999,9,-999,9,-999,9,-999,-999
 35HT20180611,86,1,11,13,20180706,0655,59.79340,-41.73088,1845,1001.5, 3.4573,34.8822,2,294.9,2,34.8822,2,296.0,2,7.709,2,9.05,2,1.04,2,16.05,2,0.00,2,-999,9,-999,9,-999,9,-999,-999
 35HT20180611,86,1,13,15,20180706,0655,59.79340,-41.73088,1845, 801.1, 3.5854,34.8927,2,297.2,2,34.8923,2,296.9,2,7.707,2,9.04,2,1.05,2,16.37,2,0.00,2,-999,9,-999,9,-999,9,-999,-999
 35HT20180611,86,1,15,17,20180706,0655,59.79340,-41.73088,1845, 601.3, 3.7359,34.9012,2,294.6,2,34.9013,2,293.7,2,7.711,2,9.01,2,1.07,2,16.32,2,0.00,2,-999,9,-999,9,-999,9,-999,-999
 35HT20180611,86,1,16,18,20180706,0655,59.79340,-41.73088,1845, 501.8, 3.9032,34.9095,2,288.6,2,34.9091,2,288.0,2,7.711,2,9.03,2,1.08,2,16.41,2,0.00,2,-999,9,-999,9,-999,9,-999,-999
 35HT20180611,86,1,17,19,20180706,0655,59.79340,-41.73088,1845, 401.3, 4.1273,34.9139,2,286.0,2,34.9131,2,285.2,2,7.711,2,8.95,2,1.10,2,16.48,2,0.01,2,-999,9,-999,9,-999,9,-999,-999
 35HT20180611,86,1,18,20,20180706,0655,59.79340,-41.73088,1845, 301.1, 4.3533,34.9168,2,284.0,2,34.9163,2,283.2,2,7.712,2,9.03,2,1.08,2,16.21,2,0.02,2,-999,9,-999,9,-999,9,-999,-999
 35HT20180611,86,1,19,21,20180706,0655,59.79340,-41.73088,1845, 199.6, 4.6819,34.9163,2,288.4,2,34.9157,2,288.3,2,7.722,2,8.48,2,1.08,2,15.87,2,0.09,2,-999,9,-999,9,-999,9,-999,-999
 35HT20180611,86,1,21,23,20180706,0655,59.79340,-41.73088,1845,  99.7, 5.0644,34.9221,2,293.5,2,34.9215,2,292.9,2,7.726,2,7.92,2,1.06,2,15.33,2,0.24,2,-999,9,-999,9,-999,9,-999,-999
 35HT20180611,86,1,23,25,20180706,0655,59.79340,-41.73088,1845,   6.1, 6.7760,34.8349,2,304.9,2,34.8332,2,304.2,2,7.823,2,2.59,2,0.71,2, 9.03,2,0.17,2,-999,9,-999,9,-999,9,-999,-999
 35HT20180611,86,1,28,30,20180706,0655,59.79340,-41.73088,1845,   6.2, 6.7748,34.8351,2,304.9,2,   -999,9, -999,9, -999,9,-999,9,-999,9, -999,9,-999,9,-999,9,-999,9,-999,9,-999,-999
 35HT20180611,87,1, 1, 3,20180706,0953,59.79826,-41.98932,1719,1728.9, 2.7068,34.9045,2,287.4,2,34.9057,2,287.8,2,7.718,2,10.4,2,1.00,2,15.06,2,0.00,2,-999,9,-999,9,2304,2,69.6,1.3
 35HT20180611,87,1, 2, 4,20180706,0953,59.79826,-41.98932,1719,1672.2, 2.9499,34.9081,2,285.2,2,   -999,9, -999,9,7.723,2,10.13,2,1.02,2,15.40,2,0.00,2,-999,9,-999,9,2304,2,61.7,1.1
 35HT20180611,87,1, 3, 5,20180706,0953,59.79826,-41.98932,1719,1604.0, 3.1075,34.9117,2,283.4,2,34.9123,2,283.4,2,7.715,2,10.22,2,1.02,2,15.52,2,0.00,2,-999,9,-999,9,2305,2,-999,-999
 35HT20180611,87,1, 4, 6,20180706,0953,59.79826,-41.98932,1719,1503.8, 3.2469,34.9137,2,282.3,2,   -999,9, -999,9,7.720,2,10.09,2,1.03,2,15.82,2,0.00,2,-999,9,-999,9,2304,2,48.2,0.9
 35HT20180611,87,1, 5, 7,20180706,0953,59.79826,-41.98932,1719,1410.3, 3.3506,34.9149,2,282.0,2,34.9151,2,281.3,2,7.716,2,10.07,2,1.04,2,16.01,2,0.00,2,-999,9,-999,9,2304,2,-999,-999
 35HT20180611,87,1, 7, 9,20180706,0953,59.79826,-41.98932,1719,1245.4, 3.5024,34.9144,2,282.0,2,34.9155,2,281.2,2,7.716,2,9.90,2,1.06,2,16.08,2,0.00,2,-999,9,-999,9,2304,2,37.1,0.7
 35HT20180611,87,1, 9,11,20180706,0953,59.79826,-41.98932,1719, 978.4, 3.5407,34.8885,2,295.9,2,34.8897,2,295.1,2,7.713,2,8.96,2,1.07,2,16.11,2,0.00,2,-999,9,-999,9,2303,2,-999,-999
 35HT20180611,87,1,10,12,20180706,0953,59.79826,-41.98932,1719, 978.1, 3.5420,34.8886,2,295.9,2,34.8888,2,295.6,2,7.712,2,-999,9,-999,9, -999,9,-999,9,-999,9,-999,9,-999,9,31.9,0.6
 35HT20180611,87,1,12,14,20180706,0953,59.79826,-41.98932,1719, 800.7, 3.7822,34.9069,2,288.6,2,34.9069,2,289.2,2,7.712,2,9.04,2,1.06,2,16.19,2,0.00,2,-999,9,-999,9,2304,2,-999,-999
 35HT20180611,87,1,13,15,20180706,0953,59.79826,-41.98932,1719, 700.4, 3.9175,34.9111,2,289.5,2,   -999,9, -999,9, -999,9,-999,9,-999,9, -999,9,-999,9,-999,9,-999,9,-999,9,33.5,0.6
 35HT20180611,87,1,14,16,20180706,0953,59.79826,-41.98932,1719, 600.9, 4.0662,34.9155,2,284.7,2,34.9156,2,283.3,2,7.713,2,8.98,2,1.05,2,16.01,2,0.00,2,-999,9,-999,9,2305,2,-999,-999
 35HT20180611,87,1,15,17,20180706,0953,59.79826,-41.98932,1719, 499.8, 4.4318,34.9238,2,280.9,2,   -999,9, -999,9,7.714,2,8.87,2,1.07,2,16.07,2,0.00,2,-999,9,-999,9,2305,2,37.0,0.7
 35HT20180611,87,1,16,18,20180706,0953,59.79826,-41.98932,1719, 398.0, 4.6758,34.9250,2,282.0,2,34.9255,2,280.3,2,7.717,2,8.64,2,1.05,2,15.97,2,0.01,2,-999,9,-999,9,2306,2,-999,-999
 35HT20180611,87,1,17,19,20180706,0953,59.79826,-41.98932,1719, 275.6, 5.0188,34.9317,2,280.3,2,34.9314,2,281.1,2,7.723,2,8.34,2,1.03,2,15.67,2,0.02,2,-999,9,-999,9,2307,2,-999,-999
 35HT20180611,87,1,19,21,20180706,0953,59.79826,-41.98932,1719, 203.1, 5.3244,34.9450,2,281.2,2,34.9448,2,281.8,2,7.728,2,8.17,2,1.02,2,15.62,2,0.05,2,-999,9,-999,9,2306,2,30.5,0.6
 35HT20180611,87,1,21,23,20180706,0953,59.79826,-41.98932,1719, 101.3, 5.8393,34.9462,2,289.4,2,34.9453,2,288.8,2,7.746,2,6.45,2,0.97,2,14.11,2,0.21,2,-999,9,-999,9,2308,2,-999,-999
 35HT20180611,87,1,22,24,20180706,0953,59.79826,-41.98932,1719,  56.5, 6.1949,34.9284,2,295.5,2,34.9282,2,295.9,2,7.775,2,4.10,2,0.87,2,11.86,2,0.20,2,-999,9,-999,9,-999,9,-999,-999
 35HT20180611,87,1,24,26,20180706,0953,59.79826,-41.98932,1719,   7.4, 6.9512,34.8672,2,302.4,2,34.8669,2,301.8,2,7.823,2,2.15,2,0.69,2, 9.23,2,0.13,2,-999,9,-999,9,2307,2,-999,-999
 35HT20180611,87,1,26,28,20180706,0953,59.79826,-41.98932,1719,   7.5, 6.9503,34.8671,2,302.9,2,   -999,9, -999,9, -999,9,-999,9,-999,9, -999,9,-999,9,-999,9,-999,9,-999,9,31.8,0.6
 35HT20180611,87,1,28,30,20180706,0953,59.79826,-41.98932,1719,   7.6, 6.9512,34.8670,2,302.9,2,   -999,9, -999,9, -999,9,-999,9,-999,9, -999,9,-999,9,-999,9,-999,9,-999,9,-999,-999
 35HT20180611,88,1, 1, 3,20180706,1228,59.80862,-42.23434,1213,1212.4, 3.7233,34.9018,2,290.0,2,   -999,9, -999,9, -999,9,-999,9,-999,9, -999,9,-999,9,-999,9,-999,9,-999,9,-999,-999
 35HT20180611,88,1, 2, 4,20180706,1228,59.80862,-42.23434,1213,1212.5, 3.7232,34.9018,2,290.0,2,   -999,9, -999,9, -999,9,-999,9,-999,9, -999,9,-999,9,-999,9,-999,9,-999,9,-999,-999
 35HT20180611,88,1, 3, 5,20180706,1228,59.80862,-42.23434,1213,1148.9, 3.7616,34.9029,2,290.1,2,   -999,9, -999,9, -999,9,-999,9,-999,9, -999,9,-999,9,-999,9,-999,9,-999,9,-999,-999
 35HT20180611,88,1, 4, 6,20180706,1228,59.80862,-42.23434,1213,1099.9, 3.8157,34.9058,2,289.5,2,   -999,9, -999,9, -999,9,-999,9,-999,9, -999,9,-999,9,-999,9,-999,9,-999,9,-999,-999
 35HT20180611,88,1, 5, 7,20180706,1228,59.80862,-42.23434,1213,1000.9, 3.9270,34.9098,2,286.8,2,   -999,9, -999,9, -999,9,-999,9,-999,9, -999,9,-999,9,-999,9,-999,9,-999,9,-999,-999
 35HT20180611,88,1, 6, 8,20180706,1228,59.80862,-42.23434,1213, 904.0, 4.2162,34.9168,2,282.0,2,   -999,9, -999,9, -999,9,-999,9,-999,9, -999,9,-999,9,-999,9,-999,9,-999,9,-999,-999
 35HT20180611,88,1, 7, 9,20180706,1228,59.80862,-42.23434,1213, 796.0, 4.4910,34.9216,2,280.0,2,   -999,9, -999,9, -999,9,-999,9,-999,9, -999,9,-999,9,-999,9,-999,9,-999,9,-999,-999
 35HT20180611,88,1, 8,10,20180706,1228,59.80862,-42.23434,1213, 701.8, 4.6325,34.9224,2,279.3,2,   -999,9, -999,9, -999,9,-999,9,-999,9, -999,9,-999,9,-999,9,-999,9,-999,9,-999,-999
 35HT20180611,88,1, 9,11,20180706,1228,59.80862,-42.23434,1213, 498.7, 4.8736,34.9063,2,282.0,2,   -999,9, -999,9, -999,9,-999,9,-999,9, -999,9,-999,9,-999,9,-999,9,-999,9,-999,-999
 35HT20180611,88,1,10,12,20180706,1228,59.80862,-42.23434,1213, 306.1, 4.9313,34.8805,2,285.5,2,   -999,9, -999,9, -999,9,-999,9,-999,9, -999,9,-999,9,-999,9,-999,9,-999,9,-999,-999
 35HT20180611,88,1,11,13,20180706,1228,59.80862,-42.23434,1213, 235.6, 4.6949,34.8115,2,293.0,2,   -999,9, -999,9, -999,9,-999,9,-999,9, -999,9,-999,9,-999,9,-999,9,-999,9,-999,-999
 35HT20180611,88,1,12,14,20180706,1228,59.80862,-42.23434,1213, 154.3, 5.0257,34.8352,2,292.4,2,   -999,9, -999,9, -999,9,-999,9,-999,9, -999,9,-999,9,-999,9,-999,9,-999,9,-999,-999
 35HT20180611,88,1,13,15,20180706,1228,59.80862,-42.23434,1213,  54.0, 6.0957,34.8793,2,297.6,2,   -999,9, -999,9, -999,9,-999,9,-999,9, -999,9,-999,9,-999,9,-999,9,-999,9,-999,-999
 35HT20180611,88,1,14,16,20180706,1228,59.80862,-42.23434,1213,   4.8, 6.6369,34.8756,2,302.7,2,   -999,9, -999,9, -999,9,-999,9,-999,9, -999,9,-999,9,-999,9,-999,9,-999,9,-999,-999
 35HT20180611,89,1, 1, 3,20180706,1406,59.81570,-42.2761, 894, 895.0, 4.2699,34.9175,2,281.7,2,34.9179,2,281.5,2,7.714,2,8.93,2,1.02,2,15.98,2,0.00,2,-999,9,-999,9,2303,2,-999,-999
 35HT20180611,89,1, 2, 4,20180706,1406,59.81570,-42.2761, 894, 895.2, 4.2693,34.9175,2,281.7,2,   -999,9, -999,9, -999,9,-999,9,-999,9, -999,9,-999,9,-999,9,-999,9,-999,9,33.3,0.5
 35HT20180611,89,1, 3, 5,20180706,1406,59.81570,-42.2761, 894, 782.2, 4.4620,34.9201,2,280.3,2,34.9205,2,281.3,2,7.717,2,8.79,2,1.04,2,15.95,2,0.00,2,-999,9,-999,9,2305,2,-999,-999
 35HT20180611,89,1, 4, 6,20180706,1406,59.81570,-42.2761, 894, 748.5, 4.7078,34.9189,2,278.9,2,34.9197,2,278.9,2,7.718,2,8.60,2,1.02,2,15.79,2,0.00,2,-999,9,-999,9,2306,2,-999,-999
 35HT20180611,89,1, 5, 7,20180706,1406,59.81570,-42.2761, 894, 599.8, 4.8477,34.9148,2,280.2,2,34.9149,2,280.8,2,7.720,2,8.44,2,1.01,2,15.68,2,0.01,2,-999,9,-999,9,2306,2,-999,-999
 35HT20180611,89,1, 6, 8,20180706,1406,59.81570,-42.2761, 894, 599.7, 4.8474,34.9149,2,280.2,2,   -999,9, -999,9, -999,9,-999,9,-999,9, -999,9,-999,9,-999,9,-999,9,-999,9,37.1,0.6
 35HT20180611,89,1, 7, 9,20180706,1406,59.81570,-42.2761, 894, 500.4, 4.8885,34.9003,2,282.3,2,34.8999,2,283.1,2,7.727,2,8.32,2,1.01,2,15.45,2,0.03,2,-999,9,-999,9,2304,2,-999,-999
 35HT20180611,89,1, 8,10,20180706,1406,59.81570,-42.2761, 894, 399.3, 4.8780,34.8902,2,282.9,2,34.8910,2,282.9,2,7.717,2,8.05,2,1.00,2,15.31,2,0.04,2,-999,9,-999,9,2304,2,-999,-999
 35HT20180611,89,1, 9,11,20180706,1406,59.81570,-42.2761, 894, 398.8, 4.8781,34.8902,2,282.9,2,   -999,9, -999,9, -999,9,-999,9,-999,9, -999,9,-999,9,-999,9,-999,9,-999,9,-999,-999
 35HT20180611,89,1,10,12,20180706,1406,59.81570,-42.2761, 894, 300.2, 4.8364,34.8656,2,286.9,2,34.8637,2,286.8,2,7.725,2,7.59,2,0.99,2,14.85,2,0.06,2,-999,9,-999,9,2302,2,-999,-999
 35HT20180611,89,1,11,13,20180706,1406,59.81570,-42.2761, 894, 300.4, 4.8335,34.8655,2,286.3,2,   -999,9, -999,9, -999,9,-999,9,-999,9, -999,9,-999,9,-999,9,-999,9,-999,9,49.7,0.7
 35HT20180611,89,1,12,14,20180706,1406,59.81570,-42.2761, 894, 189.6, 5.2609,34.8722,2,289.2,2,34.8739,2,287.7,2,7.737,2,6.70,2,0.94,2,14.23,2,0.15,2,-999,9,-999,9,2302,2,-999,-999
 35HT20180611,89,1,13,15,20180706,1406,59.81570,-42.2761, 894, 189.9, 5.0739,34.8549,2,289.2,2,   -999,9, -999,9, -999,9,-999,9,-999,9, -999,9,-999,9,-999,9,-999,9,-999,9,-999,-999
 35HT20180611,89,1,14,16,20180706,1406,59.81570,-42.2761, 894, 151.6, 5.4923,34.8931,2,287.7,2,34.8921,2,287.6,2,7.740,2,6.65,2,0.95,2,14.25,2,0.15,2,-999,9,-999,9,-999,9,-999,-999
 35HT20180611,89,1,15,17,20180706,1406,59.81570,-42.2761, 894, 102.5, 5.8411,34.9020,2,290.3,2,34.9016,2,290.1,2,7.757,2,5.58,2,0.92,2,13.18,2,0.14,2,-999,9,-999,9,2305,2,-999,-999
 35HT20180611,89,1,16,18,20180706,1406,59.81570,-42.2761, 894,  54.1, 6.2846,34.8424,2,300.9,2,34.8424,2,300.5,2,7.791,2,3.31,2,0.80,2,10.58,2,0.15,2,-999,9,-999,9,-999,9,-999,-999
 35HT20180611,89,1,17,19,20180706,1406,59.81570,-42.2761, 894,   4.0, 3.6808,34.3066,2,319.3,2,34.2918,4,319.0,2,7.754,2,3.53,2,0.74,2, 9.15,2,0.12,2,-999,9,-999,9,2278,2,-999,-999
 35HT20180611,89,1,18,20,20180706,1406,59.81570,-42.2761, 894,   3.9, 3.6734,34.3070,2,319.4,2,   -999,9, -999,9, -999,9,-999,9,-999,9, -999,9,-999,9,-999,9,-999,9,-999,9,125.0,2.0
 35HT20180611,89,1,20,22,20180706,1406,59.81570,-42.2761, 894,   4.0, 3.6176,34.2903,2,319.3,2,   -999,9, -999,9, -999,9,-999,9,-999,9, -999,9,-999,9,-999,9,-999,9,-999,9,-999,-999
 35HT20180611,89,1,28,30,20180706,1406,59.81570,-42.2761, 894,   3.9, 3.6238,34.2918,2,319.4,2,   -999,9, -999,9, -999,9,-999,9,-999,9, -999,9,-999,9,-999,9,-999,9,-999,9,-999,-999