BOTTLE,20240404CCHSIOADS
EXPOCODE,STNNBR,CASTNO,SAMPNO,BTLNBR,DATE,TIME,LATITUDE,LONGITUDE,DEPTH,CTDPRS,CTDTMP,CTDSAL,CTDSAL_FLAG_W,CTDOXY,CTDOXY_FLAG_W,SALNTY,SALNTY_FLAG_W,OXYGEN,OXYGEN_FLAG_W,PH_TOT,PH_TOT_FLAG_W,SILCAT,SILCAT_FLAG_W,PHSPHT,PHSPHT_FLAG_W,NITRAT,NITRAT_FLAG_W,NITRIT,NITRIT_FLAG_W,DELO18,DELO18_FLAG_W,DELD,DELD_FLAG_W,ALKALI,ALKALI_FLAG_W,I-129,I129ER
,,,,,,,,,METERS,DBAR,DEG C,PSS-78,,UMOL/KG,,PSS-78,,UMOL/KG,,,,UMOL/KG,,UMOL/KG,,UMOL/KG,,UMOL/KG,,/MILLE,,/MILLE,,UMOL/KG,,E7/KG,E7/KG
 35HT20180611,33,1, 1, 3,20180624,0013,46.54428,-19.67308,4526,4601.2, 2.5768,34.9047,2,241.0,2,34.9040,2,240.9,2,7.742,2,44.78,2,1.48,2,22.57,2,0.00,2,-999,9,-999,9,2354,2,0.2,0.1
 35HT20180611,33,1, 2, 4,20180624,0013,46.54428,-19.67308,4526,4500.2, 2.5716,34.9056,2,241.2,2,34.9049,2,241.5,2,7.739,2,44.39,2,1.48,2,22.64,2,0.00,2,-999,9,-999,9,2353,2,-999,-999
 35HT20180611,33,1, 3, 5,20180624,0013,46.54428,-19.67308,4526,4001.3, 2.5552,34.9100,2,241.9,2,34.9094,2,241.9,2,7.739,2,42.72,2,1.45,2,22.46,2,0.00,2,-999,9,-999,9,2350,2,0.5,0.1
 35HT20180611,33,1, 4, 6,20180624,0013,46.54428,-19.67308,4526,3750.1, 2.5841,34.9153,2,243.5,2,34.9138,2,243.7,2,7.738,2,40.61,2,1.42,2,21.63,2,0.00,2,-999,9,-999,9,2347,2,-999,-999
 35HT20180611,33,1, 5, 7,20180624,0013,46.54428,-19.67308,4526,3501.3, 2.6589,34.9240,2,246.5,2,34.9235,2,246.6,2,7.736,2,36.83,2,1.37,2,20.92,2,0.00,2,-999,9,-999,9,2341,2,2.1,0.1
 35HT20180611,33,1, 6, 8,20180624,0013,46.54428,-19.67308,4526,3251.4, 2.7614,34.9335,2,250.8,2,34.9326,2,250.6,2,7.737,2,32.22,2,1.30,2,20.03,2,0.00,2,-999,9,-999,9,2335,2,-999,-999
 35HT20180611,33,1, 7, 9,20180624,0013,46.54428,-19.67308,4526,3001.0, 2.8796,34.9408,2,256.2,2,34.9407,2,256.6,2,7.734,2,26.94,2,1.25,2,19.15,2,0.00,2,-999,9,-999,9,2327,2,5.9,0.1
 35HT20180611,33,1, 8,10,20180624,0013,46.54428,-19.67308,4526,2751.1, 3.0320,34.9418,2,262.8,2,34.9419,2,263.0,2,7.733,2,21.25,2,1.18,2,18.24,2,0.00,2,-999,9,-999,9,2320,2,-999,-999
 35HT20180611,33,1, 9,11,20180624,0013,46.54428,-19.67308,4526,2499.9, 3.1824,34.9365,2,267.1,2,34.9365,2,267.4,2,7.732,2,17.23,2,1.12,2,17.67,2,0.00,2,-999,9,-999,9,2313,2,8.8,0.2
 35HT20180611,33,1,10,12,20180624,0013,46.54428,-19.67308,4526,2251.1, 3.4074,34.9318,2,268.7,2,34.9319,2,268.8,2,7.730,2,14.41,2,1.11,2,17.47,2,0.00,2,-999,9,-999,9,2307,2,-999,-999
 35HT20180611,33,1,11,13,20180624,0013,46.54428,-19.67308,4526,2001.9, 3.6432,34.9289,2,269.1,2,34.9281,2,269.1,2,7.724,2,12.41,2,1.10,2,17.37,2,0.00,2,-999,9,-999,9,2305,2,10.2,0.2
 35HT20180611,33,1,12,14,20180624,0013,46.54428,-19.67308,4526,1800.8, 3.8279,34.9279,2,269.8,2,34.9279,2,269.9,2,7.719,2,11.37,2,1.09,2,17.44,2,0.00,2,-999,9,-999,9,2304,2,-999,-999
 35HT20180611,33,1,13,15,20180624,0013,46.54428,-19.67308,4526,1600.5, 4.0067,34.9305,2,270.2,2,34.9297,2,270.1,2,7.715,2,10.68,2,1.11,2,17.45,2,0.00,2,-999,9,-999,9,2303,2,-999,-999
 35HT20180611,33,1,14,16,20180624,0013,46.54428,-19.67308,4526,1400.1, 4.3688,34.9675,2,264.2,2,34.9682,2,264.2,2,7.714,2,10.47,2,1.09,2,17.42,2,0.00,2,-999,9,-999,9,2306,2,16.4,0.3
 35HT20180611,33,1,15,17,20180624,0013,46.54428,-19.67308,4526,1201.1, 5.1240,35.0544,2,248.4,2,35.0550,2,248.2,2,7.714,2,10.61,2,1.12,2,17.83,2,0.00,2,-999,9,-999,9,2312,2,-999,-999
 35HT20180611,33,1,16,18,20180624,0013,46.54428,-19.67308,4526,1001.7, 6.5545,35.2299,2,223.2,2,35.2300,2,222.8,2,7.722,2,10.81,2,1.12,2,18.26,2,0.00,2,-999,9,-999,9,2326,2,14.8,0.3
 35HT20180611,33,1,17,19,20180624,0013,46.54428,-19.67308,4526, 899.7, 7.2170,35.2791,2,211.6,2,35.2788,2,212.1,2,7.723,2,10.8,2,1.15,2,18.65,2,0.00,2,-999,9,-999,9,-999,9,-999,-999
 35HT20180611,33,1,18,20,20180624,0013,46.54428,-19.67308,4526, 800.6, 8.1516,35.3579,2,200.3,2,35.3563,2,199.3,2,7.729,2,10.45,2,1.16,2,18.64,2,0.00,2,-999,9,-999,9,2334,2,-999,-999
 35HT20180611,33,1,19,21,20180624,0013,46.54428,-19.67308,4526, 701.0, 8.7718,35.3344,2,195.5,2,35.3313,4,193.4,2,7.730,2,9.98,2,1.15,2,18.39,2,0.00,2,-999,9,-999,9,-999,9,-999,-999
 35HT20180611,33,1,20,22,20180624,0013,46.54428,-19.67308,4526, 601.1, 9.0109,35.2594,2,195.7,2,35.2602,2,194.4,2,7.732,2,9.48,2,1.12,2,18.14,2,0.01,2,-999,9,-999,9,2324,2,-999,-999
 35HT20180611,33,1,21,23,20180624,0013,46.54428,-19.67308,4526, 500.9, 9.5889,35.2461,2,202.8,2,35.2461,2,200.9,2,7.745,2,8.28,2,1.07,2,17.02,2,0.00,2,-999,9,-999,9,2322,2,16.9,0.3
 35HT20180611,33,1,22,24,20180624,0013,46.54428,-19.67308,4526, 401.2,10.2142,35.3008,2,211.4,2,35.2989,2,209.7,2,7.766,2,6.94,2,0.92,2,15.66,2,0.01,2,-999,9,-999,9,2325,2,-999,-999
 35HT20180611,33,1,23,25,20180624,0013,46.54428,-19.67308,4526, 299.8,11.0271,35.3970,2,229.6,2,35.3938,4,230.9,2,7.807,2,5.10,2,0.72,2,12.14,2,0.01,2,-999,9,-999,9,2329,2,-999,-999
 35HT20180611,33,1,24,26,20180624,0013,46.54428,-19.67308,4526, 200.0,11.8257,35.5406,2,246.5,2,35.5397,2,245.4,2,7.843,2,3.57,2,0.54,2, 9.24,2,0.02,2,-999,9,-999,9,2336,2,-999,-999
 35HT20180611,33,1,25,27,20180624,0013,46.54428,-19.67308,4526, 150.0,12.0422,35.5727,2,244.3,2,35.5714,2,243.7,2,7.848,2,3.60,2,0.54,2, 9.30,2,0.02,2,-999,9,-999,9,-999,9,-999,-999
 35HT20180611,33,1,26,28,20180624,0013,46.54428,-19.67308,4526, 100.5,12.3927,35.6098,2,248.6,2,35.6085,2, -999,9,7.860,2,2.81,2,0.45,2, 8.02,2,0.04,2,-999,9,-999,9,2341,2,13.7,0.3
 35HT20180611,33,1,27,29,20180624,0013,46.54428,-19.67308,4526,  29.7,14.9949,35.6190,2,263.8,2,35.6191,2,264.2,2,7.969,2,0.28,2,0.12,2, 0.62,2,0.03,2,-999,9,-999,9,-999,9,-999,-999
 35HT20180611,33,1,28,30,20180624,0013,46.54428,-19.67308,4526,   5.1,15.7367,35.6186,2,264.9,2,35.6174,2,263.6,2,7.990,2,0.26,2,0.09,2, 0.00,2,0.00,2,0.682,2,4.10,2,2347,2,-999,-999
 35HT20180611,34,1, 1, 3,20180624,0549,46.91742,-19.97034,4496,4567.9, 2.5634,34.9044,2,241.3,2,34.9035,2,240.7,2,7.739,2,44.8,2,1.47,2,22.77,2,0.00,2,-999,9,-999,9,-999,9,-999,-999
 35HT20180611,34,1, 2, 4,20180624,0549,46.91742,-19.97034,4496,4000.9, 2.5365,34.9085,2,241.1,2,34.9068,2,241.1,2,7.737,2,43.47,2,1.45,2,22.51,2,0.00,2,-999,9,-999,9,-999,9,-999,-999
 35HT20180611,34,1, 3, 5,20180624,0549,46.91742,-19.97034,4496,3750.3, 2.5440,34.9121,2,242.0,2,34.9105,2,242.0,2,7.738,2,42.2,2,1.41,2,22.51,2,0.00,2,-999,9,-999,9,-999,9,-999,-999
 35HT20180611,34,1, 4, 6,20180624,0549,46.91742,-19.97034,4496,3501.2, 2.5845,34.9183,2,244.2,2,34.9164,2,244.2,2,7.737,2,39.59,2,1.35,2,21.86,2,0.00,2,-999,9,-999,9,-999,9,-999,-999
 35HT20180611,34,1, 5, 7,20180624,0549,46.91742,-19.97034,4496,3250.1, 2.7017,34.9298,2,248.9,2,34.9283,2,248.8,2,7.735,2,34.19,2,1.29,2,20.97,2,0.00,2,-999,9,-999,9,-999,9,-999,-999
 35HT20180611,34,1, 6, 8,20180624,0549,46.91742,-19.97034,4496,3250.4, 2.7025,34.9297,2,249.0,2,34.9282,2,249.2,2,7.736,2,34.15,2,1.29,2,20.66,2,0.00,2,-999,9,-999,9,-999,9,-999,-999
 35HT20180611,34,1, 7, 9,20180624,0549,46.91742,-19.97034,4496,3001.6, 2.8175,34.9384,2,253.7,2,34.9365,2,254.1,2,7.735,2,29.21,2,1.28,2,19.91,2,0.00,2,-999,9,-999,9,-999,9,-999,-999
 35HT20180611,34,1, 8,10,20180624,0549,46.91742,-19.97034,4496,2749.1, 2.9810,34.9426,2,259.6,2,34.9414,2,260.0,2,7.733,2,23.43,2,1.18,2,19.07,2,0.00,2,-999,9,-999,9,-999,9,-999,-999
 35HT20180611,34,1, 9,11,20180624,0549,46.91742,-19.97034,4496,2502.1, 3.1924,34.9473,2,262.1,2,34.9461,2, -999,9,7.735,2,20.13,2,1.12,2,18.52,2,0.00,2,-999,9,-999,9,-999,9,-999,-999
 35HT20180611,34,1,10,12,20180624,0549,46.91742,-19.97034,4496,2251.6, 3.3688,34.9356,2,267.8,2,34.9351,2,269.1,2,7.729,2,15.05,2,1.04,2,17.70,2,0.00,2,-999,9,-999,9,-999,9,-999,-999
 35HT20180611,34,1,11,13,20180624,0549,46.91742,-19.97034,4496,2000.7, 3.5674,34.9275,2,269.6,2,34.9266,2,269.6,2,7.724,2,12.59,2,1.03,2,17.45,2,0.00,2,-999,9,-999,9,-999,9,-999,-999
 35HT20180611,34,1,12,14,20180624,0549,46.91742,-19.97034,4496,1801.6, 3.7853,34.9340,2,268.4,2,34.9340,2,268.4,2,7.721,2,11.8,2,1.04,2,17.63,2,0.00,2,-999,9,-999,9,-999,9,-999,-999
 35HT20180611,34,1,13,15,20180624,0549,46.91742,-19.97034,4496,1600.2, 3.9191,34.9283,2,270.0,2,34.9279,2,270.2,2,7.717,2,10.94,2,1.13,2,17.73,2,0.00,2,-999,9,-999,9,-999,9,-999,-999
 35HT20180611,34,1,14,16,20180624,0549,46.91742,-19.97034,4496,1400.8, 4.2410,34.9542,2,266.5,2,34.9550,2,266.3,2,7.713,2,10.54,2,1.12,2,17.63,2,0.00,2,-999,9,-999,9,-999,9,-999,-999
 35HT20180611,34,1,15,17,20180624,0549,46.91742,-19.97034,4496,1201.3, 4.9060,35.0302,2,253.0,2,35.0299,2,252.9,2,7.713,2,10.54,2,1.13,2,17.94,2,0.00,2,-999,9,-999,9,-999,9,-999,-999
 35HT20180611,34,1,16,18,20180624,0549,46.91742,-19.97034,4496,1001.5, 6.3885,35.2144,2,227.1,2,35.2138,2,226.3,2,7.720,2,10.88,2,1.15,2,18.43,2,0.00,2,-999,9,-999,9,-999,9,-999,-999
 35HT20180611,34,1,17,19,20180624,0549,46.91742,-19.97034,4496, 900.5, 7.0152,35.2441,2,214.2,2,35.2482,4,213.4,2,7.719,2,10.76,2,1.16,2,18.72,2,0.00,2,-999,9,-999,9,-999,9,-999,-999
 35HT20180611,34,1,18,20,20180624,0549,46.91742,-19.97034,4496, 800.8, 8.0102,35.3476,2,200.4,2,35.3466,2,200.5,2,7.727,2,10.65,2,1.20,2,18.77,2,0.00,2,-999,9,-999,9,-999,9,-999,-999
 35HT20180611,34,1,19,21,20180624,0549,46.91742,-19.97034,4496, 701.7, 8.7310,35.3864,2,194.1,2,35.3859,2,193.3,2,7.733,2,10.12,2,1.20,2,18.45,2,0.00,2,-999,9,-999,9,-999,9,-999,-999
 35HT20180611,34,1,20,22,20180624,0549,46.91742,-19.97034,4496, 601.0, 9.1539,35.3252,2,195.0,2,35.3252,2,193.6,2,7.735,2,9.60,2,1.18,2,18.26,2,0.00,2,-999,9,-999,9,-999,9,-999,-999
 35HT20180611,34,1,21,23,20180624,0549,46.91742,-19.97034,4496, 529.9, 8.9636,35.1731,2,198.4,2,35.1725,2,196.7,2,7.727,2,9.55,2,1.20,2,18.39,2,0.01,2,-999,9,-999,9,-999,9,-999,-999
 35HT20180611,34,1,22,24,20180624,0549,46.91742,-19.97034,4496, 401.3,10.3106,35.3221,2,212.7,2,35.3230,2,211.5,2,7.771,2,6.89,2,0.98,2,15.50,2,0.01,2,-999,9,-999,9,-999,9,-999,-999
 35HT20180611,34,1,23,25,20180624,0549,46.91742,-19.97034,4496, 300.9,10.9237,35.3937,2,224.8,2,35.3986,4,223.5,2,7.796,2,5.55,2,0.83,2,13.19,2,0.01,2,-999,9,-999,9,-999,9,-999,-999
 35HT20180611,34,1,24,26,20180624,0549,46.91742,-19.97034,4496, 200.3,11.7042,35.5236,2,245.4,2,35.5242,2,244.4,2,7.838,2,3.78,2,0.56,2, 9.71,2,0.01,2,-999,9,-999,9,-999,9,-999,-999
 35HT20180611,34,1,25,27,20180624,0549,46.91742,-19.97034,4496, 150.7,11.8993,35.5546,2,246.8,2,35.5521,4,247.1,2,7.846,2,3.70,2,0.59,2, 9.16,2,0.01,2,-999,9,-999,9,-999,9,-999,-999
 35HT20180611,34,1,26,28,20180624,0549,46.91742,-19.97034,4496, 101.3,12.3269,35.6033,2,246.8,2,35.6022,2,246.6,2,7.857,2,3.10,2,0.51,2, 8.28,2,0.02,2,-999,9,-999,9,-999,9,-999,-999
 35HT20180611,34,1,27,29,20180624,0549,46.91742,-19.97034,4496,  55.8,13.1287,35.6618,2,252.5,2,35.6496,4,252.4,2,7.886,2,1.36,2,0.44,2, 5.29,2,0.40,2,-999,9,-999,9,-999,9,-999,-999
 35HT20180611,34,1,28,30,20180624,0549,46.91742,-19.97034,4496,   6.1,15.7174,35.7198,2,257.6,2,35.7215,2,256.5,2,7.975,2,0.61,2,0.12,2, 0.05,2,0.00,2,-999,9,-999,9,-999,9,-999,-999
 35HT20180611,35,1, 1, 3,20180624,1114,47.28962,-20.26328,4515,4591.4, 2.5785,34.9053,2,241.2,2,34.9044,2,240.6,2,7.736,2,44.8,2,1.45,2,21.88,2,0.01,2,-999,9,-999,9,2355,2,-999,-999
 35HT20180611,35,1, 2, 4,20180624,1114,47.28962,-20.26328,4515,4001.9, 2.5774,34.9123,2,242.4,2,34.9107,2,242.3,2,7.736,2,42.35,2,1.43,2,21.60,2,0.01,2,-999,9,-999,9,2352,2,-999,-999
 35HT20180611,35,1, 3, 5,20180624,1114,47.28962,-20.26328,4515,3750.6, 2.5936,34.9164,2,243.8,2,34.9164,2,243.8,2,7.738,2,40.64,2,1.41,2,21.37,2,0.01,2,-999,9,-999,9,2350,2,-999,-999
 35HT20180611,35,1, 4, 6,20180624,1114,47.28962,-20.26328,4515,3501.5, 2.6540,34.9241,2,247.1,2,34.9235,2,249.0,2,7.736,2,37.37,2,1.37,2,21.17,2,0.01,2,-999,9,-999,9,2344,2,-999,-999
 35HT20180611,35,1, 5, 7,20180624,1114,47.28962,-20.26328,4515,3250.3, 2.7504,34.9336,2,251.2,2,34.9325,2,251.2,2,7.732,2,32.3,2,1.29,2,19.77,2,0.01,2,-999,9,-999,9,2338,2,-999,-999
 35HT20180611,35,1, 6, 8,20180624,1114,47.28962,-20.26328,4515,2998.9, 2.8566,34.9405,2,255.0,2,34.9401,2,255.4,2,7.733,2,28.19,2,1.24,2,19.17,2,0.01,2,-999,9,-999,9,2333,2,-999,-999
 35HT20180611,35,1, 7, 9,20180624,1114,47.28962,-20.26328,4515,2750.7, 3.0402,34.9420,2,262.8,2,34.9423,2,263.6,2,7.731,2,21.38,2,1.16,2,18.00,2,0.01,2,-999,9,-999,9,2321,2,-999,-999
 35HT20180611,35,1, 8,10,20180624,1114,47.28962,-20.26328,4515,2500.2, 3.2056,34.9356,2,267.1,2,34.9357,2,268.6,2,7.729,2,16.93,2,1.12,2,17.47,2,0.01,2,-999,9,-999,9,2314,2,-999,-999
 35HT20180611,35,1, 9,11,20180624,1114,47.28962,-20.26328,4515,2250.0, 3.3995,34.9289,2,269.9,2,34.9291,2,270.4,2,7.725,2,13.96,2,1.10,2,17.51,2,0.01,2,-999,9,-999,9,2310,2,-999,-999
 35HT20180611,35,1,10,12,20180624,1114,47.28962,-20.26328,4515,2000.5, 3.6207,34.9280,2,269.1,2,34.9282,2,269.2,2,7.723,2,12.48,2,1.09,2,17.09,2,0.00,2,-999,9,-999,9,2306,2,-999,-999
 35HT20180611,35,1,11,13,20180624,1114,47.28962,-20.26328,4515,1800.3, 3.7949,34.9290,2,269.1,2,34.9290,2,269.2,2,7.720,2,11.67,2,1.10,2,17.08,2,0.00,2,-999,9,-999,9,2307,2,-999,-999
 35HT20180611,35,1,12,14,20180624,1114,47.28962,-20.26328,4515,1800.4, 3.7950,34.9290,2,269.1,2,34.9303,2,269.4,2,7.720,2,11.76,2,1.12,2,17.15,2,0.00,2,-999,9,-999,9,2306,2,-999,-999
 35HT20180611,35,1,13,15,20180624,1114,47.28962,-20.26328,4515,1600.7, 3.9865,34.9334,2,269.3,2,34.9337,2,269.0,2,7.715,2,10.87,2,1.11,2,17.24,2,0.00,2,-999,9,-999,9,2306,2,-999,-999
 35HT20180611,35,1,14,16,20180624,1114,47.28962,-20.26328,4515,1400.4, 4.3552,34.9658,2,264.6,2,34.9667,2,264.5,2,7.713,2,10.59,2,1.07,2,17.48,2,0.00,2,-999,9,-999,9,2308,2,-999,-999
 35HT20180611,35,1,15,17,20180624,1114,47.28962,-20.26328,4515,1201.0, 5.1428,35.0650,2,249.0,2,35.0658,2,248.9,2,7.714,2,10.62,2,1.10,2,17.60,2,0.00,2,-999,9,-999,9,2315,2,-999,-999
 35HT20180611,35,1,16,18,20180624,1114,47.28962,-20.26328,4515,1000.9, 6.3276,35.1910,2,226.8,2,35.1912,2,226.1,2,7.716,2,10.76,2,1.15,2,18.18,2,0.00,2,-999,9,-999,9,2323,2,-999,-999
 35HT20180611,35,1,17,19,20180624,1114,47.28962,-20.26328,4515, 900.7, 7.1585,35.2678,2,213.6,2,35.2668,2,212.2,2,7.720,2,10.78,2,1.15,2,18.44,2,0.01,2,-999,9,-999,9,-999,9,-999,-999
 35HT20180611,35,1,18,20,20180624,1114,47.28962,-20.26328,4515, 801.0, 8.4078,35.4148,2,197.4,2,35.4134,2,196.9,2,7.733,2,10.43,2,1.13,2,18.25,2,0.00,2,-999,9,-999,9,2339,2,-999,-999
 35HT20180611,35,1,19,21,20180624,1114,47.28962,-20.26328,4515, 700.8, 8.5895,35.3139,2,194.9,2,35.3170,4,194.5,2,7.727,2,10.14,2,1.16,2,18.56,2,0.01,2,-999,9,-999,9,-999,9,-999,-999
 35HT20180611,35,1,20,22,20180624,1114,47.28962,-20.26328,4515, 601.8, 8.7255,35.1899,2,196.4,2,35.1914,2,194.9,2,7.722,2,9.76,2,1.17,2,17.95,2,0.01,2,-999,9,-999,9,2323,2,-999,-999
 35HT20180611,35,1,21,23,20180624,1114,47.28962,-20.26328,4515, 500.4, 9.8385,35.2973,2,206.3,2,35.2996,2,205.7,2,7.753,2,7.73,2,1.00,2,16.11,2,0.01,2,-999,9,-999,9,2326,2,-999,-999
 35HT20180611,35,1,22,24,20180624,1114,47.28962,-20.26328,4515, 400.5,10.7773,35.3937,2,221.5,2,35.3939,2,221.5,2,7.790,2,5.56,2,0.83,2,13.42,2,0.01,2,-999,9,-999,9,2330,2,-999,-999
 35HT20180611,35,1,23,25,20180624,1114,47.28962,-20.26328,4515, 300.9,11.6659,35.5157,2,241.9,2,35.5159,2,241.9,2,7.834,2,3.85,2,0.61,2,10.12,2,0.01,2,-999,9,-999,9,2336,2,-999,-999
 35HT20180611,35,1,24,26,20180624,1114,47.28962,-20.26328,4515, 200.4,12.0972,35.5787,2,245.9,2,35.5785,2, -999,9,7.848,2,3.49,2,0.56,2, 9.51,2,0.01,2,-999,9,-999,9,2339,2,-999,-999
 35HT20180611,35,1,25,27,20180624,1114,47.28962,-20.26328,4515, 150.2,12.2041,35.5687,2,250.2,2,35.5686,2,250.4,2,7.859,2,2.54,2,0.45,2, 7.58,2,0.01,2,-999,9,-999,9,-999,9,-999,-999
 35HT20180611,35,1,26,28,20180624,1114,47.28962,-20.26328,4515, 100.9,12.5342,35.6358,2,248.4,2,35.6348,2,248.4,2,7.865,2,2.68,2,0.48,2, 7.76,2,0.01,2,-999,9,-999,9,2343,2,-999,-999
 35HT20180611,35,1,27,29,20180624,1114,47.28962,-20.26328,4515,  54.0,13.2905,35.6558,2,257.4,2,35.6547,2,257.4,2,7.906,2,0.74,2,0.33,2, 3.99,2,0.19,2,-999,9,-999,9,-999,9,-999,-999
 35HT20180611,35,1,28,30,20180624,1114,47.28962,-20.26328,4515,   5.5,15.8944,35.6392,2,265.3,2,35.6394,2,265.1,2,7.989,2,0.25,2,0.05,2, 0.14,2,0.00,2,0.704,2,4.23,2,2348,2,-999,-999