BOTTLE,20240404CCHSIOADS
EXPOCODE,STNNBR,CASTNO,SAMPNO,BTLNBR,DATE,TIME,LATITUDE,LONGITUDE,DEPTH,CTDPRS,CTDTMP,CTDSAL,CTDSAL_FLAG_W,CTDOXY,CTDOXY_FLAG_W,SALNTY,SALNTY_FLAG_W,OXYGEN,OXYGEN_FLAG_W,PH_TOT,PH_TOT_FLAG_W,SILCAT,SILCAT_FLAG_W,PHSPHT,PHSPHT_FLAG_W,NITRAT,NITRAT_FLAG_W,NITRIT,NITRIT_FLAG_W,DELO18,DELO18_FLAG_W,DELD,DELD_FLAG_W,ALKALI,ALKALI_FLAG_W,I-129,I129ER
,,,,,,,,,METERS,DBAR,DEG C,PSS-78,,UMOL/KG,,PSS-78,,UMOL/KG,,,,UMOL/KG,,UMOL/KG,,UMOL/KG,,UMOL/KG,,/MILLE,,/MILLE,,UMOL/KG,,E7/KG,E7/KG
 35HT20180611,30,1, 1, 3,20180623,0726,45.42298,-18.80194,4573,4648.0, 2.6042,34.9067,2,241.2,2,34.9083,2,240.0,2,7.739,2,44.42,2,1.50,2,22.50,2,0.01,2,-999,9,-999,9,-999,9,-999,-999
 35HT20180611,30,1, 2, 4,20180623,0726,45.42298,-18.80194,4573,4000.7, 2.5797,34.9123,2,242.3,2,34.9122,2,241.6,2,7.740,2,42.09,2,1.48,2,21.93,2,0.01,2,-999,9,-999,9,-999,9,-999,-999
 35HT20180611,30,1, 3, 5,20180623,0726,45.42298,-18.80194,4573,3750.0, 2.6035,34.9169,2,243.9,2,34.9175,2,243.9,2,7.740,2,40.01,2,1.47,2,21.51,2,0.00,2,-999,9,-999,9,-999,9,-999,-999
 35HT20180611,30,1, 4, 6,20180623,0726,45.42298,-18.80194,4573,3500.2, 2.6771,34.9257,2,247.1,2,34.9267,2,247.2,2,7.740,2,36.16,2,1.39,2,20.60,2,0.00,2,-999,9,-999,9,-999,9,-999,-999
 35HT20180611,30,1, 5, 7,20180623,0726,45.42298,-18.80194,4573,3250.3, 2.7894,34.9351,2,252.8,2,34.9360,2,252.8,2,7.737,2,30.69,2,1.34,2,19.70,2,0.00,2,-999,9,-999,9,-999,9,-999,-999
 35HT20180611,30,1, 6, 8,20180623,0726,45.42298,-18.80194,4573,3000.9, 2.9222,34.9411,2,257.8,2,34.9417,2,257.9,2,7.736,2,25.74,2,1.26,2,18.93,2,0.00,2,-999,9,-999,9,-999,9,-999,-999
 35HT20180611,30,1, 7, 9,20180623,0726,45.42298,-18.80194,4573,3001.2, 2.9222,34.9410,2,257.7,2,34.9414,2,257.9,2,7.738,2,25.7,2,1.26,2,18.88,2,0.00,2,-999,9,-999,9,-999,9,-999,-999
 35HT20180611,30,1, 8,10,20180623,0726,45.42298,-18.80194,4573,2750.1, 3.0937,34.9441,2,261.1,2,34.9443,2,261.5,2,7.736,2,21.79,2,1.22,2,18.53,2,0.00,2,-999,9,-999,9,-999,9,-999,-999
 35HT20180611,30,1, 9,11,20180623,0726,45.42298,-18.80194,4573,2501.4, 3.2826,34.9353,2,267.2,2,34.9363,2,267.6,2,7.734,2,16.41,2,1.16,2,17.86,2,0.00,2,-999,9,-999,9,-999,9,-999,-999
 35HT20180611,30,1,10,12,20180623,0726,45.42298,-18.80194,4573,2251.9, 3.5328,34.9391,2,268.0,2,34.9393,2,267.9,2,7.732,2,14.19,2,1.16,2,17.78,2,0.01,2,-999,9,-999,9,-999,9,-999,-999
 35HT20180611,30,1,11,13,20180623,0726,45.42298,-18.80194,4573,2001.5, 3.8329,34.9531,2,266.0,2,34.9537,2,266.3,2,7.726,2,12.59,2,1.17,2,17.67,2,0.01,2,-999,9,-999,9,-999,9,-999,-999
 35HT20180611,30,1,12,14,20180623,0726,45.42298,-18.80194,4573,1799.4, 4.1388,34.9728,2,263.7,2,34.9728,2,263.8,2,7.722,2,11.64,2,1.15,2,17.71,2,0.01,2,-999,9,-999,9,-999,9,-999,-999
 35HT20180611,30,1,13,15,20180623,0726,45.42298,-18.80194,4573,1600.8, 4.4716,35.0007,2,261.0,2,35.0021,2,260.3,2,7.723,2,11.04,2,1.18,2,17.84,2,0.02,2,-999,9,-999,9,-999,9,-999,-999
 35HT20180611,30,1,14,16,20180623,0726,45.42298,-18.80194,4573,1399.7, 5.4850,35.1407,2,244.6,2,35.1428,2,244.7,2,7.719,2,10.91,2,1.16,2,17.94,2,0.01,2,-999,9,-999,9,-999,9,-999,-999
 35HT20180611,30,1,15,17,20180623,0726,45.42298,-18.80194,4573,1200.5, 6.4804,35.2293,2,226.0,2,35.2297,2,225.1,2,7.724,2,10.81,2,1.20,2,18.40,2,0.01,2,-999,9,-999,9,-999,9,-999,-999
 35HT20180611,30,1,16,18,20180623,0726,45.42298,-18.80194,4573,1000.0, 8.0012,35.3499,2,200.7,2,35.3504,2,200.0,2,7.728,2,10.7,2,1.22,2,18.79,2,0.01,2,-999,9,-999,9,-999,9,-999,-999
 35HT20180611,30,1,17,19,20180623,0726,45.42298,-18.80194,4573, 874.3,10.0239,35.6423,2,187.3,2,35.6404,2,187.3,2,7.761,2,9.19,2,1.12,2,17.15,2,0.02,2,-999,9,-999,9,-999,9,-999,-999
 35HT20180611,30,1,18,20,20180623,0726,45.42298,-18.80194,4573, 800.7, 9.8640,35.4836,2,192.4,2,35.4841,2,192.2,2,7.753,2,8.81,2,1.14,2,17.25,2,0.01,2,-999,9,-999,9,-999,9,-999,-999
 35HT20180611,30,1,19,21,20180623,0726,45.42298,-18.80194,4573, 700.3,10.5172,35.4987,2,203.5,2,35.5028,4,203.4,2,7.772,2,7.11,2,1.00,2,15.57,2,0.01,2,-999,9,-999,9,-999,9,-999,-999
 35HT20180611,30,1,20,22,20180623,0726,45.42298,-18.80194,4573, 599.6,10.8763,35.4905,2,215.8,2,35.4900,2,215.3,2,7.788,2,5.79,2,0.89,2,13.98,2,0.02,2,-999,9,-999,9,-999,9,-999,-999
 35HT20180611,30,1,21,23,20180623,0726,45.42298,-18.80194,4573, 499.3,11.3037,35.4982,2,222.3,2,35.4995,2,222.1,2,7.800,2,4.75,2,0.80,2,12.58,2,0.01,2,-999,9,-999,9,-999,9,-999,-999
 35HT20180611,30,1,22,24,20180623,0726,45.42298,-18.80194,4573, 399.9,11.7978,35.5425,2,228.1,2,35.5450,4,228.4,2,7.824,2,3.97,2,0.68,2,10.94,2,0.02,2,-999,9,-999,9,-999,9,-999,-999
 35HT20180611,30,1,23,25,20180623,0726,45.42298,-18.80194,4573, 300.5,12.4106,35.6272,2,244.0,2,35.6272,2,243.6,2,7.860,2,2.94,2,0.53,2, 8.21,2,0.02,2,-999,9,-999,9,-999,9,-999,-999
 35HT20180611,30,1,24,26,20180623,0726,45.42298,-18.80194,4573, 200.9,12.6757,35.6612,2,244.4,2,35.6613,2,243.3,2,7.865,2,2.94,2,0.52,2, 8.00,2,0.02,2,-999,9,-999,9,-999,9,-999,-999
 35HT20180611,30,1,25,27,20180623,0726,45.42298,-18.80194,4573, 150.1,12.8595,35.6796,2,246.4,2,35.6815,2,245.4,2,7.872,2,2.33,2,0.47,2, 6.97,2,0.02,2,-999,9,-999,9,-999,9,-999,-999
 35HT20180611,30,1,26,28,20180623,0726,45.42298,-18.80194,4573, 101.5,13.0818,35.6992,2,247.0,2,35.6996,2,246.2,2,7.881,2,2.00,2,0.45,2, 6.52,2,0.02,2,-999,9,-999,9,-999,9,-999,-999
 35HT20180611,30,1,27,29,20180623,0726,45.42298,-18.80194,4573,  56.2,13.5323,35.6721,2,253.3,2,35.6710,2,254.1,2,7.908,2,0.93,2,0.34,2, 2.99,2,0.35,2,-999,9,-999,9,-999,9,-999,-999
 35HT20180611,30,1,28,30,20180623,0726,45.42298,-18.80194,4573,   7.1,16.9387,35.7171,2,253.1,2,35.7174,2,252.5,2,7.977,2,0.46,2,0.22,2, 0.12,2,0.01,2,-999,9,-999,9,-999,9,-999,-999
 35HT20180611,31,1, 1, 3,20180623,1307,45.79612,-19.09152,4522,4595.7, 2.5887,34.9061,2,241.2,2,34.9061,2,241.2,2,7.741,2,44.44,2,1.50,2,22.47,2,0.00,2,-999,9,-999,9,2353,2,-999,-999
 35HT20180611,31,1, 2, 4,20180623,1307,45.79612,-19.09152,4522,3999.0, 2.5532,34.9099,2,242.0,2,34.9101,2,242.5,2,7.738,2,43.0,2,1.49,2,22.22,2,0.00,2,-999,9,-999,9,2351,2,-999,-999
 35HT20180611,31,1, 3, 5,20180623,1307,45.79612,-19.09152,4522,3998.5, 2.5529,34.9100,2,241.7,2,34.9092,2,241.7,2,7.740,2,42.95,2,1.48,2,22.17,2,0.01,2,-999,9,-999,9,2351,2,-999,-999
 35HT20180611,31,1, 4, 6,20180623,1307,45.79612,-19.09152,4522,3750.8, 2.5699,34.9143,2,242.9,2,34.9134,2,242.8,2,7.738,2,41.39,2,1.46,2,21.71,2,0.00,2,-999,9,-999,9,2349,2,-999,-999
 35HT20180611,31,1, 5, 7,20180623,1307,45.79612,-19.09152,4522,3500.1, 2.6238,34.9214,2,245.9,2,34.9219,2,246.0,2,7.737,2,38.2,2,1.37,2,21.13,2,0.00,2,-999,9,-999,9,2344,2,-999,-999
 35HT20180611,31,1, 6, 8,20180623,1307,45.79612,-19.09152,4522,3251.6, 2.7374,34.9321,2,250.4,2,34.9318,2,252.7,4,7.737,2,33.16,2,1.34,2,20.09,2,0.01,2,-999,9,-999,9,2336,2,-999,-999
 35HT20180611,31,1, 7, 9,20180623,1307,45.79612,-19.09152,4522,2999.9, 2.8707,34.9403,2,255.1,2,34.9395,2,255.5,2,7.736,2,27.91,2,1.30,2,19.33,2,0.00,2,-999,9,-999,9,2329,2,-999,-999
 35HT20180611,31,1, 8,10,20180623,1307,45.79612,-19.09152,4522,2750.2, 3.0405,34.9440,2,259.8,2,34.9441,2,260.1,2,7.735,2,22.71,2,1.23,2,18.72,2,0.00,2,-999,9,-999,9,2321,2,-999,-999
 35HT20180611,31,1, 9,11,20180623,1307,45.79612,-19.09152,4522,2500.9, 3.1943,34.9373,2,266.1,2,34.9366,2,266.9,2,7.732,2,17.64,2,1.17,2,17.68,2,0.00,2,-999,9,-999,9,2313,2,-999,-999
 35HT20180611,31,1,10,12,20180623,1307,45.79612,-19.09152,4522,2251.0, 3.4078,34.9311,2,269.1,2,34.9315,2,270.4,2,7.730,2,14.27,2,1.16,2,17.41,2,0.00,2,-999,9,-999,9,2307,2,-999,-999
 35HT20180611,31,1,11,13,20180623,1307,45.79612,-19.09152,4522,2000.4, 3.7247,34.9402,2,267.4,2,34.9406,2,268.0,2,7.725,2,12.57,2,1.14,2,17.33,2,0.00,2,-999,9,-999,9,2305,2,-999,-999
 35HT20180611,31,1,12,14,20180623,1307,45.79612,-19.09152,4522,1800.8, 3.9577,34.9493,2,266.5,2,34.9487,2,266.5,2,7.722,2,11.65,2,1.16,2,17.31,2,0.00,2,-999,9,-999,9,2307,2,-999,-999
 35HT20180611,31,1,13,15,20180623,1307,45.79612,-19.09152,4522,1598.9, 4.2732,34.9662,2,264.5,2,34.9647,2,264.5,2,7.716,2,10.8,2,1.15,2,17.50,2,0.00,2,-999,9,-999,9,2307,2,-999,-999
 35HT20180611,31,1,14,16,20180623,1307,45.79612,-19.09152,4522,1400.3, 4.8716,35.0368,2,254.5,2,35.0406,4,256.2,2,7.716,2,10.65,2,1.16,2,17.53,2,0.00,2,-999,9,-999,9,2312,2,-999,-999
 35HT20180611,31,1,15,17,20180623,1307,45.79612,-19.09152,4522,1200.8, 6.1258,35.2038,2,232.3,2,35.2092,4,232.0,2,7.723,2,10.77,2,1.16,2,17.82,2,0.00,2,-999,9,-999,9,2324,2,-999,-999
 35HT20180611,31,1,16,18,20180623,1307,45.79612,-19.09152,4522,1040.6, 7.7475,35.4120,2,207.5,2,35.4114,2,207.8,2,7.735,2,10.56,2,1.12,2,18.07,2,0.00,2,-999,9,-999,9,2339,2,-999,-999
 35HT20180611,31,1,17,19,20180623,1307,45.79612,-19.09152,4522, 900.2, 7.4467,35.1650,2,201.4,2,35.1637,2,202.0,2,7.708,2,11.12,2,1.24,2,19.28,2,0.00,2,-999,9,-999,9,-999,9,-999,-999
 35HT20180611,31,1,18,20,20180623,1307,45.79612,-19.09152,4522, 802.0, 9.2230,35.3801,2,191.8,2,35.3794,2,192.0,2,7.737,2,9.48,2,1.13,2,18.19,2,0.01,2,-999,9,-999,9,2334,2,-999,-999
 35HT20180611,31,1,19,21,20180623,1307,45.79612,-19.09152,4522, 699.2,10.2510,35.4592,2,198.7,2,35.4586,2,198.6,2,7.762,2,7.55,2,1.00,2,16.30,2,0.01,2,-999,9,-999,9,-999,9,-999,-999
 35HT20180611,31,1,20,22,20180623,1307,45.79612,-19.09152,4522, 602.1,10.7970,35.4924,2,212.0,2,35.4915,2,211.7,2,7.781,2,6.01,2,0.87,2,14.26,2,0.01,2,-999,9,-999,9,2335,2,-999,-999
 35HT20180611,31,1,21,23,20180623,1307,45.79612,-19.09152,4522, 500.7,11.1677,35.4982,2,220.6,2,35.4980,2,220.4,2,7.794,2,4.88,2,0.78,2,12.85,2,0.01,2,-999,9,-999,9,2335,2,-999,-999
 35HT20180611,31,1,22,24,20180623,1307,45.79612,-19.09152,4522, 400.9,11.6341,35.5318,2,226.9,2,35.5306,2,227.4,2,7.811,2,4.02,2,0.65,2,11.25,2,0.01,2,-999,9,-999,9,2336,2,-999,-999
 35HT20180611,31,1,23,25,20180623,1307,45.79612,-19.09152,4522, 300.3,12.2609,35.6074,2,241.1,2,35.6077,2,240.7,2,7.849,2,2.67,2,0.51,2, 8.53,2,0.02,2,-999,9,-999,9,2341,2,-999,-999
 35HT20180611,31,1,24,26,20180623,1307,45.79612,-19.09152,4522, 200.4,12.6265,35.6543,2,246.2,2,35.6481,4,246.3,2,7.864,2,2.54,2,0.43,2, 7.24,2,0.02,2,-999,9,-999,9,2343,2,-999,-999
 35HT20180611,31,1,25,27,20180623,1307,45.79612,-19.09152,4522, 151.9,12.7672,35.6700,2,244.9,2,35.6696,2,244.5,2,7.868,2,2.40,2,0.42,2, 7.11,2,0.02,2,-999,9,-999,9,-999,9,-999,-999
 35HT20180611,31,1,26,28,20180623,1307,45.79612,-19.09152,4522, 100.5,13.0500,35.6831,2,247.4,2,35.6820,2,246.7,2,7.877,2,1.58,2,0.36,2, 6.21,2,0.03,2,-999,9,-999,9,2345,2,-999,-999
 35HT20180611,31,1,27,29,20180623,1307,45.79612,-19.09152,4522,  58.4,13.9745,35.6926,2,254.5,2,35.6918,2,254.0,2,7.925,2,0.54,2,0.20,2, 1.55,2,0.19,2,-999,9,-999,9,-999,9,-999,-999
 35HT20180611,31,1,28,30,20180623,1307,45.79612,-19.09152,4522,   8.1,16.4789,35.6889,2,254.1,2,35.6886,2,253.0,2,7.972,2,0.37,2,0.07,2, 0.13,2,0.00,2,0.722,2,4.36,2,2351,2,-999,-999
 35HT20180611,32,1, 1, 3,20180623,1840,46.17512,-19.3819,4606,4681.2, 2.5948,34.9058,2,241.2,2,34.9061,2,240.2,2,7.739,2,43.93,2,1.43,2,22.61,2,0.00,2,-999,9,-999,9,-999,9,-999,-999
 35HT20180611,32,1, 2, 4,20180623,1840,46.17512,-19.3819,4606,4000.6, 2.5498,34.9097,2,241.6,2,34.9095,2,241.3,2,7.740,2,42.76,2,1.41,2,22.40,2,0.00,2,-999,9,-999,9,-999,9,-999,-999
 35HT20180611,32,1, 3, 5,20180623,1840,46.17512,-19.3819,4606,3751.2, 2.5682,34.9140,2,243.2,2,34.9143,2,243.3,2,7.740,2,41.12,2,1.38,2,22.03,2,0.00,2,-999,9,-999,9,-999,9,-999,-999
 35HT20180611,32,1, 4, 6,20180623,1840,46.17512,-19.3819,4606,3751.2, 2.5683,34.9141,2,243.0,2,34.9140,2,243.0,2,7.740,2,40.96,2,1.41,2,21.95,2,0.00,2,-999,9,-999,9,-999,9,-999,-999
 35HT20180611,32,1, 5, 7,20180623,1840,46.17512,-19.3819,4606,3500.7, 2.6144,34.9206,2,245.7,2,34.9203,2,245.7,2,7.739,2,38.08,2,1.37,2,21.62,2,0.00,2,-999,9,-999,9,-999,9,-999,-999
 35HT20180611,32,1, 6, 8,20180623,1840,46.17512,-19.3819,4606,3250.3, 2.7282,34.9315,2,250.5,2,34.9295,2,250.7,2,7.738,2,32.79,2,1.30,2,20.57,2,0.00,2,-999,9,-999,9,-999,9,-999,-999
 35HT20180611,32,1, 7, 9,20180623,1840,46.17512,-19.3819,4606,3001.9, 2.8429,34.9388,2,256.6,2,34.9383,2,256.8,2,7.735,2,27.2,2,1.23,2,19.24,2,0.00,2,-999,9,-999,9,-999,9,-999,-999
 35HT20180611,32,1, 8,10,20180623,1840,46.17512,-19.3819,4606,2750.3, 2.9933,34.9424,2,261.5,2,34.9422,2,261.7,2,7.734,2,22.33,2,1.18,2,18.51,2,0.00,2,-999,9,-999,9,-999,9,-999,-999
 35HT20180611,32,1, 9,11,20180623,1840,46.17512,-19.3819,4606,2501.4, 3.1874,34.9395,2,265.2,2,34.9395,2,266.6,2,7.735,2,18.0,2,1.12,2,17.83,2,0.00,2,-999,9,-999,9,-999,9,-999,-999
 35HT20180611,32,1,10,12,20180623,1840,46.17512,-19.3819,4606,2250.7, 3.4584,34.9519,2,264.7,2,34.9519,2,265.5,2,7.735,2,16.34,2,1.14,2,17.99,2,0.00,2,-999,9,-999,9,-999,9,-999,-999
 35HT20180611,32,1,11,13,20180623,1840,46.17512,-19.3819,4606,2001.5, 3.7264,34.9537,2,266.2,2,34.9529,2,266.7,2,7.728,2,13.36,2,1.12,2,17.65,2,0.00,2,-999,9,-999,9,-999,9,-999,-999
 35HT20180611,32,1,12,14,20180623,1840,46.17512,-19.3819,4606,1800.4, 3.8961,34.9476,2,267.2,2,34.9460,2,267.2,2,7.724,2,11.86,2,1.15,2,17.52,2,0.01,2,-999,9,-999,9,-999,9,-999,-999
 35HT20180611,32,1,13,15,20180623,1840,46.17512,-19.3819,4606,1601.1, 4.2872,34.9851,2,263.0,2,34.9849,2,263.4,2,7.721,2,11.22,2,1.16,2,17.70,2,0.00,2,-999,9,-999,9,-999,9,-999,-999
 35HT20180611,32,1,14,16,20180623,1840,46.17512,-19.3819,4606,1401.0, 4.6999,35.0191,2,257.8,2,35.0213,2,257.1,2,7.718,2,10.62,2,1.14,2,17.69,2,0.00,2,-999,9,-999,9,-999,9,-999,-999
 35HT20180611,32,1,15,17,20180623,1840,46.17512,-19.3819,4606,1223.1, 6.1639,35.2346,2,235.1,2,35.2297,4,233.8,2,7.725,2,10.83,2,1.15,2,17.88,2,0.00,2,-999,9,-999,9,-999,9,-999,-999
 35HT20180611,32,1,16,18,20180623,1840,46.17512,-19.3819,4606,1034.8, 8.0213,35.5213,2,207.7,2,35.5200,2,207.1,2,7.746,2,10.52,2,1.11,2,17.82,2,0.00,2,-999,9,-999,9,-999,9,-999,-999
 35HT20180611,32,1,17,19,20180623,1840,46.17512,-19.3819,4606, 900.5, 8.4686,35.4859,2,199.1,2,35.4834,4,198.1,2,7.743,2,10.27,2,1.14,2,18.18,2,0.00,2,-999,9,-999,9,-999,9,-999,-999
 35HT20180611,32,1,18,20,20180623,1840,46.17512,-19.3819,4606, 801.1, 7.5691,35.1475,2,200.2,2,35.1496,2,199.7,2,7.709,3,10.89,2,1.24,2,19.50,2,0.00,2,-999,9,-999,9,-999,9,-999,-999
 35HT20180611,32,1,19,21,20180623,1840,46.17512,-19.3819,4606, 700.6, 9.1733,35.3115,2,195.2,2,35.3090,4,194.8,2,7.736,2,9.34,2,1.15,2,18.25,2,0.00,2,-999,9,-999,9,-999,9,-999,-999
 35HT20180611,32,1,20,22,20180623,1840,46.17512,-19.3819,4606, 600.7, 9.9642,35.3427,2,204.5,2,35.3427,2,204.5,2,7.758,2,7.73,2,1.03,2,16.50,2,0.00,2,-999,9,-999,9,-999,9,-999,-999
 35HT20180611,32,1,21,23,20180623,1840,46.17512,-19.3819,4606, 501.3,10.5273,35.3702,2,214.8,2,35.3698,2,215.5,2,7.778,2,6.24,2,0.88,2,14.45,2,0.00,2,-999,9,-999,9,-999,9,-999,-999
 35HT20180611,32,1,22,24,20180623,1840,46.17512,-19.3819,4606, 400.3,10.9505,35.3800,2,231.1,2,35.3806,2,230.6,2,7.805,2,5.23,2,0.73,2,12.51,2,0.00,2,-999,9,-999,9,-999,9,-999,-999
 35HT20180611,32,1,23,25,20180623,1840,46.17512,-19.3819,4606, 302.1,11.8137,35.5390,2,244.6,2,35.5371,2,245.6,2,7.843,2,3.57,2,0.57,2, 9.45,2,0.00,2,-999,9,-999,9,-999,9,-999,-999
 35HT20180611,32,1,24,26,20180623,1840,46.17512,-19.3819,4606, 201.0,12.2236,35.5953,2,240.1,2,35.5942,2,238.6,2,7.845,2,3.45,2,0.52,2, 9.32,2,0.01,2,-999,9,-999,9,-999,9,-999,-999
 35HT20180611,32,1,25,27,20180623,1840,46.17512,-19.3819,4606, 149.3,12.5157,35.6347,2,246.7,2,35.6343,2,246.4,2,7.862,2,2.87,2,0.47,2, 7.91,2,0.02,2,-999,9,-999,9,-999,9,-999,-999
 35HT20180611,32,1,26,28,20180623,1840,46.17512,-19.3819,4606, 101.3,12.6980,35.6443,2,250.7,2,35.6441,2,250.5,2,7.874,2,1.99,2,0.42,2, 7.05,2,0.54,2,-999,9,-999,9,-999,9,-999,-999
 35HT20180611,32,1,27,29,20180623,1840,46.17512,-19.3819,4606,  56.3,14.0027,35.7172,2,255.5,2,35.7145,4,255.2,2,7.926,2,0.78,2,0.21,2, 2.44,2,0.17,2,-999,9,-999,9,-999,9,-999,-999
 35HT20180611,32,1,28,30,20180623,1840,46.17512,-19.3819,4606,   7.3,16.0159,35.6375,2,262.3,2,35.6371,2,262.2,2,7.992,2,0.55,2,0.16,2, 0.00,2,0.00,2,-999,9,-999,9,-999,9,-999,-999