BOTTLE,20240404CCHSIOADS
EXPOCODE,STNNBR,CASTNO,SAMPNO,BTLNBR,DATE,TIME,LATITUDE,LONGITUDE,DEPTH,CTDPRS,CTDTMP,CTDSAL,CTDSAL_FLAG_W,CTDOXY,CTDOXY_FLAG_W,SALNTY,SALNTY_FLAG_W,OXYGEN,OXYGEN_FLAG_W,PH_TOT,PH_TOT_FLAG_W,SILCAT,SILCAT_FLAG_W,PHSPHT,PHSPHT_FLAG_W,NITRAT,NITRAT_FLAG_W,NITRIT,NITRIT_FLAG_W,DELO18,DELO18_FLAG_W,DELD,DELD_FLAG_W,ALKALI,ALKALI_FLAG_W,I-129,I129ER
,,,,,,,,,METERS,DBAR,DEG C,PSS-78,,UMOL/KG,,PSS-78,,UMOL/KG,,,,UMOL/KG,,UMOL/KG,,UMOL/KG,,UMOL/KG,,/MILLE,,/MILLE,,UMOL/KG,,E7/KG,E7/KG
 35HT20180611,61,1, 1, 3,20180630,0558,57.00230,-27.87652,2749,2779.9, 2.8090,34.9683,2,270.5,2,34.9688,2,270.9,2,7.715,2,18.18,2,1.12,2,16.20,2,0.00,2,-999,9,-999,9,2317,2,-999,-999
 35HT20180611,61,1, 2, 4,20180630,0558,57.00230,-27.87652,2749,2779.6, 2.8087,34.9683,2,270.2,2,34.9690,2,270.2,2,7.717,2,18.15,2,1.13,2,16.30,2,0.01,2,-999,9,-999,9,-999,9,-999,-999
 35HT20180611,61,1, 3, 5,20180630,0558,57.00230,-27.87652,2749,2699.9, 2.8343,34.9685,2,270.8,2,34.9685,2,270.3,2,7.715,2,17.24,2,1.12,2,16.30,2,0.00,2,-999,9,-999,9,2317,2,-999,-999
 35HT20180611,61,1, 4, 6,20180630,0558,57.00230,-27.87652,2749,2600.5, 2.9151,34.9677,2,271.6,2,34.9688,2,271.1,2,7.717,2,15.88,2,1.13,2,16.30,2,0.01,2,-999,9,-999,9,2315,2,-999,-999
 35HT20180611,61,1, 5, 7,20180630,0558,57.00230,-27.87652,2749,2501.6, 3.0221,34.9683,2,272.7,2,34.9690,2,272.9,2,7.721,2,14.24,2,1.08,2,16.10,2,0.00,2,-999,9,-999,9,2313,2,-999,-999
 35HT20180611,61,1, 6, 8,20180630,0558,57.00230,-27.87652,2749,2402.2, 3.1093,34.9662,2,272.8,2,34.9671,2,272.6,2,7.722,2,13.62,2,1.07,2,16.00,2,0.02,2,-999,9,-999,9,2312,2,-999,-999
 35HT20180611,61,1, 7, 9,20180630,0558,57.00230,-27.87652,2749,2301.5, 3.1730,34.9607,2,273.1,2,34.9607,2,273.2,2,7.722,2,13.49,2,1.06,2,16.20,2,0.04,2,-999,9,-999,9,2310,2,-999,-999
 35HT20180611,61,1, 8,10,20180630,0558,57.00230,-27.87652,2749,2301.3, 3.1731,34.9607,2,272.7,2,34.9602,2,272.9,2,7.723,2,13.52,2,1.08,2,16.20,2,0.03,2,-999,9,-999,9,2311,2,-999,-999
 35HT20180611,61,1, 9,11,20180630,0558,57.00230,-27.87652,2749,2200.3, 3.2408,34.9525,2,272.9,2,34.9527,2,272.7,2,7.723,2,13.3,2,1.11,2,16.40,2,0.04,2,-999,9,-999,9,-999,9,-999,-999
 35HT20180611,61,1,10,12,20180630,0558,57.00230,-27.87652,2749,1999.9, 3.3683,34.9365,2,272.4,2,34.9374,2,272.2,2,7.727,2,12.77,2,1.14,2,16.50,2,0.03,2,-999,9,-999,9,2307,2,-999,-999
 35HT20180611,61,1,11,13,20180630,0558,57.00230,-27.87652,2749,1802.1, 3.5346,34.9335,2,272.6,2,34.9337,2,272.8,2,7.724,2,11.95,2,1.11,2,16.70,2,0.03,2,-999,9,-999,9,2306,2,-999,-999
 35HT20180611,61,1,12,14,20180630,0558,57.00230,-27.87652,2749,1601.2, 3.6979,34.9326,2,272.0,2,34.9326,2,272.0,2,7.718,2,11.22,2,1.07,2,16.60,2,0.01,2,-999,9,-999,9,2305,2,-999,-999
 35HT20180611,61,1,13,15,20180630,0558,57.00230,-27.87652,2749,1300.9, 3.7245,34.9037,2,278.9,2,34.9039,2,279.0,2,7.714,2,10.59,2,1.11,2,16.60,2,0.02,2,-999,9,-999,9,2303,2,-999,-999
 35HT20180611,61,1,14,16,20180630,0558,57.00230,-27.87652,2749,1200.8, 3.7683,34.9019,2,278.8,2,34.9029,2,279.3,2,7.713,2,10.32,2,1.12,2,16.80,2,0.03,2,-999,9,-999,9,2305,2,-999,-999
 35HT20180611,61,1,15,17,20180630,0558,57.00230,-27.87652,2749,1000.7, 3.9137,34.9070,2,275.7,2,34.9078,2,275.6,2,7.710,2,10.19,2,1.14,2,16.90,2,0.03,2,-999,9,-999,9,2303,2,-999,-999
 35HT20180611,61,1,16,18,20180630,0558,57.00230,-27.87652,2749, 900.9, 4.0227,34.9132,2,273.0,2,34.9138,2,272.8,2,7.705,2,10.21,2,1.14,2,17.10,2,0.02,2,-999,9,-999,9,-999,9,-999,-999
 35HT20180611,61,1,17,19,20180630,0558,57.00230,-27.87652,2749, 800.4, 4.2030,34.9249,2,268.5,2,34.9255,2,268.3,2,7.703,2,10.31,2,1.16,2,17.40,2,0.02,2,-999,9,-999,9,2304,2,-999,-999
 35HT20180611,61,1,18,20,20180630,0558,57.00230,-27.87652,2749, 701.8, 4.3520,34.9314,2,264.1,2,34.9321,2,263.5,2,7.702,2,10.37,2,1.19,2,17.30,2,0.03,2,-999,9,-999,9,-999,9,-999,-999
 35HT20180611,61,1,20,22,20180630,0558,57.00230,-27.87652,2749, 600.8, 4.5490,34.9316,2,258.1,2,34.9320,2,257.9,2,7.697,2,10.74,2,1.17,2,17.60,2,0.03,2,-999,9,-999,9,2306,2,-999,-999
 35HT20180611,61,1,21,23,20180630,0558,57.00230,-27.87652,2749, 502.5, 4.9222,34.9432,2,250.2,2,34.9441,2,250.4,2,7.695,2,10.52,2,1.20,2,17.80,2,0.01,2,-999,9,-999,9,2306,2,-999,-999
 35HT20180611,61,1,22,24,20180630,0558,57.00230,-27.87652,2749, 401.0, 5.4557,34.9272,2,241.6,2,34.9289,2,239.4,4,7.695,2,10.61,2,1.22,2,18.00,2,0.05,2,-999,9,-999,9,2307,2,-999,-999
 35HT20180611,61,1,23,25,20180630,0558,57.00230,-27.87652,2749, 300.5, 5.8975,34.8990,2,250.2,2,34.8988,2,248.9,2,7.710,2,9.68,2,1.16,2,17.20,2,0.03,2,-999,9,-999,9,2304,2,-999,-999
 35HT20180611,61,1,24,26,20180630,0558,57.00230,-27.87652,2749, 200.3, 6.1570,34.8468,2,268.9,2,34.8470,2,269.7,2,7.708,2,8.35,2,1.06,2,15.30,2,0.03,2,-999,9,-999,9,2302,2,-999,-999
 35HT20180611,61,1,25,27,20180630,0558,57.00230,-27.87652,2749, 151.1, 6.4076,34.8289,2,275.3,2,34.8282,2,274.7,2,7.739,2,7.64,2,0.97,2,14.40,2,0.03,2,-999,9,-999,9,-999,9,-999,-999
 35HT20180611,61,1,26,28,20180630,0558,57.00230,-27.87652,2749, 101.9, 6.8814,34.8487,2,284.0,2,34.8479,2,283.5,2,7.757,2,6.58,2,0.90,2,12.90,2,0.31,2,-999,9,-999,9,2303,2,-999,-999
 35HT20180611,61,1,27,29,20180630,0558,57.00230,-27.87652,2749,  55.6, 7.3109,34.8577,2,290.0,2,34.8583,2,289.2,2,7.772,2,5.76,2,0.89,2,10.90,2,0.26,2,-999,9,-999,9,-999,9,-999,-999
 35HT20180611,61,1,28,30,20180630,0558,57.00230,-27.87652,2749,   5.6, 9.1381,34.8210,2,295.1,2,34.8222,2,295.7,2,7.848,2,3.99,2,0.57,2, 7.82,2,0.12,2,0.254,2,0.97,2,2301,2,-999,-999
 35HT20180611,62,1, 1, 3,20180630,1050,57.37712,-28.1748,2608,2636.4, 2.7855,34.9703,2,273.3,2,34.9703,2,274.3,2,7.711,2,14.95,2,1.07,2,15.70,2,0.00,2,-999,9,-999,9,-999,9,-999,-999
 35HT20180611,62,1, 2, 4,20180630,1050,57.37712,-28.1748,2608,2569.5, 2.7976,34.9702,2,273.7,2,34.9704,2,274.8,2,7.713,2,14.16,2,1.07,2,15.70,2,0.00,2,-999,9,-999,9,-999,9,-999,-999
 35HT20180611,62,1, 3, 5,20180630,1050,57.37712,-28.1748,2608,2500.1, 2.8103,34.9701,2,274.7,2,34.9702,2,275.5,2,7.712,2,13.57,2,1.03,2,15.60,2,0.00,2,-999,9,-999,9,-999,9,-999,-999
 35HT20180611,62,1, 5, 7,20180630,1050,57.37712,-28.1748,2608,2402.3, 2.8810,34.9693,2,273.7,2,34.9690,2,273.4,2,7.716,2,13.52,2,1.06,2,15.70,2,0.00,2,-999,9,-999,9,-999,9,-999,-999
 35HT20180611,62,1, 6, 8,20180630,1050,57.37712,-28.1748,2608,2201.2, 3.1281,34.9678,2,274.1,2,34.9673,2,277.2,4,7.718,2,12.15,2,1.05,2,15.80,2,0.00,2,-999,9,-999,9,-999,9,-999,-999
 35HT20180611,62,1, 7, 9,20180630,1050,57.37712,-28.1748,2608,2001.8, 3.4220,34.9537,2,273.1,2,   -999,9,273.1,2,7.723,2,12.17,2,1.08,2,15.80,2,0.01,2,-999,9,-999,9,-999,9,-999,-999
 35HT20180611,62,1, 8,10,20180630,1050,57.37712,-28.1748,2608,1797.4, 3.6209,34.9380,2,271.8,2,34.9379,2,272.5,2,7.721,2,11.67,2,1.14,2,16.70,2,0.00,2,-999,9,-999,9,-999,9,-999,-999
 35HT20180611,62,1, 9,11,20180630,1050,57.37712,-28.1748,2608,1797.4, 3.6208,34.9381,2,271.8,2,34.9377,2,272.2,2,7.722,2,11.63,2,1.13,2,16.80,2,0.01,2,-999,9,-999,9,-999,9,-999,-999
 35HT20180611,62,1,10,12,20180630,1050,57.37712,-28.1748,2608,1600.1, 3.7022,34.9231,2,273.5,2,34.9229,2,275.4,2,7.719,2,11.18,2,1.13,2,16.70,2,0.00,2,-999,9,-999,9,-999,9,-999,-999
 35HT20180611,62,1,11,13,20180630,1050,57.37712,-28.1748,2608,1402.4, 3.7431,34.9086,2,277.6,2,34.9087,2,277.3,2,7.715,2,10.43,2,1.14,2,16.70,2,0.00,2,-999,9,-999,9,-999,9,-999,-999
 35HT20180611,62,1,12,14,20180630,1050,57.37712,-28.1748,2608,1201.2, 3.8714,34.9073,2,277.1,2,34.9071,2,278.6,2,7.715,2,10.11,2,1.13,2,16.70,2,0.00,2,-999,9,-999,9,-999,9,-999,-999
 35HT20180611,62,1,14,16,20180630,1050,57.37712,-28.1748,2608, 999.0, 4.0684,34.9160,2,273.2,2,34.9166,2,273.5,2,7.707,2,10.07,2,1.15,2,16.90,2,0.00,2,-999,9,-999,9,-999,9,-999,-999
 35HT20180611,62,1,16,18,20180630,1050,57.37712,-28.1748,2608, 799.8, 4.4059,34.9350,2,263.6,2,34.9355,2,263.5,2,7.703,2,10.12,2,1.16,2,17.30,2,0.00,2,-999,9,-999,9,-999,9,-999,-999
 35HT20180611,62,1,18,20,20180630,1050,57.37712,-28.1748,2608, 601.2, 4.8927,34.9564,2,251.3,2,34.9567,2,250.3,2,7.698,2,10.36,2,1.20,2,17.60,2,0.00,2,-999,9,-999,9,-999,9,-999,-999
 35HT20180611,62,1,20,22,20180630,1050,57.37712,-28.1748,2608, 500.3, 5.2021,34.9407,2,244.4,2,34.9418,2,244.1,2,7.694,2,10.32,2,1.20,2,17.90,2,0.00,2,-999,9,-999,9,-999,9,-999,-999
 35HT20180611,62,1,22,24,20180630,1050,57.37712,-28.1748,2608, 400.1, 5.7781,34.9170,2,259.6,2,34.9170,2,260.3,2,7.716,2,8.97,2,1.14,2,16.60,2,0.02,2,-999,9,-999,9,-999,9,-999,-999
 35HT20180611,62,1,23,25,20180630,1050,57.37712,-28.1748,2608, 300.6, 6.0775,34.8587,2,243.8,2,34.8583,2,248.4,4,7.709,2,9.32,2,1.17,2,16.90,2,0.00,2,-999,9,-999,9,-999,9,-999,-999
 35HT20180611,62,1,24,26,20180630,1050,57.37712,-28.1748,2608, 202.2, 6.6481,34.8249,2,281.6,2,34.8249,2,281.1,2,7.748,2,7.03,2,0.94,2,13.50,2,0.12,2,-999,9,-999,9,-999,9,-999,-999
 35HT20180611,62,1,26,28,20180630,1050,57.37712,-28.1748,2608, 101.0, 8.3595,35.0221,2,274.8,2,35.0225,2,274.6,2,7.786,2,5.10,2,0.85,2,12.00,2,0.25,2,-999,9,-999,9,-999,9,-999,-999
 35HT20180611,62,1,27,29,20180630,1050,57.37712,-28.1748,2608,  54.8, 8.8091,34.9034,2,288.2,2,34.9004,4,290.4,4,7.825,2,4.20,2,0.69,2, 8.69,2,0.19,2,-999,9,-999,9,-999,9,-999,-999
 35HT20180611,62,1,28,30,20180630,1050,57.37712,-28.1748,2608,   6.0, 9.4120,34.8693,2,293.8,2,34.8696,2,294.4,2,7.849,2,3.40,2,0.60,2, 7.59,2,0.14,2,-999,9,-999,9,-999,9,-999,-999
 35HT20180611,63,1, 1, 3,20180630,1542,57.67412,-28.7267,2461,2485.5, 2.8501,34.9706,2,274.8,2,34.9707,2,274.4,2,7.712,2,13.09,2,0.99,2,16.03,2,0.00,2,0.324,2,1.54,2,2310,2,-999,-999
 35HT20180611,63,1, 2, 4,20180630,1542,57.67412,-28.7267,2461,2485.7, 2.8501,34.9706,2,274.9,2,   -999,9, -999,9, -999,9,-999,9,-999,9, -999,9,-999,9,-999,9,-999,9,-999,9,36.8,0.8
 35HT20180611,63,1, 3, 5,20180630,1542,57.67412,-28.7267,2461,2400.3, 2.8794,34.9708,2,274.8,2,34.9710,2,274.8,2,7.714,2,12.87,2,0.97,2,15.86,2,0.00,2,-999,9,-999,9,2309,2,36.4,0.7
 35HT20180611,63,1, 4, 6,20180630,1542,57.67412,-28.7267,2461,2299.9, 2.9552,34.9705,2,274.6,2,34.9708,2,274.6,2,7.716,2,12.29,2,0.99,2,15.93,2,0.00,2,-999,9,-999,9,2308,2,34.3,0.7
 35HT20180611,63,1, 5, 7,20180630,1542,57.67412,-28.7267,2461,2200.5, 3.1046,34.9669,2,274.0,2,34.9661,2,273.8,2,7.720,2,12.59,2,1.00,2,16.22,2,0.00,2,-999,9,-999,9,2308,2,-999,-999
 35HT20180611,63,1, 6, 8,20180630,1542,57.67412,-28.7267,2461,2101.1, 3.2808,34.9585,2,273.4,2,34.9580,2,273.7,2,7.724,2,12.54,2,1.01,2,16.50,2,0.00,2,-999,9,-999,9,2307,2,-999,-999
 35HT20180611,63,1, 7, 9,20180630,1542,57.67412,-28.7267,2461,2000.9, 3.4070,34.9498,2,272.5,2,34.9505,2,272.5,2,7.725,2,12.21,2,1.04,2,16.80,2,0.00,2,0.298,2,1.35,2,2307,2,19.2,0.4
 35HT20180611,63,1, 8,10,20180630,1542,57.67412,-28.7267,2461,1800.8, 3.5978,34.9327,2,272.0,2,34.9326,2,271.7,2,7.726,2,11.85,2,1.06,2,17.15,2,0.00,2,-999,9,-999,9,2306,2,-999,-999
 35HT20180611,63,1, 9,11,20180630,1542,57.67412,-28.7267,2461,1601.0, 3.7121,34.9194,2,274.3,2,34.9194,2,273.9,2,7.719,2,11.24,2,1.06,2,17.23,2,0.00,2,-999,9,-999,9,2304,2,15.7,0.3
 35HT20180611,63,1,10,12,20180630,1542,57.67412,-28.7267,2461,1601.0, 3.7121,34.9194,2,274.3,2,34.9190,2,274.1,2,7.719,2,11.14,2,1.06,2,17.30,2,0.00,2,-999,9,-999,9,-999,9,-999,-999
 35HT20180611,63,1,11,13,20180630,1542,57.67412,-28.7267,2461,1399.8, 3.7801,34.9090,2,277.1,2,34.9083,2,277.0,2,7.715,2,10.58,2,1.06,2,17.18,2,0.00,2,0.208,2,0.70,2,2304,2,-999,-999
 35HT20180611,63,1,12,14,20180630,1542,57.67412,-28.7267,2461,1202.0, 3.9314,34.9100,2,275.3,2,34.9105,2,275.6,2,7.713,2,10.32,2,1.06,2,17.05,2,0.00,2,-999,9,-999,9,2304,2,-999,-999
 35HT20180611,63,1,13,15,20180630,1542,57.67412,-28.7267,2461,1000.7, 4.1896,34.9249,2,268.9,2,34.9244,2,268.5,2,7.705,2,10.32,2,1.07,2,17.34,2,0.00,2,-999,9,-999,9,2305,2,19.5,0.5
 35HT20180611,63,1,14,16,20180630,1542,57.67412,-28.7267,2461, 900.1, 4.3935,34.9392,2,263.7,2,34.9390,2,263.6,2,7.705,2,10.4,2,1.07,2,17.48,2,0.00,2,-999,9,-999,9,-999,9,-999,-999
 35HT20180611,63,1,15,17,20180630,1542,57.67412,-28.7267,2461, 801.2, 4.6108,34.9486,2,258.1,2,34.9489,2,257.9,2,7.700,2,10.37,2,1.10,2,17.75,2,0.00,2,-999,9,-999,9,2307,2,-999,-999
 35HT20180611,63,1,16,18,20180630,1542,57.67412,-28.7267,2461, 701.8, 5.0043,34.9724,2,247.9,2,34.9726,2,248.1,2,7.699,2,10.63,2,1.13,2,18.11,2,0.00,2,-999,9,-999,9,-999,9,-999,-999
 35HT20180611,63,1,17,19,20180630,1542,57.67412,-28.7267,2461, 598.6, 5.4284,34.9647,2,239.8,2,34.9637,2,239.4,2,7.695,2,10.54,2,1.13,2,18.17,2,0.00,2,-999,9,-999,9,2308,2,-999,-999
 35HT20180611,63,1,18,20,20180630,1542,57.67412,-28.7267,2461, 501.2, 6.1857,34.9868,2,227.5,2,34.9859,2,227.2,2,7.699,2,10.6,2,1.14,2,18.26,2,0.00,2,0.31,2,1.36,2,2310,2,24.2,0.5
 35HT20180611,63,1,20,22,20180630,1542,57.67412,-28.7267,2461, 500.9, 6.1858,34.9861,2,228.9,2,   -999,9, -999,9, -999,9,-999,9,-999,9, -999,9,-999,9,-999,9,-999,9,-999,9,-999,-999
 35HT20180611,63,1,21,23,20180630,1542,57.67412,-28.7267,2461, 401.0, 6.2586,34.8978,2,257.1,2,34.9008,4,255.8,2,7.720,2,8.93,2,1.04,2,16.41,2,0.00,2,-999,9,-999,9,2305,2,-999,-999
 35HT20180611,63,1,22,24,20180630,1542,57.67412,-28.7267,2461, 301.2, 6.9744,34.9521,2,272.9,2,34.9527,2,272.2,2,7.751,2,7.31,2,0.92,2,14.47,2,0.00,2,-999,9,-999,9,2307,2,-999,-999
 35HT20180611,63,1,23,25,20180630,1542,57.67412,-28.7267,2461, 202.0, 7.4836,34.9812,2,271.3,2,34.9813,2,270.6,2,7.761,2,6.77,2,0.91,2,13.90,2,0.00,2,0.318,2,1.49,2,2309,2,-999,-999
 35HT20180611,63,1,24,26,20180630,1542,57.67412,-28.7267,2461, 202.0, 7.4843,34.9814,2,271.3,4,   -999,9, -999,9, -999,9,-999,9,-999,9, -999,9,-999,9,-999,9,-999,9,-999,9,-999,-999
 35HT20180611,63,1,25,27,20180630,1542,57.67412,-28.7267,2461, 151.2, 7.6886,34.9888,2,280.1,2,34.9902,2,279.6,2,7.776,2,5.79,2,0.83,2,12.91,2,0.03,2,-999,9,-999,9,-999,9,-999,-999
 35HT20180611,63,1,26,28,20180630,1542,57.67412,-28.7267,2461, 101.0, 7.7190,34.9647,2,284.2,2,34.9632,2,283.7,2,7.779,2,5.35,2,0.81,2,12.20,2,0.43,2,0.272,2,1.17,2,2308,2,30.5,0.6
 35HT20180611,63,1,27,29,20180630,1542,57.67412,-28.7267,2461,  32.0, 9.2446,34.9041,2,294.4,2,34.9047,2,294.7,2,7.849,2,4.14,2,0.60,2, 8.14,2,0.11,2,-999,9,-999,9,-999,9,-999,-999
 35HT20180611,63,1,28,30,20180630,1542,57.67412,-28.7267,2461,   6.3, 9.3301,34.9082,2,294.6,2,34.9075,2,295.0,2,7.848,2,4.08,2,0.59,2, 8.10,2,0.10,2,-999,9,-999,9,2303,2,30.2,0.6
 35HT20180611,64,1, 1, 3,20180630,2020,57.97136,-29.2791,2132,2149.7, 2.9350,34.9714,2,275.1,2,34.9717,2,275.2,2,7.713,2,12.08,2,1.05,2,15.98,2,0.00,2,-999,9,-999,9,-999,9,-999,-999
 35HT20180611,64,1, 3, 5,20180630,2020,57.97136,-29.2791,2132,2101.2, 2.9502,34.9714,2,275.0,2,34.9711,2,274.7,2,7.715,2,11.88,2,1.05,2,15.89,2,0.00,2,-999,9,-999,9,-999,9,-999,-999
 35HT20180611,64,1, 4, 6,20180630,2020,57.97136,-29.2791,2132,2000.1, 3.0016,34.9711,2,275.0,2,34.9713,2,275.1,2,7.713,2,11.44,2,1.03,2,15.83,2,0.00,2,-999,9,-999,9,-999,9,-999,-999
 35HT20180611,64,1, 6, 8,20180630,2020,57.97136,-29.2791,2132,1801.9, 3.0870,34.9700,2,274.6,2,34.9705,2,274.3,2,7.717,2,11.1,2,1.05,2,15.97,2,0.00,2,-999,9,-999,9,-999,9,-999,-999
 35HT20180611,64,1, 7, 9,20180630,2020,57.97136,-29.2791,2132,1601.1, 3.3941,34.9542,2,272.3,2,34.9557,2,272.0,2,7.725,2,11.77,2,1.07,2,16.40,2,0.00,2,-999,9,-999,9,-999,9,-999,-999
 35HT20180611,64,1, 9,11,20180630,2020,57.97136,-29.2791,2132,1400.7, 3.6523,34.9370,2,270.8,2,34.9374,2,270.4,2,7.723,2,11.55,2,1.08,2,17.03,2,-999,9,-999,9,-999,9,-999,9,-999,-999
 35HT20180611,64,1,10,12,20180630,2020,57.97136,-29.2791,2132,1151.8, 3.7942,34.9096,2,276.5,2,34.9098,2,275.8,2,7.716,2,10.44,2,1.07,2,16.97,2,0.00,2,-999,9,-999,9,-999,9,-999,-999
 35HT20180611,64,1,11,13,20180630,2020,57.97136,-29.2791,2132,1152.1, 3.7933,34.9097,2,276.5,2,34.9102,2,275.8,2,7.715,2,10.52,2,1.08,2,17.05,2,0.00,2,-999,9,-999,9,-999,9,-999,-999
 35HT20180611,64,1,12,14,20180630,2020,57.97136,-29.2791,2132, 999.9, 4.2232,34.9499,2,267.5,2,34.9503,2,266.9,2,7.711,2,10.19,2,1.08,2,17.10,2,0.00,2,-999,9,-999,9,-999,9,-999,-999
 35HT20180611,64,1,14,16,20180630,2020,57.97136,-29.2791,2132, 901.6, 4.2965,34.9381,2,266.3,2,34.9382,2,265.8,2,7.708,2,10.11,2,1.09,2,17.31,2,0.00,2,-999,9,-999,9,-999,9,-999,-999
 35HT20180611,64,1,15,17,20180630,2020,57.97136,-29.2791,2132, 801.3, 4.5785,34.9569,2,260.3,2,34.9573,2,259.3,2,7.706,2,10.2,2,1.11,2,17.59,2,0.00,2,-999,9,-999,9,-999,9,-999,-999
 35HT20180611,64,1,16,18,20180630,2020,57.97136,-29.2791,2132, 701.6, 4.7387,34.9583,2,254.2,2,34.9581,2,254.6,2,7.702,2,10.33,2,1.12,2,17.94,2,0.00,2,-999,9,-999,9,-999,9,-999,-999
 35HT20180611,64,1,17,19,20180630,2020,57.97136,-29.2791,2132, 596.3, 5.0491,34.9684,2,249.6,2,34.9685,2,249.3,2,7.702,2,10.32,2,1.13,2,17.97,2,0.00,2,-999,9,-999,9,-999,9,-999,-999
 35HT20180611,64,1,20,22,20180630,2020,57.97136,-29.2791,2132, 480.9, 5.5669,34.9838,2,239.1,2,34.9837,2,238.4,2,7.701,2,10.42,2,1.16,2,18.12,2,0.00,2,-999,9,-999,9,-999,9,-999,-999
 35HT20180611,64,1,21,23,20180630,2020,57.97136,-29.2791,2132, 401.7, 5.9692,34.9731,2,236.4,2,34.9725,2,235.4,2,7.703,2,10.07,2,1.15,2,18.11,2,0.00,2,-999,9,-999,9,-999,9,-999,-999
 35HT20180611,64,1,22,24,20180630,2020,57.97136,-29.2791,2132, 301.1, 6.3764,34.9488,2,255.2,2,34.9486,2,253.6,2,7.725,2,8.72,2,1.06,2,16.51,2,0.00,2,-999,9,-999,9,-999,9,-999,-999
 35HT20180611,64,1,23,25,20180630,2020,57.97136,-29.2791,2132, 201.4, 6.6618,34.9235,2,275.5,2,34.9224,2,274.7,2,7.747,2,7.55,2,0.95,2,14.72,2,0.00,2,-999,9,-999,9,-999,9,-999,-999
 35HT20180611,64,1,24,26,20180630,2020,57.97136,-29.2791,2132, 160.1, 6.8276,34.9183,2,278.2,2,34.9143,4,278.4,2,7.754,2,7.02,2,0.93,2,14.21,2,0.14,2,-999,9,-999,9,-999,9,-999,-999
 35HT20180611,64,1,25,27,20180630,2020,57.97136,-29.2791,2132,  99.8, 7.1252,34.9232,2,284.2,2,34.9228,2,282.9,2,7.770,2,6.05,2,0.89,2,13.23,2,0.44,2,-999,9,-999,9,-999,9,-999,-999
 35HT20180611,64,1,27,29,20180630,2020,57.97136,-29.2791,2132,  55.5, 7.6706,34.9352,2,287.1,2,34.9356,2,286.3,2,7.785,2,5.22,2,0.83,2,11.36,2,0.32,2,-999,9,-999,9,-999,9,-999,-999
 35HT20180611,64,1,28,30,20180630,2020,57.97136,-29.2791,2132,   5.4, 9.1497,34.8938,2,296.5,2,34.8935,2,296.5,2,7.850,2,3.50,2,0.57,2, 7.99,2,0.11,2,0.223,2,0.98,2,-999,9,-999,-999