BOTTLE,20240404CCHSIOADS
EXPOCODE,STNNBR,CASTNO,SAMPNO,BTLNBR,DATE,TIME,LATITUDE,LONGITUDE,DEPTH,CTDPRS,CTDTMP,CTDSAL,CTDSAL_FLAG_W,CTDOXY,CTDOXY_FLAG_W,SALNTY,SALNTY_FLAG_W,OXYGEN,OXYGEN_FLAG_W,PH_TOT,PH_TOT_FLAG_W,SILCAT,SILCAT_FLAG_W,PHSPHT,PHSPHT_FLAG_W,NITRAT,NITRAT_FLAG_W,NITRIT,NITRIT_FLAG_W,DELO18,DELO18_FLAG_W,DELD,DELD_FLAG_W,ALKALI,ALKALI_FLAG_W,I-129,I129ER
,,,,,,,,,METERS,DBAR,DEG C,PSS-78,,UMOL/KG,,PSS-78,,UMOL/KG,,,,UMOL/KG,,UMOL/KG,,UMOL/KG,,UMOL/KG,,/MILLE,,/MILLE,,UMOL/KG,,E7/KG,E7/KG
 35HT20180611,45,1, 1, 3,20180626,1807,51.02702,-23.19038,3933,3993.8, 2.5662,34.9106,2,242.5,2,34.9111,2,241.4,2,7.735,2,43.75,2,1.37,2,22.14,2,0.00,2,-999,9,-999,9,2351,2,-999,-999
 35HT20180611,45,1, 2, 4,20180626,1807,51.02702,-23.19038,3933,3750.8, 2.5976,34.9165,2,244.6,2,34.9161,2,244.1,2,7.734,2,40.13,2,1.32,2,21.44,2,0.00,2,-999,9,-999,9,2348,2,-999,-999
 35HT20180611,45,1, 3, 5,20180626,1807,51.02702,-23.19038,3933,3499.8, 2.6796,34.9282,2,250.2,2,34.9286,2,250.3,2,7.730,2,34.54,2,1.23,2,20.24,2,0.00,2,-999,9,-999,9,2339,2,-999,-999
 35HT20180611,45,1, 4, 6,20180626,1807,51.02702,-23.19038,3933,3250.1, 2.8097,34.9391,2,257.1,2,34.9387,2,257.5,2,7.729,2,27.57,2,1.14,2,19.00,2,0.00,2,-999,9,-999,9,2329,2,-999,-999
 35HT20180611,45,1, 5, 7,20180626,1807,51.02702,-23.19038,3933,3000.7, 2.9596,34.9443,2,264.1,2,34.9442,2,265.2,2,7.729,2,20.96,2,1.07,2,17.81,2,0.00,2,-999,9,-999,9,2318,2,-999,-999
 35HT20180611,45,1, 6, 8,20180626,1807,51.02702,-23.19038,3933,3000.6, 2.9601,34.9442,2,264.1,2,34.9437,2,264.5,2,7.728,2,20.84,2,1.08,2,17.76,2,0.00,2,-999,9,-999,9,-999,9,-999,-999
 35HT20180611,45,1, 7, 9,20180626,1807,51.02702,-23.19038,3933,2751.2, 3.1285,34.9408,2,269.1,2,34.9400,2,269.9,2,7.726,2,15.72,2,1.07,2,16.95,2,0.00,2,-999,9,-999,9,2312,2,-999,-999
 35HT20180611,45,1, 8,10,20180626,1807,51.02702,-23.19038,3933,2500.8, 3.2710,34.9345,2,271.2,2,34.9345,2,272.2,2,7.723,2,13.29,2,1.05,2,16.91,2,0.00,2,-999,9,-999,9,2308,2,-999,-999
 35HT20180611,45,1, 9,11,20180626,1807,51.02702,-23.19038,3933,2249.8, 3.4605,34.9285,2,271.1,2,34.9287,2,271.6,2,7.725,2,11.95,2,1.05,2,17.02,2,0.00,2,-999,9,-999,9,2306,2,-999,-999
 35HT20180611,45,1,10,12,20180626,1807,51.02702,-23.19038,3933,2001.6, 3.6369,34.9251,2,271.1,2,34.9249,2,271.9,2,7.721,2,11.13,2,1.04,2,17.32,2,0.00,2,-999,9,-999,9,2304,2,-999,-999
 35HT20180611,45,1,11,13,20180626,1807,51.02702,-23.19038,3933,1800.7, 3.7522,34.9191,2,272.9,2,34.9194,2,273.1,2,7.718,2,10.49,2,1.02,2,17.29,2,0.00,2,-999,9,-999,9,2303,2,-999,-999
 35HT20180611,45,1,12,14,20180626,1807,51.02702,-23.19038,3933,1600.4, 3.7906,34.9036,2,278.7,2,34.9048,2,278.9,2,7.715,2,9.59,2,1.02,2,16.80,2,0.00,2,-999,9,-999,9,2302,2,-999,-999
 35HT20180611,45,1,13,15,20180626,1807,51.02702,-23.19038,3933,1399.9, 4.0121,34.9176,2,273.8,2,34.9172,2,273.7,2,7.708,2,9.60,2,1.03,2,17.12,2,0.00,2,-999,9,-999,9,2303,2,-999,-999
 35HT20180611,45,1,14,16,20180626,1807,51.02702,-23.19038,3933,1200.0, 4.3466,34.9360,2,266.6,2,34.9374,2, -999,9,7.707,2,9.63,2,1.03,2,17.64,2,0.00,2,-999,9,-999,9,2304,2,-999,-999
 35HT20180611,45,1,15,17,20180626,1807,51.02702,-23.19038,3933,1001.2, 4.9202,34.9794,2,251.2,2,34.9794,2,251.3,2,7.703,2,10.22,2,1.07,2,18.34,2,0.00,2,-999,9,-999,9,2309,2,-999,-999
 35HT20180611,45,1,16,18,20180626,1807,51.02702,-23.19038,3933, 901.2, 5.1549,34.9634,2,244.4,2,34.9637,2,244.3,2,7.696,2,10.49,2,1.09,2,18.81,2,0.00,2,-999,9,-999,9,-999,9,-999,-999
 35HT20180611,45,1,17,19,20180626,1807,51.02702,-23.19038,3933, 799.5, 6.9148,35.1864,2,212.9,2,35.1853,2,213.9,2,7.713,2,10.67,2,1.10,2,19.26,2,0.00,2,-999,9,-999,9,2323,2,-999,-999
 35HT20180611,45,1,18,20,20180626,1807,51.02702,-23.19038,3933, 701.3, 7.2141,35.0898,2,206.9,2,35.0893,2,205.7,2,7.702,2,10.75,2,1.13,2,19.69,2,0.00,2,-999,9,-999,9,-999,9,-999,-999
 35HT20180611,45,1,19,21,20180626,1807,51.02702,-23.19038,3933, 601.2, 7.9754,35.0811,2,203.4,2,35.0796,2,201.7,2,7.710,2,10.06,2,1.12,2,19.09,2,0.00,2,-999,9,-999,9,-999,9,-999,-999
 35HT20180611,45,1,20,22,20180626,1807,51.02702,-23.19038,3933, 500.8, 9.3756,35.1960,2,243.5,2,35.1964,2,250.8,4,7.784,2,5.83,2,0.76,2,13.44,2,0.00,2,-999,9,-999,9,2318,2,-999,-999
 35HT20180611,45,1,21,23,20180626,1807,51.02702,-23.19038,3933, 400.7, 9.6642,35.2101,2,265.0,2,35.2105,2,265.3,2,7.805,2,4.75,2,0.68,2,11.97,2,0.00,2,-999,9,-999,9,2321,2,-999,-999
 35HT20180611,45,1,22,24,20180626,1807,51.02702,-23.19038,3933, 301.3, 9.9278,35.2578,2,263.9,2,35.2580,2,264.9,2,7.811,2,4.39,2,0.67,2,11.62,2,0.01,2,-999,9,-999,9,2323,2,-999,-999
 35HT20180611,45,1,23,25,20180626,1807,51.02702,-23.19038,3933, 201.6,10.2051,35.2872,2,256.5,2,35.2874,2,257.4,2,7.810,2,4.63,2,0.64,2,12.12,2,0.01,2,-999,9,-999,9,2325,2,-999,-999
 35HT20180611,45,1,24,26,20180626,1807,51.02702,-23.19038,3933, 150.7,10.4789,35.3276,2,256.5,2,35.3274,2,256.8,2,7.818,2,4.27,2,0.63,2,11.71,2,0.01,2,-999,9,-999,9,-999,9,-999,-999
 35HT20180611,45,1,25,27,20180626,1807,51.02702,-23.19038,3933, 101.2,10.9481,35.3935,2,256.3,2,35.3918,2,255.5,2,7.830,2,3.63,2,0.60,2,11.00,2,0.05,2,-999,9,-999,9,2330,2,-999,-999
 35HT20180611,45,1,26,28,20180626,1807,51.02702,-23.19038,3933, 101.2,10.9491,35.3939,2,256.3,2,35.3930,2,255.3,2,7.833,2,3.58,2,0.59,2,10.95,2,0.04,2,-999,9,-999,9,-999,9,-999,-999
 35HT20180611,45,1,27,29,20180626,1807,51.02702,-23.19038,3933,  56.0,11.7265,35.3188,2,273.3,2,35.3187,2,275.0,2,7.890,2,0.56,2,0.39,2, 6.39,2,0.17,2,-999,9,-999,9,-999,9,-999,-999
 35HT20180611,45,1,28,30,20180626,1807,51.02702,-23.19038,3933,   4.3,13.7892,35.3310,2,289.2,2,35.3326,2,292.7,4,7.948,2,0.21,2,0.22,2, 3.70,2,0.07,2,0.477,2,2.94,2,2333,2,-999,-999
 35HT20180611,46,1, 1, 3,20180626,2309,51.39908,-23.48100,3281,3323.4, 2.7109,34.9322,2,252.8,2,34.9335,2,253.0,2,7.729,2,32.7,2,1.29,2,19.77,2,0.00,2,-999,9,-999,9,-999,9,-999,-999
 35HT20180611,46,1, 2, 4,20180626,2309,51.39908,-23.48100,3281,3250.9, 2.7471,34.9359,2,255.4,2,34.9349,2,255.5,2,7.726,2,29.87,2,1.26,2,19.35,2,0.00,2,-999,9,-999,9,-999,9,-999,-999
 35HT20180611,46,1, 3, 5,20180626,2309,51.39908,-23.48100,3281,3000.6, 2.9340,34.9447,2,263.4,2,34.9449,2,263.7,2,7.726,2,22.13,2,1.15,2,18.08,2,0.00,2,-999,9,-999,9,-999,9,-999,-999
 35HT20180611,46,1, 4, 6,20180626,2309,51.39908,-23.48100,3281,2750.8, 3.0967,34.9407,2,267.9,2,34.9404,2,268.8,2,7.728,2,17.64,2,1.11,2,17.70,2,0.00,2,-999,9,-999,9,-999,9,-999,-999
 35HT20180611,46,1, 5, 7,20180626,2309,51.39908,-23.48100,3281,2500.5, 3.2786,34.9322,2,271.0,2,34.9336,2,271.7,2,7.726,2,14.17,2,1.09,2,17.04,2,0.00,2,-999,9,-999,9,-999,9,-999,-999
 35HT20180611,46,1, 6, 8,20180626,2309,51.39908,-23.48100,3281,2251.6, 3.4871,34.9282,2,271.2,2,34.9283,2,271.5,2,7.726,2,12.67,2,1.09,2,17.22,2,0.00,2,-999,9,-999,9,-999,9,-999,-999
 35HT20180611,46,1, 7, 9,20180626,2309,51.39908,-23.48100,3281,2000.9, 3.6926,34.9244,2,271.1,2,34.9245,2,272.7,2,7.719,2,11.71,2,1.09,2,17.30,2,0.00,2,-999,9,-999,9,-999,9,-999,-999
 35HT20180611,46,1, 8,10,20180626,2309,51.39908,-23.48100,3281,2000.8, 3.6938,34.9243,2,271.1,2,34.9243,2,271.4,2,7.721,2,11.75,2,1.08,2,17.42,2,0.00,2,-999,9,-999,9,-999,9,-999,-999
 35HT20180611,46,1, 9,11,20180626,2309,51.39908,-23.48100,3281,1800.6, 3.6890,34.8959,2,282.2,2,34.8963,2,261.7,4,7.716,2,10.15,2,1.07,2,16.92,2,0.00,2,-999,9,-999,9,-999,9,-999,-999
 35HT20180611,46,1,10,12,20180626,2309,51.39908,-23.48100,3281,1800.5, 3.6899,34.8960,2,282.5,2,34.8957,2,283.2,2,7.716,2,10.13,2,1.07,2,16.71,2,0.00,2,-999,9,-999,9,-999,9,-999,-999
 35HT20180611,46,1,11,13,20180626,2309,51.39908,-23.48100,3281,1600.8, 3.8909,34.9114,2,275.8,2,34.9115,2,276.5,2,7.710,2,10.37,2,1.07,2,17.08,2,0.00,2,-999,9,-999,9,-999,9,-999,-999
 35HT20180611,46,1,12,14,20180626,2309,51.39908,-23.48100,3281,1600.9, 3.8904,34.9112,2,275.8,2,34.9114,2,276.0,2,7.712,2,10.21,2,1.07,2,17.09,2,0.00,2,-999,9,-999,9,-999,9,-999,-999
 35HT20180611,46,1,13,15,20180626,2309,51.39908,-23.48100,3281,1400.1, 4.0893,34.9221,2,272.7,2,34.9219,2,272.5,2,7.710,2,10.11,2,1.06,2,17.33,2,0.00,2,-999,9,-999,9,-999,9,-999,-999
 35HT20180611,46,1,14,16,20180626,2309,51.39908,-23.48100,3281,1200.9, 4.4890,34.9531,2,261.8,2,34.9531,2,262.4,2,7.707,2,10.32,2,1.11,2,17.52,2,0.00,2,-999,9,-999,9,-999,9,-999,-999
 35HT20180611,46,1,15,17,20180626,2309,51.39908,-23.48100,3281, 999.9, 5.3961,35.0216,2,240.6,2,35.0219,2,241.2,2,7.703,2,10.65,2,1.10,2,18.23,2,0.00,2,-999,9,-999,9,-999,9,-999,-999
 35HT20180611,46,1,16,18,20180626,2309,51.39908,-23.48100,3281, 900.2, 6.4399,35.0988,2,220.2,2,35.0971,2,220.2,2,7.704,2,10.86,2,1.10,2,18.73,2,0.00,2,-999,9,-999,9,-999,9,-999,-999
 35HT20180611,46,1,17,19,20180626,2309,51.39908,-23.48100,3281, 799.8, 7.1865,35.1041,2,207.2,2,35.1018,2,207.0,2,7.703,2,10.87,2,1.13,2,19.15,2,0.01,2,-999,9,-999,9,-999,9,-999,-999
 35HT20180611,46,1,18,20,20180626,2309,51.39908,-23.48100,3281, 701.0, 8.0724,35.0854,2,204.0,2,35.0852,2,203.8,2,7.711,2,10.01,2,1.09,2,18.83,2,0.01,2,-999,9,-999,9,-999,9,-999,-999
 35HT20180611,46,1,19,21,20180626,2309,51.39908,-23.48100,3281, 600.6, 9.2993,35.1842,2,239.9,2,35.1819,2,241.1,2,7.772,2,6.44,2,0.84,2,14.01,2,0.02,2,-999,9,-999,9,-999,9,-999,-999
 35HT20180611,46,1,20,22,20180626,2309,51.39908,-23.48100,3281, 500.3, 9.5322,35.2019,2,256.7,2,35.2019,2,255.9,2,7.793,2,5.56,2,0.74,2,12.49,2,0.01,2,-999,9,-999,9,-999,9,-999,-999
 35HT20180611,46,1,21,23,20180626,2309,51.39908,-23.48100,3281, 400.0, 9.9519,35.2671,2,263.9,2,35.2668,2,264.2,2,7.811,2,4.76,2,0.65,2,11.29,2,0.01,2,-999,9,-999,9,-999,9,-999,-999
 35HT20180611,46,1,22,24,20180626,2309,51.39908,-23.48100,3281, 301.1,10.0326,35.2825,2,264.8,2,35.2822,2,264.8,2,7.814,2,4.56,2,0.64,2,11.11,2,0.02,2,-999,9,-999,9,-999,9,-999,-999
 35HT20180611,46,1,23,25,20180626,2309,51.39908,-23.48100,3281, 200.8,10.0727,35.2873,2,263.4,2,35.2868,2,263.0,2,7.813,2,4.61,2,0.66,2,11.24,2,0.03,2,-999,9,-999,9,-999,9,-999,-999
 35HT20180611,46,1,24,26,20180626,2309,51.39908,-23.48100,3281, 150.9,10.0994,35.2886,2,265.5,2,35.2882,2,265.6,2,7.819,2,4.03,2,0.61,2,10.99,2,0.05,2,-999,9,-999,9,-999,9,-999,-999
 35HT20180611,46,1,25,27,20180626,2309,51.39908,-23.48100,3281, 100.4,10.1572,35.2925,2,265.6,2,35.2950,4,265.1,2,7.819,2,3.35,2,0.64,2,10.60,2,0.39,2,-999,9,-999,9,-999,9,-999,-999
 35HT20180611,46,1,26,28,20180626,2309,51.39908,-23.48100,3281,  55.1,11.0102,35.2454,2,276.6,2,35.2449,2,277.4,2,7.873,2,0.81,2,0.47,2, 6.86,2,0.19,2,-999,9,-999,9,-999,9,-999,-999
 35HT20180611,46,1,27,29,20180626,2309,51.39908,-23.48100,3281,   5.6,12.6846,35.2246,2,309.0,2,35.2246,2,309.6,2,7.975,2,0.18,2,0.23,2, 2.14,2,0.06,2,-999,9,-999,9,-999,9,-999,-999
 35HT20180611,46,1,28,30,20180626,2309,51.39908,-23.48100,3281,   5.7,12.6895,35.2242,2,309.0,2,   -999,9,310.0,2,7.977,2,-999,9,-999,9, -999,9,-999,9,-999,9,-999,9,-999,9,-999,-999
 35HT20180611,47,1, 1, 3,20180627,0417,51.77052,-23.77848,3856,3915.2, 2.6321,34.9185,2,245.8,2,34.9191,2,245.5,2,7.732,2,40.21,2,1.41,2,21.21,2,0.00,2,-999,9,-999,9,2345,2,-999,-999
 35HT20180611,47,1, 2, 4,20180627,0417,51.77052,-23.77848,3856,3749.7, 2.7155,34.9288,2,251.0,2,34.9297,2,250.3,2,7.731,2,34.59,2,1.35,2,20.40,2,0.00,2,-999,9,-999,9,2338,2,-999,-999
 35HT20180611,47,1, 3, 5,20180627,0417,51.77052,-23.77848,3856,3500.4, 2.7831,34.9380,2,256.3,2,34.9383,2,255.6,2,7.727,2,29.34,2,1.26,2,19.18,2,0.00,2,-999,9,-999,9,2329,2,-999,-999
 35HT20180611,47,1, 4, 6,20180627,0417,51.77052,-23.77848,3856,3249.6, 2.8614,34.9458,2,261.5,2,34.9463,2,261.5,2,7.724,2,24.16,2,1.20,2,18.16,2,0.00,2,-999,9,-999,9,2316,2,-999,-999
 35HT20180611,47,1, 5, 7,20180627,0417,51.77052,-23.77848,3856,3000.0, 2.9740,34.9467,2,266.2,2,34.9469,2,266.0,2,7.725,2,19.67,2,1.15,2,17.70,2,0.00,2,-999,9,-999,9,2316,2,-999,-999
 35HT20180611,47,1, 6, 8,20180627,0417,51.77052,-23.77848,3856,2751.1, 3.1346,34.9416,2,270.3,2,34.9421,2,270.2,2,7.722,2,15.8,2,1.11,2,17.09,2,0.00,2,-999,9,-999,9,2310,2,-999,-999
 35HT20180611,47,1, 7, 9,20180627,0417,51.77052,-23.77848,3856,2500.3, 3.3041,34.9324,2,271.4,2,34.9335,2,271.9,2,7.726,2,13.77,2,1.10,2,17.09,2,0.00,2,-999,9,-999,9,2306,2,-999,-999
 35HT20180611,47,1, 8,10,20180627,0417,51.77052,-23.77848,3856,2249.8, 3.4623,34.9277,2,271.0,2,34.9275,2,271.0,2,7.724,2,12.75,2,1.07,2,17.08,2,0.00,2,-999,9,-999,9,2305,2,-999,-999
 35HT20180611,47,1, 9,11,20180627,0417,51.77052,-23.77848,3856,2000.1, 3.6607,34.9258,2,270.3,2,34.9263,2,270.4,2,7.721,2,11.94,2,1.09,2,17.20,2,0.00,2,-999,9,-999,9,2303,2,-999,-999
 35HT20180611,47,1,10,12,20180627,0417,51.77052,-23.77848,3856,1801.3, 3.7782,34.9157,2,273.4,2,34.9159,2,273.6,2,7.714,2,10.96,2,1.06,2,17.17,2,0.00,2,-999,9,-999,9,2303,2,-999,-999
 35HT20180611,47,1,11,13,20180627,0417,51.77052,-23.77848,3856,1600.5, 3.8652,34.9112,2,275.2,2,34.9119,2,275.0,2,7.713,2,10.49,2,1.08,2,17.10,2,0.00,2,-999,9,-999,9,2303,2,-999,-999
 35HT20180611,47,1,12,14,20180627,0417,51.77052,-23.77848,3856,1400.5, 4.0482,34.9175,2,272.4,2,34.9193,2,272.2,2,7.708,2,10.15,2,1.11,2,17.14,2,0.00,2,-999,9,-999,9,2303,2,-999,-999
 35HT20180611,47,1,13,15,20180627,0417,51.77052,-23.77848,3856,1200.2, 4.4142,34.9453,2,264.0,2,34.9455,2,263.2,2,7.704,2,10.51,2,1.14,2,17.26,2,0.00,2,-999,9,-999,9,2304,2,-999,-999
 35HT20180611,47,1,14,16,20180627,0417,51.77052,-23.77848,3856,1200.2, 4.4164,34.9456,2,264.0,2,34.9454,2,263.7,2,7.705,2,10.32,2,1.12,2,17.47,2,0.00,2,-999,9,-999,9,-999,9,-999,-999
 35HT20180611,47,1,15,17,20180627,0417,51.77052,-23.77848,3856,1000.5, 5.1797,35.0120,2,246.1,2,35.0122,2,245.5,2,7.703,2,10.66,2,1.14,2,18.00,2,0.00,2,-999,9,-999,9,2310,2,-999,-999
 35HT20180611,47,1,16,18,20180627,0417,51.77052,-23.77848,3856,1000.4, 5.1821,35.0122,2,246.0,2,35.0126,2,245.6,2,7.702,2,10.63,2,1.15,2,18.06,2,0.00,2,-999,9,-999,9,-999,9,-999,-999
 35HT20180611,47,1,17,19,20180627,0417,51.77052,-23.77848,3856, 900.8, 5.9279,35.0779,2,231.1,2,35.0779,2,230.6,2,7.704,2,10.92,2,1.16,2,18.46,2,0.00,2,-999,9,-999,9,-999,9,-999,-999
 35HT20180611,47,1,18,20,20180627,0417,51.77052,-23.77848,3856, 801.8, 6.5971,35.0943,2,217.5,2,35.0941,2,216.5,2,7.703,2,11.2,2,1.18,2,18.65,2,0.00,2,-999,9,-999,9,2315,2,-999,-999
 35HT20180611,47,1,19,21,20180627,0417,51.77052,-23.77848,3856, 702.4, 6.5222,34.9473,2,213.2,2,34.9462,2,212.1,2,7.689,2,11.19,2,1.22,2,19.12,2,0.00,2,-999,9,-999,9,-999,9,-999,-999
 35HT20180611,47,1,20,22,20180627,0417,51.77052,-23.77848,3856, 600.5, 7.4097,34.9499,2,219.3,2,34.9496,2,218.4,2,7.708,2,9.87,2,1.13,2,17.89,2,0.00,2,-999,9,-999,9,2307,2,-999,-999
 35HT20180611,47,1,21,23,20180627,0417,51.77052,-23.77848,3856, 501.2, 8.7364,35.0802,2,234.2,2,35.0774,4,232.3,2,7.753,2,8.15,2,0.99,2,15.26,2,0.00,2,-999,9,-999,9,2317,2,-999,-999
 35HT20180611,47,1,22,24,20180627,0417,51.77052,-23.77848,3856, 401.1, 9.6286,35.2054,2,252.4,2,35.2054,2,252.7,2,7.794,2,5.86,2,0.79,2,12.66,2,0.01,2,-999,9,-999,9,2321,2,-999,-999
 35HT20180611,47,1,23,25,20180627,0417,51.77052,-23.77848,3856, 300.0,10.0683,35.2734,2,254.9,2,35.2739,2,254.3,2,7.806,2,5.44,2,0.75,2,11.99,2,0.01,2,-999,9,-999,9,2324,2,-999,-999
 35HT20180611,47,1,24,26,20180627,0417,51.77052,-23.77848,3856, 200.7,10.4373,35.3332,2,260.4,2,35.3329,2,261.2,2,7.822,2,4.06,2,0.66,2,10.94,2,0.01,2,-999,9,-999,9,2328,2,-999,-999
 35HT20180611,47,1,25,27,20180627,0417,51.77052,-23.77848,3856, 148.9,10.4460,35.3264,2,259.0,2,35.3263,2,258.3,2,7.819,2,4.22,2,0.69,2,11.26,2,0.01,2,-999,9,-999,9,-999,9,-999,-999
 35HT20180611,47,1,26,28,20180627,0417,51.77052,-23.77848,3856, 101.9,10.7295,35.3592,2,259.3,2,35.3598,2,259.5,2,7.826,2,3.11,2,0.67,2,10.65,2,0.12,2,-999,9,-999,9,2329,2,-999,-999
 35HT20180611,47,1,27,29,20180627,0417,51.77052,-23.77848,3856,  56.8,11.4768,35.3097,2,269.5,2,35.3133,4,269.8,2,7.873,2,1.52,2,0.50,2, 6.88,2,0.19,2,-999,9,-999,9,-999,9,-999,-999
 35HT20180611,47,1,28,30,20180627,0417,51.77052,-23.77848,3856,   4.3,12.9230,35.3655,2,284.2,2,35.3670,2,284.7,2,7.927,2,0.59,2,0.34,2, 4.26,2,0.11,2,0.465,2,2.43,2,2338,2,-999,-999