BOTTLE,20240404CCHSIOADS
EXPOCODE,STNNBR,CASTNO,SAMPNO,BTLNBR,DATE,TIME,LATITUDE,LONGITUDE,DEPTH,CTDPRS,CTDTMP,CTDSAL,CTDSAL_FLAG_W,CTDOXY,CTDOXY_FLAG_W,SALNTY,SALNTY_FLAG_W,OXYGEN,OXYGEN_FLAG_W,PH_TOT,PH_TOT_FLAG_W,SILCAT,SILCAT_FLAG_W,PHSPHT,PHSPHT_FLAG_W,NITRAT,NITRAT_FLAG_W,NITRIT,NITRIT_FLAG_W,DELO18,DELO18_FLAG_W,DELD,DELD_FLAG_W,ALKALI,ALKALI_FLAG_W,I-129,I129ER
,,,,,,,,,METERS,DBAR,DEG C,PSS-78,,UMOL/KG,,PSS-78,,UMOL/KG,,,,UMOL/KG,,UMOL/KG,,UMOL/KG,,UMOL/KG,,/MILLE,,/MILLE,,UMOL/KG,,E7/KG,E7/KG
 35HT20180611,57,1, 1, 3,20180629,1003,55.50486,-26.70762,3234,3276.3, 2.8145,34.9636,2,267.8,2,34.9637,2,266.6,2,7.715,2,21.21,2,1.19,2,17.16,2,0.00,2,-999,9,-999,9,2319,2,-999,-999
 35HT20180611,57,1, 2, 4,20180629,1003,55.50486,-26.70762,3234,3276.3, 2.8146,34.9636,2,267.8,2,   -999,9, -999,9, -999,9,-999,9,-999,9, -999,9,-999,9,-999,9,-999,9,-999,9,26.5,0.5
 35HT20180611,57,1, 3, 5,20180629,1003,55.50486,-26.70762,3234,3202.1, 2.8003,34.9611,2,266.5,2,34.9610,2,265.5,2,7.717,2,21.96,2,1.19,2,17.37,2,0.00,2,-999,9,-999,9,2322,2,25.4,0.5
 35HT20180611,57,1, 4, 6,20180629,1003,55.50486,-26.70762,3234,3099.3, 2.7919,34.9577,2,265.3,2,34.9578,2,265.5,2,7.721,2,23.07,2,1.21,2,17.62,2,0.00,2,-999,9,-999,9,2322,2,-999,-999
 35HT20180611,57,1, 5, 7,20180629,1003,55.50486,-26.70762,3234,3002.2, 2.8081,34.9554,2,265.2,2,34.9553,2,264.2,2,7.721,2,22.65,2,1.23,2,17.77,2,0.00,2,-999,9,-999,9,2322,2,20.7,0.4
 35HT20180611,57,1, 6, 8,20180629,1003,55.50486,-26.70762,3234,2751.5, 2.9328,34.9569,2,268.9,2,34.9561,2,268.1,2,7.724,2,18.57,2,1.18,2,17.16,2,0.00,2,-999,9,-999,9,2316,2,20.0,0.4
 35HT20180611,57,1, 7, 9,20180629,1003,55.50486,-26.70762,3234,2500.3, 3.1007,34.9486,2,272.4,2,34.9490,2,272.0,2,7.727,2,14.92,2,1.13,2,16.68,2,0.00,2,-999,9,-999,9,2310,2,19.4,0.4
 35HT20180611,57,1, 8,10,20180629,1003,55.50486,-26.70762,3234,2250.4, 3.2398,34.9374,2,273.2,2,34.9369,2,273.3,2,7.727,2,13.49,2,1.14,2,16.83,2,0.00,2,-999,9,-999,9,2308,2,-999,-999
 35HT20180611,57,1, 9,11,20180629,1003,55.50486,-26.70762,3234,1998.9, 3.4116,34.9307,2,273.1,2,34.9310,2,273.1,2,7.724,2,12.53,2,1.15,2,17.11,2,0.00,2,-999,9,-999,9,2305,2,16.8,0.3
 35HT20180611,57,1,10,12,20180629,1003,55.50486,-26.70762,3234,1999.2, 3.4117,34.9307,2,272.7,2,34.9311,2,272.5,2,7.726,2,12.53,2,1.14,2,16.95,2,0.00,2,-999,9,-999,9,-999,9,-999,-999
 35HT20180611,57,1,11,13,20180629,1003,55.50486,-26.70762,3234,1801.6, 3.5422,34.9278,2,272.3,2,34.9282,2,272.1,2,7.722,2,12.11,2,1.14,2,17.09,2,0.00,2,-999,9,-999,9,2305,2,-999,-999
 35HT20180611,57,1,12,14,20180629,1003,55.50486,-26.70762,3234,1602.7, 3.6580,34.9182,2,275.2,2,34.9183,2,275.6,2,7.718,2,11.24,2,1.14,2,17.02,2,0.00,2,-999,9,-999,9,2305,2,17.7,0.3
 35HT20180611,57,1,13,15,20180629,1003,55.50486,-26.70762,3234,1400.5, 3.6927,34.9076,2,278.4,2,34.9079,2,278.4,2,7.716,2,10.65,2,1.13,2,16.99,2,0.00,2,-999,9,-999,9,2304,2,-999,-999
 35HT20180611,57,1,14,16,20180629,1003,55.50486,-26.70762,3234,1201.9, 3.7688,34.9039,2,278.6,2,34.9036,2,278.9,2,7.714,2,10.29,2,1.13,2,17.02,2,0.00,2,-999,9,-999,9,2303,2,-999,-999
 35HT20180611,57,1,15,17,20180629,1003,55.50486,-26.70762,3234,1001.4, 3.9216,34.9086,2,275.7,2,34.9089,2,275.9,2,7.710,2,10.06,2,1.14,2,17.11,2,0.00,2,-999,9,-999,9,2303,2,21.3,0.4
 35HT20180611,57,1,16,18,20180629,1003,55.50486,-26.70762,3234, 900.9, 4.0322,34.9150,2,273.3,2,34.9089,4,273.7,2,7.707,2,10.0,2,1.14,2,17.32,2,0.00,2,-999,9,-999,9,-999,9,-999,-999
 35HT20180611,57,1,17,19,20180629,1003,55.50486,-26.70762,3234, 802.8, 4.1781,34.9219,2,270.4,2,34.9223,2,270.5,2,7.704,2,10.2,2,1.16,2,17.18,2,0.00,2,-999,9,-999,9,2303,2,-999,-999
 35HT20180611,57,1,18,20,20180629,1003,55.50486,-26.70762,3234, 701.2, 4.4314,34.9401,2,264.1,2,34.9404,2,263.7,2,7.703,2,10.37,2,1.16,2,17.49,2,0.00,2,-999,9,-999,9,-999,9,-999,-999
 35HT20180611,57,1,20,22,20180629,1003,55.50486,-26.70762,3234, 599.8, 4.7597,34.9631,2,254.8,2,34.9631,2,254.2,2,7.701,2,10.51,2,1.18,2,17.74,2,0.00,2,-999,9,-999,9,2306,2,-999,-999
 35HT20180611,57,1,21,23,20180629,1003,55.50486,-26.70762,3234, 501.4, 4.9766,34.9420,2,247.1,2,34.9422,2,244.9,4,7.695,2,10.79,2,1.22,2,18.21,2,0.00,2,-999,9,-999,9,2306,2,25.6,0.5
 35HT20180611,57,1,22,24,20180629,1003,55.50486,-26.70762,3234, 401.4, 5.9145,35.0197,2,227.1,2,35.0199,2,225.7,2,7.699,2,11.1,2,1.25,2,18.62,2,0.00,2,-999,9,-999,9,2312,2,-999,-999
 35HT20180611,57,1,23,25,20180629,1003,55.50486,-26.70762,3234, 301.7, 5.7134,34.8849,2,229.3,2,34.8846,2,227.8,2,7.688,2,10.73,2,1.26,2,18.65,2,0.00,2,-999,9,-999,9,2303,2,-999,-999
 35HT20180611,57,1,24,26,20180629,1003,55.50486,-26.70762,3234, 201.6, 6.3577,34.8054,2,267.8,2,34.8081,4,267.8,2,7.729,2,8.17,2,1.02,2,15.19,2,0.00,2,-999,9,-999,9,2299,2,-999,-999
 35HT20180611,57,1,25,27,20180629,1003,55.50486,-26.70762,3234, 151.8, 7.0195,34.8455,2,276.1,2,34.8443,2,273.8,4,7.752,2,7.18,2,0.93,2,13.92,2,0.02,2,-999,9,-999,9,-999,9,-999,-999
 35HT20180611,57,1,26,28,20180629,1003,55.50486,-26.70762,3234, 101.6, 7.5062,34.8726,2,283.8,2,34.8732,2,285.6,2,7.773,2,5.86,2,0.85,2,12.10,2,0.39,2,-999,9,-999,9,2304,2,35.5,0.7
 35HT20180611,57,1,27,29,20180629,1003,55.50486,-26.70762,3234,  31.1, 9.8550,34.8588,2,289.3,2,34.8602,2,292.6,4,7.862,2,2.57,2,0.57,2, 6.73,2,0.13,2,-999,9,-999,9,-999,9,-999,-999
 35HT20180611,57,1,28,30,20180629,1003,55.50486,-26.70762,3234,   6.7,10.2131,34.8621,2,293.5,2,34.8647,4,294.1,2,7.877,2,2.41,2,0.53,2, 6.33,2,0.12,2,-999,9,-999,9,2305,2,32.4,0.6
 35HT20180611,58,1, 1, 3,20180629,1504,55.88268,-26.99758,2883,2919.1, 2.7894,34.9691,2,271.3,2,34.9698,2,272.5,2,7.710,2,20.7,2,1.14,2,16.55,2,0.01,2,-999,9,-999,9,-999,9,-999,-999
 35HT20180611,58,1, 2, 4,20180629,1504,55.88268,-26.99758,2883,2870.5, 2.7857,34.9694,2,271.1,2,34.9696,2,270.7,2,7.714,2,17.55,2,1.13,2,16.36,2,0.00,2,-999,9,-999,9,-999,9,-999,-999
 35HT20180611,58,1, 3, 5,20180629,1504,55.88268,-26.99758,2883,2820.2, 2.7710,34.9624,2,267.2,2,34.9627,2,267.1,2,7.718,2,20.72,2,1.18,2,17.21,2,0.00,2,-999,9,-999,9,-999,9,-999,-999
 35HT20180611,58,1, 4, 6,20180629,1504,55.88268,-26.99758,2883,2701.1, 2.8207,34.9618,2,268.5,2,34.9618,2,267.9,2,7.718,2,19.47,2,1.17,2,17.23,2,0.00,2,-999,9,-999,9,-999,9,-999,-999
 35HT20180611,58,1, 5, 7,20180629,1504,55.88268,-26.99758,2883,2501.6, 2.9450,34.9552,2,269.1,2,34.9557,2,268.8,2,7.724,2,17.83,2,1.15,2,17.13,2,0.00,2,-999,9,-999,9,-999,9,-999,-999
 35HT20180611,58,1, 6, 8,20180629,1504,55.88268,-26.99758,2883,2250.5, 3.1104,34.9467,2,271.3,2,34.9467,2,271.3,2,7.725,2,15.13,2,1.13,2,17.06,2,0.00,2,-999,9,-999,9,-999,9,-999,-999
 35HT20180611,58,1, 7, 9,20180629,1504,55.88268,-26.99758,2883,2001.0, 3.3182,34.9338,2,272.5,2,34.9344,2,272.4,2,7.727,2,13.54,2,1.14,2,17.08,2,0.00,2,-999,9,-999,9,-999,9,-999,-999
 35HT20180611,58,1, 8,10,20180629,1504,55.88268,-26.99758,2883,1800.6, 3.5318,34.9288,2,272.0,2,34.9290,2,271.7,2,7.724,2,12.47,2,1.13,2,17.09,2,0.00,2,-999,9,-999,9,-999,9,-999,-999
 35HT20180611,58,1, 9,11,20180629,1504,55.88268,-26.99758,2883,1601.3, 3.7435,34.9227,2,272.7,2,34.9224,2,272.5,2,7.717,2,11.7,2,1.14,2,17.32,2,0.00,2,-999,9,-999,9,-999,9,-999,-999
 35HT20180611,58,1,10,12,20180629,1504,55.88268,-26.99758,2883,1401.7, 3.8816,34.9205,2,272.2,2,34.9202,2,272.6,2,7.714,2,11.08,2,1.14,2,17.08,2,0.00,2,-999,9,-999,9,-999,9,-999,-999
 35HT20180611,58,1,12,14,20180629,1504,55.88268,-26.99758,2883,1000.9, 4.3578,34.9413,2,266.2,2,34.9431,2,264.9,2,7.707,2,10.47,2,1.14,2,17.50,2,0.00,2,-999,9,-999,9,-999,9,-999,-999
 35HT20180611,58,1,14,16,20180629,1504,55.88268,-26.99758,2883, 800.9, 4.8610,34.9682,2,254.1,2,34.9661,4,253.6,2,7.701,2,10.73,2,1.18,2,17.83,2,0.00,2,-999,9,-999,9,-999,9,-999,-999
 35HT20180611,58,1,16,18,20180629,1504,55.88268,-26.99758,2883, 601.2, 6.1883,35.0494,2,224.5,2,35.0498,2,223.9,2,7.701,2,10.69,2,1.22,2,18.50,2,0.00,2,-999,9,-999,9,-999,9,-999,-999
 35HT20180611,58,1,17,19,20180629,1504,55.88268,-26.99758,2883, 502.3, 7.1993,35.0698,2,211.3,2,35.0702,2,210.2,2,7.704,2,10.75,2,1.22,2,18.49,2,0.00,2,-999,9,-999,9,-999,9,-999,-999
 35HT20180611,58,1,20,22,20180629,1504,55.88268,-26.99758,2883, 401.3, 7.7285,35.0003,2,227.0,2,35.0009,2,226.7,2,7.726,2,9.08,2,1.11,2,16.83,2,0.01,2,-999,9,-999,9,-999,9,-999,-999
 35HT20180611,58,1,21,23,20180629,1504,55.88268,-26.99758,2883, 301.5, 9.1524,35.1968,2,257.7,2,35.1941,4,257.2,2,7.788,2,5.78,2,0.84,2,12.71,2,0.01,2,-999,9,-999,9,-999,9,-999,-999
 35HT20180611,58,1,23,25,20180629,1504,55.88268,-26.99758,2883, 199.5, 9.3617,35.2003,2,267.3,2,35.2003,2,268.0,2,7.808,2,3.91,2,0.76,2,11.39,2,0.21,2,-999,9,-999,9,-999,9,-999,-999
 35HT20180611,58,1,25,27,20180629,1504,55.88268,-26.99758,2883,  99.7, 9.5289,35.1942,2,269.9,2,35.1944,2,270.2,2,7.811,2,3.94,2,0.75,2,11.12,2,0.35,2,-999,9,-999,9,-999,9,-999,-999
 35HT20180611,58,1,26,28,20180629,1504,55.88268,-26.99758,2883,  54.9,10.2442,35.1634,2,279.0,2,   -999,9, -999,9,7.857,2,-999,9,-999,9, -999,9,-999,9,-999,9,-999,9,-999,9,-999,-999
 35HT20180611,58,1,27,29,20180629,1504,55.88268,-26.99758,2883,   5.6,10.6671,35.1531,2,292.9,2,35.1540,2,293.3,2,7.906,2,2.01,2,0.47,2, 6.09,2,0.18,2,-999,9,-999,9,-999,9,-999,-999
 35HT20180611,59,1, 1, 3,20180629,1954,56.25258,-27.2889,2742,2772.2, 2.7768,34.9693,2,271.4,2,34.9703,2,274.0,4,7.712,2,17.35,2,1.11,2,16.32,2,0.00,2,0.348,2,1.63,2,2315,2,-999,-999
 35HT20180611,59,1, 2, 4,20180629,1954,56.25258,-27.2889,2742,2700.4, 2.7796,34.9688,2,271.2,2,34.9697,2,271.5,2,7.713,2,17.15,2,1.10,2,16.62,2,0.00,2,-999,9,-999,9,2314,2,-999,-999
 35HT20180611,59,1, 3, 5,20180629,1954,56.25258,-27.2889,2742,2599.9, 2.8249,34.9662,2,270.1,2,34.9671,2,269.9,2,7.720,2,17.58,2,1.11,2,16.75,2,0.00,2,-999,9,-999,9,2315,2,-999,-999
 35HT20180611,59,1, 5, 7,20180629,1954,56.25258,-27.2889,2742,2502.4, 2.8955,34.9657,2,270.9,2,34.9670,2,270.8,2,7.719,2,16.32,2,1.12,2,16.50,2,0.00,2,-999,9,-999,9,2312,2,-999,-999
 35HT20180611,59,1, 7, 9,20180629,1954,56.25258,-27.2889,2742,2250.8, 3.1541,34.9616,2,272.9,2,34.9621,2,272.9,2,7.725,2,13.43,2,1.08,2,16.46,2,0.00,2,-999,9,-999,9,2309,2,-999,-999
 35HT20180611,59,1, 8,10,20180629,1954,56.25258,-27.2889,2742,2000.7, 3.3756,34.9450,2,272.8,2,34.9455,2,272.9,2,7.724,2,12.19,2,1.09,2,16.64,2,0.00,2,0.236,2,1.07,2,2306,2,-999,-999
 35HT20180611,59,1,10,12,20180629,1954,56.25258,-27.2889,2742,1802.7, 3.5044,34.9316,2,272.0,2,34.9320,2,272.2,2,7.724,2,12.04,2,1.12,2,17.04,2,0.00,2,-999,9,-999,9,2305,2,-999,-999
 35HT20180611,59,1,11,13,20180629,1954,56.25258,-27.2889,2742,1602.4, 3.6472,34.9264,2,271.4,2,34.9273,2,271.4,2,7.720,2,11.55,2,1.13,2,17.00,2,0.00,2,0.29,2,1.27,2,2304,2,-999,-999
 35HT20180611,59,1,12,14,20180629,1954,56.25258,-27.2889,2742,1401.0, 3.6985,34.9093,2,277.1,2,34.9099,2,277.4,2,7.717,2,10.53,2,1.11,2,16.81,2,0.00,2,-999,9,-999,9,2303,2,-999,-999
 35HT20180611,59,1,13,15,20180629,1954,56.25258,-27.2889,2742,1201.1, 3.7808,34.9044,2,277.7,2,34.9050,2,278.4,2,7.713,2,10.06,2,1.13,2,16.86,2,0.00,2,-999,9,-999,9,2302,2,-999,-999
 35HT20180611,59,1,14,16,20180629,1954,56.25258,-27.2889,2742,1001.8, 3.9597,34.9123,2,274.5,2,34.9128,2,275.1,2,7.709,2,10.04,2,1.11,2,17.06,2,0.00,2,0.27,2,1.03,2,2303,2,-999,-999
 35HT20180611,59,1,15,17,20180629,1954,56.25258,-27.2889,2742, 900.3, 4.1288,34.9258,2,270.7,2,34.9261,2,270.4,2,7.712,2,10.09,2,1.12,2,17.26,2,0.00,2,-999,9,-999,9,-999,9,-999,-999
 35HT20180611,59,1,16,18,20180629,1954,56.25258,-27.2889,2742, 800.9, 4.3130,34.9373,2,267.0,2,34.9376,2,266.7,2,7.705,2,10.04,2,1.12,2,17.26,2,0.00,2,-999,9,-999,9,2305,2,-999,-999
 35HT20180611,59,1,17,19,20180629,1954,56.25258,-27.2889,2742, 702.8, 4.5413,34.9484,2,259.2,2,34.9492,2,259.2,2,7.703,2,10.13,2,1.14,2,17.51,2,0.00,2,-999,9,-999,9,2306,2,-999,-999
 35HT20180611,59,1,18,20,20180629,1954,56.25258,-27.2889,2742, 601.0, 4.8251,34.9573,2,251.7,2,34.9575,2,251.5,2,7.697,2,10.39,2,1.17,2,17.78,2,0.00,2,-999,9,-999,9,2308,2,-999,-999
 35HT20180611,59,1,20,22,20180629,1954,56.25258,-27.2889,2742, 501.1, 5.1332,34.9433,2,243.3,2,34.9433,2,242.8,2,7.694,2,10.6,2,1.20,2,18.15,2,0.00,2,0.29,2,1.14,2,2306,2,-999,-999
 35HT20180611,59,1,21,23,20180629,1954,56.25258,-27.2889,2742, 401.5, 5.6316,34.9089,2,233.9,2,34.9101,2,233.1,2,7.695,2,10.42,2,1.21,2,18.44,2,0.00,2,-999,9,-999,9,2305,2,-999,-999
 35HT20180611,59,1,22,24,20180629,1954,56.25258,-27.2889,2742, 301.3, 6.1262,34.8786,2,258.5,2,34.8786,2,258.8,2,7.720,2,-999,9,-999,9, -999,9,-999,9,-999,9,-999,9,-999,9,-999,-999
 35HT20180611,59,1,23,25,20180629,1954,56.25258,-27.2889,2742, 301.4, 6.1270,34.8786,2,258.6,2,34.8788,2,258.9,2,7.721,2,8.53,2,1.09,2,16.22,2,0.00,2,-999,9,-999,9,2303,2,-999,-999
 35HT20180611,59,1,24,26,20180629,1954,56.25258,-27.2889,2742, 201.4, 7.0462,34.8813,2,271.7,2,34.8821,2,271.4,2,7.750,2,6.94,2,0.93,2,13.97,2,0.01,2,0.24,2,0.90,2,2303,2,-999,-999
 35HT20180611,59,1,25,27,20180629,1954,56.25258,-27.2889,2742, 149.8, 7.6193,34.9435,2,278.4,2,34.9439,2,275.0,4,7.768,2,5.92,2,0.87,2,13.10,2,0.02,2,0.306,2,1.41,2,-999,9,-999,-999
 35HT20180611,59,1,26,28,20180629,1954,56.25258,-27.2889,2742, 100.6, 7.7002,34.9168,2,284.1,2,34.9147,4,284.4,2,7.782,2,5.37,2,0.84,2,12.24,2,0.40,2,0.305,2,1.25,2,2305,2,-999,-999
 35HT20180611,59,1,27,29,20180629,1954,56.25258,-27.2889,2742,  55.6, 9.0205,34.8777,2,289.0,2,34.8773,2,289.7,2,7.829,2,3.76,2,0.68,2, 8.80,2,0.13,2,-999,9,-999,9,-999,9,-999,-999
 35HT20180611,59,1,28,30,20180629,1954,56.25258,-27.2889,2742,   6.5, 9.5122,34.8765,2,296.1,2,   -999,9,296.2,2,7.852,2,2.77,2,0.59,2, 7.77,2,0.12,2,0.28,2,1.22,2,2305,2,-999,-999
 35HT20180611,60,1, 1, 3,20180630,0054,56.62708,-27.5798,2718,2746.9, 2.8089,34.9690,2,270.7,2,34.9696,2,270.5,2,7.713,2,17.62,2,1.08,2,16.61,2,0.00,2,-999,9,-999,9,-999,9,-999,-999
 35HT20180611,60,1, 2, 4,20180630,0054,56.62708,-27.5798,2718,2700.7, 2.8164,34.9690,2,271.0,2,34.9695,2,271.5,2,7.716,2,17.28,2,1.10,2,16.63,2,0.00,2,-999,9,-999,9,-999,9,-999,-999
 35HT20180611,60,1, 3, 5,20180630,0054,56.62708,-27.5798,2718,2601.9, 2.8623,34.9662,2,271.0,2,34.9668,2,270.1,2,7.717,2,17.1,2,1.10,2,16.76,2,0.00,2,-999,9,-999,9,-999,9,-999,-999
 35HT20180611,60,1, 4, 6,20180630,0054,56.62708,-27.5798,2718,2502.3, 2.9488,34.9660,2,271.2,2,34.9665,2,270.6,2,7.721,2,15.98,2,1.10,2,16.60,2,0.00,2,-999,9,-999,9,-999,9,-999,-999
 35HT20180611,60,1, 5, 7,20180630,0054,56.62708,-27.5798,2718,2401.6, 3.0716,34.9690,2,273.6,2,34.9694,2,273.8,2,7.717,2,13.27,2,1.06,2,16.37,2,0.00,2,-999,9,-999,9,-999,9,-999,-999
 35HT20180611,60,1, 6, 8,20180630,0054,56.62708,-27.5798,2718,2253.3, 3.1763,34.9555,2,273.2,2,34.9560,2,273.6,2,7.727,3,13.56,2,1.08,2,16.67,2,0.00,2,-999,9,-999,9,-999,9,-999,-999
 35HT20180611,60,1, 7, 9,20180630,0054,56.62708,-27.5798,2718,2253.5, 3.1769,34.9554,2,273.2,2,34.9558,2,273.2,2,7.721,2,13.55,2,1.07,2,16.75,2,0.00,2,-999,9,-999,9,-999,9,-999,-999
 35HT20180611,60,1, 8,10,20180630,0054,56.62708,-27.5798,2718,2001.2, 3.4211,34.9470,2,273.1,2,34.9468,2,273.9,2,7.723,2,12.03,2,1.09,2,16.62,2,0.00,2,-999,9,-999,9,-999,9,-999,-999
 35HT20180611,60,1, 9,11,20180630,0054,56.62708,-27.5798,2718,1803.1, 3.5838,34.9368,2,272.4,2,34.9378,2,272.1,2,7.722,2,11.62,2,1.09,2,16.83,2,0.00,2,-999,9,-999,9,-999,9,-999,-999
 35HT20180611,60,1,10,12,20180630,0054,56.62708,-27.5798,2718,1701.4, 3.6368,34.9295,2,273.1,2,34.9301,2,273.6,2,7.717,2,11.4,2,1.10,2,17.03,2,0.00,2,-999,9,-999,9,-999,9,-999,-999
 35HT20180611,60,1,11,13,20180630,0054,56.62708,-27.5798,2718,1602.8, 3.6563,34.9240,2,274.3,2,34.9244,2,274.2,2,7.719,2,11.16,2,1.11,2,17.08,2,0.00,2,-999,9,-999,9,-999,9,-999,-999
 35HT20180611,60,1,12,14,20180630,0054,56.62708,-27.5798,2718,1402.2, 3.6627,34.9011,2,281.7,2,34.9018,2,282.8,2,7.714,2,10.24,2,1.10,2,16.87,2,0.00,2,-999,9,-999,9,-999,9,-999,-999
 35HT20180611,60,1,14,16,20180630,0054,56.62708,-27.5798,2718,1201.4, 3.7786,34.9018,2,279.7,2,34.9022,2,279.9,2,7.711,2,10.13,2,1.10,2,16.92,2,0.00,2,-999,9,-999,9,-999,9,-999,-999
 35HT20180611,60,1,15,17,20180630,0054,56.62708,-27.5798,2718,1002.3, 3.9163,34.9067,2,277.0,2,34.9080,2,277.2,2,7.708,2,10.08,2,1.11,2,17.04,2,0.00,2,-999,9,-999,9,-999,9,-999,-999
 35HT20180611,60,1,16,18,20180630,0054,56.62708,-27.5798,2718, 901.8, 4.0122,34.9114,2,274.7,2,34.9120,2,274.8,2,7.703,2,9.99,2,1.13,2,17.10,2,0.00,2,-999,9,-999,9,-999,9,-999,-999
 35HT20180611,60,1,17,19,20180630,0054,56.62708,-27.5798,2718, 800.5, 4.1878,34.9192,2,270.2,2,34.9197,2,270.1,2,7.703,2,9.92,2,1.10,2,17.38,2,0.00,2,-999,9,-999,9,-999,9,-999,-999
 35HT20180611,60,1,18,20,20180630,0054,56.62708,-27.5798,2718, 706.9, 4.3662,34.9268,2,265.2,2,34.9277,2,265.7,2,7.700,2,10.08,2,1.12,2,17.44,2,0.00,2,-999,9,-999,9,-999,9,-999,-999
 35HT20180611,60,1,20,22,20180630,0054,56.62708,-27.5798,2718, 602.1, 4.5565,34.9272,2,260.3,2,34.9281,2,259.9,2,7.697,2,10.08,2,1.13,2,17.74,2,0.00,2,-999,9,-999,9,-999,9,-999,-999
 35HT20180611,60,1,21,23,20180630,0054,56.62708,-27.5798,2718, 501.7, 4.8759,34.9253,2,252.2,2,34.9259,2,251.3,2,7.693,2,10.25,2,1.16,2,17.96,2,0.00,2,-999,9,-999,9,-999,9,-999,-999
 35HT20180611,60,1,22,24,20180630,0054,56.62708,-27.5798,2718, 403.0, 5.1908,34.8937,2,245.0,2,34.8950,2,245.2,2,7.692,2,10.25,2,1.16,2,17.92,2,0.00,2,-999,9,-999,9,-999,9,-999,-999
 35HT20180611,60,1,23,25,20180630,0054,56.62708,-27.5798,2718, 301.2, 5.8949,34.9128,2,246.5,2,34.9127,2,246.1,2,7.703,2,9.64,2,1.15,2,17.45,2,0.01,2,-999,9,-999,9,-999,9,-999,-999
 35HT20180611,60,1,24,26,20180630,0054,56.62708,-27.5798,2718, 202.3, 6.1586,34.8338,2,274.6,2,34.8331,2,274.2,2,7.733,2,7.89,2,1.01,2,14.79,2,0.01,2,-999,9,-999,9,-999,9,-999,-999
 35HT20180611,60,1,25,27,20180630,0054,56.62708,-27.5798,2718, 149.3, 6.5615,34.8289,2,280.1,2,34.8240,4,283.8,4,7.751,2,7.06,2,0.93,2,13.60,2,0.22,2,-999,9,-999,9,-999,9,-999,-999
 35HT20180611,60,1,26,28,20180630,0054,56.62708,-27.5798,2718, 101.3, 6.6477,34.7928,2,291.8,2,34.7939,2,292.4,2,7.761,2,6.66,2,0.88,2,12.00,2,0.23,2,-999,9,-999,9,-999,9,-999,-999
 35HT20180611,60,1,27,29,20180630,0054,56.62708,-27.5798,2718,  55.4, 8.8070,34.9197,2,289.8,2,34.9213,2,289.6,2,7.824,2,4.23,2,0.67,2, 9.01,2,0.14,2,-999,9,-999,9,-999,9,-999,-999
 35HT20180611,60,1,28,30,20180630,0054,56.62708,-27.5798,2718,   5.7, 9.3514,34.8624,2,294.3,2,34.8632,2,294.7,2,7.847,2,4.11,2,0.63,2, 8.17,2,0.12,2,0.25,2,1.04,2,-999,9,-999,-999