BOTTLE,20240404CCHSIOADS
EXPOCODE,STNNBR,CASTNO,SAMPNO,BTLNBR,DATE,TIME,LATITUDE,LONGITUDE,DEPTH,CTDPRS,CTDTMP,CTDSAL,CTDSAL_FLAG_W,CTDOXY,CTDOXY_FLAG_W,SALNTY,SALNTY_FLAG_W,OXYGEN,OXYGEN_FLAG_W,PH_TOT,PH_TOT_FLAG_W,SILCAT,SILCAT_FLAG_W,PHSPHT,PHSPHT_FLAG_W,NITRAT,NITRAT_FLAG_W,NITRIT,NITRIT_FLAG_W,DELO18,DELO18_FLAG_W,DELD,DELD_FLAG_W,ALKALI,ALKALI_FLAG_W,I-129,I129ER
,,,,,,,,,METERS,DBAR,DEG C,PSS-78,,UMOL/KG,,PSS-78,,UMOL/KG,,,,UMOL/KG,,UMOL/KG,,UMOL/KG,,UMOL/KG,,/MILLE,,/MILLE,,UMOL/KG,,E7/KG,E7/KG
 35HT20180611,90,1, 1, 3,20180706,1603,59.81776,-42.3106, 592, 591.6, 4.9366,34.8950,2,282.7,2,34.8956,2,288.3,4,7.725,2,8.41,2,0.99,2,15.31,2,0.05,2,0.27,2,1.09,2,-999,9,-999,-999
 35HT20180611,90,1, 2, 4,20180706,1603,59.81776,-42.3106, 592, 501.2, 4.9031,34.8914,2,283.2,2,34.8922,2,283.3,2,7.725,2,8.33,2,1.00,2,15.27,2,0.04,2,-999,9,-999,9,-999,9,-999,-999
 35HT20180611,90,1, 3, 5,20180706,1603,59.81776,-42.3106, 592, 450.6, 4.8918,34.8891,2,283.3,2,34.8888,2,283.3,2,7.724,2,8.27,2,1.00,2,15.29,2,0.05,2,-999,9,-999,9,-999,9,-999,-999
 35HT20180611,90,1, 4, 6,20180706,1603,59.81776,-42.3106, 592, 376.0, 4.8020,34.8662,2,284.9,2,34.8645,2,284.9,2,7.725,2,7.95,2,0.98,2,15.25,2,0.06,2,-999,9,-999,9,-999,9,-999,-999
 35HT20180611,90,1, 5, 7,20180706,1603,59.81776,-42.3106, 592, 305.8, 4.7980,34.8505,2,287.7,2,34.8502,2,287.9,2,7.727,2,7.63,2,0.95,2,14.78,2,0.08,2,-999,9,-999,9,-999,9,-999,-999
 35HT20180611,90,1, 6, 8,20180706,1603,59.81776,-42.3106, 592, 201.7, 4.8822,34.8366,2,290.9,2,34.8354,2,290.8,2,7.731,2,7.16,2,0.93,2,14.29,2,0.16,2,-999,9,-999,9,-999,9,-999,-999
 35HT20180611,90,1, 7, 9,20180706,1603,59.81776,-42.3106, 592, 126.7, 5.8342,34.8953,2,290.0,2,34.8931,4,289.9,2,7.753,2,5.78,2,0.90,2,13.35,2,0.14,2,-999,9,-999,9,-999,9,-999,-999
 35HT20180611,90,1, 8,10,20180706,1603,59.81776,-42.3106, 592,  83.4, 6.1599,34.8008,2,302.5,2,34.8010,2,302.4,2,7.794,2,3.20,2,0.74,2,10.49,2,0.14,2,-999,9,-999,9,-999,9,-999,-999
 35HT20180611,90,1, 9,11,20180706,1603,59.81776,-42.3106, 592,  18.9, 4.4325,34.4747,2,314.3,2,34.4723,4,313.8,2,7.771,2,3.44,2,0.73,2, 9.57,2,0.13,2,-999,9,-999,9,-999,9,-999,-999
 35HT20180611,90,1,10,12,20180706,1603,59.81776,-42.3106, 592,   4.7, 3.5107,34.2262,2,322.1,2,34.2262,2,320.7,2,7.748,2,3.64,2,0.71,2, 9.19,2,0.11,2,-999,9,-999,9,-999,9,-999,-999
 35HT20180611,91,1, 1, 3,20180706,1738,59.82212,-42.39626, 307, 298.3, 4.9803,34.8949,2,284.3,2,34.8936,2,284.3,2,7.728,2,8.22,2,0.97,2,15.21,2,0.07,2,-999,9,-999,9,-999,9,-999,-999
 35HT20180611,91,1, 2, 4,20180706,1738,59.82212,-42.39626, 307, 298.2, 4.9801,34.8950,2,284.2,2,   -999,9, -999,9, -999,9,-999,9,-999,9, -999,9,-999,9,-999,9,-999,9,-999,9,42.2,0.6
 35HT20180611,91,1, 3, 5,20180706,1738,59.82212,-42.39626, 307, 208.5, 5.2022,34.8714,2,289.8,2,34.8717,2,289.6,2,7.739,2,7.11,2,0.93,2,14.48,2,0.12,2,-999,9,-999,9,-999,9,-999,-999
 35HT20180611,91,1, 4, 6,20180706,1738,59.82212,-42.39626, 307, 208.6, 5.2013,34.8720,2,288.8,2,   -999,9, -999,9, -999,9,-999,9,-999,9, -999,9,-999,9,-999,9,-999,9,-999,9,44.0,0.6
 35HT20180611,91,1, 5, 7,20180706,1738,59.82212,-42.39626, 307, 150.1, 3.1739,34.3492,2,317.9,2,34.3466,4,317.8,2,7.742,2,4.48,2,0.78,2,10.44,2,0.16,2,-999,9,-999,9,-999,9,-999,-999
 35HT20180611,91,1, 6, 8,20180706,1738,59.82212,-42.39626, 307,  88.6, 2.7113,34.2274,2,321.3,2,34.2226,4,321.2,2,7.738,2,4.15,2,0.77,2, 9.62,2,0.13,2,-0.27,2,-2.19,2,-999,9,-999,-999
 35HT20180611,91,1, 7, 9,20180706,1738,59.82212,-42.39626, 307,  76.1, 2.3377,34.1129,2,325.2,2,   -999,9, -999,9, -999,9,-999,9,-999,9, -999,9,-999,9,-999,9,-999,9,-999,9,154.0,2.0
 35HT20180611,91,1, 8,10,20180706,1738,59.82212,-42.39626, 307,  76.2, 2.3458,34.1158,2,325.1,2,   -999,9, -999,9, -999,9,-999,9,-999,9, -999,9,-999,9,-0.23,2,-2.26,2,-999,9,-999,-999
 35HT20180611,91,1, 9,11,20180706,1738,59.82212,-42.39626, 307,  67.1, 2.4429,34.0502,2,327.3,2,   -999,9, -999,9, -999,9,-999,9,-999,9, -999,9,-999,9,-999,9,-999,9,-999,9,-999,-999
 35HT20180611,91,1,10,12,20180706,1738,59.82212,-42.39626, 307,  51.6, 2.0650,33.9888,2,329.7,2,33.9876,2,329.0,2,7.739,2,3.29,2,0.70,2, 8.11,2,0.09,2,-0.28,2,-2.93,2,-999,9,-999,-999
 35HT20180611,91,1,11,13,20180706,1738,59.82212,-42.39626, 307,  26.4, 1.9525,33.8080,2,336.0,2,   -999,9, -999,9, -999,9,-999,9,-999,9, -999,9,-999,9,-999,9,-999,9,-999,9,-999,-999
 35HT20180611,91,1,12,14,20180706,1738,59.82212,-42.39626, 307,  15.9, 1.8555,33.7725,2,337.6,2,   -999,9, -999,9, -999,9,-999,9,-999,9, -999,9,-999,9,-0.36,2,-3.63,2,-999,9,-999,-999
 35HT20180611,91,1,13,15,20180706,1738,59.82212,-42.39626, 307,   4.1, 1.9663,33.6797,2,340.3,2,33.6762,4,339.7,2,7.748,2,2.31,2,0.62,2, 6.12,2,0.06,2,-999,9,-999,9,-999,9,-999,-999
 35HT20180611,91,1,14,16,20180706,1738,59.82212,-42.39626, 307,   4.0, 1.9805,33.6769,2,340.3,2,   -999,9, -999,9, -999,9,-999,9,-999,9, -999,9,-999,9,-999,9,-999,9,-999,9,201.0,3.0
 35HT20180611,92,1, 1, 3,20180706,1909,59.83060,-42.51172, 231, 221.6, 4.2677,34.5602,2,307.2,2,34.5582,4,306.7,2,7.751,2,5.13,2,0.84,2,11.07,2,0.16,2,-0.11,2,-1.05,2,2290,2,-999,-999
 35HT20180611,92,1, 2, 4,20180706,1909,59.83060,-42.51172, 231, 180.6, 4.4077,34.5536,2,308.6,2,   -999,9, -999,9, -999,9,-999,9,-999,9, -999,9,-999,9,-999,9,-999,9,-999,9,-999,-999
 35HT20180611,92,1, 3, 5,20180706,1909,59.83060,-42.51172, 231, 143.3, 4.3527,34.5267,2,311.5,2,34.5276,2,311.2,2,7.764,2,5.06,2,0.83,2,10.61,2,0.15,2,-999,9,-999,9,2289,2,-999,-999
 35HT20180611,92,1, 4, 6,20180706,1909,59.83060,-42.51172, 231, 101.8, 2.5462,34.1452,2,326.1,2,   -999,9, -999,9, -999,9,-999,9,-999,9, -999,9,-999,9,-999,9,-999,9,-999,9,-999,-999
 35HT20180611,92,1, 5, 7,20180706,1909,59.83060,-42.51172, 231, 101.9, 2.5448,34.1445,2,326.1,2,34.1435,2,325.7,2,7.744,2,4.04,2,0.77,2, 8.79,2,0.11,2,-0.16,2,-1.99,2,2274,2,-999,-999
 35HT20180611,92,1, 6, 8,20180706,1909,59.83060,-42.51172, 231,  83.0, 3.2097,34.1195,2,325.4,4,   -999,9, -999,9, -999,9,-999,9,-999,9, -999,9,-999,9,-0.176,2,-2.27,2,-999,9,-999,-999
 35HT20180611,92,1, 7, 9,20180706,1909,59.83060,-42.51172, 231,  65.1, 1.3408,33.8003,2,336.5,4,   -999,9, -999,9, -999,9,-999,9,-999,9, -999,9,-999,9,-0.47,2,-3.92,2,-999,9,-999,-999
 35HT20180611,92,1, 8,10,20180706,1909,59.83060,-42.51172, 231,  56.5, 1.2378,33.7317,2,340.2,2,   -999,9, -999,9, -999,9,-999,9,-999,9, -999,9,-999,9,-0.53,2,-4.25,2,-999,9,-999,-999
 35HT20180611,92,1, 9,11,20180706,1909,59.83060,-42.51172, 231,  46.0, 1.0770,33.5767,2,344.9,2,33.5763,2,345.9,2,7.749,2,2.64,2,0.64,2, 5.87,2,0.06,2,-0.46,2,-4.28,2,2246,2,-999,-999
 35HT20180611,92,1,10,12,20180706,1909,59.83060,-42.51172, 231,  36.3, 1.2172,33.4856,2,346.2,2,   -999,9, -999,9, -999,9,-999,9,-999,9, -999,9,-999,9,-0.69,4,-5.59,4,-999,9,-999,-999
 35HT20180611,92,1,11,13,20180706,1909,59.83060,-42.51172, 231,  24.7, 1.2386,33.4276,2,347.2,2,   -999,9, -999,9, -999,9,-999,9,-999,9, -999,9,-999,9,-0.635,2,-5.53,2,-999,9,-999,-999
 35HT20180611,92,1,12,14,20180706,1909,59.83060,-42.51172, 231,  14.1, 1.0898,33.3548,2,349.0,2,   -999,9, -999,9, -999,9,-999,9,-999,9, -999,9,-999,9,-0.65,2,-5.68,2,-999,9,-999,-999
 35HT20180611,92,1,13,15,20180706,1909,59.83060,-42.51172, 231,   3.6, 1.5163,33.3228,2,349.6,2,33.3218,2,350.0,2,7.761,2,2.01,2,0.55,2, 4.52,2,0.04,2,-0.755,2,-6.2,2,2246,2,-999,-999
 35HT20180611,93,1, 1, 3,20180706,2204,59.91306,-43.07306, 167, 157.4, 1.4530,33.7360,2,338.6,2,33.7172,4,340.7,2,7.745,2,3.18,2,0.62,2, 6.49,2,0.07,2,-0.45,2,-4.13,2,2255,2,-999,-999
 35HT20180611,93,1, 2, 4,20180706,2204,59.91306,-43.07306, 167, 129.0, 0.0512,33.1956,2,354.6,2,   -999,9, -999,9, -999,9,-999,9,-999,9, -999,9,-999,9,-999,9,-999,9,-999,9,248.0,3.0
 35HT20180611,93,1, 3, 5,20180706,2204,59.91306,-43.07306, 167, 129.1, 0.0492,33.1950,2,354.6,2,   -999,9, -999,9, -999,9,-999,9,-999,9, -999,9,-999,9,-999,9,-999,9,-999,9,-999,-999
 35HT20180611,93,1, 5, 7,20180706,2204,59.91306,-43.07306, 167, 102.0,-0.0103,33.0373,2,361.8,2,33.0292,4,361.9,2,7.758,2,1.93,2,0.47,2, 3.14,2,0.04,2,-0.875,2,-7.28,2,2217,2,-999,-999
 35HT20180611,93,1, 6, 8,20180706,2204,59.91306,-43.07306, 167,  79.6, 0.0374,32.9886,2,361.9,2,   -999,9, -999,9, -999,9,-999,9,-999,9, -999,9,-999,9,-0.894,2,-7.38,2,-999,9,-999,-999
 35HT20180611,93,1, 7, 9,20180706,2204,59.91306,-43.07306, 167,  65.4, 0.0468,32.9634,2,362.9,2,   -999,9, -999,9, -999,9,-999,9,-999,9, -999,9,-999,9,-0.868,2,-7.45,2,-999,9,-999,-999
 35HT20180611,93,1, 8,10,20180706,2204,59.91306,-43.07306, 167,  55.2, 0.0490,32.9213,2,364.1,2,   -999,9, -999,9, -999,9,-999,9,-999,9, -999,9,-999,9,-0.913,2,-7.71,2,-999,9,-999,-999
 35HT20180611,93,1, 9,11,20180706,2204,59.91306,-43.07306, 167,  36.4, 0.0965,32.8699,2,368.3,2,32.8743,4,368.5,2,7.775,2,1.39,2,0.40,2, 2.08,2,0.02,2,-0.983,2,-8.13,2,2214,2,-999,-999
 35HT20180611,93,1,10,12,20180706,2204,59.91306,-43.07306, 167,  36.4, 0.0966,32.8696,2,365.7,4,   -999,9, -999,9, -999,9,-999,9,-999,9, -999,9,-999,9,-999,9,-999,9,-999,9,271.0,4.0
 35HT20180611,93,1,11,13,20180706,2204,59.91306,-43.07306, 167,  25.0, 0.1002,32.8411,2,367.2,2,32.8399,2,368.1,2,7.779,2,1.11,2,0.39,2, 1.95,2,0.02,2,-0.943,2,-7.95,2,2213,3,-999,-999
 35HT20180611,93,1,12,14,20180706,2204,59.91306,-43.07306, 167,  16.6, 0.1232,32.7518,2,370.4,2,   -999,9, -999,9, -999,9,-999,9,-999,9, -999,9,-999,9,-1.057,2,-8.6,2,-999,9,-999,-999
 35HT20180611,93,1,13,15,20180706,2204,59.91306,-43.07306, 167,   4.4, 0.9671,32.5181,2,373.7,2,32.5164,2,373.5,2,7.816,2,1.23,2,0.31,2, 0.56,2,0.00,2,-1.171,2,-9.78,2,2194,2,-999,-999
 35HT20180611,93,1,14,16,20180706,2204,59.91306,-43.07306, 167,   4.4, 0.9733,32.5169,2,371.7,2,   -999,9, -999,9, -999,9,-999,9,-999,9, -999,9,-999,9,-999,9,-999,9,-999,9,275.0,4.0
 35HT20180611,94,1, 1, 3,20180706,2337,59.89572,-42.9615, 170, 160.4, 1.7076,33.8549,2,335.6,2,33.8182,4,336.1,2,7.743,2,3.64,2,0.67,2, 6.97,2,0.08,2,-0.39,2,-3.71,2,-999,9,-999,-999
 35HT20180611,94,1, 3, 5,20180706,2337,59.89572,-42.9615, 170, 131.6, 0.4703,33.4543,2,347.1,2,33.4778,4,345.5,2,7.738,2,3.17,2,0.60,2, 5.44,2,0.06,2,-999,9,-999,9,-999,9,-999,-999
 35HT20180611,94,1, 5, 7,20180706,2337,59.89572,-42.9615, 170, 100.9,-0.0999,33.1179,2,361.4,2,33.0980,4,361.2,2,7.753,2,2.21,2,0.52,2, 3.21,2,0.03,2,-0.851,2,-7.0,2,-999,9,-999,-999
 35HT20180611,94,1, 6, 8,20180706,2337,59.89572,-42.9615, 170,  81.2,-0.1299,32.9956,2,361.8,2,   -999,9, -999,9, -999,9,-999,9,-999,9, -999,9,-999,9,-0.945,2,-7.73,2,-999,9,-999,-999
 35HT20180611,94,1, 7, 9,20180706,2337,59.89572,-42.9615, 170,  66.2,-0.1967,32.8439,2,368.1,4,   -999,9, -999,9, -999,9,-999,9,-999,9, -999,9,-999,9,-0.915,2,-7.96,2,-999,9,-999,-999
 35HT20180611,94,1, 8,10,20180706,2337,59.89572,-42.9615, 170,  54.4,-0.1091,32.7662,2,371.9,4,   -999,9, -999,9, -999,9,-999,9,-999,9, -999,9,-999,9,-0.983,2,-8.12,2,-999,9,-999,-999
 35HT20180611,94,1, 9,11,20180706,2337,59.89572,-42.9615, 170,  45.3, 0.0351,32.6970,2,375.1,2,32.6965,2,375.6,2,7.797,2,1.25,2,0.37,2, 1.00,2,0.00,2,-1.052,2,-8.67,2,-999,9,-999,-999
 35HT20180611,94,1,10,12,20180706,2337,59.89572,-42.9615, 170,  36.4, 0.2242,32.6573,2,371.9,4,   -999,9, -999,9, -999,9,-999,9,-999,9, -999,9,-999,9,-1.03,2,-8.76,2,-999,9,-999,-999
 35HT20180611,94,1,11,13,20180706,2337,59.89572,-42.9615, 170,  25.1, 0.3444,32.6049,2,372.5,4,   -999,9, -999,9, -999,9,-999,9,-999,9, -999,9,-999,9,-999,9,-999,9,-999,9,-999,-999
 35HT20180611,94,1,12,14,20180706,2337,59.89572,-42.9615, 170,  13.4, 1.3654,32.2653,2,371.7,4,   -999,9, -999,9, -999,9,-999,9,-999,9, -999,9,-999,9,-1.247,2,-10.06,2,-999,9,-999,-999
 35HT20180611,94,1,13,15,20180706,2337,59.89572,-42.9615, 170,   4.2, 1.3843,32.2617,2,369.1,2,32.2635,2,369.3,2,7.840,2,1.56,2,0.25,2, 0.24,2,0.00,2,-1.242,2,-10.09,2,-999,9,-999,-999
 35HT20180611,95,1, 1, 3,20180707,0119,59.87978,-42.85038, 190, 182.0, 2.0928,33.9831,2,327.5,2,33.9784,4,327.7,2,7.737,2,3.74,2,0.70,2, 8.13,2,0.10,2,-0.299,2,-2.91,2,2267,2,-999,-999
 35HT20180611,95,1, 3, 5,20180707,0119,59.87978,-42.85038, 190, 152.1, 1.7431,33.8842,2,331.8,2,33.8776,4,331.5,2,7.738,2,2.91,2,0.68,2, 7.49,2,0.09,2,-999,9,-999,9,2264,2,-999,-999
 35HT20180611,95,1, 5, 7,20180707,0119,59.87978,-42.85038, 190, 101.5, 0.7597,33.4298,2,346.5,2,33.4279,2,346.5,2,7.746,2,-999,9,-999,9, -999,9,-999,9,-0.611,2,-5.42,2,2243,2,-999,-999
 35HT20180611,95,1, 6, 8,20180707,0119,59.87978,-42.85038, 190,  86.2, 0.7318,33.4041,2,346.5,2,   -999,9, -999,9, -999,9,1.81,2,0.66,2, 5.13,2,0.06,2,-0.631,2,-5.44,2,-999,9,-999,-999
 35HT20180611,95,1, 7, 9,20180707,0119,59.87978,-42.85038, 190,  65.9,-0.4759,33.0927,2,358.4,2,   -999,9, -999,9, -999,9,-999,9,-999,9, -999,9,-999,9,-0.83,2,-7.26,2,-999,9,-999,-999
 35HT20180611,95,1, 8,10,20180707,0119,59.87978,-42.85038, 190,  51.4,-0.0083,32.9678,2,364.2,2,   -999,9, -999,9, -999,9,-999,9,-999,9, -999,9,-999,9,-0.831,2,-7.13,2,-999,9,-999,-999
 35HT20180611,95,1, 9,11,20180707,0119,59.87978,-42.85038, 190,  41.3,-0.4087,32.8760,2,370.4,2,32.8715,4,369.7,2,7.766,2,-999,9,-999,9, -999,9,-999,9,-0.943,2,-7.9,2,2218,2,-999,-999
 35HT20180611,95,1,10,12,20180707,0119,59.87978,-42.85038, 190,  30.9,-0.2350,32.8286,2,371.0,2,   -999,9, -999,9, -999,9,0.22,2,0.42,2, 1.83,2,0.02,2,-1.005,2,-8.03,2,-999,9,-999,-999
 35HT20180611,95,1,11,13,20180707,0119,59.87978,-42.85038, 190,  23.9,-0.2376,32.7633,2,375.3,2,   -999,9, -999,9, -999,9,-999,9,-999,9, -999,9,-999,9,-0.998,2,-8.27,2,-999,9,-999,-999
 35HT20180611,95,1,12,14,20180707,0119,59.87978,-42.85038, 190,  15.5, 0.0737,32.6478,2,380.6,2,   -999,9, -999,9, -999,9,-999,9,-999,9, -999,9,-999,9,-999,9,-999,9,-999,9,-999,-999
 35HT20180611,95,1,13,15,20180707,0119,59.87978,-42.85038, 190,   4.1, 1.8183,32.0836,2,365.1,2,32.0838,2,366.5,2,7.842,2,-999,9,-999,9, -999,9,-999,9,-999,9,-999,9,2167,2,-999,-999
 35HT20180611,95,1,14,16,20180707,0119,59.87978,-42.85038, 190,   4.1, 1.8158,32.0842,2,365.1,2,   -999,9, -999,9, -999,9,0.21,2,0.22,2, 0.21,2,0.00,2,-999,9,-999,9,-999,9,-999,-999
 35HT20180611,96,1, 1, 3,20180707,0248,59.86334,-42.73856, 187, 178.7, 2.7661,34.2083,2,317.3,2,34.2083,2,321.2,4,7.735,2,4.70,2,0.75,2, 9.67,2,0.14,2,-0.129,2,-1.76,2,-999,9,-999,-999
 35HT20180611,96,1, 3, 5,20180707,0248,59.86334,-42.73856, 187, 141.5, 2.7118,34.1731,2,319.8,2,34.1727,2,321.1,2,7.742,2,4.03,2,0.72,2, 9.22,2,0.14,2,-999,9,-999,9,-999,9,-999,-999
 35HT20180611,96,1, 5, 7,20180707,0248,59.86334,-42.73856, 187, 100.6, 2.5107,33.9895,2,330.5,2,33.9816,4,332.1,2,7.763,2,2.46,2,0.73,2, 7.07,2,0.09,2,-0.285,2,-2.86,2,-999,9,-999,-999
 35HT20180611,96,1, 6, 8,20180707,0248,59.86334,-42.73856, 187,  81.4, 2.0206,33.7225,2,335.3,2,   -999,9, -999,9, -999,9,-999,9,-999,9, -999,9,-999,9,-0.472,2,-4.07,2,-999,9,-999,-999
 35HT20180611,96,1, 7, 9,20180707,0248,59.86334,-42.73856, 187,  65.8, 1.2823,33.5452,2,341.0,2,   -999,9, -999,9, -999,9,-999,9,-999,9, -999,9,-999,9,-0.547,2,-4.81,2,-999,9,-999,-999
 35HT20180611,96,1, 8,10,20180707,0248,59.86334,-42.73856, 187,  50.7, 0.6126,33.3913,2,347.0,2,   -999,9, -999,9, -999,9,-999,9,-999,9, -999,9,-999,9,-0.635,2,-5.51,2,-999,9,-999,-999
 35HT20180611,96,1, 9,11,20180707,0248,59.86334,-42.73856, 187,  41.0, 0.3399,33.3464,2,350.8,2,33.3052,4,352.9,2,7.742,2,1.85,2,0.56,2, 4.55,2,0.05,2,-0.732,2,-6.08,2,-999,9,-999,-999
 35HT20180611,96,1,10,12,20180707,0248,59.86334,-42.73856, 187,  31.7,-0.2072,33.1532,2,357.3,2,   -999,9, -999,9, -999,9,-999,9,-999,9, -999,9,-999,9,-0.794,2,-6.82,2,-999,9,-999,-999
 35HT20180611,96,1,11,13,20180707,0248,59.86334,-42.73856, 187,  24.4, 0.7594,33.1295,2,356.0,2,   -999,9, -999,9, -999,9,-999,9,-999,9, -999,9,-999,9,-0.799,2,-6.63,2,-999,9,-999,-999
 35HT20180611,96,1,12,14,20180707,0248,59.86334,-42.73856, 187,  13.5, 0.8526,33.0919,2,358.1,2,   -999,9, -999,9, -999,9,-999,9,-999,9, -999,9,-999,9,-0.843,2,-7.13,2,-999,9,-999,-999
 35HT20180611,96,1,13,15,20180707,0248,59.86334,-42.73856, 187,   4.2, 0.5355,32.8056,2,365.1,2,32.7891,4,368.1,4,7.785,2,0.75,2,0.38,2, 1.72,2,0.02,2,-1.003,2,-8.16,2,-999,9,-999,-999
 35HT20180611,97,1, 1, 3,20180707,0409,59.85288,-42.66558, 190, 180.4, 2.7757,34.2253,2,316.9,2,34.2236,2,318.2,2,7.734,2,4.82,2,0.75,2, 9.82,2,0.14,2,-0.14,2,-1.77,2,2277,2,-999,-999
 35HT20180611,97,1, 3, 5,20180707,0409,59.85288,-42.66558, 190, 140.4, 2.7296,34.2147,2,317.4,2,34.2134,2,320.8,4,7.735,2,4.53,2,0.73,2, 9.65,2,0.15,2,-999,9,-999,9,2277,2,-999,-999
 35HT20180611,97,1, 4, 6,20180707,0409,59.85288,-42.66558, 190, 100.4, 2.7395,34.1216,2,322.0,2,   -999,9, -999,9, -999,9,-999,9,-999,9, -999,9,-999,9,-999,9,-999,9,-999,9,-999,-999
 35HT20180611,97,1, 5, 7,20180707,0409,59.85288,-42.66558, 190, 100.5, 2.7415,34.1205,2,323.5,2,34.1142,4,325.0,2,7.751,2,3.23,2,0.65,2, 8.31,2,0.12,2,-0.174,2,-2.14,2,2272,2,-999,-999
 35HT20180611,97,1, 6, 8,20180707,0409,59.85288,-42.66558, 190,  80.4, 2.7330,34.0361,2,327.1,2,   -999,9, -999,9, -999,9,-999,9,-999,9, -999,9,-999,9,-0.195,2,-2.47,2,-999,9,-999,-999
 35HT20180611,97,1, 7, 9,20180707,0409,59.85288,-42.66558, 190,  65.9, 2.4319,33.8768,2,332.5,2,   -999,9, -999,9, -999,9,-999,9,-999,9, -999,9,-999,9,-0.342,2,-3.45,2,-999,9,-999,-999
 35HT20180611,97,1, 8,10,20180707,0409,59.85288,-42.66558, 190,  56.1, 2.1526,33.7198,2,336.6,2,   -999,9, -999,9, -999,9,-999,9,-999,9, -999,9,-999,9,-0.456,2,-3.81,2,-999,9,-999,-999
 35HT20180611,97,1, 9,11,20180707,0409,59.85288,-42.66558, 190,  45.7, 2.2127,33.6889,2,338.6,2,33.6900,2,338.5,2,7.768,2,1.93,2,0.55,2, 5.73,2,0.08,2,-0.46,2,-4.14,2,2253,2,-999,-999
 35HT20180611,97,1,10,12,20180707,0409,59.85288,-42.66558, 190,  35.5, 1.9418,33.6479,2,337.5,2,   -999,9, -999,9, -999,9,-999,9,-999,9, -999,9,-999,9,-0.487,2,-4.36,2,-999,9,-999,-999
 35HT20180611,97,1,11,13,20180707,0409,59.85288,-42.66558, 190,  25.4, 2.0787,33.6021,2,339.1,2,   -999,9, -999,9, -999,9,-999,9,-999,9, -999,9,-999,9,-0.489,2,-4.54,2,-999,9,-999,-999
 35HT20180611,97,1,12,14,20180707,0409,59.85288,-42.66558, 190,  15.9, 1.8286,33.4167,2,342.6,2,   -999,9, -999,9, -999,9,-999,9,-999,9, -999,9,-999,9,-0.656,2,-5.63,2,-999,9,-999,-999
 35HT20180611,97,1,13,15,20180707,0409,59.85288,-42.66558, 190,   4.2, 1.0128,33.1205,2,353.0,2,   -999,9, -999,9, -999,9,1.23,2,0.45,2, 3.12,2,0.04,2,-0.827,2,-7.0,2,-999,9,-999,-999
 35HT20180611,97,1,14,16,20180707,0409,59.85288,-42.66558, 190,   4.2, 1.0124,33.1209,2,354.0,2,33.1163,4,355.4,2,7.767,2,-999,9,-999,9, -999,9,-999,9,-999,9,-999,9,2227,2,-999,-999