BOTTLE,20240403CCHHYDRO
EXPOCODE,SECT_ID,STNNBR,CASTNO,SAMPNO,BTLNBR,DATE,TIME,LATITUDE,LONGITUDE,DEPTH,CTDPRS,CTDPRS_FLAG_W,CTDTMP,CTDTMP_FLAG_W,CTDSAL,CTDSAL_FLAG_W,SALNTY,SALNTY_FLAG_W,CTDOXY,CTDOXY_FLAG_W,OXYGEN,OXYGEN_FLAG_W,SILCAT,SILCAT_FLAG_W,NITRAT,NITRAT_FLAG_W,NITRIT,NITRIT_FLAG_W,ALKALI,ALKALI_FLAG_W,PH_TOT,PH_TOT_FLAG_W,BTL_DATE,BTL_TIME,BTL_LAT,BTL_LON
,,,,,,,,,,METERS,DBAR,,ITS-90,,PSS-78,,PSS-78,,UMOL/KG,,UMOL/KG,,UMOL/KG,,UMOL/KG,,UMOL/KG,,UMOL/KG,,,,,,,
35PK20140515  ,OVIDE-A25  ,65      ,  1,24         ,24         ,20140620,2336,  58.5830, -46.3860,     2544,      4.4,2,   6.6510,2,  34.6330,2,  34.6330,2,    338.7,2,    337.1,2,     3.28,2,     0.32,2,     0.02,2,   2298.7,2,   7.9510,2,20140621,0049,  58.5830, -46.3860
35PK20140515  ,OVIDE-A25  ,65      ,  1,23         ,23         ,20140620,2336,  58.5830, -46.3860,     2544,     39.0,2,   5.5290,2,  34.8100,2,  34.8080,2,    321.1,2,    321.4,2,     7.13,2,     8.51,2,     0.11,2,     -999,9,   7.8160,2,20140621,0048,  58.5830, -46.3860
35PK20140515  ,OVIDE-A25  ,65      ,  1,22         ,22         ,20140620,2336,  58.5830, -46.3860,     2544,    100.3,2,   4.5150,2,  34.8600,2,  34.8600,2,    304.4,2,    303.2,2,     7.39,2,    13.60,2,     0.22,2,   2301.4,2,   7.7310,2,20140621,0045,  58.5830, -46.3860
35PK20140515  ,OVIDE-A25  ,65      ,  1,21         ,21         ,20140620,2336,  58.5830, -46.3860,     2544,    149.2,2,   4.4610,2,  34.9070,2,  34.9080,2,    295.6,2,    294.9,2,     7.40,2,    15.09,2,     0.18,2,     -999,9,   7.7240,2,20140621,0043,  58.5830, -46.3860
35PK20140515  ,OVIDE-A25  ,65      ,  1,20         ,20         ,20140620,2336,  58.5830, -46.3860,     2544,    199.8,2,   4.2610,2,  34.9030,2,  34.9020,2,    296.4,2,    297.0,2,     7.66,2,    15.47,2,     0.16,2,   2301.8,2,   7.7170,2,20140621,0041,  58.5830, -46.3860
35PK20140515  ,OVIDE-A25  ,65      ,  1,19         ,19         ,20140620,2336,  58.5830, -46.3860,     2544,    300.0,2,   4.1620,2,  34.9110,2,  34.9120,2,    294.3,2,    294.1,2,     7.80,2,    15.80,2,     0.03,2,     -999,9,   7.7170,2,20140621,0038,  58.5830, -46.3860
35PK20140515  ,OVIDE-A25  ,65      ,  1,18         ,18         ,20140620,2336,  58.5830, -46.3860,     2544,    399.7,2,   4.0260,2,  34.9060,2,  34.9070,2,    295.7,2,    297.1,2,     7.94,2,    15.93,2,     0.02,2,   2302.7,2,   7.7160,2,20140621,0035,  58.5830, -46.3860
35PK20140515  ,OVIDE-A25  ,65      ,  1,17         ,17         ,20140620,2336,  58.5830, -46.3860,     2544,    499.5,2,   3.9040,2,  34.8960,2,  34.8950,2,    293.6,2,    293.7,2,     7.98,2,    15.75,2,     0.02,2,     -999,9,   7.7120,2,20140621,0032,  58.5830, -46.3860
35PK20140515  ,OVIDE-A25  ,65      ,  1,16         ,16         ,20140620,2336,  58.5830, -46.3860,     2544,    600.5,2,   3.7640,2,  34.8840,2,  34.8810,2,    295.1,2,    295.6,2,     8.02,2,    15.84,2,     0.01,2,   2301.2,2,   7.7140,2,20140621,0029,  58.5830, -46.3860
35PK20140515  ,OVIDE-A25  ,65      ,  1,15         ,15         ,20140620,2336,  58.5830, -46.3860,     2544,    699.2,2,   3.6230,2,  34.8680,2,  34.8660,2,    297.0,2,    298.8,2,     7.98,2,    15.74,2,     0.01,2,     -999,9,   7.7140,2,20140621,0027,  58.5830, -46.3860
35PK20140515  ,OVIDE-A25  ,65      ,  1,14         ,14         ,20140620,2336,  58.5830, -46.3860,     2544,    798.9,2,   3.5860,2,  34.8660,2,  34.8670,2,    294.3,2,    294.7,2,     8.13,2,    15.83,2,     0.01,2,   2300.1,2,   7.7120,2,20140621,0024,  58.5830, -46.3860
35PK20140515  ,OVIDE-A25  ,65      ,  1,13         ,13         ,20140620,2336,  58.5830, -46.3860,     2544,    900.1,2,   3.5710,2,  34.8680,2,  34.8670,2,    295.0,2,    295.0,2,     8.26,2,    15.90,2,     0.01,2,     -999,9,   7.7090,2,20140621,0021,  58.5830, -46.3860
35PK20140515  ,OVIDE-A25  ,65      ,  1,12         ,12         ,20140620,2336,  58.5830, -46.3860,     2544,    999.3,2,   3.7110,2,  34.8940,2,  34.8930,2,    284.7,2,    284.7,2,     8.80,2,    16.10,2,     0.01,2,   2303.2,2,   7.7110,2,20140621,0018,  58.5830, -46.3860
35PK20140515  ,OVIDE-A25  ,65      ,  1,11         ,11         ,20140620,2336,  58.5830, -46.3860,     2544,   1098.7,2,   3.7480,2,  34.9120,2,  34.9120,2,    277.6,2,    280.0,2,     9.28,2,    16.48,2,     0.00,2,     -999,9,   7.7060,2,20140621,0014,  58.5830, -46.3860
35PK20140515  ,OVIDE-A25  ,65      ,  1,10         ,10         ,20140620,2336,  58.5830, -46.3860,     2544,   1199.9,2,   3.7420,2,  34.9250,2,  34.9240,2,    275.0,2,    275.2,2,     9.71,2,    16.65,2,     0.00,2,   2304.4,2,   7.7090,2,20140621,0011,  58.5830, -46.3860
35PK20140515  ,OVIDE-A25  ,65      ,  1,9          ,9          ,20140620,2336,  58.5830, -46.3860,     2544,   1300.0,2,   3.6480,2,  34.9250,2,  34.9240,2,    273.9,2,    279.5,4,    10.15,2,    16.87,2,     0.00,2,     -999,9,   7.7150,2,20140621,0008,  58.5830, -46.3860
35PK20140515  ,OVIDE-A25  ,65      ,  1,8          ,8          ,20140620,2336,  58.5830, -46.3860,     2544,   1399.8,2,   3.5570,2,  34.9260,2,  34.9260,2,    273.9,2,    275.1,2,    10.38,2,    16.81,2,     0.00,2,   2303.9,2,   7.7190,2,20140621,0006,  58.5830, -46.3860
35PK20140515  ,OVIDE-A25  ,65      ,  1,7          ,7          ,20140620,2336,  58.5830, -46.3860,     2544,   1499.8,2,   3.4480,2,  34.9230,2,  34.9240,2,    274.7,2,    275.7,2,    10.72,2,    16.86,2,     0.00,2,     -999,9,   7.7220,2,20140621,0003,  58.5830, -46.3860
35PK20140515  ,OVIDE-A25  ,65      ,  1,6          ,6          ,20140620,2336,  58.5830, -46.3860,     2544,   1600.1,2,   3.3680,2,  34.9220,2,  34.9210,2,    275.1,2,    275.4,2,    10.80,2,    16.79,2,     0.00,2,   2304.2,2,   7.7220,2,20140621,0000,  58.5830, -46.3860
35PK20140515  ,OVIDE-A25  ,65      ,  1,5          ,5          ,20140620,2336,  58.5830, -46.3860,     2544,   1800.7,2,   3.1610,2,  34.9220,2,  34.9200,2,    277.2,2,    277.6,2,    11.09,2,    16.52,2,     0.00,2,     -999,9,   7.7230,2,20140620,2355,  58.5830, -46.3860
35PK20140515  ,OVIDE-A25  ,65      ,  1,4          ,4          ,20140620,2336,  58.5830, -46.3860,     2544,   2000.1,2,   2.9610,2,  34.9220,2,  34.9210,2,    280.4,2,    281.3,2,    11.04,2,    16.01,2,     0.00,2,   2304.5,2,   7.7280,2,20140620,2350,  58.5830, -46.3860
35PK20140515  ,OVIDE-A25  ,65      ,  1,3          ,3          ,20140620,2336,  58.5830, -46.3860,     2544,   2200.7,2,   2.7290,2,  34.9250,2,  34.9240,2,    279.2,2,    280.8,2,    12.40,2,    16.08,2,     0.00,2,   2306.8,2,   7.7290,2,20140620,2345,  58.5830, -46.3860
35PK20140515  ,OVIDE-A25  ,65      ,  1,2          ,2          ,20140620,2336,  58.5830, -46.3860,     2544,   2460.9,2,   2.1140,2,  34.8860,2,  34.8830,2,    298.6,2,    299.4,2,     8.65,2,    14.33,2,     0.00,2,     -999,9,   7.7220,2,20140620,2339,  58.5830, -46.3860
35PK20140515  ,OVIDE-A25  ,65      ,  1,1          ,1          ,20140620,2336,  58.5830, -46.3860,     2544,   2573.6,2,   2.0830,2,  34.8970,2,  34.8910,4,    295.9,2,    296.5,2,     9.31,2,    14.43,2,     0.00,2,   2303.1,2,   7.7230,2,20140620,2336,  58.5830, -46.3860
35PK20140515  ,OVIDE-A25  ,66      ,  1,24         ,24         ,20140621,0555,  57.9920, -46.7530,     3103,      3.7,2,   6.1040,2,  34.5480,2,     -999,9,    338.5,2,     -999,9,     -999,9,     -999,9,     -999,9,     -999,9,     -999,9,20140621,0712,  57.9920, -46.7530
35PK20140515  ,OVIDE-A25  ,66      ,  1,22         ,22         ,20140621,0555,  57.9920, -46.7530,     3103,      3.7,2,   6.1000,2,  34.5480,2,  34.5490,2,    338.5,2,    337.6,2,     3.88,2,     0.07,2,     0.01,2,   2298.8,2,   7.9580,2,20140621,0711,  57.9920, -46.7530
35PK20140515  ,OVIDE-A25  ,66      ,  1,23         ,23         ,20140621,0555,  57.9920, -46.7530,     3103,      3.7,2,   6.1040,2,  34.5480,2,     -999,9,    338.5,2,     -999,9,     -999,9,     -999,9,     -999,9,     -999,9,     -999,9,20140621,0711,  57.9920, -46.7530
35PK20140515  ,OVIDE-A25  ,66      ,  1,21         ,21         ,20140621,0555,  57.9920, -46.7530,     3103,     40.1,2,   4.0250,2,  34.6330,2,  34.6380,2,    303.7,2,    301.6,2,     6.26,2,     8.36,2,     0.16,2,     -999,9,   7.7570,2,20140621,0710,  57.9920, -46.7530
35PK20140515  ,OVIDE-A25  ,66      ,  1,20         ,20         ,20140621,0555,  57.9920, -46.7530,     3103,    100.5,2,   4.3820,2,  34.8020,2,  34.8040,2,    299.3,2,    299.4,2,     6.81,2,    13.37,2,     0.40,2,   2298.7,2,   7.7960,2,20140621,0707,  57.9920, -46.7530
35PK20140515  ,OVIDE-A25  ,66      ,  1,19         ,19         ,20140621,0555,  57.9920, -46.7530,     3103,    150.2,2,   4.3600,2,  34.8200,2,  34.8200,2,    299.3,2,    298.6,2,     6.81,2,    14.15,2,     0.36,2,     -999,9,   7.8000,2,20140621,0705,  57.9920, -46.7530
35PK20140515  ,OVIDE-A25  ,66      ,  1,18         ,18         ,20140621,0555,  57.9920, -46.7530,     3103,    200.4,2,   4.4750,2,  34.8540,2,  34.8520,2,    299.0,2,    298.5,2,     6.85,2,    14.37,2,     0.19,2,   2300.8,2,   7.7410,2,20140621,0703,  57.9920, -46.7530
35PK20140515  ,OVIDE-A25  ,66      ,  1,17         ,17         ,20140621,0555,  57.9920, -46.7530,     3103,    300.1,2,   4.1960,2,  34.8810,2,  34.8830,2,    297.6,2,    298.3,2,     7.36,2,    15.04,2,     0.16,2,     -999,9,   7.7310,2,20140621,0700,  57.9920, -46.7530
35PK20140515  ,OVIDE-A25  ,66      ,  1,16         ,16         ,20140621,0555,  57.9920, -46.7530,     3103,    399.9,2,   3.8700,2,  34.8700,2,  34.8710,2,    297.5,2,    299.5,2,     7.58,2,    15.36,2,     0.05,2,   2300.7,2,   7.7250,2,20140621,0658,  57.9920, -46.7530
35PK20140515  ,OVIDE-A25  ,66      ,  1,15         ,15         ,20140621,0555,  57.9920, -46.7530,     3103,    500.6,2,   3.8090,2,  34.8800,2,  34.8800,2,    296.9,2,    296.2,2,     7.75,2,    15.59,2,     0.03,2,     -999,9,   7.7240,2,20140621,0655,  57.9920, -46.7530
35PK20140515  ,OVIDE-A25  ,66      ,  1,14         ,14         ,20140621,0555,  57.9920, -46.7530,     3103,    600.0,2,   3.7490,2,  34.8770,2,  34.8770,2,    295.5,2,    297.2,2,     7.99,2,    15.68,2,     0.01,2,   2301.7,2,   7.7230,2,20140621,0652,  57.9920, -46.7530
35PK20140515  ,OVIDE-A25  ,66      ,  1,13         ,13         ,20140621,0555,  57.9920, -46.7530,     3103,    800.2,2,   3.5520,2,  34.8630,2,  34.8630,2,    294.9,2,    295.8,2,     8.04,2,    15.82,2,     0.01,2,   2301.8,2,   7.7210,2,20140621,0648,  57.9920, -46.7530
35PK20140515  ,OVIDE-A25  ,66      ,  1,12         ,12         ,20140621,0555,  57.9920, -46.7530,     3103,    999.7,2,   3.5010,2,  34.8600,2,  34.8600,2,    294.5,2,    295.1,2,     8.19,2,    15.82,2,     0.01,2,   2300.9,2,   7.7200,2,20140621,0643,  57.9920, -46.7530
35PK20140515  ,OVIDE-A25  ,66      ,  1,11         ,11         ,20140621,0555,  57.9920, -46.7530,     3103,   1100.5,2,   3.5260,2,  34.8660,2,  34.8650,2,    293.3,2,    294.1,2,     8.28,2,    15.89,2,     0.01,2,     -999,9,   7.7210,2,20140621,0641,  57.9920, -46.7530
35PK20140515  ,OVIDE-A25  ,66      ,  1,10         ,10         ,20140621,0555,  57.9920, -46.7530,     3103,   1200.1,2,   3.5580,2,  34.8740,2,  34.8730,2,    290.9,2,    291.6,2,     8.56,2,    16.00,2,     0.00,2,   2302.8,2,   7.7220,2,20140621,0638,  57.9920, -46.7530
35PK20140515  ,OVIDE-A25  ,66      ,  1,9          ,9          ,20140621,0555,  57.9920, -46.7530,     3103,   1399.7,2,   3.7070,2,  34.9130,2,  34.9140,2,    277.9,2,    279.3,2,     9.61,2,    16.52,2,     0.00,2,     -999,9,   7.7210,2,20140621,0634,  57.9920, -46.7530
35PK20140515  ,OVIDE-A25  ,66      ,  1,8          ,8          ,20140621,0555,  57.9920, -46.7530,     3103,   1600.7,2,   3.5860,2,  34.9270,2,  34.9270,2,    274.5,2,    276.1,2,    10.33,2,    16.64,2,     0.00,2,   2305.5,2,   7.7240,2,20140621,0629,  57.9920, -46.7530
35PK20140515  ,OVIDE-A25  ,66      ,  1,7          ,7          ,20140621,0555,  57.9920, -46.7530,     3103,   1800.5,2,   3.3930,2,  34.9250,2,  34.9240,2,    276.5,2,    277.0,2,    10.54,2,    16.45,2,     0.00,2,     -999,9,   7.7260,2,20140621,0624,  57.9920, -46.7530
35PK20140515  ,OVIDE-A25  ,66      ,  1,6          ,6          ,20140621,0555,  57.9920, -46.7530,     3103,   1999.7,2,   3.1920,2,  34.9220,2,  34.9230,2,    277.7,2,    278.7,2,    10.94,2,    16.40,2,     0.00,2,   2304.5,2,   7.7270,2,20140621,0620,  57.9920, -46.7530
35PK20140515  ,OVIDE-A25  ,66      ,  1,5          ,5          ,20140621,0555,  57.9920, -46.7530,     3103,   2249.4,2,   2.9770,2,  34.9230,2,  34.9220,2,    277.8,2,    279.6,2,    11.97,2,    16.35,2,     0.00,2,     -999,9,   7.7320,2,20140621,0615,  57.9920, -46.7530
35PK20140515  ,OVIDE-A25  ,66      ,  1,4          ,4          ,20140621,0555,  57.9920, -46.7530,     3103,   2500.4,2,   2.7720,2,  34.9260,2,  34.9250,2,    278.2,2,    279.1,2,    12.90,2,    16.24,2,     0.00,2,   2305.1,2,   7.7320,2,20140621,0610,  57.9920, -46.7530
35PK20140515  ,OVIDE-A25  ,66      ,  1,3          ,3          ,20140621,0555,  57.9920, -46.7530,     3103,   2750.2,2,   2.5100,2,  34.9170,2,  34.9160,2,    282.3,2,    282.4,2,    13.32,2,    15.94,2,     0.00,2,   2307.9,2,   7.7300,2,20140621,0604,  57.9920, -46.7530
35PK20140515  ,OVIDE-A25  ,66      ,  1,2          ,2          ,20140621,0555,  57.9920, -46.7530,     3103,   2980.2,2,   2.1050,2,  34.9060,2,  34.9080,2,    288.6,2,    289.5,2,    12.03,2,    15.19,2,     0.01,2,     -999,9,   7.7250,2,20140621,0559,  57.9920, -46.7530
35PK20140515  ,OVIDE-A25  ,66      ,  1,1          ,1          ,20140621,0555,  57.9920, -46.7530,     3103,   3144.0,2,   1.7360,2,  34.9050,2,  34.9040,2,    297.5,2,    298.1,2,     9.28,2,    14.25,2,     0.01,2,   2302.6,2,   7.7180,2,20140621,0555,  57.9920, -46.7530