BOTTLE,20240403CCHHYDRO
EXPOCODE,SECT_ID,STNNBR,CASTNO,SAMPNO,BTLNBR,DATE,TIME,LATITUDE,LONGITUDE,DEPTH,CTDPRS,CTDPRS_FLAG_W,CTDTMP,CTDTMP_FLAG_W,CTDSAL,CTDSAL_FLAG_W,SALNTY,SALNTY_FLAG_W,CTDOXY,CTDOXY_FLAG_W,OXYGEN,OXYGEN_FLAG_W,SILCAT,SILCAT_FLAG_W,NITRAT,NITRAT_FLAG_W,NITRIT,NITRIT_FLAG_W,ALKALI,ALKALI_FLAG_W,PH_TOT,PH_TOT_FLAG_W,BTL_DATE,BTL_TIME,BTL_LAT,BTL_LON
,,,,,,,,,,METERS,DBAR,,ITS-90,,PSS-78,,PSS-78,,UMOL/KG,,UMOL/KG,,UMOL/KG,,UMOL/KG,,UMOL/KG,,UMOL/KG,,,,,,,
35PK20140515  ,OVIDE-A25  ,11      ,  1,24         ,24         ,20140523,0436,  40.3330, -12.2190,     5359,      6.3,2,  15.8980,2,  35.8280,2,  35.8280,2,    252.8,2,    251.8,2,     0.10,2,     0.02,2,     0.00,2,   2358.0,2,   7.9710,2,20140523,0626,  40.3330, -12.2190
35PK20140515  ,OVIDE-A25  ,11      ,  1,23         ,23         ,20140523,0436,  40.3330, -12.2190,     5359,     60.1,2,  13.3710,2,  35.7990,2,  35.7990,2,    245.9,2,    247.0,2,     1.39,2,     5.48,2,     0.04,2,   2352.2,2,   7.8940,2,20140523,0623,  40.3330, -12.2190
35PK20140515  ,OVIDE-A25  ,11      ,  1,22         ,22         ,20140523,0436,  40.3330, -12.2190,     5359,    100.3,2,  13.0850,2,  35.7710,2,  35.7700,2,    243.1,2,    244.9,2,     1.75,2,     6.39,2,     0.01,2,   2349.0,2,   7.8830,2,20140523,0620,  40.3330, -12.2190
35PK20140515  ,OVIDE-A25  ,11      ,  1,21         ,21         ,20140523,0436,  40.3330, -12.2190,     5359,    200.1,2,  12.7010,2,  35.7230,2,  35.7230,2,    243.1,2,    243.9,2,     2.02,2,     7.38,2,     0.01,2,   2351.7,2,   7.8720,2,20140523,0618,  40.3330, -12.2190
35PK20140515  ,OVIDE-A25  ,11      ,  1,20         ,20         ,20140523,0436,  40.3330, -12.2190,     5359,    299.9,2,  12.2290,2,  35.6750,2,  35.6750,2,    222.2,2,    224.0,2,     3.15,2,    10.58,2,     0.01,2,   2342.0,2,   7.8360,2,20140523,0616,  40.3330, -12.2190
35PK20140515  ,OVIDE-A25  ,11      ,  1,19         ,19         ,20140523,0436,  40.3330, -12.2190,     5359,    400.8,2,  11.8170,2,  35.6410,2,  35.6410,2,    214.3,2,    215.7,2,     3.85,2,    12.30,2,     0.00,2,   2340.6,2,   7.8140,2,20140523,0613,  40.3330, -12.2190
35PK20140515  ,OVIDE-A25  ,11      ,  1,18         ,18         ,20140523,0436,  40.3330, -12.2190,     5359,    500.4,2,  11.3240,2,  35.5910,2,  35.5900,2,    208.1,2,    208.9,2,     5.02,2,    13.85,2,     0.00,2,   2338.1,2,   7.8010,2,20140523,0611,  40.3330, -12.2190
35PK20140515  ,OVIDE-A25  ,11      ,  1,17         ,17         ,20140523,0436,  40.3330, -12.2190,     5359,    600.4,2,  11.1340,2,  35.6460,2,  35.6450,2,    190.8,2,    194.6,2,     6.35,2,    15.55,2,     0.00,2,   2340.8,2,   7.7840,2,20140523,0608,  40.3330, -12.2190
35PK20140515  ,OVIDE-A25  ,11      ,  1,16         ,16         ,20140523,0436,  40.3330, -12.2190,     5359,    699.5,2,  10.4490,2,  35.6410,2,  35.6420,2,    182.3,2,    183.5,2,     8.26,2,    17.38,2,     0.00,2,   2348.2,2,   7.7680,2,20140523,0606,  40.3330, -12.2190
35PK20140515  ,OVIDE-A25  ,11      ,  1,15         ,15         ,20140523,0436,  40.3330, -12.2190,     5359,    799.8,2,  10.4860,2,  35.7860,2,  35.7860,2,    180.9,2,    184.9,2,     8.68,2,    17.18,2,     0.00,2,   2359.1,2,   7.7740,2,20140523,0604,  40.3330, -12.2190
35PK20140515  ,OVIDE-A25  ,11      ,  1,14         ,14         ,20140523,0436,  40.3330, -12.2190,     5359,    999.7,2,  10.3980,2,  35.9660,2,  35.9680,2,    182.0,2,    185.9,2,     9.24,2,    16.91,2,     0.00,2,   2375.7,2,   7.7850,2,20140523,0600,  40.3330, -12.2190
35PK20140515  ,OVIDE-A25  ,11      ,  1,13         ,13         ,20140523,0436,  40.3330, -12.2190,     5359,   1198.9,2,  10.0760,2,  36.0340,2,  36.0360,2,    187.3,2,    188.4,2,     9.70,2,    16.63,2,     0.00,2,   2383.1,2,   7.7880,2,20140523,0555,  40.3330, -12.2190
35PK20140515  ,OVIDE-A25  ,11      ,  1,12         ,12         ,20140523,0436,  40.3330, -12.2190,     5359,   1400.4,2,   7.8420,2,  35.6430,2,  35.6340,4,    214.1,2,    212.8,2,    11.12,2,    17.36,2,     0.00,2,   2358.4,2,   7.7650,2,20140523,0551,  40.3330, -12.2190
35PK20140515  ,OVIDE-A25  ,11      ,  1,11         ,11         ,20140523,0436,  40.3330, -12.2190,     5359,   1600.7,2,   6.1890,2,  35.3710,2,  35.3710,2,    228.8,2,    231.3,2,    12.43,2,    17.96,2,     0.00,2,   2336.7,2,   7.7500,2,20140523,0547,  40.3330, -12.2190
35PK20140515  ,OVIDE-A25  ,11      ,  1,10         ,10         ,20140523,0436,  40.3330, -12.2190,     5359,   1800.3,2,   4.8800,2,  35.1740,2,  35.1750,2,    244.5,2,    245.2,2,    14.57,2,    18.17,2,     0.00,2,   2327.5,2,   7.7460,2,20140523,0542,  40.3330, -12.2190
35PK20140515  ,OVIDE-A25  ,11      ,  1,9          ,9          ,20140523,0436,  40.3330, -12.2190,     5359,   1999.1,2,   4.1770,2,  35.0760,2,  35.0760,2,    250.4,2,    252.1,2,    16.88,2,    18.58,2,     0.00,2,   2322.1,2,   7.7400,2,20140523,0538,  40.3330, -12.2190
35PK20140515  ,OVIDE-A25  ,11      ,  1,8          ,8          ,20140523,0436,  40.3330, -12.2190,     5359,   2250.4,2,   3.7370,2,  35.0380,2,  35.0380,2,    247.5,2,    250.3,2,    21.79,2,    19.32,2,     0.00,2,   2325.7,2,   7.7440,2,20140523,0533,  40.3330, -12.2190
35PK20140515  ,OVIDE-A25  ,11      ,  1,7          ,7          ,20140523,0436,  40.3330, -12.2190,     5359,   2499.5,2,   3.3990,2,  35.0040,2,  35.0040,2,    247.4,2,    249.5,2,    25.53,2,    19.86,2,     0.00,2,   2326.3,2,   7.7470,2,20140523,0528,  40.3330, -12.2190
35PK20140515  ,OVIDE-A25  ,11      ,  1,6          ,6          ,20140523,0436,  40.3330, -12.2190,     5359,   2999.2,2,   2.8560,2,  34.9520,2,  34.9510,2,    244.1,2,    246.1,2,    34.32,2,    20.99,2,     0.00,2,   2335.1,2,   7.7450,2,20140523,0519,  40.3330, -12.2190
35PK20140515  ,OVIDE-A25  ,11      ,  1,5          ,5          ,20140523,0436,  40.3330, -12.2190,     5359,   3500.2,2,   2.6200,2,  34.9270,2,  34.9410,4,    242.7,2,    244.8,2,    38.21,2,    21.51,2,     0.00,2,   2348.5,2,   7.7440,2,20140523,0510,  40.3330, -12.2190
35PK20140515  ,OVIDE-A25  ,11      ,  1,4          ,4          ,20140523,0436,  40.3330, -12.2190,     5359,   3999.4,2,   2.5180,2,  34.9110,2,  34.9090,2,    242.1,2,    244.2,2,    43.03,2,    22.15,2,     0.00,2,   2349.8,2,   7.7440,2,20140523,0501,  40.3330, -12.2190
35PK20140515  ,OVIDE-A25  ,11      ,  1,3          ,3          ,20140523,0436,  40.3330, -12.2190,     5359,   4501.4,2,   2.4870,2,  34.9020,2,  34.9030,2,    242.6,2,    244.4,2,    45.02,2,    22.36,2,     0.00,2,   2352.1,2,   7.7440,2,20140523,0452,  40.3330, -12.2190
35PK20140515  ,OVIDE-A25  ,11      ,  1,2          ,2          ,20140523,0436,  40.3330, -12.2190,     5359,   4999.9,2,   2.5160,2,  34.8990,2,  34.9060,4,    243.2,2,    244.4,2,    44.98,2,    22.39,2,     0.00,2,   2349.3,2,   7.7460,2,20140523,0443,  40.3330, -12.2190
35PK20140515  ,OVIDE-A25  ,11      ,  1,1          ,1          ,20140523,0436,  40.3330, -12.2190,     5359,   5349.1,2,   2.5570,2,  34.8980,2,  34.8990,2,    243.9,2,    245.8,2,    45.57,2,    22.48,2,     0.00,2,   2348.5,2,   7.7450,2,20140523,0436,  40.3330, -12.2190
35PK20140515  ,OVIDE-A25  ,12      ,  1,24         ,24         ,20140523,1920,  40.7870, -13.1000,     5441,      5.2,2,  15.6370,2,  35.7850,2,  35.7860,2,    256.0,2,    254.9,2,     0.39,2,     0.06,2,     0.00,2,   2354.7,2,   7.9730,2,20140523,2117,  40.7870, -13.1000
35PK20140515  ,OVIDE-A25  ,12      ,  1,23         ,23         ,20140523,1920,  40.7870, -13.1000,     5441,     65.7,2,  13.5950,2,  35.8440,2,  35.8390,4,    243.0,2,    243.0,2,     1.52,2,     5.52,2,     0.04,2,   2355.0,2,   7.8950,2,20140523,2113,  40.7870, -13.1000
35PK20140515  ,OVIDE-A25  ,12      ,  1,22         ,22         ,20140523,1920,  40.7870, -13.1000,     5441,    101.1,2,  13.2580,2,  35.7980,2,  35.7970,2,    239.8,2,    240.0,2,     1.79,2,     6.52,2,     0.02,2,   2352.2,2,   7.8830,2,20140523,2111,  40.7870, -13.1000
35PK20140515  ,OVIDE-A25  ,12      ,  1,21         ,21         ,20140523,1920,  40.7870, -13.1000,     5441,    200.5,2,  12.5410,2,  35.7000,2,  35.7010,2,    248.0,2,    248.2,2,     2.08,2,     7.60,2,     0.02,2,   2345.9,2,   7.8710,2,20140523,2108,  40.7870, -13.1000
35PK20140515  ,OVIDE-A25  ,12      ,  1,20         ,20         ,20140523,1920,  40.7870, -13.1000,     5441,    300.7,2,  12.1780,2,  35.6600,2,  35.6600,2,    243.4,2,    245.1,2,     2.41,2,     8.63,2,     0.01,2,   2342.5,2,   7.8560,2,20140523,2105,  40.7870, -13.1000
35PK20140515  ,OVIDE-A25  ,12      ,  1,19         ,19         ,20140523,1920,  40.7870, -13.1000,     5441,    400.0,2,  11.8190,2,  35.6270,2,  35.6290,2,    234.0,2,    231.7,2,     3.17,2,    10.66,2,     0.02,2,   2339.8,2,   7.8320,2,20140523,2103,  40.7870, -13.1000
35PK20140515  ,OVIDE-A25  ,12      ,  1,18         ,18         ,20140523,1920,  40.7870, -13.1000,     5441,    500.9,2,  11.4840,2,  35.6030,2,  35.6040,2,    221.4,2,    222.5,2,     3.93,2,    12.26,2,     0.02,2,   2338.9,2,   7.8140,2,20140523,2100,  40.7870, -13.1000
35PK20140515  ,OVIDE-A25  ,12      ,  1,17         ,17         ,20140523,1920,  40.7870, -13.1000,     5441,    600.1,2,  11.2620,2,  35.6330,2,     -999,9,    198.4,2,     -999,9,     -999,9,     -999,9,     -999,9,     -999,9,   7.7870,2,20140523,2057,  40.7870, -13.1000
35PK20140515  ,OVIDE-A25  ,12      ,  1,16         ,16         ,20140523,1920,  40.7870, -13.1000,     5441,    698.7,2,  10.7060,2,  35.6180,2,  35.6190,2,    184.6,2,    185.5,2,     7.69,2,    17.11,2,     0.02,2,   2346.0,2,   7.7700,2,20140523,2055,  40.7870, -13.1000
35PK20140515  ,OVIDE-A25  ,12      ,  1,15         ,15         ,20140523,1920,  40.7870, -13.1000,     5441,    800.9,2,  11.0040,2,  35.8390,2,  35.8380,2,    181.5,2,    182.8,2,     7.83,2,    16.69,2,     0.01,2,   2361.8,2,   7.7830,2,20140523,2052,  40.7870, -13.1000
35PK20140515  ,OVIDE-A25  ,12      ,  1,14         ,14         ,20140523,1920,  40.7870, -13.1000,     5441,    999.6,2,  10.9910,2,  36.0460,2,  36.0470,2,    178.8,2,    179.8,2,     8.71,2,    16.68,2,     0.02,2,   2379.8,2,   7.7920,2,20140523,2047,  40.7870, -13.1000
35PK20140515  ,OVIDE-A25  ,12      ,  1,13         ,13         ,20140523,1920,  40.7870, -13.1000,     5441,   1199.8,2,  10.3250,2,  36.0450,2,  36.0450,2,    184.8,2,    186.0,2,     9.43,2,    16.90,2,     0.02,2,   2382.7,2,   7.7880,2,20140523,2043,  40.7870, -13.1000
35PK20140515  ,OVIDE-A25  ,12      ,  1,12         ,12         ,20140523,1920,  40.7870, -13.1000,     5441,   1399.6,2,   8.1650,2,  35.6810,2,  35.6790,2,    208.2,2,    208.1,2,    10.81,2,    17.74,2,     0.01,2,   2359.0,2,   7.7660,2,20140523,2039,  40.7870, -13.1000
35PK20140515  ,OVIDE-A25  ,12      ,  1,11         ,11         ,20140523,1920,  40.7870, -13.1000,     5441,   1601.1,2,   5.9640,2,  35.3160,2,  35.3180,2,    233.4,2,    233.3,2,    11.94,2,    18.31,2,     0.01,2,   2334.6,2,   7.7450,2,20140523,2034,  40.7870, -13.1000
35PK20140515  ,OVIDE-A25  ,12      ,  1,10         ,10         ,20140523,1920,  40.7870, -13.1000,     5441,   1799.9,2,   4.8980,2,  35.1640,2,  35.1640,2,    245.5,2,    245.7,2,    13.85,2,    18.53,2,     0.01,2,   2326.3,2,   7.7420,2,20140523,2029,  40.7870, -13.1000
35PK20140515  ,OVIDE-A25  ,12      ,  1,9          ,9          ,20140523,1920,  40.7870, -13.1000,     5441,   1999.1,2,   3.9750,2,  35.0300,2,  35.0290,2,    257.0,2,    257.1,2,    15.19,2,    18.70,2,     0.01,2,   2319.2,2,   7.7390,2,20140523,2024,  40.7870, -13.1000
35PK20140515  ,OVIDE-A25  ,12      ,  1,8          ,8          ,20140523,1920,  40.7870, -13.1000,     5441,   2251.2,2,   3.5550,2,  34.9930,2,  34.9930,2,    255.8,2,    257.2,2,    18.98,2,    19.20,2,     0.01,2,     -999,9,   7.7420,2,20140523,2019,  40.7870, -13.1000
35PK20140515  ,OVIDE-A25  ,12      ,  1,7          ,7          ,20140523,1920,  40.7870, -13.1000,     5441,   2500.6,2,   3.3390,2,  34.9900,2,  34.9900,2,    250.3,2,    252.0,2,    24.17,2,    20.14,2,     0.00,2,   2328.1,2,   7.7460,2,20140523,2014,  40.7870, -13.1000
35PK20140515  ,OVIDE-A25  ,12      ,  1,6          ,6          ,20140523,1920,  40.7870, -13.1000,     5441,   2999.1,2,   2.8540,2,  34.9500,2,  34.9490,2,    246.3,2,    248.2,2,    32.52,2,    21.15,2,     0.00,2,   2338.0,2,   7.7450,2,20140523,2005,  40.7870, -13.1000
35PK20140515  ,OVIDE-A25  ,12      ,  1,5          ,5          ,20140523,1920,  40.7870, -13.1000,     5441,   3500.3,2,   2.6580,2,  34.9290,2,  34.9270,2,    243.7,2,    246.2,2,    37.57,2,    21.86,2,     0.00,2,   2344.4,2,   7.7440,2,20140523,1956,  40.7870, -13.1000
35PK20140515  ,OVIDE-A25  ,12      ,  1,4          ,4          ,20140523,1920,  40.7870, -13.1000,     5441,   4000.9,2,   2.5380,2,  34.9130,2,  34.9130,2,    242.4,2,    243.9,2,    42.01,2,    22.49,2,     0.00,2,   2350.2,2,   7.7450,2,20140523,1946,  40.7870, -13.1000
35PK20140515  ,OVIDE-A25  ,12      ,  1,3          ,3          ,20140523,1920,  40.7870, -13.1000,     5441,   4499.3,2,   2.4820,2,  34.9020,2,  34.9010,2,    242.7,2,    243.5,2,    44.65,2,    22.90,2,     0.00,2,   2352.9,2,   7.7440,2,20140523,1937,  40.7870, -13.1000
35PK20140515  ,OVIDE-A25  ,12      ,  1,2          ,2          ,20140523,1920,  40.7870, -13.1000,     5441,   5000.7,2,   2.5130,2,  34.8980,2,  34.8970,2,    243.1,2,    243.5,2,    45.47,2,    22.95,2,     0.00,2,   2354.1,2,   7.7450,2,20140523,1928,  40.7870, -13.1000
35PK20140515  ,OVIDE-A25  ,12      ,  1,1          ,1          ,20140523,1920,  40.7870, -13.1000,     5441,   5431.4,2,   2.5610,2,  34.8970,2,  34.8950,2,    244.3,2,    244.4,2,    45.46,2,    22.92,2,     0.00,2,   2354.5,2,   7.7440,2,20140523,1920,  40.7870, -13.1000