BOTTLE,20240403CCHHYDRO
EXPOCODE,SECT_ID,STNNBR,CASTNO,SAMPNO,BTLNBR,DATE,TIME,LATITUDE,LONGITUDE,DEPTH,CTDPRS,CTDPRS_FLAG_W,CTDTMP,CTDTMP_FLAG_W,CTDSAL,CTDSAL_FLAG_W,SALNTY,SALNTY_FLAG_W,CTDOXY,CTDOXY_FLAG_W,OXYGEN,OXYGEN_FLAG_W,SILCAT,SILCAT_FLAG_W,NITRAT,NITRAT_FLAG_W,NITRIT,NITRIT_FLAG_W,ALKALI,ALKALI_FLAG_W,PH_TOT,PH_TOT_FLAG_W,BTL_DATE,BTL_TIME,BTL_LAT,BTL_LON
,,,,,,,,,,METERS,DBAR,,ITS-90,,PSS-78,,PSS-78,,UMOL/KG,,UMOL/KG,,UMOL/KG,,UMOL/KG,,UMOL/KG,,UMOL/KG,,,,,,,
35PK20140515  ,OVIDE-A25  ,69      ,  1,24         ,24         ,20140622,0554,  55.8420, -48.0930,     3688,      4.2,2,   6.7160,2,  34.5250,2,  34.5290,2,    323.1,2,    322.0,2,     3.48,2,     0.08,2,     0.00,2,   2298.7,2,   7.9460,2,20140622,0725,  55.8420, -48.0930
35PK20140515  ,OVIDE-A25  ,69      ,  1,23         ,23         ,20140622,0554,  55.8420, -48.0930,     3688,     50.4,2,   3.6560,2,  34.7500,2,  34.7470,2,    300.1,2,    299.7,2,     6.87,2,    11.53,2,     0.30,2,     -999,9,   7.7250,2,20140622,0723,  55.8420, -48.0930
35PK20140515  ,OVIDE-A25  ,69      ,  1,22         ,22         ,20140622,0554,  55.8420, -48.0930,     3688,     99.3,2,   3.8590,2,  34.8320,2,  34.8320,2,    297.4,2,    296.5,2,     7.20,2,    15.00,2,     0.31,2,   2299.1,2,   7.7200,2,20140622,0721,  55.8420, -48.0930
35PK20140515  ,OVIDE-A25  ,69      ,  1,21         ,21         ,20140622,0554,  55.8420, -48.0930,     3688,    150.0,2,   3.8080,2,  34.8470,2,  34.8470,2,    295.9,2,    294.6,2,     7.56,2,    15.29,2,     0.15,2,     -999,9,   7.7170,2,20140622,0719,  55.8420, -48.0930
35PK20140515  ,OVIDE-A25  ,69      ,  1,20         ,20         ,20140622,0554,  55.8420, -48.0930,     3688,    200.2,2,   3.5160,2,  34.8310,2,  34.8310,2,    299.9,2,    299.2,2,     7.78,2,    15.51,2,     0.13,2,   2298.5,2,   7.7150,2,20140622,0717,  55.8420, -48.0930
35PK20140515  ,OVIDE-A25  ,69      ,  1,19         ,19         ,20140622,0554,  55.8420, -48.0930,     3688,    299.8,2,   3.5450,2,  34.8480,2,  34.8470,2,    297.1,2,    296.1,2,     7.87,2,    15.72,2,     0.03,2,     -999,9,   7.7150,2,20140622,0714,  55.8420, -48.0930
35PK20140515  ,OVIDE-A25  ,69      ,  1,18         ,18         ,20140622,0554,  55.8420, -48.0930,     3688,    399.9,2,   3.5110,2,  34.8500,2,  34.8480,2,    297.3,2,    296.9,2,     7.92,2,    15.94,2,     0.02,2,   2300.0,2,   7.7170,2,20140622,0711,  55.8420, -48.0930
35PK20140515  ,OVIDE-A25  ,69      ,  1,17         ,17         ,20140622,0554,  55.8420, -48.0930,     3688,    499.7,2,   3.5070,2,  34.8540,2,  34.8530,2,    297.3,2,    296.2,2,     7.91,2,    15.62,2,     0.02,2,     -999,9,   7.7160,2,20140622,0709,  55.8420, -48.0930
35PK20140515  ,OVIDE-A25  ,69      ,  1,16         ,16         ,20140622,0554,  55.8420, -48.0930,     3688,    600.7,2,   3.4880,2,  34.8530,2,  34.8530,2,    297.3,2,    296.5,2,     7.86,2,    15.66,2,     0.01,2,   2300.6,2,   7.7170,2,20140622,0706,  55.8420, -48.0930
35PK20140515  ,OVIDE-A25  ,69      ,  1,15         ,15         ,20140622,0554,  55.8420, -48.0930,     3688,    800.9,2,   3.4720,2,  34.8540,2,  34.8530,2,    296.6,2,    296.2,2,     8.00,2,    15.84,2,     0.01,2,   2300.7,2,   7.7160,2,20140622,0701,  55.8420, -48.0930
35PK20140515  ,OVIDE-A25  ,69      ,  1,14         ,14         ,20140622,0554,  55.8420, -48.0930,     3688,   1000.1,2,   3.4530,2,  34.8530,2,  34.8520,2,    296.6,2,    295.8,2,     8.14,2,    15.84,2,     0.01,2,   2301.4,2,   7.7160,2,20140622,0657,  55.8420, -48.0930
35PK20140515  ,OVIDE-A25  ,69      ,  1,13         ,13         ,20140622,0554,  55.8420, -48.0930,     3688,   1200.1,2,   3.4760,2,  34.8560,2,  34.8560,2,    295.8,2,    295.3,2,     8.05,2,    15.81,2,     0.00,2,   2300.7,2,   7.7170,2,20140622,0652,  55.8420, -48.0930
35PK20140515  ,OVIDE-A25  ,69      ,  1,12         ,12         ,20140622,0554,  55.8420, -48.0930,     3688,   1400.3,2,   3.4790,2,  34.8600,2,  34.8590,2,    295.0,2,    295.2,2,     8.60,2,    15.75,2,     0.01,2,     -999,9,   7.7160,2,20140622,0648,  55.8420, -48.0930
35PK20140515  ,OVIDE-A25  ,69      ,  1,11         ,11         ,20140622,0554,  55.8420, -48.0930,     3688,   1599.8,2,   3.6170,2,  34.8880,2,  34.8880,2,    286.0,2,    286.2,2,     8.92,2,    16.37,2,     0.00,2,   2302.4,2,   7.7170,2,20140622,0643,  55.8420, -48.0930
35PK20140515  ,OVIDE-A25  ,69      ,  1,10         ,10         ,20140622,0554,  55.8420, -48.0930,     3688,   1799.6,2,   3.6720,2,  34.9230,2,  34.9240,2,    273.4,2,    274.1,2,    10.36,2,    16.90,2,     0.00,2,     -999,9,   7.7210,2,20140622,0639,  55.8420, -48.0930
35PK20140515  ,OVIDE-A25  ,69      ,  1,9          ,9          ,20140622,0554,  55.8420, -48.0930,     3688,   2000.0,2,   3.5100,2,  34.9260,2,  34.9260,2,    275.0,2,    275.2,2,    10.57,2,    16.69,2,     0.00,2,   2305.1,2,   7.7240,2,20140622,0634,  55.8420, -48.0930
35PK20140515  ,OVIDE-A25  ,69      ,  1,8          ,8          ,20140622,0554,  55.8420, -48.0930,     3688,   2249.6,2,   3.2950,2,  34.9210,2,  34.9220,2,    276.0,2,    276.3,2,    11.27,2,    16.76,2,     0.00,2,     -999,9,   7.7290,2,20140622,0629,  55.8420, -48.0930
35PK20140515  ,OVIDE-A25  ,69      ,  1,7          ,7          ,20140622,0554,  55.8420, -48.0930,     3688,   2500.0,2,   3.1160,2,  34.9220,2,  34.9210,2,    278.1,2,    278.4,2,    11.37,2,    16.46,2,     0.00,2,   2306.2,2,   7.7290,2,20140622,0623,  55.8420, -48.0930
35PK20140515  ,OVIDE-A25  ,69      ,  1,6          ,6          ,20140622,0554,  55.8420, -48.0930,     3688,   2725.4,2,   2.9530,2,  34.9240,2,  34.9240,2,    278.1,2,    278.1,2,    12.22,2,    16.41,2,     0.00,2,     -999,9,   7.7290,2,20140622,0619,  55.8420, -48.0930
35PK20140515  ,OVIDE-A25  ,69      ,  1,5          ,5          ,20140622,0554,  55.8420, -48.0930,     3688,   2999.0,2,   2.7630,2,  34.9240,2,  34.9240,2,    279.6,2,    279.8,2,    12.90,2,    16.22,2,     0.00,2,   2308.7,2,   7.7300,2,20140622,0613,  55.8420, -48.0930
35PK20140515  ,OVIDE-A25  ,69      ,  1,4          ,4          ,20140622,0554,  55.8420, -48.0930,     3688,   3248.9,2,   2.5030,2,  34.9150,2,  34.9140,2,    282.4,2,    281.8,2,    13.69,2,    16.00,2,     0.00,2,     -999,9,   7.7280,2,20140622,0607,  55.8420, -48.0930
35PK20140515  ,OVIDE-A25  ,69      ,  1,3          ,3          ,20140622,0554,  55.8420, -48.0930,     3688,   3499.9,2,   2.1650,2,  34.9070,2,  34.9060,2,    291.2,2,    290.4,2,    11.21,2,    15.02,2,     0.00,2,   2305.9,2,   7.7220,2,20140622,0602,  55.8420, -48.0930
35PK20140515  ,OVIDE-A25  ,69      ,  1,2          ,2          ,20140622,0554,  55.8420, -48.0930,     3688,   3700.6,2,   1.6670,2,  34.9050,2,  34.9030,2,    301.9,2,    301.7,2,     8.21,2,    14.00,2,     0.01,2,     -999,9,   7.7140,2,20140622,0557,  55.8420, -48.0930
35PK20140515  ,OVIDE-A25  ,69      ,  1,1          ,1          ,20140622,0554,  55.8420, -48.0930,     3688,   3745.3,2,   1.6330,2,  34.9050,2,  34.9050,2,    301.5,2,    300.3,2,     8.69,2,    14.03,2,     0.00,2,   2304.3,2,   7.7140,2,20140622,0554,  55.8420, -48.0930
35PK20140515  ,OVIDE-A25  ,70      ,  1,24         ,24         ,20140624,0323,  54.7670, -48.7630,     3716,      4.1,2,   6.7870,2,  34.7290,2,  34.7300,2,    325.0,2,    324.7,2,     3.73,2,     4.06,2,     0.31,2,   2302.7,2,   7.8870,2,20140624,0452,  54.7670, -48.7630
35PK20140515  ,OVIDE-A25  ,70      ,  1,23         ,23         ,20140624,0323,  54.7670, -48.7630,     3716,     39.4,2,   5.5690,2,  34.7630,2,  34.7620,2,    318.1,2,    319.1,2,     6.09,2,     7.05,2,     0.49,2,     -999,9,   7.8250,2,20140624,0449,  54.7670, -48.7630
35PK20140515  ,OVIDE-A25  ,70      ,  1,22         ,22         ,20140624,0323,  54.7670, -48.7630,     3716,     99.7,2,   3.5870,2,  34.7990,2,  34.8000,2,    307.0,2,    308.7,2,     7.84,2,    14.56,2,     0.20,2,   2295.9,2,   7.7090,2,20140624,0447,  54.7670, -48.7630
35PK20140515  ,OVIDE-A25  ,70      ,  1,21         ,21         ,20140624,0323,  54.7670, -48.7630,     3716,    149.1,2,   3.5410,2,  34.8180,2,  34.8220,2,    301.2,2,    302.0,2,     7.90,2,    15.35,2,     -999,9,     -999,9,   7.7080,2,20140624,0445,  54.7670, -48.7630
35PK20140515  ,OVIDE-A25  ,70      ,  1,20         ,20         ,20140624,0323,  54.7670, -48.7630,     3716,    200.2,2,   3.5270,2,  34.8330,2,  34.8320,2,    298.2,2,    298.2,2,     8.09,2,    15.63,2,     0.10,2,   2296.7,2,   7.7110,2,20140624,0443,  54.7670, -48.7630
35PK20140515  ,OVIDE-A25  ,70      ,  1,19         ,19         ,20140624,0323,  54.7670, -48.7630,     3716,    299.9,2,   3.5100,2,  34.8410,2,  34.8410,2,    298.0,2,    299.5,2,     8.07,2,    15.61,2,     0.03,2,     -999,9,   7.7090,2,20140624,0441,  54.7670, -48.7630
35PK20140515  ,OVIDE-A25  ,70      ,  1,18         ,18         ,20140624,0323,  54.7670, -48.7630,     3716,    399.2,2,   3.5350,2,  34.8510,2,  34.8500,2,    296.1,2,    297.4,2,     8.25,2,    15.92,2,     0.01,2,   2298.3,2,   7.7110,2,20140624,0438,  54.7670, -48.7630
35PK20140515  ,OVIDE-A25  ,70      ,  1,17         ,17         ,20140624,0323,  54.7670, -48.7630,     3716,    499.2,2,   3.5360,2,  34.8530,2,  34.8530,2,    295.3,2,    295.6,2,     8.28,2,    15.77,2,     0.05,2,     -999,9,   7.7130,2,20140624,0436,  54.7670, -48.7630
35PK20140515  ,OVIDE-A25  ,70      ,  1,16         ,16         ,20140624,0323,  54.7670, -48.7630,     3716,    600.1,2,   3.5240,2,  34.8550,2,  34.8540,2,    295.7,2,    295.9,2,     8.27,2,    15.82,2,     0.01,2,   2301.1,2,   7.7160,2,20140624,0433,  54.7670, -48.7630
35PK20140515  ,OVIDE-A25  ,70      ,  1,15         ,15         ,20140624,0323,  54.7670, -48.7630,     3716,    699.0,2,   3.5090,2,  34.8540,2,  34.8540,2,    296.2,2,    296.4,2,     8.41,2,    15.93,2,     0.02,2,     -999,9,   7.7190,2,20140624,0430,  54.7670, -48.7630
35PK20140515  ,OVIDE-A25  ,70      ,  1,14         ,14         ,20140624,0323,  54.7670, -48.7630,     3716,    800.0,2,   3.5060,2,  34.8550,2,  34.8560,2,    296.3,2,    297.2,2,     8.35,2,    15.83,2,     0.01,2,   2297.7,2,   7.7200,2,20140624,0427,  54.7670, -48.7630
35PK20140515  ,OVIDE-A25  ,70      ,  1,13         ,13         ,20140624,0323,  54.7670, -48.7630,     3716,    900.2,2,   3.5290,2,  34.8570,2,  34.8580,2,    294.6,2,    295.9,2,     8.42,2,    15.96,2,     0.00,2,     -999,9,   7.7200,2,20140624,0424,  54.7670, -48.7630
35PK20140515  ,OVIDE-A25  ,70      ,  1,12         ,12         ,20140624,0323,  54.7670, -48.7630,     3716,    999.7,2,   3.5560,2,  34.8640,2,  34.8640,2,    293.6,2,    293.6,2,     8.47,2,    16.03,2,     0.01,2,   2298.8,2,   7.7190,2,20140624,0422,  54.7670, -48.7630
35PK20140515  ,OVIDE-A25  ,70      ,  1,11         ,11         ,20140624,0323,  54.7670, -48.7630,     3716,   1199.9,2,   3.6240,2,  34.8960,2,  34.8900,4,    285.6,2,    286.8,2,     9.05,2,    16.33,2,     0.00,2,   2298.4,2,   7.7210,2,20140624,0417,  54.7670, -48.7630
35PK20140515  ,OVIDE-A25  ,70      ,  1,10         ,10         ,20140624,0323,  54.7670, -48.7630,     3716,   1399.4,2,   3.7220,2,  34.9140,2,  34.9160,2,    275.3,2,    275.9,2,    10.19,2,    16.85,2,     0.01,2,   2301.6,2,   7.7210,2,20140624,0413,  54.7670, -48.7630
35PK20140515  ,OVIDE-A25  ,70      ,  1,9          ,9          ,20140624,0323,  54.7670, -48.7630,     3716,   1600.3,2,   3.6340,2,  34.9220,2,  34.9220,2,    273.2,2,    274.0,2,    10.67,2,    16.94,2,     0.00,2,   2301.5,2,   7.7250,2,20140624,0409,  54.7670, -48.7630
35PK20140515  ,OVIDE-A25  ,70      ,  1,8          ,8          ,20140624,0323,  54.7670, -48.7630,     3716,   1800.7,2,   3.5080,2,  34.9230,2,  34.9220,2,    273.7,2,    275.4,2,    11.06,2,    16.90,2,     0.01,2,   2302.3,2,   7.7260,2,20140624,0404,  54.7670, -48.7630
35PK20140515  ,OVIDE-A25  ,70      ,  1,7          ,7          ,20140624,0323,  54.7670, -48.7630,     3716,   1999.6,2,   3.3630,2,  34.9210,2,  34.9200,2,    275.2,2,    275.9,2,    11.43,2,    16.87,2,     0.00,2,   2303.3,2,   7.7300,2,20140624,0400,  54.7670, -48.7630
35PK20140515  ,OVIDE-A25  ,70      ,  1,6          ,6          ,20140624,0323,  54.7670, -48.7630,     3716,   2249.7,2,   3.2050,2,  34.9210,2,  34.9200,2,    276.5,2,    277.2,2,    11.79,2,    16.57,2,     0.00,2,     -999,9,   7.7330,2,20140624,0355,  54.7670, -48.7630
35PK20140515  ,OVIDE-A25  ,70      ,  1,5          ,5          ,20140624,0323,  54.7670, -48.7630,     3716,   2500.3,2,   3.0410,2,  34.9240,2,  34.9360,4,    277.1,2,    278.4,2,    12.40,2,    16.49,2,     0.00,2,   2304.9,2,   7.7340,2,20140624,0349,  54.7670, -48.7630
35PK20140515  ,OVIDE-A25  ,70      ,  1,4          ,4          ,20140624,0323,  54.7670, -48.7630,     3716,   3000.1,2,   2.8030,2,  34.9360,2,  34.9220,4,    276.3,2,    277.1,2,    14.56,2,    16.46,2,     0.00,2,   2307.2,2,   7.7330,2,20140624,0340,  54.7670, -48.7630
35PK20140515  ,OVIDE-A25  ,70      ,  1,3          ,3          ,20140624,0323,  54.7670, -48.7630,     3716,   3250.8,2,   2.5320,2,  34.9150,2,  34.9140,2,    281.9,2,    281.8,2,    14.16,2,    16.04,2,     0.00,2,     -999,9,   7.7330,2,20140624,0334,  54.7670, -48.7630
35PK20140515  ,OVIDE-A25  ,70      ,  1,2          ,2          ,20140624,0323,  54.7670, -48.7630,     3716,   3500.3,2,   2.2410,2,  34.9070,2,  34.9060,2,    287.5,2,    288.4,2,    12.95,2,    15.38,2,     0.00,2,     -999,9,   7.7280,2,20140624,0329,  54.7670, -48.7630
35PK20140515  ,OVIDE-A25  ,70      ,  1,1          ,1          ,20140624,0323,  54.7670, -48.7630,     3716,   3773.4,2,   1.8770,2,  34.9040,2,  34.9040,2,    296.6,2,    297.4,2,    10.22,2,    14.34,2,     0.01,2,   2303.5,2,   7.7200,2,20140624,0323,  54.7670, -48.7630