BOTTLE,20240403CCHHYDRO
EXPOCODE,SECT_ID,STNNBR,CASTNO,SAMPNO,BTLNBR,DATE,TIME,LATITUDE,LONGITUDE,DEPTH,CTDPRS,CTDPRS_FLAG_W,CTDTMP,CTDTMP_FLAG_W,CTDSAL,CTDSAL_FLAG_W,SALNTY,SALNTY_FLAG_W,CTDOXY,CTDOXY_FLAG_W,OXYGEN,OXYGEN_FLAG_W,SILCAT,SILCAT_FLAG_W,NITRAT,NITRAT_FLAG_W,NITRIT,NITRIT_FLAG_W,ALKALI,ALKALI_FLAG_W,PH_TOT,PH_TOT_FLAG_W,BTL_DATE,BTL_TIME,BTL_LAT,BTL_LON
,,,,,,,,,,METERS,DBAR,,ITS-90,,PSS-78,,PSS-78,,UMOL/KG,,UMOL/KG,,UMOL/KG,,UMOL/KG,,UMOL/KG,,UMOL/KG,,,,,,,
35PK20140515  ,OVIDE-A25  ,67      ,  1,24         ,24         ,20140621,1051,  57.5770, -47.0120,     2894,      5.4,2,   6.5060,2,  34.7060,2,  34.7050,2,    332.8,2,    330.9,2,     5.36,2,     0.90,2,     0.04,2,   2305.7,2,   7.9380,2,20140621,1207,  57.5770, -47.0120
35PK20140515  ,OVIDE-A25  ,67      ,  1,23         ,23         ,20140621,1051,  57.5770, -47.0120,     2894,     39.2,2,   4.4600,2,  34.7760,2,  34.7760,2,    308.0,2,    306.2,2,     6.94,2,    10.78,2,     0.16,2,     -999,9,   7.7560,2,20140621,1206,  57.5770, -47.0120
35PK20140515  ,OVIDE-A25  ,67      ,  1,22         ,22         ,20140621,1051,  57.5770, -47.0120,     2894,    100.3,2,   4.4770,2,  34.8600,2,  34.8620,2,    302.7,2,    300.6,2,     7.27,2,    13.68,2,     0.25,2,   2302.3,2,   7.7290,2,20140621,1203,  57.5770, -47.0120
35PK20140515  ,OVIDE-A25  ,67      ,  1,21         ,21         ,20140621,1051,  57.5770, -47.0120,     2894,    150.1,2,   4.4790,2,  34.8910,2,  34.8910,2,    296.7,2,    296.2,2,     7.21,2,    14.72,2,     0.24,2,     -999,9,   7.7260,2,20140621,1201,  57.5770, -47.0120
35PK20140515  ,OVIDE-A25  ,67      ,  1,20         ,20         ,20140621,1051,  57.5770, -47.0120,     2894,    200.0,2,   4.2800,2,  34.8950,2,  34.8960,2,    295.4,2,    294.2,2,     7.37,2,    15.28,2,     0.06,2,   2301.4,2,   7.7200,2,20140621,1159,  57.5770, -47.0120
35PK20140515  ,OVIDE-A25  ,67      ,  1,19         ,19         ,20140621,1051,  57.5770, -47.0120,     2894,    299.0,2,   4.1420,2,  34.9070,2,  34.9060,2,    296.9,2,    295.2,2,     7.66,2,    15.52,2,     0.03,2,     -999,9,   7.7130,2,20140621,1157,  57.5770, -47.0120
35PK20140515  ,OVIDE-A25  ,67      ,  1,18         ,18         ,20140621,1051,  57.5770, -47.0120,     2894,    400.5,2,   3.8260,2,  34.8770,2,  34.8770,2,    296.1,2,    295.5,2,     7.75,2,    15.61,2,     0.03,2,   2301.3,2,   7.7180,2,20140621,1154,  57.5770, -47.0120
35PK20140515  ,OVIDE-A25  ,67      ,  1,17         ,17         ,20140621,1051,  57.5770, -47.0120,     2894,    500.3,2,   3.7820,2,  34.8810,2,  34.8810,2,    296.2,2,    294.7,2,     7.93,2,    15.56,2,     0.01,2,     -999,9,   7.7200,2,20140621,1152,  57.5770, -47.0120
35PK20140515  ,OVIDE-A25  ,67      ,  1,16         ,16         ,20140621,1051,  57.5770, -47.0120,     2894,    600.7,2,   3.6680,2,  34.8700,2,  34.8700,2,    296.1,2,    296.1,2,     7.98,2,    15.64,2,     0.01,2,   2300.1,2,   7.7170,2,20140621,1149,  57.5770, -47.0120
35PK20140515  ,OVIDE-A25  ,67      ,  1,15         ,15         ,20140621,1051,  57.5770, -47.0120,     2894,    700.1,2,   3.6630,2,  34.8720,2,  34.8720,2,    294.2,2,    293.5,2,     8.06,2,    15.78,2,     0.00,2,     -999,9,   7.7160,2,20140621,1146,  57.5770, -47.0120
35PK20140515  ,OVIDE-A25  ,67      ,  1,14         ,14         ,20140621,1051,  57.5770, -47.0120,     2894,    800.1,2,   3.5870,2,  34.8660,2,  34.8650,2,    293.2,2,    292.0,2,     8.12,2,    15.79,2,     0.00,2,   2299.9,2,   7.7170,2,20140621,1143,  57.5770, -47.0120
35PK20140515  ,OVIDE-A25  ,67      ,  1,13         ,13         ,20140621,1051,  57.5770, -47.0120,     2894,    900.1,2,   3.5920,2,  34.8700,2,  34.8700,2,    291.6,2,    291.3,2,     8.25,2,    15.86,2,     0.00,2,     -999,9,   7.7170,2,20140621,1140,  57.5770, -47.0120
35PK20140515  ,OVIDE-A25  ,67      ,  1,12         ,12         ,20140621,1051,  57.5770, -47.0120,     2894,   1000.0,2,   3.6540,2,  34.8840,2,  34.8840,2,    287.0,2,    286.6,2,     8.61,2,    15.95,2,     0.00,2,   2301.8,2,   7.7190,2,20140621,1138,  57.5770, -47.0120
35PK20140515  ,OVIDE-A25  ,67      ,  1,11         ,11         ,20140621,1051,  57.5770, -47.0120,     2894,   1100.8,2,   3.6690,2,  34.8900,2,  34.8900,2,    285.6,2,    286.0,2,     8.84,2,    16.13,2,     0.00,2,     -999,9,   7.7200,2,20140621,1135,  57.5770, -47.0120
35PK20140515  ,OVIDE-A25  ,67      ,  1,10         ,10         ,20140621,1051,  57.5770, -47.0120,     2894,   1200.2,2,   3.7230,2,  34.9070,2,  34.9060,2,    281.2,2,    280.7,2,     9.22,2,    16.38,2,     0.00,2,   2302.7,2,   7.7210,2,20140621,1131,  57.5770, -47.0120
35PK20140515  ,OVIDE-A25  ,67      ,  1,9          ,9          ,20140621,1051,  57.5770, -47.0120,     2894,   1400.0,2,   3.6840,2,  34.9270,2,  34.9270,2,    274.4,2,    274.1,2,    10.14,2,    16.65,2,     0.00,2,     -999,9,   7.7230,2,20140621,1127,  57.5770, -47.0120
35PK20140515  ,OVIDE-A25  ,67      ,  1,8          ,8          ,20140621,1051,  57.5770, -47.0120,     2894,   1600.8,2,   3.5080,2,  34.9250,2,  34.9250,2,    274.3,2,    274.4,2,    10.60,2,    16.74,2,     0.00,2,   2303.9,2,   7.7260,2,20140621,1122,  57.5770, -47.0120
35PK20140515  ,OVIDE-A25  ,67      ,  1,7          ,7          ,20140621,1051,  57.5770, -47.0120,     2894,   1800.7,2,   3.3330,2,  34.9220,2,  34.9210,2,    275.9,2,    275.4,2,    10.91,2,    16.63,2,     0.00,2,     -999,9,   7.7280,2,20140621,1118,  57.5770, -47.0120
35PK20140515  ,OVIDE-A25  ,67      ,  1,6          ,6          ,20140621,1051,  57.5770, -47.0120,     2894,   2000.2,2,   3.1360,2,  34.9210,2,  34.9210,2,    277.1,2,    276.4,2,    11.41,2,    16.49,2,     0.00,2,   2304.7,2,   7.7310,2,20140621,1113,  57.5770, -47.0120
35PK20140515  ,OVIDE-A25  ,67      ,  1,5          ,5          ,20140621,1051,  57.5770, -47.0120,     2894,   2250.5,2,   2.9260,2,  34.9240,2,  34.9240,2,    277.7,2,    278.4,2,    12.30,2,    16.39,2,     0.00,2,     -999,9,   7.7330,2,20140621,1108,  57.5770, -47.0120
35PK20140515  ,OVIDE-A25  ,67      ,  1,4          ,4          ,20140621,1051,  57.5770, -47.0120,     2894,   2500.5,2,   2.7030,2,  34.9240,2,  34.9230,2,    280.3,2,    280.5,2,    12.63,2,    16.06,2,     0.01,2,   2306.8,2,   7.7310,2,20140621,1102,  57.5770, -47.0120
35PK20140515  ,OVIDE-A25  ,67      ,  1,3          ,3          ,20140621,1051,  57.5770, -47.0120,     2894,   2700.2,2,   2.3560,2,  34.9130,2,  34.9130,2,    284.9,2,    284.1,2,    12.84,2,    15.60,2,     0.01,2,   2306.2,2,   7.7290,2,20140621,1058,  57.5770, -47.0120
35PK20140515  ,OVIDE-A25  ,67      ,  1,2          ,2          ,20140621,1051,  57.5770, -47.0120,     2894,   2800.3,2,   2.0420,2,  34.9090,2,  34.9110,2,    294.3,2,    294.4,2,     9.90,2,    14.68,2,     0.01,2,     -999,9,   7.7240,2,20140621,1055,  57.5770, -47.0120
35PK20140515  ,OVIDE-A25  ,67      ,  1,1          ,1          ,20140621,1051,  57.5770, -47.0120,     2894,   2933.4,2,   1.7040,2,  34.8980,2,  34.9010,2,    301.2,2,    299.7,2,     8.39,2,    13.81,2,     0.00,2,   2301.3,2,   7.7210,2,20140621,1051,  57.5770, -47.0120
35PK20140515  ,OVIDE-A25  ,68      ,  1,24         ,24         ,20140621,1721,  56.9160, -47.4220,     3585,      4.1,2,   6.2700,2,  34.4960,2,  34.4960,2,    328.8,2,    324.6,2,     2.19,2,     0.03,2,     0.00,2,   2297.2,2,   7.9460,2,20140621,1847,  56.9130, -47.4190
35PK20140515  ,OVIDE-A25  ,68      ,  1,23         ,23         ,20140621,1721,  56.9160, -47.4220,     3585,     50.4,2,   3.6580,2,  34.6910,2,  34.6910,2,    306.2,2,    306.1,2,     6.49,2,     9.28,2,     0.20,2,     -999,9,   7.7500,2,20140621,1845,  56.9130, -47.4190
35PK20140515  ,OVIDE-A25  ,68      ,  1,22         ,22         ,20140621,1721,  56.9160, -47.4220,     3585,     99.8,2,   3.8850,2,  34.8160,2,  34.8200,2,    294.6,2,    293.6,2,     6.99,2,    14.84,2,     0.39,2,   2299.6,2,   7.7190,2,20140621,1843,  56.9130, -47.4190
35PK20140515  ,OVIDE-A25  ,68      ,  1,21         ,21         ,20140621,1721,  56.9160, -47.4220,     3585,    150.4,2,   3.8740,2,  34.8380,2,  34.8380,2,    297.6,2,    296.8,2,     7.10,2,    15.11,2,     0.09,2,     -999,9,   7.7260,2,20140621,1841,  56.9130, -47.4190
35PK20140515  ,OVIDE-A25  ,68      ,  1,20         ,20         ,20140621,1721,  56.9160, -47.4220,     3585,    199.8,2,   3.9330,2,  34.8620,2,  34.8610,2,    296.5,2,    296.3,2,     7.28,2,    15.33,2,     0.04,2,   2300.6,2,   7.7290,2,20140621,1840,  56.9130, -47.4190
35PK20140515  ,OVIDE-A25  ,68      ,  1,19         ,19         ,20140621,1721,  56.9160, -47.4220,     3585,    300.0,2,   3.8820,2,  34.8760,2,  34.8770,2,    294.8,2,    293.9,2,     7.59,2,    15.51,2,     0.02,2,     -999,9,   7.7260,2,20140621,1837,  56.9130, -47.4190
35PK20140515  ,OVIDE-A25  ,68      ,  1,18         ,18         ,20140621,1721,  56.9160, -47.4220,     3585,    399.9,2,   3.8170,2,  34.8820,2,  34.8820,2,    297.6,2,    296.9,2,     7.69,2,    15.72,2,     0.03,2,   2302.3,2,   7.7260,2,20140621,1834,  56.9130, -47.4190
35PK20140515  ,OVIDE-A25  ,68      ,  1,17         ,17         ,20140621,1721,  56.9160, -47.4220,     3585,    499.8,2,   3.5650,2,  34.8550,2,  34.8550,2,    296.9,2,    296.2,2,     7.80,2,    15.58,2,     0.03,2,     -999,9,   7.7180,2,20140621,1831,  56.9130, -47.4190
35PK20140515  ,OVIDE-A25  ,68      ,  1,16         ,16         ,20140621,1721,  56.9160, -47.4220,     3585,    600.0,2,   3.5550,2,  34.8600,2,  34.8600,2,    295.7,2,    295.8,2,     7.89,2,    15.65,2,     0.01,2,   2300.5,2,   7.7210,2,20140621,1828,  56.9130, -47.4190
35PK20140515  ,OVIDE-A25  ,68      ,  1,15         ,15         ,20140621,1721,  56.9160, -47.4220,     3585,    700.0,2,   3.4930,2,  34.8520,2,  34.8520,2,    297.3,2,    298.9,2,     7.84,2,    15.69,2,     0.02,2,     -999,9,   7.7200,2,20140621,1825,  56.9130, -47.4190
35PK20140515  ,OVIDE-A25  ,68      ,  1,14         ,14         ,20140621,1721,  56.9160, -47.4220,     3585,    799.1,2,   3.4840,2,  34.8530,2,  34.8530,2,    296.8,2,    296.8,2,     7.98,2,    15.69,2,     0.02,2,   2300.7,2,   7.7200,2,20140621,1822,  56.9130, -47.4190
35PK20140515  ,OVIDE-A25  ,68      ,  1,13         ,13         ,20140621,1721,  56.9160, -47.4220,     3585,    998.9,2,   3.4780,2,  34.8580,2,  34.8560,2,    295.9,2,    295.9,2,     8.14,2,    15.81,2,     0.00,2,     -999,9,   7.7210,2,20140621,1818,  56.9130, -47.4190
35PK20140515  ,OVIDE-A25  ,68      ,  1,12         ,12         ,20140621,1721,  56.9160, -47.4220,     3585,   1200.2,2,   3.4760,2,  34.8560,2,  34.8540,2,    296.0,2,    295.9,2,     8.14,2,    15.73,2,     0.00,2,   2300.6,2,   7.7200,2,20140621,1813,  56.9130, -47.4190
35PK20140515  ,OVIDE-A25  ,68      ,  1,11         ,11         ,20140621,1721,  56.9160, -47.4220,     3585,   1400.2,2,   3.5330,2,  34.8690,2,  34.8680,2,    291.7,2,    292.7,2,     8.41,2,    16.03,2,     0.00,2,     -999,9,   7.7210,2,20140621,1809,  56.9130, -47.4190
35PK20140515  ,OVIDE-A25  ,68      ,  1,10         ,10         ,20140621,1721,  56.9160, -47.4220,     3585,   1599.8,2,   3.7450,2,  34.9180,2,  34.9160,2,    275.8,2,    275.9,2,     9.74,2,    16.71,2,     0.00,2,   2304.3,2,   7.7230,2,20140621,1805,  56.9130, -47.4190
35PK20140515  ,OVIDE-A25  ,68      ,  1,9          ,9          ,20140621,1721,  56.9160, -47.4220,     3585,   1799.5,2,   3.6410,2,  34.9260,2,  34.9250,2,    274.0,2,    274.7,2,    10.26,2,    16.75,2,     0.00,2,     -999,9,   7.7140,2,20140621,1801,  56.9130, -47.4190
35PK20140515  ,OVIDE-A25  ,68      ,  1,8          ,8          ,20140621,1721,  56.9160, -47.4220,     3585,   2000.2,2,   3.4670,2,  34.9220,2,  34.9200,2,    274.4,2,    274.9,2,    10.87,2,    16.91,2,     0.00,2,   2304.7,2,   7.7270,2,20140621,1756,  56.9130, -47.4190
35PK20140515  ,OVIDE-A25  ,68      ,  1,7          ,7          ,20140621,1721,  56.9160, -47.4220,     3585,   2250.0,2,   3.2650,2,  34.9200,2,  34.9180,2,    276.1,2,    276.0,2,    11.28,2,    16.75,2,     0.00,2,     -999,9,   7.7290,2,20140621,1751,  56.9140, -47.4200
35PK20140515  ,OVIDE-A25  ,68      ,  1,6          ,6          ,20140621,1721,  56.9160, -47.4220,     3585,   2500.1,2,   3.0820,2,  34.9220,2,  34.9190,2,    276.8,2,    276.7,2,    11.92,2,    16.55,2,     0.00,2,   2305.7,2,   7.7300,2,20140621,1746,  56.9140, -47.4200
35PK20140515  ,OVIDE-A25  ,68      ,  1,5          ,5          ,20140621,1721,  56.9160, -47.4220,     3585,   2749.6,2,   2.9350,2,  34.9280,2,  34.9260,2,    277.0,2,    277.0,2,    12.99,2,    16.45,2,     0.00,2,     -999,9,   7.7330,2,20140621,1741,  56.9140, -47.4200
35PK20140515  ,OVIDE-A25  ,68      ,  1,4          ,4          ,20140621,1721,  56.9160, -47.4220,     3585,   2999.8,2,   2.7300,2,  34.9240,2,  34.9230,2,    279.1,2,    279.0,2,    13.42,2,    16.14,2,     0.00,2,     -999,9,   7.7320,2,20140621,1736,  56.9150, -47.4210
35PK20140515  ,OVIDE-A25  ,68      ,  1,3          ,3          ,20140621,1721,  56.9160, -47.4220,     3585,   3399.5,2,   2.3100,2,  34.9090,2,  34.9060,2,    285.6,2,    284.8,2,    13.71,2,    15.68,2,     0.00,2,   2307.8,2,   7.7300,2,20140621,1728,  56.9150, -47.4210
35PK20140515  ,OVIDE-A25  ,68      ,  1,2          ,2          ,20140621,1721,  56.9160, -47.4220,     3585,   3599.9,2,   1.7020,2,  34.9030,2,  34.9040,2,    301.1,2,    299.5,2,     8.95,2,    14.11,2,     0.01,2,     -999,9,   7.7170,2,20140621,1723,  56.9150, -47.4220
35PK20140515  ,OVIDE-A25  ,68      ,  1,1          ,1          ,20140621,1721,  56.9160, -47.4220,     3585,   3639.1,2,   1.5940,2,  34.9060,2,  34.9040,2,    301.8,2,    301.1,2,     8.63,2,    13.91,2,     0.01,2,   2302.8,2,   7.7180,2,20140621,1721,  56.9160, -47.4220