BOTTLE,20240403CCHHYDRO
EXPOCODE,SECT_ID,STNNBR,CASTNO,SAMPNO,BTLNBR,DATE,TIME,LATITUDE,LONGITUDE,DEPTH,CTDPRS,CTDPRS_FLAG_W,CTDTMP,CTDTMP_FLAG_W,CTDSAL,CTDSAL_FLAG_W,SALNTY,SALNTY_FLAG_W,CTDOXY,CTDOXY_FLAG_W,OXYGEN,OXYGEN_FLAG_W,SILCAT,SILCAT_FLAG_W,NITRAT,NITRAT_FLAG_W,NITRIT,NITRIT_FLAG_W,ALKALI,ALKALI_FLAG_W,PH_TOT,PH_TOT_FLAG_W,BTL_DATE,BTL_TIME,BTL_LAT,BTL_LON
,,,,,,,,,,METERS,DBAR,,ITS-90,,PSS-78,,PSS-78,,UMOL/KG,,UMOL/KG,,UMOL/KG,,UMOL/KG,,UMOL/KG,,UMOL/KG,,,,,,,
35PK20140515  ,OVIDE-A25  ,17      ,  1,24         ,24         ,20140529,0955,  43.7800, -17.0320,     4073,      4.1,2,  14.6170,2,  35.6820,2,  35.6810,2,    259.4,2,     -999,9,     0.84,2,     1.64,2,     0.09,2,   2349.0,2,   7.9440,2,20140529,1140,  43.7800, -17.0310
35PK20140515  ,OVIDE-A25  ,17      ,  1,23         ,23         ,20140529,0955,  43.7800, -17.0320,     4073,     20.6,2,  14.5010,2,  35.6840,2,  35.6840,2,    260.2,2,    259.7,2,     0.84,2,     1.85,2,     0.15,2,   2347.9,2,   7.9410,2,20140529,1139,  43.7800, -17.0310
35PK20140515  ,OVIDE-A25  ,17      ,  1,22         ,22         ,20140529,0955,  43.7800, -17.0320,     4073,    101.5,2,  12.2380,2,  35.6660,2,  35.6660,2,    248.7,2,    247.8,2,     2.37,2,     8.21,2,     0.02,2,   2342.0,2,   7.8600,2,20140529,1136,  43.7800, -17.0310
35PK20140515  ,OVIDE-A25  ,17      ,  1,21         ,21         ,20140529,0955,  43.7800, -17.0320,     4073,    201.3,2,  11.9700,2,  35.6370,2,  35.6370,2,    247.1,2,    246.6,2,     2.75,2,     9.14,2,     0.01,2,   2340.5,2,   7.8520,2,20140529,1133,  43.7800, -17.0310
35PK20140515  ,OVIDE-A25  ,17      ,  1,20         ,20         ,20140529,0955,  43.7800, -17.0320,     4073,    301.3,2,  11.6950,2,  35.6050,2,  35.6050,2,    242.8,2,    243.5,2,     3.08,2,    10.08,2,     0.01,2,     -999,9,   7.8420,2,20140529,1130,  43.7800, -17.0310
35PK20140515  ,OVIDE-A25  ,17      ,  1,19         ,19         ,20140529,0955,  43.7800, -17.0320,     4073,    401.2,2,  11.3180,2,  35.5560,2,  35.5560,2,    241.0,2,    241.0,2,     3.65,2,    10.90,2,     0.01,2,   2337.5,2,   7.8280,2,20140529,1127,  43.7800, -17.0310
35PK20140515  ,OVIDE-A25  ,17      ,  1,18         ,18         ,20140529,0955,  43.7800, -17.0320,     4073,    500.3,2,  11.0190,2,  35.5330,2,  35.5340,2,    226.5,2,    227.0,2,     4.56,2,    12.64,2,     0.02,2,   2335.5,2,   7.8090,2,20140529,1124,  43.7800, -17.0310
35PK20140515  ,OVIDE-A25  ,17      ,  1,17         ,17         ,20140529,0955,  43.7800, -17.0320,     4073,    600.0,2,  10.7540,2,  35.5480,2,  35.5480,2,    199.2,2,    200.1,2,     6.38,2,    15.41,2,     0.01,2,   2337.6,2,   7.7760,2,20140529,1121,  43.7800, -17.0320
35PK20140515  ,OVIDE-A25  ,17      ,  1,16         ,16         ,20140529,0955,  43.7800, -17.0320,     4073,    699.6,2,  10.7870,2,  35.6750,2,  35.6740,2,    188.4,2,    189.1,2,     7.34,2,    16.11,2,     0.01,2,   2346.8,2,   7.7750,2,20140529,1117,  43.7800, -17.0320
35PK20140515  ,OVIDE-A25  ,17      ,  1,15         ,15         ,20140529,0955,  43.7800, -17.0320,     4073,    796.9,2,   9.9010,2,  35.5720,2,  35.5710,2,    184.3,2,    184.4,2,     8.83,2,    17.80,2,     0.01,2,     -999,9,   7.7560,2,20140529,1113,  43.7800, -17.0320
35PK20140515  ,OVIDE-A25  ,17      ,  1,14         ,14         ,20140529,0955,  43.7800, -17.0320,     4073,    900.0,2,   9.1410,2,  35.5490,2,  35.5500,2,    189.1,2,    189.2,2,     9.68,2,    18.35,2,     0.01,2,   2343.6,2,   7.7480,2,20140529,1110,  43.7800, -17.0320
35PK20140515  ,OVIDE-A25  ,17      ,  1,13         ,13         ,20140529,0955,  43.7800, -17.0320,     4073,    998.5,2,   8.9020,2,  35.6220,2,  35.6230,2,    193.5,2,    193.7,2,     9.95,2,    18.06,2,     0.00,2,   2351.2,2,   7.7530,2,20140529,1106,  43.7800, -17.0320
35PK20140515  ,OVIDE-A25  ,17      ,  1,12         ,12         ,20140529,0955,  43.7800, -17.0320,     4073,   1200.7,2,   7.4960,2,  35.4720,2,  35.4720,2,    214.6,2,    213.2,2,    10.40,2,    17.99,2,     0.01,2,   2345.6,2,   7.7450,2,20140529,1101,  43.7800, -17.0320
35PK20140515  ,OVIDE-A25  ,17      ,  1,11         ,11         ,20140529,0955,  43.7800, -17.0320,     4073,   1200.7,2,   7.4840,2,  35.4710,2,  35.4710,2,    214.6,2,    213.2,2,    10.47,2,    18.02,2,     0.00,2,   2340.5,2,   7.7450,2,20140529,1101,  43.7800, -17.0320
35PK20140515  ,OVIDE-A25  ,17      ,  1,10         ,10         ,20140529,0955,  43.7800, -17.0320,     4073,   1400.8,2,   5.4040,2,  35.1440,2,  35.1460,2,    244.0,2,    243.1,2,    10.79,2,    18.11,2,     0.00,2,   2320.3,2,   7.7260,2,20140529,1055,  43.7800, -17.0320
35PK20140515  ,OVIDE-A25  ,17      ,  1,9          ,9          ,20140529,0955,  43.7800, -17.0320,     4073,   1599.8,2,   4.3670,2,  35.0020,2,  35.0020,2,    261.5,2,    260.3,2,    11.02,2,    17.98,2,     0.00,2,   2308.5,2,   7.7230,2,20140529,1050,  43.7800, -17.0320
35PK20140515  ,OVIDE-A25  ,17      ,  1,8          ,8          ,20140529,0955,  43.7800, -17.0320,     4073,   1799.6,2,   3.9500,2,  34.9660,2,  34.9660,2,    265.7,2,    265.7,2,    11.67,2,    18.00,2,     0.00,2,   2302.2,2,   7.7250,2,20140529,1045,  43.7800, -17.0320
35PK20140515  ,OVIDE-A25  ,17      ,  1,7          ,7          ,20140529,0955,  43.7800, -17.0320,     4073,   1999.3,2,   3.7040,2,  34.9550,2,  34.9550,2,    267.5,2,    266.7,2,    12.75,2,    18.06,2,     0.00,2,   2310.1,2,   7.7300,2,20140529,1040,  43.7800, -17.0320
35PK20140515  ,OVIDE-A25  ,17      ,  1,6          ,6          ,20140529,0955,  43.7800, -17.0320,     4073,   2250.3,2,   3.4470,2,  34.9460,2,  34.9460,2,    267.0,2,    267.3,2,    15.28,2,    18.19,2,     0.00,2,   2309.8,2,   7.7340,2,20140529,1033,  43.7800, -17.0320
35PK20140515  ,OVIDE-A25  ,17      ,  1,5          ,5          ,20140529,0955,  43.7800, -17.0320,     4073,   2501.2,2,   3.2140,2,  34.9490,2,  34.9500,2,    262.5,2,    262.6,2,    19.38,2,    18.66,2,     0.00,2,     -999,9,   7.7370,2,20140529,1027,  43.7800, -17.0320
35PK20140515  ,OVIDE-A25  ,17      ,  1,4          ,4          ,20140529,0955,  43.7800, -17.0320,     4073,   2999.6,2,   2.8680,2,  34.9460,2,  34.9500,2,    252.5,2,    252.9,2,    28.37,2,    20.03,2,     0.00,2,   2328.2,2,   7.7390,2,20140529,1017,  43.7800, -17.0320
35PK20140515  ,OVIDE-A25  ,17      ,  1,3          ,3          ,20140529,0955,  43.7800, -17.0320,     4073,   3249.8,2,   2.7430,2,  34.9370,2,  34.9360,2,    248.5,2,    248.8,2,    33.19,2,    20.74,2,     0.00,2,   2339.0,2,   7.7390,2,20140529,1012,  43.7800, -17.0320
35PK20140515  ,OVIDE-A25  ,17      ,  1,2          ,2          ,20140529,0955,  43.7800, -17.0320,     4073,   3499.5,2,   2.6430,2,  34.9270,2,  34.9270,2,    244.6,2,    244.8,2,    37.15,2,    21.43,2,     0.00,2,   2344.2,2,   7.7400,2,20140529,1007,  43.7800, -17.0320
35PK20140515  ,OVIDE-A25  ,17      ,  1,1          ,1          ,20140529,0955,  43.7800, -17.0320,     4073,   4063.6,2,   2.5810,2,  34.9150,2,  34.9150,2,    241.1,2,    241.1,2,    42.07,2,    22.25,2,     0.01,2,   2353.1,2,   7.7380,2,20140529,0955,  43.7800, -17.0320
35PK20140515  ,OVIDE-A25  ,18      ,  1,24         ,24         ,20140530,0444,  44.3770, -17.8170,     4991,      3.5,2,  14.5720,2,  35.6760,2,     -999,9,    264.4,2,     -999,9,     -999,9,     -999,9,     -999,9,     -999,9,     -999,9,20140530,0643,  44.3770, -17.8170
35PK20140515  ,OVIDE-A25  ,18      ,  1,23         ,23         ,20140530,0444,  44.3770, -17.8170,     4991,     40.3,2,  14.0620,2,  35.6940,2,  35.6920,2,    258.3,2,    256.9,2,     1.11,2,     1.88,2,     0.58,2,   2351.1,2,   7.9350,2,20140530,0641,  44.3770, -17.8170
35PK20140515  ,OVIDE-A25  ,18      ,  1,22         ,22         ,20140530,0444,  44.3770, -17.8170,     4991,    100.6,2,  12.3180,2,  35.6660,2,  35.6660,2,    251.1,2,    249.7,2,     2.02,2,     7.81,2,     0.03,2,   2341.8,2,   7.8660,2,20140530,0638,  44.3770, -17.8170
35PK20140515  ,OVIDE-A25  ,18      ,  1,21         ,21         ,20140530,0444,  44.3770, -17.8170,     4991,    200.4,2,  12.1690,2,  35.6600,2,  35.6600,2,    251.5,2,    250.9,2,     2.41,2,     8.18,2,     0.02,2,   2345.1,2,   7.8650,2,20140530,0634,  44.3770, -17.8170
35PK20140515  ,OVIDE-A25  ,18      ,  1,20         ,20         ,20140530,0444,  44.3770, -17.8170,     4991,    300.6,2,  12.0450,2,  35.6430,2,  35.6430,2,    249.5,2,    248.9,2,     2.54,2,     8.54,2,     0.01,2,   2346.6,2,   7.8590,2,20140530,0632,  44.3770, -17.8170
35PK20140515  ,OVIDE-A25  ,18      ,  1,19         ,19         ,20140530,0444,  44.3770, -17.8170,     4991,    399.9,2,  11.8370,2,  35.6200,2,  35.6200,2,    248.9,2,    247.5,2,     2.88,2,     9.32,2,     0.01,2,   2342.4,2,   7.8530,2,20140530,0628,  44.3770, -17.8170
35PK20140515  ,OVIDE-A25  ,18      ,  1,18         ,18         ,20140530,0444,  44.3770, -17.8170,     4991,    500.4,2,  11.6400,2,  35.6020,2,  35.6010,2,    233.6,2,    233.7,2,     3.44,2,    11.29,2,     0.01,2,   2343.9,2,   7.8310,2,20140530,0625,  44.3770, -17.8170
35PK20140515  ,OVIDE-A25  ,18      ,  1,17         ,17         ,20140530,0444,  44.3770, -17.8170,     4991,    600.6,2,  11.3880,2,  35.5910,2,  35.5900,2,    225.8,2,    226.8,2,     3.99,2,    11.89,2,     0.01,2,   2342.2,2,   7.8150,2,20140530,0622,  44.3770, -17.8170
35PK20140515  ,OVIDE-A25  ,18      ,  1,16         ,16         ,20140530,0444,  44.3770, -17.8170,     4991,    800.3,2,  10.6780,2,  35.6090,2,  35.6070,2,    191.6,2,    192.7,2,     7.23,2,    16.24,2,     0.01,2,   2345.4,2,   7.7750,2,20140530,0617,  44.3770, -17.8170
35PK20140515  ,OVIDE-A25  ,18      ,  1,15         ,15         ,20140530,0444,  44.3770, -17.8170,     4991,   1000.4,2,  10.0540,2,  35.7380,2,  35.7380,2,    184.2,2,    184.5,2,     9.14,2,    17.57,2,     0.00,2,   2358.7,2,   7.7670,2,20140530,0612,  44.3770, -17.8170
35PK20140515  ,OVIDE-A25  ,18      ,  1,14         ,14         ,20140530,0444,  44.3770, -17.8170,     4991,   1199.8,2,   8.5360,2,  35.5830,2,  35.5820,2,    198.4,2,    199.1,2,    10.12,2,    18.25,2,     0.00,2,   2353.4,2,   7.7520,2,20140530,0607,  44.3770, -17.8170
35PK20140515  ,OVIDE-A25  ,18      ,  1,13         ,13         ,20140530,0444,  44.3770, -17.8170,     4991,   1401.0,2,   6.7410,2,  35.3670,2,  35.3660,2,    223.8,2,    224.1,2,    10.84,2,    18.21,2,     0.00,2,   2337.2,2,   7.7420,2,20140530,0602,  44.3770, -17.8170
35PK20140515  ,OVIDE-A25  ,18      ,  1,12         ,12         ,20140530,0444,  44.3770, -17.8170,     4991,   1601.8,2,   4.9680,2,  35.0950,2,  35.0960,2,    250.4,2,    249.7,2,    11.26,2,    18.22,2,     0.00,2,   2320.2,2,   7.7280,2,20140530,0557,  44.3770, -17.8170
35PK20140515  ,OVIDE-A25  ,18      ,  1,11         ,11         ,20140530,0444,  44.3770, -17.8170,     4991,   1801.6,2,   4.1930,2,  34.9940,2,  34.9950,2,    261.8,2,    261.6,2,    11.69,2,    18.15,2,     0.00,2,   2313.6,2,   7.7280,2,20140530,0552,  44.3770, -17.8170
35PK20140515  ,OVIDE-A25  ,18      ,  1,10         ,10         ,20140530,0444,  44.3770, -17.8170,     4991,   2002.3,2,   3.8850,2,  34.9760,2,  34.9760,2,    263.0,2,    262.9,2,    13.31,2,    18.29,2,     0.00,2,   2314.9,2,   7.7330,2,20140530,0546,  44.3770, -17.8170
35PK20140515  ,OVIDE-A25  ,18      ,  1,9          ,9          ,20140530,0444,  44.3770, -17.8170,     4991,   2251.0,2,   3.4960,2,  34.9590,2,  34.9600,2,    263.6,2,    264.2,2,    16.32,2,    18.55,2,     0.01,2,   2315.9,2,   7.7380,2,20140530,0541,  44.3770, -17.8170
35PK20140515  ,OVIDE-A25  ,18      ,  1,8          ,8          ,20140530,0444,  44.3770, -17.8170,     4991,   2500.8,2,   3.2210,2,  34.9470,2,  34.9470,2,    263.4,2,    263.8,2,    18.64,2,    18.66,2,     0.01,2,   2320.0,2,   7.7410,2,20140530,0535,  44.3770, -17.8170
35PK20140515  ,OVIDE-A25  ,18      ,  1,7          ,7          ,20140530,0444,  44.3770, -17.8170,     4991,   3001.2,2,   2.8850,2,  34.9470,2,  34.9470,2,    251.6,2,    252.6,2,    29.00,2,    20.28,2,     0.00,2,   2336.1,2,   7.7410,2,20140530,0525,  44.3770, -17.8170
35PK20140515  ,OVIDE-A25  ,18      ,  1,6          ,6          ,20140530,0444,  44.3770, -17.8170,     4991,   3251.6,2,   2.7630,2,  34.9390,2,  34.9480,4,    249.3,2,    250.1,2,    32.29,2,    20.76,2,     0.00,2,   2337.9,2,   7.7380,2,20140530,0520,  44.3770, -17.8170
35PK20140515  ,OVIDE-A25  ,18      ,  1,5          ,5          ,20140530,0444,  44.3770, -17.8170,     4991,   3504.3,2,   2.6510,2,  34.9280,2,  34.9370,4,    245.2,2,    246.0,2,    34.76,2,    21.14,2,     0.00,2,   2342.8,2,   7.7410,2,20140530,0514,  44.3770, -17.8170
35PK20140515  ,OVIDE-A25  ,18      ,  1,4          ,4          ,20140530,0444,  44.3770, -17.8170,     4991,   4005.5,2,   2.5730,2,  34.9160,2,  34.9160,2,    240.8,2,    241.5,2,    42.18,2,    22.45,2,     0.00,2,   2350.8,2,   7.7420,2,20140530,0505,  44.3770, -17.8170
35PK20140515  ,OVIDE-A25  ,18      ,  1,3          ,3          ,20140530,0444,  44.3770, -17.8170,     4991,   4500.2,2,   2.5940,2,  34.9110,2,  34.9110,2,    240.3,2,    240.4,2,    43.80,2,    22.66,2,     0.00,2,   2356.2,2,   7.7420,2,20140530,0455,  44.3770, -17.8170
35PK20140515  ,OVIDE-A25  ,18      ,  1,2          ,2          ,20140530,0444,  44.3770, -17.8170,     4991,   4800.3,2,   2.6220,2,  34.9110,2,  34.9130,2,    240.5,2,    240.7,2,     -999,9,     -999,9,     -999,9,   2355.7,2,   7.7410,2,20140530,0449,  44.3770, -17.8170
35PK20140515  ,OVIDE-A25  ,18      ,  1,1          ,1          ,20140530,0444,  44.3770, -17.8170,     4991,   4980.9,2,   2.6460,2,  34.9110,2,     -999,9,    240.8,2,     -999,9,     -999,9,     -999,9,     -999,9,     -999,9,     -999,9,20140530,0444,  44.3770, -17.8170