BOTTLE,20240403CCHHYDRO
EXPOCODE,SECT_ID,STNNBR,CASTNO,SAMPNO,BTLNBR,DATE,TIME,LATITUDE,LONGITUDE,DEPTH,CTDPRS,CTDPRS_FLAG_W,CTDTMP,CTDTMP_FLAG_W,CTDSAL,CTDSAL_FLAG_W,SALNTY,SALNTY_FLAG_W,CTDOXY,CTDOXY_FLAG_W,OXYGEN,OXYGEN_FLAG_W,SILCAT,SILCAT_FLAG_W,NITRAT,NITRAT_FLAG_W,NITRIT,NITRIT_FLAG_W,ALKALI,ALKALI_FLAG_W,PH_TOT,PH_TOT_FLAG_W,BTL_DATE,BTL_TIME,BTL_LAT,BTL_LON
,,,,,,,,,,METERS,DBAR,,ITS-90,,PSS-78,,PSS-78,,UMOL/KG,,UMOL/KG,,UMOL/KG,,UMOL/KG,,UMOL/KG,,UMOL/KG,,,,,,,
35PK20140515  ,OVIDE-A25  ,9       ,  1,24         ,24         ,20140522,1232,  40.3330, -10.5770,     4426,      5.0,2,  16.8580,2,  35.5920,2,  35.5930,2,    247.9,2,    246.4,2,     0.26,2,     -999,9,     0.03,2,   2349.4,2,   7.9830,2,20140522,1424,  40.3330, -10.5770
35PK20140515  ,OVIDE-A25  ,9       ,  1,23         ,23         ,20140522,1232,  40.3330, -10.5770,     4426,     42.2,2,  13.8980,2,  35.8690,2,  35.8680,2,    250.9,2,    252.0,2,     1.04,2,     -999,9,     0.14,2,   2358.0,2,   7.9160,2,20140522,1422,  40.3330, -10.5770
35PK20140515  ,OVIDE-A25  ,9       ,  1,22         ,22         ,20140522,1232,  40.3330, -10.5770,     4426,    100.5,2,  13.4760,2,  35.8370,2,  35.8370,2,    242.3,2,    242.5,2,     1.53,2,     3.02,2,     0.20,2,   2355.6,2,   7.8900,2,20140522,1419,  40.3330, -10.5770
35PK20140515  ,OVIDE-A25  ,9       ,  1,21         ,21         ,20140522,1232,  40.3330, -10.5770,     4426,    199.8,2,  12.9320,2,  35.7520,2,  35.7530,2,    240.1,2,    239.8,2,     1.96,2,     5.41,2,     0.12,2,     -999,9,   7.8760,2,20140522,1416,  40.3330, -10.5770
35PK20140515  ,OVIDE-A25  ,9       ,  1,20         ,20         ,20140522,1232,  40.3330, -10.5770,     4426,    298.5,2,  12.2130,2,  35.6690,2,  35.6690,2,    235.4,2,    236.2,2,     2.72,2,     6.83,2,     0.04,2,   2344.8,2,   7.8500,2,20140522,1413,  40.3330, -10.5770
35PK20140515  ,OVIDE-A25  ,9       ,  1,19         ,19         ,20140522,1232,  40.3330, -10.5770,     4426,    400.1,2,  11.7870,2,  35.6420,2,  35.6440,2,    215.6,2,    215.1,2,     3.94,2,     9.17,2,     0.04,2,   2342.7,2,   7.8140,2,20140522,1410,  40.3330, -10.5770
35PK20140515  ,OVIDE-A25  ,9       ,  1,18         ,18         ,20140522,1232,  40.3330, -10.5770,     4426,    499.2,2,  11.5770,2,  35.6770,2,  35.6760,2,    200.9,2,    200.8,2,     5.12,2,    12.19,2,     0.03,2,   2343.9,2,   7.7980,2,20140522,1408,  40.3330, -10.5770
35PK20140515  ,OVIDE-A25  ,9       ,  1,17         ,17         ,20140522,1232,  40.3330, -10.5770,     4426,    601.1,2,  11.6450,2,  35.7870,2,  35.7900,2,    186.7,2,    187.8,2,     6.33,2,    15.05,2,     0.03,2,   2356.9,2,   7.7930,2,20140522,1405,  40.3330, -10.5770
35PK20140515  ,OVIDE-A25  ,9       ,  1,16         ,16         ,20140522,1232,  40.3330, -10.5770,     4426,    701.6,2,  11.7200,2,  35.9580,2,  35.9580,2,    181.0,2,    181.9,2,     6.97,2,    14.05,2,     0.03,2,     -999,9,   7.7950,2,20140522,1402,  40.3330, -10.5770
35PK20140515  ,OVIDE-A25  ,9       ,  1,15         ,15         ,20140522,1232,  40.3330, -10.5770,     4426,    798.8,2,  11.4560,2,  35.9860,2,  35.9880,2,    178.6,2,    179.4,2,     7.73,2,    15.34,2,     0.03,2,   2373.5,2,   7.7930,2,20140522,1359,  40.3330, -10.5770
35PK20140515  ,OVIDE-A25  ,9       ,  1,14         ,14         ,20140522,1232,  40.3330, -10.5770,     4426,    900.3,2,  11.4140,2,  36.1020,2,  36.0950,4,    178.2,2,    179.6,2,     8.01,2,    15.88,2,     0.03,2,     -999,9,   7.8000,2,20140522,1356,  40.3330, -10.5770
35PK20140515  ,OVIDE-A25  ,9       ,  1,13         ,13         ,20140522,1232,  40.3330, -10.5770,     4426,   1000.8,2,  11.0950,2,  36.1090,2,  36.1090,2,    178.3,2,    178.9,2,     8.64,2,    15.77,2,     0.03,2,   2387.6,2,   7.7940,2,20140522,1343,  40.3330, -10.5770
35PK20140515  ,OVIDE-A25  ,9       ,  1,12         ,12         ,20140522,1232,  40.3330, -10.5770,     4426,   1099.7,2,  10.8990,2,  36.1310,2,  36.1300,2,    179.6,2,    180.5,2,     8.98,2,    16.23,2,     0.03,2,     -999,9,   7.7940,2,20140522,1340,  40.3330, -10.5770
35PK20140515  ,OVIDE-A25  ,9       ,  1,11         ,11         ,20140522,1232,  40.3330, -10.5770,     4426,   1184.6,2,  10.8110,2,  36.1760,2,  36.1760,2,    181.1,2,    181.8,2,     9.27,2,    16.32,2,     0.03,2,   2396.9,2,   7.7940,2,20140522,1337,  40.3330, -10.5770
35PK20140515  ,OVIDE-A25  ,9       ,  1,10         ,10         ,20140522,1232,  40.3330, -10.5770,     4426,   1401.8,2,   9.8150,2,  36.0720,2,  36.0730,2,    190.6,2,    190.9,2,    10.44,2,    16.19,2,     0.03,2,   2389.1,2,   7.7910,2,20140522,1333,  40.3330, -10.5770
35PK20140515  ,OVIDE-A25  ,9       ,  1,9          ,9          ,20140522,1232,  40.3330, -10.5770,     4426,   1600.1,2,   7.2730,2,  35.6020,2,  35.6050,2,    214.9,2,    214.9,2,    12.83,2,    16.53,2,     0.03,2,   2360.2,2,   7.7630,2,20140522,1328,  40.3330, -10.5770
35PK20140515  ,OVIDE-A25  ,9       ,  1,8          ,8          ,20140522,1232,  40.3330, -10.5770,     4426,   1800.3,2,   5.2050,2,  35.2260,2,  35.2310,4,    241.0,2,    241.6,2,    13.67,2,    17.83,2,     0.03,2,   2334.0,2,   7.7470,2,20140522,1323,  40.3330, -10.5770
35PK20140515  ,OVIDE-A25  ,9       ,  1,7          ,7          ,20140522,1232,  40.3330, -10.5770,     4426,   2000.3,2,   4.2690,2,  35.0890,2,  35.0910,2,    250.5,2,    249.9,2,    16.23,2,    18.32,2,     0.03,2,   2326.2,2,   7.7440,2,20140522,1319,  40.3330, -10.5770
35PK20140515  ,OVIDE-A25  ,9       ,  1,6          ,6          ,20140522,1232,  40.3330, -10.5770,     4426,   2249.3,2,   3.8440,2,  35.0470,2,  35.0470,2,    249.7,2,    250.3,2,    19.95,2,    18.64,2,     0.03,2,   2329.5,2,   7.7430,2,20140522,1314,  40.3330, -10.5770
35PK20140515  ,OVIDE-A25  ,9       ,  1,5          ,5          ,20140522,1232,  40.3330, -10.5770,     4426,   2500.2,2,   3.3630,2,  34.9960,2,  34.9990,2,    249.6,2,    249.9,2,    24.44,2,    19.72,2,     0.00,2,   2335.2,2,   7.7430,2,20140522,1308,  40.3330, -10.5770
35PK20140515  ,OVIDE-A25  ,9       ,  1,4          ,4          ,20140522,1232,  40.3330, -10.5770,     4426,   2998.5,2,   2.8710,2,  34.9550,2,  34.9550,2,    244.3,2,    244.9,2,    33.65,2,    21.10,2,     0.00,2,   2342.6,2,   7.7420,2,20140522,1259,  40.3330, -10.5770
35PK20140515  ,OVIDE-A25  ,9       ,  1,3          ,3          ,20140522,1232,  40.3330, -10.5770,     4426,   3499.2,2,   2.5870,2,  34.9230,2,  34.9240,2,    242.8,2,    243.3,2,    39.82,2,    21.84,2,     0.00,2,   2354.3,2,   7.7420,2,20140522,1249,  40.3330, -10.5770
35PK20140515  ,OVIDE-A25  ,9       ,  1,2          ,2          ,20140522,1232,  40.3330, -10.5770,     4426,   4001.1,2,   2.4780,2,  34.9070,2,  34.9210,4,    242.1,2,    242.8,2,    43.12,2,    22.21,2,     0.00,2,   2355.9,2,   7.7430,2,20140522,1240,  40.3330, -10.5770
35PK20140515  ,OVIDE-A25  ,9       ,  1,1          ,1          ,20140522,1232,  40.3330, -10.5770,     4426,   4416.0,2,   2.4580,2,  34.9000,2,  34.9010,2,    242.3,2,    242.0,2,    44.80,2,    22.53,2,     0.00,2,   2354.2,2,   7.7410,2,20140522,1232,  40.3330, -10.5770
35PK20140515  ,OVIDE-A25  ,10      ,  1,24         ,24         ,20140522,2023,  40.3330, -11.3400,     5195,      4.4,2,  16.6080,2,  35.8340,2,  35.8340,2,    248.8,2,    247.7,2,     -999,9,     -999,9,     -999,9,   2358.1,2,   7.9750,2,20140522,2211,  40.3330, -11.3400
35PK20140515  ,OVIDE-A25  ,10      ,  1,23         ,23         ,20140522,2023,  40.3330, -11.3400,     5195,     52.6,2,  13.9110,2,  35.8060,2,  35.8070,2,    252.6,2,    252.8,2,     0.49,2,     1.82,2,     0.12,2,   2355.3,2,   7.9210,2,20140522,2209,  40.3330, -11.3400
35PK20140515  ,OVIDE-A25  ,10      ,  1,22         ,22         ,20140522,2023,  40.3330, -11.3400,     5195,    100.6,2,  13.4480,2,  35.8020,2,  35.8030,2,    240.7,2,    241.0,2,     1.36,2,     5.33,2,     0.01,2,   2355.2,2,   7.8880,2,20140522,2206,  40.3330, -11.3400
35PK20140515  ,OVIDE-A25  ,10      ,  1,21         ,21         ,20140522,2023,  40.3330, -11.3400,     5195,    200.8,2,  12.7700,2,  35.7500,2,  35.7490,2,    226.4,2,    227.3,2,     2.48,2,     8.73,2,     0.00,2,   2345.8,2,   7.8520,2,20140522,2203,  40.3330, -11.3400
35PK20140515  ,OVIDE-A25  ,10      ,  1,20         ,20         ,20140522,2023,  40.3330, -11.3400,     5195,    300.0,2,  12.1540,2,  35.6900,2,  35.6890,2,    216.0,2,    216.7,2,     3.44,2,    11.24,2,     0.00,2,   2342.9,2,   7.8230,2,20140522,2201,  40.3330, -11.3400
35PK20140515  ,OVIDE-A25  ,10      ,  1,19         ,19         ,20140522,2023,  40.3330, -11.3400,     5195,    398.9,2,  11.6500,2,  35.6520,2,  35.6530,2,    209.0,2,    209.1,2,     4.39,2,    13.00,2,     0.00,2,   2342.5,2,   7.8040,2,20140522,2158,  40.3330, -11.3400
35PK20140515  ,OVIDE-A25  ,10      ,  1,18         ,18         ,20140522,2023,  40.3330, -11.3400,     5195,    500.0,2,  11.3270,2,  35.6830,2,  35.6820,2,    193.3,2,    194.0,2,     5.99,2,    15.00,2,     0.00,2,   2347.6,2,   7.7890,2,20140522,2156,  40.3330, -11.3400
35PK20140515  ,OVIDE-A25  ,10      ,  1,17         ,17         ,20140522,2023,  40.3330, -11.3400,     5195,    599.7,2,  11.3750,2,  35.8200,2,  35.8190,2,    182.7,2,    183.2,2,     7.05,2,    15.76,2,     0.00,2,   2358.8,2,   7.7890,2,20140522,2153,  40.3330, -11.3400
35PK20140515  ,OVIDE-A25  ,10      ,  1,16         ,16         ,20140522,2023,  40.3330, -11.3400,     5195,    799.3,2,  11.2960,2,  36.0330,2,  36.0330,2,    178.2,2,    179.0,2,     8.08,2,    16.03,2,     0.00,2,   2375.3,2,   7.7920,2,20140522,2149,  40.3330, -11.3400
35PK20140515  ,OVIDE-A25  ,10      ,  1,15         ,15         ,20140522,2023,  40.3330, -11.3400,     5195,    900.8,2,  11.0900,2,  36.0720,2,  36.0720,2,    178.1,2,    179.1,2,     8.56,2,    16.24,2,     0.00,2,     -999,9,   7.7940,2,20140522,2146,  40.3330, -11.3400
35PK20140515  ,OVIDE-A25  ,10      ,  1,14         ,14         ,20140522,2023,  40.3330, -11.3400,     5195,    998.6,2,  10.9010,2,  36.1220,2,  36.1220,2,    179.4,2,    180.3,2,     9.00,2,    16.25,2,     0.00,2,   2388.9,2,   7.7950,2,20140522,2144,  40.3330, -11.3400
35PK20140515  ,OVIDE-A25  ,10      ,  1,13         ,13         ,20140522,2023,  40.3330, -11.3400,     5195,   1199.8,2,  10.3580,2,  36.1210,2,  36.1210,2,    185.6,2,    186.3,2,     9.61,2,    16.20,2,     0.00,2,   2388.1,2,   7.7930,2,20140522,2140,  40.3330, -11.3400
35PK20140515  ,OVIDE-A25  ,10      ,  1,12         ,12         ,20140522,2023,  40.3330, -11.3400,     5195,   1399.9,2,   8.3720,2,  35.7670,2,  35.7680,2,    205.3,2,    205.5,2,    11.21,2,    17.17,2,     0.00,2,   2364.8,2,   7.7730,2,20140522,2135,  40.3330, -11.3400
35PK20140515  ,OVIDE-A25  ,10      ,  1,11         ,11         ,20140522,2023,  40.3330, -11.3400,     5195,   1596.9,2,   6.0650,2,  35.3650,2,  35.3700,2,    231.0,2,    230.2,2,    13.05,2,    17.94,2,     0.00,2,   2342.4,2,   7.7520,2,20140522,2131,  40.3330, -11.3400
35PK20140515  ,OVIDE-A25  ,10      ,  1,10         ,10         ,20140522,2023,  40.3330, -11.3400,     5195,   1800.2,2,   4.7550,2,  35.1580,2,  35.1650,4,    246.0,2,    244.8,2,    14.74,2,    18.23,2,     0.00,2,   2327.3,2,   7.7450,2,20140522,2127,  40.3330, -11.3400
35PK20140515  ,OVIDE-A25  ,10      ,  1,9          ,9          ,20140522,2023,  40.3330, -11.3400,     5195,   2000.0,2,   4.0510,2,  35.0650,2,  35.0660,2,    250.3,2,    250.7,2,    17.87,2,    18.74,2,     0.00,2,   2325.5,2,   7.7430,2,20140522,2122,  40.3330, -11.3400
35PK20140515  ,OVIDE-A25  ,10      ,  1,8          ,8          ,20140522,2023,  40.3330, -11.3400,     5195,   2248.5,2,   3.5480,2,  35.0140,2,  35.0140,2,    250.1,2,    250.6,2,    22.53,2,    19.44,2,     0.00,2,     -999,9,   7.7440,2,20140522,2118,  40.3330, -11.3400
35PK20140515  ,OVIDE-A25  ,10      ,  1,7          ,7          ,20140522,2023,  40.3330, -11.3400,     5195,   2498.4,2,   3.2280,2,  34.9890,2,  34.9900,2,    246.4,2,    247.3,2,    27.94,2,    20.28,2,     0.00,2,   2333.6,2,   7.7440,2,20140522,2112,  40.3330, -11.3400
35PK20140515  ,OVIDE-A25  ,10      ,  1,6          ,6          ,20140522,2023,  40.3330, -11.3400,     5195,   2999.4,2,   2.8100,2,  34.9450,2,  34.9450,2,    245.7,2,    246.8,2,    33.60,2,    20.92,2,     0.00,2,   2339.7,2,   7.7450,2,20140522,2103,  40.3330, -11.3400
35PK20140515  ,OVIDE-A25  ,10      ,  1,5          ,5          ,20140522,2023,  40.3330, -11.3400,     5195,   3250.8,2,   2.6850,2,  34.9340,2,  34.9390,4,    244.3,2,    245.5,2,    36.31,2,    21.29,2,     0.00,2,     -999,9,   7.7450,2,20140522,2058,  40.3330, -11.3400
35PK20140515  ,OVIDE-A25  ,10      ,  1,4          ,4          ,20140522,2023,  40.3330, -11.3400,     5195,   3499.7,2,   2.6010,2,  34.9240,2,  34.9240,2,    242.8,2,    244.8,2,    39.49,2,    21.72,2,     0.00,2,   2347.2,2,   7.7430,2,20140522,2053,  40.3330, -11.3400
35PK20140515  ,OVIDE-A25  ,10      ,  1,3          ,3          ,20140522,2023,  40.3330, -11.3400,     5195,   3999.7,2,   2.4990,2,  34.9090,2,  34.9090,2,    242.4,2,    243.2,2,    42.94,2,    22.19,2,     0.00,2,   2349.1,2,   7.7440,2,20140522,2044,  40.3330, -11.3400
35PK20140515  ,OVIDE-A25  ,10      ,  1,2          ,2          ,20140522,2023,  40.3330, -11.3400,     5195,   4500.9,2,   2.4700,2,  34.9010,2,  34.9030,2,    242.9,2,    243.6,2,    44.51,2,    22.35,2,     0.00,2,   2353.3,2,   7.7440,2,20140522,2035,  40.3330, -11.3400
35PK20140515  ,OVIDE-A25  ,10      ,  1,1          ,1          ,20140522,2023,  40.3330, -11.3400,     5195,   5185.4,2,   2.5350,2,  34.8980,2,  34.9010,2,    243.7,2,     -999,9,    45.27,2,    22.46,2,     0.00,2,   2351.8,2,   7.7440,2,20140522,2023,  40.3330, -11.3400