BOTTLE,20240403CCHHYDRO
EXPOCODE,SECT_ID,STNNBR,CASTNO,SAMPNO,BTLNBR,DATE,TIME,LATITUDE,LONGITUDE,DEPTH,CTDPRS,CTDPRS_FLAG_W,CTDTMP,CTDTMP_FLAG_W,CTDSAL,CTDSAL_FLAG_W,SALNTY,SALNTY_FLAG_W,CTDOXY,CTDOXY_FLAG_W,OXYGEN,OXYGEN_FLAG_W,SILCAT,SILCAT_FLAG_W,NITRAT,NITRAT_FLAG_W,NITRIT,NITRIT_FLAG_W,ALKALI,ALKALI_FLAG_W,PH_TOT,PH_TOT_FLAG_W,BTL_DATE,BTL_TIME,BTL_LAT,BTL_LON
,,,,,,,,,,METERS,DBAR,,ITS-90,,PSS-78,,PSS-78,,UMOL/KG,,UMOL/KG,,UMOL/KG,,UMOL/KG,,UMOL/KG,,UMOL/KG,,,,,,,
35PK20140515  ,OVIDE-A25  ,71      ,  1,24         ,24         ,20140624,1310,  53.6920, -49.4330,     3700,      4.8,2,   7.2920,2,  34.6780,2,  34.6770,2,    320.8,2,    319.3,2,     1.39,2,     1.75,2,     0.15,2,   2301.4,2,   7.9180,2,20140624,1445,  53.6920, -49.4330
35PK20140515  ,OVIDE-A25  ,71      ,  1,23         ,23         ,20140624,1310,  53.6920, -49.4330,     3700,     50.0,2,   5.7810,2,  34.7210,2,  34.7230,2,    305.1,2,    309.0,2,     6.18,2,     8.04,2,     0.00,2,     -999,9,   7.8070,2,20140624,1442,  53.6920, -49.4330
35PK20140515  ,OVIDE-A25  ,71      ,  1,22         ,22         ,20140624,1310,  53.6920, -49.4330,     3700,     99.6,2,   4.2230,2,  34.7470,2,  34.7440,2,    298.6,2,    297.0,2,     7.54,2,    14.23,2,     0.14,2,   2295.6,2,   7.7290,2,20140624,1441,  53.6920, -49.4330
35PK20140515  ,OVIDE-A25  ,71      ,  1,21         ,21         ,20140624,1310,  53.6920, -49.4330,     3700,    150.1,2,   3.6470,2,  34.7470,2,  34.7430,2,    304.3,2,    305.0,2,     7.53,2,    13.22,2,     0.00,2,     -999,9,   7.7270,2,20140624,1439,  53.6920, -49.4330
35PK20140515  ,OVIDE-A25  ,71      ,  1,20         ,20         ,20140624,1310,  53.6920, -49.4330,     3700,    249.6,2,   3.4100,2,  34.7580,2,  34.7580,2,    305.8,2,    305.2,2,     7.55,2,    14.90,2,     0.03,2,   2295.6,2,   7.7230,2,20140624,1436,  53.6920, -49.4330
35PK20140515  ,OVIDE-A25  ,71      ,  1,19         ,19         ,20140624,1310,  53.6920, -49.4330,     3700,    349.6,2,   3.8490,2,  34.8400,2,  34.8350,2,    289.0,2,    288.8,2,     8.28,2,    15.74,2,     0.01,2,     -999,9,   7.7180,2,20140624,1433,  53.6920, -49.4330
35PK20140515  ,OVIDE-A25  ,71      ,  1,18         ,18         ,20140624,1310,  53.6920, -49.4330,     3700,    399.6,2,   3.7320,2,  34.8360,2,  34.8350,2,    291.0,2,    290.6,2,     8.14,2,    15.88,2,     0.02,2,   2300.3,2,   7.7170,2,20140624,1432,  53.6920, -49.4330
35PK20140515  ,OVIDE-A25  ,71      ,  1,17         ,17         ,20140624,1310,  53.6920, -49.4330,     3700,    500.0,2,   3.7730,2,  34.8530,2,  34.8540,2,    289.4,2,    288.5,2,     8.27,2,    15.71,2,     0.02,2,     -999,9,   7.7180,2,20140624,1429,  53.6920, -49.4330
35PK20140515  ,OVIDE-A25  ,71      ,  1,16         ,16         ,20140624,1310,  53.6920, -49.4330,     3700,    599.8,2,   3.6990,2,  34.8570,2,  34.8560,2,    290.7,2,    289.9,2,     8.37,2,    15.81,2,     0.01,2,   2300.9,2,   7.7200,2,20140624,1426,  53.6920, -49.4330
35PK20140515  ,OVIDE-A25  ,71      ,  1,15         ,15         ,20140624,1310,  53.6920, -49.4330,     3700,    699.7,2,   3.6970,2,  34.8630,2,  34.8620,2,    290.3,2,    290.4,2,     8.32,2,    15.85,2,     0.01,2,     -999,9,   7.7200,2,20140624,1423,  53.6920, -49.4330
35PK20140515  ,OVIDE-A25  ,71      ,  1,14         ,14         ,20140624,1310,  53.6920, -49.4330,     3700,    800.5,2,   3.6430,2,  34.8600,2,  34.8590,2,    292.0,2,    291.3,2,     8.30,2,    15.77,2,     0.01,2,   2301.0,2,   7.7220,2,20140624,1420,  53.6920, -49.4330
35PK20140515  ,OVIDE-A25  ,71      ,  1,13         ,13         ,20140624,1310,  53.6920, -49.4330,     3700,    999.9,2,   3.5480,2,  34.8530,2,  34.8510,2,    296.1,2,    294.9,2,     8.35,2,    15.84,2,     0.01,2,   2300.1,2,   7.7220,2,20140624,1415,  53.6920, -49.4330
35PK20140515  ,OVIDE-A25  ,71      ,  1,12         ,12         ,20140624,1310,  53.6920, -49.4330,     3700,   1199.9,2,   3.7140,2,  34.8860,2,  34.8860,2,    285.0,2,    284.7,2,     9.06,2,    16.26,2,     0.01,2,   2302.1,2,   7.7210,2,20140624,1410,  53.6920, -49.4330
35PK20140515  ,OVIDE-A25  ,71      ,  1,11         ,11         ,20140624,1310,  53.6920, -49.4330,     3700,   1399.2,2,   3.7610,2,  34.9110,2,  34.9100,2,    276.2,2,    276.4,2,    10.14,2,    16.82,2,     0.01,2,   2304.4,2,   7.7260,2,20140624,1405,  53.6920, -49.4330
35PK20140515  ,OVIDE-A25  ,71      ,  1,10         ,10         ,20140624,1310,  53.6920, -49.4330,     3700,   1599.5,2,   3.6930,2,  34.9220,2,  34.9220,2,    273.2,2,    273.3,2,    10.60,2,    16.93,2,     0.00,2,   2303.7,2,   7.7270,2,20140624,1400,  53.6920, -49.4330
35PK20140515  ,OVIDE-A25  ,71      ,  1,9          ,9          ,20140624,1310,  53.6920, -49.4330,     3700,   1799.1,2,   3.5460,2,  34.9260,2,  34.9260,2,    273.5,2,    273.6,2,    10.93,2,    16.83,2,     0.01,2,     -999,9,   7.7280,2,20140624,1356,  53.6920, -49.4330
35PK20140515  ,OVIDE-A25  ,71      ,  1,8          ,8          ,20140624,1310,  53.6920, -49.4330,     3700,   2000.2,2,   3.3900,2,  34.9220,2,  34.9180,2,    274.9,2,    275.3,2,     -999,9,    16.82,2,     0.00,2,   2304.2,2,   7.7340,2,20140624,1351,  53.6920, -49.4330
35PK20140515  ,OVIDE-A25  ,71      ,  1,7          ,7          ,20140624,1310,  53.6920, -49.4330,     3700,   2249.4,2,   3.1880,2,  34.9220,2,  34.9210,2,    276.6,2,    276.3,2,    11.94,2,    16.59,2,     0.01,2,     -999,9,   7.7340,2,20140624,1345,  53.6920, -49.4330
35PK20140515  ,OVIDE-A25  ,71      ,  1,6          ,6          ,20140624,1310,  53.6920, -49.4330,     3700,   2500.2,2,   2.9960,2,  34.9240,2,  34.9240,2,    277.6,2,    297.4,4,    12.49,2,    16.35,2,     0.00,2,   2306.7,2,   7.7370,2,20140624,1339,  53.6920, -49.4330
35PK20140515  ,OVIDE-A25  ,71      ,  1,5          ,5          ,20140624,1310,  53.6920, -49.4330,     3700,   2750.1,2,   2.8870,2,  34.9360,2,  34.9350,2,    276.1,2,    276.0,2,    13.73,2,    16.39,2,     0.00,2,     -999,9,   7.7350,2,20140624,1334,  53.6920, -49.4330
35PK20140515  ,OVIDE-A25  ,71      ,  1,4          ,4          ,20140624,1310,  53.6920, -49.4330,     3700,   3000.1,2,   2.6260,2,  34.9200,2,  34.9190,2,    279.5,2,    279.0,2,    14.22,2,    16.15,2,     0.00,2,   2307.4,2,   7.7360,2,20140624,1328,  53.6920, -49.4330
35PK20140515  ,OVIDE-A25  ,71      ,  1,3          ,3          ,20140624,1310,  53.6920, -49.4330,     3700,   3240.3,2,   2.3830,2,  34.9100,2,  34.9090,2,    282.4,2,    281.0,2,    15.06,2,    15.95,2,     0.00,2,     -999,9,   7.7350,2,20140624,1323,  53.6920, -49.4330
35PK20140515  ,OVIDE-A25  ,71      ,  1,2          ,2          ,20140624,1310,  53.6920, -49.4330,     3700,   3499.0,2,   2.1460,2,  34.9040,2,  34.9020,2,    288.7,2,    289.2,2,    13.13,2,    15.29,2,     0.00,2,     -999,9,   7.7300,2,20140624,1315,  53.6920, -49.4330
35PK20140515  ,OVIDE-A25  ,71      ,  1,1          ,1          ,20140624,1310,  53.6920, -49.4330,     3700,   3756.1,2,   1.8330,2,  34.9040,2,  34.9040,2,    295.8,2,    294.4,2,    11.00,2,    14.30,2,     0.01,2,   2304.6,2,   7.7190,2,20140624,1310,  53.6920, -49.4330
35PK20140515  ,OVIDE-A25  ,72      ,  1,24         ,24         ,20140625,0130,  53.1410, -50.8560,     2884,      4.6,2,   6.9470,2,  34.5750,2,  34.5760,2,    325.1,2,    323.2,2,     1.59,2,     0.65,2,     0.15,2,   2297.6,2,   7.9230,2,20140625,0243,  53.1390, -50.8420
35PK20140515  ,OVIDE-A25  ,72      ,  1,23         ,23         ,20140625,0130,  53.1410, -50.8560,     2884,     24.6,2,   5.7950,2,  34.6420,2,  34.6340,4,    333.9,2,    335.8,2,     3.06,2,     3.31,2,     -999,9,     -999,9,   7.8860,2,20140625,0242,  53.1390, -50.8430
35PK20140515  ,OVIDE-A25  ,72      ,  1,22         ,22         ,20140625,0130,  53.1410, -50.8560,     2884,     49.8,2,   3.7150,2,  34.7770,2,  34.7760,2,    314.2,2,    314.0,2,     7.77,2,    13.37,2,     0.13,2,     -999,9,   7.7340,2,20140625,0240,  53.1390, -50.8430
35PK20140515  ,OVIDE-A25  ,72      ,  1,21         ,21         ,20140625,0130,  53.1410, -50.8560,     2884,    100.0,2,   3.3450,2,  34.8040,2,  34.8040,2,    307.9,2,    307.2,2,     7.74,2,    15.08,2,     -999,9,   2296.5,2,   7.7190,2,20140625,0238,  53.1390, -50.8430
35PK20140515  ,OVIDE-A25  ,72      ,  1,20         ,20         ,20140625,0130,  53.1410, -50.8560,     2884,    150.0,2,   3.3140,2,  34.8190,2,  34.8190,2,    305.7,2,    305.9,2,     7.84,2,    15.30,2,     0.02,2,     -999,9,   7.7200,2,20140625,0236,  53.1390, -50.8440
35PK20140515  ,OVIDE-A25  ,72      ,  1,19         ,19         ,20140625,0130,  53.1410, -50.8560,     2884,    200.5,2,   3.3760,2,  34.8360,2,  34.8360,2,    304.4,2,    303.5,2,     7.98,2,    15.33,2,     0.01,2,   2298.3,2,   7.7200,2,20140625,0234,  53.1390, -50.8440
35PK20140515  ,OVIDE-A25  ,72      ,  1,18         ,18         ,20140625,0130,  53.1410, -50.8560,     2884,    299.7,2,   3.4260,2,  34.8530,2,  34.8520,2,    298.3,2,    298.8,2,     8.06,2,    15.64,2,     0.01,2,     -999,9,   7.7220,2,20140625,0232,  53.1390, -50.8440
35PK20140515  ,OVIDE-A25  ,72      ,  1,17         ,17         ,20140625,0130,  53.1410, -50.8560,     2884,    399.5,2,   3.4690,2,  34.8630,2,  34.8610,2,    296.1,2,    295.5,2,     8.57,2,    15.56,2,     0.02,2,     -999,9,   7.7190,2,20140625,0229,  53.1390, -50.8450
35PK20140515  ,OVIDE-A25  ,72      ,  1,16         ,16         ,20140625,0130,  53.1410, -50.8560,     2884,    499.9,2,   3.4530,2,  34.8630,2,  34.8630,2,    296.6,2,    296.9,2,     8.21,2,    15.65,2,     0.01,2,   2299.8,2,   7.7180,2,20140625,0226,  53.1390, -50.8450
35PK20140515  ,OVIDE-A25  ,72      ,  1,15         ,15         ,20140625,0130,  53.1410, -50.8560,     2884,    599.9,2,   3.4700,2,  34.8680,2,  34.8690,2,    294.8,2,    294.2,2,     8.30,2,    15.75,2,     0.00,2,     -999,9,   7.7180,2,20140625,0224,  53.1390, -50.8460
35PK20140515  ,OVIDE-A25  ,72      ,  1,14         ,14         ,20140625,0130,  53.1410, -50.8560,     2884,    700.1,2,   3.4690,2,  34.8750,2,  34.8750,2,    294.1,2,    294.5,2,     8.32,2,    15.80,2,     0.00,2,     -999,9,   7.7180,2,20140625,0221,  53.1390, -50.8460
35PK20140515  ,OVIDE-A25  ,72      ,  1,13         ,13         ,20140625,0130,  53.1410, -50.8560,     2884,    800.2,2,   3.4590,2,  34.8710,2,  34.8700,2,    294.6,2,    296.0,2,     8.39,2,    15.80,2,     0.00,2,     -999,9,   7.7190,2,20140625,0218,  53.1390, -50.8470
35PK20140515  ,OVIDE-A25  ,72      ,  1,12         ,12         ,20140625,0130,  53.1410, -50.8560,     2884,    900.1,2,   3.5070,2,  34.8810,2,  34.8810,2,    290.6,2,    291.0,2,     8.64,2,    16.42,2,     0.00,2,     -999,9,   7.7180,2,20140625,0215,  53.1390, -50.8470
35PK20140515  ,OVIDE-A25  ,72      ,  1,11         ,11         ,20140625,0130,  53.1410, -50.8560,     2884,   1001.2,2,   3.5950,2,  34.9020,2,  34.9020,2,    282.2,2,    284.0,2,     9.35,2,    15.85,2,     0.00,2,   2301.0,2,   7.7180,2,20140625,0212,  53.1400, -50.8480
35PK20140515  ,OVIDE-A25  ,72      ,  1,10         ,10         ,20140625,0130,  53.1410, -50.8560,     2884,   1200.3,2,   3.5410,2,  34.9250,2,  34.9250,2,    275.0,2,    276.8,2,    10.33,2,    16.69,2,     0.00,2,     -999,9,   7.7220,2,20140625,0208,  53.1400, -50.8490
35PK20140515  ,OVIDE-A25  ,72      ,  1,9          ,9          ,20140625,0130,  53.1410, -50.8560,     2884,   1400.3,2,   3.3590,2,  34.9240,2,  34.9240,2,    276.0,2,    276.9,2,    10.68,2,    16.53,2,     0.00,2,   2302.1,2,   7.7250,2,20140625,0204,  53.1400, -50.8500
35PK20140515  ,OVIDE-A25  ,72      ,  1,8          ,8          ,20140625,0130,  53.1410, -50.8560,     2884,   1599.8,2,   3.1880,2,  34.9230,2,  34.9220,2,    277.7,2,    278.1,2,    10.81,2,    16.28,2,     0.00,2,     -999,9,   7.7250,2,20140625,0200,  53.1400, -50.8510
35PK20140515  ,OVIDE-A25  ,72      ,  1,7          ,7          ,20140625,0130,  53.1410, -50.8560,     2884,   1800.4,2,   3.0800,2,  34.9220,2,  34.9210,2,    278.6,2,    279.9,2,    11.04,2,    16.19,2,     0.00,2,     -999,9,   7.7250,2,20140625,0155,  53.1400, -50.8520
35PK20140515  ,OVIDE-A25  ,72      ,  1,6          ,6          ,20140625,0130,  53.1410, -50.8560,     2884,   2001.0,2,   2.9760,2,  34.9220,2,  34.9210,2,    279.4,2,    281.0,2,    11.19,2,    16.03,2,     0.00,2,   2303.7,2,   7.7260,2,20140625,0151,  53.1400, -50.8530
35PK20140515  ,OVIDE-A25  ,72      ,  1,5          ,5          ,20140625,0130,  53.1410, -50.8560,     2884,   2252.0,2,   2.8400,2,  34.9220,2,  34.9210,2,    280.3,2,    280.9,2,    11.50,2,    15.90,2,     0.00,2,     -999,9,   7.7280,2,20140625,0146,  53.1410, -50.8540
35PK20140515  ,OVIDE-A25  ,72      ,  1,4          ,4          ,20140625,0130,  53.1410, -50.8560,     2884,   2450.0,2,   2.5910,2,  34.9180,2,  34.9160,2,    282.1,2,    282.1,2,    12.17,2,    15.70,2,     0.00,2,   2304.0,2,   7.7280,2,20140625,0141,  53.1410, -50.8550
35PK20140515  ,OVIDE-A25  ,72      ,  1,3          ,3          ,20140625,0130,  53.1410, -50.8560,     2884,   2550.2,2,   2.3910,2,  34.9130,2,  34.9120,2,    285.6,2,    288.3,2,    11.92,2,    15.40,2,     0.00,2,     -999,9,   7.7230,2,20140625,0138,  53.1410, -50.8550
35PK20140515  ,OVIDE-A25  ,72      ,  1,2          ,2          ,20140625,0130,  53.1410, -50.8560,     2884,   2632.1,2,   2.2700,2,  34.9080,2,  34.9070,2,    284.8,2,    285.5,2,    13.27,2,    15.60,2,     0.00,2,     -999,9,   7.7280,2,20140625,0136,  53.1410, -50.8550
35PK20140515  ,OVIDE-A25  ,72      ,  1,1          ,1          ,20140625,0130,  53.1410, -50.8560,     2884,   2920.3,2,   1.8720,2,  34.9040,2,  34.9020,2,    295.7,2,    296.4,2,    10.07,2,    14.36,2,     0.00,2,   2301.8,2,   7.7170,2,20140625,0130,  53.1410, -50.8560