BOTTLE,20240403CCHHYDRO
EXPOCODE,SECT_ID,STNNBR,CASTNO,SAMPNO,BTLNBR,DATE,TIME,LATITUDE,LONGITUDE,DEPTH,CTDPRS,CTDPRS_FLAG_W,CTDTMP,CTDTMP_FLAG_W,CTDSAL,CTDSAL_FLAG_W,SALNTY,SALNTY_FLAG_W,CTDOXY,CTDOXY_FLAG_W,OXYGEN,OXYGEN_FLAG_W,SILCAT,SILCAT_FLAG_W,NITRAT,NITRAT_FLAG_W,NITRIT,NITRIT_FLAG_W,ALKALI,ALKALI_FLAG_W,PH_TOT,PH_TOT_FLAG_W,BTL_DATE,BTL_TIME,BTL_LAT,BTL_LON
,,,,,,,,,,METERS,DBAR,,ITS-90,,PSS-78,,PSS-78,,UMOL/KG,,UMOL/KG,,UMOL/KG,,UMOL/KG,,UMOL/KG,,UMOL/KG,,,,,,,
35PK20140515  ,OVIDE-A25  ,23      ,  1,24         ,24         ,20140602,1809,  48.0390, -20.8480,     4539,      4.7,2,  13.8420,2,  35.6830,2,  35.6830,2,    271.8,2,    270.0,2,     0.18,2,     1.63,2,     0.15,2,   2350.0,2,   7.9650,2,20140602,1957,  48.0390, -20.8480
35PK20140515  ,OVIDE-A25  ,23      ,  1,23         ,23         ,20140602,1809,  48.0390, -20.8480,     4539,     20.3,2,  13.8430,2,  35.6830,2,  35.6830,2,    271.7,2,    270.2,2,     0.42,2,     1.67,2,     0.16,2,   2349.4,2,   7.9670,2,20140602,1955,  48.0390, -20.8480
35PK20140515  ,OVIDE-A25  ,23      ,  1,22         ,22         ,20140602,1809,  48.0390, -20.8480,     4539,    100.9,2,  12.5560,2,  35.6990,2,  35.6990,2,    246.6,2,    245.2,2,     2.75,2,     8.35,2,     0.04,2,   2347.0,2,   7.8710,2,20140602,1950,  48.0390, -20.8480
35PK20140515  ,OVIDE-A25  ,23      ,  1,21         ,21         ,20140602,1809,  48.0390, -20.8480,     4539,    200.0,2,  12.1190,2,  35.6450,2,  35.6420,2,    247.4,2,    242.8,4,     3.26,2,     9.33,2,     0.02,2,   2343.2,2,   7.8590,2,20140602,1947,  48.0390, -20.8480
35PK20140515  ,OVIDE-A25  ,23      ,  1,20         ,20         ,20140602,1809,  48.0390, -20.8480,     4539,    301.3,2,  11.9390,2,  35.6240,2,  35.6240,2,    249.0,2,    247.8,2,     3.32,2,     9.66,2,     0.02,2,   2344.4,2,   7.8560,2,20140602,1945,  48.0390, -20.8480
35PK20140515  ,OVIDE-A25  ,23      ,  1,19         ,19         ,20140602,1809,  48.0390, -20.8480,     4539,    400.3,2,  11.5240,2,  35.5590,2,  35.5590,2,    238.6,2,    238.2,2,     4.06,2,    11.06,2,     0.02,2,   2338.3,2,   7.8350,2,20140602,1941,  48.0390, -20.8480
35PK20140515  ,OVIDE-A25  ,23      ,  1,18         ,18         ,20140602,1809,  48.0390, -20.8480,     4539,    500.6,2,  11.1320,2,  35.5150,2,  35.5140,2,    250.3,2,    249.5,2,     3.91,2,    10.94,2,     0.02,2,   2334.8,2,   7.8360,2,20140602,1939,  48.0390, -20.8480
35PK20140515  ,OVIDE-A25  ,23      ,  1,17         ,17         ,20140602,1809,  48.0390, -20.8480,     4539,    600.7,2,  10.8350,2,  35.4730,2,  35.4730,2,    246.8,2,    247.4,2,     4.35,2,    11.35,2,     0.02,2,   2335.8,2,   7.8260,2,20140602,1936,  48.0390, -20.8480
35PK20140515  ,OVIDE-A25  ,23      ,  1,16         ,16         ,20140602,1809,  48.0390, -20.8480,     4539,    800.6,2,   8.4560,2,  35.2490,2,  35.2450,2,    190.2,2,    190.3,2,     9.93,2,    19.20,2,     0.05,2,   2325.6,2,   7.7220,2,20140602,1932,  48.0390, -20.8480
35PK20140515  ,OVIDE-A25  ,23      ,  1,15         ,15         ,20140602,1809,  48.0390, -20.8480,     4539,    899.7,2,   7.3590,2,  35.2000,2,  35.2010,2,    202.9,2,    202.3,2,    10.50,2,    19.19,2,     0.01,2,   2321.6,2,   7.7180,2,20140602,1929,  48.0390, -20.8480
35PK20140515  ,OVIDE-A25  ,23      ,  1,14         ,14         ,20140602,1809,  48.0390, -20.8480,     4539,   1000.0,2,   6.6530,2,  35.1630,2,  35.1640,2,    216.9,2,    216.5,2,    10.55,2,    18.88,2,     0.01,2,   2321.6,2,   7.7190,2,20140602,1926,  48.0390, -20.8480
35PK20140515  ,OVIDE-A25  ,23      ,  1,13         ,13         ,20140602,1809,  48.0390, -20.8480,     4539,   1200.2,2,   5.5760,2,  35.1030,2,  35.1030,2,    239.7,2,    238.6,2,    10.21,2,    18.27,2,     0.01,2,   2316.7,2,   7.7230,2,20140602,1920,  48.0390, -20.8480
35PK20140515  ,OVIDE-A25  ,23      ,  1,12         ,12         ,20140602,1809,  48.0390, -20.8480,     4539,   1400.3,2,   4.6750,2,  35.0130,2,  35.0130,2,    256.7,2,    255.4,2,    10.29,2,    17.69,2,     0.24,3,   2313.5,2,   7.7220,2,20140602,1915,  48.0390, -20.8480
35PK20140515  ,OVIDE-A25  ,23      ,  1,11         ,11         ,20140602,1809,  48.0390, -20.8480,     4539,   1600.0,2,   4.0840,2,  34.9480,2,  34.9470,2,    266.9,2,    265.7,2,    10.45,2,    17.53,2,     0.24,3,   2309.5,2,   7.7220,2,20140602,1911,  48.0390, -20.8480
35PK20140515  ,OVIDE-A25  ,23      ,  1,10         ,10         ,20140602,1809,  48.0390, -20.8480,     4539,   1799.9,2,   3.8010,2,  34.9260,2,  34.9270,2,    270.2,2,    269.2,2,    10.84,2,    17.46,2,     0.24,3,   2308.5,2,   7.7260,2,20140602,1906,  48.0390, -20.8480
35PK20140515  ,OVIDE-A25  ,23      ,  1,9          ,9          ,20140602,1809,  48.0390, -20.8480,     4539,   2000.2,2,   3.5980,2,  34.9200,2,  34.9190,2,    271.5,2,    270.6,2,    11.54,2,    17.56,2,     0.24,3,   2306.5,2,   7.7290,2,20140602,1901,  48.0390, -20.8480
35PK20140515  ,OVIDE-A25  ,23      ,  1,8          ,8          ,20140602,1809,  48.0390, -20.8480,     4539,   2250.3,2,   3.3720,2,  34.9180,2,  34.9180,2,    272.9,2,    272.5,2,    12.83,2,    17.33,2,     0.26,3,   2305.5,2,   7.7320,2,20140602,1856,  48.0390, -20.8480
35PK20140515  ,OVIDE-A25  ,23      ,  1,7          ,7          ,20140602,1809,  48.0390, -20.8480,     4539,   2500.6,2,   3.2020,2,  34.9290,2,  34.9290,2,    270.7,2,    270.4,2,    14.85,2,    17.45,2,     0.28,3,   2311.2,2,   7.7340,2,20140602,1850,  48.0390, -20.8480
35PK20140515  ,OVIDE-A25  ,23      ,  1,6          ,6          ,20140602,1809,  48.0390, -20.8480,     4539,   2750.8,2,   3.0580,2,  34.9420,2,  34.9410,2,    265.5,2,    265.2,2,    18.70,2,    17.81,2,     0.29,3,   2319.5,2,   7.7350,2,20140602,1845,  48.0390, -20.8480
35PK20140515  ,OVIDE-A25  ,23      ,  1,5          ,5          ,20140602,1809,  48.0390, -20.8480,     4539,   3000.6,2,   2.9070,2,  34.9470,2,  34.9540,4,    260.2,2,    260.1,2,    22.50,2,    18.29,2,     0.28,3,   2324.7,2,   7.7360,2,20140602,1840,  48.0390, -20.8480
35PK20140515  ,OVIDE-A25  ,23      ,  1,4          ,4          ,20140602,1809,  48.0390, -20.8480,     4539,   3250.4,2,   2.7710,2,  34.9400,2,  34.9410,2,    251.7,2,    252.0,2,    30.10,2,    19.77,2,     0.27,3,   2334.7,2,   7.7390,2,20140602,1834,  48.0390, -20.8480
35PK20140515  ,OVIDE-A25  ,23      ,  1,3          ,3          ,20140602,1809,  48.0390, -20.8480,     4539,   3500.3,2,   2.6570,2,  34.9290,2,  34.9290,2,    245.9,2,    246.1,2,    36.30,2,    20.78,2,     0.31,3,   2343.0,2,   7.7400,2,20140602,1829,  48.0390, -20.8480
35PK20140515  ,OVIDE-A25  ,23      ,  1,2          ,2          ,20140602,1809,  48.0390, -20.8480,     4539,   4000.4,2,   2.5580,2,  34.9150,2,  34.9750,4,    240.8,2,    241.8,2,    36.33,3,    20.67,2,     0.30,3,   2346.5,2,   7.7480,2,20140602,1819,  48.0390, -20.8480
35PK20140515  ,OVIDE-A25  ,23      ,  1,1          ,1          ,20140602,1809,  48.0390, -20.8480,     4539,   4529.2,2,   2.5610,2,  34.9080,2,  34.9080,2,    240.0,2,    240.3,2,    43.96,2,    22.20,2,     0.29,3,   2355.0,2,   7.7430,2,20140602,1809,  48.0390, -20.8480
35PK20140515  ,OVIDE-A25  ,24      ,  1,24         ,24         ,20140603,0701,  48.7850, -21.4320,     4144,      5.9,2,  13.3210,2,  35.6300,2,  35.6310,2,    270.3,2,    268.2,2,     1.36,2,     2.99,2,     0.14,2,   2347.1,2,   7.9440,2,20140603,0841,  48.7850, -21.4320
35PK20140515  ,OVIDE-A25  ,24      ,  1,23         ,23         ,20140603,0701,  48.7850, -21.4320,     4144,     39.8,2,  12.6830,2,  35.6200,2,  35.6210,2,    258.1,2,    259.0,2,     2.04,2,     4.90,2,     0.20,2,   2347.2,2,   7.9100,2,20140603,0839,  48.7850, -21.4320
35PK20140515  ,OVIDE-A25  ,24      ,  1,22         ,22         ,20140603,0701,  48.7850, -21.4320,     4144,    100.2,2,  11.6860,2,  35.5780,2,  35.5770,2,    247.5,2,    246.4,2,     3.88,2,    10.57,2,     0.05,2,   2341.2,2,   7.8500,2,20140603,0836,  48.7850, -21.4320
35PK20140515  ,OVIDE-A25  ,24      ,  1,21         ,21         ,20140603,0701,  48.7850, -21.4320,     4144,    200.3,2,  11.1020,2,  35.5070,2,  35.5070,2,    251.7,2,    249.4,2,     4.29,2,    11.11,2,     0.04,2,   2338.4,2,   7.8350,2,20140603,0833,  48.7850, -21.4320
35PK20140515  ,OVIDE-A25  ,24      ,  1,20         ,20         ,20140603,0701,  48.7850, -21.4320,     4144,    300.5,2,  10.7910,2,  35.4670,2,  35.4670,2,    256.6,2,    253.8,2,     4.46,2,    11.29,2,     0.05,2,   2335.4,2,   7.8320,2,20140603,0830,  48.7850, -21.4320
35PK20140515  ,OVIDE-A25  ,24      ,  1,19         ,19         ,20140603,0701,  48.7850, -21.4320,     4144,    399.5,2,  10.5590,2,  35.4510,2,  35.4520,2,    248.9,2,    247.4,2,     4.57,2,    11.54,2,     0.06,2,   2333.6,2,   7.8210,2,20140603,0828,  48.7850, -21.4320
35PK20140515  ,OVIDE-A25  ,24      ,  1,18         ,18         ,20140603,0701,  48.7850, -21.4320,     4144,    499.7,2,  10.0290,2,  35.3750,2,  35.3690,4,    235.9,2,    237.2,2,     5.80,2,    13.49,2,     0.05,2,   2330.5,2,   7.7980,2,20140603,0825,  48.7850, -21.4320
35PK20140515  ,OVIDE-A25  ,24      ,  1,17         ,17         ,20140603,0701,  48.7850, -21.4320,     4144,    600.4,2,   9.2830,2,  35.3120,2,  35.3130,2,    200.1,2,    199.7,2,     8.43,2,    17.15,2,     0.04,2,   2328.7,2,   7.7450,2,20140603,0821,  48.7850, -21.4320
35PK20140515  ,OVIDE-A25  ,24      ,  1,16         ,16         ,20140603,0701,  48.7850, -21.4320,     4144,    800.5,2,   7.7360,2,  35.2950,2,  35.2950,2,    203.9,2,    202.1,2,    10.39,2,    18.53,2,     0.05,2,   2331.3,2,   7.7230,2,20140603,0816,  48.7850, -21.4320
35PK20140515  ,OVIDE-A25  ,24      ,  1,15         ,15         ,20140603,0701,  48.7850, -21.4320,     4144,    899.9,2,   7.4110,2,  35.3390,2,  35.3400,2,    210.4,2,    209.1,2,    10.50,2,    18.26,2,     0.08,2,   2335.7,2,   7.7310,2,20140603,0812,  48.7850, -21.4320
35PK20140515  ,OVIDE-A25  ,24      ,  1,14         ,14         ,20140603,0701,  48.7850, -21.4320,     4144,   1000.8,2,   6.6220,2,  35.2570,2,  35.2550,2,    224.7,2,    222.1,2,    10.52,2,    18.13,2,     0.09,2,   2330.1,2,   7.7280,2,20140603,0808,  48.7850, -21.4320
35PK20140515  ,OVIDE-A25  ,24      ,  1,13         ,13         ,20140603,0701,  48.7850, -21.4320,     4144,   1199.8,2,   4.9380,2,  35.0350,2,  35.0360,2,    253.2,2,    251.3,2,    10.27,2,    17.74,2,     0.11,2,   2314.3,2,   7.7180,2,20140603,0803,  48.7850, -21.4320
35PK20140515  ,OVIDE-A25  ,24      ,  1,12         ,12         ,20140603,0701,  48.7850, -21.4320,     4144,   1400.0,2,   4.2150,2,  34.9480,2,  34.9490,2,    267.2,2,    265.2,2,    10.07,2,    17.38,2,     0.10,2,   2308.2,2,   7.7210,2,20140603,0758,  48.7850, -21.4320
35PK20140515  ,OVIDE-A25  ,24      ,  1,11         ,11         ,20140603,0701,  48.7850, -21.4320,     4144,   1599.4,2,   3.9390,2,  34.9300,2,  34.9310,2,    270.5,2,    269.1,2,    10.47,2,    17.39,2,     0.07,2,   2306.2,2,   7.7220,2,20140603,0754,  48.7850, -21.4320
35PK20140515  ,OVIDE-A25  ,24      ,  1,10         ,10         ,20140603,0701,  48.7850, -21.4320,     4144,   1799.5,2,   3.7710,2,  34.9320,2,  34.9380,4,    269.8,2,    267.5,2,    11.32,2,    17.50,2,     0.04,2,   2306.6,2,   7.7300,2,20140603,0750,  48.7850, -21.4320
35PK20140515  ,OVIDE-A25  ,24      ,  1,9          ,9          ,20140603,0701,  48.7850, -21.4320,     4144,   2000.1,2,   3.5230,2,  34.9230,2,  34.9260,2,    272.6,2,    270.8,2,    11.83,2,    17.39,2,     0.02,2,   2306.1,2,   7.7320,2,20140603,0745,  48.7850, -21.4320
35PK20140515  ,OVIDE-A25  ,24      ,  1,8          ,8          ,20140603,0701,  48.7850, -21.4320,     4144,   2250.2,2,   3.3270,2,  34.9240,2,  34.9260,2,    273.7,2,    272.7,2,    12.53,2,    17.25,2,     0.01,2,   2307.9,2,   7.7330,2,20140603,0740,  48.7850, -21.4320
35PK20140515  ,OVIDE-A25  ,24      ,  1,7          ,7          ,20140603,0701,  48.7850, -21.4320,     4144,   2500.5,2,   3.1550,2,  34.9350,2,  34.9360,2,    271.8,2,    270.1,2,    14.59,2,    17.24,2,     0.02,2,   2309.6,2,   7.7340,2,20140603,0734,  48.7850, -21.4320
35PK20140515  ,OVIDE-A25  ,24      ,  1,6          ,6          ,20140603,0701,  48.7850, -21.4320,     4144,   2751.3,2,   2.9920,2,  34.9440,2,  34.9430,2,    265.3,2,    264.3,2,    19.47,2,    17.94,2,     0.03,2,   2318.2,2,   7.7360,2,20140603,0729,  48.7850, -21.4320
35PK20140515  ,OVIDE-A25  ,24      ,  1,5          ,5          ,20140603,0701,  48.7850, -21.4320,     4144,   3000.8,2,   2.8540,2,  34.9450,2,  34.9460,2,    255.3,2,    254.9,2,    27.16,2,    19.33,2,     0.05,2,   2330.6,2,   7.7400,2,20140603,0725,  48.7850, -21.4320
35PK20140515  ,OVIDE-A25  ,24      ,  1,4          ,4          ,20140603,0701,  48.7850, -21.4320,     4144,   3250.8,2,   2.7260,2,  34.9370,2,  34.9370,2,    250.8,2,    250.7,2,    31.64,2,    20.05,2,     0.07,2,   2336.6,2,   7.7400,2,20140603,0719,  48.7850, -21.4320
35PK20140515  ,OVIDE-A25  ,24      ,  1,3          ,3          ,20140603,0701,  48.7850, -21.4320,     4144,   3499.4,2,   2.6190,2,  34.9260,2,  34.9260,2,    244.8,2,    244.4,2,    37.41,2,    21.08,2,     0.08,2,   2345.8,2,   7.7420,2,20140603,0714,  48.7850, -21.4320
35PK20140515  ,OVIDE-A25  ,24      ,  1,2          ,2          ,20140603,0701,  48.7850, -21.4320,     4144,   3749.6,2,   2.5360,2,  34.9150,2,  34.9300,4,    241.1,2,    241.3,2,    39.77,2,    21.40,2,     0.07,2,   2349.0,2,   7.7430,2,20140603,0709,  48.7850, -21.4320
35PK20140515  ,OVIDE-A25  ,24      ,  1,1          ,1          ,20140603,0701,  48.7850, -21.4320,     4144,   4134.1,2,   2.5380,2,  34.9110,2,  34.9120,2,    240.4,2,    239.9,2,    43.16,2,    22.13,2,     0.04,2,   2353.0,2,   7.7430,2,20140603,0701,  48.7850, -21.4320