BOTTLE,20240403CCHHYDRO
EXPOCODE,SECT_ID,STNNBR,CASTNO,SAMPNO,BTLNBR,DATE,TIME,LATITUDE,LONGITUDE,DEPTH,CTDPRS,CTDPRS_FLAG_W,CTDTMP,CTDTMP_FLAG_W,CTDSAL,CTDSAL_FLAG_W,SALNTY,SALNTY_FLAG_W,CTDOXY,CTDOXY_FLAG_W,OXYGEN,OXYGEN_FLAG_W,SILCAT,SILCAT_FLAG_W,NITRAT,NITRAT_FLAG_W,NITRIT,NITRIT_FLAG_W,ALKALI,ALKALI_FLAG_W,PH_TOT,PH_TOT_FLAG_W,BTL_DATE,BTL_TIME,BTL_LAT,BTL_LON
,,,,,,,,,,METERS,DBAR,,ITS-90,,PSS-78,,PSS-78,,UMOL/KG,,UMOL/KG,,UMOL/KG,,UMOL/KG,,UMOL/KG,,UMOL/KG,,,,,,,
35PK20140515  ,OVIDE-A25  ,27      ,  1,24         ,24         ,20140605,0824,  51.0300, -23.1910,     3999,      3.3,2,  11.8860,2,  35.3740,2,  35.3740,2,    278.4,2,    277.1,2,     0.97,2,     5.40,2,     0.14,2,   2331.9,2,   7.9020,2,20140605,0959,  51.0300, -23.1910
35PK20140515  ,OVIDE-A25  ,27      ,  1,23         ,23         ,20140605,0824,  51.0300, -23.1910,     3999,     40.3,2,  11.0330,2,  35.3370,2,  35.3400,2,    276.6,2,    275.0,2,     1.33,2,     7.11,2,     0.16,2,   2329.9,2,   7.8720,2,20140605,0957,  51.0300, -23.1910
35PK20140515  ,OVIDE-A25  ,27      ,  1,22         ,22         ,20140605,0824,  51.0300, -23.1910,     3999,    100.7,2,   9.9750,2,  35.3220,2,  35.3230,2,    257.0,2,    258.0,2,     4.53,2,    11.94,2,     0.23,2,   2327.4,2,   7.8150,2,20140605,0954,  51.0300, -23.1910
35PK20140515  ,OVIDE-A25  ,27      ,  1,21         ,21         ,20140605,0824,  51.0300, -23.1910,     3999,    200.1,2,   8.5580,2,  35.1260,2,  35.1240,2,    256.2,2,    254.4,2,     6.59,2,    14.45,2,     0.01,2,   2316.3,2,   7.7760,2,20140605,0951,  51.0300, -23.1910
35PK20140515  ,OVIDE-A25  ,27      ,  1,20         ,20         ,20140605,0824,  51.0300, -23.1910,     3999,    300.8,2,   7.8050,2,  35.0290,2,  35.0270,2,    260.7,2,    259.9,2,     6.96,2,    14.81,2,     0.02,2,   2312.1,2,   7.7660,2,20140605,0948,  51.0300, -23.1910
35PK20140515  ,OVIDE-A25  ,27      ,  1,19         ,19         ,20140605,0824,  51.0300, -23.1910,     3999,    400.4,2,   6.9770,2,  35.0030,2,  35.0040,2,    219.3,2,    220.1,2,     9.82,2,    18.31,2,     0.01,2,   2311.4,2,   7.7160,2,20140605,0946,  51.0300, -23.1910
35PK20140515  ,OVIDE-A25  ,27      ,  1,18         ,18         ,20140605,0824,  51.0300, -23.1910,     3999,    500.5,2,   6.7540,2,  35.1090,2,  35.1130,2,    212.3,2,    212.0,2,    10.74,2,    19.10,2,     0.01,2,   2318.2,2,   7.7140,2,20140605,0943,  51.0300, -23.1910
35PK20140515  ,OVIDE-A25  ,27      ,  1,17         ,17         ,20140605,0824,  51.0300, -23.1910,     3999,    600.5,2,   6.3910,2,  35.1400,2,  35.1410,2,    223.8,2,    222.4,2,    10.55,2,    18.58,2,     0.01,2,   2320.0,2,   7.7170,2,20140605,0940,  51.0300, -23.1910
35PK20140515  ,OVIDE-A25  ,27      ,  1,16         ,16         ,20140605,0824,  51.0300, -23.1910,     3999,    701.2,2,   5.3820,2,  35.0340,2,  35.0350,2,    242.8,2,    242.4,2,    10.24,2,    18.25,2,     0.01,2,   2312.2,2,   7.7130,2,20140605,0938,  51.0300, -23.1910
35PK20140515  ,OVIDE-A25  ,27      ,  1,15         ,15         ,20140605,0824,  51.0300, -23.1910,     3999,    850.5,2,   5.1350,2,  35.0530,2,  35.0540,2,    248.6,2,    248.4,2,    10.28,2,    18.06,2,     0.01,2,   2314.7,2,   7.7200,2,20140605,0934,  51.0300, -23.1910
35PK20140515  ,OVIDE-A25  ,27      ,  1,14         ,14         ,20140605,0824,  51.0300, -23.1910,     3999,   1000.6,2,   4.2110,2,  34.9320,2,  34.9320,2,    271.0,2,    269.7,2,     9.71,2,    17.43,2,     0.01,2,   2306.4,2,   7.7180,2,20140605,0931,  51.0300, -23.1910
35PK20140515  ,OVIDE-A25  ,27      ,  1,13         ,13         ,20140605,0824,  51.0300, -23.1910,     3999,   1199.6,2,   3.9620,2,  34.9180,2,  34.9190,2,    273.7,2,    272.8,2,     9.86,2,    17.38,2,     0.01,2,   2304.2,2,   7.7210,2,20140605,0926,  51.0300, -23.1910
35PK20140515  ,OVIDE-A25  ,27      ,  1,12         ,12         ,20140605,0824,  51.0300, -23.1910,     3999,   1400.4,2,   3.8340,2,  34.9170,2,  34.9180,2,    273.2,2,    272.6,2,    10.30,2,    17.43,2,     0.00,2,   2304.5,2,   7.7230,2,20140605,0922,  51.0300, -23.1910
35PK20140515  ,OVIDE-A25  ,27      ,  1,11         ,11         ,20140605,0824,  51.0300, -23.1910,     3999,   1600.6,2,   3.6970,2,  34.9210,2,  34.9200,2,    272.4,2,    271.7,2,    10.95,2,    17.48,2,     0.00,2,   2305.5,2,   7.7260,2,20140605,0917,  51.0300, -23.1910
35PK20140515  ,OVIDE-A25  ,27      ,  1,10         ,10         ,20140605,0824,  51.0300, -23.1910,     3999,   1800.6,2,   3.5770,2,  34.9220,2,  34.9220,2,    272.5,2,    271.9,2,    11.43,2,    17.44,2,     0.00,2,   2305.2,2,   7.7290,2,20140605,0913,  51.0300, -23.1910
35PK20140515  ,OVIDE-A25  ,27      ,  1,9          ,9          ,20140605,0824,  51.0300, -23.1910,     3999,   2000.6,2,   3.4170,2,  34.9230,2,  34.9250,2,    273.8,2,    273.5,2,    11.91,2,    17.38,2,     0.00,2,   2305.6,2,   7.7320,2,20140605,0908,  51.0300, -23.1910
35PK20140515  ,OVIDE-A25  ,27      ,  1,8          ,8          ,20140605,0824,  51.0300, -23.1910,     3999,   2250.4,2,   3.2370,2,  34.9280,2,  34.9280,2,    273.5,2,    272.9,2,    13.36,2,    17.33,2,     0.00,2,   2309.9,2,   7.7350,2,20140605,0902,  51.0300, -23.1910
35PK20140515  ,OVIDE-A25  ,27      ,  1,7          ,7          ,20140605,0824,  51.0300, -23.1910,     3999,   2500.3,2,   3.1110,2,  34.9410,2,  34.9410,2,    272.2,2,    271.7,2,    14.61,2,    17.30,2,     0.00,2,   2312.3,2,   7.7340,2,20140605,0857,  51.0300, -23.1910
35PK20140515  ,OVIDE-A25  ,27      ,  1,6          ,6          ,20140605,0824,  51.0300, -23.1910,     3999,   2750.2,2,   2.9770,2,  34.9510,2,  34.9500,2,    268.5,2,    268.7,2,    17.59,2,    17.46,2,     0.00,2,   2315.3,2,   7.7340,2,20140605,0851,  51.0300, -23.1910
35PK20140515  ,OVIDE-A25  ,27      ,  1,5          ,5          ,20140605,0824,  51.0300, -23.1910,     3999,   3000.5,2,   2.8680,2,  34.9510,2,  34.9510,2,    263.5,2,    263.4,2,    22.05,2,    18.20,2,     0.00,2,   2324.4,2,   7.7330,2,20140605,0845,  51.0300, -23.1910
35PK20140515  ,OVIDE-A25  ,27      ,  1,4          ,4          ,20140605,0824,  51.0300, -23.1910,     3999,   3250.8,2,   2.7420,2,  34.9410,2,  34.9400,2,    254.9,2,    255.5,2,    29.11,2,    19.45,2,     0.00,2,   2334.4,2,   7.7340,2,20140605,0839,  51.0300, -23.1910
35PK20140515  ,OVIDE-A25  ,27      ,  1,3          ,3          ,20140605,0824,  51.0300, -23.1910,     3999,   3501.1,2,   2.6460,2,  34.9290,2,  34.9290,2,    247.7,2,    248.2,2,    35.96,2,    20.77,2,     0.01,2,   2344.3,2,   7.7370,2,20140605,0834,  51.0300, -23.1910
35PK20140515  ,OVIDE-A25  ,27      ,  1,2          ,2          ,20140605,0824,  51.0300, -23.1910,     3999,   3751.2,2,   2.5850,2,  34.9200,2,  34.9200,2,    243.3,2,    244.7,2,    40.22,2,    21.56,2,     0.01,2,     -999,9,     -999,9,20140605,0829,  51.0300, -23.1910
35PK20140515  ,OVIDE-A25  ,27      ,  1,1          ,1          ,20140605,0824,  51.0300, -23.1910,     3999,   3989.4,2,   2.5810,2,  34.9170,2,  34.9180,2,    242.1,2,    242.4,2,    41.98,2,    21.88,2,     0.01,2,   2353.9,2,   7.7380,2,20140605,0824,  51.0300, -23.1910
35PK20140515  ,OVIDE-A25  ,28      ,  1,24         ,24         ,20140605,1810,  52.0250, -23.9720,     3934,      5.9,2,  11.9780,2,  35.4420,2,  35.4440,2,    275.1,2,    274.5,2,     0.92,2,     5.98,2,     0.15,2,   2335.6,2,   7.9030,2,20140605,1940,  52.0250, -23.9720
35PK20140515  ,OVIDE-A25  ,28      ,  1,23         ,23         ,20140605,1810,  52.0250, -23.9720,     3934,     38.9,2,  11.7810,2,  35.4480,2,  35.4480,2,    274.5,2,    275.0,2,     1.14,2,     6.35,2,     0.16,2,   2335.4,2,   7.9000,2,20140605,1939,  52.0250, -23.9720
35PK20140515  ,OVIDE-A25  ,28      ,  1,22         ,22         ,20140605,1810,  52.0250, -23.9720,     3934,    100.2,2,  10.7240,2,  35.3960,2,  35.3910,4,    261.4,2,    264.8,2,     2.58,2,     9.07,2,     0.26,2,   2333.3,2,   7.8530,2,20140605,1936,  52.0250, -23.9720
35PK20140515  ,OVIDE-A25  ,28      ,  1,21         ,21         ,20140605,1810,  52.0250, -23.9720,     3934,    200.0,2,   9.7490,2,  35.2960,2,  35.2960,2,    258.2,2,    257.3,2,     5.43,2,    12.74,2,     0.02,2,   2325.5,2,   7.8060,2,20140605,1933,  52.0250, -23.9720
35PK20140515  ,OVIDE-A25  ,28      ,  1,20         ,20         ,20140605,1810,  52.0250, -23.9720,     3934,    300.3,2,   9.1600,2,  35.2260,2,  35.2260,2,    246.1,2,    245.3,2,     6.52,2,    14.30,2,     0.02,2,   2322.6,2,   7.7830,2,20140605,1931,  52.0250, -23.9720
35PK20140515  ,OVIDE-A25  ,28      ,  1,19         ,19         ,20140605,1810,  52.0250, -23.9720,     3934,    400.7,2,   8.1280,2,  35.0800,2,  35.0780,2,    243.4,2,    246.8,2,     7.47,2,    15.31,2,     0.01,2,   2314.9,2,   7.7600,2,20140605,1928,  52.0250, -23.9720
35PK20140515  ,OVIDE-A25  ,28      ,  1,18         ,18         ,20140605,1810,  52.0250, -23.9720,     3934,    500.7,2,   7.5280,2,  35.1150,2,  35.1160,2,    202.1,2,    204.1,2,    10.43,2,    19.09,2,     0.01,2,   2316.9,2,   7.7170,2,20140605,1926,  52.0250, -23.9720
35PK20140515  ,OVIDE-A25  ,28      ,  1,17         ,17         ,20140605,1810,  52.0250, -23.9720,     3934,    599.6,2,   6.6430,2,  35.1100,2,  35.1090,2,    215.9,2,    214.6,2,    10.79,2,    18.93,2,     0.01,2,   2317.7,2,   7.7090,2,20140605,1923,  52.0250, -23.9720
35PK20140515  ,OVIDE-A25  ,28      ,  1,16         ,16         ,20140605,1810,  52.0250, -23.9720,     3934,    699.7,2,   5.7150,2,  35.0360,2,  35.0350,2,    234.0,2,    233.2,2,    10.65,2,    18.50,2,     0.00,2,   2313.6,2,   7.7090,2,20140605,1921,  52.0250, -23.9720
35PK20140515  ,OVIDE-A25  ,28      ,  1,15         ,15         ,20140605,1810,  52.0250, -23.9720,     3934,    850.5,2,   4.9120,2,  34.9870,2,  34.9840,2,    253.0,2,    252.8,2,    10.17,2,    17.99,2,     0.00,2,   2308.7,2,   7.7120,2,20140605,1917,  52.0250, -23.9720
35PK20140515  ,OVIDE-A25  ,28      ,  1,14         ,14         ,20140605,1810,  52.0250, -23.9720,     3934,   1000.5,2,   4.4340,2,  34.9470,2,  34.9480,2,    265.1,2,    264.7,2,     9.88,2,    17.60,2,     0.00,2,   2305.1,2,   7.7150,2,20140605,1914,  52.0250, -23.9720
35PK20140515  ,OVIDE-A25  ,28      ,  1,13         ,13         ,20140605,1810,  52.0250, -23.9720,     3934,   1200.0,2,   4.0740,2,  34.9240,2,  34.9240,2,    272.2,2,    271.7,2,    10.00,2,    17.41,2,     0.00,2,   2303.4,2,   7.7180,2,20140605,1910,  52.0250, -23.9720
35PK20140515  ,OVIDE-A25  ,28      ,  1,12         ,12         ,20140605,1810,  52.0250, -23.9720,     3934,   1400.6,2,   3.8810,2,  34.9170,2,  34.9170,2,    273.0,2,    272.7,2,    10.36,2,    17.45,2,     0.04,2,   2305.1,2,   7.7220,2,20140605,1905,  52.0250, -23.9720
35PK20140515  ,OVIDE-A25  ,28      ,  1,11         ,11         ,20140605,1810,  52.0250, -23.9720,     3934,   1600.9,2,   3.7550,2,  34.9200,2,  34.9210,2,    272.1,2,    271.8,2,    10.99,2,    17.49,2,     0.04,2,   2304.1,2,   7.7240,2,20140605,1901,  52.0250, -23.9720
35PK20140515  ,OVIDE-A25  ,28      ,  1,10         ,10         ,20140605,1810,  52.0250, -23.9720,     3934,   1799.9,2,   3.5990,2,  34.9220,2,  34.9230,2,    272.5,2,    271.9,2,    11.68,2,    17.49,2,     0.04,2,   2306.3,2,   7.7280,2,20140605,1857,  52.0250, -23.9720
35PK20140515  ,OVIDE-A25  ,28      ,  1,9          ,9          ,20140605,1810,  52.0250, -23.9720,     3934,   1998.9,2,   3.4620,2,  34.9220,2,  34.9220,2,    273.5,2,    273.2,2,    11.95,2,    17.39,2,     0.04,2,   2305.8,2,   7.7300,2,20140605,1852,  52.0250, -23.9720
35PK20140515  ,OVIDE-A25  ,28      ,  1,8          ,8          ,20140605,1810,  52.0250, -23.9720,     3934,   2249.8,2,   3.2820,2,  34.9240,2,  34.9240,2,    273.8,2,    275.5,2,    13.04,2,    17.35,2,     0.00,2,   2308.3,2,   7.7330,2,20140605,1847,  52.0250, -23.9720
35PK20140515  ,OVIDE-A25  ,28      ,  1,7          ,7          ,20140605,1810,  52.0250, -23.9720,     3934,   2500.7,2,   3.1580,2,  34.9360,2,  34.9370,2,    272.9,2,    272.7,2,    14.18,2,    17.26,2,     0.00,2,   2309.4,2,   7.7310,2,20140605,1842,  52.0250, -23.9720
35PK20140515  ,OVIDE-A25  ,28      ,  1,6          ,6          ,20140605,1810,  52.0250, -23.9720,     3934,   2749.9,2,   3.0190,2,  34.9480,2,  34.9480,2,    269.6,2,    269.6,2,    17.11,2,    17.40,2,     0.00,2,   2313.3,2,   7.7340,2,20140605,1836,  52.0250, -23.9720
35PK20140515  ,OVIDE-A25  ,28      ,  1,5          ,5          ,20140605,1810,  52.0250, -23.9720,     3934,   3000.1,2,   2.8760,2,  34.9510,2,  34.9500,2,    263.4,2,    264.0,2,    21.96,2,    18.11,2,     0.00,2,   2322.0,2,   7.7340,2,20140605,1831,  52.0250, -23.9720
35PK20140515  ,OVIDE-A25  ,28      ,  1,4          ,4          ,20140605,1810,  52.0250, -23.9720,     3934,   3249.4,2,   2.7640,2,  34.9420,2,  34.9410,2,    255.9,2,    256.5,2,    28.97,2,    19.30,2,     0.04,2,   2333.0,2,   7.7350,2,20140605,1826,  52.0250, -23.9720
35PK20140515  ,OVIDE-A25  ,28      ,  1,3          ,3          ,20140605,1810,  52.0250, -23.9720,     3934,   3499.8,2,   2.6720,2,  34.9310,2,  34.9310,2,    249.2,2,    250.4,2,    34.78,2,    20.38,2,     0.04,2,   2341.0,2,   7.7370,2,20140605,1821,  52.0250, -23.9720
35PK20140515  ,OVIDE-A25  ,28      ,  1,2          ,2          ,20140605,1810,  52.0250, -23.9720,     3934,   3749.7,2,   2.6180,2,  34.9230,2,  34.9220,2,    245.1,2,    245.9,2,    39.52,2,    21.19,2,     0.04,2,   2346.2,2,   7.7410,2,20140605,1815,  52.0250, -23.9720
35PK20140515  ,OVIDE-A25  ,28      ,  1,1          ,1          ,20140605,1810,  52.0250, -23.9720,     3934,   3924.7,2,   2.6010,2,  34.9190,2,  34.9190,2,    243.1,2,    244.9,2,    41.06,2,    21.58,2,     0.04,2,   2348.3,2,   7.7380,2,20140605,1810,  52.0250, -23.9720