BOTTLE,20240403CCHHYDRO
EXPOCODE,SECT_ID,STNNBR,CASTNO,SAMPNO,BTLNBR,DATE,TIME,LATITUDE,LONGITUDE,DEPTH,CTDPRS,CTDPRS_FLAG_W,CTDTMP,CTDTMP_FLAG_W,CTDSAL,CTDSAL_FLAG_W,SALNTY,SALNTY_FLAG_W,CTDOXY,CTDOXY_FLAG_W,OXYGEN,OXYGEN_FLAG_W,SILCAT,SILCAT_FLAG_W,NITRAT,NITRAT_FLAG_W,NITRIT,NITRIT_FLAG_W,ALKALI,ALKALI_FLAG_W,PH_TOT,PH_TOT_FLAG_W,BTL_DATE,BTL_TIME,BTL_LAT,BTL_LON
,,,,,,,,,,METERS,DBAR,,ITS-90,,PSS-78,,PSS-78,,UMOL/KG,,UMOL/KG,,UMOL/KG,,UMOL/KG,,UMOL/KG,,UMOL/KG,,,,,,,
35PK20140515  ,OVIDE-A25  ,53      ,  1,22         ,22         ,20140616,1934,  59.9020, -43.0150,      169,      4.0,2,  -1.2180,2,  31.6440,2,  31.6450,2,    434.3,2,    431.7,2,     1.96,2,     -999,9,     0.00,2,   2137.8,2,   7.9540,2,20140616,1953,  59.9020, -43.0150
35PK20140515  ,OVIDE-A25  ,53      ,  1,23         ,23         ,20140616,1934,  59.9020, -43.0150,      169,      4.1,2,  -1.2210,2,  31.6460,2,     -999,9,    434.3,2,     -999,9,     -999,9,     -999,9,     -999,9,     -999,9,     -999,9,20140616,1953,  59.9020, -43.0150
35PK20140515  ,OVIDE-A25  ,53      ,  1,20         ,20         ,20140616,1934,  59.9020, -43.0150,      169,      4.1,2,  -1.2110,2,  31.6400,2,     -999,9,    434.3,2,     -999,9,     -999,9,     -999,9,     -999,9,     -999,9,     -999,9,20140616,1953,  59.9020, -43.0150
35PK20140515  ,OVIDE-A25  ,53      ,  1,21         ,21         ,20140616,1934,  59.9020, -43.0150,      169,      4.1,2,  -1.2120,2,  31.6410,2,     -999,9,    434.3,2,     -999,9,     -999,9,     -999,9,     -999,9,     -999,9,     -999,9,20140616,1953,  59.9020, -43.0150
35PK20140515  ,OVIDE-A25  ,53      ,  1,24         ,24         ,20140616,1934,  59.9020, -43.0150,      169,      4.2,2,  -1.2160,2,  31.6420,2,     -999,9,    434.3,2,     -999,9,     -999,9,     -999,9,     -999,9,     -999,9,     -999,9,20140616,1953,  59.9020, -43.0150
35PK20140515  ,OVIDE-A25  ,53      ,  1,18         ,18         ,20140616,1934,  59.9020, -43.0150,      169,     10.4,2,  -1.2090,2,  31.6600,2,     -999,9,    434.8,2,     -999,9,     -999,9,     -999,9,     -999,9,     -999,9,     -999,9,20140616,1952,  59.9020, -43.0150
35PK20140515  ,OVIDE-A25  ,53      ,  1,19         ,19         ,20140616,1934,  59.9020, -43.0150,      169,     10.5,2,  -1.2080,2,  31.6610,2,     -999,9,    434.8,2,     -999,9,     -999,9,     -999,9,     -999,9,     -999,9,     -999,9,20140616,1952,  59.9020, -43.0150
35PK20140515  ,OVIDE-A25  ,53      ,  1,17         ,17         ,20140616,1934,  59.9020, -43.0150,      169,     25.6,2,  -1.0480,2,  32.0840,2,     -999,9,    409.9,2,     -999,9,     2.37,2,     -999,9,     0.00,2,     -999,9,     -999,9,20140616,1950,  59.9020, -43.0150
35PK20140515  ,OVIDE-A25  ,53      ,  1,13         ,13         ,20140616,1934,  59.9020, -43.0150,      169,     29.6,2,  -0.8680,2,  32.3340,2,     -999,9,    401.2,2,     -999,9,     -999,9,     -999,9,     -999,9,     -999,9,     -999,9,20140616,1948,  59.9020, -43.0150
35PK20140515  ,OVIDE-A25  ,53      ,  1,15         ,15         ,20140616,1934,  59.9020, -43.0150,      169,     29.7,2,  -0.8620,2,  32.3360,2,     -999,9,    401.2,2,     -999,9,     -999,9,     -999,9,     -999,9,     -999,9,     -999,9,20140616,1948,  59.9020, -43.0150
35PK20140515  ,OVIDE-A25  ,53      ,  1,16         ,16         ,20140616,1934,  59.9020, -43.0150,      169,     29.7,2,  -0.8580,2,  32.3380,2,     -999,9,    401.2,2,     -999,9,     -999,9,     -999,9,     -999,9,     -999,9,     -999,9,20140616,1949,  59.9020, -43.0150
35PK20140515  ,OVIDE-A25  ,53      ,  1,14         ,14         ,20140616,1934,  59.9020, -43.0150,      169,     29.7,2,  -0.8660,2,  32.3350,2,     -999,9,    401.2,2,     -999,9,     -999,9,     -999,9,     -999,9,     -999,9,     -999,9,20140616,1948,  59.9020, -43.0150
35PK20140515  ,OVIDE-A25  ,53      ,  1,11         ,11         ,20140616,1934,  59.9020, -43.0150,      169,     50.5,2,  -1.2900,2,  32.7920,2,  32.7830,4,    370.6,2,    372.2,2,     4.05,2,     3.59,2,     0.04,2,   2209.4,2,   7.7700,2,20140616,1947,  59.9020, -43.0150
35PK20140515  ,OVIDE-A25  ,53      ,  1,12         ,12         ,20140616,1934,  59.9020, -43.0150,      169,     50.6,2,  -1.2940,2,  32.7930,2,     -999,9,    369.8,2,     -999,9,     -999,9,     -999,9,     -999,9,     -999,9,     -999,9,20140616,1947,  59.9020, -43.0150
35PK20140515  ,OVIDE-A25  ,53      ,  1,8          ,8          ,20140616,1934,  59.9020, -43.0150,      169,     70.5,2,  -1.4160,2,  32.8450,2,     -999,9,    367.1,2,     -999,9,     -999,9,     -999,9,     -999,9,     -999,9,     -999,9,20140616,1944,  59.9020, -43.0150
35PK20140515  ,OVIDE-A25  ,53      ,  1,9          ,9          ,20140616,1934,  59.9020, -43.0150,      169,     70.6,2,  -1.4180,2,  32.8460,2,     -999,9,    367.0,2,     -999,9,     -999,9,     -999,9,     -999,9,     -999,9,     -999,9,20140616,1945,  59.9020, -43.0150
35PK20140515  ,OVIDE-A25  ,53      ,  1,10         ,10         ,20140616,1934,  59.9020, -43.0150,      169,     70.7,2,  -1.4160,2,  32.8450,2,     -999,9,    367.0,2,     -999,9,     -999,9,     -999,9,     -999,9,     -999,9,     -999,9,20140616,1945,  59.9020, -43.0150
35PK20140515  ,OVIDE-A25  ,53      ,  1,7          ,7          ,20140616,1934,  59.9020, -43.0150,      169,     74.6,2,  -1.4110,2,  32.8430,2,     -999,9,    365.8,2,     -999,9,     -999,9,     -999,9,     -999,9,     -999,9,     -999,9,20140616,1943,  59.9020, -43.0150
35PK20140515  ,OVIDE-A25  ,53      ,  1,5          ,5          ,20140616,1934,  59.9020, -43.0150,      169,    100.5,2,  -1.5370,2,  33.0220,2,  33.0230,2,    356.6,2,    355.9,2,     5.17,2,     6.38,2,     0.07,2,   2225.6,2,   7.7140,2,20140616,1941,  59.9020, -43.0150
35PK20140515  ,OVIDE-A25  ,53      ,  1,6          ,6          ,20140616,1934,  59.9020, -43.0150,      169,    100.5,2,  -1.5340,2,  33.0160,2,     -999,9,    356.6,2,     -999,9,     -999,9,     -999,9,     -999,9,     -999,9,     -999,9,20140616,1941,  59.9020, -43.0150
35PK20140515  ,OVIDE-A25  ,53      ,  1,4          ,4          ,20140616,1934,  59.9020, -43.0150,      169,    150.2,2,  -0.8850,2,  33.2770,2,     -999,9,    351.6,2,     -999,9,     -999,9,     -999,9,     -999,9,     -999,9,     -999,9,20140616,1939,  59.9020, -43.0150
35PK20140515  ,OVIDE-A25  ,53      ,  1,1          ,1          ,20140616,1934,  59.9020, -43.0150,      169,    159.1,2,  -0.6680,2,  33.3370,2,  33.2940,4,    349.5,2,    350.5,2,     5.01,2,     6.98,2,     0.10,2,   2234.8,2,   7.7250,2,20140616,1934,  59.9020, -43.0150
35PK20140515  ,OVIDE-A25  ,53      ,  1,3          ,3          ,20140616,1934,  59.9020, -43.0150,      169,    159.2,2,  -0.6310,2,  33.3660,2,     -999,9,    349.5,2,     -999,9,     -999,9,     -999,9,     -999,9,     -999,9,     -999,9,20140616,1934,  59.9020, -43.0150
35PK20140515  ,OVIDE-A25  ,53      ,  1,2          ,2          ,20140616,1934,  59.9020, -43.0150,      169,    159.2,2,  -0.6380,2,  33.3620,2,     -999,9,    349.5,2,     -999,9,     -999,9,     -999,9,     -999,9,     -999,9,     -999,9,20140616,1934,  59.9020, -43.0150
35PK20140515  ,OVIDE-A25  ,54      ,  1,13         ,13         ,20140617,0315,  59.8690, -42.8170,      188,      4.9,2,  -0.0350,2,  33.2130,2,  33.2160,2,    370.5,2,    373.0,2,     3.15,2,     2.42,2,     0.07,2,   2232.8,2,   7.8060,2,20140617,0324,  59.8660, -42.8200
35PK20140515  ,OVIDE-A25  ,54      ,  1,11         ,11         ,20140617,0315,  59.8690, -42.8170,      188,     24.0,2,   0.7000,2,  33.4970,2,     -999,9,    358.0,2,     -999,9,     -999,9,     -999,9,     -999,9,     -999,9,     -999,9,20140617,0322,  59.8660, -42.8190
35PK20140515  ,OVIDE-A25  ,54      ,  1,12         ,12         ,20140617,0315,  59.8690, -42.8170,      188,     24.0,2,   0.6310,2,  33.4940,2,     -999,9,    358.0,2,     -999,9,     -999,9,     -999,9,     -999,9,     -999,9,     -999,9,20140617,0323,  59.8660, -42.8190
35PK20140515  ,OVIDE-A25  ,54      ,  1,9          ,9          ,20140617,0315,  59.8690, -42.8170,      188,     50.3,2,   1.6820,2,  33.8420,2,  33.8480,4,    340.4,2,    343.8,2,     4.39,2,     5.63,2,     0.11,2,     -999,9,   7.7940,2,20140617,0321,  59.8670, -42.8190
35PK20140515  ,OVIDE-A25  ,54      ,  1,10         ,10         ,20140617,0315,  59.8690, -42.8170,      188,     50.3,2,   1.6840,2,  33.8430,2,     -999,9,    340.4,2,     -999,9,     -999,9,     -999,9,     -999,9,     -999,9,     -999,9,20140617,0321,  59.8670, -42.8190
35PK20140515  ,OVIDE-A25  ,54      ,  1,7          ,7          ,20140617,0315,  59.8690, -42.8170,      188,     75.5,2,   1.6260,2,  33.9590,2,     -999,9,    335.3,2,     -999,9,     -999,9,     -999,9,     -999,9,     -999,9,     -999,9,20140617,0319,  59.8670, -42.8180
35PK20140515  ,OVIDE-A25  ,54      ,  1,8          ,8          ,20140617,0315,  59.8690, -42.8170,      188,     75.5,2,   1.6340,2,  33.9580,2,     -999,9,    335.3,2,     -999,9,     -999,9,     -999,9,     -999,9,     -999,9,     -999,9,20140617,0319,  59.8670, -42.8180
35PK20140515  ,OVIDE-A25  ,54      ,  1,5          ,5          ,20140617,0315,  59.8690, -42.8170,      188,     99.5,2,   2.3340,2,  34.1850,2,  34.1930,4,    326.2,2,    327.7,2,     5.18,2,     8.72,2,     0.18,2,     -999,9,   7.7670,2,20140617,0318,  59.8680, -42.8180
35PK20140515  ,OVIDE-A25  ,54      ,  1,6          ,6          ,20140617,0315,  59.8690, -42.8170,      188,     99.5,2,   2.3340,2,  34.1680,2,     -999,9,    326.2,2,     -999,9,     -999,9,     -999,9,     -999,9,     -999,9,     -999,9,20140617,0318,  59.8680, -42.8180
35PK20140515  ,OVIDE-A25  ,54      ,  1,4          ,4          ,20140617,0315,  59.8690, -42.8170,      188,    124.9,2,   2.7870,2,  34.3490,2,     -999,9,    316.9,2,     -999,9,     -999,9,     -999,9,     -999,9,     -999,9,     -999,9,20140617,0317,  59.8680, -42.8170
35PK20140515  ,OVIDE-A25  ,54      ,  1,3          ,3          ,20140617,0315,  59.8690, -42.8170,      188,    125.0,2,   2.7800,2,  34.3480,2,     -999,9,    316.9,2,     -999,9,     -999,9,     -999,9,     -999,9,     -999,9,     -999,9,20140617,0317,  59.8680, -42.8170
35PK20140515  ,OVIDE-A25  ,54      ,  1,1          ,1          ,20140617,0315,  59.8690, -42.8170,      188,    178.5,2,   4.0240,2,  34.6630,2,  34.6650,2,    304.3,2,    306.0,2,     5.93,2,    11.35,2,     0.63,2,   2295.9,2,   7.7600,2,20140617,0315,  59.8690, -42.8170
35PK20140515  ,OVIDE-A25  ,54      ,  1,2          ,2          ,20140617,0315,  59.8690, -42.8170,      188,    178.5,2,   4.0240,2,  34.6360,2,     -999,9,    304.3,2,     -999,9,     -999,9,     -999,9,     -999,9,     -999,9,     -999,9,20140617,0315,  59.8690, -42.8170
35PK20140515  ,OVIDE-A25  ,55      ,  1,13         ,13         ,20140617,0452,  59.8310, -42.5200,      230,      6.3,2,   3.0480,2,  34.2850,2,  34.3180,4,    324.0,2,    327.6,2,     4.85,2,     7.97,2,     0.16,2,   2282.2,2,   7.8570,2,20140617,0504,  59.8310, -42.5200
35PK20140515  ,OVIDE-A25  ,55      ,  1,14         ,14         ,20140617,0452,  59.8310, -42.5200,      230,      6.3,2,   3.1070,2,  34.2310,2,     -999,9,    324.0,2,     -999,9,     -999,9,     -999,9,     -999,9,     -999,9,     -999,9,20140617,0504,  59.8310, -42.5200
35PK20140515  ,OVIDE-A25  ,55      ,  1,12         ,12         ,20140617,0452,  59.8310, -42.5200,      230,     24.5,2,   5.9470,2,  34.8260,2,     -999,9,    314.3,2,     -999,9,     -999,9,     -999,9,     -999,9,     -999,9,     -999,9,20140617,0503,  59.8310, -42.5200
35PK20140515  ,OVIDE-A25  ,55      ,  1,11         ,11         ,20140617,0452,  59.8310, -42.5200,      230,     24.6,2,   5.9580,2,  34.8290,2,     -999,9,    314.2,2,     -999,9,     -999,9,     -999,9,     -999,9,     -999,9,     -999,9,20140617,0502,  59.8310, -42.5200
35PK20140515  ,OVIDE-A25  ,55      ,  1,9          ,9          ,20140617,0452,  59.8310, -42.5200,      230,     50.3,2,   6.1820,2,  34.8910,2,  34.8910,2,    313.9,2,    316.3,2,     3.53,2,     9.18,2,     0.25,2,     -999,9,   7.8320,2,20140617,0501,  59.8310, -42.5200
35PK20140515  ,OVIDE-A25  ,55      ,  1,10         ,10         ,20140617,0452,  59.8310, -42.5200,      230,     50.3,2,   6.1850,2,  34.8910,2,     -999,9,    313.9,2,     -999,9,     -999,9,     -999,9,     -999,9,     -999,9,     -999,9,20140617,0501,  59.8310, -42.5200
35PK20140515  ,OVIDE-A25  ,55      ,  1,7          ,7          ,20140617,0452,  59.8310, -42.5200,      230,     75.1,2,   6.0330,2,  34.8780,2,     -999,9,    313.5,2,     -999,9,     -999,9,     -999,9,     -999,9,     -999,9,     -999,9,20140617,0459,  59.8310, -42.5200
35PK20140515  ,OVIDE-A25  ,55      ,  1,8          ,8          ,20140617,0452,  59.8310, -42.5200,      230,     75.3,2,   6.0330,2,  34.8780,2,     -999,9,    313.5,2,     -999,9,     -999,9,     -999,9,     -999,9,     -999,9,     -999,9,20140617,0459,  59.8310, -42.5200
35PK20140515  ,OVIDE-A25  ,55      ,  1,5          ,5          ,20140617,0452,  59.8310, -42.5200,      230,     99.9,2,   5.9260,2,  34.8560,2,  34.8540,2,    312.0,2,    313.5,2,     4.07,2,     9.03,2,     0.42,2,   2308.5,2,   7.8210,2,20140617,0457,  59.8310, -42.5200
35PK20140515  ,OVIDE-A25  ,55      ,  1,6          ,6          ,20140617,0452,  59.8310, -42.5200,      230,     99.9,2,   5.9110,2,  34.8650,2,     -999,9,    312.0,2,     -999,9,     -999,9,     -999,9,     -999,9,     -999,9,     -999,9,20140617,0457,  59.8310, -42.5200
35PK20140515  ,OVIDE-A25  ,55      ,  1,3          ,3          ,20140617,0452,  59.8310, -42.5200,      230,    150.6,2,   5.0610,2,  34.7940,2,  34.7940,2,    308.9,2,    309.1,2,     4.81,2,    10.19,2,     0.57,2,     -999,9,   7.7890,2,20140617,0455,  59.8310, -42.5200
35PK20140515  ,OVIDE-A25  ,55      ,  1,4          ,4          ,20140617,0452,  59.8310, -42.5200,      230,    150.6,2,   5.0640,2,  34.7940,2,     -999,9,    308.9,2,     -999,9,     -999,9,     -999,9,     -999,9,     -999,9,     -999,9,20140617,0455,  59.8310, -42.5200
35PK20140515  ,OVIDE-A25  ,55      ,  1,1          ,1          ,20140617,0452,  59.8310, -42.5200,      230,    220.2,2,   5.0630,2,  34.8490,2,  34.8450,2,    300.7,2,    301.8,2,     5.62,2,    11.76,2,     0.52,2,   2304.5,2,   7.7710,2,20140617,0452,  59.8310, -42.5200
35PK20140515  ,OVIDE-A25  ,55      ,  1,2          ,2          ,20140617,0452,  59.8310, -42.5200,      230,    220.3,2,   5.0640,2,  34.8500,2,     -999,9,    300.7,2,     -999,9,     -999,9,     -999,9,     -999,9,     -999,9,     -999,9,20140617,0452,  59.8310, -42.5200