BOTTLE,20240403CCHHYDRO
EXPOCODE,SECT_ID,STNNBR,CASTNO,SAMPNO,BTLNBR,DATE,TIME,LATITUDE,LONGITUDE,DEPTH,CTDPRS,CTDPRS_FLAG_W,CTDTMP,CTDTMP_FLAG_W,CTDSAL,CTDSAL_FLAG_W,SALNTY,SALNTY_FLAG_W,CTDOXY,CTDOXY_FLAG_W,OXYGEN,OXYGEN_FLAG_W,SILCAT,SILCAT_FLAG_W,NITRAT,NITRAT_FLAG_W,NITRIT,NITRIT_FLAG_W,ALKALI,ALKALI_FLAG_W,PH_TOT,PH_TOT_FLAG_W,BTL_DATE,BTL_TIME,BTL_LAT,BTL_LON
,,,,,,,,,,METERS,DBAR,,ITS-90,,PSS-78,,PSS-78,,UMOL/KG,,UMOL/KG,,UMOL/KG,,UMOL/KG,,UMOL/KG,,UMOL/KG,,,,,,,
35PK20140515  ,OVIDE-A25  ,15      ,  1,24         ,24         ,20140528,0952,  42.5810, -15.4610,     5158,      3.7,2,  14.8350,2,  35.6960,2,  35.6960,2,    260.2,2,    258.7,2,     0.37,2,     0.84,2,     0.08,2,   2347.4,2,   7.9540,2,20140528,1149,  42.5810, -15.4610
35PK20140515  ,OVIDE-A25  ,15      ,  1,23         ,23         ,20140528,0952,  42.5810, -15.4610,     5158,     51.5,2,  12.9770,2,  35.6910,2,     -999,9,    251.3,2,    251.3,2,     1.76,2,     5.31,2,     0.60,2,   2344.7,2,   7.8920,2,20140528,1147,  42.5810, -15.4610
35PK20140515  ,OVIDE-A25  ,15      ,  1,22         ,22         ,20140528,0952,  42.5810, -15.4610,     5158,    100.1,2,  12.4990,2,  35.6960,2,  35.6940,2,    244.9,2,    243.0,2,     2.42,2,     8.15,2,     0.01,2,   2344.7,2,   7.8600,2,20140528,1145,  42.5810, -15.4610
35PK20140515  ,OVIDE-A25  ,15      ,  1,21         ,21         ,20140528,0952,  42.5810, -15.4610,     5158,    200.5,2,  12.1500,2,  35.6560,2,  35.6560,2,    248.5,2,    246.9,2,     2.64,2,     8.75,2,     0.00,2,   2340.0,2,   7.8580,2,20140528,1142,  42.5810, -15.4610
35PK20140515  ,OVIDE-A25  ,15      ,  1,20         ,20         ,20140528,0952,  42.5810, -15.4610,     5158,    300.1,2,  11.8550,2,  35.6280,2,  35.6270,2,    227.6,2,    226.7,2,     3.48,2,    11.17,2,     0.00,2,   2341.4,2,   7.8270,2,20140528,1139,  42.5810, -15.4610
35PK20140515  ,OVIDE-A25  ,15      ,  1,19         ,19         ,20140528,0952,  42.5810, -15.4610,     5158,    400.0,2,  11.6260,2,  35.6020,2,  35.6010,2,    234.3,2,    234.6,2,     3.38,2,    11.05,2,     0.01,2,   2342.4,2,   7.8290,2,20140528,1135,  42.5810, -15.4610
35PK20140515  ,OVIDE-A25  ,15      ,  1,18         ,18         ,20140528,0952,  42.5810, -15.4610,     5158,    500.1,2,  11.2830,2,  35.5780,2,  35.5780,2,    213.7,2,    212.6,2,     4.82,2,    13.57,2,     0.01,2,   2341.0,2,   7.7990,2,20140528,1132,  42.5810, -15.4610
35PK20140515  ,OVIDE-A25  ,15      ,  1,17         ,17         ,20140528,0952,  42.5810, -15.4610,     5158,    600.7,2,  10.9170,2,  35.5870,2,  35.5870,2,    202.1,2,    201.9,2,     6.11,2,    15.05,2,     0.01,2,   2344.7,2,   7.7850,2,20140528,1129,  42.5810, -15.4610
35PK20140515  ,OVIDE-A25  ,15      ,  1,16         ,16         ,20140528,0952,  42.5810, -15.4610,     5158,    700.2,2,  10.4770,2,  35.6320,2,  35.6340,2,    186.6,2,    186.6,2,     7.90,2,    17.01,2,     0.00,2,   2346.4,2,   7.7670,2,20140528,1126,  42.5810, -15.4610
35PK20140515  ,OVIDE-A25  ,15      ,  1,15         ,15         ,20140528,0952,  42.5810, -15.4610,     5158,    799.4,2,  10.2830,2,  35.7230,2,  35.7230,2,    183.5,2,    183.7,2,     8.70,2,    17.44,2,     0.01,2,   2353.2,2,   7.7660,2,20140528,1123,  42.5810, -15.4610
35PK20140515  ,OVIDE-A25  ,15      ,  1,14         ,14         ,20140528,0952,  42.5810, -15.4610,     5158,    996.0,2,   9.3390,2,  35.7100,2,  35.7080,2,    189.9,2,    190.4,2,     9.78,2,    18.02,2,     0.01,2,   2357.7,2,   7.7660,2,20140528,1118,  42.5810, -15.4610
35PK20140515  ,OVIDE-A25  ,15      ,  1,13         ,13         ,20140528,0952,  42.5810, -15.4610,     5158,   1199.5,2,   9.0240,2,  35.8080,2,  35.8080,2,    197.1,2,    197.4,2,    10.23,2,    17.54,2,     0.00,2,   2365.8,2,   7.7700,2,20140528,1114,  42.5810, -15.4610
35PK20140515  ,OVIDE-A25  ,15      ,  1,12         ,12         ,20140528,0952,  42.5810, -15.4610,     5158,   1399.1,2,   6.6290,2,  35.3990,2,  35.3910,4,    226.1,2,    227.0,2,    11.37,2,    18.13,2,     0.01,2,   2338.2,2,   7.7470,2,20140528,1110,  42.5810, -15.4610
35PK20140515  ,OVIDE-A25  ,15      ,  1,11         ,11         ,20140528,0952,  42.5810, -15.4610,     5158,   1598.8,2,   4.3790,2,  35.0110,2,  35.0120,2,    258.8,2,    258.0,2,    11.45,2,    18.20,2,     0.00,2,   2311.7,2,   7.7260,2,20140528,1106,  42.5810, -15.4610
35PK20140515  ,OVIDE-A25  ,15      ,  1,10         ,10         ,20140528,0952,  42.5810, -15.4610,     5158,   1799.4,2,   4.1670,2,  35.0210,2,  35.0200,2,    257.0,2,    256.7,2,    13.64,2,    18.48,2,     0.00,2,   2311.4,2,   7.7320,2,20140528,1102,  42.5810, -15.4610
35PK20140515  ,OVIDE-A25  ,15      ,  1,9          ,9          ,20140528,0952,  42.5810, -15.4610,     5158,   2000.0,2,   3.6400,2,  34.9640,2,  34.9640,2,    264.1,2,    263.6,2,    14.52,2,    18.42,2,     0.00,2,   2309.4,2,   7.7340,2,20140528,1058,  42.5810, -15.4610
35PK20140515  ,OVIDE-A25  ,15      ,  1,8          ,8          ,20140528,0952,  42.5810, -15.4610,     5158,   2249.8,2,   3.3780,2,  34.9660,2,  34.9670,2,    259.9,2,    260.5,2,    18.56,2,    18.86,2,     0.00,2,   2312.5,2,   7.7400,2,20140528,1053,  42.5810, -15.4610
35PK20140515  ,OVIDE-A25  ,15      ,  1,7          ,7          ,20140528,0952,  42.5810, -15.4610,     5158,   2500.0,2,   3.1460,2,  34.9650,2,  34.9650,2,    252.9,2,    253.8,2,    24.58,2,    19.86,2,     0.00,2,   2328.6,2,   7.7410,2,20140528,1048,  42.5810, -15.4610
35PK20140515  ,OVIDE-A25  ,15      ,  1,6          ,6          ,20140528,0952,  42.5810, -15.4610,     5158,   3000.2,2,   2.7680,2,  34.9430,2,  34.9430,2,    245.4,2,    246.2,2,    34.17,2,    21.32,2,     0.00,2,   2334.7,2,   7.7430,2,20140528,1038,  42.5810, -15.4610
35PK20140515  ,OVIDE-A25  ,15      ,  1,5          ,5          ,20140528,0952,  42.5810, -15.4610,     5158,   3499.7,2,   2.5820,2,  34.9230,2,  34.9400,4,    242.3,2,    243.6,2,    38.22,2,    21.87,2,     0.00,2,   2347.5,2,   7.7430,2,20140528,1028,  42.5810, -15.4610
35PK20140515  ,OVIDE-A25  ,15      ,  1,4          ,4          ,20140528,0952,  42.5810, -15.4610,     5158,   4000.3,2,   2.5020,2,  34.9100,2,  34.9100,2,    241.9,2,    243.5,2,    42.82,2,    22.62,2,     0.00,2,   2349.8,2,   7.7420,2,20140528,1018,  42.5810, -15.4610
35PK20140515  ,OVIDE-A25  ,15      ,  1,3          ,3          ,20140528,0952,  42.5810, -15.4610,     5158,   4500.4,2,   2.4780,2,  34.9010,2,  34.9010,2,    242.4,2,    242.5,2,    44.83,2,    22.86,2,     0.00,2,   2357.6,2,   7.7430,2,20140528,1008,  42.5810, -15.4610
35PK20140515  ,OVIDE-A25  ,15      ,  1,2          ,2          ,20140528,0952,  42.5810, -15.4610,     5158,   4999.7,2,   2.5150,2,  34.8990,2,  34.9060,4,    242.7,2,    243.1,2,    44.66,2,    22.82,2,     0.00,2,   2359.2,2,   7.7440,2,20140528,0956,  42.5810, -15.4610
35PK20140515  ,OVIDE-A25  ,15      ,  1,1          ,1          ,20140528,0952,  42.5810, -15.4610,     5158,   5148.5,2,   2.5350,2,  34.8980,2,  34.8970,2,    242.9,2,    242.4,2,    45.56,2,    22.93,2,     0.00,2,   2356.9,2,   7.7430,2,20140528,0952,  42.5810, -15.4610
35PK20140515  ,OVIDE-A25  ,16      ,  1,24         ,24         ,20140529,0120,  43.1810, -16.2450,     5222,      4.8,2,  14.8600,2,  35.7010,2,  35.7000,2,    263.0,2,    261.7,2,     0.06,2,     0.54,2,     0.09,2,   2350.5,2,   7.9580,2,20140529,0316,  43.1810, -16.2450
35PK20140515  ,OVIDE-A25  ,16      ,  1,23         ,23         ,20140529,0120,  43.1810, -16.2450,     5222,     40.2,2,  13.6050,2,  35.6950,2,  35.6940,2,    263.1,2,    262.7,2,     0.85,2,     3.31,2,     0.00,2,   2344.7,2,   7.9230,2,20140529,0313,  43.1810, -16.2450
35PK20140515  ,OVIDE-A25  ,16      ,  1,22         ,22         ,20140529,0120,  43.1810, -16.2450,     5222,    100.7,2,  12.2790,2,  35.6710,2,  35.6700,2,    250.5,2,    249.7,2,     2.08,2,     7.61,2,     0.03,2,   2339.3,2,   7.8630,2,20140529,0310,  43.1810, -16.2450
35PK20140515  ,OVIDE-A25  ,16      ,  1,21         ,21         ,20140529,0120,  43.1810, -16.2450,     5222,    199.8,2,  11.9160,2,  35.6340,2,  35.6310,2,    246.0,2,    244.6,2,     2.72,2,     9.05,2,     0.02,2,   2340.3,2,   7.8510,2,20140529,0307,  43.1810, -16.2450
35PK20140515  ,OVIDE-A25  ,16      ,  1,20         ,20         ,20140529,0120,  43.1810, -16.2450,     5222,    300.7,2,  11.7370,2,  35.6150,2,  35.6140,2,    241.1,2,    240.3,2,     3.07,2,    10.07,2,     0.00,2,   2339.6,2,   7.8400,2,20140529,0303,  43.1810, -16.2450
35PK20140515  ,OVIDE-A25  ,16      ,  1,19         ,19         ,20140529,0120,  43.1810, -16.2450,     5222,    400.0,2,  11.4640,2,  35.5950,2,  35.5940,2,    226.0,2,    226.1,2,     3.88,2,    11.78,2,     0.01,2,   2337.9,2,   7.8190,2,20140529,0300,  43.1810, -16.2450
35PK20140515  ,OVIDE-A25  ,16      ,  1,18         ,18         ,20140529,0120,  43.1810, -16.2450,     5222,    499.6,2,  11.1880,2,  35.5810,2,  35.5820,2,    212.2,2,    215.0,2,     4.94,2,    13.36,2,     0.01,2,   2340.7,2,   7.8000,2,20140529,0258,  43.1810, -16.2450
35PK20140515  ,OVIDE-A25  ,16      ,  1,17         ,17         ,20140529,0120,  43.1810, -16.2450,     5222,    599.7,2,  10.7470,2,  35.5860,2,  35.5800,4,    196.8,2,    198.2,2,     6.74,2,    15.70,2,     0.00,2,   2339.9,2,   7.7640,2,20140529,0255,  43.1810, -16.2450
35PK20140515  ,OVIDE-A25  ,16      ,  1,16         ,16         ,20140529,0120,  43.1810, -16.2450,     5222,    700.2,2,  10.9200,2,  35.7500,2,  35.7510,2,    186.6,2,    187.9,2,     7.47,2,    16.17,2,     0.00,2,   2353.3,2,   7.7810,2,20140529,0252,  43.1810, -16.2450
35PK20140515  ,OVIDE-A25  ,16      ,  1,15         ,15         ,20140529,0120,  43.1810, -16.2450,     5222,    800.3,2,  10.5680,2,  35.7900,2,  35.7810,4,    182.9,2,    184.0,2,     8.54,2,    17.03,2,     0.00,2,   2360.3,2,   7.7750,2,20140529,0249,  43.1810, -16.2450
35PK20140515  ,OVIDE-A25  ,16      ,  1,14         ,14         ,20140529,0120,  43.1810, -16.2450,     5222,   1000.9,2,   9.4750,2,  35.7550,2,  35.7550,2,    189.7,2,    191.5,2,     9.72,2,    17.70,2,     0.00,2,   2362.1,2,   7.7670,2,20140529,0245,  43.1810, -16.2450
35PK20140515  ,OVIDE-A25  ,16      ,  1,13         ,13         ,20140529,0120,  43.1810, -16.2450,     5222,   1200.6,2,   8.0490,2,  35.5890,2,  35.5880,2,    207.9,2,    208.1,2,    10.62,2,    17.91,2,     0.00,2,   2352.5,2,   7.7560,2,20140529,0241,  43.1810, -16.2450
35PK20140515  ,OVIDE-A25  ,16      ,  1,12         ,12         ,20140529,0120,  43.1810, -16.2450,     5222,   1401.0,2,   5.2320,2,  35.1150,2,  35.1170,2,    246.3,2,    246.3,2,    10.90,2,    18.20,2,     0.01,2,   2319.3,2,   7.7280,2,20140529,0236,  43.1810, -16.2450
35PK20140515  ,OVIDE-A25  ,16      ,  1,11         ,11         ,20140529,0120,  43.1810, -16.2450,     5222,   1600.5,2,   4.9380,2,  35.1200,2,  35.1200,2,    248.9,2,    249.0,2,    11.67,2,    18.20,2,     0.01,2,   2317.6,2,   7.7350,2,20140529,0232,  43.1810, -16.2450
35PK20140515  ,OVIDE-A25  ,16      ,  1,10         ,10         ,20140529,0120,  43.1810, -16.2450,     5222,   1800.5,2,   4.1270,2,  35.0090,2,  35.0070,2,    260.2,2,    260.2,2,    12.56,2,    18.16,2,     0.00,2,   2309.7,2,   7.7340,2,20140529,0227,  43.1810, -16.2450
35PK20140515  ,OVIDE-A25  ,16      ,  1,9          ,9          ,20140529,0120,  43.1810, -16.2450,     5222,   2000.1,2,   3.7240,2,  34.9720,2,  34.9710,2,    264.3,2,    264.9,2,    13.78,2,    18.23,2,     0.01,2,   2308.5,2,   7.7340,2,20140529,0223,  43.1810, -16.2450
35PK20140515  ,OVIDE-A25  ,16      ,  1,8          ,8          ,20140529,0120,  43.1810, -16.2450,     5222,   2250.5,2,   3.4160,2,  34.9590,2,  34.9590,2,    263.0,2,    263.7,2,    16.90,2,    18.59,2,     0.00,2,   2316.5,2,   7.7390,2,20140529,0218,  43.1810, -16.2450
35PK20140515  ,OVIDE-A25  ,16      ,  1,7          ,7          ,20140529,0120,  43.1810, -16.2450,     5222,   2500.4,2,   3.2160,2,  34.9650,2,  34.9640,2,    256.3,2,    257.2,2,    22.22,2,    19.22,2,     0.02,2,   2327.1,2,   7.7430,2,20140529,0212,  43.1810, -16.2450
35PK20140515  ,OVIDE-A25  ,16      ,  1,6          ,6          ,20140529,0120,  43.1810, -16.2450,     5222,   3000.6,2,   2.8120,2,  34.9440,2,  34.9440,2,    247.9,2,    249.0,2,    32.00,2,    20.78,2,     0.00,2,   2334.6,2,   7.7430,2,20140529,0203,  43.1810, -16.2450
35PK20140515  ,OVIDE-A25  ,16      ,  1,5          ,5          ,20140529,0120,  43.1810, -16.2450,     5222,   3495.6,2,   2.6190,2,  34.9260,2,  34.9260,2,    242.9,2,    244.3,2,    38.50,2,    21.80,2,     0.00,2,   2344.6,2,   7.7410,2,20140529,0154,  43.1810, -16.2450
35PK20140515  ,OVIDE-A25  ,16      ,  1,4          ,4          ,20140529,0120,  43.1810, -16.2450,     5222,   3999.1,2,   2.5180,2,  34.9110,2,  34.9100,2,    241.5,2,    242.5,2,    42.89,2,    22.50,2,     0.00,2,   2350.0,2,   7.7410,2,20140529,0145,  43.1810, -16.2450
35PK20140515  ,OVIDE-A25  ,16      ,  1,3          ,3          ,20140529,0120,  43.1810, -16.2450,     5222,   4498.7,2,   2.4900,2,  34.9030,2,  34.9030,2,    241.8,2,    242.3,2,    45.09,2,    22.73,2,     0.00,2,   2353.8,2,   7.7440,2,20140529,0135,  43.1810, -16.2450
35PK20140515  ,OVIDE-A25  ,16      ,  1,2          ,2          ,20140529,0120,  43.1810, -16.2450,     5222,   5000.1,2,   2.5280,2,  34.9000,2,  34.9000,2,    242.6,2,    242.3,2,    45.10,2,    22.71,2,     0.01,2,   2352.6,2,   7.7460,2,20140529,0125,  43.1810, -16.2450
35PK20140515  ,OVIDE-A25  ,16      ,  1,1          ,1          ,20140529,0120,  43.1810, -16.2450,     5222,   5212.8,2,   2.5550,2,  34.9000,2,  34.8990,2,    243.0,2,    244.0,2,    45.24,2,    22.72,2,     0.03,2,   2353.1,2,   7.7450,2,20140529,0120,  43.1810, -16.2450