BOTTLE,20240403CCHHYDRO
EXPOCODE,SECT_ID,STNNBR,CASTNO,SAMPNO,BTLNBR,DATE,TIME,LATITUDE,LONGITUDE,DEPTH,CTDPRS,CTDPRS_FLAG_W,CTDTMP,CTDTMP_FLAG_W,CTDSAL,CTDSAL_FLAG_W,SALNTY,SALNTY_FLAG_W,CTDOXY,CTDOXY_FLAG_W,OXYGEN,OXYGEN_FLAG_W,SILCAT,SILCAT_FLAG_W,NITRAT,NITRAT_FLAG_W,NITRIT,NITRIT_FLAG_W,ALKALI,ALKALI_FLAG_W,PH_TOT,PH_TOT_FLAG_W,BTL_DATE,BTL_TIME,BTL_LAT,BTL_LON
,,,,,,,,,,METERS,DBAR,,ITS-90,,PSS-78,,PSS-78,,UMOL/KG,,UMOL/KG,,UMOL/KG,,UMOL/KG,,UMOL/KG,,UMOL/KG,,,,,,,
35PK20140515  ,OVIDE-A25  ,73      ,  1,24         ,24         ,20140625,0624,  52.9330, -51.3920,     2056,      4.1,2,   6.2030,2,  34.0760,2,  34.0810,4,    333.8,2,    332.8,2,     1.41,2,     0.04,2,     0.01,2,     -999,9,   7.9190,2,20140625,0724,  52.9330, -51.3920
35PK20140515  ,OVIDE-A25  ,73      ,  1,23         ,23         ,20140625,0624,  52.9330, -51.3920,     2056,     10.1,2,   6.1840,2,  34.0740,2,     -999,9,    335.3,2,     -999,9,     -999,9,     -999,9,     -999,9,     -999,9,     -999,9,20140625,0723,  52.9330, -51.3920
35PK20140515  ,OVIDE-A25  ,73      ,  1,22         ,22         ,20140625,0624,  52.9330, -51.3920,     2056,     25.2,2,   4.6590,2,  34.4690,2,     -999,9,    346.7,2,     -999,9,     -999,9,     -999,9,     -999,9,     -999,9,     -999,9,20140625,0722,  52.9330, -51.3910
35PK20140515  ,OVIDE-A25  ,73      ,  1,21         ,21         ,20140625,0624,  52.9330, -51.3920,     2056,     50.3,2,   3.8110,2,  34.6470,2,  34.6470,2,    318.7,2,    317.8,2,     6.06,2,    10.44,2,     -999,9,     -999,9,   7.7700,2,20140625,0720,  52.9330, -51.3920
35PK20140515  ,OVIDE-A25  ,73      ,  1,20         ,20         ,20140625,0624,  52.9330, -51.3920,     2056,     75.0,2,   3.7660,2,  34.6940,2,     -999,9,    313.1,2,     -999,9,     -999,9,     -999,9,     -999,9,     -999,9,     -999,9,20140625,0717,  52.9330, -51.3910
35PK20140515  ,OVIDE-A25  ,73      ,  1,19         ,19         ,20140625,0624,  52.9330, -51.3920,     2056,     99.9,2,   3.4760,2,  34.7550,2,  34.7570,2,    302.7,2,    303.9,2,     7.50,2,    14.91,2,     -999,9,     -999,9,   7.7220,2,20140625,0716,  52.9330, -51.3910
35PK20140515  ,OVIDE-A25  ,73      ,  1,18         ,18         ,20140625,0624,  52.9330, -51.3920,     2056,    150.3,2,   3.4680,2,  34.8030,2,  34.8050,2,    298.8,2,    298.7,2,     7.74,2,    15.35,2,     0.22,2,     -999,9,   7.7190,2,20140625,0714,  52.9330, -51.3910
35PK20140515  ,OVIDE-A25  ,73      ,  1,17         ,17         ,20140625,0624,  52.9330, -51.3920,     2056,    200.0,2,   3.4820,2,  34.8190,2,  34.8190,2,    298.8,2,    298.5,2,     7.81,2,    15.30,2,     0.15,2,     -999,9,   7.7200,2,20140625,0713,  52.9330, -51.3910
35PK20140515  ,OVIDE-A25  ,73      ,  1,16         ,16         ,20140625,0624,  52.9330, -51.3920,     2056,    300.5,2,   3.5050,2,  34.8360,2,  34.8360,2,    299.3,2,    300.2,2,     7.72,2,    15.48,2,     0.08,2,     -999,9,   7.7190,2,20140625,0710,  52.9330, -51.3910
35PK20140515  ,OVIDE-A25  ,73      ,  1,15         ,15         ,20140625,0624,  52.9330, -51.3920,     2056,    399.8,2,   3.4800,2,  34.8410,2,  34.8410,2,    298.5,2,    298.9,2,     7.79,2,    15.56,2,     0.07,2,     -999,9,   7.7220,2,20140625,0707,  52.9330, -51.3910
35PK20140515  ,OVIDE-A25  ,73      ,  1,14         ,14         ,20140625,0624,  52.9330, -51.3920,     2056,    499.8,2,   3.5330,2,  34.8540,2,  34.8540,2,    295.5,2,    296.9,2,     8.02,2,    15.53,2,     0.06,2,     -999,9,   7.7220,2,20140625,0705,  52.9330, -51.3910
35PK20140515  ,OVIDE-A25  ,73      ,  1,13         ,13         ,20140625,0624,  52.9330, -51.3920,     2056,    600.0,2,   3.4960,2,  34.8540,2,  34.8550,2,    295.9,2,    296.8,2,     7.99,2,    15.75,2,     0.04,2,     -999,9,   7.7230,2,20140625,0702,  52.9330, -51.3910
35PK20140515  ,OVIDE-A25  ,73      ,  1,12         ,12         ,20140625,0624,  52.9330, -51.3920,     2056,    700.8,2,   3.4940,2,  34.8560,2,  34.8560,2,    296.0,2,    298.9,2,     8.10,2,    15.74,2,     0.04,2,     -999,9,   7.7220,2,20140625,0659,  52.9330, -51.3910
35PK20140515  ,OVIDE-A25  ,73      ,  1,11         ,11         ,20140625,0624,  52.9330, -51.3920,     2056,    800.3,2,   3.4830,2,  34.8610,2,  34.8620,2,    295.0,2,    295.8,2,     8.20,2,    16.00,2,     0.05,2,     -999,9,   7.7210,2,20140625,0657,  52.9330, -51.3910
35PK20140515  ,OVIDE-A25  ,73      ,  1,10         ,10         ,20140625,0624,  52.9330, -51.3920,     2056,    900.0,2,   3.4680,2,  34.8570,2,  34.8580,2,    296.4,2,    298.1,2,     8.21,2,    15.80,2,     0.01,2,     -999,9,   7.7230,2,20140625,0654,  52.9330, -51.3910
35PK20140515  ,OVIDE-A25  ,73      ,  1,9          ,9          ,20140625,0624,  52.9330, -51.3920,     2056,   1000.5,2,   3.4900,2,  34.8640,2,  34.8620,2,    294.6,2,    295.7,2,     8.28,2,    15.68,2,     0.02,2,     -999,9,   7.7220,2,20140625,0651,  52.9330, -51.3910
35PK20140515  ,OVIDE-A25  ,73      ,  1,8          ,8          ,20140625,0624,  52.9330, -51.3920,     2056,   1200.9,2,   3.5240,2,  34.8750,2,  34.8770,2,    291.3,2,    292.6,2,     8.51,2,    16.13,2,     0.02,2,     -999,9,   7.6970,2,20140625,0647,  52.9330, -51.3910
35PK20140515  ,OVIDE-A25  ,73      ,  1,7          ,7          ,20140625,0624,  52.9330, -51.3920,     2056,   1400.8,2,   3.6400,2,  34.9120,2,  34.9110,2,    278.0,2,    279.9,2,     9.92,2,    16.65,2,     0.02,2,     -999,9,   7.7220,2,20140625,0643,  52.9330, -51.3910
35PK20140515  ,OVIDE-A25  ,73      ,  1,6          ,6          ,20140625,0624,  52.9330, -51.3920,     2056,   1500.0,2,   3.6190,2,  34.9210,2,  34.9210,2,    274.9,2,    276.8,2,    10.19,2,    16.76,2,     0.02,2,     -999,9,   7.7210,2,20140625,0640,  52.9330, -51.3910
35PK20140515  ,OVIDE-A25  ,73      ,  1,5          ,5          ,20140625,0624,  52.9330, -51.3920,     2056,   1599.7,2,   3.5620,2,  34.9240,2,  34.9220,2,    274.4,2,    276.8,2,    10.53,2,    16.72,2,     0.01,2,     -999,9,   7.7250,2,20140625,0637,  52.9330, -51.3910
35PK20140515  ,OVIDE-A25  ,73      ,  1,4          ,4          ,20140625,0624,  52.9330, -51.3920,     2056,   1700.0,2,   3.4460,2,  34.9240,2,  34.9240,2,    275.4,2,    276.9,2,    10.58,2,    16.61,2,     0.01,2,     -999,9,   7.7260,2,20140625,0635,  52.9330, -51.3910
35PK20140515  ,OVIDE-A25  ,73      ,  1,3          ,3          ,20140625,0624,  52.9330, -51.3920,     2056,   1799.4,2,   3.3050,2,  34.9230,2,  34.9220,2,    276.2,2,    277.7,2,    10.87,2,    16.53,2,     0.01,2,     -999,9,   7.7250,2,20140625,0632,  52.9330, -51.3910
35PK20140515  ,OVIDE-A25  ,73      ,  1,2          ,2          ,20140625,0624,  52.9330, -51.3920,     2056,   1901.1,2,   3.1450,2,  34.9220,2,  34.9210,2,    277.2,2,    279.0,2,    11.11,2,    16.44,2,     0.02,2,     -999,9,   7.7280,2,20140625,0629,  52.9330, -51.3910
35PK20140515  ,OVIDE-A25  ,73      ,  1,1          ,1          ,20140625,0624,  52.9330, -51.3920,     2056,   2074.7,2,   3.0610,2,  34.9220,2,  34.9230,2,    277.8,2,    279.5,2,    11.31,2,    16.26,2,     0.02,2,     -999,9,   7.7290,2,20140625,0624,  52.9330, -51.3920
35PK20140515  ,OVIDE-A25  ,74      ,  1,23         ,23         ,20140625,0910,  52.8520, -51.5960,     1253,      3.5,2,   4.0540,2,  32.9350,2,  33.1330,4,    363.8,2,    360.7,2,     2.22,2,     0.10,2,     0.02,2,   2216.1,2,   7.8760,2,20140625,0952,  52.8520, -51.5960
35PK20140515  ,OVIDE-A25  ,74      ,  1,24         ,24         ,20140625,0910,  52.8520, -51.5960,     1253,      3.6,2,   4.0390,2,  32.7600,2,     -999,9,    364.4,2,     -999,9,     -999,9,     -999,9,     -999,9,     -999,9,     -999,9,20140625,0952,  52.8520, -51.5960
35PK20140515  ,OVIDE-A25  ,74      ,  1,22         ,22         ,20140625,0910,  52.8520, -51.5960,     1253,      9.4,2,   4.2700,2,  33.5550,2,     -999,9,    360.3,2,     -999,9,     -999,9,     -999,9,     -999,9,     -999,9,     -999,9,20140625,0951,  52.8520, -51.5960
35PK20140515  ,OVIDE-A25  ,74      ,  1,21         ,21         ,20140625,0910,  52.8520, -51.5960,     1253,     24.5,2,   2.7420,2,  34.3580,2,     -999,9,    320.3,2,     -999,9,     -999,9,     -999,9,     -999,9,     -999,9,     -999,9,20140625,0950,  52.8520, -51.5960
35PK20140515  ,OVIDE-A25  ,74      ,  1,20         ,20         ,20140625,0910,  52.8520, -51.5960,     1253,     49.7,2,   3.2980,2,  34.6310,2,  34.6310,2,    305.2,2,    306.6,2,     6.94,2,    13.05,2,     0.00,2,     -999,9,   7.7390,2,20140625,0948,  52.8520, -51.5960
35PK20140515  ,OVIDE-A25  ,74      ,  1,19         ,19         ,20140625,0910,  52.8520, -51.5960,     1253,     75.0,2,   3.8420,2,  34.7620,2,     -999,9,    294.2,2,     -999,9,     -999,9,     -999,9,     -999,9,     -999,9,     -999,9,20140625,0946,  52.8520, -51.5960
35PK20140515  ,OVIDE-A25  ,74      ,  1,18         ,18         ,20140625,0910,  52.8520, -51.5960,     1253,    100.0,2,   3.7470,2,  34.7830,2,     -999,9,    296.5,2,     -999,9,     -999,9,     -999,9,     -999,9,     -999,9,     -999,9,20140625,0944,  52.8520, -51.5960
35PK20140515  ,OVIDE-A25  ,74      ,  1,17         ,17         ,20140625,0910,  52.8520, -51.5960,     1253,    100.0,2,   3.7510,2,  34.7830,2,  34.7850,2,    296.5,2,    294.6,2,     7.43,2,    14.41,2,     0.49,2,   2294.5,2,   7.7280,2,20140625,0944,  52.8520, -51.5960
35PK20140515  ,OVIDE-A25  ,74      ,  1,16         ,16         ,20140625,0910,  52.8520, -51.5960,     1253,    150.6,2,   3.6600,2,  34.8040,2,  34.8050,2,    297.7,2,    296.7,2,     7.54,2,    14.98,2,     0.17,2,     -999,9,   7.7270,2,20140625,0942,  52.8520, -51.5960
35PK20140515  ,OVIDE-A25  ,74      ,  1,14         ,14         ,20140625,0910,  52.8520, -51.5960,     1253,    200.3,2,   3.6230,2,  34.8150,2,  34.8160,2,    296.6,2,    295.9,2,     7.71,2,    15.24,2,     0.06,2,   2295.5,2,   7.7240,2,20140625,0940,  52.8520, -51.5960
35PK20140515  ,OVIDE-A25  ,74      ,  1,15         ,15         ,20140625,0910,  52.8520, -51.5960,     1253,    200.5,2,   3.6250,2,  34.8160,2,     -999,9,    296.6,2,     -999,9,     -999,9,     -999,9,     -999,9,     -999,9,     -999,9,20140625,0940,  52.8520, -51.5960
35PK20140515  ,OVIDE-A25  ,74      ,  1,13         ,13         ,20140625,0910,  52.8520, -51.5960,     1253,    300.4,2,   3.5720,2,  34.8270,2,  34.8270,2,    298.1,2,    297.4,2,     7.71,2,    15.38,2,     0.09,2,     -999,9,   7.7260,2,20140625,0937,  52.8520, -51.5960
35PK20140515  ,OVIDE-A25  ,74      ,  1,11         ,11         ,20140625,0910,  52.8520, -51.5960,     1253,    401.0,2,   3.5570,2,  34.8410,2,  34.8400,2,    297.7,2,    297.3,2,     7.92,2,    15.50,2,     0.10,2,   2296.2,2,   7.7250,2,20140625,0934,  52.8520, -51.5960
35PK20140515  ,OVIDE-A25  ,74      ,  1,12         ,12         ,20140625,0910,  52.8520, -51.5960,     1253,    401.1,2,   3.5570,2,  34.8410,2,     -999,9,    297.7,2,     -999,9,     -999,9,     -999,9,     -999,9,     -999,9,     -999,9,20140625,0934,  52.8520, -51.5960
35PK20140515  ,OVIDE-A25  ,74      ,  1,10         ,10         ,20140625,0910,  52.8520, -51.5960,     1253,    500.6,2,   3.5320,2,  34.8460,2,  34.8480,2,    297.3,2,    296.8,2,     8.03,2,    15.63,2,     0.04,2,     -999,9,   7.7260,2,20140625,0931,  52.8520, -51.5960
35PK20140515  ,OVIDE-A25  ,74      ,  1,8          ,8          ,20140625,0910,  52.8520, -51.5960,     1253,    600.8,2,   3.4940,2,  34.8480,2,  34.8480,2,    296.5,2,    296.4,2,     8.11,2,    15.84,2,     0.03,2,   2297.0,2,   7.7220,2,20140625,0928,  52.8520, -51.5960
35PK20140515  ,OVIDE-A25  ,74      ,  1,9          ,9          ,20140625,0910,  52.8520, -51.5960,     1253,    600.8,2,   3.4940,2,  34.8480,2,     -999,9,    296.5,2,     -999,9,     -999,9,     -999,9,     -999,9,     -999,9,     -999,9,20140625,0928,  52.8520, -51.5960
35PK20140515  ,OVIDE-A25  ,74      ,  1,7          ,7          ,20140625,0910,  52.8520, -51.5960,     1253,    699.0,2,   3.5150,2,  34.8550,2,  34.8550,2,    295.3,2,    295.2,2,     8.12,2,    15.89,2,     0.04,2,   2298.5,2,   7.7220,2,20140625,0925,  52.8520, -51.5960
35PK20140515  ,OVIDE-A25  ,74      ,  1,5          ,5          ,20140625,0910,  52.8520, -51.5960,     1253,    800.2,2,   3.5300,2,  34.8620,2,     -999,9,    293.6,2,     -999,9,     -999,9,     -999,9,     -999,9,   2299.7,2,   7.7230,2,20140625,0922,  52.8520, -51.5960
35PK20140515  ,OVIDE-A25  ,74      ,  1,6          ,6          ,20140625,0910,  52.8520, -51.5960,     1253,    800.3,2,   3.5300,2,  34.8620,2,     -999,9,    293.6,2,     -999,9,     -999,9,     -999,9,     -999,9,     -999,9,     -999,9,20140625,0922,  52.8520, -51.5960
35PK20140515  ,OVIDE-A25  ,74      ,  1,4          ,4          ,20140625,0910,  52.8520, -51.5960,     1253,    901.2,2,   3.5180,2,  34.8640,2,  34.8640,2,    293.8,2,    293.7,2,     8.31,2,    16.04,2,     0.02,2,     -999,9,   7.7230,2,20140625,0919,  52.8520, -51.5960
35PK20140515  ,OVIDE-A25  ,74      ,  1,3          ,3          ,20140625,0910,  52.8520, -51.5960,     1253,   1001.7,2,   3.5250,2,  34.8670,2,  34.8680,2,    293.0,2,    293.0,2,     8.40,2,    16.03,2,     0.02,2,     -999,9,   7.7230,2,20140625,0917,  52.8520, -51.5960
35PK20140515  ,OVIDE-A25  ,74      ,  1,2          ,2          ,20140625,0910,  52.8520, -51.5960,     1253,   1151.0,2,   3.5390,2,  34.8720,2,  34.8710,2,    291.3,2,    292.1,2,     8.68,2,    16.10,2,     0.04,2,   2299.3,2,   7.7220,2,20140625,0913,  52.8520, -51.5960
35PK20140515  ,OVIDE-A25  ,74      ,  1,1          ,1          ,20140625,0910,  52.8520, -51.5960,     1253,   1258.6,2,   3.5530,2,  34.8750,2,  34.8750,2,    290.1,2,    290.2,2,     8.85,2,    16.06,2,     0.04,2,     -999,9,   7.7220,2,20140625,0910,  52.8520, -51.5960