BOTTLE,20240403CCHHYDRO
EXPOCODE,SECT_ID,STNNBR,CASTNO,SAMPNO,BTLNBR,DATE,TIME,LATITUDE,LONGITUDE,DEPTH,CTDPRS,CTDPRS_FLAG_W,CTDTMP,CTDTMP_FLAG_W,CTDSAL,CTDSAL_FLAG_W,SALNTY,SALNTY_FLAG_W,CTDOXY,CTDOXY_FLAG_W,OXYGEN,OXYGEN_FLAG_W,SILCAT,SILCAT_FLAG_W,NITRAT,NITRAT_FLAG_W,NITRIT,NITRIT_FLAG_W,ALKALI,ALKALI_FLAG_W,PH_TOT,PH_TOT_FLAG_W,BTL_DATE,BTL_TIME,BTL_LAT,BTL_LON
,,,,,,,,,,METERS,DBAR,,ITS-90,,PSS-78,,PSS-78,,UMOL/KG,,UMOL/KG,,UMOL/KG,,UMOL/KG,,UMOL/KG,,UMOL/KG,,,,,,,
35PK20140515  ,OVIDE-A25  ,3       ,  1,20         ,20         ,20140521,0437,  40.3330,  -9.6430,      436,      3.4,2,  16.7510,2,  34.9590,2,     -999,9,    246.1,2,     -999,9,     -999,9,     -999,9,     -999,9,     -999,9,     -999,9,20140521,0455,  40.3330,  -9.6430
35PK20140515  ,OVIDE-A25  ,3       ,  1,22         ,22         ,20140521,0437,  40.3330,  -9.6430,      436,      3.9,2,  16.7500,2,  34.9590,2,     -999,9,    246.0,2,     -999,9,     -999,9,     -999,9,     -999,9,     -999,9,     -999,9,20140521,0455,  40.3330,  -9.6430
35PK20140515  ,OVIDE-A25  ,3       ,  1,23         ,23         ,20140521,0437,  40.3330,  -9.6430,      436,      3.9,2,  16.7530,2,  34.9590,2,     -999,9,    246.0,2,     -999,9,     -999,9,     -999,9,     -999,9,     -999,9,     -999,9,20140521,0456,  40.3330,  -9.6430
35PK20140515  ,OVIDE-A25  ,3       ,  1,24         ,24         ,20140521,0437,  40.3330,  -9.6430,      436,      4.0,2,  16.7520,2,  34.9590,2,     -999,9,    246.0,2,     -999,9,     -999,9,     -999,9,     -999,9,     -999,9,     -999,9,20140521,0456,  40.3330,  -9.6430
35PK20140515  ,OVIDE-A25  ,3       ,  1,21         ,21         ,20140521,0437,  40.3330,  -9.6430,      436,      4.1,2,  16.7510,2,  34.9590,2,     -999,9,    246.0,2,     -999,9,     -999,9,     -999,9,     -999,9,     -999,9,     -999,9,20140521,0455,  40.3330,  -9.6430
35PK20140515  ,OVIDE-A25  ,3       ,  1,19         ,19         ,20140521,0437,  40.3330,  -9.6430,      436,      4.1,2,  16.7510,2,  34.9620,2,  34.9610,2,    246.0,2,    246.5,2,     1.06,2,     0.10,2,     0.03,2,   2323.4,2,   7.9910,2,20140521,0455,  40.3330,  -9.6430
35PK20140515  ,OVIDE-A25  ,3       ,  1,18         ,18         ,20140521,0437,  40.3330,  -9.6430,      436,     59.9,2,  13.5640,2,  35.7890,2,     -999,9,    241.4,2,     -999,9,     -999,9,     -999,9,     -999,9,     -999,9,     -999,9,20140521,0452,  40.3330,  -9.6430
35PK20140515  ,OVIDE-A25  ,3       ,  1,16         ,16         ,20140521,0437,  40.3330,  -9.6430,      436,     60.2,2,  13.5390,2,  35.7890,2,  35.7940,2,    241.4,2,    242.9,2,     1.04,2,     4.37,2,     0.13,2,     -999,9,   7.8960,2,20140521,0452,  40.3330,  -9.6430
35PK20140515  ,OVIDE-A25  ,3       ,  1,17         ,17         ,20140521,0437,  40.3330,  -9.6430,      436,     60.3,2,  13.5550,2,  35.7890,2,     -999,9,    241.4,2,     -999,9,     -999,9,     -999,9,     -999,9,     -999,9,     -999,9,20140521,0452,  40.3330,  -9.6430
35PK20140515  ,OVIDE-A25  ,3       ,  1,14         ,14         ,20140521,0437,  40.3330,  -9.6430,      436,     98.9,2,  13.1740,2,  35.7770,2,     -999,9,    240.6,2,     -999,9,     -999,9,     -999,9,     -999,9,     -999,9,     -999,9,20140521,0449,  40.3330,  -9.6430
35PK20140515  ,OVIDE-A25  ,3       ,  1,13         ,13         ,20140521,0437,  40.3330,  -9.6430,      436,     99.5,2,  13.1700,2,  35.7770,2,  35.7770,2,    240.6,2,    241.2,2,     1.65,2,     5.97,2,     0.04,2,   2347.3,2,   7.8810,2,20140521,0449,  40.3330,  -9.6430
35PK20140515  ,OVIDE-A25  ,3       ,  1,15         ,15         ,20140521,0437,  40.3330,  -9.6430,      436,     99.6,2,  13.1720,2,  35.7760,2,     -999,9,    240.7,2,     -999,9,     -999,9,     -999,9,     -999,9,     -999,9,     -999,9,20140521,0449,  40.3330,  -9.6430
35PK20140515  ,OVIDE-A25  ,3       ,  1,12         ,12         ,20140521,0437,  40.3330,  -9.6430,      436,    149.8,2,  12.8620,2,  35.7400,2,     -999,9,    237.3,2,     -999,9,     -999,9,     -999,9,     -999,9,     -999,9,     -999,9,20140521,0447,  40.3330,  -9.6430
35PK20140515  ,OVIDE-A25  ,3       ,  1,10         ,10         ,20140521,0437,  40.3330,  -9.6430,      436,    150.1,2,  12.8620,2,  35.7400,2,  35.7400,2,    237.3,2,    238.5,2,     2.04,2,     7.02,2,     0.03,2,     -999,9,   7.8700,2,20140521,0447,  40.3330,  -9.6430
35PK20140515  ,OVIDE-A25  ,3       ,  1,11         ,11         ,20140521,0437,  40.3330,  -9.6430,      436,    150.1,2,  12.8620,2,  35.7400,2,     -999,9,    237.3,2,     -999,9,     -999,9,     -999,9,     -999,9,     -999,9,     -999,9,20140521,0447,  40.3330,  -9.6430
35PK20140515  ,OVIDE-A25  ,3       ,  1,9          ,9          ,20140521,0437,  40.3330,  -9.6430,      436,    200.7,2,  12.5700,2,  35.7150,2,     -999,9,    227.5,2,     -999,9,     -999,9,     -999,9,     -999,9,     -999,9,     -999,9,20140521,0445,  40.3330,  -9.6430
35PK20140515  ,OVIDE-A25  ,3       ,  1,7          ,7          ,20140521,0437,  40.3330,  -9.6430,      436,    200.8,2,  12.5700,2,  35.7140,2,  35.7140,2,    227.5,2,    228.8,2,     2.65,2,     8.89,2,     0.04,2,   2346.8,2,   7.8460,2,20140521,0445,  40.3330,  -9.6430
35PK20140515  ,OVIDE-A25  ,3       ,  1,8          ,8          ,20140521,0437,  40.3330,  -9.6430,      436,    200.9,2,  12.5700,2,  35.7150,2,     -999,9,    227.5,2,     -999,9,     -999,9,     -999,9,     -999,9,     -999,9,     -999,9,20140521,0445,  40.3330,  -9.6430
35PK20140515  ,OVIDE-A25  ,3       ,  1,5          ,5          ,20140521,0437,  40.3330,  -9.6430,      436,    299.4,2,  12.1030,2,  35.6950,2,     -999,9,    213.4,2,     -999,9,     -999,9,     -999,9,     -999,9,     -999,9,     -999,9,20140521,0443,  40.3330,  -9.6430
35PK20140515  ,OVIDE-A25  ,3       ,  1,4          ,4          ,20140521,0437,  40.3330,  -9.6430,      436,    299.7,2,  12.1030,2,  35.6950,2,  35.6950,2,    213.4,2,    214.1,2,     3.83,2,    11.34,2,     0.04,2,   2344.7,2,   7.8210,2,20140521,0442,  40.3330,  -9.6430
35PK20140515  ,OVIDE-A25  ,3       ,  1,6          ,6          ,20140521,0437,  40.3330,  -9.6430,      436,    299.7,2,  12.1030,2,  35.6950,2,     -999,9,    213.4,2,     -999,9,     -999,9,     -999,9,     -999,9,     -999,9,     -999,9,20140521,0443,  40.3330,  -9.6430
35PK20140515  ,OVIDE-A25  ,3       ,  1,1          ,1          ,20140521,0437,  40.3330,  -9.6430,      436,    425.7,2,  11.7540,2,  35.7110,2,  35.7120,2,    203.0,2,    204.0,2,     4.90,2,    12.86,2,     0.05,2,   2347.7,2,   7.8060,2,20140521,0437,  40.3330,  -9.6430
35PK20140515  ,OVIDE-A25  ,3       ,  1,3          ,3          ,20140521,0437,  40.3330,  -9.6430,      436,    425.9,2,  11.7490,2,  35.7120,2,     -999,9,    203.0,2,     -999,9,     -999,9,     -999,9,     -999,9,     -999,9,     -999,9,20140521,0438,  40.3330,  -9.6430
35PK20140515  ,OVIDE-A25  ,3       ,  1,2          ,2          ,20140521,0437,  40.3330,  -9.6430,      436,    426.1,2,  11.7470,2,  35.7130,2,     -999,9,    203.0,2,     -999,9,     -999,9,     -999,9,     -999,9,     -999,9,     -999,9,20140521,0438,  40.3330,  -9.6430
35PK20140515  ,OVIDE-A25  ,4       ,  1,24         ,24         ,20140521,1616,  40.3330,  -9.7670,      818,      8.0,2,  16.2840,2,  35.1540,2,     -999,9,    256.2,2,     -999,9,     -999,9,     -999,9,     -999,9,     -999,9,     -999,9,20140521,1643,  40.3330,  -9.7670
35PK20140515  ,OVIDE-A25  ,4       ,  1,21         ,21         ,20140521,1616,  40.3330,  -9.7670,      818,      8.2,2,  16.3480,2,  35.1370,2,  35.1360,2,    256.2,2,    253.6,2,     0.83,2,     0.03,2,     0.01,2,   2323.4,2,   7.9900,2,20140521,1642,  40.3330,  -9.7670
35PK20140515  ,OVIDE-A25  ,4       ,  1,23         ,23         ,20140521,1616,  40.3330,  -9.7670,      818,      8.2,2,  16.3120,2,  35.1470,2,     -999,9,    256.2,2,     -999,9,     -999,9,     -999,9,     -999,9,     -999,9,     -999,9,20140521,1642,  40.3330,  -9.7670
35PK20140515  ,OVIDE-A25  ,4       ,  1,22         ,22         ,20140521,1616,  40.3330,  -9.7670,      818,      8.6,2,  16.3470,2,  35.1380,2,     -999,9,    256.6,2,     -999,9,     -999,9,     -999,9,     -999,9,     -999,9,     -999,9,20140521,1642,  40.3330,  -9.7670
35PK20140515  ,OVIDE-A25  ,4       ,  1,20         ,20         ,20140521,1616,  40.3330,  -9.7670,      818,     36.1,2,  14.1140,2,  35.6560,2,     -999,9,    256.4,2,     -999,9,     -999,9,     -999,9,     -999,9,     -999,9,     -999,9,20140521,1640,  40.3330,  -9.7670
35PK20140515  ,OVIDE-A25  ,4       ,  1,18         ,18         ,20140521,1616,  40.3330,  -9.7670,      818,     36.2,2,  14.0590,2,  35.6630,2,  35.6680,4,    256.4,2,    259.5,2,     0.30,2,     1.04,2,     0.25,2,   2342.2,2,   7.9400,2,20140521,1640,  40.3330,  -9.7670
35PK20140515  ,OVIDE-A25  ,4       ,  1,19         ,19         ,20140521,1616,  40.3330,  -9.7670,      818,     36.8,2,  14.1020,2,  35.6570,2,     -999,9,    254.6,2,     -999,9,     -999,9,     -999,9,     -999,9,     -999,9,     -999,9,20140521,1640,  40.3330,  -9.7670
35PK20140515  ,OVIDE-A25  ,4       ,  1,17         ,17         ,20140521,1616,  40.3330,  -9.7670,      818,    100.2,2,  13.0590,2,  35.7450,2,     -999,9,    238.9,2,     -999,9,     -999,9,     -999,9,     -999,9,     -999,9,     -999,9,20140521,1637,  40.3330,  -9.7670
35PK20140515  ,OVIDE-A25  ,4       ,  1,15         ,15         ,20140521,1616,  40.3330,  -9.7670,      818,    100.4,2,  13.0470,2,  35.7430,2,  35.7430,2,    238.9,2,    240.8,2,     1.70,2,     6.41,2,     0.02,2,   2345.6,2,   7.8770,2,20140521,1637,  40.3330,  -9.7670
35PK20140515  ,OVIDE-A25  ,4       ,  1,16         ,16         ,20140521,1616,  40.3330,  -9.7670,      818,    100.5,2,  13.0540,2,  35.7440,2,     -999,9,    238.9,2,     -999,9,     -999,9,     -999,9,     -999,9,     -999,9,     -999,9,20140521,1637,  40.3330,  -9.7670
35PK20140515  ,OVIDE-A25  ,4       ,  1,12         ,12         ,20140521,1616,  40.3330,  -9.7670,      818,    149.0,2,  12.7810,2,  35.7250,2,  35.7260,2,    235.5,2,    236.8,2,     2.19,2,     7.60,2,     0.03,2,   2344.6,2,   7.8660,2,20140521,1635,  40.3330,  -9.7670
35PK20140515  ,OVIDE-A25  ,4       ,  1,14         ,14         ,20140521,1616,  40.3330,  -9.7670,      818,    149.4,2,  12.7820,2,  35.7250,2,     -999,9,    235.5,2,     -999,9,     -999,9,     -999,9,     -999,9,     -999,9,     -999,9,20140521,1635,  40.3330,  -9.7670
35PK20140515  ,OVIDE-A25  ,4       ,  1,13         ,13         ,20140521,1616,  40.3330,  -9.7670,      818,    149.9,2,  12.7910,2,  35.7260,2,     -999,9,    235.4,2,     -999,9,     -999,9,     -999,9,     -999,9,     -999,9,     -999,9,20140521,1635,  40.3330,  -9.7670
35PK20140515  ,OVIDE-A25  ,4       ,  1,10         ,10         ,20140521,1616,  40.3330,  -9.7670,      818,    199.0,2,  12.5090,2,  35.7030,2,     -999,9,    228.2,2,     -999,9,     -999,9,     -999,9,     -999,9,     -999,9,     -999,9,20140521,1633,  40.3330,  -9.7670
35PK20140515  ,OVIDE-A25  ,4       ,  1,11         ,11         ,20140521,1616,  40.3330,  -9.7670,      818,    199.3,2,  12.5090,2,  35.7030,2,     -999,9,    228.2,2,     -999,9,     -999,9,     -999,9,     -999,9,     -999,9,     -999,9,20140521,1633,  40.3330,  -9.7670
35PK20140515  ,OVIDE-A25  ,4       ,  1,9          ,9          ,20140521,1616,  40.3330,  -9.7670,      818,    199.4,2,  12.5050,2,  35.7040,2,  35.7040,2,    228.2,2,    229.8,2,     2.67,2,     8.95,2,     0.02,2,   2342.8,2,   7.8520,2,20140521,1633,  40.3330,  -9.7670
35PK20140515  ,OVIDE-A25  ,4       ,  1,8          ,8          ,20140521,1616,  40.3330,  -9.7670,      818,    300.1,2,  12.1320,2,  35.6780,2,  35.6780,2,    218.1,2,    219.8,2,     3.35,2,    11.08,2,     0.02,2,   2339.6,2,   7.8280,2,20140521,1630,  40.3330,  -9.7670
35PK20140515  ,OVIDE-A25  ,4       ,  1,7          ,7          ,20140521,1616,  40.3330,  -9.7670,      818,    399.6,2,  11.8980,2,  35.6690,2,  35.6690,2,    212.6,2,    214.6,2,     3.88,2,    12.08,2,     0.02,2,   2339.5,2,   7.8170,2,20140521,1628,  40.3330,  -9.7670
35PK20140515  ,OVIDE-A25  ,4       ,  1,6          ,6          ,20140521,1616,  40.3330,  -9.7670,      818,    500.9,2,  11.4860,2,  35.7240,2,  35.7240,2,    193.6,2,    196.0,2,     5.84,2,    14.58,2,     0.02,2,   2346.6,2,   7.7970,2,20140521,1625,  40.3330,  -9.7670
35PK20140515  ,OVIDE-A25  ,4       ,  1,5          ,5          ,20140521,1616,  40.3330,  -9.7670,      818,    600.0,2,  11.6500,2,  35.8650,2,  35.8640,2,    185.3,2,    187.6,2,     6.70,2,    15.11,2,     0.02,2,   2358.1,2,   7.7970,2,20140521,1622,  40.3330,  -9.7670
35PK20140515  ,OVIDE-A25  ,4       ,  1,3          ,3          ,20140521,1616,  40.3330,  -9.7670,      818,    699.5,2,  11.8540,2,  36.0300,2,  36.0310,2,    181.0,2,    183.5,2,     6.99,2,    14.97,2,     0.02,2,   2374.8,2,   7.8060,2,20140521,1620,  40.3330,  -9.7670
35PK20140515  ,OVIDE-A25  ,4       ,  1,4          ,4          ,20140521,1616,  40.3330,  -9.7670,      818,    699.5,2,  11.8550,2,  36.0290,2,  36.0270,2,    181.0,2,    185.2,2,     7.19,2,    14.98,2,     0.02,2,     -999,9,     -999,9,20140521,1620,  40.3330,  -9.7670
35PK20140515  ,OVIDE-A25  ,4       ,  1,2          ,2          ,20140521,1616,  40.3330,  -9.7670,      818,    808.0,2,  11.8530,2,  36.1650,2,  36.1640,2,    180.3,2,    182.2,2,     7.51,2,    14.86,2,     0.01,2,     -999,9,     -999,9,20140521,1616,  40.3330,  -9.7670
35PK20140515  ,OVIDE-A25  ,4       ,  1,1          ,1          ,20140521,1616,  40.3330,  -9.7670,      818,    808.3,2,  11.8520,2,  36.1650,2,  36.1650,2,    180.3,2,    182.3,2,     7.46,2,    14.81,2,     0.01,2,   2385.1,2,   7.8100,2,20140521,1616,  40.3330,  -9.7670