BOTTLE,20240403CCHHYDRO
EXPOCODE,SECT_ID,STNNBR,CASTNO,SAMPNO,BTLNBR,DATE,TIME,LATITUDE,LONGITUDE,DEPTH,CTDPRS,CTDPRS_FLAG_W,CTDTMP,CTDTMP_FLAG_W,CTDSAL,CTDSAL_FLAG_W,SALNTY,SALNTY_FLAG_W,CTDOXY,CTDOXY_FLAG_W,OXYGEN,OXYGEN_FLAG_W,SILCAT,SILCAT_FLAG_W,NITRAT,NITRAT_FLAG_W,NITRIT,NITRIT_FLAG_W,ALKALI,ALKALI_FLAG_W,PH_TOT,PH_TOT_FLAG_W,BTL_DATE,BTL_TIME,BTL_LAT,BTL_LON
,,,,,,,,,,METERS,DBAR,,ITS-90,,PSS-78,,PSS-78,,UMOL/KG,,UMOL/KG,,UMOL/KG,,UMOL/KG,,UMOL/KG,,UMOL/KG,,,,,,,
35PK20140515  ,OVIDE-A25  ,45      ,  1,23         ,23         ,20140615,0204,  59.4910, -37.6810,     3162,      4.9,2,   7.6860,2,  34.9450,2,  34.9460,2,    314.6,2,    313.6,2,     4.21,2,     7.97,2,     0.25,2,   2310.7,2,   7.8690,2,20140615,0322,  59.4910, -37.6810
35PK20140515  ,OVIDE-A25  ,45      ,  1,24         ,24         ,20140615,0204,  59.4910, -37.6810,     3162,      5.0,2,   7.6860,2,  34.9430,2,     -999,9,    314.6,2,     -999,9,     -999,9,     -999,9,     -999,9,     -999,9,     -999,9,20140615,0322,  59.4910, -37.6810
35PK20140515  ,OVIDE-A25  ,45      ,  1,22         ,22         ,20140615,0204,  59.4910, -37.6810,     3162,     41.3,2,   6.1560,2,  34.9630,2,  34.9610,2,    293.4,2,    292.7,2,     6.82,2,    13.73,2,     0.27,2,     -999,9,   7.7550,2,20140615,0320,  59.4910, -37.6810
35PK20140515  ,OVIDE-A25  ,45      ,  1,21         ,21         ,20140615,0204,  59.4910, -37.6810,     3162,     99.7,2,   5.7160,2,  34.9820,2,  34.9820,2,    288.0,2,    287.2,2,     6.99,2,    15.34,2,     0.04,2,   2307.7,2,   7.7420,2,20140615,0317,  59.4910, -37.6810
35PK20140515  ,OVIDE-A25  ,45      ,  1,20         ,20         ,20140615,0204,  59.4910, -37.6810,     3162,    148.6,2,   5.5850,2,  34.9720,2,  34.9730,2,    289.2,2,    288.1,2,     7.03,2,    15.39,2,     0.04,2,     -999,9,     -999,9,20140615,0315,  59.4910, -37.6810
35PK20140515  ,OVIDE-A25  ,45      ,  1,19         ,19         ,20140615,0204,  59.4910, -37.6810,     3162,    200.1,2,   5.4500,2,  34.9640,2,  34.9630,2,    286.0,2,    284.5,2,     7.43,2,    15.49,2,     0.02,2,   2307.7,2,   7.7390,2,20140615,0314,  59.4910, -37.6810
35PK20140515  ,OVIDE-A25  ,45      ,  1,18         ,18         ,20140615,0204,  59.4910, -37.6810,     3162,    299.6,2,   4.9310,2,  34.9350,2,  34.9360,2,    283.5,2,    281.5,2,     7.91,2,    16.34,2,     0.01,2,     -999,9,   7.7260,2,20140615,0311,  59.4910, -37.6810
35PK20140515  ,OVIDE-A25  ,45      ,  1,17         ,17         ,20140615,0204,  59.4910, -37.6810,     3162,    399.4,2,   4.6380,2,  34.9260,2,  34.9250,2,    284.2,2,    283.3,2,     8.21,2,    16.27,2,     0.01,2,   2304.1,2,   7.7230,2,20140615,0308,  59.4910, -37.6810
35PK20140515  ,OVIDE-A25  ,45      ,  1,16         ,16         ,20140615,0204,  59.4910, -37.6810,     3162,    499.6,2,   4.3260,2,  34.9240,2,  34.9210,2,    284.3,2,    283.7,2,     8.27,2,    16.54,2,     0.01,2,     -999,9,   7.7210,2,20140615,0305,  59.4910, -37.6810
35PK20140515  ,OVIDE-A25  ,45      ,  1,15         ,15         ,20140615,0204,  59.4910, -37.6810,     3162,    600.6,2,   4.0860,2,  34.9060,2,  34.9050,2,    294.7,2,    293.5,2,     8.09,2,    16.07,2,     0.01,2,   2303.2,2,   7.7240,2,20140615,0303,  59.4910, -37.6810
35PK20140515  ,OVIDE-A25  ,45      ,  1,14         ,14         ,20140615,0204,  59.4910, -37.6810,     3162,    700.4,2,   3.9800,2,  34.8960,2,  34.8970,2,    297.4,2,    295.9,2,     7.99,2,    15.88,2,     0.02,2,     -999,9,   7.7260,2,20140615,0300,  59.4910, -37.6810
35PK20140515  ,OVIDE-A25  ,45      ,  1,13         ,13         ,20140615,0204,  59.4910, -37.6810,     3162,    799.3,2,   3.9410,2,  34.8960,2,  34.8960,2,    291.9,2,    292.4,2,     8.12,2,    16.21,2,     0.01,2,   2303.3,2,   7.7230,2,20140615,0258,  59.4910, -37.6810
35PK20140515  ,OVIDE-A25  ,45      ,  1,12         ,12         ,20140615,0204,  59.4910, -37.6810,     3162,    900.7,2,   3.8250,2,  34.8850,2,  34.8840,2,    295.3,2,    294.2,2,     7.96,2,    16.00,2,     0.01,2,     -999,9,   7.7250,2,20140615,0255,  59.4910, -37.6810
35PK20140515  ,OVIDE-A25  ,45      ,  1,11         ,11         ,20140615,0204,  59.4910, -37.6810,     3162,   1000.3,2,   3.7470,2,  34.8770,2,  34.8770,2,    294.4,2,    293.5,2,     8.03,2,    16.02,2,     0.01,2,   2301.9,2,   7.7250,2,20140615,0252,  59.4910, -37.6810
35PK20140515  ,OVIDE-A25  ,45      ,  1,10         ,10         ,20140615,0204,  59.4910, -37.6810,     3162,   1199.8,2,   3.6910,2,  34.8770,2,  34.8770,2,    290.7,2,    290.5,2,     8.65,2,    16.15,2,     0.01,2,   2303.0,2,   7.7240,2,20140615,0248,  59.4910, -37.6810
35PK20140515  ,OVIDE-A25  ,45      ,  1,9          ,9          ,20140615,0204,  59.4910, -37.6810,     3162,   1399.7,2,   3.8220,2,  34.9290,2,  34.9290,2,    274.1,2,    275.4,2,    10.01,2,    16.96,2,     0.00,2,     -999,9,   7.7240,2,20140615,0243,  59.4910, -37.6810
35PK20140515  ,OVIDE-A25  ,45      ,  1,8          ,8          ,20140615,0204,  59.4910, -37.6810,     3162,   1599.5,2,   3.7100,2,  34.9400,2,  34.9410,2,    272.8,2,    272.7,2,    10.53,2,    16.85,2,     0.01,2,   2306.9,2,   7.7250,2,20140615,0239,  59.4910, -37.6810
35PK20140515  ,OVIDE-A25  ,45      ,  1,7          ,7          ,20140615,0204,  59.4910, -37.6810,     3162,   1800.5,2,   3.6300,2,  34.9520,2,  34.9520,2,    273.0,2,    272.5,2,    10.83,2,    16.71,2,     0.01,2,     -999,9,   7.7290,2,20140615,0234,  59.4910, -37.6810
35PK20140515  ,OVIDE-A25  ,45      ,  1,6          ,6          ,20140615,0204,  59.4910, -37.6810,     3162,   2000.8,2,   3.3480,2,  34.9310,2,  34.9310,2,    275.2,2,    274.8,2,    11.34,2,    16.80,2,     0.00,2,   2307.2,2,   7.7330,2,20140615,0230,  59.4910, -37.6810
35PK20140515  ,OVIDE-A25  ,45      ,  1,5          ,5          ,20140615,0204,  59.4910, -37.6810,     3162,   2251.1,2,   3.1700,2,  34.9320,2,  34.9330,2,    276.5,2,    276.7,2,    11.85,2,    16.66,2,     0.00,2,     -999,9,   7.7330,2,20140615,0225,  59.4910, -37.6810
35PK20140515  ,OVIDE-A25  ,45      ,  1,4          ,4          ,20140615,0204,  59.4910, -37.6810,     3162,   2500.4,2,   3.0190,2,  34.9360,2,  34.9340,2,    275.9,2,    276.0,2,    13.04,2,    16.65,2,     0.00,2,   2307.6,2,   7.7340,2,20140615,0219,  59.4910, -37.6810
35PK20140515  ,OVIDE-A25  ,45      ,  1,3          ,3          ,20140615,0204,  59.4910, -37.6810,     3162,   2753.0,2,   2.8530,2,  34.9340,2,  34.9340,2,    277.1,2,    278.0,2,    13.00,2,    16.25,2,     0.00,2,     -999,9,   7.7340,2,20140615,0214,  59.4910, -37.6810
35PK20140515  ,OVIDE-A25  ,45      ,  1,2          ,2          ,20140615,0204,  59.4910, -37.6810,     3162,   2999.9,2,   2.4880,2,  34.9210,2,  34.9220,2,    285.7,2,    284.6,2,    11.74,2,    15.58,2,     0.00,2,   2306.4,2,   7.7280,2,20140615,0208,  59.4910, -37.6810
35PK20140515  ,OVIDE-A25  ,45      ,  1,1          ,1          ,20140615,0204,  59.4910, -37.6810,     3162,   3152.5,2,   1.5340,2,  34.8980,2,  34.8980,2,    303.2,2,    303.1,2,     8.09,2,    13.86,2,     0.01,2,   2301.4,2,   7.7190,2,20140615,0204,  59.4910, -37.6810
35PK20140515  ,OVIDE-A25  ,46      ,  1,24         ,24         ,20140615,0842,  59.6240, -38.9580,     2976,      5.1,2,   6.8500,2,  34.8440,2,  34.8440,2,    316.2,2,    315.6,2,     6.24,2,     8.60,2,     0.11,2,   2305.6,2,   7.8410,2,20140615,1004,  59.6240, -38.9580
35PK20140515  ,OVIDE-A25  ,46      ,  1,23         ,23         ,20140615,0842,  59.6240, -38.9580,     2976,     19.8,2,   6.7740,2,  34.8460,2,  34.8450,2,    314.9,2,    314.4,2,     6.44,2,     9.07,2,     0.12,2,     -999,9,   7.8280,2,20140615,1003,  59.6240, -38.9580
35PK20140515  ,OVIDE-A25  ,46      ,  1,22         ,22         ,20140615,0842,  59.6240, -38.9580,     2976,     40.6,2,   4.8620,2,  34.8600,2,     -999,9,    314.8,2,     -999,9,     7.62,2,    12.98,2,     0.18,2,     -999,9,   7.7590,2,20140615,1001,  59.6240, -38.9580
35PK20140515  ,OVIDE-A25  ,46      ,  1,21         ,21         ,20140615,0842,  59.6240, -38.9580,     2976,     60.3,2,   4.4500,2,  34.8970,2,  34.9000,2,    298.4,2,    298.6,2,     7.69,2,    15.71,2,     -999,9,   2302.8,2,   7.7310,2,20140615,1000,  59.6240, -38.9580
35PK20140515  ,OVIDE-A25  ,46      ,  1,20         ,20         ,20140615,0842,  59.6240, -38.9580,     2976,     80.5,2,   4.3150,2,  34.9040,2,     -999,9,    298.1,2,     -999,9,     7.73,2,    15.98,2,     0.11,2,     -999,9,   7.7270,2,20140615,0958,  59.6240, -38.9580
35PK20140515  ,OVIDE-A25  ,46      ,  1,19         ,19         ,20140615,0842,  59.6240, -38.9580,     2976,    100.2,2,   4.2700,2,  34.9090,2,  34.9070,2,    296.2,2,    295.8,2,     7.81,2,    15.88,2,     0.06,2,   2303.4,2,   7.7270,2,20140615,0956,  59.6240, -38.9580
35PK20140515  ,OVIDE-A25  ,46      ,  1,18         ,18         ,20140615,0842,  59.6240, -38.9580,     2976,    149.8,2,   4.0720,2,  34.8990,2,  34.8970,2,    296.9,2,    297.2,2,     7.88,2,    16.03,2,     0.04,2,     -999,9,   7.7240,2,20140615,0955,  59.6240, -38.9580
35PK20140515  ,OVIDE-A25  ,46      ,  1,17         ,17         ,20140615,0842,  59.6240, -38.9580,     2976,    199.6,2,   4.0540,2,  34.9010,2,  34.9010,2,    297.0,2,    296.0,2,     7.88,2,    15.90,2,     0.02,2,   2302.8,2,   7.7250,2,20140615,0953,  59.6240, -38.9580
35PK20140515  ,OVIDE-A25  ,46      ,  1,16         ,16         ,20140615,0842,  59.6240, -38.9580,     2976,    300.2,2,   3.9500,2,  34.8950,2,  34.8950,2,    299.2,2,    301.9,2,     7.78,2,    15.86,2,     0.01,2,   2301.8,2,   7.7260,2,20140615,0950,  59.6240, -38.9580
35PK20140515  ,OVIDE-A25  ,46      ,  1,15         ,15         ,20140615,0842,  59.6240, -38.9580,     2976,    400.0,2,   3.8920,2,  34.8930,2,  34.8920,2,    298.1,2,    298.0,2,     7.92,2,    15.87,2,     0.01,2,   2301.9,2,   7.7250,2,20140615,0947,  59.6240, -38.9580
35PK20140515  ,OVIDE-A25  ,46      ,  1,14         ,14         ,20140615,0842,  59.6240, -38.9580,     2976,    499.5,2,   3.7930,2,  34.8840,2,  34.8840,2,    294.7,2,    295.1,2,     8.08,2,    15.98,2,     0.00,2,     -999,9,   7.7220,2,20140615,0944,  59.6240, -38.9580
35PK20140515  ,OVIDE-A25  ,46      ,  1,13         ,13         ,20140615,0842,  59.6240, -38.9580,     2976,    600.7,2,   3.7160,2,  34.8770,2,  34.8760,2,    296.1,2,    294.0,2,     8.14,2,    15.90,2,     0.01,2,   2300.8,2,   7.7220,2,20140615,0941,  59.6240, -38.9580
35PK20140515  ,OVIDE-A25  ,46      ,  1,12         ,12         ,20140615,0842,  59.6240, -38.9580,     2976,    701.1,2,   3.6470,2,  34.8690,2,  34.8690,2,    300.3,2,    299.5,2,     7.96,2,    15.68,2,     0.01,2,   2301.0,2,   7.7220,2,20140615,0938,  59.6240, -38.9580
35PK20140515  ,OVIDE-A25  ,46      ,  1,11         ,11         ,20140615,0842,  59.6240, -38.9580,     2976,    850.5,2,   3.5810,2,  34.8620,2,  34.8620,2,    299.1,2,    299.2,2,     7.98,2,    15.84,2,     0.01,2,     -999,9,   7.7220,2,20140615,0934,  59.6240, -38.9580
35PK20140515  ,OVIDE-A25  ,46      ,  1,10         ,10         ,20140615,0842,  59.6240, -38.9580,     2976,   1000.9,2,   3.6050,2,  34.8690,2,  34.8700,2,    291.7,2,    293.1,2,     8.45,2,    16.10,2,     0.00,2,   2300.6,2,   7.7200,2,20140615,0930,  59.6240, -38.9580
35PK20140515  ,OVIDE-A25  ,46      ,  1,9          ,9          ,20140615,0842,  59.6240, -38.9580,     2976,   1202.3,2,   3.7560,2,  34.9160,2,  34.9140,2,    276.5,2,    276.7,2,     9.84,2,    16.72,2,     0.00,2,   2303.9,2,   7.7200,2,20140615,0925,  59.6240, -38.9580
35PK20140515  ,OVIDE-A25  ,46      ,  1,8          ,8          ,20140615,0842,  59.6240, -38.9580,     2976,   1401.4,2,   3.7060,2,  34.9320,2,  34.9420,4,    272.9,2,    274.0,2,    10.51,2,    16.88,2,     0.00,2,     -999,9,   7.7220,2,20140615,0920,  59.6240, -38.9580
35PK20140515  ,OVIDE-A25  ,46      ,  1,7          ,7          ,20140615,0842,  59.6240, -38.9580,     2976,   1600.8,2,   3.5560,2,  34.9330,2,  34.9340,2,    273.3,2,    275.9,2,    10.95,2,    16.85,2,     0.01,2,   2305.1,2,   7.7250,2,20140615,0915,  59.6240, -38.9580
35PK20140515  ,OVIDE-A25  ,46      ,  1,6          ,6          ,20140615,0842,  59.6240, -38.9580,     2976,   1801.2,2,   3.3970,2,  34.9320,2,  34.9330,2,    275.3,2,    275.0,2,    11.10,2,    16.65,2,     0.00,2,     -999,9,   7.7270,2,20140615,0910,  59.6240, -38.9580
35PK20140515  ,OVIDE-A25  ,46      ,  1,5          ,5          ,20140615,0842,  59.6240, -38.9580,     2976,   2000.3,2,   3.2130,2,  34.9270,2,  34.9270,2,    276.4,2,    276.5,2,    11.51,2,    16.57,2,     0.00,2,   2305.6,2,   7.7290,2,20140615,0905,  59.6240, -38.9580
35PK20140515  ,OVIDE-A25  ,46      ,  1,4          ,4          ,20140615,0842,  59.6240, -38.9580,     2976,   2251.9,2,   3.0460,2,  34.9330,2,  34.9330,2,    276.4,2,    276.3,2,    12.31,2,    16.48,2,     0.01,2,     -999,9,   7.7310,2,20140615,0900,  59.6240, -38.9580
35PK20140515  ,OVIDE-A25  ,46      ,  1,3          ,3          ,20140615,0842,  59.6240, -38.9580,     2976,   2501.4,2,   2.8690,2,  34.9330,2,  34.9320,2,    278.5,2,    278.3,2,    12.66,2,    16.28,2,     0.01,2,   2308.2,2,   7.7300,2,20140615,0854,  59.6240, -38.9580
35PK20140515  ,OVIDE-A25  ,46      ,  1,2          ,2          ,20140615,0842,  59.6240, -38.9580,     2976,   2751.0,2,   1.9930,2,  34.8830,2,  34.8820,2,    303.1,2,    301.2,2,     8.14,2,    14.13,2,     0.01,2,   2302.2,2,   7.7200,2,20140615,0848,  59.6240, -38.9580
35PK20140515  ,OVIDE-A25  ,46      ,  1,1          ,1          ,20140615,0842,  59.6240, -38.9580,     2976,   2966.1,2,   1.3240,2,  34.8960,2,  34.8960,2,    306.3,2,    305.5,2,     7.72,2,    13.57,2,     0.01,2,   2302.7,2,   7.7160,2,20140615,0842,  59.6240, -38.9580