BOTTLE,20240403CCHHYDRO
EXPOCODE,SECT_ID,STNNBR,CASTNO,SAMPNO,BTLNBR,DATE,TIME,LATITUDE,LONGITUDE,DEPTH,CTDPRS,CTDPRS_FLAG_W,CTDTMP,CTDTMP_FLAG_W,CTDSAL,CTDSAL_FLAG_W,SALNTY,SALNTY_FLAG_W,CTDOXY,CTDOXY_FLAG_W,OXYGEN,OXYGEN_FLAG_W,SILCAT,SILCAT_FLAG_W,NITRAT,NITRAT_FLAG_W,NITRIT,NITRIT_FLAG_W,ALKALI,ALKALI_FLAG_W,PH_TOT,PH_TOT_FLAG_W,BTL_DATE,BTL_TIME,BTL_LAT,BTL_LON
,,,,,,,,,,METERS,DBAR,,ITS-90,,PSS-78,,PSS-78,,UMOL/KG,,UMOL/KG,,UMOL/KG,,UMOL/KG,,UMOL/KG,,UMOL/KG,,,,,,,
35PK20140515  ,OVIDE-A25  ,49      ,  1,24         ,24         ,20140615,2259,  59.7730, -41.2970,     2065,      5.8,2,   6.6680,2,  34.8880,2,  34.8890,2,    314.3,2,    312.8,2,     5.77,2,     9.17,2,     0.12,2,   2306.9,2,   7.9050,2,20140616,0000,  59.7730, -41.2970
35PK20140515  ,OVIDE-A25  ,49      ,  1,23         ,23         ,20140615,2259,  59.7730, -41.2970,     2065,     40.3,2,   6.5540,2,  34.9070,2,  34.9080,2,    310.3,2,    311.2,2,     5.28,2,     9.42,2,     0.13,2,     -999,9,   7.8270,2,20140615,2358,  59.7730, -41.2970
35PK20140515  ,OVIDE-A25  ,49      ,  1,22         ,22         ,20140615,2259,  59.7730, -41.2970,     2065,     86.2,2,   5.8570,2,  34.9960,2,  34.9970,2,    295.8,2,    295.4,2,     6.14,2,    13.38,2,     -999,9,   2311.6,2,   7.7660,2,20140615,2355,  59.7730, -41.2970
35PK20140515  ,OVIDE-A25  ,49      ,  1,21         ,21         ,20140615,2259,  59.7730, -41.2970,     2065,    150.4,2,   5.4100,2,  34.9750,2,  34.9760,2,    291.1,2,    290.4,2,     7.06,2,    14.16,2,     0.63,2,     -999,9,   7.7470,2,20140615,2353,  59.7730, -41.2970
35PK20140515  ,OVIDE-A25  ,49      ,  1,20         ,20         ,20140615,2259,  59.7730, -41.2970,     2065,    201.6,2,   5.1840,2,  34.9690,2,  34.9690,2,    289.3,2,    290.1,2,     7.44,2,    15.25,2,     0.08,2,   2309.0,2,   7.7410,2,20140615,2352,  59.7730, -41.2970
35PK20140515  ,OVIDE-A25  ,49      ,  1,19         ,19         ,20140615,2259,  59.7730, -41.2970,     2065,    251.1,2,   4.9470,2,  34.9550,2,  34.9540,2,    288.9,2,    288.6,2,     7.62,2,    15.24,2,     0.04,2,     -999,9,   7.7370,2,20140615,2350,  59.7730, -41.2970
35PK20140515  ,OVIDE-A25  ,49      ,  1,18         ,18         ,20140615,2259,  59.7730, -41.2970,     2065,    301.4,2,   4.7590,2,  34.9420,2,  34.9410,2,    290.2,2,    290.3,2,     7.58,2,    15.65,2,     0.02,2,   2306.1,2,   7.7360,2,20140615,2348,  59.7730, -41.2970
35PK20140515  ,OVIDE-A25  ,49      ,  1,17         ,17         ,20140615,2259,  59.7730, -41.2970,     2065,    400.6,2,   4.5980,2,  34.9370,2,  34.9370,2,    286.3,2,    286.3,2,     7.76,2,    15.71,2,     0.01,2,   2304.9,2,   7.7340,2,20140615,2345,  59.7730, -41.2970
35PK20140515  ,OVIDE-A25  ,49      ,  1,16         ,16         ,20140615,2259,  59.7730, -41.2970,     2065,    500.4,2,   4.4340,2,  34.9360,2,  34.9350,2,    282.7,2,    282.4,2,     8.17,2,    15.93,2,     0.01,2,     -999,9,   7.7240,2,20140615,2343,  59.7730, -41.2970
35PK20140515  ,OVIDE-A25  ,49      ,  1,15         ,15         ,20140615,2259,  59.7730, -41.2970,     2065,    600.9,2,   4.2550,2,  34.9270,2,  34.9270,2,    282.1,2,    282.7,2,     8.33,2,    16.15,2,     0.00,2,   2305.7,2,   7.7220,2,20140615,2340,  59.7730, -41.2970
35PK20140515  ,OVIDE-A25  ,49      ,  1,14         ,14         ,20140615,2259,  59.7730, -41.2970,     2065,    700.7,2,   4.0930,2,  34.9180,2,  34.9190,2,    283.1,2,    282.9,2,     8.35,2,    16.26,2,     0.00,2,     -999,9,   7.7200,2,20140615,2337,  59.7730, -41.2970
35PK20140515  ,OVIDE-A25  ,49      ,  1,13         ,13         ,20140615,2259,  59.7730, -41.2970,     2065,    801.0,2,   3.9540,2,  34.9090,2,  34.9100,2,    284.5,2,    284.6,2,     8.52,2,    16.18,2,     0.01,2,   2304.4,2,   7.7190,2,20140615,2334,  59.7730, -41.2970
35PK20140515  ,OVIDE-A25  ,49      ,  1,12         ,12         ,20140615,2259,  59.7730, -41.2970,     2065,    900.7,2,   3.9430,2,  34.9190,2,  34.9200,2,    280.8,2,    280.9,2,     8.78,2,    15.93,2,     0.01,2,     -999,9,   7.7210,2,20140615,2332,  59.7730, -41.2970
35PK20140515  ,OVIDE-A25  ,49      ,  1,11         ,11         ,20140615,2259,  59.7730, -41.2970,     2065,   1001.9,2,   3.9010,2,  34.9290,2,  34.9290,2,    277.7,2,    278.5,2,     9.08,2,    16.20,2,     0.01,2,   2305.9,2,   7.7230,2,20140615,2329,  59.7730, -41.2970
35PK20140515  ,OVIDE-A25  ,49      ,  1,10         ,10         ,20140615,2259,  59.7730, -41.2970,     2065,   1101.4,2,   3.8410,2,  34.9320,2,  34.9330,2,    276.9,2,    277.1,2,     9.40,2,    16.20,2,     0.01,2,   2306.4,2,   7.7210,2,20140615,2326,  59.7730, -41.2970
35PK20140515  ,OVIDE-A25  ,49      ,  1,9          ,9          ,20140615,2259,  59.7730, -41.2970,     2065,   1202.0,2,   3.7700,2,  34.9330,2,     -999,9,    276.3,2,     -999,9,     -999,9,     -999,9,     -999,9,     -999,9,     -999,9,20140615,2324,  59.7730, -41.2970
35PK20140515  ,OVIDE-A25  ,49      ,  1,8          ,8          ,20140615,2259,  59.7730, -41.2970,     2065,   1301.6,2,   3.6580,2,  34.9330,2,  34.9330,2,    276.5,2,    277.2,2,     9.73,2,    16.31,2,     0.01,2,     -999,9,   7.7220,2,20140615,2321,  59.7730, -41.2970
35PK20140515  ,OVIDE-A25  ,49      ,  1,7          ,7          ,20140615,2259,  59.7730, -41.2970,     2065,   1403.6,2,   3.4920,2,  34.9250,2,  34.9270,2,    278.6,2,    278.9,2,     9.75,2,    15.98,2,     0.01,2,   2306.6,2,   7.7250,2,20140615,2318,  59.7730, -41.2970
35PK20140515  ,OVIDE-A25  ,49      ,  1,6          ,6          ,20140615,2259,  59.7730, -41.2970,     2065,   1500.4,2,   3.3000,2,  34.9220,2,  34.9230,2,    279.5,2,    279.6,2,    10.12,2,    15.89,2,     0.00,2,     -999,9,   7.7240,2,20140615,2314,  59.7730, -41.2970
35PK20140515  ,OVIDE-A25  ,49      ,  1,5          ,5          ,20140615,2259,  59.7730, -41.2970,     2065,   1601.2,2,   3.1280,2,  34.9190,2,  34.9190,2,    281.6,2,    282.0,2,    10.26,2,    15.80,2,     0.00,2,   2305.6,2,   7.7260,2,20140615,2311,  59.7730, -41.2970
35PK20140515  ,OVIDE-A25  ,49      ,  1,4          ,4          ,20140615,2259,  59.7730, -41.2970,     2065,   1700.4,2,   2.9330,2,  34.9090,2,  34.9100,2,    284.9,2,    285.3,2,     9.85,2,    15.44,2,     0.01,2,     -999,9,   7.7270,2,20140615,2308,  59.7730, -41.2970
35PK20140515  ,OVIDE-A25  ,49      ,  1,3          ,3          ,20140615,2259,  59.7730, -41.2970,     2065,   1800.9,2,   2.8490,2,  34.9230,2,  34.9230,2,    280.5,2,    281.2,2,    11.49,2,    15.90,2,     0.00,2,   2307.7,2,   7.7300,2,20140615,2305,  59.7730, -41.2970
35PK20140515  ,OVIDE-A25  ,49      ,  1,2          ,2          ,20140615,2259,  59.7730, -41.2970,     2065,   2001.4,2,   2.2580,2,  34.8900,2,  34.8910,2,    295.1,2,    296.1,2,     8.98,2,    14.58,2,     0.01,2,     -999,9,   7.7220,2,20140615,2301,  59.7730, -41.2970
35PK20140515  ,OVIDE-A25  ,49      ,  1,1          ,1          ,20140615,2259,  59.7730, -41.2970,     2065,   2054.8,2,   2.2440,2,  34.8920,2,  34.8910,2,    295.7,2,    299.7,4,     8.73,2,    14.57,2,     0.00,2,   2304.1,2,   7.7220,2,20140615,2259,  59.7730, -41.2970
35PK20140515  ,OVIDE-A25  ,50      ,  1,24         ,24         ,20140616,0434,  59.7950, -41.7300,     1869,      5.9,2,   6.5340,2,  34.9040,2,     -999,9,    312.4,2,     -999,9,     -999,9,     -999,9,     -999,9,     -999,9,     -999,9,20140616,0528,  59.7950, -41.7300
35PK20140515  ,OVIDE-A25  ,50      ,  1,23         ,23         ,20140616,0434,  59.7950, -41.7300,     1869,      5.9,2,   6.5280,2,  34.9070,2,     -999,9,    312.4,2,     -999,9,     -999,9,     -999,9,     -999,9,     -999,9,     -999,9,20140616,0528,  59.7950, -41.7300
35PK20140515  ,OVIDE-A25  ,50      ,  1,22         ,22         ,20140616,0434,  59.7950, -41.7300,     1869,      6.0,2,   6.5250,2,  34.9160,2,  34.9130,2,    312.4,2,    311.6,2,     5.28,2,     9.50,2,     0.43,2,   2307.8,2,   7.8240,2,20140616,0528,  59.7950, -41.7300
35PK20140515  ,OVIDE-A25  ,50      ,  1,21         ,21         ,20140616,0434,  59.7950, -41.7300,     1869,     39.8,2,   6.5280,2,  34.9310,2,  34.9320,2,    311.6,2,    312.4,2,     5.09,2,     9.06,2,     0.58,2,     -999,9,   7.8350,2,20140616,0526,  59.7950, -41.7300
35PK20140515  ,OVIDE-A25  ,50      ,  1,20         ,20         ,20140616,0434,  59.7950, -41.7300,     1869,    100.6,2,   5.7290,2,  34.9890,2,  34.9890,2,    293.4,2,    295.6,2,     6.54,2,    13.77,2,     -999,9,   2308.8,2,   7.7610,2,20140616,0523,  59.7950, -41.7300
35PK20140515  ,OVIDE-A25  ,50      ,  1,19         ,19         ,20140616,0434,  59.7950, -41.7300,     1869,    151.0,2,   5.3910,2,  34.9860,2,  34.9850,2,    287.7,2,    287.8,2,     7.55,2,    14.73,2,     0.17,2,     -999,9,   7.7460,2,20140616,0521,  59.7950, -41.7300
35PK20140515  ,OVIDE-A25  ,50      ,  1,18         ,18         ,20140616,0434,  59.7950, -41.7300,     1869,    201.2,2,   5.0270,2,  34.9570,2,  34.9560,2,    288.7,2,    289.2,2,     7.55,2,    15.15,2,     0.02,2,   2307.0,2,   7.7410,2,20140616,0520,  59.7950, -41.7300
35PK20140515  ,OVIDE-A25  ,50      ,  1,17         ,17         ,20140616,0434,  59.7950, -41.7300,     1869,    300.1,2,   4.7870,2,  34.9490,2,  34.9480,2,    286.4,2,    286.2,2,     8.08,2,    15.35,2,     0.02,2,   2305.6,2,   7.7330,2,20140616,0517,  59.7950, -41.7300
35PK20140515  ,OVIDE-A25  ,50      ,  1,16         ,16         ,20140616,0434,  59.7950, -41.7300,     1869,    399.8,2,   4.5630,2,  34.9420,2,  34.9410,2,    282.4,2,    282.6,2,     8.17,2,    15.60,2,     0.02,2,   2305.9,2,   7.7290,2,20140616,0514,  59.7950, -41.7300
35PK20140515  ,OVIDE-A25  ,50      ,  1,15         ,15         ,20140616,0434,  59.7950, -41.7300,     1869,    500.8,2,   4.3710,2,  34.9320,2,  34.9320,2,    281.2,2,    283.4,2,     8.37,2,    15.87,2,     0.00,2,     -999,9,   7.7240,2,20140616,0511,  59.7950, -41.7300
35PK20140515  ,OVIDE-A25  ,50      ,  1,14         ,14         ,20140616,0434,  59.7950, -41.7300,     1869,    599.7,2,   4.2320,2,  34.9310,2,  34.9310,2,    280.4,2,    280.9,2,     8.70,2,    15.86,2,     0.01,2,   2305.8,2,   7.7210,2,20140616,0508,  59.7950, -41.7300
35PK20140515  ,OVIDE-A25  ,50      ,  1,13         ,13         ,20140616,0434,  59.7950, -41.7300,     1869,    700.6,2,   4.0700,2,  34.9190,2,  34.9190,2,    283.1,2,    283.4,2,     8.61,2,    15.88,2,     0.01,2,     -999,9,   7.7200,2,20140616,0506,  59.7950, -41.7300
35PK20140515  ,OVIDE-A25  ,50      ,  1,12         ,12         ,20140616,0434,  59.7950, -41.7300,     1869,    800.3,2,   3.9500,2,  34.9150,2,  34.9140,2,    282.5,2,    283.3,2,     8.66,2,    15.90,2,     0.01,2,   2304.7,2,   7.7190,2,20140616,0503,  59.7950, -41.7300
35PK20140515  ,OVIDE-A25  ,50      ,  1,11         ,11         ,20140616,0434,  59.7950, -41.7300,     1869,    902.4,2,   3.9090,2,  34.9220,2,  34.9220,2,    279.4,2,    280.9,2,     8.90,2,    15.90,2,     0.00,2,     -999,9,   7.7230,2,20140616,0500,  59.7950, -41.7300
35PK20140515  ,OVIDE-A25  ,50      ,  1,10         ,10         ,20140616,0434,  59.7950, -41.7300,     1869,   1000.1,2,   3.8370,2,  34.9270,2,  34.9260,2,    277.3,2,    278.5,2,     9.28,2,    16.01,2,     0.01,2,   2305.3,2,   7.7230,2,20140616,0457,  59.7950, -41.7300
35PK20140515  ,OVIDE-A25  ,50      ,  1,9          ,9          ,20140616,0434,  59.7950, -41.7300,     1869,   1100.5,2,   3.7810,2,  34.9310,2,  34.9310,2,    276.7,2,    277.8,2,     9.42,2,     -999,9,     -999,9,     -999,9,   7.7220,2,20140616,0455,  59.7950, -41.7300
35PK20140515  ,OVIDE-A25  ,50      ,  1,8          ,8          ,20140616,0434,  59.7950, -41.7300,     1869,   1200.0,2,   3.6720,2,  34.9270,2,  34.9270,2,    278.3,2,    279.5,2,     9.30,2,    15.92,2,     0.01,2,   2305.6,2,   7.7240,2,20140616,0452,  59.7950, -41.7300
35PK20140515  ,OVIDE-A25  ,50      ,  1,7          ,7          ,20140616,0434,  59.7950, -41.7300,     1869,   1299.9,2,   3.5840,2,  34.9290,2,  34.9290,2,    276.9,2,    278.1,2,     9.85,2,    15.62,2,     0.01,2,     -999,9,   7.7240,2,20140616,0449,  59.7950, -41.7300
35PK20140515  ,OVIDE-A25  ,50      ,  1,6          ,6          ,20140616,0434,  59.7950, -41.7300,     1869,   1400.4,2,   3.4210,2,  34.9240,2,  34.9230,2,    279.1,2,    280.5,2,    10.12,2,    15.94,2,     0.01,2,   2305.4,2,   7.7250,2,20140616,0447,  59.7950, -41.7300
35PK20140515  ,OVIDE-A25  ,50      ,  1,5          ,5          ,20140616,0434,  59.7950, -41.7300,     1869,   1500.6,2,   3.1970,2,  34.9120,2,  34.9120,2,    282.9,2,    284.1,2,     9.61,2,    15.67,2,     0.01,2,     -999,9,   7.7230,2,20140616,0444,  59.7950, -41.7300
35PK20140515  ,OVIDE-A25  ,50      ,  1,4          ,4          ,20140616,0434,  59.7950, -41.7300,     1869,   1699.9,2,   2.9280,2,  34.9080,2,  34.9080,2,    285.2,2,    288.0,2,     9.96,2,    15.29,2,     0.00,2,   2303.7,2,   7.7250,2,20140616,0439,  59.7950, -41.7300
35PK20140515  ,OVIDE-A25  ,50      ,  1,2          ,2          ,20140616,0434,  59.7950, -41.7300,     1869,   1801.2,2,   2.8360,2,  34.9070,2,  34.9070,2,    286.9,2,    287.8,2,     9.76,2,    14.90,2,     0.02,2,     -999,9,   7.7250,2,20140616,0436,  59.7950, -41.7300
35PK20140515  ,OVIDE-A25  ,50      ,  1,3          ,3          ,20140616,0434,  59.7950, -41.7300,     1869,   1801.3,2,   2.8360,2,  34.9060,2,  34.9060,2,    286.9,2,    287.4,2,     -999,9,    15.09,2,     0.01,2,     -999,9,   7.7220,2,20140616,0437,  59.7950, -41.7300
35PK20140515  ,OVIDE-A25  ,50      ,  1,1          ,1          ,20140616,0434,  59.7950, -41.7300,     1869,   1858.7,2,   2.4110,2,  34.8940,2,  34.8940,2,    293.1,2,    293.9,2,     9.16,2,    14.37,2,     0.02,2,   2303.0,2,   7.7220,2,20140616,0434,  59.7950, -41.7300