BOTTLE,20240403CCHHYDRO
EXPOCODE,SECT_ID,STNNBR,CASTNO,SAMPNO,BTLNBR,DATE,TIME,LATITUDE,LONGITUDE,DEPTH,CTDPRS,CTDPRS_FLAG_W,CTDTMP,CTDTMP_FLAG_W,CTDSAL,CTDSAL_FLAG_W,SALNTY,SALNTY_FLAG_W,CTDOXY,CTDOXY_FLAG_W,OXYGEN,OXYGEN_FLAG_W,SILCAT,SILCAT_FLAG_W,NITRAT,NITRAT_FLAG_W,NITRIT,NITRIT_FLAG_W,ALKALI,ALKALI_FLAG_W,PH_TOT,PH_TOT_FLAG_W,BTL_DATE,BTL_TIME,BTL_LAT,BTL_LON
,,,,,,,,,,METERS,DBAR,,ITS-90,,PSS-78,,PSS-78,,UMOL/KG,,UMOL/KG,,UMOL/KG,,UMOL/KG,,UMOL/KG,,UMOL/KG,,,,,,,
35PK20140515  ,OVIDE-A25  ,29      ,  1,24         ,24         ,20140606,0400,  53.0200, -24.7520,     3598,      6.1,2,  10.1940,2,  35.0110,2,  35.0120,2,    296.4,2,    296.1,2,     1.59,2,     6.79,2,     0.15,2,   2315.2,2,   7.8890,2,20140606,0525,  53.0200, -24.7520
35PK20140515  ,OVIDE-A25  ,29      ,  1,23         ,23         ,20140606,0400,  53.0200, -24.7520,     3598,     25.5,2,   9.9480,2,  35.0880,2,  35.0830,4,    293.8,2,    292.2,2,     2.13,2,     7.86,2,     0.17,2,   2317.4,2,   7.8730,2,20140606,0524,  53.0200, -24.7520
35PK20140515  ,OVIDE-A25  ,29      ,  1,22         ,22         ,20140606,0400,  53.0200, -24.7520,     3598,    100.1,2,   7.8650,2,  34.9990,2,  34.9990,2,    272.9,2,    270.1,2,     5.41,2,    13.36,2,     0.42,2,   2310.5,2,   7.7810,2,20140606,0520,  53.0200, -24.7520
35PK20140515  ,OVIDE-A25  ,29      ,  1,21         ,21         ,20140606,0400,  53.0200, -24.7520,     3598,    150.0,2,   7.3570,2,  34.9460,2,  34.9470,2,    270.2,2,    267.8,2,     6.98,2,    14.88,2,     0.13,2,     -999,9,   7.7610,2,20140606,0519,  53.0200, -24.7520
35PK20140515  ,OVIDE-A25  ,29      ,  1,20         ,20         ,20140606,0400,  53.0200, -24.7520,     3598,    200.3,2,   6.9070,2,  34.9120,2,  34.9120,2,    266.0,2,    266.8,2,     7.69,2,    15.48,2,     0.13,2,   2303.8,2,   7.7490,2,20140606,0517,  53.0200, -24.7520
35PK20140515  ,OVIDE-A25  ,29      ,  1,19         ,19         ,20140606,0400,  53.0200, -24.7520,     3598,    298.9,2,   5.9640,2,  34.8540,2,  34.8520,2,    264.4,2,    263.3,2,     8.62,2,    16.31,2,     0.02,2,   2301.1,2,   7.7280,2,20140606,0515,  53.0200, -24.7520
35PK20140515  ,OVIDE-A25  ,29      ,  1,18         ,18         ,20140606,0400,  53.0200, -24.7520,     3598,    401.3,2,   5.2300,2,  34.8450,2,  34.8460,2,    259.9,2,    259.1,2,     9.03,2,    16.94,2,     0.01,2,   2299.9,2,   7.7180,2,20140606,0512,  53.0200, -24.7520
35PK20140515  ,OVIDE-A25  ,29      ,  1,17         ,17         ,20140606,0400,  53.0200, -24.7520,     3598,    500.9,2,   5.2470,2,  34.9640,2,  34.9630,2,    242.1,2,    241.3,2,    10.36,2,    18.21,2,     0.01,2,   2307.5,2,   7.7040,2,20140606,0510,  53.0200, -24.7520
35PK20140515  ,OVIDE-A25  ,29      ,  1,16         ,16         ,20140606,0400,  53.0200, -24.7520,     3598,    600.0,2,   4.7370,2,  34.9400,2,  34.9400,2,    258.4,2,    256.8,2,     9.73,2,    17.66,2,     0.00,2,   2304.6,2,   7.7100,2,20140606,0507,  53.0200, -24.7520
35PK20140515  ,OVIDE-A25  ,29      ,  1,15         ,15         ,20140606,0400,  53.0200, -24.7520,     3598,    700.1,2,   4.4820,2,  34.9330,2,  34.9340,2,    266.8,2,    265.6,2,     9.45,2,    17.34,2,     0.00,2,   2303.7,2,   7.7130,2,20140606,0504,  53.0200, -24.7520
35PK20140515  ,OVIDE-A25  ,29      ,  1,14         ,14         ,20140606,0400,  53.0200, -24.7520,     3598,    801.2,2,   4.2570,2,  34.9210,2,  34.9210,2,    273.4,2,    271.6,2,     9.24,2,    17.14,2,     0.00,2,   2302.4,2,   7.7160,2,20140606,0501,  53.0200, -24.7520
35PK20140515  ,OVIDE-A25  ,29      ,  1,13         ,13         ,20140606,0400,  53.0200, -24.7520,     3598,    900.5,2,   4.1360,2,  34.9180,2,  34.9180,2,    275.8,2,    274.3,2,     9.28,2,    17.00,2,     0.01,2,     -999,9,   7.7180,2,20140606,0458,  53.0200, -24.7520
35PK20140515  ,OVIDE-A25  ,29      ,  1,12         ,12         ,20140606,0400,  53.0200, -24.7520,     3598,   1001.7,2,   4.0480,2,  34.9130,2,  34.9130,2,    278.1,2,    276.6,2,     9.21,2,    16.91,2,     0.00,2,   2301.1,2,   7.7200,2,20140606,0456,  53.0200, -24.7520
35PK20140515  ,OVIDE-A25  ,29      ,  1,11         ,11         ,20140606,0400,  53.0200, -24.7520,     3598,   1199.9,2,   3.9170,2,  34.9150,2,  34.9160,2,    276.0,2,    276.1,2,     9.82,2,    17.02,2,     0.00,2,   2303.4,2,   7.7210,2,20140606,0451,  53.0200, -24.7520
35PK20140515  ,OVIDE-A25  ,29      ,  1,10         ,10         ,20140606,0400,  53.0200, -24.7520,     3598,   1400.3,2,   3.8110,2,  34.9190,2,  34.9200,2,    274.2,2,    274.3,2,    10.28,2,    17.15,2,     0.01,2,   2303.1,2,   7.7240,2,20140606,0447,  53.0200, -24.7520
35PK20140515  ,OVIDE-A25  ,29      ,  1,9          ,9          ,20140606,0400,  53.0200, -24.7520,     3598,   1600.5,2,   3.6960,2,  34.9230,2,  34.9260,2,    272.6,2,    271.2,2,    11.01,2,    17.22,2,     0.01,2,   2304.6,2,   7.7260,2,20140606,0442,  53.0200, -24.7520
35PK20140515  ,OVIDE-A25  ,29      ,  1,8          ,8          ,20140606,0400,  53.0200, -24.7520,     3598,   1801.5,2,   3.5560,2,  34.9240,2,  34.9250,2,    272.9,2,    272.3,2,    11.55,2,    17.22,2,     0.01,2,   2304.9,2,   7.7300,2,20140606,0438,  53.0200, -24.7520
35PK20140515  ,OVIDE-A25  ,29      ,  1,7          ,7          ,20140606,0400,  53.0200, -24.7520,     3598,   2000.8,2,   3.4100,2,  34.9240,2,  34.9240,2,    274.0,2,    274.0,2,    12.00,2,    17.19,2,     0.00,2,   2306.5,2,   7.7310,2,20140606,0433,  53.0200, -24.7520
35PK20140515  ,OVIDE-A25  ,29      ,  1,6          ,6          ,20140606,0400,  53.0200, -24.7520,     3598,   2249.7,2,   3.2550,2,  34.9300,2,  34.9320,2,    274.5,2,    273.5,2,    12.77,2,    17.01,2,     0.00,2,   2307.1,2,   7.7330,2,20140606,0428,  53.0200, -24.7520
35PK20140515  ,OVIDE-A25  ,29      ,  1,5          ,5          ,20140606,0400,  53.0200, -24.7520,     3598,   2499.6,2,   3.1270,2,  34.9420,2,  34.9430,2,    272.9,2,    271.8,2,    14.34,2,    16.97,2,     0.01,2,   2309.6,2,   7.7330,2,20140606,0423,  53.0200, -24.7520
35PK20140515  ,OVIDE-A25  ,29      ,  1,4          ,4          ,20140606,0400,  53.0200, -24.7520,     3598,   2750.0,2,   3.0280,2,  34.9570,2,  34.9570,2,    271.8,2,    271.1,2,    15.39,2,    16.89,2,     0.01,2,     -999,9,   7.7310,2,20140606,0418,  53.0200, -24.7520
35PK20140515  ,OVIDE-A25  ,29      ,  1,3          ,3          ,20140606,0400,  53.0200, -24.7520,     3598,   3001.9,2,   2.9220,2,  34.9600,2,  34.9600,2,    267.9,2,    267.1,2,    18.68,2,    17.28,2,     0.01,2,   2316.7,2,   7.7320,2,20140606,0413,  53.0200, -24.7520
35PK20140515  ,OVIDE-A25  ,29      ,  1,2          ,2          ,20140606,0400,  53.0200, -24.7520,     3598,   3250.8,2,   2.8420,2,  34.9570,2,  34.9570,2,    264.9,2,    264.2,2,    22.38,2,    17.81,2,     0.00,2,   2322.5,2,   7.7310,2,20140606,0407,  53.0200, -24.7520
35PK20140515  ,OVIDE-A25  ,29      ,  1,1          ,1          ,20140606,0400,  53.0200, -24.7520,     3598,   3587.9,2,   2.7030,2,  34.9360,2,  34.9370,2,    252.3,2,    251.4,2,    34.00,2,    19.80,2,     0.01,2,   2335.5,2,   7.7330,2,20140606,0400,  53.0200, -24.7520
35PK20140515  ,OVIDE-A25  ,30      ,  1,24         ,24         ,20140606,1732,  54.0150, -25.5330,     3116,     16.7,2,  10.0730,2,  34.9870,2,  34.9890,2,    298.0,2,    296.9,2,     2.72,2,     7.40,2,     0.17,2,   2315.2,2,   7.8810,2,20140606,1845,  54.0150, -25.5330
35PK20140515  ,OVIDE-A25  ,30      ,  1,23         ,23         ,20140606,1732,  54.0150, -25.5330,     3116,     40.0,2,   8.7060,2,  35.0200,2,  35.0180,2,    295.2,2,    295.2,2,     3.26,2,     9.62,2,     0.24,2,   2315.1,2,   7.8380,2,20140606,1843,  54.0150, -25.5330
35PK20140515  ,OVIDE-A25  ,30      ,  1,22         ,22         ,20140606,1732,  54.0150, -25.5330,     3116,     99.6,2,   8.1480,2,  35.0040,2,  35.0050,2,    283.5,2,    283.7,2,     3.01,2,    11.30,2,     0.00,2,   2314.1,2,   7.8030,2,20140606,1840,  54.0150, -25.5330
35PK20140515  ,OVIDE-A25  ,30      ,  1,21         ,21         ,20140606,1732,  54.0150, -25.5330,     3116,    149.6,2,   7.5210,2,  34.9400,2,  34.9390,2,    279.4,2,    279.5,2,     4.31,2,    12.13,2,     0.31,2,     -999,9,   7.7850,2,20140606,1838,  54.0150, -25.5330
35PK20140515  ,OVIDE-A25  ,30      ,  1,20         ,20         ,20140606,1732,  54.0150, -25.5330,     3116,    198.9,2,   7.4040,2,  34.9650,2,  34.9650,2,    267.7,2,    267.3,2,     7.49,2,    14.94,2,     0.02,2,   2310.9,2,   7.7580,2,20140606,1837,  54.0150, -25.5330
35PK20140515  ,OVIDE-A25  ,30      ,  1,19         ,19         ,20140606,1732,  54.0150, -25.5330,     3116,    299.7,2,   6.6200,2,  34.9020,2,  34.9020,2,    254.8,2,    252.7,2,     8.71,2,    16.37,2,     0.02,2,   2308.2,2,   7.7290,2,20140606,1834,  54.0150, -25.5330
35PK20140515  ,OVIDE-A25  ,30      ,  1,18         ,18         ,20140606,1732,  54.0150, -25.5330,     3116,    401.2,2,   6.0220,2,  34.9450,2,  34.9460,2,    230.8,2,    228.8,2,    10.36,2,    18.30,2,     0.01,2,   2309.1,2,   7.7020,2,20140606,1832,  54.0150, -25.5330
35PK20140515  ,OVIDE-A25  ,30      ,  1,17         ,17         ,20140606,1732,  54.0150, -25.5330,     3116,    401.4,2,   6.0120,2,  34.9440,2,  34.9450,2,    230.8,2,    228.6,2,     -999,9,     -999,9,     -999,9,     -999,9,   7.7030,2,20140606,1832,  54.0150, -25.5330
35PK20140515  ,OVIDE-A25  ,30      ,  1,16         ,16         ,20140606,1732,  54.0150, -25.5330,     3116,    500.5,2,   5.4500,2,  34.9750,2,  34.9750,2,    235.7,2,    235.8,2,    10.65,2,    18.37,2,     0.01,2,   2310.1,2,   7.7000,2,20140606,1829,  54.0150, -25.5330
35PK20140515  ,OVIDE-A25  ,30      ,  1,15         ,15         ,20140606,1732,  54.0150, -25.5330,     3116,    599.4,2,   5.1410,2,  34.9870,2,  34.9870,2,    246.1,2,    245.7,2,    10.40,2,    17.97,2,     0.01,2,   2311.0,2,   7.7080,2,20140606,1827,  54.0150, -25.5330
35PK20140515  ,OVIDE-A25  ,30      ,  1,14         ,14         ,20140606,1732,  54.0150, -25.5330,     3116,    700.3,2,   4.6570,2,  34.9500,2,  34.9510,2,    260.3,2,    258.7,2,     9.78,2,    17.49,2,     0.01,2,   2307.5,2,   7.7020,2,20140606,1824,  54.0150, -25.5330
35PK20140515  ,OVIDE-A25  ,30      ,  1,13         ,13         ,20140606,1732,  54.0150, -25.5330,     3116,    800.8,2,   4.5000,2,  34.9540,2,  34.9540,2,    263.5,2,    262.3,2,     9.80,2,    17.45,2,     0.00,2,   2307.4,2,   7.7040,2,20140606,1822,  54.0150, -25.5330
35PK20140515  ,OVIDE-A25  ,30      ,  1,12         ,12         ,20140606,1732,  54.0150, -25.5330,     3116,    900.7,2,   4.2870,2,  34.9380,2,  34.9380,2,    268.8,2,    267.4,2,     9.81,2,    17.25,2,     0.00,2,     -999,9,   7.7060,2,20140606,1819,  54.0150, -25.5330
35PK20140515  ,OVIDE-A25  ,30      ,  1,11         ,11         ,20140606,1732,  54.0150, -25.5330,     3116,    999.1,2,   4.1860,2,  34.9340,2,  34.9340,2,    270.2,2,    270.6,2,     9.92,2,    17.39,2,     0.04,2,   2306.8,2,   7.7120,2,20140606,1817,  54.0150, -25.5330
35PK20140515  ,OVIDE-A25  ,30      ,  1,10         ,10         ,20140606,1732,  54.0150, -25.5330,     3116,   1202.8,2,   3.8970,2,  34.9070,2,  34.9070,2,    278.5,2,    278.5,2,     9.56,2,    16.95,2,     0.04,2,   2305.3,2,   7.7130,2,20140606,1812,  54.0150, -25.5330
35PK20140515  ,OVIDE-A25  ,30      ,  1,9          ,9          ,20140606,1732,  54.0150, -25.5330,     3116,   1399.2,2,   3.8400,2,  34.9200,2,  34.9200,2,    273.9,2,    273.1,2,    10.28,2,    17.20,2,     0.04,2,   2306.2,2,   7.7130,2,20140606,1808,  54.0150, -25.5330
35PK20140515  ,OVIDE-A25  ,30      ,  1,8          ,8          ,20140606,1732,  54.0150, -25.5330,     3116,   1598.9,2,   3.7150,2,  34.9220,2,  34.9220,2,    272.4,2,    272.5,2,    11.03,2,    17.35,2,     0.04,2,   2306.6,2,   7.7180,2,20140606,1804,  54.0150, -25.5330
35PK20140515  ,OVIDE-A25  ,30      ,  1,7          ,7          ,20140606,1732,  54.0150, -25.5330,     3116,   1800.7,2,   3.5810,2,  34.9240,2,  34.9240,2,    272.6,2,    272.4,2,    11.44,2,    17.17,2,     0.00,2,   2307.7,2,   7.7240,2,20140606,1800,  54.0150, -25.5330
35PK20140515  ,OVIDE-A25  ,30      ,  1,6          ,6          ,20140606,1732,  54.0150, -25.5330,     3116,   2002.4,2,   3.4230,2,  34.9240,2,  34.9260,2,    273.8,2,    273.9,2,    11.92,2,    17.03,2,     0.00,2,   2308.1,2,   7.7260,2,20140606,1756,  54.0150, -25.5330
35PK20140515  ,OVIDE-A25  ,30      ,  1,5          ,5          ,20140606,1732,  54.0150, -25.5330,     3116,   2247.6,2,   3.2780,2,  34.9320,2,  34.9320,2,    274.6,2,    276.2,2,    12.45,2,    16.80,2,     0.00,2,   2308.9,2,   7.7290,2,20140606,1750,  54.0150, -25.5330
35PK20140515  ,OVIDE-A25  ,30      ,  1,4          ,4          ,20140606,1732,  54.0150, -25.5330,     3116,   2500.7,2,   3.1590,2,  34.9430,2,  34.9430,2,    273.9,2,    273.6,2,    13.47,2,    16.74,2,     0.01,2,   2310.5,2,   7.7230,2,20140606,1746,  54.0150, -25.5330
35PK20140515  ,OVIDE-A25  ,30      ,  1,3          ,3          ,20140606,1732,  54.0150, -25.5330,     3116,   2750.0,2,   2.9940,2,  34.9450,2,  34.9440,2,    265.8,2,    265.8,2,    19.82,2,    17.67,2,     0.01,2,   2319.2,2,   7.7340,2,20140606,1740,  54.0150, -25.5330
35PK20140515  ,OVIDE-A25  ,30      ,  1,2          ,2          ,20140606,1732,  54.0150, -25.5330,     3116,   3105.8,2,   2.7600,2,  34.9440,2,  34.9440,2,    256.8,2,    256.5,2,    29.52,2,    18.93,2,     0.01,2,   2332.3,2,   7.7320,2,20140606,1733,  54.0150, -25.5330
35PK20140515  ,OVIDE-A25  ,30      ,  1,1          ,1          ,20140606,1732,  54.0150, -25.5330,     3116,   3106.1,2,   2.7580,2,  34.9440,2,  34.9430,2,    256.8,2,    257.1,2,    29.36,2,    18.93,2,     0.00,2,   2333.1,2,   7.7310,2,20140606,1732,  54.0150, -25.5330