BOTTLE,20240403CCHHYDRO
EXPOCODE,SECT_ID,STNNBR,CASTNO,SAMPNO,BTLNBR,DATE,TIME,LATITUDE,LONGITUDE,DEPTH,CTDPRS,CTDPRS_FLAG_W,CTDTMP,CTDTMP_FLAG_W,CTDSAL,CTDSAL_FLAG_W,SALNTY,SALNTY_FLAG_W,CTDOXY,CTDOXY_FLAG_W,OXYGEN,OXYGEN_FLAG_W,SILCAT,SILCAT_FLAG_W,NITRAT,NITRAT_FLAG_W,NITRIT,NITRIT_FLAG_W,ALKALI,ALKALI_FLAG_W,PH_TOT,PH_TOT_FLAG_W,BTL_DATE,BTL_TIME,BTL_LAT,BTL_LON
,,,,,,,,,,METERS,DBAR,,ITS-90,,PSS-78,,PSS-78,,UMOL/KG,,UMOL/KG,,UMOL/KG,,UMOL/KG,,UMOL/KG,,UMOL/KG,,,,,,,
35PK20140515  ,OVIDE-A25  ,41      ,  1,24         ,24         ,20140612,1501,  59.2340, -35.1210,     3029,      5.5,2,   7.9030,2,  34.9240,2,     -999,9,    311.1,2,     -999,9,     -999,9,     -999,9,     -999,9,     -999,9,     -999,9,20140612,1618,  59.2350, -35.1210
35PK20140515  ,OVIDE-A25  ,41      ,  1,23         ,23         ,20140612,1501,  59.2340, -35.1210,     3029,      5.6,2,   7.9030,2,  34.9240,2,  34.9250,2,    311.0,2,    311.4,2,     2.81,2,     7.27,2,     0.21,2,   2313.9,2,   7.9050,2,20140612,1618,  59.2350, -35.1210
35PK20140515  ,OVIDE-A25  ,41      ,  1,22         ,22         ,20140612,1501,  59.2340, -35.1210,     3029,     40.4,2,   6.8280,2,  34.9460,2,  34.9440,2,    300.8,2,    300.6,2,     7.13,2,    10.51,2,     0.55,2,     -999,9,   7.7980,2,20140612,1616,  59.2350, -35.1210
35PK20140515  ,OVIDE-A25  ,41      ,  1,21         ,21         ,20140612,1501,  59.2340, -35.1210,     3029,    100.2,2,   5.7510,2,  34.9650,2,  34.9660,2,    286.2,2,    286.2,2,     7.55,2,    15.42,2,     0.08,2,   2310.0,2,   7.7470,2,20140612,1613,  59.2350, -35.1210
35PK20140515  ,OVIDE-A25  ,41      ,  1,20         ,20         ,20140612,1501,  59.2340, -35.1210,     3029,    150.1,2,   5.1790,2,  34.9250,2,  34.9250,2,    288.1,2,    288.6,2,     7.52,2,    15.87,2,     0.04,2,     -999,9,   7.7380,2,20140612,1612,  59.2350, -35.1210
35PK20140515  ,OVIDE-A25  ,41      ,  1,19         ,19         ,20140612,1501,  59.2340, -35.1210,     3029,    201.6,2,   5.0320,2,  34.9250,2,  34.9250,2,    281.8,2,    283.2,2,     7.86,2,    16.11,2,     0.02,2,   2307.4,2,   7.7330,2,20140612,1610,  59.2350, -35.1210
35PK20140515  ,OVIDE-A25  ,41      ,  1,18         ,18         ,20140612,1501,  59.2340, -35.1210,     3029,    300.0,2,   4.7170,2,  34.9240,2,  34.9240,2,    281.2,2,    282.1,2,     8.40,2,    16.65,2,     0.01,2,   2306.4,2,   7.7240,2,20140612,1607,  59.2350, -35.1210
35PK20140515  ,OVIDE-A25  ,41      ,  1,17         ,17         ,20140612,1501,  59.2340, -35.1210,     3029,    401.1,2,   4.7080,2,  34.9530,2,  34.9530,2,    265.4,2,    265.4,2,     9.27,2,    17.22,2,     0.00,2,   2307.8,2,   7.7130,2,20140612,1605,  59.2350, -35.1210
35PK20140515  ,OVIDE-A25  ,41      ,  1,16         ,16         ,20140612,1501,  59.2340, -35.1210,     3029,    499.4,2,   4.5690,2,  34.9580,2,  34.9580,2,    265.6,2,    265.4,2,     9.49,2,    17.36,2,     0.01,2,   2308.2,2,   7.7120,2,20140612,1602,  59.2350, -35.1210
35PK20140515  ,OVIDE-A25  ,41      ,  1,15         ,15         ,20140612,1501,  59.2340, -35.1210,     3029,    599.5,2,   4.2570,2,  34.9310,2,  34.9310,2,    274.8,2,    275.3,2,     9.17,2,    17.14,2,     0.01,2,   2305.1,2,   7.7160,2,20140612,1559,  59.2350, -35.1210
35PK20140515  ,OVIDE-A25  ,41      ,  1,14         ,14         ,20140612,1501,  59.2340, -35.1210,     3029,    700.3,2,   4.1000,2,  34.9230,2,  34.9230,2,    275.9,2,    276.5,2,     9.37,2,    17.11,2,     0.00,2,     -999,9,   7.7190,2,20140612,1556,  59.2350, -35.1210
35PK20140515  ,OVIDE-A25  ,41      ,  1,13         ,13         ,20140612,1501,  59.2340, -35.1210,     3029,    800.3,2,   4.0360,2,  34.9280,2,  34.9280,2,    274.1,2,    273.8,2,     9.61,2,    17.10,2,     0.00,2,   2306.4,2,   7.7190,2,20140612,1554,  59.2350, -35.1210
35PK20140515  ,OVIDE-A25  ,41      ,  1,12         ,12         ,20140612,1501,  59.2340, -35.1210,     3029,    900.4,2,   3.8860,2,  34.9200,2,  34.9210,2,    275.6,2,    275.4,2,     9.81,2,    16.99,2,     0.00,2,     -999,9,   7.7200,2,20140612,1551,  59.2350, -35.1210
35PK20140515  ,OVIDE-A25  ,41      ,  1,11         ,11         ,20140612,1501,  59.2340, -35.1210,     3029,   1001.1,2,   3.9300,2,  34.9380,2,  34.9380,2,    272.2,2,    272.1,2,    10.00,2,    17.15,2,     0.04,2,   2306.1,2,   7.7200,2,20140612,1548,  59.2350, -35.1210
35PK20140515  ,OVIDE-A25  ,41      ,  1,10         ,10         ,20140612,1501,  59.2340, -35.1210,     3029,   1200.5,2,   3.7760,2,  34.9460,2,  34.9450,2,    272.2,2,    273.1,2,    10.51,2,    17.05,2,     0.05,2,   2305.2,2,   7.7250,2,20140612,1543,  59.2350, -35.1210
35PK20140515  ,OVIDE-A25  ,41      ,  1,9          ,9          ,20140612,1501,  59.2340, -35.1210,     3029,   1401.5,2,   3.6660,2,  34.9510,2,  34.9520,2,    272.6,2,    272.2,2,    10.73,2,    17.05,2,     0.04,2,     -999,9,   7.7270,2,20140612,1539,  59.2350, -35.1210
35PK20140515  ,OVIDE-A25  ,41      ,  1,8          ,8          ,20140612,1501,  59.2340, -35.1210,     3029,   1599.5,2,   3.5780,2,  34.9590,2,  34.9590,2,    273.0,2,    273.5,2,    11.05,2,    16.73,2,     0.04,2,   2306.7,2,   7.7250,2,20140612,1534,  59.2350, -35.1210
35PK20140515  ,OVIDE-A25  ,41      ,  1,7          ,7          ,20140612,1501,  59.2340, -35.1210,     3029,   1800.0,2,   3.4210,2,  34.9510,2,  34.9510,2,    274.0,2,    273.7,2,    11.54,2,    16.76,2,     0.00,2,     -999,9,   7.7290,2,20140612,1529,  59.2350, -35.1210
35PK20140515  ,OVIDE-A25  ,41      ,  1,6          ,6          ,20140612,1501,  59.2340, -35.1210,     3029,   1999.5,2,   3.2530,2,  34.9420,2,  34.9410,2,    275.1,2,    275.2,2,    11.91,2,    16.81,2,     0.00,2,   2308.3,2,   7.7320,2,20140612,1525,  59.2350, -35.1210
35PK20140515  ,OVIDE-A25  ,41      ,  1,5          ,5          ,20140612,1501,  59.2340, -35.1210,     3029,   2251.1,2,   3.0860,2,  34.9380,2,  34.9390,2,    275.8,2,    275.6,2,    12.63,2,    16.66,2,     0.00,2,     -999,9,   7.7310,2,20140612,1519,  59.2340, -35.1210
35PK20140515  ,OVIDE-A25  ,41      ,  1,4          ,4          ,20140612,1501,  59.2340, -35.1210,     3029,   2499.5,2,   2.9960,2,  34.9400,2,  34.9400,2,    275.8,2,    276.0,2,    13.27,2,    16.65,2,     0.00,2,   2307.6,2,   7.7330,2,20140612,1514,  59.2340, -35.1210
35PK20140515  ,OVIDE-A25  ,41      ,  1,3          ,3          ,20140612,1501,  59.2340, -35.1210,     3029,   2750.2,2,   2.8230,2,  34.9350,2,  34.9350,2,    278.1,2,    278.9,2,    13.41,2,    16.44,2,     0.00,2,     -999,9,   7.7340,2,20140612,1508,  59.2340, -35.1210
35PK20140515  ,OVIDE-A25  ,41      ,  1,2          ,2          ,20140612,1501,  59.2340, -35.1210,     3029,   2900.4,2,   2.7330,2,  34.9340,2,  34.9340,2,    279.8,2,    279.8,2,    13.14,2,    16.21,2,     0.00,2,     -999,9,   7.7330,2,20140612,1504,  59.2340, -35.1210
35PK20140515  ,OVIDE-A25  ,41      ,  1,1          ,1          ,20140612,1501,  59.2340, -35.1210,     3029,   3019.1,2,   2.3990,2,  34.9210,2,  34.9210,2,    287.1,2,    287.6,2,    11.48,2,    15.49,2,     0.00,2,   2305.2,2,   7.7280,2,20140612,1501,  59.2340, -35.1210
35PK20140515  ,OVIDE-A25  ,42      ,  1,24         ,24         ,20140612,2122,  59.3630, -36.3960,     3148,      6.8,2,   7.8310,2,  34.9610,2,  34.9620,2,    310.1,2,    309.3,2,     2.65,2,     7.92,2,     0.19,2,   2314.3,2,   7.8580,2,20140612,2250,  59.3630, -36.3960
35PK20140515  ,OVIDE-A25  ,42      ,  1,23         ,23         ,20140612,2122,  59.3630, -36.3960,     3148,     28.4,2,   7.7110,2,  34.9570,2,  34.9580,2,    308.3,2,    309.6,2,     3.59,2,     8.30,2,     0.19,2,   2313.2,2,   7.8510,2,20140612,2249,  59.3630, -36.3960
35PK20140515  ,OVIDE-A25  ,42      ,  1,22         ,22         ,20140612,2122,  59.3630, -36.3960,     3148,    100.7,2,   5.4350,2,  34.9510,2,  34.9500,2,    290.3,2,    289.6,2,     7.52,2,    15.31,2,     0.17,2,   2308.3,2,   7.7420,2,20140612,2245,  59.3630, -36.3960
35PK20140515  ,OVIDE-A25  ,42      ,  1,21         ,21         ,20140612,2122,  59.3630, -36.3960,     3148,    151.0,2,   5.0840,2,  34.9410,2,  34.9400,2,    283.4,2,    282.3,2,     8.00,2,    16.12,2,     0.03,2,     -999,9,     -999,9,20140612,2244,  59.3630, -36.3960
35PK20140515  ,OVIDE-A25  ,42      ,  1,20         ,20         ,20140612,2122,  59.3630, -36.3960,     3148,    200.3,2,   4.7660,2,  34.9250,2,  34.9250,2,    286.1,2,    285.2,2,     8.12,2,    16.30,2,     0.02,2,   2306.7,2,   7.7280,2,20140612,2242,  59.3630, -36.3960
35PK20140515  ,OVIDE-A25  ,42      ,  1,19         ,19         ,20140612,2122,  59.3630, -36.3960,     3148,    251.3,2,   4.7370,2,  34.9360,2,  34.9360,2,    281.8,2,    281.2,2,     8.56,2,    16.23,2,     0.01,2,     -999,9,     -999,9,20140612,2240,  59.3630, -36.3960
35PK20140515  ,OVIDE-A25  ,42      ,  1,18         ,18         ,20140612,2122,  59.3630, -36.3960,     3148,    301.1,2,   4.4510,2,  34.9170,2,  34.9180,2,    284.6,2,    285.3,2,     8.50,2,    16.60,2,     0.02,2,   2305.0,2,   7.7200,2,20140612,2238,  59.3630, -36.3960
35PK20140515  ,OVIDE-A25  ,42      ,  1,17         ,17         ,20140612,2122,  59.3630, -36.3960,     3148,    400.7,2,   4.2480,2,  34.9130,2,  34.9130,2,    293.3,2,    291.4,2,     8.08,2,    15.81,2,     0.01,2,   2305.1,2,   7.7250,2,20140612,2235,  59.3630, -36.3960
35PK20140515  ,OVIDE-A25  ,42      ,  1,16         ,16         ,20140612,2122,  59.3630, -36.3960,     3148,    500.3,2,   4.1040,2,  34.9050,2,  34.9050,2,    296.8,2,    295.6,2,     7.94,2,    15.96,2,     0.01,2,   2304.7,2,   7.7240,2,20140612,2231,  59.3630, -36.3960
35PK20140515  ,OVIDE-A25  ,42      ,  1,15         ,15         ,20140612,2122,  59.3630, -36.3960,     3148,    599.5,2,   4.0370,2,  34.9020,2,  34.9010,2,    296.8,2,    295.8,2,     7.90,2,    16.00,2,     0.01,2,   2304.7,2,   7.7240,2,20140612,2228,  59.3630, -36.3960
35PK20140515  ,OVIDE-A25  ,42      ,  1,14         ,14         ,20140612,2122,  59.3630, -36.3960,     3148,    700.6,2,   3.9850,2,  34.8990,2,  34.8990,2,    297.8,2,    297.0,2,     7.99,2,    15.81,2,     0.01,2,     -999,9,   7.7240,2,20140612,2225,  59.3630, -36.3960
35PK20140515  ,OVIDE-A25  ,42      ,  1,13         ,13         ,20140612,2122,  59.3630, -36.3960,     3148,    800.3,2,   3.8930,2,  34.8910,2,  34.8910,2,    293.6,2,    292.6,2,     8.20,2,    15.86,2,     0.01,2,   2304.3,2,   7.7200,2,20140612,2222,  59.3630, -36.3960
35PK20140515  ,OVIDE-A25  ,42      ,  1,12         ,12         ,20140612,2122,  59.3630, -36.3960,     3148,    900.1,2,   3.8050,2,  34.8850,2,  34.8850,2,    291.1,2,    291.7,2,     8.29,2,    16.00,2,     0.01,2,     -999,9,   7.7180,2,20140612,2220,  59.3630, -36.3960
35PK20140515  ,OVIDE-A25  ,42      ,  1,11         ,11         ,20140612,2122,  59.3630, -36.3960,     3148,   1049.2,2,   3.7010,2,  34.8760,2,  34.8760,2,    292.4,2,    292.5,2,     8.49,2,    16.15,2,     0.01,2,   2302.9,2,   7.7200,2,20140612,2216,  59.3630, -36.3960
35PK20140515  ,OVIDE-A25  ,42      ,  1,10         ,10         ,20140612,2122,  59.3630, -36.3960,     3148,   1200.3,2,   3.7990,2,  34.9040,2,  34.9050,2,    280.0,2,    279.8,2,     9.43,2,    16.60,2,     0.00,2,     -999,9,   7.7180,2,20140612,2212,  59.3630, -36.3960
35PK20140515  ,OVIDE-A25  ,42      ,  1,9          ,9          ,20140612,2122,  59.3630, -36.3960,     3148,   1399.7,2,   3.8190,2,  34.9370,2,  34.9370,2,    272.7,2,    272.5,2,    10.42,2,    16.78,2,     0.00,2,   2306.4,2,   7.7190,2,20140612,2207,  59.3630, -36.3960
35PK20140515  ,OVIDE-A25  ,42      ,  1,8          ,8          ,20140612,2122,  59.3630, -36.3960,     3148,   1600.4,2,   3.6670,2,  34.9410,2,  34.9410,2,    272.9,2,    274.4,2,    10.65,2,    16.79,2,     0.00,2,     -999,9,   7.7240,2,20140612,2203,  59.3630, -36.3960
35PK20140515  ,OVIDE-A25  ,42      ,  1,7          ,7          ,20140612,2122,  59.3630, -36.3960,     3148,   1800.4,2,   3.5180,2,  34.9440,2,  34.9430,2,    273.9,2,    273.4,2,    11.06,2,    16.74,2,     0.00,2,     -999,9,   7.7240,2,20140612,2158,  59.3630, -36.3960
35PK20140515  ,OVIDE-A25  ,42      ,  1,6          ,6          ,20140612,2122,  59.3630, -36.3960,     3148,   2000.4,2,   3.3450,2,  34.9400,2,  34.9390,2,    274.8,2,    274.8,2,    11.40,2,    16.63,2,     0.01,2,   2307.1,2,   7.7270,2,20140612,2154,  59.3630, -36.3960
35PK20140515  ,OVIDE-A25  ,42      ,  1,5          ,5          ,20140612,2122,  59.3630, -36.3960,     3148,   2248.5,2,   3.2290,2,  34.9470,2,  34.9470,2,    274.7,2,    274.9,2,    12.62,2,    16.58,2,     0.01,2,     -999,9,   7.7280,2,20140612,2148,  59.3630, -36.3960
35PK20140515  ,OVIDE-A25  ,42      ,  1,4          ,4          ,20140612,2122,  59.3630, -36.3960,     3148,   2500.8,2,   3.0160,2,  34.9410,2,  34.9390,2,    275.5,2,    275.6,2,    12.95,2,    16.49,2,     0.00,2,   2309.5,2,   7.7290,2,20140612,2142,  59.3630, -36.3960
35PK20140515  ,OVIDE-A25  ,42      ,  1,3          ,3          ,20140612,2122,  59.3630, -36.3960,     3148,   2899.4,2,   2.7130,2,  34.9290,2,  34.9290,2,    280.5,2,    280.2,2,    13.31,2,    16.10,2,     0.00,2,     -999,9,   7.7280,2,20140612,2134,  59.3630, -36.3960
35PK20140515  ,OVIDE-A25  ,42      ,  1,2          ,2          ,20140612,2122,  59.3630, -36.3960,     3148,   3101.1,2,   2.0230,2,  34.9110,2,  34.9100,2,    293.4,2,    292.7,2,    10.14,2,    14.66,2,     0.01,2,     -999,9,   7.7210,2,20140612,2130,  59.3630, -36.3960
35PK20140515  ,OVIDE-A25  ,42      ,  1,1          ,1          ,20140612,2122,  59.3630, -36.3960,     3148,   3137.9,2,   1.5490,2,  34.9040,2,  34.9030,2,    302.5,2,    301.5,2,     8.21,2,    13.89,2,     0.00,2,   2303.1,2,   7.7180,2,20140612,2122,  59.3630, -36.3960