BOTTLE,20240403CCHHYDRO
EXPOCODE,SECT_ID,STNNBR,CASTNO,SAMPNO,BTLNBR,DATE,TIME,LATITUDE,LONGITUDE,DEPTH,CTDPRS,CTDPRS_FLAG_W,CTDTMP,CTDTMP_FLAG_W,CTDSAL,CTDSAL_FLAG_W,SALNTY,SALNTY_FLAG_W,CTDOXY,CTDOXY_FLAG_W,OXYGEN,OXYGEN_FLAG_W,SILCAT,SILCAT_FLAG_W,NITRAT,NITRAT_FLAG_W,NITRIT,NITRIT_FLAG_W,ALKALI,ALKALI_FLAG_W,PH_TOT,PH_TOT_FLAG_W,BTL_DATE,BTL_TIME,BTL_LAT,BTL_LON
,,,,,,,,,,METERS,DBAR,,ITS-90,,PSS-78,,PSS-78,,UMOL/KG,,UMOL/KG,,UMOL/KG,,UMOL/KG,,UMOL/KG,,UMOL/KG,,,,,,,
35PK20140515  ,OVIDE-A25  ,21      ,  1,24         ,24         ,20140531,1002,  46.5440, -19.6720,     4617,      2.6,2,  14.6430,2,  35.6700,2,  35.6690,2,    279.8,2,    277.8,2,     0.39,2,     0.84,2,     0.09,2,   2348.7,2,   7.9840,2,20140531,1153,  46.5440, -19.6720
35PK20140515  ,OVIDE-A25  ,21      ,  1,23         ,23         ,20140531,1002,  46.5440, -19.6720,     4617,     39.6,2,  12.8490,2,  35.6540,2,  35.6540,2,    262.8,2,    261.0,2,     1.58,2,     4.27,2,     0.15,2,   2345.6,2,   7.9150,2,20140531,1151,  46.5440, -19.6720
35PK20140515  ,OVIDE-A25  ,21      ,  1,22         ,22         ,20140531,1002,  46.5440, -19.6720,     4617,    100.4,2,  12.5240,2,  35.6990,2,  35.7000,2,    248.0,2,    245.5,2,     2.82,2,     8.39,2,     0.03,2,   2345.2,2,   7.8660,2,20140531,1148,  46.5440, -19.6720
35PK20140515  ,OVIDE-A25  ,21      ,  1,21         ,21         ,20140531,1002,  46.5440, -19.6720,     4617,    149.9,2,  12.3240,2,  35.6730,2,  35.6710,2,    247.4,2,    246.0,2,     3.14,2,     9.06,2,     0.01,2,   2344.9,2,   7.8630,2,20140531,1146,  46.5440, -19.6720
35PK20140515  ,OVIDE-A25  ,21      ,  1,20         ,20         ,20140531,1002,  46.5440, -19.6720,     4617,    197.6,2,  12.1160,2,  35.6460,2,  35.6450,2,    249.0,2,    247.0,2,     3.31,2,     9.54,2,     0.01,2,   2343.7,2,   7.8600,2,20140531,1144,  46.5440, -19.6720
35PK20140515  ,OVIDE-A25  ,21      ,  1,19         ,19         ,20140531,1002,  46.5440, -19.6720,     4617,    300.3,2,  11.8960,2,  35.6170,2,  35.6170,2,    246.9,2,    245.5,2,     3.52,2,     9.91,2,     0.01,2,   2341.5,2,   7.8430,2,20140531,1141,  46.5440, -19.6720
35PK20140515  ,OVIDE-A25  ,21      ,  1,18         ,18         ,20140531,1002,  46.5440, -19.6720,     4617,    398.4,2,  11.4120,2,  35.5480,2,  35.5480,2,    232.1,2,    231.7,2,     4.43,2,    12.05,2,     0.00,2,   2336.6,2,   7.8170,2,20140531,1138,  46.5440, -19.6720
35PK20140515  ,OVIDE-A25  ,21      ,  1,17         ,17         ,20140531,1002,  46.5440, -19.6720,     4617,    500.2,2,  11.0630,2,  35.5090,2,  35.5110,2,    253.0,2,    250.8,2,     3.97,2,    11.08,2,     0.00,2,   2336.4,2,   7.8250,2,20140531,1135,  46.5440, -19.6720
35PK20140515  ,OVIDE-A25  ,21      ,  1,16         ,16         ,20140531,1002,  46.5440, -19.6720,     4617,    600.5,2,  10.7340,2,  35.4690,2,  35.4690,2,    244.4,2,    244.4,2,     4.48,2,    11.85,2,     0.01,2,   2333.8,2,   7.8130,2,20140531,1132,  46.5440, -19.6720
35PK20140515  ,OVIDE-A25  ,21      ,  1,15         ,15         ,20140531,1002,  46.5440, -19.6720,     4617,    699.2,2,  10.0350,2,  35.4120,2,  35.4130,2,    195.0,2,     -999,9,     7.83,2,    16.97,2,     0.00,2,   2332.8,2,   7.7550,2,20140531,1128,  46.5440, -19.6720
35PK20140515  ,OVIDE-A25  ,21      ,  1,14         ,14         ,20140531,1002,  46.5440, -19.6720,     4617,    800.0,2,   8.9880,2,  35.3210,2,  35.3210,2,    187.5,2,    187.4,2,     -999,9,     -999,9,     -999,9,     -999,9,     -999,9,20140531,1125,  46.5440, -19.6720
35PK20140515  ,OVIDE-A25  ,21      ,  1,13         ,13         ,20140531,1002,  46.5440, -19.6720,     4617,    800.2,2,   8.9720,2,  35.3210,2,  35.3230,2,    187.5,2,    186.7,2,     9.81,2,    18.99,2,     0.00,2,   2329.3,2,   7.7290,2,20140531,1125,  46.5440, -19.6720
35PK20140515  ,OVIDE-A25  ,21      ,  1,12         ,12         ,20140531,1002,  46.5440, -19.6720,     4617,   1000.6,2,   7.7160,2,  35.3470,2,  35.3470,2,    204.1,2,    203.4,2,    10.51,2,    18.74,2,     0.00,2,   2333.4,2,   7.7290,2,20140531,1120,  46.5440, -19.6720
35PK20140515  ,OVIDE-A25  ,21      ,  1,11         ,11         ,20140531,1002,  46.5440, -19.6720,     4617,   1250.8,2,   5.7960,2,  35.1650,2,  35.1610,2,    237.8,2,    235.5,2,    10.74,2,    18.34,2,     0.00,2,   2322.0,2,   7.7230,2,20140531,1114,  46.5440, -19.6720
35PK20140515  ,OVIDE-A25  ,21      ,  1,10         ,10         ,20140531,1002,  46.5440, -19.6720,     4617,   1500.1,2,   4.4910,2,  35.0000,2,  35.0000,2,    259.5,2,    261.8,2,    10.66,2,    17.99,2,     0.00,2,   2311.5,2,   7.7190,2,20140531,1108,  46.5440, -19.6720
35PK20140515  ,OVIDE-A25  ,21      ,  1,9          ,9          ,20140531,1002,  46.5440, -19.6720,     4617,   1749.8,2,   3.9710,2,  34.9470,2,  34.9480,2,    267.4,2,    266.4,2,    11.17,2,    17.91,2,     0.00,2,   2306.8,2,   7.7230,2,20140531,1102,  46.5440, -19.6720
35PK20140515  ,OVIDE-A25  ,21      ,  1,8          ,8          ,20140531,1002,  46.5440, -19.6720,     4617,   2000.4,2,   3.6740,2,  34.9290,2,  34.9300,2,    270.2,2,    269.1,2,    11.88,2,    17.90,2,     0.00,2,   2305.8,2,   7.7240,2,20140531,1056,  46.5440, -19.6720
35PK20140515  ,OVIDE-A25  ,21      ,  1,7          ,7          ,20140531,1002,  46.5440, -19.6720,     4617,   2300.4,2,   3.3850,2,  34.9210,2,  34.9210,2,    272.7,2,    271.6,2,    13.01,2,    17.83,2,     0.00,2,   2306.7,2,   7.7300,2,20140531,1050,  46.5440, -19.6720
35PK20140515  ,OVIDE-A25  ,21      ,  1,6          ,6          ,20140531,1002,  46.5440, -19.6720,     4617,   2499.8,2,   3.2750,2,  34.9330,2,  34.9330,2,    269.5,2,    268.6,2,    15.53,2,    18.06,2,     0.00,2,   2311.1,2,   7.7340,2,20140531,1044,  46.5440, -19.6720
35PK20140515  ,OVIDE-A25  ,21      ,  1,5          ,5          ,20140531,1002,  46.5440, -19.6720,     4617,   2999.7,2,   2.9220,2,  34.9420,2,  34.9480,4,    260.1,2,    259.3,2,    23.19,2,    18.89,2,     0.00,2,   2323.6,2,   7.7370,2,20140531,1034,  46.5440, -19.6720
35PK20140515  ,OVIDE-A25  ,21      ,  1,4          ,4          ,20140531,1002,  46.5440, -19.6720,     4617,   3499.7,2,   2.6690,2,  34.9300,2,  34.9300,2,    246.2,2,    246.6,2,    36.13,2,    21.24,2,     0.00,2,   2341.2,2,   7.7410,2,20140531,1025,  46.5440, -19.6720
35PK20140515  ,OVIDE-A25  ,21      ,  1,3          ,3          ,20140531,1002,  46.5440, -19.6720,     4617,   3999.3,2,   2.5750,2,  34.9160,2,  34.9160,2,    241.3,2,    241.3,2,    42.07,2,    22.25,2,     0.00,2,   2350.5,2,   7.7410,2,20140531,1016,  46.5440, -19.6720
35PK20140515  ,OVIDE-A25  ,21      ,  1,2          ,2          ,20140531,1002,  46.5440, -19.6720,     4617,   4500.8,2,   2.5690,2,  34.9110,2,  34.9190,4,    240.1,2,    240.8,2,    42.62,2,    22.35,2,     0.00,2,   2350.6,2,   7.7430,2,20140531,1006,  46.5440, -19.6720
35PK20140515  ,OVIDE-A25  ,21      ,  1,1          ,1          ,20140531,1002,  46.5440, -19.6720,     4617,   4607.6,2,   2.5780,2,  34.9090,2,  34.9090,2,    240.2,2,    240.1,2,    44.51,2,    22.70,2,     0.00,2,   2357.1,2,   7.7420,2,20140531,1002,  46.5440, -19.6720
35PK20140515  ,OVIDE-A25  ,22      ,  1,24         ,24         ,20140602,0938,  47.2900, -20.2620,     4595,      4.7,2,  14.1410,2,  35.6970,2,  35.6990,2,    270.1,2,    268.2,2,     0.35,2,     0.76,2,     0.02,2,   2349.3,2,   7.9720,2,20140602,1122,  47.2900, -20.2620
35PK20140515  ,OVIDE-A25  ,22      ,  1,23         ,23         ,20140602,0938,  47.2900, -20.2620,     4595,     40.6,2,  13.7340,2,  35.7170,2,  35.7170,2,    257.8,2,    257.2,2,     1.87,2,     2.37,2,     -999,9,   2350.0,2,   7.9470,2,20140602,1120,  47.2900, -20.2620
35PK20140515  ,OVIDE-A25  ,22      ,  1,22         ,22         ,20140602,0938,  47.2900, -20.2620,     4595,    101.8,2,  12.5550,2,  35.7070,2,  35.7060,2,    247.4,2,    247.0,2,     2.82,2,     8.62,2,     0.00,2,   2345.4,2,   7.8710,2,20140602,1116,  47.2900, -20.2620
35PK20140515  ,OVIDE-A25  ,22      ,  1,21         ,21         ,20140602,0938,  47.2900, -20.2620,     4595,    200.7,2,  12.0750,2,  35.6370,2,  35.6370,2,    245.8,2,    244.6,2,     3.33,2,     9.78,2,     0.00,2,   2341.8,2,   7.8590,2,20140602,1114,  47.2900, -20.2620
35PK20140515  ,OVIDE-A25  ,22      ,  1,20         ,20         ,20140602,0938,  47.2900, -20.2620,     4595,    300.5,2,  11.6490,2,  35.5700,2,  35.5700,2,    236.6,2,    236.0,2,     4.08,2,    11.35,2,     0.01,2,   2337.6,2,   7.8400,2,20140602,1112,  47.2900, -20.2620
35PK20140515  ,OVIDE-A25  ,22      ,  1,19         ,19         ,20140602,0938,  47.2900, -20.2620,     4595,    400.3,2,  11.1970,2,  35.5190,2,  35.5200,2,    228.7,2,    228.8,2,     4.60,2,    12.48,2,     0.01,2,   2334.0,2,   7.8180,2,20140602,1109,  47.2900, -20.2620
35PK20140515  ,OVIDE-A25  ,22      ,  1,18         ,18         ,20140602,0938,  47.2900, -20.2620,     4595,    500.5,2,  10.6170,2,  35.4380,2,  35.4390,2,    232.2,2,    233.2,2,     5.23,2,    13.27,2,     0.00,2,   2330.3,2,   7.8120,2,20140602,1106,  47.2900, -20.2620
35PK20140515  ,OVIDE-A25  ,22      ,  1,17         ,17         ,20140602,0938,  47.2900, -20.2620,     4595,    600.0,2,   9.7370,2,  35.3200,2,  35.3200,2,    215.4,2,    213.2,2,     7.21,2,    15.98,2,     0.00,2,   2325.8,2,   7.7700,2,20140602,1103,  47.2900, -20.2620
35PK20140515  ,OVIDE-A25  ,22      ,  1,16         ,16         ,20140602,0938,  47.2900, -20.2620,     4595,    800.9,2,   8.2200,2,  35.3110,2,  35.3140,2,    195.9,2,    194.9,2,    10.17,2,    18.99,2,     0.00,2,   2328.6,2,   7.7300,2,20140602,1059,  47.2900, -20.2620
35PK20140515  ,OVIDE-A25  ,22      ,  1,15         ,15         ,20140602,0938,  47.2900, -20.2620,     4595,    901.1,2,   7.5830,2,  35.3270,2,  35.3280,2,    206.8,2,    206.1,2,    10.34,2,    18.79,2,     0.00,2,   2330.4,2,   7.7330,2,20140602,1055,  47.2900, -20.2620
35PK20140515  ,OVIDE-A25  ,22      ,  1,14         ,14         ,20140602,0938,  47.2900, -20.2620,     4595,   1000.3,2,   6.8490,2,  35.2750,2,  35.2750,2,    218.5,2,    218.0,2,    10.50,2,    18.57,2,     0.00,2,   2327.0,2,   7.7290,2,20140602,1052,  47.2900, -20.2620
35PK20140515  ,OVIDE-A25  ,22      ,  1,13         ,13         ,20140602,0938,  47.2900, -20.2620,     4595,   1199.9,2,   5.5000,2,  35.1200,2,  35.1200,2,    241.8,2,    240.6,2,    10.43,2,    18.27,2,     0.00,2,   2316.5,2,   7.7250,2,20140602,1048,  47.2900, -20.2620
35PK20140515  ,OVIDE-A25  ,22      ,  1,12         ,12         ,20140602,0938,  47.2900, -20.2620,     4595,   1399.5,2,   4.3050,2,  34.9610,2,  34.9610,2,    265.3,2,    264.0,2,    10.07,2,    17.78,2,     0.00,2,   2305.2,2,   7.7200,2,20140602,1043,  47.2900, -20.2620
35PK20140515  ,OVIDE-A25  ,22      ,  1,11         ,11         ,20140602,0938,  47.2900, -20.2620,     4595,   1600.7,2,   3.9670,2,  34.9320,2,  34.9310,2,    269.9,2,    268.7,2,    10.36,2,    17.69,2,     0.00,2,   2303.5,2,   7.7220,2,20140602,1039,  47.2900, -20.2620
35PK20140515  ,OVIDE-A25  ,22      ,  1,10         ,10         ,20140602,0938,  47.2900, -20.2620,     4595,   1799.5,2,   3.7830,2,  34.9290,2,  34.9300,2,    270.0,2,    268.9,2,    11.16,2,    17.70,2,     0.00,2,   2301.7,2,   7.7270,2,20140602,1035,  47.2900, -20.2620
35PK20140515  ,OVIDE-A25  ,22      ,  1,9          ,9          ,20140602,0938,  47.2900, -20.2620,     4595,   2000.7,2,   3.5540,2,  34.9230,2,  34.9240,2,    271.6,2,    270.5,2,    12.63,2,    17.66,2,     0.00,2,   2301.0,2,   7.7290,2,20140602,1030,  47.2900, -20.2620
35PK20140515  ,OVIDE-A25  ,22      ,  1,8          ,8          ,20140602,0938,  47.2900, -20.2620,     4595,   2250.3,2,   3.3380,2,  34.9230,2,  34.9260,2,    272.8,2,    272.0,2,    12.95,2,    17.63,2,     0.00,2,   2303.8,2,   7.7350,2,20140602,1025,  47.2900, -20.2620
35PK20140515  ,OVIDE-A25  ,22      ,  1,7          ,7          ,20140602,0938,  47.2900, -20.2620,     4595,   2500.9,2,   3.1840,2,  34.9330,2,  34.9320,2,    270.0,2,    269.4,2,    15.29,2,    17.78,2,     0.00,2,   2309.6,2,   7.7370,2,20140602,1019,  47.2900, -20.2620
35PK20140515  ,OVIDE-A25  ,22      ,  1,6          ,6          ,20140602,0938,  47.2900, -20.2620,     4595,   2751.3,2,   3.0170,2,  34.9450,2,  34.9460,2,    262.4,2,    261.3,2,    21.46,2,    18.68,2,     0.00,2,   2318.1,2,   7.7400,2,20140602,1014,  47.2900, -20.2620
35PK20140515  ,OVIDE-A25  ,22      ,  1,5          ,5          ,20140602,0938,  47.2900, -20.2620,     4595,   2999.5,2,   2.8730,2,  34.9460,2,  34.9470,2,    257.0,2,    257.0,2,    25.29,2,    19.22,2,     0.00,2,   2323.6,2,   7.7400,2,20140602,1009,  47.2900, -20.2620
35PK20140515  ,OVIDE-A25  ,22      ,  1,4          ,4          ,20140602,0938,  47.2900, -20.2620,     4595,   3249.3,2,   2.7170,2,  34.9350,2,  34.9360,2,    248.5,2,    248.4,2,    33.34,2,    20.75,2,     0.00,2,   2335.4,2,   7.7410,2,20140602,1003,  47.2900, -20.2620
35PK20140515  ,OVIDE-A25  ,22      ,  1,3          ,3          ,20140602,0938,  47.2900, -20.2620,     4595,   3501.1,2,   2.6240,2,  34.9250,2,  34.9250,2,    244.2,2,    244.5,2,    37.83,2,    21.52,2,     0.00,2,   2346.2,2,   7.7430,2,20140602,0958,  47.2900, -20.2620
35PK20140515  ,OVIDE-A25  ,22      ,  1,2          ,2          ,20140602,0938,  47.2900, -20.2620,     4595,   3999.7,2,   2.5320,2,  34.9120,2,  34.9190,4,    240.5,2,    240.9,2,    41.43,2,    22.10,2,     0.00,2,   2350.9,2,   7.7440,2,20140602,0949,  47.2900, -20.2620
35PK20140515  ,OVIDE-A25  ,22      ,  1,1          ,1          ,20140602,0938,  47.2900, -20.2620,     4595,   4585.4,2,   2.5610,2,  34.9080,2,  34.9060,2,    240.5,2,    240.2,2,    44.05,2,    22.55,2,     0.01,2,   2355.2,2,   7.7430,2,20140602,0938,  47.2900, -20.2620