BOTTLE,20240403CCHHYDRO
EXPOCODE,SECT_ID,STNNBR,CASTNO,SAMPNO,BTLNBR,DATE,TIME,LATITUDE,LONGITUDE,DEPTH,CTDPRS,CTDPRS_FLAG_W,CTDTMP,CTDTMP_FLAG_W,CTDSAL,CTDSAL_FLAG_W,SALNTY,SALNTY_FLAG_W,CTDOXY,CTDOXY_FLAG_W,OXYGEN,OXYGEN_FLAG_W,SILCAT,SILCAT_FLAG_W,NITRAT,NITRAT_FLAG_W,NITRIT,NITRIT_FLAG_W,ALKALI,ALKALI_FLAG_W,PH_TOT,PH_TOT_FLAG_W,BTL_DATE,BTL_TIME,BTL_LAT,BTL_LON
,,,,,,,,,,METERS,DBAR,,ITS-90,,PSS-78,,PSS-78,,UMOL/KG,,UMOL/KG,,UMOL/KG,,UMOL/KG,,UMOL/KG,,UMOL/KG,,,,,,,
35PK20140515  ,OVIDE-A25  ,33      ,  1,24         ,24         ,20140609,0907,  56.2520, -27.2920,     2783,      5.0,2,  10.2040,2,  35.1790,2,  35.1790,2,    289.0,2,    287.4,2,     0.47,2,     5.50,2,     0.15,2,   2324.1,2,   7.8970,2,20140609,1024,  56.2520, -27.2920
35PK20140515  ,OVIDE-A25  ,33      ,  1,23         ,23         ,20140609,0907,  56.2520, -27.2920,     2783,     25.1,2,  10.1560,2,  35.1780,2,  35.1780,2,    289.1,2,    288.9,2,     0.55,2,     5.62,2,     0.15,2,     -999,9,   7.8970,2,20140609,1023,  56.2520, -27.2920
35PK20140515  ,OVIDE-A25  ,33      ,  1,22         ,22         ,20140609,0907,  56.2520, -27.2920,     2783,     50.2,2,   9.0150,2,  35.2090,2,  35.2090,2,    283.4,2,    282.4,2,     1.27,2,     8.17,2,     0.63,2,   2325.9,2,   7.8410,2,20140609,1021,  56.2520, -27.2920
35PK20140515  ,OVIDE-A25  ,33      ,  1,21         ,21         ,20140609,0907,  56.2520, -27.2920,     2783,    101.3,2,   8.9030,2,  35.2230,2,  35.2220,2,    273.2,2,    272.8,2,     2.80,2,    10.73,2,     0.34,2,   2323.9,2,   7.8130,2,20140609,1018,  56.2520, -27.2920
35PK20140515  ,OVIDE-A25  ,33      ,  1,20         ,20         ,20140609,0907,  56.2520, -27.2920,     2783,    152.2,2,   8.6480,2,  35.2120,2,  35.2120,2,    270.5,2,    268.9,2,     4.97,3,    12.87,3,     0.08,2,     -999,9,   7.7930,2,20140609,1016,  56.2520, -27.2920
35PK20140515  ,OVIDE-A25  ,33      ,  1,19         ,19         ,20140609,0907,  56.2520, -27.2920,     2783,    201.3,2,   8.6590,2,  35.2160,2,  35.2160,2,    271.6,2,    270.3,2,     5.09,3,    12.62,3,     0.06,2,   2322.1,2,   7.7950,2,20140609,1014,  56.2520, -27.2920
35PK20140515  ,OVIDE-A25  ,33      ,  1,18         ,18         ,20140609,0907,  56.2520, -27.2920,     2783,    300.6,2,   8.5150,2,  35.1890,2,  35.1900,2,    270.7,2,    270.0,2,     5.29,3,    13.10,3,     0.03,2,   2319.7,2,   7.7920,2,20140609,1011,  56.2520, -27.2920
35PK20140515  ,OVIDE-A25  ,33      ,  1,17         ,17         ,20140609,0907,  56.2520, -27.2920,     2783,    401.2,2,   7.9310,2,  35.1110,2,  35.1110,2,    261.5,2,    260.7,2,     6.46,3,    14.42,3,     0.02,2,   2316.6,2,   7.7700,2,20140609,1008,  56.2520, -27.2920
35PK20140515  ,OVIDE-A25  ,33      ,  1,16         ,16         ,20140609,0907,  56.2520, -27.2920,     2783,    501.1,2,   7.2090,2,  35.0470,2,  35.0460,2,    265.1,2,    264.2,2,     6.89,3,    15.24,3,     0.01,2,   2313.4,2,   7.7590,2,20140609,1005,  56.2520, -27.2920
35PK20140515  ,OVIDE-A25  ,33      ,  1,15         ,15         ,20140609,0907,  56.2520, -27.2920,     2783,    601.2,2,   6.8190,2,  35.0490,2,  35.0480,2,    241.5,2,    242.6,2,     8.65,3,    17.10,3,     0.02,2,   2312.9,2,   7.7310,2,20140609,1002,  56.2520, -27.2920
35PK20140515  ,OVIDE-A25  ,33      ,  1,14         ,14         ,20140609,0907,  56.2520, -27.2920,     2783,    701.0,2,   6.2650,2,  35.0780,2,  35.0790,2,    223.9,2,    224.2,2,    10.45,2,    18.88,2,     0.01,2,     -999,9,   7.7030,2,20140609,1000,  56.2520, -27.2920
35PK20140515  ,OVIDE-A25  ,33      ,  1,12         ,12         ,20140609,0907,  56.2520, -27.2920,     2783,    800.8,2,   5.1370,2,  34.9780,2,  34.9790,2,    247.2,2,    246.1,2,     -999,9,    18.39,2,     0.01,2,   2308.8,2,   7.7050,2,20140609,0957,  56.2520, -27.2920
35PK20140515  ,OVIDE-A25  ,33      ,  1,13         ,13         ,20140609,0907,  56.2520, -27.2920,     2783,    800.9,2,   5.1370,2,  34.9800,2,  34.9810,2,    247.2,2,    246.6,2,    10.18,2,    18.34,2,     0.01,2,     -999,9,     -999,9,20140609,0957,  56.2520, -27.2920
35PK20140515  ,OVIDE-A25  ,33      ,  1,11         ,11         ,20140609,0907,  56.2520, -27.2920,     2783,    900.4,2,   4.7190,2,  34.9560,2,  34.9560,2,    257.7,2,    257.1,2,     9.87,2,    18.09,2,     0.01,2,     -999,9,   7.7060,2,20140609,0953,  56.2520, -27.2920
35PK20140515  ,OVIDE-A25  ,33      ,  1,10         ,10         ,20140609,0907,  56.2520, -27.2920,     2783,   1000.3,2,   4.4440,2,  34.9390,2,  34.9390,2,    264.9,2,    264.5,2,     9.61,2,    17.86,2,     0.02,2,   2305.9,2,   7.7090,2,20140609,0950,  56.2520, -27.2920
35PK20140515  ,OVIDE-A25  ,33      ,  1,9          ,9          ,20140609,0907,  56.2520, -27.2920,     2783,   1200.9,2,   4.1060,2,  34.9280,2,  34.9280,2,    269.8,2,    269.7,2,    10.17,2,    17.70,2,     0.01,2,   2304.8,2,   7.7140,2,20140609,0946,  56.2520, -27.2920
35PK20140515  ,OVIDE-A25  ,33      ,  1,8          ,8          ,20140609,0907,  56.2520, -27.2920,     2783,   1400.2,2,   3.8680,2,  34.9210,2,  34.9230,2,    271.4,2,    271.7,2,    10.79,2,    17.71,2,     0.01,2,   2304.1,2,   7.7180,2,20140609,0940,  56.2520, -27.2920
35PK20140515  ,OVIDE-A25  ,33      ,  1,7          ,7          ,20140609,0907,  56.2520, -27.2920,     2783,   1601.1,2,   3.7240,2,  34.9230,2,  34.9250,2,    271.5,2,    271.5,2,    11.17,2,    17.76,2,     0.01,2,   2306.0,2,   7.7220,2,20140609,0935,  56.2520, -27.2920
35PK20140515  ,OVIDE-A25  ,33      ,  1,6          ,6          ,20140609,0907,  56.2520, -27.2920,     2783,   1800.4,2,   3.5800,2,  34.9260,2,  34.9270,2,    272.3,2,    271.9,2,    11.85,2,    17.65,2,     0.01,2,   2306.2,2,   7.7240,2,20140609,0930,  56.2520, -27.2920
35PK20140515  ,OVIDE-A25  ,33      ,  1,5          ,5          ,20140609,0907,  56.2520, -27.2920,     2783,   2000.7,2,   3.3880,2,  34.9340,2,  34.9330,2,    273.9,2,    273.5,2,    12.03,2,    17.51,2,     0.02,2,   2306.4,2,   7.7280,2,20140609,0925,  56.2520, -27.2920
35PK20140515  ,OVIDE-A25  ,33      ,  1,4          ,4          ,20140609,0907,  56.2520, -27.2920,     2783,   2250.2,2,   3.2020,2,  34.9590,2,  34.9580,2,    273.3,2,    273.2,2,    13.13,2,    17.09,2,     0.01,2,   2312.0,2,   7.7280,2,20140609,0919,  56.2520, -27.2920
35PK20140515  ,OVIDE-A25  ,33      ,  1,3          ,3          ,20140609,0907,  56.2520, -27.2920,     2783,   2500.9,2,   2.9530,2,  34.9670,2,  34.9680,2,    269.3,2,    269.3,2,    16.87,2,    17.43,2,     0.01,2,   2319.6,2,   7.7270,2,20140609,0914,  56.2520, -27.2920
35PK20140515  ,OVIDE-A25  ,33      ,  1,2          ,2          ,20140609,0907,  56.2520, -27.2920,     2783,   2679.7,2,   2.8070,2,  34.9650,2,  34.9640,2,    265.6,2,    266.0,2,    21.01,2,    17.89,2,     0.01,2,   2320.7,2,   7.7260,2,20140609,0910,  56.2520, -27.2920
35PK20140515  ,OVIDE-A25  ,33      ,  1,1          ,1          ,20140609,0907,  56.2520, -27.2920,     2783,   2773.1,2,   2.8000,2,  34.9730,2,     -999,9,    267.0,2,    266.8,2,     -999,9,     -999,9,     -999,9,     -999,9,     -999,9,20140609,0907,  56.2520, -27.2920
35PK20140515  ,OVIDE-A25  ,34      ,  1,24         ,24         ,20140609,1611,  57.0040, -27.8790,     2793,      5.4,2,  10.4800,2,  35.1700,2,  35.1690,2,    287.8,2,    287.3,2,     0.78,2,     6.79,2,     0.11,2,   2318.8,2,   7.8850,2,20140609,1719,  57.0040, -27.8790
35PK20140515  ,OVIDE-A25  ,34      ,  1,23         ,23         ,20140609,1611,  57.0040, -27.8790,     2793,     26.8,2,  10.2000,2,  35.1970,2,  35.1960,2,    289.2,2,    289.3,2,     0.91,2,     7.14,2,     0.17,2,   2322.2,2,   7.8750,2,20140609,1718,  57.0040, -27.8790
35PK20140515  ,OVIDE-A25  ,34      ,  1,22         ,22         ,20140609,1611,  57.0040, -27.8790,     2793,    100.0,2,   8.5750,2,  35.1950,2,  35.1900,4,    270.1,2,    269.5,2,     5.51,2,    12.93,2,     0.02,2,   2320.3,2,   7.8180,2,20140609,1715,  57.0040, -27.8790
35PK20140515  ,OVIDE-A25  ,34      ,  1,21         ,21         ,20140609,1611,  57.0040, -27.8790,     2793,    150.3,2,   8.0490,2,  35.1250,2,  35.1190,4,    268.6,2,    267.8,2,     6.09,2,    13.84,2,     0.07,2,   2316.8,2,   7.7790,2,20140609,1713,  57.0040, -27.8790
35PK20140515  ,OVIDE-A25  ,34      ,  1,20         ,20         ,20140609,1611,  57.0040, -27.8790,     2793,    200.4,2,   7.5810,2,  35.0860,2,  35.0850,2,    258.0,2,    258.0,2,     6.73,2,    15.10,2,     0.04,2,   2314.6,2,   7.7610,2,20140609,1712,  57.0040, -27.8790
35PK20140515  ,OVIDE-A25  ,34      ,  1,18         ,18         ,20140609,1611,  57.0040, -27.8790,     2793,    299.9,2,   6.9570,2,  35.0340,2,  35.0340,2,    271.5,2,    273.7,2,     6.61,2,    14.93,2,     0.01,2,   2311.7,2,   7.7600,2,20140609,1709,  57.0040, -27.8790
35PK20140515  ,OVIDE-A25  ,34      ,  1,19         ,19         ,20140609,1611,  57.0040, -27.8790,     2793,    300.0,2,   6.9550,2,  35.0340,2,     -999,9,    271.5,2,     -999,9,     -999,9,     -999,9,     -999,9,     -999,9,     -999,9,20140609,1709,  57.0040, -27.8790
35PK20140515  ,OVIDE-A25  ,34      ,  1,17         ,17         ,20140609,1611,  57.0040, -27.8790,     2793,    381.3,2,   6.9400,2,  35.0780,2,  35.0780,2,    232.2,2,    233.1,2,     9.06,2,    17.33,2,     0.01,2,     -999,9,   7.7250,2,20140609,1706,  57.0040, -27.8790
35PK20140515  ,OVIDE-A25  ,34      ,  1,16         ,16         ,20140609,1611,  57.0040, -27.8790,     2793,    449.6,2,   6.5130,2,  35.0640,2,  35.0640,2,    223.3,2,    223.5,2,    10.17,2,    18.51,2,     0.01,2,   2314.5,2,   7.7080,2,20140609,1704,  57.0040, -27.8790
35PK20140515  ,OVIDE-A25  ,34      ,  1,15         ,15         ,20140609,1611,  57.0040, -27.8790,     2793,    449.6,2,   6.4960,2,  35.0650,2,     -999,9,    223.3,2,     -999,9,     -999,9,     -999,9,     -999,9,     -999,9,     -999,9,20140609,1704,  57.0040, -27.8790
35PK20140515  ,OVIDE-A25  ,34      ,  1,14         ,14         ,20140609,1611,  57.0040, -27.8790,     2793,    601.0,2,   5.3130,2,  34.9940,2,  34.9780,4,    240.9,2,    240.7,2,    10.34,2,    18.43,2,     0.01,2,   2310.8,2,   7.7020,2,20140609,1701,  57.0040, -27.8790
35PK20140515  ,OVIDE-A25  ,34      ,  1,13         ,13         ,20140609,1611,  57.0040, -27.8790,     2793,    700.1,2,   4.9930,2,  34.9830,2,  34.9830,2,    249.3,2,    249.9,2,    10.31,2,    18.19,2,     0.00,2,   2308.5,2,   7.7060,2,20140609,1658,  57.0040, -27.8790
35PK20140515  ,OVIDE-A25  ,34      ,  1,12         ,12         ,20140609,1611,  57.0040, -27.8790,     2793,    850.2,2,   4.4580,2,  34.9500,2,  34.9490,2,    261.5,2,    261.4,2,    10.14,2,    17.79,2,     0.00,2,   2306.0,2,   7.7090,2,20140609,1655,  57.0040, -27.8790
35PK20140515  ,OVIDE-A25  ,34      ,  1,11         ,11         ,20140609,1611,  57.0040, -27.8790,     2793,   1000.0,2,   4.1300,2,  34.9250,2,  34.9240,2,    270.4,2,    270.5,2,    10.04,2,    17.51,2,     0.00,2,   2304.1,2,   7.7140,2,20140609,1652,  57.0040, -27.8790
35PK20140515  ,OVIDE-A25  ,34      ,  1,10         ,10         ,20140609,1611,  57.0040, -27.8790,     2793,   1200.5,2,   3.9070,2,  34.9150,2,  34.9150,2,    272.9,2,    273.2,2,    10.27,2,    17.38,2,     0.00,2,   2303.8,2,   7.7170,2,20140609,1647,  57.0040, -27.8790
35PK20140515  ,OVIDE-A25  ,34      ,  1,9          ,9          ,20140609,1611,  57.0040, -27.8790,     2793,   1399.8,2,   3.7630,2,  34.9200,2,  34.9200,2,    272.2,2,    272.6,2,    10.87,2,    17.42,2,     0.00,2,   2304.9,2,   7.7220,2,20140609,1643,  57.0040, -27.8790
35PK20140515  ,OVIDE-A25  ,34      ,  1,8          ,8          ,20140609,1611,  57.0040, -27.8790,     2793,   1598.8,2,   3.6260,2,  34.9250,2,  34.9250,2,    272.0,2,    272.0,2,    11.38,2,    17.44,2,     0.00,2,   2306.2,2,   7.7250,2,20140609,1638,  57.0040, -27.8790
35PK20140515  ,OVIDE-A25  ,34      ,  1,7          ,7          ,20140609,1611,  57.0040, -27.8790,     2793,   1800.0,2,   3.4670,2,  34.9290,2,  34.9290,2,    273.4,2,    273.9,2,    11.81,2,    17.20,2,     0.01,2,   2307.4,2,   7.7280,2,20140609,1634,  57.0040, -27.8790
35PK20140515  ,OVIDE-A25  ,34      ,  1,6          ,6          ,20140609,1611,  57.0040, -27.8790,     2793,   2000.5,2,   3.3630,2,  34.9450,2,  34.9440,2,    274.1,2,    274.4,2,    11.98,2,    16.98,2,     0.00,2,   2308.4,2,   7.7290,2,20140609,1629,  57.0040, -27.8790
35PK20140515  ,OVIDE-A25  ,34      ,  1,5          ,5          ,20140609,1611,  57.0040, -27.8790,     2793,   2250.4,2,   3.1570,2,  34.9630,2,  34.9620,2,    272.8,2,    273.2,2,    13.43,2,    16.74,2,     0.00,2,   2311.6,2,   7.7290,2,20140609,1624,  57.0040, -27.8790
35PK20140515  ,OVIDE-A25  ,34      ,  1,4          ,4          ,20140609,1611,  57.0040, -27.8790,     2793,   2500.2,2,   2.9210,2,  34.9770,2,  34.9770,2,    270.9,2,    271.5,2,    15.91,2,    16.76,2,     0.00,2,   2315.0,2,   7.7260,2,20140609,1618,  57.0040, -27.8790
35PK20140515  ,OVIDE-A25  ,34      ,  1,3          ,3          ,20140609,1611,  57.0040, -27.8790,     2793,   2700.6,2,   2.8420,2,  34.9800,2,  34.9790,2,    270.7,2,    270.9,2,    17.20,2,    16.65,2,     0.00,2,   2314.5,2,   7.7230,2,20140609,1614,  57.0040, -27.8790
35PK20140515  ,OVIDE-A25  ,34      ,  1,1          ,1          ,20140609,1611,  57.0040, -27.8790,     2793,   2783.7,2,   2.8420,2,  34.9830,2,  34.9820,2,    271.8,2,    272.3,2,    16.75,2,    16.49,2,     0.00,2,   2315.2,2,   7.7200,2,20140609,1611,  57.0040, -27.8790
35PK20140515  ,OVIDE-A25  ,34      ,  1,2          ,2          ,20140609,1611,  57.0040, -27.8790,     2793,   2783.8,2,   2.8420,2,  34.9830,2,     -999,9,    271.8,2,     -999,9,     -999,9,     -999,9,     -999,9,     -999,9,     -999,9,20140609,1611,  57.0040, -27.8790