BOTTLE,20240403CCHHYDRO
EXPOCODE,SECT_ID,STNNBR,CASTNO,SAMPNO,BTLNBR,DATE,TIME,LATITUDE,LONGITUDE,DEPTH,CTDPRS,CTDPRS_FLAG_W,CTDTMP,CTDTMP_FLAG_W,CTDSAL,CTDSAL_FLAG_W,SALNTY,SALNTY_FLAG_W,CTDOXY,CTDOXY_FLAG_W,OXYGEN,OXYGEN_FLAG_W,SILCAT,SILCAT_FLAG_W,NITRAT,NITRAT_FLAG_W,NITRIT,NITRIT_FLAG_W,ALKALI,ALKALI_FLAG_W,PH_TOT,PH_TOT_FLAG_W,BTL_DATE,BTL_TIME,BTL_LAT,BTL_LON
,,,,,,,,,,METERS,DBAR,,ITS-90,,PSS-78,,PSS-78,,UMOL/KG,,UMOL/KG,,UMOL/KG,,UMOL/KG,,UMOL/KG,,UMOL/KG,,,,,,,
35PK20140515  ,OVIDE-A25  ,51      ,  1,24         ,24         ,20140616,0722,  59.7990, -42.0030,     1742,      6.0,2,   6.4730,2,  34.9160,2,  34.9170,2,    310.7,2,    309.7,2,     5.91,2,     9.66,2,     0.15,2,   2308.5,2,   7.8150,2,20140616,0815,  59.7990, -42.0030
35PK20140515  ,OVIDE-A25  ,51      ,  1,23         ,23         ,20140616,0722,  59.7990, -42.0030,     1742,     19.5,2,   6.4750,2,  34.9120,2,     -999,9,    310.6,2,     -999,9,     -999,9,     -999,9,     -999,9,     -999,9,     -999,9,20140616,0814,  59.7990, -42.0030
35PK20140515  ,OVIDE-A25  ,51      ,  1,22         ,22         ,20140616,0722,  59.7990, -42.0030,     1742,     39.7,2,   6.4950,2,  34.9250,2,  34.9250,2,    310.9,2,    309.0,2,     5.16,2,     9.05,2,     0.16,2,     -999,9,   7.8280,2,20140616,0812,  59.7990, -42.0030
35PK20140515  ,OVIDE-A25  ,51      ,  1,21         ,21         ,20140616,0722,  59.7990, -42.0030,     1742,     69.8,2,   5.8940,2,  34.9320,2,     -999,9,    304.6,2,     -999,9,     -999,9,     -999,9,     -999,9,     -999,9,     -999,9,20140616,0810,  59.7990, -42.0030
35PK20140515  ,OVIDE-A25  ,51      ,  1,20         ,20         ,20140616,0722,  59.7990, -42.0030,     1742,    101.8,2,   5.5760,2,  34.9490,2,  34.9510,2,    298.8,2,    297.8,2,     7.11,2,    13.35,2,     0.29,2,   2307.8,2,   7.7630,2,20140616,0808,  59.7990, -42.0030
35PK20140515  ,OVIDE-A25  ,51      ,  1,18         ,18         ,20140616,0722,  59.7990, -42.0030,     1742,    151.4,2,   5.1670,2,  34.9580,2,  34.9610,2,    292.1,2,    291.4,2,     7.33,2,    14.37,2,     0.59,2,     -999,9,   7.7470,2,20140616,0806,  59.7990, -42.0030
35PK20140515  ,OVIDE-A25  ,51      ,  1,19         ,19         ,20140616,0722,  59.7990, -42.0030,     1742,    151.7,2,   5.1590,2,  34.9580,2,     -999,9,    291.9,2,     -999,9,     -999,9,     -999,9,     -999,9,     -999,9,     -999,9,20140616,0806,  59.7990, -42.0030
35PK20140515  ,OVIDE-A25  ,51      ,  1,17         ,17         ,20140616,0722,  59.7990, -42.0030,     1742,    201.7,2,   5.0400,2,  34.9560,2,  34.9590,2,    289.4,2,    288.0,2,     7.42,2,    14.85,2,     0.06,2,   2306.5,2,   7.7410,2,20140616,0804,  59.7990, -42.0030
35PK20140515  ,OVIDE-A25  ,51      ,  1,16         ,16         ,20140616,0722,  59.7990, -42.0030,     1742,    301.4,2,   4.8780,2,  34.9520,2,  34.9530,2,    289.9,2,    288.9,2,     7.49,2,    15.11,2,     0.02,2,   2305.9,2,   7.7390,2,20140616,0801,  59.7990, -42.0030
35PK20140515  ,OVIDE-A25  ,51      ,  1,15         ,15         ,20140616,0722,  59.7990, -42.0030,     1742,    399.6,2,   4.6640,2,  34.9440,2,  34.9420,2,    287.7,2,    287.4,2,     7.77,2,    15.37,2,     0.02,2,   2305.3,2,   7.7350,2,20140616,0757,  59.7990, -42.0030
35PK20140515  ,OVIDE-A25  ,51      ,  1,14         ,14         ,20140616,0722,  59.7990, -42.0030,     1742,    500.5,2,   4.5280,2,  34.9390,2,  34.9410,2,    282.3,2,    281.7,2,     8.20,2,    15.70,2,     0.01,2,     -999,9,   7.7270,2,20140616,0755,  59.7990, -42.0030
35PK20140515  ,OVIDE-A25  ,51      ,  1,13         ,13         ,20140616,0722,  59.7990, -42.0030,     1742,    600.4,2,   4.3530,2,  34.9330,2,  34.9340,2,    282.5,2,    283.8,2,     8.25,2,    15.69,2,     0.01,2,     -999,9,   7.7240,2,20140616,0752,  59.7990, -42.0030
35PK20140515  ,OVIDE-A25  ,51      ,  1,12         ,12         ,20140616,0722,  59.7990, -42.0030,     1742,    751.5,2,   4.1410,2,  34.9180,2,  34.9190,2,    284.0,2,    283.5,2,     8.35,2,    15.67,2,     0.02,2,   2304.2,2,   7.7220,2,20140616,0748,  59.7990, -42.0030
35PK20140515  ,OVIDE-A25  ,51      ,  1,11         ,11         ,20140616,0722,  59.7990, -42.0030,     1742,    849.2,2,   3.9390,2,  34.9060,2,  34.9070,2,    285.7,2,    285.6,2,     -999,9,     -999,9,     -999,9,     -999,9,     -999,9,20140616,0746,  59.7990, -42.0030
35PK20140515  ,OVIDE-A25  ,51      ,  1,10         ,10         ,20140616,0722,  59.7990, -42.0030,     1742,    899.9,2,   3.9120,2,  34.9040,2,  34.9060,2,    285.3,2,    285.1,2,     8.67,2,    15.94,2,     0.01,2,   2302.6,2,   7.7210,2,20140616,0744,  59.7990, -42.0030
35PK20140515  ,OVIDE-A25  ,51      ,  1,9          ,9          ,20140616,0722,  59.7990, -42.0030,     1742,   1000.7,2,   3.9170,2,  34.9210,2,  34.9200,2,    280.3,2,    280.5,2,     8.93,2,    15.93,2,     0.00,2,   2303.6,2,   7.7230,2,20140616,0741,  59.7990, -42.0030
35PK20140515  ,OVIDE-A25  ,51      ,  1,8          ,8          ,20140616,0722,  59.7990, -42.0030,     1742,   1100.8,2,   3.8220,2,  34.9270,2,  34.9300,2,    277.3,2,    277.6,2,     9.35,2,    15.92,2,     0.00,2,     -999,9,   7.7240,2,20140616,0739,  59.7990, -42.0030
35PK20140515  ,OVIDE-A25  ,51      ,  1,7          ,7          ,20140616,0722,  59.7990, -42.0030,     1742,   1200.0,2,   3.7380,2,  34.9310,2,  34.9340,2,    276.5,2,    276.7,2,     9.58,2,    15.89,2,     0.00,2,   2304.8,2,   7.7240,2,20140616,0737,  59.7990, -42.0030
35PK20140515  ,OVIDE-A25  ,51      ,  1,6          ,6          ,20140616,0722,  59.7990, -42.0030,     1742,   1299.6,2,   3.5710,2,  34.9260,2,  34.9280,2,    278.4,2,    278.5,2,     9.60,2,    15.72,2,     0.01,2,     -999,9,   7.7250,2,20140616,0734,  59.7990, -42.0030
35PK20140515  ,OVIDE-A25  ,51      ,  1,5          ,5          ,20140616,0722,  59.7990, -42.0030,     1742,   1400.5,2,   3.4210,2,  34.9240,2,  34.9250,2,    279.0,2,    279.4,2,     9.86,2,    15.67,2,     0.00,2,   2304.3,2,   7.7270,2,20140616,0732,  59.7990, -42.0030
35PK20140515  ,OVIDE-A25  ,51      ,  1,4          ,4          ,20140616,0722,  59.7990, -42.0030,     1742,   1499.7,2,   3.2840,2,  34.9190,2,  34.9210,2,    281.1,2,    281.6,2,     9.72,2,    15.22,2,     0.01,2,     -999,9,   7.7270,2,20140616,0729,  59.7990, -42.0030
35PK20140515  ,OVIDE-A25  ,51      ,  1,3          ,3          ,20140616,0722,  59.7990, -42.0030,     1742,   1599.7,2,   3.1460,2,  34.9150,2,  34.9170,2,    282.8,2,    283.1,2,     9.76,2,    15.21,2,     0.00,2,   2303.9,2,   7.7280,2,20140616,0727,  59.7990, -42.0030
35PK20140515  ,OVIDE-A25  ,51      ,  1,2          ,2          ,20140616,0722,  59.7990, -42.0030,     1742,   1701.8,2,   2.9760,2,  34.9100,2,  34.9210,4,    284.6,2,    285.2,2,     9.72,2,    15.01,2,     0.01,2,     -999,9,   7.7270,2,20140616,0724,  59.7990, -42.0030
35PK20140515  ,OVIDE-A25  ,51      ,  1,1          ,1          ,20140616,0722,  59.7990, -42.0030,     1742,   1732.3,2,   2.9700,2,  34.9100,2,  34.9140,2,    284.6,2,    285.3,2,     9.74,2,    15.16,2,     0.00,2,   2303.7,2,   7.7280,2,20140616,0722,  59.7990, -42.0030
35PK20140515  ,OVIDE-A25  ,52      ,  1,19         ,19         ,20140616,1512,  59.8080, -42.2380,     1210,      5.3,2,   6.2840,2,  34.9220,2,  34.9210,2,    309.5,2,    309.4,2,     3.99,2,     9.17,2,     0.33,2,   2310.7,2,   7.8270,2,20140616,1550,  59.8080, -42.2380
35PK20140515  ,OVIDE-A25  ,52      ,  1,24         ,24         ,20140616,1512,  59.8080, -42.2380,     1210,      5.3,2,   6.2830,2,  34.9220,2,     -999,9,    309.5,2,     -999,9,     -999,9,     -999,9,     -999,9,     -999,9,     -999,9,20140616,1551,  59.8080, -42.2380
35PK20140515  ,OVIDE-A25  ,52      ,  1,20         ,20         ,20140616,1512,  59.8080, -42.2380,     1210,      5.3,2,   6.2830,2,  34.9220,2,     -999,9,    309.5,2,     -999,9,     -999,9,     -999,9,     -999,9,     -999,9,     -999,9,20140616,1551,  59.8080, -42.2380
35PK20140515  ,OVIDE-A25  ,52      ,  1,21         ,21         ,20140616,1512,  59.8080, -42.2380,     1210,      5.4,2,   6.2930,2,  34.9220,2,     -999,9,    309.5,2,     -999,9,     -999,9,     -999,9,     -999,9,     -999,9,     -999,9,20140616,1551,  59.8080, -42.2380
35PK20140515  ,OVIDE-A25  ,52      ,  1,23         ,23         ,20140616,1512,  59.8080, -42.2380,     1210,      5.4,2,   6.2910,2,  34.9220,2,     -999,9,    309.5,2,     -999,9,     -999,9,     -999,9,     -999,9,     -999,9,     -999,9,20140616,1551,  59.8080, -42.2380
35PK20140515  ,OVIDE-A25  ,52      ,  1,22         ,22         ,20140616,1512,  59.8080, -42.2380,     1210,      5.4,2,   6.2870,2,  34.9220,2,     -999,9,    309.5,2,     -999,9,     -999,9,     -999,9,     -999,9,     -999,9,     -999,9,20140616,1551,  59.8080, -42.2380
35PK20140515  ,OVIDE-A25  ,52      ,  1,18         ,18         ,20140616,1512,  59.8080, -42.2380,     1210,     10.8,2,   6.0070,2,  34.9050,2,  34.9050,2,    307.8,2,     -999,9,     4.57,2,     9.50,2,     0.53,2,     -999,9,     -999,9,20140616,1550,  59.8080, -42.2380
35PK20140515  ,OVIDE-A25  ,52      ,  1,17         ,17         ,20140616,1512,  59.8080, -42.2380,     1210,     25.5,2,   5.7530,2,  34.8850,2,  34.8850,2,    306.7,2,     -999,9,     4.98,2,     9.92,2,     0.60,2,     -999,9,     -999,9,20140616,1548,  59.8080, -42.2380
35PK20140515  ,OVIDE-A25  ,52      ,  1,16         ,16         ,20140616,1512,  59.8080, -42.2380,     1210,     49.4,2,   5.1560,2,  34.8530,2,  34.8540,2,    303.0,2,    302.8,2,     5.95,2,    11.81,2,     -999,9,     -999,9,   7.7700,2,20140616,1546,  59.8080, -42.2380
35PK20140515  ,OVIDE-A25  ,52      ,  1,15         ,15         ,20140616,1512,  59.8080, -42.2380,     1210,     74.4,2,   4.9480,2,  34.8390,2,  34.8390,2,    302.4,2,     -999,9,     5.87,2,    12.17,2,     -999,9,     -999,9,     -999,9,20140616,1545,  59.8080, -42.2380
35PK20140515  ,OVIDE-A25  ,52      ,  1,14         ,14         ,20140616,1512,  59.8080, -42.2380,     1210,    100.1,2,   4.8900,2,  34.8360,2,  34.8360,2,    301.7,2,    301.3,2,     5.95,2,    12.31,2,     -999,9,   2303.7,2,   7.7610,2,20140616,1543,  59.8080, -42.2380
35PK20140515  ,OVIDE-A25  ,52      ,  1,13         ,13         ,20140616,1512,  59.8080, -42.2380,     1210,    149.1,2,   4.9000,2,  34.8440,2,  34.8440,2,    301.0,2,    300.7,2,     5.77,2,    12.40,2,     -999,9,     -999,9,   7.7610,2,20140616,1542,  59.8080, -42.2380
35PK20140515  ,OVIDE-A25  ,52      ,  1,12         ,12         ,20140616,1512,  59.8080, -42.2380,     1210,    199.3,2,   5.1030,2,  34.8880,2,  34.8880,2,    296.6,2,    296.4,2,     6.25,2,    13.13,2,     -999,9,   2305.3,2,   7.7570,2,20140616,1540,  59.8080, -42.2380
35PK20140515  ,OVIDE-A25  ,52      ,  1,11         ,11         ,20140616,1512,  59.8080, -42.2380,     1210,    300.3,2,   5.1610,2,  34.9070,2,  34.9080,2,    294.5,2,    294.4,2,     6.70,2,    13.64,2,     -999,9,   2306.0,2,   7.7550,2,20140616,1537,  59.8080, -42.2380
35PK20140515  ,OVIDE-A25  ,52      ,  1,10         ,10         ,20140616,1512,  59.8080, -42.2380,     1210,    400.7,2,   5.1800,2,  34.9250,2,  34.9250,2,    292.2,2,    293.5,2,     6.94,2,    14.24,2,     -999,9,   2306.1,2,   7.7510,2,20140616,1534,  59.8080, -42.2380
35PK20140515  ,OVIDE-A25  ,52      ,  1,9          ,9          ,20140616,1512,  59.8080, -42.2380,     1210,    499.8,2,   5.1440,2,  34.9260,2,  34.9260,2,    291.8,2,    292.7,2,     7.05,2,    14.25,2,     -999,9,     -999,9,   7.7480,2,20140616,1532,  59.8080, -42.2380
35PK20140515  ,OVIDE-A25  ,52      ,  1,8          ,8          ,20140616,1512,  59.8080, -42.2380,     1210,    600.0,2,   5.1100,2,  34.9360,2,  34.9360,2,    288.6,2,    290.1,2,     7.06,2,    14.22,2,     0.27,2,   2304.9,2,   7.7460,2,20140616,1529,  59.8080, -42.2380
35PK20140515  ,OVIDE-A25  ,52      ,  1,7          ,7          ,20140616,1512,  59.8080, -42.2380,     1210,    700.4,2,   4.9980,2,  34.9500,2,  34.9490,2,    285.1,2,    285.7,2,     7.50,2,    14.94,2,     0.05,2,     -999,9,   7.7400,2,20140616,1526,  59.8080, -42.2380
35PK20140515  ,OVIDE-A25  ,52      ,  1,6          ,6          ,20140616,1512,  59.8080, -42.2380,     1210,    798.6,2,   4.8070,2,  34.9460,2,  34.9470,2,    282.8,2,    283.6,2,     7.85,2,    15.24,2,     0.02,2,   2306.1,2,   7.7340,2,20140616,1524,  59.8080, -42.2380
35PK20140515  ,OVIDE-A25  ,52      ,  1,5          ,5          ,20140616,1512,  59.8080, -42.2380,     1210,    900.5,2,   4.4260,2,  34.9350,2,  34.9360,2,    280.5,2,    282.6,2,     8.24,2,    15.51,2,     0.00,2,     -999,9,   7.7260,2,20140616,1521,  59.8080, -42.2380
35PK20140515  ,OVIDE-A25  ,52      ,  1,4          ,4          ,20140616,1512,  59.8080, -42.2380,     1210,   1000.1,2,   4.1810,2,  34.9270,2,  34.9270,2,    280.3,2,    281.5,2,     8.62,2,    15.72,2,     0.00,2,   2304.6,2,   7.7240,2,20140616,1518,  59.8080, -42.2380
35PK20140515  ,OVIDE-A25  ,52      ,  1,3          ,3          ,20140616,1512,  59.8080, -42.2380,     1210,   1101.0,2,   3.9980,2,  34.9250,2,  34.9250,2,    279.3,2,    280.8,2,     9.09,2,    15.73,2,     0.01,2,     -999,9,   7.7220,2,20140616,1515,  59.8080, -42.2380
35PK20140515  ,OVIDE-A25  ,52      ,  1,2          ,2          ,20140616,1512,  59.8080, -42.2380,     1210,   1200.0,2,   3.7110,2,  34.9230,2,  34.9230,2,    279.3,2,    280.5,2,     9.46,2,    15.67,2,     0.01,2,   2305.1,2,   7.7230,2,20140616,1512,  59.8080, -42.2380
35PK20140515  ,OVIDE-A25  ,52      ,  1,1          ,1          ,20140616,1512,  59.8080, -42.2380,     1210,   1200.2,2,   3.7130,2,  34.9230,2,  34.9230,2,    279.3,2,    281.0,2,     9.66,2,    15.57,2,     0.01,2,     -999,9,   7.7260,2,20140616,1512,  59.8080, -42.2380