BOTTLE,20240403CCHHYDRO
EXPOCODE,SECT_ID,STNNBR,CASTNO,SAMPNO,BTLNBR,DATE,TIME,LATITUDE,LONGITUDE,DEPTH,CTDPRS,CTDPRS_FLAG_W,CTDTMP,CTDTMP_FLAG_W,CTDSAL,CTDSAL_FLAG_W,SALNTY,SALNTY_FLAG_W,CTDOXY,CTDOXY_FLAG_W,OXYGEN,OXYGEN_FLAG_W,SILCAT,SILCAT_FLAG_W,NITRAT,NITRAT_FLAG_W,NITRIT,NITRIT_FLAG_W,ALKALI,ALKALI_FLAG_W,PH_TOT,PH_TOT_FLAG_W,BTL_DATE,BTL_TIME,BTL_LAT,BTL_LON
,,,,,,,,,,METERS,DBAR,,ITS-90,,PSS-78,,PSS-78,,UMOL/KG,,UMOL/KG,,UMOL/KG,,UMOL/KG,,UMOL/KG,,UMOL/KG,,,,,,,
35PK20140515  ,OVIDE-A25  ,37      ,  1,21         ,21         ,20140610,1505,  58.5500, -30.3620,     1607,      4.9,2,   9.5080,2,  35.0600,2,     -999,9,    294.3,2,     -999,9,     -999,9,     -999,9,     -999,9,     -999,9,     -999,9,20140610,1553,  58.5500, -30.3620
35PK20140515  ,OVIDE-A25  ,37      ,  1,23         ,23         ,20140610,1505,  58.5500, -30.3620,     1607,      4.9,2,   9.5070,2,  35.0610,2,     -999,9,    294.3,2,     -999,9,     -999,9,     -999,9,     -999,9,     -999,9,     -999,9,20140610,1553,  58.5500, -30.3620
35PK20140515  ,OVIDE-A25  ,37      ,  1,20         ,20         ,20140610,1505,  58.5500, -30.3620,     1607,      4.9,2,   9.5070,2,  35.0600,2,     -999,9,    294.3,2,     -999,9,     -999,9,     -999,9,     -999,9,     -999,9,     -999,9,20140610,1553,  58.5500, -30.3620
35PK20140515  ,OVIDE-A25  ,37      ,  1,19         ,19         ,20140610,1505,  58.5500, -30.3620,     1607,      5.0,2,   9.5070,2,  35.0610,2,  35.0610,2,    294.3,2,    294.6,2,     0.51,2,     6.84,2,     0.15,2,   2310.9,2,   7.8440,2,20140610,1553,  58.5500, -30.3620
35PK20140515  ,OVIDE-A25  ,37      ,  1,22         ,22         ,20140610,1505,  58.5500, -30.3620,     1607,      5.0,2,   9.5080,2,  35.0600,2,     -999,9,    294.3,2,     -999,9,     -999,9,     -999,9,     -999,9,     -999,9,     -999,9,20140610,1553,  58.5500, -30.3620
35PK20140515  ,OVIDE-A25  ,37      ,  1,24         ,24         ,20140610,1505,  58.5500, -30.3620,     1607,      5.1,2,   9.5070,2,  35.0610,2,     -999,9,    294.3,2,     -999,9,     -999,9,     -999,9,     -999,9,     -999,9,     -999,9,20140610,1554,  58.5500, -30.3620
35PK20140515  ,OVIDE-A25  ,37      ,  1,18         ,18         ,20140610,1505,  58.5500, -30.3620,     1607,     41.3,2,   8.6850,2,  35.0830,2,  35.0840,2,    295.9,2,    297.1,2,     1.16,2,     8.04,2,     0.27,2,     -999,9,   7.8550,2,20140610,1551,  58.5500, -30.3620
35PK20140515  ,OVIDE-A25  ,37      ,  1,17         ,17         ,20140610,1505,  58.5500, -30.3620,     1607,    101.0,2,   7.6500,2,  35.1140,2,  35.1140,2,    273.6,2,    273.9,2,     5.75,2,    13.74,2,     0.17,2,   2316.0,2,   7.7740,2,20140610,1548,  58.5500, -30.3620
35PK20140515  ,OVIDE-A25  ,37      ,  1,16         ,16         ,20140610,1505,  58.5500, -30.3620,     1607,    149.4,2,   7.5920,2,  35.1210,2,  35.1260,2,    272.3,2,    273.6,2,     6.03,2,    13.89,2,     0.02,2,     -999,9,   7.7760,2,20140610,1546,  58.5500, -30.3620
35PK20140515  ,OVIDE-A25  ,37      ,  1,15         ,15         ,20140610,1505,  58.5500, -30.3620,     1607,    200.7,2,   7.4110,2,  35.1100,2,  35.1080,2,    269.9,2,    272.4,2,     6.26,2,    14.24,2,     0.02,2,   2315.8,2,   7.7710,2,20140610,1544,  58.5500, -30.3620
35PK20140515  ,OVIDE-A25  ,37      ,  1,14         ,14         ,20140610,1505,  58.5500, -30.3620,     1607,    301.0,2,   7.2350,2,  35.1000,2,  35.1000,2,    264.9,2,    267.7,2,     6.59,2,    14.55,2,     0.02,2,   2314.7,2,   7.7650,2,20140610,1542,  58.5500, -30.3620
35PK20140515  ,OVIDE-A25  ,37      ,  1,13         ,13         ,20140610,1505,  58.5500, -30.3620,     1607,    400.2,2,   7.0110,2,  35.0920,2,  35.0930,2,    246.3,2,    249.1,2,     8.00,2,    16.16,2,     0.01,2,   2314.4,2,   7.7430,2,20140610,1539,  58.5500, -30.3620
35PK20140515  ,OVIDE-A25  ,37      ,  1,12         ,12         ,20140610,1505,  58.5500, -30.3620,     1607,    499.6,2,   6.6210,2,  35.0920,2,  35.0880,2,    233.0,2,    235.7,2,     9.31,2,    17.32,2,     0.01,2,   2315.6,2,   7.7230,2,20140610,1536,  58.5500, -30.3620
35PK20140515  ,OVIDE-A25  ,37      ,  1,11         ,11         ,20140610,1505,  58.5500, -30.3620,     1607,    600.5,2,   5.9780,2,  35.0650,2,  35.0640,2,    232.2,2,    234.8,2,    10.22,2,    18.02,2,     0.01,2,   2313.7,2,   7.7130,2,20140610,1534,  58.5500, -30.3620
35PK20140515  ,OVIDE-A25  ,37      ,  1,10         ,10         ,20140610,1505,  58.5500, -30.3620,     1607,    700.4,2,   5.2880,2,  35.0260,2,  35.0260,2,    243.2,2,    245.9,2,    10.27,2,    17.85,2,     0.00,2,     -999,9,   7.7100,2,20140610,1531,  58.5500, -30.3620
35PK20140515  ,OVIDE-A25  ,37      ,  1,9          ,9          ,20140610,1505,  58.5500, -30.3620,     1607,    800.3,2,   4.9950,2,  35.0150,2,  35.0150,2,    251.3,2,    253.4,2,    10.07,2,    17.45,2,     0.00,2,   2310.2,2,   7.7140,2,20140610,1528,  58.5500, -30.3620
35PK20140515  ,OVIDE-A25  ,37      ,  1,8          ,8          ,20140610,1505,  58.5500, -30.3620,     1607,    900.0,2,   4.6140,2,  34.9900,2,  34.9900,2,    259.1,2,    261.2,2,    10.14,2,    17.17,2,     0.00,2,     -999,9,   7.7170,2,20140610,1525,  58.5500, -30.3620
35PK20140515  ,OVIDE-A25  ,37      ,  1,7          ,7          ,20140610,1505,  58.5500, -30.3620,     1607,   1001.2,2,   4.1370,2,  34.9480,2,  34.9480,2,    267.0,2,    268.6,2,    10.29,2,    17.12,2,     0.00,2,   2306.2,2,   7.7180,2,20140610,1522,  58.5500, -30.3620
35PK20140515  ,OVIDE-A25  ,37      ,  1,6          ,6          ,20140610,1505,  58.5500, -30.3620,     1607,   1100.9,2,   3.9880,2,  34.9510,2,  34.9510,2,    268.0,2,    269.7,2,    10.47,2,    16.97,2,     0.00,2,     -999,9,   7.7210,2,20140610,1520,  58.5500, -30.3620
35PK20140515  ,OVIDE-A25  ,37      ,  1,5          ,5          ,20140610,1505,  58.5500, -30.3620,     1607,   1200.1,2,   3.9040,2,  34.9720,2,  34.9730,2,    268.0,2,    269.8,2,    10.64,2,    16.64,2,     0.00,2,   2307.4,2,   7.7240,2,20140610,1517,  58.5500, -30.3620
35PK20140515  ,OVIDE-A25  ,37      ,  1,4          ,4          ,20140610,1505,  58.5500, -30.3620,     1607,   1300.6,2,   3.8060,2,  34.9750,2,  34.9750,2,    268.6,2,    270.5,2,    10.72,2,    16.51,2,     0.01,2,     -999,9,   7.7240,2,20140610,1514,  58.5500, -30.3620
35PK20140515  ,OVIDE-A25  ,37      ,  1,3          ,3          ,20140610,1505,  58.5500, -30.3620,     1607,   1400.4,2,   3.6940,2,  34.9790,2,  34.9800,2,    269.6,2,    271.5,2,    10.72,2,    16.49,2,     0.00,2,   2308.0,2,   7.7260,2,20140610,1511,  58.5500, -30.3620
35PK20140515  ,OVIDE-A25  ,37      ,  1,2          ,2          ,20140610,1505,  58.5500, -30.3620,     1607,   1500.2,2,   3.6480,2,  34.9820,2,  34.9820,2,    269.8,2,    272.2,2,    10.89,2,    16.42,2,     0.00,2,     -999,9,   7.7250,2,20140610,1508,  58.5500, -30.3620
35PK20140515  ,OVIDE-A25  ,37      ,  1,1          ,1          ,20140610,1505,  58.5500, -30.3620,     1607,   1596.8,2,   3.6170,2,  34.9830,2,  34.9830,2,    270.2,2,    272.8,2,    10.93,2,    16.35,2,     0.00,2,   2308.7,2,   7.7240,2,20140610,1505,  58.5500, -30.3620
35PK20140515  ,OVIDE-A25  ,38      ,  1,23         ,23         ,20140610,1956,  58.8430, -31.2670,     1373,      4.6,2,   9.2440,2,  35.0580,2,  35.0580,2,    296.3,2,    296.9,2,     0.50,2,     6.93,2,     0.14,2,     -999,9,   7.8600,2,20140610,2044,  58.8430, -31.2660
35PK20140515  ,OVIDE-A25  ,38      ,  1,24         ,24         ,20140610,1956,  58.8430, -31.2670,     1373,      4.7,2,   9.2430,2,  35.0580,2,     -999,9,    296.3,2,     -999,9,     -999,9,     -999,9,     -999,9,     -999,9,     -999,9,20140610,2044,  58.8430, -31.2660
35PK20140515  ,OVIDE-A25  ,38      ,  1,22         ,22         ,20140610,1956,  58.8430, -31.2670,     1373,      9.4,2,   9.2440,2,  35.0580,2,     -999,9,    296.6,2,     -999,9,     0.59,2,     6.91,2,     0.13,2,     -999,9,     -999,9,20140610,2043,  58.8430, -31.2660
35PK20140515  ,OVIDE-A25  ,38      ,  1,21         ,21         ,20140610,1956,  58.8430, -31.2670,     1373,     20.3,2,   9.2460,2,  35.0580,2,     -999,9,    296.5,2,     -999,9,     0.51,2,     6.94,2,     0.13,2,     -999,9,     -999,9,20140610,2041,  58.8430, -31.2660
35PK20140515  ,OVIDE-A25  ,38      ,  1,20         ,20         ,20140610,1956,  58.8430, -31.2670,     1373,     30.4,2,   9.2250,2,  35.0590,2,     -999,9,    296.4,2,     -999,9,     0.63,2,     7.30,2,     0.15,2,     -999,9,     -999,9,20140610,2040,  58.8430, -31.2660
35PK20140515  ,OVIDE-A25  ,38      ,  1,19         ,19         ,20140610,1956,  58.8430, -31.2670,     1373,     40.0,2,   8.6830,2,  35.0670,2,     -999,9,    295.5,2,     -999,9,     0.94,2,     8.24,2,     0.25,2,     -999,9,     -999,9,20140610,2039,  58.8430, -31.2660
35PK20140515  ,OVIDE-A25  ,38      ,  1,18         ,18         ,20140610,1956,  58.8430, -31.2670,     1373,     50.4,2,   8.2350,2,  35.0720,2,     -999,9,    293.1,2,     -999,9,     -999,9,     -999,9,     -999,9,     -999,9,     -999,9,20140610,2038,  58.8430, -31.2660
35PK20140515  ,OVIDE-A25  ,38      ,  1,17         ,17         ,20140610,1956,  58.8430, -31.2670,     1373,     50.4,2,   8.2340,2,  35.0720,2,  35.0740,2,    293.1,2,    293.4,2,     1.18,2,     8.62,2,     0.39,2,     -999,9,   7.8400,2,20140610,2038,  58.8430, -31.2660
35PK20140515  ,OVIDE-A25  ,38      ,  1,16         ,16         ,20140610,1956,  58.8430, -31.2670,     1373,     60.2,2,   7.9580,2,  35.0740,2,     -999,9,    290.1,2,     -999,9,     1.71,2,     9.34,2,     0.66,2,     -999,9,     -999,9,20140610,2037,  58.8430, -31.2660
35PK20140515  ,OVIDE-A25  ,38      ,  1,15         ,15         ,20140610,1956,  58.8430, -31.2670,     1373,     80.3,2,   7.8560,2,  35.0990,2,     -999,9,    279.8,2,     -999,9,     3.49,2,    12.00,2,     -999,9,     -999,9,     -999,9,20140610,2035,  58.8430, -31.2660
35PK20140515  ,OVIDE-A25  ,38      ,  1,14         ,14         ,20140610,1956,  58.8430, -31.2670,     1373,    100.4,2,   7.5270,2,  35.1000,2,     -999,9,    273.5,2,     -999,9,     -999,9,     -999,9,     -999,9,     -999,9,     -999,9,20140610,2034,  58.8430, -31.2660
35PK20140515  ,OVIDE-A25  ,38      ,  1,13         ,13         ,20140610,1956,  58.8430, -31.2670,     1373,    100.6,2,   7.5240,2,  35.1010,2,  35.1010,2,    273.3,2,    273.4,2,     5.75,2,    13.94,2,     0.18,2,     -999,9,   7.7720,2,20140610,2034,  58.8430, -31.2660
35PK20140515  ,OVIDE-A25  ,38      ,  1,12         ,12         ,20140610,1956,  58.8430, -31.2670,     1373,    150.0,2,   7.3430,2,  35.0950,2,  35.0950,2,    274.0,2,     -999,9,     6.25,2,    14.16,2,     0.04,2,     -999,9,   7.7720,2,20140610,2032,  58.8430, -31.2660
35PK20140515  ,OVIDE-A25  ,38      ,  1,11         ,11         ,20140610,1956,  58.8430, -31.2670,     1373,    200.6,2,   7.2670,2,  35.0930,2,  35.0940,2,    275.1,2,    276.7,2,     6.28,2,    14.22,2,     0.03,2,     -999,9,   7.7740,2,20140610,2030,  58.8430, -31.2660
35PK20140515  ,OVIDE-A25  ,38      ,  1,10         ,10         ,20140610,1956,  58.8430, -31.2670,     1373,    300.0,2,   6.9190,2,  35.0500,2,  35.0500,2,    276.6,2,    277.7,2,     6.41,2,    14.43,2,     0.02,2,     -999,9,   7.7680,2,20140610,2027,  58.8430, -31.2660
35PK20140515  ,OVIDE-A25  ,38      ,  1,9          ,9          ,20140610,1956,  58.8430, -31.2670,     1373,    400.3,2,   6.7900,2,  35.0610,2,  35.0610,2,    278.0,2,    278.9,2,     6.45,2,    14.66,2,     0.01,2,     -999,9,   7.7650,2,20140610,2024,  58.8430, -31.2660
35PK20140515  ,OVIDE-A25  ,38      ,  1,8          ,8          ,20140610,1956,  58.8430, -31.2670,     1373,    500.4,2,   6.6930,2,  35.0730,2,  35.0730,2,    253.6,2,    254.2,2,     8.14,2,    16.25,2,     0.01,2,     -999,9,   7.7430,2,20140610,2021,  58.8430, -31.2660
35PK20140515  ,OVIDE-A25  ,38      ,  1,7          ,7          ,20140610,1956,  58.8430, -31.2670,     1373,    574.9,2,   6.4000,2,  35.0750,2,  35.0750,2,    237.8,2,    240.1,2,     9.60,2,    17.28,2,     0.01,2,     -999,9,   7.7270,2,20140610,2018,  58.8430, -31.2660
35PK20140515  ,OVIDE-A25  ,38      ,  1,6          ,6          ,20140610,1956,  58.8430, -31.2670,     1373,    650.0,2,   6.0470,2,  35.0650,2,  35.0650,2,    234.0,2,    236.1,2,    10.16,2,    17.76,2,     0.01,2,     -999,9,   7.7160,2,20140610,2016,  58.8430, -31.2660
35PK20140515  ,OVIDE-A25  ,38      ,  1,5          ,5          ,20140610,1956,  58.8430, -31.2670,     1373,    700.3,2,   5.8410,2,  35.0680,2,  35.0670,2,    238.1,2,    239.2,2,    10.17,2,    17.61,2,     0.01,2,     -999,9,   7.7160,2,20140610,2014,  58.8430, -31.2660
35PK20140515  ,OVIDE-A25  ,38      ,  1,4          ,4          ,20140610,1956,  58.8430, -31.2670,     1373,    800.4,2,   5.2230,2,  35.0320,2,  35.0320,2,    248.2,2,    249.5,2,    10.10,2,    17.39,2,     0.00,2,     -999,9,   7.7170,2,20140610,2010,  58.8430, -31.2660
35PK20140515  ,OVIDE-A25  ,38      ,  1,3          ,3          ,20140610,1956,  58.8430, -31.2670,     1373,   1000.5,2,   4.3560,2,  34.9880,2,  34.9890,2,    263.6,2,    265.2,2,    10.07,2,    16.74,2,     0.00,2,     -999,9,   7.7260,2,20140610,2005,  58.8430, -31.2660
35PK20140515  ,OVIDE-A25  ,38      ,  1,2          ,2          ,20140610,1956,  58.8430, -31.2670,     1373,   1201.4,2,   4.0260,2,  34.9900,2,  34.9900,2,    266.8,2,    268.1,2,    10.36,2,    16.39,2,     0.00,2,     -999,9,   7.7240,2,20140610,2000,  58.8430, -31.2660
35PK20140515  ,OVIDE-A25  ,38      ,  1,1          ,1          ,20140610,1956,  58.8430, -31.2670,     1373,   1363.0,2,   4.0130,2,  34.9920,2,  34.9940,2,    266.7,2,    267.9,2,    10.68,2,    16.34,2,     0.00,2,     -999,9,   7.7140,2,20140610,1956,  58.8430, -31.2670