BOTTLE,20240403CCHHYDRO
# For information on how to cite this dataset, please visit cchdo.ucsd.edu
# 
# Dataset isBasedOn: http://doi.org/10.17882/54653
# Data source: Fiz Perez 2023/09/18
# SHIP: Pourquoi Pas? ;
# Cruise: GEOVIDE; http://dx.doi.org/10.17600/14000200
# Region: North Atlantic;
# Section ID: OVIDE; GO-SHIP A25; A01W; GEOTRACES GA01;
# EXPOCODE: 35PK20140515 ;
# DATES: May 15 - Jun 30
# Chief Scientist:Geraldine Sarthou and Pascale Lherminier ;
# 76 stations with 24 bottles;
# See also:  http://doi.org/10.17882/46448 for additional OVIDE cruise information & data ;
# Hydro: Who - P.Lherminier; Status - final
# 	Notes: rcd. 2017/06/30
# 	Final CTDOXY values rcd 6/30/17 
# Nutrients: Who - P.Treguer; Status -
# 	Notes: final on 2020/03/13;
# O2: Who - P.Lherminier; Status - final
# 	Notes: rcd. 2017/06/30 ;
# TA: Who - F.Perez; Status - final
# 	Notes: Rcd 8/24/16 ;
# pH: Who - F.Perez; Status - final
# 	Notes: total scale at 25C ;
# 	Notes: 2023/09/18: corrections on flags only;
# 	Rcd 2023/09/18;"
# 	See Garcia-Ibanez"
# Other: suite of GEOTRACES measurements ;
# References that have used data from this cruise:
# Garcia-Ibanez
# Sarthou Geraldine
# Perez Fiz
EXPOCODE,SECT_ID,STNNBR,CASTNO,SAMPNO,BTLNBR,DATE,TIME,LATITUDE,LONGITUDE,DEPTH,CTDPRS,CTDPRS_FLAG_W,CTDTMP,CTDTMP_FLAG_W,CTDSAL,CTDSAL_FLAG_W,SALNTY,SALNTY_FLAG_W,CTDOXY,CTDOXY_FLAG_W,OXYGEN,OXYGEN_FLAG_W,SILCAT,SILCAT_FLAG_W,NITRAT,NITRAT_FLAG_W,NITRIT,NITRIT_FLAG_W,ALKALI,ALKALI_FLAG_W,PH_TOT,PH_TOT_FLAG_W,BTL_DATE,BTL_TIME,BTL_LAT,BTL_LON
,,,,,,,,,,METERS,DBAR,,ITS-90,,PSS-78,,PSS-78,,UMOL/KG,,UMOL/KG,,UMOL/KG,,UMOL/KG,,UMOL/KG,,UMOL/KG,,,,,,,
35PK20140515  ,OVIDE-A25  ,1       ,  1,24         ,24         ,20140518,2245,  40.3330, -10.0360,     3591,      2.8,2,  16.9250,2,  35.1460,2,  35.1480,2,    249.5,2,    249.7,2,     0.88,2,     0.04,2,     0.00,2,     -999,9,   7.9860,2,20140519,0026,  40.3330, -10.0360
35PK20140515  ,OVIDE-A25  ,1       ,  1,23         ,23         ,20140518,2245,  40.3330, -10.0360,     3591,     16.4,2,  16.1410,2,  35.2760,2,  35.2840,4,    256.1,2,    256.4,2,     0.85,2,     0.03,2,     0.00,2,     -999,9,   7.9760,2,20140519,0025,  40.3330, -10.0360
35PK20140515  ,OVIDE-A25  ,1       ,  1,22         ,22         ,20140518,2245,  40.3330, -10.0360,     3591,     36.9,2,  15.0350,2,  35.4870,2,  35.5400,4,    258.1,2,    255.8,2,     0.54,2,     0.94,2,     0.00,2,     -999,9,   7.9470,2,20140519,0023,  40.3330, -10.0360
35PK20140515  ,OVIDE-A25  ,1       ,  1,21         ,21         ,20140518,2245,  40.3330, -10.0360,     3591,     60.0,2,  13.2930,2,  35.7240,2,  35.7280,2,    242.5,2,    242.7,2,     1.06,2,     4.43,2,     0.00,2,     -999,9,   7.8890,2,20140519,0021,  40.3330, -10.0360
35PK20140515  ,OVIDE-A25  ,1       ,  1,20         ,20         ,20140518,2245,  40.3330, -10.0360,     3591,     99.5,2,  12.9640,2,  35.7370,2,  35.7370,2,    238.4,2,    238.3,2,     1.83,2,     5.87,2,     0.00,2,     -999,9,   7.8740,2,20140519,0019,  40.3330, -10.0360
35PK20140515  ,OVIDE-A25  ,1       ,  1,19         ,19         ,20140518,2245,  40.3330, -10.0360,     3591,    149.4,2,  12.7290,2,  35.7190,2,  35.7190,2,    236.0,2,    236.3,2,     2.12,2,     6.61,2,     0.00,2,     -999,9,   7.8640,2,20140519,0017,  40.3330, -10.0360
35PK20140515  ,OVIDE-A25  ,1       ,  1,18         ,18         ,20140518,2245,  40.3330, -10.0360,     3591,    201.4,2,  12.5100,2,  35.7020,2,  35.7020,2,    230.6,2,    229.8,2,     2.66,2,     7.65,2,     0.00,2,     -999,9,   7.8500,2,20140519,0015,  40.3330, -10.0360
35PK20140515  ,OVIDE-A25  ,1       ,  1,17         ,17         ,20140518,2245,  40.3330, -10.0360,     3591,    300.0,2,  12.0840,2,  35.6740,2,  35.6740,2,    217.9,2,    218.4,2,     3.49,2,     9.70,2,     0.00,2,     -999,9,   7.8230,2,20140519,0010,  40.3330, -10.0360
35PK20140515  ,OVIDE-A25  ,1       ,  1,16         ,16         ,20140518,2245,  40.3330, -10.0360,     3591,    402.1,2,  11.6190,2,  35.6550,2,  35.6580,2,    209.0,2,    210.6,2,     4.58,2,    11.26,2,     0.00,2,     -999,9,   7.8050,2,20140519,0007,  40.3330, -10.0360
35PK20140515  ,OVIDE-A25  ,1       ,  1,15         ,15         ,20140518,2245,  40.3330, -10.0360,     3591,    500.8,2,  11.3330,2,  35.7070,2,  35.7270,4,    192.8,2,    194.4,2,     6.18,2,    12.96,2,     0.00,2,     -999,9,   7.7880,2,20140519,0004,  40.3330, -10.0360
35PK20140515  ,OVIDE-A25  ,1       ,  1,14         ,14         ,20140518,2245,  40.3330, -10.0360,     3591,    600.6,2,  11.4240,2,  35.8420,2,  35.8400,2,    183.7,2,    185.8,2,     7.10,2,    13.43,3,     0.00,2,     -999,9,   7.7950,2,20140519,0001,  40.3330, -10.0360
35PK20140515  ,OVIDE-A25  ,1       ,  1,13         ,13         ,20140518,2245,  40.3330, -10.0360,     3591,    700.8,2,  11.6930,2,  36.0070,2,  36.0100,2,    180.5,2,    182.7,2,     7.24,2,    13.15,3,     0.00,2,     -999,9,   7.8010,2,20140518,2358,  40.3330, -10.0360
35PK20140515  ,OVIDE-A25  ,1       ,  1,12         ,12         ,20140518,2245,  40.3330, -10.0360,     3591,    799.7,2,  11.6350,2,  36.0890,2,  36.0880,2,    179.3,2,    181.4,2,     7.75,2,    13.20,3,     0.00,2,     -999,9,   7.8030,2,20140518,2355,  40.3330, -10.0360
35PK20140515  ,OVIDE-A25  ,1       ,  1,11         ,11         ,20140518,2245,  40.3330, -10.0360,     3591,    901.1,2,  11.4160,2,  36.1330,2,  36.1340,2,    178.7,2,    180.2,2,     8.23,2,    13.42,3,     0.00,2,     -999,9,   7.8020,2,20140518,2351,  40.3330, -10.0360
35PK20140515  ,OVIDE-A25  ,1       ,  1,10         ,10         ,20140518,2245,  40.3330, -10.0360,     3591,   1001.0,2,  11.2280,2,  36.1550,2,  36.1560,2,    178.7,2,    182.9,2,     8.59,2,    13.58,3,     0.00,2,     -999,9,   7.8020,2,20140518,2348,  40.3330, -10.0360
35PK20140515  ,OVIDE-A25  ,1       ,  1,9          ,9          ,20140518,2245,  40.3330, -10.0360,     3591,   1200.8,2,  10.5720,2,  36.1300,2,  36.1290,2,    183.6,2,    185.1,2,     9.43,2,    13.94,3,     0.00,2,     -999,9,   7.7970,2,20140518,2341,  40.3330, -10.0360
35PK20140515  ,OVIDE-A25  ,1       ,  1,8          ,8          ,20140518,2245,  40.3330, -10.0360,     3591,   1400.7,2,   9.0710,2,  35.8920,2,  35.8890,2,    198.8,2,    200.0,2,    10.74,2,    14.61,3,     0.00,2,     -999,9,   7.7810,2,20140518,2336,  40.3330, -10.0360
35PK20140515  ,OVIDE-A25  ,1       ,  1,7          ,7          ,20140518,2245,  40.3330, -10.0360,     3591,   1600.5,2,   6.9850,2,  35.5230,2,  35.5180,4,    220.1,2,    222.1,2,    12.88,2,    15.24,3,     0.00,2,     -999,9,   7.7640,2,20140518,2332,  40.3330, -10.0360
35PK20140515  ,OVIDE-A25  ,1       ,  1,6          ,6          ,20140518,2245,  40.3330, -10.0360,     3591,   1799.7,2,   5.1680,2,  35.2190,2,  35.2190,2,    240.3,2,    241.7,2,    14.82,2,    15.65,3,     0.00,2,     -999,9,   7.7470,2,20140518,2327,  40.3330, -10.0360
35PK20140515  ,OVIDE-A25  ,1       ,  1,5          ,5          ,20140518,2245,  40.3330, -10.0360,     3591,   2001.2,2,   4.1930,2,  35.0880,2,  35.0880,2,    247.6,2,    248.7,2,    18.42,2,    16.09,3,     0.00,2,     -999,9,   7.7460,2,20140518,2322,  40.3330, -10.0360
35PK20140515  ,OVIDE-A25  ,1       ,  1,4          ,4          ,20140518,2245,  40.3330, -10.0360,     3591,   2499.8,2,   3.3080,2,  35.0000,2,  35.0000,2,    245.0,2,    246.9,2,    27.92,2,    17.26,3,     0.00,2,     -999,9,   7.7480,2,20140518,2313,  40.3330, -10.0360
35PK20140515  ,OVIDE-A25  ,1       ,  1,3          ,3          ,20140518,2245,  40.3330, -10.0360,     3591,   3000.7,2,   2.8220,2,  34.9510,2,  34.9510,2,    242.8,2,    245.7,2,    35.18,2,    18.05,3,     0.00,2,     -999,9,   7.7460,2,20140518,2303,  40.3330, -10.0360
35PK20140515  ,OVIDE-A25  ,1       ,  1,2          ,2          ,20140518,2245,  40.3330, -10.0360,     3591,   3250.6,2,   2.6740,2,  34.9330,2,  34.9320,2,    242.0,2,    244.6,2,    38.26,2,    18.40,3,     0.00,2,     -999,9,   7.7460,2,20140518,2258,  40.3330, -10.0360
35PK20140515  ,OVIDE-A25  ,1       ,  1,1          ,1          ,20140518,2245,  40.3330, -10.0360,     3591,   3580.9,2,   2.5690,2,  34.9190,2,  34.9200,2,    240.9,2,    244.4,2,    40.71,2,    18.69,3,     0.00,2,     -999,9,   7.7450,2,20140518,2245,  40.3330, -10.0360
35PK20140515  ,OVIDE-A25  ,2       ,  1,23         ,23         ,20140520,2039,  40.3330,  -9.4600,      151,      6.2,2,  16.8830,2,  34.9480,2,     -999,9,    247.5,2,     -999,9,     -999,9,     -999,9,     -999,9,     -999,9,     -999,9,20140520,2100,  40.3330,  -9.4600
35PK20140515  ,OVIDE-A25  ,2       ,  1,21         ,21         ,20140520,2039,  40.3330,  -9.4600,      151,      6.5,2,  16.8830,2,  34.9480,2,     -999,9,    247.5,2,     -999,9,     -999,9,     -999,9,     -999,9,     -999,9,     -999,9,20140520,2100,  40.3330,  -9.4600
35PK20140515  ,OVIDE-A25  ,2       ,  1,22         ,22         ,20140520,2039,  40.3330,  -9.4600,      151,      6.7,2,  16.8840,2,  34.9480,2,     -999,9,    247.8,2,     -999,9,     -999,9,     -999,9,     -999,9,     -999,9,     -999,9,20140520,2100,  40.3330,  -9.4600
35PK20140515  ,OVIDE-A25  ,2       ,  1,24         ,24         ,20140520,2039,  40.3330,  -9.4600,      151,      6.7,2,  16.8850,2,  34.9460,2,     -999,9,    247.8,2,     -999,9,     -999,9,     -999,9,     -999,9,     -999,9,     -999,9,20140520,2100,  40.3330,  -9.4600
35PK20140515  ,OVIDE-A25  ,2       ,  1,18         ,18         ,20140520,2039,  40.3330,  -9.4600,      151,     11.2,2,  16.8840,2,  34.9590,2,  34.9670,4,    249.3,2,    247.6,2,     -999,9,     -999,9,     -999,9,     -999,9,     -999,9,20140520,2058,  40.3330,  -9.4600
35PK20140515  ,OVIDE-A25  ,2       ,  1,17         ,17         ,20140520,2039,  40.3330,  -9.4600,      151,     11.3,2,  16.8840,2,  34.9830,2,  34.9760,4,    249.3,2,    248.0,2,     0.91,2,     0.05,2,     0.02,2,   2326.1,2,   7.9960,2,20140520,2058,  40.3330,  -9.4600
35PK20140515  ,OVIDE-A25  ,2       ,  1,19         ,19         ,20140520,2039,  40.3330,  -9.4600,      151,     11.3,2,  16.8870,2,  34.9560,2,     -999,9,    249.3,2,     -999,9,     -999,9,     -999,9,     -999,9,     -999,9,     -999,9,20140520,2058,  40.3330,  -9.4600
35PK20140515  ,OVIDE-A25  ,2       ,  1,20         ,20         ,20140520,2039,  40.3330,  -9.4600,      151,     11.4,2,  16.8870,2,  34.9570,2,     -999,9,    249.3,2,     -999,9,     -999,9,     -999,9,     -999,9,     -999,9,     -999,9,20140520,2058,  40.3330,  -9.4600
35PK20140515  ,OVIDE-A25  ,2       ,  1,16         ,16         ,20140520,2039,  40.3330,  -9.4600,      151,     25.8,2,  15.8060,2,  35.2720,2,     -999,9,    262.5,2,     -999,9,     -999,9,     -999,9,     -999,9,     -999,9,     -999,9,20140520,2056,  40.3330,  -9.4600
35PK20140515  ,OVIDE-A25  ,2       ,  1,14         ,14         ,20140520,2039,  40.3330,  -9.4600,      151,     31.2,2,  15.2000,2,  35.3930,2,     -999,9,    264.8,2,     -999,9,     -999,9,     -999,9,     -999,9,     -999,9,     -999,9,20140520,2055,  40.3330,  -9.4600
35PK20140515  ,OVIDE-A25  ,2       ,  1,15         ,15         ,20140520,2039,  40.3330,  -9.4600,      151,     31.2,2,  15.3030,2,  35.3660,2,     -999,9,    264.8,2,     -999,9,     -999,9,     -999,9,     -999,9,     -999,9,     -999,9,20140520,2055,  40.3330,  -9.4600
35PK20140515  ,OVIDE-A25  ,2       ,  1,12         ,12         ,20140520,2039,  40.3330,  -9.4600,      151,     34.3,2,  14.3770,2,  35.6150,2,  35.6210,4,    252.4,2,    255.9,2,     0.36,2,     1.04,2,     0.11,2,   2347.5,2,   7.9390,2,20140520,2053,  40.3330,  -9.4600
35PK20140515  ,OVIDE-A25  ,2       ,  1,13         ,13         ,20140520,2039,  40.3330,  -9.4600,      151,     34.3,2,  14.5230,2,  35.5850,2,  35.5980,4,    256.0,2,    257.5,2,     -999,9,     -999,9,     -999,9,     -999,9,     -999,9,20140520,2054,  40.3330,  -9.4600
35PK20140515  ,OVIDE-A25  ,2       ,  1,10         ,10         ,20140520,2039,  40.3330,  -9.4600,      151,     39.1,2,  13.9770,2,  35.7020,2,     -999,9,    247.9,2,     -999,9,     -999,9,     -999,9,     -999,9,     -999,9,     -999,9,20140520,2051,  40.3330,  -9.4600
35PK20140515  ,OVIDE-A25  ,2       ,  1,11         ,11         ,20140520,2039,  40.3330,  -9.4600,      151,     39.7,2,  13.9680,2,  35.7050,2,     -999,9,    247.7,2,     -999,9,     -999,9,     -999,9,     -999,9,     -999,9,     -999,9,20140520,2051,  40.3330,  -9.4600
35PK20140515  ,OVIDE-A25  ,2       ,  1,9          ,9          ,20140520,2039,  40.3330,  -9.4600,      151,     76.8,2,  13.3780,2,  35.7730,2,     -999,9,    235.3,2,     -999,9,     -999,9,     -999,9,     -999,9,     -999,9,     -999,9,20140520,2048,  40.3330,  -9.4600
35PK20140515  ,OVIDE-A25  ,2       ,  1,8          ,8          ,20140520,2039,  40.3330,  -9.4600,      151,     85.4,2,  13.3190,2,  35.7740,2,     -999,9,    236.2,2,     -999,9,     -999,9,     -999,9,     -999,9,     -999,9,     -999,9,20140520,2047,  40.3330,  -9.4600
35PK20140515  ,OVIDE-A25  ,2       ,  1,7          ,7          ,20140520,2039,  40.3330,  -9.4600,      151,     86.1,2,  13.3200,2,  35.7740,2,     -999,9,    236.4,2,     -999,9,     -999,9,     -999,9,     -999,9,     -999,9,     -999,9,20140520,2047,  40.3330,  -9.4600
35PK20140515  ,OVIDE-A25  ,2       ,  1,5          ,5          ,20140520,2039,  40.3330,  -9.4600,      151,     98.9,2,  13.3220,2,  35.7880,2,  35.7880,2,    238.5,2,    237.4,2,     1.45,2,     5.71,2,     0.03,2,   2349.7,2,   7.8790,2,20140520,2045,  40.3330,  -9.4600
35PK20140515  ,OVIDE-A25  ,2       ,  1,6          ,6          ,20140520,2039,  40.3330,  -9.4600,      151,     99.4,2,  13.3260,2,  35.7880,2,  35.7890,2,    238.5,2,    237.1,2,     -999,9,     -999,9,     -999,9,     -999,9,     -999,9,20140520,2046,  40.3330,  -9.4600
35PK20140515  ,OVIDE-A25  ,2       ,  1,4          ,4          ,20140520,2039,  40.3330,  -9.4600,      151,    121.4,2,  13.1590,2,  35.7710,2,     -999,9,    231.4,2,     -999,9,     -999,9,     -999,9,     -999,9,     -999,9,     -999,9,20140520,2044,  40.3330,  -9.4600
35PK20140515  ,OVIDE-A25  ,2       ,  1,1          ,1          ,20140520,2039,  40.3330,  -9.4600,      151,    141.6,2,  12.9900,2,  35.7570,2,  35.7570,2,    219.3,2,    226.3,4,     3.64,2,     8.04,2,     0.06,2,   2350.0,2,   7.8430,2,20140520,2039,  40.3330,  -9.4600
35PK20140515  ,OVIDE-A25  ,2       ,  1,3          ,3          ,20140520,2039,  40.3330,  -9.4600,      151,    141.7,2,  12.9900,2,  35.7560,2,     -999,9,    219.3,2,     -999,9,     -999,9,     -999,9,     -999,9,     -999,9,     -999,9,20140520,2039,  40.3330,  -9.4600
35PK20140515  ,OVIDE-A25  ,2       ,  1,2          ,2          ,20140520,2039,  40.3330,  -9.4600,      151,    142.0,2,  12.9900,2,  35.7570,2,  35.7580,2,    219.3,2,    219.0,2,     -999,9,     -999,9,     -999,9,     -999,9,     -999,9,20140520,2039,  40.3330,  -9.4600