BOTTLE,20240403CCHHYDRO
EXPOCODE,SECT_ID,STNNBR,CASTNO,SAMPNO,BTLNBR,DATE,TIME,LATITUDE,LONGITUDE,DEPTH,CTDPRS,CTDPRS_FLAG_W,CTDTMP,CTDTMP_FLAG_W,CTDSAL,CTDSAL_FLAG_W,SALNTY,SALNTY_FLAG_W,CTDOXY,CTDOXY_FLAG_W,OXYGEN,OXYGEN_FLAG_W,SILCAT,SILCAT_FLAG_W,NITRAT,NITRAT_FLAG_W,NITRIT,NITRIT_FLAG_W,ALKALI,ALKALI_FLAG_W,PH_TOT,PH_TOT_FLAG_W,BTL_DATE,BTL_TIME,BTL_LAT,BTL_LON
,,,,,,,,,,METERS,DBAR,,ITS-90,,PSS-78,,PSS-78,,UMOL/KG,,UMOL/KG,,UMOL/KG,,UMOL/KG,,UMOL/KG,,UMOL/KG,,,,,,,
35PK20140515  ,OVIDE-A25  ,7       ,  1,24         ,24         ,20140522,0236,  40.3330,  -9.9440,     3436,      4.9,2,  15.9180,2,  35.2320,2,  35.2370,4,    253.4,2,    252.2,2,     0.55,2,     0.05,2,     0.00,2,   2326.3,2,   7.9780,2,20140522,0359,  40.3330,  -9.9440
35PK20140515  ,OVIDE-A25  ,7       ,  1,23         ,23         ,20140522,0236,  40.3330,  -9.9440,     3436,     33.0,2,  14.7570,2,  35.5040,2,  35.5040,2,    262.6,2,    263.1,2,     0.22,2,     0.09,2,     0.03,2,   2338.2,2,   7.9650,2,20140522,0358,  40.3330,  -9.9440
35PK20140515  ,OVIDE-A25  ,7       ,  1,22         ,22         ,20140522,0236,  40.3330,  -9.9440,     3436,     99.6,2,  13.0110,2,  35.7330,2,  35.7330,2,    240.6,2,    240.5,2,     1.53,2,     6.23,2,     0.03,2,   2345.2,2,   7.8760,2,20140522,0353,  40.3330,  -9.9440
35PK20140515  ,OVIDE-A25  ,7       ,  1,21         ,21         ,20140522,0236,  40.3330,  -9.9440,     3436,    142.2,2,  12.7700,2,  35.7220,2,  35.7230,2,    236.5,2,    237.3,2,     2.02,2,     7.40,2,     0.02,2,     -999,9,   7.8650,2,20140522,0351,  40.3330,  -9.9440
35PK20140515  ,OVIDE-A25  ,7       ,  1,20         ,20         ,20140522,0236,  40.3330,  -9.9440,     3436,    199.1,2,  12.4790,2,  35.7070,2,  35.7060,2,    226.6,2,    227.8,2,     2.73,2,     9.25,2,     0.02,2,   2346.8,2,   7.8460,2,20140522,0349,  40.3330,  -9.9440
35PK20140515  ,OVIDE-A25  ,7       ,  1,19         ,19         ,20140522,0236,  40.3330,  -9.9440,     3436,    300.1,2,  12.0430,2,  35.6750,2,  35.6760,2,    217.4,2,    218.2,2,     3.48,2,    11.27,2,     0.02,2,   2344.9,2,   7.8240,2,20140522,0347,  40.3330,  -9.9440
35PK20140515  ,OVIDE-A25  ,7       ,  1,18         ,18         ,20140522,0236,  40.3330,  -9.9440,     3436,    399.4,2,  11.6420,2,  35.6500,2,  35.6500,2,    210.6,2,    211.8,2,     4.27,2,    12.83,2,     0.02,2,   2342.3,2,   7.8080,2,20140522,0344,  40.3330,  -9.9440
35PK20140515  ,OVIDE-A25  ,7       ,  1,17         ,17         ,20140522,0236,  40.3330,  -9.9440,     3436,    500.2,2,  11.3830,2,  35.6840,2,  35.6840,2,    196.0,2,    197.2,2,     5.75,2,    14.70,2,     0.00,2,   2348.3,2,   7.7930,2,20140522,0341,  40.3330,  -9.9440
35PK20140515  ,OVIDE-A25  ,7       ,  1,16         ,16         ,20140522,0236,  40.3330,  -9.9440,     3436,    600.1,2,  11.6550,2,  35.8860,2,  35.8860,2,    184.4,2,    186.0,2,     6.76,2,    15.20,2,     0.00,2,   2362.3,2,   7.7970,2,20140522,0339,  40.3330,  -9.9440
35PK20140515  ,OVIDE-A25  ,7       ,  1,15         ,15         ,20140522,0236,  40.3330,  -9.9440,     3436,    700.4,2,  11.9740,2,  36.0760,2,  36.0780,2,    182.2,2,    183.7,2,     6.93,2,    14.64,2,     0.00,2,     -999,9,   7.8140,2,20140522,0336,  40.3330,  -9.9440
35PK20140515  ,OVIDE-A25  ,7       ,  1,14         ,14         ,20140522,0236,  40.3330,  -9.9440,     3436,    800.6,2,  11.8930,2,  36.1540,2,  36.1550,2,    181.2,2,    182.6,2,     7.33,2,    14.74,2,     0.01,2,   2386.6,2,   7.8110,2,20140522,0334,  40.3330,  -9.9440
35PK20140515  ,OVIDE-A25  ,7       ,  1,13         ,13         ,20140522,0236,  40.3330,  -9.9440,     3436,    899.6,2,  11.7420,2,  36.1980,2,  36.1990,2,    180.0,2,    181.8,2,     7.76,2,    14.99,2,     0.00,2,     -999,9,   7.8080,2,20140522,0331,  40.3330,  -9.9440
35PK20140515  ,OVIDE-A25  ,7       ,  1,12         ,12         ,20140522,0236,  40.3330,  -9.9440,     3436,    999.6,2,  11.5680,2,  36.2260,2,  36.2260,2,    179.7,2,    181.5,2,     8.21,2,    15.24,2,     0.00,2,   2394.9,2,   7.8060,2,20140522,0328,  40.3330,  -9.9440
35PK20140515  ,OVIDE-A25  ,7       ,  1,11         ,11         ,20140522,0236,  40.3330,  -9.9440,     3436,   1199.0,2,  10.6240,2,  36.1270,2,  36.1270,2,    182.7,2,    184.3,2,     9.43,2,    16.28,2,     0.00,2,   2388.9,2,   7.7940,2,20140522,0324,  40.3330,  -9.9440
35PK20140515  ,OVIDE-A25  ,7       ,  1,10         ,10         ,20140522,0236,  40.3330,  -9.9440,     3436,   1400.3,2,   9.3110,2,  35.9430,2,  35.9440,2,    196.0,2,    197.3,2,    10.83,2,    16.75,2,     0.00,2,   2379.0,2,   7.7810,2,20140522,0319,  40.3330,  -9.9440
35PK20140515  ,OVIDE-A25  ,7       ,  1,9          ,9          ,20140522,0236,  40.3330,  -9.9440,     3436,   1599.2,2,   7.0180,2,  35.5340,2,  35.5370,2,    220.1,2,    220.6,2,    12.71,2,    17.72,2,     0.00,2,   2351.3,2,   7.7610,2,20140522,0315,  40.3330,  -9.9440
35PK20140515  ,OVIDE-A25  ,7       ,  1,8          ,8          ,20140522,0236,  40.3330,  -9.9440,     3436,   1800.3,2,   5.1210,2,  35.2270,2,  35.2270,2,    239.9,2,    240.7,2,    15.58,2,    18.44,2,     0.00,2,   2333.8,2,   7.7490,2,20140522,0311,  40.3330,  -9.9440
35PK20140515  ,OVIDE-A25  ,7       ,  1,7          ,7          ,20140522,0236,  40.3330,  -9.9440,     3436,   2001.5,2,   4.1870,2,  35.0900,2,  35.0930,2,    248.2,2,    248.5,2,    18.71,2,    18.88,2,     0.00,2,   2326.2,2,   7.7440,2,20140522,0306,  40.3330,  -9.9440
35PK20140515  ,OVIDE-A25  ,7       ,  1,6          ,6          ,20140522,0236,  40.3330,  -9.9440,     3436,   2249.4,2,   3.6380,2,  35.0310,2,  35.0300,2,    248.4,2,    250.0,2,    23.36,2,    19.52,2,     0.00,2,   2330.0,2,   7.7460,2,20140522,0301,  40.3330,  -9.9440
35PK20140515  ,OVIDE-A25  ,7       ,  1,5          ,5          ,20140522,0236,  40.3330,  -9.9440,     3436,   2499.5,2,   3.3570,2,  35.0040,2,  35.0050,2,    246.5,2,    248.2,2,    26.93,2,    20.21,2,     0.00,2,   2331.4,2,   7.7460,2,20140522,0256,  40.3330,  -9.9440
35PK20140515  ,OVIDE-A25  ,7       ,  1,4          ,4          ,20140522,0236,  40.3330,  -9.9440,     3436,   2749.1,2,   3.0530,2,  34.9760,2,  34.9780,2,    244.4,2,    246.6,2,    32.24,2,    20.85,2,     0.00,2,   2338.3,2,   7.7450,2,20140522,0251,  40.3330,  -9.9440
35PK20140515  ,OVIDE-A25  ,7       ,  1,3          ,3          ,20140522,0236,  40.3330,  -9.9440,     3436,   3001.2,2,   2.8390,2,  34.9520,2,  34.9540,2,    243.9,2,    244.3,2,    35.37,2,    21.22,2,     0.00,2,   2343.7,2,   7.7430,2,20140522,0245,  40.3330,  -9.9440
35PK20140515  ,OVIDE-A25  ,7       ,  1,2          ,2          ,20140522,0236,  40.3330,  -9.9440,     3436,   3249.8,2,   2.6730,2,  34.9340,2,  34.9430,4,    243.4,2,    244.3,2,    38.10,2,    21.51,2,     0.00,2,   2345.2,2,   7.7460,2,20140522,0240,  40.3330,  -9.9440
35PK20140515  ,OVIDE-A25  ,7       ,  1,1          ,1          ,20140522,0236,  40.3330,  -9.9440,     3436,   3426.6,2,   2.6190,2,  34.9260,2,  34.9260,2,    243.2,2,    244.0,2,    39.65,2,    21.71,2,     0.00,2,   2349.2,2,   7.7430,2,20140522,0236,  40.3330,  -9.9440
35PK20140515  ,OVIDE-A25  ,8       ,  1,24         ,24         ,20140522,0636,  40.3330, -10.0360,     3569,      5.6,2,  15.9010,2,  35.2600,2,  35.2620,2,    252.7,2,    251.2,2,     0.62,2,     -999,9,     0.03,2,   2325.1,2,   7.9750,2,20140522,0811,  40.3330, -10.0360
35PK20140515  ,OVIDE-A25  ,8       ,  1,23         ,23         ,20140522,0636,  40.3330, -10.0360,     3569,     39.5,2,  15.2080,2,  35.5220,2,  35.5010,4,    259.4,2,    259.1,2,     0.33,2,     0.13,2,     0.08,2,   2340.3,2,   7.9620,2,20140522,0808,  40.3330, -10.0360
35PK20140515  ,OVIDE-A25  ,8       ,  1,22         ,22         ,20140522,0636,  40.3330, -10.0360,     3569,    101.2,2,  13.0470,2,  35.7340,2,  35.7330,2,    239.8,2,    239.8,2,     1.54,2,     6.18,2,     0.05,2,   2346.4,2,   7.8770,2,20140522,0805,  40.3330, -10.0360
35PK20140515  ,OVIDE-A25  ,8       ,  1,21         ,21         ,20140522,0636,  40.3330, -10.0360,     3569,    150.4,2,  12.7080,2,  35.7110,2,  35.7110,2,    236.3,2,    237.1,2,     2.12,2,     7.53,2,     0.04,2,     -999,9,   7.8620,2,20140522,0803,  40.3330, -10.0360
35PK20140515  ,OVIDE-A25  ,8       ,  1,20         ,20         ,20140522,0636,  40.3330, -10.0360,     3569,    199.7,2,  12.4490,2,  35.6990,2,  35.6990,2,    226.4,2,    227.2,2,     2.70,2,     9.26,2,     0.04,2,   2346.6,2,   7.8460,2,20140522,0801,  40.3330, -10.0360
35PK20140515  ,OVIDE-A25  ,8       ,  1,19         ,19         ,20140522,0636,  40.3330, -10.0360,     3569,    302.6,2,  12.0020,2,  35.6720,2,  35.6720,2,    216.3,2,    216.4,2,     3.53,2,    11.43,2,     0.05,2,   2344.3,2,   7.8190,2,20140522,0758,  40.3330, -10.0360
35PK20140515  ,OVIDE-A25  ,8       ,  1,18         ,18         ,20140522,0636,  40.3330, -10.0360,     3569,    401.4,2,  11.6910,2,  35.6550,2,  35.6540,2,    211.2,2,    212.1,2,     4.19,2,    12.51,2,     0.04,2,   2342.6,2,   7.8100,2,20140522,0755,  40.3330, -10.0360
35PK20140515  ,OVIDE-A25  ,8       ,  1,17         ,17         ,20140522,0636,  40.3330, -10.0360,     3569,    501.8,2,  11.4270,2,  35.6740,2,  35.6740,2,    198.5,2,    199.3,2,     5.45,2,    14.26,2,     0.03,2,   2345.6,2,   7.7960,2,20140522,0752,  40.3330, -10.0360
35PK20140515  ,OVIDE-A25  ,8       ,  1,16         ,16         ,20140522,0636,  40.3330, -10.0360,     3569,    602.9,2,  11.4460,2,  35.8140,2,  35.8140,2,    184.6,2,    185.4,2,     6.73,2,    15.57,2,     0.03,2,   2357.0,2,   7.7900,2,20140522,0749,  40.3330, -10.0360
35PK20140515  ,OVIDE-A25  ,8       ,  1,15         ,15         ,20140522,0636,  40.3330, -10.0360,     3569,    704.3,2,  11.6210,2,  35.9470,2,  35.9470,2,    180.7,2,    181.3,2,     7.14,2,    15.50,2,     0.03,2,     -999,9,   7.7970,2,20140522,0746,  40.3330, -10.0360
35PK20140515  ,OVIDE-A25  ,8       ,  1,14         ,14         ,20140522,0636,  40.3330, -10.0360,     3569,    804.3,2,  11.6160,2,  36.0790,2,  36.0800,2,    179.3,2,    180.3,2,     7.63,2,    15.54,2,     0.03,2,   2381.6,2,   7.8020,2,20140522,0742,  40.3330, -10.0360
35PK20140515  ,OVIDE-A25  ,8       ,  1,13         ,13         ,20140522,0636,  40.3330, -10.0360,     3569,    902.5,2,  11.4220,2,  36.1240,2,  36.1250,2,    178.5,2,    179.9,2,     8.04,2,    16.00,2,     0.03,2,   2384.2,2,   7.8000,2,20140522,0739,  40.3330, -10.0360
35PK20140515  ,OVIDE-A25  ,8       ,  1,12         ,12         ,20140522,0636,  40.3330, -10.0360,     3569,   1000.1,2,  11.4130,2,  36.2030,2,  36.2020,2,    178.7,2,    179.7,2,     8.33,2,    16.05,2,     0.03,2,   2392.3,2,   7.8040,2,20140522,0736,  40.3330, -10.0360
35PK20140515  ,OVIDE-A25  ,8       ,  1,11         ,11         ,20140522,0636,  40.3330, -10.0360,     3569,   1053.0,2,  11.1190,2,  36.1560,2,  36.1560,2,    178.6,2,    179.3,2,     8.77,2,    15.35,2,     0.03,2,   2390.4,2,   7.7960,2,20140522,0734,  40.3330, -10.0360
35PK20140515  ,OVIDE-A25  ,8       ,  1,10         ,10         ,20140522,0636,  40.3330, -10.0360,     3569,   1404.3,2,   9.4630,2,  35.9610,2,  35.9610,2,    194.8,2,    194.7,2,    10.29,2,    15.67,2,     0.03,2,   2378.7,2,   7.7850,2,20140522,0727,  40.3330, -10.0360
35PK20140515  ,OVIDE-A25  ,8       ,  1,9          ,9          ,20140522,0636,  40.3330, -10.0360,     3569,   1601.8,2,   7.0420,2,  35.5390,2,  35.5400,2,    219.9,2,    219.3,2,    12.53,2,     -999,9,     -999,9,   2353.3,2,   7.7620,2,20140522,0722,  40.3330, -10.0360
35PK20140515  ,OVIDE-A25  ,8       ,  1,8          ,8          ,20140522,0636,  40.3330, -10.0360,     3569,   1802.2,2,   5.2380,2,  35.2400,2,  35.2430,2,    239.8,2,    238.8,2,    14.93,2,     -999,9,     -999,9,   2333.1,2,   7.7460,2,20140522,0716,  40.3330, -10.0360
35PK20140515  ,OVIDE-A25  ,8       ,  1,7          ,7          ,20140522,0636,  40.3330, -10.0360,     3569,   2001.8,2,   4.3580,2,  35.1090,2,  35.1110,2,    247.9,2,    247.4,2,    17.28,2,    18.69,2,     0.03,2,   2329.5,2,   7.7440,2,20140522,0711,  40.3330, -10.0360
35PK20140515  ,OVIDE-A25  ,8       ,  1,6          ,6          ,20140522,0636,  40.3330, -10.0360,     3569,   2252.7,2,   3.7380,2,  35.0390,2,  35.0400,2,    248.6,2,    248.5,2,    22.11,2,    19.39,2,     0.03,2,   2330.1,2,   7.7450,2,20140522,0705,  40.3330, -10.0360
35PK20140515  ,OVIDE-A25  ,8       ,  1,5          ,5          ,20140522,0636,  40.3330, -10.0360,     3569,   2504.9,2,   3.3780,2,  35.0070,2,  35.0070,2,    246.4,2,    246.2,2,    26.62,2,    20.09,2,     0.03,2,   2336.2,2,   7.7450,2,20140522,0700,  40.3330, -10.0360
35PK20140515  ,OVIDE-A25  ,8       ,  1,4          ,4          ,20140522,0636,  40.3330, -10.0360,     3569,   2751.0,2,   3.0710,2,  34.9770,2,  34.9790,2,    244.8,2,    244.9,2,    31.13,2,    20.72,2,     0.03,2,   2340.1,2,   7.7450,2,20140522,0654,  40.3330, -10.0360
35PK20140515  ,OVIDE-A25  ,8       ,  1,3          ,3          ,20140522,0636,  40.3330, -10.0360,     3569,   3001.2,2,   2.8300,2,  34.9510,2,  34.9510,2,    244.1,2,    244.0,2,    34.83,2,    21.28,2,     0.03,2,   2343.7,2,   7.7450,2,20140522,0648,  40.3330, -10.0360
35PK20140515  ,OVIDE-A25  ,8       ,  1,2          ,2          ,20140522,0636,  40.3330, -10.0360,     3569,   3249.6,2,   2.7070,2,  34.9370,2,  34.9620,4,    243.5,2,    242.5,2,    35.95,2,    21.35,2,     0.03,2,   2345.8,2,   7.7450,2,20140522,0643,  40.3330, -10.0360
35PK20140515  ,OVIDE-A25  ,8       ,  1,1          ,1          ,20140522,0636,  40.3330, -10.0360,     3569,   3559.8,2,   2.5380,2,  34.9170,2,  34.9160,2,    242.5,2,    242.4,2,    41.13,2,    21.99,2,     0.03,2,   2350.7,2,   7.7430,2,20140522,0636,  40.3330, -10.0360