BOTTLE,20240403CCHHYDRO
EXPOCODE,SECT_ID,STNNBR,CASTNO,SAMPNO,BTLNBR,DATE,TIME,LATITUDE,LONGITUDE,DEPTH,CTDPRS,CTDPRS_FLAG_W,CTDTMP,CTDTMP_FLAG_W,CTDSAL,CTDSAL_FLAG_W,SALNTY,SALNTY_FLAG_W,CTDOXY,CTDOXY_FLAG_W,OXYGEN,OXYGEN_FLAG_W,SILCAT,SILCAT_FLAG_W,NITRAT,NITRAT_FLAG_W,NITRIT,NITRIT_FLAG_W,ALKALI,ALKALI_FLAG_W,PH_TOT,PH_TOT_FLAG_W,BTL_DATE,BTL_TIME,BTL_LAT,BTL_LON
,,,,,,,,,,METERS,DBAR,,ITS-90,,PSS-78,,PSS-78,,UMOL/KG,,UMOL/KG,,UMOL/KG,,UMOL/KG,,UMOL/KG,,UMOL/KG,,,,,,,
35PK20140515  ,OVIDE-A25  ,77      ,  1,24         ,24         ,20140625,2212,  53.0000, -51.1000,     2504,      3.5,2,   7.7050,2,  34.5990,2,     -999,9,    317.4,2,    316.2,2,     -999,9,     -999,9,     -999,9,     -999,9,     -999,9,20140625,2323,  53.0000, -51.1000
35PK20140515  ,OVIDE-A25  ,77      ,  1,23         ,23         ,20140625,2212,  53.0000, -51.1000,     2504,      3.5,2,   7.7070,2,  34.6030,2,  34.6020,2,    317.4,2,    317.2,2,     1.06,2,     0.37,2,     0.04,2,     -999,9,   7.9680,2,20140625,2323,  53.0000, -51.1000
35PK20140515  ,OVIDE-A25  ,77      ,  1,22         ,22         ,20140625,2212,  53.0000, -51.1000,     2504,     23.8,2,   6.2730,2,  34.6600,2,  34.6620,2,    322.9,2,    323.5,2,     3.50,2,     3.15,2,     0.13,2,     -999,9,   7.8800,2,20140625,2321,  53.0000, -51.1000
35PK20140515  ,OVIDE-A25  ,77      ,  1,21         ,21         ,20140625,2212,  53.0000, -51.1000,     2504,     40.3,2,   4.8070,2,  34.6660,2,  34.6670,2,    323.1,2,    323.1,2,     5.85,2,     6.88,2,     0.27,2,     -999,9,   7.8140,2,20140625,2320,  53.0000, -51.1000
35PK20140515  ,OVIDE-A25  ,77      ,  1,20         ,20         ,20140625,2212,  53.0000, -51.1000,     2504,    100.2,2,   3.5580,2,  34.7760,2,  34.7740,2,    312.3,2,    311.9,2,     7.85,2,    14.26,2,     -999,9,     -999,9,   7.7340,2,20140625,2316,  53.0000, -51.1000
35PK20140515  ,OVIDE-A25  ,77      ,  1,19         ,19         ,20140625,2212,  53.0000, -51.1000,     2504,    150.5,2,   3.3540,2,  34.7960,2,  34.7970,2,    309.2,2,    317.4,4,     7.95,2,    15.19,2,     -999,9,     -999,9,   7.7260,2,20140625,2315,  53.0000, -51.1000
35PK20140515  ,OVIDE-A25  ,77      ,  1,18         ,18         ,20140625,2212,  53.0000, -51.1000,     2504,    200.7,2,   3.3000,2,  34.8050,2,  34.8050,2,    305.9,2,    306.2,2,     7.98,2,    14.89,2,     0.55,2,     -999,9,   7.7260,2,20140625,2313,  53.0000, -51.1000
35PK20140515  ,OVIDE-A25  ,77      ,  1,17         ,17         ,20140625,2212,  53.0000, -51.1000,     2504,    300.4,2,   3.3510,2,  34.8250,2,  34.8240,2,    304.0,2,    303.5,2,     8.01,2,    15.28,2,     0.23,2,     -999,9,   7.7250,2,20140625,2310,  53.0000, -51.1000
35PK20140515  ,OVIDE-A25  ,77      ,  1,16         ,16         ,20140625,2212,  53.0000, -51.1000,     2504,    401.6,2,   3.4700,2,  34.8530,2,  34.8530,2,    296.9,2,    296.9,2,     8.20,2,    15.83,2,     0.03,2,     -999,9,   7.7230,2,20140625,2308,  53.0000, -51.1000
35PK20140515  ,OVIDE-A25  ,77      ,  1,15         ,15         ,20140625,2212,  53.0000, -51.1000,     2504,    501.7,2,   3.4610,2,  34.8550,2,  34.8550,2,    296.6,2,    296.7,2,     8.18,2,    15.91,2,     0.03,2,     -999,9,   7.7240,2,20140625,2305,  53.0000, -51.1000
35PK20140515  ,OVIDE-A25  ,77      ,  1,14         ,14         ,20140625,2212,  53.0000, -51.1000,     2504,    600.8,2,   3.4780,2,  34.8610,2,  34.8640,2,    295.8,2,    295.4,2,     8.23,2,    16.00,2,     0.01,2,     -999,9,   7.7250,2,20140625,2302,  53.0000, -51.1000
35PK20140515  ,OVIDE-A25  ,77      ,  1,13         ,13         ,20140625,2212,  53.0000, -51.1000,     2504,    701.0,2,   3.4860,2,  34.8630,2,  34.8620,2,    295.3,2,    295.0,2,     8.32,2,    16.04,2,     0.00,2,     -999,9,   7.7240,2,20140625,2259,  53.0000, -51.1000
35PK20140515  ,OVIDE-A25  ,77      ,  1,12         ,12         ,20140625,2212,  53.0000, -51.1000,     2504,    801.7,2,   3.4920,2,  34.8680,2,  34.8660,2,    294.2,2,    293.8,2,     8.26,2,    15.85,2,     0.01,2,     -999,9,   7.7240,2,20140625,2256,  53.0000, -51.1000
35PK20140515  ,OVIDE-A25  ,77      ,  1,11         ,11         ,20140625,2212,  53.0000, -51.1000,     2504,    901.5,2,   3.4700,2,  34.8670,2,  34.8650,2,    294.3,2,    294.6,2,     8.33,2,    15.96,2,     0.01,2,     -999,9,   7.7250,2,20140625,2253,  53.0000, -51.1000
35PK20140515  ,OVIDE-A25  ,77      ,  1,10         ,10         ,20140625,2212,  53.0000, -51.1000,     2504,   1001.4,2,   3.5010,2,  34.8720,2,  34.8710,2,    293.7,2,    294.3,2,     8.47,2,    16.02,2,     0.01,2,     -999,9,   7.7250,2,20140625,2251,  53.0000, -51.1000
35PK20140515  ,OVIDE-A25  ,77      ,  1,9          ,9          ,20140625,2212,  53.0000, -51.1000,     2504,   1201.7,2,   3.6570,2,  34.9180,2,  34.9190,2,    276.4,2,    277.1,2,     9.90,2,    16.68,2,     0.01,2,     -999,9,   7.7250,2,20140625,2246,  53.0000, -51.1000
35PK20140515  ,OVIDE-A25  ,77      ,  1,8          ,8          ,20140625,2212,  53.0000, -51.1000,     2504,   1301.6,2,   3.5990,2,  34.9240,2,  34.9230,2,    274.4,2,    274.7,2,    10.32,2,    16.81,2,     0.01,2,     -999,9,   7.7280,2,20140625,2243,  53.0000, -51.1000
35PK20140515  ,OVIDE-A25  ,77      ,  1,7          ,7          ,20140625,2212,  53.0000, -51.1000,     2504,   1500.3,2,   3.4410,2,  34.9240,2,  34.9230,2,    274.3,2,    274.6,2,    10.86,2,    16.89,2,     0.00,2,     -999,9,   7.7300,2,20140625,2238,  53.0000, -51.1000
35PK20140515  ,OVIDE-A25  ,77      ,  1,6          ,6          ,20140625,2212,  53.0000, -51.1000,     2504,   1750.5,2,   3.2130,2,  34.9230,2,  34.9210,2,    277.4,2,    278.0,2,    10.84,2,    16.37,2,     0.00,2,     -999,9,   7.7300,2,20140625,2232,  53.0000, -51.1000
35PK20140515  ,OVIDE-A25  ,77      ,  1,5          ,5          ,20140625,2212,  53.0000, -51.1000,     2504,   2000.4,2,   2.9240,2,  34.9220,2,  34.9220,2,    279.3,2,    279.7,2,    11.43,2,    16.20,2,     0.00,2,     -999,9,   7.7330,2,20140625,2227,  53.0000, -51.1000
35PK20140515  ,OVIDE-A25  ,77      ,  1,4          ,4          ,20140625,2212,  53.0000, -51.1000,     2504,   2201.2,2,   2.6470,2,  34.9200,2,  34.9190,2,    281.7,2,    283.7,2,    11.74,2,    15.91,2,     0.01,2,     -999,9,   7.7320,2,20140625,2222,  53.0000, -51.1000
35PK20140515  ,OVIDE-A25  ,77      ,  1,3          ,3          ,20140625,2212,  53.0000, -51.1000,     2504,   2400.5,2,   2.4150,2,  34.9140,2,  34.9130,2,    285.0,2,    286.4,2,    11.78,2,    15.51,2,     0.01,2,     -999,9,   7.7290,2,20140625,2218,  53.0000, -51.1000
35PK20140515  ,OVIDE-A25  ,77      ,  1,2          ,2          ,20140625,2212,  53.0000, -51.1000,     2504,   2449.4,2,   2.4010,2,  34.9140,2,  34.9130,2,    285.2,2,    285.4,2,    11.88,2,    15.65,2,     0.01,2,     -999,9,   7.7290,2,20140625,2215,  53.0000, -51.1000
35PK20140515  ,OVIDE-A25  ,77      ,  1,1          ,1          ,20140625,2212,  53.0000, -51.1000,     2504,   2530.9,2,   2.2760,2,  34.9110,2,  34.9100,2,    287.4,2,    288.4,2,    11.53,2,    15.28,2,     0.01,2,     -999,9,   7.7290,2,20140625,2212,  53.0000, -51.1000
35PK20140515  ,OVIDE-A25  ,78      ,  1,23         ,23         ,20140627,1438,  51.9890, -53.8170,      376,      4.9,2,   5.3620,2,  31.8140,2,  31.9240,4,    337.6,4,    348.7,2,     0.20,2,     0.06,2,     0.00,2,     -999,9,   7.9510,2,20140627,1501,  51.9890, -53.8170
35PK20140515  ,OVIDE-A25  ,78      ,  1,24         ,24         ,20140627,1438,  51.9890, -53.8170,      376,      5.0,2,   5.3670,2,  31.8070,2,     -999,9,    337.6,2,     -999,9,     -999,9,     -999,9,     -999,9,     -999,9,     -999,9,20140627,1501,  51.9890, -53.8170
35PK20140515  ,OVIDE-A25  ,78      ,  1,22         ,22         ,20140627,1438,  51.9890, -53.8170,      376,     10.3,2,   5.1970,2,  31.8140,2,     -999,9,    342.3,2,     -999,9,     -999,9,     -999,9,     -999,9,     -999,9,     -999,9,20140627,1500,  51.9890, -53.8170
35PK20140515  ,OVIDE-A25  ,78      ,  1,20         ,20         ,20140627,1438,  51.9890, -53.8170,      376,     20.3,2,  -0.1420,2,  32.8060,2,     -999,9,    436.1,2,     -999,9,     -999,9,     -999,9,     -999,9,     -999,9,     -999,9,20140627,1458,  51.9890, -53.8170
35PK20140515  ,OVIDE-A25  ,78      ,  1,21         ,21         ,20140627,1438,  51.9890, -53.8170,      376,     20.4,2,  -0.1880,2,  32.8100,2,     -999,9,    436.1,2,     -999,9,     -999,9,     -999,9,     -999,9,     -999,9,     -999,9,20140627,1458,  51.9890, -53.8170
35PK20140515  ,OVIDE-A25  ,78      ,  1,18         ,18         ,20140627,1438,  51.9890, -53.8170,      376,     29.8,2,  -0.8720,2,  32.9230,2,     -999,9,    385.7,2,     -999,9,     -999,9,     -999,9,     -999,9,     -999,9,     -999,9,20140627,1456,  51.9890, -53.8170
35PK20140515  ,OVIDE-A25  ,78      ,  1,19         ,19         ,20140627,1438,  51.9890, -53.8170,      376,     29.8,2,  -0.8740,2,  32.9230,2,     -999,9,    385.7,2,     -999,9,     -999,9,     -999,9,     -999,9,     -999,9,     -999,9,20140627,1456,  51.9890, -53.8170
35PK20140515  ,OVIDE-A25  ,78      ,  1,16         ,16         ,20140627,1438,  51.9890, -53.8170,      376,     34.8,2,  -1.2110,2,  32.9560,2,     -999,9,    345.5,2,     -999,9,     -999,9,     -999,9,     -999,9,     -999,9,     -999,9,20140627,1455,  51.9890, -53.8170
35PK20140515  ,OVIDE-A25  ,78      ,  1,17         ,17         ,20140627,1438,  51.9890, -53.8170,      376,     34.8,2,  -1.2110,2,  32.9560,2,     -999,9,    345.5,2,     -999,9,     -999,9,     -999,9,     -999,9,     -999,9,     -999,9,20140627,1455,  51.9890, -53.8170
35PK20140515  ,OVIDE-A25  ,78      ,  1,14         ,14         ,20140627,1438,  51.9890, -53.8170,      376,     44.6,2,  -1.4000,2,  33.0220,2,  33.0330,4,    336.6,2,    337.7,2,     8.60,2,     7.94,2,     0.09,2,     -999,9,   7.6620,2,20140627,1454,  51.9890, -53.8170
35PK20140515  ,OVIDE-A25  ,78      ,  1,15         ,15         ,20140627,1438,  51.9890, -53.8170,      376,     44.6,2,  -1.4000,2,  33.0110,2,     -999,9,    336.6,2,     -999,9,     -999,9,     -999,9,     -999,9,     -999,9,     -999,9,20140627,1454,  51.9890, -53.8170
35PK20140515  ,OVIDE-A25  ,78      ,  1,12         ,12         ,20140627,1438,  51.9890, -53.8170,      376,     59.8,2,  -1.4690,2,  33.1130,2,     -999,9,    332.2,2,     -999,9,     -999,9,     -999,9,     -999,9,     -999,9,     -999,9,20140627,1453,  51.9890, -53.8170
35PK20140515  ,OVIDE-A25  ,78      ,  1,13         ,13         ,20140627,1438,  51.9890, -53.8170,      376,     59.8,2,  -1.4690,2,  33.1130,2,     -999,9,    332.2,2,     -999,9,     -999,9,     -999,9,     -999,9,     -999,9,     -999,9,20140627,1453,  51.9890, -53.8170
35PK20140515  ,OVIDE-A25  ,78      ,  1,10         ,10         ,20140627,1438,  51.9890, -53.8170,      376,     79.5,2,  -1.3520,2,  33.2530,2,     -999,9,    328.9,2,     -999,9,     -999,9,     -999,9,     -999,9,     -999,9,     -999,9,20140627,1451,  51.9890, -53.8170
35PK20140515  ,OVIDE-A25  ,78      ,  1,11         ,11         ,20140627,1438,  51.9890, -53.8170,      376,     79.5,2,  -1.3530,2,  33.2510,2,     -999,9,    328.9,2,     -999,9,     -999,9,     -999,9,     -999,9,     -999,9,     -999,9,20140627,1451,  51.9890, -53.8170
35PK20140515  ,OVIDE-A25  ,78      ,  1,8          ,8          ,20140627,1438,  51.9890, -53.8170,      376,     99.9,2,  -1.2020,2,  33.4000,2,  33.4030,2,    329.3,2,    330.0,2,     8.30,2,     9.83,2,     0.07,2,     -999,9,   7.6750,2,20140627,1450,  51.9890, -53.8170
35PK20140515  ,OVIDE-A25  ,78      ,  1,9          ,9          ,20140627,1438,  51.9890, -53.8170,      376,    100.0,2,  -1.2050,2,  33.3620,2,     -999,9,    329.3,2,     -999,9,     -999,9,     -999,9,     -999,9,     -999,9,     -999,9,20140627,1450,  51.9890, -53.8170
35PK20140515  ,OVIDE-A25  ,78      ,  1,7          ,7          ,20140627,1438,  51.9890, -53.8170,      376,    148.6,2,  -0.6260,2,  33.6490,2,     -999,9,    323.3,2,     -999,9,     -999,9,     -999,9,     -999,9,     -999,9,     -999,9,20140627,1446,  51.9890, -53.8170
35PK20140515  ,OVIDE-A25  ,78      ,  1,6          ,6          ,20140627,1438,  51.9890, -53.8170,      376,    149.3,2,  -0.6300,2,  33.6490,2,     -999,9,    323.3,2,     -999,9,     -999,9,     -999,9,     -999,9,     -999,9,     -999,9,20140627,1446,  51.9890, -53.8170
35PK20140515  ,OVIDE-A25  ,78      ,  1,5          ,5          ,20140627,1438,  51.9890, -53.8170,      376,    149.5,2,  -0.6410,2,  33.6520,2,  33.6600,4,    323.3,2,    323.3,2,     8.21,2,    11.11,2,     0.05,2,     -999,9,   7.6860,2,20140627,1446,  51.9890, -53.8170
35PK20140515  ,OVIDE-A25  ,78      ,  1,3          ,3          ,20140627,1438,  51.9890, -53.8170,      376,    200.3,2,   0.6650,2,  34.0650,2,  34.0810,4,    314.1,2,    313.6,2,     8.40,2,    12.64,2,     0.13,2,     -999,9,   7.6970,2,20140627,1444,  51.9890, -53.8170
35PK20140515  ,OVIDE-A25  ,78      ,  1,4          ,4          ,20140627,1438,  51.9890, -53.8170,      376,    200.4,2,   0.6680,2,  34.0610,2,     -999,9,    314.1,2,     -999,9,     -999,9,     -999,9,     -999,9,     -999,9,     -999,9,20140627,1444,  51.9890, -53.8170
35PK20140515  ,OVIDE-A25  ,78      ,  1,2          ,2          ,20140627,1438,  51.9890, -53.8170,      376,    299.1,2,   2.7710,2,  34.5360,2,  34.5540,4,    282.5,2,    282.2,2,    11.71,2,    15.35,2,     0.04,2,     -999,9,   7.6840,2,20140627,1441,  51.9890, -53.8170
35PK20140515  ,OVIDE-A25  ,78      ,  1,1          ,1          ,20140627,1438,  51.9890, -53.8170,      376,    370.7,2,   3.0030,2,  34.6360,2,  34.6350,2,    281.4,2,    281.7,2,    12.01,2,    15.52,2,     0.06,2,     -999,9,   7.6880,2,20140627,1438,  51.9890, -53.8170