BOTTLE,20240403CCHHYDRO
EXPOCODE,SECT_ID,STNNBR,CASTNO,SAMPNO,BTLNBR,DATE,TIME,LATITUDE,LONGITUDE,DEPTH,CTDPRS,CTDPRS_FLAG_W,CTDTMP,CTDTMP_FLAG_W,CTDSAL,CTDSAL_FLAG_W,SALNTY,SALNTY_FLAG_W,CTDOXY,CTDOXY_FLAG_W,OXYGEN,OXYGEN_FLAG_W,SILCAT,SILCAT_FLAG_W,NITRAT,NITRAT_FLAG_W,NITRIT,NITRIT_FLAG_W,ALKALI,ALKALI_FLAG_W,PH_TOT,PH_TOT_FLAG_W,BTL_DATE,BTL_TIME,BTL_LAT,BTL_LON
,,,,,,,,,,METERS,DBAR,,ITS-90,,PSS-78,,PSS-78,,UMOL/KG,,UMOL/KG,,UMOL/KG,,UMOL/KG,,UMOL/KG,,UMOL/KG,,,,,,,
35PK20140515  ,OVIDE-A25  ,43      ,  1,24         ,24         ,20140613,0704,  59.4910, -37.6810,     3160,      5.2,2,   7.5730,2,  34.9530,2,     -999,9,    314.0,2,     -999,9,     -999,9,     -999,9,     -999,9,     -999,9,     -999,9,20140613,0828,  59.4910, -37.6810
35PK20140515  ,OVIDE-A25  ,43      ,  1,23         ,23         ,20140613,0704,  59.4910, -37.6810,     3160,      5.2,2,   7.5730,2,  34.9530,2,  34.9540,2,    314.0,2,    312.2,2,     4.50,2,     7.89,2,     0.20,2,   2314.9,2,   7.8760,2,20140613,0828,  59.4910, -37.6810
35PK20140515  ,OVIDE-A25  ,43      ,  1,22         ,22         ,20140613,0704,  59.4910, -37.6810,     3160,     39.1,2,   6.7100,2,  34.9630,2,  34.9630,2,    303.5,2,    300.8,2,     6.20,2,    11.21,2,     0.25,2,     -999,9,   7.7950,2,20140613,0826,  59.4910, -37.6810
35PK20140515  ,OVIDE-A25  ,43      ,  1,21         ,21         ,20140613,0704,  59.4910, -37.6810,     3160,    101.3,2,   5.6700,2,  34.9770,2,  34.9770,2,    288.1,2,    286.7,2,     7.20,2,    15.52,2,     0.03,2,   2309.8,2,   7.7490,2,20140613,0822,  59.4910, -37.6810
35PK20140515  ,OVIDE-A25  ,43      ,  1,20         ,20         ,20140613,0704,  59.4910, -37.6810,     3160,    150.6,2,   5.5240,2,  34.9690,2,  34.9700,2,    288.9,2,    287.3,2,     7.40,2,    15.56,2,     0.01,2,     -999,9,   7.7460,2,20140613,0820,  59.4910, -37.6810
35PK20140515  ,OVIDE-A25  ,43      ,  1,19         ,19         ,20140613,0704,  59.4910, -37.6810,     3160,    200.7,2,   5.4240,2,  34.9620,2,  34.9620,2,    286.1,2,    284.9,2,     7.48,2,    15.64,2,     0.01,2,   2309.2,2,   7.7410,2,20140613,0818,  59.4910, -37.6810
35PK20140515  ,OVIDE-A25  ,43      ,  1,18         ,18         ,20140613,0704,  59.4910, -37.6810,     3160,    300.5,2,   5.0330,2,  34.9440,2,  34.9440,2,    279.9,2,    280.6,2,     8.05,2,    16.46,2,     0.01,2,     -999,9,   7.7300,2,20140613,0815,  59.4910, -37.6810
35PK20140515  ,OVIDE-A25  ,43      ,  1,17         ,17         ,20140613,0704,  59.4910, -37.6810,     3160,    400.4,2,   4.6670,2,  34.9250,2,  34.9250,2,    285.5,2,    284.3,2,     8.27,2,    16.25,2,     0.01,2,   2307.0,2,   7.7230,2,20140613,0812,  59.4910, -37.6810
35PK20140515  ,OVIDE-A25  ,43      ,  1,16         ,16         ,20140613,0704,  59.4910, -37.6810,     3160,    500.6,2,   4.3760,2,  34.9170,2,  34.9160,2,    285.8,2,    284.2,2,     8.46,2,    16.48,2,     0.01,2,     -999,9,   7.7190,2,20140613,0809,  59.4910, -37.6810
35PK20140515  ,OVIDE-A25  ,43      ,  1,15         ,15         ,20140613,0704,  59.4910, -37.6810,     3160,    600.2,2,   4.1700,2,  34.9070,2,  34.9080,2,    292.8,2,    290.1,2,     8.25,2,    16.41,2,     0.00,2,   2306.1,2,   7.7250,2,20140613,0806,  59.4910, -37.6810
35PK20140515  ,OVIDE-A25  ,43      ,  1,14         ,14         ,20140613,0704,  59.4910, -37.6810,     3160,    700.2,2,   4.0630,2,  34.9040,2,  34.9040,2,    295.9,2,    294.4,2,     8.05,2,    16.25,2,     0.01,2,     -999,9,   7.7250,2,20140613,0802,  59.4910, -37.6810
35PK20140515  ,OVIDE-A25  ,43      ,  1,13         ,13         ,20140613,0704,  59.4910, -37.6810,     3160,    801.7,2,   3.9990,2,  34.9010,2,  34.9030,2,    298.3,2,    297.6,2,     7.97,2,    15.97,2,     0.01,2,   2305.2,2,   7.7260,2,20140613,0759,  59.4910, -37.6810
35PK20140515  ,OVIDE-A25  ,43      ,  1,12         ,12         ,20140613,0704,  59.4910, -37.6810,     3160,    900.4,2,   3.9000,2,  34.8910,2,  34.8910,2,    294.5,2,    292.9,2,     8.13,2,    16.02,2,     0.00,2,     -999,9,   7.7220,2,20140613,0756,  59.4910, -37.6810
35PK20140515  ,OVIDE-A25  ,43      ,  1,11         ,11         ,20140613,0704,  59.4910, -37.6810,     3160,    999.7,2,   3.8080,2,  34.8850,2,  34.8850,2,    290.2,2,    290.4,2,     8.47,2,    16.34,2,     0.01,2,   2304.3,2,   7.7220,2,20140613,0753,  59.4910, -37.6810
35PK20140515  ,OVIDE-A25  ,43      ,  1,10         ,10         ,20140613,0704,  59.4910, -37.6810,     3160,   1200.1,2,   3.7480,2,  34.8890,2,  34.8890,2,    284.9,2,    285.2,2,     8.83,2,    16.52,2,     0.00,2,     -999,9,   7.7180,2,20140613,0748,  59.4910, -37.6810
35PK20140515  ,OVIDE-A25  ,43      ,  1,9          ,9          ,20140613,0704,  59.4910, -37.6810,     3160,   1400.3,2,   3.8380,2,  34.9330,2,  34.9340,2,    273.0,2,    272.7,2,    10.16,2,    17.05,2,     0.00,2,   2307.8,2,   7.7220,2,20140613,0744,  59.4910, -37.6810
35PK20140515  ,OVIDE-A25  ,43      ,  1,8          ,8          ,20140613,0704,  59.4910, -37.6810,     3160,   1600.4,2,   3.7380,2,  34.9490,2,  34.9540,4,    272.3,2,    271.8,2,    10.54,2,    16.84,2,     0.00,2,     -999,9,   7.7210,2,20140613,0739,  59.4910, -37.6810
35PK20140515  ,OVIDE-A25  ,43      ,  1,7          ,7          ,20140613,0704,  59.4910, -37.6810,     3160,   1800.0,2,   3.5660,2,  34.9490,2,  34.9490,2,    273.2,2,    272.9,2,    10.90,2,    16.95,2,     0.00,2,   2309.3,2,   7.7270,2,20140613,0735,  59.4910, -37.6810
35PK20140515  ,OVIDE-A25  ,43      ,  1,6          ,6          ,20140613,0704,  59.4910, -37.6810,     3160,   2001.0,2,   3.4200,2,  34.9490,2,  34.9500,2,    273.9,2,    273.3,2,    11.55,2,    16.89,2,     0.00,2,     -999,9,   7.7270,2,20140613,0730,  59.4910, -37.6810
35PK20140515  ,OVIDE-A25  ,43      ,  1,5          ,5          ,20140613,0704,  59.4910, -37.6810,     3160,   2251.6,2,   3.2350,2,  34.9450,2,  34.9450,2,    274.7,2,    274.0,2,    12.10,2,    16.70,2,     0.00,2,   2310.2,2,   7.7290,2,20140613,0724,  59.4910, -37.6810
35PK20140515  ,OVIDE-A25  ,43      ,  1,4          ,4          ,20140613,0704,  59.4910, -37.6810,     3160,   2499.8,2,   3.0270,2,  34.9380,2,  34.9390,2,    275.8,2,    275.0,2,    12.88,2,    16.72,2,     0.00,2,   2309.7,2,   7.7310,2,20140613,0719,  59.4910, -37.6810
35PK20140515  ,OVIDE-A25  ,43      ,  1,3          ,3          ,20140613,0704,  59.4910, -37.6810,     3160,   2750.1,2,   2.9120,2,  34.9420,2,  34.9420,2,    275.7,2,    275.0,2,    13.79,2,    16.67,2,     0.00,2,     -999,9,   7.7310,2,20140613,0714,  59.4910, -37.6810
35PK20140515  ,OVIDE-A25  ,43      ,  1,2          ,2          ,20140613,0704,  59.4910, -37.6810,     3160,   3000.7,2,   2.4170,2,  34.9170,2,  34.9170,2,    286.8,2,    286.3,2,    11.62,2,    15.48,2,     0.00,2,   2307.3,2,   7.7260,2,20140613,0709,  59.4910, -37.6810
35PK20140515  ,OVIDE-A25  ,43      ,  1,1          ,1          ,20140613,0704,  59.4910, -37.6810,     3160,   3150.3,2,   1.6100,2,  34.9030,2,  34.9020,2,    302.1,2,    301.3,2,     8.04,2,    13.92,2,     0.00,2,     -999,9,   7.7140,2,20140613,0704,  59.4910, -37.6810
35PK20140515  ,OVIDE-A25  ,44      ,  1,24         ,24         ,20140613,1404,  59.6230, -38.9540,     2975,     10.4,2,   6.7880,2,  34.8560,2,  34.8560,2,    314.5,2,    313.6,2,     7.57,2,     9.86,2,     0.11,2,     -999,9,   7.8290,2,20140613,1520,  59.6230, -38.9540
35PK20140515  ,OVIDE-A25  ,44      ,  1,23         ,23         ,20140613,1404,  59.6230, -38.9540,     2975,     25.7,2,   6.6530,2,  34.8540,2,  34.8590,2,    311.1,2,    312.3,2,     7.90,2,    16.08,3,     0.05,2,     -999,9,   7.8400,2,20140613,1519,  59.6230, -38.9540
35PK20140515  ,OVIDE-A25  ,44      ,  1,22         ,22         ,20140613,1404,  59.6230, -38.9540,     2975,     99.1,2,   4.4140,2,  34.9160,2,  34.9150,2,    294.7,2,    293.9,2,     7.80,2,    16.07,2,     0.04,2,     -999,9,   7.7140,2,20140613,1516,  59.6230, -38.9540
35PK20140515  ,OVIDE-A25  ,44      ,  1,21         ,21         ,20140613,1404,  59.6230, -38.9540,     2975,    149.8,2,   4.2390,2,  34.9130,2,  34.9120,2,    295.5,2,    294.7,2,     7.78,2,    16.00,2,     0.03,2,     -999,9,   7.7200,2,20140613,1514,  59.6230, -38.9540
35PK20140515  ,OVIDE-A25  ,44      ,  1,20         ,20         ,20140613,1404,  59.6230, -38.9540,     2975,    200.8,2,   4.0760,2,  34.9030,2,  34.9030,2,    297.9,2,    297.0,2,     7.99,2,    16.07,2,     0.02,2,     -999,9,   7.7190,2,20140613,1512,  59.6230, -38.9540
35PK20140515  ,OVIDE-A25  ,44      ,  1,19         ,19         ,20140613,1404,  59.6230, -38.9540,     2975,    300.8,2,   3.9860,2,  34.9010,2,  34.9010,2,    299.2,2,    297.0,2,     7.87,2,    15.90,2,     0.01,2,     -999,9,   7.7110,2,20140613,1510,  59.6230, -38.9540
35PK20140515  ,OVIDE-A25  ,44      ,  1,18         ,18         ,20140613,1404,  59.6230, -38.9540,     2975,    399.6,2,   3.8930,2,  34.8930,2,  34.8930,2,    298.2,2,    296.9,2,     8.01,2,    16.02,2,     0.01,2,     -999,9,   7.7190,2,20140613,1507,  59.6230, -38.9540
35PK20140515  ,OVIDE-A25  ,44      ,  1,17         ,17         ,20140613,1404,  59.6230, -38.9540,     2975,    499.6,2,   3.7640,2,  34.8810,2,  34.8810,2,    298.0,2,    297.1,2,     8.14,2,    15.88,2,     0.00,2,     -999,9,   7.7200,2,20140613,1504,  59.6230, -38.9540
35PK20140515  ,OVIDE-A25  ,44      ,  1,16         ,16         ,20140613,1404,  59.6230, -38.9540,     2975,    600.5,2,   3.7200,2,  34.8780,2,  34.8770,2,    295.0,2,    293.4,2,     8.18,2,    16.00,2,     0.00,2,     -999,9,   7.7140,2,20140613,1501,  59.6230, -38.9540
35PK20140515  ,OVIDE-A25  ,44      ,  1,15         ,15         ,20140613,1404,  59.6230, -38.9540,     2975,    699.5,2,   3.6700,2,  34.8730,2,  34.8740,2,    294.8,2,    293.4,2,     8.16,2,    16.00,2,     0.01,2,     -999,9,   7.7150,2,20140613,1458,  59.6230, -38.9540
35PK20140515  ,OVIDE-A25  ,44      ,  1,14         ,14         ,20140613,1404,  59.6230, -38.9540,     2975,    800.0,2,   3.6230,2,  34.8680,2,  34.8680,2,    296.6,2,    296.1,2,     8.27,2,    16.05,2,     -999,9,     -999,9,   7.7160,2,20140613,1455,  59.6230, -38.9540
35PK20140515  ,OVIDE-A25  ,44      ,  1,13         ,13         ,20140613,1404,  59.6230, -38.9540,     2975,    900.5,2,   3.6110,2,  34.8690,2,  34.8690,2,    294.1,2,    293.1,2,     9.15,2,    16.68,2,     0.00,2,     -999,9,   7.7180,2,20140613,1452,  59.6230, -38.9540
35PK20140515  ,OVIDE-A25  ,44      ,  1,12         ,12         ,20140613,1404,  59.6230, -38.9540,     2975,   1001.0,2,   3.7580,2,  34.8980,2,  34.8980,2,    281.7,2,    280.9,2,     9.43,2,    16.60,2,     0.01,2,     -999,9,   7.7180,2,20140613,1450,  59.6230, -38.9540
35PK20140515  ,OVIDE-A25  ,44      ,  1,11         ,11         ,20140613,1404,  59.6230, -38.9540,     2975,   1100.8,2,   3.7730,2,  34.9100,2,  34.9100,2,    278.2,2,    277.7,2,    10.35,2,    16.84,2,     0.00,2,     -999,9,   7.7190,2,20140613,1447,  59.6230, -38.9540
35PK20140515  ,OVIDE-A25  ,44      ,  1,10         ,10         ,20140613,1404,  59.6230, -38.9540,     2975,   1401.5,2,   3.6500,2,  34.9270,2,  34.9280,2,    273.3,2,    273.4,2,    10.83,2,    16.83,2,     0.01,2,     -999,9,   7.7250,2,20140613,1440,  59.6230, -38.9540
35PK20140515  ,OVIDE-A25  ,44      ,  1,9          ,9          ,20140613,1404,  59.6230, -38.9540,     2975,   1600.6,2,   3.4940,2,  34.9300,2,     -999,9,    274.1,2,     -999,9,     -999,9,     -999,9,     0.00,2,     -999,9,   7.7260,2,20140613,1436,  59.6230, -38.9540
35PK20140515  ,OVIDE-A25  ,44      ,  1,8          ,8          ,20140613,1404,  59.6230, -38.9540,     2975,   1800.6,2,   3.3560,2,  34.9320,2,  34.9300,2,    275.3,2,    273.3,2,    11.68,2,    16.60,2,     0.01,2,     -999,9,     -999,9,20140613,1431,  59.6230, -38.9540
35PK20140515  ,OVIDE-A25  ,44      ,  1,7          ,7          ,20140613,1404,  59.6230, -38.9540,     2975,   2000.5,2,   3.2130,2,  34.9350,2,  34.9350,2,    275.7,2,    275.3,2,    12.43,2,    16.57,2,     0.00,2,     -999,9,   7.7300,2,20140613,1427,  59.6230, -38.9540
35PK20140515  ,OVIDE-A25  ,44      ,  1,6          ,6          ,20140613,1404,  59.6230, -38.9540,     2975,   2249.6,2,   3.0360,2,  34.9340,2,  34.9340,2,    276.3,2,    275.8,2,    13.30,2,    16.48,2,     0.00,2,     -999,9,   7.7320,2,20140613,1422,  59.6230, -38.9540
35PK20140515  ,OVIDE-A25  ,44      ,  1,5          ,5          ,20140613,1404,  59.6230, -38.9540,     2975,   2501.2,2,   2.8620,2,  34.9380,2,  34.9370,2,    276.7,2,    275.6,2,    13.34,2,    16.43,2,     0.00,2,     -999,9,   7.7310,2,20140613,1416,  59.6230, -38.9540
35PK20140515  ,OVIDE-A25  ,44      ,  1,4          ,4          ,20140613,1404,  59.6230, -38.9540,     2975,   2600.7,2,   2.7450,2,  34.9320,2,  34.9320,2,    278.6,2,    277.7,2,     7.43,4,    13.79,3,     0.00,2,     -999,9,   7.7310,2,20140613,1414,  59.6230, -38.9540
35PK20140515  ,OVIDE-A25  ,44      ,  1,3          ,3          ,20140613,1404,  59.6230, -38.9540,     2975,   2800.5,2,   1.6550,2,  34.8750,2,  34.8750,2,    306.2,2,    305.0,2,     7.09,2,    13.45,2,     0.00,2,     -999,9,   7.7200,2,20140613,1409,  59.6230, -38.9540
35PK20140515  ,OVIDE-A25  ,44      ,  1,2          ,2          ,20140613,1404,  59.6230, -38.9540,     2975,   2900.4,2,   1.2830,2,  34.8780,2,  34.8780,2,    309.3,2,    308.2,2,     7.22,2,    13.48,2,     0.00,2,     -999,9,   7.7170,2,20140613,1407,  59.6230, -38.9540
35PK20140515  ,OVIDE-A25  ,44      ,  1,1          ,1          ,20140613,1404,  59.6230, -38.9540,     2975,   2965.8,2,   1.2720,2,  34.8870,2,  34.8870,2,    308.5,2,    309.6,2,     7.18,2,     9.31,3,     0.10,2,     -999,9,   7.7160,2,20140613,1404,  59.6230, -38.9540