BOTTLE,20240403CCHHYDRO
EXPOCODE,SECT_ID,STNNBR,CASTNO,SAMPNO,BTLNBR,DATE,TIME,LATITUDE,LONGITUDE,DEPTH,CTDPRS,CTDPRS_FLAG_W,CTDTMP,CTDTMP_FLAG_W,CTDSAL,CTDSAL_FLAG_W,SALNTY,SALNTY_FLAG_W,CTDOXY,CTDOXY_FLAG_W,OXYGEN,OXYGEN_FLAG_W,SILCAT,SILCAT_FLAG_W,NITRAT,NITRAT_FLAG_W,NITRIT,NITRIT_FLAG_W,ALKALI,ALKALI_FLAG_W,PH_TOT,PH_TOT_FLAG_W,BTL_DATE,BTL_TIME,BTL_LAT,BTL_LON
,,,,,,,,,,METERS,DBAR,,ITS-90,,PSS-78,,PSS-78,,UMOL/KG,,UMOL/KG,,UMOL/KG,,UMOL/KG,,UMOL/KG,,UMOL/KG,,,,,,,
35PK20140515  ,OVIDE-A25  ,63      ,  1,22         ,22         ,20140619,1000,  59.4340, -45.6660,     1618,      3.5,2,   3.9750,2,  34.4380,2,  34.4380,2,    322.2,2,    320.9,2,     4.13,2,     9.88,2,     0.15,2,   2283.4,2,   7.7440,2,20140619,1051,  59.4340, -45.6660
35PK20140515  ,OVIDE-A25  ,63      ,  1,23         ,23         ,20140619,1000,  59.4340, -45.6660,     1618,      3.5,2,   3.9670,2,  34.4370,2,     -999,9,    322.2,2,     -999,9,     -999,9,     -999,9,     -999,9,     -999,9,     -999,9,20140619,1051,  59.4340, -45.6660
35PK20140515  ,OVIDE-A25  ,63      ,  1,24         ,24         ,20140619,1000,  59.4340, -45.6660,     1618,      3.7,2,   3.9950,2,  34.4360,2,     -999,9,    322.3,2,     -999,9,     -999,9,     -999,9,     -999,9,     -999,9,     -999,9,20140619,1051,  59.4340, -45.6660
35PK20140515  ,OVIDE-A25  ,63      ,  1,21         ,21         ,20140619,1000,  59.4340, -45.6660,     1618,     10.1,2,   3.9130,2,  34.4360,2,     -999,9,    321.9,2,     -999,9,     -999,9,     -999,9,     -999,9,     -999,9,     -999,9,20140619,1050,  59.4340, -45.6660
35PK20140515  ,OVIDE-A25  ,63      ,  1,20         ,20         ,20140619,1000,  59.4340, -45.6660,     1618,     24.8,2,   4.0550,2,  34.5240,2,     -999,9,    317.8,2,     -999,9,     -999,9,     -999,9,     -999,9,     -999,9,     -999,9,20140619,1049,  59.4340, -45.6660
35PK20140515  ,OVIDE-A25  ,63      ,  1,19         ,19         ,20140619,1000,  59.4340, -45.6660,     1618,     49.3,2,   4.0450,2,  34.5750,2,  34.5620,4,    314.3,2,    313.6,2,     5.12,2,    11.22,2,     0.17,2,     -999,9,   7.7680,2,20140619,1047,  59.4340, -45.6660
35PK20140515  ,OVIDE-A25  ,63      ,  1,18         ,18         ,20140619,1000,  59.4340, -45.6660,     1618,     74.8,2,   4.5200,2,  34.7140,2,     -999,9,    306.6,2,     -999,9,     -999,9,     -999,9,     -999,9,     -999,9,     -999,9,20140619,1045,  59.4340, -45.6660
35PK20140515  ,OVIDE-A25  ,63      ,  1,17         ,17         ,20140619,1000,  59.4340, -45.6660,     1618,    100.5,2,   4.7200,2,  34.7880,2,  34.7850,2,    302.9,2,    302.1,2,     6.02,2,    13.00,2,     0.20,2,   2298.7,2,   7.7600,2,20140619,1043,  59.4340, -45.6660
35PK20140515  ,OVIDE-A25  ,63      ,  1,16         ,16         ,20140619,1000,  59.4340, -45.6660,     1618,    150.2,2,   4.8580,2,  34.8490,2,  34.8480,2,    298.1,2,    297.7,2,     6.38,2,    13.95,2,     0.20,2,     -999,9,   7.7540,2,20140619,1042,  59.4340, -45.6660
35PK20140515  ,OVIDE-A25  ,63      ,  1,15         ,15         ,20140619,1000,  59.4340, -45.6660,     1618,    201.1,2,   4.8860,2,  34.8850,2,  34.8840,2,    294.2,2,    293.4,2,     6.75,2,    14.78,2,     0.19,2,   2302.3,2,   7.7480,2,20140619,1040,  59.4340, -45.6660
35PK20140515  ,OVIDE-A25  ,63      ,  1,14         ,14         ,20140619,1000,  59.4340, -45.6660,     1618,    301.6,2,   4.9430,2,  34.9290,2,  34.9290,2,    289.7,2,    289.3,2,     6.87,2,    15.46,2,     0.07,2,     -999,9,   7.7540,2,20140619,1037,  59.4340, -45.6660
35PK20140515  ,OVIDE-A25  ,63      ,  1,13         ,13         ,20140619,1000,  59.4340, -45.6660,     1618,    400.6,2,   4.8540,2,  34.9320,2,  34.9310,2,    288.0,2,    288.0,2,     7.10,2,    15.85,2,     0.03,2,   2304.6,2,   7.7420,2,20140619,1034,  59.4340, -45.6660
35PK20140515  ,OVIDE-A25  ,63      ,  1,12         ,12         ,20140619,1000,  59.4340, -45.6660,     1618,    500.0,2,   4.7570,2,  34.9350,2,  34.9340,2,    286.0,2,    285.8,2,     7.44,2,    16.04,2,     0.02,2,     -999,9,   7.7340,2,20140619,1031,  59.4340, -45.6660
35PK20140515  ,OVIDE-A25  ,63      ,  1,11         ,11         ,20140619,1000,  59.4340, -45.6660,     1618,    600.3,2,   4.6200,2,  34.9350,2,  34.9350,2,    284.5,2,    284.8,2,     7.81,2,    16.55,2,     0.02,2,   2302.5,2,   7.7360,2,20140619,1029,  59.4340, -45.6660
35PK20140515  ,OVIDE-A25  ,63      ,  1,10         ,10         ,20140619,1000,  59.4340, -45.6660,     1618,    701.2,2,   4.4470,2,  34.9320,2,  34.9330,2,    283.4,2,    283.6,2,     8.06,2,    16.83,2,     0.02,2,     -999,9,   7.7300,2,20140619,1026,  59.4340, -45.6670
35PK20140515  ,OVIDE-A25  ,63      ,  1,9          ,9          ,20140619,1000,  59.4340, -45.6660,     1618,    799.6,2,   4.2520,2,  34.9260,2,  34.9260,2,    283.3,2,    283.5,2,     8.29,2,    17.06,2,     0.01,2,   2301.3,2,   7.7270,2,20140619,1023,  59.4340, -45.6660
35PK20140515  ,OVIDE-A25  ,63      ,  1,8          ,8          ,20140619,1000,  59.4340, -45.6660,     1618,    900.0,2,   4.0110,2,  34.9200,2,  34.9200,2,    282.4,2,    282.7,2,     8.69,2,    17.13,2,     0.00,2,     -999,9,   7.7240,2,20140619,1021,  59.4340, -45.6660
35PK20140515  ,OVIDE-A25  ,63      ,  1,7          ,7          ,20140619,1000,  59.4340, -45.6660,     1618,   1000.0,2,   3.9060,2,  34.9170,2,  34.9170,2,    281.2,2,    281.5,2,     8.91,2,    17.22,2,     0.00,2,   2301.4,2,   7.7240,2,20140619,1018,  59.4340, -45.6660
35PK20140515  ,OVIDE-A25  ,63      ,  1,6          ,6          ,20140619,1000,  59.4340, -45.6660,     1618,   1099.6,2,   3.8150,2,  34.9200,2,  34.9190,2,    280.5,2,    281.3,2,     9.26,2,    17.15,2,     0.01,2,     -999,9,   7.7240,2,20140619,1015,  59.4340, -45.6660
35PK20140515  ,OVIDE-A25  ,63      ,  1,5          ,5          ,20140619,1000,  59.4340, -45.6660,     1618,   1199.8,2,   3.7990,2,  34.9210,2,  34.9200,2,    279.7,2,    280.8,2,     9.16,2,    17.21,2,     0.01,2,   2302.0,2,   7.7240,2,20140619,1012,  59.4340, -45.6660
35PK20140515  ,OVIDE-A25  ,63      ,  1,4          ,4          ,20140619,1000,  59.4340, -45.6660,     1618,   1299.9,2,   3.7770,2,  34.9220,2,  34.9220,2,    279.3,2,    279.8,2,     9.35,2,    17.28,2,     0.01,2,     -999,9,   7.7250,2,20140619,1009,  59.4340, -45.6660
35PK20140515  ,OVIDE-A25  ,63      ,  1,3          ,3          ,20140619,1000,  59.4340, -45.6660,     1618,   1399.8,2,   3.7060,2,  34.9250,2,  34.9240,2,    278.1,2,    279.1,2,     9.47,2,    17.22,2,     0.01,2,   2302.7,2,   7.7240,2,20140619,1006,  59.4340, -45.6660
35PK20140515  ,OVIDE-A25  ,63      ,  1,2          ,2          ,20140619,1000,  59.4340, -45.6660,     1618,   1501.6,2,   3.6110,2,  34.9250,2,  34.9240,2,    278.1,2,    279.1,2,     9.69,2,    17.19,2,     0.01,2,     -999,9,   7.7280,2,20140619,1004,  59.4340, -45.6660
35PK20140515  ,OVIDE-A25  ,63      ,  1,1          ,1          ,20140619,1000,  59.4340, -45.6660,     1618,   1629.2,2,   3.4050,2,  34.9240,2,  34.9240,2,    278.7,2,    283.3,4,     9.95,2,    17.14,2,     0.01,2,   2303.1,2,   7.7270,2,20140619,1000,  59.4340, -45.6660
35PK20140515  ,OVIDE-A25  ,64      ,  1,24         ,24         ,20140619,1628,  59.0680, -46.0830,     2474,      4.6,2,   6.6210,2,  34.7240,2,  34.7230,2,    325.6,2,    324.8,2,     4.36,2,     4.94,2,     0.12,2,   2303.5,2,   7.8940,2,20140619,1736,  59.0680, -46.0830
35PK20140515  ,OVIDE-A25  ,64      ,  1,23         ,23         ,20140619,1628,  59.0680, -46.0830,     2474,     49.7,2,   5.3050,2,  34.8520,2,  34.8570,4,    307.3,2,    307.0,2,     6.77,2,    11.18,2,     0.20,2,     -999,9,   7.7780,2,20140619,1734,  59.0680, -46.0830
35PK20140515  ,OVIDE-A25  ,64      ,  1,22         ,22         ,20140619,1628,  59.0680, -46.0830,     2474,     99.8,2,   5.0940,2,  34.9240,2,  34.9220,2,    295.9,2,    297.3,2,     7.19,2,    14.70,2,     0.30,2,   2305.0,2,   7.7440,2,20140619,1731,  59.0680, -46.0830
35PK20140515  ,OVIDE-A25  ,64      ,  1,21         ,21         ,20140619,1628,  59.0680, -46.0830,     2474,    149.7,2,   4.7820,2,  34.9380,2,  34.9360,2,    290.7,2,    291.9,2,     7.22,2,    15.89,2,     0.15,2,     -999,9,   7.7390,2,20140619,1730,  59.0680, -46.0830
35PK20140515  ,OVIDE-A25  ,64      ,  1,20         ,20         ,20140619,1628,  59.0680, -46.0830,     2474,    199.7,2,   4.7500,2,  34.9390,2,  34.9380,2,    288.7,2,    290.6,2,     7.45,2,    16.28,2,     0.08,2,   2304.7,2,   7.7370,2,20140619,1728,  59.0680, -46.0830
35PK20140515  ,OVIDE-A25  ,64      ,  1,19         ,19         ,20140619,1628,  59.0680, -46.0830,     2474,    319.6,2,   4.3370,2,  34.9170,2,  34.9140,2,    292.9,2,    293.6,2,     7.80,2,    16.44,2,     0.05,2,     -999,9,   7.7390,2,20140619,1725,  59.0680, -46.0830
35PK20140515  ,OVIDE-A25  ,64      ,  1,18         ,18         ,20140619,1628,  59.0680, -46.0830,     2474,    399.7,2,   4.1770,2,  34.9160,2,  34.9160,2,    294.4,2,    293.9,2,     7.96,2,    16.78,2,     0.02,2,   2302.2,2,   7.7310,2,20140619,1723,  59.0680, -46.0830
35PK20140515  ,OVIDE-A25  ,64      ,  1,17         ,17         ,20140619,1628,  59.0680, -46.0830,     2474,    499.6,2,   4.0620,2,  34.9090,2,  34.9090,2,    294.9,2,    296.3,2,     7.90,2,    16.49,2,     0.02,2,     -999,9,   7.7280,2,20140619,1720,  59.0680, -46.0830
35PK20140515  ,OVIDE-A25  ,64      ,  1,16         ,16         ,20140619,1628,  59.0680, -46.0830,     2474,    649.3,2,   3.8790,2,  34.8940,2,  34.8940,2,    292.5,2,    293.0,2,     8.21,2,    16.77,2,     0.00,2,   2301.2,2,   7.7260,2,20140619,1717,  59.0680, -46.0830
35PK20140515  ,OVIDE-A25  ,64      ,  1,15         ,15         ,20140619,1628,  59.0680, -46.0830,     2474,    750.0,2,   3.7410,2,  34.8820,2,  34.8810,2,    294.3,2,    295.0,2,     8.12,2,    16.75,2,     0.01,2,     -999,9,   7.7240,2,20140619,1714,  59.0680, -46.0830
35PK20140515  ,OVIDE-A25  ,64      ,  1,14         ,14         ,20140619,1628,  59.0680, -46.0830,     2474,    799.7,2,   3.6830,2,  34.8710,2,  34.8720,2,    296.3,2,    298.7,2,     8.05,2,    16.67,2,     0.00,2,   2301.5,2,   7.7240,2,20140619,1712,  59.0680, -46.0830
35PK20140515  ,OVIDE-A25  ,64      ,  1,13         ,13         ,20140619,1628,  59.0680, -46.0830,     2474,    899.9,2,   3.6220,2,  34.8680,2,  34.8680,2,    295.5,2,    296.5,2,     8.15,2,    16.66,2,     0.01,2,     -999,9,   7.7250,2,20140619,1709,  59.0680, -46.0830
35PK20140515  ,OVIDE-A25  ,64      ,  1,12         ,12         ,20140619,1628,  59.0680, -46.0830,     2474,    999.4,2,   3.6190,2,  34.8730,2,  34.8720,2,    291.6,2,    293.5,2,     8.47,2,    16.85,2,     0.01,2,   2299.7,2,   7.7210,2,20140619,1707,  59.0680, -46.0830
35PK20140515  ,OVIDE-A25  ,64      ,  1,11         ,11         ,20140619,1628,  59.0680, -46.0830,     2474,   1199.6,2,   3.7660,2,  34.9220,2,  34.9210,2,    276.5,2,    278.6,2,     9.64,2,    17.33,2,     0.00,2,   2302.8,2,   7.7260,2,20140619,1702,  59.0680, -46.0830
35PK20140515  ,OVIDE-A25  ,64      ,  1,10         ,10         ,20140619,1628,  59.0680, -46.0830,     2474,   1399.4,2,   3.6170,2,  34.9270,2,  34.9270,2,    275.2,2,    278.3,2,    10.16,2,    17.41,2,     0.01,2,     -999,9,   7.7240,2,20140619,1658,  59.0680, -46.0830
35PK20140515  ,OVIDE-A25  ,64      ,  1,9          ,9          ,20140619,1628,  59.0680, -46.0830,     2474,   1598.9,2,   3.4380,2,  34.9260,2,  34.9250,2,    276.5,2,    278.1,2,    10.45,2,    17.34,2,     0.01,2,   2303.4,2,   7.7300,2,20140619,1653,  59.0680, -46.0830
35PK20140515  ,OVIDE-A25  ,64      ,  1,8          ,8          ,20140619,1628,  59.0680, -46.0830,     2474,   1799.8,2,   3.2310,2,  34.9250,2,  34.9310,4,    277.0,2,    278.0,2,    11.14,2,    17.37,2,     0.01,2,     -999,9,   7.7300,2,20140619,1649,  59.0680, -46.0830
35PK20140515  ,OVIDE-A25  ,64      ,  1,7          ,7          ,20140619,1628,  59.0680, -46.0830,     2474,   1999.1,2,   3.0070,2,  34.9250,2,  34.9240,2,    277.9,2,    278.9,2,    12.08,2,    17.28,2,     0.01,2,   2304.4,2,   7.7320,2,20140619,1644,  59.0680, -46.0830
35PK20140515  ,OVIDE-A25  ,64      ,  1,5          ,5          ,20140619,1628,  59.0680, -46.0830,     2474,   2249.6,2,   2.7790,2,  34.9300,2,  34.9260,2,    279.1,2,    281.0,2,    12.71,2,    16.99,2,     0.01,2,     -999,9,   7.7340,2,20140619,1639,  59.0680, -46.0830
35PK20140515  ,OVIDE-A25  ,64      ,  1,6          ,6          ,20140619,1628,  59.0680, -46.0830,     2474,   2249.7,2,   2.7790,2,  34.9300,2,  34.9280,2,    279.1,2,    280.7,2,     -999,9,     -999,9,     -999,9,     -999,9,     -999,9,20140619,1639,  59.0680, -46.0830
35PK20140515  ,OVIDE-A25  ,64      ,  1,3          ,3          ,20140619,1628,  59.0680, -46.0830,     2474,   2401.0,2,   2.5400,2,  34.9150,2,  34.9140,2,    286.6,2,    288.4,2,    11.15,2,    16.22,2,     0.00,2,   2302.7,2,   7.7310,2,20140619,1632,  59.0680, -46.0830
35PK20140515  ,OVIDE-A25  ,64      ,  1,4          ,4          ,20140619,1628,  59.0680, -46.0830,     2474,   2401.0,2,   2.5390,2,  34.9150,2,  34.9130,2,    286.6,2,    287.7,2,     -999,9,     -999,9,     -999,9,     -999,9,     -999,9,20140619,1632,  59.0680, -46.0830
35PK20140515  ,OVIDE-A25  ,64      ,  1,1          ,1          ,20140619,1628,  59.0680, -46.0830,     2474,   2502.1,2,   2.3230,2,  34.9040,2,  34.9030,2,    291.4,2,    292.7,2,    10.21,2,    15.74,2,     0.01,2,   2302.0,2,   7.7290,2,20140619,1628,  59.0680, -46.0830
35PK20140515  ,OVIDE-A25  ,64      ,  1,2          ,2          ,20140619,1628,  59.0680, -46.0830,     2474,   2502.3,2,   2.3230,2,  34.9040,2,  34.9020,2,    291.4,2,    292.1,2,     -999,9,     -999,9,     -999,9,     -999,9,     -999,9,20140619,1628,  59.0680, -46.0830