BOTTLE,20240403CCHHYDRO
EXPOCODE,SECT_ID,STNNBR,CASTNO,SAMPNO,BTLNBR,DATE,TIME,LATITUDE,LONGITUDE,DEPTH,CTDPRS,CTDPRS_FLAG_W,CTDTMP,CTDTMP_FLAG_W,CTDSAL,CTDSAL_FLAG_W,SALNTY,SALNTY_FLAG_W,CTDOXY,CTDOXY_FLAG_W,OXYGEN,OXYGEN_FLAG_W,SILCAT,SILCAT_FLAG_W,NITRAT,NITRAT_FLAG_W,NITRIT,NITRIT_FLAG_W,ALKALI,ALKALI_FLAG_W,PH_TOT,PH_TOT_FLAG_W,BTL_DATE,BTL_TIME,BTL_LAT,BTL_LON
,,,,,,,,,,METERS,DBAR,,ITS-90,,PSS-78,,PSS-78,,UMOL/KG,,UMOL/KG,,UMOL/KG,,UMOL/KG,,UMOL/KG,,UMOL/KG,,,,,,,
35PK20140515  ,OVIDE-A25  ,58      ,  1,24         ,24         ,20140617,1242,  59.8150, -42.2790,      889,      6.3,2,   4.9300,2,  34.6900,2,  34.6900,2,    318.1,2,    317.1,2,     3.52,2,     8.77,2,     0.24,2,   2297.4,2,   7.8030,2,20140617,1315,  59.8140, -42.2850
35PK20140515  ,OVIDE-A25  ,58      ,  1,23         ,23         ,20140617,1242,  59.8150, -42.2790,      889,     10.8,2,   4.9120,2,  34.6900,2,     -999,9,    318.1,2,     -999,9,     -999,9,     -999,9,     -999,9,     -999,9,     -999,9,20140617,1314,  59.8140, -42.2850
35PK20140515  ,OVIDE-A25  ,58      ,  1,22         ,22         ,20140617,1242,  59.8150, -42.2790,      889,     25.9,2,   5.0440,2,  34.7170,2,     -999,9,    317.4,2,     -999,9,     -999,9,     -999,9,     -999,9,     -999,9,     -999,9,20140617,1313,  59.8140, -42.2840
35PK20140515  ,OVIDE-A25  ,58      ,  1,21         ,21         ,20140617,1242,  59.8150, -42.2790,      889,     49.8,2,   5.3660,2,  34.7700,2,  34.7730,2,    316.1,2,    315.3,2,     3.21,2,     8.75,2,     0.24,2,     -999,9,   7.8160,2,20140617,1311,  59.8140, -42.2840
35PK20140515  ,OVIDE-A25  ,58      ,  1,20         ,20         ,20140617,1242,  59.8150, -42.2790,      889,     75.0,2,   5.3880,2,  34.8060,2,     -999,9,    312.3,2,     -999,9,     -999,9,     -999,9,     -999,9,     -999,9,     -999,9,20140617,1310,  59.8140, -42.2840
35PK20140515  ,OVIDE-A25  ,58      ,  1,19         ,19         ,20140617,1242,  59.8150, -42.2790,      889,    100.0,2,   4.8670,2,  34.7750,2,  34.7730,2,    309.5,2,    309.5,2,     5.19,2,    10.12,2,     0.58,2,   2301.5,2,   7.7810,2,20140617,1308,  59.8150, -42.2830
35PK20140515  ,OVIDE-A25  ,58      ,  1,18         ,18         ,20140617,1242,  59.8150, -42.2790,      889,    150.0,2,   4.6990,2,  34.7800,2,     -999,9,    305.7,2,     -999,9,     -999,9,     -999,9,     -999,9,     -999,9,   7.7670,2,20140617,1306,  59.8150, -42.2830
35PK20140515  ,OVIDE-A25  ,58      ,  1,16         ,16         ,20140617,1242,  59.8150, -42.2790,      889,    200.6,2,   4.7930,2,  34.8070,2,  34.8070,2,    303.4,2,    303.3,2,     5.79,2,    11.28,2,     0.61,2,   2302.9,2,   7.7610,2,20140617,1304,  59.8150, -42.2830
35PK20140515  ,OVIDE-A25  ,58      ,  1,17         ,17         ,20140617,1242,  59.8150, -42.2790,      889,    200.6,2,   4.7930,2,  34.8070,2,     -999,9,    303.4,2,     -999,9,     -999,9,     -999,9,     -999,9,     -999,9,     -999,9,20140617,1304,  59.8150, -42.2830
35PK20140515  ,OVIDE-A25  ,58      ,  1,14         ,14         ,20140617,1242,  59.8150, -42.2790,      889,    300.5,2,   5.0520,2,  34.8680,2,  34.8670,2,    299.6,2,    297.9,2,     6.04,2,    12.02,2,     0.63,2,   2305.6,2,   7.7590,2,20140617,1301,  59.8150, -42.2820
35PK20140515  ,OVIDE-A25  ,58      ,  1,15         ,15         ,20140617,1242,  59.8150, -42.2790,      889,    300.5,2,   5.0520,2,  34.8680,2,     -999,9,    299.6,2,     -999,9,     -999,9,     -999,9,     -999,9,     -999,9,     -999,9,20140617,1301,  59.8150, -42.2820
35PK20140515  ,OVIDE-A25  ,58      ,  1,12         ,12         ,20140617,1242,  59.8150, -42.2790,      889,    401.3,2,   5.1600,2,  34.9080,2,  34.9080,2,    291.0,2,    294.2,2,     6.73,2,    12.86,2,     0.63,2,   2306.7,2,   7.7530,2,20140617,1258,  59.8150, -42.2810
35PK20140515  ,OVIDE-A25  ,58      ,  1,13         ,13         ,20140617,1242,  59.8150, -42.2790,      889,    401.4,2,   5.1600,2,  34.9080,2,     -999,9,    291.4,2,     -999,9,     -999,9,     -999,9,     -999,9,     -999,9,     -999,9,20140617,1258,  59.8150, -42.2810
35PK20140515  ,OVIDE-A25  ,58      ,  1,11         ,11         ,20140617,1242,  59.8150, -42.2790,      889,    498.4,2,   5.1470,2,  34.9150,2,     -999,9,    291.6,2,     -999,9,     -999,9,     -999,9,     -999,9,     -999,9,     -999,9,20140617,1255,  59.8150, -42.2810
35PK20140515  ,OVIDE-A25  ,58      ,  1,10         ,10         ,20140617,1242,  59.8150, -42.2790,      889,    498.5,2,   5.1470,2,  34.9320,2,  34.9340,2,    291.6,2,    289.7,2,     7.02,2,    13.95,2,     0.25,2,     -999,9,   7.7470,2,20140617,1254,  59.8150, -42.2810
35PK20140515  ,OVIDE-A25  ,58      ,  1,8          ,8          ,20140617,1242,  59.8150, -42.2790,      889,    601.1,2,   4.9170,2,  34.9480,2,  34.9480,2,    287.9,2,    286.8,2,     7.60,2,    15.04,2,     0.06,2,   2307.3,2,   7.7380,2,20140617,1252,  59.8150, -42.2800
35PK20140515  ,OVIDE-A25  ,58      ,  1,9          ,9          ,20140617,1242,  59.8150, -42.2790,      889,    601.3,2,   4.9120,2,  34.9480,2,     -999,9,    288.5,2,     -999,9,     -999,9,     -999,9,     -999,9,     -999,9,     -999,9,20140617,1252,  59.8150, -42.2800
35PK20140515  ,OVIDE-A25  ,58      ,  1,6          ,6          ,20140617,1242,  59.8150, -42.2790,      889,    700.4,2,   4.5880,2,  34.9410,2,  34.9400,2,    283.1,2,    282.7,2,     8.11,2,    15.39,2,     0.02,2,     -999,9,   7.7280,2,20140617,1248,  59.8150, -42.2790
35PK20140515  ,OVIDE-A25  ,58      ,  1,7          ,7          ,20140617,1242,  59.8150, -42.2790,      889,    700.5,2,   4.5780,2,  34.9060,2,     -999,9,    283.1,2,     -999,9,     -999,9,     -999,9,     -999,9,     -999,9,     -999,9,20140617,1249,  59.8150, -42.2790
35PK20140515  ,OVIDE-A25  ,58      ,  1,4          ,4          ,20140617,1242,  59.8150, -42.2790,      889,    798.5,2,   4.3990,2,  34.9360,2,  34.9350,2,    281.7,2,    281.5,2,     8.36,2,    15.56,2,     0.01,2,     -999,9,   7.7270,2,20140617,1246,  59.8150, -42.2790
35PK20140515  ,OVIDE-A25  ,58      ,  1,5          ,5          ,20140617,1242,  59.8150, -42.2790,      889,    798.5,2,   4.4000,2,  34.9020,2,     -999,9,    281.7,2,     -999,9,     -999,9,     -999,9,     -999,9,     -999,9,     -999,9,20140617,1246,  59.8150, -42.2790
35PK20140515  ,OVIDE-A25  ,58      ,  1,3          ,3          ,20140617,1242,  59.8150, -42.2790,      889,    850.2,2,   4.2470,2,  34.9300,2,  34.9300,2,    280.4,2,    280.8,2,     8.64,2,    15.65,2,     0.01,2,     -999,9,     -999,9,20140617,1244,  59.8150, -42.2790
35PK20140515  ,OVIDE-A25  ,58      ,  1,2          ,2          ,20140617,1242,  59.8150, -42.2790,      889,    879.3,2,   4.2260,2,  34.9350,2,     -999,9,    280.2,2,     -999,9,     -999,9,     -999,9,     -999,9,     -999,9,     -999,9,20140617,1242,  59.8150, -42.2790
35PK20140515  ,OVIDE-A25  ,58      ,  1,1          ,1          ,20140617,1242,  59.8150, -42.2790,      889,    879.4,2,   4.2260,2,  34.9290,2,  34.9290,2,    280.2,2,    281.3,2,     8.58,2,    15.75,2,     0.01,2,   2306.6,2,   7.7260,2,20140617,1242,  59.8150, -42.2790
35PK20140515  ,OVIDE-A25  ,60      ,  3,24         ,24         ,20140618,0034,  59.7990, -42.0140,     1720,      4.6,2,   7.0430,2,  34.8730,2,  34.8730,2,    327.4,2,    325.5,2,     4.19,2,     7.61,2,     0.11,2,     -999,9,   7.8550,2,20140618,0126,  59.7990, -42.0140
35PK20140515  ,OVIDE-A25  ,60      ,  3,23         ,23         ,20140618,0034,  59.7990, -42.0140,     1720,     20.3,2,   6.6900,2,  34.8960,2,     -999,9,    314.4,2,     -999,9,     -999,9,     -999,9,     -999,9,     -999,9,     -999,9,20140618,0125,  59.7990, -42.0140
35PK20140515  ,OVIDE-A25  ,60      ,  3,22         ,22         ,20140618,0034,  59.7990, -42.0140,     1720,     50.4,2,   6.1200,2,  34.9580,2,     -999,9,    305.2,2,     -999,9,     -999,9,     -999,9,     -999,9,     -999,9,     -999,9,20140618,0123,  59.7990, -42.0140
35PK20140515  ,OVIDE-A25  ,60      ,  3,21         ,21         ,20140618,0034,  59.7990, -42.0140,     1720,     50.5,2,   6.1070,2,  34.9600,2,  34.9610,2,    305.2,2,    304.6,2,     4.99,2,    10.52,2,     0.19,2,     -999,9,   7.7900,2,20140618,0123,  59.7990, -42.0140
35PK20140515  ,OVIDE-A25  ,60      ,  3,20         ,20         ,20140618,0034,  59.7990, -42.0140,     1720,    100.0,2,   5.6970,2,  34.9990,2,  34.9990,2,    292.1,2,    291.5,2,     6.72,2,    13.19,2,     0.27,2,     -999,9,   7.7570,2,20140618,0121,  59.7990, -42.0140
35PK20140515  ,OVIDE-A25  ,60      ,  3,19         ,19         ,20140618,0034,  59.7990, -42.0140,     1720,    109.7,2,   5.6330,2,  34.9970,2,     -999,9,    291.6,2,     -999,9,     -999,9,     -999,9,     -999,9,     -999,9,     -999,9,20140618,0120,  59.7990, -42.0140
35PK20140515  ,OVIDE-A25  ,60      ,  3,18         ,18         ,20140618,0034,  59.7990, -42.0140,     1720,    152.2,2,   5.3260,2,  34.9770,2,  34.9750,2,    290.2,2,    289.5,2,     7.23,2,    14.10,2,     0.13,2,     -999,9,   7.7480,2,20140618,0117,  59.7990, -42.0140
35PK20140515  ,OVIDE-A25  ,60      ,  3,17         ,17         ,20140618,0034,  59.7990, -42.0140,     1720,    152.2,2,   5.3240,2,  34.9770,2,     -999,9,    290.2,2,     -999,9,     -999,9,     -999,9,     -999,9,     -999,9,     -999,9,20140618,0116,  59.7990, -42.0140
35PK20140515  ,OVIDE-A25  ,60      ,  3,15         ,15         ,20140618,0034,  59.7990, -42.0140,     1720,    252.3,2,   4.6900,2,  34.9400,2,  34.9400,2,    287.8,2,    287.3,2,     7.76,2,    14.65,2,     0.01,2,     -999,9,   7.7330,2,20140618,0113,  59.7990, -42.0140
35PK20140515  ,OVIDE-A25  ,60      ,  3,16         ,16         ,20140618,0034,  59.7990, -42.0140,     1720,    252.5,2,   4.6900,2,  34.9410,2,     -999,9,    287.8,2,     -999,9,     -999,9,     -999,9,     -999,9,     -999,9,     -999,9,20140618,0113,  59.7990, -42.0140
35PK20140515  ,OVIDE-A25  ,60      ,  3,14         ,14         ,20140618,0034,  59.7990, -42.0140,     1720,    401.4,2,   4.3940,2,  34.9270,2,     -999,9,    288.7,2,     -999,9,     -999,9,     -999,9,     -999,9,     -999,9,     -999,9,20140618,0109,  59.7990, -42.0140
35PK20140515  ,OVIDE-A25  ,60      ,  3,13         ,13         ,20140618,0034,  59.7990, -42.0140,     1720,    500.1,2,   4.2280,2,  34.9230,2,  34.9240,2,    286.3,2,    288.1,2,     8.29,2,    15.17,2,     0.01,2,     -999,9,   7.7220,2,20140618,0106,  59.7990, -42.0140
35PK20140515  ,OVIDE-A25  ,60      ,  3,12         ,12         ,20140618,0034,  59.7990, -42.0140,     1720,    751.6,2,   3.9220,2,  34.9010,2,     -999,9,    287.0,2,     -999,9,     -999,9,     -999,9,     -999,9,     -999,9,     -999,9,20140618,0100,  59.7990, -42.0140
35PK20140515  ,OVIDE-A25  ,60      ,  3,11         ,11         ,20140618,0034,  59.7990, -42.0140,     1720,    800.7,2,   3.9340,2,  34.9100,2,  34.9080,2,    284.4,2,    284.4,2,     8.79,2,    15.22,2,     0.00,2,     -999,9,   7.7200,2,20140618,0058,  59.7990, -42.0140
35PK20140515  ,OVIDE-A25  ,60      ,  3,9          ,9          ,20140618,0034,  59.7990, -42.0140,     1720,    999.4,2,   3.8330,2,  34.9260,2,     -999,9,    277.0,2,     -999,9,     -999,9,     -999,9,     -999,9,     -999,9,     -999,9,20140618,0053,  59.7990, -42.0140
35PK20140515  ,OVIDE-A25  ,60      ,  3,10         ,10         ,20140618,0034,  59.7990, -42.0140,     1720,    999.5,2,   3.8330,2,  34.9260,2,  34.9250,2,    277.0,2,    277.4,2,     9.48,2,    15.47,2,     0.00,2,     -999,9,   7.7210,2,20140618,0054,  59.7990, -42.0140
35PK20140515  ,OVIDE-A25  ,60      ,  3,7          ,7          ,20140618,0034,  59.7990, -42.0140,     1720,   1201.7,2,   3.6650,2,  34.9320,2,  34.9310,2,    277.3,2,    278.5,2,     9.82,2,    15.28,2,     0.00,2,     -999,9,   7.7250,2,20140618,0048,  59.7990, -42.0140
35PK20140515  ,OVIDE-A25  ,60      ,  3,8          ,8          ,20140618,0034,  59.7990, -42.0140,     1720,   1201.8,2,   3.6610,2,  34.9320,2,     -999,9,    277.3,2,     -999,9,     -999,9,     -999,9,     -999,9,     -999,9,     -999,9,20140618,0049,  59.7990, -42.0140
35PK20140515  ,OVIDE-A25  ,60      ,  3,5          ,5          ,20140618,0034,  59.7990, -42.0140,     1720,   1400.6,2,   3.4120,2,  34.9210,2,     -999,9,    280.7,2,     -999,9,     -999,9,     -999,9,     -999,9,     -999,9,     -999,9,20140618,0044,  59.7990, -42.0140
35PK20140515  ,OVIDE-A25  ,60      ,  3,6          ,6          ,20140618,0034,  59.7990, -42.0140,     1720,   1400.6,2,   3.4130,2,  34.9210,2,  34.9190,2,    280.7,2,    281.1,2,     9.63,2,    14.88,2,     0.00,2,     -999,9,   7.7250,2,20140618,0044,  59.7990, -42.0140
35PK20140515  ,OVIDE-A25  ,60      ,  3,4          ,4          ,20140618,0034,  59.7990, -42.0140,     1720,   1500.7,2,   3.3740,2,  34.9190,2,     -999,9,    281.3,2,     -999,9,     -999,9,     -999,9,     -999,9,     -999,9,     -999,9,20140618,0041,  59.7990, -42.0140
35PK20140515  ,OVIDE-A25  ,60      ,  3,3          ,3          ,20140618,0034,  59.7990, -42.0140,     1720,   1600.4,2,   3.2880,2,  34.9170,2,     -999,9,    282.3,2,     -999,9,     -999,9,     -999,9,     -999,9,     -999,9,     -999,9,20140618,0038,  59.7990, -42.0140
35PK20140515  ,OVIDE-A25  ,60      ,  3,2          ,2          ,20140618,0034,  59.7990, -42.0140,     1720,   1719.4,2,   3.0730,2,  34.9110,2,     -999,9,    284.4,2,     -999,9,     -999,9,     -999,9,     -999,9,     -999,9,     -999,9,20140618,0034,  59.7990, -42.0140
35PK20140515  ,OVIDE-A25  ,60      ,  3,1          ,1          ,20140618,0034,  59.7990, -42.0140,     1720,   1738.1,2,   3.0610,2,  34.9110,2,  34.9150,2,    284.7,2,    286.1,2,     9.70,2,    14.51,2,     0.00,2,     -999,9,   7.7250,2,20140618,0034,  59.7990, -42.0140