BOTTLE,20240403CCHHYDRO
EXPOCODE,SECT_ID,STNNBR,CASTNO,SAMPNO,BTLNBR,DATE,TIME,LATITUDE,LONGITUDE,DEPTH,CTDPRS,CTDPRS_FLAG_W,CTDTMP,CTDTMP_FLAG_W,CTDSAL,CTDSAL_FLAG_W,SALNTY,SALNTY_FLAG_W,CTDOXY,CTDOXY_FLAG_W,OXYGEN,OXYGEN_FLAG_W,SILCAT,SILCAT_FLAG_W,NITRAT,NITRAT_FLAG_W,NITRIT,NITRIT_FLAG_W,ALKALI,ALKALI_FLAG_W,PH_TOT,PH_TOT_FLAG_W,BTL_DATE,BTL_TIME,BTL_LAT,BTL_LON
,,,,,,,,,,METERS,DBAR,,ITS-90,,PSS-78,,PSS-78,,UMOL/KG,,UMOL/KG,,UMOL/KG,,UMOL/KG,,UMOL/KG,,UMOL/KG,,,,,,,
35PK20140515  ,OVIDE-A25  ,39      ,  1,24         ,24         ,20140611,2327,  58.9740, -32.5570,     1944,      6.7,2,   8.5860,2,  34.9450,2,  34.9460,2,    307.8,2,    305.6,2,     0.47,2,     6.58,2,     0.19,2,   2303.8,2,   7.8930,2,20140612,0027,  58.9730, -32.5560
35PK20140515  ,OVIDE-A25  ,39      ,  1,23         ,23         ,20140611,2327,  58.9740, -32.5570,     1944,     41.0,2,   7.3470,2,  34.9690,2,  34.9690,2,    309.2,2,    310.9,2,     4.73,2,     8.96,2,     0.25,2,     -999,9,   7.8390,2,20140612,0023,  58.9730, -32.5560
35PK20140515  ,OVIDE-A25  ,39      ,  1,22         ,22         ,20140611,2327,  58.9740, -32.5570,     1944,    100.4,2,   5.9010,2,  34.9300,2,  34.9310,2,    295.6,2,    294.2,2,     7.50,2,    14.18,2,     -999,9,   2305.0,2,   7.7650,2,20140612,0020,  58.9730, -32.5560
35PK20140515  ,OVIDE-A25  ,39      ,  1,21         ,21         ,20140611,2327,  58.9740, -32.5570,     1944,    150.1,2,   5.6300,2,  34.9540,2,  34.9550,2,    283.9,2,    282.7,2,     7.41,2,    15.49,2,     0.02,2,     -999,9,   7.7460,2,20140612,0018,  58.9730, -32.5550
35PK20140515  ,OVIDE-A25  ,39      ,  1,20         ,20         ,20140611,2327,  58.9740, -32.5570,     1944,    199.7,2,   5.5110,2,  34.9530,2,  34.9530,2,    284.9,2,    283.2,2,     7.60,2,    15.68,2,     0.02,2,   2305.2,2,   7.7450,2,20140612,0016,  58.9730, -32.5560
35PK20140515  ,OVIDE-A25  ,39      ,  1,19         ,19         ,20140611,2327,  58.9740, -32.5570,     1944,    300.8,2,   5.0630,2,  34.9320,2,  34.9330,2,    277.8,2,    276.9,2,     8.10,2,    16.17,2,     0.02,2,   2305.7,2,   7.7300,2,20140612,0014,  58.9730, -32.5550
35PK20140515  ,OVIDE-A25  ,39      ,  1,18         ,18         ,20140611,2327,  58.9740, -32.5570,     1944,    301.0,2,   5.0630,2,  34.9310,2,     -999,9,    277.8,2,     -999,9,     -999,9,     -999,9,     -999,9,     -999,9,     -999,9,20140612,0013,  58.9730, -32.5550
35PK20140515  ,OVIDE-A25  ,39      ,  1,17         ,17         ,20140611,2327,  58.9740, -32.5570,     1944,    399.4,2,   4.7770,2,  34.9270,2,  34.9290,2,    279.9,2,    278.8,2,     8.29,2,    16.50,2,     0.01,2,   2304.9,2,   7.7260,2,20140612,0011,  58.9730, -32.5560
35PK20140515  ,OVIDE-A25  ,39      ,  1,16         ,16         ,20140611,2327,  58.9740, -32.5570,     1944,    500.8,2,   4.6470,2,  34.9420,2,  34.9420,2,    267.7,2,    271.2,2,     9.15,2,    16.96,2,     0.01,2,   2305.6,2,   7.7180,2,20140612,0008,  58.9730, -32.5560
35PK20140515  ,OVIDE-A25  ,39      ,  1,15         ,15         ,20140611,2327,  58.9740, -32.5570,     1944,    599.8,2,   4.4680,2,  34.9440,2,  34.9450,2,    268.4,2,    268.7,2,     9.43,2,    17.16,2,     0.01,2,   2305.7,2,   7.7160,2,20140612,0005,  58.9730, -32.5560
35PK20140515  ,OVIDE-A25  ,39      ,  1,14         ,14         ,20140611,2327,  58.9740, -32.5570,     1944,    701.0,2,   4.3940,2,  34.9570,2,  34.9590,2,    264.1,2,    263.1,2,     9.90,2,    17.20,2,     0.00,2,     -999,9,   7.7170,2,20140612,0002,  58.9730, -32.5550
35PK20140515  ,OVIDE-A25  ,39      ,  1,13         ,13         ,20140611,2327,  58.9740, -32.5570,     1944,    751.1,2,   4.2970,2,  34.9500,2,     -999,9,    268.4,2,     -999,9,     -999,9,     -999,9,     -999,9,     -999,9,     -999,9,20140612,0000,  58.9730, -32.5560
35PK20140515  ,OVIDE-A25  ,39      ,  1,12         ,12         ,20140611,2327,  58.9740, -32.5570,     1944,    801.4,2,   4.1540,2,  34.9420,2,  34.9420,2,    271.1,2,    271.1,2,     9.69,2,    16.92,2,     0.00,2,   2305.6,2,   7.7150,2,20140611,2358,  58.9730, -32.5560
35PK20140515  ,OVIDE-A25  ,39      ,  1,10         ,10         ,20140611,2327,  58.9740, -32.5570,     1944,    900.7,2,   3.9940,2,  34.9420,2,  34.9440,2,    271.6,2,    270.3,2,    10.08,2,    16.94,2,     0.00,2,     -999,9,   7.7190,2,20140611,2355,  58.9730, -32.5560
35PK20140515  ,OVIDE-A25  ,39      ,  1,11         ,11         ,20140611,2327,  58.9740, -32.5570,     1944,    900.7,2,   3.9970,2,  34.9390,2,     -999,9,    271.6,2,     -999,9,     -999,9,     -999,9,     -999,9,     -999,9,     -999,9,20140611,2355,  58.9730, -32.5560
35PK20140515  ,OVIDE-A25  ,39      ,  1,9          ,9          ,20140611,2327,  58.9740, -32.5570,     1944,   1000.2,2,   3.9090,2,  34.9470,2,  34.9480,2,    271.2,2,    270.8,2,    10.23,2,    16.86,2,     0.00,2,   2305.7,2,   7.7240,2,20140611,2352,  58.9730, -32.5560
35PK20140515  ,OVIDE-A25  ,39      ,  1,8          ,8          ,20140611,2327,  58.9740, -32.5570,     1944,   1100.2,2,   3.8540,2,  34.9560,2,  34.9570,2,    271.3,2,    271.5,2,    10.31,2,    16.70,2,     0.00,2,     -999,9,   7.7200,2,20140611,2350,  58.9730, -32.5550
35PK20140515  ,OVIDE-A25  ,39      ,  1,7          ,7          ,20140611,2327,  58.9740, -32.5570,     1944,   1200.8,2,   3.8140,2,  34.9610,2,  34.9630,2,    271.3,2,    271.3,2,    10.45,2,    16.64,2,     0.00,2,   2306.5,2,   7.7250,2,20140611,2347,  58.9730, -32.5560
35PK20140515  ,OVIDE-A25  ,39      ,  1,6          ,6          ,20140611,2327,  58.9740, -32.5570,     1944,   1300.5,2,   3.8130,2,  34.9630,2,  34.9650,2,    271.2,2,    270.9,2,    10.38,2,    16.65,2,     0.00,2,     -999,9,   7.7240,2,20140611,2344,  58.9730, -32.5560
35PK20140515  ,OVIDE-A25  ,39      ,  1,5          ,5          ,20140611,2327,  58.9740, -32.5570,     1944,   1500.7,2,   3.7740,2,  34.9640,2,  34.9660,2,    271.3,2,    271.8,2,    10.62,2,    16.61,2,     0.00,2,   2307.3,2,   7.7260,2,20140611,2339,  58.9740, -32.5560
35PK20140515  ,OVIDE-A25  ,39      ,  1,3          ,3          ,20140611,2327,  58.9740, -32.5570,     1944,   1751.3,2,   3.6700,2,  34.9640,2,  34.9680,2,    271.8,2,    272.0,2,    11.00,2,    16.56,2,     0.00,2,     -999,9,   7.7270,2,20140611,2332,  58.9740, -32.5570
35PK20140515  ,OVIDE-A25  ,39      ,  1,4          ,4          ,20140611,2327,  58.9740, -32.5570,     1944,   1751.5,2,   3.6690,2,  34.9640,2,     -999,9,    271.8,2,     -999,9,     -999,9,     -999,9,     -999,9,     -999,9,     -999,9,20140611,2333,  58.9740, -32.5570
35PK20140515  ,OVIDE-A25  ,39      ,  1,1          ,1          ,20140611,2327,  58.9740, -32.5570,     1944,   1934.2,2,   3.4010,2,  34.9590,2,  34.9610,2,    273.0,2,    273.1,2,    11.75,2,    16.48,2,     0.00,2,   2307.8,2,   7.7270,2,20140611,2327,  58.9740, -32.5570
35PK20140515  ,OVIDE-A25  ,39      ,  1,2          ,2          ,20140611,2327,  58.9740, -32.5570,     1944,   1934.4,2,   3.4020,2,  34.9580,2,     -999,9,    273.0,2,     -999,9,     -999,9,     -999,9,     -999,9,     -999,9,     -999,9,20140611,2327,  58.9740, -32.5570
35PK20140515  ,OVIDE-A25  ,40      ,  1,24         ,24         ,20140612,0539,  59.1020, -33.8280,     2315,      5.0,2,   8.4710,2,  34.9840,2,  34.9840,2,    307.3,2,    307.0,2,     1.66,2,     6.96,2,     0.16,2,   2308.9,2,   7.8630,2,20140612,0647,  59.1020, -33.8280
35PK20140515  ,OVIDE-A25  ,40      ,  1,23         ,23         ,20140612,0539,  59.1020, -33.8280,     2315,     37.7,2,   7.4200,2,  34.9740,2,  34.9750,2,    303.0,2,    303.3,2,     5.74,2,     9.63,2,     0.25,2,   2312.6,2,   7.8130,2,20140612,0646,  59.1020, -33.8280
35PK20140515  ,OVIDE-A25  ,40      ,  1,22         ,22         ,20140612,0539,  59.1020, -33.8280,     2315,    100.1,2,   6.3440,2,  34.9990,2,  35.0000,2,    283.7,2,    284.6,2,     7.28,2,    14.83,2,     0.09,2,   2308.6,2,   7.7420,2,20140612,0642,  59.1020, -33.8280
35PK20140515  ,OVIDE-A25  ,40      ,  1,21         ,21         ,20140612,0539,  59.1020, -33.8280,     2315,    149.7,2,   6.2490,2,  35.0090,2,  35.0090,2,    280.5,2,    278.8,2,     7.08,2,    15.38,2,     0.02,2,   2309.4,2,   7.7450,2,20140612,0640,  59.1020, -33.8280
35PK20140515  ,OVIDE-A25  ,40      ,  1,20         ,20         ,20140612,0539,  59.1020, -33.8280,     2315,    200.5,2,   6.0350,2,  34.9960,2,  34.9980,2,    286.7,2,    285.5,2,     6.97,2,    15.17,2,     0.01,2,   2308.8,2,   7.7490,2,20140612,0638,  59.1020, -33.8280
35PK20140515  ,OVIDE-A25  ,40      ,  1,19         ,19         ,20140612,0539,  59.1020, -33.8280,     2315,    249.9,2,   5.8900,2,  34.9840,2,  34.9840,2,    289.8,2,    288.3,2,     6.85,2,    14.93,2,     0.00,2,     -999,9,   7.7520,2,20140612,0636,  59.1020, -33.8280
35PK20140515  ,OVIDE-A25  ,40      ,  1,18         ,18         ,20140612,0539,  59.1020, -33.8280,     2315,    301.7,2,   5.5990,2,  34.9490,2,  34.9500,2,    280.9,2,    282.5,2,     7.43,2,    15.70,2,     0.01,2,   2306.5,2,   7.7380,2,20140612,0634,  59.1020, -33.8280
35PK20140515  ,OVIDE-A25  ,40      ,  1,17         ,17         ,20140612,0539,  59.1020, -33.8280,     2315,    400.6,2,   5.6320,2,  34.9910,2,  34.9910,2,    274.6,2,    273.5,2,     7.97,2,    16.00,2,     0.00,2,   2308.9,2,   7.7350,2,20140612,0631,  59.1020, -33.8280
35PK20140515  ,OVIDE-A25  ,40      ,  1,16         ,16         ,20140612,0539,  59.1020, -33.8280,     2315,    500.2,2,   5.3050,2,  34.9820,2,  34.9820,2,    260.7,2,    260.7,2,     9.03,2,    17.09,2,     0.00,2,   2308.8,2,   7.7210,2,20140612,0628,  59.1020, -33.8280
35PK20140515  ,OVIDE-A25  ,40      ,  1,15         ,15         ,20140612,0539,  59.1020, -33.8280,     2315,    601.3,2,   5.0670,2,  34.9870,2,  34.9870,2,    258.5,2,    256.9,2,     9.57,2,    17.56,2,     0.00,2,   2308.5,2,   7.7130,2,20140612,0626,  59.1020, -33.8280
35PK20140515  ,OVIDE-A25  ,40      ,  1,14         ,14         ,20140612,0539,  59.1020, -33.8280,     2315,    701.7,2,   4.6280,2,  34.9530,2,  34.9530,2,    269.0,2,    268.0,2,     9.23,2,    17.14,2,     0.00,2,     -999,9,   7.7200,2,20140612,0623,  59.1020, -33.8280
35PK20140515  ,OVIDE-A25  ,40      ,  1,13         ,13         ,20140612,0539,  59.1020, -33.8280,     2315,    799.8,2,   4.3690,2,  34.9370,2,  34.9370,2,    275.4,2,    276.0,2,     8.92,2,    16.90,2,     0.00,2,   2304.6,2,   7.7180,2,20140612,0620,  59.1020, -33.8280
35PK20140515  ,OVIDE-A25  ,40      ,  1,12         ,12         ,20140612,0539,  59.1020, -33.8280,     2315,    901.6,2,   4.1830,2,  34.9300,2,  34.9300,2,    276.2,2,    277.6,2,     9.28,2,    16.90,2,     0.00,2,     -999,9,   7.7180,2,20140612,0618,  59.1020, -33.8280
35PK20140515  ,OVIDE-A25  ,40      ,  1,11         ,11         ,20140612,0539,  59.1020, -33.8280,     2315,    999.8,2,   4.0250,2,  34.9210,2,  34.9220,2,    278.2,2,    279.7,2,     9.30,2,    16.87,2,     0.00,2,   2303.3,2,   7.7220,2,20140612,0615,  59.1020, -33.8280
35PK20140515  ,OVIDE-A25  ,40      ,  1,10         ,10         ,20140612,0539,  59.1020, -33.8280,     2315,   1100.5,2,   4.0470,2,  34.9480,2,  34.9480,2,    271.6,2,    271.9,2,     9.91,2,    16.92,2,     0.00,2,     -999,9,   7.7210,2,20140612,0612,  59.1020, -33.8280
35PK20140515  ,OVIDE-A25  ,40      ,  1,9          ,9          ,20140612,0539,  59.1020, -33.8280,     2315,   1200.6,2,   3.9190,2,  34.9530,2,  34.9540,2,    271.6,2,    272.1,2,    10.26,2,    16.87,2,     0.00,2,   2305.8,2,   7.7230,2,20140612,0609,  59.1020, -33.8280
35PK20140515  ,OVIDE-A25  ,40      ,  1,8          ,8          ,20140612,0539,  59.1020, -33.8280,     2315,   1300.5,2,   3.7890,2,  34.9430,2,  34.9430,2,    272.2,2,    272.3,2,    10.61,2,    16.86,2,     0.00,2,     -999,9,   7.7250,2,20140612,0606,  59.1020, -33.8280
35PK20140515  ,OVIDE-A25  ,40      ,  1,7          ,7          ,20140612,0539,  59.1020, -33.8280,     2315,   1401.3,2,   3.6860,2,  34.9360,2,  34.9360,2,    272.6,2,    272.6,2,    10.62,2,    16.89,2,     0.00,2,     -999,9,   7.7250,2,20140612,0603,  59.1020, -33.8280
35PK20140515  ,OVIDE-A25  ,40      ,  1,6          ,6          ,20140612,0539,  59.1020, -33.8280,     2315,   1500.3,2,   3.6440,2,  34.9380,2,  34.9390,2,    272.7,2,    273.2,2,    10.82,2,    16.89,2,     0.00,2,   2304.6,2,   7.7260,2,20140612,0600,  59.1020, -33.8280
35PK20140515  ,OVIDE-A25  ,40      ,  1,5          ,5          ,20140612,0539,  59.1020, -33.8280,     2315,   1701.5,2,   3.5340,2,  34.9390,2,  34.9390,2,    273.4,2,    274.0,2,    11.01,2,    16.82,2,     0.00,2,     -999,9,   7.7280,2,20140612,0555,  59.1020, -33.8280
35PK20140515  ,OVIDE-A25  ,40      ,  1,4          ,4          ,20140612,0539,  59.1020, -33.8280,     2315,   2000.3,2,   3.3660,2,  34.9480,2,  34.9490,2,    273.9,2,    274.3,2,    11.63,2,    16.76,2,     0.00,2,   2307.4,2,   7.7310,2,20140612,0549,  59.1020, -33.8280
35PK20140515  ,OVIDE-A25  ,40      ,  1,3          ,3          ,20140612,0539,  59.1020, -33.8280,     2315,   2100.2,2,   3.3160,2,  34.9500,2,  34.9500,2,    273.9,2,    274.2,2,    11.78,2,    16.66,2,     0.00,2,     -999,9,   7.7310,2,20140612,0546,  59.1020, -33.8280
35PK20140515  ,OVIDE-A25  ,40      ,  1,2          ,2          ,20140612,0539,  59.1020, -33.8280,     2315,   2202.0,2,   3.2850,2,  34.9510,2,  34.9510,2,    273.5,2,    273.8,2,    12.19,2,    16.50,2,     0.00,2,     -999,9,   7.7120,2,20140612,0543,  59.1020, -33.8280
35PK20140515  ,OVIDE-A25  ,40      ,  1,1          ,1          ,20140612,0539,  59.1020, -33.8280,     2315,   2304.9,2,   3.2060,2,  34.9510,2,  34.9520,2,    273.8,2,    273.7,2,    12.63,2,    16.56,2,     0.00,2,   2307.2,2,   7.7310,2,20140612,0539,  59.1020, -33.8280