BOTTLE,20240403CCHHYDRO
EXPOCODE,SECT_ID,STNNBR,CASTNO,SAMPNO,BTLNBR,DATE,TIME,LATITUDE,LONGITUDE,DEPTH,CTDPRS,CTDPRS_FLAG_W,CTDTMP,CTDTMP_FLAG_W,CTDSAL,CTDSAL_FLAG_W,SALNTY,SALNTY_FLAG_W,CTDOXY,CTDOXY_FLAG_W,OXYGEN,OXYGEN_FLAG_W,SILCAT,SILCAT_FLAG_W,NITRAT,NITRAT_FLAG_W,NITRIT,NITRIT_FLAG_W,ALKALI,ALKALI_FLAG_W,PH_TOT,PH_TOT_FLAG_W,BTL_DATE,BTL_TIME,BTL_LAT,BTL_LON
,,,,,,,,,,METERS,DBAR,,ITS-90,,PSS-78,,PSS-78,,UMOL/KG,,UMOL/KG,,UMOL/KG,,UMOL/KG,,UMOL/KG,,UMOL/KG,,,,,,,
35PK20140515  ,OVIDE-A25  ,56      ,  1,24         ,24         ,20140617,0608,  59.8230, -42.3990,      308,      6.3,2,   2.3410,2,  34.1160,2,     -999,9,    333.8,2,     -999,9,     -999,9,     -999,9,     -999,9,     -999,9,     -999,9,20140617,0630,  59.8230, -42.3990
35PK20140515  ,OVIDE-A25  ,56      ,  1,23         ,23         ,20140617,0608,  59.8230, -42.3990,      308,      6.5,2,   2.3950,2,  34.1150,2,  34.1100,2,    333.8,2,    332.7,2,     -999,9,     -999,9,     -999,9,   2270.4,2,   7.7710,2,20140617,0630,  59.8230, -42.3990
35PK20140515  ,OVIDE-A25  ,56      ,  1,22         ,22         ,20140617,0608,  59.8230, -42.3990,      308,      9.6,2,   2.8130,2,  34.2430,2,     -999,9,    326.0,2,     -999,9,     4.53,2,     7.46,2,     0.17,2,     -999,9,     -999,9,20140617,0629,  59.8230, -42.3990
35PK20140515  ,OVIDE-A25  ,56      ,  1,21         ,21         ,20140617,0608,  59.8230, -42.3990,      308,      9.6,2,   2.8590,2,  34.2560,2,     -999,9,    326.0,2,     -999,9,     -999,9,     -999,9,     -999,9,     -999,9,     -999,9,20140617,0629,  59.8230, -42.3990
35PK20140515  ,OVIDE-A25  ,56      ,  1,20         ,20         ,20140617,0608,  59.8230, -42.3990,      308,     20.4,2,   3.4430,2,  34.3860,2,     -999,9,    324.9,2,     -999,9,     -999,9,     -999,9,     -999,9,     -999,9,     -999,9,20140617,0628,  59.8230, -42.3990
35PK20140515  ,OVIDE-A25  ,56      ,  1,19         ,19         ,20140617,0608,  59.8230, -42.3990,      308,     20.4,2,   3.4410,2,  34.3860,2,     -999,9,    324.9,2,     -999,9,     4.29,2,     8.30,2,     0.27,2,     -999,9,     -999,9,20140617,0627,  59.8230, -42.3990
35PK20140515  ,OVIDE-A25  ,56      ,  1,18         ,18         ,20140617,0608,  59.8230, -42.3990,      308,     30.7,2,   4.0610,2,  34.5220,2,     -999,9,    320.7,2,     -999,9,     -999,9,     -999,9,     -999,9,     -999,9,     -999,9,20140617,0626,  59.8230, -42.3990
35PK20140515  ,OVIDE-A25  ,56      ,  1,17         ,17         ,20140617,0608,  59.8230, -42.3990,      308,     30.7,2,   4.0520,2,  34.5210,2,     -999,9,    320.7,2,     -999,9,     -999,9,     -999,9,     -999,9,     -999,9,     -999,9,20140617,0626,  59.8230, -42.3990
35PK20140515  ,OVIDE-A25  ,56      ,  1,16         ,16         ,20140617,0608,  59.8230, -42.3990,      308,     40.0,2,   4.6900,2,  34.6220,2,     -999,9,    318.5,2,     -999,9,     -999,9,     -999,9,     -999,9,     -999,9,     -999,9,20140617,0624,  59.8230, -42.3990
35PK20140515  ,OVIDE-A25  ,56      ,  1,15         ,15         ,20140617,0608,  59.8230, -42.3990,      308,     40.0,2,   4.6790,2,  34.6190,2,     -999,9,    318.5,2,     -999,9,     3.98,2,     8.64,2,     0.31,2,     -999,9,     -999,9,20140617,0624,  59.8230, -42.3990
35PK20140515  ,OVIDE-A25  ,56      ,  1,14         ,14         ,20140617,0608,  59.8230, -42.3990,      308,     49.7,2,   5.2880,2,  34.7210,2,     -999,9,    317.2,2,     -999,9,     -999,9,     -999,9,     -999,9,     -999,9,     -999,9,20140617,0622,  59.8230, -42.3990
35PK20140515  ,OVIDE-A25  ,56      ,  1,13         ,13         ,20140617,0608,  59.8230, -42.3990,      308,     49.7,2,   5.2800,2,  34.7200,2,  34.7220,2,    317.2,2,    317.2,2,     -999,9,     -999,9,     -999,9,     -999,9,   7.8080,2,20140617,0622,  59.8230, -42.3990
35PK20140515  ,OVIDE-A25  ,56      ,  1,12         ,12         ,20140617,0608,  59.8230, -42.3990,      308,     60.9,2,   5.3250,2,  34.7300,2,     -999,9,    316.8,2,     -999,9,     -999,9,     -999,9,     -999,9,     -999,9,     -999,9,20140617,0621,  59.8230, -42.3990
35PK20140515  ,OVIDE-A25  ,56      ,  1,11         ,11         ,20140617,0608,  59.8230, -42.3990,      308,     61.0,2,   5.3270,2,  34.7300,2,     -999,9,    316.8,2,     -999,9,     4.82,2,     8.92,2,     0.32,2,     -999,9,     -999,9,20140617,0620,  59.8230, -42.3990
35PK20140515  ,OVIDE-A25  ,56      ,  1,9          ,9          ,20140617,0608,  59.8230, -42.3990,      308,     70.5,2,   5.0790,2,  34.7000,2,     -999,9,    317.3,2,     -999,9,     -999,9,     -999,9,     -999,9,     -999,9,     -999,9,20140617,0619,  59.8230, -42.3990
35PK20140515  ,OVIDE-A25  ,56      ,  1,10         ,10         ,20140617,0608,  59.8230, -42.3990,      308,     70.7,2,   5.0760,2,  34.6990,2,     -999,9,    317.3,2,     -999,9,     -999,9,     -999,9,     -999,9,     -999,9,     -999,9,20140617,0619,  59.8230, -42.3990
35PK20140515  ,OVIDE-A25  ,56      ,  1,8          ,8          ,20140617,0608,  59.8230, -42.3990,      308,     80.8,2,   5.1790,2,  34.7180,2,     -999,9,    316.9,2,     -999,9,     3.72,2,     8.31,2,     0.50,2,     -999,9,     -999,9,20140617,0617,  59.8230, -42.3990
35PK20140515  ,OVIDE-A25  ,56      ,  1,6          ,6          ,20140617,0608,  59.8230, -42.3990,      308,    100.5,2,   5.3910,2,  34.7640,2,  34.7650,2,    315.6,2,    315.9,2,     3.68,2,     8.37,2,     0.59,2,   2300.9,2,   7.8150,2,20140617,0616,  59.8230, -42.3990
35PK20140515  ,OVIDE-A25  ,56      ,  1,7          ,7          ,20140617,0608,  59.8230, -42.3990,      308,    100.5,2,   5.3940,2,  34.7640,2,     -999,9,    315.6,2,     -999,9,     -999,9,     -999,9,     -999,9,     -999,9,     -999,9,20140617,0616,  59.8230, -42.3990
35PK20140515  ,OVIDE-A25  ,56      ,  1,4          ,4          ,20140617,0608,  59.8230, -42.3990,      308,    150.4,2,   4.8270,2,  34.7230,2,  34.7230,2,    311.9,2,    312.6,2,     4.88,2,     9.72,2,     0.52,2,     -999,9,   7.7900,2,20140617,0614,  59.8230, -42.3990
35PK20140515  ,OVIDE-A25  ,56      ,  1,5          ,5          ,20140617,0608,  59.8230, -42.3990,      308,    150.5,2,   4.7930,2,  34.7220,2,     -999,9,    311.9,2,     -999,9,     -999,9,     -999,9,     -999,9,     -999,9,     -999,9,20140617,0614,  59.8230, -42.3990
35PK20140515  ,OVIDE-A25  ,56      ,  1,3          ,3          ,20140617,0608,  59.8230, -42.3990,      308,    200.4,2,   5.0800,2,  34.8180,2,     -999,9,    305.9,2,     -999,9,     -999,9,     -999,9,     -999,9,     -999,9,     -999,9,20140617,0612,  59.8230, -42.3990
35PK20140515  ,OVIDE-A25  ,56      ,  1,2          ,2          ,20140617,0608,  59.8230, -42.3990,      308,    200.5,2,   5.0800,2,  34.8240,2,  34.8290,4,    305.9,2,    306.5,2,     5.51,2,    11.39,2,     -999,9,   2302.6,2,   7.7810,2,20140617,0612,  59.8230, -42.3990
35PK20140515  ,OVIDE-A25  ,56      ,  1,1          ,1          ,20140617,0608,  59.8230, -42.3990,      308,    298.1,2,   5.0150,2,  34.8370,2,  34.8370,2,    301.8,2,    302.4,2,     5.71,2,    12.25,2,     -999,9,   2303.2,2,   7.7700,2,20140617,0608,  59.8230, -42.3990
35PK20140515  ,OVIDE-A25  ,57      ,  1,21         ,21         ,20140617,0850,  59.8180, -42.3130,      568,      3.9,2,   1.8530,2,  33.9550,2,     -999,9,    339.5,2,     -999,9,     -999,9,     -999,9,     -999,9,     -999,9,     -999,9,20140617,0914,  59.8180, -42.3130
35PK20140515  ,OVIDE-A25  ,57      ,  1,23         ,23         ,20140617,0850,  59.8180, -42.3130,      568,      4.0,2,   1.8520,2,  33.9550,2,     -999,9,    339.5,2,     -999,9,     -999,9,     -999,9,     -999,9,     -999,9,     -999,9,20140617,0915,  59.8180, -42.3130
35PK20140515  ,OVIDE-A25  ,57      ,  1,20         ,20         ,20140617,0850,  59.8180, -42.3130,      568,      4.0,2,   1.8480,2,  33.9550,2,     -999,9,    339.5,2,     -999,9,     -999,9,     -999,9,     -999,9,     -999,9,     -999,9,20140617,0914,  59.8180, -42.3130
35PK20140515  ,OVIDE-A25  ,57      ,  1,22         ,22         ,20140617,0850,  59.8180, -42.3130,      568,      4.0,2,   1.8480,2,  33.9570,2,     -999,9,    339.5,2,     -999,9,     -999,9,     -999,9,     -999,9,     -999,9,     -999,9,20140617,0915,  59.8180, -42.3130
35PK20140515  ,OVIDE-A25  ,57      ,  1,19         ,19         ,20140617,0850,  59.8180, -42.3130,      568,      4.1,2,   1.8460,2,  33.9560,2,  33.9560,2,    339.5,2,    338.8,2,     4.34,2,     6.48,2,     0.11,2,     -999,9,     -999,9,20140617,0914,  59.8180, -42.3130
35PK20140515  ,OVIDE-A25  ,57      ,  1,24         ,24         ,20140617,0850,  59.8180, -42.3130,      568,      4.2,2,   1.8530,2,  33.9550,2,     -999,9,    339.5,2,     -999,9,     -999,9,     -999,9,     -999,9,     -999,9,     -999,9,20140617,0915,  59.8180, -42.3130
35PK20140515  ,OVIDE-A25  ,57      ,  1,18         ,18         ,20140617,0850,  59.8180, -42.3130,      568,     10.8,2,   1.8320,2,  33.9750,2,     -999,9,    337.4,2,     -999,9,     -999,9,     -999,9,     -999,9,     -999,9,     -999,9,20140617,0913,  59.8180, -42.3130
35PK20140515  ,OVIDE-A25  ,57      ,  1,17         ,17         ,20140617,0850,  59.8180, -42.3130,      568,     25.9,2,   3.9050,2,  34.4760,2,     -999,9,    323.0,2,     -999,9,     -999,9,     -999,9,     -999,9,     -999,9,     -999,9,20140617,0912,  59.8180, -42.3130
35PK20140515  ,OVIDE-A25  ,57      ,  1,16         ,16         ,20140617,0850,  59.8180, -42.3130,      568,     51.6,2,   5.6590,2,  34.8000,2,     -999,9,    315.2,2,     -999,9,     -999,9,     -999,9,     -999,9,     -999,9,     -999,9,20140617,0910,  59.8180, -42.3130
35PK20140515  ,OVIDE-A25  ,57      ,  1,15         ,15         ,20140617,0850,  59.8180, -42.3130,      568,     51.6,2,   5.6600,2,  34.7990,2,  34.7980,2,    315.2,2,    315.2,2,     3.61,2,     9.08,2,     0.21,2,     -999,9,     -999,9,20140617,0910,  59.8180, -42.3130
35PK20140515  ,OVIDE-A25  ,57      ,  1,14         ,14         ,20140617,0850,  59.8180, -42.3130,      568,     75.7,2,   5.6760,2,  34.8110,2,     -999,9,    314.4,2,     -999,9,     -999,9,     -999,9,     -999,9,     -999,9,     -999,9,20140617,0908,  59.8180, -42.3130
35PK20140515  ,OVIDE-A25  ,57      ,  1,13         ,13         ,20140617,0850,  59.8180, -42.3130,      568,    100.9,2,   5.0400,2,  34.7720,2,  34.7710,2,    310.6,2,    311.8,2,     4.41,2,     9.66,2,     0.40,2,     -999,9,     -999,9,20140617,0906,  59.8180, -42.3130
35PK20140515  ,OVIDE-A25  ,57      ,  1,11         ,11         ,20140617,0850,  59.8180, -42.3130,      568,    149.6,2,   4.6040,2,  34.7620,2,     -999,9,    305.7,2,     -999,9,     -999,9,     -999,9,     -999,9,     -999,9,     -999,9,20140617,0904,  59.8180, -42.3130
35PK20140515  ,OVIDE-A25  ,57      ,  1,12         ,12         ,20140617,0850,  59.8180, -42.3130,      568,    149.7,2,   4.6040,2,  34.7620,2,     -999,9,    305.7,2,     -999,9,     -999,9,     -999,9,     -999,9,     -999,9,     -999,9,20140617,0905,  59.8180, -42.3130
35PK20140515  ,OVIDE-A25  ,57      ,  1,10         ,10         ,20140617,0850,  59.8180, -42.3130,      568,    200.4,2,   4.9000,2,  34.8250,2,  34.8250,2,    301.7,2,    302.5,2,     5.47,2,    11.34,2,     0.61,2,     -999,9,     -999,9,20140617,0902,  59.8180, -42.3130
35PK20140515  ,OVIDE-A25  ,57      ,  1,8          ,8          ,20140617,0850,  59.8180, -42.3130,      568,    301.1,2,   5.1560,2,  34.8980,2,     -999,9,    294.1,2,     -999,9,     -999,9,     -999,9,     -999,9,     -999,9,     -999,9,20140617,0859,  59.8180, -42.3130
35PK20140515  ,OVIDE-A25  ,57      ,  1,9          ,9          ,20140617,0850,  59.8180, -42.3130,      568,    301.1,2,   5.1580,2,  34.8980,2,     -999,9,    294.1,2,     -999,9,     -999,9,     -999,9,     -999,9,     -999,9,     -999,9,20140617,0900,  59.8180, -42.3130
35PK20140515  ,OVIDE-A25  ,57      ,  1,6          ,6          ,20140617,0850,  59.8180, -42.3130,      568,    401.0,2,   5.1680,2,  34.9060,2,  34.9060,2,    293.7,2,    294.8,2,     6.68,2,    12.86,2,     0.60,2,     -999,9,     -999,9,20140617,0856,  59.8180, -42.3130
35PK20140515  ,OVIDE-A25  ,57      ,  1,7          ,7          ,20140617,0850,  59.8180, -42.3130,      568,    401.0,2,   5.1670,2,  34.9070,2,     -999,9,    293.7,2,     -999,9,     -999,9,     -999,9,     -999,9,     -999,9,     -999,9,20140617,0857,  59.8180, -42.3130
35PK20140515  ,OVIDE-A25  ,57      ,  1,5          ,5          ,20140617,0850,  59.8180, -42.3130,      568,    500.5,2,   5.1990,2,  34.9080,2,     -999,9,    294.4,2,     -999,9,     -999,9,     -999,9,     -999,9,     -999,9,     -999,9,20140617,0853,  59.8180, -42.3130
35PK20140515  ,OVIDE-A25  ,57      ,  1,4          ,4          ,20140617,0850,  59.8180, -42.3130,      568,    500.7,2,   5.1990,2,  34.9080,2,     -999,9,    294.4,2,     -999,9,     -999,9,     -999,9,     -999,9,     -999,9,     -999,9,20140617,0853,  59.8180, -42.3130
35PK20140515  ,OVIDE-A25  ,57      ,  1,3          ,3          ,20140617,0850,  59.8180, -42.3130,      568,    520.2,2,   5.1990,2,  34.9070,2,     -999,9,    294.6,2,     -999,9,     -999,9,     -999,9,     -999,9,     -999,9,     -999,9,20140617,0852,  59.8180, -42.3130
35PK20140515  ,OVIDE-A25  ,57      ,  1,1          ,1          ,20140617,0850,  59.8180, -42.3130,      568,    558.7,2,   5.2040,2,  34.9160,2,  34.9160,2,    293.1,2,    293.1,2,     6.58,2,    13.08,2,     0.62,2,     -999,9,     -999,9,20140617,0850,  59.8180, -42.3130
35PK20140515  ,OVIDE-A25  ,57      ,  1,2          ,2          ,20140617,0850,  59.8180, -42.3130,      568,    558.7,2,   5.2020,2,  34.9150,2,     -999,9,    293.1,2,     -999,9,     -999,9,     -999,9,     -999,9,     -999,9,     -999,9,20140617,0850,  59.8180, -42.3130