BOTTLE,20240403CCHHYDRO
EXPOCODE,SECT_ID,STNNBR,CASTNO,SAMPNO,BTLNBR,DATE,TIME,LATITUDE,LONGITUDE,DEPTH,CTDPRS,CTDPRS_FLAG_W,CTDTMP,CTDTMP_FLAG_W,CTDSAL,CTDSAL_FLAG_W,SALNTY,SALNTY_FLAG_W,CTDOXY,CTDOXY_FLAG_W,OXYGEN,OXYGEN_FLAG_W,SILCAT,SILCAT_FLAG_W,NITRAT,NITRAT_FLAG_W,NITRIT,NITRIT_FLAG_W,ALKALI,ALKALI_FLAG_W,PH_TOT,PH_TOT_FLAG_W,BTL_DATE,BTL_TIME,BTL_LAT,BTL_LON
,,,,,,,,,,METERS,DBAR,,ITS-90,,PSS-78,,PSS-78,,UMOL/KG,,UMOL/KG,,UMOL/KG,,UMOL/KG,,UMOL/KG,,UMOL/KG,,,,,,,
35PK20140515  ,OVIDE-A25  ,5       ,  1,24         ,24         ,20140521,1938,  40.3330,  -9.8020,     1409,      6.7,2,  16.1710,2,  35.1680,2,  35.1680,2,    252.7,2,    251.3,2,     0.59,2,     -999,9,     -999,9,   2323.7,2,   7.9740,2,20140521,2023,  40.3330,  -9.8020
35PK20140515  ,OVIDE-A25  ,5       ,  1,23         ,23         ,20140521,1938,  40.3330,  -9.8020,     1409,      6.7,2,  16.1720,2,  35.1680,2,     -999,9,    252.7,2,     -999,9,     -999,9,     -999,9,     -999,9,     -999,9,     -999,9,20140521,2023,  40.3330,  -9.8020
35PK20140515  ,OVIDE-A25  ,5       ,  1,22         ,22         ,20140521,1938,  40.3330,  -9.8020,     1409,     42.2,2,  13.7890,2,  35.6910,2,     -999,9,    251.1,2,     -999,9,     -999,9,     -999,9,     -999,9,     -999,9,     -999,9,20140521,2021,  40.3330,  -9.8020
35PK20140515  ,OVIDE-A25  ,5       ,  1,21         ,21         ,20140521,1938,  40.3330,  -9.8020,     1409,     42.3,2,  13.7780,2,  35.6940,2,  35.6940,2,    251.1,2,    251.2,2,     0.49,2,     2.33,2,     0.35,2,   2344.9,2,   7.9070,2,20140521,2021,  40.3330,  -9.8020
35PK20140515  ,OVIDE-A25  ,5       ,  1,20         ,20         ,20140521,1938,  40.3330,  -9.8020,     1409,    100.0,2,  12.9950,2,  35.7420,2,  35.7420,2,    238.2,2,    238.1,2,     1.78,2,     6.70,2,     0.02,2,   2345.1,2,   7.8710,2,20140521,2018,  40.3330,  -9.8020
35PK20140515  ,OVIDE-A25  ,5       ,  1,19         ,19         ,20140521,1938,  40.3330,  -9.8020,     1409,    149.9,2,  12.7400,2,  35.7240,2,  35.7240,2,    235.3,2,    235.4,2,     2.14,2,     7.78,2,     0.02,2,     -999,9,   7.8630,2,20140521,2016,  40.3330,  -9.8020
35PK20140515  ,OVIDE-A25  ,5       ,  1,17         ,17         ,20140521,1938,  40.3330,  -9.8020,     1409,    201.1,2,  12.5100,2,  35.7030,2,  35.7030,2,    228.9,2,    229.8,2,     2.60,2,     8.96,2,     0.02,2,   2341.7,2,   7.8510,2,20140521,2014,  40.3330,  -9.8020
35PK20140515  ,OVIDE-A25  ,5       ,  1,18         ,18         ,20140521,1938,  40.3330,  -9.8020,     1409,    201.3,2,  12.5120,2,  35.7030,2,     -999,9,    228.9,2,     -999,9,     -999,9,     -999,9,     -999,9,     -999,9,     -999,9,20140521,2014,  40.3330,  -9.8020
35PK20140515  ,OVIDE-A25  ,5       ,  1,16         ,16         ,20140521,1938,  40.3330,  -9.8020,     1409,    301.7,2,  12.0400,2,  35.6690,2,  35.6690,2,    217.8,2,    219.2,2,     3.31,2,    11.36,2,     0.02,2,   2340.2,2,   7.8250,2,20140521,2011,  40.3330,  -9.8020
35PK20140515  ,OVIDE-A25  ,5       ,  1,14         ,14         ,20140521,1938,  40.3330,  -9.8020,     1409,    399.8,2,  11.7610,2,  35.6570,2,  35.6620,4,    211.3,2,    213.5,2,     4.00,2,    12.58,2,     0.02,2,   2339.5,2,   7.8070,2,20140521,2009,  40.3330,  -9.8020
35PK20140515  ,OVIDE-A25  ,5       ,  1,15         ,15         ,20140521,1938,  40.3330,  -9.8020,     1409,    400.2,2,  11.7650,2,  35.6570,2,     -999,9,    211.3,2,     -999,9,     -999,9,     -999,9,     -999,9,     -999,9,     -999,9,20140521,2009,  40.3330,  -9.8020
35PK20140515  ,OVIDE-A25  ,5       ,  1,12         ,12         ,20140521,1938,  40.3330,  -9.8020,     1409,    500.2,2,  11.5400,2,  35.7090,2,  35.7100,2,    197.8,2,    199.6,2,     5.38,2,    14.26,2,     0.01,2,   2347.5,2,   7.7990,2,20140521,2005,  40.3330,  -9.8020
35PK20140515  ,OVIDE-A25  ,5       ,  1,13         ,13         ,20140521,1938,  40.3330,  -9.8020,     1409,    500.3,2,  11.5410,2,  35.7100,2,     -999,9,    197.8,2,     -999,9,     -999,9,     -999,9,     -999,9,     -999,9,     -999,9,20140521,2005,  40.3330,  -9.8020
35PK20140515  ,OVIDE-A25  ,5       ,  1,11         ,11         ,20140521,1938,  40.3330,  -9.8020,     1409,    600.3,2,  11.7010,2,  35.8830,2,  35.8830,2,    184.4,2,    186.1,2,     6.54,2,    15.18,2,     0.01,2,   2360.0,2,   7.7990,2,20140521,2002,  40.3330,  -9.8020
35PK20140515  ,OVIDE-A25  ,5       ,  1,10         ,10         ,20140521,1938,  40.3330,  -9.8020,     1409,    701.1,2,  11.8330,2,  35.9950,2,  35.9960,2,    181.7,2,    184.5,2,     6.91,2,    15.19,2,     0.01,2,   2370.3,2,   7.8000,2,20140521,2000,  40.3330,  -9.8020
35PK20140515  ,OVIDE-A25  ,5       ,  1,8          ,8          ,20140521,1938,  40.3330,  -9.8020,     1409,    799.6,2,  11.9440,2,  36.1200,2,  36.1200,2,    180.8,2,    183.2,2,     7.05,2,    14.93,2,     0.01,2,   2380.3,2,   7.8100,2,20140521,1956,  40.3330,  -9.8020
35PK20140515  ,OVIDE-A25  ,5       ,  1,9          ,9          ,20140521,1938,  40.3330,  -9.8020,     1409,    799.9,2,  11.9440,2,  36.1200,2,     -999,9,    180.8,2,     -999,9,     -999,9,     -999,9,     -999,9,     -999,9,     -999,9,20140521,1957,  40.3330,  -9.8020
35PK20140515  ,OVIDE-A25  ,5       ,  1,7          ,7          ,20140521,1938,  40.3330,  -9.8020,     1409,    899.4,2,  11.7930,2,  36.1850,2,  36.1850,2,    179.8,2,    181.8,2,     7.58,2,    15.12,2,     0.01,2,   2386.9,2,   7.8100,2,20140521,1953,  40.3330,  -9.8020
35PK20140515  ,OVIDE-A25  ,5       ,  1,5          ,5          ,20140521,1938,  40.3330,  -9.8020,     1409,    999.9,2,  11.5480,2,  36.2120,2,  36.2120,2,    178.9,2,    181.2,2,     8.09,2,    15.45,2,     0.01,2,   2390.7,2,   7.8080,2,20140521,1950,  40.3330,  -9.8020
35PK20140515  ,OVIDE-A25  ,5       ,  1,6          ,6          ,20140521,1938,  40.3330,  -9.8020,     1409,    999.9,2,  11.5500,2,  36.2120,2,  36.2120,2,    178.9,2,    180.7,2,     -999,9,     -999,9,     -999,9,     -999,9,     -999,9,20140521,1951,  40.3330,  -9.8020
35PK20140515  ,OVIDE-A25  ,5       ,  1,3          ,3          ,20140521,1938,  40.3330,  -9.8020,     1409,   1124.0,2,  11.4520,2,  36.2330,2,  36.2330,2,    179.0,2,    181.1,2,     8.33,2,    15.54,2,     0.01,2,   2394.1,2,   7.8100,2,20140521,1947,  40.3330,  -9.8020
35PK20140515  ,OVIDE-A25  ,5       ,  1,4          ,4          ,20140521,1938,  40.3330,  -9.8020,     1409,   1124.3,2,  11.4570,2,  36.2320,2,  36.2320,2,    179.0,2,    180.9,2,     -999,9,     -999,9,     -999,9,     -999,9,     -999,9,20140521,1947,  40.3330,  -9.8020
35PK20140515  ,OVIDE-A25  ,5       ,  1,2          ,2          ,20140521,1938,  40.3330,  -9.8020,     1409,   1398.7,2,   9.3050,2,  35.9420,2,     -999,9,    199.4,2,     -999,9,     -999,9,     -999,9,     -999,9,     -999,9,     -999,9,20140521,1938,  40.3330,  -9.8020
35PK20140515  ,OVIDE-A25  ,5       ,  1,1          ,1          ,20140521,1938,  40.3330,  -9.8020,     1409,   1399.0,2,   9.3640,2,  35.9500,2,  35.9510,2,    199.4,2,    196.4,2,    10.59,2,    16.93,2,     0.01,2,   2378.0,2,   7.7880,2,20140521,1938,  40.3330,  -9.8020
35PK20140515  ,OVIDE-A25  ,6       ,  1,23         ,23         ,20140521,2239,  40.3330,  -9.8760,     2499,      6.3,2,  15.9780,2,  35.1980,2,  35.1980,2,    253.7,2,    253.4,2,     0.54,2,     0.03,2,     0.00,2,   2329.0,2,   7.9780,2,20140521,2346,  40.3330,  -9.8760
35PK20140515  ,OVIDE-A25  ,6       ,  1,24         ,24         ,20140521,2239,  40.3330,  -9.8760,     2499,      6.4,2,  15.9800,2,  35.1990,2,     -999,9,    253.7,2,     -999,9,     -999,9,     -999,9,     -999,9,     -999,9,     -999,9,20140521,2347,  40.3330,  -9.8760
35PK20140515  ,OVIDE-A25  ,6       ,  1,22         ,22         ,20140521,2239,  40.3330,  -9.8760,     2499,     40.4,2,  14.7790,2,  35.5130,2,  35.5110,2,    261.6,2,    263.1,2,     0.21,2,     0.10,2,     0.02,2,   2338.7,2,   7.9600,2,20140521,2344,  40.3330,  -9.8760
35PK20140515  ,OVIDE-A25  ,6       ,  1,21         ,21         ,20140521,2239,  40.3330,  -9.8760,     2499,     99.1,2,  13.1550,2,  35.7530,2,  35.7510,2,    237.4,2,    238.7,2,     1.66,2,     6.15,2,     0.03,2,   2348.4,2,   7.8740,2,20140521,2341,  40.3330,  -9.8760
35PK20140515  ,OVIDE-A25  ,6       ,  1,20         ,20         ,20140521,2239,  40.3330,  -9.8760,     2499,    150.9,2,  12.8020,2,  35.7190,2,  35.7200,2,    237.2,2,    237.8,2,     2.06,2,     7.19,2,     0.02,2,     -999,9,   7.8660,2,20140521,2339,  40.3330,  -9.8760
35PK20140515  ,OVIDE-A25  ,6       ,  1,19         ,19         ,20140521,2239,  40.3330,  -9.8760,     2499,    201.2,2,  12.5010,2,  35.7030,2,  35.7020,2,    228.3,2,    228.9,2,     2.60,2,     8.96,2,     0.02,2,   2341.6,2,   7.8460,2,20140521,2337,  40.3330,  -9.8760
35PK20140515  ,OVIDE-A25  ,6       ,  1,18         ,18         ,20140521,2239,  40.3330,  -9.8760,     2499,    299.6,2,  12.0100,2,  35.6700,2,  35.6700,2,    216.8,2,    219.5,2,     3.46,2,    11.24,2,     0.02,2,   2342.1,2,   7.8210,2,20140521,2334,  40.3330,  -9.8760
35PK20140515  ,OVIDE-A25  ,6       ,  1,17         ,17         ,20140521,2239,  40.3330,  -9.8760,     2499,    400.7,2,  11.6310,2,  35.6540,2,  35.6540,2,    207.6,2,    209.1,2,     4.41,2,    12.85,2,     0.02,2,   2342.1,2,   7.8040,2,20140521,2332,  40.3330,  -9.8760
35PK20140515  ,OVIDE-A25  ,6       ,  1,16         ,16         ,20140521,2239,  40.3330,  -9.8760,     2499,    500.6,2,  11.4400,2,  35.6950,2,  35.6940,2,    195.5,2,    196.7,2,     5.76,2,    14.48,2,     0.01,2,   2347.8,2,   7.7920,2,20140521,2329,  40.3330,  -9.8760
35PK20140515  ,OVIDE-A25  ,6       ,  1,15         ,15         ,20140521,2239,  40.3330,  -9.8760,     2499,    600.7,2,  11.6800,2,  35.8810,2,  35.8810,2,    184.5,2,    185.9,2,     6.74,2,    15.00,2,     0.01,2,   2361.5,2,   7.7980,2,20140521,2326,  40.3330,  -9.8760
35PK20140515  ,OVIDE-A25  ,6       ,  1,14         ,14         ,20140521,2239,  40.3330,  -9.8760,     2499,    701.5,2,  11.8700,2,  36.0390,2,  36.0380,2,    182.1,2,    183.4,2,     6.96,2,    14.76,2,     0.00,2,     -999,9,   7.8050,2,20140521,2324,  40.3330,  -9.8760
35PK20140515  ,OVIDE-A25  ,6       ,  1,13         ,13         ,20140521,2239,  40.3330,  -9.8760,     2499,    801.5,2,  11.8780,2,  36.1210,2,  36.1200,2,    181.3,2,    182.8,2,     7.14,2,    14.69,2,     0.00,2,   2382.0,2,   7.8070,2,20140521,2321,  40.3330,  -9.8760
35PK20140515  ,OVIDE-A25  ,6       ,  1,12         ,12         ,20140521,2239,  40.3330,  -9.8760,     2499,    900.1,2,  11.7560,2,  36.1850,2,  36.1840,2,    179.9,2,    181.6,2,     7.68,2,    14.88,2,     0.00,2,     -999,9,   7.8080,2,20140521,2318,  40.3330,  -9.8760
35PK20140515  ,OVIDE-A25  ,6       ,  1,10         ,10         ,20140521,2239,  40.3330,  -9.8760,     2499,   1000.5,2,  11.5720,2,  36.1980,2,  36.1990,2,    179.3,2,    180.9,2,     8.10,2,    15.16,2,     0.01,2,   2389.2,2,   7.8040,2,20140521,2315,  40.3330,  -9.8760
35PK20140515  ,OVIDE-A25  ,6       ,  1,11         ,11         ,20140521,2239,  40.3330,  -9.8760,     2499,   1000.6,2,  11.5740,2,  36.1980,2,  36.1970,2,    179.4,2,    180.6,2,     -999,9,     -999,9,     -999,9,     -999,9,     -999,9,20140521,2315,  40.3330,  -9.8760
35PK20140515  ,OVIDE-A25  ,6       ,  1,9          ,9          ,20140521,2239,  40.3330,  -9.8760,     2499,   1201.7,2,  11.0770,2,  36.2330,2,  36.2330,2,    180.5,2,    181.4,2,     -999,9,     -999,9,     -999,9,     -999,9,     -999,9,20140521,2310,  40.3330,  -9.8760
35PK20140515  ,OVIDE-A25  ,6       ,  1,8          ,8          ,20140521,2239,  40.3330,  -9.8760,     2499,   1202.3,2,  11.0670,2,  36.2330,2,  36.2330,2,    180.5,2,    181.6,2,     9.05,2,    15.69,2,     0.01,2,   2395.4,2,   7.8000,2,20140521,2309,  40.3330,  -9.8760
35PK20140515  ,OVIDE-A25  ,6       ,  1,6          ,6          ,20140521,2239,  40.3330,  -9.8760,     2499,   1401.2,2,   9.5250,2,  35.9690,2,  35.9690,2,    193.7,2,    194.7,2,    10.38,2,    16.66,2,     0.00,2,   2379.6,2,   7.7850,2,20140521,2304,  40.3330,  -9.8760
35PK20140515  ,OVIDE-A25  ,6       ,  1,7          ,7          ,20140521,2239,  40.3330,  -9.8760,     2499,   1401.4,2,   9.5270,2,  35.9700,2,  35.9700,2,    193.7,2,    194.4,2,     -999,9,     -999,9,     -999,9,     -999,9,     -999,9,20140521,2304,  40.3330,  -9.8760
35PK20140515  ,OVIDE-A25  ,6       ,  1,5          ,5          ,20140521,2239,  40.3330,  -9.8760,     2499,   1600.4,2,   7.3410,2,  35.6270,2,  35.7210,4,    216.3,2,    208.8,4,    12.13,2,    17.26,2,     0.01,2,   2359.1,2,   7.7720,2,20140521,2259,  40.3330,  -9.8760
35PK20140515  ,OVIDE-A25  ,6       ,  1,4          ,4          ,20140521,2239,  40.3330,  -9.8760,     2499,   1800.6,2,   5.4520,2,  35.2740,2,  35.2740,2,    237.6,2,    237.2,2,    14.46,2,    18.21,2,     0.00,2,   2336.8,2,   7.7510,2,20140521,2254,  40.3330,  -9.8760
35PK20140515  ,OVIDE-A25  ,6       ,  1,3          ,3          ,20140521,2239,  40.3330,  -9.8760,     2499,   2000.9,2,   4.3840,2,  35.1140,2,  35.1170,2,    247.3,2,    247.1,2,    17.42,2,    18.67,2,     0.00,2,   2325.9,2,   7.7450,2,20140521,2250,  40.3330,  -9.8760
35PK20140515  ,OVIDE-A25  ,6       ,  1,2          ,2          ,20140521,2239,  40.3330,  -9.8760,     2499,   2250.4,2,   3.7890,2,  35.0450,2,  35.0460,2,    248.4,2,    248.4,2,    21.71,2,    19.26,2,     0.00,2,   2326.2,2,   7.7440,2,20140521,2244,  40.3330,  -9.8760
35PK20140515  ,OVIDE-A25  ,6       ,  1,1          ,1          ,20140521,2239,  40.3330,  -9.8760,     2499,   2489.4,2,   3.3940,2,  35.0080,2,  35.0080,2,    246.8,2,    246.8,2,    26.75,2,    20.17,2,     0.00,2,   2335.1,2,   7.7470,2,20140521,2239,  40.3330,  -9.8760