BOTTLE,20240403CCHHYDRO
EXPOCODE,SECT_ID,STNNBR,CASTNO,SAMPNO,BTLNBR,DATE,TIME,LATITUDE,LONGITUDE,DEPTH,CTDPRS,CTDPRS_FLAG_W,CTDTMP,CTDTMP_FLAG_W,CTDSAL,CTDSAL_FLAG_W,SALNTY,SALNTY_FLAG_W,CTDOXY,CTDOXY_FLAG_W,OXYGEN,OXYGEN_FLAG_W,SILCAT,SILCAT_FLAG_W,NITRAT,NITRAT_FLAG_W,NITRIT,NITRIT_FLAG_W,ALKALI,ALKALI_FLAG_W,PH_TOT,PH_TOT_FLAG_W,BTL_DATE,BTL_TIME,BTL_LAT,BTL_LON
,,,,,,,,,,METERS,DBAR,,ITS-90,,PSS-78,,PSS-78,,UMOL/KG,,UMOL/KG,,UMOL/KG,,UMOL/KG,,UMOL/KG,,UMOL/KG,,,,,,,
35PK20140515  ,OVIDE-A25  ,75      ,  1,24         ,24         ,20140625,1115,  52.7860, -51.7600,      477,      2.4,2,   1.7120,2,  31.0520,2,     -999,9,    398.3,2,     -999,9,     -999,9,     -999,9,     -999,9,     -999,9,     -999,9,20140625,1137,  52.7860, -51.7600
35PK20140515  ,OVIDE-A25  ,75      ,  1,21         ,21         ,20140625,1115,  52.7860, -51.7600,      477,      2.4,2,   1.7160,2,  31.1780,2,  31.1310,4,    398.3,2,    396.0,2,     2.42,2,     0.01,2,     0.00,2,   2106.4,2,   7.9250,2,20140625,1136,  52.7860, -51.7600
35PK20140515  ,OVIDE-A25  ,75      ,  1,23         ,23         ,20140625,1115,  52.7860, -51.7600,      477,      2.4,2,   1.7120,2,  31.0540,2,     -999,9,    398.3,2,     -999,9,     -999,9,     -999,9,     -999,9,     -999,9,     -999,9,20140625,1137,  52.7860, -51.7600
35PK20140515  ,OVIDE-A25  ,75      ,  1,22         ,22         ,20140625,1115,  52.7860, -51.7600,      477,      2.6,2,   1.7150,2,  31.0600,2,     -999,9,    399.8,2,     -999,9,     -999,9,     -999,9,     -999,9,     -999,9,     -999,9,20140625,1136,  52.7860, -51.7600
35PK20140515  ,OVIDE-A25  ,75      ,  1,20         ,20         ,20140625,1115,  52.7860, -51.7600,      477,     10.0,2,   2.2840,2,  32.2350,2,     -999,9,    389.5,2,     -999,9,     -999,9,     -999,9,     -999,9,     -999,9,     -999,9,20140625,1135,  52.7860, -51.7600
35PK20140515  ,OVIDE-A25  ,75      ,  1,19         ,19         ,20140625,1115,  52.7860, -51.7600,      477,     10.0,2,   2.2910,2,  32.2160,2,     -999,9,    389.5,2,     -999,9,     -999,9,     -999,9,     -999,9,     -999,9,     -999,9,20140625,1135,  52.7860, -51.7600
35PK20140515  ,OVIDE-A25  ,75      ,  1,17         ,17         ,20140625,1115,  52.7860, -51.7600,      477,     24.4,2,   1.3050,2,  33.7600,2,     -999,9,    357.9,2,     -999,9,     -999,9,     -999,9,     -999,9,     -999,9,     -999,9,20140625,1133,  52.7860, -51.7600
35PK20140515  ,OVIDE-A25  ,75      ,  1,18         ,18         ,20140625,1115,  52.7860, -51.7600,      477,     24.5,2,   1.2770,2,  33.7620,2,     -999,9,    357.9,2,     -999,9,     -999,9,     -999,9,     -999,9,     -999,9,     -999,9,20140625,1134,  52.7860, -51.7600
35PK20140515  ,OVIDE-A25  ,75      ,  1,15         ,15         ,20140625,1115,  52.7860, -51.7600,      477,     49.9,2,   0.9040,2,  34.0710,2,  34.0550,4,    319.6,2,    321.6,2,     7.44,2,    10.05,2,     0.37,2,     -999,9,   7.7210,2,20140625,1131,  52.7860, -51.7600
35PK20140515  ,OVIDE-A25  ,75      ,  1,16         ,16         ,20140625,1115,  52.7860, -51.7600,      477,     50.1,2,   0.9180,2,  34.0780,2,     -999,9,    319.6,2,     -999,9,     -999,9,     -999,9,     -999,9,     -999,9,     -999,9,20140625,1131,  52.7860, -51.7600
35PK20140515  ,OVIDE-A25  ,75      ,  1,14         ,14         ,20140625,1115,  52.7860, -51.7600,      477,     74.4,2,   2.0770,2,  34.3660,2,     -999,9,    308.3,2,     -999,9,     -999,9,     -999,9,     -999,9,     -999,9,     -999,9,20140625,1129,  52.7860, -51.7600
35PK20140515  ,OVIDE-A25  ,75      ,  1,13         ,13         ,20140625,1115,  52.7860, -51.7600,      477,     74.5,2,   2.0730,2,  34.3650,2,     -999,9,    308.3,2,     -999,9,     -999,9,     -999,9,     -999,9,     -999,9,     -999,9,20140625,1129,  52.7860, -51.7600
35PK20140515  ,OVIDE-A25  ,75      ,  1,12         ,12         ,20140625,1115,  52.7860, -51.7600,      477,    100.8,2,   3.2790,2,  34.6210,2,     -999,9,    296.0,2,     -999,9,     -999,9,     -999,9,     -999,9,     -999,9,     -999,9,20140625,1127,  52.7860, -51.7600
35PK20140515  ,OVIDE-A25  ,75      ,  1,11         ,11         ,20140625,1115,  52.7860, -51.7600,      477,    100.9,2,   3.2770,2,  34.6180,2,  34.6170,2,    296.0,2,    296.4,2,     7.69,2,    13.47,2,     0.11,2,   2287.2,2,   7.7250,2,20140625,1127,  52.7860, -51.7600
35PK20140515  ,OVIDE-A25  ,75      ,  1,10         ,10         ,20140625,1115,  52.7860, -51.7600,      477,    150.1,2,   3.7310,2,  34.7160,2,     -999,9,    291.7,2,     -999,9,     -999,9,     -999,9,     -999,9,     -999,9,     -999,9,20140625,1125,  52.7860, -51.7600
35PK20140515  ,OVIDE-A25  ,75      ,  1,9          ,9          ,20140625,1115,  52.7860, -51.7600,      477,    150.1,2,   3.7310,2,  34.7160,2,  34.7160,2,    291.7,2,    293.6,2,     7.52,2,    14.64,2,     0.00,2,     -999,9,     -999,9,20140625,1125,  52.7860, -51.7600
35PK20140515  ,OVIDE-A25  ,75      ,  1,7          ,7          ,20140625,1115,  52.7860, -51.7600,      477,    200.0,2,   3.9180,2,  34.7610,2,  34.7610,2,    290.4,2,    291.0,2,     7.47,2,    14.90,2,     0.01,2,   2293.0,2,   7.7300,2,20140625,1123,  52.7860, -51.7600
35PK20140515  ,OVIDE-A25  ,75      ,  1,8          ,8          ,20140625,1115,  52.7860, -51.7600,      477,    200.2,2,   3.9190,2,  34.7620,2,     -999,9,    290.4,2,     -999,9,     -999,9,     -999,9,     -999,9,     -999,9,     -999,9,20140625,1123,  52.7860, -51.7600
35PK20140515  ,OVIDE-A25  ,75      ,  1,5          ,5          ,20140625,1115,  52.7860, -51.7600,      477,    300.9,2,   3.7200,2,  34.8130,2,  34.8130,2,    293.9,2,    294.9,2,     7.62,2,    15.35,2,     0.00,2,   2295.5,2,   7.7270,2,20140625,1120,  52.7860, -51.7600
35PK20140515  ,OVIDE-A25  ,75      ,  1,6          ,6          ,20140625,1115,  52.7860, -51.7600,      477,    301.1,2,   3.7190,2,  34.8140,2,     -999,9,    293.9,2,     -999,9,     -999,9,     -999,9,     -999,9,     -999,9,     -999,9,20140625,1120,  52.7860, -51.7600
35PK20140515  ,OVIDE-A25  ,75      ,  1,3          ,3          ,20140625,1115,  52.7860, -51.7600,      477,    400.9,2,   3.5710,2,  34.8200,2,  34.8210,2,    293.8,2,    295.3,2,     8.45,2,    15.54,2,     0.02,2,     -999,9,     -999,9,20140625,1117,  52.7860, -51.7600
35PK20140515  ,OVIDE-A25  ,75      ,  1,4          ,4          ,20140625,1115,  52.7860, -51.7600,      477,    400.9,2,   3.5720,2,  34.8200,2,     -999,9,    293.8,2,     -999,9,     -999,9,     -999,9,     -999,9,     -999,9,     -999,9,20140625,1117,  52.7860, -51.7600
35PK20140515  ,OVIDE-A25  ,75      ,  1,1          ,1          ,20140625,1115,  52.7860, -51.7600,      477,    471.9,2,   3.5810,2,  34.8220,2,  34.8220,2,    293.8,2,    293.7,2,     8.31,2,    15.49,2,     0.02,2,   2295.8,2,   7.7660,2,20140625,1115,  52.7860, -51.7600
35PK20140515  ,OVIDE-A25  ,75      ,  1,2          ,2          ,20140625,1115,  52.7860, -51.7600,      477,    471.9,2,   3.5810,2,  34.8220,2,     -999,9,    293.8,2,     -999,9,     -999,9,     -999,9,     -999,9,     -999,9,     -999,9,20140625,1115,  52.7860, -51.7600
35PK20140515  ,OVIDE-A25  ,76      ,  1,24         ,24         ,20140625,1509,  52.5000, -52.5000,      259,      4.7,2,   4.9700,2,  32.5240,2,     -999,9,    338.7,2,     -999,9,     -999,9,     -999,9,     -999,9,     -999,9,     -999,9,20140625,1522,  52.5000, -52.5000
35PK20140515  ,OVIDE-A25  ,76      ,  1,23         ,23         ,20140625,1509,  52.5000, -52.5000,      259,      4.7,2,   4.9700,2,  32.5250,2,     -999,9,    338.7,2,     -999,9,     -999,9,     -999,9,     -999,9,     -999,9,     -999,9,20140625,1522,  52.5000, -52.5000
35PK20140515  ,OVIDE-A25  ,76      ,  1,22         ,22         ,20140625,1509,  52.5000, -52.5000,      259,      4.7,2,   4.9690,2,  32.5250,2,     -999,9,    338.7,2,     -999,9,     -999,9,     -999,9,     -999,9,     -999,9,     -999,9,20140625,1522,  52.5000, -52.5000
35PK20140515  ,OVIDE-A25  ,76      ,  1,21         ,21         ,20140625,1509,  52.5000, -52.5000,      259,      4.7,2,   4.9680,2,  32.5260,2,     -999,9,    338.7,2,     -999,9,     -999,9,     -999,9,     -999,9,     -999,9,     -999,9,20140625,1522,  52.5000, -52.5000
35PK20140515  ,OVIDE-A25  ,76      ,  1,20         ,20         ,20140625,1509,  52.5000, -52.5000,      259,      4.7,2,   4.9700,2,  32.5250,2,     -999,9,    338.7,2,     -999,9,     -999,9,     -999,9,     -999,9,     -999,9,     -999,9,20140625,1522,  52.5000, -52.5000
35PK20140515  ,OVIDE-A25  ,76      ,  1,19         ,19         ,20140625,1509,  52.5000, -52.5000,      259,      4.7,2,   4.9710,2,  32.5250,2,     -999,9,    338.7,2,     -999,9,     -999,9,     -999,9,     -999,9,     -999,9,     -999,9,20140625,1522,  52.5000, -52.5000
35PK20140515  ,OVIDE-A25  ,76      ,  1,18         ,18         ,20140625,1509,  52.5000, -52.5000,      259,      4.7,2,   4.9710,2,  32.5250,2,     -999,9,    338.7,2,     -999,9,     -999,9,     -999,9,     -999,9,     -999,9,     -999,9,20140625,1522,  52.5000, -52.5000
35PK20140515  ,OVIDE-A25  ,76      ,  1,17         ,17         ,20140625,1509,  52.5000, -52.5000,      259,      4.7,2,   4.9720,2,  32.5280,2,  32.5330,4,    338.7,2,    337.7,2,     0.24,2,     0.00,2,     0.00,2,   2207.1,2,   7.8890,2,20140625,1522,  52.5000, -52.5000
35PK20140515  ,OVIDE-A25  ,76      ,  1,16         ,16         ,20140625,1509,  52.5000, -52.5000,      259,     10.4,2,   4.9310,2,  32.5730,2,     -999,9,    343.6,2,     -999,9,     -999,9,     -999,9,     -999,9,     -999,9,     -999,9,20140625,1520,  52.5000, -52.5000
35PK20140515  ,OVIDE-A25  ,76      ,  1,15         ,15         ,20140625,1509,  52.5000, -52.5000,      259,     10.4,2,   4.8200,2,  32.5750,2,     -999,9,    343.6,2,     -999,9,     -999,9,     -999,9,     -999,9,     -999,9,     -999,9,20140625,1520,  52.5000, -52.5000
35PK20140515  ,OVIDE-A25  ,76      ,  1,14         ,14         ,20140625,1509,  52.5000, -52.5000,      259,     24.5,2,   0.4430,2,  32.8000,2,     -999,9,    414.3,2,     -999,9,     -999,9,     -999,9,     -999,9,     -999,9,     -999,9,20140625,1519,  52.5000, -52.5000
35PK20140515  ,OVIDE-A25  ,76      ,  1,13         ,13         ,20140625,1509,  52.5000, -52.5000,      259,     24.5,2,   0.4550,2,  32.7970,2,     -999,9,    414.3,2,     -999,9,     3.88,2,     2.25,2,     0.03,2,     -999,9,     -999,9,20140625,1519,  52.5000, -52.5000
35PK20140515  ,OVIDE-A25  ,76      ,  1,12         ,12         ,20140625,1509,  52.5000, -52.5000,      259,     49.9,2,  -1.1770,2,  33.2570,2,     -999,9,    333.9,2,     -999,9,     -999,9,     -999,9,     -999,9,     -999,9,     -999,9,20140625,1517,  52.5000, -52.5000
35PK20140515  ,OVIDE-A25  ,76      ,  1,11         ,11         ,20140625,1509,  52.5000, -52.5000,      259,     49.9,2,  -1.1810,2,  33.2980,2,  33.2960,2,    333.9,2,    334.1,2,     7.68,2,     8.27,2,     0.27,2,   2232.2,2,   7.6790,2,20140625,1517,  52.5000, -52.5000
35PK20140515  ,OVIDE-A25  ,76      ,  1,10         ,10         ,20140625,1509,  52.5000, -52.5000,      259,     75.0,2,  -1.1000,2,  33.4610,2,     -999,9,    330.0,2,     -999,9,     -999,9,     -999,9,     -999,9,     -999,9,     -999,9,20140625,1516,  52.5000, -52.5000
35PK20140515  ,OVIDE-A25  ,76      ,  1,9          ,9          ,20140625,1509,  52.5000, -52.5000,      259,     75.0,2,  -1.1000,2,  33.4610,2,     -999,9,    330.0,2,     -999,9,     -999,9,     -999,9,     -999,9,     -999,9,     -999,9,20140625,1516,  52.5000, -52.5000
35PK20140515  ,OVIDE-A25  ,76      ,  1,8          ,8          ,20140625,1509,  52.5000, -52.5000,      259,     99.4,2,  -0.9720,2,  33.5770,2,     -999,9,    331.0,2,     -999,9,     -999,9,     -999,9,     -999,9,     -999,9,     -999,9,20140625,1515,  52.5000, -52.5000
35PK20140515  ,OVIDE-A25  ,76      ,  1,7          ,7          ,20140625,1509,  52.5000, -52.5000,      259,     99.7,2,  -0.9740,2,  33.5850,2,  33.5880,2,    331.4,2,    332.2,2,     7.67,2,     9.67,2,     0.52,2,   2237.9,2,   7.6930,2,20140625,1515,  52.5000, -52.5000
35PK20140515  ,OVIDE-A25  ,76      ,  1,6          ,6          ,20140625,1509,  52.5000, -52.5000,      259,    150.2,2,   0.4870,2,  33.9830,2,     -999,9,    318.1,2,     -999,9,     -999,9,     -999,9,     -999,9,     -999,9,     -999,9,20140625,1513,  52.5000, -52.5000
35PK20140515  ,OVIDE-A25  ,76      ,  1,5          ,5          ,20140625,1509,  52.5000, -52.5000,      259,    150.3,2,   0.4680,2,  34.0490,2,  34.0470,2,    318.1,2,    320.4,2,     7.87,2,    11.68,2,     0.16,2,     -999,9,     -999,9,20140625,1513,  52.5000, -52.5000
35PK20140515  ,OVIDE-A25  ,76      ,  1,3          ,3          ,20140625,1509,  52.5000, -52.5000,      259,    200.4,2,   2.1550,2,  34.4220,2,  34.4270,2,    307.5,2,    307.3,2,     7.98,2,    13.63,2,     0.09,2,     -999,9,     -999,9,20140625,1511,  52.5000, -52.5000
35PK20140515  ,OVIDE-A25  ,76      ,  1,4          ,4          ,20140625,1509,  52.5000, -52.5000,      259,    200.4,2,   2.1550,2,  34.4110,2,     -999,9,    307.5,2,     -999,9,     -999,9,     -999,9,     -999,9,     -999,9,     -999,9,20140625,1511,  52.5000, -52.5000
35PK20140515  ,OVIDE-A25  ,76      ,  1,2          ,2          ,20140625,1509,  52.5000, -52.5000,      259,    251.2,2,   3.2500,2,  34.7320,2,     -999,9,    291.9,2,     -999,9,     -999,9,     -999,9,     -999,9,     -999,9,     -999,9,20140625,1509,  52.5000, -52.5000
35PK20140515  ,OVIDE-A25  ,76      ,  1,1          ,1          ,20140625,1509,  52.5000, -52.5000,      259,    251.3,2,   3.2590,2,  34.7310,2,  34.6800,4,    291.9,2,    295.0,2,     9.35,2,    15.03,2,     0.09,2,   2288.2,2,   7.7130,2,20140625,1509,  52.5000, -52.5000