BOTTLE,20240403CCHHYDRO
EXPOCODE,SECT_ID,STNNBR,CASTNO,SAMPNO,BTLNBR,DATE,TIME,LATITUDE,LONGITUDE,DEPTH,CTDPRS,CTDPRS_FLAG_W,CTDTMP,CTDTMP_FLAG_W,CTDSAL,CTDSAL_FLAG_W,SALNTY,SALNTY_FLAG_W,CTDOXY,CTDOXY_FLAG_W,OXYGEN,OXYGEN_FLAG_W,SILCAT,SILCAT_FLAG_W,NITRAT,NITRAT_FLAG_W,NITRIT,NITRIT_FLAG_W,ALKALI,ALKALI_FLAG_W,PH_TOT,PH_TOT_FLAG_W,BTL_DATE,BTL_TIME,BTL_LAT,BTL_LON
,,,,,,,,,,METERS,DBAR,,ITS-90,,PSS-78,,PSS-78,,UMOL/KG,,UMOL/KG,,UMOL/KG,,UMOL/KG,,UMOL/KG,,UMOL/KG,,,,,,,
35PK20140515  ,OVIDE-A25  ,13      ,  1,24         ,24         ,20140524,0447,  41.3830, -13.8880,     5449,      4.4,2,  15.4520,2,  35.8460,2,  35.8460,2,    255.5,2,    254.7,2,     0.52,2,     0.05,2,     0.01,2,     -999,9,   7.9700,2,20140524,0638,  41.3830, -13.8880
35PK20140515  ,OVIDE-A25  ,13      ,  1,23         ,23         ,20140524,0447,  41.3830, -13.8880,     5449,     29.9,2,  15.3480,2,  35.8370,2,  35.8260,4,    254.7,2,    257.5,2,     0.66,2,     0.68,2,     0.06,2,     -999,9,   7.9590,2,20140524,0637,  41.3830, -13.8880
35PK20140515  ,OVIDE-A25  ,13      ,  1,22         ,22         ,20140524,0447,  41.3830, -13.8880,     5449,     49.3,2,  13.6010,2,  35.7710,2,  35.7710,2,    259.2,2,    261.3,2,     0.92,2,     2.85,2,     0.29,2,     -999,9,   7.9200,2,20140524,0636,  41.3830, -13.8880
35PK20140515  ,OVIDE-A25  ,13      ,  1,21         ,21         ,20140524,0447,  41.3830, -13.8880,     5449,    100.1,2,  13.0030,2,  35.7470,2,  35.7470,2,    245.2,2,    246.4,2,     1.78,2,     6.62,2,     0.02,2,     -999,9,   7.8810,2,20140524,0632,  41.3830, -13.8880
35PK20140515  ,OVIDE-A25  ,13      ,  1,20         ,20         ,20140524,0447,  41.3830, -13.8880,     5449,    200.8,2,  12.6490,2,  35.7130,2,  35.7140,2,    241.8,2,    244.4,2,     2.21,2,     7.66,2,     0.02,2,     -999,9,   7.8700,2,20140524,0629,  41.3830, -13.8880
35PK20140515  ,OVIDE-A25  ,13      ,  1,19         ,19         ,20140524,0447,  41.3830, -13.8880,     5449,    300.1,2,  12.2950,2,  35.6770,2,  35.6750,2,    229.2,2,    229.9,2,     3.02,2,    10.03,2,     0.01,2,     -999,9,   7.8440,2,20140524,0627,  41.3830, -13.8880
35PK20140515  ,OVIDE-A25  ,13      ,  1,18         ,18         ,20140524,0447,  41.3830, -13.8880,     5449,    399.9,2,  11.9170,2,  35.6260,2,  35.6270,2,    244.8,2,    246.1,2,     2.89,2,     9.44,2,     0.02,2,     -999,9,   7.8510,2,20140524,0625,  41.3830, -13.8880
35PK20140515  ,OVIDE-A25  ,13      ,  1,17         ,17         ,20140524,0447,  41.3830, -13.8880,     5449,    498.9,2,  11.6640,2,  35.6080,2,  35.6070,2,    226.9,2,    230.5,2,     3.61,2,    11.34,2,     0.00,2,     -999,9,   7.8250,2,20140524,0622,  41.3830, -13.8880
35PK20140515  ,OVIDE-A25  ,13      ,  1,16         ,16         ,20140524,0447,  41.3830, -13.8880,     5449,    600.0,2,  11.2260,2,  35.5740,2,  35.5730,2,    213.1,2,    216.0,2,     4.91,2,    13.55,2,     0.01,2,     -999,9,   7.8000,2,20140524,0620,  41.3830, -13.8880
35PK20140515  ,OVIDE-A25  ,13      ,  1,15         ,15         ,20140524,0447,  41.3830, -13.8880,     5449,    700.4,2,  10.6810,2,  35.5550,2,  35.5550,2,    188.6,2,    191.3,2,     7.34,2,    16.87,2,     0.01,2,     -999,9,   7.7700,2,20140524,0618,  41.3830, -13.8880
35PK20140515  ,OVIDE-A25  ,13      ,  1,14         ,14         ,20140524,0447,  41.3830, -13.8880,     5449,    798.8,2,  10.2690,2,  35.5800,2,  35.5790,2,    182.5,2,    183.8,2,     8.47,2,    17.91,2,     0.00,2,     -999,9,   7.7620,2,20140524,0615,  41.3830, -13.8880
35PK20140515  ,OVIDE-A25  ,13      ,  1,13         ,13         ,20140524,0447,  41.3830, -13.8880,     5449,   1000.2,2,   9.1350,2,  35.6260,2,  35.6270,2,    189.4,2,    191.2,2,    10.07,2,    18.42,2,     0.00,2,     -999,9,   7.7580,2,20140524,0611,  41.3830, -13.8880
35PK20140515  ,OVIDE-A25  ,13      ,  1,12         ,12         ,20140524,0447,  41.3830, -13.8880,     5449,   1250.7,2,   8.9280,2,  35.7980,2,  35.7980,2,    198.3,2,    199.6,2,    10.38,2,    17.56,2,     0.00,2,     -999,9,   7.7720,2,20140524,0605,  41.3830, -13.8880
35PK20140515  ,OVIDE-A25  ,13      ,  1,11         ,11         ,20140524,0447,  41.3830, -13.8880,     5449,   1500.0,2,   6.5840,2,  35.4100,2,  35.4100,2,    226.1,2,    226.9,2,    11.59,2,    18.12,2,     0.00,2,     -999,9,   7.7520,2,20140524,0600,  41.3830, -13.8880
35PK20140515  ,OVIDE-A25  ,13      ,  1,10         ,10         ,20140524,0447,  41.3830, -13.8880,     5449,   1749.9,2,   4.5850,2,  35.0850,2,  35.0850,2,    252.1,2,    254.6,2,    12.77,2,    18.37,2,     0.00,2,     -999,9,   7.7360,2,20140524,0555,  41.3830, -13.8880
35PK20140515  ,OVIDE-A25  ,13      ,  1,9          ,9          ,20140524,0447,  41.3830, -13.8880,     5449,   2000.1,2,   4.0080,2,  35.0290,2,  35.0290,2,    255.4,2,    256.8,2,    15.93,2,    18.65,2,     0.00,2,     -999,9,   7.7380,2,20140524,0550,  41.3830, -13.8880
35PK20140515  ,OVIDE-A25  ,13      ,  1,8          ,8          ,20140524,0447,  41.3830, -13.8880,     5449,   2250.3,2,   3.6210,2,  34.9990,2,  34.9990,2,    254.7,2,    256.3,2,    19.70,2,    19.23,2,     0.00,2,     -999,9,   7.7410,2,20140524,0546,  41.3830, -13.8880
35PK20140515  ,OVIDE-A25  ,13      ,  1,7          ,7          ,20140524,0447,  41.3830, -13.8880,     5449,   2499.6,2,   3.3460,2,  34.9850,2,  34.9850,2,    252.3,2,    254.1,2,    23.26,2,    19.66,2,     0.00,2,     -999,9,   7.7430,2,20140524,0540,  41.3830, -13.8880
35PK20140515  ,OVIDE-A25  ,13      ,  1,6          ,6          ,20140524,0447,  41.3830, -13.8880,     5449,   3000.5,2,   2.8490,2,  34.9490,2,  34.9490,2,    246.5,2,    249.0,2,    32.51,2,    20.93,2,     0.00,2,     -999,9,   7.7450,2,20140524,0531,  41.3830, -13.8880
35PK20140515  ,OVIDE-A25  ,13      ,  1,5          ,5          ,20140524,0447,  41.3830, -13.8880,     5449,   3498.7,2,   2.6290,2,  34.9280,2,  34.9350,4,    243.2,2,    245.3,2,    38.16,2,    21.74,2,     0.00,2,     -999,9,   7.7420,2,20140524,0522,  41.3830, -13.8880
35PK20140515  ,OVIDE-A25  ,13      ,  1,4          ,4          ,20140524,0447,  41.3830, -13.8880,     5449,   4001.2,2,   2.5300,2,  34.9120,2,  34.9120,2,    242.1,2,    244.0,2,    42.39,2,    22.42,2,     0.00,2,     -999,9,   7.7450,2,20140524,0513,  41.3830, -13.8880
35PK20140515  ,OVIDE-A25  ,13      ,  1,3          ,3          ,20140524,0447,  41.3830, -13.8880,     5449,   4499.5,2,   2.4930,2,  34.9030,2,  34.9030,2,    242.1,2,    243.0,2,    44.71,2,    22.67,2,     0.00,2,     -999,9,   7.7460,2,20140524,0504,  41.3830, -13.8880
35PK20140515  ,OVIDE-A25  ,13      ,  1,2          ,2          ,20140524,0447,  41.3830, -13.8880,     5449,   4999.3,2,   2.5210,2,  34.8990,2,  34.9010,2,    242.9,2,    243.5,2,    45.39,2,    22.77,2,     0.00,2,     -999,9,   7.7460,2,20140524,0455,  41.3830, -13.8880
35PK20140515  ,OVIDE-A25  ,13      ,  1,1          ,1          ,20140524,0447,  41.3830, -13.8880,     5449,   5439.8,2,   2.5720,2,  34.8980,2,  34.9000,2,    243.7,2,    243.3,2,    45.87,2,    22.75,2,     0.00,2,     -999,9,   7.7460,2,20140524,0447,  41.3830, -13.8880
35PK20140515  ,OVIDE-A25  ,14      ,  1,24         ,24         ,20140528,0021,  41.9830, -14.6720,     5435,      5.3,2,  15.2020,2,  35.7090,2,  35.7080,2,    259.5,2,    259.3,2,     0.48,2,     0.80,2,     0.07,2,   2347.7,2,   7.9600,2,20140528,0236,  41.9830, -14.6720
35PK20140515  ,OVIDE-A25  ,14      ,  1,23         ,23         ,20140528,0021,  41.9830, -14.6720,     5435,     39.3,2,  13.3710,2,  35.6790,2,  35.6790,2,    268.1,2,    266.5,2,     -999,9,     3.14,2,     0.13,2,   2344.6,2,   7.9270,2,20140528,0233,  41.9830, -14.6720
35PK20140515  ,OVIDE-A25  ,14      ,  1,22         ,22         ,20140528,0021,  41.9830, -14.6720,     5435,    100.1,2,  12.3860,2,  35.6760,2,  35.6760,2,    248.6,2,    248.0,2,     2.29,2,     8.16,2,     0.02,2,   2343.5,2,   7.8670,2,20140528,0231,  41.9830, -14.6720
35PK20140515  ,OVIDE-A25  ,14      ,  1,21         ,21         ,20140528,0021,  41.9830, -14.6720,     5435,    199.6,2,  12.1240,2,  35.6560,2,  35.6550,2,    248.8,2,    247.8,2,     2.49,2,     8.66,2,     0.01,2,   2340.8,2,   7.8610,2,20140528,0228,  41.9830, -14.6720
35PK20140515  ,OVIDE-A25  ,14      ,  1,20         ,20         ,20140528,0021,  41.9830, -14.6720,     5435,    300.7,2,  11.8630,2,  35.6270,2,  35.6270,2,    246.2,2,    246.3,2,     2.68,2,     9.28,2,     0.01,2,   2342.0,2,   7.8520,2,20140528,0225,  41.9830, -14.6720
35PK20140515  ,OVIDE-A25  ,14      ,  1,19         ,19         ,20140528,0021,  41.9830, -14.6720,     5435,    400.4,2,  11.6820,2,  35.6120,2,  35.6120,2,    234.8,2,    234.9,2,     3.31,2,    10.64,2,     0.01,2,   2340.3,2,   7.8340,2,20140528,0222,  41.9830, -14.6720
35PK20140515  ,OVIDE-A25  ,14      ,  1,18         ,18         ,20140528,0021,  41.9830, -14.6720,     5435,    500.5,2,  11.3620,2,  35.5810,2,  35.5810,2,    229.9,2,    229.0,2,     3.93,2,    11.98,2,     0.01,2,   2339.0,2,   7.8200,2,20140528,0219,  41.9830, -14.6720
35PK20140515  ,OVIDE-A25  ,14      ,  1,17         ,17         ,20140528,0021,  41.9830, -14.6720,     5435,    600.0,2,  11.0730,2,  35.5810,2,  35.5820,2,    207.2,2,    208.9,2,     5.42,2,    14.36,2,     0.00,2,   2342.4,2,   7.7950,2,20140528,0216,  41.9830, -14.6720
35PK20140515  ,OVIDE-A25  ,14      ,  1,16         ,16         ,20140528,0021,  41.9830, -14.6720,     5435,    700.2,2,  10.5260,2,  35.5710,2,  35.5710,2,    189.7,2,    190.9,2,     7.51,2,    16.88,2,     0.01,2,   2341.0,2,   7.7710,2,20140528,0212,  41.9830, -14.6720
35PK20140515  ,OVIDE-A25  ,14      ,  1,15         ,15         ,20140528,0021,  41.9830, -14.6720,     5435,    799.3,2,  10.2080,2,  35.6430,2,  35.6490,4,    182.2,2,    183.2,2,     8.70,2,    17.97,2,     0.00,2,   2346.8,2,   7.7670,2,20140528,0209,  41.9830, -14.6720
35PK20140515  ,OVIDE-A25  ,14      ,  1,14         ,14         ,20140528,0021,  41.9830, -14.6720,     5435,    999.7,2,  10.4890,2,  35.9440,2,  35.9600,4,    180.8,2,    182.2,2,     9.05,2,    17.30,2,     0.00,2,   2375.9,2,   7.7850,2,20140528,0204,  41.9830, -14.6720
35PK20140515  ,OVIDE-A25  ,14      ,  1,13         ,13         ,20140528,0021,  41.9830, -14.6720,     5435,   1200.5,2,   9.4740,2,  35.8860,2,  35.8820,2,    193.1,2,    193.8,2,    10.07,2,    17.46,2,     0.00,2,   2371.9,2,   7.7810,2,20140528,0200,  41.9830, -14.6720
35PK20140515  ,OVIDE-A25  ,14      ,  1,12         ,12         ,20140528,0021,  41.9830, -14.6720,     5435,   1401.3,2,   7.4780,2,  35.5640,2,  35.5640,2,    214.9,2,    215.6,2,    12.10,2,    18.06,2,     0.00,2,   2356.0,2,   7.7610,2,20140528,0154,  41.9830, -14.6720
35PK20140515  ,OVIDE-A25  ,14      ,  1,11         ,11         ,20140528,0021,  41.9830, -14.6720,     5435,   1600.9,2,   5.7560,2,  35.2770,2,  35.2770,2,    236.3,2,    236.5,2,    12.15,2,    18.39,2,     0.00,2,   2334.4,2,   7.7460,2,20140528,0149,  41.9830, -14.6720
35PK20140515  ,OVIDE-A25  ,14      ,  1,10         ,10         ,20140528,0021,  41.9830, -14.6720,     5435,   1800.3,2,   4.6580,2,  35.1070,2,  35.1080,2,    250.0,2,    250.4,2,    12.99,2,    18.50,2,     0.00,2,   2322.5,2,   7.7380,2,20140528,0144,  41.9830, -14.6720
35PK20140515  ,OVIDE-A25  ,14      ,  1,9          ,9          ,20140528,0021,  41.9830, -14.6720,     5435,   2000.6,2,   4.1520,2,  35.0510,2,  35.0500,2,    254.6,2,    255.6,2,    14.83,2,    18.76,2,     0.00,2,   2323.2,2,   7.7370,2,20140528,0139,  41.9830, -14.6720
35PK20140515  ,OVIDE-A25  ,14      ,  1,8          ,8          ,20140528,0021,  41.9830, -14.6720,     5435,   2202.5,2,   3.7360,2,  35.0060,2,  35.0070,2,    256.6,2,    257.9,2,    17.25,2,    19.05,2,     0.00,2,   2322.7,2,   7.7420,2,20140528,0133,  41.9830, -14.6720
35PK20140515  ,OVIDE-A25  ,14      ,  1,7          ,7          ,20140528,0021,  41.9830, -14.6720,     5435,   2497.8,2,   3.3220,2,  34.9730,2,  34.9730,2,    255.7,2,    256.9,2,    21.43,2,    19.52,2,     0.00,2,   2325.6,2,   7.7430,2,20140528,0126,  41.9830, -14.6720
35PK20140515  ,OVIDE-A25  ,14      ,  1,6          ,6          ,20140528,0021,  41.9830, -14.6720,     5435,   3000.9,2,   2.8580,2,  34.9480,2,  34.9480,2,    247.6,2,    249.4,2,    31.21,2,    20.93,2,     0.00,2,   2337.9,2,   7.7460,2,20140528,0115,  41.9830, -14.6720
35PK20140515  ,OVIDE-A25  ,14      ,  1,5          ,5          ,20140528,0021,  41.9830, -14.6720,     5435,   3500.3,2,   2.6320,2,  34.9270,2,  34.9560,4,    242.7,2,    243.8,2,    36.70,2,    21.74,2,     0.01,2,   2343.5,2,   7.7460,2,20140528,0105,  41.9830, -14.6720
35PK20140515  ,OVIDE-A25  ,14      ,  1,4          ,4          ,20140528,0021,  41.9830, -14.6720,     5435,   4000.5,2,   2.5380,2,  34.9130,2,  34.9130,2,    241.8,2,    243.1,2,    42.06,2,    22.62,2,     0.00,2,   2351.0,2,   7.7460,2,20140528,0054,  41.9830, -14.6720
35PK20140515  ,OVIDE-A25  ,14      ,  1,3          ,3          ,20140528,0021,  41.9830, -14.6720,     5435,   4497.4,2,   2.4990,2,  34.9040,2,  34.9040,2,    242.2,2,    243.5,2,    44.31,2,    22.91,2,     0.01,2,   2354.5,2,   7.7460,2,20140528,0044,  41.9830, -14.6720
35PK20140515  ,OVIDE-A25  ,14      ,  1,2          ,2          ,20140528,0021,  41.9830, -14.6720,     5435,   4999.7,2,   2.5240,2,  34.9000,2,  34.9140,4,    242.7,2,    242.7,2,    43.84,2,    22.65,2,     0.01,2,   2354.4,2,   7.7490,2,20140528,0031,  41.9830, -14.6720
35PK20140515  ,OVIDE-A25  ,14      ,  1,1          ,1          ,20140528,0021,  41.9830, -14.6720,     5435,   5425.0,2,   2.5740,2,  34.8980,2,  34.8990,2,    243.4,2,    244.0,2,    45.40,2,    23.00,2,     0.01,2,   2356.8,2,   7.7470,2,20140528,0021,  41.9830, -14.6720