BOTTLE,20240403CCHHYDRO
EXPOCODE,SECT_ID,STNNBR,CASTNO,SAMPNO,BTLNBR,DATE,TIME,LATITUDE,LONGITUDE,DEPTH,CTDPRS,CTDPRS_FLAG_W,CTDTMP,CTDTMP_FLAG_W,CTDSAL,CTDSAL_FLAG_W,SALNTY,SALNTY_FLAG_W,CTDOXY,CTDOXY_FLAG_W,OXYGEN,OXYGEN_FLAG_W,SILCAT,SILCAT_FLAG_W,NITRAT,NITRAT_FLAG_W,NITRIT,NITRIT_FLAG_W,ALKALI,ALKALI_FLAG_W,PH_TOT,PH_TOT_FLAG_W,BTL_DATE,BTL_TIME,BTL_LAT,BTL_LON
,,,,,,,,,,METERS,DBAR,,ITS-90,,PSS-78,,PSS-78,,UMOL/KG,,UMOL/KG,,UMOL/KG,,UMOL/KG,,UMOL/KG,,UMOL/KG,,,,,,,
35PK20140515  ,OVIDE-A25  ,25      ,  1,24         ,24         ,20140603,1637,  49.5290, -22.0170,     4282,      7.8,2,  12.8820,2,  35.5720,2,  35.5740,2,    275.2,2,    273.6,2,     1.14,2,     3.77,2,     0.20,2,   2340.9,2,   7.9340,2,20140603,1813,  49.5290, -22.0170
35PK20140515  ,OVIDE-A25  ,25      ,  1,23         ,23         ,20140603,1637,  49.5290, -22.0170,     4282,     15.1,2,  12.8740,2,  35.5700,2,  35.5700,2,    275.1,2,    275.2,2,     1.01,2,     3.80,2,     0.20,2,   2341.2,2,   7.9380,2,20140603,1813,  49.5290, -22.0170
35PK20140515  ,OVIDE-A25  ,25      ,  1,22         ,22         ,20140603,1637,  49.5290, -22.0170,     4282,    100.3,2,  11.7290,2,  35.5760,2,  35.5740,2,    251.6,2,    252.1,2,     3.10,2,     9.16,2,     0.04,2,   2339.2,2,   7.8560,2,20140603,1808,  49.5290, -22.0170
35PK20140515  ,OVIDE-A25  ,25      ,  1,21         ,21         ,20140603,1637,  49.5290, -22.0170,     4282,    199.6,2,  11.1620,2,  35.5270,2,  35.5270,2,    251.3,2,    249.9,2,     3.78,2,    10.52,2,     0.03,2,   2335.7,2,   7.8360,2,20140603,1806,  49.5290, -22.0170
35PK20140515  ,OVIDE-A25  ,25      ,  1,20         ,20         ,20140603,1637,  49.5290, -22.0170,     4282,    298.7,2,  10.9250,2,  35.4940,2,  35.4940,2,    255.0,2,    254.0,2,     3.95,2,    10.71,2,     0.02,2,   2334.3,2,   7.8370,2,20140603,1803,  49.5290, -22.0170
35PK20140515  ,OVIDE-A25  ,25      ,  1,19         ,19         ,20140603,1637,  49.5290, -22.0170,     4282,    400.0,2,  10.5820,2,  35.4330,2,  35.4330,2,    254.2,2,    254.3,2,     4.64,2,    11.56,2,     0.02,2,   2331.7,2,   7.8270,2,20140603,1801,  49.5290, -22.0170
35PK20140515  ,OVIDE-A25  ,25      ,  1,18         ,18         ,20140603,1637,  49.5290, -22.0170,     4282,    500.4,2,   9.9560,2,  35.3360,2,  35.3370,2,    246.6,2,    246.9,2,     5.55,2,    16.31,3,     0.01,2,   2328.1,2,   7.8070,2,20140603,1758,  49.5290, -22.0170
35PK20140515  ,OVIDE-A25  ,25      ,  1,17         ,17         ,20140603,1637,  49.5290, -22.0170,     4282,    600.1,2,   9.1890,2,  35.2410,2,  35.2370,2,    213.1,2,    214.0,2,     8.07,2,    16.27,2,     0.01,2,   2322.7,2,   7.7570,2,20140603,1756,  49.5290, -22.0170
35PK20140515  ,OVIDE-A25  ,25      ,  1,16         ,16         ,20140603,1637,  49.5290, -22.0170,     4282,    799.3,2,   7.2150,2,  35.1230,2,  35.1190,2,    204.8,2,    205.0,2,    10.81,2,    19.28,2,     0.00,2,   2318.4,2,   7.7070,2,20140603,1751,  49.5290, -22.0170
35PK20140515  ,OVIDE-A25  ,25      ,  1,15         ,15         ,20140603,1637,  49.5290, -22.0170,     4282,    899.1,2,   6.0810,2,  35.0460,2,  35.0460,2,    223.0,2,    224.4,2,    10.73,2,    18.82,2,     0.00,2,   2313.4,2,   7.7080,2,20140603,1749,  49.5290, -22.0170
35PK20140515  ,OVIDE-A25  ,25      ,  1,14         ,14         ,20140603,1637,  49.5290, -22.0170,     4282,   1000.7,2,   5.2580,2,  34.9890,2,  34.9890,2,    243.3,2,    242.7,2,    10.20,2,    18.17,2,     0.00,2,   2309.4,2,   7.7100,2,20140603,1746,  49.5290, -22.0170
35PK20140515  ,OVIDE-A25  ,25      ,  1,13         ,13         ,20140603,1637,  49.5290, -22.0170,     4282,   1199.9,2,   4.5850,2,  34.9650,2,  34.9650,2,    261.3,2,    260.4,2,     9.83,2,    17.59,2,     0.00,2,   2307.8,2,   7.7160,2,20140603,1742,  49.5290, -22.0170
35PK20140515  ,OVIDE-A25  ,25      ,  1,12         ,12         ,20140603,1637,  49.5290, -22.0170,     4282,   1400.6,2,   4.1680,2,  34.9340,2,  34.9340,2,    269.4,2,    269.3,2,     9.90,2,    17.29,2,     0.00,2,   2303.3,2,   7.7200,2,20140603,1737,  49.5290, -22.0170
35PK20140515  ,OVIDE-A25  ,25      ,  1,11         ,11         ,20140603,1637,  49.5290, -22.0170,     4282,   1600.7,2,   3.9200,2,  34.9220,2,  34.9220,2,    271.7,2,    271.3,2,    10.31,2,    17.25,2,     0.00,2,   2301.5,2,   7.7210,2,20140603,1733,  49.5290, -22.0170
35PK20140515  ,OVIDE-A25  ,25      ,  1,10         ,10         ,20140603,1637,  49.5290, -22.0170,     4282,   1800.1,2,   3.7590,2,  34.9210,2,  34.9220,2,    271.6,2,    271.6,2,    10.77,2,    17.30,2,     0.00,2,   2304.4,2,   7.7260,2,20140603,1728,  49.5290, -22.0170
35PK20140515  ,OVIDE-A25  ,25      ,  1,9          ,9          ,20140603,1637,  49.5290, -22.0170,     4282,   1999.5,2,   3.6230,2,  34.9220,2,  34.9230,2,    271.3,2,    271.2,2,    11.50,2,    17.41,2,     0.00,2,   2305.0,2,   7.7290,2,20140603,1724,  49.5290, -22.0170
35PK20140515  ,OVIDE-A25  ,25      ,  1,8          ,8          ,20140603,1637,  49.5290, -22.0170,     4282,   2249.9,2,   3.4100,2,  34.9210,2,  34.9210,2,    272.9,2,    272.3,2,    12.42,2,    17.35,2,     0.00,2,   2308.9,2,   7.7330,2,20140603,1719,  49.5290, -22.0170
35PK20140515  ,OVIDE-A25  ,25      ,  1,7          ,7          ,20140603,1637,  49.5290, -22.0170,     4282,   2500.3,2,   3.2520,2,  34.9270,2,  34.9270,2,    273.1,2,    273.1,2,    13.15,2,    17.15,2,     0.00,2,   2309.6,2,   7.7340,2,20140603,1713,  49.5290, -22.0170
35PK20140515  ,OVIDE-A25  ,25      ,  1,6          ,6          ,20140603,1637,  49.5290, -22.0170,     4282,   2750.6,2,   3.1090,2,  34.9360,2,  34.9360,2,    267.5,2,    268.0,2,    17.31,2,    17.70,2,     0.00,2,   2315.9,2,   7.7360,2,20140603,1708,  49.5290, -22.0170
35PK20140515  ,OVIDE-A25  ,25      ,  1,5          ,5          ,20140603,1637,  49.5290, -22.0170,     4282,   2999.0,2,   2.9890,2,  34.9450,2,  34.9430,2,    264.1,2,    265.1,2,    20.34,2,    18.01,2,     0.00,2,   2319.6,2,   7.7370,2,20140603,1703,  49.5290, -22.0170
35PK20140515  ,OVIDE-A25  ,25      ,  1,4          ,4          ,20140603,1637,  49.5290, -22.0170,     4282,   3249.6,2,   2.8460,2,  34.9430,2,  34.9430,2,    257.5,2,    258.9,2,    25.70,2,    18.82,2,     0.00,2,   2328.8,2,   7.7390,2,20140603,1658,  49.5290, -22.0170
35PK20140515  ,OVIDE-A25  ,25      ,  1,3          ,3          ,20140603,1637,  49.5290, -22.0170,     4282,   3501.5,2,   2.7330,2,  34.9350,2,  34.9340,2,    250.9,2,    251.3,2,    32.13,2,    19.99,2,     0.00,2,   2336.5,2,   7.7390,2,20140603,1652,  49.5290, -22.0170
35PK20140515  ,OVIDE-A25  ,25      ,  1,2          ,2          ,20140603,1637,  49.5290, -22.0170,     4282,   4000.1,2,   2.5890,2,  34.9170,2,  34.9170,2,    241.7,2,    242.9,2,    40.76,2,    21.59,2,     0.00,2,   2349.1,2,   7.7420,2,20140603,1643,  49.5290, -22.0170
35PK20140515  ,OVIDE-A25  ,25      ,  1,1          ,1          ,20140603,1637,  49.5290, -22.0170,     4282,   4272.1,2,   2.5800,2,  34.9130,2,  34.9130,2,    240.3,2,    241.9,2,    42.96,2,    22.01,2,     0.00,2,   2352.2,2,   7.7410,2,20140603,1637,  49.5290, -22.0170
35PK20140515  ,OVIDE-A25  ,26      ,  1,24         ,24         ,20140604,0502,  50.2780, -22.6050,     4202,      4.4,2,  11.3090,2,  35.2650,2,  35.2670,2,    283.2,2,    290.9,2,     1.10,2,     5.90,2,     0.52,2,   2327.2,2,   7.8920,2,20140604,0639,  50.2780, -22.6050
35PK20140515  ,OVIDE-A25  ,26      ,  1,23         ,23         ,20140604,0502,  50.2780, -22.6050,     4202,     34.8,2,  11.0620,2,  35.2640,2,  35.2650,2,    283.8,2,    282.2,2,     1.16,2,     6.18,2,     0.54,2,   2326.4,2,   7.8900,2,20140604,0636,  50.2780, -22.6050
35PK20140515  ,OVIDE-A25  ,26      ,  1,22         ,22         ,20140604,0502,  50.2780, -22.6050,     4202,    100.1,2,  10.0000,2,  35.2670,2,  35.2740,4,    260.3,2,    261.2,2,     3.94,2,    11.21,2,     -999,9,   2325.3,2,   7.8210,2,20140604,0633,  50.2780, -22.6050
35PK20140515  ,OVIDE-A25  ,26      ,  1,21         ,21         ,20140604,0502,  50.2780, -22.6050,     4202,    149.7,2,   9.3070,2,  35.2200,2,  35.2190,2,    264.4,2,    263.4,2,     5.01,2,    12.57,2,     -999,9,   2321.2,2,   7.8030,2,20140604,0632,  50.2780, -22.6050
35PK20140515  ,OVIDE-A25  ,26      ,  1,20         ,20         ,20140604,0502,  50.2780, -22.6050,     4202,    199.7,2,   9.0110,2,  35.1890,2,  35.1870,2,    266.7,2,    266.1,2,     5.75,2,    13.09,2,     0.06,2,   2319.7,2,   7.7940,2,20140604,0630,  50.2780, -22.6050
35PK20140515  ,OVIDE-A25  ,26      ,  1,19         ,19         ,20140604,0502,  50.2780, -22.6050,     4202,    300.2,2,   8.2850,2,  35.0830,2,  35.0810,2,    270.4,2,    268.5,2,     6.31,2,    13.59,2,     0.02,2,   2313.9,2,   7.7810,2,20140604,0628,  50.2780, -22.6050
35PK20140515  ,OVIDE-A25  ,26      ,  1,18         ,18         ,20140604,0502,  50.2780, -22.6050,     4202,    400.5,2,   7.4230,2,  34.9810,2,  34.9810,2,    244.8,2,    244.8,2,     8.22,2,    16.17,2,     0.02,2,   2308.6,2,   7.7400,2,20140604,0624,  50.2780, -22.6050
35PK20140515  ,OVIDE-A25  ,26      ,  1,17         ,17         ,20140604,0502,  50.2780, -22.6050,     4202,    501.0,2,   6.5580,2,  34.9810,2,  34.9810,2,    211.0,2,    210.2,2,    10.99,2,    19.22,2,     0.01,2,   2308.8,2,   7.6960,2,20140604,0621,  50.2780, -22.6050
35PK20140515  ,OVIDE-A25  ,26      ,  1,16         ,16         ,20140604,0502,  50.2780, -22.6050,     4202,    600.5,2,   6.0960,2,  35.0200,2,  35.0180,2,    222.2,2,    222.7,2,    10.87,2,    18.90,2,     0.01,2,   2312.0,2,   7.7000,2,20140604,0619,  50.2780, -22.6050
35PK20140515  ,OVIDE-A25  ,26      ,  1,15         ,15         ,20140604,0502,  50.2780, -22.6050,     4202,    750.5,2,   5.0790,2,  34.9760,2,  34.9780,2,    248.4,2,    246.9,2,    10.49,2,    17.95,2,     0.00,2,   2307.9,2,   7.7080,2,20140604,0615,  50.2780, -22.6050
35PK20140515  ,OVIDE-A25  ,26      ,  1,14         ,14         ,20140604,0502,  50.2780, -22.6050,     4202,    899.5,2,   4.6950,2,  34.9820,2,  34.9810,2,    258.9,2,    257.5,2,    10.22,2,    17.66,2,     0.00,2,   2308.6,2,   7.7120,2,20140604,0612,  50.2780, -22.6050
35PK20140515  ,OVIDE-A25  ,26      ,  1,13         ,13         ,20140604,0502,  50.2780, -22.6050,     4202,    999.2,2,   4.4690,2,  34.9590,2,  34.9590,2,    264.2,2,    262.8,2,     9.86,2,    17.44,2,     0.00,2,   2307.2,2,   7.7140,2,20140604,0609,  50.2780, -22.6050
35PK20140515  ,OVIDE-A25  ,26      ,  1,12         ,12         ,20140604,0502,  50.2780, -22.6050,     4202,   1199.7,2,   4.0830,2,  34.9270,2,  34.9280,2,    271.3,2,    270.3,2,     -999,9,    17.24,2,     0.00,2,   2304.5,2,   7.7150,2,20140604,0605,  50.2780, -22.6050
35PK20140515  ,OVIDE-A25  ,26      ,  1,11         ,11         ,20140604,0502,  50.2780, -22.6050,     4202,   1400.6,2,   3.8690,2,  34.9200,2,  34.9200,2,    272.5,2,    271.3,2,    10.30,2,    17.20,2,     0.00,2,   2305.0,2,   7.7150,2,20140604,0601,  50.2780, -22.6050
35PK20140515  ,OVIDE-A25  ,26      ,  1,10         ,10         ,20140604,0502,  50.2780, -22.6050,     4202,   1599.9,2,   3.7420,2,  34.9200,2,  34.9200,2,    272.3,2,    271.6,2,    10.80,2,    17.27,2,     0.00,2,   2304.9,2,   7.7220,2,20140604,0556,  50.2780, -22.6050
35PK20140515  ,OVIDE-A25  ,26      ,  1,9          ,9          ,20140604,0502,  50.2780, -22.6050,     4202,   1800.4,2,   3.5750,2,  34.9220,2,  34.9230,2,    272.5,2,    271.8,2,    11.44,2,    17.26,2,     0.00,2,   2305.0,2,   7.7290,2,20140604,0552,  50.2780, -22.6050
35PK20140515  ,OVIDE-A25  ,26      ,  1,8          ,8          ,20140604,0502,  50.2780, -22.6050,     4202,   1998.6,2,   3.4280,2,  34.9220,2,  34.9220,2,    273.5,2,    272.7,2,    11.99,2,    17.19,2,     0.00,2,   2306.4,2,   7.7310,2,20140604,0547,  50.2780, -22.6050
35PK20140515  ,OVIDE-A25  ,26      ,  1,7          ,7          ,20140604,0502,  50.2780, -22.6050,     4202,   2300.1,2,   3.2590,2,  34.9300,2,  34.9300,2,    273.9,2,    273.3,2,    12.83,2,    16.98,2,     0.00,2,   2307.5,2,   7.7320,2,20140604,0541,  50.2780, -22.6050
35PK20140515  ,OVIDE-A25  ,26      ,  1,6          ,6          ,20140604,0502,  50.2780, -22.6050,     4202,   2499.1,2,   3.1470,2,  34.9370,2,  34.9380,2,    272.4,2,    271.9,2,    14.30,2,    17.00,2,     0.00,2,   2310.2,2,   7.7340,2,20140604,0537,  50.2780, -22.6050
35PK20140515  ,OVIDE-A25  ,26      ,  1,5          ,5          ,20140604,0502,  50.2780, -22.6050,     4202,   2749.4,2,   3.0130,2,  34.9460,2,  34.9460,2,    268.7,2,    268.4,2,    17.12,2,    17.23,2,     0.00,2,   2314.0,2,   7.7340,2,20140604,0532,  50.2780, -22.6050
35PK20140515  ,OVIDE-A25  ,26      ,  1,4          ,4          ,20140604,0502,  50.2780, -22.6050,     4202,   2999.3,2,   2.8930,2,  34.9480,2,  34.9480,2,    263.0,2,    262.9,2,    22.57,2,    18.03,2,     0.00,2,   2322.1,2,   7.7350,2,20140604,0527,  50.2780, -22.6050
35PK20140515  ,OVIDE-A25  ,26      ,  1,3          ,3          ,20140604,0502,  50.2780, -22.6050,     4202,   3250.8,2,   2.7660,2,  34.9400,2,  34.9390,2,    255.1,2,    254.9,2,    28.70,2,    19.22,2,     0.00,2,   2331.9,2,   7.7370,2,20140604,0521,  50.2780, -22.6050
35PK20140515  ,OVIDE-A25  ,26      ,  1,2          ,2          ,20140604,0502,  50.2780, -22.6050,     4202,   3499.8,2,   2.6910,2,  34.9320,2,  34.9350,2,    249.3,2,    250.3,2,    32.61,2,    19.94,2,     0.00,2,   2339.2,2,   7.7380,2,20140604,0516,  50.2780, -22.6050
35PK20140515  ,OVIDE-A25  ,26      ,  1,1          ,1          ,20140604,0502,  50.2780, -22.6050,     4202,   4192.2,2,   2.5850,2,  34.9140,2,  34.9130,2,    241.1,2,    240.7,2,    42.81,2,    21.80,2,     0.00,2,   2352.8,2,   7.7400,2,20140604,0502,  50.2780, -22.6050