BOTTLE,20240403CCHHYDRO
EXPOCODE,SECT_ID,STNNBR,CASTNO,SAMPNO,BTLNBR,DATE,TIME,LATITUDE,LONGITUDE,DEPTH,CTDPRS,CTDPRS_FLAG_W,CTDTMP,CTDTMP_FLAG_W,CTDSAL,CTDSAL_FLAG_W,SALNTY,SALNTY_FLAG_W,CTDOXY,CTDOXY_FLAG_W,OXYGEN,OXYGEN_FLAG_W,SILCAT,SILCAT_FLAG_W,NITRAT,NITRAT_FLAG_W,NITRIT,NITRIT_FLAG_W,ALKALI,ALKALI_FLAG_W,PH_TOT,PH_TOT_FLAG_W,BTL_DATE,BTL_TIME,BTL_LAT,BTL_LON
,,,,,,,,,,METERS,DBAR,,ITS-90,,PSS-78,,PSS-78,,UMOL/KG,,UMOL/KG,,UMOL/KG,,UMOL/KG,,UMOL/KG,,UMOL/KG,,,,,,,
35PK20140515  ,OVIDE-A25  ,35      ,  1,24         ,24         ,20140610,0150,  57.6750, -28.7300,     2506,      4.9,2,   9.7610,2,  35.0080,2,  35.0090,2,    292.2,2,    291.6,2,     0.22,2,     7.08,2,     0.12,2,   2302.7,2,   7.8560,2,20140610,0253,  57.6750, -28.7300
35PK20140515  ,OVIDE-A25  ,35      ,  1,23         ,23         ,20140610,0150,  57.6750, -28.7300,     2506,     39.5,2,   7.9450,2,  35.0530,2,  35.0540,2,    289.1,2,    289.5,2,     2.21,2,    10.23,2,     0.38,2,   2316.6,2,   7.8110,2,20140610,0252,  57.6750, -28.7300
35PK20140515  ,OVIDE-A25  ,35      ,  1,22         ,22         ,20140610,0150,  57.6750, -28.7300,     2506,     99.7,2,   7.2550,2,  35.0380,2,  35.0380,2,    274.3,2,    274.2,2,     6.34,2,    14.45,2,     0.03,2,   2311.9,2,   7.7610,2,20140610,0249,  57.6750, -28.7300
35PK20140515  ,OVIDE-A25  ,35      ,  1,21         ,21         ,20140610,0150,  57.6750, -28.7300,     2506,    149.5,2,   6.8390,2,  35.0110,2,  35.0100,2,    280.3,2,    279.5,2,     6.45,2,    14.45,2,     0.02,2,   2309.8,2,   7.7600,2,20140610,0247,  57.6750, -28.7300
35PK20140515  ,OVIDE-A25  ,35      ,  1,20         ,20         ,20140610,0150,  57.6750, -28.7300,     2506,    220.1,2,   6.7490,2,  35.0150,2,  35.0150,2,    282.3,2,    282.3,2,     6.34,2,    14.35,2,     0.01,2,   2310.4,2,   7.7610,2,20140610,0245,  57.6750, -28.7300
35PK20140515  ,OVIDE-A25  ,35      ,  1,19         ,19         ,20140610,0150,  57.6750, -28.7300,     2506,    301.2,2,   6.6260,2,  35.0180,2,  35.0190,2,    279.1,2,    278.0,2,     6.65,2,    14.62,2,     0.01,2,   2312.0,2,   7.7570,2,20140610,0243,  57.6750, -28.7300
35PK20140515  ,OVIDE-A25  ,35      ,  1,18         ,18         ,20140610,0150,  57.6750, -28.7300,     2506,    400.2,2,   6.4920,2,  35.0390,2,  35.0400,2,    258.3,2,    258.0,2,     7.95,2,    16.33,2,     0.00,2,   2311.6,2,   7.7390,2,20140610,0241,  57.6750, -28.7300
35PK20140515  ,OVIDE-A25  ,35      ,  1,17         ,17         ,20140610,0150,  57.6750, -28.7300,     2506,    500.3,2,   5.9030,2,  35.0280,2,  35.0280,2,    235.2,2,    238.7,2,     9.92,2,    18.11,2,     0.00,2,   2311.8,2,   7.7070,2,20140610,0238,  57.6750, -28.7300
35PK20140515  ,OVIDE-A25  ,35      ,  1,16         ,16         ,20140610,0150,  57.6750, -28.7300,     2506,    600.4,2,   5.2310,2,  34.9850,2,  34.9860,2,    243.5,2,    244.6,2,    10.27,2,    18.33,2,     0.00,2,   2309.0,2,   7.7040,2,20140610,0236,  57.6750, -28.7300
35PK20140515  ,OVIDE-A25  ,35      ,  1,15         ,15         ,20140610,0150,  57.6750, -28.7300,     2506,    700.4,2,   4.8110,2,  34.9660,2,  34.9660,2,    253.8,2,    254.1,2,     9.99,2,    18.00,2,     0.00,2,     -999,9,   7.7070,2,20140610,0233,  57.6750, -28.7300
35PK20140515  ,OVIDE-A25  ,35      ,  1,14         ,14         ,20140610,0150,  57.6750, -28.7300,     2506,    800.0,2,   4.4580,2,  34.9440,2,  34.9450,2,    262.6,2,    264.3,2,     9.83,2,    17.61,2,     0.00,2,   2305.6,2,   7.7110,2,20140610,0230,  57.6750, -28.7300
35PK20140515  ,OVIDE-A25  ,35      ,  1,13         ,13         ,20140610,0150,  57.6750, -28.7300,     2506,    899.5,2,   4.2570,2,  34.9320,2,  34.9320,2,    267.9,2,    268.7,2,     9.78,2,    17.36,2,     0.00,2,     -999,9,   7.7130,2,20140610,0228,  57.6750, -28.7300
35PK20140515  ,OVIDE-A25  ,35      ,  1,12         ,12         ,20140610,0150,  57.6750, -28.7300,     2506,   1000.8,2,   4.1100,2,  34.9250,2,  34.9250,2,    270.5,2,    271.7,2,     -999,9,    17.31,2,     0.00,2,   2304.3,2,   7.7160,2,20140610,0225,  57.6750, -28.7300
35PK20140515  ,OVIDE-A25  ,35      ,  1,11         ,11         ,20140610,0150,  57.6750, -28.7300,     2506,   1100.2,2,   3.9990,2,  34.9190,2,  34.9200,2,    271.8,2,    272.0,2,    10.10,2,    17.24,2,     0.00,2,     -999,9,   7.7180,2,20140610,0223,  57.6750, -28.7300
35PK20140515  ,OVIDE-A25  ,35      ,  1,10         ,10         ,20140610,0150,  57.6750, -28.7300,     2506,   1200.5,2,   3.8990,2,  34.9180,2,  34.9210,2,    272.0,2,    272.6,2,    10.48,2,    17.24,2,     0.00,2,   2303.9,2,   7.7190,2,20140610,0220,  57.6750, -28.7300
35PK20140515  ,OVIDE-A25  ,35      ,  1,9          ,9          ,20140610,0150,  57.6750, -28.7300,     2506,   1300.0,2,   3.8150,2,  34.9180,2,  34.9180,2,    272.0,2,    272.8,2,    10.92,2,    17.27,2,     0.00,2,   2304.9,2,   7.7210,2,20140610,0218,  57.6750, -28.7300
35PK20140515  ,OVIDE-A25  ,35      ,  1,8          ,8          ,20140610,0150,  57.6750, -28.7300,     2506,   1400.9,2,   3.7530,2,  34.9210,2,  34.9220,2,    271.6,2,    271.8,2,    10.85,2,    17.36,2,     0.00,2,   2304.9,2,   7.7240,2,20140610,0215,  57.6750, -28.7300
35PK20140515  ,OVIDE-A25  ,35      ,  1,7          ,7          ,20140610,0150,  57.6750, -28.7300,     2506,   1499.8,2,   3.6620,2,  34.9230,2,  34.9240,2,    271.6,2,    272.3,2,    11.45,2,    17.35,2,     0.00,2,   2304.3,2,   7.7250,2,20140610,0213,  57.6750, -28.7300
35PK20140515  ,OVIDE-A25  ,35      ,  1,6          ,6          ,20140610,0150,  57.6750, -28.7300,     2506,   1600.1,2,   3.5640,2,  34.9250,2,  34.9250,2,    272.3,2,    272.9,2,    11.62,2,    17.25,2,     0.00,2,   2304.8,2,   7.7270,2,20140610,0210,  57.6750, -28.7300
35PK20140515  ,OVIDE-A25  ,35      ,  1,5          ,5          ,20140610,0150,  57.6750, -28.7300,     2506,   1800.0,2,   3.3690,2,  34.9360,2,  34.9370,2,    273.6,2,    274.1,2,    12.30,2,    16.98,2,     0.00,2,   2307.0,2,   7.7330,2,20140610,0206,  57.6750, -28.7300
35PK20140515  ,OVIDE-A25  ,35      ,  1,4          ,4          ,20140610,0150,  57.6750, -28.7300,     2506,   2000.3,2,   3.2070,2,  34.9520,2,  34.9530,2,    272.8,2,    273.3,2,    13.33,2,    16.80,2,     0.00,2,   2309.8,2,   7.7330,2,20140610,0201,  57.6750, -28.7300
35PK20140515  ,OVIDE-A25  ,35      ,  1,3          ,3          ,20140610,0150,  57.6750, -28.7300,     2506,   2101.0,2,   3.1280,2,  34.9640,2,  34.9660,2,    272.2,2,    272.7,2,    13.93,2,    16.74,2,     0.00,2,   2310.3,2,   7.7300,2,20140610,0159,  57.6750, -28.7300
35PK20140515  ,OVIDE-A25  ,35      ,  1,2          ,2          ,20140610,0150,  57.6750, -28.7300,     2506,   2299.8,2,   2.9050,2,  34.9880,2,  34.9870,2,    274.2,2,    274.6,2,    13.32,2,    16.03,2,     0.00,2,   2310.0,2,   7.7240,2,20140610,0155,  57.6750, -28.7300
35PK20140515  ,OVIDE-A25  ,35      ,  1,1          ,1          ,20140610,0150,  57.6750, -28.7300,     2506,   2496.2,2,   2.8540,2,  34.9880,2,  34.9880,2,    274.1,2,    274.9,2,    14.84,2,    16.04,2,     0.01,2,   2312.1,2,   7.7200,2,20140610,0150,  57.6750, -28.7300
35PK20140515  ,OVIDE-A25  ,36      ,  1,24         ,24         ,20140610,0815,  58.2070, -29.7250,     2254,      5.1,2,   9.5070,2,  35.0510,2,  35.0510,2,    293.2,2,    292.1,2,     0.40,2,     7.28,2,     0.14,2,   2310.5,2,   7.8980,2,20140610,0922,  58.2070, -29.7250
35PK20140515  ,OVIDE-A25  ,36      ,  1,23         ,23         ,20140610,0815,  58.2070, -29.7250,     2254,     20.2,2,   9.1630,2,  35.0510,2,  35.0500,2,    294.2,2,    295.8,2,     0.68,2,     7.70,2,     0.15,2,     -999,9,   7.8640,2,20140610,0921,  58.2070, -29.7250
35PK20140515  ,OVIDE-A25  ,36      ,  1,22         ,22         ,20140610,0815,  58.2070, -29.7250,     2254,     99.8,2,   7.1520,2,  35.0520,2,  35.0520,2,    278.8,2,    277.2,2,     6.44,2,    14.02,2,     0.21,2,   2311.2,2,   7.7700,2,20140610,0917,  58.2070, -29.7250
35PK20140515  ,OVIDE-A25  ,36      ,  1,21         ,21         ,20140610,0815,  58.2070, -29.7250,     2254,    150.4,2,   6.8400,2,  35.0370,2,  35.0370,2,    279.0,2,    278.3,2,     6.59,2,    14.47,2,     0.02,2,     -999,9,   7.7650,2,20140610,0916,  58.2070, -29.7250
35PK20140515  ,OVIDE-A25  ,36      ,  1,20         ,20         ,20140610,0815,  58.2070, -29.7250,     2254,    199.8,2,   6.7040,2,  35.0340,2,  35.0340,2,    279.4,2,    280.2,2,     6.70,2,    14.64,2,     0.02,2,   2311.4,2,   7.7640,2,20140610,0913,  58.2070, -29.7250
35PK20140515  ,OVIDE-A25  ,36      ,  1,19         ,19         ,20140610,0815,  58.2070, -29.7250,     2254,    300.7,2,   6.6490,2,  35.0460,2,  35.0460,2,    278.6,2,    278.1,2,     6.71,2,    14.51,2,     0.01,2,   2311.5,2,   7.7630,2,20140610,0910,  58.2070, -29.7250
35PK20140515  ,OVIDE-A25  ,36      ,  1,18         ,18         ,20140610,0815,  58.2070, -29.7250,     2254,    400.8,2,   6.3500,2,  35.0380,2,  35.0390,2,    253.6,2,    254.5,2,     8.42,2,    16.63,2,     0.01,2,   2312.1,2,   7.7340,2,20140610,0907,  58.2070, -29.7250
35PK20140515  ,OVIDE-A25  ,36      ,  1,17         ,17         ,20140610,0815,  58.2070, -29.7250,     2254,    500.1,2,   5.7330,2,  35.0140,2,  35.0120,2,    237.8,2,    237.3,2,    10.24,2,    18.10,2,     0.01,2,   2310.1,2,   7.7070,2,20140610,0904,  58.2070, -29.7250
35PK20140515  ,OVIDE-A25  ,36      ,  1,16         ,16         ,20140610,0815,  58.2070, -29.7250,     2254,    600.6,2,   5.1800,2,  34.9930,2,  34.9940,2,    247.0,2,    247.5,2,    10.23,2,    17.98,2,     0.00,2,   2308.5,2,   7.7060,2,20140610,0901,  58.2070, -29.7250
35PK20140515  ,OVIDE-A25  ,36      ,  1,15         ,15         ,20140610,0815,  58.2070, -29.7250,     2254,    699.9,2,   4.7370,2,  34.9670,2,  34.9670,2,    255.9,2,    255.6,2,    10.17,2,    17.81,2,     0.00,2,   2307.3,2,   7.7110,2,20140610,0858,  58.2070, -29.7250
35PK20140515  ,OVIDE-A25  ,36      ,  1,14         ,14         ,20140610,0815,  58.2070, -29.7250,     2254,    800.4,2,   4.4650,2,  34.9510,2,  34.9510,2,    262.5,2,    261.8,2,    10.08,2,    17.41,2,     0.00,2,   2306.3,2,   7.7130,2,20140610,0855,  58.2070, -29.7250
35PK20140515  ,OVIDE-A25  ,36      ,  1,13         ,13         ,20140610,0815,  58.2070, -29.7250,     2254,    900.9,2,   4.2690,2,  34.9410,2,  34.9400,2,    266.9,2,    267.3,2,    10.14,2,    17.29,2,     0.01,2,     -999,9,   7.7130,2,20140610,0852,  58.2070, -29.7250
35PK20140515  ,OVIDE-A25  ,36      ,  1,12         ,12         ,20140610,0815,  58.2070, -29.7250,     2254,   1000.7,2,   4.0760,2,  34.9270,2,  34.9270,2,    270.4,2,    269.8,2,    10.22,2,    17.13,2,     0.00,2,   2305.4,2,   7.7150,2,20140610,0849,  58.2070, -29.7250
35PK20140515  ,OVIDE-A25  ,36      ,  1,11         ,11         ,20140610,0815,  58.2070, -29.7250,     2254,   1101.2,2,   3.9960,2,  34.9310,2,  34.9300,2,    270.4,2,    271.2,2,    10.38,2,    17.23,2,     0.00,2,     -999,9,   7.7180,2,20140610,0846,  58.2070, -29.7250
35PK20140515  ,OVIDE-A25  ,36      ,  1,10         ,10         ,20140610,0815,  58.2070, -29.7250,     2254,   1200.2,2,   3.8520,2,  34.9220,2,  34.9220,2,    271.9,2,    274.0,2,    10.60,2,    17.21,2,     0.00,2,   2303.7,2,   7.7200,2,20140610,0843,  58.2070, -29.7250
35PK20140515  ,OVIDE-A25  ,36      ,  1,9          ,9          ,20140610,0815,  58.2070, -29.7250,     2254,   1300.3,2,   3.7980,2,  34.9300,2,  34.9320,2,    271.4,2,    272.3,2,    10.90,2,    17.18,2,     0.00,2,   2305.7,2,   7.7230,2,20140610,0840,  58.2070, -29.7250
35PK20140515  ,OVIDE-A25  ,36      ,  1,8          ,8          ,20140610,0815,  58.2070, -29.7250,     2254,   1400.5,2,   3.7590,2,  34.9420,2,  34.9460,2,    271.5,2,    272.5,2,    11.00,2,    17.04,2,     0.00,2,   2305.3,2,   7.7250,2,20140610,0837,  58.2070, -29.7250
35PK20140515  ,OVIDE-A25  ,36      ,  1,7          ,7          ,20140610,0815,  58.2070, -29.7250,     2254,   1600.6,2,   3.5120,2,  34.9490,2,  34.9520,2,    273.4,2,    273.4,2,    11.42,2,    16.77,2,     0.00,2,   2306.8,2,   7.7260,2,20140610,0832,  58.2070, -29.7250
35PK20140515  ,OVIDE-A25  ,36      ,  1,6          ,6          ,20140610,0815,  58.2070, -29.7250,     2254,   1800.7,2,   3.2990,2,  34.9710,2,  34.9730,2,    273.3,2,    273.3,2,    11.91,2,    16.43,2,     0.00,2,   2310.0,2,   7.7210,2,20140610,0827,  58.2070, -29.7250
35PK20140515  ,OVIDE-A25  ,36      ,  1,5          ,5          ,20140610,0815,  58.2070, -29.7250,     2254,   2000.6,2,   3.0590,2,  34.9880,2,  34.9890,2,    274.3,2,    274.1,2,    12.24,2,    15.99,2,     0.00,2,   2310.7,2,   7.7230,2,20140610,0822,  58.2070, -29.7250
35PK20140515  ,OVIDE-A25  ,36      ,  1,4          ,4          ,20140610,0815,  58.2070, -29.7250,     2254,   2100.5,2,   3.0280,2,  34.9910,2,  34.9920,2,    274.4,2,    282.8,4,    12.09,2,    15.91,2,     0.00,2,   2312.0,2,   7.7230,2,20140610,0819,  58.2070, -29.7250
35PK20140515  ,OVIDE-A25  ,36      ,  1,3          ,3          ,20140610,0815,  58.2070, -29.7250,     2254,   2100.7,2,   3.0280,2,  34.9910,2,  34.9920,2,    274.4,2,    274.4,2,    11.97,2,    15.87,2,     0.00,2,   2309.0,2,   7.7220,2,20140610,0819,  58.2070, -29.7250
35PK20140515  ,OVIDE-A25  ,36      ,  1,1          ,1          ,20140610,0815,  58.2070, -29.7250,     2254,   2243.7,2,   2.9960,2,  34.9900,2,  34.9910,2,    274.7,2,    274.1,2,    12.94,2,    15.82,2,     0.00,2,   2310.0,2,   7.7210,2,20140610,0815,  58.2070, -29.7250
35PK20140515  ,OVIDE-A25  ,36      ,  1,2          ,2          ,20140610,0815,  58.2070, -29.7250,     2254,   2243.8,2,   2.9960,2,  34.9900,2,  34.9910,2,    274.7,2,    274.4,2,     -999,9,     -999,9,     -999,9,     -999,9,     -999,9,20140610,0815,  58.2070, -29.7250