BOTTLE,20240403CCHHYDRO
EXPOCODE,SECT_ID,STNNBR,CASTNO,SAMPNO,BTLNBR,DATE,TIME,LATITUDE,LONGITUDE,DEPTH,CTDPRS,CTDPRS_FLAG_W,CTDTMP,CTDTMP_FLAG_W,CTDSAL,CTDSAL_FLAG_W,SALNTY,SALNTY_FLAG_W,CTDOXY,CTDOXY_FLAG_W,OXYGEN,OXYGEN_FLAG_W,SILCAT,SILCAT_FLAG_W,NITRAT,NITRAT_FLAG_W,NITRIT,NITRIT_FLAG_W,ALKALI,ALKALI_FLAG_W,PH_TOT,PH_TOT_FLAG_W,BTL_DATE,BTL_TIME,BTL_LAT,BTL_LON
,,,,,,,,,,METERS,DBAR,,ITS-90,,PSS-78,,PSS-78,,UMOL/KG,,UMOL/KG,,UMOL/KG,,UMOL/KG,,UMOL/KG,,UMOL/KG,,,,,,,
35PK20140515  ,OVIDE-A25  ,19      ,  1,24         ,24         ,20140530,1320,  45.0510, -18.5050,     4667,      2.7,2,  15.2550,2,  35.6790,2,  35.6800,2,    263.0,2,    261.9,2,     0.97,2,     1.07,2,     0.10,2,   2351.8,2,   7.9620,2,20140530,1503,  45.0510, -18.5050
35PK20140515  ,OVIDE-A25  ,19      ,  1,23         ,23         ,20140530,1320,  45.0510, -18.5050,     4667,     39.9,2,  14.1520,2,  35.6790,2,  35.6780,2,    263.7,2,    267.0,2,     1.23,2,     1.56,2,     0.14,2,   2351.9,2,   7.9580,2,20140530,1501,  45.0510, -18.5050
35PK20140515  ,OVIDE-A25  ,19      ,  1,22         ,22         ,20140530,1320,  45.0510, -18.5050,     4667,     99.6,2,  12.4660,2,  35.6870,2,  35.6840,2,    249.0,2,    246.9,2,     2.63,2,     8.21,2,     0.03,2,   2343.4,2,   7.8670,2,20140530,1458,  45.0510, -18.5050
35PK20140515  ,OVIDE-A25  ,19      ,  1,21         ,21         ,20140530,1320,  45.0510, -18.5050,     4667,    199.2,2,  12.0700,2,  35.6470,2,  35.6460,2,    252.2,2,    250.7,2,     3.12,2,     9.27,2,     0.01,2,   2343.9,2,   7.8610,2,20140530,1456,  45.0510, -18.5050
35PK20140515  ,OVIDE-A25  ,19      ,  1,20         ,20         ,20140530,1320,  45.0510, -18.5050,     4667,    300.4,2,  11.9620,2,  35.6330,2,  35.6320,2,    251.7,2,    251.0,2,     3.21,2,     9.54,2,     0.01,2,   2343.4,2,   7.8590,2,20140530,1453,  45.0510, -18.5050
35PK20140515  ,OVIDE-A25  ,19      ,  1,19         ,19         ,20140530,1320,  45.0510, -18.5050,     4667,    400.0,2,  11.7310,2,  35.5940,2,  35.5950,2,    245.8,2,    245.3,2,     3.50,2,    10.25,2,     0.01,2,   2341.0,2,   7.8460,2,20140530,1451,  45.0510, -18.5050
35PK20140515  ,OVIDE-A25  ,19      ,  1,18         ,18         ,20140530,1320,  45.0510, -18.5050,     4667,    500.4,2,  11.3890,2,  35.5500,2,  35.5480,2,    235.3,2,    235.0,2,     4.12,2,    11.65,2,     0.01,2,   2337.5,2,   7.8280,2,20140530,1448,  45.0510, -18.5050
35PK20140515  ,OVIDE-A25  ,19      ,  1,17         ,17         ,20140530,1320,  45.0510, -18.5050,     4667,    600.0,2,  10.6880,2,  35.4580,2,  35.4580,2,    220.0,2,    222.6,2,     5.57,2,    13.78,2,     0.01,2,   2334.2,2,   7.7980,2,20140530,1445,  45.0510, -18.5050
35PK20140515  ,OVIDE-A25  ,19      ,  1,16         ,16         ,20140530,1320,  45.0510, -18.5050,     4667,    800.3,2,   9.6930,2,  35.5310,2,  35.5310,2,    185.1,2,    184.9,2,     9.10,2,    18.08,2,     0.01,2,   2343.3,2,   7.7520,2,20140530,1440,  45.0510, -18.5050
35PK20140515  ,OVIDE-A25  ,19      ,  1,15         ,15         ,20140530,1320,  45.0510, -18.5050,     4667,    900.3,2,   9.0030,2,  35.5280,2,  35.5280,2,    189.9,2,    189.7,2,     9.85,2,    18.43,2,     0.04,2,   2346.3,2,   7.7470,2,20140530,1438,  45.0510, -18.5050
35PK20140515  ,OVIDE-A25  ,19      ,  1,14         ,14         ,20140530,1320,  45.0510, -18.5050,     4667,   1000.1,2,   8.5080,2,  35.5190,2,  35.5210,2,    197.8,2,    197.3,2,    10.06,2,    18.37,2,     0.04,2,   2346.3,2,   7.7470,2,20140530,1435,  45.0510, -18.5050
35PK20140515  ,OVIDE-A25  ,19      ,  1,13         ,13         ,20140530,1320,  45.0510, -18.5050,     4667,   1201.2,2,   7.2050,2,  35.4240,2,  35.4230,2,    217.6,2,    217.5,2,    10.57,2,    18.16,2,     0.02,2,   2340.6,2,   7.7450,2,20140530,1431,  45.0510, -18.5050
35PK20140515  ,OVIDE-A25  ,19      ,  1,12         ,12         ,20140530,1320,  45.0510, -18.5050,     4667,   1399.8,2,   4.8130,2,  35.0430,2,  35.0430,2,    254.5,2,    253.5,2,    10.57,2,    18.02,2,     0.00,2,   2313.7,2,   7.7210,2,20140530,1426,  45.0510, -18.5050
35PK20140515  ,OVIDE-A25  ,19      ,  1,11         ,11         ,20140530,1320,  45.0510, -18.5050,     4667,   1599.7,2,   4.2290,2,  34.9800,2,  34.9800,2,    263.6,2,    262.8,2,    11.06,2,    17.92,2,     0.00,2,   2309.6,2,   7.7230,2,20140530,1422,  45.0500, -18.5050
35PK20140515  ,OVIDE-A25  ,19      ,  1,10         ,10         ,20140530,1320,  45.0510, -18.5050,     4667,   1800.8,2,   3.8300,2,  34.9380,2,  34.9400,2,    268.6,2,    267.9,2,    11.45,2,    17.88,2,     0.00,2,   2307.8,2,   7.7260,2,20140530,1417,  45.0500, -18.5050
35PK20140515  ,OVIDE-A25  ,19      ,  1,9          ,9          ,20140530,1320,  45.0510, -18.5050,     4667,   2000.1,2,   3.5710,2,  34.9220,2,  34.9240,2,    271.7,2,    271.6,2,    11.90,2,    17.77,2,     0.00,2,   2307.3,2,   7.7280,2,20140530,1413,  45.0500, -18.5050
35PK20140515  ,OVIDE-A25  ,19      ,  1,8          ,8          ,20140530,1320,  45.0510, -18.5050,     4667,   2249.8,2,   3.3220,2,  34.9230,2,  34.9230,2,    272.2,2,    271.9,2,    13.51,2,    17.75,2,     0.00,2,   2310.6,2,   7.7340,2,20140530,1408,  45.0500, -18.5050
35PK20140515  ,OVIDE-A25  ,19      ,  1,7          ,7          ,20140530,1320,  45.0510, -18.5050,     4667,   2499.8,2,   3.1640,2,  34.9330,2,  34.9330,2,    268.8,2,    268.9,2,    16.30,2,    17.95,2,     0.00,2,   2314.0,2,   7.7360,2,20140530,1403,  45.0510, -18.5050
35PK20140515  ,OVIDE-A25  ,19      ,  1,6          ,6          ,20140530,1320,  45.0510, -18.5050,     4667,   3000.2,2,   2.8840,2,  34.9450,2,  34.9450,2,    253.3,2,    253.8,2,    28.02,2,    20.00,2,     0.00,2,   2331.7,2,   7.7410,2,20140530,1354,  45.0510, -18.5050
35PK20140515  ,OVIDE-A25  ,19      ,  1,5          ,5          ,20140530,1320,  45.0510, -18.5050,     4667,   3249.5,2,   2.7510,2,  34.9370,2,  34.9380,2,    249.5,2,    250.3,2,    32.43,2,    20.65,2,     0.00,2,   2338.2,2,   7.7390,2,20140530,1348,  45.0510, -18.5050
35PK20140515  ,OVIDE-A25  ,19      ,  1,4          ,4          ,20140530,1320,  45.0510, -18.5050,     4667,   3500.6,2,   2.6360,2,  34.9270,2,  34.9270,2,    244.9,2,    245.8,2,    37.39,2,    21.48,2,     0.00,2,   2345.3,2,   7.7380,2,20140530,1343,  45.0510, -18.5050
35PK20140515  ,OVIDE-A25  ,19      ,  1,3          ,3          ,20140530,1320,  45.0510, -18.5050,     4667,   4000.3,2,   2.5690,2,  34.9160,2,  34.9160,2,    240.9,2,    241.2,2,    42.11,2,    22.19,2,     0.00,2,   2347.8,2,   7.7400,2,20140530,1334,  45.0510, -18.5050
35PK20140515  ,OVIDE-A25  ,19      ,  1,2          ,2          ,20140530,1320,  45.0510, -18.5050,     4667,   4500.9,2,   2.5900,2,  34.9120,2,  34.9130,2,    240.4,2,    240.2,2,    43.23,2,    22.39,2,     0.00,2,   2354.7,2,   7.7380,2,20140530,1324,  45.0510, -18.5050
35PK20140515  ,OVIDE-A25  ,19      ,  1,1          ,1          ,20140530,1320,  45.0510, -18.5050,     4667,   4657.7,2,   2.6080,2,  34.9110,2,  34.9110,2,    240.7,2,    240.5,2,    43.65,2,    22.44,2,     0.00,2,   2355.6,2,   7.7380,2,20140530,1320,  45.0510, -18.5050
35PK20140515  ,OVIDE-A25  ,20      ,  1,24         ,24         ,20140531,0145,  45.7940, -19.0910,     4598,      4.6,2,  15.0440,2,  35.6440,2,  35.6440,2,    278.4,2,    275.1,2,     0.27,2,     0.02,2,     0.00,2,   2349.8,2,   8.0120,2,20140531,0325,  45.7940, -19.0910
35PK20140515  ,OVIDE-A25  ,20      ,  1,23         ,23         ,20140531,0145,  45.7940, -19.0910,     4598,     39.8,2,  13.4940,2,  35.6460,2,  35.6450,2,    257.2,2,    257.1,2,     0.98,2,     1.75,2,     0.14,2,   2347.7,2,   7.9490,2,20140531,0323,  45.7940, -19.0910
35PK20140515  ,OVIDE-A25  ,20      ,  1,22         ,22         ,20140531,0145,  45.7940, -19.0910,     4598,    100.1,2,  11.6320,2,  35.5800,2,  35.5790,2,    251.1,2,    249.5,2,     3.74,2,    10.16,2,     0.01,2,   2341.4,2,   7.8490,2,20140531,0321,  45.7940, -19.0910
35PK20140515  ,OVIDE-A25  ,20      ,  1,21         ,21         ,20140531,0145,  45.7940, -19.0910,     4598,    199.8,2,  11.1590,2,  35.5110,2,  35.5090,2,    239.5,2,    239.3,2,    11.75,4,    12.00,2,     0.01,2,   2337.8,2,   7.8250,2,20140531,0318,  45.7940, -19.0910
35PK20140515  ,OVIDE-A25  ,20      ,  1,20         ,20         ,20140531,0145,  45.7940, -19.0910,     4598,    296.9,2,  10.8680,2,  35.4740,2,  35.4720,2,    232.2,2,    232.6,2,    11.51,4,    13.03,2,     0.01,2,   2339.0,2,   7.8120,2,20140531,0315,  45.7940, -19.0910
35PK20140515  ,OVIDE-A25  ,20      ,  1,19         ,19         ,20140531,0145,  45.7940, -19.0910,     4598,    399.7,2,  10.4250,2,  35.4150,2,  35.4130,2,    217.5,2,    217.7,2,     6.24,2,    14.58,2,     0.01,2,   2331.1,2,   7.7870,2,20140531,0312,  45.7940, -19.0910
35PK20140515  ,OVIDE-A25  ,20      ,  1,18         ,18         ,20140531,0145,  45.7940, -19.0910,     4598,    499.4,2,   9.9980,2,  35.3940,2,  35.3940,2,    196.4,2,    196.7,2,     7.70,2,    16.92,2,     0.01,2,   2334.7,2,   7.7600,2,20140531,0310,  45.7940, -19.0910
35PK20140515  ,OVIDE-A25  ,20      ,  1,17         ,17         ,20140531,0145,  45.7940, -19.0910,     4598,    600.1,2,   9.1850,2,  35.3410,2,  35.3380,2,    187.1,2,    188.0,2,     9.48,2,    18.59,2,     0.01,2,   2334.8,2,   7.7330,2,20140531,0307,  45.7940, -19.0910
35PK20140515  ,OVIDE-A25  ,20      ,  1,16         ,16         ,20140531,0145,  45.7940, -19.0910,     4598,    801.8,2,   8.8440,2,  35.5330,2,  35.5330,2,    192.9,2,    192.8,2,     9.95,2,    18.23,2,     0.01,2,   2348.4,2,   7.7480,2,20140531,0302,  45.7940, -19.0910
35PK20140515  ,OVIDE-A25  ,20      ,  1,15         ,15         ,20140531,0145,  45.7940, -19.0910,     4598,   1000.3,2,   7.5770,2,  35.4350,2,  35.4340,2,    210.4,2,    211.6,2,    10.57,2,    18.19,2,     0.01,2,   2344.1,2,   7.7430,2,20140531,0258,  45.7940, -19.0910
35PK20140515  ,OVIDE-A25  ,20      ,  1,14         ,14         ,20140531,0145,  45.7940, -19.0910,     4598,   1200.8,2,   5.8040,2,  35.1770,2,  35.1780,2,    238.0,2,    238.4,2,    10.62,2,    18.18,2,     0.00,2,   2326.5,2,   7.7290,2,20140531,0253,  45.7940, -19.0910
35PK20140515  ,OVIDE-A25  ,20      ,  1,13         ,13         ,20140531,0145,  45.7940, -19.0910,     4598,   1400.6,2,   4.6610,2,  35.0360,2,  35.0360,2,    256.3,2,    255.8,2,    10.88,2,    17.92,2,     0.00,2,   2317.7,2,   7.7240,2,20140531,0249,  45.7940, -19.0910
35PK20140515  ,OVIDE-A25  ,20      ,  1,12         ,12         ,20140531,0145,  45.7940, -19.0910,     4598,   1599.9,2,   4.2240,2,  34.9900,2,  34.9890,2,    262.4,2,    262.0,2,    11.15,2,    17.90,2,     0.00,2,   2316.4,2,   7.7260,2,20140531,0245,  45.7940, -19.0910
35PK20140515  ,OVIDE-A25  ,20      ,  1,11         ,11         ,20140531,0145,  45.7940, -19.0910,     4598,   1800.1,2,   3.9220,2,  34.9620,2,  34.9620,2,    265.8,2,    266.1,2,    11.87,2,    17.86,2,     0.00,2,   2313.0,2,   7.7290,2,20140531,0241,  45.7940, -19.0910
35PK20140515  ,OVIDE-A25  ,20      ,  1,10         ,10         ,20140531,0145,  45.7940, -19.0910,     4598,   1999.0,2,   3.6150,2,  34.9410,2,  34.9420,2,    268.8,2,    269.0,2,    12.85,2,    17.89,2,     0.00,2,   2314.2,2,   7.7320,2,20140531,0236,  45.7940, -19.0910
35PK20140515  ,OVIDE-A25  ,20      ,  1,9          ,9          ,20140531,0145,  45.7940, -19.0910,     4598,   2249.9,2,   3.3480,2,  34.9380,2,  34.9380,2,    267.8,2,    267.9,2,    15.38,2,    18.07,2,     0.00,2,   2316.4,2,   7.7360,2,20140531,0231,  45.7940, -19.0910
35PK20140515  ,OVIDE-A25  ,20      ,  1,8          ,8          ,20140531,0145,  45.7940, -19.0910,     4598,   2500.5,2,   3.1340,2,  34.9410,2,  34.9410,2,    265.4,2,    265.5,2,    24.91,4,    18.32,2,     0.00,2,   2321.9,2,   7.7370,2,20140531,0226,  45.7940, -19.0910
35PK20140515  ,OVIDE-A25  ,20      ,  1,7          ,7          ,20140531,0145,  45.7940, -19.0910,     4598,   3000.4,2,   2.8420,2,  34.9420,2,  34.9420,2,    254.3,2,    255.3,2,    27.87,2,    19.71,2,     0.00,2,   2336.3,2,   7.7390,2,20140531,0217,  45.7940, -19.0910
35PK20140515  ,OVIDE-A25  ,20      ,  1,6          ,6          ,20140531,0145,  45.7940, -19.0910,     4598,   3250.9,2,   2.7100,2,  34.9340,2,  34.9340,2,    249.0,2,    249.8,2,    33.23,2,    20.65,2,     0.00,2,   2342.1,2,   7.7390,2,20140531,0212,  45.7940, -19.0910
35PK20140515  ,OVIDE-A25  ,20      ,  1,5          ,5          ,20140531,0145,  45.7940, -19.0910,     4598,   3500.5,2,   2.6320,2,  34.9260,2,  34.9290,2,    245.0,2,    245.8,2,    36.80,2,    21.23,2,     0.00,2,   2345.7,2,   7.7400,2,20140531,0207,  45.7940, -19.0910
35PK20140515  ,OVIDE-A25  ,20      ,  1,4          ,4          ,20140531,0145,  45.7940, -19.0910,     4598,   4000.7,2,   2.5610,2,  34.9150,2,  34.9150,2,    240.9,2,    241.3,2,    42.05,2,    22.21,2,     0.00,2,   2358.2,2,   7.7400,2,20140531,0157,  45.7940, -19.0910
35PK20140515  ,OVIDE-A25  ,20      ,  1,3          ,3          ,20140531,0145,  45.7940, -19.0910,     4598,   4250.7,2,   2.5680,2,  34.9130,2,  34.9130,2,    240.2,2,    240.9,2,    43.00,2,    22.32,2,     0.00,2,   2355.9,2,   7.7400,2,20140531,0152,  45.7940, -19.0910
35PK20140515  ,OVIDE-A25  ,20      ,  1,2          ,2          ,20140531,0145,  45.7940, -19.0910,     4598,   4501.4,2,   2.5770,2,  34.9110,2,  34.9120,2,    240.0,2,    240.3,2,    43.92,2,    22.40,2,     0.00,2,   2356.0,2,   7.7390,2,20140531,0147,  45.7940, -19.0910
35PK20140515  ,OVIDE-A25  ,20      ,  1,1          ,1          ,20140531,0145,  45.7940, -19.0910,     4598,   4588.5,2,   2.5870,2,  34.9100,2,  34.9100,2,    240.2,2,    240.7,2,    52.28,4,    22.43,2,     0.00,2,   2356.4,2,   7.7410,2,20140531,0145,  45.7940, -19.0910