BOTTLE,20240403CCHHYDRO
EXPOCODE,SECT_ID,STNNBR,CASTNO,SAMPNO,BTLNBR,DATE,TIME,LATITUDE,LONGITUDE,DEPTH,CTDPRS,CTDPRS_FLAG_W,CTDTMP,CTDTMP_FLAG_W,CTDSAL,CTDSAL_FLAG_W,SALNTY,SALNTY_FLAG_W,CTDOXY,CTDOXY_FLAG_W,OXYGEN,OXYGEN_FLAG_W,SILCAT,SILCAT_FLAG_W,NITRAT,NITRAT_FLAG_W,NITRIT,NITRIT_FLAG_W,ALKALI,ALKALI_FLAG_W,PH_TOT,PH_TOT_FLAG_W,BTL_DATE,BTL_TIME,BTL_LAT,BTL_LON
,,,,,,,,,,METERS,DBAR,,ITS-90,,PSS-78,,PSS-78,,UMOL/KG,,UMOL/KG,,UMOL/KG,,UMOL/KG,,UMOL/KG,,UMOL/KG,,,,,,,
35PK20140515  ,OVIDE-A25  ,61      ,  1,22         ,22         ,20140618,2346,  59.7530, -45.1120,      145,      4.6,2,  -0.0950,2,  32.4710,2,  32.4680,2,    408.5,2,    407.6,2,     3.04,2,     0.02,2,     0.00,2,   2190.7,2,   7.8880,2,20140619,0002,  59.7530, -45.1120
35PK20140515  ,OVIDE-A25  ,61      ,  1,23         ,23         ,20140618,2346,  59.7530, -45.1120,      145,      4.6,2,  -0.0730,2,  32.4710,2,  32.4670,2,    408.5,2,     -999,9,     2.87,2,     0.02,2,     0.00,2,     -999,9,     -999,9,20140619,0002,  59.7530, -45.1120
35PK20140515  ,OVIDE-A25  ,61      ,  1,24         ,24         ,20140618,2346,  59.7530, -45.1120,      145,      4.7,2,  -0.0730,2,  32.4710,2,  32.4620,4,    408.5,2,     -999,9,     2.80,2,     0.01,2,     0.00,2,     -999,9,     -999,9,20140619,0002,  59.7530, -45.1120
35PK20140515  ,OVIDE-A25  ,61      ,  1,20         ,20         ,20140618,2346,  59.7530, -45.1120,      145,      9.7,2,  -0.2960,2,  32.5160,2,     -999,9,    405.6,2,     -999,9,     -999,9,     -999,9,     -999,9,     -999,9,     -999,9,20140619,0001,  59.7530, -45.1120
35PK20140515  ,OVIDE-A25  ,61      ,  1,21         ,21         ,20140618,2346,  59.7530, -45.1120,      145,      9.7,2,  -0.3000,2,  32.5180,2,     -999,9,    405.6,2,     -999,9,     -999,9,     -999,9,     -999,9,     -999,9,     -999,9,20140619,0001,  59.7530, -45.1120
35PK20140515  ,OVIDE-A25  ,61      ,  1,18         ,18         ,20140618,2346,  59.7530, -45.1120,      145,     19.7,2,  -0.2720,2,  32.5490,2,     -999,9,    406.4,2,     -999,9,     -999,9,     -999,9,     -999,9,     -999,9,     -999,9,20140618,2359,  59.7530, -45.1120
35PK20140515  ,OVIDE-A25  ,61      ,  1,19         ,19         ,20140618,2346,  59.7530, -45.1120,      145,     19.7,2,  -0.2540,2,  32.5520,2,     -999,9,    406.4,2,     -999,9,     -999,9,     -999,9,     -999,9,     -999,9,     -999,9,20140618,2359,  59.7530, -45.1120
35PK20140515  ,OVIDE-A25  ,61      ,  1,16         ,16         ,20140618,2346,  59.7530, -45.1120,      145,     29.6,2,  -0.2310,2,  32.5850,2,     -999,9,    398.4,2,     -999,9,     -999,9,     -999,9,     -999,9,     -999,9,     -999,9,20140618,2358,  59.7530, -45.1120
35PK20140515  ,OVIDE-A25  ,61      ,  1,17         ,17         ,20140618,2346,  59.7530, -45.1120,      145,     29.6,2,  -0.2280,2,  32.5820,2,     -999,9,    398.4,2,     -999,9,     -999,9,     -999,9,     -999,9,     -999,9,     -999,9,20140618,2358,  59.7530, -45.1120
35PK20140515  ,OVIDE-A25  ,61      ,  1,14         ,14         ,20140618,2346,  59.7530, -45.1120,      145,     40.2,2,  -0.4820,2,  32.7350,2,     -999,9,    381.4,2,     -999,9,     -999,9,     -999,9,     -999,9,     -999,9,     -999,9,20140618,2357,  59.7530, -45.1120
35PK20140515  ,OVIDE-A25  ,61      ,  1,15         ,15         ,20140618,2346,  59.7530, -45.1120,      145,     40.3,2,  -0.4770,2,  32.7330,2,     -999,9,    381.4,2,     -999,9,     -999,9,     -999,9,     -999,9,     -999,9,     -999,9,20140618,2357,  59.7530, -45.1120
35PK20140515  ,OVIDE-A25  ,61      ,  1,12         ,12         ,20140618,2346,  59.7530, -45.1120,      145,     50.7,2,  -0.5470,2,  32.8300,2,  32.8400,4,    375.4,2,    377.0,2,     3.70,2,     2.18,2,     0.04,2,   2209.8,2,   7.7970,2,20140618,2355,  59.7530, -45.1120
35PK20140515  ,OVIDE-A25  ,61      ,  1,13         ,13         ,20140618,2346,  59.7530, -45.1120,      145,     50.8,2,  -0.5550,2,  32.8320,2,     -999,9,    375.4,2,     -999,9,     -999,9,     -999,9,     -999,9,     -999,9,     -999,9,20140618,2355,  59.7530, -45.1120
35PK20140515  ,OVIDE-A25  ,61      ,  1,10         ,10         ,20140618,2346,  59.7530, -45.1120,      145,     64.6,2,  -0.6010,2,  32.8560,2,     -999,9,    372.9,2,     -999,9,     -999,9,     -999,9,     -999,9,     -999,9,     -999,9,20140618,2354,  59.7530, -45.1120
35PK20140515  ,OVIDE-A25  ,61      ,  1,11         ,11         ,20140618,2346,  59.7530, -45.1120,      145,     64.6,2,  -0.5860,2,  32.8560,2,     -999,9,    372.9,2,     -999,9,     -999,9,     -999,9,     -999,9,     -999,9,     -999,9,20140618,2354,  59.7530, -45.1120
35PK20140515  ,OVIDE-A25  ,61      ,  1,9          ,9          ,20140618,2346,  59.7530, -45.1120,      145,     71.1,2,  -0.7270,2,  32.8770,2,     -999,9,    366.7,2,     -999,9,     -999,9,     -999,9,     -999,9,     -999,9,     -999,9,20140618,2353,  59.7530, -45.1120
35PK20140515  ,OVIDE-A25  ,61      ,  1,8          ,8          ,20140618,2346,  59.7530, -45.1120,      145,     79.5,2,  -1.0630,2,  32.9640,2,     -999,9,    363.1,2,     -999,9,     -999,9,     -999,9,     -999,9,     -999,9,     -999,9,20140618,2352,  59.7530, -45.1120
35PK20140515  ,OVIDE-A25  ,61      ,  1,7          ,7          ,20140618,2346,  59.7530, -45.1120,      145,     79.6,2,  -1.0670,2,  32.9650,2,     -999,9,    362.0,2,     -999,9,     -999,9,     -999,9,     -999,9,     -999,9,     -999,9,20140618,2352,  59.7530, -45.1120
35PK20140515  ,OVIDE-A25  ,61      ,  1,5          ,5          ,20140618,2346,  59.7530, -45.1120,      145,    100.2,2,  -1.2910,2,  33.1540,2,  33.1420,4,    354.1,2,    352.7,2,     5.17,2,     7.09,2,     0.07,2,   2224.8,2,   7.7160,2,20140618,2350,  59.7530, -45.1120
35PK20140515  ,OVIDE-A25  ,61      ,  1,6          ,6          ,20140618,2346,  59.7530, -45.1120,      145,    100.4,2,  -1.2870,2,  33.1090,2,     -999,9,    354.1,2,     -999,9,     -999,9,     -999,9,     -999,9,     -999,9,     -999,9,20140618,2350,  59.7530, -45.1120
35PK20140515  ,OVIDE-A25  ,61      ,  1,4          ,4          ,20140618,2346,  59.7530, -45.1120,      145,    120.4,2,  -0.9430,2,  33.3460,2,  33.3330,4,    349.9,2,    347.3,2,     5.34,2,     7.95,2,     0.09,2,     -999,9,     -999,9,20140618,2348,  59.7530, -45.1120
35PK20140515  ,OVIDE-A25  ,61      ,  1,2          ,2          ,20140618,2346,  59.7530, -45.1120,      145,    136.1,2,  -0.0520,2,  33.5620,2,     -999,9,    344.0,2,     -999,9,     -999,9,     -999,9,     -999,9,     -999,9,     -999,9,20140618,2346,  59.7530, -45.1120
35PK20140515  ,OVIDE-A25  ,61      ,  1,3          ,3          ,20140618,2346,  59.7530, -45.1120,      145,    136.2,2,  -0.0380,2,  33.5660,2,     -999,9,    344.0,2,     -999,9,     -999,9,     -999,9,     -999,9,     -999,9,     -999,9,20140618,2346,  59.7530, -45.1120
35PK20140515  ,OVIDE-A25  ,61      ,  1,1          ,1          ,20140618,2346,  59.7530, -45.1120,      145,    136.2,2,  -0.0660,2,  33.5440,2,  33.5390,2,    344.0,2,    342.5,2,     5.43,2,     8.38,2,     0.10,2,   2239.0,2,   7.7260,2,20140618,2346,  59.7530, -45.1120
35PK20140515  ,OVIDE-A25  ,62      ,  1,21         ,21         ,20140619,0802,  59.5020, -45.6200,      495,      2.8,2,   4.0030,2,  34.3160,2,     -999,9,    327.1,2,     -999,9,     -999,9,     -999,9,     -999,9,     -999,9,     -999,9,20140619,0826,  59.5020, -45.6200
35PK20140515  ,OVIDE-A25  ,62      ,  1,24         ,24         ,20140619,0802,  59.5020, -45.6200,      495,      2.8,2,   4.0400,2,  34.3270,2,     -999,9,    327.1,2,     -999,9,     -999,9,     -999,9,     -999,9,     -999,9,     -999,9,20140619,0826,  59.5020, -45.6200
35PK20140515  ,OVIDE-A25  ,62      ,  1,22         ,22         ,20140619,0802,  59.5020, -45.6200,      495,      2.8,2,   4.0230,2,  34.3200,2,     -999,9,    327.1,2,     -999,9,     -999,9,     -999,9,     -999,9,     -999,9,     -999,9,20140619,0826,  59.5020, -45.6200
35PK20140515  ,OVIDE-A25  ,62      ,  1,23         ,23         ,20140619,0802,  59.5020, -45.6200,      495,      2.8,2,   4.0470,2,  34.3300,2,     -999,9,    327.1,2,     -999,9,     -999,9,     -999,9,     -999,9,     -999,9,     -999,9,20140619,0826,  59.5020, -45.6200
35PK20140515  ,OVIDE-A25  ,62      ,  1,19         ,19         ,20140619,0802,  59.5020, -45.6200,      495,      2.8,2,   4.0010,2,  34.3150,2,     -999,9,    327.1,2,     -999,9,     -999,9,     -999,9,     -999,9,     -999,9,     -999,9,20140619,0826,  59.5020, -45.6200
35PK20140515  ,OVIDE-A25  ,62      ,  1,20         ,20         ,20140619,0802,  59.5020, -45.6200,      495,      2.8,2,   4.0010,2,  34.3150,2,     -999,9,    327.1,2,     -999,9,     -999,9,     -999,9,     -999,9,     -999,9,     -999,9,20140619,0826,  59.5020, -45.6200
35PK20140515  ,OVIDE-A25  ,62      ,  1,18         ,18         ,20140619,0802,  59.5020, -45.6200,      495,      2.8,2,   4.0000,2,  34.3140,2,     -999,9,    327.1,2,     -999,9,     -999,9,     -999,9,     -999,9,     -999,9,     -999,9,20140619,0825,  59.5020, -45.6200
35PK20140515  ,OVIDE-A25  ,62      ,  1,16         ,16         ,20140619,0802,  59.5020, -45.6200,      495,      2.9,2,   4.0040,2,  34.3150,2,  34.3150,2,    327.1,2,    327.3,2,     3.35,2,     8.34,2,     0.27,2,   2280.0,2,   7.8240,2,20140619,0825,  59.5020, -45.6200
35PK20140515  ,OVIDE-A25  ,62      ,  1,17         ,17         ,20140619,0802,  59.5020, -45.6200,      495,      2.9,2,   4.0010,2,  34.3140,2,     -999,9,    327.1,2,     -999,9,     -999,9,     -999,9,     -999,9,     -999,9,     -999,9,20140619,0825,  59.5020, -45.6200
35PK20140515  ,OVIDE-A25  ,62      ,  1,15         ,15         ,20140619,0802,  59.5020, -45.6200,      495,      9.5,2,   4.0590,2,  34.3610,2,     -999,9,    325.6,2,     -999,9,     -999,9,     -999,9,     -999,9,     -999,9,     -999,9,20140619,0824,  59.5020, -45.6200
35PK20140515  ,OVIDE-A25  ,62      ,  1,14         ,14         ,20140619,0802,  59.5020, -45.6200,      495,     24.8,2,   3.8220,2,  34.3570,2,     -999,9,    324.2,2,     -999,9,     -999,9,     -999,9,     -999,9,     -999,9,     -999,9,20140619,0823,  59.5020, -45.6200
35PK20140515  ,OVIDE-A25  ,62      ,  1,12         ,12         ,20140619,0802,  59.5020, -45.6200,      495,     50.6,2,   3.5740,2,  34.3790,2,  34.3800,2,    321.5,2,    322.2,2,     5.07,2,     9.84,2,     0.43,2,     -999,9,   7.7790,2,20140619,0820,  59.5020, -45.6200
35PK20140515  ,OVIDE-A25  ,62      ,  1,13         ,13         ,20140619,0802,  59.5020, -45.6200,      495,     50.7,2,   3.5690,2,  34.3810,2,     -999,9,    321.5,2,     -999,9,     -999,9,     -999,9,     -999,9,     -999,9,     -999,9,20140619,0820,  59.5020, -45.6200
35PK20140515  ,OVIDE-A25  ,62      ,  1,11         ,11         ,20140619,0802,  59.5020, -45.6200,      495,     75.5,2,   3.4760,2,  34.4030,2,     -999,9,    320.1,2,     -999,9,     -999,9,     -999,9,     -999,9,     -999,9,     -999,9,20140619,0817,  59.5020, -45.6200
35PK20140515  ,OVIDE-A25  ,62      ,  1,10         ,10         ,20140619,0802,  59.5020, -45.6200,      495,    100.2,2,   3.5710,2,  34.5060,2,  34.5090,2,    314.7,2,    315.4,2,     5.46,2,    11.49,2,     0.91,2,   2284.1,2,   7.7640,2,20140619,0816,  59.5020, -45.6200
35PK20140515  ,OVIDE-A25  ,62      ,  1,8          ,8          ,20140619,0802,  59.5020, -45.6200,      495,    149.8,2,   4.0220,2,  34.6370,2,     -999,9,    307.8,2,     -999,9,     -999,9,     -999,9,     -999,9,     -999,9,     -999,9,20140619,0814,  59.5020, -45.6200
35PK20140515  ,OVIDE-A25  ,62      ,  1,9          ,9          ,20140619,0802,  59.5020, -45.6200,      495,    149.8,2,   4.0230,2,  34.6370,2,     -999,9,    307.8,2,     -999,9,     5.66,2,    12.57,2,     0.90,2,     -999,9,     -999,9,20140619,0814,  59.5020, -45.6200
35PK20140515  ,OVIDE-A25  ,62      ,  1,7          ,7          ,20140619,0802,  59.5020, -45.6200,      495,    200.1,2,   4.6030,2,  34.7560,2,  34.7630,4,    303.1,2,    304.3,2,     5.73,2,    13.01,2,     0.93,2,   2296.1,2,   7.7680,2,20140619,0812,  59.5020, -45.6200
35PK20140515  ,OVIDE-A25  ,62      ,  1,5          ,5          ,20140619,0802,  59.5020, -45.6200,      495,    298.8,2,   5.2080,2,  34.9190,2,  34.9180,2,    292.4,2,    293.5,2,     6.54,2,    14.87,2,     0.09,2,   2303.7,2,   7.7550,2,20140619,0808,  59.5020, -45.6200
35PK20140515  ,OVIDE-A25  ,62      ,  1,6          ,6          ,20140619,0802,  59.5020, -45.6200,      495,    298.8,2,   5.2080,2,  34.9200,2,     -999,9,    292.4,2,     -999,9,     -999,9,     -999,9,     -999,9,     -999,9,     -999,9,20140619,0809,  59.5020, -45.6200
35PK20140515  ,OVIDE-A25  ,62      ,  1,3          ,3          ,20140619,0802,  59.5020, -45.6200,      495,    400.1,2,   5.1060,2,  34.9270,2,  34.9270,2,    289.7,2,    291.3,2,     6.98,2,    15.37,2,     0.04,2,   2303.3,2,   7.7490,2,20140619,0805,  59.5020, -45.6200
35PK20140515  ,OVIDE-A25  ,62      ,  1,4          ,4          ,20140619,0802,  59.5020, -45.6200,      495,    400.1,2,   5.1070,2,  34.9260,2,     -999,9,    289.7,2,     -999,9,     -999,9,     -999,9,     -999,9,     -999,9,     -999,9,20140619,0805,  59.5020, -45.6200
35PK20140515  ,OVIDE-A25  ,62      ,  1,1          ,1          ,20140619,0802,  59.5020, -45.6200,      495,    485.0,2,   4.9690,2,  34.9320,2,  34.9310,2,    287.7,2,    289.2,2,     7.39,2,    15.79,2,     0.61,2,   2302.8,2,   7.7440,2,20140619,0802,  59.5020, -45.6200
35PK20140515  ,OVIDE-A25  ,62      ,  1,2          ,2          ,20140619,0802,  59.5020, -45.6200,      495,    485.0,2,   4.9680,2,  34.9320,2,     -999,9,    287.7,2,     -999,9,     -999,9,     -999,9,     -999,9,     -999,9,     -999,9,20140619,0802,  59.5020, -45.6200