BOTTLE,20240403CCHHYDRO
EXPOCODE,SECT_ID,STNNBR,CASTNO,SAMPNO,BTLNBR,DATE,TIME,LATITUDE,LONGITUDE,DEPTH,CTDPRS,CTDPRS_FLAG_W,CTDTMP,CTDTMP_FLAG_W,CTDSAL,CTDSAL_FLAG_W,SALNTY,SALNTY_FLAG_W,CTDOXY,CTDOXY_FLAG_W,OXYGEN,OXYGEN_FLAG_W,SILCAT,SILCAT_FLAG_W,NITRAT,NITRAT_FLAG_W,NITRIT,NITRIT_FLAG_W,ALKALI,ALKALI_FLAG_W,PH_TOT,PH_TOT_FLAG_W,BTL_DATE,BTL_TIME,BTL_LAT,BTL_LON
,,,,,,,,,,METERS,DBAR,,ITS-90,,PSS-78,,PSS-78,,UMOL/KG,,UMOL/KG,,UMOL/KG,,UMOL/KG,,UMOL/KG,,UMOL/KG,,,,,,,
35PK20140515  ,OVIDE-A25  ,31      ,  1,24         ,24         ,20140607,0540,  54.7610, -26.1220,     3671,     15.7,2,  10.3720,2,  35.2070,2,  35.2070,2,    286.6,2,    284.0,2,     1.06,2,     6.54,2,     0.16,2,   2324.1,2,   7.8840,2,20140607,0707,  54.7610, -26.1220
35PK20140515  ,OVIDE-A25  ,31      ,  1,23         ,23         ,20140607,0540,  54.7610, -26.1220,     3671,     21.2,2,  10.3320,2,  35.2070,2,  35.2060,2,    286.5,2,    284.5,2,     1.09,2,     6.79,2,     0.16,2,   2323.9,2,   7.8850,2,20140607,0706,  54.7610, -26.1220
35PK20140515  ,OVIDE-A25  ,31      ,  1,22         ,22         ,20140607,0540,  54.7610, -26.1220,     3671,    100.7,2,   8.7450,2,  35.1850,2,  35.1820,2,    271.3,2,    268.9,2,     5.06,2,    12.90,2,     0.03,2,   2320.8,2,   7.7970,2,20140607,0702,  54.7610, -26.1220
35PK20140515  ,OVIDE-A25  ,31      ,  1,21         ,21         ,20140607,0540,  54.7610, -26.1220,     3671,    151.7,2,   8.3870,2,  35.1390,2,  35.1400,2,    270.4,2,    267.9,2,     5.49,2,    13.32,2,     0.03,2,   2319.7,2,   7.7900,2,20140607,0700,  54.7610, -26.1220
35PK20140515  ,OVIDE-A25  ,31      ,  1,20         ,20         ,20140607,0540,  54.7610, -26.1220,     3671,    200.8,2,   8.5320,2,  35.1830,2,  35.1840,2,    271.0,2,    269.1,2,     5.29,2,    13.05,2,     0.03,2,   2322.7,2,   7.7920,2,20140607,0658,  54.7610, -26.1220
35PK20140515  ,OVIDE-A25  ,31      ,  1,19         ,19         ,20140607,0540,  54.7610, -26.1220,     3671,    301.0,2,   7.6300,2,  35.0380,2,  35.0380,2,    264.9,2,    264.0,2,     6.72,2,    14.49,2,     0.01,2,   2315.1,2,   7.7650,2,20140607,0656,  54.7610, -26.1220
35PK20140515  ,OVIDE-A25  ,31      ,  1,18         ,18         ,20140607,0540,  54.7610, -26.1220,     3671,    400.3,2,   7.2860,2,  35.0830,2,  35.0830,2,    226.8,2,    227.9,2,     9.03,2,    17.45,2,     0.01,2,   2317.9,2,   7.7330,2,20140607,0653,  54.7610, -26.1220
35PK20140515  ,OVIDE-A25  ,31      ,  1,17         ,17         ,20140607,0540,  54.7610, -26.1220,     3671,    497.7,2,   6.5360,2,  35.0690,2,  35.0710,2,    219.4,2,    218.2,2,    10.29,2,    18.66,2,     0.01,2,   2318.3,2,   7.7050,2,20140607,0651,  54.7610, -26.1220
35PK20140515  ,OVIDE-A25  ,31      ,  1,16         ,16         ,20140607,0540,  54.7610, -26.1220,     3671,    600.0,2,   5.8280,2,  35.0640,2,  35.0640,2,    232.7,2,    233.0,2,    10.25,2,    18.43,2,     0.01,2,   2317.1,2,   7.7020,2,20140607,0648,  54.7610, -26.1220
35PK20140515  ,OVIDE-A25  ,31      ,  1,15         ,15         ,20140607,0540,  54.7610, -26.1220,     3671,    700.7,2,   5.0250,2,  34.9950,2,  34.9940,2,    249.8,2,    249.2,2,    10.13,2,    18.03,2,     0.01,2,   2311.9,2,   7.7040,2,20140607,0645,  54.7610, -26.1220
35PK20140515  ,OVIDE-A25  ,31      ,  1,14         ,14         ,20140607,0540,  54.7610, -26.1220,     3671,    850.0,2,   4.5420,2,  34.9630,2,  34.9630,2,    260.9,2,    259.7,2,     9.98,2,    17.70,2,     0.00,2,   2309.7,2,   7.7080,2,20140607,0642,  54.7610, -26.1220
35PK20140515  ,OVIDE-A25  ,31      ,  1,13         ,13         ,20140607,0540,  54.7610, -26.1220,     3671,    999.3,2,   4.1230,2,  34.9220,2,  34.9220,2,    273.8,2,    272.0,2,     9.48,2,    17.23,2,     0.00,2,   2306.1,2,   7.7140,2,20140607,0639,  54.7610, -26.1220
35PK20140515  ,OVIDE-A25  ,31      ,  1,12         ,12         ,20140607,0540,  54.7610, -26.1220,     3671,   1202.3,2,   3.9430,2,  34.9130,2,  34.9130,2,    275.6,2,    274.8,2,     9.58,2,    17.16,2,     0.00,2,   2306.4,2,   7.7180,2,20140607,0634,  54.7610, -26.1220
35PK20140515  ,OVIDE-A25  ,31      ,  1,11         ,11         ,20140607,0540,  54.7610, -26.1220,     3671,   1399.5,2,   3.8230,2,  34.9160,2,  34.9160,2,    273.7,2,    275.2,2,    10.11,2,    17.28,2,     0.00,2,   2307.2,2,   7.7200,2,20140607,0630,  54.7610, -26.1220
35PK20140515  ,OVIDE-A25  ,31      ,  1,10         ,10         ,20140607,0540,  54.7610, -26.1220,     3671,   1598.5,2,   3.7190,2,  34.9230,2,  34.9220,2,    272.5,2,    271.2,2,    10.70,2,    17.32,2,     0.00,2,   2306.5,2,   7.7260,2,20140607,0625,  54.7610, -26.1220
35PK20140515  ,OVIDE-A25  ,31      ,  1,9          ,9          ,20140607,0540,  54.7610, -26.1220,     3671,   1801.1,2,   3.5790,2,  34.9240,2,  34.9240,2,    272.8,2,    272.0,2,    11.25,2,    17.33,2,     0.00,2,   2308.0,2,   7.7280,2,20140607,0621,  54.7610, -26.1220
35PK20140515  ,OVIDE-A25  ,31      ,  1,8          ,8          ,20140607,0540,  54.7610, -26.1220,     3671,   2002.5,2,   3.4420,2,  34.9280,2,  34.9290,2,    273.9,2,    272.6,2,    11.53,2,    17.11,2,     0.00,2,   2307.9,2,   7.7290,2,20140607,0616,  54.7610, -26.1220
35PK20140515  ,OVIDE-A25  ,31      ,  1,7          ,7          ,20140607,0540,  54.7610, -26.1220,     3671,   2250.1,2,   3.2770,2,  34.9300,2,  34.9300,2,    274.6,2,    273.7,2,    12.43,2,    17.09,2,     0.01,2,   2308.4,2,   7.7330,2,20140607,0611,  54.7610, -26.1220
35PK20140515  ,OVIDE-A25  ,31      ,  1,6          ,6          ,20140607,0540,  54.7610, -26.1220,     3671,   2500.0,2,   3.1870,2,  34.9480,2,  34.9480,2,    274.2,2,    273.9,2,    12.70,2,    16.89,2,     0.01,2,   2310.1,2,   7.7310,2,20140607,0606,  54.7610, -26.1220
35PK20140515  ,OVIDE-A25  ,31      ,  1,5          ,5          ,20140607,0540,  54.7610, -26.1220,     3671,   2751.8,2,   3.0890,2,  34.9590,2,  34.9490,4,    272.3,2,    272.9,2,    14.33,2,    16.91,2,     0.00,2,   2313.7,2,   7.7320,2,20140607,0600,  54.7610, -26.1220
35PK20140515  ,OVIDE-A25  ,31      ,  1,4          ,4          ,20140607,0540,  54.7610, -26.1220,     3671,   3000.6,2,   2.9570,2,  34.9630,2,  34.9630,2,    269.2,2,    268.7,2,    17.31,2,    17.24,2,     0.00,2,   2317.5,2,   7.7280,2,20140607,0555,  54.7610, -26.1220
35PK20140515  ,OVIDE-A25  ,31      ,  1,3          ,3          ,20140607,0540,  54.7610, -26.1220,     3671,   3239.1,2,   2.8740,2,  34.9640,2,  34.9640,2,    266.2,2,    265.9,2,    20.37,2,    17.65,2,     0.00,2,   2321.5,2,   7.7280,2,20140607,0550,  54.7610, -26.1220
35PK20140515  ,OVIDE-A25  ,31      ,  1,2          ,2          ,20140607,0540,  54.7610, -26.1220,     3671,   3501.7,2,   2.7890,2,  34.9510,2,  34.9500,2,    258.9,2,    259.4,2,    26.72,2,    18.73,2,     0.00,2,   2330.2,2,   7.7290,2,20140607,0545,  54.7610, -26.1220
35PK20140515  ,OVIDE-A25  ,31      ,  1,1          ,1          ,20140607,0540,  54.7610, -26.1220,     3671,   3661.0,2,   2.7920,2,  34.9500,2,  34.9490,2,    258.2,2,    258.1,2,    28.36,2,    18.88,2,     0.01,2,   2331.9,2,   7.7270,2,20140607,0540,  54.7610, -26.1220
35PK20140515  ,OVIDE-A25  ,32      ,  1,24         ,24         ,20140607,1442,  55.5060, -26.7100,     3283,     15.9,2,  10.0810,2,  35.0530,2,  35.0530,2,    292.0,2,    290.3,2,     1.05,2,     6.92,2,     0.15,2,     -999,9,   7.8800,2,20140607,1601,  55.5060, -26.7100
35PK20140515  ,OVIDE-A25  ,32      ,  1,23         ,23         ,20140607,1442,  55.5060, -26.7100,     3283,     30.7,2,   9.2380,2,  35.0610,2,  35.0630,2,    291.7,2,    290.8,2,     2.16,2,     8.95,2,     0.26,2,     -999,9,   7.8470,2,20140607,1559,  55.5060, -26.7100
35PK20140515  ,OVIDE-A25  ,32      ,  1,22         ,22         ,20140607,1442,  55.5060, -26.7100,     3283,    100.3,2,   8.6150,2,  35.1230,2,  35.1240,2,    283.8,2,    282.9,2,     1.90,2,     9.30,2,     0.65,2,     -999,9,   7.8270,2,20140607,1556,  55.5060, -26.7100
35PK20140515  ,OVIDE-A25  ,32      ,  1,21         ,21         ,20140607,1442,  55.5060, -26.7100,     3283,    151.1,2,   8.0870,2,  35.0920,2,  35.0920,2,    273.9,2,    272.9,2,     5.29,2,    13.43,2,     0.08,2,     -999,9,   7.7830,2,20140607,1554,  55.5060, -26.7100
35PK20140515  ,OVIDE-A25  ,32      ,  1,20         ,20         ,20140607,1442,  55.5060, -26.7100,     3283,    200.8,2,   8.0040,2,  35.0910,2,  35.0930,2,    274.5,2,    273.4,2,     5.70,2,    13.53,2,     0.03,2,     -999,9,   7.7800,2,20140607,1552,  55.5060, -26.7100
35PK20140515  ,OVIDE-A25  ,32      ,  1,19         ,19         ,20140607,1442,  55.5060, -26.7100,     3283,    300.0,2,   7.3890,2,  35.0130,2,  35.0130,2,    256.2,2,    257.4,2,     7.35,2,    15.11,2,     0.02,2,     -999,9,   7.7540,2,20140607,1550,  55.5060, -26.7100
35PK20140515  ,OVIDE-A25  ,32      ,  1,18         ,18         ,20140607,1442,  55.5060, -26.7100,     3283,    378.4,2,   5.8190,2,  34.8450,2,  34.8450,2,    267.7,2,    269.5,2,     8.23,2,    16.13,2,     0.02,2,     -999,9,   7.7310,2,20140607,1547,  55.5060, -26.7100
35PK20140515  ,OVIDE-A25  ,32      ,  1,17         ,17         ,20140607,1442,  55.5060, -26.7100,     3283,    450.3,2,   6.4960,2,  35.0600,2,  35.0590,2,    220.5,2,    219.2,2,    10.39,2,    18.65,2,     0.01,2,     -999,9,   7.7050,2,20140607,1545,  55.5060, -26.7100
35PK20140515  ,OVIDE-A25  ,32      ,  1,16         ,16         ,20140607,1442,  55.5060, -26.7100,     3283,    501.2,2,   5.6910,2,  34.9710,2,  34.9720,2,    232.1,2,    231.3,2,    10.50,2,    18.58,2,     0.01,2,     -999,9,   7.6990,2,20140607,1543,  55.5060, -26.7100
35PK20140515  ,OVIDE-A25  ,32      ,  1,15         ,15         ,20140607,1442,  55.5060, -26.7100,     3283,    600.3,2,   5.2010,2,  34.9940,2,  34.9930,2,    245.0,2,    243.7,2,    10.16,2,    17.24,2,     0.00,2,     -999,9,   7.7050,2,20140607,1540,  55.5060, -26.7100
35PK20140515  ,OVIDE-A25  ,32      ,  1,14         ,14         ,20140607,1442,  55.5060, -26.7100,     3283,    700.6,2,   4.8750,2,  34.9740,2,  34.9670,4,    254.0,2,    252.4,2,    10.07,2,    17.09,2,     0.00,2,     -999,9,   7.7070,2,20140607,1538,  55.5060, -26.7100
35PK20140515  ,OVIDE-A25  ,32      ,  1,13         ,13         ,20140607,1442,  55.5060, -26.7100,     3283,    801.3,2,   4.4580,2,  34.9390,2,  34.9390,2,    266.0,2,    264.6,2,     9.53,2,    17.24,2,     0.00,2,     -999,9,   7.7060,2,20140607,1535,  55.5060, -26.7100
35PK20140515  ,OVIDE-A25  ,32      ,  1,12         ,12         ,20140607,1442,  55.5060, -26.7100,     3283,    899.3,2,   4.2780,2,  34.9290,2,  34.9300,2,    271.1,2,    269.8,2,     9.65,2,    17.33,2,     0.00,2,     -999,9,   7.7120,2,20140607,1532,  55.5060, -26.7100
35PK20140515  ,OVIDE-A25  ,32      ,  1,11         ,11         ,20140607,1442,  55.5060, -26.7100,     3283,    999.7,2,   4.1350,2,  34.9200,2,  34.9190,2,    274.9,2,    274.1,2,     9.41,2,    16.67,2,     0.00,2,     -999,9,   7.7150,2,20140607,1530,  55.5060, -26.7100
35PK20140515  ,OVIDE-A25  ,32      ,  1,10         ,10         ,20140607,1442,  55.5060, -26.7100,     3283,   1199.7,2,   3.9300,2,  34.9080,2,  34.9070,2,    278.0,2,    276.8,2,     9.54,2,    16.46,2,     0.00,2,     -999,9,   7.7160,2,20140607,1526,  55.5060, -26.7100
35PK20140515  ,OVIDE-A25  ,32      ,  1,9          ,9          ,20140607,1442,  55.5060, -26.7100,     3283,   1399.2,2,   3.8380,2,  34.9160,2,  34.9170,2,    274.2,2,    273.3,2,    10.24,2,    16.59,2,     0.00,2,     -999,9,   7.7190,2,20140607,1522,  55.5060, -26.7100
35PK20140515  ,OVIDE-A25  ,32      ,  1,8          ,8          ,20140607,1442,  55.5060, -26.7100,     3283,   1549.5,2,   3.7630,2,  34.9220,2,  34.9220,2,    273.2,2,    273.5,2,    10.63,2,    17.31,2,     0.00,2,     -999,9,   7.7230,2,20140607,1518,  55.5060, -26.7100
35PK20140515  ,OVIDE-A25  ,32      ,  1,7          ,7          ,20140607,1442,  55.5060, -26.7100,     3283,   1700.2,2,   3.6770,2,  34.9270,2,  34.9270,2,    272.6,2,    271.9,2,    11.00,2,    17.30,2,     0.00,2,     -999,9,   7.7240,2,20140607,1515,  55.5060, -26.7100
35PK20140515  ,OVIDE-A25  ,32      ,  1,6          ,6          ,20140607,1442,  55.5060, -26.7100,     3283,   2000.3,2,   3.4420,2,  34.9280,2,  34.9280,2,    274.1,2,    273.2,2,    11.64,2,    17.16,2,     0.00,2,     -999,9,   7.7280,2,20140607,1509,  55.5060, -26.7100
35PK20140515  ,OVIDE-A25  ,32      ,  1,5          ,5          ,20140607,1442,  55.5060, -26.7100,     3283,   2250.2,2,   3.2760,2,  34.9330,2,  34.9340,2,    274.2,2,    274.1,2,    12.93,2,    17.12,2,     0.00,2,     -999,9,   7.7300,2,20140607,1504,  55.5060, -26.7100
35PK20140515  ,OVIDE-A25  ,32      ,  1,4          ,4          ,20140607,1442,  55.5060, -26.7100,     3283,   2500.0,2,   3.1430,2,  34.9470,2,  34.9480,2,    273.0,2,    272.5,2,    14.12,2,    17.04,2,     0.00,2,     -999,9,   7.7300,2,20140607,1458,  55.5060, -26.7100
35PK20140515  ,OVIDE-A25  ,32      ,  1,3          ,3          ,20140607,1442,  55.5060, -26.7100,     3283,   2799.5,2,   2.9480,2,  34.9620,2,  34.9620,2,    268.4,2,    268.7,2,    17.87,2,    17.31,2,     0.00,2,     -999,9,   7.7270,2,20140607,1452,  55.5060, -26.7100
35PK20140515  ,OVIDE-A25  ,32      ,  1,2          ,2          ,20140607,1442,  55.5060, -26.7100,     3283,   3000.1,2,   2.8410,2,  34.9620,2,  34.9610,2,    265.0,2,    264.5,2,    21.73,2,    17.78,2,     0.00,2,     -999,9,   7.7260,2,20140607,1448,  55.5060, -26.7100
35PK20140515  ,OVIDE-A25  ,32      ,  1,1          ,1          ,20140607,1442,  55.5060, -26.7100,     3283,   3273.5,2,   2.8100,2,  34.9620,2,  34.9620,2,    263.1,2,    264.4,2,    24.46,2,    18.06,2,     0.00,2,     -999,9,   7.7220,2,20140607,1442,  55.5060, -26.7100