BOTTLE,20240403CCHHYDRO
EXPOCODE,SECT_ID,STNNBR,CASTNO,SAMPNO,BTLNBR,DATE,TIME,LATITUDE,LONGITUDE,DEPTH,CTDPRS,CTDPRS_FLAG_W,CTDTMP,CTDTMP_FLAG_W,CTDSAL,CTDSAL_FLAG_W,SALNTY,SALNTY_FLAG_W,CTDOXY,CTDOXY_FLAG_W,OXYGEN,OXYGEN_FLAG_W,SILCAT,SILCAT_FLAG_W,NITRAT,NITRAT_FLAG_W,NITRIT,NITRIT_FLAG_W,ALKALI,ALKALI_FLAG_W,PH_TOT,PH_TOT_FLAG_W,BTL_DATE,BTL_TIME,BTL_LAT,BTL_LON
,,,,,,,,,,METERS,DBAR,,ITS-90,,PSS-78,,PSS-78,,UMOL/KG,,UMOL/KG,,UMOL/KG,,UMOL/KG,,UMOL/KG,,UMOL/KG,,,,,,,
35PK20140515  ,OVIDE-A25  ,47      ,  1,24         ,24         ,20140615,1521,  59.7220, -40.2530,     2697,      5.4,2,   6.7050,2,  34.8580,2,     -999,9,    315.1,2,     -999,9,     -999,9,     -999,9,     -999,9,     -999,9,     -999,9,20140615,1632,  59.7220, -40.2530
35PK20140515  ,OVIDE-A25  ,47      ,  1,23         ,23         ,20140615,1521,  59.7220, -40.2530,     2697,      5.4,2,   6.7040,2,  34.8580,2,  34.8590,2,    315.1,2,    314.5,2,     5.28,2,     8.63,2,     0.11,2,   2309.2,2,   7.8410,2,20140615,1632,  59.7220, -40.2530
35PK20140515  ,OVIDE-A25  ,47      ,  1,22         ,22         ,20140615,1521,  59.7220, -40.2530,     2697,     38.3,2,   6.5100,2,  34.8780,2,  34.8690,4,    311.3,2,    310.3,2,     6.73,2,    10.43,2,     0.18,2,     -999,9,   7.8090,2,20140615,1630,  59.7220, -40.2530
35PK20140515  ,OVIDE-A25  ,47      ,  1,21         ,21         ,20140615,1521,  59.7220, -40.2530,     2697,    101.0,2,   4.4790,2,  34.9260,2,  34.9260,2,    291.9,2,    292.3,2,     7.44,2,    15.94,2,     0.04,2,   2306.6,2,   7.7310,2,20140615,1627,  59.7220, -40.2530
35PK20140515  ,OVIDE-A25  ,47      ,  1,20         ,20         ,20140615,1521,  59.7220, -40.2530,     2697,    149.7,2,   4.2810,2,  34.9190,2,  34.9180,2,    294.6,2,    293.7,2,     7.74,2,    15.74,2,     0.09,2,     -999,9,   7.7280,2,20140615,1625,  59.7220, -40.2530
35PK20140515  ,OVIDE-A25  ,47      ,  1,19         ,19         ,20140615,1521,  59.7220, -40.2530,     2697,    201.3,2,   4.1470,2,  34.9110,2,  34.9100,2,    297.1,2,    297.4,2,     7.68,2,    15.89,2,     0.03,2,   2305.6,2,   7.7270,2,20140615,1623,  59.7220, -40.2530
35PK20140515  ,OVIDE-A25  ,47      ,  1,18         ,18         ,20140615,1521,  59.7220, -40.2530,     2697,    300.2,2,   4.0530,2,  34.9070,2,  34.9070,2,    298.3,2,    299.5,2,     7.72,2,    15.85,2,     0.01,2,   2305.1,2,   7.7270,2,20140615,1620,  59.7220, -40.2530
35PK20140515  ,OVIDE-A25  ,47      ,  1,17         ,17         ,20140615,1521,  59.7220, -40.2530,     2697,    399.6,2,   3.9960,2,  34.9040,2,  34.9030,2,    300.0,2,    299.0,2,     7.88,2,    15.68,2,     0.00,2,   2303.3,2,   7.7260,2,20140615,1618,  59.7220, -40.2530
35PK20140515  ,OVIDE-A25  ,47      ,  1,16         ,16         ,20140615,1521,  59.7220, -40.2530,     2697,    500.7,2,   3.9160,2,  34.8970,2,  34.8970,2,    294.8,2,    294.6,2,     8.02,2,    15.94,2,     0.01,2,   2304.0,2,   7.7220,2,20140615,1615,  59.7220, -40.2530
35PK20140515  ,OVIDE-A25  ,47      ,  1,15         ,15         ,20140615,1521,  59.7220, -40.2530,     2697,    600.1,2,   3.8120,2,  34.8870,2,  34.8850,2,    293.6,2,    293.3,2,     8.11,2,    15.98,2,     0.00,2,   2303.1,2,   7.7210,2,20140615,1612,  59.7220, -40.2530
35PK20140515  ,OVIDE-A25  ,47      ,  1,14         ,14         ,20140615,1521,  59.7220, -40.2530,     2697,    701.1,2,   3.7520,2,  34.8820,2,  34.8810,2,    292.4,2,    292.2,2,     8.24,2,    16.16,2,     0.00,2,     -999,9,   7.7250,2,20140615,1610,  59.7220, -40.2530
35PK20140515  ,OVIDE-A25  ,47      ,  1,13         ,13         ,20140615,1521,  59.7220, -40.2530,     2697,    800.0,2,   3.6230,2,  34.8680,2,  34.8690,2,    297.4,2,    297.3,2,     8.05,2,    15.86,2,     0.00,2,   2302.5,2,   7.7220,2,20140615,1607,  59.7220, -40.2530
35PK20140515  ,OVIDE-A25  ,47      ,  1,12         ,12         ,20140615,1521,  59.7220, -40.2530,     2697,    900.8,2,   3.7610,2,  34.8950,2,  34.8930,2,    283.9,2,    284.5,2,     8.85,2,    16.14,2,     0.00,2,     -999,9,   7.7200,2,20140615,1604,  59.7220, -40.2530
35PK20140515  ,OVIDE-A25  ,47      ,  1,11         ,11         ,20140615,1521,  59.7220, -40.2530,     2697,   1000.7,2,   3.7890,2,  34.9130,2,  34.9130,2,    277.6,2,    279.4,2,     9.54,2,    16.53,2,     0.00,2,   2303.2,2,   7.7200,2,20140615,1602,  59.7220, -40.2530
35PK20140515  ,OVIDE-A25  ,47      ,  1,10         ,10         ,20140615,1521,  59.7220, -40.2530,     2697,   1200.2,2,   3.6970,2,  34.9300,2,  34.9300,2,    273.3,2,    273.8,2,    10.25,2,    16.81,2,     0.00,2,   2305.7,2,   7.7230,2,20140615,1557,  59.7220, -40.2530
35PK20140515  ,OVIDE-A25  ,47      ,  1,9          ,9          ,20140615,1521,  59.7220, -40.2530,     2697,   1400.8,2,   3.5440,2,  34.9320,2,  34.9320,2,    274.1,2,    274.3,2,    10.67,2,    16.64,2,     0.00,2,     -999,9,   7.7250,2,20140615,1553,  59.7220, -40.2530
35PK20140515  ,OVIDE-A25  ,47      ,  1,8          ,8          ,20140615,1521,  59.7220, -40.2530,     2697,   1601.0,2,   3.3190,2,  34.9270,2,  34.9280,2,    275.8,2,    276.7,2,    11.00,2,    16.61,2,     0.00,2,   2305.0,2,   7.7280,2,20140615,1548,  59.7220, -40.2530
35PK20140515  ,OVIDE-A25  ,47      ,  1,7          ,7          ,20140615,1521,  59.7220, -40.2530,     2697,   1800.1,2,   3.1480,2,  34.9300,2,  34.9300,2,    276.0,2,    277.2,2,    11.65,2,    16.53,2,     0.00,2,     -999,9,   7.7310,2,20140615,1543,  59.7220, -40.2530
35PK20140515  ,OVIDE-A25  ,47      ,  1,6          ,6          ,20140615,1521,  59.7220, -40.2530,     2697,   2000.6,2,   3.0190,2,  34.9360,2,  34.9350,2,    275.9,2,    276.5,2,    12.48,2,    16.53,2,     0.00,2,   2306.9,2,   7.7310,2,20140615,1539,  59.7220, -40.2530
35PK20140515  ,OVIDE-A25  ,47      ,  1,5          ,5          ,20140615,1521,  59.7220, -40.2530,     2697,   2249.7,2,   2.7970,2,  34.9360,2,  34.9350,2,    277.0,2,    277.5,2,    13.40,2,    16.41,2,     0.00,2,     -999,9,   7.7310,2,20140615,1533,  59.7220, -40.2530
35PK20140515  ,OVIDE-A25  ,47      ,  1,4          ,4          ,20140615,1521,  59.7220, -40.2530,     2697,   2500.9,2,   2.2610,2,  34.9130,2,  34.9130,2,    291.1,2,    288.5,2,    10.99,2,    15.20,2,     0.00,2,   2307.1,2,   7.7260,2,20140615,1527,  59.7220, -40.2530
35PK20140515  ,OVIDE-A25  ,47      ,  1,3          ,3          ,20140615,1521,  59.7220, -40.2530,     2697,   2598.9,2,   1.4550,2,  34.8870,2,  34.8850,2,    305.8,2,    305.3,2,     7.68,2,    13.64,2,     0.00,2,   2301.6,2,   7.7180,2,20140615,1524,  59.7220, -40.2530
35PK20140515  ,OVIDE-A25  ,47      ,  1,2          ,2          ,20140615,1521,  59.7220, -40.2530,     2697,   2685.6,2,   1.4010,2,  34.8850,2,  34.8840,2,    306.5,2,    306.5,2,     7.58,2,    13.59,2,     0.01,2,     -999,9,   7.7180,2,20140615,1522,  59.7220, -40.2530
35PK20140515  ,OVIDE-A25  ,47      ,  1,1          ,1          ,20140615,1521,  59.7220, -40.2530,     2697,   2687.4,2,   1.4000,2,  34.8850,2,  34.8850,2,    306.6,2,    306.5,2,     7.62,2,    13.53,2,     0.00,2,   2302.6,2,   7.7200,2,20140615,1521,  59.7220, -40.2530
35PK20140515  ,OVIDE-A25  ,48      ,  1,24         ,24         ,20140615,1932,  59.7580, -40.9050,     2305,      6.1,2,   6.7560,2,  34.8790,2,  34.8790,2,    312.9,2,    311.9,2,     7.30,2,     9.30,2,     0.11,2,   2309.2,2,   7.8800,2,20140615,2043,  59.7580, -40.9060
35PK20140515  ,OVIDE-A25  ,48      ,  1,23         ,23         ,20140615,1932,  59.7580, -40.9050,     2305,     40.0,2,   6.5940,2,  34.9050,2,  34.9130,4,    306.1,2,    307.7,2,     5.42,2,    10.53,2,     0.18,2,     -999,9,   7.7940,2,20140615,2041,  59.7580, -40.9060
35PK20140515  ,OVIDE-A25  ,48      ,  1,22         ,22         ,20140615,1932,  59.7580, -40.9050,     2305,    100.9,2,   5.8060,2,  35.0070,2,  35.0070,2,    292.0,2,    293.3,2,     6.02,2,    14.12,2,     -999,9,   2312.1,2,   7.7610,2,20140615,2038,  59.7580, -40.9060
35PK20140515  ,OVIDE-A25  ,48      ,  1,21         ,21         ,20140615,1932,  59.7580, -40.9050,     2305,    150.2,2,   5.5710,2,  34.9990,2,  34.9960,2,    288.5,2,    288.6,2,     7.28,2,    14.78,2,     0.21,2,     -999,9,   7.7510,2,20140615,2036,  59.7580, -40.9060
35PK20140515  ,OVIDE-A25  ,48      ,  1,20         ,20         ,20140615,1932,  59.7580, -40.9050,     2305,    201.2,2,   5.3190,2,  34.9850,2,  34.9840,2,    286.5,2,    287.0,2,     7.16,2,    15.17,2,     0.07,2,   2309.7,2,   7.7420,2,20140615,2034,  59.7580, -40.9050
35PK20140515  ,OVIDE-A25  ,48      ,  1,19         ,19         ,20140615,1932,  59.7580, -40.9050,     2305,    300.8,2,   4.8920,2,  34.9570,2,  34.9560,2,    286.5,2,    285.9,2,     7.60,2,    15.75,2,     0.01,2,   2308.2,2,   7.7350,2,20140615,2032,  59.7580, -40.9060
35PK20140515  ,OVIDE-A25  ,48      ,  1,18         ,18         ,20140615,1932,  59.7580, -40.9050,     2305,    400.1,2,   4.5820,2,  34.9380,2,  34.9380,2,    285.5,2,    286.8,2,     7.92,2,    16.03,2,     0.01,2,   2306.5,2,   7.7290,2,20140615,2029,  59.7580, -40.9050
35PK20140515  ,OVIDE-A25  ,48      ,  1,17         ,17         ,20140615,1932,  59.7580, -40.9050,     2305,    548.0,2,   4.2770,2,  34.9270,2,  34.9260,2,    283.6,2,    283.7,2,     8.33,2,    16.11,2,     0.00,2,   2305.1,2,   7.7210,2,20140615,2025,  59.7580, -40.9060
35PK20140515  ,OVIDE-A25  ,48      ,  1,16         ,16         ,20140615,1932,  59.7580, -40.9050,     2305,    600.9,2,   4.1860,2,  34.9230,2,  34.9220,2,    283.5,2,    284.3,2,     8.27,2,    16.32,2,     0.01,2,   2305.3,2,   7.7220,2,20140615,2022,  59.7580, -40.9050
35PK20140515  ,OVIDE-A25  ,48      ,  1,15         ,15         ,20140615,1932,  59.7580, -40.9050,     2305,    700.6,2,   4.0280,2,  34.9110,2,  34.9100,2,    284.7,2,    285.2,2,     8.54,2,    16.46,2,     0.00,2,     -999,9,   7.7190,2,20140615,2019,  59.7580, -40.9050
35PK20140515  ,OVIDE-A25  ,48      ,  1,14         ,14         ,20140615,1932,  59.7580, -40.9050,     2305,    801.7,2,   3.9160,2,  34.9070,2,  34.9070,2,    284.9,2,    285.3,2,     8.58,2,    16.51,2,     0.00,2,   2305.0,2,   7.7190,2,20140615,2016,  59.7580, -40.9050
35PK20140515  ,OVIDE-A25  ,48      ,  1,13         ,13         ,20140615,1932,  59.7580, -40.9050,     2305,    900.8,2,   3.8680,2,  34.9120,2,  34.9110,2,    280.4,2,    281.2,2,     8.90,2,    16.37,2,     0.00,2,     -999,9,   7.7190,2,20140615,2013,  59.7580, -40.9050
35PK20140515  ,OVIDE-A25  ,48      ,  1,12         ,12         ,20140615,1932,  59.7580, -40.9050,     2305,   1000.1,2,   3.8290,2,  34.9270,2,  34.9260,2,    277.6,2,    278.1,2,     9.23,2,    16.32,2,     0.00,2,   2306.4,2,   7.7230,2,20140615,2010,  59.7580, -40.9050
35PK20140515  ,OVIDE-A25  ,48      ,  1,11         ,11         ,20140615,1932,  59.7580, -40.9050,     2305,   1100.6,2,   3.7890,2,  34.9310,2,  34.9310,2,    275.0,2,    276.4,2,     9.69,2,    16.49,2,     0.00,2,     -999,9,   7.7220,2,20140615,2007,  59.7580, -40.9060
35PK20140515  ,OVIDE-A25  ,48      ,  1,10         ,10         ,20140615,1932,  59.7580, -40.9050,     2305,   1200.0,2,   3.6840,2,  34.9330,2,  34.9320,2,    277.7,2,    278.8,2,     9.57,2,    16.27,2,     0.00,2,   2305.1,2,   7.7230,2,20140615,2002,  59.7580, -40.9050
35PK20140515  ,OVIDE-A25  ,48      ,  1,9          ,9          ,20140615,1932,  59.7580, -40.9050,     2305,   1301.1,2,   3.5670,2,  34.9270,2,  34.9260,2,    278.7,2,    279.6,2,     9.39,2,    16.24,2,     0.00,2,     -999,9,   7.7240,2,20140615,2000,  59.7580, -40.9060
35PK20140515  ,OVIDE-A25  ,48      ,  1,8          ,8          ,20140615,1932,  59.7580, -40.9050,     2305,   1401.3,2,   3.4710,2,  34.9240,2,  34.9240,2,    279.7,2,    280.1,2,     9.64,2,    16.22,2,     0.00,2,   2306.3,2,   7.7230,2,20140615,1956,  59.7580, -40.9050
35PK20140515  ,OVIDE-A25  ,48      ,  1,7          ,7          ,20140615,1932,  59.7580, -40.9050,     2305,   1500.7,2,   3.3340,2,  34.9200,2,  34.9190,2,    281.1,2,    282.7,2,     9.65,2,    15.97,2,     0.00,2,     -999,9,   7.7250,2,20140615,1953,  59.7580, -40.9060
35PK20140515  ,OVIDE-A25  ,48      ,  1,6          ,6          ,20140615,1932,  59.7580, -40.9050,     2305,   1600.8,2,   3.1750,2,  34.9160,2,  34.9150,2,    282.8,2,    282.9,2,     9.80,2,    15.75,2,     0.00,2,   2304.6,2,   7.7230,2,20140615,1950,  59.7580, -40.9050
35PK20140515  ,OVIDE-A25  ,48      ,  1,5          ,5          ,20140615,1932,  59.7580, -40.9050,     2305,   1800.2,2,   2.8920,2,  34.9170,2,  34.9170,2,    283.0,2,    286.9,2,    10.75,2,    15.72,2,     0.00,2,     -999,9,   7.7260,2,20140615,1945,  59.7580, -40.9060
35PK20140515  ,OVIDE-A25  ,48      ,  1,4          ,4          ,20140615,1932,  59.7580, -40.9050,     2305,   2001.5,2,   2.5940,2,  34.9160,2,  34.9140,2,    285.1,2,    285.8,2,    10.94,2,    15.57,2,     0.00,2,   2307.9,2,   7.7260,2,20140615,1940,  59.7580, -40.9050
35PK20140515  ,OVIDE-A25  ,48      ,  1,3          ,3          ,20140615,1932,  59.7580, -40.9050,     2305,   2100.5,2,   2.2660,2,  34.8990,2,  34.8980,2,    294.0,2,    293.8,2,     9.30,2,    14.74,2,     0.00,2,     -999,9,   7.7280,2,20140615,1937,  59.7580, -40.9050
35PK20140515  ,OVIDE-A25  ,48      ,  1,2          ,2          ,20140615,1932,  59.7580, -40.9050,     2305,   2200.3,2,   1.8370,2,  34.8830,2,  34.8820,2,    302.0,2,    302.2,2,     7.93,2,    14.07,2,     0.01,2,     -999,9,   7.7180,2,20140615,1935,  59.7580, -40.9050
35PK20140515  ,OVIDE-A25  ,48      ,  1,1          ,1          ,20140615,1932,  59.7580, -40.9050,     2305,   2295.6,2,   1.8170,2,  34.8820,2,  34.8810,2,    302.4,2,    302.3,2,     7.89,2,    13.95,2,     0.01,2,   2302.7,2,   7.7200,2,20140615,1932,  59.7580, -40.9050