BOTTLE,20240319CCHSIOADS
EXPOCODE,SECT_ID,STNNBR,CASTNO,SAMPNO,BTLNBR,BTLNBR_FLAG_W,DATE,TIME,LATITUDE,LONGITUDE,DEPTH,CTDPRS,CTDTMP,CTDSAL,CTDSAL_FLAG_W,SALNTY,SALNTY_FLAG_W,OXYGEN,OXYGEN_FLAG_W,SILCAT,SILCAT_FLAG_W,NITRAT,NITRAT_FLAG_W,NITRIT,NITRIT_FLAG_W,PHSPHT,PHSPHT_FLAG_W,TCARBN,TCARBN_FLAG_W,ALKALI,ALKALI_FLAG_W,PH_TOT,PH_TOT_FLAG_W,PH_TMP,BTL_TIME
,,,,,,,,,,,METERS,DBAR,ITS-90,PSS-78,,PSS-78,,UMOL/KG,,UMOL/KG,,UMOL/KG,,UMOL/KG,,UMOL/KG,,UMOL/KG,,UMOL/KG,,,,DEG C,
  49UF20171107,KS1708,5257,1,0,BUC,2,20171121,2103,37.3442,134.328, 2587,      0.0,  16.7031,  33.9000,2,-999.0000,9,    237.8,2,  -999.00,9,  -999.00,9,  -999.00,9,  -999.00,9,   -999.0,9,   -999.0,9,-999.0,9,  -999.00,2143
  49UF20171107,KS1708,5257,1,36,25270,2,20171121,2103,37.3442,134.328, 2587,     11.2,  16.6995,  33.9003,2,  33.9032,2,    237.4,2,  -999.00,9,  -999.00,9,  -999.00,9,  -999.00,9,   -999.0,9,   -999.0,9,-999.0,9,  -999.00,2220
  49UF20171107,KS1708,5257,1,35,25269,2,20171121,2103,37.3442,134.328, 2587,     26.4,  16.7057,  33.8997,2,-999.0000,9,    237.5,2,  -999.00,9,  -999.00,9,  -999.00,9,  -999.00,9,   -999.0,9,   -999.0,9,-999.0,9,  -999.00,2218
  49UF20171107,KS1708,5257,1,34,25268,2,20171121,2103,37.3442,134.328, 2587,     51.5,  16.7152,  33.8998,2,  33.8999,2,    237.4,2,  -999.00,9,  -999.00,9,  -999.00,9,  -999.00,9,   -999.0,9,   -999.0,9,-999.0,9,  -999.00,2214
  49UF20171107,KS1708,5257,1,33,25267,2,20171121,2103,37.3442,134.328, 2587,     76.1,  15.1350,  34.4894,2,-999.0000,9,    201.0,6,  -999.00,9,  -999.00,9,  -999.00,9,  -999.00,9,   -999.0,9,   -999.0,9,-999.0,9,  -999.00,2212
  49UF20171107,KS1708,5257,1,31,25265,2,20171121,2103,37.3442,134.328, 2587,    100.8,  11.3165,  34.2904,2,  34.2829,2,    237.6,2,  -999.00,9,  -999.00,9,  -999.00,9,  -999.00,9,   -999.0,9,   -999.0,9,-999.0,9,  -999.00,2210
  49UF20171107,KS1708,5257,1,32,25266,2,20171121,2103,37.3442,134.328, 2587,    101.3,  11.2642,  34.2877,2,  34.2872,2,    237.5,2,  -999.00,9,  -999.00,9,  -999.00,9,  -999.00,9,   -999.0,9,   -999.0,9,-999.0,9,  -999.00,2210
  49UF20171107,KS1708,5257,1,30,25264,2,20171121,2103,37.3442,134.328, 2587,    125.7,   6.5255,  34.0266,2,-999.0000,9,    259.7,2,  -999.00,9,  -999.00,9,  -999.00,9,  -999.00,9,   -999.0,9,   -999.0,9,-999.0,9,  -999.00,2209
  49UF20171107,KS1708,5257,1,29,25263,2,20171121,2103,37.3442,134.328, 2587,    152.1,   4.2468,  33.9812,2,  33.9817,2,    265.2,2,  -999.00,9,  -999.00,9,  -999.00,9,  -999.00,9,   -999.0,9,   -999.0,9,-999.0,9,  -999.00,2207
  49UF20171107,KS1708,5257,1,28,25262,2,20171121,2103,37.3442,134.328, 2587,    204.6,   2.1619,  34.0146,2,-999.0000,9,    250.5,2,  -999.00,9,  -999.00,9,  -999.00,9,  -999.00,9,   -999.0,9,   -999.0,9,-999.0,9,  -999.00,2205
  49UF20171107,KS1708,5257,1,27,25261,2,20171121,2103,37.3442,134.328, 2587,    254.7,   1.3398,  34.0337,2,-999.0000,9,    243.3,2,  -999.00,9,  -999.00,9,  -999.00,9,  -999.00,9,   -999.0,9,   -999.0,9,-999.0,9,  -999.00,2203
  49UF20171107,KS1708,5257,1,26,25260,2,20171121,2103,37.3442,134.328, 2587,    304.6,   1.0882,  34.0470,2,  34.0470,2,    229.8,2,  -999.00,9,  -999.00,9,  -999.00,9,  -999.00,9,   -999.0,9,   -999.0,9,-999.0,9,  -999.00,2201
  49UF20171107,KS1708,5257,1,25,25259,2,20171121,2103,37.3442,134.328, 2587,    405.2,   0.7837,  34.0618,2,-999.0000,9,    212.6,2,  -999.00,9,  -999.00,9,  -999.00,9,  -999.00,9,   -999.0,9,   -999.0,9,-999.0,9,  -999.00,2158
  49UF20171107,KS1708,5257,1,21,25255,2,20171121,2103,37.3442,134.328, 2587,    507.8,   0.6194,  34.0676,2,  34.0687,2,    204.2,2,  -999.00,9,  -999.00,9,  -999.00,9,  -999.00,9,   -999.0,9,   -999.0,9,-999.0,9,  -999.00,2155
  49UF20171107,KS1708,5257,1,20,24270,2,20171121,2103,37.3442,134.328, 2587,    607.0,   0.5298,  34.0692,2,-999.0000,9,    201.4,6,  -999.00,9,  -999.00,9,  -999.00,9,  -999.00,9,   -999.0,9,   -999.0,9,-999.0,9,  -999.00,2152
  49UF20171107,KS1708,5257,1,19,25253,2,20171121,2103,37.3442,134.328, 2587,    708.2,   0.4481,  34.0700,2,-999.0000,9,    199.5,2,  -999.00,9,  -999.00,9,  -999.00,9,  -999.00,9,   -999.0,9,   -999.0,9,-999.0,9,  -999.00,2149
  49UF20171107,KS1708,5257,1,18,25252,2,20171121,2103,37.3442,134.328, 2587,    806.3,   0.3878,  34.0701,2,-999.0000,9,    199.0,2,  -999.00,9,  -999.00,9,  -999.00,9,  -999.00,9,   -999.0,9,   -999.0,9,-999.0,9,  -999.00,2146
  49UF20171107,KS1708,5257,1,17,25251,2,20171121,2103,37.3442,134.328, 2587,    910.4,   0.3462,  34.0698,2,  34.0714,2,    198.5,2,  -999.00,9,  -999.00,9,  -999.00,9,  -999.00,9,   -999.0,9,   -999.0,9,-999.0,9,  -999.00,2143
  49UF20171107,KS1708,5257,1,15,25249,2,20171121,2103,37.3442,134.328, 2587,   1011.8,   0.3088,  34.0695,2,  34.0696,2,    198.2,2,  -999.00,9,  -999.00,9,  -999.00,9,  -999.00,9,   -999.0,9,   -999.0,9,-999.0,9,  -999.00,2140
  49UF20171107,KS1708,5257,1,14,25248,2,20171121,2103,37.3442,134.328, 2587,   1012.8,   0.3089,  34.0696,2,  34.0693,2,    198.2,2,  -999.00,9,  -999.00,9,  -999.00,9,  -999.00,9,   -999.0,9,   -999.0,9,-999.0,9,  -999.00,2140
  49UF20171107,KS1708,5257,1,13,25247,2,20171121,2103,37.3442,134.328, 2587,   1216.7,   0.2678,  34.0689,2,-999.0000,9,    197.9,2,  -999.00,9,  -999.00,9,  -999.00,9,  -999.00,9,   -999.0,9,   -999.0,9,-999.0,9,  -999.00,2135
  49UF20171107,KS1708,5257,1,11,25245,2,20171121,2103,37.3442,134.328, 2587,   1417.4,   0.2438,  34.0686,2,  34.0684,2,    198.5,2,  -999.00,9,  -999.00,9,  -999.00,9,  -999.00,9,   -999.0,9,   -999.0,9,-999.0,9,  -999.00,2130
  49UF20171107,KS1708,5257,1,10,25244,2,20171121,2103,37.3442,134.328, 2587,   1618.0,   0.2314,  34.0682,2,  34.0680,2,    198.7,2,  -999.00,9,  -999.00,9,  -999.00,9,  -999.00,9,   -999.0,9,   -999.0,9,-999.0,9,  -999.00,2126
  49UF20171107,KS1708,5257,1,9,25243,2,20171121,2103,37.3442,134.328, 2587,   1824.3,   0.2295,  34.0681,2,-999.0000,9,    198.7,6,  -999.00,9,  -999.00,9,  -999.00,9,  -999.00,9,   -999.0,9,   -999.0,9,-999.0,9,  -999.00,2121
  49UF20171107,KS1708,5257,1,8,25242,2,20171121,2103,37.3442,134.328, 2587,   2027.3,   0.2350,  34.0679,2,  34.0678,2,    198.1,2,  -999.00,9,  -999.00,9,  -999.00,9,  -999.00,9,   -999.0,9,   -999.0,9,-999.0,9,  -999.00,2116
  49UF20171107,KS1708,5257,1,6,25240,2,20171121,2103,37.3442,134.328, 2587,   2281.6,   0.2486,  34.0678,2,  34.0704,4,    197.4,2,  -999.00,9,  -999.00,9,  -999.00,9,  -999.00,9,   -999.0,9,   -999.0,9,-999.0,9,  -999.00,2110
  49UF20171107,KS1708,5257,1,5,25239,2,20171121,2103,37.3442,134.328, 2587,   2559.9,   0.2689,  34.0679,2,  34.0677,2,    196.9,2,  -999.00,9,  -999.00,9,  -999.00,9,  -999.00,9,   -999.0,9,   -999.0,9,-999.0,9,  -999.00,2103
  49UF20171107,KS1708,5258,1,0,BUC,2,20171122,0221,37.284,135.0277, 1018,      0.0,  17.0801,  33.8952,2,-999.0000,9,    235.9,2,  -999.00,9,  -999.00,9,  -999.00,9,  -999.00,9,   -999.0,9,   -999.0,9,-999.0,9,  -999.00,0225
  49UF20171107,KS1708,5258,1,35,25269,2,20171122,0221,37.284,135.0277, 1018,     11.9,  17.0830,  33.8953,2,-999.0000,9,    234.6,2,  -999.00,9,  -999.00,9,  -999.00,9,  -999.00,9,   -999.0,9,   -999.0,9,-999.0,9,  -999.00,0252
  49UF20171107,KS1708,5258,1,34,25268,3,20171122,0221,37.284,135.0277, 1018,     26.1,  17.0901,  33.8949,2,-999.0000,9,    234.4,6,  -999.00,9,  -999.00,9,  -999.00,9,  -999.00,9,   -999.0,9,   -999.0,9,-999.0,9,  -999.00,0251
  49UF20171107,KS1708,5258,1,30,25264,2,20171122,0221,37.284,135.0277, 1018,     51.1,  17.0757,  33.8974,2,-999.0000,9,    234.1,2,  -999.00,9,  -999.00,9,  -999.00,9,  -999.00,9,   -999.0,9,   -999.0,9,-999.0,9,  -999.00,0250
  49UF20171107,KS1708,5258,1,29,25263,2,20171122,0221,37.284,135.0277, 1018,     76.6,  15.0580,  34.5042,2,-999.0000,9,    200.7,2,  -999.00,9,  -999.00,9,  -999.00,9,  -999.00,9,   -999.0,9,   -999.0,9,-999.0,9,  -999.00,0248
  49UF20171107,KS1708,5258,1,28,25262,2,20171122,0221,37.284,135.0277, 1018,     77.1,  14.9880,  34.5024,2,-999.0000,9,    201.1,2,  -999.00,9,  -999.00,9,  -999.00,9,  -999.00,9,   -999.0,9,   -999.0,9,-999.0,9,  -999.00,0248
  49UF20171107,KS1708,5258,1,24,25258,2,20171122,0221,37.284,135.0277, 1018,    101.6,  11.8405,  34.3308,2,-999.0000,9,    231.8,2,  -999.00,9,  -999.00,9,  -999.00,9,  -999.00,9,   -999.0,9,   -999.0,9,-999.0,9,  -999.00,0245
  49UF20171107,KS1708,5258,1,23,25257,2,20171122,0221,37.284,135.0277, 1018,    126.5,   8.8481,  34.1617,2,-999.0000,9,    246.4,2,  -999.00,9,  -999.00,9,  -999.00,9,  -999.00,9,   -999.0,9,   -999.0,9,-999.0,9,  -999.00,0244
  49UF20171107,KS1708,5258,1,21,25255,2,20171122,0221,37.284,135.0277, 1018,    156.3,   4.6366,  34.0151,2,-999.0000,9,    255.5,2,  -999.00,9,  -999.00,9,  -999.00,9,  -999.00,9,   -999.0,9,   -999.0,9,-999.0,9,  -999.00,0243
  49UF20171107,KS1708,5258,1,20,24270,2,20171122,0221,37.284,135.0277, 1018,    208.4,   1.8821,  34.0215,2,-999.0000,9,    247.7,2,  -999.00,9,  -999.00,9,  -999.00,9,  -999.00,9,   -999.0,9,   -999.0,9,-999.0,9,  -999.00,0241
  49UF20171107,KS1708,5258,1,19,25253,2,20171122,0221,37.284,135.0277, 1018,    249.6,   1.5156,  34.0338,2,-999.0000,9,    236.9,2,  -999.00,9,  -999.00,9,  -999.00,9,  -999.00,9,   -999.0,9,   -999.0,9,-999.0,9,  -999.00,0239
  49UF20171107,KS1708,5258,1,15,25249,2,20171122,0221,37.284,135.0277, 1018,    303.5,   1.0233,  34.0499,2,-999.0000,9,    225.2,2,  -999.00,9,  -999.00,9,  -999.00,9,  -999.00,9,   -999.0,9,   -999.0,9,-999.0,9,  -999.00,0238
  49UF20171107,KS1708,5258,1,13,25247,2,20171122,0221,37.284,135.0277, 1018,    403.3,   0.7842,  34.0609,2,-999.0000,9,    212.8,2,  -999.00,9,  -999.00,9,  -999.00,9,  -999.00,9,   -999.0,9,   -999.0,9,-999.0,9,  -999.00,0235
  49UF20171107,KS1708,5258,1,14,25248,2,20171122,0221,37.284,135.0277, 1018,    403.4,   0.7835,  34.0608,2,-999.0000,9,    212.7,2,  -999.00,9,  -999.00,9,  -999.00,9,  -999.00,9,   -999.0,9,   -999.0,9,-999.0,9,  -999.00,0236
  49UF20171107,KS1708,5258,1,6,25240,2,20171122,0221,37.284,135.0277, 1018,    505.9,   0.6270,  34.0671,2,-999.0000,9,    204.3,6,  -999.00,9,  -999.00,9,  -999.00,9,  -999.00,9,   -999.0,9,   -999.0,9,-999.0,9,  -999.00,0233
  49UF20171107,KS1708,5258,1,5,25239,2,20171122,0221,37.284,135.0277, 1018,    605.8,   0.5220,  34.0692,2,-999.0000,9,    200.8,2,  -999.00,9,  -999.00,9,  -999.00,9,  -999.00,9,   -999.0,9,   -999.0,9,-999.0,9,  -999.00,0231
  49UF20171107,KS1708,5258,1,4,25238,2,20171122,0221,37.284,135.0277, 1018,    707.6,   0.4590,  34.0696,2,-999.0000,9,    199.1,2,  -999.00,9,  -999.00,9,  -999.00,9,  -999.00,9,   -999.0,9,   -999.0,9,-999.0,9,  -999.00,0228
  49UF20171107,KS1708,5258,1,3,24271,2,20171122,0221,37.284,135.0277, 1018,    809.7,   0.3929,  34.0694,2,-999.0000,9,    197.7,2,  -999.00,9,  -999.00,9,  -999.00,9,  -999.00,9,   -999.0,9,   -999.0,9,-999.0,9,  -999.00,0226
  49UF20171107,KS1708,5258,1,2,25236,2,20171122,0221,37.284,135.0277, 1018,    913.4,   0.2950,  34.0689,2,-999.0000,9,    196.1,2,  -999.00,9,  -999.00,9,  -999.00,9,  -999.00,9,   -999.0,9,   -999.0,9,-999.0,9,  -999.00,0223
  49UF20171107,KS1708,5258,1,1,25235,2,20171122,0221,37.284,135.0277, 1018,    989.3,   0.2679,  34.0686,2,-999.0000,9,    195.9,2,  -999.00,9,  -999.00,9,  -999.00,9,  -999.00,9,   -999.0,9,   -999.0,9,-999.0,9,  -999.00,0221