BOTTLE,20240319CCHSIOADS
EXPOCODE,SECT_ID,STNNBR,CASTNO,SAMPNO,BTLNBR,BTLNBR_FLAG_W,DATE,TIME,LATITUDE,LONGITUDE,DEPTH,CTDPRS,CTDTMP,CTDSAL,CTDSAL_FLAG_W,SALNTY,SALNTY_FLAG_W,OXYGEN,OXYGEN_FLAG_W,SILCAT,SILCAT_FLAG_W,NITRAT,NITRAT_FLAG_W,NITRIT,NITRIT_FLAG_W,PHSPHT,PHSPHT_FLAG_W,TCARBN,TCARBN_FLAG_W,ALKALI,ALKALI_FLAG_W,PH_TOT,PH_TOT_FLAG_W,PH_TMP,BTL_TIME
,,,,,,,,,,,METERS,DBAR,ITS-90,PSS-78,,PSS-78,,UMOL/KG,,UMOL/KG,,UMOL/KG,,UMOL/KG,,UMOL/KG,,UMOL/KG,,UMOL/KG,,,,DEG C,
  49UF20171107,KS1708,5243,1,0,BUC,2,20171115,0026,41.4945,138.009, 3692,      0.0,  12.3004,  34.0981,2,-999.0000,9,    262.3,2,  -999.00,9,  -999.00,9,  -999.00,9,  -999.00,9,   -999.0,9,   -999.0,9,-999.0,9,  -999.00,0135
  49UF20171107,KS1708,5243,1,36,25270,2,20171115,0026,41.4945,138.009, 3692,     11.5,  12.3026,  34.0981,2,  34.0977,2,    262.5,2,  -999.00,9,  -999.00,9,  -999.00,9,  -999.00,9,   -999.0,9,   -999.0,9,-999.0,9,  -999.00,0157
  49UF20171107,KS1708,5243,1,35,25269,2,20171115,0026,41.4945,138.009, 3692,     26.6,  12.3007,  34.0971,2,-999.0000,9,    262.2,2,  -999.00,9,  -999.00,9,  -999.00,9,  -999.00,9,   -999.0,9,   -999.0,9,-999.0,9,  -999.00,0156
  49UF20171107,KS1708,5243,1,34,25268,2,20171115,0026,41.4945,138.009, 3692,     52.0,   6.6352,  33.9894,2,  33.9662,2,    273.2,2,  -999.00,9,  -999.00,9,  -999.00,9,  -999.00,9,   -999.0,9,   -999.0,9,-999.0,9,  -999.00,0155
  49UF20171107,KS1708,5243,1,33,25267,2,20171115,0026,41.4945,138.009, 3692,     77.1,   2.8975,  33.8913,2,-999.0000,9,    309.1,2,  -999.00,9,  -999.00,9,  -999.00,9,  -999.00,9,   -999.0,9,   -999.0,9,-999.0,9,  -999.00,0153
  49UF20171107,KS1708,5243,1,32,25266,2,20171115,0026,41.4945,138.009, 3692,    102.8,   2.7140,  33.9131,2,  33.9137,2,    311.3,2,  -999.00,9,  -999.00,9,  -999.00,9,  -999.00,9,   -999.0,9,   -999.0,9,-999.0,9,  -999.00,0152
  49UF20171107,KS1708,5243,1,31,25265,2,20171115,0026,41.4945,138.009, 3692,    126.7,   2.6609,  33.9269,2,-999.0000,9,    310.4,2,  -999.00,9,  -999.00,9,  -999.00,9,  -999.00,9,   -999.0,9,   -999.0,9,-999.0,9,  -999.00,0151
  49UF20171107,KS1708,5243,1,30,25264,2,20171115,0026,41.4945,138.009, 3692,    152.1,   2.5918,  33.9447,2,  33.9459,2,    310.3,2,  -999.00,9,  -999.00,9,  -999.00,9,  -999.00,9,   -999.0,9,   -999.0,9,-999.0,9,  -999.00,0147
  49UF20171107,KS1708,5243,1,29,25263,2,20171115,0026,41.4945,138.009, 3692,    201.8,   2.3966,  33.9773,2,-999.0000,9,    308.7,2,  -999.00,9,  -999.00,9,  -999.00,9,  -999.00,9,   -999.0,9,   -999.0,9,-999.0,9,  -999.00,0146
  49UF20171107,KS1708,5243,1,28,25262,2,20171115,0026,41.4945,138.009, 3692,    251.5,   1.7974,  33.9897,2,  33.9908,2,    303.0,2,  -999.00,9,  -999.00,9,  -999.00,9,  -999.00,9,   -999.0,9,   -999.0,9,-999.0,9,  -999.00,0144
  49UF20171107,KS1708,5243,1,27,25261,2,20171115,0026,41.4945,138.009, 3692,    305.9,   1.4495,  34.0043,2,-999.0000,9,    294.6,2,  -999.00,9,  -999.00,9,  -999.00,9,  -999.00,9,   -999.0,9,   -999.0,9,-999.0,9,  -999.00,0143
  49UF20171107,KS1708,5243,1,26,25260,2,20171115,0026,41.4945,138.009, 3692,    306.3,   1.4477,  34.0044,2,-999.0000,9,    294.8,2,  -999.00,9,  -999.00,9,  -999.00,9,  -999.00,9,   -999.0,9,   -999.0,9,-999.0,9,  -999.00,0143
  49UF20171107,KS1708,5243,1,25,25259,2,20171115,0026,41.4945,138.009, 3692,    405.3,   1.0889,  34.0266,2,  34.0263,2,    290.7,2,  -999.00,9,  -999.00,9,  -999.00,9,  -999.00,9,   -999.0,9,   -999.0,9,-999.0,9,  -999.00,0140
  49UF20171107,KS1708,5243,1,23,25257,2,20171115,0026,41.4945,138.009, 3692,    505.2,   0.9640,  34.0385,2,-999.0000,9,    278.8,2,  -999.00,9,  -999.00,9,  -999.00,9,  -999.00,9,   -999.0,9,   -999.0,9,-999.0,9,  -999.00,0137
  49UF20171107,KS1708,5243,1,22,25256,2,20171115,0026,41.4945,138.009, 3692,    605.4,   0.8264,  34.0567,2,  34.0566,2,    235.4,2,  -999.00,9,  -999.00,9,  -999.00,9,  -999.00,9,   -999.0,9,   -999.0,9,-999.0,9,  -999.00,0135
  49UF20171107,KS1708,5243,1,21,25255,2,20171115,0026,41.4945,138.009, 3692,    708.6,   0.7240,  34.0642,2,-999.0000,9,    219.0,2,  -999.00,9,  -999.00,9,  -999.00,9,  -999.00,9,   -999.0,9,   -999.0,9,-999.0,9,  -999.00,0133
  49UF20171107,KS1708,5243,1,20,24270,2,20171115,0026,41.4945,138.009, 3692,    809.0,   0.6197,  34.0690,2,-999.0000,9,    206.8,6,  -999.00,9,  -999.00,9,  -999.00,9,  -999.00,9,   -999.0,9,   -999.0,9,-999.0,9,  -999.00,0130
  49UF20171107,KS1708,5243,1,18,25252,2,20171115,0026,41.4945,138.009, 3692,    908.9,   0.5181,  34.0706,2,-999.0000,9,    202.0,2,  -999.00,9,  -999.00,9,  -999.00,9,  -999.00,9,   -999.0,9,   -999.0,9,-999.0,9,  -999.00,0127
  49UF20171107,KS1708,5243,1,17,25251,2,20171115,0026,41.4945,138.009, 3692,   1013.5,   0.4548,  34.0714,2,-999.0000,9,    200.6,2,  -999.00,9,  -999.00,9,  -999.00,9,  -999.00,9,   -999.0,9,   -999.0,9,-999.0,9,  -999.00,0125
  49UF20171107,KS1708,5243,1,16,25250,2,20171115,0026,41.4945,138.009, 3692,   1216.3,   0.3481,  34.0701,2,-999.0000,9,    199.3,2,  -999.00,9,  -999.00,9,  -999.00,9,  -999.00,9,   -999.0,9,   -999.0,9,-999.0,9,  -999.00,0121
  49UF20171107,KS1708,5243,1,15,25249,2,20171115,0026,41.4945,138.009, 3692,   1416.6,   0.2934,  34.0693,2,  34.0715,4,    199.9,2,  -999.00,9,  -999.00,9,  -999.00,9,  -999.00,9,   -999.0,9,   -999.0,9,-999.0,9,  -999.00,0116
  49UF20171107,KS1708,5243,1,14,25248,2,20171115,0026,41.4945,138.009, 3692,   1618.5,   0.2555,  34.0687,2,-999.0000,9,    200.6,2,  -999.00,9,  -999.00,9,  -999.00,9,  -999.00,9,   -999.0,9,   -999.0,9,-999.0,9,  -999.00,0111
  49UF20171107,KS1708,5243,1,12,25246,2,20171115,0026,41.4945,138.009, 3692,   1823.9,   0.2383,  34.0684,2,  34.0686,2,    201.1,2,  -999.00,9,  -999.00,9,  -999.00,9,  -999.00,9,   -999.0,9,   -999.0,9,-999.0,9,  -999.00,0107
  49UF20171107,KS1708,5243,1,11,25245,2,20171115,0026,41.4945,138.009, 3692,   2029.3,   0.2349,  34.0682,2,-999.0000,9,    200.9,6,  -999.00,9,  -999.00,9,  -999.00,9,  -999.00,9,   -999.0,9,   -999.0,9,-999.0,9,  -999.00,0103
  49UF20171107,KS1708,5243,1,9,25243,2,20171115,0026,41.4945,138.009, 3692,   2281.5,   0.2411,  34.0682,2,  34.0680,2,    201.2,2,  -999.00,9,  -999.00,9,  -999.00,9,  -999.00,9,   -999.0,9,   -999.0,9,-999.0,9,  -999.00,0057
  49UF20171107,KS1708,5243,1,8,25242,2,20171115,0026,41.4945,138.009, 3692,   2535.3,   0.2507,  34.0682,2,-999.0000,9,    201.9,2,  -999.00,9,  -999.00,9,  -999.00,9,  -999.00,9,   -999.0,9,   -999.0,9,-999.0,9,  -999.00,0052
  49UF20171107,KS1708,5243,1,6,25240,2,20171115,0026,41.4945,138.009, 3692,   2791.2,   0.2633,  34.0682,2,  34.0683,2,    202.3,2,  -999.00,9,  -999.00,9,  -999.00,9,  -999.00,9,   -999.0,9,   -999.0,9,-999.0,9,  -999.00,0046
  49UF20171107,KS1708,5243,1,5,25239,2,20171115,0026,41.4945,138.009, 3692,   2791.2,   0.2632,  34.0682,2,  34.0682,2,    202.0,2,  -999.00,9,  -999.00,9,  -999.00,9,  -999.00,9,   -999.0,9,   -999.0,9,-999.0,9,  -999.00,0046
  49UF20171107,KS1708,5243,1,4,25238,2,20171115,0026,41.4945,138.009, 3692,   3046.1,   0.2853,  34.0682,2,-999.0000,9,    202.5,2,  -999.00,9,  -999.00,9,  -999.00,9,  -999.00,9,   -999.0,9,   -999.0,9,-999.0,9,  -999.00,0040
  49UF20171107,KS1708,5243,1,3,24271,2,20171115,0026,41.4945,138.009, 3692,   3302.6,   0.3087,  34.0682,2,  34.0689,2,    202.2,2,  -999.00,9,  -999.00,9,  -999.00,9,  -999.00,9,   -999.0,9,   -999.0,9,-999.0,9,  -999.00,0035
  49UF20171107,KS1708,5243,1,2,25236,2,20171115,0026,41.4945,138.009, 3692,   3560.2,   0.3335,  34.0680,2,-999.0000,9,    202.7,2,  -999.00,9,  -999.00,9,  -999.00,9,  -999.00,9,   -999.0,9,   -999.0,9,-999.0,9,  -999.00,0029
  49UF20171107,KS1708,5243,1,1,25235,2,20171115,0026,41.4945,138.009, 3692,   3685.7,   0.3458,  34.0681,2,  34.0684,2,    202.4,2,  -999.00,9,  -999.00,9,  -999.00,9,  -999.00,9,   -999.0,9,   -999.0,9,-999.0,9,  -999.00,0026
  49UF20171107,KS1708,5244,1,0,BUC,2,20171115,0633,40.8402,138.0295, 3658,      0.0,  12.5642,  34.0326,2,  34.0373,2,    263.9,2,     2.96,2,     0.06,2,     0.02,2,     0.05,2,   2042.0,2,   2278.0,2,7.9576,2,    25.00,0755
  49UF20171107,KS1708,5244,1,36,25270,2,20171115,0633,40.8402,138.0295, 3658,     11.0,  12.5645,  34.0327,2,  34.0320,2,    264.1,2,     2.94,2,     0.08,2,     0.01,2,     0.04,2,   2045.9,2,   2279.1,2,7.961,2,    25.00,0818
  49UF20171107,KS1708,5244,1,35,25269,2,20171115,0633,40.8402,138.0295, 3658,     27.0,  12.5798,  34.0317,2,  34.0317,2,    264.2,2,     2.96,2,     0.09,2,     0.01,2,     0.05,2,   2041.6,2,   2276.9,2,7.9566,2,    25.00,0816
  49UF20171107,KS1708,5244,1,34,25268,2,20171115,0633,40.8402,138.0295, 3658,     52.9,   6.9555,  34.0194,2,  34.0160,2,    267.2,2,     8.89,2,     7.54,2,     0.05,2,     0.58,2,   2110.3,2,   2266.4,2,7.7873,2,    25.00,0814
  49UF20171107,KS1708,5244,1,32,25266,2,20171115,0633,40.8402,138.0295, 3658,     78.8,   4.2134,  33.9905,2,  33.9881,2,    265.4,2,    14.62,2,    12.04,2,     0.01,2,     0.88,2,   2149.7,2,   2262.2,2,7.6898,2,    25.00,0812
  49UF20171107,KS1708,5244,1,31,25265,2,20171115,0633,40.8402,138.0295, 3658,    102.9,   2.8593,  33.9647,2,  33.9657,2,    290.6,2,    13.52,2,    11.23,2,     0.01,2,     0.82,2,   2152.0,2,   2257.7,2,7.6811,2,    25.00,0806
  49UF20171107,KS1708,5244,1,30,25264,2,20171115,0633,40.8402,138.0295, 3658,    127.0,   2.1739,  33.9753,2,  33.9796,2,    293.6,2,    14.86,2,    12.15,2,     0.01,2,     0.89,2,   2156.6,2,   2261.2,2,7.6584,2,    25.00,0805
  49UF20171107,KS1708,5244,1,29,25263,2,20171115,0633,40.8402,138.0295, 3658,    153.8,   1.8419,  33.9911,2,  33.9916,2,    289.2,2,    16.94,2,    13.20,2,     0.01,2,     0.98,2,   2166.4,2,   2260.5,2,7.6359,2,    25.00,0803
  49UF20171107,KS1708,5244,1,28,25262,2,20171115,0633,40.8402,138.0295, 3658,    203.9,   1.4242,  34.0152,2,  34.0145,2,    285.3,2,    19.62,2,    14.99,2,     0.01,2,     1.10,2,   2172.3,2,   2259.2,2,7.6064,2,    25.00,0801
  49UF20171107,KS1708,5244,1,27,25261,2,20171115,0633,40.8402,138.0295, 3658,    204.8,   1.4247,  34.0149,2,  34.0152,2,    285.2,2,    19.58,2,    15.06,2,     0.00,2,     1.10,2,   2175.4,2,   2261.4,2,7.6066,2,    25.00,0801
  49UF20171107,KS1708,5244,1,26,25260,2,20171115,0633,40.8402,138.0295, 3658,    254.0,   1.2379,  34.0336,2,  34.0337,2,    275.0,2,    22.84,2,    16.86,2,     0.01,2,     1.24,2,   2183.2,2,   2260.5,2,7.5764,2,    25.00,0758
  49UF20171107,KS1708,5244,1,25,25259,2,20171115,0633,40.8402,138.0295, 3658,    304.0,   1.0027,  34.0395,2,  34.0398,2,    272.2,2,    25.34,2,    17.71,2,     0.00,2,     1.32,2,   2197.0,2,   2262.5,2,7.5597,2,    25.00,0756
  49UF20171107,KS1708,5244,1,24,25258,2,20171115,0633,40.8402,138.0295, 3658,    408.4,   0.8379,  34.0585,2,  34.0594,2,    231.8,2,    35.06,2,    22.53,2,     0.00,2,     1.70,2,   2219.1,2,   2262.5,2,7.4665,2,    25.00,0753
  49UF20171107,KS1708,5244,1,23,25257,2,20171115,0633,40.8402,138.0295, 3658,    507.9,   0.7227,  34.0658,2,  34.0652,2,    213.6,2,    42.31,2,    24.38,2,     0.00,2,     1.87,2,   2232.2,2,   2261.8,2,7.4286,2,    25.00,0750
  49UF20171107,KS1708,5244,1,22,25256,2,20171115,0633,40.8402,138.0295, 3658,    611.8,   0.6208,  34.0701,2,  34.0715,2,    205.2,2,    48.45,2,    25.27,2,     0.00,2,     1.94,2,   2244.7,2,   2265.5,2,7.415,2,    25.00,0747
  49UF20171107,KS1708,5244,1,21,25255,2,20171115,0633,40.8402,138.0295, 3658,    707.7,   0.5384,  34.0715,2,  34.0722,2,    201.8,2,    53.15,2,    25.48,2,     0.00,2,     1.96,2,   2246.2,2,   2266.5,2,7.4138,2,    25.00,0743
  49UF20171107,KS1708,5244,1,20,24270,3,20171115,0633,40.8402,138.0295, 3658,    810.7,   0.4585,  34.0715,2,  34.0736,2,    200.3,6,    57.81,6,    25.59,6,     0.00,6,     1.97,6,   2249.6,2,   2268.9,2,7.4123,2,    25.00,0741
  49UF20171107,KS1708,5244,1,18,25252,2,20171115,0633,40.8402,138.0295, 3658,    911.0,   0.3996,  34.0711,2,  34.0710,2,    199.3,2,    61.35,2,    25.62,2,     0.00,2,     1.97,2,   2246.3,6,   2271.8,6,7.4132,2,    25.00,0737
  49UF20171107,KS1708,5244,1,17,25251,2,20171115,0633,40.8402,138.0295, 3658,   1012.3,   0.3562,  34.0707,2,  34.0714,2,    199.0,2,    64.42,2,    25.49,2,     0.00,2,     1.98,2,   2245.0,2,   2273.9,2,7.4145,6,    25.00,0734
  49UF20171107,KS1708,5244,1,16,25250,2,20171115,0633,40.8402,138.0295, 3658,   1213.7,   0.2952,  34.0697,2,  34.0722,4,    199.7,2,    68.80,2,    25.63,2,     0.00,2,     1.98,2,   2246.2,2,   2275.8,2,7.4237,2,    25.00,0729
  49UF20171107,KS1708,5244,1,15,25249,2,20171115,0633,40.8402,138.0295, 3658,   1415.5,   0.2572,  34.0690,2,  34.0724,4,    200.4,2,    72.75,2,    25.65,2,     0.00,2,     1.99,2,   2248.4,2,   2280.4,2,7.43,2,    25.00,0724
  49UF20171107,KS1708,5244,1,14,25248,2,20171115,0633,40.8402,138.0295, 3658,   1620.2,   0.2380,  34.0686,2,  34.0725,4,    200.6,6,    76.03,6,    25.59,6,     0.00,6,     1.99,6,   2249.3,2,   2279.4,2,7.4318,2,    25.00,0720
  49UF20171107,KS1708,5244,1,13,25247,2,20171115,0633,40.8402,138.0295, 3658,   1822.8,   0.2293,  34.0685,2,  34.0814,4,    200.7,2,    78.86,2,    25.59,2,     0.00,2,     2.00,2,   2250.3,2,   2280.9,2,7.4363,2,    25.00,0715
  49UF20171107,KS1708,5244,1,12,25246,2,20171115,0633,40.8402,138.0295, 3658,   2026.9,   0.2273,  34.0684,2,  34.0814,4,    201.1,2,    81.43,2,    25.72,2,     0.00,2,     2.00,2,   2251.6,2,   2282.1,6,7.4366,2,    25.00,0710
  49UF20171107,KS1708,5244,1,10,25244,2,20171115,0633,40.8402,138.0295, 3658,   2284.4,   0.2334,  34.0683,2,  34.0728,4,    201.7,2,    83.66,2,    25.71,2,     0.00,2,     2.00,2,   2251.2,2,   2284.6,2,7.4401,2,    25.00,0704
  49UF20171107,KS1708,5244,1,11,25245,2,20171115,0633,40.8402,138.0295, 3658,   2284.5,   0.2334,  34.0684,2,  34.0717,4,    201.6,2,    83.77,2,    25.54,2,     0.00,2,     2.00,2,   2248.9,2,   2283.6,2,7.4422,6,    25.00,0704
  49UF20171107,KS1708,5244,1,6,25240,2,20171115,0633,40.8402,138.0295, 3658,   2534.9,   0.2421,  34.0684,2,  34.0706,4,    202.3,2,    86.73,2,    25.69,2,     0.00,2,     2.01,2,   2253.1,2,   2289.6,2,7.4478,2,    25.00,0657
  49UF20171107,KS1708,5244,1,5,25239,2,20171115,0633,40.8402,138.0295, 3658,   2790.6,   0.2630,  34.0684,2,  34.0711,4,    202.3,2,    86.80,2,    25.84,2,     0.00,2,     2.01,2,   2251.8,6,   2287.6,6,7.4469,2,    25.00,0652
  49UF20171107,KS1708,5244,1,4,25238,2,20171115,0633,40.8402,138.0295, 3658,   3045.1,   0.2851,  34.0685,2,  34.0708,4,    202.2,2,    86.78,2,    25.73,2,     0.00,2,     2.01,2,   2251.0,2,   2285.7,2,7.4459,6,    25.00,0646
  49UF20171107,KS1708,5244,1,3,24271,2,20171115,0633,40.8402,138.0295, 3658,   3303.0,   0.3087,  34.0682,2,  34.0718,4,    202.4,2,    86.79,2,    25.84,2,     0.00,2,     2.01,2,   2250.9,2,   2286.0,2,7.449,2,    25.00,0641
  49UF20171107,KS1708,5244,1,2,25236,2,20171115,0633,40.8402,138.0295, 3658,   3558.1,   0.3332,  34.0682,2,  34.0680,6,    202.4,2,    86.83,2,    25.88,2,     0.00,2,     2.01,2,   2250.6,2,   2286.2,2,7.4477,2,    25.00,0635
  49UF20171107,KS1708,5244,1,1,25235,2,20171115,0633,40.8402,138.0295, 3658,   3647.5,   0.3420,  34.0682,2,  34.0682,6,    202.4,2,    86.63,2,    25.75,2,     0.00,2,     2.01,2,   2250.2,2,   2288.3,2,7.4496,2,    25.00,0633