BOTTLE,20240319CCHSIOADS
EXPOCODE,SECT_ID,STNNBR,CASTNO,SAMPNO,BTLNBR,BTLNBR_FLAG_W,DATE,TIME,LATITUDE,LONGITUDE,DEPTH,CTDPRS,CTDTMP,CTDSAL,CTDSAL_FLAG_W,SALNTY,SALNTY_FLAG_W,OXYGEN,OXYGEN_FLAG_W,SILCAT,SILCAT_FLAG_W,NITRAT,NITRAT_FLAG_W,NITRIT,NITRIT_FLAG_W,PHSPHT,PHSPHT_FLAG_W,TCARBN,TCARBN_FLAG_W,ALKALI,ALKALI_FLAG_W,PH_TOT,PH_TOT_FLAG_W,PH_TMP,BTL_TIME
,,,,,,,,,,,METERS,DBAR,ITS-90,PSS-78,,PSS-78,,UMOL/KG,,UMOL/KG,,UMOL/KG,,UMOL/KG,,UMOL/KG,,UMOL/KG,,UMOL/KG,,,,DEG C,
  49UF20171107,KS1708,5245,1,0,BUC,2,20171115,1301,40.5008,137.686, 3133,      0.0,  14.5397,  34.0377,2,-999.0000,9,    245.2,2,  -999.00,9,  -999.00,9,  -999.00,9,  -999.00,9,   -999.0,9,   -999.0,9,-999.0,9,  -999.00,1353
  49UF20171107,KS1708,5245,1,36,25270,2,20171115,1301,40.5008,137.686, 3133,     10.8,  14.5214,  34.0371,2,-999.0000,9,    246.7,2,  -999.00,9,  -999.00,9,  -999.00,9,  -999.00,9,   -999.0,9,   -999.0,9,-999.0,9,  -999.00,1417
  49UF20171107,KS1708,5245,1,35,25269,2,20171115,1301,40.5008,137.686, 3133,     27.0,  14.2606,  34.0310,2,-999.0000,9,    248.0,2,  -999.00,9,  -999.00,9,  -999.00,9,  -999.00,9,   -999.0,9,   -999.0,9,-999.0,9,  -999.00,1415
  49UF20171107,KS1708,5245,1,34,25268,2,20171115,1301,40.5008,137.686, 3133,     52.7,  12.6605,  34.1012,2,-999.0000,9,    248.2,2,  -999.00,9,  -999.00,9,  -999.00,9,  -999.00,9,   -999.0,9,   -999.0,9,-999.0,9,  -999.00,1412
  49UF20171107,KS1708,5245,1,32,25266,2,20171115,1301,40.5008,137.686, 3133,     79.1,   8.5426,  34.1071,2,  34.1420,4,    249.2,6,  -999.00,9,  -999.00,9,  -999.00,9,  -999.00,9,   -999.0,9,   -999.0,9,-999.0,9,  -999.00,1410
  49UF20171107,KS1708,5245,1,31,25265,2,20171115,1301,40.5008,137.686, 3133,    104.5,   5.9151,  34.0320,2,-999.0000,9,    254.1,2,  -999.00,9,  -999.00,9,  -999.00,9,  -999.00,9,   -999.0,9,   -999.0,9,-999.0,9,  -999.00,1409
  49UF20171107,KS1708,5245,1,30,25264,2,20171115,1301,40.5008,137.686, 3133,    130.4,   3.9853,  34.0086,2,  34.0081,2,    260.9,2,  -999.00,9,  -999.00,9,  -999.00,9,  -999.00,9,   -999.0,9,   -999.0,9,-999.0,9,  -999.00,1408
  49UF20171107,KS1708,5245,1,28,25262,2,20171115,1301,40.5008,137.686, 3133,    157.3,   2.4386,  34.0013,2,-999.0000,9,    266.6,2,  -999.00,9,  -999.00,9,  -999.00,9,  -999.00,9,   -999.0,9,   -999.0,9,-999.0,9,  -999.00,1406
  49UF20171107,KS1708,5245,1,29,25263,2,20171115,1301,40.5008,137.686, 3133,    158.2,   2.3872,  34.0019,2,-999.0000,9,    266.6,2,  -999.00,9,  -999.00,9,  -999.00,9,  -999.00,9,   -999.0,9,   -999.0,9,-999.0,9,  -999.00,1406
  49UF20171107,KS1708,5245,1,27,25261,2,20171115,1301,40.5008,137.686, 3133,    208.0,   1.4748,  34.0110,2,  34.0087,2,    286.6,2,  -999.00,9,  -999.00,9,  -999.00,9,  -999.00,9,   -999.0,9,   -999.0,9,-999.0,9,  -999.00,1403
  49UF20171107,KS1708,5245,1,26,25260,2,20171115,1301,40.5008,137.686, 3133,    258.2,   1.1976,  34.0294,2,-999.0000,9,    281.5,2,  -999.00,9,  -999.00,9,  -999.00,9,  -999.00,9,   -999.0,9,   -999.0,9,-999.0,9,  -999.00,1401
  49UF20171107,KS1708,5245,1,25,25259,2,20171115,1301,40.5008,137.686, 3133,    308.2,   1.0497,  34.0399,2,  34.0401,2,    265.7,2,  -999.00,9,  -999.00,9,  -999.00,9,  -999.00,9,   -999.0,9,   -999.0,9,-999.0,9,  -999.00,1358
  49UF20171107,KS1708,5245,1,22,25256,2,20171115,1301,40.5008,137.686, 3133,    409.2,   0.8546,  34.0554,2,-999.0000,9,    236.7,6,  -999.00,9,  -999.00,9,  -999.00,9,  -999.00,9,   -999.0,9,   -999.0,9,-999.0,9,  -999.00,1354
  49UF20171107,KS1708,5245,1,21,25255,2,20171115,1301,40.5008,137.686, 3133,    511.0,   0.7065,  34.0665,2,  34.0659,2,    211.8,2,  -999.00,9,  -999.00,9,  -999.00,9,  -999.00,9,   -999.0,9,   -999.0,9,-999.0,9,  -999.00,1350
  49UF20171107,KS1708,5245,1,20,24270,2,20171115,1301,40.5008,137.686, 3133,    609.8,   0.6025,  34.0697,2,-999.0000,9,    204.2,2,  -999.00,9,  -999.00,9,  -999.00,9,  -999.00,9,   -999.0,9,   -999.0,9,-999.0,9,  -999.00,1347
  49UF20171107,KS1708,5245,1,19,25253,2,20171115,1301,40.5008,137.686, 3133,    708.8,   0.5124,  34.0706,2,  34.0704,2,    201.4,2,  -999.00,9,  -999.00,9,  -999.00,9,  -999.00,9,   -999.0,9,   -999.0,9,-999.0,9,  -999.00,1344
  49UF20171107,KS1708,5245,1,18,25252,2,20171115,1301,40.5008,137.686, 3133,    809.1,   0.4354,  34.0707,2,-999.0000,9,    199.9,2,  -999.00,9,  -999.00,9,  -999.00,9,  -999.00,9,   -999.0,9,   -999.0,9,-999.0,9,  -999.00,1341
  49UF20171107,KS1708,5245,1,17,25251,2,20171115,1301,40.5008,137.686, 3133,    910.6,   0.3813,  34.0705,2,  34.0703,2,    199.1,2,  -999.00,9,  -999.00,9,  -999.00,9,  -999.00,9,   -999.0,9,   -999.0,9,-999.0,9,  -999.00,1339
  49UF20171107,KS1708,5245,1,16,25250,3,20171115,1301,40.5008,137.686, 3133,   1010.9,   0.3414,  34.0701,2,-999.0000,9,    198.8,2,  -999.00,9,  -999.00,9,  -999.00,9,  -999.00,9,   -999.0,9,   -999.0,9,-999.0,9,  -999.00,1337
  49UF20171107,KS1708,5245,1,15,25249,2,20171115,1301,40.5008,137.686, 3133,   1211.3,   0.2882,  34.0694,2,  34.0696,2,    198.2,2,  -999.00,9,  -999.00,9,  -999.00,9,  -999.00,9,   -999.0,9,   -999.0,9,-999.0,9,  -999.00,1333
  49UF20171107,KS1708,5245,1,14,25248,2,20171115,1301,40.5008,137.686, 3133,   1412.8,   0.2549,  34.0690,2,-999.0000,9,    198.6,2,  -999.00,9,  -999.00,9,  -999.00,9,  -999.00,9,   -999.0,9,   -999.0,9,-999.0,9,  -999.00,1329
  49UF20171107,KS1708,5245,1,13,25247,2,20171115,1301,40.5008,137.686, 3133,   1616.0,   0.2391,  34.0685,2,-999.0000,9,    198.5,2,  -999.00,9,  -999.00,9,  -999.00,9,  -999.00,9,   -999.0,9,   -999.0,9,-999.0,9,  -999.00,1326
  49UF20171107,KS1708,5245,1,12,25246,2,20171115,1301,40.5008,137.686, 3133,   1818.1,   0.2292,  34.0683,2,-999.0000,9,    199.0,2,  -999.00,9,  -999.00,9,  -999.00,9,  -999.00,9,   -999.0,9,   -999.0,9,-999.0,9,  -999.00,1322
  49UF20171107,KS1708,5245,1,11,25245,2,20171115,1301,40.5008,137.686, 3133,   2018.2,   0.2295,  34.0684,2,-999.0000,9,    199.0,2,  -999.00,9,  -999.00,9,  -999.00,9,  -999.00,9,   -999.0,9,   -999.0,9,-999.0,9,  -999.00,1319
  49UF20171107,KS1708,5245,1,10,25244,2,20171115,1301,40.5008,137.686, 3133,   2019.4,   0.2295,  34.0684,2,-999.0000,9,    199.3,2,  -999.00,9,  -999.00,9,  -999.00,9,  -999.00,9,   -999.0,9,   -999.0,9,-999.0,9,  -999.00,1319
  49UF20171107,KS1708,5245,1,9,25243,2,20171115,1301,40.5008,137.686, 3133,   2020.8,   0.2297,  34.0683,2,-999.0000,9,    199.1,2,  -999.00,9,  -999.00,9,  -999.00,9,  -999.00,9,   -999.0,9,   -999.0,9,-999.0,9,  -999.00,1319
  49UF20171107,KS1708,5245,1,8,25242,2,20171115,1301,40.5008,137.686, 3133,   2274.8,   0.2345,  34.0681,2,-999.0000,9,    200.1,2,  -999.00,9,  -999.00,9,  -999.00,9,  -999.00,9,   -999.0,9,   -999.0,9,-999.0,9,  -999.00,1315
  49UF20171107,KS1708,5245,1,3,24271,2,20171115,1301,40.5008,137.686, 3133,   2530.5,   0.2477,  34.0681,2,  34.0683,2,    200.7,2,  -999.00,9,  -999.00,9,  -999.00,9,  -999.00,9,   -999.0,9,   -999.0,9,-999.0,9,  -999.00,1311
  49UF20171107,KS1708,5245,1,2,25236,2,20171115,1301,40.5008,137.686, 3133,   2784.5,   0.2664,  34.0681,2,-999.0000,9,    201.0,2,  -999.00,9,  -999.00,9,  -999.00,9,  -999.00,9,   -999.0,9,   -999.0,9,-999.0,9,  -999.00,1306
  49UF20171107,KS1708,5245,1,1,25235,2,20171115,1301,40.5008,137.686, 3133,   3107.4,   0.2947,  34.0681,2,  34.0683,2,    200.8,2,  -999.00,9,  -999.00,9,  -999.00,9,  -999.00,9,   -999.0,9,   -999.0,9,-999.0,9,  -999.00,1301
  49UF20171107,KS1708,5246,1,0,BUC,2,20171115,1813,39.9977,137.7687, 2730,      0.0,  16.8466,  34.1290,2,-999.0000,9,    238.9,2,     2.29,2,     0.44,2,     0.16,2,     0.08,2,   -999.0,9,   -999.0,9,-999.0,9,  -999.00,1905
  49UF20171107,KS1708,5246,1,34,25268,2,20171115,1813,39.9977,137.7687, 2730,     11.1,  16.8513,  34.1290,2,  34.1282,2,    238.0,6,     2.36,6,     0.43,6,     0.19,6,     0.08,6,   -999.0,9,   -999.0,9,-999.0,9,  -999.00,1934
  49UF20171107,KS1708,5246,1,33,25267,2,20171115,1813,39.9977,137.7687, 2730,     26.3,  16.8693,  34.1304,2,-999.0000,9,    238.2,2,     2.37,2,     0.48,2,     0.19,2,     0.08,2,   -999.0,9,   -999.0,9,-999.0,9,  -999.00,1933
  49UF20171107,KS1708,5246,1,32,25266,2,20171115,1813,39.9977,137.7687, 2730,     52.3,  16.8687,  34.1350,2,  34.1314,2,    238.0,2,     2.39,2,     0.55,2,     0.18,2,     0.08,2,   -999.0,9,   -999.0,9,-999.0,9,  -999.00,1931
  49UF20171107,KS1708,5246,1,30,25264,2,20171115,1813,39.9977,137.7687, 2730,     76.4,  16.7568,  34.4184,2,-999.0000,9,    220.8,2,     4.84,2,     2.80,2,     0.15,2,     0.23,2,   -999.0,9,   -999.0,9,-999.0,9,  -999.00,1928
  49UF20171107,KS1708,5246,1,31,25265,2,20171115,1813,39.9977,137.7687, 2730,     76.5,  16.7261,  34.4430,2,-999.0000,9,    222.1,2,     4.62,2,     2.64,2,     0.16,2,     0.23,2,   -999.0,9,   -999.0,9,-999.0,9,  -999.00,1929
  49UF20171107,KS1708,5246,1,27,25261,2,20171115,1813,39.9977,137.7687, 2730,    101.6,  14.6750,  34.4765,2,-999.0000,9,    210.7,2,     8.16,2,     5.59,2,     0.03,2,     0.43,2,   -999.0,9,   -999.0,9,-999.0,9,  -999.00,1923
  49UF20171107,KS1708,5246,1,26,25260,2,20171115,1813,39.9977,137.7687, 2730,    127.1,  11.6160,  34.2853,2,-999.0000,9,    241.4,2,     5.52,2,     5.32,2,     0.03,2,     0.39,2,   -999.0,9,   -999.0,9,-999.0,9,  -999.00,1922
  49UF20171107,KS1708,5246,1,25,25259,2,20171115,1813,39.9977,137.7687, 2730,    153.0,  10.0553,  34.1954,2,-999.0000,9,    247.7,2,     7.57,2,     7.02,2,     0.02,2,     0.49,2,   -999.0,9,   -999.0,9,-999.0,9,  -999.00,1920
  49UF20171107,KS1708,5246,1,23,25257,2,20171115,1813,39.9977,137.7687, 2730,    205.8,   3.8504,  34.0033,2,-999.0000,9,    272.6,2,    13.91,2,    11.52,2,     0.01,2,     0.84,2,   -999.0,9,   -999.0,9,-999.0,9,  -999.00,1918
  49UF20171107,KS1708,5246,1,22,25256,2,20171115,1813,39.9977,137.7687, 2730,    254.0,   2.2356,  34.0182,2,  34.0179,2,    252.6,2,    24.20,2,    17.01,2,     0.01,2,     1.26,2,   -999.0,9,   -999.0,9,-999.0,9,  -999.00,1916
  49UF20171107,KS1708,5246,1,20,24270,2,20171115,1813,39.9977,137.7687, 2730,    302.7,   1.3369,  34.0272,2,-999.0000,9,    266.9,2,    24.30,2,    17.54,2,     0.00,2,     1.29,2,   -999.0,9,   -999.0,9,-999.0,9,  -999.00,1914
  49UF20171107,KS1708,5246,1,19,25253,2,20171115,1813,39.9977,137.7687, 2730,    405.7,   0.9586,  34.0527,2,-999.0000,9,    234.3,2,    34.33,2,    21.75,2,     0.00,2,     1.64,2,   -999.0,9,   -999.0,9,-999.0,9,  -999.00,1911
  49UF20171107,KS1708,5246,1,17,25251,2,20171115,1813,39.9977,137.7687, 2730,    507.3,   0.7796,  34.0629,2,-999.0000,9,    217.5,2,    40.68,2,    24.00,2,     0.00,2,     1.82,2,   -999.0,9,   -999.0,9,-999.0,9,  -999.00,1908
  49UF20171107,KS1708,5246,1,16,25250,2,20171115,1813,39.9977,137.7687, 2730,    611.6,   0.6358,  34.0689,2,  34.0684,2,    206.5,2,    47.79,2,    24.91,2,     0.00,2,     1.92,2,   -999.0,9,   -999.0,9,-999.0,9,  -999.00,1905
  49UF20171107,KS1708,5246,1,15,25249,2,20171115,1813,39.9977,137.7687, 2730,    709.3,   0.5416,  34.0709,2,-999.0000,9,    200.4,3,    53.05,2,    25.43,2,     0.00,2,     1.95,2,   -999.0,9,   -999.0,9,-999.0,9,  -999.00,1901
  49UF20171107,KS1708,5246,1,13,25247,2,20171115,1813,39.9977,137.7687, 2730,    807.6,   0.4708,  34.0711,2,-999.0000,9,    200.7,2,    57.10,2,    25.51,2,     0.00,2,     1.96,2,   -999.0,9,   -999.0,9,-999.0,9,  -999.00,1857
  49UF20171107,KS1708,5246,1,14,25248,2,20171115,1813,39.9977,137.7687, 2730,    808.3,   0.4702,  34.0711,2,-999.0000,9,    200.3,2,    57.42,2,    25.47,2,     0.00,2,     1.96,2,   -999.0,9,   -999.0,9,-999.0,9,  -999.00,1858
  49UF20171107,KS1708,5246,1,12,25246,2,20171115,1813,39.9977,137.7687, 2730,    905.4,   0.4148,  34.0709,2,-999.0000,9,    199.3,2,    61.39,2,    25.56,2,     0.00,2,     1.97,2,   -999.0,9,   -999.0,9,-999.0,9,  -999.00,1855
  49UF20171107,KS1708,5246,1,11,25245,2,20171115,1813,39.9977,137.7687, 2730,   1010.7,   0.3633,  34.0706,2,  34.0696,2,    198.8,2,    65.54,2,    25.49,2,     0.00,2,     1.98,2,   -999.0,9,   -999.0,9,-999.0,9,  -999.00,1852
  49UF20171107,KS1708,5246,1,10,25244,2,20171115,1813,39.9977,137.7687, 2730,   1212.2,   0.3030,  34.0699,2,-999.0000,9,    198.4,2,    70.89,2,    25.67,2,     0.00,2,     1.99,2,   -999.0,9,   -999.0,9,-999.0,9,  -999.00,1847
  49UF20171107,KS1708,5246,1,9,25243,2,20171115,1813,39.9977,137.7687, 2730,   1415.7,   0.2677,  34.0694,2,  34.0694,2,    198.4,2,    75.01,2,    25.44,2,     0.00,2,     1.99,2,   -999.0,9,   -999.0,9,-999.0,9,  -999.00,1843
  49UF20171107,KS1708,5246,1,8,25242,2,20171115,1813,39.9977,137.7687, 2730,   1622.3,   0.2441,  34.0690,2,-999.0000,9,    198.3,2,    78.26,2,    25.68,2,     0.00,2,     2.00,2,   -999.0,9,   -999.0,9,-999.0,9,  -999.00,1838
  49UF20171107,KS1708,5246,1,6,25240,2,20171115,1813,39.9977,137.7687, 2730,   1825.8,   0.2341,  34.0689,2,  34.0683,2,    198.4,2,    82.19,2,    25.57,2,     0.00,2,     2.01,2,   -999.0,9,   -999.0,9,-999.0,9,  -999.00,1833
  49UF20171107,KS1708,5246,1,5,25239,2,20171115,1813,39.9977,137.7687, 2730,   2026.1,   0.2349,  34.0687,2,-999.0000,9,    198.5,2,    83.41,2,    25.69,2,     0.00,2,     2.01,2,   -999.0,9,   -999.0,9,-999.0,9,  -999.00,1829
  49UF20171107,KS1708,5246,1,4,25238,2,20171115,1813,39.9977,137.7687, 2730,   2283.9,   0.2385,  34.0686,2,  34.0679,2,    199.3,2,    85.45,2,    25.79,2,     0.00,2,     2.01,2,   -999.0,9,   -999.0,9,-999.0,9,  -999.00,1823
  49UF20171107,KS1708,5246,1,3,24271,2,20171115,1813,39.9977,137.7687, 2730,   2535.1,   0.2495,  34.0685,2,-999.0000,9,    200.0,6,    87.17,6,    25.79,6,     0.00,6,     2.02,6,   -999.0,9,   -999.0,9,-999.0,9,  -999.00,1817
  49UF20171107,KS1708,5246,1,2,25236,2,20171115,1813,39.9977,137.7687, 2730,   2706.0,   0.2615,  34.0683,2,  34.0682,2,    200.8,2,    87.32,2,    25.71,2,     0.00,2,     2.01,2,   -999.0,9,   -999.0,9,-999.0,9,  -999.00,1813