BOTTLE,20240319CCHSIOADS
EXPOCODE,SECT_ID,STNNBR,CASTNO,SAMPNO,BTLNBR,BTLNBR_FLAG_W,DATE,TIME,LATITUDE,LONGITUDE,DEPTH,CTDPRS,CTDTMP,CTDSAL,CTDSAL_FLAG_W,SALNTY,SALNTY_FLAG_W,OXYGEN,OXYGEN_FLAG_W,SILCAT,SILCAT_FLAG_W,NITRAT,NITRAT_FLAG_W,NITRIT,NITRIT_FLAG_W,PHSPHT,PHSPHT_FLAG_W,TCARBN,TCARBN_FLAG_W,ALKALI,ALKALI_FLAG_W,PH_TOT,PH_TOT_FLAG_W,PH_TMP,BTL_TIME
,,,,,,,,,,,METERS,DBAR,ITS-90,PSS-78,,PSS-78,,UMOL/KG,,UMOL/KG,,UMOL/KG,,UMOL/KG,,UMOL/KG,,UMOL/KG,,UMOL/KG,,,,DEG C,
  49UF20171107,KS1708,5251,1,0,BUC,2,20171117,1803,36.1535,135.8348,  235,      0.0,  18.6875,  33.7883,2,-999.0000,9,    228.0,2,     2.60,2,     0.88,2,     0.42,2,     0.10,2,   -999.0,9,   -999.0,9,-999.0,9,  -999.00,1815
  49UF20171107,KS1708,5251,1,27,25261,2,20171117,1803,36.1535,135.8348,  235,     11.7,  18.6979,  33.7889,2,  33.7878,2,    227.6,2,     2.59,2,     0.84,2,     0.42,2,     0.10,2,   -999.0,9,   -999.0,9,-999.0,9,  -999.00,1819
  49UF20171107,KS1708,5251,1,26,25260,2,20171117,1803,36.1535,135.8348,  235,     11.8,  18.6942,  33.7885,2,  33.7876,2,    227.5,2,     2.59,2,     0.85,2,     0.42,2,     0.10,2,   -999.0,9,   -999.0,9,-999.0,9,  -999.00,1819
  49UF20171107,KS1708,5251,1,15,25249,2,20171117,1803,36.1535,135.8348,  235,     26.2,  18.7089,  33.7894,2,  33.7878,2,    227.3,6,     2.61,6,     0.87,6,     0.42,6,     0.10,6,   -999.0,9,   -999.0,9,-999.0,9,  -999.00,1817
  49UF20171107,KS1708,5251,1,14,25248,2,20171117,1803,36.1535,135.8348,  235,     51.8,  18.7015,  33.7869,2,  33.7873,2,    227.5,2,     2.58,2,     0.85,2,     0.42,2,     0.10,2,   -999.0,9,   -999.0,9,-999.0,9,  -999.00,1815
  49UF20171107,KS1708,5251,1,13,25247,2,20171117,1803,36.1535,135.8348,  235,     77.2,  18.7075,  33.7875,2,  33.7895,2,    226.6,2,     2.63,2,     0.86,2,     0.42,2,     0.10,2,   -999.0,9,   -999.0,9,-999.0,9,  -999.00,1813
  49UF20171107,KS1708,5251,1,11,25245,2,20171117,1803,36.1535,135.8348,  235,    102.8,  18.2843,  34.2912,2,  34.2995,2,    171.4,2,    10.86,2,     7.67,2,     0.12,2,     0.53,2,   -999.0,9,   -999.0,9,-999.0,9,  -999.00,1811
  49UF20171107,KS1708,5251,1,9,25243,2,20171117,1803,36.1535,135.8348,  235,    127.2,  15.1802,  34.4644,2,  34.4685,2,    197.4,2,    10.47,2,     6.94,2,     0.04,2,     0.51,2,   -999.0,9,   -999.0,9,-999.0,9,  -999.00,1809
  49UF20171107,KS1708,5251,1,10,25244,2,20171117,1803,36.1535,135.8348,  235,    127.4,  15.4320,  34.4612,2,  34.4705,2,    196.9,2,    10.49,2,     6.98,2,     0.04,2,     0.51,2,   -999.0,9,   -999.0,9,-999.0,9,  -999.00,1809
  49UF20171107,KS1708,5251,1,8,25242,2,20171117,1803,36.1535,135.8348,  235,    153.0,  11.0340,  34.2865,2,  34.2674,6,    238.1,2,     8.73,2,     7.43,2,     0.02,2,     0.53,2,   -999.0,9,   -999.0,9,-999.0,9,  -999.00,1807
  49UF20171107,KS1708,5251,1,3,24271,2,20171117,1803,36.1535,135.8348,  235,    203.7,   3.8353,  34.0453,2,  34.0446,6,    242.6,6,    24.13,6,    15.43,6,     0.02,6,     1.18,6,   -999.0,9,   -999.0,9,-999.0,9,  -999.00,1804
  49UF20171107,KS1708,5251,1,2,25236,2,20171117,1803,36.1535,135.8348,  235,    219.5,   2.3689,  34.0315,2,  34.0312,6,    234.8,2,    30.28,2,    18.16,2,     0.02,2,     1.42,2,   -999.0,9,   -999.0,9,-999.0,9,  -999.00,1803
  49UF20171107,KS1708,5252,1,0,BUC,2,20171119,2252,37.78,134.7307, 2983,      0.0,  17.3996,  33.8817,2,  33.8796,2,    232.6,2,     2.47,2,     0.92,2,     0.37,2,     0.10,2,   2012.8,2,   2276.2,2,8.0138,2,    25.00,2350
  49UF20171107,KS1708,5252,1,36,25270,2,20171119,2252,37.78,134.7307, 2983,     12.2,  17.3983,  33.8804,2,  33.8821,2,    231.7,2,     2.47,2,     0.96,2,     0.37,2,     0.10,2,   2007.3,2,   2271.8,2,8.0105,2,    25.00,0004
  49UF20171107,KS1708,5252,1,35,25269,2,20171119,2252,37.78,134.7307, 2983,     26.2,  17.4039,  33.8789,2,  33.8780,2,    231.4,2,     2.42,2,     0.97,2,     0.37,2,     0.10,2,   2009.9,2,   2275.1,2,8.0109,2,    25.00,0003
  49UF20171107,KS1708,5252,1,34,25268,2,20171119,2252,37.78,134.7307, 2983,     55.8,  17.3904,  33.8742,2,  33.8777,2,    232.2,2,     2.49,2,     0.96,2,     0.37,2,     0.10,2,   2009.3,2,   2276.5,2,8.0102,2,    25.00,2359
  49UF20171107,KS1708,5252,1,33,25267,2,20171119,2252,37.78,134.7307, 2983,     75.1,  17.3898,  33.8777,2,  33.8762,2,    231.6,2,     2.49,2,     0.94,2,     0.37,2,     0.10,2,   2007.9,2,   2273.3,2,8.0137,2,    25.00,2358
  49UF20171107,KS1708,5252,1,32,25266,2,20171119,2252,37.78,134.7307, 2983,    104.9,  16.2695,  34.5609,2,  34.5566,2,    202.7,2,     7.23,2,     5.36,2,     0.04,2,     0.40,2,   2062.3,2,   2284.4,2,7.9233,2,    25.00,2357
  49UF20171107,KS1708,5252,1,31,25265,2,20171119,2252,37.78,134.7307, 2983,    105.3,  16.2581,  34.5624,2,  34.5512,2,    202.4,2,     7.12,2,     5.31,2,     0.04,2,     0.40,2,   2063.2,2,   2285.8,2,7.9216,2,    25.00,2357
  49UF20171107,KS1708,5252,1,30,25264,3,20171119,2252,37.78,134.7307, 2983,    128.5,  14.0196,  34.5131,2,  34.5286,2,    219.0,2,     5.68,2,     4.50,2,     0.03,2,     0.36,2,   2064.4,2,   2282.1,2,7.9161,2,    25.00,2356
  49UF20171107,KS1708,5252,1,29,25263,3,20171119,2252,37.78,134.7307, 2983,    152.1,  11.6505,  34.2828,2,  34.2812,2,    242.9,2,     4.95,2,     5.34,2,     0.02,2,     0.37,2,   2063.2,2,   2276.2,2,7.8987,2,    25.00,2355
  49UF20171107,KS1708,5252,1,28,25262,2,20171119,2252,37.78,134.7307, 2983,    201.6,   5.8239,  34.0381,2,  34.0253,2,    258.2,2,    14.01,2,    11.00,2,     0.01,2,     0.81,2,   2129.0,2,   2262.8,2,7.7264,2,    25.00,2353
  49UF20171107,KS1708,5252,1,24,25258,3,20171119,2252,37.78,134.7307, 2983,    253.2,   2.9182,  33.9823,2,  33.9870,2,    265.6,2,    18.27,2,    14.16,2,     0.00,2,     1.04,2,   2160.1,6,   2259.3,6,7.6356,2,    25.00,2351
  49UF20171107,KS1708,5252,1,23,25257,2,20171119,2252,37.78,134.7307, 2983,    301.5,   1.5972,  34.0296,2,  34.0308,2,    240.9,2,    29.58,2,    19.50,2,     0.00,2,     1.46,2,   2198.8,2,   2260.5,2,7.5298,2,    25.00,2350
  49UF20171107,KS1708,5252,1,22,25256,2,20171119,2252,37.78,134.7307, 2983,    404.1,   0.9048,  34.0567,2,  34.0570,2,    219.1,2,    39.11,2,    23.41,2,     0.00,2,     1.76,2,   2225.4,2,   2263.9,2,7.4517,6,    25.00,2348
  49UF20171107,KS1708,5252,1,21,25255,2,20171119,2252,37.78,134.7307, 2983,    507.7,   0.7360,  34.0643,2,  34.0648,2,    209.6,6,    44.93,6,    24.49,6,     0.00,6,     1.87,6,   2235.3,2,   2265.3,2,7.4286,2,    25.00,2345
  49UF20171107,KS1708,5252,1,20,24270,3,20171119,2252,37.78,134.7307, 2983,    609.5,   0.5921,  34.0688,2,  34.0699,2,    203.3,2,    51.58,2,    25.16,2,     0.00,2,     1.94,2,   2241.6,6,   2266.5,6,7.4169,2,    25.00,2343
  49UF20171107,KS1708,5252,1,19,25253,2,20171119,2252,37.78,134.7307, 2983,    710.3,   0.4836,  34.0703,2,  34.0705,2,    200.6,2,    57.22,2,    25.30,2,     0.00,2,     1.95,2,   2242.2,2,   2269.3,2,7.4125,6,    25.00,2340
  49UF20171107,KS1708,5252,1,18,25252,2,20171119,2252,37.78,134.7307, 2983,    811.1,   0.4146,  34.0704,2,  34.0719,2,    199.6,2,    61.36,2,    25.33,2,     0.00,2,     1.96,2,   2246.0,2,   2271.4,2,7.4187,2,    25.00,2338
  49UF20171107,KS1708,5252,1,17,25251,2,20171119,2252,37.78,134.7307, 2983,    910.6,   0.3615,  34.0701,2,  34.0706,2,    199.3,2,    65.00,2,    25.48,2,     0.00,2,     1.97,2,   2247.8,2,   2273.9,2,7.4205,2,    25.00,2336
  49UF20171107,KS1708,5252,1,16,25250,2,20171119,2252,37.78,134.7307, 2983,   1013.2,   0.3204,  34.0696,2,-999.0000,9,   -999.0,9,  -999.00,9,  -999.00,9,  -999.00,9,  -999.00,9,   -999.0,9,   -999.0,9,-999.0,9,  -999.00,2333
  49UF20171107,KS1708,5252,1,15,25249,2,20171119,2252,37.78,134.7307, 2983,   1013.9,   0.3205,  34.0698,2,  34.0695,2,    198.9,2,    68.20,2,    25.36,2,     0.00,2,     1.97,2,   2247.1,2,   2274.6,2,7.4201,2,    25.00,2333
  49UF20171107,KS1708,5252,1,14,25248,2,20171119,2252,37.78,134.7307, 2983,   1215.6,   0.2689,  34.0691,2,  34.0690,2,    198.8,2,    73.33,2,    25.46,2,     0.00,2,     1.98,2,   2249.3,2,   2276.0,2,7.4241,2,    25.00,2329
  49UF20171107,KS1708,5252,1,13,25247,3,20171119,2252,37.78,134.7307, 2983,   1417.6,   0.2441,  34.0688,2,  34.0691,2,    199.1,2,    76.73,2,    25.53,2,     0.00,2,     1.99,2,   2248.2,2,   2280.5,2,7.4282,2,    25.00,2324
  49UF20171107,KS1708,5252,1,12,25246,2,20171119,2252,37.78,134.7307, 2983,   1619.1,   0.2330,  34.0684,2,  34.0684,2,    198.8,2,    79.87,2,    25.43,2,     0.00,2,     1.99,2,   2251.0,2,   2282.1,6,7.4242,2,    25.00,2320
  49UF20171107,KS1708,5252,1,11,25245,2,20171119,2252,37.78,134.7307, 2983,   1822.7,   0.2298,  34.0683,2,  34.0687,2,    198.8,2,    82.03,2,    25.66,2,     0.00,2,     2.00,2,   2254.4,2,   2281.2,2,7.4307,6,    25.00,2316
  49UF20171107,KS1708,5252,1,10,25244,2,20171119,2252,37.78,134.7307, 2983,   2025.7,   0.2326,  34.0682,2,  34.0683,2,    198.3,2,    84.18,2,    25.57,2,     0.00,2,     2.00,2,   2252.6,2,   2282.2,2,7.4333,2,    25.00,2312
  49UF20171107,KS1708,5252,1,9,25243,2,20171119,2252,37.78,134.7307, 2983,   2026.2,   0.2327,  34.0683,2,  34.0680,2,    198.7,2,    84.54,2,    25.73,2,     0.00,2,     2.01,2,   2251.0,2,   2281.6,2,7.4323,2,    25.00,2312
  49UF20171107,KS1708,5252,1,8,25242,2,20171119,2252,37.78,134.7307, 2983,   2026.4,   0.2328,  34.0681,2,  34.0684,2,    198.6,2,    84.07,2,    25.56,2,     0.00,2,     2.00,2,   2250.8,2,   2282.7,2,7.432,2,    25.00,2311
  49UF20171107,KS1708,5252,1,5,25239,2,20171119,2252,37.78,134.7307, 2983,   2281.3,   0.2449,  34.0681,2,  34.0679,2,    197.8,2,    86.51,2,    25.85,2,     0.00,2,     2.01,2,   2254.5,2,   2282.7,2,7.4317,2,    25.00,2306
  49UF20171107,KS1708,5252,1,4,25238,2,20171119,2252,37.78,134.7307, 2983,   2534.4,   0.2647,  34.0681,2,  34.0677,6,    197.6,2,    86.68,2,    25.70,2,     0.00,2,     2.01,2,   2251.1,2,   2286.1,2,7.4341,2,    25.00,2301
  49UF20171107,KS1708,5252,1,3,24271,2,20171119,2252,37.78,134.7307, 2983,   2792.7,   0.2861,  34.0681,2,  34.0678,6,    197.4,2,    86.81,2,    25.86,2,     0.00,2,     2.02,2,   2253.8,2,   2284.8,2,7.4332,2,    25.00,2256
  49UF20171107,KS1708,5252,1,2,25236,2,20171119,2252,37.78,134.7307, 2983,   2959.9,   0.3007,  34.0682,2,  34.0682,6,    197.5,6,    86.78,6,    25.72,6,     0.00,6,     2.01,6,   2254.9,2,   2285.8,2,7.4328,2,    25.00,2252
  49UF20171107,KS1708,5253,1,0,BUC,2,20171120,2317,39.8287,134.5127, 1770,      0.0,  15.9002,  33.9172,2,-999.0000,9,    232.6,2,  -999.00,9,  -999.00,9,  -999.00,9,  -999.00,9,   -999.0,9,   -999.0,9,-999.0,9,  -999.00,2341
  49UF20171107,KS1708,5253,1,36,25270,2,20171120,2317,39.8287,134.5127, 1770,     10.4,  15.8989,  33.9178,2,-999.0000,9,    232.0,2,  -999.00,9,  -999.00,9,  -999.00,9,  -999.00,9,   -999.0,9,   -999.0,9,-999.0,9,  -999.00,0007
  49UF20171107,KS1708,5253,1,35,25269,2,20171120,2317,39.8287,134.5127, 1770,     25.3,  15.8903,  33.9162,2,-999.0000,9,    232.0,2,  -999.00,9,  -999.00,9,  -999.00,9,  -999.00,9,   -999.0,9,   -999.0,9,-999.0,9,  -999.00,0006
  49UF20171107,KS1708,5253,1,34,25268,2,20171120,2317,39.8287,134.5127, 1770,     25.5,  15.8951,  33.9166,2,-999.0000,9,    232.2,2,  -999.00,9,  -999.00,9,  -999.00,9,  -999.00,9,   -999.0,9,   -999.0,9,-999.0,9,  -999.00,0006
  49UF20171107,KS1708,5253,1,30,25264,2,20171120,2317,39.8287,134.5127, 1770,     50.9,  15.8149,  33.9109,2,-999.0000,9,    233.4,2,  -999.00,9,  -999.00,9,  -999.00,9,  -999.00,9,   -999.0,9,   -999.0,9,-999.0,9,  -999.00,0002
  49UF20171107,KS1708,5253,1,29,25263,2,20171120,2317,39.8287,134.5127, 1770,     77.8,  15.2958,  34.4658,2,-999.0000,9,    190.7,2,  -999.00,9,  -999.00,9,  -999.00,9,  -999.00,9,   -999.0,9,   -999.0,9,-999.0,9,  -999.00,0001
  49UF20171107,KS1708,5253,1,28,25262,2,20171120,2317,39.8287,134.5127, 1770,    101.8,  12.5255,  34.3731,2,-999.0000,9,    224.4,2,  -999.00,9,  -999.00,9,  -999.00,9,  -999.00,9,   -999.0,9,   -999.0,9,-999.0,9,  -999.00,0000
  49UF20171107,KS1708,5253,1,24,25258,2,20171120,2317,39.8287,134.5127, 1770,    125.9,   7.0566,  34.0579,2,-999.0000,9,    256.2,2,  -999.00,9,  -999.00,9,  -999.00,9,  -999.00,9,   -999.0,9,   -999.0,9,-999.0,9,  -999.00,2358
  49UF20171107,KS1708,5253,1,23,25257,2,20171120,2317,39.8287,134.5127, 1770,    153.2,   3.9125,  33.9671,2,-999.0000,9,    269.4,6,  -999.00,9,  -999.00,9,  -999.00,9,  -999.00,9,   -999.0,9,   -999.0,9,-999.0,9,  -999.00,2357
  49UF20171107,KS1708,5253,1,22,25256,2,20171120,2317,39.8287,134.5127, 1770,    203.0,   2.0769,  33.9913,2,-999.0000,9,    272.8,2,  -999.00,9,  -999.00,9,  -999.00,9,  -999.00,9,   -999.0,9,   -999.0,9,-999.0,9,  -999.00,2355
  49UF20171107,KS1708,5253,1,21,25255,2,20171120,2317,39.8287,134.5127, 1770,    252.1,   1.4765,  34.0145,2,-999.0000,9,    263.7,2,  -999.00,9,  -999.00,9,  -999.00,9,  -999.00,9,   -999.0,9,   -999.0,9,-999.0,9,  -999.00,2353
  49UF20171107,KS1708,5253,1,20,24270,3,20171120,2317,39.8287,134.5127, 1770,    301.3,   1.3005,  34.0246,2,-999.0000,9,    256.7,2,  -999.00,9,  -999.00,9,  -999.00,9,  -999.00,9,   -999.0,9,   -999.0,9,-999.0,9,  -999.00,2352
  49UF20171107,KS1708,5253,1,19,25253,2,20171120,2317,39.8287,134.5127, 1770,    403.1,   0.9062,  34.0525,2,-999.0000,9,    231.4,2,  -999.00,9,  -999.00,9,  -999.00,9,  -999.00,9,   -999.0,9,   -999.0,9,-999.0,9,  -999.00,2349
  49UF20171107,KS1708,5253,1,18,25252,2,20171120,2317,39.8287,134.5127, 1770,    403.2,   0.9051,  34.0526,2,-999.0000,9,    231.7,2,  -999.00,9,  -999.00,9,  -999.00,9,  -999.00,9,   -999.0,9,   -999.0,9,-999.0,9,  -999.00,2349
  49UF20171107,KS1708,5253,1,17,25251,2,20171120,2317,39.8287,134.5127, 1770,    504.9,   0.7498,  34.0632,2,-999.0000,9,    216.1,2,  -999.00,9,  -999.00,9,  -999.00,9,  -999.00,9,   -999.0,9,   -999.0,9,-999.0,9,  -999.00,2346
  49UF20171107,KS1708,5253,1,16,25250,2,20171120,2317,39.8287,134.5127, 1770,    606.5,   0.6165,  34.0686,2,-999.0000,9,    205.4,2,  -999.00,9,  -999.00,9,  -999.00,9,  -999.00,9,   -999.0,9,   -999.0,9,-999.0,9,  -999.00,2344
  49UF20171107,KS1708,5253,1,12,25246,2,20171120,2317,39.8287,134.5127, 1770,    708.0,   0.5209,  34.0702,2,-999.0000,9,    201.8,6,  -999.00,9,  -999.00,9,  -999.00,9,  -999.00,9,   -999.0,9,   -999.0,9,-999.0,9,  -999.00,2341
  49UF20171107,KS1708,5253,1,11,25245,2,20171120,2317,39.8287,134.5127, 1770,    808.3,   0.4447,  34.0703,2,-999.0000,9,    200.0,2,  -999.00,9,  -999.00,9,  -999.00,9,  -999.00,9,   -999.0,9,   -999.0,9,-999.0,9,  -999.00,2338
  49UF20171107,KS1708,5253,1,10,25244,3,20171120,2317,39.8287,134.5127, 1770,    910.0,   0.3904,  34.0702,2,-999.0000,9,    199.1,2,  -999.00,9,  -999.00,9,  -999.00,9,  -999.00,9,   -999.0,9,   -999.0,9,-999.0,9,  -999.00,2336
  49UF20171107,KS1708,5253,1,6,25240,2,20171120,2317,39.8287,134.5127, 1770,   1011.0,   0.3452,  34.0699,2,-999.0000,9,    198.3,2,  -999.00,9,  -999.00,9,  -999.00,9,  -999.00,9,   -999.0,9,   -999.0,9,-999.0,9,  -999.00,2333
  49UF20171107,KS1708,5253,1,5,25239,2,20171120,2317,39.8287,134.5127, 1770,   1214.2,   0.2976,  34.0692,2,-999.0000,9,    196.8,6,  -999.00,9,  -999.00,9,  -999.00,9,  -999.00,9,   -999.0,9,   -999.0,9,-999.0,9,  -999.00,2328
  49UF20171107,KS1708,5253,1,3,24271,2,20171120,2317,39.8287,134.5127, 1770,   1418.1,   0.2621,  34.0688,2,-999.0000,9,    196.1,2,  -999.00,9,  -999.00,9,  -999.00,9,  -999.00,9,   -999.0,9,   -999.0,9,-999.0,9,  -999.00,2324
  49UF20171107,KS1708,5253,1,2,25236,2,20171120,2317,39.8287,134.5127, 1770,   1620.0,   0.2420,  34.0685,2,-999.0000,9,    193.7,2,  -999.00,9,  -999.00,9,  -999.00,9,  -999.00,9,   -999.0,9,   -999.0,9,-999.0,9,  -999.00,2319
  49UF20171107,KS1708,5253,1,1,25235,2,20171120,2317,39.8287,134.5127, 1770,   1730.2,   0.2342,  34.0682,2,-999.0000,9,    189.2,2,  -999.00,9,  -999.00,9,  -999.00,9,  -999.00,9,   -999.0,9,   -999.0,9,-999.0,9,  -999.00,2317