BOTTLE,20240319CCHSIOADS
EXPOCODE,SECT_ID,STNNBR,CASTNO,SAMPNO,BTLNBR,BTLNBR_FLAG_W,DATE,TIME,LATITUDE,LONGITUDE,DEPTH,CTDPRS,CTDTMP,CTDSAL,CTDSAL_FLAG_W,SALNTY,SALNTY_FLAG_W,OXYGEN,OXYGEN_FLAG_W,SILCAT,SILCAT_FLAG_W,NITRAT,NITRAT_FLAG_W,NITRIT,NITRIT_FLAG_W,PHSPHT,PHSPHT_FLAG_W,TCARBN,TCARBN_FLAG_W,ALKALI,ALKALI_FLAG_W,PH_TOT,PH_TOT_FLAG_W,PH_TMP,BTL_TIME
,,,,,,,,,,,METERS,DBAR,ITS-90,PSS-78,,PSS-78,,UMOL/KG,,UMOL/KG,,UMOL/KG,,UMOL/KG,,UMOL/KG,,UMOL/KG,,UMOL/KG,,,,DEG C,
  49UF20171107,KS1708,5247,1,0,BUC,2,20171116,1044,39.7708,137.2467, 2615,      0.0,  16.9767,  34.0194,2,-999.0000,9,    237.0,2,  -999.00,9,  -999.00,9,  -999.00,9,  -999.00,9,   -999.0,9,   -999.0,9,-999.0,9,  -999.00,1134
  49UF20171107,KS1708,5247,1,35,25269,2,20171116,1044,39.7708,137.2467, 2615,     11.1,  16.9791,  34.0194,2,-999.0000,9,    236.5,2,  -999.00,9,  -999.00,9,  -999.00,9,  -999.00,9,   -999.0,9,   -999.0,9,-999.0,9,  -999.00,1200
  49UF20171107,KS1708,5247,1,34,25268,2,20171116,1044,39.7708,137.2467, 2615,     27.6,  16.9969,  34.0188,2,  34.0196,2,    236.6,2,  -999.00,9,  -999.00,9,  -999.00,9,  -999.00,9,   -999.0,9,   -999.0,9,-999.0,9,  -999.00,1159
  49UF20171107,KS1708,5247,1,31,25265,2,20171116,1044,39.7708,137.2467, 2615,     51.1,  16.9938,  34.0186,2,-999.0000,9,    236.6,2,  -999.00,9,  -999.00,9,  -999.00,9,  -999.00,9,   -999.0,9,   -999.0,9,-999.0,9,  -999.00,1158
  49UF20171107,KS1708,5247,1,32,25266,2,20171116,1044,39.7708,137.2467, 2615,     51.4,  16.9942,  34.0183,2,-999.0000,9,    236.5,2,  -999.00,9,  -999.00,9,  -999.00,9,  -999.00,9,   -999.0,9,   -999.0,9,-999.0,9,  -999.00,1158
  49UF20171107,KS1708,5247,1,30,25264,2,20171116,1044,39.7708,137.2467, 2615,     78.0,  17.1200,  34.2943,2,  34.2850,2,    221.5,2,  -999.00,9,  -999.00,9,  -999.00,9,  -999.00,9,   -999.0,9,   -999.0,9,-999.0,9,  -999.00,1157
  49UF20171107,KS1708,5247,1,29,25263,3,20171116,1044,39.7708,137.2467, 2615,    101.7,  15.0065,  34.5537,2,-999.0000,9,    216.6,2,  -999.00,9,  -999.00,9,  -999.00,9,  -999.00,9,   -999.0,9,   -999.0,9,-999.0,9,  -999.00,1152
  49UF20171107,KS1708,5247,1,28,25262,2,20171116,1044,39.7708,137.2467, 2615,    126.5,  12.5907,  34.3872,2,  34.3849,2,    235.4,2,  -999.00,9,  -999.00,9,  -999.00,9,  -999.00,9,   -999.0,9,   -999.0,9,-999.0,9,  -999.00,1151
  49UF20171107,KS1708,5247,1,26,25260,2,20171116,1044,39.7708,137.2467, 2615,    152.1,  11.0581,  34.2401,2,-999.0000,9,    245.4,6,  -999.00,9,  -999.00,9,  -999.00,9,  -999.00,9,   -999.0,9,   -999.0,9,-999.0,9,  -999.00,1150
  49UF20171107,KS1708,5247,1,25,25259,3,20171116,1044,39.7708,137.2467, 2615,    202.7,   6.7567,  34.0595,2,  34.0623,2,    256.8,2,  -999.00,9,  -999.00,9,  -999.00,9,  -999.00,9,   -999.0,9,   -999.0,9,-999.0,9,  -999.00,1148
  49UF20171107,KS1708,5247,1,24,25258,2,20171116,1044,39.7708,137.2467, 2615,    252.2,   3.2090,  33.9945,2,-999.0000,9,    268.1,2,  -999.00,9,  -999.00,9,  -999.00,9,  -999.00,9,   -999.0,9,   -999.0,9,-999.0,9,  -999.00,1146
  49UF20171107,KS1708,5247,1,23,25257,2,20171116,1044,39.7708,137.2467, 2615,    308.3,   1.8661,  34.0295,2,-999.0000,9,    244.0,2,  -999.00,9,  -999.00,9,  -999.00,9,  -999.00,9,   -999.0,9,   -999.0,9,-999.0,9,  -999.00,1144
  49UF20171107,KS1708,5247,1,21,25255,2,20171116,1044,39.7708,137.2467, 2615,    403.5,   1.1046,  34.0519,2,-999.0000,9,    220.8,2,  -999.00,9,  -999.00,9,  -999.00,9,  -999.00,9,   -999.0,9,   -999.0,9,-999.0,9,  -999.00,1140
  49UF20171107,KS1708,5247,1,20,24270,2,20171116,1044,39.7708,137.2467, 2615,    502.9,   0.7768,  34.0633,2,  34.0652,2,    211.5,2,  -999.00,9,  -999.00,9,  -999.00,9,  -999.00,9,   -999.0,9,   -999.0,9,-999.0,9,  -999.00,1138
  49UF20171107,KS1708,5247,1,19,25253,2,20171116,1044,39.7708,137.2467, 2615,    607.4,   0.6227,  34.0685,2,-999.0000,9,    204.1,2,  -999.00,9,  -999.00,9,  -999.00,9,  -999.00,9,   -999.0,9,   -999.0,9,-999.0,9,  -999.00,1135
  49UF20171107,KS1708,5247,1,15,25249,2,20171116,1044,39.7708,137.2467, 2615,    707.5,   0.5283,  34.0699,2,-999.0000,9,    200.9,2,  -999.00,9,  -999.00,9,  -999.00,9,  -999.00,9,   -999.0,9,   -999.0,9,-999.0,9,  -999.00,1133
  49UF20171107,KS1708,5247,1,14,25248,2,20171116,1044,39.7708,137.2467, 2615,    708.0,   0.5277,  34.0700,2,-999.0000,9,    200.7,2,  -999.00,9,  -999.00,9,  -999.00,9,  -999.00,9,   -999.0,9,   -999.0,9,-999.0,9,  -999.00,1133
  49UF20171107,KS1708,5247,1,13,25247,2,20171116,1044,39.7708,137.2467, 2615,    810.3,   0.4587,  34.0703,2,-999.0000,9,    200.2,2,  -999.00,9,  -999.00,9,  -999.00,9,  -999.00,9,   -999.0,9,   -999.0,9,-999.0,9,  -999.00,1130
  49UF20171107,KS1708,5247,1,12,25246,2,20171116,1044,39.7708,137.2467, 2615,    905.9,   0.4059,  34.0703,2,  34.0705,2,    199.7,2,  -999.00,9,  -999.00,9,  -999.00,9,  -999.00,9,   -999.0,9,   -999.0,9,-999.0,9,  -999.00,1127
  49UF20171107,KS1708,5247,1,11,25245,2,20171116,1044,39.7708,137.2467, 2615,   1011.5,   0.3487,  34.0702,2,-999.0000,9,    199.2,2,  -999.00,9,  -999.00,9,  -999.00,9,  -999.00,9,   -999.0,9,   -999.0,9,-999.0,9,  -999.00,1125
  49UF20171107,KS1708,5247,1,10,25244,2,20171116,1044,39.7708,137.2467, 2615,   1215.8,   0.2894,  34.0696,2,-999.0000,9,    198.9,2,  -999.00,9,  -999.00,9,  -999.00,9,  -999.00,9,   -999.0,9,   -999.0,9,-999.0,9,  -999.00,1120
  49UF20171107,KS1708,5247,1,9,25243,2,20171116,1044,39.7708,137.2467, 2615,   1418.5,   0.2559,  34.0692,2,-999.0000,9,    198.8,6,  -999.00,9,  -999.00,9,  -999.00,9,  -999.00,9,   -999.0,9,   -999.0,9,-999.0,9,  -999.00,1115
  49UF20171107,KS1708,5247,1,8,25242,2,20171116,1044,39.7708,137.2467, 2615,   1620.5,   0.2381,  34.0688,2,-999.0000,9,    199.1,2,  -999.00,9,  -999.00,9,  -999.00,9,  -999.00,9,   -999.0,9,   -999.0,9,-999.0,9,  -999.00,1111
  49UF20171107,KS1708,5247,1,5,25239,2,20171116,1044,39.7708,137.2467, 2615,   1825.1,   0.2348,  34.0686,2,-999.0000,9,    198.6,2,  -999.00,9,  -999.00,9,  -999.00,9,  -999.00,9,   -999.0,9,   -999.0,9,-999.0,9,  -999.00,1106
  49UF20171107,KS1708,5247,1,4,25238,2,20171116,1044,39.7708,137.2467, 2615,   2030.6,   0.2367,  34.0687,2,  34.0685,2,    198.6,2,  -999.00,9,  -999.00,9,  -999.00,9,  -999.00,9,   -999.0,9,   -999.0,9,-999.0,9,  -999.00,1101
  49UF20171107,KS1708,5247,1,3,24271,2,20171116,1044,39.7708,137.2467, 2615,   2295.7,   0.2432,  34.0685,2,-999.0000,9,    198.8,2,  -999.00,9,  -999.00,9,  -999.00,9,  -999.00,9,   -999.0,9,   -999.0,9,-999.0,9,  -999.00,1052
  49UF20171107,KS1708,5247,1,2,25236,2,20171116,1044,39.7708,137.2467, 2615,   2537.9,   0.2565,  34.0683,2,  34.0695,4,    199.5,2,  -999.00,9,  -999.00,9,  -999.00,9,  -999.00,9,   -999.0,9,   -999.0,9,-999.0,9,  -999.00,1046
  49UF20171107,KS1708,5247,1,1,25235,2,20171116,1044,39.7708,137.2467, 2615,   2588.8,   0.2565,  34.0683,2,  34.0693,4,    199.4,2,  -999.00,9,  -999.00,9,  -999.00,9,  -999.00,9,   -999.0,9,   -999.0,9,-999.0,9,  -999.00,1044
  49UF20171107,KS1708,5248,1,0,BUC,2,20171116,1635,39.4978,136.6743, 2671,      0.0,  15.7351,  33.9237,2,  33.8940,2,    242.3,2,     3.61,2,     1.13,2,     0.17,2,     0.11,2,   2022.2,2,   2281.1,2,7.9978,2,    25.00,1725
  49UF20171107,KS1708,5248,1,36,25270,2,20171116,1635,39.4978,136.6743, 2671,     12.1,  15.7232,  33.9238,2,  33.9242,2,    239.7,2,     3.87,2,     1.35,2,     0.17,2,     0.12,2,   2026.1,2,   2281.5,2,7.9921,2,    25.00,1750
  49UF20171107,KS1708,5248,1,35,25269,2,20171116,1635,39.4978,136.6743, 2671,     26.6,  14.7414,  33.9738,2,  33.9743,2,    250.0,2,     2.69,2,     0.33,2,     0.06,2,     0.06,2,   2032.1,2,   2282.9,2,7.983,2,    25.00,1749
  49UF20171107,KS1708,5248,1,34,25268,2,20171116,1635,39.4978,136.6743, 2671,     51.7,  14.6761,  33.9939,2,  33.9939,2,    248.8,2,     3.01,2,     0.66,2,     0.06,2,     0.09,2,   2032.5,2,   2282.9,2,7.9775,2,    25.00,1747
  49UF20171107,KS1708,5248,1,33,25267,2,20171116,1635,39.4978,136.6743, 2671,     77.2,  11.7195,  34.2198,2,  34.2203,2,    227.7,2,     9.62,2,     7.22,2,     0.04,2,     0.54,2,   2092.6,2,   2277.0,2,7.8469,2,    25.00,1745
  49UF20171107,KS1708,5248,1,32,25266,2,20171116,1635,39.4978,136.6743, 2671,    103.9,   7.5022,  34.0839,2,  34.0853,2,    252.9,2,    10.68,2,     9.27,2,     0.03,2,     0.67,2,   2111.7,2,   2267.7,2,7.7815,2,    25.00,1741
  49UF20171107,KS1708,5248,1,31,25265,2,20171116,1635,39.4978,136.6743, 2671,    128.0,   5.2432,  33.9608,2,  33.9696,2,    270.8,6,    10.56,6,     9.47,6,     0.02,6,     0.70,6,   2126.1,2,   2262.7,2,7.7351,2,    25.00,1740
  49UF20171107,KS1708,5248,1,27,25261,2,20171116,1635,39.4978,136.6743, 2671,    153.8,   3.4651,  33.9925,2,  33.9932,2,    262.4,2,    17.48,2,    13.49,2,     0.01,2,     1.00,2,   2156.5,2,   2258.8,2,7.6514,2,    25.00,1739
  49UF20171107,KS1708,5248,1,26,25260,2,20171116,1635,39.4978,136.6743, 2671,    204.1,   1.7828,  34.0301,2,  34.0299,2,    240.8,2,    28.62,2,    18.99,2,     0.01,2,     1.43,2,   2198.1,2,   2264.8,2,7.5348,2,    25.00,1737
  49UF20171107,KS1708,5248,1,25,25259,2,20171116,1635,39.4978,136.6743, 2671,    256.1,   1.2238,  34.0455,2,  34.0448,2,    230.6,6,    34.25,6,    21.35,6,     0.01,6,     1.61,6,   2215.6,2,   2263.1,2,7.4894,2,    25.00,1735
  49UF20171107,KS1708,5248,1,24,25258,2,20171116,1635,39.4978,136.6743, 2671,    301.3,   0.9714,  34.0529,2,  34.0519,2,    229.4,2,    35.56,2,    22.19,2,     0.01,2,     1.67,2,   2219.8,2,   2265.4,2,7.4705,2,    25.00,1733
  49UF20171107,KS1708,5248,1,23,25257,2,20171116,1635,39.4978,136.6743, 2671,    302.4,   0.9704,  34.0527,2,  34.0580,2,    229.7,2,    35.38,2,    22.10,2,     0.01,2,     1.67,2,   2221.8,2,   2261.1,2,7.4731,2,    25.00,1732
  49UF20171107,KS1708,5248,1,21,25255,4,20171116,1635,39.4978,136.6743, 2671,    401.6,   0.7792,  34.0631,2,  34.0313,4,    239.3,4,    29.18,4,    19.40,4,     0.01,4,     1.46,4,   2199.8,4,   2263.6,4,7.5262,4,    25.00,1730
  49UF20171107,KS1708,5248,1,20,24270,2,20171116,1635,39.4978,136.6743, 2671,    504.5,   0.6556,  34.0677,2,  34.0731,2,    205.0,2,    48.73,2,    24.79,2,     0.00,2,     1.91,2,   2238.9,2,   2265.1,2,7.4163,2,    25.00,1727
  49UF20171107,KS1708,5248,1,19,25253,2,20171116,1635,39.4978,136.6743, 2671,    609.3,   0.5400,  34.0704,2,  34.0703,2,    201.8,2,    53.96,2,    25.23,2,     0.01,2,     1.95,2,   2242.7,6,   2268.7,6,7.4159,2,    25.00,1724
  49UF20171107,KS1708,5248,1,18,25252,2,20171116,1635,39.4978,136.6743, 2671,    711.5,   0.4643,  34.0708,2,  34.1105,4,    199.9,2,    58.79,2,    25.36,2,     0.00,2,     1.96,2,   2246.2,2,   2274.3,2,7.4149,6,    25.00,1721
  49UF20171107,KS1708,5248,1,17,25251,2,20171116,1635,39.4978,136.6743, 2671,    807.5,   0.4018,  34.0706,2,  34.0714,2,    198.7,2,    62.80,2,    25.44,2,     0.00,2,     1.97,2,   2246.2,2,   2273.7,2,7.4185,2,    25.00,1717
  49UF20171107,KS1708,5248,1,16,25250,2,20171116,1635,39.4978,136.6743, 2671,    905.8,   0.3511,  34.0703,2,  34.0741,4,    198.6,2,    66.68,2,    25.41,2,     0.00,2,     1.98,2,   2251.5,2,   2274.4,2,7.4168,2,    25.00,1714
  49UF20171107,KS1708,5248,1,15,25249,2,20171116,1635,39.4978,136.6743, 2671,   1009.4,   0.3219,  34.0702,2,  34.0703,6,    198.3,2,    68.88,2,    25.50,2,     0.00,2,     1.98,2,   2251.1,2,   2276.7,2,7.4161,2,    25.00,1712
  49UF20171107,KS1708,5248,1,14,25248,2,20171116,1635,39.4978,136.6743, 2671,   1214.2,   0.2732,  34.0695,2,  34.0694,2,    198.0,2,    74.15,2,    25.30,2,     0.00,2,     1.99,2,   2253.1,6,   2280.1,6,7.4183,2,    25.00,1708
  49UF20171107,KS1708,5248,1,13,25247,2,20171116,1635,39.4978,136.6743, 2671,   1415.6,   0.2469,  34.0691,2,  34.0709,4,    198.6,2,    76.93,2,    25.45,2,     0.00,2,     1.99,2,   2250.5,2,   2282.3,2,7.4255,6,    25.00,1703
  49UF20171107,KS1708,5248,1,9,25243,2,20171116,1635,39.4978,136.6743, 2671,   1626.3,   0.2362,  34.0688,2,  34.0745,4,    198.7,2,    80.05,2,    25.51,2,     0.00,2,     2.00,2,   2250.2,2,   2284.1,2,7.4304,2,    25.00,1658
  49UF20171107,KS1708,5248,1,8,25242,2,20171116,1635,39.4978,136.6743, 2671,   1821.2,   0.2325,  34.0688,2,  34.0686,2,    198.7,6,    82.38,6,    25.48,6,     0.00,6,     2.01,6,   2252.5,2,   2284.0,2,7.4264,2,    25.00,1653
  49UF20171107,KS1708,5248,1,6,25240,2,20171116,1635,39.4978,136.6743, 2671,   2026.0,   0.2357,  34.0687,2,  34.0682,2,    198.8,2,    84.24,2,    25.67,2,     0.00,2,     2.01,2,   2250.8,2,   2283.1,2,7.4311,2,    25.00,1648
  49UF20171107,KS1708,5248,1,5,25239,2,20171116,1635,39.4978,136.6743, 2671,   2026.6,   0.2360,  34.0685,2,  34.0713,4,    198.7,2,    84.07,2,    25.65,2,     0.00,2,     2.01,2,   2253.1,2,   2283.2,2,7.4304,2,    25.00,1648
  49UF20171107,KS1708,5248,1,4,25238,2,20171116,1635,39.4978,136.6743, 2671,   2027.8,   0.2358,  34.0685,2,  34.0735,4,    198.6,2,    84.18,2,    25.62,2,     0.00,2,     2.01,2,   2257.3,2,   2286.6,2,7.4342,2,    25.00,1648
  49UF20171107,KS1708,5248,1,3,24271,2,20171116,1635,39.4978,136.6743, 2671,   2277.3,   0.2460,  34.0684,2,  34.0679,6,    198.0,2,    86.25,2,    25.55,2,     0.00,2,     2.02,2,   2256.0,2,   2285.7,2,7.4348,2,    25.00,1643
  49UF20171107,KS1708,5248,1,2,25236,2,20171116,1635,39.4978,136.6743, 2671,   2535.7,   0.2606,  34.0683,2,  34.0685,2,    198.6,2,    86.94,2,    25.70,2,     0.00,2,     2.02,2,   2255.3,6,   2286.3,6,7.4345,2,    25.00,1638
  49UF20171107,KS1708,5248,1,1,25235,2,20171116,1635,39.4978,136.6743, 2671,   2639.1,   0.2653,  34.0683,2,  34.0693,2,    198.7,2,    87.92,2,    25.51,2,     0.00,2,     2.03,2,   2253.3,2,   2288.4,2,7.4349,6,    25.00,1635
  49UF20171107,KS1708,5249,1,0,BUC,2,20171116,2231,39.0772,136.0262, 2586,      0.0,  15.5178,  33.8817,2,-999.0000,9,    242.6,2,  -999.00,9,  -999.00,9,  -999.00,9,  -999.00,9,   -999.0,9,   -999.0,9,-999.0,9,  -999.00,2325
  49UF20171107,KS1708,5249,1,35,25269,4,20171116,2231,39.0772,136.0262, 2586,     10.9,  15.5228,  33.8815,2,-999.0000,9,   -999.0,9,  -999.00,9,  -999.00,9,  -999.00,9,  -999.00,9,   -999.0,9,   -999.0,9,-999.0,9,  -999.00,2345
  49UF20171107,KS1708,5249,1,34,25268,2,20171116,2231,39.0772,136.0262, 2586,     26.4,  15.5119,  33.8811,2,  33.8833,2,    242.0,2,  -999.00,9,  -999.00,9,  -999.00,9,  -999.00,9,   -999.0,9,   -999.0,9,-999.0,9,  -999.00,2343
  49UF20171107,KS1708,5249,1,33,25267,2,20171116,2231,39.0772,136.0262, 2586,     51.9,  15.3644,  34.4282,2,  34.4344,2,    185.2,2,  -999.00,9,  -999.00,9,  -999.00,9,  -999.00,9,   -999.0,9,   -999.0,9,-999.0,9,  -999.00,2339
  49UF20171107,KS1708,5249,1,32,25266,2,20171116,2231,39.0772,136.0262, 2586,     76.2,   8.8638,  34.1250,2,-999.0000,9,    248.4,6,  -999.00,9,  -999.00,9,  -999.00,9,  -999.00,9,   -999.0,9,   -999.0,9,-999.0,9,  -999.00,2338
  49UF20171107,KS1708,5249,1,31,25265,2,20171116,2231,39.0772,136.0262, 2586,    100.9,   5.5599,  33.9782,2,-999.0000,9,    266.2,2,  -999.00,9,  -999.00,9,  -999.00,9,  -999.00,9,   -999.0,9,   -999.0,9,-999.0,9,  -999.00,2337
  49UF20171107,KS1708,5249,1,30,25264,2,20171116,2231,39.0772,136.0262, 2586,    126.7,   3.3632,  33.9418,2,-999.0000,9,    281.1,2,  -999.00,9,  -999.00,9,  -999.00,9,  -999.00,9,   -999.0,9,   -999.0,9,-999.0,9,  -999.00,2335
  49UF20171107,KS1708,5249,1,28,25262,2,20171116,2231,39.0772,136.0262, 2586,    152.2,   2.3910,  33.9809,2,  33.9807,2,    273.2,2,  -999.00,9,  -999.00,9,  -999.00,9,  -999.00,9,   -999.0,9,   -999.0,9,-999.0,9,  -999.00,2334
  49UF20171107,KS1708,5249,1,29,25263,2,20171116,2231,39.0772,136.0262, 2586,    152.7,   2.3890,  33.9817,2,  33.9824,2,    273.4,2,  -999.00,9,  -999.00,9,  -999.00,9,  -999.00,9,   -999.0,9,   -999.0,9,-999.0,9,  -999.00,2334
  49UF20171107,KS1708,5249,1,24,25258,2,20171116,2231,39.0772,136.0262, 2586,    201.7,   1.6897,  34.0228,2,-999.0000,9,    249.4,2,  -999.00,9,  -999.00,9,  -999.00,9,  -999.00,9,   -999.0,9,   -999.0,9,-999.0,9,  -999.00,2332
  49UF20171107,KS1708,5249,1,23,25257,2,20171116,2231,39.0772,136.0262, 2586,    252.8,   1.2388,  34.0375,2,-999.0000,9,    243.3,2,  -999.00,9,  -999.00,9,  -999.00,9,  -999.00,9,   -999.0,9,   -999.0,9,-999.0,9,  -999.00,2330
  49UF20171107,KS1708,5249,1,21,25255,2,20171116,2231,39.0772,136.0262, 2586,    303.4,   1.0116,  34.0501,2,-999.0000,9,    227.2,2,  -999.00,9,  -999.00,9,  -999.00,9,  -999.00,9,   -999.0,9,   -999.0,9,-999.0,9,  -999.00,2329
  49UF20171107,KS1708,5249,1,20,24270,2,20171116,2231,39.0772,136.0262, 2586,    404.9,   0.7590,  34.0636,2,  34.0631,2,    211.8,2,  -999.00,9,  -999.00,9,  -999.00,9,  -999.00,9,   -999.0,9,   -999.0,9,-999.0,9,  -999.00,2326
  49UF20171107,KS1708,5249,1,19,25253,2,20171116,2231,39.0772,136.0262, 2586,    506.0,   0.6278,  34.0683,2,-999.0000,9,    204.2,2,  -999.00,9,  -999.00,9,  -999.00,9,  -999.00,9,   -999.0,9,   -999.0,9,-999.0,9,  -999.00,2323
  49UF20171107,KS1708,5249,1,17,25251,2,20171116,2231,39.0772,136.0262, 2586,    606.0,   0.5347,  34.0702,2,-999.0000,9,    201.5,6,  -999.00,9,  -999.00,9,  -999.00,9,  -999.00,9,   -999.0,9,   -999.0,9,-999.0,9,  -999.00,2320
  49UF20171107,KS1708,5249,1,16,25250,2,20171116,2231,39.0772,136.0262, 2586,    708.4,   0.4634,  34.0708,2,-999.0000,9,    200.2,2,  -999.00,9,  -999.00,9,  -999.00,9,  -999.00,9,   -999.0,9,   -999.0,9,-999.0,9,  -999.00,2317
  49UF20171107,KS1708,5249,1,15,25249,2,20171116,2231,39.0772,136.0262, 2586,    810.5,   0.3976,  34.0706,2,  34.0715,2,    199.7,2,  -999.00,9,  -999.00,9,  -999.00,9,  -999.00,9,   -999.0,9,   -999.0,9,-999.0,9,  -999.00,2315
  49UF20171107,KS1708,5249,1,14,25248,2,20171116,2231,39.0772,136.0262, 2586,    910.9,   0.3565,  34.0704,2,-999.0000,9,    199.2,2,  -999.00,9,  -999.00,9,  -999.00,9,  -999.00,9,   -999.0,9,   -999.0,9,-999.0,9,  -999.00,2312
  49UF20171107,KS1708,5249,1,13,25247,2,20171116,2231,39.0772,136.0262, 2586,   1013.2,   0.3173,  34.0700,2,-999.0000,9,    198.9,2,  -999.00,9,  -999.00,9,  -999.00,9,  -999.00,9,   -999.0,9,   -999.0,9,-999.0,9,  -999.00,2309
  49UF20171107,KS1708,5249,1,12,25246,2,20171116,2231,39.0772,136.0262, 2586,   1215.2,   0.2700,  34.0695,2,-999.0000,9,    198.8,2,  -999.00,9,  -999.00,9,  -999.00,9,  -999.00,9,   -999.0,9,   -999.0,9,-999.0,9,  -999.00,2304
  49UF20171107,KS1708,5249,1,11,25245,2,20171116,2231,39.0772,136.0262, 2586,   1417.8,   0.2453,  34.0692,2,  34.0691,2,    198.7,2,  -999.00,9,  -999.00,9,  -999.00,9,  -999.00,9,   -999.0,9,   -999.0,9,-999.0,9,  -999.00,2259
  49UF20171107,KS1708,5249,1,10,25244,2,20171116,2231,39.0772,136.0262, 2586,   1622.8,   0.2318,  34.0688,2,-999.0000,9,    198.7,2,  -999.00,9,  -999.00,9,  -999.00,9,  -999.00,9,   -999.0,9,   -999.0,9,-999.0,9,  -999.00,2254
  49UF20171107,KS1708,5249,1,6,25240,2,20171116,2231,39.0772,136.0262, 2586,   1823.5,   0.2297,  34.0686,2,  34.0699,4,    198.4,2,  -999.00,9,  -999.00,9,  -999.00,9,  -999.00,9,   -999.0,9,   -999.0,9,-999.0,9,  -999.00,2249
  49UF20171107,KS1708,5249,1,5,25239,2,20171116,2231,39.0772,136.0262, 2586,   1824.3,   0.2295,  34.0688,2,  34.0692,2,    198.9,2,  -999.00,9,  -999.00,9,  -999.00,9,  -999.00,9,   -999.0,9,   -999.0,9,-999.0,9,  -999.00,2248
  49UF20171107,KS1708,5249,1,4,25238,2,20171116,2231,39.0772,136.0262, 2586,   2029.9,   0.2324,  34.0688,2,-999.0000,9,    198.1,6,  -999.00,9,  -999.00,9,  -999.00,9,  -999.00,9,   -999.0,9,   -999.0,9,-999.0,9,  -999.00,2244
  49UF20171107,KS1708,5249,1,3,24271,2,20171116,2231,39.0772,136.0262, 2586,   2280.7,   0.2444,  34.0685,2,  34.0681,2,    198.2,2,  -999.00,9,  -999.00,9,  -999.00,9,  -999.00,9,   -999.0,9,   -999.0,9,-999.0,9,  -999.00,2238
  49UF20171107,KS1708,5249,1,1,25235,2,20171116,2231,39.0772,136.0262, 2586,   2560.5,   0.2592,  34.0684,2,  34.0692,2,    198.4,2,  -999.00,9,  -999.00,9,  -999.00,9,  -999.00,9,   -999.0,9,   -999.0,9,-999.0,9,  -999.00,2231