BOTTLE,20240319CCHSIOADS
# Converted time values to string and padded with zeroes, and updated Bucket samples. Please see History Note for full details.
#
# Data source:  Masao Ishii 2018/11/30 
# SHIP: R/V Keifu Maru II 
# Cruise: KS17.08 
# Region: Sea of Japan 
# EXPOCODE: 49UF20171107 
# DATES: 20171107-20171208 
# Chief Scientist: Keizo Sakurai 
# 21 stations with 36 place Rosette 
# CTD: Who - Kazuhiro Nemoto; Status - final 
# 	Includes: CTDSAL 
# SALNTY: Who - Kazuhiro Nemoto; Status - final 
# 	Notes: 	 
# Nutrients: Who - Kazuhiro Nemoto; Status - final 
# 	Includes: nitrate, nitrite, silicate, phosphate 
# 	Nitrite and NO3+NO2 reported. Separated by subtraction 
# OXYGEN: Who - Kazuhiro Nemoto; Status - final 
# 	Notes: 
# TCARBN: Who - Kazuhiro Nemoto; Status - final 
# 	Notes:  
# ALKALI: Who - Kazuhiro Nemoto; Status - final 
# 	Notes:  
# pH: Who - Kazuhiro Nemoto; Status - final  
# 	Notes: total H+ scale at 25C 
#
# These data are under a CC0 license. For more information on how to cite, please visit cchdo.ucsd.edu
EXPOCODE,SECT_ID,STNNBR,CASTNO,SAMPNO,BTLNBR,BTLNBR_FLAG_W,DATE,TIME,LATITUDE,LONGITUDE,DEPTH,CTDPRS,CTDTMP,CTDSAL,CTDSAL_FLAG_W,SALNTY,SALNTY_FLAG_W,OXYGEN,OXYGEN_FLAG_W,SILCAT,SILCAT_FLAG_W,NITRAT,NITRAT_FLAG_W,NITRIT,NITRIT_FLAG_W,PHSPHT,PHSPHT_FLAG_W,TCARBN,TCARBN_FLAG_W,ALKALI,ALKALI_FLAG_W,PH_TOT,PH_TOT_FLAG_W,PH_TMP,BTL_TIME
,,,,,,,,,,,METERS,DBAR,ITS-90,PSS-78,,PSS-78,,UMOL/KG,,UMOL/KG,,UMOL/KG,,UMOL/KG,,UMOL/KG,,UMOL/KG,,UMOL/KG,,,,DEG C,
  49UF20171107,KS1708,5237,1,0,BUC,2,20171112,2317,40.3463,136.0073, 2553,      0.0,  14.2500,  33.9897,2,-999.0000,9,    250.3,2,     3.85,2,     1.21,2,     0.04,2,     0.13,2,   -999.0,9,   -999.0,9,-999.0,9,  -999.00,0013
  49UF20171107,KS1708,5237,1,36,25270,2,20171112,2317,40.3463,136.0073, 2553,     11.6,  14.2464,  33.9915,2,  33.9921,2,    250.3,2,     3.85,2,     1.23,2,     0.05,2,     0.13,2,   -999.0,9,   -999.0,9,-999.0,9,  -999.00,0031
  49UF20171107,KS1708,5237,1,35,25269,2,20171112,2317,40.3463,136.0073, 2553,     11.7,  14.2237,  33.9935,2,  33.9914,2,    250.6,2,     3.84,2,     1.25,2,     0.04,2,     0.13,2,   -999.0,9,   -999.0,9,-999.0,9,  -999.00,0030
  49UF20171107,KS1708,5237,1,33,25267,2,20171112,2317,40.3463,136.0073, 2553,     26.4,  13.3115,  34.0576,2,  34.0526,2,    252.2,2,     3.75,2,     1.62,2,     0.04,2,     0.16,2,   -999.0,9,   -999.0,9,-999.0,9,  -999.00,0029
  49UF20171107,KS1708,5237,1,32,25266,2,20171112,2317,40.3463,136.0073, 2553,     51.7,  10.0204,  34.2021,2,  34.1865,2,    246.0,2,     7.86,2,     6.79,2,     0.04,2,     0.49,2,   -999.0,9,   -999.0,9,-999.0,9,  -999.00,0027
  49UF20171107,KS1708,5237,1,30,25264,3,20171112,2317,40.3463,136.0073, 2553,     77.1,   6.9182,  34.0592,2,  34.0672,2,    255.2,2,    11.34,2,     9.67,2,     0.02,2,     0.70,2,   -999.0,9,   -999.0,9,-999.0,9,  -999.00,0026
  49UF20171107,KS1708,5237,1,29,25263,2,20171112,2317,40.3463,136.0073, 2553,    102.8,   4.2975,  33.9855,2,  33.9853,2,    265.2,2,    14.95,2,    12.14,2,     0.01,2,     0.90,2,   -999.0,9,   -999.0,9,-999.0,9,  -999.00,0022
  49UF20171107,KS1708,5237,1,27,25261,2,20171112,2317,40.3463,136.0073, 2553,    128.5,   2.6402,  33.9685,2,  33.9688,2,    285.0,2,    14.86,2,    12.18,2,     0.01,2,     0.90,2,   -999.0,9,   -999.0,9,-999.0,9,  -999.00,0020
  49UF20171107,KS1708,5237,1,26,25260,2,20171112,2317,40.3463,136.0073, 2553,    151.6,   2.0232,  33.9714,2,  33.9723,2,    292.1,2,    15.12,2,    12.58,2,     0.01,2,     0.92,2,   -999.0,9,   -999.0,9,-999.0,9,  -999.00,0019
  49UF20171107,KS1708,5237,1,24,25258,2,20171112,2317,40.3463,136.0073, 2553,    200.3,   1.5042,  34.0054,2,  34.0063,2,    287.4,2,    18.81,2,    14.56,2,     0.00,2,     1.07,2,   -999.0,9,   -999.0,9,-999.0,9,  -999.00,0017
  49UF20171107,KS1708,5237,1,23,25257,2,20171112,2317,40.3463,136.0073, 2553,    253.0,   1.2615,  34.0298,2,  34.0300,2,    281.4,2,    21.91,2,    15.96,2,     0.01,2,     1.18,2,   -999.0,9,   -999.0,9,-999.0,9,  -999.00,0015
  49UF20171107,KS1708,5237,1,22,25256,2,20171112,2317,40.3463,136.0073, 2553,    305.7,   1.0929,  34.0398,2,  34.0396,2,    277.0,6,    24.09,6,    16.92,6,     0.01,6,     1.25,6,   -999.0,9,   -999.0,9,-999.0,9,  -999.00,0013
  49UF20171107,KS1708,5237,1,21,25255,2,20171112,2317,40.3463,136.0073, 2553,    404.6,   0.9142,  34.0518,2,  34.0515,2,    247.4,2,    31.53,2,    20.63,2,     0.01,2,     1.54,2,   -999.0,9,   -999.0,9,-999.0,9,  -999.00,0010
  49UF20171107,KS1708,5237,1,20,24270,2,20171112,2317,40.3463,136.0073, 2553,    505.4,   0.7528,  34.0641,2,  34.0636,2,    217.5,2,    41.00,2,    23.75,2,     0.00,2,     1.83,2,   -999.0,9,   -999.0,9,-999.0,9,  -999.00,0007
  49UF20171107,KS1708,5237,1,19,25253,2,20171112,2317,40.3463,136.0073, 2553,    505.4,   0.7523,  34.0641,2,  34.0637,2,    217.5,2,    41.08,2,    23.89,2,     0.00,2,     1.83,2,   -999.0,9,   -999.0,9,-999.0,9,  -999.00,0007
  49UF20171107,KS1708,5237,1,18,25252,4,20171112,2317,40.3463,136.0073, 2553,    604.7,   0.6302,  34.0687,2,-999.0000,9,   -999.0,9,  -999.00,9,  -999.00,9,  -999.00,9,  -999.00,9,   -999.0,9,   -999.0,9,-999.0,9,  -999.00,0004
  49UF20171107,KS1708,5237,1,17,25251,2,20171112,2317,40.3463,136.0073, 2553,    707.4,   0.5590,  34.0702,2,  34.0697,6,    202.6,2,    52.01,2,    25.13,2,     0.00,2,     1.95,2,   -999.0,9,   -999.0,9,-999.0,9,  -999.00,0002
  49UF20171107,KS1708,5237,1,14,25248,2,20171112,2317,40.3463,136.0073, 2553,    808.1,   0.4663,  34.0709,2,  34.0704,2,    200.3,6,    57.83,6,    25.42,6,     0.00,6,     1.96,6,   -999.0,9,   -999.0,9,-999.0,9,  -999.00,2359
  49UF20171107,KS1708,5237,1,13,25247,2,20171112,2317,40.3463,136.0073, 2553,    909.6,   0.4045,  34.0706,2,  34.0702,2,    199.2,2,    62.19,2,    25.32,2,     0.00,2,     1.97,2,   -999.0,9,   -999.0,9,-999.0,9,  -999.00,2356
  49UF20171107,KS1708,5237,1,11,25245,2,20171112,2317,40.3463,136.0073, 2553,   1015.0,   0.3657,  34.0703,2,  34.0700,2,    198.1,2,    65.55,2,    25.52,2,     0.00,2,     1.98,2,   -999.0,9,   -999.0,9,-999.0,9,  -999.00,2353
  49UF20171107,KS1708,5237,1,10,25244,2,20171112,2317,40.3463,136.0073, 2553,   1211.2,   0.3043,  34.0696,2,  34.0696,6,    197.7,2,    71.18,2,    25.42,2,     0.00,2,     1.99,2,   -999.0,9,   -999.0,9,-999.0,9,  -999.00,2348
  49UF20171107,KS1708,5237,1,8,25242,2,20171112,2317,40.3463,136.0073, 2553,   1417.9,   0.2652,  34.0692,2,  34.0693,2,    196.7,2,    77.02,2,    25.55,2,     0.00,2,     2.00,2,   -999.0,9,   -999.0,9,-999.0,9,  -999.00,2344
  49UF20171107,KS1708,5237,1,7,25241,3,20171112,2317,40.3463,136.0073, 2553,   1619.3,   0.2514,  34.0687,2,  34.0685,6,    196.2,6,    80.35,6,    25.52,6,     0.00,6,     2.01,6,   -999.0,9,   -999.0,9,-999.0,9,  -999.00,2339
  49UF20171107,KS1708,5237,1,6,25240,2,20171112,2317,40.3463,136.0073, 2553,   1821.8,   0.2414,  34.0684,2,  34.0681,2,    196.7,2,    82.52,2,    25.64,2,     0.00,2,     2.01,2,   -999.0,9,   -999.0,9,-999.0,9,  -999.00,2334
  49UF20171107,KS1708,5237,1,5,25239,2,20171112,2317,40.3463,136.0073, 2553,   2025.2,   0.2436,  34.0684,2,  34.0690,2,    196.8,2,    84.06,2,    25.51,2,     0.00,2,     2.02,2,   -999.0,9,   -999.0,9,-999.0,9,  -999.00,2330
  49UF20171107,KS1708,5237,1,3,24271,2,20171112,2317,40.3463,136.0073, 2553,   2284.1,   0.2453,  34.0682,2,  34.0679,2,    197.3,2,    86.75,2,    25.70,2,     0.00,2,     2.02,2,   -999.0,9,   -999.0,9,-999.0,9,  -999.00,2324
  49UF20171107,KS1708,5237,1,2,25236,2,20171112,2317,40.3463,136.0073, 2553,   2557.6,   0.2575,  34.0682,2,  34.0680,2,    198.8,2,    87.79,2,    25.73,2,     0.00,2,     2.02,2,   -999.0,9,   -999.0,9,-999.0,9,  -999.00,2317
  49UF20171107,KS1708,5238,1,0,BUC,2,20171113,0807,41.5138,137.0253, 3597,      0.0,  12.3571,  34.0462,2,  34.0260,2,    263.5,2,     3.43,2,     0.46,2,     0.04,2,     0.07,2,   2039.4,2,   2274.5,2,7.9569,2,    25.00,0905
  49UF20171107,KS1708,5238,1,35,25269,2,20171113,0807,41.5138,137.0253, 3597,     11.1,  12.3647,  34.0929,2,  34.0959,2,    263.2,2,     3.39,2,     0.36,2,     0.04,2,     0.07,2,   2041.8,2,   2278.4,2,7.9589,2,    25.00,0950
  49UF20171107,KS1708,5238,1,34,25268,2,20171113,0807,41.5138,137.0253, 3597,     26.8,  12.3042,  34.1137,2,  34.1130,2,    263.4,6,     3.41,6,     0.40,6,     0.04,6,     0.07,6,   2042.8,2,   2278.0,2,7.9593,2,    25.00,0949
  49UF20171107,KS1708,5238,1,33,25267,2,20171113,0807,41.5138,137.0253, 3597,     51.1,  12.2587,  34.1210,2,  34.1228,2,    262.3,2,     3.43,2,     0.44,2,     0.05,2,     0.07,2,   2041.7,2,   2279.4,2,7.9538,2,    25.00,0947
  49UF20171107,KS1708,5238,1,32,25266,2,20171113,0807,41.5138,137.0253, 3597,     75.7,   5.1236,  33.9894,2,  33.9896,4,    274.9,2,    11.20,2,     9.40,2,     0.02,2,     0.70,2,   2130.0,2,   2264.3,2,7.735,2,    25.00,0945
  49UF20171107,KS1708,5238,1,31,25265,2,20171113,0807,41.5138,137.0253, 3597,    101.6,   3.5142,  34.0002,2,  33.9985,2,    285.0,2,    12.72,2,    10.75,2,     0.01,2,     0.78,2,   2141.3,2,   2264.9,2,7.7015,2,    25.00,0939
  49UF20171107,KS1708,5238,1,30,25264,2,20171113,0807,41.5138,137.0253, 3597,    126.0,   2.7357,  34.0127,2,  34.0110,2,    295.4,2,    12.85,2,    10.71,2,     0.01,2,     0.78,2,   2138.4,2,   2264.4,2,7.6962,2,    25.00,0938
  49UF20171107,KS1708,5238,1,29,25263,2,20171113,0807,41.5138,137.0253, 3597,    151.4,   2.1593,  33.9991,2,  33.9986,2,    295.9,2,    14.49,2,    11.78,2,     0.01,2,     0.87,2,   2151.1,2,   2263.2,2,7.666,2,    25.00,0936
  49UF20171107,KS1708,5238,1,28,25262,2,20171113,0807,41.5138,137.0253, 3597,    201.3,   1.6125,  34.0247,2,  34.0242,2,    282.0,2,    19.50,2,    14.96,2,     0.01,2,     1.09,2,   2170.0,2,   2262.6,2,7.6127,2,    25.00,0934
  49UF20171107,KS1708,5238,1,26,25260,2,20171113,0807,41.5138,137.0253, 3597,    253.9,   1.3055,  34.0359,2,  34.0348,2,    278.0,2,    22.11,2,    16.32,2,     0.01,2,     1.19,2,   2185.1,2,   2263.3,2,7.5851,2,    25.00,0932
  49UF20171107,KS1708,5238,1,25,25259,2,20171113,0807,41.5138,137.0253, 3597,    302.4,   1.0880,  34.0442,2,  34.0443,2,    263.9,6,    26.28,6,    18.51,6,     0.01,6,     1.36,6,   2194.6,2,   2264.5,2,7.5477,2,    25.00,0930
  49UF20171107,KS1708,5238,1,24,25258,3,20171113,0807,41.5138,137.0253, 3597,    404.0,   0.8728,  34.0569,2,  34.0520,2,    235.8,2,    34.11,2,    22.20,2,     0.01,2,     1.66,2,   2220.5,2,   2261.5,2,7.4778,2,    25.00,0927
  49UF20171107,KS1708,5238,1,23,25257,2,20171113,0807,41.5138,137.0253, 3597,    506.0,   0.7398,  34.0651,2,  34.0651,2,    217.3,2,    41.13,2,    23.97,2,     0.00,2,     1.83,2,   2232.4,2,   2263.3,2,7.4381,2,    25.00,0924
  49UF20171107,KS1708,5238,1,21,25255,2,20171113,0807,41.5138,137.0253, 3597,    607.1,   0.6332,  34.0697,2,  34.0691,2,    206.7,2,    47.70,2,    24.99,2,     0.00,2,     1.92,2,   2237.2,2,   2267.0,2,7.419,2,    25.00,0921
  49UF20171107,KS1708,5238,1,22,25256,2,20171113,0807,41.5138,137.0253, 3597,    608.5,   0.6342,  34.0696,2,  34.0693,2,    206.8,2,    47.62,2,    24.98,2,     0.00,2,     1.92,2,   2238.8,2,   2266.5,2,7.4197,2,    25.00,0921
  49UF20171107,KS1708,5238,1,20,24270,3,20171113,0807,41.5138,137.0253, 3597,    708.7,   0.5489,  34.0712,2,  34.0703,2,    203.2,2,    52.32,2,    25.27,2,     0.00,2,     1.95,2,   2243.5,6,   2269.0,6,7.417,2,    25.00,0918
  49UF20171107,KS1708,5238,1,19,25253,2,20171113,0807,41.5138,137.0253, 3597,    810.5,   0.4734,  34.0714,2,  34.0711,2,    201.2,2,    56.60,2,    25.28,2,     0.00,2,     1.96,2,   2243.3,2,   2270.9,2,7.4171,2,    25.00,0915
  49UF20171107,KS1708,5238,1,18,25252,2,20171113,0807,41.5138,137.0253, 3597,    912.1,   0.4052,  34.0710,2,  34.0695,2,    200.3,2,    60.56,2,    25.48,2,     0.00,2,     1.97,2,   2244.7,2,   2273.0,2,7.4165,6,    25.00,0912
  49UF20171107,KS1708,5238,1,17,25251,2,20171113,0807,41.5138,137.0253, 3597,   1010.4,   0.3519,  34.0705,2,  34.0699,2,    199.6,2,    63.89,2,    25.59,2,     0.00,2,     1.97,2,   2247.1,2,   2274.2,2,7.4184,2,    25.00,0909
  49UF20171107,KS1708,5238,1,15,25249,2,20171113,0807,41.5138,137.0253, 3597,   1215.9,   0.2862,  34.0694,2,  34.0692,2,    199.7,2,    69.64,2,    25.54,2,     0.00,2,     1.98,2,   2247.5,2,   2276.7,2,7.4213,2,    25.00,0904
  49UF20171107,KS1708,5238,1,14,25248,2,20171113,0807,41.5138,137.0253, 3597,   1417.4,   0.2523,  34.0689,2,  34.0660,4,    200.6,2,    73.31,2,    25.41,2,     0.00,2,     1.98,2,   2246.5,2,   2277.8,2,7.4289,2,    25.00,0859
  49UF20171107,KS1708,5238,1,13,25247,2,20171113,0807,41.5138,137.0253, 3597,   1620.9,   0.2345,  34.0683,2,  34.0678,2,    201.0,2,    76.35,2,    25.63,2,     0.00,2,     1.99,2,   2246.6,6,   2282.0,6,7.4332,2,    25.00,0854
  49UF20171107,KS1708,5238,1,12,25246,2,20171113,0807,41.5138,137.0253, 3597,   1825.4,   0.2287,  34.0682,2,  34.0690,2,    200.7,2,    78.66,2,    25.49,2,     0.00,2,     1.99,2,   2251.7,2,   2281.6,2,7.436,6,    25.00,0848
  49UF20171107,KS1708,5238,1,11,25245,2,20171113,0807,41.5138,137.0253, 3597,   2029.1,   0.2275,  34.0680,2,  34.0684,2,    201.2,6,    81.31,6,    25.51,6,     0.00,6,     1.99,6,   2250.8,2,   2284.3,2,7.4401,2,    25.00,0843
  49UF20171107,KS1708,5238,1,10,25244,2,20171113,0807,41.5138,137.0253, 3597,   2283.9,   0.2324,  34.0681,2,  34.0690,4,    201.8,2,    83.87,2,    25.55,2,     0.00,2,     2.00,2,   2249.2,2,   2286.9,2,7.4427,2,    25.00,0837
  49UF20171107,KS1708,5238,1,8,25242,3,20171113,0807,41.5138,137.0253, 3597,   2539.0,   0.2423,  34.0682,2,  34.0671,6,    202.3,2,    86.91,2,    25.76,2,     0.00,2,     2.00,2,   2248.7,2,   2287.4,2,7.4477,2,    25.00,0831
  49UF20171107,KS1708,5238,1,7,25241,3,20171113,0807,41.5138,137.0253, 3597,   2792.8,   0.2631,  34.0681,2,  34.0677,2,    202.3,2,    86.56,2,    25.61,2,     0.00,2,     2.00,2,   2246.9,2,   2287.8,2,7.4491,2,    25.00,0825
  49UF20171107,KS1708,5238,1,6,25240,2,20171113,0807,41.5138,137.0253, 3597,   3049.3,   0.2854,  34.0681,2,  34.0664,4,    202.4,2,    86.89,2,    25.64,2,     0.00,2,     2.00,2,   2251.7,2,   2287.0,2,7.4488,2,    25.00,0820
  49UF20171107,KS1708,5238,1,5,25239,2,20171113,0807,41.5138,137.0253, 3597,   3302.1,   0.3086,  34.0680,2,  34.0691,6,    202.6,2,    86.83,2,    25.78,2,     0.00,2,     2.01,2,   2251.5,2,   2286.9,6,7.4462,2,    25.00,0814
  49UF20171107,KS1708,5238,1,2,25236,2,20171113,0807,41.5138,137.0253, 3597,   3586.9,   0.3362,  34.0680,2,  34.0678,2,    202.6,2,    86.93,2,    25.76,2,     0.00,2,     2.00,2,   2254.0,2,   2286.7,2,7.4472,6,    25.00,0807
  49UF20171107,KS1708,5238,1,1,25235,2,20171113,0807,41.5138,137.0253, 3597,   3587.5,   0.3361,  34.0679,2,  34.0672,2,    202.5,2,    86.93,2,    25.58,2,     0.00,2,     2.00,2,   2250.6,2,   2287.6,2,7.4464,2,    25.00,0807