BOTTLE,20240319CCHSIOADS
EXPOCODE,SECT_ID,STNNBR,CASTNO,SAMPNO,BTLNBR,BTLNBR_FLAG_W,DATE,TIME,LATITUDE,LONGITUDE,DEPTH,CTDPRS,CTDTMP,CTDSAL,CTDSAL_FLAG_W,SALNTY,SALNTY_FLAG_W,OXYGEN,OXYGEN_FLAG_W,SILCAT,SILCAT_FLAG_W,NITRAT,NITRAT_FLAG_W,NITRIT,NITRIT_FLAG_W,PHSPHT,PHSPHT_FLAG_W,TCARBN,TCARBN_FLAG_W,ALKALI,ALKALI_FLAG_W,PH_TOT,PH_TOT_FLAG_W,PH_TMP,BTL_TIME
,,,,,,,,,,,METERS,DBAR,ITS-90,PSS-78,,PSS-78,,UMOL/KG,,UMOL/KG,,UMOL/KG,,UMOL/KG,,UMOL/KG,,UMOL/KG,,UMOL/KG,,,,DEG C,
  49UF20171107,KS1708,5254,1,0,BUC,2,20171121,0340,39.5448,134.4785, 2057,      0.0,  16.0549,  33.9124,2,  33.9178,2,    233.8,2,     4.84,2,     2.15,2,     0.40,2,     0.20,2,   2029.3,2,   2279.3,2,7.9819,2,    25.00,0420
  49UF20171107,KS1708,5254,1,36,25270,2,20171121,0340,39.5448,134.4785, 2057,     11.3,  16.0618,  33.9122,2,  33.9122,2,    232.6,2,     4.84,2,     2.19,2,     0.40,2,     0.19,2,   2029.3,2,   2281.4,2,7.9822,2,    25.00,0440
  49UF20171107,KS1708,5254,1,35,25269,2,20171121,0340,39.5448,134.4785, 2057,     26.5,  16.0668,  33.9124,2,  33.9121,2,    232.3,2,     4.84,2,     2.14,2,     0.40,2,     0.19,2,   2030.7,2,   2277.5,2,7.9827,2,    25.00,0439
  49UF20171107,KS1708,5254,1,34,25268,2,20171121,0340,39.5448,134.4785, 2057,     50.7,  16.0790,  33.9145,2,  33.9149,2,    232.2,2,     4.90,2,     2.23,2,     0.41,2,     0.20,2,   2032.0,2,   2277.5,2,7.9793,2,    25.00,0434
  49UF20171107,KS1708,5254,1,33,25267,2,20171121,0340,39.5448,134.4785, 2057,     51.3,  16.0791,  33.9143,2,  33.9157,2,    232.0,2,     4.87,2,     2.25,2,     0.41,2,     0.19,2,   2030.7,2,   2282.1,2,7.984,2,    25.00,0434
  49UF20171107,KS1708,5254,1,32,25266,2,20171121,0340,39.5448,134.4785, 2057,     75.8,  16.0654,  34.0028,2,  34.0379,4,    223.3,2,     5.99,2,     3.20,2,     0.35,2,     0.26,2,   2038.4,2,   2279.6,2,7.965,2,    25.00,0432
  49UF20171107,KS1708,5254,1,31,25265,2,20171121,0340,39.5448,134.4785, 2057,    101.9,  13.7169,  34.4256,2,  34.4279,2,    203.0,2,    11.21,2,     7.86,2,     0.02,2,     0.57,2,   2084.7,2,   2284.5,2,7.8657,2,    25.00,0431
  49UF20171107,KS1708,5254,1,27,25261,2,20171121,0340,39.5448,134.4785, 2057,    129.6,   8.9730,  34.1596,2,  34.1801,2,    249.6,6,     8.87,6,     7.97,6,     0.02,6,     0.57,6,   2091.0,2,   2275.2,2,7.8388,2,    25.00,0429
  49UF20171107,KS1708,5254,1,26,25260,2,20171121,0340,39.5448,134.4785, 2057,    152.1,   6.5745,  34.0497,2,  34.0538,2,    257.6,2,    11.93,2,     9.98,2,     0.01,2,     0.73,2,   2118.5,2,   2266.7,2,7.7603,2,    25.00,0428
  49UF20171107,KS1708,5254,1,25,25259,2,20171121,0340,39.5448,134.4785, 2057,    202.6,   3.0192,  33.9605,2,  33.9612,2,    276.3,2,    14.89,2,    12.51,2,     0.01,2,     0.92,2,   2152.5,2,   2260.2,2,7.6637,2,    25.00,0426
  49UF20171107,KS1708,5254,1,24,25258,2,20171121,0340,39.5448,134.4785, 2057,    252.0,   1.7768,  33.9945,2,  33.9945,2,    271.5,2,    19.83,2,    15.57,2,     0.00,2,     1.15,2,   2175.9,6,   2261.0,6,7.5985,2,    25.00,0424
  49UF20171107,KS1708,5254,1,23,25257,2,20171121,0340,39.5448,134.4785, 2057,    304.0,   1.2780,  34.0232,2,  34.0235,2,    260.2,2,    25.24,2,    18.16,2,     0.00,2,     1.34,2,   2190.5,2,   2263.1,2,7.5491,2,    25.00,0422
  49UF20171107,KS1708,5254,1,22,25256,2,20171121,0340,39.5448,134.4785, 2057,    405.0,   0.9421,  34.0474,2,  34.0472,2,    243.8,2,    31.51,2,    20.94,2,     0.00,2,     1.57,2,   2211.3,2,   2263.3,2,7.4963,6,    25.00,0419
  49UF20171107,KS1708,5254,1,18,25252,2,20171121,0340,39.5448,134.4785, 2057,    507.1,   0.7756,  34.0617,2,  34.0615,2,    215.1,2,    41.45,2,    24.12,2,     0.00,2,     1.83,2,   2233.7,2,   2265.2,2,7.4386,2,    25.00,0417
  49UF20171107,KS1708,5254,1,17,25251,2,20171121,0340,39.5448,134.4785, 2057,    507.3,   0.7756,  34.0617,2,  34.0617,2,    215.0,2,    41.32,2,    24.09,2,     0.00,2,     1.83,2,   2234.3,2,   2261.4,2,7.4362,2,    25.00,0417
  49UF20171107,KS1708,5254,1,16,25250,2,20171121,0340,39.5448,134.4785, 2057,    609.5,   0.6206,  34.0682,2,  34.0679,2,    205.3,2,    49.15,2,    25.05,2,     0.00,2,     1.92,2,   2236.3,2,   2268.1,2,7.4222,2,    25.00,0414
  49UF20171107,KS1708,5254,1,15,25249,2,20171121,0340,39.5448,134.4785, 2057,    706.3,   0.5124,  34.0699,2,  34.0700,2,    200.8,6,    55.71,6,    25.33,6,     0.00,6,     1.95,6,   2241.6,2,   2271.8,2,7.4141,2,    25.00,0411
  49UF20171107,KS1708,5254,1,14,25248,2,20171121,0340,39.5448,134.4785, 2057,    808.7,   0.4362,  34.0703,2,  34.0697,2,    199.4,2,    60.46,2,    25.56,2,     0.00,2,     1.97,2,   2246.2,2,   2274.1,2,7.4112,2,    25.00,0409
  49UF20171107,KS1708,5254,1,13,25247,2,20171121,0340,39.5448,134.4785, 2057,    909.0,   0.3844,  34.0701,2,  34.0711,2,    198.9,2,    64.25,2,    25.52,2,     0.00,2,     1.98,2,   2248.1,6,   2275.6,6,7.4168,2,    25.00,0406
  49UF20171107,KS1708,5254,1,9,25243,2,20171121,0340,39.5448,134.4785, 2057,   1012.2,   0.3464,  34.0699,2,  34.0700,2,    198.1,2,    67.15,2,    25.61,2,     0.00,2,     1.99,2,   2251.8,2,   2276.5,2,7.4178,2,    25.00,0403
  49UF20171107,KS1708,5254,1,8,25242,2,20171121,0340,39.5448,134.4785, 2057,   1215.9,   0.2939,  34.0693,2,  34.0694,2,    197.7,2,    72.43,2,    25.61,2,     0.00,2,     1.99,2,   2252.4,2,   2280.5,2,7.4187,6,    25.00,0358
  49UF20171107,KS1708,5254,1,6,25240,2,20171121,0340,39.5448,134.4785, 2057,   1417.9,   0.2655,  34.0689,2,  34.0693,6,    196.8,2,    76.90,2,    25.51,2,     0.00,2,     2.00,2,   2256.8,2,   2283.9,2,7.421,2,    25.00,0354
  49UF20171107,KS1708,5254,1,5,25239,2,20171121,0340,39.5448,134.4785, 2057,   1620.5,   0.2416,  34.0685,2,  34.0686,2,    194.8,2,    82.50,2,    25.76,2,     0.00,2,     2.02,2,   2255.6,6,   2284.7,6,7.4206,2,    25.00,0349
  49UF20171107,KS1708,5254,1,4,25238,2,20171121,0340,39.5448,134.4785, 2057,   1827.1,   0.2393,  34.0683,2,  34.0690,6,    190.0,2,    89.02,2,    26.11,2,     0.00,2,     2.05,2,   2260.3,2,   2288.3,2,7.4172,6,    25.00,0345
  49UF20171107,KS1708,5254,1,2,25236,2,20171121,0340,39.5448,134.4785, 2057,   2029.8,   0.2537,  34.0684,2,  34.0688,2,    189.8,6,    89.28,6,    26.15,6,     0.00,6,     2.06,6,   2264.5,2,   2288.1,2,7.4163,2,    25.00,0340
  49UF20171107,KS1708,5255,1,0,BUC,2,20171121,1033,38.7148,134.416, 2364,      0.0,  14.4208,  33.9355,2,-999.0000,9,    237.4,2,  -999.00,9,  -999.00,9,  -999.00,9,  -999.00,9,   -999.0,9,   -999.0,9,-999.0,9,  -999.00,1111
  49UF20171107,KS1708,5255,1,36,25270,2,20171121,1033,38.7148,134.416, 2364,     11.2,  13.6065,  33.9411,2,-999.0000,9,    247.1,2,  -999.00,9,  -999.00,9,  -999.00,9,  -999.00,9,   -999.0,9,   -999.0,9,-999.0,9,  -999.00,1137
  49UF20171107,KS1708,5255,1,35,25269,2,20171121,1033,38.7148,134.416, 2364,     26.6,  13.1910,  33.9458,2,-999.0000,9,    250.2,2,  -999.00,9,  -999.00,9,  -999.00,9,  -999.00,9,   -999.0,9,   -999.0,9,-999.0,9,  -999.00,1136
  49UF20171107,KS1708,5255,1,34,25268,2,20171121,1033,38.7148,134.416, 2364,     50.2,  13.0304,  33.9390,2,  33.9394,2,    251.4,2,  -999.00,9,  -999.00,9,  -999.00,9,  -999.00,9,   -999.0,9,   -999.0,9,-999.0,9,  -999.00,1132
  49UF20171107,KS1708,5255,1,32,25266,2,20171121,1033,38.7148,134.416, 2364,     76.8,  13.0391,  33.9466,2,-999.0000,9,    251.3,2,  -999.00,9,  -999.00,9,  -999.00,9,  -999.00,9,   -999.0,9,   -999.0,9,-999.0,9,  -999.00,1131
  49UF20171107,KS1708,5255,1,33,25267,2,20171121,1033,38.7148,134.416, 2364,     76.9,  13.0295,  33.9461,2,-999.0000,9,    251.7,2,  -999.00,9,  -999.00,9,  -999.00,9,  -999.00,9,   -999.0,9,   -999.0,9,-999.0,9,  -999.00,1131
  49UF20171107,KS1708,5255,1,30,25264,2,20171121,1033,38.7148,134.416, 2364,    102.8,  12.3967,  34.2308,2,  34.2303,2,    229.9,2,  -999.00,9,  -999.00,9,  -999.00,9,  -999.00,9,   -999.0,9,   -999.0,9,-999.0,9,  -999.00,1130
  49UF20171107,KS1708,5255,1,29,25263,2,20171121,1033,38.7148,134.416, 2364,    126.7,   6.7402,  34.0166,2,-999.0000,9,    262.8,6,  -999.00,9,  -999.00,9,  -999.00,9,  -999.00,9,   -999.0,9,   -999.0,9,-999.0,9,  -999.00,1128
  49UF20171107,KS1708,5255,1,27,25261,2,20171121,1033,38.7148,134.416, 2364,    152.8,   4.1223,  33.9488,2,-999.0000,9,    280.7,2,  -999.00,9,  -999.00,9,  -999.00,9,  -999.00,9,   -999.0,9,   -999.0,9,-999.0,9,  -999.00,1127
  49UF20171107,KS1708,5255,1,26,25260,2,20171121,1033,38.7148,134.416, 2364,    203.2,   2.0715,  33.9878,2,  33.9891,2,    278.0,2,  -999.00,9,  -999.00,9,  -999.00,9,  -999.00,9,   -999.0,9,   -999.0,9,-999.0,9,  -999.00,1125
  49UF20171107,KS1708,5255,1,25,25259,2,20171121,1033,38.7148,134.416, 2364,    253.2,   1.5222,  34.0223,2,-999.0000,9,    252.1,2,  -999.00,9,  -999.00,9,  -999.00,9,  -999.00,9,   -999.0,9,   -999.0,9,-999.0,9,  -999.00,1124
  49UF20171107,KS1708,5255,1,24,25258,2,20171121,1033,38.7148,134.416, 2364,    303.9,   1.1728,  34.0407,2,-999.0000,9,    238.8,2,  -999.00,9,  -999.00,9,  -999.00,9,  -999.00,9,   -999.0,9,   -999.0,9,-999.0,9,  -999.00,1122
  49UF20171107,KS1708,5255,1,23,25257,2,20171121,1033,38.7148,134.416, 2364,    406.4,   0.8263,  34.0600,2,-999.0000,9,    217.1,2,  -999.00,9,  -999.00,9,  -999.00,9,  -999.00,9,   -999.0,9,   -999.0,9,-999.0,9,  -999.00,1119
  49UF20171107,KS1708,5255,1,22,25256,2,20171121,1033,38.7148,134.416, 2364,    507.9,   0.7193,  34.0648,2,  34.0650,2,    209.6,2,  -999.00,9,  -999.00,9,  -999.00,9,  -999.00,9,   -999.0,9,   -999.0,9,-999.0,9,  -999.00,1117
  49UF20171107,KS1708,5255,1,18,25252,2,20171121,1033,38.7148,134.416, 2364,    608.3,   0.5951,  34.0688,2,  34.0684,2,    203.2,2,  -999.00,9,  -999.00,9,  -999.00,9,  -999.00,9,   -999.0,9,   -999.0,9,-999.0,9,  -999.00,1114
  49UF20171107,KS1708,5255,1,17,25251,2,20171121,1033,38.7148,134.416, 2364,    707.7,   0.4984,  34.0700,2,-999.0000,9,    200.7,2,  -999.00,9,  -999.00,9,  -999.00,9,  -999.00,9,   -999.0,9,   -999.0,9,-999.0,9,  -999.00,1112
  49UF20171107,KS1708,5255,1,16,25250,2,20171121,1033,38.7148,134.416, 2364,    707.7,   0.4989,  34.0701,2,-999.0000,9,    200.7,2,  -999.00,9,  -999.00,9,  -999.00,9,  -999.00,9,   -999.0,9,   -999.0,9,-999.0,9,  -999.00,1111
  49UF20171107,KS1708,5255,1,15,25249,2,20171121,1033,38.7148,134.416, 2364,    808.6,   0.4350,  34.0703,2,-999.0000,9,    199.9,2,  -999.00,9,  -999.00,9,  -999.00,9,  -999.00,9,   -999.0,9,   -999.0,9,-999.0,9,  -999.00,1109
  49UF20171107,KS1708,5255,1,14,25248,2,20171121,1033,38.7148,134.416, 2364,    909.7,   0.3806,  34.0702,2,  34.0698,2,    199.0,2,  -999.00,9,  -999.00,9,  -999.00,9,  -999.00,9,   -999.0,9,   -999.0,9,-999.0,9,  -999.00,1106
  49UF20171107,KS1708,5255,1,13,25247,2,20171121,1033,38.7148,134.416, 2364,   1009.8,   0.3392,  34.0700,2,-999.0000,9,    198.7,2,  -999.00,9,  -999.00,9,  -999.00,9,  -999.00,9,   -999.0,9,   -999.0,9,-999.0,9,  -999.00,1104
  49UF20171107,KS1708,5255,1,9,25243,2,20171121,1033,38.7148,134.416, 2364,   1216.0,   0.2764,  34.0692,2,-999.0000,9,    198.5,2,  -999.00,9,  -999.00,9,  -999.00,9,  -999.00,9,   -999.0,9,   -999.0,9,-999.0,9,  -999.00,1059
  49UF20171107,KS1708,5255,1,8,25242,2,20171121,1033,38.7148,134.416, 2364,   1417.9,   0.2486,  34.0686,2,  34.0688,2,    198.5,2,  -999.00,9,  -999.00,9,  -999.00,9,  -999.00,9,   -999.0,9,   -999.0,9,-999.0,9,  -999.00,1055
  49UF20171107,KS1708,5255,1,6,25240,2,20171121,1033,38.7148,134.416, 2364,   1620.1,   0.2348,  34.0683,2,  34.0682,2,    198.4,2,  -999.00,9,  -999.00,9,  -999.00,9,  -999.00,9,   -999.0,9,   -999.0,9,-999.0,9,  -999.00,1050
  49UF20171107,KS1708,5255,1,5,25239,2,20171121,1033,38.7148,134.416, 2364,   1822.1,   0.2272,  34.0682,2,-999.0000,9,    198.5,6,  -999.00,9,  -999.00,9,  -999.00,9,  -999.00,9,   -999.0,9,   -999.0,9,-999.0,9,  -999.00,1045
  49UF20171107,KS1708,5255,1,4,25238,2,20171121,1033,38.7148,134.416, 2364,   2025.2,   0.2340,  34.0680,2,  34.0678,2,    198.6,2,  -999.00,9,  -999.00,9,  -999.00,9,  -999.00,9,   -999.0,9,   -999.0,9,-999.0,9,  -999.00,1040
  49UF20171107,KS1708,5255,1,3,24271,2,20171121,1033,38.7148,134.416, 2364,   2281.8,   0.2507,  34.0680,2,  34.0691,4,    198.7,2,  -999.00,9,  -999.00,9,  -999.00,9,  -999.00,9,   -999.0,9,   -999.0,9,-999.0,9,  -999.00,1035
  49UF20171107,KS1708,5255,1,2,25236,2,20171121,1033,38.7148,134.416, 2364,   2332.2,   0.2522,  34.0681,2,  34.0691,4,    198.2,2,  -999.00,9,  -999.00,9,  -999.00,9,  -999.00,9,   -999.0,9,   -999.0,9,-999.0,9,  -999.00,1033
  49UF20171107,KS1708,5256,1,0,BUC,2,20171121,1501,38.1555,134.3983, 1164,      0.0,  17.2039,  33.8848,2,-999.0000,9,    228.7,2,     3.78,2,     1.80,2,     0.48,2,     0.16,2,   -999.0,9,   -999.0,9,-999.0,9,  -999.00,1520
  49UF20171107,KS1708,5256,1,36,25270,2,20171121,1501,38.1555,134.3983, 1164,     12.8,  17.2126,  33.8838,2,-999.0000,9,    227.5,6,     3.75,6,     1.80,6,     0.47,6,     0.16,6,   -999.0,9,   -999.0,9,-999.0,9,  -999.00,1541
  49UF20171107,KS1708,5256,1,35,25269,2,20171121,1501,38.1555,134.3983, 1164,     26.8,  17.2342,  33.8851,2,-999.0000,9,    226.9,2,     3.77,2,     1.91,2,     0.47,2,     0.16,2,   -999.0,9,   -999.0,9,-999.0,9,  -999.00,1539
  49UF20171107,KS1708,5256,1,33,25267,2,20171121,1501,38.1555,134.3983, 1164,     50.3,  17.2242,  33.8837,2,-999.0000,9,    227.1,2,     3.76,2,     1.86,2,     0.47,2,     0.16,2,   -999.0,9,   -999.0,9,-999.0,9,  -999.00,1535
  49UF20171107,KS1708,5256,1,31,25265,2,20171121,1501,38.1555,134.3983, 1164,     76.2,  17.6007,  34.3662,2,-999.0000,9,    177.8,2,    10.43,2,     7.79,2,     0.10,2,     0.53,2,   -999.0,9,   -999.0,9,-999.0,9,  -999.00,1534
  49UF20171107,KS1708,5256,1,32,25266,2,20171121,1501,38.1555,134.3983, 1164,     76.4,  17.6036,  34.3645,2,-999.0000,9,    177.0,2,    10.44,2,     7.81,2,     0.11,2,     0.53,2,   -999.0,9,   -999.0,9,-999.0,9,  -999.00,1534
  49UF20171107,KS1708,5256,1,27,25261,2,20171121,1501,38.1555,134.3983, 1164,    103.5,  15.5850,  34.5150,2,-999.0000,9,    198.5,2,     9.50,2,     6.42,2,     0.04,2,     0.47,2,   -999.0,9,   -999.0,9,-999.0,9,  -999.00,1532
  49UF20171107,KS1708,5256,1,26,25260,2,20171121,1501,38.1555,134.3983, 1164,    127.4,  13.1237,  34.4253,2,-999.0000,9,    229.9,2,     4.56,2,     4.25,2,     0.02,2,     0.33,2,   -999.0,9,   -999.0,9,-999.0,9,  -999.00,1531
  49UF20171107,KS1708,5256,1,24,25258,2,20171121,1501,38.1555,134.3983, 1164,    152.0,  11.4997,  34.2695,2,-999.0000,9,    244.9,2,     4.90,2,     5.47,2,     0.02,2,     0.38,2,   -999.0,9,   -999.0,9,-999.0,9,  -999.00,1530
  49UF20171107,KS1708,5256,1,23,25257,2,20171121,1501,38.1555,134.3983, 1164,    204.4,   5.7068,  34.0241,2,-999.0000,9,    256.5,6,    13.02,6,    10.81,6,     0.01,6,     0.79,6,   -999.0,9,   -999.0,9,-999.0,9,  -999.00,1528
  49UF20171107,KS1708,5256,1,22,25256,2,20171121,1501,38.1555,134.3983, 1164,    256.2,   2.2986,  33.9850,2,-999.0000,9,    277.1,2,    17.39,2,    13.83,2,     0.00,2,     1.02,2,   -999.0,9,   -999.0,9,-999.0,9,  -999.00,1526
  49UF20171107,KS1708,5256,1,17,25251,2,20171121,1501,38.1555,134.3983, 1164,    304.0,   1.6958,  34.0071,2,-999.0000,9,    270.3,2,    21.09,2,    15.79,2,     0.00,2,     1.17,2,   -999.0,9,   -999.0,9,-999.0,9,  -999.00,1524
  49UF20171107,KS1708,5256,1,15,25249,2,20171121,1501,38.1555,134.3983, 1164,    404.2,   0.9306,  34.0534,2,-999.0000,9,    223.1,2,    37.61,2,    22.74,2,     0.00,2,     1.72,2,   -999.0,9,   -999.0,9,-999.0,9,  -999.00,1521
  49UF20171107,KS1708,5256,1,16,25250,2,20171121,1501,38.1555,134.3983, 1164,    404.3,   0.9241,  34.0539,2,-999.0000,9,    223.2,2,    37.53,2,    22.83,2,     0.00,2,     1.72,2,   -999.0,9,   -999.0,9,-999.0,9,  -999.00,1521
  49UF20171107,KS1708,5256,1,14,25248,2,20171121,1501,38.1555,134.3983, 1164,    505.2,   0.7672,  34.0627,2,-999.0000,9,    210.5,2,    43.82,2,    24.40,2,     0.00,2,     1.85,2,   -999.0,9,   -999.0,9,-999.0,9,  -999.00,1518
  49UF20171107,KS1708,5256,1,13,25247,2,20171121,1501,38.1555,134.3983, 1164,    606.7,   0.5878,  34.0688,2,-999.0000,9,    202.1,2,    51.65,2,    25.10,2,     0.00,2,     1.93,2,   -999.0,9,   -999.0,9,-999.0,9,  -999.00,1516
  49UF20171107,KS1708,5256,1,9,25243,2,20171121,1501,38.1555,134.3983, 1164,    708.0,   0.5447,  34.0695,2,-999.0000,9,    201.0,2,    54.29,2,    25.30,2,     0.00,2,     1.95,2,   -999.0,9,   -999.0,9,-999.0,9,  -999.00,1513
  49UF20171107,KS1708,5256,1,8,25242,2,20171121,1501,38.1555,134.3983, 1164,    810.0,   0.4523,  34.0698,2,-999.0000,9,    200.0,2,    59.46,2,    25.23,2,     0.00,2,     1.96,2,   -999.0,9,   -999.0,9,-999.0,9,  -999.00,1510
  49UF20171107,KS1708,5256,1,6,25240,2,20171121,1501,38.1555,134.3983, 1164,    910.4,   0.3370,  34.0695,2,-999.0000,9,    197.8,2,    67.91,2,    25.45,2,     0.00,2,     1.98,2,   -999.0,9,   -999.0,9,-999.0,9,  -999.00,1507
  49UF20171107,KS1708,5256,1,5,25239,2,20171121,1501,38.1555,134.3983, 1164,   1013.2,   0.3010,  34.0692,2,-999.0000,9,    196.4,2,    72.53,2,    25.45,2,     0.00,2,     1.99,2,   -999.0,9,   -999.0,9,-999.0,9,  -999.00,1504
  49UF20171107,KS1708,5256,1,4,25238,2,20171121,1501,38.1555,134.3983, 1164,   1134.0,   0.2361,  34.0684,2,-999.0000,9,    195.9,6,    79.53,6,    25.56,6,     0.00,6,     2.01,6,   -999.0,9,   -999.0,9,-999.0,9,  -999.00,1501