BOTTLE,20240319CCHSIOADS
EXPOCODE,SECT_ID,STNNBR,CASTNO,SAMPNO,BTLNBR,BTLNBR_FLAG_W,DATE,TIME,LATITUDE,LONGITUDE,DEPTH,CTDPRS,CTDTMP,CTDSAL,CTDSAL_FLAG_W,SALNTY,SALNTY_FLAG_W,OXYGEN,OXYGEN_FLAG_W,SILCAT,SILCAT_FLAG_W,NITRAT,NITRAT_FLAG_W,NITRIT,NITRIT_FLAG_W,PHSPHT,PHSPHT_FLAG_W,TCARBN,TCARBN_FLAG_W,ALKALI,ALKALI_FLAG_W,PH_TOT,PH_TOT_FLAG_W,PH_TMP,BTL_TIME
,,,,,,,,,,,METERS,DBAR,ITS-90,PSS-78,,PSS-78,,UMOL/KG,,UMOL/KG,,UMOL/KG,,UMOL/KG,,UMOL/KG,,UMOL/KG,,UMOL/KG,,,,DEG C,
  49UF20171107,KS1708,5241,1,0,BUC,2,20171114,0915,42.5402,137.9705, 3686,      0.0,  13.8771,  34.1806,2,  34.1871,2,    252.8,2,     2.71,2,     0.59,2,     0.11,2,     0.09,2,   2034.9,2,   2281.1,2,7.9785,2,    25.00,1030
  49UF20171107,KS1708,5241,1,36,25270,2,20171114,0915,42.5402,137.9705, 3686,     11.5,  13.8806,  34.1806,2,  34.1807,2,    252.1,6,     2.74,6,     0.56,6,     0.11,6,     0.09,6,   2031.8,2,   2279.8,2,7.9779,2,    25.00,1106
  49UF20171107,KS1708,5241,1,35,25269,4,20171114,0915,42.5402,137.9705, 3686,     27.9,  13.8833,  34.1802,2,-999.0000,9,   -999.0,9,  -999.00,9,  -999.00,9,  -999.00,9,  -999.00,9,   -999.0,9,   -999.0,9,-999.0,9,  -999.00,1105
  49UF20171107,KS1708,5241,1,34,25268,2,20171114,0915,42.5402,137.9705, 3686,     50.5,  13.8905,  34.1776,2,  34.1806,6,    252.0,2,     2.71,2,     0.53,2,     0.11,2,     0.09,2,   2031.5,2,   2282.9,2,7.9794,2,    25.00,1103
  49UF20171107,KS1708,5241,1,33,25267,2,20171114,0915,42.5402,137.9705, 3686,     77.4,   7.8420,  34.0476,2,  34.0632,2,    265.8,2,     8.54,2,     6.75,2,     0.04,2,     0.53,2,   2098.6,2,   2266.3,2,7.8132,2,    25.00,1102
  49UF20171107,KS1708,5241,1,32,25266,2,20171114,0915,42.5402,137.9705, 3686,    102.5,   4.8018,  33.9782,2,  33.9795,2,    270.7,2,    12.26,2,    10.27,2,     0.01,2,     0.77,2,   2132.8,2,   2262.4,2,7.7183,2,    25.00,1101
  49UF20171107,KS1708,5241,1,30,25264,2,20171114,0915,42.5402,137.9705, 3686,    126.9,   3.2975,  33.9853,2,  33.9853,2,    272.4,2,    15.70,2,    12.59,2,     0.01,2,     0.93,2,   2152.8,2,   2262.1,2,7.6643,2,    25.00,1059
  49UF20171107,KS1708,5241,1,29,25263,2,20171114,0915,42.5402,137.9705, 3686,    149.6,   2.3366,  33.9986,2,  33.9981,2,    279.9,2,    17.45,2,    13.42,2,     0.01,2,     0.99,2,   2165.6,2,   2264.9,2,7.6426,2,    25.00,1056
  49UF20171107,KS1708,5241,1,28,25262,2,20171114,0915,42.5402,137.9705, 3686,    197.8,   1.5413,  34.0184,2,  34.0191,2,    279.9,2,    20.45,2,    15.28,2,     0.01,2,     1.13,2,   2178.2,2,   2260.1,2,7.6037,2,    25.00,1054
  49UF20171107,KS1708,5241,1,27,25261,2,20171114,0915,42.5402,137.9705, 3686,    253.8,   1.2334,  34.0373,2,  34.0370,2,    272.3,2,    23.62,2,    17.19,2,     0.00,2,     1.26,2,   2187.3,2,   2259.2,2,7.5716,2,    25.00,1052
  49UF20171107,KS1708,5241,1,26,25260,2,20171114,0915,42.5402,137.9705, 3686,    315.2,   1.0289,  34.0460,2,  34.0448,2,    261.4,2,    27.07,2,    18.78,2,     0.00,2,     1.39,2,   2195.4,2,   2261.2,2,7.5374,2,    25.00,1050
  49UF20171107,KS1708,5241,1,24,25258,2,20171114,0915,42.5402,137.9705, 3686,    404.9,   0.8545,  34.0583,2,  34.0584,2,    231.9,2,    34.80,2,    22.43,2,     0.00,2,     1.69,2,   2217.0,2,   2262.8,2,7.4681,2,    25.00,1044
  49UF20171107,KS1708,5241,1,25,25259,2,20171114,0915,42.5402,137.9705, 3686,    405.9,   0.8540,  34.0583,2,  34.0592,2,    231.3,2,    34.88,2,    22.38,2,     0.00,2,     1.69,2,   2219.9,2,   2261.0,2,7.4666,2,    25.00,1044
  49UF20171107,KS1708,5241,1,23,25257,2,20171114,0915,42.5402,137.9705, 3686,    511.6,   0.7289,  34.0662,2,  34.0661,2,    215.5,2,    41.58,2,    24.07,2,     0.00,2,     1.85,2,   2232.2,2,   2261.9,2,7.4349,2,    25.00,1039
  49UF20171107,KS1708,5241,1,22,25256,2,20171114,0915,42.5402,137.9705, 3686,    608.1,   0.6334,  34.0698,2,  34.0711,2,    206.6,2,    47.38,2,    24.95,2,     0.00,2,     1.92,2,   2237.9,2,   2266.6,2,7.4205,2,    25.00,1035
  49UF20171107,KS1708,5241,1,20,24270,2,20171114,0915,42.5402,137.9705, 3686,    710.3,   0.5315,  34.0715,2,  34.0710,2,    202.5,2,    53.16,2,    25.17,2,     0.00,2,     1.95,2,   2245.3,2,   2267.7,2,7.4155,2,    25.00,1032
  49UF20171107,KS1708,5241,1,19,25253,2,20171114,0915,42.5402,137.9705, 3686,    814.4,   0.4462,  34.0715,2,  34.0712,2,    200.7,6,    57.87,6,    25.40,6,     0.00,6,     1.96,6,   2244.8,2,   2270.4,2,7.4138,2,    25.00,1027
  49UF20171107,KS1708,5241,1,18,25252,2,20171114,0915,42.5402,137.9705, 3686,    909.7,   0.3876,  34.0709,2,  34.0710,2,    199.6,2,    61.49,2,    25.42,2,     0.00,2,     1.97,2,   2246.2,6,   2269.9,6,7.417,2,    25.00,1023
  49UF20171107,KS1708,5241,1,17,25251,2,20171114,0915,42.5402,137.9705, 3686,   1020.4,   0.3416,  34.0705,2,  34.0701,2,    199.3,2,    64.72,2,    25.44,2,     0.00,2,     1.97,2,   2245.7,2,   2273.3,2,7.4192,6,    25.00,1019
  49UF20171107,KS1708,5241,1,16,25250,2,20171114,0915,42.5402,137.9705, 3686,   1218.4,   0.2902,  34.0698,2,  34.0697,2,    200.0,2,    68.70,2,    25.45,2,     0.00,2,     1.97,2,   2246.2,2,   2275.4,2,7.4233,2,    25.00,1012
  49UF20171107,KS1708,5241,1,15,25249,2,20171114,0915,42.5402,137.9705, 3686,   1414.2,   0.2541,  34.0690,2,  34.0690,2,    200.9,2,    72.67,2,    25.40,2,     0.00,2,     1.98,2,   2246.0,2,   2278.4,2,7.4278,2,    25.00,1006
  49UF20171107,KS1708,5241,1,14,25248,2,20171114,0915,42.5402,137.9705, 3686,   1633.0,   0.2340,  34.0686,2,  34.0687,2,    200.6,2,    76.34,2,    25.40,2,     0.00,2,     1.98,2,   2248.9,6,   2281.1,6,7.4324,2,    25.00,1000
  49UF20171107,KS1708,5241,1,13,25247,2,20171114,0915,42.5402,137.9705, 3686,   1818.7,   0.2268,  34.0683,2,  34.0681,2,    200.7,2,    78.94,2,    25.38,2,     0.00,2,     1.99,2,   2246.8,2,   2281.4,2,7.4346,6,    25.00,0955
  49UF20171107,KS1708,5241,1,12,25246,2,20171114,0915,42.5402,137.9705, 3686,   2028.9,   0.2269,  34.0683,2,  34.0681,2,    201.5,2,    80.81,2,    25.51,2,     0.00,2,     1.99,2,   2252.3,2,   2283.1,2,7.4393,2,    25.00,0948
  49UF20171107,KS1708,5241,1,10,25244,2,20171114,0915,42.5402,137.9705, 3686,   2028.9,   0.2271,  34.0683,2,  34.0678,2,    201.4,2,    80.90,2,    25.51,2,     0.00,2,     2.00,2,   2249.5,2,   2283.7,2,7.44,2,    25.00,0948
  49UF20171107,KS1708,5241,1,11,25245,2,20171114,0915,42.5402,137.9705, 3686,   2029.0,   0.2271,  34.0683,2,  34.0709,4,    201.1,2,    80.93,2,    25.42,2,     0.00,2,     1.99,2,   2250.2,2,   2281.1,2,7.4412,2,    25.00,0948
  49UF20171107,KS1708,5241,1,9,25243,2,20171114,0915,42.5402,137.9705, 3686,   2284.8,   0.2325,  34.0684,2,  34.0685,2,    201.5,2,    83.94,2,    25.53,2,     0.00,2,     2.00,2,   2249.3,6,   2283.6,6,7.4406,2,    25.00,0941
  49UF20171107,KS1708,5241,1,7,25241,2,20171114,0915,42.5402,137.9705, 3686,   2531.2,   0.2416,  34.0683,2,  34.0679,2,    202.5,2,    86.24,2,    25.64,2,     0.00,2,     2.00,2,   2250.8,2,   2287.3,2,7.4466,6,    25.00,0935
  49UF20171107,KS1708,5241,1,8,25242,3,20171114,0915,42.5402,137.9705, 3686,   2539.3,   0.2423,  34.0683,2,-999.0000,9,   -999.0,9,  -999.00,9,  -999.00,9,  -999.00,9,  -999.00,9,   -999.0,9,   -999.0,9,-999.0,9,  -999.00,0937
  49UF20171107,KS1708,5241,1,6,25240,2,20171114,0915,42.5402,137.9705, 3686,   2777.3,   0.2616,  34.0685,2,  34.0684,6,    202.3,2,    86.46,2,    25.70,2,     0.00,2,     2.00,2,   2250.6,2,   2286.1,2,7.4472,2,    25.00,0930
  49UF20171107,KS1708,5241,1,5,25239,2,20171114,0915,42.5402,137.9705, 3686,   3046.5,   0.2851,  34.0683,2,  34.0683,2,    202.2,2,    86.61,2,    25.66,2,     0.00,2,     2.00,2,   2248.0,2,   2286.6,2,7.4486,2,    25.00,0926
  49UF20171107,KS1708,5241,1,4,25238,2,20171114,0915,42.5402,137.9705, 3686,   3295.9,   0.3078,  34.0680,2,  34.0685,2,    202.4,2,    86.50,2,    25.68,2,     0.00,2,     2.00,2,   2248.0,2,   2288.1,2,7.4494,2,    25.00,0922
  49UF20171107,KS1708,5241,1,2,25236,2,20171114,0915,42.5402,137.9705, 3686,   3551.9,   0.3322,  34.0681,2,  34.0683,6,    202.4,2,    86.41,2,    25.69,2,     0.00,2,     2.00,2,   2253.7,2,   2285.9,2,7.4481,2,    25.00,0917
  49UF20171107,KS1708,5241,1,1,25235,2,20171114,0915,42.5402,137.9705, 3686,   3677.1,   0.3449,  34.0679,2,  34.0682,6,    202.5,2,    86.43,2,    25.62,2,     0.00,2,     2.00,2,   2252.7,2,   2284.4,2,7.4489,2,    25.00,0915
  49UF20171107,KS1708,5242,1,0,BUC,2,20171114,1800,42.1685,138.0178, 3690,      0.0,  12.1197,  34.1217,2,-999.0000,9,    267.2,2,  -999.00,9,  -999.00,9,  -999.00,9,  -999.00,9,   -999.0,9,   -999.0,9,-999.0,9,  -999.00,1910
  49UF20171107,KS1708,5242,1,36,25270,2,20171114,1800,42.1685,138.0178, 3690,     11.3,  12.1482,  34.1238,2,-999.0000,9,    263.4,2,  -999.00,9,  -999.00,9,  -999.00,9,  -999.00,9,   -999.0,9,   -999.0,9,-999.0,9,  -999.00,1946
  49UF20171107,KS1708,5242,1,35,25269,2,20171114,1800,42.1685,138.0178, 3690,     25.3,  11.6199,  34.1066,2,  34.1061,2,    266.1,2,  -999.00,9,  -999.00,9,  -999.00,9,  -999.00,9,   -999.0,9,   -999.0,9,-999.0,9,  -999.00,1944
  49UF20171107,KS1708,5242,1,34,25268,2,20171114,1800,42.1685,138.0178, 3690,     52.4,   7.1004,  34.0309,2,-999.0000,9,    269.8,2,  -999.00,9,  -999.00,9,  -999.00,9,  -999.00,9,   -999.0,9,   -999.0,9,-999.0,9,  -999.00,1942
  49UF20171107,KS1708,5242,1,33,25267,2,20171114,1800,42.1685,138.0178, 3690,     77.2,   4.2747,  33.9795,2,  33.9807,2,    277.3,2,  -999.00,9,  -999.00,9,  -999.00,9,  -999.00,9,   -999.0,9,   -999.0,9,-999.0,9,  -999.00,1940
  49UF20171107,KS1708,5242,1,32,25266,2,20171114,1800,42.1685,138.0178, 3690,    101.9,   3.4456,  33.9932,2,-999.0000,9,    285.7,2,  -999.00,9,  -999.00,9,  -999.00,9,  -999.00,9,   -999.0,9,   -999.0,9,-999.0,9,  -999.00,1938
  49UF20171107,KS1708,5242,1,30,25264,2,20171114,1800,42.1685,138.0178, 3690,    127.2,   2.8854,  34.0101,2,-999.0000,9,    293.1,2,  -999.00,9,  -999.00,9,  -999.00,9,  -999.00,9,   -999.0,9,   -999.0,9,-999.0,9,  -999.00,1935
  49UF20171107,KS1708,5242,1,29,25263,2,20171114,1800,42.1685,138.0178, 3690,    153.0,   2.3095,  34.0065,2,-999.0000,9,    297.0,2,  -999.00,9,  -999.00,9,  -999.00,9,  -999.00,9,   -999.0,9,   -999.0,9,-999.0,9,  -999.00,1933
  49UF20171107,KS1708,5242,1,27,25261,2,20171114,1800,42.1685,138.0178, 3690,    204.1,   1.6484,  34.0269,2,  34.0275,2,    285.3,2,  -999.00,9,  -999.00,9,  -999.00,9,  -999.00,9,   -999.0,9,   -999.0,9,-999.0,9,  -999.00,1927
  49UF20171107,KS1708,5242,1,26,25260,2,20171114,1800,42.1685,138.0178, 3690,    254.4,   1.2900,  34.0352,2,-999.0000,9,    277.9,2,  -999.00,9,  -999.00,9,  -999.00,9,  -999.00,9,   -999.0,9,   -999.0,9,-999.0,9,  -999.00,1925
  49UF20171107,KS1708,5242,1,25,25259,2,20171114,1800,42.1685,138.0178, 3690,    255.0,   1.2896,  34.0352,2,-999.0000,9,    277.9,2,  -999.00,9,  -999.00,9,  -999.00,9,  -999.00,9,   -999.0,9,   -999.0,9,-999.0,9,  -999.00,1925
  49UF20171107,KS1708,5242,1,24,25258,2,20171114,1800,42.1685,138.0178, 3690,    305.6,   1.1383,  34.0425,2,-999.0000,9,    267.0,2,  -999.00,9,  -999.00,9,  -999.00,9,  -999.00,9,   -999.0,9,   -999.0,9,-999.0,9,  -999.00,1923
  49UF20171107,KS1708,5242,1,23,25257,2,20171114,1800,42.1685,138.0178, 3690,    404.7,   0.9078,  34.0540,2,-999.0000,9,    241.3,2,  -999.00,9,  -999.00,9,  -999.00,9,  -999.00,9,   -999.0,9,   -999.0,9,-999.0,9,  -999.00,1920
  49UF20171107,KS1708,5242,1,22,25256,2,20171114,1800,42.1685,138.0178, 3690,    505.2,   0.7554,  34.0646,2,-999.0000,9,    219.2,2,  -999.00,9,  -999.00,9,  -999.00,9,  -999.00,9,   -999.0,9,   -999.0,9,-999.0,9,  -999.00,1917
  49UF20171107,KS1708,5242,1,21,25255,2,20171114,1800,42.1685,138.0178, 3690,    608.5,   0.6405,  34.0699,2,  34.0690,2,    207.7,2,  -999.00,9,  -999.00,9,  -999.00,9,  -999.00,9,   -999.0,9,   -999.0,9,-999.0,9,  -999.00,1914
  49UF20171107,KS1708,5242,1,20,24270,3,20171114,1800,42.1685,138.0178, 3690,    706.6,   0.5412,  34.0710,2,-999.0000,9,    201.8,2,  -999.00,9,  -999.00,9,  -999.00,9,  -999.00,9,   -999.0,9,   -999.0,9,-999.0,9,  -999.00,1911
  49UF20171107,KS1708,5242,1,19,25253,2,20171114,1800,42.1685,138.0178, 3690,    807.9,   0.4458,  34.0715,2,-999.0000,9,    200.6,2,  -999.00,9,  -999.00,9,  -999.00,9,  -999.00,9,   -999.0,9,   -999.0,9,-999.0,9,  -999.00,1908
  49UF20171107,KS1708,5242,1,18,25252,2,20171114,1800,42.1685,138.0178, 3690,    910.9,   0.3827,  34.0712,2,  34.0719,2,    199.8,6,  -999.00,9,  -999.00,9,  -999.00,9,  -999.00,9,   -999.0,9,   -999.0,9,-999.0,9,  -999.00,1905
  49UF20171107,KS1708,5242,1,17,25251,2,20171114,1800,42.1685,138.0178, 3690,   1014.0,   0.3413,  34.0707,2,-999.0000,9,    199.7,2,  -999.00,9,  -999.00,9,  -999.00,9,  -999.00,9,   -999.0,9,   -999.0,9,-999.0,9,  -999.00,1902
  49UF20171107,KS1708,5242,1,15,25249,2,20171114,1800,42.1685,138.0178, 3690,   1213.1,   0.2859,  34.0696,2,  34.0691,2,    199.5,2,  -999.00,9,  -999.00,9,  -999.00,9,  -999.00,9,   -999.0,9,   -999.0,9,-999.0,9,  -999.00,1857
  49UF20171107,KS1708,5242,1,14,25248,2,20171114,1800,42.1685,138.0178, 3690,   1418.2,   0.2547,  34.0691,2,-999.0000,9,    200.4,2,  -999.00,9,  -999.00,9,  -999.00,9,  -999.00,9,   -999.0,9,   -999.0,9,-999.0,9,  -999.00,1852
  49UF20171107,KS1708,5242,1,13,25247,2,20171114,1800,42.1685,138.0178, 3690,   1621.5,   0.2351,  34.0686,2,  34.0684,2,    200.5,2,  -999.00,9,  -999.00,9,  -999.00,9,  -999.00,9,   -999.0,9,   -999.0,9,-999.0,9,  -999.00,1847
  49UF20171107,KS1708,5242,1,12,25246,2,20171114,1800,42.1685,138.0178, 3690,   1825.4,   0.2285,  34.0684,2,-999.0000,9,    200.8,2,  -999.00,9,  -999.00,9,  -999.00,9,  -999.00,9,   -999.0,9,   -999.0,9,-999.0,9,  -999.00,1842
  49UF20171107,KS1708,5242,1,11,25245,2,20171114,1800,42.1685,138.0178, 3690,   2025.4,   0.2284,  34.0683,2,  34.0683,2,    201.3,2,  -999.00,9,  -999.00,9,  -999.00,9,  -999.00,9,   -999.0,9,   -999.0,9,-999.0,9,  -999.00,1838
  49UF20171107,KS1708,5242,1,10,25244,2,20171114,1800,42.1685,138.0178, 3690,   2281.6,   0.2336,  34.0683,2,-999.0000,9,    202.4,2,  -999.00,9,  -999.00,9,  -999.00,9,  -999.00,9,   -999.0,9,   -999.0,9,-999.0,9,  -999.00,1832
  49UF20171107,KS1708,5242,1,9,25243,2,20171114,1800,42.1685,138.0178, 3690,   2538.7,   0.2426,  34.0683,2,  34.0676,2,    202.3,2,  -999.00,9,  -999.00,9,  -999.00,9,  -999.00,9,   -999.0,9,   -999.0,9,-999.0,9,  -999.00,1826
  49UF20171107,KS1708,5242,1,8,25242,2,20171114,1800,42.1685,138.0178, 3690,   2790.7,   0.2629,  34.0684,2,-999.0000,9,    202.2,2,  -999.00,9,  -999.00,9,  -999.00,9,  -999.00,9,   -999.0,9,   -999.0,9,-999.0,9,  -999.00,1821
  49UF20171107,KS1708,5242,1,6,25240,2,20171114,1800,42.1685,138.0178, 3690,   3047.1,   0.2851,  34.0683,2,  34.0693,2,    202.4,2,  -999.00,9,  -999.00,9,  -999.00,9,  -999.00,9,   -999.0,9,   -999.0,9,-999.0,9,  -999.00,1815
  49UF20171107,KS1708,5242,1,5,25239,2,20171114,1800,42.1685,138.0178, 3690,   3302.3,   0.3083,  34.0683,2,-999.0000,9,    202.4,2,  -999.00,9,  -999.00,9,  -999.00,9,  -999.00,9,   -999.0,9,   -999.0,9,-999.0,9,  -999.00,1809
  49UF20171107,KS1708,5242,1,4,25238,2,20171114,1800,42.1685,138.0178, 3690,   3302.5,   0.3084,  34.0682,2,-999.0000,9,    202.4,2,  -999.00,9,  -999.00,9,  -999.00,9,  -999.00,9,   -999.0,9,   -999.0,9,-999.0,9,  -999.00,1809
  49UF20171107,KS1708,5242,1,3,24271,2,20171114,1800,42.1685,138.0178, 3690,   3557.7,   0.3328,  34.0681,2,  34.0718,4,    202.6,2,  -999.00,9,  -999.00,9,  -999.00,9,  -999.00,9,   -999.0,9,   -999.0,9,-999.0,9,  -999.00,1803
  49UF20171107,KS1708,5242,1,2,25236,2,20171114,1800,42.1685,138.0178, 3690,   3684.2,   0.3453,  34.0682,2,  34.0685,2,    202.4,6,  -999.00,9,  -999.00,9,  -999.00,9,  -999.00,9,   -999.0,9,   -999.0,9,-999.0,9,  -999.00,1800