BOTTLE,20240319CCHSIOADS
EXPOCODE,SECT_ID,STNNBR,CASTNO,SAMPNO,BTLNBR,BTLNBR_FLAG_W,DATE,TIME,LATITUDE,LONGITUDE,DEPTH,CTDPRS,CTDTMP,CTDSAL,CTDSAL_FLAG_W,SALNTY,SALNTY_FLAG_W,OXYGEN,OXYGEN_FLAG_W,SILCAT,SILCAT_FLAG_W,NITRAT,NITRAT_FLAG_W,NITRIT,NITRIT_FLAG_W,PHSPHT,PHSPHT_FLAG_W,TCARBN,TCARBN_FLAG_W,ALKALI,ALKALI_FLAG_W,PH_TOT,PH_TOT_FLAG_W,PH_TMP,BTL_TIME
,,,,,,,,,,,METERS,DBAR,ITS-90,PSS-78,,PSS-78,,UMOL/KG,,UMOL/KG,,UMOL/KG,,UMOL/KG,,UMOL/KG,,UMOL/KG,,UMOL/KG,,,,DEG C,
  49UF20171107,KS1708,5239,1,0,BUC,2,20171113,1519,42.1867,137.4383, 3720,      0.0,  11.8317,  34.1019,2,-999.0000,9,    266.5,2,  -999.00,9,  -999.00,9,  -999.00,9,  -999.00,9,   -999.0,9,   -999.0,9,-999.0,9,  -999.00,1640
  49UF20171107,KS1708,5239,1,36,25270,2,20171113,1519,42.1867,137.4383, 3720,     11.6,  11.8351,  34.1016,2,-999.0000,9,    267.1,2,  -999.00,9,  -999.00,9,  -999.00,9,  -999.00,9,   -999.0,9,   -999.0,9,-999.0,9,  -999.00,1657
  49UF20171107,KS1708,5239,1,35,25269,2,20171113,1519,42.1867,137.4383, 3720,     27.4,  11.8430,  34.1013,2,-999.0000,9,    266.9,2,  -999.00,9,  -999.00,9,  -999.00,9,  -999.00,9,   -999.0,9,   -999.0,9,-999.0,9,  -999.00,1656
  49UF20171107,KS1708,5239,1,34,25268,2,20171113,1519,42.1867,137.4383, 3720,     53.0,  11.1981,  34.0825,2,-999.0000,9,    268.2,2,  -999.00,9,  -999.00,9,  -999.00,9,  -999.00,9,   -999.0,9,   -999.0,9,-999.0,9,  -999.00,1654
  49UF20171107,KS1708,5239,1,33,25267,2,20171113,1519,42.1867,137.4383, 3720,     77.3,   4.9890,  33.9953,2,  33.9959,2,    273.6,2,  -999.00,9,  -999.00,9,  -999.00,9,  -999.00,9,   -999.0,9,   -999.0,9,-999.0,9,  -999.00,1652
  49UF20171107,KS1708,5239,1,32,25266,2,20171113,1519,42.1867,137.4383, 3720,    102.1,   3.5973,  33.9972,2,-999.0000,9,    283.0,2,  -999.00,9,  -999.00,9,  -999.00,9,  -999.00,9,   -999.0,9,   -999.0,9,-999.0,9,  -999.00,1648
  49UF20171107,KS1708,5239,1,30,25264,2,20171113,1519,42.1867,137.4383, 3720,    128.0,   2.9076,  34.0090,2,  34.0081,2,    289.3,2,  -999.00,9,  -999.00,9,  -999.00,9,  -999.00,9,   -999.0,9,   -999.0,9,-999.0,9,  -999.00,1646
  49UF20171107,KS1708,5239,1,29,25263,2,20171113,1519,42.1867,137.4383, 3720,    154.2,   2.1842,  34.0043,2,-999.0000,9,    297.7,6,  -999.00,9,  -999.00,9,  -999.00,9,  -999.00,9,   -999.0,9,   -999.0,9,-999.0,9,  -999.00,1645
  49UF20171107,KS1708,5239,1,27,25261,2,20171113,1519,42.1867,137.4383, 3720,    203.3,   1.6310,  34.0245,2,-999.0000,9,    285.8,2,  -999.00,9,  -999.00,9,  -999.00,9,  -999.00,9,   -999.0,9,   -999.0,9,-999.0,9,  -999.00,1643
  49UF20171107,KS1708,5239,1,26,25260,2,20171113,1519,42.1867,137.4383, 3720,    253.4,   1.3451,  34.0351,2,-999.0000,9,    277.4,2,  -999.00,9,  -999.00,9,  -999.00,9,  -999.00,9,   -999.0,9,   -999.0,9,-999.0,9,  -999.00,1641
  49UF20171107,KS1708,5239,1,25,25259,2,20171113,1519,42.1867,137.4383, 3720,    305.6,   1.1294,  34.0430,2,  34.0423,2,    263.4,2,  -999.00,9,  -999.00,9,  -999.00,9,  -999.00,9,   -999.0,9,   -999.0,9,-999.0,9,  -999.00,1639
  49UF20171107,KS1708,5239,1,23,25257,2,20171113,1519,42.1867,137.4383, 3720,    407.0,   0.9173,  34.0552,2,-999.0000,9,    238.4,2,  -999.00,9,  -999.00,9,  -999.00,9,  -999.00,9,   -999.0,9,   -999.0,9,-999.0,9,  -999.00,1637
  49UF20171107,KS1708,5239,1,22,25256,2,20171113,1519,42.1867,137.4383, 3720,    407.6,   0.9160,  34.0552,2,-999.0000,9,    238.7,2,  -999.00,9,  -999.00,9,  -999.00,9,  -999.00,9,   -999.0,9,   -999.0,9,-999.0,9,  -999.00,1636
  49UF20171107,KS1708,5239,1,21,25255,2,20171113,1519,42.1867,137.4383, 3720,    506.5,   0.7681,  34.0637,2,  34.0637,2,    219.0,2,  -999.00,9,  -999.00,9,  -999.00,9,  -999.00,9,   -999.0,9,   -999.0,9,-999.0,9,  -999.00,1634
  49UF20171107,KS1708,5239,1,20,24270,2,20171113,1519,42.1867,137.4383, 3720,    607.9,   0.6834,  34.0682,2,-999.0000,9,    209.3,2,  -999.00,9,  -999.00,9,  -999.00,9,  -999.00,9,   -999.0,9,   -999.0,9,-999.0,9,  -999.00,1631
  49UF20171107,KS1708,5239,1,19,25253,2,20171113,1519,42.1867,137.4383, 3720,    707.5,   0.5886,  34.0706,2,  34.0703,2,    203.6,2,  -999.00,9,  -999.00,9,  -999.00,9,  -999.00,9,   -999.0,9,   -999.0,9,-999.0,9,  -999.00,1628
  49UF20171107,KS1708,5239,1,18,25252,2,20171113,1519,42.1867,137.4383, 3720,    808.0,   0.4919,  34.0714,2,-999.0000,9,    201.5,2,  -999.00,9,  -999.00,9,  -999.00,9,  -999.00,9,   -999.0,9,   -999.0,9,-999.0,9,  -999.00,1626
  49UF20171107,KS1708,5239,1,17,25251,2,20171113,1519,42.1867,137.4383, 3720,    909.7,   0.4195,  34.0708,2,  34.0707,2,    199.3,2,  -999.00,9,  -999.00,9,  -999.00,9,  -999.00,9,   -999.0,9,   -999.0,9,-999.0,9,  -999.00,1623
  49UF20171107,KS1708,5239,1,16,25250,2,20171113,1519,42.1867,137.4383, 3720,   1012.3,   0.3517,  34.0704,2,-999.0000,9,    198.6,2,  -999.00,9,  -999.00,9,  -999.00,9,  -999.00,9,   -999.0,9,   -999.0,9,-999.0,9,  -999.00,1620
  49UF20171107,KS1708,5239,1,14,25248,2,20171113,1519,42.1867,137.4383, 3720,   1215.2,   0.2903,  34.0694,2,  34.0694,2,    199.6,6,  -999.00,9,  -999.00,9,  -999.00,9,  -999.00,9,   -999.0,9,   -999.0,9,-999.0,9,  -999.00,1616
  49UF20171107,KS1708,5239,1,13,25247,2,20171113,1519,42.1867,137.4383, 3720,   1418.7,   0.2592,  34.0689,2,-999.0000,9,    200.1,2,  -999.00,9,  -999.00,9,  -999.00,9,  -999.00,9,   -999.0,9,   -999.0,9,-999.0,9,  -999.00,1611
  49UF20171107,KS1708,5239,1,12,25246,2,20171113,1519,42.1867,137.4383, 3720,   1620.5,   0.2398,  34.0684,2,  34.0684,2,    199.6,2,  -999.00,9,  -999.00,9,  -999.00,9,  -999.00,9,   -999.0,9,   -999.0,9,-999.0,9,  -999.00,1606
  49UF20171107,KS1708,5239,1,11,25245,2,20171113,1519,42.1867,137.4383, 3720,   1823.6,   0.2324,  34.0682,2,-999.0000,9,    199.8,2,  -999.00,9,  -999.00,9,  -999.00,9,  -999.00,9,   -999.0,9,   -999.0,9,-999.0,9,  -999.00,1602
  49UF20171107,KS1708,5239,1,10,25244,2,20171113,1519,42.1867,137.4383, 3720,   2029.4,   0.2327,  34.0682,2,-999.0000,9,    200.4,2,  -999.00,9,  -999.00,9,  -999.00,9,  -999.00,9,   -999.0,9,   -999.0,9,-999.0,9,  -999.00,1557
  49UF20171107,KS1708,5239,1,9,25243,2,20171113,1519,42.1867,137.4383, 3720,   2282.9,   0.2405,  34.0682,2,-999.0000,9,    200.8,2,  -999.00,9,  -999.00,9,  -999.00,9,  -999.00,9,   -999.0,9,   -999.0,9,-999.0,9,  -999.00,1552
  49UF20171107,KS1708,5239,1,8,25242,2,20171113,1519,42.1867,137.4383, 3720,   2537.4,   0.2451,  34.0682,2,  34.0685,2,    201.4,2,  -999.00,9,  -999.00,9,  -999.00,9,  -999.00,9,   -999.0,9,   -999.0,9,-999.0,9,  -999.00,1546
  49UF20171107,KS1708,5239,1,7,25241,3,20171113,1519,42.1867,137.4383, 3720,   2792.9,   0.2632,  34.0682,2,-999.0000,9,    202.2,2,  -999.00,9,  -999.00,9,  -999.00,9,  -999.00,9,   -999.0,9,   -999.0,9,-999.0,9,  -999.00,1540
  49UF20171107,KS1708,5239,1,5,25239,2,20171113,1519,42.1867,137.4383, 3720,   3050.9,   0.2857,  34.0680,2,  34.0677,2,    202.1,6,  -999.00,9,  -999.00,9,  -999.00,9,  -999.00,9,   -999.0,9,   -999.0,9,-999.0,9,  -999.00,1534
  49UF20171107,KS1708,5239,1,4,25238,2,20171113,1519,42.1867,137.4383, 3720,   3303.9,   0.3088,  34.0680,2,-999.0000,9,    202.3,2,  -999.00,9,  -999.00,9,  -999.00,9,  -999.00,9,   -999.0,9,   -999.0,9,-999.0,9,  -999.00,1528
  49UF20171107,KS1708,5239,1,3,24271,2,20171113,1519,42.1867,137.4383, 3720,   3557.7,   0.3332,  34.0679,2,  34.0679,2,    202.0,2,  -999.00,9,  -999.00,9,  -999.00,9,  -999.00,9,   -999.0,9,   -999.0,9,-999.0,9,  -999.00,1522
  49UF20171107,KS1708,5239,1,2,25236,2,20171113,1519,42.1867,137.4383, 3720,   3558.3,   0.3334,  34.0679,2,  34.0680,2,    202.3,2,  -999.00,9,  -999.00,9,  -999.00,9,  -999.00,9,   -999.0,9,   -999.0,9,-999.0,9,  -999.00,1522
  49UF20171107,KS1708,5239,1,1,25235,2,20171113,1519,42.1867,137.4383, 3720,   3678.0,   0.3450,  34.0679,2,  34.0679,2,    202.4,2,  -999.00,9,  -999.00,9,  -999.00,9,  -999.00,9,   -999.0,9,   -999.0,9,-999.0,9,  -999.00,1519
  49UF20171107,KS1708,5240,1,0,BUC,2,20171114,0224,42.8447,137.998, 3670,      0.0,  14.1896,  34.1854,2,-999.0000,9,    252.6,2,  -999.00,9,  -999.00,9,  -999.00,9,  -999.00,9,   -999.0,9,   -999.0,9,-999.0,9,  -999.00,0335
  49UF20171107,KS1708,5240,1,35,25269,2,20171114,0224,42.8447,137.998, 3670,     11.5,  14.1881,  34.1855,2,  34.1851,2,    252.2,2,  -999.00,9,  -999.00,9,  -999.00,9,  -999.00,9,   -999.0,9,   -999.0,9,-999.0,9,  -999.00,0403
  49UF20171107,KS1708,5240,1,34,25268,2,20171114,0224,42.8447,137.998, 3670,     26.6,  14.1911,  34.1846,2,-999.0000,9,    251.8,2,  -999.00,9,  -999.00,9,  -999.00,9,  -999.00,9,   -999.0,9,   -999.0,9,-999.0,9,  -999.00,0401
  49UF20171107,KS1708,5240,1,32,25266,2,20171114,0224,42.8447,137.998, 3670,     52.4,  14.1138,  34.1803,2,  34.1835,2,    251.3,2,  -999.00,9,  -999.00,9,  -999.00,9,  -999.00,9,   -999.0,9,   -999.0,9,-999.0,9,  -999.00,0359
  49UF20171107,KS1708,5240,1,31,25265,2,20171114,0224,42.8447,137.998, 3670,     78.0,   8.2249,  34.0907,2,-999.0000,9,    260.1,6,  -999.00,9,  -999.00,9,  -999.00,9,  -999.00,9,   -999.0,9,   -999.0,9,-999.0,9,  -999.00,0358
  49UF20171107,KS1708,5240,1,30,25264,2,20171114,0224,42.8447,137.998, 3670,    102.6,   4.7737,  33.9904,2,-999.0000,9,    269.4,2,  -999.00,9,  -999.00,9,  -999.00,9,  -999.00,9,   -999.0,9,   -999.0,9,-999.0,9,  -999.00,0356
  49UF20171107,KS1708,5240,1,29,25263,2,20171114,0224,42.8447,137.998, 3670,    126.8,   3.3012,  33.9680,2,-999.0000,9,    280.7,2,  -999.00,9,  -999.00,9,  -999.00,9,  -999.00,9,   -999.0,9,   -999.0,9,-999.0,9,  -999.00,0354
  49UF20171107,KS1708,5240,1,28,25262,2,20171114,0224,42.8447,137.998, 3670,    157.3,   2.4803,  33.9917,2,-999.0000,9,    282.8,2,  -999.00,9,  -999.00,9,  -999.00,9,  -999.00,9,   -999.0,9,   -999.0,9,-999.0,9,  -999.00,0349
  49UF20171107,KS1708,5240,1,26,25260,2,20171114,0224,42.8447,137.998, 3670,    203.0,   1.6457,  34.0163,2,-999.0000,9,    277.8,6,  -999.00,9,  -999.00,9,  -999.00,9,  -999.00,9,   -999.0,9,   -999.0,9,-999.0,9,  -999.00,0347
  49UF20171107,KS1708,5240,1,25,25259,2,20171114,0224,42.8447,137.998, 3670,    257.0,   1.3156,  34.0329,2,  34.0322,2,    274.8,2,  -999.00,9,  -999.00,9,  -999.00,9,  -999.00,9,   -999.0,9,   -999.0,9,-999.0,9,  -999.00,0345
  49UF20171107,KS1708,5240,1,24,25258,2,20171114,0224,42.8447,137.998, 3670,    305.6,   1.0786,  34.0453,2,-999.0000,9,    259.2,2,  -999.00,9,  -999.00,9,  -999.00,9,  -999.00,9,   -999.0,9,   -999.0,9,-999.0,9,  -999.00,0343
  49UF20171107,KS1708,5240,1,23,25257,2,20171114,0224,42.8447,137.998, 3670,    306.2,   1.0794,  34.0454,2,-999.0000,9,    259.4,2,  -999.00,9,  -999.00,9,  -999.00,9,  -999.00,9,   -999.0,9,   -999.0,9,-999.0,9,  -999.00,0343
  49UF20171107,KS1708,5240,1,22,25256,2,20171114,0224,42.8447,137.998, 3670,    407.1,   0.8469,  34.0588,2,-999.0000,9,    230.0,2,  -999.00,9,  -999.00,9,  -999.00,9,  -999.00,9,   -999.0,9,   -999.0,9,-999.0,9,  -999.00,0340
  49UF20171107,KS1708,5240,1,21,25255,2,20171114,0224,42.8447,137.998, 3670,    505.8,   0.7074,  34.0666,2,-999.0000,9,    212.3,2,  -999.00,9,  -999.00,9,  -999.00,9,  -999.00,9,   -999.0,9,   -999.0,9,-999.0,9,  -999.00,0337
  49UF20171107,KS1708,5240,1,20,24270,2,20171114,0224,42.8447,137.998, 3670,    606.9,   0.6213,  34.0699,2,  34.0699,2,    205.4,2,  -999.00,9,  -999.00,9,  -999.00,9,  -999.00,9,   -999.0,9,   -999.0,9,-999.0,9,  -999.00,0334
  49UF20171107,KS1708,5240,1,19,25253,2,20171114,0224,42.8447,137.998, 3670,    709.3,   0.5179,  34.0714,2,-999.0000,9,    201.9,2,  -999.00,9,  -999.00,9,  -999.00,9,  -999.00,9,   -999.0,9,   -999.0,9,-999.0,9,  -999.00,0332
  49UF20171107,KS1708,5240,1,18,25252,2,20171114,0224,42.8447,137.998, 3670,    811.1,   0.4517,  34.0713,2,  34.0714,2,    200.6,2,  -999.00,9,  -999.00,9,  -999.00,9,  -999.00,9,   -999.0,9,   -999.0,9,-999.0,9,  -999.00,0329
  49UF20171107,KS1708,5240,1,17,25251,2,20171114,0224,42.8447,137.998, 3670,    910.0,   0.3933,  34.0709,2,-999.0000,9,    199.9,2,  -999.00,9,  -999.00,9,  -999.00,9,  -999.00,9,   -999.0,9,   -999.0,9,-999.0,9,  -999.00,0326
  49UF20171107,KS1708,5240,1,15,25249,2,20171114,0224,42.8447,137.998, 3670,   1012.9,   0.3517,  34.0705,2,  34.0703,2,    199.3,2,  -999.00,9,  -999.00,9,  -999.00,9,  -999.00,9,   -999.0,9,   -999.0,9,-999.0,9,  -999.00,0323
  49UF20171107,KS1708,5240,1,14,25248,2,20171114,0224,42.8447,137.998, 3670,   1215.3,   0.2867,  34.0694,2,-999.0000,9,    199.6,2,  -999.00,9,  -999.00,9,  -999.00,9,  -999.00,9,   -999.0,9,   -999.0,9,-999.0,9,  -999.00,0319
  49UF20171107,KS1708,5240,1,13,25247,2,20171114,0224,42.8447,137.998, 3670,   1418.3,   0.2516,  34.0688,2,  34.0686,2,    200.3,2,  -999.00,9,  -999.00,9,  -999.00,9,  -999.00,9,   -999.0,9,   -999.0,9,-999.0,9,  -999.00,0314
  49UF20171107,KS1708,5240,1,12,25246,2,20171114,0224,42.8447,137.998, 3670,   1622.3,   0.2360,  34.0684,2,-999.0000,9,    200.2,2,  -999.00,9,  -999.00,9,  -999.00,9,  -999.00,9,   -999.0,9,   -999.0,9,-999.0,9,  -999.00,0309
  49UF20171107,KS1708,5240,1,11,25245,2,20171114,0224,42.8447,137.998, 3670,   1825.1,   0.2297,  34.0683,2,  34.0682,2,    200.3,2,  -999.00,9,  -999.00,9,  -999.00,9,  -999.00,9,   -999.0,9,   -999.0,9,-999.0,9,  -999.00,0304
  49UF20171107,KS1708,5240,1,10,25244,2,20171114,0224,42.8447,137.998, 3670,   2025.8,   0.2295,  34.0681,2,-999.0000,9,    201.0,2,  -999.00,9,  -999.00,9,  -999.00,9,  -999.00,9,   -999.0,9,   -999.0,9,-999.0,9,  -999.00,0259
  49UF20171107,KS1708,5240,1,8,25242,2,20171114,0224,42.8447,137.998, 3670,   2280.9,   0.2350,  34.0682,2,  34.0683,2,    201.3,2,  -999.00,9,  -999.00,9,  -999.00,9,  -999.00,9,   -999.0,9,   -999.0,9,-999.0,9,  -999.00,0254
  49UF20171107,KS1708,5240,1,7,25241,3,20171114,0224,42.8447,137.998, 3670,   2534.7,   0.2419,  34.0682,2,-999.0000,9,    202.3,6,  -999.00,9,  -999.00,9,  -999.00,9,  -999.00,9,   -999.0,9,   -999.0,9,-999.0,9,  -999.00,0249
  49UF20171107,KS1708,5240,1,6,25240,2,20171114,0224,42.8447,137.998, 3670,   2791.1,   0.2628,  34.0681,2,  34.0679,2,    202.4,2,  -999.00,9,  -999.00,9,  -999.00,9,  -999.00,9,   -999.0,9,   -999.0,9,-999.0,9,  -999.00,0244
  49UF20171107,KS1708,5240,1,5,25239,2,20171114,0224,42.8447,137.998, 3670,   3048.0,   0.2852,  34.0681,2,-999.0000,9,    202.5,2,  -999.00,9,  -999.00,9,  -999.00,9,  -999.00,9,   -999.0,9,   -999.0,9,-999.0,9,  -999.00,0238
  49UF20171107,KS1708,5240,1,4,25238,2,20171114,0224,42.8447,137.998, 3670,   3301.3,   0.3085,  34.0681,2,  34.0680,2,    202.7,2,  -999.00,9,  -999.00,9,  -999.00,9,  -999.00,9,   -999.0,9,   -999.0,9,-999.0,9,  -999.00,0233
  49UF20171107,KS1708,5240,1,3,24271,2,20171114,0224,42.8447,137.998, 3670,   3301.4,   0.3085,  34.0680,2,  34.0683,2,    202.5,2,  -999.00,9,  -999.00,9,  -999.00,9,  -999.00,9,   -999.0,9,   -999.0,9,-999.0,9,  -999.00,0233
  49UF20171107,KS1708,5240,1,2,25236,2,20171114,0224,42.8447,137.998, 3670,   3558.5,   0.3330,  34.0680,2,-999.0000,9,    202.8,2,  -999.00,9,  -999.00,9,  -999.00,9,  -999.00,9,   -999.0,9,   -999.0,9,-999.0,9,  -999.00,0227
  49UF20171107,KS1708,5240,1,1,25235,2,20171114,0224,42.8447,137.998, 3670,   3665.8,   0.3434,  34.0681,2,  34.0681,2,    202.4,2,  -999.00,9,  -999.00,9,  -999.00,9,  -999.00,9,   -999.0,9,   -999.0,9,-999.0,9,  -999.00,0224