BOTTLE,20140930PRINUNIVRMK
EXPOCODE,SECT_ID,STNNBR,CASTNO,BTLNBR,BTLNBR_FLAG_W,DATE,TIME,LATITUDE,LONGITUDE,DEPTH,CTDPRS,CTDTMP,CTDSAL,CTDSAL_FLAG_W,SALNTY,SALNTY_FLAG_W,CTDOXY,CTDOXY_FLAG_W,OXYGEN,OXYGEN_FLAG_W,SILCAT,SILCAT_FLAG_W,NITRAT,NITRAT_FLAG_W,PHSPHT,PHSPHT_FLAG_W,ALKALI,ALKALI_FLAG_W,PH_SWS,PH_SWS_FLAG_W,PH_TMP
,,,,,,,,,,METERS,DBAR,ITS-90,PSS-78,,PSS-78,,UMOL/KG,,UMOL/KG,,UMOL/KG,,UMOL/KG,,UMOL/KG,,UMOL/KG,,,,DEG C
  35TH20080610, OVIDE,    62,  1,      3,2,20080626,2125, 56.6300, -27.5890, 2706,   2743.9,   2.7960,  34.9760,2,  34.9750,2,    273.6,2,    272.6,2,    16.49,2,    15.75,2,     0.89,2,   2315.3,2,   7.7160,2,    25.00
  35TH20080610, OVIDE,    62,  1,      4,2,20080626,2125, 56.6300, -27.5890, 2706,   2500.1,   2.9400,  34.9700,2,  34.9670,2,    274.8,2,    273.4,2,    15.32,2,    16.36,2,     0.93,2,   2312.8,2,   7.7230,2,    25.00
  35TH20080610, OVIDE,    62,  1,      5,2,20080626,2125, 56.6300, -27.5890, 2706,   2249.5,   3.1820,  34.9550,2,  34.9520,2,    278.0,2,    277.0,2,    12.74,2,    16.11,2,     0.93,2,   2310.1,2,   7.7240,2,    25.00
  35TH20080610, OVIDE,    62,  1,      6,2,20080626,2125, 56.6300, -27.5890, 2706,   2001.7,   3.2750,  34.9180,2,  34.9160,2,    281.0,2,    280.8,2,    11.93,2,    16.48,2,     0.94,2,   2306.0,2,   7.7260,2,    25.00
  35TH20080610, OVIDE,    62,  1,      7,2,20080626,2125, 56.6300, -27.5890, 2706,   1802.3,   3.4170,  34.9080,2,  34.9060,2,    280.0,2,    279.3,2,    11.59,2,    16.73,2,     0.96,2,   2304.6,2,   7.7240,2,    25.00
  35TH20080610, OVIDE,    62,  1,      8,2,20080626,2125, 56.6300, -27.5890, 2706,   1599.8,   3.5690,  34.9060,2,  34.9030,2,    278.3,2,    277.0,2,    11.28,2,    17.18,2,     0.97,2,   2303.7,2,   7.7190,2,    25.00
  35TH20080610, OVIDE,    62,  1,      9,2,20080626,2125, 56.6300, -27.5890, 2706,   1399.2,   3.6890,  34.9000,2,  34.8970,2,    279.0,2,    277.9,2,    10.87,2,    17.00,2,     0.98,2,   2306.9,2,   7.7170,2,    25.00
  35TH20080610, OVIDE,    62,  1,     10,2,20080626,2125, 56.6300, -27.5890, 2706,   1200.1,   3.8640,  34.9050,2,  34.9030,2,    278.2,2,    276.2,2,    10.52,2,    17.10,2,     0.96,2,   2304.5,2,   7.7150,2,    25.00
  35TH20080610, OVIDE,    62,  1,     11,2,20080626,2125, 56.6300, -27.5890, 2706,   1000.4,   4.1880,  34.9240,2,  34.9220,2,    268.4,2,    266.3,2,    10.59,2,    17.36,2,     0.98,2,   2305.2,2,   7.7100,2,    25.00
  35TH20080610, OVIDE,    62,  1,     12,2,20080626,2125, 56.6300, -27.5890, 2706,    901.9,   4.4400,  34.9420,2,  34.9400,2,    260.8,2,    259.8,2,    10.72,2,    17.71,2,     0.99,2,   2304.5,2,   7.7080,2,    25.00
  35TH20080610, OVIDE,    62,  1,     13,2,20080626,2125, 56.6300, -27.5890, 2706,    800.0,   4.8810,  34.9700,2,  34.9560,3,    248.5,2,    249.1,2,    10.94,2,    18.08,2,     1.02,2,   2307.7,2,   7.7010,2,    25.00
  35TH20080610, OVIDE,    62,  1,     14,2,20080626,2125, 56.6300, -27.5890, 2706,    701.6,   5.4930,  34.9990,2,  34.9990,2,    234.8,2,    236.1,2,    11.08,2,    18.73,2,     1.04,2,   2309.5,2,   7.7000,2,    25.00
  35TH20080610, OVIDE,    62,  1,     15,2,20080626,2125, 56.6300, -27.5890, 2706,    600.3,   6.3680,  35.0260,2,  35.0230,2,    242.2,2,    234.6,3,    10.23,2,    18.01,2,     1.01,2,   2311.6,2,   7.7120,2,    25.00
  35TH20080610, OVIDE,    62,  1,     16,2,20080626,2125, 56.6300, -27.5890, 2706,    500.9,   7.1370,  35.0930,2,  35.0920,2,    267.3,2,    273.1,3,     7.52,2,    15.05,2,     0.83,2,   2313.8,2,   7.7620,2,    25.00
  35TH20080610, OVIDE,    62,  1,     17,2,20080626,2125, 56.6300, -27.5890, 2706,    400.2,   7.3330,  35.0970,2,  35.0950,2,    276.3,2,    275.7,2,     7.04,2,    14.45,2,     0.79,2,   2312.8,2,   7.7710,2,    25.00
  35TH20080610, OVIDE,    62,  1,     18,2,20080626,2125, 56.6300, -27.5890, 2706,    300.7,   7.4770,  35.0860,2,  35.0840,2,    271.8,2,    275.0,2,     6.90,2,    14.36,2,     0.79,2,   2313.2,2,   7.7710,2,    25.00
  35TH20080610, OVIDE,    62,  1,     19,2,20080626,2125, 56.6300, -27.5890, 2706,    198.8,   8.4960,  35.1690,2,  35.1670,2,    273.0,2,    270.4,2,     6.53,2,    13.56,2,     0.75,2,   2317.9,2,   7.7880,2,    25.00
  35TH20080610, OVIDE,    62,  1,     20,2,20080626,2125, 56.6300, -27.5890, 2706,    149.7,   8.5840,  35.1820,2,  35.1740,3,    270.8,2,    273.7,2,     6.39,2,    13.31,2,     0.74,2,   2317.8,2,   7.7930,2,    25.00
  35TH20080610, OVIDE,    62,  1,     21,2,20080626,2125, 56.6300, -27.5890, 2706,    101.3,   9.3880,  35.2760,2,  35.2740,2,    261.5,2,    260.1,2,     5.26,2,    12.95,2,     0.70,2,   2322.4,2,   7.8020,2,    25.00
  35TH20080610, OVIDE,    62,  1,     22,2,20080626,2125, 56.6300, -27.5890, 2706,     99.7,   9.4040,  35.2790,2,  35.2770,2,    261.6,2,    260.1,2,     5.24,2,    12.73,2,     0.70,2,   -999.0,9,-999.0000,9,  -999.00
  35TH20080610, OVIDE,    62,  1,     23,2,20080626,2125, 56.6300, -27.5890, 2706,     99.1,   9.4080,  35.2800,2,  35.2770,2,    261.7,2,    260.2,2,     5.16,2,    12.72,2,     0.69,2,   -999.0,9,-999.0000,9,  -999.00
  35TH20080610, OVIDE,    62,  1,     24,2,20080626,2125, 56.6300, -27.5890, 2706,     56.2,   9.8480,  35.3260,2,  35.3220,3,    263.3,2,    268.2,2,     3.67,2,    11.72,2,     0.63,2,   2324.9,2,   7.8160,2,    25.00
  35TH20080610, OVIDE,    62,  1,     25,2,20080626,2125, 56.6300, -27.5890, 2706,      4.1,  11.3490,  35.0920,2,  35.0910,2,    288.2,2,    286.5,2,     0.72,2,     3.92,2,     0.26,2,   2311.2,2,   7.9200,2,    25.00
  35TH20080610, OVIDE,    63,  1,      3,2,20080627,0337, 57.0120, -27.8810, 2737,   2776.9,   2.8030,  34.9770,2,  34.9780,2,    273.3,2,    274.3,2,    16.15,2,    16.24,2,     0.94,2,   -999.0,9,   7.7140,2,    25.00
  35TH20080610, OVIDE,    63,  1,      4,2,20080627,0337, 57.0120, -27.8810, 2737,   2775.8,   2.8020,  34.9790,2,-999.0000,3,    273.3,2,    273.2,2,    16.20,2,    16.28,2,     0.94,2,   -999.0,9,-999.0000,9,  -999.00
  35TH20080610, OVIDE,    63,  1,      5,2,20080627,0337, 57.0120, -27.8810, 2737,   2501.2,   2.9490,  34.9730,2,  34.9720,2,    275.4,2,    274.8,2,    14.50,2,    16.30,2,     0.92,2,   -999.0,9,   7.7180,2,    25.00
  35TH20080610, OVIDE,    63,  1,      6,2,20080627,0337, 57.0120, -27.8810, 2737,   2247.9,   3.1740,  34.9550,2,  34.9540,2,    277.9,2,    277.6,2,    12.51,2,    16.77,2,     0.94,2,   -999.0,9,   7.7240,2,    25.00
  35TH20080610, OVIDE,    63,  1,      7,2,20080627,0337, 57.0120, -27.8810, 2737,   1997.9,   3.2580,  34.9250,2,-999.0000,3,    280.4,2,    280.3,2,    11.87,2,    17.11,2,     0.94,2,   -999.0,9,   7.7230,2,    25.00
  35TH20080610, OVIDE,    63,  1,      8,2,20080627,0337, 57.0120, -27.8810, 2737,   1798.3,   3.3310,  34.9080,2,-999.0000,3,    280.4,2,    281.1,2,    11.56,2,    17.69,2,     0.96,2,   -999.0,9,   7.7230,2,    25.00
  35TH20080610, OVIDE,    63,  1,      9,2,20080627,0337, 57.0120, -27.8810, 2737,   1599.1,   3.4690,  34.9060,2,  34.9060,2,    278.3,2,    278.1,2,    11.44,2,    17.34,2,     0.97,2,   -999.0,9,   7.7190,2,    25.00
  35TH20080610, OVIDE,    63,  1,     10,2,20080627,0337, 57.0120, -27.8810, 2737,   1400.4,   3.6110,  34.9030,2,  34.9030,2,    277.5,2,    276.8,2,    10.93,2,    17.21,2,     0.97,2,   -999.0,9,   7.7150,2,    25.00
  35TH20080610, OVIDE,    63,  1,     11,2,20080627,0337, 57.0120, -27.8810, 2737,   1201.3,   3.7160,  34.8990,2,  34.9000,2,    278.4,2,    277.6,2,    10.50,2,    17.39,2,     0.97,2,   -999.0,9,   7.7120,2,    25.00
  35TH20080610, OVIDE,    63,  1,     12,2,20080627,0337, 57.0120, -27.8810, 2737,   1001.0,   3.9590,  34.9110,2,  34.9120,2,    274.1,2,    272.4,2,    10.42,2,    17.52,2,     0.97,2,   -999.0,9,   7.7100,2,    25.00
  35TH20080610, OVIDE,    63,  1,     13,2,20080627,0337, 57.0120, -27.8810, 2737,    900.6,   4.1280,  34.9230,2,  34.9220,2,    269.4,2,    268.2,2,    10.44,2,    17.85,2,     0.98,2,   -999.0,9,   7.7060,2,    25.00
  35TH20080610, OVIDE,    63,  1,     14,2,20080627,0337, 57.0120, -27.8810, 2737,    799.5,   4.3720,  34.9380,2,  34.9380,2,    262.7,2,    261.7,2,    10.61,2,    18.07,2,     0.99,2,   -999.0,9,   7.7060,2,    25.00
  35TH20080610, OVIDE,    63,  1,     15,2,20080627,0337, 57.0120, -27.8810, 2737,    701.3,   4.7000,  34.9600,2,  34.9580,2,    253.7,2,    254.3,2,    10.73,2,    18.66,2,     1.03,2,   -999.0,9,   7.7020,2,    25.00
  35TH20080610, OVIDE,    63,  1,     16,2,20080627,0337, 57.0120, -27.8810, 2737,    599.7,   5.1260,  34.9830,2,  34.9820,2,    243.3,2,    243.5,2,    10.83,2,    18.35,2,     1.02,2,   -999.0,9,   7.6970,2,    25.00
  35TH20080610, OVIDE,    63,  1,     17,2,20080627,0337, 57.0120, -27.8810, 2737,    499.7,   5.8560,  35.0180,2,  35.0170,2,    233.7,2,    232.9,2,    10.70,2,    16.63,2,     1.04,2,   -999.0,9,   7.6990,2,    25.00
  35TH20080610, OVIDE,    63,  1,     18,2,20080627,0337, 57.0120, -27.8810, 2737,    401.6,   6.5690,  35.0470,2,  35.0420,3,    252.8,2,    251.0,2,     8.94,2,    15.85,2,     0.93,2,   -999.0,9,   7.7300,2,    25.00
  35TH20080610, OVIDE,    63,  1,     19,2,20080627,0337, 57.0120, -27.8810, 2737,    298.1,   6.9940,  35.0580,2,  35.0550,2,    264.7,2,    264.4,2,     7.76,2,    14.93,2,     0.86,2,   -999.0,9,   7.7500,2,    25.00
  35TH20080610, OVIDE,    63,  1,     20,2,20080627,0337, 57.0120, -27.8810, 2737,    199.2,   7.5460,  35.1130,2,  35.0980,3,    268.3,2,    267.4,2,     6.80,2,    14.81,2,     0.82,2,   -999.0,9,   7.7680,2,    25.00
  35TH20080610, OVIDE,    63,  1,     21,2,20080627,0337, 57.0120, -27.8810, 2737,    150.7,   7.4570,  35.0590,2,  35.0550,2,    270.6,2,    270.8,2,     6.66,2,    13.89,2,     0.80,2,   -999.0,9,   7.7650,2,    25.00
  35TH20080610, OVIDE,    63,  1,     22,2,20080627,0337, 57.0120, -27.8810, 2737,     99.3,   7.9350,  35.0820,2,  35.0830,2,    273.7,2,    270.4,2,     5.77,2,    11.70,2,     0.77,2,   -999.0,9,   7.7860,2,    25.00
  35TH20080610, OVIDE,    63,  1,     23,2,20080627,0337, 57.0120, -27.8810, 2737,     56.6,   8.3040,  35.0910,2,  35.0930,2,    280.2,2,    279.2,2,     3.26,2,     3.76,3,     0.69,2,   -999.0,9,   7.8040,2,    25.00
  35TH20080610, OVIDE,    63,  1,     24,2,20080627,0337, 57.0120, -27.8810, 2737,      7.6,  11.3030,  35.0220,2,  35.0220,2,    289.4,2,    286.7,2,     0.81,2,     1.04,2,     0.25,2,   -999.0,9,   7.9160,2,    25.00
  35TH20080610, OVIDE,    64,  1,      3,2,20080627,0823, 57.3800, -28.1720, 2598,   2634.0,   2.7530,  34.9810,2,  34.9790,2,    274.7,2,    274.4,2,    15.24,2,  -999.00,9,     0.93,2,   2314.5,2,   7.7140,2,    25.00
  35TH20080610, OVIDE,    64,  1,      4,2,20080627,0823, 57.3800, -28.1720, 2598,   2500.3,   2.8180,  34.9780,2,  34.9780,2,    275.6,2,    274.6,2,    14.61,2,    16.30,2,     0.92,2,   2313.4,2,   7.7190,2,    25.00
  35TH20080610, OVIDE,    64,  1,      5,2,20080627,0823, 57.3800, -28.1720, 2598,   2500.0,   2.8190,  34.9780,2,  34.9780,2,    275.6,2,    274.5,2,    14.71,2,    16.24,2,     0.92,2,   -999.0,9,-999.0000,9,  -999.00
  35TH20080610, OVIDE,    64,  1,      6,2,20080627,0823, 57.3800, -28.1720, 2598,   2249.2,   3.0700,  34.9700,2,  34.9670,2,    276.2,2,    278.8,2,    12.92,2,    17.15,2,     0.89,2,   2310.5,2,   7.7230,2,    25.00
  35TH20080610, OVIDE,    64,  1,      7,2,20080627,0823, 57.3800, -28.1720, 2598,   1999.7,   3.3000,  34.9350,2,  34.9330,2,    279.2,2,    279.6,2,    11.67,2,    17.23,2,     0.92,2,   2304.5,2,   7.7270,2,    25.00
  35TH20080610, OVIDE,    64,  1,      8,2,20080627,0823, 57.3800, -28.1720, 2598,   1799.1,   3.3980,  34.9160,2,  34.9170,2,    279.5,2,    279.5,2,    11.32,2,    16.80,2,     0.93,2,   2303.3,2,   7.7240,2,    25.00
  35TH20080610, OVIDE,    64,  1,      9,2,20080627,0823, 57.3800, -28.1720, 2598,   1601.1,   3.5540,  34.9140,2,  34.9140,2,    277.1,2,    277.3,2,    11.12,2,    16.39,2,     0.94,2,   2302.5,2,   7.7220,2,    25.00
  35TH20080610, OVIDE,    64,  1,     10,2,20080627,0823, 57.3800, -28.1720, 2598,   1392.1,   3.6400,  34.9040,2,  34.9050,2,    276.6,2,    276.4,2,    10.78,2,    17.32,2,     0.95,2,   2301.6,2,   7.7170,2,    25.00
  35TH20080610, OVIDE,    64,  1,     11,2,20080627,0823, 57.3800, -28.1720, 2598,   1201.8,   3.7670,  34.9030,2,  34.9040,2,    276.4,2,    276.2,2,    10.44,2,    17.47,2,     0.98,2,   2302.1,2,   7.7130,2,    25.00
  35TH20080610, OVIDE,    64,  1,     12,2,20080627,0823, 57.3800, -28.1720, 2598,   1004.6,   3.9600,  34.9090,2,  34.9080,2,    272.2,2,    272.4,2,    10.22,2,    17.63,2,     0.98,2,   2302.5,2,   7.7090,2,    25.00
  35TH20080610, OVIDE,    64,  1,     13,2,20080627,0823, 57.3800, -28.1720, 2598,    901.9,   4.1440,  34.9210,2,  34.9220,2,    268.6,2,    268.8,2,    10.32,2,    18.25,2,     0.98,2,   2304.4,2,   7.7090,2,    25.00
  35TH20080610, OVIDE,    64,  1,     14,2,20080627,0823, 57.3800, -28.1720, 2598,    797.2,   4.3680,  34.9340,2,  34.9340,2,    260.6,2,    262.6,2,    10.44,2,    18.27,2,     1.00,2,   2305.5,2,   7.7040,2,    25.00
  35TH20080610, OVIDE,    64,  1,     15,2,20080627,0823, 57.3800, -28.1720, 2598,    699.4,   4.8620,  34.9770,2,  34.9800,2,    248.1,2,    249.5,2,    10.72,2,    18.21,2,     0.98,2,   2307.7,2,   7.7020,2,    25.00
  35TH20080610, OVIDE,    64,  1,     16,2,20080627,0823, 57.3800, -28.1720, 2598,    598.2,   5.2650,  34.9820,2,  34.9820,2,    239.1,2,    242.0,2,    10.86,2,    18.93,2,     1.03,2,   2308.2,2,   7.6970,2,    25.00
  35TH20080610, OVIDE,    64,  1,     17,2,20080627,0823, 57.3800, -28.1720, 2598,    497.9,   6.1600,  35.0480,2,  35.0480,2,    226.4,2,   -999.0,3,    10.88,2,    17.27,2,     1.05,2,   2314.1,2,   7.7030,2,    25.00
  35TH20080610, OVIDE,    64,  1,     18,2,20080627,0823, 57.3800, -28.1720, 2598,    398.0,   6.8150,  35.0560,2,  35.0540,2,    224.5,2,    234.3,3,    10.27,2,    18.65,2,     1.02,2,   2313.4,2,   7.7120,2,    25.00
  35TH20080610, OVIDE,    64,  1,     19,2,20080627,0823, 57.3800, -28.1720, 2598,    300.8,   6.9950,  35.0160,2,  35.0170,2,    268.7,2,    270.6,2,     7.37,2,    15.16,2,     0.86,2,   2310.1,2,   7.7570,2,    25.00
  35TH20080610, OVIDE,    64,  1,     20,2,20080627,0823, 57.3800, -28.1720, 2598,    198.6,   8.0890,  35.1100,2,  35.1080,2,    260.0,2,    267.6,3,     6.94,2,    14.96,2,     0.82,2,   2316.2,2,   7.7730,2,    25.00
  35TH20080610, OVIDE,    64,  1,     21,2,20080627,0823, 57.3800, -28.1720, 2598,    147.3,   8.5790,  35.1620,2,  35.1560,3,    264.7,2,    265.5,2,     6.12,2,    14.04,2,     0.78,2,   2318.3,2,   7.7860,2,    25.00
  35TH20080610, OVIDE,    64,  1,     22,2,20080627,0823, 57.3800, -28.1720, 2598,    102.1,   8.8010,  35.1770,2,  35.1800,2,    271.4,2,    284.2,3,     4.59,2,    13.19,2,     0.72,2,   2319.9,2,   7.8010,2,    25.00
  35TH20080610, OVIDE,    64,  1,     23,2,20080627,0823, 57.3800, -28.1720, 2598,     54.9,   9.8720,  35.2110,2,  35.2100,2,    270.4,2,    269.5,2,     2.03,2,     9.80,2,     0.60,2,   2323.8,2,   7.8360,2,    25.00
  35TH20080610, OVIDE,    64,  1,     24,2,20080627,0823, 57.3800, -28.1720, 2598,      4.8,  11.1550,  35.0160,2,  35.0160,2,    282.9,2,    282.5,2,     0.81,2,     4.04,2,     0.30,2,   2308.5,2,   7.9110,2,    25.00
  35TH20080610, OVIDE,    65,  1,      3,2,20080627,1323, 57.6740, -28.7240, 2447,   2478.0,   2.8550,  34.9810,2,  34.9790,2,    276.9,2,    276.2,2,    13.23,2,    14.05,2,     0.90,2,   -999.0,9,   7.7180,2,    25.00
  35TH20080610, OVIDE,    65,  1,      4,2,20080627,1323, 57.6740, -28.7240, 2447,   2245.6,   2.9000,  34.9810,2,  34.9780,2,    277.2,2,    276.6,2,    12.71,2,    15.30,2,     0.93,2,   -999.0,9,   7.7190,2,    25.00
  35TH20080610, OVIDE,    65,  1,      5,2,20080627,1323, 57.6740, -28.7240, 2447,   1999.6,   3.1850,  34.9550,2,  34.9520,2,    278.4,2,    277.6,2,    11.87,2,    15.65,2,     0.96,2,   -999.0,9,-999.0000,9,  -999.00
  35TH20080610, OVIDE,    65,  1,      6,2,20080627,1323, 57.6740, -28.7240, 2447,   2000.0,   3.1860,  34.9540,2,  34.9520,2,    278.4,2,    277.6,2,    11.85,2,    16.09,2,     0.94,2,   -999.0,9,   7.7260,2,    25.00
  35TH20080610, OVIDE,    65,  1,      7,2,20080627,1323, 57.6740, -28.7240, 2447,   1797.6,   3.3150,  34.9220,2,  34.9180,2,    281.1,2,    279.4,2,    11.15,2,    16.24,2,     0.96,2,   -999.0,9,   7.7260,2,    25.00
  35TH20080610, OVIDE,    65,  1,      8,2,20080627,1323, 57.6740, -28.7240, 2447,   1599.3,   3.4330,  34.9080,2,  34.9090,2,    279.6,2,    276.5,2,    10.91,2,    17.07,2,     1.00,2,   -999.0,9,   7.7220,2,    25.00
  35TH20080610, OVIDE,    65,  1,      9,2,20080627,1323, 57.6740, -28.7240, 2447,   1401.0,   3.5800,  34.9070,2,  34.9060,2,    277.5,2,    276.7,2,    10.72,2,    16.67,2,     1.00,2,   -999.0,9,   7.7190,2,    25.00
  35TH20080610, OVIDE,    65,  1,     10,2,20080627,1323, 57.6740, -28.7240, 2447,   1201.4,   3.7200,  34.9030,2,  34.9030,2,    277.3,2,    276.1,2,    10.15,2,    16.85,2,     0.98,2,   -999.0,9,   7.7150,2,    25.00
  35TH20080610, OVIDE,    65,  1,     11,2,20080627,1323, 57.6740, -28.7240, 2447,   1002.0,   3.9400,  34.9140,2,  34.9130,2,    272.1,2,    271.9,2,     9.93,2,    17.65,2,     0.99,2,   -999.0,9,   7.7120,2,    25.00
  35TH20080610, OVIDE,    65,  1,     12,2,20080627,1323, 57.6740, -28.7240, 2447,    896.8,   4.2130,  34.9370,2,  34.9340,2,    265.0,2,    266.0,2,    10.14,2,    17.38,2,     1.00,2,   -999.0,9,   7.7090,2,    25.00
  35TH20080610, OVIDE,    65,  1,     13,2,20080627,1323, 57.6740, -28.7240, 2447,    801.9,   4.5440,  34.9610,2,  34.9620,2,    257.6,2,    257.6,2,    10.02,2,    17.89,2,     1.03,2,   -999.0,9,   7.7060,2,    25.00
  35TH20080610, OVIDE,    65,  1,     14,2,20080627,1323, 57.6740, -28.7240, 2447,    698.5,   5.0300,  34.9970,2,  34.9950,2,    246.2,2,    246.9,2,    10.18,2,    18.31,2,     1.04,2,   -999.0,9,   7.7060,2,    25.00
  35TH20080610, OVIDE,    65,  1,     15,2,20080627,1323, 57.6740, -28.7240, 2447,    599.7,   5.7000,  35.0510,2,  35.0510,2,    233.8,2,    234.7,2,    10.30,2,    18.09,2,     1.05,2,   -999.0,9,   7.7050,2,    25.00
  35TH20080610, OVIDE,    65,  1,     16,2,20080627,1323, 57.6740, -28.7240, 2447,    499.7,   5.9730,  35.0000,2,  35.0000,2,    229.7,2,    229.9,2,    10.01,2,    18.63,2,     1.06,2,   -999.0,9,   7.7010,2,    25.00
  35TH20080610, OVIDE,    65,  1,     17,2,20080627,1323, 57.6740, -28.7240, 2447,    399.9,   7.0570,  35.0990,2,  35.0940,2,    252.0,2,    251.8,2,     7.91,2,    16.56,2,     0.91,2,   -999.0,9,   7.7420,2,    25.00
  35TH20080610, OVIDE,    65,  1,     18,2,20080627,1323, 57.6740, -28.7240, 2447,    302.5,   7.4040,  35.0980,2,  35.0970,2,    261.6,2,    261.2,2,     7.03,2,    15.43,2,     0.86,2,   -999.0,9,   7.7550,2,    25.00
  35TH20080610, OVIDE,    65,  1,     19,2,20080627,1323, 57.6740, -28.7240, 2447,    198.7,   8.1980,  35.1740,2,  35.1750,2,    253.4,2,    265.2,3,     5.67,2,    13.86,2,     0.78,2,   -999.0,9,   7.7790,2,    25.00
  35TH20080610, OVIDE,    65,  1,     20,2,20080627,1323, 57.6740, -28.7240, 2447,    149.9,   8.5000,  35.1780,2,  35.1750,2,    266.0,2,    264.3,2,     5.57,2,    14.09,2,     0.76,2,   -999.0,9,   7.7840,2,    25.00
  35TH20080610, OVIDE,    65,  1,     21,2,20080627,1323, 57.6740, -28.7240, 2447,    100.9,   8.6690,  35.1820,2,  35.1800,2,    266.0,2,    265.3,2,     5.77,2,    13.83,2,     0.75,2,   -999.0,9,   7.7890,2,    25.00
  35TH20080610, OVIDE,    65,  1,     22,2,20080627,1323, 57.6740, -28.7240, 2447,     56.3,   9.5170,  35.2510,2,  35.1170,3,    270.1,2,    268.7,2,     3.10,2,    11.60,2,     0.66,2,   -999.0,9,   7.8100,2,    25.00
  35TH20080610, OVIDE,    65,  1,     23,2,20080627,1323, 57.6740, -28.7240, 2447,      6.5,  11.3210,  35.1170,2,  35.2120,3,    280.8,2,    279.9,2,     0.21,2,     3.59,2,     0.22,2,   -999.0,9,   7.9170,2,    25.00