BOTTLE,20140930PRINUNIVRMK
EXPOCODE,SECT_ID,STNNBR,CASTNO,BTLNBR,BTLNBR_FLAG_W,DATE,TIME,LATITUDE,LONGITUDE,DEPTH,CTDPRS,CTDTMP,CTDSAL,CTDSAL_FLAG_W,SALNTY,SALNTY_FLAG_W,CTDOXY,CTDOXY_FLAG_W,OXYGEN,OXYGEN_FLAG_W,SILCAT,SILCAT_FLAG_W,NITRAT,NITRAT_FLAG_W,PHSPHT,PHSPHT_FLAG_W,ALKALI,ALKALI_FLAG_W,PH_SWS,PH_SWS_FLAG_W,PH_TMP
,,,,,,,,,,METERS,DBAR,ITS-90,PSS-78,,PSS-78,,UMOL/KG,,UMOL/KG,,UMOL/KG,,UMOL/KG,,UMOL/KG,,UMOL/KG,,,,DEG C
  35TH20080610, OVIDE,     7,  1,      3,2,20080613,0557, 40.3320,  -9.9420, 3394,   3447.1,   2.5810,  34.9220,2,  34.9220,2,    245.2,2,    242.0,2,    39.76,2,    21.76,2,     1.23,2,   -999.0,9,   7.7370,2,    25.00
  35TH20080610, OVIDE,     7,  1,      4,2,20080613,0557, 40.3320,  -9.9420, 3394,   3000.8,   2.8190,  34.9480,2,  34.9500,2,    246.8,2,    248.9,2,    34.95,2,    21.88,2,     1.19,2,   -999.0,9,   7.7400,2,    25.00
  35TH20080610, OVIDE,     7,  1,      5,2,20080613,0557, 40.3320,  -9.9420, 3394,   2750.1,   3.0570,  34.9750,2,  34.9850,3,    247.7,2,    247.6,2,    31.20,2,    21.26,2,     1.14,2,   -999.0,9,   7.7410,2,    25.00
  35TH20080610, OVIDE,     7,  1,      6,2,20080613,0557, 40.3320,  -9.9420, 3394,   2499.8,   3.3570,  35.0060,2,  35.0070,2,    248.4,2,    240.6,3,    27.65,2,    20.15,2,     1.12,2,   -999.0,9,   7.7420,2,    25.00
  35TH20080610, OVIDE,     7,  1,      7,2,20080613,0557, 40.3320,  -9.9420, 3394,   2249.6,   3.7490,  35.0490,2,  35.0520,2,    248.7,2,    236.1,3,    24.36,2,    20.04,2,     1.08,2,   -999.0,9,   7.7410,2,    25.00
  35TH20080610, OVIDE,     7,  1,      8,2,20080613,0557, 40.3320,  -9.9420, 3394,   2249.4,   3.7480,  35.0490,2,  35.0490,2,    248.6,2,    247.6,2,    24.02,2,    20.13,2,     1.08,2,   -999.0,9,   7.7430,2,    25.00
  35TH20080610, OVIDE,     7,  1,      9,2,20080613,0557, 40.3320,  -9.9420, 3394,   1999.5,   4.0520,  35.0700,2,  35.0730,2,    252.1,2,    245.4,3,    18.36,2,    18.93,2,     1.03,2,   -999.0,9,   7.7420,2,    25.00
  35TH20080610, OVIDE,     7,  1,     10,2,20080613,0557, 40.3320,  -9.9420, 3394,   1799.8,   4.6690,  35.1360,2,  35.1380,2,    250.5,2,    239.3,3,    14.73,2,    18.52,2,     0.98,2,   -999.0,9,   7.7410,2,    25.00
  35TH20080610, OVIDE,     7,  1,     11,2,20080613,0557, 40.3320,  -9.9420, 3394,   1599.4,   7.2420,  35.5790,2,  35.5800,2,    222.7,2,    219.4,2,    12.37,2,    17.45,2,     0.92,2,   -999.0,9,   7.7640,2,    25.00
  35TH20080610, OVIDE,     7,  1,     12,2,20080613,0557, 40.3320,  -9.9420, 3394,   1400.1,   9.5430,  36.0080,2,  36.0050,2,    193.5,2,    194.9,2,    10.49,2,    16.43,2,     0.82,2,   -999.0,9,   7.7910,2,    25.00
  35TH20080610, OVIDE,     7,  1,     13,2,20080613,0557, 40.3320,  -9.9420, 3394,   1199.8,  10.8880,  36.2340,2,  36.2230,3,    184.1,2,    187.8,2,     9.17,2,    15.55,2,     0.76,2,   -999.0,9,   7.8040,2,    25.00
  35TH20080610, OVIDE,     7,  1,     14,2,20080613,0557, 40.3320,  -9.9420, 3394,    999.6,  11.3960,  36.2130,2,  36.2150,2,    182.1,2,    183.0,2,     8.42,2,    15.14,2,     0.74,2,   -999.0,9,   7.8070,2,    25.00
  35TH20080610, OVIDE,     7,  1,     15,2,20080613,0557, 40.3320,  -9.9420, 3394,    899.9,  11.4600,  36.1340,2,  36.1480,3,    182.0,2,    184.0,2,     8.09,2,    15.19,2,     0.74,2,   -999.0,9,   7.8050,2,    25.00
  35TH20080610, OVIDE,     7,  1,     16,2,20080613,0557, 40.3320,  -9.9420, 3394,    799.8,  11.5430,  36.0910,2,  36.0830,3,    182.8,2,    184.1,2,     7.79,2,    15.20,2,     0.73,2,   -999.0,9,   7.8040,2,    25.00
  35TH20080610, OVIDE,     7,  1,     17,2,20080613,0557, 40.3320,  -9.9420, 3394,    700.9,  11.6260,  36.0050,2,  36.0070,2,    183.8,2,    184.1,2,     7.40,2,    15.28,2,     0.74,2,   -999.0,9,   7.8020,2,    25.00
  35TH20080610, OVIDE,     7,  1,     18,2,20080613,0557, 40.3320,  -9.9420, 3394,    599.9,  11.3640,  35.8170,2,  35.8250,3,    186.0,2,    188.0,2,     7.23,2,    15.61,2,     0.77,2,   -999.0,9,   7.7900,2,    25.00
  35TH20080610, OVIDE,     7,  1,     19,2,20080613,0557, 40.3320,  -9.9420, 3394,    496.9,  11.4610,  35.7000,2,  35.6980,2,    198.1,2,    195.6,2,     6.12,2,    14.70,2,     0.72,2,   -999.0,9,   7.7960,2,    25.00
  35TH20080610, OVIDE,     7,  1,     20,2,20080613,0557, 40.3320,  -9.9420, 3394,    399.4,  11.7600,  35.6650,2,  35.6630,2,    209.4,2,    211.6,2,     4.74,2,    13.28,2,     0.62,2,   -999.0,9,   7.8110,2,    25.00
  35TH20080610, OVIDE,     7,  1,     21,2,20080613,0557, 40.3320,  -9.9420, 3394,    301.0,  12.1620,  35.6900,2,  35.6860,2,    221.6,2,    221.8,2,     3.66,2,    11.12,2,     0.53,2,   -999.0,9,   7.8300,2,    25.00
  35TH20080610, OVIDE,     7,  1,     22,2,20080613,0557, 40.3320,  -9.9420, 3394,    199.8,  12.8980,  35.7890,2,  35.7820,3,    223.0,2,    218.2,2,     3.25,2,    10.05,2,     0.44,2,   -999.0,9,   7.8470,2,    25.00
  35TH20080610, OVIDE,     7,  1,     23,2,20080613,0557, 40.3320,  -9.9420, 3394,    149.9,  13.7060,  35.9110,2,  35.9020,3,    237.4,2,    232.3,2,     2.21,2,     6.03,2,     0.28,2,   -999.0,9,   7.8950,2,    25.00
  35TH20080610, OVIDE,     7,  1,     24,2,20080613,0557, 40.3320,  -9.9420, 3394,    100.3,  14.1810,  35.9720,2,  35.9710,2,    241.0,2,    240.2,2,     1.64,2,     3.79,2,     0.07,2,   -999.0,9,   7.9190,2,    25.00
  35TH20080610, OVIDE,     7,  1,     25,2,20080613,0557, 40.3320,  -9.9420, 3394,     55.5,  14.6910,  36.0070,2,  35.9940,3,    259.1,2,    243.2,3,     1.43,2,     1.81,2,     0.07,2,   -999.0,9,   7.9330,2,    25.00
  35TH20080610, OVIDE,     7,  1,     26,2,20080613,0557, 40.3320,  -9.9420, 3394,      2.9,  18.1720,  35.6140,2,  35.6220,3,    244.0,2,    243.1,2,     1.38,2,     0.00,2,     0.00,2,   -999.0,9,   7.9980,2,    25.00
  35TH20080610, OVIDE,     8,  1,      3,2,20080613,1242, 40.3340, -10.0340, 3505,   3559.6,   2.5470,  34.9180,2,  34.9170,2,    244.8,2,    245.1,2,    38.18,2,    22.27,2,     1.35,2,   2349.2,2,   7.7350,2,    25.00
  35TH20080610, OVIDE,     8,  1,      4,2,20080613,1242, 40.3340, -10.0340, 3505,   3399.7,   2.5760,  34.9220,2,  34.9200,2,    245.1,2,    249.5,2,    37.32,2,    22.31,2,     1.34,2,   2346.4,2,   7.7370,2,    25.00
  35TH20080610, OVIDE,     8,  1,      5,2,20080613,1242, 40.3340, -10.0340, 3505,   3251.2,   2.6270,  34.9280,2,  34.9400,3,    245.6,2,    244.8,2,    35.84,2,    22.50,2,     1.32,2,   2345.2,2,   7.7400,2,    25.00
  35TH20080610, OVIDE,     8,  1,      6,2,20080613,1242, 40.3340, -10.0340, 3505,   2999.0,   2.8000,  34.9460,2,  34.9440,2,    246.3,2,    245.4,2,    33.34,2,    21.42,2,     1.30,2,   2342.8,2,   7.7390,2,    25.00
  35TH20080610, OVIDE,     8,  1,      7,2,20080613,1242, 40.3340, -10.0340, 3505,   2749.6,   3.0110,  34.9670,2,  34.9680,2,    247.9,2,    247.2,2,    30.14,2,    21.07,2,     1.26,2,   2340.4,2,   7.7390,2,    25.00
  35TH20080610, OVIDE,     8,  1,      8,2,20080613,1242, 40.3340, -10.0340, 3505,   2499.8,   3.3360,  35.0040,2,  35.0050,2,    248.6,2,    247.8,2,    26.39,2,    20.62,2,     1.23,2,   2335.4,2,   7.7410,2,    25.00
  35TH20080610, OVIDE,     8,  1,      9,2,20080613,1242, 40.3340, -10.0340, 3505,   2500.4,   3.3390,  35.0040,2,  35.0030,2,    248.6,2,    247.7,2,    26.46,2,    20.42,2,     1.22,2,   2336.4,2,   7.7400,2,    25.00
  35TH20080610, OVIDE,     8,  1,     10,2,20080613,1242, 40.3340, -10.0340, 3505,   2249.5,   3.5580,  35.0130,2,  35.0140,2,    252.8,2,    251.8,2,    22.68,2,    20.32,2,     1.16,2,   2332.9,2,   7.7390,2,    25.00
  35TH20080610, OVIDE,     8,  1,     11,2,20080613,1242, 40.3340, -10.0340, 3505,   1998.3,   4.1940,  35.0820,2,  35.0830,2,    251.7,2,    251.6,2,    16.88,2,    19.45,2,     1.10,2,   2327.4,2,   7.7400,2,    25.00
  35TH20080610, OVIDE,     8,  1,     12,2,20080613,1242, 40.3340, -10.0340, 3505,   1799.6,   4.9600,  35.1780,2,  35.1780,2,    246.8,2,    245.1,2,    13.98,2,    18.47,2,     1.07,2,   2330.4,2,   7.7400,2,    25.00
  35TH20080610, OVIDE,     8,  1,     13,2,20080613,1242, 40.3340, -10.0340, 3505,   1599.0,   7.7870,  35.6910,2,  35.7010,3,    213.9,2,    212.6,2,    11.98,2,    17.46,2,     0.98,2,   2363.8,2,   7.7710,2,    25.00
  35TH20080610, OVIDE,     8,  1,     14,2,20080613,1242, 40.3340, -10.0340, 3505,   1400.8,  10.0650,  36.1100,2,  36.1140,2,    192.1,2,    192.4,2,     9.84,2,    16.19,2,     0.88,2,   2393.5,2,   7.7940,2,    25.00
  35TH20080610, OVIDE,     8,  1,     15,2,20080613,1242, 40.3340, -10.0340, 3505,   1199.0,  11.2510,  36.2840,2,  36.2850,2,    183.6,2,    185.8,2,     8.67,2,    15.29,2,     0.82,2,   2401.9,2,   7.8080,2,    25.00
  35TH20080610, OVIDE,     8,  1,     16,2,20080613,1242, 40.3340, -10.0340, 3505,    999.2,  11.4850,  36.2170,2,  36.2210,2,    182.0,2,    184.0,2,     8.16,2,    15.63,2,     0.81,2,   2394.6,2,   7.8090,2,    25.00
  35TH20080610, OVIDE,     8,  1,     17,2,20080613,1242, 40.3340, -10.0340, 3505,    899.2,  11.6820,  36.1960,2,  36.1970,2,    182.3,2,    184.7,2,     7.87,2,    15.03,2,     0.80,2,   2391.1,2,   7.8130,2,    25.00
  35TH20080610, OVIDE,     8,  1,     18,2,20080613,1242, 40.3340, -10.0340, 3505,    799.7,  11.6460,  36.0960,2,  36.0980,2,    183.4,2,    184.7,2,     7.54,2,    15.69,2,     0.80,2,   2384.5,2,   7.8050,2,    25.00
  35TH20080610, OVIDE,     8,  1,     19,2,20080613,1242, 40.3340, -10.0340, 3505,    699.4,  11.6670,  36.0000,2,  36.0050,2,    184.0,2,    183.5,2,     7.15,2,    15.75,2,     0.81,2,   2375.2,2,   7.8030,2,    25.00
  35TH20080610, OVIDE,     8,  1,     20,2,20080613,1242, 40.3340, -10.0340, 3505,    599.9,  11.3500,  35.7940,2,  35.8010,3,    186.8,2,    187.0,2,     6.99,2,    15.75,2,     0.85,2,   -999.0,9,   7.7890,2,    25.00
  35TH20080610, OVIDE,     8,  1,     21,2,20080613,1242, 40.3340, -10.0340, 3505,    498.5,  11.4640,  35.6810,2,  35.6790,2,    199.7,2,    197.6,2,     5.79,2,    15.28,2,     0.79,2,   2348.5,2,   7.7950,2,    25.00
  35TH20080610, OVIDE,     8,  1,     22,2,20080613,1242, 40.3340, -10.0340, 3505,    402.5,  11.7600,  35.6690,2,  35.6680,2,    210.7,2,    208.4,2,     4.62,2,    13.17,2,     0.69,2,   -999.0,9,   7.8120,2,    25.00
  35TH20080610, OVIDE,     8,  1,     23,2,20080613,1242, 40.3340, -10.0340, 3505,    300.7,  12.1520,  35.6810,2,  35.6810,2,    222.0,2,    222.4,2,     3.48,2,    11.17,2,     0.58,2,   2342.5,2,   7.8340,2,    25.00
  35TH20080610, OVIDE,     8,  1,     24,2,20080613,1242, 40.3340, -10.0340, 3505,    200.4,  13.0000,  35.7970,2,  35.7960,2,    229.3,2,    223.6,2,     2.90,2,     9.43,2,     0.48,2,   2350.2,2,   7.8600,2,    25.00
  35TH20080610, OVIDE,     8,  1,     25,2,20080613,1242, 40.3340, -10.0340, 3505,    149.6,  13.8650,  35.9380,2,  35.9390,2,    237.4,2,    234.6,2,     1.98,2,     5.50,2,     0.29,2,   -999.0,9,   7.9000,2,    25.00
  35TH20080610, OVIDE,     8,  1,     26,2,20080613,1242, 40.3340, -10.0340, 3505,     55.3,  14.7180,  36.0010,2,  36.0010,2,    255.1,2,    252.8,2,     1.14,2,     0.53,2,     0.07,2,   2365.8,2,   7.9500,2,    25.00
  35TH20080610, OVIDE,     8,  1,     27,2,20080613,1242, 40.3340, -10.0340, 3505,     55.8,  14.6850,  36.0020,2,  36.0020,2,    255.4,2,    252.7,2,     1.15,2,     0.56,2,     0.06,2,   -999.0,9,   7.9480,2,    25.00
  35TH20080610, OVIDE,     8,  1,     28,2,20080613,1242, 40.3340, -10.0340, 3505,      3.5,  18.7100,  35.7960,2,  35.7990,2,    244.5,2,    242.7,2,     1.09,2,     0.00,2,     0.01,2,   2365.4,2,   7.9970,2,    25.00
  35TH20080610, OVIDE,     9,  1,      3,2,20080613,1706, 40.3330, -10.3000, 3866,   3920.2,   2.4640,  34.9050,2,  34.8950,3,    244.0,2,    238.4,3,    39.95,2,    23.26,2,     1.37,2,   -999.0,9,   7.7370,2,    25.00
  35TH20080610, OVIDE,     9,  1,      4,2,20080613,1706, 40.3330, -10.3000, 3866,   3700.3,   2.5000,  34.9110,2,  34.9090,2,    244.4,2,    244.9,2,    39.01,2,    22.34,2,     1.38,2,   -999.0,9,   7.7370,2,    25.00
  35TH20080610, OVIDE,     9,  1,      5,2,20080613,1706, 40.3330, -10.3000, 3866,   3500.4,   2.5470,  34.9180,2,  34.9250,2,    244.8,2,    240.6,3,    37.37,2,    22.19,2,     1.36,2,   -999.0,9,   7.7370,2,    25.00
  35TH20080610, OVIDE,     9,  1,      6,2,20080613,1706, 40.3330, -10.3000, 3866,   3251.6,   2.6530,  34.9310,2,  34.9290,2,    245.5,2,    246.0,2,    35.62,2,    21.94,2,     1.32,2,   -999.0,9,   7.7380,2,    25.00
  35TH20080610, OVIDE,     9,  1,      7,2,20080613,1706, 40.3330, -10.3000, 3866,   2999.7,   2.8380,  34.9510,2,  34.9500,2,    246.5,2,    244.2,2,    32.30,2,    22.08,2,     1.29,2,   -999.0,9,   7.7410,2,    25.00
  35TH20080610, OVIDE,     9,  1,      8,2,20080613,1706, 40.3330, -10.3000, 3866,   2751.0,   3.0360,  34.9710,2,  34.9710,2,    247.6,2,    245.9,2,    29.09,2,    20.99,2,     1.27,2,   -999.0,9,   7.7410,2,    25.00
  35TH20080610, OVIDE,     9,  1,      9,2,20080613,1706, 40.3330, -10.3000, 3866,   2499.6,   3.3580,  35.0050,2,  35.0030,2,    248.7,2,    246.1,2,    25.87,2,    21.00,2,     1.22,2,   -999.0,9,   7.7430,2,    25.00
  35TH20080610, OVIDE,     9,  1,     10,2,20080613,1706, 40.3330, -10.3000, 3866,   2500.2,   3.3560,  35.0040,2,  35.0030,2,    248.7,2,    244.3,2,    25.76,2,    20.51,2,     1.22,2,   -999.0,9,   7.7460,2,    25.00
  35TH20080610, OVIDE,     9,  1,     11,2,20080613,1706, 40.3330, -10.3000, 3866,   2250.7,   3.6990,  35.0350,2,  35.0350,2,    250.7,2,    248.9,2,    21.90,2,    19.60,2,     1.18,2,   -999.0,9,   7.7430,2,    25.00
  35TH20080610, OVIDE,     9,  1,     12,2,20080613,1706, 40.3330, -10.3000, 3866,   2000.3,   4.3260,  35.1110,2,  35.1110,2,    248.8,2,    247.5,2,    17.32,2,    19.60,2,     1.12,2,   -999.0,9,   7.7440,2,    25.00
  35TH20080610, OVIDE,     9,  1,     13,2,20080613,1706, 40.3330, -10.3000, 3866,   1801.5,   5.4500,  35.2760,2,  35.2700,2,    239.3,2,    239.4,2,    14.24,2,    18.34,2,     1.04,2,   -999.0,9,   7.7490,2,    25.00
  35TH20080610, OVIDE,     9,  1,     14,2,20080613,1706, 40.3330, -10.3000, 3866,   1600.0,   6.7020,  35.4720,2,  35.4690,2,    224.5,2,    215.3,3,    12.40,2,    18.57,2,     1.02,2,   -999.0,9,   7.7570,2,    25.00
  35TH20080610, OVIDE,     9,  1,     15,2,20080613,1706, 40.3330, -10.3000, 3866,   1399.6,   9.6640,  36.0320,2,  36.0280,2,    195.6,2,    193.7,2,    10.36,2,    16.80,2,     0.90,2,   -999.0,9,   7.7930,2,    25.00
  35TH20080610, OVIDE,     9,  1,     16,2,20080613,1706, 40.3330, -10.3000, 3866,   1199.9,  11.2420,  36.2840,2,  36.2800,2,    183.3,2,    184.8,2,     8.71,2,    15.26,2,     0.82,2,   -999.0,9,   7.8090,2,    25.00
  35TH20080610, OVIDE,     9,  1,     17,2,20080613,1706, 40.3330, -10.3000, 3866,   1099.9,  11.4120,  36.2780,2,  36.2780,2,    182.4,2,    181.9,2,     8.47,2,    15.48,2,     0.81,2,   -999.0,9,   7.8110,2,    25.00
  35TH20080610, OVIDE,     9,  1,     18,2,20080613,1706, 40.3330, -10.3000, 3866,   1001.0,  11.4650,  36.2290,2,  36.2330,2,    182.2,2,    182.2,2,     8.28,2,    15.12,2,     0.81,2,   -999.0,9,   7.8100,2,    25.00
  35TH20080610, OVIDE,     9,  1,     19,2,20080613,1706, 40.3330, -10.3000, 3866,    898.8,  11.5460,  36.1750,2,  36.1810,2,    182.1,2,    182.8,2,     8.00,2,    15.18,2,     0.82,2,   -999.0,9,   7.8050,2,    25.00
  35TH20080610, OVIDE,     9,  1,     20,2,20080613,1706, 40.3330, -10.3000, 3866,    799.0,  11.7590,  36.1260,2,  36.1320,2,    182.3,2,    183.2,2,     7.53,2,    15.51,2,     0.80,2,   -999.0,9,   7.8090,2,    25.00
  35TH20080610, OVIDE,     9,  1,     21,2,20080613,1706, 40.3330, -10.3000, 3866,    700.8,  11.8720,  36.0520,2,  36.0520,2,    183.8,2,    184.1,2,     7.08,2,    15.27,2,     0.78,2,   -999.0,9,   7.8080,2,    25.00
  35TH20080610, OVIDE,     9,  1,     22,2,20080613,1706, 40.3330, -10.3000, 3866,    600.2,  11.6940,  35.8920,2,  35.9020,3,    186.6,2,    185.4,2,     6.87,2,    15.07,2,     0.82,2,   -999.0,9,   7.8010,2,    25.00
  35TH20080610, OVIDE,     9,  1,     23,2,20080613,1706, 40.3330, -10.3000, 3866,    499.6,  11.3510,  35.6600,2,  35.6620,2,    200.8,2,    195.3,2,     5.97,2,    15.30,2,     0.80,2,   -999.0,9,   7.7910,2,    25.00
  35TH20080610, OVIDE,     9,  1,     24,2,20080613,1706, 40.3330, -10.3000, 3866,    400.4,  11.7180,  35.6550,2,  35.6550,2,    215.6,2,    211.8,2,     4.61,2,    13.26,2,     0.68,2,   -999.0,9,   7.8130,2,    25.00
  35TH20080610, OVIDE,     9,  1,     25,2,20080613,1706, 40.3330, -10.3000, 3866,    300.5,  12.1580,  35.6870,2,  35.6850,2,    221.2,2,    222.4,2,     3.71,2,    11.28,2,     0.58,2,   -999.0,9,   7.8290,2,    25.00
  35TH20080610, OVIDE,     9,  1,     26,2,20080613,1706, 40.3330, -10.3000, 3866,    200.4,  12.8440,  35.7680,2,  35.7610,3,    234.6,2,    225.5,3,     2.96,2,     9.61,2,     0.48,2,   -999.0,9,   7.8560,2,    25.00
  35TH20080610, OVIDE,     9,  1,     27,2,20080613,1706, 40.3330, -10.3000, 3866,    149.3,  13.6560,  35.8960,2,  35.8850,3,    236.5,2,    227.3,3,     2.41,2,     7.20,2,     0.48,2,   -999.0,9,   7.8800,2,    25.00
  35TH20080610, OVIDE,     9,  1,     28,2,20080613,1706, 40.3330, -10.3000, 3866,    100.0,  14.3290,  36.0070,2,  35.9870,3,    238.2,2,    236.8,2,     1.82,2,     4.24,2,     0.23,2,   -999.0,9,-999.0000,9,  -999.00
  35TH20080610, OVIDE,     9,  1,     29,2,20080613,1706, 40.3330, -10.3000, 3866,     56.1,  15.0340,  36.1130,2,  36.1010,3,    252.7,2,    240.3,3,     1.41,2,     2.03,2,     0.13,2,   -999.0,9,-999.0000,9,  -999.00
  35TH20080610, OVIDE,     9,  1,     30,2,20080613,1706, 40.3330, -10.3000, 3866,      3.3,  18.9620,  35.5860,2,  35.6480,3,    243.5,2,    244.3,2,     1.27,2,     0.00,2,     0.01,2,   -999.0,9,-999.0000,9,  -999.00