BOTTLE,20140930PRINUNIVRMK
EXPOCODE,SECT_ID,STNNBR,CASTNO,BTLNBR,BTLNBR_FLAG_W,DATE,TIME,LATITUDE,LONGITUDE,DEPTH,CTDPRS,CTDTMP,CTDSAL,CTDSAL_FLAG_W,SALNTY,SALNTY_FLAG_W,CTDOXY,CTDOXY_FLAG_W,OXYGEN,OXYGEN_FLAG_W,SILCAT,SILCAT_FLAG_W,NITRAT,NITRAT_FLAG_W,PHSPHT,PHSPHT_FLAG_W,ALKALI,ALKALI_FLAG_W,PH_SWS,PH_SWS_FLAG_W,PH_TMP
,,,,,,,,,,METERS,DBAR,ITS-90,PSS-78,,PSS-78,,UMOL/KG,,UMOL/KG,,UMOL/KG,,UMOL/KG,,UMOL/KG,,UMOL/KG,,,,DEG C
  35TH20080610, OVIDE,    81,  1,      3,2,20080701,0757, 59.4920, -37.6790, 3100,   3149.3,   1.5840,  34.9050,2,  34.9040,2,    303.3,2,    304.4,2,     8.67,2,    12.75,2,     0.79,2,   -999.0,9,   7.7200,2,    25.00
  35TH20080610, OVIDE,    81,  1,      4,2,20080701,0757, 59.4920, -37.6790, 3100,   3099.8,   1.9020,  34.9070,2,  34.9060,2,    298.0,2,    299.7,2,     9.21,2,    13.58,2,     0.83,2,   -999.0,9,   7.7190,2,    25.00
  35TH20080610, OVIDE,    81,  1,      5,2,20080701,0757, 59.4920, -37.6790, 3100,   3000.7,   2.3760,  34.9150,2,  34.9140,2,    288.2,2,    289.6,2,    12.31,2,    14.52,2,     0.91,2,   -999.0,9,   7.7230,2,    25.00
  35TH20080610, OVIDE,    81,  1,      6,2,20080701,0757, 59.4920, -37.6790, 3100,   2748.8,   2.8290,  34.9340,2,  34.9330,2,    281.0,2,    282.6,2,    13.84,2,    15.53,2,     0.95,2,   -999.0,9,   7.7260,2,    25.00
  35TH20080610, OVIDE,    81,  1,      7,2,20080701,0757, 59.4920, -37.6790, 3100,   2499.8,   2.9430,  34.9290,2,  34.9300,2,    280.7,2,    281.9,2,    13.10,2,    15.58,2,     0.96,2,   -999.0,9,   7.7280,2,    25.00
  35TH20080610, OVIDE,    81,  1,      8,2,20080701,0757, 59.4920, -37.6790, 3100,   2248.8,   3.1290,  34.9410,2,  34.9400,2,    279.7,2,    280.8,2,    12.56,2,    15.68,2,     0.95,2,   -999.0,9,   7.7270,2,    25.00
  35TH20080610, OVIDE,    81,  1,      9,2,20080701,0757, 59.4920, -37.6790, 3100,   1999.4,   3.2410,  34.9390,2,  34.9370,2,    279.8,2,    281.9,2,    11.80,2,    15.83,2,     0.96,2,   -999.0,9,   7.7250,2,    25.00
  35TH20080610, OVIDE,    81,  1,     10,2,20080701,0757, 59.4920, -37.6790, 3100,   1800.6,   3.4060,  34.9440,2,  34.9460,2,    279.0,2,    280.3,2,    11.37,2,    15.61,2,     0.95,2,   -999.0,9,   7.7240,2,    25.00
  35TH20080610, OVIDE,    81,  1,     11,2,20080701,0757, 59.4920, -37.6790, 3100,   1599.0,   3.4700,  34.9300,2,  34.9290,2,    279.7,2,    280.1,2,    11.13,2,    16.01,2,     0.96,2,   -999.0,9,   7.7230,2,    25.00
  35TH20080610, OVIDE,    81,  1,     12,2,20080701,0757, 59.4920, -37.6790, 3100,   1397.4,   3.5060,  34.9080,2,  34.9100,2,    279.4,2,    280.4,2,    10.96,2,    16.30,2,     0.97,2,   -999.0,9,   7.7210,2,    25.00
  35TH20080610, OVIDE,    81,  1,     13,2,20080701,0757, 59.4920, -37.6790, 3100,   1199.8,   3.6090,  34.9020,2,  34.9030,2,    280.2,2,    281.2,2,    10.56,2,    16.12,2,     0.97,2,   -999.0,9,   7.7190,2,    25.00
  35TH20080610, OVIDE,    81,  1,     14,2,20080701,0757, 59.4920, -37.6790, 3100,    999.5,   3.6250,  34.8820,2,  34.8830,2,    289.9,2,    288.4,2,     9.78,2,    15.89,2,     0.95,2,   -999.0,9,   7.7180,2,    25.00
  35TH20080610, OVIDE,    81,  1,     15,2,20080701,0757, 59.4920, -37.6790, 3100,    899.7,   3.5750,  34.8660,2,  34.8670,2,    293.0,2,    297.0,3,     9.11,2,    15.46,2,     0.93,2,   -999.0,9,   7.7210,2,    25.00
  35TH20080610, OVIDE,    81,  1,     16,2,20080701,0757, 59.4920, -37.6790, 3100,    899.6,   3.5760,  34.8660,2,  34.8670,2,    293.0,2,    300.0,3,     9.12,2,    15.48,2,     0.93,2,   -999.0,9,-999.0000,9,  -999.00
  35TH20080610, OVIDE,    81,  1,     17,2,20080701,0757, 59.4920, -37.6790, 3100,    799.1,   3.6050,  34.8650,2,  34.8670,2,    298.2,2,    297.7,2,     8.90,2,    15.49,2,     0.91,2,   -999.0,9,   7.7210,2,    25.00
  35TH20080610, OVIDE,    81,  1,     18,2,20080701,0757, 59.4920, -37.6790, 3100,    698.6,   3.6650,  34.8670,2,  34.8680,2,    298.6,2,    310.1,3,     8.85,2,    15.55,2,     0.91,2,   -999.0,9,   7.7210,2,    25.00
  35TH20080610, OVIDE,    81,  1,     19,2,20080701,0757, 59.4920, -37.6790, 3100,    600.0,   3.8130,  34.8810,2,  34.8820,2,    297.3,2,    296.0,2,     8.94,2,    15.62,2,     0.93,2,   -999.0,9,   7.7210,2,    25.00
  35TH20080610, OVIDE,    81,  1,     20,2,20080701,0757, 59.4920, -37.6790, 3100,    499.5,   4.0050,  34.9020,2,  34.9030,2,    299.0,2,    294.9,2,     9.04,2,    15.68,2,     0.93,2,   -999.0,9,   7.7220,2,    25.00
  35TH20080610, OVIDE,    81,  1,     21,2,20080701,0757, 59.4920, -37.6790, 3100,    399.0,   3.9780,  34.8910,2,  34.8900,2,    286.7,2,    296.9,3,     8.84,2,    15.64,2,     0.94,2,   -999.0,9,   7.7230,2,    25.00
  35TH20080610, OVIDE,    81,  1,     22,2,20080701,0757, 59.4920, -37.6790, 3100,    300.3,   4.1010,  34.8940,2,  34.8930,2,    294.2,2,    296.7,2,     8.87,2,    15.50,2,     0.94,2,   -999.0,9,   7.7220,2,    25.00
  35TH20080610, OVIDE,    81,  1,     23,2,20080701,0757, 59.4920, -37.6790, 3100,    199.6,   4.5800,  34.9360,2,  34.9370,2,    282.4,2,    281.9,2,     9.38,2,    16.32,2,     0.97,2,   -999.0,9,   7.7170,2,    25.00
  35TH20080610, OVIDE,    81,  1,     24,2,20080701,0757, 59.4920, -37.6790, 3100,    148.9,   4.7210,  34.9100,2,  34.9100,2,    302.9,2,    292.3,3,     8.79,2,    14.12,2,     0.94,2,   -999.0,9,   7.7270,2,    25.00
  35TH20080610, OVIDE,    81,  1,     25,2,20080701,0757, 59.4920, -37.6790, 3100,     98.5,   4.9050,  34.8750,2,  34.8730,2,    300.4,2,    305.7,3,     8.18,2,    14.26,2,     0.89,2,   -999.0,9,   7.7380,2,    25.00
  35TH20080610, OVIDE,    81,  1,     26,2,20080701,0757, 59.4920, -37.6790, 3100,     56.9,   6.6630,  34.8090,2,  34.8180,3,    310.6,2,    329.6,3,     3.65,2,     7.38,2,     0.54,2,   -999.0,9,   7.8310,2,    25.00
  35TH20080610, OVIDE,    81,  1,     27,2,20080701,0757, 59.4920, -37.6790, 3100,      5.7,   9.3040,  34.9420,2,  34.9410,2,    298.5,2,    299.4,2,     2.73,2,     7.78,2,     0.49,2,   -999.0,9,   7.8620,2,    25.00
  35TH20080610, OVIDE,    82,  1,      3,2,20080701,1228, 59.5590, -38.3180, 3026,   3074.7,   1.5090,  34.9050,2,  34.9030,2,    304.1,2,    306.5,2,     8.44,2,    13.79,2,     0.83,2,   2304.3,2,   7.7190,2,    25.00
  35TH20080610, OVIDE,    82,  1,      4,2,20080701,1228, 59.5590, -38.3180, 3026,   2999.0,   1.8160,  34.9070,2,  34.9050,2,    300.1,2,    300.8,2,     8.67,2,    14.13,2,     0.85,2,   2307.8,2,   7.7190,2,    25.00
  35TH20080610, OVIDE,    82,  1,      5,2,20080701,1228, 59.5590, -38.3180, 3026,   2714.4,   2.7300,  34.9270,2,  34.9280,2,    282.8,2,    284.3,2,    12.57,2,    15.68,2,     0.93,2,   2309.3,2,   7.7280,2,    25.00
  35TH20080610, OVIDE,    82,  1,      6,2,20080701,1228, 59.5590, -38.3180, 3026,   2498.3,   2.8990,  34.9310,2,  34.9300,2,    281.2,2,    282.1,2,    12.18,2,    15.94,2,     0.96,2,   2308.2,2,   7.7290,2,    25.00
  35TH20080610, OVIDE,    82,  1,      7,2,20080701,1228, 59.5590, -38.3180, 3026,   2247.9,   3.0350,  34.9260,2,  34.9240,2,    281.2,2,    282.8,2,    11.86,2,    16.21,2,     0.96,2,   2304.5,2,   7.7280,2,    25.00
  35TH20080610, OVIDE,    82,  1,      8,2,20080701,1228, 59.5590, -38.3180, 3026,   1803.7,   3.2620,  34.9130,2,  34.9120,2,    281.9,2,    283.4,2,    10.76,2,    15.90,2,     0.97,2,   2306.9,2,   7.7250,2,    25.00
  35TH20080610, OVIDE,    82,  1,      9,2,20080701,1228, 59.5590, -38.3180, 3026,   1600.2,   3.3760,  34.9140,2,  34.9120,2,    281.1,2,    282.1,2,    10.58,2,    16.41,2,     0.97,2,   -999.0,9,-999.0000,9,  -999.00
  35TH20080610, OVIDE,    82,  1,     10,2,20080701,1228, 59.5590, -38.3180, 3026,   1600.7,   3.3760,  34.9140,2,  34.9120,2,    281.1,2,    282.0,2,    10.57,2,    16.69,2,     0.98,2,   2307.1,2,   7.7250,2,    25.00
  35TH20080610, OVIDE,    82,  1,     11,2,20080701,1228, 59.5590, -38.3180, 3026,   1400.6,   3.5300,  34.9130,2,  34.9120,2,    279.2,2,    280.4,2,    10.35,2,    16.28,2,     0.98,2,   2307.6,2,   7.7190,2,    25.00
  35TH20080610, OVIDE,    82,  1,     12,2,20080701,1228, 59.5590, -38.3180, 3026,   1201.6,   3.6090,  34.8980,2,  34.8970,2,    281.7,2,    282.6,2,     9.79,2,    16.54,2,     0.97,2,   2304.5,2,   7.7190,2,    25.00
  35TH20080610, OVIDE,    82,  1,     13,2,20080701,1228, 59.5590, -38.3180, 3026,   1000.3,   3.6120,  34.8770,2,  34.8770,2,    289.6,2,    290.4,2,     9.08,2,    15.90,2,     0.95,2,   2304.7,2,   7.7160,2,    25.00
  35TH20080610, OVIDE,    82,  1,     14,2,20080701,1228, 59.5590, -38.3180, 3026,    900.1,   3.6050,  34.8670,2,  34.8680,2,    294.8,2,    296.5,2,     8.58,2,    16.24,2,     0.93,2,   2302.5,2,   7.7200,2,    25.00
  35TH20080610, OVIDE,    82,  1,     15,2,20080701,1228, 59.5590, -38.3180, 3026,    799.8,   3.6450,  34.8670,2,  34.8660,2,    296.4,2,    297.5,2,     8.44,2,    15.56,2,     0.93,2,   2303.1,2,   7.7210,2,    25.00
  35TH20080610, OVIDE,    82,  1,     16,2,20080701,1228, 59.5590, -38.3180, 3026,    701.0,   3.7050,  34.8710,2,  34.8700,2,    296.3,2,    298.6,2,     8.38,2,    15.79,2,     0.92,2,   2304.3,2,   7.7210,2,    25.00
  35TH20080610, OVIDE,    82,  1,     17,2,20080701,1228, 59.5590, -38.3180, 3026,    700.6,   3.7050,  34.8700,2,  34.8710,2,    296.3,2,    298.3,2,     8.36,2,    15.53,2,     0.93,2,   -999.0,9,-999.0000,9,  -999.00
  35TH20080610, OVIDE,    82,  1,     18,2,20080701,1228, 59.5590, -38.3180, 3026,    597.7,   3.8610,  34.8870,2,  34.8870,2,    297.7,2,    299.0,2,     8.25,2,    16.34,2,     0.92,2,   2305.2,2,   7.7230,2,    25.00
  35TH20080610, OVIDE,    82,  1,     19,2,20080701,1228, 59.5590, -38.3180, 3026,    499.6,   3.9120,  34.8910,2,  34.8920,2,    297.9,2,    299.4,2,     8.14,2,    16.08,2,     0.92,2,   2304.5,2,   7.7260,2,    25.00
  35TH20080610, OVIDE,    82,  1,     20,2,20080701,1228, 59.5590, -38.3180, 3026,    392.6,   4.0010,  34.8960,2,  34.8960,2,    298.3,2,    299.7,2,     8.03,2,    15.85,2,     0.91,2,   2305.2,2,   7.7270,2,    25.00
  35TH20080610, OVIDE,    82,  1,     21,2,20080701,1228, 59.5590, -38.3180, 3026,    301.3,   4.0790,  34.9010,2,  34.9000,2,    297.6,2,    296.9,2,     8.20,2,    16.14,2,     0.92,2,   2306.0,2,   7.7250,2,    25.00
  35TH20080610, OVIDE,    82,  1,     22,2,20080701,1228, 59.5590, -38.3180, 3026,    198.7,   4.2330,  34.9060,2,  34.9060,2,    297.6,2,    297.7,2,     8.19,2,    16.40,2,     0.94,2,   2304.0,2,   7.7230,2,    25.00
  35TH20080610, OVIDE,    82,  1,     23,2,20080701,1228, 59.5590, -38.3180, 3026,    150.8,   4.4240,  34.9100,2,  34.9130,2,    301.3,2,    297.4,2,     8.06,2,    16.32,2,     0.92,2,   2304.0,2,   7.7250,2,    25.00
  35TH20080610, OVIDE,    82,  1,     24,2,20080701,1228, 59.5590, -38.3180, 3026,     99.5,   4.7070,  34.8850,2,  34.8850,2,    308.6,2,    304.7,2,     7.79,2,    15.57,2,     0.89,2,   2302.2,2,   7.7350,2,    25.00
  35TH20080610, OVIDE,    82,  1,     25,2,20080701,1228, 59.5590, -38.3180, 3026,     55.0,   5.8340,  34.8630,2,  34.8870,3,    306.7,2,    306.7,2,     6.37,2,    13.06,2,     0.82,2,   2304.6,2,   7.7620,2,    25.00
  35TH20080610, OVIDE,    82,  1,     26,2,20080701,1228, 59.5590, -38.3180, 3026,      5.0,   9.4940,  34.9070,2,  34.9070,2,    301.3,2,    302.8,2,     2.54,2,     7.96,2,     0.48,2,   2306.6,2,   7.8650,2,    25.00
  35TH20080610, OVIDE,    83,  1,      3,2,20080701,1844, 59.6240, -38.9600, 2912,   2959.3,   1.5020,  34.9040,2,  34.9030,2,    304.9,2,    303.7,2,     8.25,2,    14.72,2,     0.80,2,   -999.0,9,   7.7160,2,    25.00
  35TH20080610, OVIDE,    83,  1,      4,2,20080701,1844, 59.6240, -38.9600, 2912,   2849.2,   1.7010,  34.9020,2,  34.9010,2,    302.9,2,    304.1,2,     7.71,2,    13.75,2,     0.81,2,   -999.0,9,   7.7200,2,    25.00
  35TH20080610, OVIDE,    83,  1,      5,2,20080701,1844, 59.6240, -38.9600, 2912,   2675.9,   2.3760,  34.9040,2,  34.9010,2,    296.8,2,    296.5,2,     8.92,2,    14.67,2,     0.86,2,   -999.0,9,   7.7250,2,    25.00
  35TH20080610, OVIDE,    83,  1,      6,2,20080701,1844, 59.6240, -38.9600, 2912,   2500.7,   2.7990,  34.9230,2,  34.9220,2,    285.4,2,    285.7,2,    11.09,2,    15.76,2,     0.93,2,   -999.0,9,   7.7280,2,    25.00
  35TH20080610, OVIDE,    83,  1,      7,2,20080701,1844, 59.6240, -38.9600, 2912,   2298.8,   2.9840,  34.9180,2,  34.9160,2,    286.5,2,    287.7,2,    10.13,2,    15.72,2,     0.91,2,   -999.0,9,   7.7290,2,    25.00
  35TH20080610, OVIDE,    83,  1,      8,2,20080701,1844, 59.6240, -38.9600, 2912,   1999.6,   3.2500,  34.9240,2,  34.9260,2,    281.5,2,    282.3,2,    10.69,2,    16.63,2,     0.96,2,   -999.0,9,   7.7260,2,    25.00
  35TH20080610, OVIDE,    83,  1,      9,2,20080701,1844, 59.6240, -38.9600, 2912,   1800.7,   3.3490,  34.9210,2,  34.9200,2,    280.6,2,    281.5,2,    10.42,2,    16.78,2,     0.97,2,   -999.0,9,   7.7260,2,    25.00
  35TH20080610, OVIDE,    83,  1,     10,2,20080701,1844, 59.6240, -38.9600, 2912,   1600.3,   3.4810,  34.9200,2,  34.9200,2,    279.9,2,    280.6,2,    10.27,2,    16.79,2,     0.97,2,   -999.0,9,   7.7220,2,    25.00
  35TH20080610, OVIDE,    83,  1,     11,2,20080701,1844, 59.6240, -38.9600, 2912,   1400.2,   3.6710,  34.9270,2,  34.9280,2,    278.1,2,    278.5,2,    10.04,2,    16.94,2,     0.98,2,   -999.0,9,   7.7220,2,    25.00
  35TH20080610, OVIDE,    83,  1,     12,2,20080701,1844, 59.6240, -38.9600, 2912,   1199.8,   3.6910,  34.9080,2,  34.9090,2,    280.6,2,    281.3,2,     9.64,2,    16.92,2,     0.97,2,   -999.0,9,   7.7140,2,    25.00
  35TH20080610, OVIDE,    83,  1,     13,2,20080701,1844, 59.6240, -38.9600, 2912,    998.3,   3.7240,  34.8910,2,  34.8910,2,    285.1,2,    286.9,2,     9.07,2,    16.69,2,     0.96,2,   -999.0,9,   7.7110,2,    25.00
  35TH20080610, OVIDE,    83,  1,     14,2,20080701,1844, 59.6240, -38.9600, 2912,    899.6,   3.8280,  34.8970,2,  34.8970,2,    284.6,2,    284.9,2,     9.02,2,    16.53,2,     0.97,2,   -999.0,9,   7.7160,2,    25.00
  35TH20080610, OVIDE,    83,  1,     15,2,20080701,1844, 59.6240, -38.9600, 2912,    799.2,   3.9280,  34.9030,2,  34.9020,2,    290.7,2,    292.0,2,     8.55,2,    16.16,2,     0.95,2,   -999.0,9,   7.7210,2,    25.00
  35TH20080610, OVIDE,    83,  1,     16,2,20080701,1844, 59.6240, -38.9600, 2912,    699.2,   4.0400,  34.9120,2,  34.9130,2,    295.5,2,    295.6,2,     8.15,2,    16.38,2,     0.94,2,   -999.0,9,   7.7260,2,    25.00
  35TH20080610, OVIDE,    83,  1,     17,2,20080701,1844, 59.6240, -38.9600, 2912,    599.2,   4.0650,  34.9120,2,  34.9110,2,    297.3,2,    297.3,2,     7.99,2,    15.99,2,     0.93,2,   -999.0,9,   7.7250,2,    25.00
  35TH20080610, OVIDE,    83,  1,     18,2,20080701,1844, 59.6240, -38.9600, 2912,    600.0,   4.0660,  34.9120,2,  34.9160,3,    297.2,2,    297.4,2,     8.02,2,    16.10,2,     0.93,2,   -999.0,9,-999.0000,9,  -999.00
  35TH20080610, OVIDE,    83,  1,     19,2,20080701,1844, 59.6240, -38.9600, 2912,    499.7,   4.1570,  34.9200,2,  34.9210,2,    297.0,2,    295.0,2,     8.04,2,    16.01,2,     0.94,2,   -999.0,9,   7.7270,2,    25.00
  35TH20080610, OVIDE,    83,  1,     20,2,20080701,1844, 59.6240, -38.9600, 2912,    400.4,   4.2750,  34.9280,2,  34.9270,2,    293.7,2,    295.4,2,     8.03,2,    16.19,2,     0.93,2,   -999.0,9,   7.7280,2,    25.00
  35TH20080610, OVIDE,    83,  1,     21,2,20080701,1844, 59.6240, -38.9600, 2912,    297.1,   4.7170,  34.9730,2,  34.9730,2,    291.7,2,    293.0,2,     7.83,2,    16.15,2,     0.93,2,   -999.0,9,   7.7350,2,    25.00
  35TH20080610, OVIDE,    83,  1,     22,2,20080701,1844, 59.6240, -38.9600, 2912,    199.6,   5.1630,  35.0200,2,  35.0190,2,    295.0,2,    297.1,2,     7.44,2,    15.71,2,     0.90,2,   -999.0,9,   7.7420,2,    25.00
  35TH20080610, OVIDE,    83,  1,     23,2,20080701,1844, 59.6240, -38.9600, 2912,    150.1,   5.1810,  35.0120,2,  35.0120,2,    297.3,2,    298.9,2,     7.48,2,    15.72,2,     0.90,2,   -999.0,9,   7.7430,2,    25.00
  35TH20080610, OVIDE,    83,  1,     24,2,20080701,1844, 59.6240, -38.9600, 2912,    101.1,   5.3350,  35.0150,2,  35.0130,2,    298.4,2,    300.8,2,     7.33,2,    15.68,2,     0.90,2,   -999.0,9,   7.7440,2,    25.00
  35TH20080610, OVIDE,    83,  1,     25,2,20080701,1844, 59.6240, -38.9600, 2912,     56.0,   5.5470,  34.9650,2,  34.9640,2,    304.3,2,    304.2,2,     6.73,2,    13.96,2,     0.87,2,   -999.0,9,   7.7580,2,    25.00
  35TH20080610, OVIDE,    83,  1,     26,2,20080701,1844, 59.6240, -38.9600, 2912,      3.4,   9.2050,  34.8600,2,  34.8610,2,    306.3,2,    310.8,3,     3.05,2,     7.46,2,     0.44,2,   -999.0,9,   7.8650,2,    25.00