BOTTLE,20140930PRINUNIVRMK
EXPOCODE,SECT_ID,STNNBR,CASTNO,BTLNBR,BTLNBR_FLAG_W,DATE,TIME,LATITUDE,LONGITUDE,DEPTH,CTDPRS,CTDTMP,CTDSAL,CTDSAL_FLAG_W,SALNTY,SALNTY_FLAG_W,CTDOXY,CTDOXY_FLAG_W,OXYGEN,OXYGEN_FLAG_W,SILCAT,SILCAT_FLAG_W,NITRAT,NITRAT_FLAG_W,PHSPHT,PHSPHT_FLAG_W,ALKALI,ALKALI_FLAG_W,PH_SWS,PH_SWS_FLAG_W,PH_TMP
,,,,,,,,,,METERS,DBAR,ITS-90,PSS-78,,PSS-78,,UMOL/KG,,UMOL/KG,,UMOL/KG,,UMOL/KG,,UMOL/KG,,UMOL/KG,,,,DEG C
  35TH20080610, OVIDE,    84,  1,      3,2,20080701,2325, 59.6540, -39.2790, 2846,   2889.3,   1.4820,  34.9040,2,  34.9050,2,    305.4,2,    305.2,2,     8.87,2,    13.37,2,     0.77,2,   2302.8,2,   7.7170,2,    25.00
  35TH20080610, OVIDE,    84,  1,      4,2,20080701,2325, 59.6540, -39.2790, 2846,   2747.5,   1.9410,  34.9050,2,  34.9040,2,    300.7,2,    300.3,2,     9.40,2,    14.08,2,     0.81,2,   2300.9,2,   7.7200,2,    25.00
  35TH20080610, OVIDE,    84,  1,      5,2,20080701,2325, 59.6540, -39.2790, 2846,   2500.0,   2.6880,  34.9190,2,  34.9200,2,    287.4,2,    287.7,2,    12.04,2,    15.53,2,     0.90,2,   2305.0,2,   7.7270,2,    25.00
  35TH20080610, OVIDE,    84,  1,      6,2,20080701,2325, 59.6540, -39.2790, 2846,   2249.7,   2.9880,  34.9260,2,  34.9260,2,    281.9,2,    305.1,3,    12.52,2,    16.06,2,     0.94,2,   2305.1,2,   7.7290,2,    25.00
  35TH20080610, OVIDE,    84,  1,      7,2,20080701,2325, 59.6540, -39.2790, 2846,   2000.4,   3.1530,  34.9230,2,  34.9240,2,    281.3,2,    292.9,3,    12.18,2,    16.34,2,     0.94,2,   2303.3,2,   7.7280,2,    25.00
  35TH20080610, OVIDE,    84,  1,      8,2,20080701,2325, 59.6540, -39.2790, 2846,   1800.2,   3.2720,  34.9190,2,  34.9190,2,    282.2,2,    289.3,3,    11.64,2,    16.62,2,     0.95,2,   2303.3,2,   7.7250,2,    25.00
  35TH20080610, OVIDE,    84,  1,      9,2,20080701,2325, 59.6540, -39.2790, 2846,   1599.9,   3.3860,  34.9140,2,  34.9130,2,    281.0,2,    283.1,2,    11.39,2,    16.76,2,     0.96,2,   2303.3,2,   7.7230,2,    25.00
  35TH20080610, OVIDE,    84,  1,     10,2,20080701,2325, 59.6540, -39.2790, 2846,   1401.2,   3.5210,  34.9120,2,  34.9130,2,    279.3,2,    285.1,3,    11.15,2,    16.80,2,     0.96,2,   2303.4,2,   7.7220,2,    25.00
  35TH20080610, OVIDE,    84,  1,     11,2,20080701,2325, 59.6540, -39.2790, 2846,   1199.6,   3.5920,  34.8980,2,  34.8970,2,    282.0,2,    302.0,3,    10.65,2,    16.80,2,     0.96,2,   2301.5,2,   7.7170,2,    25.00
  35TH20080610, OVIDE,    84,  1,     12,2,20080701,2325, 59.6540, -39.2790, 2846,   1000.1,   3.6460,  34.8820,2,  34.8830,2,    288.4,2,    305.7,3,     9.90,2,    16.53,2,     0.94,2,   2300.0,2,   7.7180,2,    25.00
  35TH20080610, OVIDE,    84,  1,     13,2,20080701,2325, 59.6540, -39.2790, 2846,    899.8,   3.6500,  34.8750,2,  34.8750,2,    291.5,2,    292.5,2,     9.55,2,    16.41,2,     0.94,2,   2300.2,2,   7.7180,2,    25.00
  35TH20080610, OVIDE,    84,  1,     14,2,20080701,2325, 59.6540, -39.2790, 2846,    798.0,   3.6510,  34.8690,2,  34.8700,2,    294.9,2,    296.7,2,     9.09,2,    16.17,2,     0.93,2,   2303.2,2,   7.7200,2,    25.00
  35TH20080610, OVIDE,    84,  1,     15,2,20080701,2325, 59.6540, -39.2790, 2846,    700.0,   3.7800,  34.8800,2,  34.8820,2,    295.0,2,    297.0,2,     9.06,2,    16.22,2,     0.92,2,   2301.4,2,   7.7230,2,    25.00
  35TH20080610, OVIDE,    84,  1,     16,2,20080701,2325, 59.6540, -39.2790, 2846,    600.6,   3.9520,  34.9010,2,  34.9010,2,    296.9,2,    298.7,2,     8.99,2,    16.21,2,     0.93,2,   2302.1,2,   7.7230,2,    25.00
  35TH20080610, OVIDE,    84,  1,     17,2,20080701,2325, 59.6540, -39.2790, 2846,    500.6,   3.9810,  34.9010,2,  34.9030,2,    297.7,2,    299.5,2,     8.80,2,    16.08,2,     0.93,2,   2304.0,2,   7.7280,2,    25.00
  35TH20080610, OVIDE,    84,  1,     18,2,20080701,2325, 59.6540, -39.2790, 2846,    400.9,   3.9970,  34.8980,2,  34.8980,2,    298.0,2,    300.8,2,     8.73,2,    16.08,2,     0.91,2,   2301.4,2,   7.7280,2,    25.00
  35TH20080610, OVIDE,    84,  1,     19,2,20080701,2325, 59.6540, -39.2790, 2846,    400.9,   3.9970,  34.8980,2,  34.9000,2,    298.0,2,    299.7,2,     8.74,2,    16.05,2,     0.92,2,   -999.0,9,-999.0000,9,  -999.00
  35TH20080610, OVIDE,    84,  1,     20,2,20080701,2325, 59.6540, -39.2790, 2846,    300.5,   4.2930,  34.9310,2,  34.9320,2,    293.6,2,    295.4,2,     8.89,2,    16.32,2,     0.92,2,   2304.6,2,   7.7290,2,    25.00
  35TH20080610, OVIDE,    84,  1,     21,2,20080701,2325, 59.6540, -39.2790, 2846,    200.6,   4.4740,  34.9410,2,  34.9430,2,    294.0,2,    296.1,2,     8.69,2,    16.21,2,     0.92,2,   2303.0,2,   7.7310,2,    25.00
  35TH20080610, OVIDE,    84,  1,     22,2,20080701,2325, 59.6540, -39.2790, 2846,    150.4,   4.6830,  34.9450,2,  34.9470,2,    300.8,2,    302.1,2,     8.53,2,    15.98,2,     0.91,2,   2304.6,2,   7.7350,2,    25.00
  35TH20080610, OVIDE,    84,  1,     23,2,20080701,2325, 59.6540, -39.2790, 2846,     99.4,   4.9290,  34.9210,2,  34.9200,2,    304.2,2,    305.3,2,     8.36,2,    15.55,2,     0.88,2,   2303.3,2,   7.7380,2,    25.00
  35TH20080610, OVIDE,    84,  1,     24,2,20080701,2325, 59.6540, -39.2790, 2846,     54.1,   5.9840,  34.9200,2,  34.9230,2,    310.7,2,    307.9,2,     6.76,2,    12.47,2,     0.82,2,   2305.4,2,   7.7740,2,    25.00
  35TH20080610, OVIDE,    84,  1,     25,2,20080701,2325, 59.6540, -39.2790, 2846,      8.6,   9.0520,  34.8510,2,  34.8540,2,    309.4,2,    310.6,2,     3.61,2,     6.84,2,     0.41,2,   2305.2,2,   7.8690,2,    25.00
  35TH20080610, OVIDE,    85,  1,      3,2,20080702,0400, 59.6850, -39.5990, 2782,   2823.7,   1.5780,  34.9040,2,  34.9050,2,    303.9,2,    302.7,2,     8.98,2,    14.22,2,     0.82,2,   -999.0,9,   7.7190,2,    25.00
  35TH20080610, OVIDE,    85,  1,      4,2,20080702,0400, 59.6850, -39.5990, 2782,   2497.9,   2.6070,  34.9130,2,  34.9150,2,    289.5,2,    289.2,2,    11.06,2,    15.68,2,     0.88,2,   -999.0,9,   7.7270,2,    25.00
  35TH20080610, OVIDE,    85,  1,      5,2,20080702,0400, 59.6850, -39.5990, 2782,   2249.6,   2.9830,  34.9250,2,  34.9250,2,    282.4,2,    282.8,2,    12.10,2,    16.60,2,     0.93,2,   -999.0,9,   7.7290,2,    25.00
  35TH20080610, OVIDE,    85,  1,      6,2,20080702,0400, 59.6850, -39.5990, 2782,   2001.2,   3.1820,  34.9300,2,  34.9280,2,    280.9,2,    281.9,2,    11.90,2,    16.87,2,     0.94,2,   -999.0,9,   7.7290,2,    25.00
  35TH20080610, OVIDE,    85,  1,      7,2,20080702,0400, 59.6850, -39.5990, 2782,   1798.4,   3.2780,  34.9220,2,  34.9220,2,    281.0,2,    282.7,2,    11.33,2,    17.00,2,     0.94,2,   -999.0,9,   7.7260,2,    25.00
  35TH20080610, OVIDE,    85,  1,      8,2,20080702,0400, 59.6850, -39.5990, 2782,   1599.9,   3.3970,  34.9190,2,-999.0000,3,    280.1,2,    281.0,2,    11.06,2,    17.13,2,     0.94,2,   -999.0,9,   7.7230,2,    25.00
  35TH20080610, OVIDE,    85,  1,      9,2,20080702,0400, 59.6850, -39.5990, 2782,   1400.6,   3.5650,  34.9220,2,  34.9230,2,    278.6,2,    279.0,2,    10.87,2,    17.28,2,     0.94,2,   -999.0,9,   7.7220,2,    25.00
  35TH20080610, OVIDE,    85,  1,     10,2,20080702,0400, 59.6850, -39.5990, 2782,   1199.3,   3.6560,  34.9070,2,  34.9090,2,    280.4,2,    280.3,2,    10.35,2,    17.27,2,     0.94,2,   -999.0,9,   7.7150,2,    25.00
  35TH20080610, OVIDE,    85,  1,     11,2,20080702,0400, 59.6850, -39.5990, 2782,    998.7,   3.6950,  34.8920,2,  34.8940,2,    285.6,2,    284.5,2,     9.75,2,    17.16,2,     0.95,2,   -999.0,9,   7.7160,2,    25.00
  35TH20080610, OVIDE,    85,  1,     12,2,20080702,0400, 59.6850, -39.5990, 2782,    900.9,   3.7420,  34.8880,2,  34.8880,2,    286.8,2,    286.7,2,     9.54,2,    17.07,2,     0.94,2,   -999.0,9,   7.7190,2,    25.00
  35TH20080610, OVIDE,    85,  1,     13,2,20080702,0400, 59.6850, -39.5990, 2782,    800.0,   3.8610,  34.8950,2,  34.8950,2,    290.6,2,    289.7,2,     9.20,2,    16.98,2,     0.94,2,   -999.0,9,   7.7190,2,    25.00
  35TH20080610, OVIDE,    85,  1,     14,2,20080702,0400, 59.6850, -39.5990, 2782,    698.3,   3.8780,  34.8890,2,  34.8930,3,    296.9,2,    297.0,2,     8.63,2,    16.58,2,     0.91,2,   -999.0,9,   7.7260,2,    25.00
  35TH20080610, OVIDE,    85,  1,     15,2,20080702,0400, 59.6850, -39.5990, 2782,    601.0,   4.0060,  34.9050,2,  34.9060,2,    297.5,2,    298.1,2,     8.59,2,    16.51,2,     0.90,2,   -999.0,9,   7.7260,2,    25.00
  35TH20080610, OVIDE,    85,  1,     16,2,20080702,0400, 59.6850, -39.5990, 2782,    498.8,   4.1760,  34.9230,2,  34.9230,2,    294.3,2,    293.9,2,     8.68,2,    16.63,2,     0.90,2,   -999.0,9,   7.7260,2,    25.00
  35TH20080610, OVIDE,    85,  1,     17,2,20080702,0400, 59.6850, -39.5990, 2782,    398.9,   4.4200,  34.9460,2,  34.9460,2,    289.8,2,    290.5,2,     8.68,2,    16.69,2,     0.91,2,   -999.0,9,   7.7300,2,    25.00
  35TH20080610, OVIDE,    85,  1,     18,2,20080702,0400, 59.6850, -39.5990, 2782,    300.0,   4.6590,  34.9660,2,  34.9670,2,    290.9,2,    292.0,2,     8.51,2,    16.65,2,     0.89,2,   -999.0,9,   7.7360,2,    25.00
  35TH20080610, OVIDE,    85,  1,     19,2,20080702,0400, 59.6850, -39.5990, 2782,    200.8,   5.0810,  35.0000,2,  35.0010,2,    292.6,2,    294.1,2,     8.10,2,    16.30,2,     0.88,2,   -999.0,9,   7.7430,2,    25.00
  35TH20080610, OVIDE,    85,  1,     20,2,20080702,0400, 59.6850, -39.5990, 2782,    150.6,   5.1020,  34.9910,2,  34.9920,2,    297.3,2,    297.7,2,     8.04,2,    16.18,2,     0.88,2,   -999.0,9,   7.7420,2,    25.00
  35TH20080610, OVIDE,    85,  1,     21,2,20080702,0400, 59.6850, -39.5990, 2782,    100.7,   5.2290,  34.9770,2,  34.9780,2,    301.6,2,    300.3,2,     7.90,2,    16.01,2,     0.88,2,   -999.0,9,   7.7440,2,    25.00
  35TH20080610, OVIDE,    85,  1,     22,2,20080702,0400, 59.6850, -39.5990, 2782,     55.7,   5.7080,  34.9480,2,  34.9480,2,    304.3,2,    305.2,2,     6.55,2,    13.38,2,     0.79,2,   -999.0,9,   7.7730,2,    25.00
  35TH20080610, OVIDE,    85,  1,     23,2,20080702,0400, 59.6850, -39.5990, 2782,      7.0,   9.6230,  34.9090,2,  34.9110,2,    301.2,2,    303.1,2,     3.15,2,     8.30,2,     0.45,2,   -999.0,9,   7.8680,2,    25.00
  35TH20080610, OVIDE,    86,  1,      3,2,20080702,0940, 59.7050, -39.9200, 2717,   2759.0,   1.4980,  34.9020,2,  34.9020,2,    305.1,2,    303.6,2,     8.85,2,    13.97,2,     0.80,2,   2300.9,2,   7.7160,2,    25.00
  35TH20080610, OVIDE,    86,  1,      4,2,20080702,0940, 59.7050, -39.9200, 2717,   2500.1,   2.4290,  34.9140,2,  34.9140,2,    290.2,2,    290.1,2,    11.29,2,    15.45,2,     0.88,2,   2303.9,2,   7.7250,2,    25.00
  35TH20080610, OVIDE,    86,  1,      5,2,20080702,0940, 59.7050, -39.9200, 2717,   2249.4,   2.9130,  34.9270,2,  34.9260,2,    281.5,2,    282.2,2,    12.63,2,    16.37,2,     0.94,2,   2304.2,2,   7.7280,2,    25.00
  35TH20080610, OVIDE,    86,  1,      6,2,20080702,0940, 59.7050, -39.9200, 2717,   1999.9,   3.1450,  34.9280,2,  34.9270,2,    281.3,2,    282.3,2,    11.92,2,    16.57,2,     0.95,2,   2302.9,2,   7.7270,2,    25.00
  35TH20080610, OVIDE,    86,  1,      7,2,20080702,0940, 59.7050, -39.9200, 2717,   1795.1,   3.2530,  34.9190,2,  34.9180,2,    284.0,2,    284.9,2,    10.72,2,    16.28,2,     0.92,2,   2301.5,2,   7.7250,2,    25.00
  35TH20080610, OVIDE,    86,  1,      8,2,20080702,0940, 59.7050, -39.9200, 2717,   1599.6,   3.4170,  34.9200,2,  34.9220,2,    280.3,2,    280.9,2,    11.17,2,    16.97,2,     0.96,2,   2303.4,2,   7.7210,2,    25.00
  35TH20080610, OVIDE,    86,  1,      9,2,20080702,0940, 59.7050, -39.9200, 2717,   1399.2,   3.6060,  34.9280,2,  34.9300,2,    278.5,2,    278.7,2,    10.73,2,    16.83,2,     0.95,2,   2305.0,2,   7.7220,2,    25.00
  35TH20080610, OVIDE,    86,  1,     10,2,20080702,0940, 59.7050, -39.9200, 2717,   1200.2,   3.6050,  34.9030,2,  34.9050,2,    281.1,2,    280.8,2,    10.51,2,    17.05,2,     0.96,2,   2304.1,2,   7.7160,2,    25.00
  35TH20080610, OVIDE,    86,  1,     11,2,20080702,0940, 59.7050, -39.9200, 2717,    999.6,   3.6910,  34.8920,2,  34.8940,2,    284.7,2,    284.7,2,     9.83,2,    16.88,2,     0.96,2,   2304.4,2,   7.7150,2,    25.00
  35TH20080610, OVIDE,    86,  1,     12,2,20080702,0940, 59.7050, -39.9200, 2717,    900.5,   3.7450,  34.8890,2,  34.8890,2,    287.1,2,    287.4,2,     9.54,2,    16.76,2,     0.95,2,   2304.4,2,   7.7180,2,    25.00
  35TH20080610, OVIDE,    86,  1,     13,2,20080702,0940, 59.7050, -39.9200, 2717,    801.1,   3.8920,  34.9010,2,  34.9010,2,    286.3,2,    287.3,2,     9.36,2,    16.75,2,     0.94,2,   2306.7,2,   7.7200,2,    25.00
  35TH20080610, OVIDE,    86,  1,     14,2,20080702,0940, 59.7050, -39.9200, 2717,    699.1,   4.0590,  34.9160,2,  34.9180,2,    292.3,2,    293.4,2,     8.89,2,    16.55,2,     0.93,2,   2304.5,2,   7.7250,2,    25.00
  35TH20080610, OVIDE,    86,  1,     15,2,20080702,0940, 59.7050, -39.9200, 2717,    599.8,   4.1390,  34.9220,2,  34.9220,2,    293.6,2,    291.7,2,     8.89,2,    16.49,2,     0.93,2,   2305.4,2,   7.7240,2,    25.00
  35TH20080610, OVIDE,    86,  1,     16,2,20080702,0940, 59.7050, -39.9200, 2717,    500.5,   4.1960,  34.9260,2,  34.9260,2,    291.2,2,    303.2,3,     8.91,2,    16.52,2,     0.92,2,   2304.6,2,   7.7260,2,    25.00
  35TH20080610, OVIDE,    86,  1,     17,2,20080702,0940, 59.7050, -39.9200, 2717,    401.0,   4.2940,  34.9310,2,  34.9320,2,    292.1,2,    291.7,2,     8.81,2,    16.52,2,     0.92,2,   2305.7,2,   7.7290,2,    25.00
  35TH20080610, OVIDE,    86,  1,     18,2,20080702,0940, 59.7050, -39.9200, 2717,    300.6,   4.3980,  34.9350,2,  34.9340,2,    294.5,2,    294.8,2,     8.54,2,    16.47,2,     0.93,2,   2307.7,2,   7.7280,2,    25.00
  35TH20080610, OVIDE,    86,  1,     19,2,20080702,0940, 59.7050, -39.9200, 2717,    200.1,   4.6710,  34.9360,2,  34.9350,2,    302.2,2,    301.7,2,     8.29,2,    16.02,2,     0.89,2,   2306.9,2,   7.7390,2,    25.00
  35TH20080610, OVIDE,    86,  1,     20,2,20080702,0940, 59.7050, -39.9200, 2717,    196.6,   4.7700,  34.9440,2,  34.9380,3,    302.4,2,    302.0,2,     8.31,2,    15.96,2,     0.90,2,   -999.0,9,-999.0000,9,  -999.00
  35TH20080610, OVIDE,    86,  1,     21,2,20080702,0940, 59.7050, -39.9200, 2717,    149.8,   4.8400,  34.9390,2,  34.9350,2,    304.9,2,    304.1,2,     8.26,2,    15.84,2,     0.89,2,   2304.8,2,   7.7420,2,    25.00
  35TH20080610, OVIDE,    86,  1,     22,2,20080702,0940, 59.7050, -39.9200, 2717,    100.3,   4.7570,  34.8930,2,  34.9100,3,    307.1,2,    305.0,2,     8.23,2,    15.52,2,     0.90,2,   2304.2,2,   7.7370,2,    25.00
  35TH20080610, OVIDE,    86,  1,     23,2,20080702,0940, 59.7050, -39.9200, 2717,     55.7,   6.4260,  34.9350,2,  34.9420,3,    312.7,2,    309.6,2,     5.55,2,    11.08,2,     0.70,2,   2310.9,2,   7.8020,2,    25.00
  35TH20080610, OVIDE,    86,  1,     24,2,20080702,0940, 59.7050, -39.9200, 2717,      9.9,   9.5320,  34.8850,2,  34.8820,2,    307.4,2,    308.9,2,     3.24,2,     6.99,2,     0.43,2,   2308.8,2,   7.8770,2,    25.00
  35TH20080610, OVIDE,    87,  1,      3,2,20080702,1307, 59.7240, -40.2530, 2644,   2684.0,   1.5500,  34.9050,2,  34.9040,2,    304.3,2,    304.0,2,     8.48,2,    13.85,2,     0.80,2,   -999.0,9,   7.7160,2,    25.00
  35TH20080610, OVIDE,    87,  1,      4,2,20080702,1307, 59.7240, -40.2530, 2644,   2500.1,   2.1280,  34.9080,2,  34.9060,2,    294.7,2,    296.8,2,     9.32,2,    14.48,2,     0.84,2,   -999.0,9,   7.7230,2,    25.00
  35TH20080610, OVIDE,    87,  1,      5,2,20080702,1307, 59.7240, -40.2530, 2644,   2249.9,   2.7590,  34.9050,2,  34.9030,2,    292.2,2,    292.9,2,     9.44,2,    15.34,2,     0.87,2,   -999.0,9,   7.7270,2,    25.00
  35TH20080610, OVIDE,    87,  1,      6,2,20080702,1307, 59.7240, -40.2530, 2644,   2000.7,   3.0870,  34.9260,2,  34.9240,2,    281.6,2,    282.8,2,    11.26,2,    16.26,2,     0.94,2,   -999.0,9,   7.7250,2,    25.00
  35TH20080610, OVIDE,    87,  1,      7,2,20080702,1307, 59.7240, -40.2530, 2644,   1798.8,   3.2380,  34.9260,2,  34.9240,2,    281.4,2,    282.2,2,    11.15,2,    16.58,2,     0.95,2,   -999.0,9,   7.7250,2,    25.00
  35TH20080610, OVIDE,    87,  1,      8,2,20080702,1307, 59.7240, -40.2530, 2644,   1600.3,   3.3430,  34.9200,2,  34.9200,2,    281.2,2,    281.9,2,    10.80,2,    16.77,2,     0.95,2,   -999.0,9,   7.7220,2,    25.00
  35TH20080610, OVIDE,    87,  1,      9,2,20080702,1307, 59.7240, -40.2530, 2644,   1400.0,   3.5150,  34.9260,2,  34.9240,2,    279.2,2,    279.6,2,    10.56,2,    16.87,2,     0.96,2,   -999.0,9,   7.7220,2,    25.00
  35TH20080610, OVIDE,    87,  1,     10,2,20080702,1307, 59.7240, -40.2530, 2644,   1198.8,   3.6310,  34.9260,2,  34.9260,2,    279.2,2,    279.3,2,    10.11,2,    16.72,2,     0.94,2,   -999.0,9,   7.7190,2,    25.00
  35TH20080610, OVIDE,    87,  1,     11,2,20080702,1307, 59.7240, -40.2530, 2644,    999.1,   3.7140,  34.9150,2,  34.9130,2,    280.6,2,    280.4,2,     9.80,2,    16.79,2,     0.95,2,   -999.0,9,   7.7170,2,    25.00
  35TH20080610, OVIDE,    87,  1,     12,2,20080702,1307, 59.7240, -40.2530, 2644,    898.4,   3.7460,  34.9100,2,  34.9100,2,    281.5,2,    281.2,2,     9.62,2,    16.66,2,     0.94,2,   -999.0,9,   7.7190,2,    25.00
  35TH20080610, OVIDE,    87,  1,     13,2,20080702,1307, 59.7240, -40.2530, 2644,    799.9,   3.7680,  34.9060,2,  34.9050,2,    283.5,2,    283.1,2,     9.45,2,    16.72,2,     0.95,2,   -999.0,9,   7.7170,2,    25.00
  35TH20080610, OVIDE,    87,  1,     14,2,20080702,1307, 59.7240, -40.2530, 2644,    699.7,   3.7160,  34.8910,2,  34.8900,2,    286.7,2,    287.3,2,     9.12,2,    16.58,2,     0.94,2,   -999.0,9,   7.7190,2,    25.00
  35TH20080610, OVIDE,    87,  1,     15,2,20080702,1307, 59.7240, -40.2530, 2644,    599.4,   3.7790,  34.8920,2,  34.8920,2,    287.4,2,    288.6,2,     9.00,2,    16.55,2,     0.93,2,   -999.0,9,   7.7180,2,    25.00
  35TH20080610, OVIDE,    87,  1,     16,2,20080702,1307, 59.7240, -40.2530, 2644,    499.6,   3.8420,  34.8950,2,  34.8940,2,    290.0,2,    291.7,2,     8.71,2,    16.37,2,     0.92,2,   -999.0,9,   7.7210,2,    25.00
  35TH20080610, OVIDE,    87,  1,     17,2,20080702,1307, 59.7240, -40.2530, 2644,    400.8,   3.6320,  34.8560,2,  34.8550,2,    302.7,2,    305.3,2,     8.14,2,    16.02,2,     0.90,2,   -999.0,9,   7.7250,2,    25.00
  35TH20080610, OVIDE,    87,  1,     18,2,20080702,1307, 59.7240, -40.2530, 2644,    301.6,   3.8430,  34.8570,2,  34.8540,2,    309.6,2,    310.3,2,     7.93,2,    15.76,2,     0.89,2,   -999.0,9,   7.7340,2,    25.00
  35TH20080610, OVIDE,    87,  1,     19,2,20080702,1307, 59.7240, -40.2530, 2644,    200.1,   4.5850,  34.8890,2,  34.8900,2,    309.8,2,    310.4,2,     7.85,2,    15.36,2,     0.88,2,   -999.0,9,   7.7430,2,    25.00
  35TH20080610, OVIDE,    87,  1,     20,2,20080702,1307, 59.7240, -40.2530, 2644,    149.0,   4.7270,  34.8910,2,  34.8890,2,    308.1,2,    308.2,2,     7.86,2,    15.03,2,     0.88,2,   -999.0,9,   7.7410,2,    25.00
  35TH20080610, OVIDE,    87,  1,     21,2,20080702,1307, 59.7240, -40.2530, 2644,    149.5,   4.7300,  34.8910,2,  34.8890,2,    308.1,2,    308.3,2,     7.84,2,    15.12,2,     0.88,2,   -999.0,9,-999.0000,9,  -999.00
  35TH20080610, OVIDE,    87,  1,     22,2,20080702,1307, 59.7240, -40.2530, 2644,     98.5,   5.2420,  34.8890,2,  34.8900,2,    308.3,2,    309.5,2,     7.36,2,    13.39,2,     0.86,2,   -999.0,9,   7.7530,2,    25.00
  35TH20080610, OVIDE,    87,  1,     23,2,20080702,1307, 59.7240, -40.2530, 2644,     55.1,   6.7300,  34.8940,2,  34.8940,2,    312.4,2,    313.1,2,     3.99,2,     9.15,2,     0.59,2,   -999.0,9,   7.8250,2,    25.00
  35TH20080610, OVIDE,    87,  1,     24,2,20080702,1307, 59.7240, -40.2530, 2644,      6.0,   9.4060,  34.9080,2,  34.9080,2,    303.4,2,    305.2,2,     3.42,2,     7.62,2,     0.45,2,   -999.0,9,   7.8610,2,    25.00