BOTTLE,20140930PRINUNIVRMK
EXPOCODE,SECT_ID,STNNBR,CASTNO,BTLNBR,BTLNBR_FLAG_W,DATE,TIME,LATITUDE,LONGITUDE,DEPTH,CTDPRS,CTDTMP,CTDSAL,CTDSAL_FLAG_W,SALNTY,SALNTY_FLAG_W,CTDOXY,CTDOXY_FLAG_W,OXYGEN,OXYGEN_FLAG_W,SILCAT,SILCAT_FLAG_W,NITRAT,NITRAT_FLAG_W,PHSPHT,PHSPHT_FLAG_W,ALKALI,ALKALI_FLAG_W,PH_SWS,PH_SWS_FLAG_W,PH_TMP
,,,,,,,,,,METERS,DBAR,ITS-90,PSS-78,,PSS-78,,UMOL/KG,,UMOL/KG,,UMOL/KG,,UMOL/KG,,UMOL/KG,,UMOL/KG,,,,DEG C
  35TH20080610, OVIDE,    92,  1,      3,2,20080703,1111, 59.7970, -42.0040, 1718,   1730.4,   3.0110,  34.9120,2,  34.9130,2,    287.0,2,    286.8,2,    10.21,2,    15.52,2,     0.88,2,   2304.3,2,   7.7280,2,    25.00
  35TH20080610, OVIDE,    92,  1,      4,2,20080703,1111, 59.7970, -42.0040, 1718,   1602.5,   3.2010,  34.9130,2,  34.9130,2,    286.4,2,    286.1,2,     9.89,2,    15.46,2,     0.88,2,   2303.1,2,   7.7240,2,    25.00
  35TH20080610, OVIDE,    92,  1,      5,2,20080703,1111, 59.7970, -42.0040, 1718,   1394.7,   3.4570,  34.9190,2,  34.9200,2,    283.5,2,    283.6,2,     9.65,2,    15.92,2,     0.90,2,   2303.3,2,   7.7240,2,    25.00
  35TH20080610, OVIDE,    92,  1,      6,2,20080703,1111, 59.7970, -42.0040, 1718,   1199.4,   3.6270,  34.9190,2,  34.9190,2,    283.5,2,    283.2,2,     9.39,2,    15.37,2,     0.91,2,   2303.0,2,   7.7240,2,    25.00
  35TH20080610, OVIDE,    92,  1,      7,2,20080703,1111, 59.7970, -42.0040, 1718,   1200.1,   3.6270,  34.9190,2,  34.9190,2,    283.5,2,    283.4,2,     9.27,2,    15.91,2,     0.90,2,   -999.0,9,-999.0000,9,  -999.00
  35TH20080610, OVIDE,    92,  1,      8,2,20080703,1111, 59.7970, -42.0040, 1718,   1001.7,   3.8140,  34.9200,2,  34.9220,2,    282.3,2,    282.0,2,     9.14,2,    16.06,2,     0.91,2,   2303.3,2,   7.7230,2,    25.00
  35TH20080610, OVIDE,    92,  1,      9,2,20080703,1111, 59.7970, -42.0040, 1718,    898.5,   3.9080,  34.9250,2,  34.9250,2,    281.6,2,    281.8,2,     9.07,2,    16.12,2,     0.91,2,   2309.3,2,   7.7220,2,    25.00
  35TH20080610, OVIDE,    92,  1,     10,2,20080703,1111, 59.7970, -42.0040, 1718,    800.5,   4.1010,  34.9260,2,  34.9270,2,    284.2,2,    284.1,2,     8.86,2,    16.26,2,     0.92,2,   2303.2,2,   7.7220,2,    25.00
  35TH20080610, OVIDE,    92,  1,     11,2,20080703,1111, 59.7970, -42.0040, 1718,    704.1,   4.3140,  34.9400,2,  34.9410,2,    284.1,2,    284.1,2,     8.64,2,    15.93,2,     0.90,2,   2305.0,2,   7.7250,2,    25.00
  35TH20080610, OVIDE,    92,  1,     13,2,20080703,1111, 59.7970, -42.0040, 1718,    503.4,   4.8090,  34.9760,2,  34.9770,2,    285.0,2,    284.7,2,     8.38,2,    15.98,2,     0.90,2,   2307.3,2,   7.7360,2,    25.00
  35TH20080610, OVIDE,    92,  1,     14,2,20080703,1111, 59.7970, -42.0040, 1718,    400.6,   5.1670,  35.0040,2,  35.0050,2,    286.5,2,    285.5,2,     8.08,2,    15.82,2,     0.89,2,   2310.1,2,   7.7420,2,    25.00
  35TH20080610, OVIDE,    92,  1,     15,2,20080703,1111, 59.7970, -42.0040, 1718,    300.1,   5.3130,  35.0000,2,  35.0000,2,    289.1,2,    290.1,2,     7.52,2,    15.17,2,     0.85,2,   2308.8,2,   7.7490,2,    25.00
  35TH20080610, OVIDE,    92,  1,     16,2,20080703,1111, 59.7970, -42.0040, 1718,    200.7,   5.6200,  35.0270,2,  35.0390,3,    292.1,2,    289.8,2,     7.26,2,    15.02,2,     0.83,2,   2311.1,2,   7.7560,2,    25.00
  35TH20080610, OVIDE,    92,  1,     17,2,20080703,1111, 59.7970, -42.0040, 1718,    150.0,   5.4750,  34.9840,2,  34.9880,2,    291.3,2,    293.9,2,     6.79,2,    14.52,2,     0.81,2,   2309.6,2,   7.7580,2,    25.00
  35TH20080610, OVIDE,    92,  1,     18,2,20080703,1111, 59.7970, -42.0040, 1718,     99.7,   5.6070,  34.9780,2,  34.9850,3,    291.3,2,    293.8,2,     6.41,2,    14.26,2,     0.79,2,   2308.5,2,   7.7640,2,    25.00
  35TH20080610, OVIDE,    92,  1,     19,2,20080703,1111, 59.7970, -42.0040, 1718,     54.7,   6.2150,  34.9820,2,  34.9920,3,    295.7,2,    299.8,2,     5.38,2,    12.34,2,     0.73,2,   2310.8,2,   7.7870,2,    25.00
  35TH20080610, OVIDE,    92,  1,     20,2,20080703,1111, 59.7970, -42.0040, 1718,      8.8,   8.2480,  34.8320,2,  34.8240,3,    323.7,2,    321.6,2,     2.11,2,     6.97,2,     0.42,2,   2304.6,2,   7.8690,2,    25.00
  35TH20080610, OVIDE,    93,  1,      3,2,20080703,1448, 59.8090, -42.2350, 1197,   1208.2,   4.4720,  34.9490,2,  34.9480,2,    282.9,2,    283.1,2,     8.78,2,    16.10,2,     0.90,2,   2306.1,2,   7.7270,2,    25.00
  35TH20080610, OVIDE,    93,  1,      4,2,20080703,1448, 59.8090, -42.2350, 1197,   1001.3,   4.6690,  34.9630,2,  34.9630,2,    283.1,2,    283.5,2,     8.54,2,    15.92,2,     0.87,2,   2306.4,2,   7.7290,2,    25.00
  35TH20080610, OVIDE,    93,  1,      5,2,20080703,1448, 59.8090, -42.2350, 1197,    899.0,   4.7940,  34.9730,2,  34.9750,2,    283.6,2,    284.6,2,     8.51,2,    15.80,2,     0.90,2,   2308.3,2,   7.7340,2,    25.00
  35TH20080610, OVIDE,    93,  1,      6,2,20080703,1448, 59.8090, -42.2350, 1197,    798.4,   4.8560,  34.9790,2,  34.9780,2,    284.1,2,    284.3,2,     8.39,2,    15.80,2,     0.90,2,   2308.9,2,   7.7340,2,    25.00
  35TH20080610, OVIDE,    93,  1,      7,2,20080703,1448, 59.8090, -42.2350, 1197,    699.5,   5.1960,  35.0020,2,  35.0010,2,    286.0,2,    286.7,2,     8.01,2,    15.37,2,     0.87,2,   2308.2,2,   7.7420,2,    25.00
  35TH20080610, OVIDE,    93,  1,      8,2,20080703,1448, 59.8090, -42.2350, 1197,    600.1,   5.2730,  35.0080,2,  35.0080,2,    286.4,2,    288.1,2,     7.92,2,    15.28,2,     0.86,2,   -999.0,9,   7.7430,2,    25.00
  35TH20080610, OVIDE,    93,  1,      9,2,20080703,1448, 59.8090, -42.2350, 1197,    496.3,   5.3860,  35.0190,2,  35.0190,2,    287.7,2,    288.4,2,     7.79,2,    15.19,2,     0.86,2,   2316.0,2,   7.7480,2,    25.00
  35TH20080610, OVIDE,    93,  1,     10,2,20080703,1448, 59.8090, -42.2350, 1197,    400.6,   5.3920,  35.0110,2,  35.0130,2,    288.7,2,    289.2,2,     7.67,2,    15.02,2,     0.84,2,   2317.7,2,   7.7480,2,    25.00
  35TH20080610, OVIDE,    93,  1,     11,2,20080703,1448, 59.8090, -42.2350, 1197,    300.3,   5.7320,  35.0550,2,  35.0580,2,    288.9,2,    290.8,2,     7.46,2,    15.02,2,     0.85,2,   -999.0,9,   7.7530,2,    25.00
  35TH20080610, OVIDE,    93,  1,     12,2,20080703,1448, 59.8090, -42.2350, 1197,    199.8,   6.1280,  35.0900,2,  35.0890,2,    289.0,2,    291.1,2,     6.94,2,    14.76,2,     0.84,2,   2315.9,2,   7.7620,2,    25.00
  35TH20080610, OVIDE,    93,  1,     13,2,20080703,1448, 59.8090, -42.2350, 1197,    151.2,   6.2490,  35.0940,2,  35.0970,2,    289.9,2,    289.7,2,     6.59,2,    14.49,2,     0.82,2,   -999.0,9,   7.7650,2,    25.00
  35TH20080610, OVIDE,    93,  1,     14,2,20080703,1448, 59.8090, -42.2350, 1197,    100.5,   6.5150,  35.0870,2,  35.0890,2,    290.7,2,    292.2,2,     5.82,2,    13.56,2,     0.79,2,   2317.3,2,   7.7770,2,    25.00
  35TH20080610, OVIDE,    93,  1,     15,2,20080703,1448, 59.8090, -42.2350, 1197,     56.3,   6.4630,  34.9310,2,  34.9230,3,    302.5,2,    306.0,2,     4.30,2,    10.51,2,     0.66,2,   2309.3,2,   7.8050,2,    25.00
  35TH20080610, OVIDE,    93,  1,     16,2,20080703,1448, 59.8090, -42.2350, 1197,      5.7,   7.1050,  34.7830,2,  34.7870,2,    325.4,2,    325.6,2,     2.33,2,     7.34,2,     0.44,2,   2301.9,2,   7.8580,2,    25.00
  35TH20080610, OVIDE,    94,  1,      3,2,20080703,1649, 59.8190, -42.3170,  461,    465.5,   5.4770,  35.0050,2,  35.0110,3,    290.1,2,    290.2,2,     7.12,2,    14.85,2,     0.84,2,   2311.7,2,   7.7520,2,    25.00
  35TH20080610, OVIDE,    94,  1,      4,2,20080703,1649, 59.8190, -42.3170,  461,    398.7,   5.5470,  35.0030,2,  35.0030,2,    291.6,2,    291.8,2,     6.96,2,    14.58,2,     0.82,2,   2311.7,2,   7.7520,2,    25.00
  35TH20080610, OVIDE,    94,  1,      5,2,20080703,1649, 59.8190, -42.3170,  461,    300.4,   5.4700,  34.9750,2,  34.9750,2,    293.1,2,    294.4,2,     6.72,2,    14.36,2,     0.80,2,   2310.2,2,   7.7540,2,    25.00
  35TH20080610, OVIDE,    94,  1,      6,2,20080703,1649, 59.8190, -42.3170,  461,    200.3,   5.7010,  35.0000,2,  34.9920,3,    292.8,2,    293.8,2,     6.48,2,    14.22,2,     0.80,2,   2309.4,2,   7.7580,2,    25.00
  35TH20080610, OVIDE,    94,  1,      7,2,20080703,1649, 59.8190, -42.3170,  461,    151.4,   5.7540,  35.0000,2,  34.9980,2,    292.4,2,    294.8,2,     6.37,2,    14.14,2,     0.80,2,   2309.4,2,   7.7610,2,    25.00
  35TH20080610, OVIDE,    94,  1,      8,2,20080703,1649, 59.8190, -42.3170,  461,     99.4,   6.2120,  35.0350,2,-999.0000,3,    293.0,2,    296.1,2,     5.86,2,    13.66,2,     0.78,2,   2313.4,2,   7.7710,2,    25.00
  35TH20080610, OVIDE,    94,  1,      9,2,20080703,1649, 59.8190, -42.3170,  461,     54.8,   6.9640,  35.0150,2,  35.0160,2,    302.5,2,    301.8,2,     4.46,2,    11.14,2,     0.68,2,   2313.2,2,   7.8070,2,    25.00
  35TH20080610, OVIDE,    94,  1,     10,2,20080703,1649, 59.8190, -42.3170,  461,      5.6,   6.4840,  34.5720,2,  34.4530,3,    327.7,2,    335.3,3,     2.00,2,     6.13,2,     0.39,2,   2285.0,2,   7.8660,2,    25.00
  35TH20080610, OVIDE,    95,  1,      3,2,20080703,1824, 59.8300, -42.5270,  225,    225.6,   4.6020,  34.7690,2,  34.7700,2,    302.4,2,    301.6,2,     6.24,2,    12.83,2,     0.79,2,   2301.8,2,   7.7570,2,    25.00
  35TH20080610, OVIDE,    95,  1,      4,2,20080703,1824, 59.8300, -42.5270,  225,    199.2,   4.1030,  34.6610,2,  34.6680,3,    306.9,2,    309.4,2,     6.10,2,    12.11,2,     0.77,2,   -999.0,9,-999.0000,9,  -999.00
  35TH20080610, OVIDE,    95,  1,      5,2,20080703,1824, 59.8300, -42.5270,  225,    149.7,   3.9060,  34.6040,2,  34.6020,2,    309.9,2,    309.0,2,     5.90,2,    11.57,2,     0.75,2,   2291.9,2,   7.7590,2,    25.00
  35TH20080610, OVIDE,    95,  1,      6,2,20080703,1824, 59.8300, -42.5270,  225,    100.0,   3.1090,  34.4170,2,  34.4190,2,    318.1,2,    316.3,2,     5.45,2,    10.52,2,     0.70,2,   -999.0,9,-999.0000,9,  -999.00
  35TH20080610, OVIDE,    95,  1,      7,2,20080703,1824, 59.8300, -42.5270,  225,     55.0,   0.8500,  33.9240,2,  33.9300,3,    340.6,2,    338.3,2,     5.03,2,     8.64,2,     0.63,2,   2262.5,2,   7.7420,2,    25.00
  35TH20080610, OVIDE,    95,  1,      8,2,20080703,1824, 59.8300, -42.5270,  225,      6.4,   2.3200,  31.5430,2,  31.6270,3,    392.0,2,    392.3,2,     0.34,2,     0.09,2,     0.12,2,   2137.7,2,   7.9230,2,    25.00
  35TH20080610, OVIDE,    96,  1,      3,2,20080703,1949, 59.8980, -42.7690,  178,    175.8,   0.9270,  33.9150,2,  33.9090,3,    331.7,2,    329.6,2,     5.71,2,     9.21,2,     0.65,2,   -999.0,9,-999.0000,9,  -999.00
  35TH20080610, OVIDE,    96,  1,      4,2,20080703,1949, 59.8980, -42.7690,  178,    147.6,  -0.0770,  33.6430,2,  33.6710,3,    339.0,2,    336.9,2,     5.71,2,     8.70,2,     0.64,2,   -999.0,9,-999.0000,9,  -999.00
  35TH20080610, OVIDE,    96,  1,      5,2,20080703,1949, 59.8980, -42.7690,  178,    100.3,  -0.7670,  33.4280,2,  33.4400,3,    346.6,2,    342.8,2,     5.50,2,     7.99,2,     0.61,2,   -999.0,9,-999.0000,9,  -999.00
  35TH20080610, OVIDE,    96,  1,      6,2,20080703,1949, 59.8980, -42.7690,  178,     47.8,  -1.5240,  32.9060,2,  32.8970,3,    366.1,2,    360.2,3,     4.71,2,     5.42,2,     0.53,2,   -999.0,9,-999.0000,9,  -999.00
  35TH20080610, OVIDE,    96,  1,      7,2,20080703,1949, 59.8980, -42.7690,  178,      5.0,  -0.6710,  29.0750,2,  29.5910,3,    435.7,3,   -999.0,3,     0.23,2,     0.07,2,     0.08,2,   -999.0,9,-999.0000,9,  -999.00
  35TH20080610, OVIDE,    97,  1,      3,2,20080703,2038, 59.8870, -42.7070,  170,    169.9,   0.7080,  33.8560,2,  33.8340,3,    336.1,2,    332.0,2,     5.74,2,     9.04,2,     0.64,2,   2254.8,2,   7.7370,2,    25.00
  35TH20080610, OVIDE,    97,  1,      4,2,20080703,2038, 59.8870, -42.7070,  170,    149.5,  -0.1910,  33.6120,2,  33.6300,3,    340.7,2,    336.9,2,     5.68,2,     8.60,2,     0.62,2,   -999.0,9,-999.0000,9,  -999.00
  35TH20080610, OVIDE,    97,  1,      5,2,20080703,2038, 59.8870, -42.7070,  170,     99.5,  -0.7400,  33.4300,2,  33.4250,2,    346.1,2,    342.8,2,     5.58,2,     7.92,2,     0.60,2,   2238.5,2,   7.7260,2,    25.00
  35TH20080610, OVIDE,    97,  1,      6,2,20080703,2038, 59.8870, -42.7070,  170,     53.7,  -1.3890,  33.0540,2,  33.0530,2,    359.8,2,    353.5,3,     5.00,2,     6.35,2,     0.55,2,   2226.8,2,   7.7210,2,    25.00
  35TH20080610, OVIDE,    97,  1,      7,2,20080703,2038, 59.8870, -42.7070,  170,      4.6,  -0.6710,  30.2140,2,  30.2490,3,   -999.0,3,    443.8,2,     0.28,2,     0.18,2,     0.10,2,   2060.1,2,   7.9400,2,    25.00
  35TH20080610, OVIDE,    98,  1,     10,2,20080703,2141, 59.8690, -42.6520,  184,    180.2,   0.5320,  33.8130,2,  33.8160,2,    333.2,2,    332.0,2,     5.70,2,     9.08,2,     0.64,2,   -999.0,9,-999.0000,9,  -999.00
  35TH20080610, OVIDE,    98,  1,     11,2,20080703,2141, 59.8690, -42.6520,  184,    150.1,   0.4540,  33.7940,2,  33.8010,3,    334.3,2,    332.8,2,     5.69,2,     9.01,2,     0.64,2,   -999.0,9,-999.0000,9,  -999.00
  35TH20080610, OVIDE,    98,  1,     12,2,20080703,2141, 59.8690, -42.6520,  184,    100.1,  -0.4020,  33.5320,2,  33.5340,2,    343.4,2,    340.4,2,     5.54,2,     8.09,2,     0.62,2,   -999.0,9,-999.0000,9,  -999.00
  35TH20080610, OVIDE,    98,  1,     13,2,20080703,2141, 59.8690, -42.6520,  184,     54.3,  -1.2050,  33.2050,2,  33.2080,2,    358.1,2,    349.0,3,     5.29,2,     6.95,2,     0.57,2,   -999.0,9,-999.0000,9,  -999.00
  35TH20080610, OVIDE,    99,  1,      3,2,20080703,2231, 59.8530, -42.5880,  189,    190.0,   1.8430,  34.1550,2,  34.1540,2,    323.7,2,    322.7,2,     5.85,2,     9.94,2,     0.68,2,   2270.1,2,   7.7420,2,    25.00
  35TH20080610, OVIDE,    99,  1,      4,2,20080703,2231, 59.8530, -42.5880,  189,    149.7,   1.6580,  34.1130,2,  34.1140,2,    325.0,2,    324.3,2,     5.81,2,     9.82,2,     0.68,2,   -999.0,9,-999.0000,9,  -999.00
  35TH20080610, OVIDE,    99,  1,      5,2,20080703,2231, 59.8530, -42.5880,  189,    100.2,   0.3560,  33.7690,2,  33.7780,3,    336.0,2,    333.1,2,     5.71,2,     8.91,2,     0.64,2,   2252.4,2,   7.7330,2,    25.00
  35TH20080610, OVIDE,    99,  1,      6,2,20080703,2231, 59.8530, -42.5880,  189,     52.8,  -0.9870,  33.3170,2,  33.3190,2,    355.9,2,    346.3,3,     5.40,2,     7.29,2,     0.58,2,   2234.1,2,   7.7230,2,    25.00
  35TH20080610, OVIDE,    99,  1,      7,2,20080703,2231, 59.8530, -42.5880,  189,      7.5,  -0.8910,  31.4330,2,  31.3470,3,   -999.0,3,    461.9,3,     0.20,2,     0.04,2,     0.10,2,   2137.1,2,   7.9420,2,    25.00