BOTTLE,20140930PRINUNIVRMK
EXPOCODE,SECT_ID,STNNBR,CASTNO,BTLNBR,BTLNBR_FLAG_W,DATE,TIME,LATITUDE,LONGITUDE,DEPTH,CTDPRS,CTDTMP,CTDSAL,CTDSAL_FLAG_W,SALNTY,SALNTY_FLAG_W,CTDOXY,CTDOXY_FLAG_W,OXYGEN,OXYGEN_FLAG_W,SILCAT,SILCAT_FLAG_W,NITRAT,NITRAT_FLAG_W,PHSPHT,PHSPHT_FLAG_W,ALKALI,ALKALI_FLAG_W,PH_SWS,PH_SWS_FLAG_W,PH_TMP
,,,,,,,,,,METERS,DBAR,ITS-90,PSS-78,,PSS-78,,UMOL/KG,,UMOL/KG,,UMOL/KG,,UMOL/KG,,UMOL/KG,,UMOL/KG,,,,DEG C
  35TH20080610, OVIDE,    26,  1,      3,2,20080618,0100, 43.4780, -16.6370, 4160,   4232.9,   2.4940,  34.9060,2,  34.9940,3,    244.2,2,    243.3,2,    46.73,2,    22.40,2,     1.29,2,   2355.7,2,   7.7360,2,    25.00
  35TH20080610, OVIDE,    26,  1,      4,2,20080618,0100, 43.4780, -16.6370, 4160,   3999.7,   2.5250,  34.9100,2,  34.9130,2,    243.6,2,    243.3,2,    45.98,2,    21.31,2,     1.28,2,   2352.3,2,   7.7310,2,    25.00
  35TH20080610, OVIDE,    26,  1,      5,2,20080618,0100, 43.4780, -16.6370, 4160,   3749.9,   2.5520,  34.9160,2,  34.9230,2,    243.7,2,    244.1,2,    43.94,2,    21.42,2,     1.26,2,   2347.1,2,   7.7310,2,    25.00
  35TH20080610, OVIDE,    26,  1,      6,2,20080618,0100, 43.4780, -16.6370, 4160,   3498.3,   2.5940,  34.9220,2,  34.9220,2,    245.1,2,    245.2,2,    42.66,2,    19.47,3,     1.24,2,   2345.9,2,   7.7340,2,    25.00
  35TH20080610, OVIDE,    26,  1,      7,2,20080618,0100, 43.4780, -16.6370, 4160,   3249.7,   2.6610,  34.9300,2,  34.9320,2,    246.8,2,    247.7,2,    39.77,2,    21.14,2,     1.22,2,   2342.8,2,   7.7330,2,    25.00
  35TH20080610, OVIDE,    26,  1,      8,2,20080618,0100, 43.4780, -16.6370, 4160,   2999.2,   2.7830,  34.9430,2,  34.9430,2,    249.4,2,    249.5,2,    36.68,2,    20.45,2,     1.18,2,   2334.8,2,   7.7370,2,    25.00
  35TH20080610, OVIDE,    26,  1,      9,2,20080618,0100, 43.4780, -16.6370, 4160,   2750.0,   2.9410,  34.9540,2,  34.9560,2,    252.2,2,    252.2,2,    32.61,2,    20.10,2,     1.15,2,   2329.3,2,   7.7370,2,    25.00
  35TH20080610, OVIDE,    26,  1,     10,2,20080618,0100, 43.4780, -16.6370, 4160,   2499.3,   3.1570,  34.9640,2,  34.9640,2,    257.2,2,    256.7,2,    27.16,2,    18.96,2,     1.10,2,   2323.1,2,   7.7350,2,    25.00
  35TH20080610, OVIDE,    26,  1,     11,2,20080618,0100, 43.4780, -16.6370, 4160,   2249.4,   3.3250,  34.9580,2,  34.9590,2,    264.2,2,    263.2,2,    18.51,2,    17.96,2,     1.04,2,   2314.9,2,   7.7360,2,    25.00
  35TH20080610, OVIDE,    26,  1,     12,2,20080618,0100, 43.4780, -16.6370, 4160,   2000.4,   3.4200,  34.9320,2,  34.9330,2,    274.5,2,    272.5,2,    13.79,2,    17.15,2,     0.99,2,   2306.4,2,   7.7320,2,    25.00
  35TH20080610, OVIDE,    26,  1,     13,2,20080618,0100, 43.4780, -16.6370, 4160,   1801.4,   3.5710,  34.9250,2,  34.9320,2,    273.9,2,    272.9,2,    12.32,2,    17.61,2,     1.00,2,   2304.4,2,   7.7270,2,    25.00
  35TH20080610, OVIDE,    26,  1,     14,2,20080618,0100, 43.4780, -16.6370, 4160,   1801.3,   3.5730,  34.9240,2,  34.9290,2,    273.9,2,    273.1,2,    12.26,2,    17.28,2,     0.99,2,   2304.8,2,   7.7250,2,    25.00
  35TH20080610, OVIDE,    26,  1,     15,2,20080618,0100, 43.4780, -16.6370, 4160,   1599.2,   3.9600,  34.9610,2,  34.9630,2,    266.8,2,    266.7,2,    11.72,2,    17.52,2,     0.99,2,   2307.3,2,   7.7250,2,    25.00
  35TH20080610, OVIDE,    26,  1,     16,2,20080618,0100, 43.4780, -16.6370, 4160,   1401.7,   4.7740,  35.0560,2,  35.0610,2,    254.2,2,    252.5,2,    11.34,2,    17.61,2,     1.00,2,   2315.2,2,   7.7210,2,    25.00
  35TH20080610, OVIDE,    26,  1,     17,2,20080618,0100, 43.4780, -16.6370, 4160,   1099.1,   7.1660,  35.3820,2,  35.3830,2,    214.4,2,    215.9,2,    11.04,2,    17.54,2,     0.99,2,   2337.5,2,   7.7350,2,    25.00
  35TH20080610, OVIDE,    26,  1,     18,2,20080618,0100, 43.4780, -16.6370, 4160,    999.6,   8.3120,  35.5290,2,  35.5310,2,    200.7,2,    201.4,2,    10.64,2,    17.35,2,     0.96,2,   2347.8,2,   7.7480,2,    25.00
  35TH20080610, OVIDE,    26,  1,     19,2,20080618,0100, 43.4780, -16.6370, 4160,    900.0,   8.8940,  35.5350,2,  35.5360,2,    192.6,2,    194.5,2,    10.29,2,    18.23,2,     0.97,2,   2346.3,2,   7.7470,2,    25.00
  35TH20080610, OVIDE,    26,  1,     20,2,20080618,0100, 43.4780, -16.6370, 4160,    800.8,   9.3410,  35.4890,2,  35.5250,3,    187.2,2,    188.2,2,     9.68,2,    17.47,2,     0.98,2,   2342.3,2,   7.7510,2,    25.00
  35TH20080610, OVIDE,    26,  1,     21,2,20080618,0100, 43.4780, -16.6370, 4160,    700.6,   9.9010,  35.4660,2,  35.4670,2,    188.7,2,    190.1,2,     8.94,2,    16.99,2,     0.93,2,   2336.9,2,   7.7520,2,    25.00
  35TH20080610, OVIDE,    26,  1,     22,2,20080618,0100, 43.4780, -16.6370, 4160,    599.9,  10.4610,  35.4690,2,  35.4700,2,    202.6,2,    203.3,2,     7.18,2,    14.44,2,     0.81,2,   -999.0,9,   7.7760,2,    25.00
  35TH20080610, OVIDE,    26,  1,     23,2,20080618,0100, 43.4780, -16.6370, 4160,    500.2,  10.9510,  35.5050,2,  35.5070,2,    222.0,2,    221.4,2,     5.58,2,    13.35,2,     0.68,2,   2334.4,2,   7.8020,2,    25.00
  35TH20080610, OVIDE,    26,  1,     24,2,20080618,0100, 43.4780, -16.6370, 4160,    399.9,  11.4800,  35.5650,2,  35.5650,2,    227.6,2,    226.7,2,     4.59,2,    11.58,2,     0.60,2,   2335.9,2,   7.8250,2,    25.00
  35TH20080610, OVIDE,    26,  1,     25,2,20080618,0100, 43.4780, -16.6370, 4160,    299.8,  11.9300,  35.6150,2,  35.6140,2,    230.6,2,    231.0,2,     4.08,2,    10.49,2,     0.55,2,   -999.0,9,   7.8370,2,    25.00
  35TH20080610, OVIDE,    26,  1,     26,2,20080618,0100, 43.4780, -16.6370, 4160,    200.0,  12.6590,  35.7190,2,  35.7190,2,    246.5,2,    245.6,2,     2.89,2,     6.81,2,     0.37,2,   2347.2,2,   7.8810,2,    25.00
  35TH20080610, OVIDE,    26,  1,     27,2,20080618,0100, 43.4780, -16.6370, 4160,    149.5,  12.7940,  35.7360,2,  35.7330,2,    244.9,2,    244.8,2,     2.83,2,     7.10,2,     0.37,2,   -999.0,9,   7.8790,2,    25.00
  35TH20080610, OVIDE,    26,  1,     28,2,20080618,0100, 43.4780, -16.6370, 4160,     99.7,  13.2290,  35.8020,2,  35.8030,2,    247.6,2,    245.7,2,     2.37,2,     5.38,2,     0.29,2,   2352.7,2,   7.8940,2,    25.00
  35TH20080610, OVIDE,    26,  1,     29,2,20080618,0100, 43.4780, -16.6370, 4160,     55.5,  13.5510,  35.8050,2,  35.8080,2,    259.4,2,    251.2,3,     2.09,2,     3.91,2,     0.23,2,   -999.0,9,   7.9080,2,    25.00
  35TH20080610, OVIDE,    26,  1,     30,2,20080618,0100, 43.4780, -16.6370, 4160,      4.7,  17.1370,  35.7940,2,  35.7950,2,    252.2,2,    251.7,2,     1.24,2,     0.08,2,     0.01,2,   2355.2,2,   7.9890,2,    25.00
  35TH20080610, OVIDE,    27,  1,      3,2,20080618,0638, 43.7770, -17.0260, 4010,   4069.8,   2.5850,  34.9150,2,  34.9130,2,    242.0,2,    242.1,2,    44.61,2,    22.12,2,     1.30,2,   -999.0,9,   7.7340,2,    25.00
  35TH20080610, OVIDE,    27,  1,      4,2,20080618,0638, 43.7770, -17.0260, 4010,   3749.5,   2.5920,  34.9190,2,  34.9170,2,    243.8,2,    246.6,2,    43.01,2,    22.01,2,     1.28,2,   -999.0,9,   7.7330,2,    25.00
  35TH20080610, OVIDE,    27,  1,      5,2,20080618,0638, 43.7770, -17.0260, 4010,   3750.0,   2.5920,  34.9190,2,  34.9200,2,    243.8,2,    244.9,2,    40.69,2,    21.99,2,     1.27,2,   -999.0,9,   7.7320,2,    25.00
  35TH20080610, OVIDE,    27,  1,      6,2,20080618,0638, 43.7770, -17.0260, 4010,   3503.8,   2.6280,  34.9250,2,  34.9250,2,    245.7,2,    247.1,2,    40.80,2,    21.43,2,     1.23,2,   -999.0,9,   7.7340,2,    25.00
  35TH20080610, OVIDE,    27,  1,      7,2,20080618,0638, 43.7770, -17.0260, 4010,   3251.4,   2.7050,  34.9330,2,  34.9340,2,    248.3,2,    249.0,2,    37.67,2,    20.76,2,     1.20,2,   -999.0,9,   7.7350,2,    25.00
  35TH20080610, OVIDE,    27,  1,      8,2,20080618,0638, 43.7770, -17.0260, 4010,   3000.8,   2.8230,  34.9430,2,  34.9430,2,    251.4,2,    251.9,2,    34.53,2,    20.41,2,     1.16,2,   -999.0,9,   7.7370,2,    25.00
  35TH20080610, OVIDE,    27,  1,      9,2,20080618,0638, 43.7770, -17.0260, 4010,   2748.8,   2.9660,  34.9530,2,  34.9520,2,    254.6,2,    254.1,2,    30.65,2,    19.52,2,     1.12,2,   -999.0,9,   7.7360,2,    25.00
  35TH20080610, OVIDE,    27,  1,     10,2,20080618,0638, 43.7770, -17.0260, 4010,   2500.6,   3.1730,  34.9580,2,  34.9590,2,    259.1,2,    259.4,2,    25.54,2,    18.90,2,     1.07,2,   -999.0,9,   7.7380,2,    25.00
  35TH20080610, OVIDE,    27,  1,     11,2,20080618,0638, 43.7770, -17.0260, 4010,   2249.3,   3.2490,  34.9300,2,  34.9260,2,    272.9,2,    272.5,2,    15.37,2,    17.60,2,     1.01,2,   -999.0,9,   7.7330,2,    25.00
  35TH20080610, OVIDE,    27,  1,     12,2,20080618,0638, 43.7770, -17.0260, 4010,   1998.3,   3.5250,  34.9420,2,  34.9420,2,    272.0,2,    270.6,2,    13.91,2,    17.85,2,     1.00,2,   -999.0,9,   7.7320,2,    25.00
  35TH20080610, OVIDE,    27,  1,     13,2,20080618,0638, 43.7770, -17.0260, 4010,   1799.8,   3.8090,  34.9640,2,  34.9720,3,    267.1,2,    266.8,2,    12.92,2,    17.92,2,     0.99,2,   -999.0,9,   7.7270,2,    25.00
  35TH20080610, OVIDE,    27,  1,     14,2,20080618,0638, 43.7770, -17.0260, 4010,   1598.9,   4.3540,  35.0250,2,  35.0260,2,    258.6,2,    260.7,2,    12.15,2,    17.65,2,     0.99,2,   -999.0,9,   7.7260,2,    25.00
  35TH20080610, OVIDE,    27,  1,     15,2,20080618,0638, 43.7770, -17.0260, 4010,   1401.4,   5.3060,  35.1500,2,  35.1490,2,    241.3,2,    244.1,2,    11.55,2,    17.52,2,     0.98,2,   -999.0,9,   7.7260,2,    25.00
  35TH20080610, OVIDE,    27,  1,     16,2,20080618,0638, 43.7770, -17.0260, 4010,   1200.4,   6.3650,  35.2800,2,  35.2790,2,    224.2,2,    227.5,2,    11.33,2,    17.96,2,     1.01,2,   -999.0,9,   7.7310,2,    25.00
  35TH20080610, OVIDE,    27,  1,     17,2,20080618,0638, 43.7770, -17.0260, 4010,   1100.0,   6.9750,  35.3560,2,  35.3580,2,    214.4,2,    218.6,2,    11.15,2,    18.24,2,     0.98,2,   -999.0,9,   7.7330,2,    25.00
  35TH20080610, OVIDE,    27,  1,     18,2,20080618,0638, 43.7770, -17.0260, 4010,   1001.4,   8.1710,  35.5160,2,  35.5170,2,    200.9,2,    202.9,2,    10.75,2,    18.19,2,     0.97,2,   -999.0,9,   7.7430,2,    25.00
  35TH20080610, OVIDE,    27,  1,     19,2,20080618,0638, 43.7770, -17.0260, 4010,    900.0,   8.8070,  35.5510,2,  35.5520,2,    194.3,2,    190.6,3,    10.35,2,    17.89,2,     0.96,2,   -999.0,9,   7.7470,2,    25.00
  35TH20080610, OVIDE,    27,  1,     20,2,20080618,0638, 43.7770, -17.0260, 4010,    800.9,   9.1790,  35.5080,2,  35.5110,2,    189.5,2,    192.4,2,    10.05,2,    17.48,2,     0.96,2,   -999.0,9,   7.7430,2,    25.00
  35TH20080610, OVIDE,    27,  1,     21,2,20080618,0638, 43.7770, -17.0260, 4010,    699.8,   9.6600,  35.4610,2,  35.4630,2,    188.1,2,    189.9,2,     9.37,2,    17.48,2,     0.95,2,   -999.0,9,   7.7470,2,    25.00
  35TH20080610, OVIDE,    27,  1,     22,2,20080618,0638, 43.7770, -17.0260, 4010,    600.7,  10.2150,  35.4600,2,  35.4620,2,    193.0,2,    196.5,2,     8.03,2,    15.96,2,     0.87,2,   -999.0,9,   7.7630,2,    25.00
  35TH20080610, OVIDE,    27,  1,     23,2,20080618,0638, 43.7770, -17.0260, 4010,    499.8,  10.8540,  35.4950,2,  35.4940,2,    214.3,2,    218.6,2,     5.98,2,    13.06,2,     0.72,2,   -999.0,9,   7.7940,2,    25.00
  35TH20080610, OVIDE,    27,  1,     24,2,20080618,0638, 43.7770, -17.0260, 4010,    400.4,  11.3600,  35.5500,2,  35.5490,2,    227.2,2,    228.6,2,     4.70,2,    11.28,2,     0.61,2,   -999.0,9,   7.8170,2,    25.00
  35TH20080610, OVIDE,    27,  1,     25,2,20080618,0638, 43.7770, -17.0260, 4010,    298.9,  11.8280,  35.5980,2,  35.5950,2,    233.0,2,    233.2,2,     4.15,2,    10.26,2,     0.55,2,   -999.0,9,   7.8350,2,    25.00
  35TH20080610, OVIDE,    27,  1,     26,2,20080618,0638, 43.7770, -17.0260, 4010,    199.4,  12.7060,  35.7290,2,  35.7290,2,    251.7,2,    251.9,2,     2.57,2,     6.03,2,     0.32,2,   -999.0,9,   7.8890,2,    25.00
  35TH20080610, OVIDE,    27,  1,     27,2,20080618,0638, 43.7770, -17.0260, 4010,    149.5,  12.7350,  35.7360,2,  35.7350,2,    252.3,2,    251.6,2,     2.45,2,     5.73,2,     0.32,2,   -999.0,9,   7.8890,2,    25.00
  35TH20080610, OVIDE,    27,  1,     28,2,20080618,0638, 43.7770, -17.0260, 4010,    100.3,  12.8920,  35.7430,2,  35.7430,2,    248.8,2,    269.2,3,     2.53,2,     6.11,2,     0.32,2,   -999.0,9,   7.8860,2,    25.00
  35TH20080610, OVIDE,    27,  1,     29,2,20080618,0638, 43.7770, -17.0260, 4010,     56.7,  13.7190,  35.7540,2,  35.7580,2,    259.4,2,    259.1,2,     1.82,2,     2.78,2,     0.19,2,   -999.0,9,   7.9140,2,    25.00
  35TH20080610, OVIDE,    27,  1,     30,2,20080618,0638, 43.7770, -17.0260, 4010,      4.5,  16.9800,  35.8050,2,  35.8050,2,    252.4,2,    250.9,2,     1.29,2,     0.10,2,     0.00,2,   -999.0,9,   7.9870,2,    25.00
  35TH20080610, OVIDE,    28,  1,      3,2,20080618,1305, 44.0760, -17.4260, 3818,   3878.5,   2.5460,  34.9130,2,  34.9140,2,    242.1,2,    242.9,2,    45.58,2,    22.75,2,     1.31,2,   2355.7,2,   7.7330,2,    25.00
  35TH20080610, OVIDE,    28,  1,      4,2,20080618,1305, 44.0760, -17.4260, 3818,   3698.3,   2.5720,  34.9180,2,  34.9180,2,    243.6,2,    244.2,2,    43.42,2,    22.29,2,     1.29,2,   2349.8,2,   7.7310,2,    25.00
  35TH20080610, OVIDE,    28,  1,      5,2,20080618,1305, 44.0760, -17.4260, 3818,   3499.1,   2.6190,  34.9250,2,  34.9280,2,    245.6,2,    246.1,2,    40.97,2,    21.77,2,     1.26,2,   2346.9,2,   7.7300,2,    25.00
  35TH20080610, OVIDE,    28,  1,      6,2,20080618,1305, 44.0760, -17.4260, 3818,   3248.2,   2.7030,  34.9330,2,  34.9310,2,    249.0,2,    249.2,2,    37.76,2,    21.27,2,     1.23,2,   2342.9,2,   7.7350,2,    25.00
  35TH20080610, OVIDE,    28,  1,      7,2,20080618,1305, 44.0760, -17.4260, 3818,   3000.1,   2.8310,  34.9430,2,  34.9440,2,    252.7,2,    253.2,2,    34.05,2,    20.07,2,     1.17,2,   2335.8,2,   7.7340,2,    25.00
  35TH20080610, OVIDE,    28,  1,      8,2,20080618,1305, 44.0760, -17.4260, 3818,   2750.7,   3.0270,  34.9540,2,  34.9540,2,    257.5,2,    257.7,2,    28.30,2,    19.65,2,     1.12,2,   2324.8,2,   7.7360,2,    25.00
  35TH20080610, OVIDE,    28,  1,      9,2,20080618,1305, 44.0760, -17.4260, 3818,   2500.6,   3.1770,  34.9490,2,  34.9510,2,    264.2,2,    263.8,2,    18.40,2,    18.75,2,     1.06,2,   2320.3,2,   7.7320,2,    25.00
  35TH20080610, OVIDE,    28,  1,     10,2,20080618,1305, 44.0760, -17.4260, 3818,   2250.0,   3.2650,  34.9250,2,  34.9240,2,    274.3,2,    273.6,2,    13.68,2,    17.88,2,     1.02,2,   2311.8,2,   7.7320,2,    25.00
  35TH20080610, OVIDE,    28,  1,     11,2,20080618,1305, 44.0760, -17.4260, 3818,   1998.4,   3.4320,  34.9100,2,  34.9240,3,    276.5,2,    276.7,2,    11.39,2,    17.91,2,     1.01,2,   2307.8,2,   7.7280,2,    25.00
  35TH20080610, OVIDE,    28,  1,     12,2,20080618,1305, 44.0760, -17.4260, 3818,   1799.8,   3.7680,  34.9370,2,  34.9380,2,    270.8,2,    270.9,2,    11.05,2,    18.08,2,     1.01,2,   2308.5,2,   7.7250,2,    25.00
  35TH20080610, OVIDE,    28,  1,     13,2,20080618,1305, 44.0760, -17.4260, 3818,   1599.8,   4.2410,  34.9890,2,  34.9930,2,    262.4,2,    261.9,2,    10.68,2,    17.97,2,     1.02,2,   2310.9,2,   7.7200,2,    25.00
  35TH20080610, OVIDE,    28,  1,     14,2,20080618,1305, 44.0760, -17.4260, 3818,   1401.9,   5.0510,  35.0920,2,  35.0950,2,    247.8,2,    247.2,2,    10.56,2,    18.45,2,     1.02,2,   2317.0,2,   7.7230,2,    25.00
  35TH20080610, OVIDE,    28,  1,     15,2,20080618,1305, 44.0760, -17.4260, 3818,   1401.0,   5.0630,  35.0940,2,  35.0960,2,    247.7,2,    247.7,2,    10.56,2,    18.12,2,     1.01,2,   2318.4,2,   7.7220,2,    25.00
  35TH20080610, OVIDE,    28,  1,     16,2,20080618,1305, 44.0760, -17.4260, 3818,   1199.2,   7.0300,  35.3740,2,  35.3710,2,    214.3,2,    219.3,2,    10.27,2,    18.32,2,     1.00,2,   2338.8,2,   7.7360,2,    25.00
  35TH20080610, OVIDE,    28,  1,     17,2,20080618,1305, 44.0760, -17.4260, 3818,   1099.7,   8.1620,  35.5440,2,  35.5430,2,    200.2,2,    204.1,2,     9.90,2,    18.24,2,     0.98,2,   2350.6,2,   7.7480,2,    25.00
  35TH20080610, OVIDE,    28,  1,     18,2,20080618,1305, 44.0760, -17.4260, 3818,   1000.3,   9.1890,  35.7030,2,  35.7010,2,    193.5,2,    193.8,2,     9.44,2,    17.79,2,     0.95,2,   2361.2,2,   7.7620,2,    25.00
  35TH20080610, OVIDE,    28,  1,     19,2,20080618,1305, 44.0760, -17.4260, 3818,    901.4,   9.8720,  35.7150,2,  35.7260,3,    184.3,2,    186.6,2,     9.42,2,    17.63,2,     0.94,2,   2360.5,2,   7.7660,2,    25.00
  35TH20080610, OVIDE,    28,  1,     20,2,20080618,1305, 44.0760, -17.4260, 3818,    801.1,  10.0000,  35.6240,2,  35.6250,2,    184.6,2,    185.6,2,     8.88,2,    17.95,2,     0.95,2,   2351.6,2,   7.7570,2,    25.00
  35TH20080610, OVIDE,    28,  1,     21,2,20080618,1305, 44.0760, -17.4260, 3818,    700.6,   9.9670,  35.4430,2,  35.4510,3,    186.7,2,    188.1,2,     8.28,2,    17.87,2,     0.96,2,   2337.1,2,   7.7520,2,    25.00
  35TH20080610, OVIDE,    28,  1,     22,2,20080618,1305, 44.0760, -17.4260, 3818,    598.8,  10.5500,  35.4430,2,  35.4430,2,    196.9,2,    207.1,3,     6.69,2,    15.62,2,     0.83,2,   -999.0,9,   7.7810,2,    25.00
  35TH20080610, OVIDE,    28,  1,     23,2,20080618,1305, 44.0760, -17.4260, 3818,    499.2,  11.1400,  35.5050,2,  35.5020,2,    213.0,2,    210.8,2,     5.30,2,    13.96,2,     0.75,2,   2333.6,2,   7.7980,2,    25.00
  35TH20080610, OVIDE,    28,  1,     24,2,20080618,1305, 44.0760, -17.4260, 3818,    399.7,  11.6260,  35.5510,2,  35.5500,2,    230.3,2,    218.8,3,     4.59,2,    12.55,2,     0.68,2,   2337.9,2,   7.8180,2,    25.00
  35TH20080610, OVIDE,    28,  1,     25,2,20080618,1305, 44.0760, -17.4260, 3818,    299.6,  12.2260,  35.6330,2,  35.6310,2,    228.1,2,    230.1,2,     3.64,2,    10.75,2,     0.56,2,   -999.0,9,   7.8470,2,    25.00
  35TH20080610, OVIDE,    28,  1,     26,2,20080618,1305, 44.0760, -17.4260, 3818,    200.6,  13.0240,  35.7500,2,  35.7480,2,    228.8,2,    232.7,2,     2.86,2,     8.86,2,     0.46,2,   2348.5,2,   7.8730,2,    25.00
  35TH20080610, OVIDE,    28,  1,     27,2,20080618,1305, 44.0760, -17.4260, 3818,    150.9,  13.2960,  35.7860,2,  35.7850,2,    237.5,2,    242.8,2,     2.80,2,     7.44,2,     0.38,2,   -999.0,9,   7.8940,2,    25.00
  35TH20080610, OVIDE,    28,  1,     28,2,20080618,1305, 44.0760, -17.4260, 3818,     98.9,  13.6300,  35.8390,2,  35.8390,2,    243.6,2,    245.0,2,     2.72,2,     6.26,2,     0.32,2,   2352.1,2,   7.9040,2,    25.00
  35TH20080610, OVIDE,    28,  1,     29,2,20080618,1305, 44.0760, -17.4260, 3818,     57.1,  14.0310,  35.8840,2,  35.8830,2,    244.8,2,    246.5,2,     2.45,2,     5.00,2,     0.26,2,   -999.0,9,   7.9160,2,    25.00
  35TH20080610, OVIDE,    28,  1,     30,2,20080618,1305, 44.0760, -17.4260, 3818,      3.9,  17.1280,  35.7670,2,  35.7740,3,    251.9,2,    252.3,2,     1.18,2,     0.00,2,     0.02,2,   2353.4,2,   7.9810,2,    25.00