BOTTLE,20140930PRINUNIVRMK
EXPOCODE,SECT_ID,STNNBR,CASTNO,BTLNBR,BTLNBR_FLAG_W,DATE,TIME,LATITUDE,LONGITUDE,DEPTH,CTDPRS,CTDTMP,CTDSAL,CTDSAL_FLAG_W,SALNTY,SALNTY_FLAG_W,CTDOXY,CTDOXY_FLAG_W,OXYGEN,OXYGEN_FLAG_W,SILCAT,SILCAT_FLAG_W,NITRAT,NITRAT_FLAG_W,PHSPHT,PHSPHT_FLAG_W,ALKALI,ALKALI_FLAG_W,PH_SWS,PH_SWS_FLAG_W,PH_TMP
,,,,,,,,,,METERS,DBAR,ITS-90,PSS-78,,PSS-78,,UMOL/KG,,UMOL/KG,,UMOL/KG,,UMOL/KG,,UMOL/KG,,UMOL/KG,,,,DEG C
  35TH20080610, OVIDE,    20,  1,      3,2,20080616,1007, 41.6820, -14.2780, 5327,   5431.0,   2.5730,  34.8970,2,  34.8970,2,    243.9,2,    244.5,2,    47.62,2,    23.14,2,     1.31,2,   2358.6,2,   7.7360,2,    25.00
  35TH20080610, OVIDE,    20,  1,      4,2,20080616,1007, 41.6820, -14.2780, 5327,   4649.8,   2.5000,  34.9010,2,  34.8990,2,    246.0,2,    245.2,2,    46.73,2,    22.89,2,     1.31,2,   2353.7,2,   7.7360,2,    25.00
  35TH20080610, OVIDE,    20,  1,      5,2,20080616,1007, 41.6820, -14.2780, 5327,   4001.5,   2.5310,  34.9130,2,  34.9180,2,    245.2,2,    245.5,2,    44.27,2,    22.37,2,     1.29,2,   2352.7,2,   7.7360,2,    25.00
  35TH20080610, OVIDE,    20,  1,      6,2,20080616,1007, 41.6820, -14.2780, 5327,   3750.1,   2.5710,  34.9180,2,  34.9160,2,    245.3,2,    245.4,2,    42.82,2,    21.93,2,     1.27,2,   2352.1,2,   7.7370,2,    25.00
  35TH20080610, OVIDE,    20,  1,      7,2,20080616,1007, 41.6820, -14.2780, 5327,   3499.5,   2.6380,  34.9260,2,  34.9250,2,    246.1,2,    247.0,2,    40.69,2,    21.92,2,     1.27,2,   2347.6,2,   7.7350,2,    25.00
  35TH20080610, OVIDE,    20,  1,      8,2,20080616,1007, 41.6820, -14.2780, 5327,   3249.5,   2.7290,  34.9360,2,  34.9370,2,    247.6,2,    248.2,2,    38.24,2,    21.50,2,     1.21,2,   2341.1,2,   7.7370,2,    25.00
  35TH20080610, OVIDE,    20,  1,      9,2,20080616,1007, 41.6820, -14.2780, 5327,   2999.5,   2.8630,  34.9500,2,  34.9480,2,    250.0,2,    249.8,2,    34.65,2,    20.78,2,     1.20,2,   2337.7,2,   7.7390,2,    25.00
  35TH20080610, OVIDE,    20,  1,     10,2,20080616,1007, 41.6820, -14.2780, 5327,   2750.4,   3.0510,  34.9640,2,  34.9640,2,    252.3,2,    251.6,2,    30.80,2,    20.31,2,     1.16,2,   2333.2,2,   7.7390,2,    25.00
  35TH20080610, OVIDE,    20,  1,     11,2,20080616,1007, 41.6820, -14.2780, 5327,   2501.0,   3.3030,  34.9840,2,  34.9840,2,    254.8,2,    255.3,2,    20.62,2,    19.75,2,     1.11,2,   2325.3,2,   7.7400,2,    25.00
  35TH20080610, OVIDE,    20,  1,     12,2,20080616,1007, 41.6820, -14.2780, 5327,   2250.0,   3.5940,  34.9980,2,  34.9990,2,    258.4,2,    257.4,2,    18.04,2,    19.18,2,     1.06,2,   2321.6,2,   7.7380,2,    25.00
  35TH20080610, OVIDE,    20,  1,     13,2,20080616,1007, 41.6820, -14.2780, 5327,   1999.9,   3.8690,  35.0050,2,  35.0140,3,    262.1,2,    262.6,2,    14.11,2,    18.45,2,     1.02,2,   2315.2,2,   7.7340,2,    25.00
  35TH20080610, OVIDE,    20,  1,     14,2,20080616,1007, 41.6820, -14.2780, 5327,   1800.1,   4.7870,  35.1430,2,  35.1460,2,    249.7,2,    248.3,2,    13.38,2,    18.55,2,     1.01,2,   2323.7,2,   7.7380,2,    25.00
  35TH20080610, OVIDE,    20,  1,     15,2,20080616,1007, 41.6820, -14.2780, 5327,   1599.1,   5.8860,  35.2990,2,  35.3030,2,    234.9,2,    234.5,2,    11.93,2,    18.29,2,     0.98,2,   2335.7,2,   7.7450,2,    25.00
  35TH20080610, OVIDE,    20,  1,     16,2,20080616,1007, 41.6820, -14.2780, 5327,   1400.3,   8.6950,  35.8130,2,  35.8130,2,    202.5,2,    204.9,2,    10.72,2,    17.52,2,     0.89,2,   2372.5,2,   7.7730,2,    25.00
  35TH20080610, OVIDE,    20,  1,     17,2,20080616,1007, 41.6820, -14.2780, 5327,   1200.6,  10.4340,  36.1060,2,  36.1030,2,    185.3,2,    188.2,2,     9.45,2,    16.59,2,     0.83,2,   2390.0,2,   7.7920,2,    25.00
  35TH20080610, OVIDE,    20,  1,     18,2,20080616,1007, 41.6820, -14.2780, 5327,    999.9,  10.7650,  36.0630,2,  36.0620,2,    181.0,2,    182.0,2,     8.97,2,    16.34,2,     0.87,2,   2385.3,2,   7.7890,2,    25.00
  35TH20080610, OVIDE,    20,  1,     19,2,20080616,1007, 41.6820, -14.2780, 5327,    900.4,  10.7650,  35.9830,2,  35.9820,2,    182.6,2,    182.3,2,     8.89,2,    16.75,2,     0.84,2,   2378.7,2,   7.7870,2,    25.00
  35TH20080610, OVIDE,    20,  1,     20,2,20080616,1007, 41.6820, -14.2780, 5327,    800.1,  10.5540,  35.8280,2,  35.8280,2,    182.9,2,    182.6,2,     8.68,2,    17.10,2,     0.88,2,   2364.8,2,   7.7770,2,    25.00
  35TH20080610, OVIDE,    20,  1,     21,2,20080616,1007, 41.6820, -14.2780, 5327,    699.6,  10.6560,  35.7140,2,  35.7140,2,    185.7,2,    184.3,2,     8.12,2,    16.53,2,     0.87,2,   2355.5,2,   7.7740,2,    25.00
  35TH20080610, OVIDE,    20,  1,     22,2,20080616,1007, 41.6820, -14.2780, 5327,    599.7,  10.8260,  35.5740,2,  35.5750,2,    199.2,2,    193.7,2,     6.74,2,    16.32,2,     0.81,2,   -999.0,9,   7.7760,2,    25.00
  35TH20080610, OVIDE,    20,  1,     23,2,20080616,1007, 41.6820, -14.2780, 5327,    500.2,  11.2650,  35.5730,2,  35.5730,2,    212.4,2,    212.0,2,     5.00,2,    13.69,2,     0.66,2,   2339.6,2,   7.7990,2,    25.00
  35TH20080610, OVIDE,    20,  1,     24,2,20080616,1007, 41.6820, -14.2780, 5327,    400.2,  11.7090,  35.6300,2,  35.6300,2,    220.4,2,    219.8,2,     3.95,2,    12.18,2,     0.57,2,   2342.7,2,   7.8160,2,    25.00
  35TH20080610, OVIDE,    20,  1,     25,2,20080616,1007, 41.6820, -14.2780, 5327,    300.2,  12.0700,  35.6650,2,  35.6640,2,    225.9,2,    229.9,2,     3.33,2,    10.65,2,     0.52,2,   -999.0,9,   7.8330,2,    25.00
  35TH20080610, OVIDE,    20,  1,     26,2,20080616,1007, 41.6820, -14.2780, 5327,    200.0,  12.6960,  35.7300,2,  35.7310,2,    230.5,2,    228.9,2,     3.08,2,     9.15,2,     0.46,2,   2346.5,2,   7.8580,2,    25.00
  35TH20080610, OVIDE,    20,  1,     27,2,20080616,1007, 41.6820, -14.2780, 5327,    150.4,  13.7050,  35.8920,2,  35.8800,3,    238.6,2,    241.3,2,     1.74,2,     5.01,2,     0.23,2,   -999.0,9,   7.8970,2,    25.00
  35TH20080610, OVIDE,    20,  1,     28,2,20080616,1007, 41.6820, -14.2780, 5327,    100.0,  13.9650,  35.9320,2,  35.9330,2,    244.0,2,    242.9,2,     1.47,2,     3.50,2,     0.18,2,   2357.8,2,   7.9120,2,    25.00
  35TH20080610, OVIDE,    20,  1,     29,2,20080616,1007, 41.6820, -14.2780, 5327,     56.3,  14.1730,  35.9030,2,  35.9060,2,    255.6,2,    249.9,2,     1.20,2,     2.24,2,     0.14,2,   -999.0,9,   7.9230,2,    25.00
  35TH20080610, OVIDE,    20,  1,     30,2,20080616,1007, 41.6820, -14.2780, 5327,      3.2,  17.4070,  35.8790,2,  35.8800,2,    248.1,2,    246.4,2,     0.67,2,     0.12,2,     0.01,2,   2359.4,2,   7.9840,2,    25.00
  35TH20080610, OVIDE,    21,  1,      3,2,20080616,1658, 41.9810, -14.6730, 5327,   5429.3,   2.5740,  34.8980,2,  34.8950,2,    244.0,2,    245.8,2,    47.00,2,    23.12,2,     1.30,2,   -999.0,9,   7.7390,2,    25.00
  35TH20080610, OVIDE,    21,  1,      4,2,20080616,1658, 41.9810, -14.6730, 5327,   4649.1,   2.5060,  34.9010,2,  34.8990,2,    246.0,2,    246.4,2,    46.24,2,    23.68,2,     1.29,2,   -999.0,9,   7.7350,2,    25.00
  35TH20080610, OVIDE,    21,  1,      5,2,20080616,1658, 41.9810, -14.6730, 5327,   3999.3,   2.5370,  34.9120,2,  34.9210,3,    245.1,2,    243.6,2,    43.30,2,    22.91,2,     1.27,2,   -999.0,9,   7.7360,2,    25.00
  35TH20080610, OVIDE,    21,  1,      6,2,20080616,1658, 41.9810, -14.6730, 5327,   3749.4,   2.5760,  34.9180,2,  34.9160,2,    244.9,2,    233.6,3,    42.67,2,    22.77,2,     1.26,2,   -999.0,9,   7.7380,2,    25.00
  35TH20080610, OVIDE,    21,  1,      7,2,20080616,1658, 41.9810, -14.6730, 5327,   3500.0,   2.6390,  34.9260,2,  34.9270,2,    245.6,2,    248.2,2,    41.04,2,    22.35,2,     1.25,2,   -999.0,9,   7.7380,2,    25.00
  35TH20080610, OVIDE,    21,  1,      8,2,20080616,1658, 41.9810, -14.6730, 5327,   3250.1,   2.7380,  34.9370,2,  34.9370,2,    247.3,2,    244.5,2,    37.77,2,    21.93,2,     1.08,3,   -999.0,9,   7.7380,2,    25.00
  35TH20080610, OVIDE,    21,  1,      9,2,20080616,1658, 41.9810, -14.6730, 5327,   2998.5,   2.8670,  34.9490,2,  34.9490,2,    249.9,2,    254.4,2,    34.52,2,    21.29,2,     1.12,2,   -999.0,9,   7.7400,2,    25.00
  35TH20080610, OVIDE,    21,  1,     10,2,20080616,1658, 41.9810, -14.6730, 5327,   2748.6,   3.0490,  34.9650,2,  34.9640,2,    252.1,2,    252.7,2,    27.63,2,    20.44,2,     1.15,2,   -999.0,9,   7.7420,2,    25.00
  35TH20080610, OVIDE,    21,  1,     11,2,20080616,1658, 41.9810, -14.6730, 5327,   2499.9,   3.2780,  34.9820,2,  34.9810,2,    254.2,2,    254.1,2,    27.52,2,    20.58,2,     1.11,2,   -999.0,9,   7.7400,2,    25.00
  35TH20080610, OVIDE,    21,  1,     12,2,20080616,1658, 41.9810, -14.6730, 5327,   2249.6,   3.5390,  34.9950,2,  34.9930,2,    258.8,2,    257.2,2,    23.37,2,    19.52,2,     1.01,2,   -999.0,9,   7.7380,2,    25.00
  35TH20080610, OVIDE,    21,  1,     13,2,20080616,1658, 41.9810, -14.6730, 5327,   1999.2,   3.9880,  35.0390,2,  35.0450,2,    254.9,2,    254.3,2,    15.98,2,    19.27,2,     1.01,2,   -999.0,9,   7.7410,2,    25.00
  35TH20080610, OVIDE,    21,  1,     14,2,20080616,1658, 41.9810, -14.6730, 5327,   1799.0,   4.7310,  35.1420,2,  35.1490,2,    247.1,2,    245.2,2,    13.74,2,    19.11,2,     1.00,2,   -999.0,9,   7.7430,2,    25.00
  35TH20080610, OVIDE,    21,  1,     15,2,20080616,1658, 41.9810, -14.6730, 5327,   1599.9,   6.2730,  35.3900,2,  35.3870,2,    229.4,2,    225.6,2,    12.16,2,    18.28,2,     0.96,2,   -999.0,9,   7.7500,2,    25.00
  35TH20080610, OVIDE,    21,  1,     16,2,20080616,1658, 41.9810, -14.6730, 5327,   1398.5,   7.9610,  35.6560,2,  35.6550,2,    210.5,2,    210.6,2,    10.78,2,    17.56,2,     0.92,2,   -999.0,9,   7.7640,2,    25.00
  35TH20080610, OVIDE,    21,  1,     17,2,20080616,1658, 41.9810, -14.6730, 5327,   1200.4,   9.9460,  35.9840,2,  35.9870,2,    189.3,2,    182.9,2,     9.57,2,    17.39,2,     0.85,2,   -999.0,9,   7.7830,2,    25.00
  35TH20080610, OVIDE,    21,  1,     18,2,20080616,1658, 41.9810, -14.6730, 5327,    999.3,  10.5630,  35.9530,2,  35.9530,2,    182.3,2,    177.9,2,     8.72,2,    17.06,2,     0.82,2,   -999.0,9,   7.7850,2,    25.00
  35TH20080610, OVIDE,    21,  1,     19,2,20080616,1658, 41.9810, -14.6730, 5327,    899.6,  10.6460,  35.8820,2,  35.8800,2,    181.8,2,    184.7,2,     8.51,2,    17.20,2,     0.85,2,   -999.0,9,   7.7830,2,    25.00
  35TH20080610, OVIDE,    21,  1,     20,2,20080616,1658, 41.9810, -14.6730, 5327,    799.1,  10.6440,  35.7650,2,  35.7640,2,    183.4,2,    179.9,2,     8.13,2,    17.54,2,     0.87,2,   -999.0,9,   7.7760,2,    25.00
  35TH20080610, OVIDE,    21,  1,     21,2,20080616,1658, 41.9810, -14.6730, 5327,    700.2,  10.7150,  35.6610,2,  35.6650,2,    186.4,2,    177.0,3,     7.64,2,    17.08,2,     0.86,2,   -999.0,9,   7.7740,2,    25.00
  35TH20080610, OVIDE,    21,  1,     22,2,20080616,1658, 41.9810, -14.6730, 5327,    600.6,  10.9160,  35.5790,2,  35.5780,2,    199.5,2,    194.7,2,     6.62,2,    16.04,2,     0.80,2,   -999.0,9,   7.7810,2,    25.00
  35TH20080610, OVIDE,    21,  1,     23,2,20080616,1658, 41.9810, -14.6730, 5327,    500.5,  11.2650,  35.5710,2,  35.5700,2,    218.5,2,    206.7,3,     4.89,2,    13.60,2,     0.66,2,   -999.0,9,   7.8040,2,    25.00
  35TH20080610, OVIDE,    21,  1,     24,2,20080616,1658, 41.9810, -14.6730, 5327,    399.9,  11.7400,  35.6160,2,  35.6150,2,    228.4,2,    229.8,2,     3.63,2,    11.30,2,     0.55,2,   -999.0,9,   7.8300,2,    25.00
  35TH20080610, OVIDE,    21,  1,     25,2,20080616,1658, 41.9810, -14.6730, 5327,    299.9,  12.1190,  35.6530,2,  35.6530,2,    232.8,2,    229.6,2,     3.33,2,    10.55,2,     0.49,2,   -999.0,9,   7.8430,2,    25.00
  35TH20080610, OVIDE,    21,  1,     26,2,20080616,1658, 41.9810, -14.6730, 5327,    200.9,  12.7980,  35.7430,2,  35.7380,2,    249.4,2,    237.8,3,     2.68,2,     7.98,2,     0.37,2,   -999.0,9,   7.8780,2,    25.00
  35TH20080610, OVIDE,    21,  1,     27,2,20080616,1658, 41.9810, -14.6730, 5327,    149.8,  13.3640,  35.8320,2,  35.8320,2,    244.9,2,    243.5,2,     2.13,2,     5.69,2,     0.27,2,   -999.0,9,   7.8980,2,    25.00
  35TH20080610, OVIDE,    21,  1,     28,2,20080616,1658, 41.9810, -14.6730, 5327,    100.9,  13.7960,  35.9100,2,  35.9090,2,    244.7,2,    243.8,2,     1.89,2,     4.31,2,     0.20,2,   -999.0,9,   7.9100,2,    25.00
  35TH20080610, OVIDE,    21,  1,     29,2,20080616,1658, 41.9810, -14.6730, 5327,     57.8,  14.0410,  35.9280,2,  35.9260,2,    248.0,2,    243.1,2,     1.90,2,     3.66,2,     0.19,2,   -999.0,9,   7.9130,2,    25.00
  35TH20080610, OVIDE,    21,  1,     30,2,20080616,1658, 41.9810, -14.6730, 5327,      3.4,  17.5020,  35.9170,2,  35.9190,2,    247.8,2,    246.4,2,     1.07,2,     0.00,2,     0.01,2,   -999.0,9,   7.9870,2,    25.00
  35TH20080610, OVIDE,    22,  1,      3,2,20080616,2318, 42.2810, -15.0630, 5293,   5400.5,   2.5720,  34.8990,2,  34.8980,2,    243.7,2,    244.9,2,    48.77,2,    23.47,2,     1.32,2,   2357.7,2,-999.0000,9,  -999.00
  35TH20080610, OVIDE,    22,  1,      4,2,20080616,2318, 42.2810, -15.0630, 5293,   4999.1,   2.5230,  34.8990,2,  34.8980,2,    245.7,2,    244.5,2,    47.14,2,    23.43,2,     1.31,2,   2358.1,2,   7.7350,2,    25.00
  35TH20080610, OVIDE,    22,  1,      5,2,20080616,2318, 42.2810, -15.0630, 5293,   4500.9,   2.5030,  34.9030,2,  34.9190,3,    245.7,2,    244.4,2,    46.64,2,    22.86,2,     1.30,2,   2357.6,2,   7.7380,2,    25.00
  35TH20080610, OVIDE,    22,  1,      6,2,20080616,2318, 42.2810, -15.0630, 5293,   4001.2,   2.5420,  34.9120,2,  34.9130,2,    245.1,2,    244.6,2,    45.70,2,    22.71,2,     1.26,2,   2355.9,2,   7.7370,2,    25.00
  35TH20080610, OVIDE,    22,  1,      7,2,20080616,2318, 42.2810, -15.0630, 5293,   3750.8,   2.5810,  34.9180,2,  34.9170,2,    245.3,2,    245.8,2,    44.18,2,    22.62,2,     1.25,2,   2352.0,2,   7.7340,2,    25.00
  35TH20080610, OVIDE,    22,  1,      8,2,20080616,2318, 42.2810, -15.0630, 5293,   3500.4,   2.6490,  34.9270,2,  34.9260,2,    246.3,2,    246.9,2,    40.08,2,    22.14,2,     1.23,2,   2344.4,2,   7.7360,2,    25.00
  35TH20080610, OVIDE,    22,  1,      9,2,20080616,2318, 42.2810, -15.0630, 5293,   3249.1,   2.7450,  34.9380,2,  34.9390,2,    248.1,2,    248.2,2,    38.30,2,    21.52,2,     1.20,2,   2341.1,2,   7.7390,2,    25.00
  35TH20080610, OVIDE,    22,  1,     10,2,20080616,2318, 42.2810, -15.0630, 5293,   2998.7,   2.8610,  34.9490,2,  34.9490,2,    249.7,2,    250.1,2,    35.56,2,    21.37,2,     1.18,2,   2337.1,2,   7.7390,2,    25.00
  35TH20080610, OVIDE,    22,  1,     11,2,20080616,2318, 42.2810, -15.0630, 5293,   2750.1,   3.0240,  34.9630,2,  34.9640,2,    251.6,2,    251.8,2,    32.26,2,    20.79,2,     1.18,2,   2332.8,2,   7.7380,2,    25.00
  35TH20080610, OVIDE,    22,  1,     12,2,20080616,2318, 42.2810, -15.0630, 5293,   2500.0,   3.2620,  34.9780,2,  34.9790,2,    255.3,2,    254.0,2,    26.65,2,    19.95,2,     1.12,2,   2326.8,2,   7.7380,2,    25.00
  35TH20080610, OVIDE,    22,  1,     13,2,20080616,2318, 42.2810, -15.0630, 5293,   2249.7,   3.4890,  34.9830,2,  34.9880,2,    261.2,2,    258.9,2,    18.54,2,    19.22,2,     1.07,2,   2321.9,2,   7.7380,2,    25.00
  35TH20080610, OVIDE,    22,  1,     14,2,20080616,2318, 42.2810, -15.0630, 5293,   1999.5,   3.8230,  34.9930,2,  34.9940,2,    263.6,2,    263.9,2,    13.93,2,    18.67,2,     1.00,2,   2317.4,2,   7.7330,2,    25.00
  35TH20080610, OVIDE,    22,  1,     15,2,20080616,2318, 42.2810, -15.0630, 5293,   1800.5,   4.2110,  35.0330,2,  35.0350,2,    259.5,2,    259.9,2,    12.52,2,    18.42,2,     1.01,2,   2316.7,2,   7.7330,2,    25.00
  35TH20080610, OVIDE,    22,  1,     16,2,20080616,2318, 42.2810, -15.0630, 5293,   1600.2,   5.5970,  35.2550,2,  35.2530,2,    239.4,2,    239.8,2,    11.82,2,    18.64,2,     1.00,2,   2329.3,2,   7.7420,2,    25.00
  35TH20080610, OVIDE,    22,  1,     17,2,20080616,2318, 42.2810, -15.0630, 5293,   1400.1,   7.5520,  35.5690,2,  35.5700,2,    216.9,2,    215.1,2,    10.90,2,    18.21,2,     1.00,2,   2351.7,2,   7.7580,2,    25.00
  35TH20080610, OVIDE,    22,  1,     18,2,20080616,2318, 42.2810, -15.0630, 5293,   1200.2,   9.0920,  35.7690,2,  35.7700,2,    197.4,2,    196.2,2,     9.94,2,    17.94,2,     0.92,2,   2364.4,2,   7.7680,2,    25.00
  35TH20080610, OVIDE,    22,  1,     19,2,20080616,2318, 42.2810, -15.0630, 5293,    999.8,  10.0170,  35.8050,2,  35.8050,2,    185.8,2,    185.9,2,     9.11,2,    17.58,2,     0.92,2,   2363.1,2,   7.7700,2,    25.00
  35TH20080610, OVIDE,    22,  1,     20,2,20080616,2318, 42.2810, -15.0630, 5293,    898.1,  10.1790,  35.7300,2,  35.7360,2,    182.8,2,    184.3,2,     8.79,2,    17.17,2,     0.92,2,   2360.5,2,   7.7690,2,    25.00
  35TH20080610, OVIDE,    22,  1,     21,2,20080616,2318, 42.2810, -15.0630, 5293,    799.9,  10.4930,  35.6990,2,  35.7000,2,    184.0,2,    184.1,2,     8.21,2,    17.52,2,     0.90,2,   -999.0,9,   7.7690,2,    25.00
  35TH20080610, OVIDE,    22,  1,     22,2,20080616,2318, 42.2810, -15.0630, 5293,    698.0,  10.5960,  35.5650,2,  35.5670,2,    191.3,2,    190.2,2,     7.36,2,    16.80,2,     0.89,2,   2344.0,2,   7.7690,2,    25.00
  35TH20080610, OVIDE,    22,  1,     23,2,20080616,2318, 42.2810, -15.0630, 5293,    598.0,  11.0450,  35.5570,2,  35.5570,2,    209.8,2,    206.5,2,     5.73,2,    14.61,2,     0.82,2,   -999.0,9,   7.7920,2,    25.00
  35TH20080610, OVIDE,    22,  1,     24,2,20080616,2318, 42.2810, -15.0630, 5293,    499.2,  11.4600,  35.5890,2,  35.5900,2,    223.6,2,    223.2,2,     4.23,2,    12.21,2,     0.64,2,   2342.1,2,   7.8150,2,    25.00
  35TH20080610, OVIDE,    22,  1,     25,2,20080616,2318, 42.2810, -15.0630, 5293,    400.9,  11.8380,  35.6250,2,  35.6260,2,    229.5,2,    229.7,2,     3.56,2,    10.84,2,     0.57,2,   2342.0,2,   7.8320,2,    25.00
  35TH20080610, OVIDE,    22,  1,     26,2,20080616,2318, 42.2810, -15.0630, 5293,    300.0,  12.3280,  35.6800,2,  35.6800,2,    230.4,2,    229.4,2,     3.30,2,    10.02,2,     0.53,2,   -999.0,9,   7.8450,2,    25.00
  35TH20080610, OVIDE,    22,  1,     27,2,20080616,2318, 42.2810, -15.0630, 5293,    199.2,  12.8730,  35.7540,2,  35.7540,2,    240.6,2,    240.3,2,     2.52,2,     7.59,2,     0.40,2,   2348.0,2,   7.8760,2,    25.00
  35TH20080610, OVIDE,    22,  1,     28,2,20080616,2318, 42.2810, -15.0630, 5293,     99.8,  13.7480,  35.8830,2,  35.8840,2,    247.1,2,    245.3,2,     1.78,2,     4.36,2,     0.25,2,   2357.3,2,   7.9080,2,    25.00
  35TH20080610, OVIDE,    22,  1,     29,2,20080616,2318, 42.2810, -15.0630, 5293,     56.8,  14.3390,  35.8710,2,  35.8770,2,    257.8,2,    263.6,2,     1.23,2,     0.77,2,     0.12,2,   -999.0,9,   7.9480,2,    25.00
  35TH20080610, OVIDE,    22,  1,     30,2,20080616,2318, 42.2810, -15.0630, 5293,      5.8,  17.2900,  35.9120,2,  35.9140,2,    247.5,2,    247.0,2,     1.29,2,     0.01,2,     0.06,2,   2361.7,2,   7.9860,2,    25.00