BOTTLE,20140930PRINUNIVRMK
EXPOCODE,SECT_ID,STNNBR,CASTNO,BTLNBR,BTLNBR_FLAG_W,DATE,TIME,LATITUDE,LONGITUDE,DEPTH,CTDPRS,CTDTMP,CTDSAL,CTDSAL_FLAG_W,SALNTY,SALNTY_FLAG_W,CTDOXY,CTDOXY_FLAG_W,OXYGEN,OXYGEN_FLAG_W,SILCAT,SILCAT_FLAG_W,NITRAT,NITRAT_FLAG_W,PHSPHT,PHSPHT_FLAG_W,ALKALI,ALKALI_FLAG_W,PH_SWS,PH_SWS_FLAG_W,PH_TMP
,,,,,,,,,,METERS,DBAR,ITS-90,PSS-78,,PSS-78,,UMOL/KG,,UMOL/KG,,UMOL/KG,,UMOL/KG,,UMOL/KG,,UMOL/KG,,,,DEG C
  35TH20080610, OVIDE,    17,  1,      3,2,20080615,1440, 40.7870, -13.1000, 5324,   5430.9,   2.5610,  34.8960,2,  34.8950,2,    244.7,2,    244.5,2,    46.84,2,    22.53,2,     1.33,2,   -999.0,9,   7.7330,2,    25.00
  35TH20080610, OVIDE,    17,  1,      4,2,20080615,1440, 40.7870, -13.1000, 5324,   4498.8,   2.4950,  34.9020,2,  34.9010,2,    246.3,2,    246.6,2,    45.94,2,    23.26,2,     1.36,2,   -999.0,9,   7.7350,2,    25.00
  35TH20080610, OVIDE,    17,  1,      5,2,20080615,1440, 40.7870, -13.1000, 5324,   4000.5,   2.5460,  34.9140,2,  34.9240,3,    245.6,2,    240.4,3,    42.72,2,    22.78,2,     1.26,2,   -999.0,9,   7.7340,2,    25.00
  35TH20080610, OVIDE,    17,  1,      6,2,20080615,1440, 40.7870, -13.1000, 5324,   3749.1,   2.5880,  34.9200,2,  34.9190,2,    245.6,2,    242.3,2,    41.73,2,    22.01,2,     1.27,2,   -999.0,9,   7.7360,2,    25.00
  35TH20080610, OVIDE,    17,  1,      7,2,20080615,1440, 40.7870, -13.1000, 5324,   3499.8,   2.6450,  34.9270,2,  34.9270,2,    246.4,2,    246.3,2,    39.32,2,    22.55,2,     1.25,2,   -999.0,9,   7.7340,2,    25.00
  35TH20080610, OVIDE,    17,  1,      8,2,20080615,1440, 40.7870, -13.1000, 5324,   3249.5,   2.7360,  34.9360,2,  34.9370,2,    247.8,2,    241.0,3,    37.17,2,    22.07,2,     1.23,2,   -999.0,9,   7.7370,2,    25.00
  35TH20080610, OVIDE,    17,  1,      9,2,20080615,1440, 40.7870, -13.1000, 5324,   3000.4,   2.8610,  34.9490,2,  34.9430,2,    249.5,2,    237.3,3,    34.38,2,    20.88,2,     1.21,2,   -999.0,9,   7.7350,2,    25.00
  35TH20080610, OVIDE,    17,  1,     10,2,20080615,1440, 40.7870, -13.1000, 5324,   2750.0,   3.0740,  34.9690,2,  34.9680,2,    251.2,2,    247.0,2,    30.89,2,    20.31,2,     1.18,2,   -999.0,9,   7.7380,2,    25.00
  35TH20080610, OVIDE,    17,  1,     11,2,20080615,1440, 40.7870, -13.1000, 5324,   2498.5,   3.3320,  34.9890,2,  34.9900,2,    253.5,2,   -999.0,3,    26.71,2,    20.37,3,     1.13,3,   -999.0,9,   7.7390,2,    25.00
  35TH20080610, OVIDE,    17,  1,     12,2,20080615,1440, 40.7870, -13.1000, 5324,   2248.7,   3.6560,  35.0120,2,  35.0100,2,    256.2,2,    246.0,3,    18.44,2,    19.29,2,     1.08,2,   -999.0,9,   7.7390,2,    25.00
  35TH20080610, OVIDE,    17,  1,     13,2,20080615,1440, 40.7870, -13.1000, 5324,   2000.0,   4.0710,  35.0500,2,  35.0580,3,    255.4,2,    256.8,2,    14.99,2,    19.31,2,     1.04,2,   -999.0,9,   7.7350,2,    25.00
  35TH20080610, OVIDE,    17,  1,     14,2,20080615,1440, 40.7870, -13.1000, 5324,   1800.9,   4.8400,  35.1570,2,  35.1580,2,    247.5,2,    241.5,2,    13.08,2,    18.87,2,     1.03,2,   -999.0,9,   7.7370,2,    25.00
  35TH20080610, OVIDE,    17,  1,     15,2,20080615,1440, 40.7870, -13.1000, 5324,   1599.9,   6.9280,  35.5150,2,  35.5180,2,    226.1,2,    218.2,3,    12.03,2,    17.98,2,     0.98,2,   -999.0,9,   7.7570,2,    25.00
  35TH20080610, OVIDE,    17,  1,     16,2,20080615,1440, 40.7870, -13.1000, 5324,   1399.4,   9.1630,  35.9010,2,  35.9050,2,    197.4,2,    198.7,2,    10.28,2,    17.68,2,     0.90,2,   -999.0,9,   7.7770,2,    25.00
  35TH20080610, OVIDE,    17,  1,     17,2,20080615,1440, 40.7870, -13.1000, 5324,   1199.4,  10.7500,  36.1860,2,  36.1850,2,    183.4,2,    186.0,2,     9.01,2,    16.29,2,     0.83,2,   -999.0,9,   7.7950,2,    25.00
  35TH20080610, OVIDE,    17,  1,     18,2,20080615,1440, 40.7870, -13.1000, 5324,    999.1,  10.9680,  36.0890,2,  36.0960,2,    181.8,2,    181.1,2,     8.58,2,    15.97,2,     0.85,2,   -999.0,9,   7.7940,2,    25.00
  35TH20080610, OVIDE,    17,  1,     19,2,20080615,1440, 40.7870, -13.1000, 5324,    900.6,  11.3800,  36.1110,2,  36.1140,2,    182.2,2,    180.7,2,     8.01,2,    16.23,2,     0.82,2,   -999.0,9,   7.7990,2,    25.00
  35TH20080610, OVIDE,    17,  1,     20,2,20080615,1440, 40.7870, -13.1000, 5324,    799.4,  11.2470,  35.9700,2,  35.9790,3,    183.7,2,    181.5,2,     7.80,2,    16.10,2,     0.84,2,   -999.0,9,   7.7910,2,    25.00
  35TH20080610, OVIDE,    17,  1,     21,2,20080615,1440, 40.7870, -13.1000, 5324,    699.6,  10.8780,  35.7300,2,  35.7500,3,    190.1,2,    182.6,3,     7.46,2,    16.01,2,     0.87,2,   -999.0,9,   7.7790,2,    25.00
  35TH20080610, OVIDE,    17,  1,     22,2,20080615,1440, 40.7870, -13.1000, 5324,    600.1,  10.9510,  35.6080,2,  35.6140,2,    206.1,2,    200.7,2,     6.31,2,    14.89,2,     0.82,2,   -999.0,9,   7.7820,2,    25.00
  35TH20080610, OVIDE,    17,  1,     23,2,20080615,1440, 40.7870, -13.1000, 5324,    499.0,  11.3320,  35.5940,2,  35.5940,2,    222.7,2,    223.5,2,     4.54,2,    12.68,2,     0.68,2,   -999.0,9,   7.8060,2,    25.00
  35TH20080610, OVIDE,    17,  1,     24,2,20080615,1440, 40.7870, -13.1000, 5324,    398.7,  11.7200,  35.6220,2,  35.6200,2,    233.2,2,    230.6,2,     3.46,2,    10.83,2,     0.58,2,   -999.0,9,   7.8310,2,    25.00
  35TH20080610, OVIDE,    17,  1,     25,2,20080615,1440, 40.7870, -13.1000, 5324,    300.3,  12.1680,  35.6780,2,  35.6780,2,    225.0,2,    222.8,2,     3.51,2,    11.20,2,     0.58,2,   -999.0,9,   7.8310,2,    25.00
  35TH20080610, OVIDE,    17,  1,     26,2,20080615,1440, 40.7870, -13.1000, 5324,    199.1,  12.9830,  35.7980,2,  35.7980,2,    218.6,2,    218.7,2,     3.08,2,     9.71,2,     0.51,2,   -999.0,9,   7.8490,2,    25.00
  35TH20080610, OVIDE,    17,  1,     27,2,20080615,1440, 40.7870, -13.1000, 5324,    148.9,  13.8440,  35.9300,2,  35.9280,2,    227.6,2,    228.4,2,     2.17,2,     6.26,2,     0.34,2,   -999.0,9,   7.8870,2,    25.00
  35TH20080610, OVIDE,    17,  1,     28,2,20080615,1440, 40.7870, -13.1000, 5324,     99.4,  14.4520,  36.0250,2,  36.0190,3,    237.1,2,    239.8,2,     1.64,2,     3.41,2,     0.20,2,   -999.0,9,   7.9150,2,    25.00
  35TH20080610, OVIDE,    17,  1,     29,2,20080615,1440, 40.7870, -13.1000, 5324,     56.1,  14.9290,  36.0920,2,  36.0900,2,    241.2,2,    240.0,2,     1.44,2,     1.91,2,     0.14,2,   -999.0,9,   7.9260,2,    25.00
  35TH20080610, OVIDE,    17,  1,     30,2,20080615,1440, 40.7870, -13.1000, 5324,      5.3,  17.6440,  35.9000,2,  35.9020,2,    247.0,2,    247.8,2,     0.77,2,     0.15,2,     0.05,2,   -999.0,9,   7.9770,2,    25.00
  35TH20080610, OVIDE,    18,  1,      3,2,20080615,2058, 41.0840, -13.4870, 5336,   5441.9,   2.5700,  34.8970,2,  34.8950,2,    244.2,2,    244.7,2,    47.78,2,    22.86,2,     1.28,2,   2355.8,2,   7.7370,2,    25.00
  35TH20080610, OVIDE,    18,  1,      4,2,20080615,2058, 41.0840, -13.4870, 5336,   4650.9,   2.4960,  34.9000,2,  34.8990,2,    246.2,2,    245.2,2,    47.38,2,    22.81,2,     1.29,2,   2354.0,2,   7.7360,2,    25.00
  35TH20080610, OVIDE,    18,  1,      5,2,20080615,2058, 41.0840, -13.4870, 5336,   3999.6,   2.5360,  34.9120,2,  34.9250,3,    245.4,2,    250.6,2,    43.75,2,    22.96,2,     1.25,2,   2352.5,2,   7.7360,2,    25.00
  35TH20080610, OVIDE,    18,  1,      6,2,20080615,2058, 41.0840, -13.4870, 5336,   3749.9,   2.5730,  34.9190,2,  34.9170,2,    245.6,2,    245.5,2,    43.06,2,    22.16,2,     1.25,2,   2349.4,2,   7.7340,2,    25.00
  35TH20080610, OVIDE,    18,  1,      7,2,20080615,2058, 41.0840, -13.4870, 5336,   3500.2,   2.6310,  34.9260,2,  34.9260,2,    246.4,2,    246.7,2,    41.02,2,    22.51,2,     1.23,2,   2345.0,2,   7.7360,2,    25.00
  35TH20080610, OVIDE,    18,  1,      8,2,20080615,2058, 41.0840, -13.4870, 5336,   3250.6,   2.7230,  34.9360,2,  34.9340,2,    247.8,2,    247.9,2,    38.30,2,    22.19,2,     1.21,2,   2342.9,2,   7.7360,2,    25.00
  35TH20080610, OVIDE,    18,  1,      9,2,20080615,2058, 41.0840, -13.4870, 5336,   3000.6,   2.8450,  34.9480,2,  34.9470,2,    249.6,2,    250.5,2,    35.44,2,    21.84,2,     1.17,2,   2338.2,2,   7.7390,2,    25.00
  35TH20080610, OVIDE,    18,  1,     10,2,20080615,2058, 41.0840, -13.4870, 5336,   2750.5,   3.0550,  34.9660,2,  34.9660,2,    251.7,2,    252.1,2,    31.35,2,    21.19,2,     1.14,2,   2332.5,2,   7.7380,2,    25.00
  35TH20080610, OVIDE,    18,  1,     11,2,20080615,2058, 41.0840, -13.4870, 5336,   2501.0,   3.3550,  34.9910,2,  34.9910,2,    254.4,2,    254.4,2,  -999.00,9,    20.42,2,     1.10,2,   2327.7,2,   7.7380,2,    25.00
  35TH20080610, OVIDE,    18,  1,     12,2,20080615,2058, 41.0840, -13.4870, 5336,   2249.6,   3.6110,  35.0010,2,  35.0010,2,    258.6,2,    258.5,2,    18.17,2,    19.57,2,     1.03,2,   2321.2,2,   7.7340,2,    25.00
  35TH20080610, OVIDE,    18,  1,     13,2,20080615,2058, 41.0840, -13.4870, 5336,   1999.6,   4.1770,  35.0630,2,  35.0670,2,    255.6,2,    255.7,2,    14.72,2,    19.08,2,     1.01,2,   2319.9,2,   7.7360,2,    25.00
  35TH20080610, OVIDE,    18,  1,     14,2,20080615,2058, 41.0840, -13.4870, 5336,   1800.5,   4.8100,  35.1520,2,  35.1540,2,    247.0,2,    248.2,2,    13.28,2,    19.04,2,     0.99,2,   2324.0,2,   7.7400,2,    25.00
  35TH20080610, OVIDE,    18,  1,     15,2,20080615,2058, 41.0840, -13.4870, 5336,   1600.8,   6.2740,  35.3870,2,  35.3860,2,    231.1,2,    230.7,2,    12.10,2,    18.63,2,     0.96,2,   2339.9,2,   7.7490,2,    25.00
  35TH20080610, OVIDE,    18,  1,     16,2,20080615,2058, 41.0840, -13.4870, 5336,   1400.6,   8.3720,  35.7490,2,  35.7580,3,    207.1,2,    206.1,2,    10.76,2,    17.90,2,     0.90,2,   2363.6,2,   7.7700,2,    25.00
  35TH20080610, OVIDE,    18,  1,     17,2,20080615,2058, 41.0840, -13.4870, 5336,   1199.4,   9.6040,  35.8820,2,  35.8820,2,    191.7,2,    192.1,2,     9.81,2,    17.68,2,     0.88,2,   2370.4,2,   7.7750,2,    25.00
  35TH20080610, OVIDE,    18,  1,     18,2,20080615,2058, 41.0840, -13.4870, 5336,    997.8,  10.2890,  35.8690,2,  35.8590,3,    183.2,2,    184.6,2,     9.14,2,    17.20,2,     0.89,2,   2366.5,2,   7.7730,2,    25.00
  35TH20080610, OVIDE,    18,  1,     19,2,20080615,2058, 41.0840, -13.4870, 5336,    898.8,  10.9880,  35.9440,2,  35.9360,3,    182.0,2,    185.8,2,     8.30,2,    16.62,2,     0.83,2,   2369.5,2,   7.7870,2,    25.00
  35TH20080610, OVIDE,    18,  1,     20,2,20080615,2058, 41.0840, -13.4870, 5336,    801.3,  11.3520,  35.9340,2,  35.9360,2,    182.8,2,    184.0,2,     7.55,2,    15.70,2,     0.79,2,   2368.2,2,   7.7910,2,    25.00
  35TH20080610, OVIDE,    18,  1,     21,2,20080615,2058, 41.0840, -13.4870, 5336,    700.5,  11.3570,  35.7790,2,  35.7810,2,    185.9,2,    186.8,2,     6.98,2,    16.14,2,     0.80,2,   2355.7,2,   7.7850,2,    25.00
  35TH20080610, OVIDE,    18,  1,     22,2,20080615,2058, 41.0840, -13.4870, 5336,    598.8,  11.3620,  35.6580,2,  35.6570,2,    196.0,2,    195.8,2,     5.88,2,    15.38,2,     0.75,2,   -999.0,9,   7.7900,2,    25.00
  35TH20080610, OVIDE,    18,  1,     23,2,20080615,2058, 41.0840, -13.4870, 5336,    498.9,  11.5860,  35.6300,2,  35.6290,2,    211.0,2,    210.0,2,     4.63,2,    13.24,2,     0.66,2,   2339.2,2,   7.8040,2,    25.00
  35TH20080610, OVIDE,    18,  1,     24,2,20080615,2058, 41.0840, -13.4870, 5336,    399.6,  11.9700,  35.6660,2,  35.6630,2,    217.4,2,    216.8,2,     3.84,2,    12.14,2,     0.58,2,   2341.1,2,   7.8180,2,    25.00
  35TH20080610, OVIDE,    18,  1,     25,2,20080615,2058, 41.0840, -13.4870, 5336,    300.1,  12.5210,  35.7330,2,  35.7300,2,    217.9,2,    218.1,2,     3.32,2,    10.85,2,     0.52,2,   -999.0,9,   7.8380,2,    25.00
  35TH20080610, OVIDE,    18,  1,     26,2,20080615,2058, 41.0840, -13.4870, 5336,    199.7,  13.5350,  35.8780,2,  35.8550,3,    222.1,2,    219.3,2,     2.60,2,     8.46,2,     0.41,2,   2352.1,2,   7.8600,2,    25.00
  35TH20080610, OVIDE,    18,  1,     27,2,20080615,2058, 41.0840, -13.4870, 5336,    147.8,  13.9270,  35.9160,2,  35.9130,2,    241.1,2,    244.0,2,     1.56,2,     4.02,2,     0.20,2,   -999.0,9,   7.9060,2,    25.00
  35TH20080610, OVIDE,    18,  1,     28,2,20080615,2058, 41.0840, -13.4870, 5336,     97.7,  14.6600,  36.0620,2,  36.0600,2,    240.0,2,    241.1,2,     1.42,2,     2.82,2,     0.15,2,   2366.2,2,   7.9260,2,    25.00
  35TH20080610, OVIDE,    18,  1,     29,2,20080615,2058, 41.0840, -13.4870, 5336,     55.6,  15.5760,  36.1000,2,  36.1110,3,    248.3,2,    249.9,2,     0.98,2,     0.24,2,     0.04,2,   -999.0,9,   7.9570,2,    25.00
  35TH20080610, OVIDE,    18,  1,     30,2,20080615,2058, 41.0840, -13.4870, 5336,      3.0,  17.8900,  36.1250,2,  36.1250,2,    243.5,2,    244.4,2,     0.75,2,     0.01,2,     0.01,2,   2370.6,2,   7.9800,2,    25.00
  35TH20080610, OVIDE,    19,  1,      3,2,20080616,0330, 41.3840, -13.8910, 5333,   5440.4,   2.5730,  34.8970,2,  34.8970,2,    244.1,2,    244.0,2,    47.37,2,    22.10,2,     1.30,2,   -999.0,9,   7.7340,2,    25.00
  35TH20080610, OVIDE,    19,  1,      4,2,20080616,0330, 41.3840, -13.8910, 5333,   4647.4,   2.4980,  34.9010,2,  34.8990,2,    246.1,2,    244.6,2,    46.68,2,    22.99,2,     1.29,2,   -999.0,9,   7.7320,2,    25.00
  35TH20080610, OVIDE,    19,  1,      5,2,20080616,0330, 41.3840, -13.8910, 5333,   3999.2,   2.5260,  34.9100,2,  34.9180,3,    245.1,2,    244.3,2,    44.13,2,    22.60,2,     1.27,2,   -999.0,9,   7.7330,2,    25.00
  35TH20080610, OVIDE,    19,  1,      6,2,20080616,0330, 41.3840, -13.8910, 5333,   3748.3,   2.5690,  34.9170,2,  34.9170,2,    245.2,2,    246.4,2,    42.82,2,    22.10,2,     1.25,2,   -999.0,9,   7.7340,2,    25.00
  35TH20080610, OVIDE,    19,  1,      7,2,20080616,0330, 41.3840, -13.8910, 5333,   3497.0,   2.6380,  34.9270,2,  34.9280,2,    245.9,2,    235.1,3,    40.33,2,    22.18,2,     1.23,2,   -999.0,9,   7.7350,2,    25.00
  35TH20080610, OVIDE,    19,  1,      8,2,20080616,0330, 41.3840, -13.8910, 5333,   3248.9,   2.7320,  34.9370,2,  34.9380,2,    247.6,2,    247.2,2,    37.56,2,    21.80,2,     1.20,2,   -999.0,9,   7.7360,2,    25.00
  35TH20080610, OVIDE,    19,  1,      9,2,20080616,0330, 41.3840, -13.8910, 5333,   2999.1,   2.8520,  34.9480,2,  34.9500,2,    249.5,2,    249.3,2,    34.14,2,    21.26,2,     1.15,2,   -999.0,9,   7.7380,2,    25.00
  35TH20080610, OVIDE,    19,  1,     10,2,20080616,0330, 41.3840, -13.8910, 5333,   2749.3,   3.0180,  34.9640,2,  34.9620,2,    251.4,2,    246.3,3,    30.56,2,    20.46,2,     1.11,2,   -999.0,9,   7.7390,2,    25.00
  35TH20080610, OVIDE,    19,  1,     11,2,20080616,0330, 41.3840, -13.8910, 5333,   2500.4,   3.3350,  34.9880,2,  34.9890,2,    253.7,2,    253.9,2,  -999.00,9,    18.89,2,     1.07,2,   -999.0,9,   7.7380,2,    25.00
  35TH20080610, OVIDE,    19,  1,     12,2,20080616,0330, 41.3840, -13.8910, 5333,   2250.6,   3.6250,  35.0030,2,  35.0030,2,    258.3,2,    258.9,2,    17.82,2,    18.48,2,     1.03,2,   -999.0,9,   7.7370,2,    25.00
  35TH20080610, OVIDE,    19,  1,     13,2,20080616,0330, 41.3840, -13.8910, 5333,   2001.9,   4.0760,  35.0390,2,  35.0450,2,    259.4,2,    242.2,3,    14.47,2,    18.70,2,     0.98,2,   -999.0,9,   7.7380,2,    25.00
  35TH20080610, OVIDE,    19,  1,     14,2,20080616,0330, 41.3840, -13.8910, 5333,   1800.4,   4.8060,  35.1420,2,  35.1420,2,    249.7,2,    250.1,2,    12.90,2,    18.72,2,     0.97,2,   -999.0,9,   7.7370,2,    25.00
  35TH20080610, OVIDE,    19,  1,     15,2,20080616,0330, 41.3840, -13.8910, 5333,   1599.8,   6.2410,  35.3710,2,  35.3700,2,    229.9,2,    228.3,2,    11.93,2,    18.26,2,     0.94,2,   -999.0,9,   7.7480,2,    25.00
  35TH20080610, OVIDE,    19,  1,     16,2,20080616,0330, 41.3840, -13.8910, 5333,   1399.1,   8.5600,  35.7730,2,  35.7680,2,    201.4,2,    205.1,2,    10.62,2,    17.68,2,     0.88,2,   -999.0,9,   7.7720,2,    25.00
  35TH20080610, OVIDE,    19,  1,     17,2,20080616,0330, 41.3840, -13.8910, 5333,   1199.9,  10.5320,  36.1250,2,  36.1250,2,    183.8,2,    184.3,2,     9.29,2,    16.41,2,     0.80,2,   -999.0,9,   7.7950,2,    25.00
  35TH20080610, OVIDE,    19,  1,     18,2,20080616,0330, 41.3840, -13.8910, 5333,    999.7,  10.9090,  36.0300,2,  36.0300,2,    180.8,2,    180.3,2,     8.69,2,    16.82,2,     0.81,2,   -999.0,9,   7.7890,2,    25.00
  35TH20080610, OVIDE,    19,  1,     19,2,20080616,0330, 41.3840, -13.8910, 5333,    899.3,  11.2220,  36.0140,2,  36.0130,2,    181.3,2,    183.9,2,     8.04,2,    16.03,2,     0.78,2,   -999.0,9,   7.7950,2,    25.00
  35TH20080610, OVIDE,    19,  1,     20,2,20080616,0330, 41.3840, -13.8910, 5333,    801.0,  11.2710,  35.9230,2,  35.9260,2,    182.2,2,    182.8,2,     7.73,2,    16.35,2,     0.78,2,   -999.0,9,   7.7940,2,    25.00
  35TH20080610, OVIDE,    19,  1,     21,2,20080616,0330, 41.3840, -13.8910, 5333,    701.2,  11.2820,  35.8020,2,  35.8050,2,    184.0,2,    183.6,2,     7.25,2,    15.77,2,     0.79,2,   -999.0,9,   7.7880,2,    25.00
  35TH20080610, OVIDE,    19,  1,     22,2,20080616,0330, 41.3840, -13.8910, 5333,    600.9,  11.0140,  35.6080,2,  35.6090,2,    193.4,2,    194.5,2,     6.59,2,    15.86,2,     0.78,2,   -999.0,9,   7.7820,2,    25.00
  35TH20080610, OVIDE,    19,  1,     23,2,20080616,0330, 41.3840, -13.8910, 5333,    499.4,  11.3990,  35.5970,2,  35.5970,2,    211.4,2,    212.7,2,     4.82,2,    13.11,2,     0.64,2,   -999.0,9,   7.8030,2,    25.00
  35TH20080610, OVIDE,    19,  1,     24,2,20080616,0330, 41.3840, -13.8910, 5333,    400.4,  11.9160,  35.6540,2,  35.6530,2,    218.3,2,    218.4,2,     3.89,2,    11.97,2,     0.56,2,   -999.0,9,   7.8210,2,    25.00
  35TH20080610, OVIDE,    19,  1,     25,2,20080616,0330, 41.3840, -13.8910, 5333,    300.7,  12.4270,  35.7170,2,  35.7150,2,    219.2,2,    220.7,2,     3.34,2,    10.38,2,     0.51,2,   -999.0,9,   7.8380,2,    25.00
  35TH20080610, OVIDE,    19,  1,     26,2,20080616,0330, 41.3840, -13.8910, 5333,    200.1,  12.9910,  35.7770,2,  35.7770,2,    228.2,2,    227.7,2,     2.85,2,     8.98,2,     0.42,2,   -999.0,9,   7.8620,2,    25.00
  35TH20080610, OVIDE,    19,  1,     27,2,20080616,0330, 41.3840, -13.8910, 5333,    149.3,  13.6390,  35.8800,2,  35.8590,3,    232.6,2,    242.4,3,     1.95,2,     5.53,2,     0.27,2,   -999.0,9,   7.8940,2,    25.00
  35TH20080610, OVIDE,    19,  1,     28,2,20080616,0330, 41.3840, -13.8910, 5333,     98.9,  14.0630,  35.9360,2,  35.9340,2,    241.2,2,    242.5,2,     1.55,2,     3.68,2,     0.19,2,   -999.0,9,   7.9180,2,    25.00
  35TH20080610, OVIDE,    19,  1,     29,2,20080616,0330, 41.3840, -13.8910, 5333,     57.3,  14.9960,  36.0000,2,  35.9910,3,    248.5,2,    250.9,2,     0.94,2,     0.83,2,     0.08,2,   -999.0,9,   7.9430,2,    25.00
  35TH20080610, OVIDE,    19,  1,     30,2,20080616,0330, 41.3840, -13.8910, 5333,      3.8,  17.5970,  36.0030,2,  36.0080,2,    244.4,2,    244.6,2,     0.69,2,     0.00,2,     0.01,2,   -999.0,9,   7.9790,2,    25.00