BOTTLE,20140930PRINUNIVRMK
EXPOCODE,SECT_ID,STNNBR,CASTNO,BTLNBR,BTLNBR_FLAG_W,DATE,TIME,LATITUDE,LONGITUDE,DEPTH,CTDPRS,CTDTMP,CTDSAL,CTDSAL_FLAG_W,SALNTY,SALNTY_FLAG_W,CTDOXY,CTDOXY_FLAG_W,OXYGEN,OXYGEN_FLAG_W,SILCAT,SILCAT_FLAG_W,NITRAT,NITRAT_FLAG_W,PHSPHT,PHSPHT_FLAG_W,ALKALI,ALKALI_FLAG_W,PH_SWS,PH_SWS_FLAG_W,PH_TMP
,,,,,,,,,,METERS,DBAR,ITS-90,PSS-78,,PSS-78,,UMOL/KG,,UMOL/KG,,UMOL/KG,,UMOL/KG,,UMOL/KG,,UMOL/KG,,,,DEG C
  35TH20080610, OVIDE,    23,  1,      3,2,20080617,0620, 42.5800, -15.4600, 4993,   5091.2,   2.5340,  34.8970,2,  34.8950,2,    245.6,2,    236.0,3,    47.51,2,    22.86,2,     1.32,2,   -999.0,9,   7.7350,2,    25.00
  35TH20080610, OVIDE,    23,  1,      4,2,20080617,0620, 42.5800, -15.4600, 4993,   4649.4,   2.4910,  34.9000,2,  34.8980,2,    245.7,2,    245.6,2,    47.14,2,    23.06,2,     1.32,2,   -999.0,9,   7.7380,2,    25.00
  35TH20080610, OVIDE,    23,  1,      5,2,20080617,0620, 42.5800, -15.4600, 4993,   4001.1,   2.5230,  34.9120,2,  34.9160,2,    244.9,2,    244.6,2,    44.12,2,    22.53,2,     1.28,2,   -999.0,9,   7.7370,2,    25.00
  35TH20080610, OVIDE,    23,  1,      6,2,20080617,0620, 42.5800, -15.4600, 4993,   3751.1,   2.5660,  34.9180,2,  34.9150,2,    245.0,2,    244.8,2,    43.08,2,    22.67,2,     1.26,2,   -999.0,9,   7.7380,2,    25.00
  35TH20080610, OVIDE,    23,  1,      7,2,20080617,0620, 42.5800, -15.4600, 4993,   3499.4,   2.6320,  34.9250,2,  34.9260,2,    245.9,2,    246.0,2,    40.51,2,    22.07,2,     1.27,2,   -999.0,9,   7.7390,2,    25.00
  35TH20080610, OVIDE,    23,  1,      8,2,20080617,0620, 42.5800, -15.4600, 4993,   3250.8,   2.7250,  34.9350,2,  34.9360,2,    247.4,2,    247.5,2,    37.96,2,    21.85,2,     1.22,2,   -999.0,9,   7.7390,2,    25.00
  35TH20080610, OVIDE,    23,  1,      9,2,20080617,0620, 42.5800, -15.4600, 4993,   3002.9,   2.8480,  34.9480,2,  34.9470,2,    249.9,2,    249.8,2,    34.17,2,    21.44,2,     1.21,2,   -999.0,9,   7.7390,2,    25.00
  35TH20080610, OVIDE,    23,  1,     10,2,20080617,0620, 42.5800, -15.4600, 4993,   2750.2,   3.0470,  34.9610,2,  34.9610,2,    252.6,2,    252.8,2,    29.79,2,    20.54,2,     1.15,2,   -999.0,9,   7.7390,2,    25.00
  35TH20080610, OVIDE,    23,  1,     11,2,20080617,0620, 42.5800, -15.4600, 4993,   2500.0,   3.2410,  34.9620,2,  34.9620,2,    259.7,2,    260.4,2,    20.52,2,    19.66,2,     1.08,2,   -999.0,9,   7.7380,2,    25.00
  35TH20080610, OVIDE,    23,  1,     12,2,20080617,0620, 42.5800, -15.4600, 4993,   2250.3,   3.3930,  34.9490,2,  34.9480,2,    269.4,2,    268.2,2,    15.55,2,    18.59,2,     1.03,2,   -999.0,9,   7.7340,2,    25.00
  35TH20080610, OVIDE,    23,  1,     13,2,20080617,0620, 42.5800, -15.4600, 4993,   2000.7,   3.6940,  34.9600,2,  34.9680,3,    268.9,2,    267.7,2,    13.38,2,    18.64,2,     1.02,2,   -999.0,9,   7.7320,2,    25.00
  35TH20080610, OVIDE,    23,  1,     14,2,20080617,0620, 42.5800, -15.4600, 4993,   1800.2,   4.1830,  35.0170,2,  35.0220,2,    261.6,2,    260.5,2,    12.70,2,    18.61,2,     1.01,2,   -999.0,9,   7.7320,2,    25.00
  35TH20080610, OVIDE,    23,  1,     15,2,20080617,0620, 42.5800, -15.4600, 4993,   1599.5,   5.0790,  35.1420,2,  35.1440,2,    248.6,2,    247.0,2,    11.87,2,    18.64,2,     0.99,2,   -999.0,9,   7.7350,2,    25.00
  35TH20080610, OVIDE,    23,  1,     16,2,20080617,0620, 42.5800, -15.4600, 4993,   1400.4,   6.9280,  35.4300,2,  35.4300,2,    224.0,2,    222.2,2,    11.31,2,    18.49,2,     0.95,2,   -999.0,9,   7.7480,2,    25.00
  35TH20080610, OVIDE,    23,  1,     17,2,20080617,0620, 42.5800, -15.4600, 4993,   1200.3,   9.1180,  35.7870,2,  35.7870,2,    195.5,2,    202.7,3,    10.39,2,    17.85,2,     0.93,2,   -999.0,9,   7.7700,2,    25.00
  35TH20080610, OVIDE,    23,  1,     18,2,20080617,0620, 42.5800, -15.4600, 4993,    996.1,  10.6040,  35.9550,2,  35.9560,2,    182.3,2,    183.1,2,     9.22,2,    17.06,2,     0.86,2,   -999.0,9,   7.7860,2,    25.00
  35TH20080610, OVIDE,    23,  1,     19,2,20080617,0620, 42.5800, -15.4600, 4993,    899.9,  10.6970,  35.8630,2,  35.8670,2,    181.4,2,    183.1,2,     8.77,2,    16.94,2,     0.88,2,   -999.0,9,   7.7820,2,    25.00
  35TH20080610, OVIDE,    23,  1,     20,2,20080617,0620, 42.5800, -15.4600, 4993,    800.2,  10.8680,  35.8080,2,  35.8100,2,    182.4,2,    204.5,3,     8.34,2,    16.82,2,     0.87,2,   -999.0,9,   7.7820,2,    25.00
  35TH20080610, OVIDE,    23,  1,     21,2,20080617,0620, 42.5800, -15.4600, 4993,    699.8,  10.7080,  35.6080,2,  35.6190,3,    189.4,2,    188.3,2,     7.77,2,    16.97,2,     0.86,2,   -999.0,9,   7.7730,2,    25.00
  35TH20080610, OVIDE,    23,  1,     22,2,20080617,0620, 42.5800, -15.4600, 4993,    600.3,  11.0190,  35.5570,2,  35.5610,2,    203.1,2,    202.1,2,     6.34,2,    15.17,2,     0.76,2,   -999.0,9,   7.7870,2,    25.00
  35TH20080610, OVIDE,    23,  1,     23,2,20080617,0620, 42.5800, -15.4600, 4993,    499.9,  11.4240,  35.5820,2,  35.5830,2,    220.4,2,    220.6,2,     4.68,2,    12.84,2,     0.64,2,   -999.0,9,   7.8120,2,    25.00
  35TH20080610, OVIDE,    23,  1,     24,2,20080617,0620, 42.5800, -15.4600, 4993,    400.4,  11.9800,  35.6330,2,  35.6260,3,    228.9,2,    244.1,3,     3.78,2,    10.96,3,     0.55,2,   -999.0,9,   7.8370,2,    25.00
  35TH20080610, OVIDE,    23,  1,     25,2,20080617,0620, 42.5800, -15.4600, 4993,    300.7,  12.5720,  35.7040,2,  35.7030,2,    238.4,2,    242.9,2,     3.06,2,     8.41,2,     0.46,2,   -999.0,9,   7.8710,2,    25.00
  35TH20080610, OVIDE,    23,  1,     26,2,20080617,0620, 42.5800, -15.4600, 4993,    200.3,  12.8300,  35.7420,2,  35.7400,2,    247.9,2,    247.9,2,     2.63,2,     7.02,2,     0.37,2,   -999.0,9,   7.8860,2,    25.00
  35TH20080610, OVIDE,    23,  1,     27,2,20080617,0620, 42.5800, -15.4600, 4993,    150.1,  13.4110,  35.8380,2,  35.8350,2,    242.4,2,    244.0,2,     2.21,2,     5.52,2,     0.31,2,   -999.0,9,   7.8990,2,    25.00
  35TH20080610, OVIDE,    23,  1,     28,2,20080617,0620, 42.5800, -15.4600, 4993,    100.2,  13.8260,  35.9010,2,  35.8980,2,    244.5,2,    243.4,2,     1.94,2,     4.30,2,     0.26,2,   -999.0,9,   7.9100,2,    25.00
  35TH20080610, OVIDE,    23,  1,     29,2,20080617,0620, 42.5800, -15.4600, 4993,     58.5,  14.4790,  35.8490,2,  35.8660,3,    257.3,2,    261.6,2,     1.34,2,     0.91,2,     0.13,2,   -999.0,9,   7.9490,2,    25.00
  35TH20080610, OVIDE,    23,  1,     30,2,20080617,0620, 42.5800, -15.4600, 4993,      3.3,  17.2070,  35.8740,2,  35.8750,2,    247.8,2,    248.0,2,     0.90,2,     0.00,2,     0.06,2,   -999.0,9,   7.9900,2,    25.00
  35TH20080610, OVIDE,    24,  1,      3,2,20080617,1249, 42.8840, -15.8520, 4172,   4244.3,   2.4900,  34.9040,2,  34.9010,2,    244.6,2,    244.1,2,    48.35,2,    23.02,2,     1.26,2,   2360.4,2,   7.7340,2,    25.00
  35TH20080610, OVIDE,    24,  1,      4,2,20080617,1249, 42.8840, -15.8520, 4172,   3998.7,   2.5090,  34.9090,2,  34.9070,2,    244.4,2,    244.2,2,    47.16,2,    22.65,2,     1.25,2,   2352.2,2,   7.7350,2,    25.00
  35TH20080610, OVIDE,    24,  1,      5,2,20080617,1249, 42.8840, -15.8520, 4172,   3749.0,   2.5400,  34.9150,2,  34.9210,2,    244.5,2,    244.3,2,    45.46,2,    22.50,2,     1.24,2,   2355.6,2,   7.7350,2,    25.00
  35TH20080610, OVIDE,    24,  1,      6,2,20080617,1249, 42.8840, -15.8520, 4172,   3501.5,   2.6270,  34.9260,2,  34.9240,2,    245.7,2,    246.3,2,    43.56,2,    22.25,2,     1.20,2,   2351.8,2,   7.7370,2,    25.00
  35TH20080610, OVIDE,    24,  1,      7,2,20080617,1249, 42.8840, -15.8520, 4172,   3248.5,   2.7250,  34.9360,2,  34.9370,2,    247.6,2,    248.0,2,    40.20,2,    21.54,2,     1.20,2,   2345.6,2,   7.7320,2,    25.00
  35TH20080610, OVIDE,    24,  1,      8,2,20080617,1249, 42.8840, -15.8520, 4172,   2996.9,   2.8580,  34.9480,2,  34.9480,2,    250.3,2,    250.3,2,    36.41,2,    21.07,2,     1.19,2,   2335.1,2,   7.7350,2,    25.00
  35TH20080610, OVIDE,    24,  1,      9,2,20080617,1249, 42.8840, -15.8520, 4172,   2750.8,   3.0550,  34.9610,2,  34.9590,2,    253.5,2,    253.3,2,    32.18,2,    20.27,2,     1.12,2,   2329.3,2,   7.7370,2,    25.00
  35TH20080610, OVIDE,    24,  1,     10,2,20080617,1249, 42.8840, -15.8520, 4172,   2492.2,   3.2220,  34.9610,2,  34.9600,2,    261.6,2,    261.2,2,    20.11,2,    19.21,2,     1.05,2,   2319.7,2,   7.7370,2,    25.00
  35TH20080610, OVIDE,    24,  1,     11,2,20080617,1249, 42.8840, -15.8520, 4172,   2250.0,   3.4320,  34.9560,2,  34.9570,2,    266.5,2,    266.1,2,    16.36,2,    18.25,2,     0.98,2,   2314.1,2,   7.7330,2,    25.00
  35TH20080610, OVIDE,    24,  1,     12,2,20080617,1249, 42.8840, -15.8520, 4172,   2000.4,   3.7100,  34.9640,2,  34.9660,2,    268.7,2,    267.8,2,    13.69,2,    18.59,2,     0.98,2,   2310.4,2,   7.7290,2,    25.00
  35TH20080610, OVIDE,    24,  1,     13,2,20080617,1249, 42.8840, -15.8520, 4172,   2001.2,   3.7070,  34.9640,2,  34.9680,2,    268.7,2,    267.7,2,    13.67,2,    18.09,2,     0.97,2,   2309.2,2,   7.7280,2,    25.00
  35TH20080610, OVIDE,    24,  1,     14,2,20080617,1249, 42.8840, -15.8520, 4172,   1800.8,   4.2700,  35.0330,2,  35.0350,2,    262.4,2,    260.1,2,    12.51,2,    17.87,2,     0.98,2,   2313.6,2,   7.7300,2,    25.00
  35TH20080610, OVIDE,    24,  1,     15,2,20080617,1249, 42.8840, -15.8520, 4172,   1599.3,   5.4210,  35.2150,2,  35.2190,2,    241.2,2,    241.4,2,    12.23,2,    18.32,2,     0.94,2,   2325.4,2,   7.7390,2,    25.00
  35TH20080610, OVIDE,    24,  1,     16,2,20080617,1249, 42.8840, -15.8520, 4172,   1399.7,   7.2310,  35.5150,2,  35.5130,2,    216.1,2,    218.3,2,    11.44,2,    18.28,2,     0.89,2,   2346.7,2,   7.7630,2,    25.00
  35TH20080610, OVIDE,    24,  1,     17,2,20080617,1249, 42.8840, -15.8520, 4172,   1200.4,   9.0700,  35.7950,2,  35.7910,2,    192.1,2,    197.7,3,    10.46,2,    17.52,2,     0.86,2,   2365.5,2,   7.7690,2,    25.00
  35TH20080610, OVIDE,    24,  1,     18,2,20080617,1249, 42.8840, -15.8520, 4172,   1093.2,  10.2040,  36.0040,2,  36.0060,2,    186.6,2,    186.8,2,     9.76,2,    17.02,2,     0.81,2,   2379.1,2,   7.7840,2,    25.00
  35TH20080610, OVIDE,    24,  1,     19,2,20080617,1249, 42.8840, -15.8520, 4172,    900.3,  10.6890,  35.8610,2,  35.8630,2,    181.8,2,    183.6,2,     8.82,2,    16.80,2,     0.80,2,   2364.8,2,   7.7790,2,    25.00
  35TH20080610, OVIDE,    24,  1,     20,2,20080617,1249, 42.8840, -15.8520, 4172,    800.5,  10.9130,  35.7680,2,  35.7790,3,    183.3,2,    183.8,2,     8.14,2,    16.73,2,     0.77,2,   2356.5,2,   7.7770,2,    25.00
  35TH20080610, OVIDE,    24,  1,     21,2,20080617,1249, 42.8840, -15.8520, 4172,    701.2,  10.7390,  35.5890,2,  35.5920,2,    189.5,2,    189.8,2,     7.66,2,    16.53,2,     0.77,2,   2340.6,2,   7.7700,2,    25.00
  35TH20080610, OVIDE,    24,  1,     22,2,20080617,1249, 42.8840, -15.8520, 4172,    601.5,  11.0490,  35.5590,2,  35.5600,2,    204.3,2,    204.5,2,     6.20,2,    14.75,2,     0.72,2,   -999.0,9,   7.7860,2,    25.00
  35TH20080610, OVIDE,    24,  1,     23,2,20080617,1249, 42.8840, -15.8520, 4172,    500.1,  11.4510,  35.5900,2,  35.5880,2,    221.4,2,    218.1,2,     4.84,2,    12.20,2,     0.60,2,   2337.0,2,   7.8100,2,    25.00
  35TH20080610, OVIDE,    24,  1,     24,2,20080617,1249, 42.8840, -15.8520, 4172,    400.2,  11.8190,  35.6250,2,  35.6240,2,    228.8,2,    227.9,2,     4.07,2,    11.11,2,     0.52,2,   2337.7,2,   7.8220,2,    25.00
  35TH20080610, OVIDE,    24,  1,     25,2,20080617,1249, 42.8840, -15.8520, 4172,    299.8,  12.3780,  35.6910,2,  35.6860,2,    229.6,2,    228.3,2,     3.62,2,    10.02,2,     0.52,2,   -999.0,9,   7.8470,2,    25.00
  35TH20080610, OVIDE,    24,  1,     26,2,20080617,1249, 42.8840, -15.8520, 4172,    200.4,  13.3480,  35.8310,2,  35.8270,2,    245.7,2,    244.1,2,     2.32,2,     5.45,2,     0.26,2,   2351.5,2,   7.8950,2,    25.00
  35TH20080610, OVIDE,    24,  1,     27,2,20080617,1249, 42.8840, -15.8520, 4172,    149.2,  13.7210,  35.9010,2,  35.8970,2,    245.5,2,    245.4,2,     2.10,2,     4.37,2,     0.24,2,   -999.0,9,   7.9070,2,    25.00
  35TH20080610, OVIDE,    24,  1,     28,2,20080617,1249, 42.8840, -15.8520, 4172,    100.4,  13.8290,  35.9170,2,  35.9180,2,    244.8,2,    243.9,2,     2.11,2,     3.93,2,     0.22,2,   2355.4,2,   7.9110,2,    25.00
  35TH20080610, OVIDE,    24,  1,     29,2,20080617,1249, 42.8840, -15.8520, 4172,     56.3,  14.0120,  35.9270,2,  35.9250,2,    255.9,2,    244.4,3,     2.15,2,     3.45,2,     0.22,2,   -999.0,9,   7.9140,2,    25.00
  35TH20080610, OVIDE,    24,  1,     30,2,20080617,1249, 42.8840, -15.8520, 4172,      3.6,  17.6250,  35.9100,2,  35.9110,2,    247.8,2,    247.6,2,     2.01,2,     0.02,2,     0.06,2,   2359.2,2,   7.9880,2,    25.00
  35TH20080610, OVIDE,    25,  1,      3,2,20080617,1825, 43.1830, -16.2460, 5118,   5218.6,   2.5540,  34.8980,2,  34.9020,2,    245.3,2,    245.2,2,    48.11,2,    23.08,2,     1.28,2,   -999.0,9,   7.7360,2,    25.00
  35TH20080610, OVIDE,    25,  1,      4,2,20080617,1825, 43.1830, -16.2460, 5118,   4650.4,   2.5000,  34.9010,2,  34.8990,2,    245.7,2,    245.4,2,    47.32,2,    23.03,2,     1.28,2,   -999.0,9,   7.7360,2,    25.00
  35TH20080610, OVIDE,    25,  1,      5,2,20080617,1825, 43.1830, -16.2460, 5118,   3999.9,   2.5160,  34.9110,2,  34.9140,2,    244.2,2,    245.5,2,    44.71,2,    22.67,2,     1.24,2,   -999.0,9,   7.7350,2,    25.00
  35TH20080610, OVIDE,    25,  1,      6,2,20080617,1825, 43.1830, -16.2460, 5118,   3749.6,   2.5530,  34.9160,2,  34.9150,2,    244.0,2,    246.0,2,    43.83,2,    22.26,2,     1.22,2,   -999.0,9,   7.7350,2,    25.00
  35TH20080610, OVIDE,    25,  1,      7,2,20080617,1825, 43.1830, -16.2460, 5118,   3498.9,   2.6020,  34.9230,2,  34.9250,2,    245.4,2,    245.9,2,    41.54,2,    22.13,2,     1.22,2,   -999.0,9,   7.7360,2,    25.00
  35TH20080610, OVIDE,    25,  1,      8,2,20080617,1825, 43.1830, -16.2460, 5118,   3250.2,   2.6790,  34.9310,2,  34.9320,2,    247.3,2,    250.9,2,    38.74,2,    21.44,2,     1.14,2,   -999.0,9,   7.7340,2,    25.00
  35TH20080610, OVIDE,    25,  1,      9,2,20080617,1825, 43.1830, -16.2460, 5118,   3000.6,   2.8080,  34.9430,2,  34.9440,2,    250.2,2,    250.2,2,    35.08,2,    20.82,2,     1.16,2,   -999.0,9,   7.7390,2,    25.00
  35TH20080610, OVIDE,    25,  1,     10,2,20080617,1825, 43.1830, -16.2460, 5118,   2749.3,   2.9870,  34.9560,2,  34.9560,2,    254.5,2,    254.2,2,    30.18,2,    20.25,2,     1.11,2,   -999.0,9,   7.7380,2,    25.00
  35TH20080610, OVIDE,    25,  1,     11,2,20080617,1825, 43.1830, -16.2460, 5118,   2499.0,   3.1890,  34.9590,2,  34.9580,2,    261.5,2,    261.5,2,    20.76,2,    19.28,2,     1.04,2,   -999.0,9,   7.7360,2,    25.00
  35TH20080610, OVIDE,    25,  1,     12,2,20080617,1825, 43.1830, -16.2460, 5118,   2250.3,   3.4320,  34.9610,2,  34.9630,2,    266.2,2,    266.4,2,    16.67,2,    18.31,2,     1.00,2,   -999.0,9,   7.7360,2,    25.00
  35TH20080610, OVIDE,    25,  1,     13,2,20080617,1825, 43.1830, -16.2460, 5118,   1999.5,   3.6170,  34.9490,2,  34.9540,2,    271.5,2,    270.9,2,    13.65,2,    18.29,2,     0.99,2,   -999.0,9,   7.7310,2,    25.00
  35TH20080610, OVIDE,    25,  1,     14,2,20080617,1825, 43.1830, -16.2460, 5118,   1799.3,   3.9700,  34.9820,2,  34.9830,2,    265.4,2,    264.7,2,    12.82,2,    18.35,2,     1.00,2,   -999.0,9,   7.7290,2,    25.00
  35TH20080610, OVIDE,    25,  1,     15,2,20080617,1825, 43.1830, -16.2460, 5118,   1599.8,   4.8290,  35.1030,2,  35.1040,2,    251.1,2,    251.2,2,    12.16,2,    18.58,2,     1.00,2,   -999.0,9,   7.7310,2,    25.00
  35TH20080610, OVIDE,    25,  1,     16,2,20080617,1825, 43.1830, -16.2460, 5118,   1399.5,   6.1480,  35.2970,2,  35.2990,2,    231.0,2,    241.8,3,    11.57,2,    18.66,2,     0.99,2,   -999.0,9,   7.7390,2,    25.00
  35TH20080610, OVIDE,    25,  1,     17,2,20080617,1825, 43.1830, -16.2460, 5118,   1200.4,   8.0460,  35.5810,2,  35.5820,2,    205.1,2,    216.3,3,    10.95,2,    17.75,2,     0.96,2,   -999.0,9,   7.7520,2,    25.00
  35TH20080610, OVIDE,    25,  1,     18,2,20080617,1825, 43.1830, -16.2460, 5118,    999.8,   9.7440,  35.7970,2,  35.8010,2,    186.7,2,    217.6,3,    10.14,2,    17.87,2,     0.94,2,   -999.0,9,   7.7690,2,    25.00
  35TH20080610, OVIDE,    25,  1,     19,2,20080617,1825, 43.1830, -16.2460, 5118,    900.8,   9.5720,  35.6440,2,  35.6500,2,    183.6,2,    195.4,3,    10.00,2,    18.30,2,     0.96,2,   -999.0,9,   7.7560,2,    25.00
  35TH20080610, OVIDE,    25,  1,     20,2,20080617,1825, 43.1830, -16.2460, 5118,    799.5,  10.6230,  35.7330,2,  35.7330,2,    183.4,2,    189.2,3,     8.79,2,    17.22,2,     0.88,2,   -999.0,9,   7.7720,2,    25.00
  35TH20080610, OVIDE,    25,  1,     21,2,20080617,1825, 43.1830, -16.2460, 5118,    700.3,  10.9190,  35.6650,2,  35.6630,2,    188.3,2,    189.1,2,     7.88,2,    16.51,2,     0.86,2,   -999.0,9,   7.7760,2,    25.00
  35TH20080610, OVIDE,    25,  1,     22,2,20080617,1825, 43.1830, -16.2460, 5118,    600.5,  11.2470,  35.6060,2,  35.6100,2,    204.6,2,    218.2,3,     5.99,2,    14.36,2,     0.71,2,   -999.0,9,   7.7950,2,    25.00
  35TH20080610, OVIDE,    25,  1,     23,2,20080617,1825, 43.1830, -16.2460, 5118,    499.8,  11.5650,  35.6140,2,  35.6140,2,    220.4,2,    233.3,3,     4.61,2,    12.02,2,     0.60,2,   -999.0,9,   7.8160,2,    25.00
  35TH20080610, OVIDE,    25,  1,     24,2,20080617,1825, 43.1830, -16.2460, 5118,    400.2,  11.7960,  35.6230,2,  35.6260,2,    230.7,2,    231.2,2,     4.00,2,    11.17,2,     0.54,2,   -999.0,9,   7.8290,2,    25.00
  35TH20080610, OVIDE,    25,  1,     25,2,20080617,1825, 43.1830, -16.2460, 5118,    299.8,  12.2000,  35.6670,2,  35.6620,2,    228.2,2,    229.4,2,     4.05,2,    10.28,2,     0.52,2,   -999.0,9,   7.8410,2,    25.00
  35TH20080610, OVIDE,    25,  1,     26,2,20080617,1825, 43.1830, -16.2460, 5118,    200.3,  12.9600,  35.7740,2,  35.7710,2,    246.1,2,    241.4,2,     3.18,2,     6.72,2,     0.33,2,   -999.0,9,   7.8780,2,    25.00
  35TH20080610, OVIDE,    25,  1,     27,2,20080617,1825, 43.1830, -16.2460, 5118,    150.2,  13.5090,  35.8550,2,  35.8490,2,    244.0,2,    241.3,2,     2.29,2,     5.47,2,     0.27,2,   -999.0,9,   7.8930,2,    25.00
  35TH20080610, OVIDE,    25,  1,     28,2,20080617,1825, 43.1830, -16.2460, 5118,    100.4,  14.0710,  35.9560,2,  35.9550,2,    243.0,2,    243.0,2,     1.99,2,     3.58,2,     0.19,2,   -999.0,9,   7.9140,2,    25.00
  35TH20080610, OVIDE,    25,  1,     29,2,20080617,1825, 43.1830, -16.2460, 5118,     57.6,  14.3940,  35.9670,2,  35.9670,2,    243.2,2,    247.0,2,     1.57,2,     2.53,2,     0.16,2,   -999.0,9,   7.9190,2,    25.00
  35TH20080610, OVIDE,    25,  1,     30,2,20080617,1825, 43.1830, -16.2460, 5118,      3.0,  17.7570,  35.8860,2,  35.8890,2,    246.7,2,    246.6,2,     1.02,2,     0.00,2,     0.02,2,   -999.0,9,   7.9860,2,    25.00