BOTTLE,20140930PRINUNIVRMK
EXPOCODE,SECT_ID,STNNBR,CASTNO,BTLNBR,BTLNBR_FLAG_W,DATE,TIME,LATITUDE,LONGITUDE,DEPTH,CTDPRS,CTDTMP,CTDSAL,CTDSAL_FLAG_W,SALNTY,SALNTY_FLAG_W,CTDOXY,CTDOXY_FLAG_W,OXYGEN,OXYGEN_FLAG_W,SILCAT,SILCAT_FLAG_W,NITRAT,NITRAT_FLAG_W,PHSPHT,PHSPHT_FLAG_W,ALKALI,ALKALI_FLAG_W,PH_SWS,PH_SWS_FLAG_W,PH_TMP
,,,,,,,,,,METERS,DBAR,ITS-90,PSS-78,,PSS-78,,UMOL/KG,,UMOL/KG,,UMOL/KG,,UMOL/KG,,UMOL/KG,,UMOL/KG,,,,DEG C
  35TH20080610, OVIDE,    56,  1,      3,2,20080625,1219, 54.3870, -25.8300, 3038,   3083.8,   2.8410,  34.9490,2,  34.9470,2,    266.2,2,    265.8,2,    21.75,2,    17.49,2,     1.01,2,   2323.3,2,   7.7230,2,    25.00
  35TH20080610, OVIDE,    56,  1,      4,2,20080625,1219, 54.3870, -25.8300, 3038,   2956.6,   2.8920,  34.9520,2,  34.9500,2,    269.9,2,    270.4,2,    18.93,2,    17.39,2,     1.00,2,   2318.7,2,   7.7250,2,    25.00
  35TH20080610, OVIDE,    56,  1,      5,2,20080625,1219, 54.3870, -25.8300, 3038,   2748.3,   3.0120,  34.9480,2,  34.9460,2,    276.4,2,    276.4,2,    14.76,2,    16.61,2,     0.96,2,   2311.9,2,   7.7280,2,    25.00
  35TH20080610, OVIDE,    56,  1,      6,2,20080625,1219, 54.3870, -25.8300, 3038,   2498.8,   3.0870,  34.9320,2,  34.9310,2,    278.2,2,    278.4,2,    13.59,2,    16.44,2,     0.96,2,   2309.9,2,   7.7270,2,    25.00
  35TH20080610, OVIDE,    56,  1,      7,2,20080625,1219, 54.3870, -25.8300, 3038,   2238.3,   3.1970,  34.9150,2,  34.9130,2,    281.5,2,    281.4,2,    12.42,2,    16.71,2,     0.96,2,   2306.7,2,   7.7310,2,    25.00
  35TH20080610, OVIDE,    56,  1,      8,2,20080625,1219, 54.3870, -25.8300, 3038,   2001.0,   3.3040,  34.9050,2,  34.9040,2,    281.4,2,    281.1,2,    11.90,2,    16.97,2,     0.96,2,   2305.5,2,   7.7260,2,    25.00
  35TH20080610, OVIDE,    56,  1,      9,2,20080625,1219, 54.3870, -25.8300, 3038,   1799.5,   3.4310,  34.9040,2,  34.9040,2,    279.2,2,    278.9,2,    11.55,2,    17.05,2,     0.97,2,   2304.1,2,   7.7260,2,    25.00
  35TH20080610, OVIDE,    56,  1,     10,2,20080625,1219, 54.3870, -25.8300, 3038,   1595.0,   3.5440,  34.9060,2,  34.9060,2,    277.4,2,    277.4,2,    11.22,2,    16.84,2,     0.96,2,   2304.7,2,   7.7190,2,    25.00
  35TH20080610, OVIDE,    56,  1,     11,2,20080625,1219, 54.3870, -25.8300, 3038,   1400.6,   3.6500,  34.9030,2,  34.9020,2,    277.9,2,    278.7,2,    10.77,2,    17.02,2,     0.98,2,   2304.6,2,   7.7190,2,    25.00
  35TH20080610, OVIDE,    56,  1,     12,2,20080625,1219, 54.3870, -25.8300, 3038,   1199.5,   3.7720,  34.9000,2,  34.9000,2,    279.9,2,    279.2,2,    10.30,2,    16.87,2,     0.96,2,   2304.5,2,   7.7160,2,    25.00
  35TH20080610, OVIDE,    56,  1,     13,2,20080625,1219, 54.3870, -25.8300, 3038,   1000.4,   3.9300,  34.9050,2,  34.9050,2,    276.4,2,    277.1,2,    10.19,2,    17.17,2,     0.96,2,   2304.4,2,   7.7120,2,    25.00
  35TH20080610, OVIDE,    56,  1,     14,2,20080625,1219, 54.3870, -25.8300, 3038,    898.7,   4.0600,  34.9110,2,  34.9120,2,    273.3,2,    273.7,2,    10.04,2,    17.00,2,     0.96,2,   2304.9,2,   7.7140,2,    25.00
  35TH20080610, OVIDE,    56,  1,     15,2,20080625,1219, 54.3870, -25.8300, 3038,    797.6,   4.1830,  34.9130,2,  34.9140,2,    271.3,2,    270.9,2,    10.01,2,    17.25,2,     0.97,2,   2306.3,2,   7.7140,2,    25.00
  35TH20080610, OVIDE,    56,  1,     16,2,20080625,1219, 54.3870, -25.8300, 3038,    699.8,   4.3580,  34.9170,2,  34.9180,2,    265.7,2,    266.6,2,    10.10,2,    17.23,2,     0.97,2,   2309.0,2,   7.7070,2,    25.00
  35TH20080610, OVIDE,    56,  1,     17,2,20080625,1219, 54.3870, -25.8300, 3038,    499.6,   5.1290,  34.9300,2,  34.9320,2,    242.4,2,    243.2,2,    10.68,2,    18.46,2,     1.02,2,   2308.9,2,   7.6970,2,    25.00
  35TH20080610, OVIDE,    56,  1,     18,2,20080625,1219, 54.3870, -25.8300, 3038,    398.7,   5.9230,  34.9230,2,  34.9240,2,    243.8,2,    238.9,2,    10.14,2,    18.43,2,     1.01,2,   2307.7,2,   7.7050,2,    25.00
  35TH20080610, OVIDE,    56,  1,     19,2,20080625,1219, 54.3870, -25.8300, 3038,    298.5,   7.1290,  34.9780,2,  34.9820,2,    237.1,2,    235.0,2,     9.46,2,    17.57,2,     0.97,2,   2310.9,2,   7.7240,2,    25.00
  35TH20080610, OVIDE,    56,  1,     20,2,20080625,1219, 54.3870, -25.8300, 3038,    199.7,   8.1900,  35.0720,2,  35.0730,2,    238.9,2,    242.2,2,     8.15,2,    16.21,2,     0.87,2,   2315.2,2,   7.7540,2,    25.00
  35TH20080610, OVIDE,    56,  1,     21,2,20080625,1219, 54.3870, -25.8300, 3038,    151.4,   8.8910,  35.1550,2,  35.1500,3,    254.1,2,    255.3,2,     6.06,2,    14.13,2,     0.75,2,   2320.1,2,   7.7820,2,    25.00
  35TH20080610, OVIDE,    56,  1,     22,2,20080625,1219, 54.3870, -25.8300, 3038,    100.8,   9.5330,  35.2400,2,  35.2390,2,    254.0,2,    258.5,2,     4.23,2,    12.90,2,     0.68,2,   2324.6,2,   7.8050,2,    25.00
  35TH20080610, OVIDE,    56,  1,     23,2,20080625,1219, 54.3870, -25.8300, 3038,     56.4,  11.1070,  35.3410,2,  35.3470,3,    282.8,2,    262.3,3,     1.37,2,     7.89,2,     0.47,2,   2333.9,2,   7.8660,2,    25.00
  35TH20080610, OVIDE,    56,  1,     24,2,20080625,1219, 54.3870, -25.8300, 3038,      6.7,  13.2120,  35.3780,2,  35.3780,2,    275.6,2,    271.8,2,     0.43,2,     3.47,2,     0.21,2,   2334.2,2,   7.9370,2,    25.00
  35TH20080610, OVIDE,    57,  1,      3,2,20080625,1751, 54.7620, -26.1210, 3596,   3658.0,   2.8420,  34.9680,2,  34.9670,2,    269.9,2,    269.8,2,    19.67,2,    16.84,2,     0.97,2,   -999.0,9,   7.7180,2,    25.00
  35TH20080610, OVIDE,    57,  1,      4,2,20080625,1751, 54.7620, -26.1210, 3596,   3600.2,   2.8300,  34.9680,2,  34.9650,2,    268.6,2,    267.6,2,    20.15,2,    17.26,2,     0.99,2,   -999.0,9,   7.7170,2,    25.00
  35TH20080610, OVIDE,    57,  1,      5,2,20080625,1751, 54.7620, -26.1210, 3596,   3499.2,   2.8100,  34.9600,2,  34.9570,2,    265.5,2,    265.5,2,    21.68,2,    17.63,2,     1.02,2,   -999.0,9,   7.7200,2,    25.00
  35TH20080610, OVIDE,    57,  1,      6,2,20080625,1751, 54.7620, -26.1210, 3596,   3250.8,   2.8270,  34.9550,2,  34.9530,2,    267.1,2,    266.8,2,    20.91,2,    16.99,2,     1.00,2,   -999.0,9,   7.7240,2,    25.00
  35TH20080610, OVIDE,    57,  1,      7,2,20080625,1751, 54.7620, -26.1210, 3596,   3000.0,   2.9010,  34.9550,2,  34.9540,2,    271.6,2,    270.9,2,    17.94,2,    17.02,2,     0.98,2,   -999.0,9,   7.7270,2,    25.00
  35TH20080610, OVIDE,    57,  1,      8,2,20080625,1751, 54.7620, -26.1210, 3596,   2749.4,   3.0110,  34.9500,2,  34.9480,2,    276.1,2,    277.2,2,    14.91,2,    16.70,2,     0.95,2,   -999.0,9,   7.7300,2,    25.00
  35TH20080610, OVIDE,    57,  1,      9,2,20080625,1751, 54.7620, -26.1210, 3596,   2499.9,   3.1010,  34.9360,2,  34.9330,2,    279.7,2,    285.0,2,    13.09,2,    16.67,2,     0.95,2,   -999.0,9,   7.7290,2,    25.00
  35TH20080610, OVIDE,    57,  1,     10,2,20080625,1751, 54.7620, -26.1210, 3596,   2248.8,   3.1660,  34.9210,2,  34.9210,2,    281.0,2,    279.6,2,    12.41,2,    16.87,2,     0.95,2,   -999.0,9,   7.7220,2,    25.00
  35TH20080610, OVIDE,    57,  1,     11,2,20080625,1751, 54.7620, -26.1210, 3596,   1998.5,   3.2630,  34.9090,2,  34.9070,2,    281.5,2,    280.4,2,    11.77,2,    17.07,2,     0.96,2,   -999.0,9,   7.7240,2,    25.00
  35TH20080610, OVIDE,    57,  1,     12,2,20080625,1751, 54.7620, -26.1210, 3596,   1798.4,   3.3770,  34.9060,2,  34.9040,2,    280.0,2,    280.7,2,    11.42,2,    17.25,2,     0.96,2,   -999.0,9,   7.7170,2,    25.00
  35TH20080610, OVIDE,    57,  1,     13,2,20080625,1751, 54.7620, -26.1210, 3596,   1600.0,   3.5040,  34.9050,2,  34.9040,2,    278.6,2,    278.4,2,    11.12,2,    17.25,2,     0.97,2,   -999.0,9,   7.7180,2,    25.00
  35TH20080610, OVIDE,    57,  1,     14,2,20080625,1751, 54.7620, -26.1210, 3596,   1398.4,   3.6300,  34.9050,2,  34.9040,2,    278.6,2,    279.2,2,    10.68,2,    17.09,2,     0.97,2,   -999.0,9,   7.7150,2,    25.00
  35TH20080610, OVIDE,    57,  1,     15,2,20080625,1751, 54.7620, -26.1210, 3596,   1198.9,   3.7130,  34.8990,2,  34.8980,2,    280.3,2,    279.4,2,    10.24,2,    17.24,2,     0.96,2,   -999.0,9,   7.7160,2,    25.00
  35TH20080610, OVIDE,    57,  1,     16,2,20080625,1751, 54.7620, -26.1210, 3596,    998.7,   3.8860,  34.9050,2,  34.9060,2,    277.6,2,    276.1,2,    10.12,2,    17.20,2,     0.96,2,   -999.0,9,   7.7130,2,    25.00
  35TH20080610, OVIDE,    57,  1,     17,2,20080625,1751, 54.7620, -26.1210, 3596,    898.6,   3.9820,  34.9100,2,  34.9080,2,    276.2,2,   -999.0,3,    10.02,2,    17.37,2,     0.96,2,   -999.0,9,   7.7120,2,    25.00
  35TH20080610, OVIDE,    57,  1,     18,2,20080625,1751, 54.7620, -26.1210, 3596,    899.1,   3.9850,  34.9090,2,  34.9090,2,    276.2,2,   -999.0,3,    10.02,2,    17.18,2,     0.96,2,   -999.0,9,-999.0000,9,  -999.00
  35TH20080610, OVIDE,    57,  1,     19,2,20080625,1751, 54.7620, -26.1210, 3596,    799.7,   4.1420,  34.9190,2,  34.9210,2,    270.0,2,    271.3,2,    10.12,2,    17.52,2,     0.98,2,   -999.0,9,   7.7090,2,    25.00
  35TH20080610, OVIDE,    57,  1,     20,2,20080625,1751, 54.7620, -26.1210, 3596,    699.0,   4.2400,  34.9110,2,  34.9140,2,    271.8,2,    269.7,2,     9.87,2,    17.57,2,     0.97,2,   -999.0,9,   7.7060,2,    25.00
  35TH20080610, OVIDE,    57,  1,     21,2,20080625,1751, 54.7620, -26.1210, 3596,    599.0,   4.5580,  34.9270,2,  34.9240,2,    261.8,2,    260.1,2,    10.15,2,    18.03,2,     1.01,2,   -999.0,9,   7.7010,2,    25.00
  35TH20080610, OVIDE,    57,  1,     22,2,20080625,1751, 54.7620, -26.1210, 3596,    498.9,   5.0740,  34.9560,2,  34.9540,2,    243.5,2,    245.1,2,    10.65,2,    18.64,2,     1.04,2,   -999.0,9,   7.6980,2,    25.00
  35TH20080610, OVIDE,    57,  1,     23,2,20080625,1751, 54.7620, -26.1210, 3596,    400.8,   5.2600,  34.9170,2,  34.9170,2,    239.7,2,    243.8,2,    10.36,2,    18.64,2,     1.03,2,   -999.0,9,   7.6940,2,    25.00
  35TH20080610, OVIDE,    57,  1,     24,2,20080625,1751, 54.7620, -26.1210, 3596,    300.9,   5.9660,  34.9120,2,  34.9150,2,    258.3,2,    247.2,3,     9.66,2,    17.97,2,     1.00,2,   -999.0,9,   7.7120,2,    25.00
  35TH20080610, OVIDE,    57,  1,     25,2,20080625,1751, 54.7620, -26.1210, 3596,    200.7,   6.7040,  34.9200,2,  34.9210,2,    249.5,2,    259.1,3,     8.39,2,    16.28,2,     0.91,2,   -999.0,9,   7.7350,2,    25.00
  35TH20080610, OVIDE,    57,  1,     26,2,20080625,1751, 54.7620, -26.1210, 3596,    150.4,   7.6940,  35.0250,2,  35.0220,2,    251.1,2,    251.0,2,     8.06,2,    16.15,2,     0.89,2,   -999.0,9,   7.7480,2,    25.00
  35TH20080610, OVIDE,    57,  1,     27,2,20080625,1751, 54.7620, -26.1210, 3596,    100.4,   8.5780,  35.1050,2,  35.0950,3,    257.5,2,    259.0,2,     5.68,2,    14.17,2,     0.76,2,   -999.0,9,   7.7830,2,    25.00
  35TH20080610, OVIDE,    57,  1,     28,2,20080625,1751, 54.7620, -26.1210, 3596,     56.9,   9.9140,  35.1250,2,  35.1350,3,    269.8,2,    273.8,2,     2.43,2,     9.33,2,     0.56,2,   -999.0,9,   7.8380,2,    25.00
  35TH20080610, OVIDE,    57,  1,     29,2,20080625,1751, 54.7620, -26.1210, 3596,      3.4,  12.2270,  35.0920,2,  35.0970,3,    294.3,2,    294.3,2,     0.56,2,     3.34,2,     0.22,2,   -999.0,9,   7.9400,2,    25.00
  35TH20080610, OVIDE,    58,  1,      3,2,20080625,2345, 55.1490, -26.4110, 3364,   3420.2,   2.8150,  34.9680,2,  34.9660,2,    267.2,2,    268.1,2,    20.88,2,    17.19,2,     0.94,2,   2321.4,2,   7.7140,2,    25.00
  35TH20080610, OVIDE,    58,  1,      4,2,20080625,2345, 55.1490, -26.4110, 3364,   3345.1,   2.8000,  34.9630,2,  34.9610,2,    264.4,2,    266.1,2,    22.52,2,    17.77,2,     0.98,2,   2320.6,2,   7.7170,2,    25.00
  35TH20080610, OVIDE,    58,  1,      5,2,20080625,2345, 55.1490, -26.4110, 3364,   3295.5,   2.7890,  34.9570,2,  34.9570,2,    263.8,2,    264.5,2,    25.80,2,    18.26,2,     1.00,2,   2324.8,2,   7.7190,2,    25.00
  35TH20080610, OVIDE,    58,  1,      6,2,20080625,2345, 55.1490, -26.4110, 3364,   2999.5,   2.8720,  34.9580,2,  34.9570,2,    269.7,2,    269.3,2,    19.66,2,    17.32,2,     0.95,2,   2319.0,2,   7.7220,2,    25.00
  35TH20080610, OVIDE,    58,  1,      7,2,20080625,2345, 55.1490, -26.4110, 3364,   2750.5,   2.9660,  34.9500,2,  34.9490,2,    273.4,2,    273.8,2,    17.36,2,    17.36,2,     0.94,2,   2315.7,2,   7.7250,2,    25.00
  35TH20080610, OVIDE,    58,  1,      8,2,20080625,2345, 55.1490, -26.4110, 3364,   2499.8,   3.0790,  34.9450,2,  34.9450,2,    276.8,2,    277.1,2,    14.10,2,    16.80,2,     0.90,2,   2309.5,2,   7.7270,2,    25.00
  35TH20080610, OVIDE,    58,  1,      9,2,20080625,2345, 55.1490, -26.4110, 3364,   2250.3,   3.1600,  34.9230,2,  34.9240,2,    279.2,2,    279.2,2,    13.18,2,    17.09,2,     0.91,2,   2306.4,2,   7.7270,2,    25.00
  35TH20080610, OVIDE,    58,  1,     10,2,20080625,2345, 55.1490, -26.4110, 3364,   1998.8,   3.2620,  34.9100,2,  34.9110,2,    279.8,2,    279.9,2,    12.40,2,    17.20,2,     0.93,2,   2311.2,2,   7.7230,2,    25.00
  35TH20080610, OVIDE,    58,  1,     11,2,20080625,2345, 55.1490, -26.4110, 3364,   1799.5,   3.3740,  34.9080,2,  34.9080,2,    278.6,2,    279.2,2,    12.09,2,    17.40,2,     0.95,2,   2305.7,2,   7.7210,2,    25.00
  35TH20080610, OVIDE,    58,  1,     12,2,20080625,2345, 55.1490, -26.4110, 3364,   1599.1,   3.5050,  34.9080,2,  34.9080,2,    276.7,2,    277.6,2,    11.79,2,    17.43,2,     0.94,2,   2306.5,2,   7.7210,2,    25.00
  35TH20080610, OVIDE,    58,  1,     13,2,20080625,2345, 55.1490, -26.4110, 3364,   1401.2,   3.6200,  34.9040,2,  34.9060,2,    276.7,2,    278.0,2,    11.34,2,    17.58,2,     0.94,2,   2307.4,2,   7.7160,2,    25.00
  35TH20080610, OVIDE,    58,  1,     14,2,20080625,2345, 55.1490, -26.4110, 3364,   1200.3,   3.7530,  34.9010,2,  34.9020,2,    277.4,2,    278.1,2,    10.91,2,    17.46,2,     0.93,2,   2304.6,2,   7.7120,2,    25.00
  35TH20080610, OVIDE,    58,  1,     15,2,20080625,2345, 55.1490, -26.4110, 3364,   1000.3,   3.9000,  34.9000,2,  34.9010,2,    276.5,2,    277.8,2,    10.48,2,    17.36,2,     0.92,2,   2305.2,2,   7.7100,2,    25.00
  35TH20080610, OVIDE,    58,  1,     16,2,20080625,2345, 55.1490, -26.4110, 3364,    901.4,   4.0790,  34.9130,2,  34.9450,3,    271.8,2,    272.2,2,    10.64,2,    17.56,2,     0.92,2,   2306.7,2,   7.7060,2,    25.00
  35TH20080610, OVIDE,    58,  1,     17,2,20080625,2345, 55.1490, -26.4110, 3364,    799.3,   4.3040,  34.9280,2,  34.9310,2,    264.9,2,    265.2,2,    10.85,2,    17.78,2,     0.94,2,   2307.1,2,   7.7040,2,    25.00
  35TH20080610, OVIDE,    58,  1,     18,2,20080625,2345, 55.1490, -26.4110, 3364,    700.2,   4.5280,  34.9360,2,  34.9370,2,    259.7,2,    260.3,2,    10.90,2,    18.13,2,     0.96,2,   -999.0,9,-999.0000,9,  -999.00
  35TH20080610, OVIDE,    58,  1,     19,2,20080625,2345, 55.1490, -26.4110, 3364,    699.8,   4.5280,  34.9350,2,  34.9380,2,    259.7,2,    261.0,2,    10.84,2,    18.10,2,     0.96,2,   2307.6,2,   7.7040,2,    25.00
  35TH20080610, OVIDE,    58,  1,     20,2,20080625,2345, 55.1490, -26.4110, 3364,    601.1,   5.0310,  34.9770,2,  34.9790,2,    247.3,2,    245.3,2,    11.33,2,    18.60,2,     0.99,2,   2309.6,2,   7.6990,2,    25.00
  35TH20080610, OVIDE,    58,  1,     21,2,20080625,2345, 55.1490, -26.4110, 3364,    500.5,   5.4380,  34.9810,2,  34.9830,2,    236.2,2,    236.9,2,    11.43,2,    19.23,2,     1.02,2,   2311.1,2,   7.7010,2,    25.00
  35TH20080610, OVIDE,    58,  1,     22,2,20080625,2345, 55.1490, -26.4110, 3364,    400.9,   6.0510,  34.9690,2,  34.9690,2,    226.5,2,    227.9,2,    11.25,2,    19.00,2,     1.03,2,   2310.9,2,   7.6960,2,    25.00
  35TH20080610, OVIDE,    58,  1,     23,2,20080625,2345, 55.1490, -26.4110, 3364,    300.0,   6.5050,  34.9160,2,  34.9170,2,    254.8,2,    253.5,2,     9.40,2,    17.01,2,     0.92,2,   2305.6,2,   7.7230,2,    25.00
  35TH20080610, OVIDE,    58,  1,     24,2,20080625,2345, 55.1490, -26.4110, 3364,    199.8,   8.2970,  35.1190,2,  35.1040,3,    251.1,2,    253.9,2,     7.85,2,    15.50,2,     0.82,2,   2317.9,2,   7.7610,2,    25.00
  35TH20080610, OVIDE,    58,  1,     25,2,20080625,2345, 55.1490, -26.4110, 3364,    150.5,   8.3760,  35.0890,2,  35.0890,2,    255.5,2,    259.1,2,     7.12,2,    15.02,2,     0.79,2,   -999.0,9,   7.7710,2,    25.00
  35TH20080610, OVIDE,    58,  1,     26,2,20080625,2345, 55.1490, -26.4110, 3364,     99.8,   9.1630,  35.1990,2,  35.1970,2,    259.4,2,    254.6,2,     6.67,2,    14.02,2,     0.74,2,   2324.0,2,   7.7860,2,    25.00
  35TH20080610, OVIDE,    58,  1,     27,2,20080625,2345, 55.1490, -26.4110, 3364,     55.7,  10.4320,  35.2410,2,  35.2450,3,    267.4,2,    266.3,2,     2.15,2,     8.87,2,     0.53,2,   2326.4,2,   7.8470,2,    25.00
  35TH20080610, OVIDE,    58,  1,     28,2,20080625,2345, 55.1490, -26.4110, 3364,      4.8,  12.6260,  35.3040,2,  35.3080,2,    277.1,2,    277.2,2,     0.84,2,     3.62,2,     0.22,2,   2332.9,2,   7.9260,2,    25.00