BOTTLE,20140930PRINUNIVRMK
EXPOCODE,SECT_ID,STNNBR,CASTNO,BTLNBR,BTLNBR_FLAG_W,DATE,TIME,LATITUDE,LONGITUDE,DEPTH,CTDPRS,CTDTMP,CTDSAL,CTDSAL_FLAG_W,SALNTY,SALNTY_FLAG_W,CTDOXY,CTDOXY_FLAG_W,OXYGEN,OXYGEN_FLAG_W,SILCAT,SILCAT_FLAG_W,NITRAT,NITRAT_FLAG_W,PHSPHT,PHSPHT_FLAG_W,ALKALI,ALKALI_FLAG_W,PH_SWS,PH_SWS_FLAG_W,PH_TMP
,,,,,,,,,,METERS,DBAR,ITS-90,PSS-78,,PSS-78,,UMOL/KG,,UMOL/KG,,UMOL/KG,,UMOL/KG,,UMOL/KG,,UMOL/KG,,,,DEG C
  35TH20080610, OVIDE,    66,  1,      3,2,20080627,1921, 57.9690, -29.2780, 2123,   2150.6,   2.8750,  34.9840,2,  34.9870,2,    277.3,2,    276.4,2,    12.22,2,    15.76,2,     0.90,2,   2317.9,2,   7.7200,2,    25.00
  35TH20080610, OVIDE,    66,  1,      4,2,20080627,1921, 57.9690, -29.2780, 2123,   1998.7,   3.0000,  34.9770,2,  34.9750,2,    276.6,2,    276.1,2,    11.89,2,    16.07,2,     0.92,2,   2313.0,2,   7.7210,2,    25.00
  35TH20080610, OVIDE,    66,  1,      5,2,20080627,1921, 57.9690, -29.2780, 2123,   1797.8,   3.3590,  34.9560,2,  34.9550,2,    278.5,2,    278.1,2,    10.50,2,    16.27,2,     0.94,2,   2309.2,2,   7.7260,2,    25.00
  35TH20080610, OVIDE,    66,  1,      6,2,20080627,1921, 57.9690, -29.2780, 2123,   1599.8,   3.5830,  34.9360,2,  34.9350,2,    277.3,2,    276.8,2,    10.19,2,    16.91,2,     0.96,2,   2306.5,2,   7.7240,2,    25.00
  35TH20080610, OVIDE,    66,  1,      7,2,20080627,1921, 57.9690, -29.2780, 2123,   1600.6,   3.5830,  34.9360,2,  34.9350,2,    277.4,2,    276.7,2,    10.18,2,    16.85,2,     0.96,2,   -999.0,9,-999.0000,9,  -999.00
  35TH20080610, OVIDE,    66,  1,      8,2,20080627,1921, 57.9690, -29.2780, 2123,   1400.6,   3.7950,  34.9280,2,  34.9280,2,    275.1,2,    274.1,2,     9.97,2,    17.06,2,     0.96,2,   2305.8,2,   7.7190,2,    25.00
  35TH20080610, OVIDE,    66,  1,      9,2,20080627,1921, 57.9690, -29.2780, 2123,   1201.3,   3.9670,  34.9160,2,  34.9160,2,    272.1,2,    271.1,2,     9.86,2,    17.35,2,     0.99,2,   2304.5,2,   7.7130,2,    25.00
  35TH20080610, OVIDE,    66,  1,     10,2,20080627,1921, 57.9690, -29.2780, 2123,   1000.0,   4.6200,  34.9670,2,  34.9660,2,    255.9,2,    255.6,2,    10.02,2,    17.63,2,     1.01,2,   2310.0,2,   7.7100,2,    25.00
  35TH20080610, OVIDE,    66,  1,     11,2,20080627,1921, 57.9690, -29.2780, 2123,    901.6,   5.1810,  35.0130,2,  35.0140,2,    244.6,2,    244.8,2,    10.08,2,    18.39,2,     1.03,2,   2312.1,2,   7.7070,2,    25.00
  35TH20080610, OVIDE,    66,  1,     12,2,20080627,1921, 57.9690, -29.2780, 2123,    798.8,   5.8030,  35.0420,2,  35.0420,2,    232.3,2,    232.5,2,    10.23,2,    19.91,2,     1.05,2,   2312.9,2,   7.7030,2,    25.00
  35TH20080610, OVIDE,    66,  1,     13,2,20080627,1921, 57.9690, -29.2780, 2123,    696.4,   6.7310,  35.1040,2,  35.1020,2,    258.5,2,    250.2,3,     8.30,2,    17.40,2,     0.94,2,   2315.7,2,   7.7350,2,    25.00
  35TH20080610, OVIDE,    66,  1,     14,2,20080627,1921, 57.9690, -29.2780, 2123,    598.2,   7.3570,  35.1670,2,  35.1630,2,    269.6,2,    269.3,2,     6.70,2,    14.97,2,     0.83,2,   2317.9,2,   7.7680,2,    25.00
  35TH20080610, OVIDE,    66,  1,     15,2,20080627,1921, 57.9690, -29.2780, 2123,    497.5,   7.5170,  35.1660,2,  35.1660,2,    273.4,2,    274.3,2,     6.38,2,    14.60,2,     0.81,2,   2317.9,2,   7.7740,2,    25.00
  35TH20080610, OVIDE,    66,  1,     16,2,20080627,1921, 57.9690, -29.2780, 2123,    401.9,   7.5860,  35.1530,2,  35.1520,2,    274.7,2,    274.2,2,     6.24,2,    14.55,2,     0.78,2,   2317.0,2,   7.7750,2,    25.00
  35TH20080610, OVIDE,    66,  1,     17,2,20080627,1921, 57.9690, -29.2780, 2123,    299.9,   7.8310,  35.1740,2,  35.1730,2,    273.7,2,    273.8,2,     5.90,2,    14.09,2,     0.77,2,   2319.2,2,   7.7820,2,    25.00
  35TH20080610, OVIDE,    66,  1,     18,2,20080627,1921, 57.9690, -29.2780, 2123,    201.2,   8.0140,  35.1670,2,  35.1640,2,    265.1,2,    264.8,2,     5.93,2,    14.49,2,     0.80,2,   2319.4,2,   7.7780,2,    25.00
  35TH20080610, OVIDE,    66,  1,     19,2,20080627,1921, 57.9690, -29.2780, 2123,    155.1,   8.3670,  35.2020,2,  35.2000,2,    268.5,2,    265.7,2,     5.52,2,    13.85,2,     0.76,2,   2320.4,2,   7.7820,2,    25.00
  35TH20080610, OVIDE,    66,  1,     20,2,20080627,1921, 57.9690, -29.2780, 2123,    101.0,   8.5400,  35.1950,2,  35.1930,2,    269.6,2,    268.0,2,     4.94,2,    13.48,2,     0.74,2,   2320.4,2,   7.7890,2,    25.00
  35TH20080610, OVIDE,    66,  1,     21,2,20080627,1921, 57.9690, -29.2780, 2123,     55.5,   9.2390,  35.2240,2,  35.2300,3,    277.1,2,    275.3,2,     2.44,2,    10.38,2,     0.63,2,   2322.3,2,   7.8240,2,    25.00
  35TH20080610, OVIDE,    66,  1,     22,2,20080627,1921, 57.9690, -29.2780, 2123,     10.7,  10.9100,  35.1350,2,  35.1340,2,    283.9,2,    282.7,2,     0.50,2,     4.54,2,     0.32,2,   2313.6,2,   7.9020,2,    25.00
  35TH20080610, OVIDE,    67,  1,      3,2,20080627,2323, 58.2090, -29.7260, 2214,   2242.7,   2.9310,  34.9850,2,  34.9830,2,    277.8,2,    276.7,2,    12.88,2,    15.55,2,     0.88,2,   -999.0,9,   7.7200,2,    25.00
  35TH20080610, OVIDE,    67,  1,      4,2,20080627,2323, 58.2090, -29.7260, 2214,   2000.1,   3.0430,  34.9810,2,  34.9800,2,    277.9,2,    277.1,2,    12.34,2,    15.96,2,     0.91,2,   -999.0,9,   7.7200,2,    25.00
  35TH20080610, OVIDE,    67,  1,      5,2,20080627,2323, 58.2090, -29.7260, 2214,   1802.3,   3.2510,  34.9650,2,  34.9650,2,    278.1,2,    277.0,2,    12.16,2,    16.25,2,     0.95,2,   -999.0,9,   7.7260,2,    25.00
  35TH20080610, OVIDE,    67,  1,      6,2,20080627,2323, 58.2090, -29.7260, 2214,   1601.1,   3.4970,  34.9490,2,  34.9480,2,    278.5,2,    277.1,2,    11.50,2,    16.61,2,     0.95,2,   -999.0,9,   7.7230,2,    25.00
  35TH20080610, OVIDE,    67,  1,      7,2,20080627,2323, 58.2090, -29.7260, 2214,   1400.0,   3.7580,  34.9460,2,  34.9460,2,    274.9,2,    274.4,2,    11.25,2,    16.84,2,     0.96,2,   -999.0,9,   7.7250,2,    25.00
  35TH20080610, OVIDE,    67,  1,      8,2,20080627,2323, 58.2090, -29.7260, 2214,   1401.4,   3.7560,  34.9460,2,  34.9450,2,    275.0,2,    274.1,2,    11.23,2,    16.89,2,     0.96,2,   -999.0,9,-999.0000,9,  -999.00
  35TH20080610, OVIDE,    67,  1,      9,2,20080627,2323, 58.2090, -29.7260, 2214,   1200.6,   4.1680,  34.9620,2,  34.9620,2,    270.0,2,    268.8,2,    10.86,2,    17.10,2,     0.98,2,   -999.0,9,   7.7180,2,    25.00
  35TH20080610, OVIDE,    67,  1,     10,2,20080627,2323, 58.2090, -29.7260, 2214,   1001.6,   4.6380,  34.9820,2,  34.9810,2,    258.0,2,    258.0,2,    11.07,2,    17.49,2,     1.00,2,   -999.0,9,   7.7110,2,    25.00
  35TH20080610, OVIDE,    67,  1,     11,2,20080627,2323, 58.2090, -29.7260, 2214,    900.3,   5.1180,  35.0130,2,  35.0160,2,    247.4,2,    247.3,2,    11.20,2,    17.95,2,     1.02,2,   -999.0,9,   7.7090,2,    25.00
  35TH20080610, OVIDE,    67,  1,     12,2,20080627,2323, 58.2090, -29.7260, 2214,    800.8,   5.8130,  35.0740,2,  35.0750,2,    241.0,2,    243.6,2,    10.80,2,    17.77,2,     1.01,2,   -999.0,9,   7.7180,2,    25.00
  35TH20080610, OVIDE,    67,  1,     13,2,20080627,2323, 58.2090, -29.7260, 2214,    701.3,   6.1080,  35.0720,2,  35.0740,2,    238.1,2,    237.6,2,    10.80,2,    18.07,2,     1.03,2,   -999.0,9,   7.7180,2,    25.00
  35TH20080610, OVIDE,    67,  1,     14,2,20080627,2323, 58.2090, -29.7260, 2214,    598.6,   6.8210,  35.1310,2,  35.1310,2,    251.4,2,    250.6,2,     9.18,2,    16.46,2,     0.93,2,   -999.0,9,   7.7410,2,    25.00
  35TH20080610, OVIDE,    67,  1,     15,2,20080627,2323, 58.2090, -29.7260, 2214,    500.1,   7.2950,  35.1650,2,  35.1640,2,    266.0,2,    267.1,2,     7.70,2,    15.20,2,     0.85,2,   -999.0,9,   7.7690,2,    25.00
  35TH20080610, OVIDE,    67,  1,     16,2,20080627,2323, 58.2090, -29.7260, 2214,    396.3,   7.4900,  35.1710,2,  35.1710,2,    269.0,2,    268.4,2,     7.35,2,    14.77,2,     0.84,2,   -999.0,9,   7.7710,2,    25.00
  35TH20080610, OVIDE,    67,  1,     17,2,20080627,2323, 58.2090, -29.7260, 2214,    298.5,   7.6160,  35.1710,2,  35.1700,2,    270.2,2,    271.7,2,     6.79,2,    14.25,2,     0.82,2,   -999.0,9,   7.7730,2,    25.00
  35TH20080610, OVIDE,    67,  1,     18,2,20080627,2323, 58.2090, -29.7260, 2214,    201.2,   7.8500,  35.1740,2,  35.1730,2,    268.6,2,    268.1,2,     6.21,2,    14.41,2,     0.81,2,   -999.0,9,   7.7780,2,    25.00
  35TH20080610, OVIDE,    67,  1,     19,2,20080627,2323, 58.2090, -29.7260, 2214,    150.6,   8.0240,  35.1700,2,  35.1680,2,    270.6,2,    269.0,2,     5.61,2,    13.96,2,     0.79,2,   -999.0,9,   7.7840,2,    25.00
  35TH20080610, OVIDE,    67,  1,     20,2,20080627,2323, 58.2090, -29.7260, 2214,    100.3,   8.4480,  35.1750,2,  35.1730,2,    276.7,2,    274.7,2,     4.06,2,    12.64,2,     0.72,2,   -999.0,9,   7.8070,2,    25.00
  35TH20080610, OVIDE,    67,  1,     21,2,20080627,2323, 58.2090, -29.7260, 2214,     53.9,  10.7590,  35.1460,2,  35.1490,2,    282.9,2,    286.4,2,     0.91,2,     4.81,2,     0.35,2,   -999.0,9,   7.9040,2,    25.00
  35TH20080610, OVIDE,    67,  1,     22,2,20080627,2323, 58.2090, -29.7260, 2214,      8.5,  11.0660,  35.1480,2,  35.1480,2,    283.3,2,    280.8,2,     0.76,2,     4.32,2,     0.31,2,   -999.0,9,   7.9110,2,    25.00
  35TH20080610, OVIDE,    68,  1,      3,2,20080628,0418, 58.4110, -30.1030, 2167,   2193.3,   3.3160,  34.9850,2,  34.9850,2,    277.8,2,    276.9,2,    11.29,2,    15.66,2,     0.91,2,   2308.0,2,   7.7210,2,    25.00
  35TH20080610, OVIDE,    68,  1,      4,2,20080628,0418, 58.4110, -30.1030, 2167,   2001.1,   3.3500,  34.9850,2,  34.9830,2,    277.5,2,    276.5,2,    11.14,2,    15.59,2,     0.90,2,   2307.5,2,   7.7220,2,    25.00
  35TH20080610, OVIDE,    68,  1,      5,2,20080628,0418, 58.4110, -30.1030, 2167,   1799.2,   3.3910,  34.9840,2,  34.9840,2,    277.4,2,    276.2,2,    11.02,2,    15.64,2,     0.89,2,   2308.4,2,   7.7230,2,    25.00
  35TH20080610, OVIDE,    68,  1,      6,2,20080628,0418, 58.4110, -30.1030, 2167,   1599.4,   3.4670,  34.9770,2,  34.9780,2,    277.3,2,    276.1,2,    10.88,2,    15.87,2,     0.91,2,   2306.8,2,   7.7230,2,    25.00
  35TH20080610, OVIDE,    68,  1,      7,2,20080628,0418, 58.4110, -30.1030, 2167,   1398.9,   3.7010,  34.9580,2,  34.9590,2,    275.7,2,    274.5,2,    10.90,2,    16.47,2,     0.94,2,   2304.7,2,   7.7220,2,    25.00
  35TH20080610, OVIDE,    68,  1,      8,2,20080628,0418, 58.4110, -30.1030, 2167,   1199.9,   4.1150,  34.9670,2,  34.9680,2,    270.7,2,    269.4,2,    10.56,2,    16.68,2,     0.95,2,   -999.0,9,-999.0000,9,  -999.00
  35TH20080610, OVIDE,    68,  1,      9,2,20080628,0418, 58.4110, -30.1030, 2167,   1200.7,   4.1190,  34.9670,2,  34.9670,2,    270.7,2,    270.0,2,    10.57,2,    16.69,2,     0.95,2,   2305.7,2,   7.7220,2,    25.00
  35TH20080610, OVIDE,    68,  1,     10,2,20080628,0418, 58.4110, -30.1030, 2167,    998.0,   4.7400,  35.0080,2,  35.0100,2,    259.0,2,    259.1,2,    10.37,2,    16.79,2,     0.95,2,   2307.5,2,   7.7160,2,    25.00
  35TH20080610, OVIDE,    68,  1,     11,2,20080628,0418, 58.4110, -30.1030, 2167,    900.2,   5.2550,  35.0460,2,  35.0480,2,    251.5,2,    251.5,2,    10.42,2,    17.09,2,     0.98,2,   2310.8,2,   7.7170,2,    25.00
  35TH20080610, OVIDE,    68,  1,     12,2,20080628,0418, 58.4110, -30.1030, 2167,    800.0,   5.6750,  35.0710,2,  35.0730,2,    246.8,2,    247.2,2,    10.29,2,    16.90,2,     0.97,2,   2312.4,2,   7.7180,2,    25.00
  35TH20080610, OVIDE,    68,  1,     13,2,20080628,0418, 58.4110, -30.1030, 2167,    699.7,   6.2110,  35.0970,2,  35.0970,2,    242.9,2,    242.9,2,    10.07,2,    17.25,2,     0.95,2,   2314.1,2,   7.7250,2,    25.00
  35TH20080610, OVIDE,    68,  1,     14,2,20080628,0418, 58.4110, -30.1030, 2167,    599.7,   6.9210,  35.1390,2,  35.1410,2,    246.8,2,    245.6,2,     9.21,2,    16.77,2,     0.93,2,   2316.5,2,   7.7390,2,    25.00
  35TH20080610, OVIDE,    68,  1,     15,2,20080628,0418, 58.4110, -30.1030, 2167,    501.2,   7.4520,  35.1840,2,  35.1850,2,    266.4,2,    267.3,2,     7.35,2,    14.78,2,     0.82,2,   2317.5,2,   7.7700,2,    25.00
  35TH20080610, OVIDE,    68,  1,     16,2,20080628,0418, 58.4110, -30.1030, 2167,    399.6,   7.6730,  35.1970,2,  35.1980,2,    265.2,2,    266.6,2,     7.00,2,    14.39,2,     0.79,2,   2319.8,2,   7.7710,2,    25.00
  35TH20080610, OVIDE,    68,  1,     17,2,20080628,0418, 58.4110, -30.1030, 2167,    301.7,   7.8170,  35.2030,2,  35.2040,2,    269.2,2,    268.5,2,     6.71,2,    14.33,2,     0.79,2,   2320.0,2,   7.7780,2,    25.00
  35TH20080610, OVIDE,    68,  1,     18,2,20080628,0418, 58.4110, -30.1030, 2167,    198.6,   8.0400,  35.2090,2,  35.2090,2,    267.4,2,    268.7,2,     6.22,2,    14.17,2,     0.78,2,   2319.5,2,   7.7840,2,    25.00
  35TH20080610, OVIDE,    68,  1,     19,2,20080628,0418, 58.4110, -30.1030, 2167,    152.3,   8.2580,  35.2170,2,  35.2160,2,    268.9,2,    267.9,2,     5.68,2,    13.88,2,     0.76,2,   2321.9,2,   7.7870,2,    25.00
  35TH20080610, OVIDE,    68,  1,     20,2,20080628,0418, 58.4110, -30.1030, 2167,     96.9,   8.5150,  35.2310,2,  35.2300,2,    272.3,2,    269.8,2,     4.88,2,    13.12,2,     0.74,2,   2322.4,2,   7.7940,2,    25.00
  35TH20080610, OVIDE,    68,  1,     21,2,20080628,0418, 58.4110, -30.1030, 2167,     56.4,   9.4360,  35.2190,2,  35.2220,2,    278.7,2,    275.8,2,     2.73,2,    10.25,2,     0.59,2,   2320.8,2,   7.8310,2,    25.00
  35TH20080610, OVIDE,    68,  1,     22,2,20080628,0418, 58.4110, -30.1030, 2167,      5.1,  10.8270,  35.1520,2,  35.1530,2,    282.5,2,    280.9,2,     0.96,2,     5.04,2,     0.34,2,   2315.8,2,   7.8970,2,    25.00
  35TH20080610, OVIDE,    69,  1,      3,2,20080628,0816, 58.5500, -30.3670, 1680,   1698.3,   3.6880,  34.9690,2,  34.9690,2,    275.3,2,    274.1,2,    10.88,2,    16.01,2,     0.89,2,   -999.0,9,   7.7220,2,    25.00
  35TH20080610, OVIDE,    69,  1,      4,2,20080628,0816, 58.5500, -30.3670, 1680,   1589.7,   3.7570,  34.9730,2,  34.9750,2,    274.3,2,    273.8,2,    10.69,2,    16.22,2,     0.91,2,   -999.0,9,   7.7230,2,    25.00
  35TH20080610, OVIDE,    69,  1,      5,2,20080628,0816, 58.5500, -30.3670, 1680,   1399.0,   3.8780,  34.9790,2,  34.9790,2,    273.0,2,    273.1,2,    10.55,2,    16.32,2,     0.92,2,   -999.0,9,   7.7200,2,    25.00
  35TH20080610, OVIDE,    69,  1,      6,2,20080628,0816, 58.5500, -30.3670, 1680,   1200.2,   3.9700,  34.9610,2,  34.9620,2,    272.6,2,    272.1,2,    10.56,2,    16.58,2,     0.93,2,   -999.0,9,   7.7190,2,    25.00
  35TH20080610, OVIDE,    69,  1,      7,2,20080628,0816, 58.5500, -30.3670, 1680,    999.6,   4.6730,  35.0010,2,  35.0020,2,    261.2,2,    260.2,2,    10.39,2,    17.02,2,     0.95,2,   -999.0,9,   7.7160,2,    25.00
  35TH20080610, OVIDE,    69,  1,      8,2,20080628,0816, 58.5500, -30.3670, 1680,    901.7,   5.2000,  35.0440,2,  35.0460,2,    252.0,2,    251.9,2,    10.28,2,    17.12,2,     0.95,2,   -999.0,9,   7.7170,2,    25.00
  35TH20080610, OVIDE,    69,  1,      9,2,20080628,0816, 58.5500, -30.3670, 1680,    798.3,   5.6840,  35.0690,2,  35.0710,2,    244.9,2,    244.1,2,    10.40,2,    17.18,2,     0.98,2,   -999.0,9,   7.7150,2,    25.00
  35TH20080610, OVIDE,    69,  1,     10,2,20080628,0816, 58.5500, -30.3670, 1680,    797.0,   5.6900,  35.0690,2,  35.0700,2,    245.0,2,    244.1,2,    10.45,2,    17.64,2,     0.97,2,   -999.0,9,   7.7160,2,    25.00
  35TH20080610, OVIDE,    69,  1,     11,2,20080628,0816, 58.5500, -30.3670, 1680,    698.5,   6.4330,  35.1100,2,  35.1120,2,    240.7,2,    241.9,2,     9.94,2,    17.49,2,     0.96,2,   -999.0,9,   7.7250,2,    25.00
  35TH20080610, OVIDE,    69,  1,     12,2,20080628,0816, 58.5500, -30.3670, 1680,    598.7,   6.9570,  35.1400,2,  35.1410,2,    247.2,2,    249.1,2,     8.82,2,    16.40,2,     0.90,2,   -999.0,9,   7.7410,2,    25.00
  35TH20080610, OVIDE,    69,  1,     13,2,20080628,0816, 58.5500, -30.3670, 1680,    499.0,   7.3820,  35.1760,2,  35.1760,2,    266.5,2,    265.9,2,     7.37,2,    15.16,2,     0.82,2,   -999.0,9,   7.7660,2,    25.00
  35TH20080610, OVIDE,    69,  1,     14,2,20080628,0816, 58.5500, -30.3670, 1680,    398.8,   7.6550,  35.1980,2,  35.1980,2,    269.6,2,    275.3,3,     6.85,2,    14.68,2,     0.80,2,   -999.0,9,   7.7750,2,    25.00
  35TH20080610, OVIDE,    69,  1,     15,2,20080628,0816, 58.5500, -30.3670, 1680,    299.6,   7.8470,  35.2080,2,  35.2090,2,    270.5,2,    284.7,3,     6.26,2,    14.36,2,     0.77,2,   -999.0,9,   7.7820,2,    25.00
  35TH20080610, OVIDE,    69,  1,     16,2,20080628,0816, 58.5500, -30.3670, 1680,    199.5,   8.0100,  35.2090,2,  35.2120,2,    269.6,2,    269.0,2,     6.34,2,    14.15,2,     0.77,2,   -999.0,9,   7.7820,2,    25.00
  35TH20080610, OVIDE,    69,  1,     17,2,20080628,0816, 58.5500, -30.3670, 1680,    150.6,   8.1830,  35.2140,2,  35.2140,2,    268.6,2,    267.2,2,     6.00,2,    14.21,2,     0.76,2,   -999.0,9,   7.7830,2,    25.00
  35TH20080610, OVIDE,    69,  1,     18,2,20080628,0816, 58.5500, -30.3670, 1680,    101.8,   8.4100,  35.2130,2,  35.2140,2,    269.1,2,    270.1,2,     4.84,2,    13.53,2,     0.73,2,   -999.0,9,   7.7940,2,    25.00
  35TH20080610, OVIDE,    69,  1,     19,2,20080628,0816, 58.5500, -30.3670, 1680,     53.8,   9.5580,  35.2220,2,  35.2250,2,    275.7,2,    275.5,2,     2.51,2,     9.67,2,     0.56,2,   -999.0,9,   7.8420,2,    25.00
  35TH20080610, OVIDE,    69,  1,     20,2,20080628,0816, 58.5500, -30.3670, 1680,      9.1,  10.8800,  35.1850,2,  35.1850,2,    282.6,2,    281.6,2,     0.96,2,     4.60,2,     0.30,2,   -999.0,9,   7.9120,2,    25.00