BOTTLE,20140930PRINUNIVRMK
EXPOCODE,SECT_ID,STNNBR,CASTNO,BTLNBR,BTLNBR_FLAG_W,DATE,TIME,LATITUDE,LONGITUDE,DEPTH,CTDPRS,CTDTMP,CTDSAL,CTDSAL_FLAG_W,SALNTY,SALNTY_FLAG_W,CTDOXY,CTDOXY_FLAG_W,OXYGEN,OXYGEN_FLAG_W,SILCAT,SILCAT_FLAG_W,NITRAT,NITRAT_FLAG_W,PHSPHT,PHSPHT_FLAG_W,ALKALI,ALKALI_FLAG_W,PH_SWS,PH_SWS_FLAG_W,PH_TMP
,,,,,,,,,,METERS,DBAR,ITS-90,PSS-78,,PSS-78,,UMOL/KG,,UMOL/KG,,UMOL/KG,,UMOL/KG,,UMOL/KG,,UMOL/KG,,,,DEG C
  35TH20080610, OVIDE,    44,  1,      3,2,20080622,1621, 49.9040, -22.3130, 3992,   4063.8,   2.5910,  34.9150,2,  34.9140,2,    244.7,2,    244.6,2,    44.67,2,    21.09,2,     1.25,2,   2351.6,2,   7.7310,2,    25.00
  35TH20080610, OVIDE,    44,  1,      4,2,20080622,1621, 49.9040, -22.3130, 3992,   3748.5,   2.6050,  34.9210,2,  34.9200,2,    246.9,2,    247.2,2,    42.12,2,    21.59,2,     1.25,2,   2350.7,2,   7.7310,2,    25.00
  35TH20080610, OVIDE,    44,  1,      5,2,20080622,1621, 49.9040, -22.3130, 3992,   3250.1,   2.7670,  34.9370,2,  34.9360,2,    258.3,2,    258.4,2,    30.77,2,    19.28,2,     1.12,2,   2334.3,2,   7.7280,2,    25.00
  35TH20080610, OVIDE,    44,  1,      6,2,20080622,1621, 49.9040, -22.3130, 3992,   3248.8,   2.7680,  34.9380,2,  34.9350,2,    258.4,2,    258.1,2,    30.90,2,    18.69,2,     1.09,2,   -999.0,9,-999.0000,9,  -999.00
  35TH20080610, OVIDE,    44,  1,      7,2,20080622,1621, 49.9040, -22.3130, 3992,   3000.4,   2.8430,  34.9410,2,  34.9390,2,    263.7,2,    263.1,2,    26.53,2,    18.51,2,     1.08,2,   2330.1,2,   7.7280,2,    25.00
  35TH20080610, OVIDE,    44,  1,      8,2,20080622,1621, 49.9040, -22.3130, 3992,   2748.7,   2.9880,  34.9350,2,  34.9330,2,    271.6,2,    271.9,2,    18.23,2,    17.25,2,     1.00,2,   2322.1,2,   7.7280,2,    25.00
  35TH20080610, OVIDE,    44,  1,      9,2,20080622,1621, 49.9040, -22.3130, 3992,   2499.9,   3.0860,  34.9250,2,  34.9230,2,    275.8,2,    275.1,2,    15.49,2,    17.09,2,     0.98,2,   2315.5,2,   7.7300,2,    25.00
  35TH20080610, OVIDE,    44,  1,     10,2,20080622,1621, 49.9040, -22.3130, 3992,   2249.1,   3.2020,  34.9130,2,  34.9130,2,    277.9,2,    277.7,2,    13.87,2,    17.33,2,     0.97,2,   2311.6,2,   7.7280,2,    25.00
  35TH20080610, OVIDE,    44,  1,     11,2,20080622,1621, 49.9040, -22.3130, 3992,   2000.1,   3.3110,  34.9050,2,  34.9040,2,    279.9,2,    279.9,2,    12.60,2,    17.36,2,     0.98,2,   2306.8,2,   7.7220,2,    25.00
  35TH20080610, OVIDE,    44,  1,     12,2,20080622,1621, 49.9040, -22.3130, 3992,   1799.0,   3.4770,  34.9060,2,  34.9060,2,    277.9,2,    280.1,2,    12.06,2,    16.98,2,     0.96,2,   2305.6,2,   7.7230,2,    25.00
  35TH20080610, OVIDE,    44,  1,     13,2,20080622,1621, 49.9040, -22.3130, 3992,   1599.8,   3.6220,  34.9080,2,  34.9090,2,    277.1,2,    276.5,2,    11.57,2,    17.59,2,     0.99,2,   2304.9,2,   7.7200,2,    25.00
  35TH20080610, OVIDE,    44,  1,     14,2,20080622,1621, 49.9040, -22.3130, 3992,   1399.4,   3.7590,  34.9080,2,  34.9100,2,    276.2,2,    276.1,2,    11.00,2,    17.29,2,     0.91,2,   2304.9,2,   7.7190,2,    25.00
  35TH20080610, OVIDE,    44,  1,     15,2,20080622,1621, 49.9040, -22.3130, 3992,   1300.6,   3.8620,  34.9140,2,  34.9150,2,    274.9,2,    275.1,2,    10.90,2,    17.20,2,     0.97,2,   2304.6,2,   7.7160,2,    25.00
  35TH20080610, OVIDE,    44,  1,     16,2,20080622,1621, 49.9040, -22.3130, 3992,   1198.7,   3.9610,  34.9190,2,  34.9200,2,    273.8,2,    274.4,2,    10.75,2,    17.51,2,     0.97,2,   2305.5,2,   7.7150,2,    25.00
  35TH20080610, OVIDE,    44,  1,     17,2,20080622,1621, 49.9040, -22.3130, 3992,   1099.7,   4.1680,  34.9330,2,  34.9320,2,    270.1,2,    269.2,2,    10.80,2,    17.25,2,     0.98,2,   2305.9,2,   7.7140,2,    25.00
  35TH20080610, OVIDE,    44,  1,     18,2,20080622,1621, 49.9040, -22.3130, 3992,    999.5,   4.3090,  34.9330,2,  34.9340,2,    269.0,2,    267.7,2,    10.60,2,    17.37,2,     0.99,2,   2308.2,2,   7.7110,2,    25.00
  35TH20080610, OVIDE,    44,  1,     19,2,20080622,1621, 49.9040, -22.3130, 3992,    898.8,   4.5640,  34.9520,2,  34.9560,2,    263.5,2,    259.7,2,    10.71,2,    17.68,2,     1.02,2,   2309.2,2,   7.7110,2,    25.00
  35TH20080610, OVIDE,    44,  1,     20,2,20080622,1621, 49.9040, -22.3130, 3992,    799.6,   5.0790,  34.9990,2,  35.0000,2,    248.0,2,    249.5,2,    11.06,2,    18.22,2,     1.03,2,   2315.4,2,   7.7090,2,    25.00
  35TH20080610, OVIDE,    44,  1,     21,2,20080622,1621, 49.9040, -22.3130, 3992,    700.4,   5.4700,  35.0080,2,  35.0150,3,    235.8,2,    237.6,2,    11.28,2,    18.61,2,     1.06,2,   2313.8,2,   7.7040,2,    25.00
  35TH20080610, OVIDE,    44,  1,     22,2,20080622,1621, 49.9040, -22.3130, 3992,    599.4,   6.1430,  35.0200,2,  35.0220,2,    221.4,2,    222.3,2,    11.53,2,    18.72,2,     1.09,2,   2314.2,2,   7.7030,2,    25.00
  35TH20080610, OVIDE,    44,  1,     23,2,20080622,1621, 49.9040, -22.3130, 3992,    500.6,   6.6710,  34.9930,2,  34.9960,2,    215.2,2,    217.4,2,    11.12,2,    18.95,2,     1.08,2,   2312.2,2,   7.7040,2,    25.00
  35TH20080610, OVIDE,    44,  1,     24,2,20080622,1621, 49.9040, -22.3130, 3992,    400.3,   7.8460,  35.0450,2,  35.0420,2,    217.8,2,    217.6,2,    10.12,2,    18.36,2,     1.04,2,   2316.7,2,   7.7240,2,    25.00
  35TH20080610, OVIDE,    44,  1,     25,2,20080622,1621, 49.9040, -22.3130, 3992,    300.0,   8.6730,  35.1170,2,  35.1160,2,    240.6,2,    239.7,2,     8.23,2,    15.70,2,     0.89,2,   -999.0,9,   7.7630,2,    25.00
  35TH20080610, OVIDE,    44,  1,     26,2,20080622,1621, 49.9040, -22.3130, 3992,    200.2,  10.1550,  35.3290,2,  35.3240,2,    239.6,2,    239.1,2,     6.41,2,    13.66,2,     0.76,2,   2329.5,2,   7.8000,2,    25.00
  35TH20080610, OVIDE,    44,  1,     27,2,20080622,1621, 49.9040, -22.3130, 3992,    150.1,  10.7060,  35.4080,2,  35.4000,3,    248.3,2,    243.4,2,     5.09,2,    12.81,2,     0.69,2,   -999.0,9,   7.8190,2,    25.00
  35TH20080610, OVIDE,    44,  1,     28,2,20080622,1621, 49.9040, -22.3130, 3992,    100.5,  11.1750,  35.4880,2,  35.4920,2,    250.8,2,    252.5,2,     3.23,2,    11.02,2,     0.58,2,   2338.2,2,   7.8430,2,    25.00
  35TH20080610, OVIDE,    44,  1,     29,2,20080622,1621, 49.9040, -22.3130, 3992,     57.4,  12.0990,  35.5500,2,  35.5480,2,    255.7,2,    250.8,2,     1.41,2,     7.90,2,     0.49,2,   -999.0,9,   7.8690,2,    25.00
  35TH20080610, OVIDE,    44,  1,     30,2,20080622,1621, 49.9040, -22.3130, 3992,      3.9,  14.8200,  35.5100,2,  35.5120,2,    263.5,2,    263.0,2,     0.35,2,     2.19,2,     0.14,2,   2345.3,2,   7.9690,2,    25.00
  35TH20080610, OVIDE,    45,  1,      3,2,20080622,2144, 50.2820, -22.6080, 4118,   4194.3,   2.6170,  34.9170,2,  34.9160,2,    244.4,2,    244.0,2,  -999.00,9,    21.83,2,     1.27,2,   -999.0,9,   7.7320,2,    25.00
  35TH20080610, OVIDE,    45,  1,      4,2,20080622,2144, 50.2820, -22.6080, 4118,   4090.9,   2.6230,  34.9180,2,  34.9160,2,    245.8,2,    245.1,2,  -999.00,9,    21.59,2,     1.26,2,   -999.0,9,   7.7300,2,    25.00
  35TH20080610, OVIDE,    45,  1,      5,2,20080622,2144, 50.2820, -22.6080, 4118,   4040.3,   2.6230,  34.9190,2,  34.9190,2,    246.1,2,    245.6,2,    41.81,2,    21.48,2,     1.25,2,   -999.0,9,   7.7300,2,    25.00
  35TH20080610, OVIDE,    45,  1,      6,2,20080622,2144, 50.2820, -22.6080, 4118,   3749.2,   2.6450,  34.9240,2,  34.9230,2,    248.9,2,    249.0,2,    39.05,2,    21.05,2,     1.21,2,   -999.0,9,   7.7240,2,    25.00
  35TH20080610, OVIDE,    45,  1,      7,2,20080622,2144, 50.2820, -22.6080, 4118,   3500.3,   2.7030,  34.9320,2,  34.9300,2,    253.9,2,    253.2,2,    34.57,2,    20.03,2,     1.16,2,   -999.0,9,   7.7290,2,    25.00
  35TH20080610, OVIDE,    45,  1,      8,2,20080622,2144, 50.2820, -22.6080, 4118,   3251.6,   2.8070,  34.9410,2,  34.9390,2,    260.6,2,    260.4,2,    27.89,2,    18.82,2,     1.08,2,   -999.0,9,   7.7310,2,    25.00
  35TH20080610, OVIDE,    45,  1,      9,2,20080622,2144, 50.2820, -22.6080, 4118,   3000.6,   2.9140,  34.9420,2,  34.9410,2,    266.1,2,    300.5,3,    22.10,2,    18.10,2,     1.02,2,   -999.0,9,   7.7300,2,    25.00
  35TH20080610, OVIDE,    45,  1,     10,2,20080622,2144, 50.2820, -22.6080, 4118,   2751.4,   3.0500,  34.9340,2,  34.9350,2,    272.2,2,    270.9,2,    17.68,2,    17.53,2,     0.99,2,   -999.0,9,   7.7290,2,    25.00
  35TH20080610, OVIDE,    45,  1,     11,2,20080622,2144, 50.2820, -22.6080, 4118,   2501.9,   3.1360,  34.9190,2,  34.9170,2,    277.7,2,    277.7,2,    14.18,2,    17.29,2,     0.97,2,   -999.0,9,   7.7270,2,    25.00
  35TH20080610, OVIDE,    45,  1,     12,2,20080622,2144, 50.2820, -22.6080, 4118,   2249.7,   3.2290,  34.9080,2,  34.9060,2,    280.0,2,    297.1,3,    12.94,2,    17.23,2,     0.96,2,   -999.0,9,   7.7280,2,    25.00
  35TH20080610, OVIDE,    45,  1,     13,2,20080622,2144, 50.2820, -22.6080, 4118,   1999.3,   3.3400,  34.9020,2,  34.9040,2,    280.0,2,    285.3,2,    12.24,2,    17.39,2,     0.98,2,   -999.0,9,   7.7270,2,    25.00
  35TH20080610, OVIDE,    45,  1,     14,2,20080622,2144, 50.2820, -22.6080, 4118,   1799.8,   3.4890,  34.9030,2,  34.9040,2,    278.5,2,    278.3,2,    11.72,2,    17.23,2,     0.97,2,   -999.0,9,   7.7200,2,    25.00
  35TH20080610, OVIDE,    45,  1,     15,2,20080622,2144, 50.2820, -22.6080, 4118,   1599.7,   3.6260,  34.9040,2,  34.9070,2,    277.8,2,    277.6,2,    11.28,2,    17.14,2,     0.96,2,   -999.0,9,   7.7180,2,    25.00
  35TH20080610, OVIDE,    45,  1,     16,2,20080622,2144, 50.2820, -22.6080, 4118,   1398.9,   3.7430,  34.9050,2,  34.9070,2,    276.1,2,    275.9,2,    10.97,2,    17.36,2,     0.96,2,   -999.0,9,   7.7170,2,    25.00
  35TH20080610, OVIDE,    45,  1,     17,2,20080622,2144, 50.2820, -22.6080, 4118,   1200.4,   3.9470,  34.9130,2,  34.9150,2,    274.3,2,    274.3,2,    10.69,2,    17.30,2,     0.96,2,   -999.0,9,   7.7140,2,    25.00
  35TH20080610, OVIDE,    45,  1,     18,2,20080622,2144, 50.2820, -22.6080, 4118,    999.7,   4.4230,  34.9510,2,  34.9530,2,    263.5,2,    261.9,2,    10.74,2,    17.65,2,     0.99,2,   -999.0,9,   7.7100,2,    25.00
  35TH20080610, OVIDE,    45,  1,     19,2,20080622,2144, 50.2820, -22.6080, 4118,    899.3,   4.7950,  34.9790,2,  34.9830,2,    254.8,2,    253.8,2,    10.91,2,    17.93,2,     1.00,2,   -999.0,9,   7.7090,2,    25.00
  35TH20080610, OVIDE,    45,  1,     20,2,20080622,2144, 50.2820, -22.6080, 4118,    799.0,   5.2810,  35.0220,2,  35.0220,2,    242.5,2,    242.4,2,    11.18,2,    18.31,2,     1.03,2,   -999.0,9,   7.7100,2,    25.00
  35TH20080610, OVIDE,    45,  1,     21,2,20080622,2144, 50.2820, -22.6080, 4118,    699.9,   5.4410,  34.9870,2,  34.9890,2,    228.3,2,    237.7,3,    11.21,2,    18.69,2,     1.05,2,   -999.0,9,   7.7000,2,    25.00
  35TH20080610, OVIDE,    45,  1,     22,2,20080622,2144, 50.2820, -22.6080, 4118,    600.5,   6.3740,  35.0370,2,  35.0310,3,    218.6,2,    219.6,2,    11.44,2,    19.05,2,     1.07,2,   -999.0,9,   7.7000,2,    25.00
  35TH20080610, OVIDE,    45,  1,     23,2,20080622,2144, 50.2820, -22.6080, 4118,    500.7,   7.9440,  35.1940,2,  35.1930,2,    198.9,2,    199.4,2,    11.03,2,    19.14,2,     1.07,2,   -999.0,9,   7.7190,2,    25.00
  35TH20080610, OVIDE,    45,  1,     24,2,20080622,2144, 50.2820, -22.6080, 4118,    400.3,   7.9660,  35.0510,2,  35.0520,2,    223.9,2,    222.5,2,     9.75,2,    17.81,2,     0.99,2,   -999.0,9,   7.7320,2,    25.00
  35TH20080610, OVIDE,    45,  1,     25,2,20080622,2144, 50.2820, -22.6080, 4118,    299.1,   9.4880,  35.2270,2,  35.2170,3,    239.8,2,    239.3,2,     7.92,2,    15.80,3,     0.87,2,   -999.0,9,   7.7700,2,    25.00
  35TH20080610, OVIDE,    45,  1,     26,2,20080622,2144, 50.2820, -22.6080, 4118,    200.4,  10.5470,  35.3840,2,  35.3800,2,    239.5,2,    254.4,3,     5.25,2,    12.70,2,     0.68,2,   -999.0,9,   7.8170,2,    25.00
  35TH20080610, OVIDE,    45,  1,     27,2,20080622,2144, 50.2820, -22.6080, 4118,    149.1,  11.0510,  35.4680,2,  35.4580,3,    248.4,2,    252.0,2,     3.54,2,    11.32,2,     0.59,2,   -999.0,9,   7.8360,2,    25.00
  35TH20080610, OVIDE,    45,  1,     28,2,20080622,2144, 50.2820, -22.6080, 4118,    100.6,  11.4480,  35.5270,2,  35.5270,2,    245.1,2,    254.1,3,     3.27,2,    10.89,2,     0.58,2,   -999.0,9,   7.8400,2,    25.00
  35TH20080610, OVIDE,    45,  1,     29,2,20080622,2144, 50.2820, -22.6080, 4118,     55.4,  12.8260,  35.5800,2,  35.5790,2,    256.6,2,    256.7,2,     0.77,2,     5.46,2,     0.36,2,   -999.0,9,   7.9040,2,    25.00
  35TH20080610, OVIDE,    45,  1,     30,2,20080622,2144, 50.2820, -22.6080, 4118,      4.0,  14.8260,  35.5080,2,  35.5100,2,    268.5,2,    264.5,2,     0.39,2,     1.70,2,     0.13,2,   -999.0,9,   7.9810,2,    25.00
  35TH20080610, OVIDE,    46,  1,      3,2,20080623,0333, 50.6450, -22.8980, 3699,   3760.9,   2.6110,  34.9200,2,  34.9210,2,    246.8,2,    247.5,2,    41.26,2,    21.45,2,     1.26,2,   2348.4,2,   7.7280,2,    25.00
  35TH20080610, OVIDE,    46,  1,      4,2,20080623,0333, 50.6450, -22.8980, 3699,   3499.7,   2.7000,  34.9310,2,  34.9320,2,    253.5,2,    253.0,2,    34.76,2,    20.38,2,     1.17,2,   2340.3,2,   7.7260,2,    25.00
  35TH20080610, OVIDE,    46,  1,      5,2,20080623,0333, 50.6450, -22.8980, 3699,   3208.4,   2.8120,  34.9410,2,  34.9420,2,    260.4,2,    260.7,2,    27.94,2,    19.08,2,     1.06,2,   2330.8,2,   7.7260,2,    25.00
  35TH20080610, OVIDE,    46,  1,      6,2,20080623,0333, 50.6450, -22.8980, 3699,   2999.3,   2.9150,  34.9420,2,  34.9430,2,    267.0,2,    266.4,2,    21.63,2,    18.29,2,     1.04,2,   2322.9,2,   7.7280,2,    25.00
  35TH20080610, OVIDE,    46,  1,      7,2,20080623,0333, 50.6450, -22.8980, 3699,   2750.1,   3.0460,  34.9340,2,  34.9350,2,    272.8,2,    273.6,2,    16.60,2,    17.56,2,     0.99,2,   2314.6,2,   7.7290,2,    25.00
  35TH20080610, OVIDE,    46,  1,      8,2,20080623,0333, 50.6450, -22.8980, 3699,   2750.0,   3.0460,  34.9360,2,  34.9340,2,    272.8,2,    273.4,2,    16.58,2,    17.34,2,     0.98,2,   -999.0,9,-999.0000,9,  -999.00
  35TH20080610, OVIDE,    46,  1,      9,2,20080623,0333, 50.6450, -22.8980, 3699,   2500.3,   3.1430,  34.9230,2,  34.9240,2,    276.0,2,    276.3,2,    14.65,2,    17.39,2,     0.98,2,   2310.8,2,   7.7280,2,    25.00
  35TH20080610, OVIDE,    46,  1,     10,2,20080623,0333, 50.6450, -22.8980, 3699,   2249.5,   3.2370,  34.9080,2,  34.9100,2,    279.8,2,    282.4,2,    13.02,2,    17.34,2,     0.98,2,   2308.1,2,   7.7270,2,    25.00
  35TH20080610, OVIDE,    46,  1,     11,2,20080623,0333, 50.6450, -22.8980, 3699,   1999.2,   3.3370,  34.9040,2,  34.9010,2,    279.6,2,    280.2,2,    12.32,2,    17.51,2,     0.98,2,   2306.3,2,   7.7240,2,    25.00
  35TH20080610, OVIDE,    46,  1,     12,2,20080623,0333, 50.6450, -22.8980, 3699,   1801.2,   3.5010,  34.9060,2,  34.9080,2,    278.0,2,    278.2,2,    11.90,2,    17.47,2,     0.99,2,   2304.7,2,   7.7190,2,    25.00
  35TH20080610, OVIDE,    46,  1,     13,2,20080623,0333, 50.6450, -22.8980, 3699,   1598.3,   3.6850,  34.9100,2,  34.9120,2,    276.9,2,    279.5,2,    11.24,2,    17.52,2,     0.98,2,   2303.9,2,   7.7190,2,    25.00
  35TH20080610, OVIDE,    46,  1,     14,2,20080623,0333, 50.6450, -22.8980, 3699,   1401.7,   3.8420,  34.9160,2,  34.9160,2,    274.8,2,    274.5,2,    10.91,2,    17.51,2,     0.98,2,   2305.2,2,   7.7170,2,    25.00
  35TH20080610, OVIDE,    46,  1,     15,2,20080623,0333, 50.6450, -22.8980, 3699,   1201.9,   4.1160,  34.9380,2,  34.9380,2,    271.0,2,    268.7,2,    10.76,2,    17.40,2,     0.98,2,   2307.2,2,   7.7160,2,    25.00
  35TH20080610, OVIDE,    46,  1,     16,2,20080623,0333, 50.6450, -22.8980, 3699,   1001.4,   4.4910,  34.9630,2,  34.9630,2,    258.4,2,    261.2,2,    10.74,2,    17.83,2,     0.99,2,   2308.8,2,   7.7120,2,    25.00
  35TH20080610, OVIDE,    46,  1,     17,2,20080623,0333, 50.6450, -22.8980, 3699,    900.3,   4.9620,  34.9990,2,  35.0020,2,    248.3,2,    250.6,2,    10.92,2,    18.16,2,     1.01,2,   2312.5,2,   7.7090,2,    25.00
  35TH20080610, OVIDE,    46,  1,     18,2,20080623,0333, 50.6450, -22.8980, 3699,    800.9,   5.5030,  35.0450,2,  35.0430,2,    230.9,2,    239.3,3,    11.12,2,    18.57,2,     1.02,2,   2314.2,2,   7.7070,2,    25.00
  35TH20080610, OVIDE,    46,  1,     19,2,20080623,0333, 50.6450, -22.8980, 3699,    701.3,   6.4660,  35.1350,2,  35.1420,3,    215.7,2,    221.1,3,    11.15,2,    18.80,2,     1.04,2,   2322.3,2,   7.7100,2,    25.00
  35TH20080610, OVIDE,    46,  1,     20,2,20080623,0333, 50.6450, -22.8980, 3699,    600.8,   6.4680,  34.9960,2,  34.9980,2,    214.9,2,    219.9,3,    11.14,2,    19.16,2,     1.08,2,   2312.0,2,   7.6990,2,    25.00
  35TH20080610, OVIDE,    46,  1,     21,2,20080623,0333, 50.6450, -22.8980, 3699,    499.6,   8.3890,  35.1820,2,  35.1590,3,    197.8,2,    203.4,3,    10.43,2,    18.86,2,     1.04,2,   2321.4,2,   7.7230,2,    25.00
  35TH20080610, OVIDE,    46,  1,     22,2,20080623,0333, 50.6450, -22.8980, 3699,    400.9,   9.7780,  35.3060,2,  35.3100,2,    222.2,2,    212.2,3,     8.13,2,    16.45,2,     0.89,2,   2326.5,2,   7.7600,2,    25.00
  35TH20080610, OVIDE,    46,  1,     23,2,20080623,0333, 50.6450, -22.8980, 3699,    300.8,  10.9590,  35.4470,2,  35.4440,2,    239.2,2,    241.4,2,     5.04,2,    12.55,2,     0.64,2,   2335.1,2,   7.8230,2,    25.00
  35TH20080610, OVIDE,    46,  1,     24,2,20080623,0333, 50.6450, -22.8980, 3699,    201.0,  11.8080,  35.5730,2,  35.5730,2,    240.0,2,    240.8,2,     4.29,2,    10.97,2,     0.55,2,   2339.5,2,   7.8430,2,    25.00
  35TH20080610, OVIDE,    46,  1,     25,2,20080623,0333, 50.6450, -22.8980, 3699,    149.2,  12.2740,  35.6520,2,  35.6520,2,    245.7,2,    246.1,2,     3.56,2,     9.34,2,     0.47,2,   2344.4,2,   7.8620,2,    25.00
  35TH20080610, OVIDE,    46,  1,     26,2,20080623,0333, 50.6450, -22.8980, 3699,    100.4,  12.6430,  35.7040,2,  35.7030,2,    245.8,2,    246.5,2,     3.43,2,     8.98,2,     0.44,2,   2348.4,2,   7.8690,2,    25.00
  35TH20080610, OVIDE,    46,  1,     27,2,20080623,0333, 50.6450, -22.8980, 3699,     55.6,  13.1020,  35.7460,2,  35.7510,3,    246.3,2,    245.3,2,     2.74,2,     8.00,2,     0.40,2,   -999.0,9,   7.8840,2,    25.00
  35TH20080610, OVIDE,    46,  1,     28,2,20080623,0333, 50.6450, -22.8980, 3699,      5.9,  15.1710,  35.6750,2,  35.6760,2,    270.8,2,    243.1,3,     0.43,2,     0.10,2,     0.03,2,   2348.8,2,   8.0130,2,    25.00