BOTTLE,20140930PRINUNIVRMK
EXPOCODE,SECT_ID,STNNBR,CASTNO,BTLNBR,BTLNBR_FLAG_W,DATE,TIME,LATITUDE,LONGITUDE,DEPTH,CTDPRS,CTDTMP,CTDSAL,CTDSAL_FLAG_W,SALNTY,SALNTY_FLAG_W,CTDOXY,CTDOXY_FLAG_W,OXYGEN,OXYGEN_FLAG_W,SILCAT,SILCAT_FLAG_W,NITRAT,NITRAT_FLAG_W,PHSPHT,PHSPHT_FLAG_W,ALKALI,ALKALI_FLAG_W,PH_SWS,PH_SWS_FLAG_W,PH_TMP
,,,,,,,,,,METERS,DBAR,ITS-90,PSS-78,,PSS-78,,UMOL/KG,,UMOL/KG,,UMOL/KG,,UMOL/KG,,UMOL/KG,,UMOL/KG,,,,DEG C
  35TH20080610, OVIDE,    38,  1,      3,2,20080621,0306, 47.6630, -20.5600, 4328,   4407.1,   2.5360,  34.9060,2,  34.9060,2,    242.4,2,   -999.0,3,    47.62,2,  -999.00,9,     1.37,2,   2355.7,2,   7.7300,2,    25.00
  35TH20080610, OVIDE,    38,  1,      4,2,20080621,0306, 47.6630, -20.5600, 4328,   3998.5,   2.5190,  34.9100,2,  34.9090,2,    241.7,2,    242.7,2,    46.86,2,    22.18,2,     1.36,2,   2355.0,2,   7.7310,2,    25.00
  35TH20080610, OVIDE,    38,  1,      5,2,20080621,0306, 47.6630, -20.5600, 4328,   3749.9,   2.5340,  34.9150,2,  34.9180,2,    242.9,2,    244.2,2,    42.64,3,    21.76,2,     1.32,2,   2351.9,2,   7.7320,2,    25.00
  35TH20080610, OVIDE,    38,  1,      6,2,20080621,0306, 47.6630, -20.5600, 4328,   3498.7,   2.5960,  34.9230,2,  34.9210,2,    245.8,2,    246.7,2,    41.81,2,    21.25,2,     1.30,2,   2347.1,2,   7.7320,2,    25.00
  35TH20080610, OVIDE,    38,  1,      7,2,20080621,0306, 47.6630, -20.5600, 4328,   3247.1,   2.6980,  34.9330,2,  34.9340,2,    249.5,2,    250.7,2,    36.95,2,    20.40,2,     1.22,2,   2340.9,2,   7.7330,2,    25.00
  35TH20080610, OVIDE,    38,  1,      8,2,20080621,0306, 47.6630, -20.5600, 4328,   2999.2,   2.8270,  34.9430,2,  34.9430,2,    255.2,2,    255.7,2,    31.71,2,    19.64,2,     1.19,2,   2332.0,2,   7.7280,2,    25.00
  35TH20080610, OVIDE,    38,  1,      9,2,20080621,0306, 47.6630, -20.5600, 4328,   2751.4,   2.9770,  34.9460,2,  34.9450,2,    260.6,2,    262.1,2,    25.73,2,    18.71,2,     1.12,2,   2323.7,2,   7.7330,2,    25.00
  35TH20080610, OVIDE,    38,  1,     10,2,20080621,0306, 47.6630, -20.5600, 4328,   2500.5,   3.1260,  34.9330,2,  34.9320,2,    270.7,2,    272.3,2,    18.05,2,    17.38,2,     1.07,2,   2312.9,2,   7.7310,2,    25.00
  35TH20080610, OVIDE,    38,  1,     11,2,20080621,0306, 47.6630, -20.5600, 4328,   2501.9,   3.1260,  34.9330,2,  34.9340,2,    270.7,2,    270.9,2,    18.02,2,    17.62,2,     1.06,2,   -999.0,9,-999.0000,9,  -999.00
  35TH20080610, OVIDE,    38,  1,     12,2,20080621,0306, 47.6630, -20.5600, 4328,   2252.3,   3.2200,  34.9180,2,  34.9170,2,    276.9,2,    276.4,2,    15.10,2,    17.33,2,     1.04,2,   2307.9,2,   7.7260,2,    25.00
  35TH20080610, OVIDE,    38,  1,     13,2,20080621,0306, 47.6630, -20.5600, 4328,   2003.3,   3.3740,  34.9060,2,  34.9090,2,    277.5,2,    278.2,2,    13.22,2,    17.30,2,     1.04,2,   2305.6,2,   7.7260,2,    25.00
  35TH20080610, OVIDE,    38,  1,     14,2,20080621,0306, 47.6630, -20.5600, 4328,   1802.3,   3.5970,  34.9160,2,  34.9170,2,    274.9,2,    275.6,2,    12.97,2,    17.42,2,     1.04,2,   2303.3,2,   7.7240,2,    25.00
  35TH20080610, OVIDE,    38,  1,     15,2,20080621,0306, 47.6630, -20.5600, 4328,   1600.1,   3.9990,  34.9580,2,  34.9630,2,    267.3,2,    267.9,2,    12.64,2,    17.41,2,     1.06,2,   2308.6,2,   7.7240,2,    25.00
  35TH20080610, OVIDE,    38,  1,     16,2,20080621,0306, 47.6630, -20.5600, 4328,   1400.2,   4.4850,  35.0060,2,  35.0050,2,    261.6,2,    258.9,2,    12.35,2,    17.68,2,     1.07,2,   2310.1,2,   7.7180,2,    25.00
  35TH20080610, OVIDE,    38,  1,     17,2,20080621,0306, 47.6630, -20.5600, 4328,   1199.6,   5.4780,  35.1330,2,  35.1350,2,    234.9,2,    241.2,3,    12.24,2,    17.81,2,     1.09,2,   2319.7,2,   7.7190,2,    25.00
  35TH20080610, OVIDE,    38,  1,     18,2,20080621,0306, 47.6630, -20.5600, 4328,   1001.7,   6.5900,  35.2380,2,  35.2390,2,    215.4,2,    220.9,3,    12.22,2,    18.33,2,     1.10,2,   2326.8,2,   7.7240,2,    25.00
  35TH20080610, OVIDE,    38,  1,     19,2,20080621,0306, 47.6630, -20.5600, 4328,    900.1,   7.3950,  35.2830,2,  35.2900,3,    208.8,2,    208.9,2,    11.82,2,    18.59,2,     1.10,2,   2332.6,2,   7.7280,2,    25.00
  35TH20080610, OVIDE,    38,  1,     20,2,20080621,0306, 47.6630, -20.5600, 4328,    800.1,   8.2290,  35.3270,2,  35.3270,2,    195.9,2,    196.8,2,    11.40,2,    18.79,2,     1.10,2,   2330.8,2,   7.7260,2,    25.00
  35TH20080610, OVIDE,    38,  1,     21,2,20080621,0306, 47.6630, -20.5600, 4328,    699.3,   8.9640,  35.3460,2,  35.3400,3,    188.2,2,    191.0,2,    10.98,2,    18.70,2,     1.11,2,   2330.0,2,   7.7310,2,    25.00
  35TH20080610, OVIDE,    38,  1,     22,2,20080621,0306, 47.6630, -20.5600, 4328,    599.9,   9.4670,  35.3140,2,  35.3070,3,    191.2,2,    190.1,2,    10.40,2,    18.57,2,     1.08,2,   2326.1,2,   7.7370,2,    25.00
  35TH20080610, OVIDE,    38,  1,     23,2,20080621,0306, 47.6630, -20.5600, 4328,    501.9,  10.3310,  35.3890,2,  35.3900,2,    201.4,2,    207.8,3,     8.04,2,    15.73,2,     0.91,2,   2328.8,2,   7.7720,2,    25.00
  35TH20080610, OVIDE,    38,  1,     24,2,20080621,0306, 47.6630, -20.5600, 4328,    402.3,  10.9900,  35.4560,2,  35.4600,2,    221.4,2,    220.3,2,     6.51,2,    13.86,2,     0.79,2,   2331.7,2,   7.7990,2,    25.00
  35TH20080610, OVIDE,    38,  1,     25,2,20080621,0306, 47.6630, -20.5600, 4328,    300.5,  11.7000,  35.5490,2,  35.5460,2,    229.1,2,    227.3,2,     5.48,2,    12.09,2,     0.68,2,   -999.0,9,-999.0000,9,  -999.00
  35TH20080610, OVIDE,    38,  1,     26,2,20080621,0306, 47.6630, -20.5600, 4328,    200.7,  12.3930,  35.6560,2,  35.6540,2,    238.9,2,    237.6,2,     3.97,2,     9.76,2,     0.55,2,   2343.0,2,   7.8580,2,    25.00
  35TH20080610, OVIDE,    38,  1,     27,2,20080621,0306, 47.6630, -20.5600, 4328,    150.2,  12.7710,  35.7100,2,  35.7120,2,    240.4,2,    244.8,2,     3.35,2,     8.17,2,     0.45,2,   -999.0,9,-999.0000,9,  -999.00
  35TH20080610, OVIDE,    38,  1,     28,2,20080621,0306, 47.6630, -20.5600, 4328,     97.9,  12.9800,  35.7400,2,  35.7400,2,    247.6,2,    248.9,2,     3.02,2,     7.46,2,     0.41,2,   2345.8,2,   7.8860,2,    25.00
  35TH20080610, OVIDE,    38,  1,     29,2,20080621,0306, 47.6630, -20.5600, 4328,     56.8,  13.6620,  35.8400,2,  35.8410,2,    245.4,2,    243.7,2,     2.77,2,     6.48,2,     0.37,2,   -999.0,9,-999.0000,9,  -999.00
  35TH20080610, OVIDE,    38,  1,     30,2,20080621,0306, 47.6630, -20.5600, 4328,      4.9,  15.6190,  35.6780,2,  35.6830,3,    253.1,2,    254.1,2,     1.45,2,     0.18,2,     0.07,2,   2348.2,2,   7.9880,2,    25.00
  35TH20080610, OVIDE,    39,  1,      3,2,20080621,0952, 48.0370, -20.8530, 4439,   4521.1,   2.5620,  34.9080,2,  34.9070,2,    241.5,2,    242.1,2,    47.06,2,    22.88,2,     1.35,2,   -999.0,9,   7.7320,2,    25.00
  35TH20080610, OVIDE,    39,  1,      4,2,20080621,0952, 48.0370, -20.8530, 4439,   4000.5,   2.5450,  34.9130,2,  34.9120,2,    243.1,2,    243.6,2,    45.40,2,    22.61,2,     1.34,2,   -999.0,9,   7.7340,2,    25.00
  35TH20080610, OVIDE,    39,  1,      5,2,20080621,0952, 48.0370, -20.8530, 4439,   3751.4,   2.5730,  34.9180,2,  34.9190,2,    244.7,2,    245.5,2,    42.89,2,    22.08,2,     1.30,2,   -999.0,9,   7.7310,2,    25.00
  35TH20080610, OVIDE,    39,  1,      6,2,20080621,0952, 48.0370, -20.8530, 4439,   3500.7,   2.6240,  34.9250,2,  34.9210,2,    248.2,2,    248.8,2,    40.76,2,    21.43,2,     1.25,2,   -999.0,9,   7.7310,2,    25.00
  35TH20080610, OVIDE,    39,  1,      7,2,20080621,0952, 48.0370, -20.8530, 4439,   3198.6,   2.7520,  34.9370,2,  34.9370,2,    255.6,2,    256.1,2,    32.89,2,    20.17,2,     1.17,2,   -999.0,9,   7.7320,2,    25.00
  35TH20080610, OVIDE,    39,  1,      8,2,20080621,0952, 48.0370, -20.8530, 4439,   3001.8,   2.8590,  34.9430,2,  34.9430,2,    257.9,2,    258.0,2,    29.72,2,    19.61,2,     1.14,2,   -999.0,9,   7.7330,2,    25.00
  35TH20080610, OVIDE,    39,  1,      9,2,20080621,0952, 48.0370, -20.8530, 4439,   2749.9,   3.0000,  34.9420,2,  34.9430,2,    265.6,2,    268.0,2,    20.48,2,    18.56,2,     1.02,2,   -999.0,9,   7.7320,2,    25.00
  35TH20080610, OVIDE,    39,  1,     10,2,20080621,0952, 48.0370, -20.8530, 4439,   2500.2,   3.1630,  34.9350,2,  34.9350,2,    271.0,2,    270.6,2,    16.91,2,    17.52,2,     1.02,2,   -999.0,9,   7.7320,2,    25.00
  35TH20080610, OVIDE,    39,  1,     11,2,20080621,0952, 48.0370, -20.8530, 4439,   2248.6,   3.2570,  34.9140,2,  34.9140,2,    277.5,2,    279.1,2,    13.32,2,    17.04,2,     1.01,2,   -999.0,9,   7.7280,2,    25.00
  35TH20080610, OVIDE,    39,  1,     12,2,20080621,0952, 48.0370, -20.8530, 4439,   2247.8,   3.2600,  34.9140,2,  34.9140,2,    277.5,2,    278.4,2,    13.38,2,    16.93,2,     1.00,2,   -999.0,9,   7.7330,2,    25.00
  35TH20080610, OVIDE,    39,  1,     13,2,20080621,0952, 48.0370, -20.8530, 4439,   2001.4,   3.4280,  34.9060,2,  34.9090,2,    277.8,2,    278.1,2,    12.00,2,    17.08,2,     0.99,2,   -999.0,9,   7.7250,2,    25.00
  35TH20080610, OVIDE,    39,  1,     14,2,20080621,0952, 48.0370, -20.8530, 4439,   1802.4,   3.6020,  34.9100,2,  34.9110,2,    275.5,2,    277.0,2,    11.42,2,    17.09,2,     1.00,2,   -999.0,9,   7.7240,2,    25.00
  35TH20080610, OVIDE,    39,  1,     15,2,20080621,0952, 48.0370, -20.8530, 4439,   1601.0,   3.7930,  34.9120,2,  34.9140,2,    274.8,2,    274.3,2,    10.84,2,    16.83,2,     0.96,2,   -999.0,9,   7.7240,2,    25.00
  35TH20080610, OVIDE,    39,  1,     16,2,20080621,0952, 48.0370, -20.8530, 4439,   1401.5,   4.3080,  34.9700,2,  34.9720,2,    263.3,2,    264.6,2,    10.94,2,    17.34,2,     0.96,2,   -999.0,9,   7.7170,2,    25.00
  35TH20080610, OVIDE,    39,  1,     17,2,20080621,0952, 48.0370, -20.8530, 4439,   1200.0,   5.5940,  35.1490,2,  35.1510,2,    240.3,2,    238.7,2,    11.23,2,    17.74,2,     1.00,2,   -999.0,9,   7.7240,2,    25.00
  35TH20080610, OVIDE,    39,  1,     18,2,20080621,0952, 48.0370, -20.8530, 4439,    958.2,   7.5760,  35.3780,2,  35.3790,2,    207.9,2,    209.1,2,    10.94,2,    18.25,2,     0.99,2,   -999.0,9,   7.7340,2,    25.00
  35TH20080610, OVIDE,    39,  1,     19,2,20080621,0952, 48.0370, -20.8530, 4439,    896.0,   8.0430,  35.4000,2,  35.4030,2,    199.3,2,    204.8,3,    10.72,2,    18.62,2,     1.01,2,   -999.0,9,   7.7340,2,    25.00
  35TH20080610, OVIDE,    39,  1,     20,2,20080621,0952, 48.0370, -20.8530, 4439,    800.4,   8.4340,  35.3710,2,  35.3720,2,    195.3,2,    197.3,2,    10.48,2,    18.50,2,     1.03,2,   -999.0,9,   7.7250,2,    25.00
  35TH20080610, OVIDE,    39,  1,     21,2,20080621,0952, 48.0370, -20.8530, 4439,    699.7,   9.1200,  35.3360,2,  35.3340,2,    193.7,2,    194.6,2,     9.91,2,    18.36,2,     1.03,2,   -999.0,9,   7.7320,2,    25.00
  35TH20080610, OVIDE,    39,  1,     22,2,20080621,0952, 48.0370, -20.8530, 4439,    600.1,   9.7120,  35.2790,2,  35.2760,2,    216.8,2,    217.9,2,     7.94,2,    15.83,2,     0.88,2,   -999.0,9,   7.7660,2,    25.00
  35TH20080610, OVIDE,    39,  1,     23,2,20080621,0952, 48.0370, -20.8530, 4439,    500.0,  10.8390,  35.4600,2,  35.4600,2,    235.8,2,    237.7,2,     5.32,2,    12.04,2,     0.66,2,   -999.0,9,   7.8160,2,    25.00
  35TH20080610, OVIDE,    39,  1,     24,2,20080621,0952, 48.0370, -20.8530, 4439,    399.3,  11.1190,  35.4720,2,  35.4740,2,    241.3,2,    235.9,2,     5.35,2,    12.17,2,     0.67,2,   -999.0,9,   7.8220,2,    25.00
  35TH20080610, OVIDE,    39,  1,     25,2,20080621,0952, 48.0370, -20.8530, 4439,    297.0,  11.6300,  35.5650,2,  35.5670,2,    250.7,2,    251.6,2,     4.24,2,     9.95,2,     0.54,2,   -999.0,9,   7.8530,2,    25.00
  35TH20080610, OVIDE,    39,  1,     26,2,20080621,0952, 48.0370, -20.8530, 4439,    196.2,  11.9600,  35.6090,2,  35.6080,2,    247.1,2,    267.4,3,     2.99,2,     9.01,2,     0.49,2,   -999.0,9,   7.8600,2,    25.00
  35TH20080610, OVIDE,    39,  1,     27,2,20080621,0952, 48.0370, -20.8530, 4439,    140.5,  12.1570,  35.6390,2,  35.6360,2,    249.3,2,    249.4,2,     3.34,2,     8.80,2,     0.48,2,   -999.0,9,   7.8600,2,    25.00
  35TH20080610, OVIDE,    39,  1,     28,2,20080621,0952, 48.0370, -20.8530, 4439,     99.6,  12.3040,  35.6600,2,  35.6610,2,    249.0,2,    252.0,2,     3.28,2,     8.77,2,     0.47,2,   -999.0,9,   7.8640,2,    25.00
  35TH20080610, OVIDE,    39,  1,     29,2,20080621,0952, 48.0370, -20.8530, 4439,     54.6,  13.0490,  35.6330,2,  35.6320,2,    262.2,2,    258.4,2,     1.04,2,     3.68,2,     0.28,2,   -999.0,9,   7.9140,2,    25.00
  35TH20080610, OVIDE,    39,  1,     30,2,20080621,0952, 48.0370, -20.8530, 4439,      4.7,  15.2560,  35.6720,2,  35.6760,2,    263.0,2,    263.6,2,     1.14,2,     0.30,2,     0.06,2,   -999.0,9,   7.9840,2,    25.00
  35TH20080610, OVIDE,    40,  1,      3,2,20080621,1617, 48.4100, -21.1410, 4364,   4444.7,   2.5580,  34.9080,2,  34.9070,2,    242.1,2,    242.3,2,    47.08,2,    22.21,2,     1.31,2,   2354.3,2,   7.7310,2,    25.00
  35TH20080610, OVIDE,    40,  1,      4,2,20080621,1617, 48.4100, -21.1410, 4364,   3998.9,   2.5350,  34.9110,2,  34.9200,3,    243.1,2,    242.7,2,    46.27,2,    22.18,2,     1.31,2,   2353.2,2,   7.7260,2,    25.00
  35TH20080610, OVIDE,    40,  1,      5,2,20080621,1617, 48.4100, -21.1410, 4364,   3748.7,   2.5540,  34.9170,2,  34.9180,2,    245.0,2,    244.3,2,    43.42,2,    21.54,2,     1.27,2,   2351.5,2,   7.7310,2,    25.00
  35TH20080610, OVIDE,    40,  1,      6,2,20080621,1617, 48.4100, -21.1410, 4364,   3498.9,   2.5960,  34.9220,2,  34.9200,2,    247.0,2,    247.0,2,    41.43,2,    20.80,2,     1.23,2,   2346.8,2,   7.7310,2,    25.00
  35TH20080610, OVIDE,    40,  1,      7,2,20080621,1617, 48.4100, -21.1410, 4364,   3249.8,   2.6920,  34.9330,2,  34.9310,2,    251.4,2,    252.0,2,    36.34,2,    20.40,2,     1.16,2,   2340.8,2,   7.7310,2,    25.00
  35TH20080610, OVIDE,    40,  1,      8,2,20080621,1617, 48.4100, -21.1410, 4364,   3000.2,   2.7920,  34.9400,2,  34.9390,2,    258.7,2,    257.6,2,    30.79,2,    18.81,2,     1.10,2,   2329.4,2,   7.7310,2,    25.00
  35TH20080610, OVIDE,    40,  1,      9,2,20080621,1617, 48.4100, -21.1410, 4364,   2749.9,   2.9240,  34.9430,2,  34.9420,2,    264.7,2,    265.3,2,    24.31,2,    18.27,2,     1.07,2,   2321.3,2,   7.7310,2,    25.00
  35TH20080610, OVIDE,    40,  1,     10,2,20080621,1617, 48.4100, -21.1410, 4364,   2499.4,   3.0620,  34.9370,2,  34.9360,2,    269.2,2,    270.0,2,    16.34,2,    17.57,2,     1.01,2,   2317.6,2,   7.7280,2,    25.00
  35TH20080610, OVIDE,    40,  1,     11,2,20080621,1617, 48.4100, -21.1410, 4364,   2249.3,   3.2160,  34.9320,2,  34.9320,2,    272.3,2,    272.7,2,    14.52,2,    17.64,2,     1.02,2,   2314.2,2,   7.7290,2,    25.00
  35TH20080610, OVIDE,    40,  1,     12,2,20080621,1617, 48.4100, -21.1410, 4364,   1999.9,   3.3640,  34.9230,2,  34.9230,2,    275.3,2,    275.7,2,    12.52,2,    17.35,2,     0.95,2,   2311.1,2,   7.7300,2,    25.00
  35TH20080610, OVIDE,    40,  1,     13,2,20080621,1617, 48.4100, -21.1410, 4364,   1801.3,   3.9100,  34.9840,2,  34.9880,2,    265.3,2,    264.9,2,    12.61,2,    17.94,2,     1.02,2,   2315.0,2,   7.7290,2,    25.00
  35TH20080610, OVIDE,    40,  1,     14,2,20080621,1617, 48.4100, -21.1410, 4364,   1801.1,   3.8900,  34.9830,2,  34.9800,2,    265.3,2,    264.5,2,    12.70,2,    18.01,2,     1.02,2,   -999.0,9,-999.0000,9,  -999.00
  35TH20080610, OVIDE,    40,  1,     15,2,20080621,1617, 48.4100, -21.1410, 4364,   1599.2,   4.8420,  35.1050,2,  35.1060,2,    248.6,2,    250.0,2,    11.84,2,    18.48,2,     1.01,2,   2321.5,2,   7.7320,2,    25.00
  35TH20080610, OVIDE,    40,  1,     16,2,20080621,1617, 48.4100, -21.1410, 4364,   1399.2,   5.9550,  35.2460,2,  35.2480,2,    233.6,2,    234.7,2,    10.72,2,    17.55,2,     0.99,2,   2336.7,2,   7.7310,2,    25.00
  35TH20080610, OVIDE,    40,  1,     17,2,20080621,1617, 48.4100, -21.1410, 4364,   1198.8,   6.5640,  35.2810,2,  35.2810,2,    223.8,2,    225.8,2,    10.11,2,    17.83,2,     0.98,2,   2332.9,2,   7.7310,2,    25.00
  35TH20080610, OVIDE,    40,  1,     18,2,20080621,1617, 48.4100, -21.1410, 4364,   1000.1,   7.7120,  35.3880,2,  35.3860,2,    206.2,2,    207.4,2,     9.90,2,    18.11,2,     1.01,2,   2339.7,2,   7.7310,2,    25.00
  35TH20080610, OVIDE,    40,  1,     19,2,20080621,1617, 48.4100, -21.1410, 4364,    899.0,   7.9250,  35.3570,2,  35.3570,2,    199.7,2,    202.3,2,     9.77,2,    18.41,2,     1.03,2,   2337.1,2,   7.7320,2,    25.00
  35TH20080610, OVIDE,    40,  1,     20,2,20080621,1617, 48.4100, -21.1410, 4364,    801.6,   8.4080,  35.2980,2,  35.3060,3,    192.7,2,    194.0,2,     9.71,2,    18.97,2,     1.04,2,   2334.0,2,   7.7240,2,    25.00
  35TH20080610, OVIDE,    40,  1,     21,2,20080621,1617, 48.4100, -21.1410, 4364,    699.3,   9.4630,  35.3810,2,  35.3820,2,    193.5,2,    195.1,2,     8.41,2,    17.75,2,     0.96,2,   2334.4,2,   7.7460,2,    25.00
  35TH20080610, OVIDE,    40,  1,     22,2,20080621,1617, 48.4100, -21.1410, 4364,    598.1,  10.0690,  35.4100,2,  35.4110,2,    206.5,2,    204.3,2,     7.22,2,    16.81,2,     0.86,2,   2335.0,2,   7.7680,2,    25.00
  35TH20080610, OVIDE,    40,  1,     23,2,20080621,1617, 48.4100, -21.1410, 4364,    499.1,  10.5040,  35.4380,2,  35.4420,2,    229.5,2,    221.7,3,     5.73,2,    14.04,2,     0.74,2,   2335.1,2,   7.7880,2,    25.00
  35TH20080610, OVIDE,    40,  1,     24,2,20080621,1617, 48.4100, -21.1410, 4364,    400.5,  10.9080,  35.4770,2,  35.4770,2,    237.1,2,    231.2,2,     4.93,2,    12.64,2,     0.68,2,   2336.1,2,   7.8120,2,    25.00
  35TH20080610, OVIDE,    40,  1,     25,2,20080621,1617, 48.4100, -21.1410, 4364,    300.4,  11.2390,  35.5210,2,  35.5200,2,    246.8,2,    244.6,2,     4.07,2,    10.94,2,     0.57,2,   -999.0,9,   7.8340,2,    25.00
  35TH20080610, OVIDE,    40,  1,     26,2,20080621,1617, 48.4100, -21.1410, 4364,    199.3,  11.5990,  35.5710,2,  35.5700,2,    254.6,2,    254.9,2,     3.06,2,     9.42,2,     0.48,2,   2340.6,2,   7.8520,2,    25.00
  35TH20080610, OVIDE,    40,  1,     27,2,20080621,1617, 48.4100, -21.1410, 4364,    149.0,  11.7510,  35.5840,2,  35.5830,2,    246.7,2,    254.6,3,     2.86,2,     9.16,2,     0.48,2,   -999.0,9,   7.8570,2,    25.00
  35TH20080610, OVIDE,    40,  1,     28,2,20080621,1617, 48.4100, -21.1410, 4364,     99.3,  11.9730,  35.5890,2,  35.5870,2,    255.5,2,    255.5,2,     2.35,2,     8.41,2,     0.44,2,   2342.1,2,   7.8620,2,    25.00
  35TH20080610, OVIDE,    40,  1,     29,2,20080621,1617, 48.4100, -21.1410, 4364,     57.2,  13.0680,  35.6590,2,  35.6580,2,    258.3,2,    256.1,2,     1.50,2,     5.39,2,     0.33,2,   -999.0,9,   7.9020,2,    25.00
  35TH20080610, OVIDE,    40,  1,     30,2,20080621,1617, 48.4100, -21.1410, 4364,      3.9,  15.2840,  35.6580,2,  35.6570,2,    262.1,2,    262.2,2,     0.74,2,     0.68,2,     0.06,2,   2347.0,2,   7.9740,2,    25.00