BOTTLE,20140930PRINUNIVRMK
EXPOCODE,SECT_ID,STNNBR,CASTNO,BTLNBR,BTLNBR_FLAG_W,DATE,TIME,LATITUDE,LONGITUDE,DEPTH,CTDPRS,CTDTMP,CTDSAL,CTDSAL_FLAG_W,SALNTY,SALNTY_FLAG_W,CTDOXY,CTDOXY_FLAG_W,OXYGEN,OXYGEN_FLAG_W,SILCAT,SILCAT_FLAG_W,NITRAT,NITRAT_FLAG_W,PHSPHT,PHSPHT_FLAG_W,ALKALI,ALKALI_FLAG_W,PH_SWS,PH_SWS_FLAG_W,PH_TMP
,,,,,,,,,,METERS,DBAR,ITS-90,PSS-78,,PSS-78,,UMOL/KG,,UMOL/KG,,UMOL/KG,,UMOL/KG,,UMOL/KG,,UMOL/KG,,,,DEG C
  35TH20080610, OVIDE,    10,  1,      3,2,20080613,2149, 40.3340, -10.5720, 4352,   4429.4,   2.4660,  34.9000,2,  34.8990,2,    244.7,2,    243.5,2,    46.79,2,    23.84,2,     1.32,2,   2353.5,2,   7.7360,2,    25.00
  35TH20080610, OVIDE,    10,  1,      4,2,20080613,2149, 40.3340, -10.5720, 4352,   4330.1,   2.4670,  34.9020,2,  34.9000,2,    245.0,2,    244.0,2,    46.21,2,    23.15,2,     1.32,2,   2353.2,2,   7.7370,2,    25.00
  35TH20080610, OVIDE,    10,  1,      5,2,20080613,2149, 40.3340, -10.5720, 4352,   3749.9,   2.5040,  34.9110,2,  34.9190,3,    244.8,2,    244.8,2,    42.96,2,    22.45,2,     1.30,2,   2349.2,2,   7.7380,2,    25.00
  35TH20080610, OVIDE,    10,  1,      6,2,20080613,2149, 40.3340, -10.5720, 4352,   3537.0,   2.5500,  34.9190,2,  34.9160,2,    244.9,2,    245.2,2,    42.17,2,    22.78,2,     1.29,2,   2346.2,2,   7.7390,2,    25.00
  35TH20080610, OVIDE,    10,  1,      7,2,20080613,2149, 40.3340, -10.5720, 4352,   3250.4,   2.6700,  34.9320,2,  34.9300,2,    245.8,2,    246.2,2,    39.17,2,    22.28,2,     1.27,2,   2344.3,2,   7.7400,2,    25.00
  35TH20080610, OVIDE,    10,  1,      8,2,20080613,2149, 40.3340, -10.5720, 4352,   3000.3,   2.8000,  34.9470,2,  34.9470,2,    246.7,2,    246.7,2,    36.90,2,    21.61,2,     1.24,2,   2339.9,2,   7.7400,2,    25.00
  35TH20080610, OVIDE,    10,  1,     11,2,20080613,2149, 40.3340, -10.5720, 4352,   2500.2,   3.3550,  35.0070,2,  35.0060,2,    248.3,2,    247.6,2,    28.87,2,    21.12,2,     1.17,2,   2331.6,2,   7.7420,2,    25.00
  35TH20080610, OVIDE,    10,  1,     12,2,20080613,2149, 40.3340, -10.5720, 4352,   2250.1,   3.8620,  35.0690,2,  35.0700,2,    246.7,2,    246.4,2,    24.29,2,    20.79,2,     1.12,2,   2330.3,2,   7.7420,2,    25.00
  35TH20080610, OVIDE,    10,  1,     13,2,20080613,2149, 40.3340, -10.5720, 4352,   2000.0,   4.1880,  35.0840,2,  35.0900,2,    252.1,2,    250.3,2,    16.97,2,    19.21,2,     1.06,2,   2323.7,2,   7.7420,2,    25.00
  35TH20080610, OVIDE,    10,  1,     14,2,20080613,2149, 40.3340, -10.5720, 4352,   1799.5,   5.1450,  35.2200,2,  35.2200,2,    243.6,2,    242.8,2,    14.38,2,    18.93,2,     1.01,2,   2331.5,2,   7.7470,2,    25.00
  35TH20080610, OVIDE,    10,  1,     15,2,20080613,2149, 40.3340, -10.5720, 4352,   1600.5,   7.2800,  35.5910,2,  35.5710,3,    226.5,2,    219.3,3,    12.37,2,    18.00,2,     0.96,2,   2353.8,2,   7.7650,2,    25.00
  35TH20080610, OVIDE,    10,  1,     16,2,20080613,2149, 40.3340, -10.5720, 4352,   1400.2,   9.2960,  35.9480,2,  35.9480,2,    198.3,2,    199.8,2,     9.27,2,    17.13,2,     0.87,2,   2375.9,2,   7.7860,2,    25.00
  35TH20080610, OVIDE,    10,  1,     17,2,20080613,2149, 40.3340, -10.5720, 4352,   1200.3,  10.9160,  36.2200,2,  36.2200,2,    184.3,2,    186.6,2,     9.17,2,    16.27,2,     0.80,2,   2395.1,2,   7.8020,2,    25.00
  35TH20080610, OVIDE,    10,  1,     18,2,20080613,2149, 40.3340, -10.5720, 4352,   1000.4,  11.1350,  36.1380,2,  36.1370,2,    181.8,2,    183.0,2,     8.64,2,    16.01,2,     0.81,2,   2384.9,2,   7.7980,2,    25.00
  35TH20080610, OVIDE,    10,  1,     19,2,20080613,2149, 40.3340, -10.5720, 4352,    899.8,  11.3560,  36.0990,2,  36.1000,2,    181.9,2,    185.6,2,     8.28,2,    15.96,2,     0.80,2,   2379.6,2,   7.8000,2,    25.00
  35TH20080610, OVIDE,    10,  1,     20,2,20080613,2149, 40.3340, -10.5720, 4352,    800.1,  11.6660,  36.0560,2,  36.0550,2,    183.2,2,    182.9,2,     7.49,2,    15.54,2,     0.77,2,   -999.0,9,   7.8030,2,    25.00
  35TH20080610, OVIDE,    10,  1,     21,2,20080613,2149, 40.3340, -10.5720, 4352,    700.1,  11.6200,  35.9280,2,  35.9310,2,    184.2,2,    184.1,2,     7.19,2,    16.03,2,     0.78,2,   2362.8,2,   7.7990,2,    25.00
  35TH20080610, OVIDE,    10,  1,     22,2,20080613,2149, 40.3340, -10.5720, 4352,    600.1,  11.2920,  35.7120,2,  35.7130,2,    191.8,2,    191.0,2,     6.67,2,    15.64,2,     0.79,2,   2345.3,2,   7.7880,2,    25.00
  35TH20080610, OVIDE,    10,  1,     23,2,20080613,2149, 40.3340, -10.5720, 4352,    500.2,  11.3990,  35.6340,2,  35.6320,2,    205.3,2,    204.4,2,     5.60,2,    14.47,2,     0.71,2,   2339.1,2,   7.7970,2,    25.00
  35TH20080610, OVIDE,    10,  1,     24,2,20080613,2149, 40.3340, -10.5720, 4352,    400.0,  11.6830,  35.6330,2,  35.6340,2,    219.1,2,    218.9,2,     4.39,2,    12.53,2,     0.61,2,   2335.2,2,   7.8150,2,    25.00
  35TH20080610, OVIDE,    10,  1,     25,2,20080613,2149, 40.3340, -10.5720, 4352,    300.4,  12.1920,  35.6960,2,  35.6950,2,    219.6,2,    215.7,2,     4.02,2,    11.78,2,     0.57,2,   -999.0,9,   7.8290,2,    25.00
  35TH20080610, OVIDE,    10,  1,     26,2,20080613,2149, 40.3340, -10.5720, 4352,    200.0,  12.9620,  35.8060,2,  35.7930,3,    219.4,2,    214.4,2,     3.55,2,    10.62,2,     0.51,2,   2346.8,2,   7.8460,2,    25.00
  35TH20080610, OVIDE,    10,  1,     27,2,20080613,2149, 40.3340, -10.5720, 4352,    149.7,  13.5710,  35.8790,2,  35.8710,3,    237.5,2,    230.7,3,     2.56,2,     6.92,2,     0.33,2,   -999.0,9,   7.8830,2,    25.00
  35TH20080610, OVIDE,    10,  1,     28,2,20080613,2149, 40.3340, -10.5720, 4352,    100.0,  14.1300,  35.9720,2,  35.9650,3,    238.6,2,   -999.0,3,     1.92,2,     4.36,2,     0.21,2,   2357.8,2,   7.9100,2,    25.00
  35TH20080610, OVIDE,    10,  1,     29,2,20080613,2149, 40.3340, -10.5720, 4352,     55.8,  14.5180,  36.0150,2,  36.0220,3,    253.0,2,    236.9,3,     1.68,2,     3.23,2,     0.16,2,   -999.0,9,   7.9220,2,    25.00
  35TH20080610, OVIDE,    10,  1,     30,2,20080613,2149, 40.3340, -10.5720, 4352,      3.0,  18.7830,  35.4920,2,  35.5020,3,    241.4,2,    240.5,2,     1.47,2,     0.08,2,     0.05,2,   2351.1,2,   8.0000,2,    25.00
  35TH20080610, OVIDE,    11,  1,      3,2,20080614,0243, 40.3320, -10.9050, 4841,   4298.1,   2.4790,  34.9020,2,  34.9040,2,    245.1,2,    243.3,2,    44.81,2,    23.32,2,     1.40,2,   -999.0,9,   7.7390,2,    25.00
  35TH20080610, OVIDE,    11,  1,      4,2,20080614,0243, 40.3320, -10.9050, 4841,   3999.9,   2.4900,  34.9070,2,  34.9080,2,    244.8,2,    242.8,2,    44.09,2,    23.23,2,     1.41,2,   -999.0,9,   7.7360,2,    25.00
  35TH20080610, OVIDE,    11,  1,      5,2,20080614,0243, 40.3320, -10.9050, 4841,   3749.1,   2.5340,  34.9140,2,  34.9200,2,    244.9,2,    244.1,2,    42.44,2,    23.46,2,     1.39,2,   -999.0,9,   7.7360,2,    25.00
  35TH20080610, OVIDE,    11,  1,      6,2,20080614,0243, 40.3320, -10.9050, 4841,   3499.9,   2.6120,  34.9260,2,  34.9240,2,    245.4,2,    245.5,2,    40.50,2,    22.95,2,     1.34,2,   -999.0,9,   7.7370,2,    25.00
  35TH20080610, OVIDE,    11,  1,      7,2,20080614,0243, 40.3320, -10.9050, 4841,   3250.7,   2.7290,  34.9380,2,  34.9390,2,    246.1,2,    246.2,2,    37.76,2,    23.24,2,     1.33,2,   -999.0,9,   7.7370,2,    25.00
  35TH20080610, OVIDE,    11,  1,      8,2,20080614,0243, 40.3320, -10.9050, 4841,   3000.4,   2.8580,  34.9530,2,  34.9540,2,    246.9,2,    247.9,2,    35.79,2,    22.67,2,     1.32,2,   -999.0,9,   7.7390,2,    25.00
  35TH20080610, OVIDE,    11,  1,      9,2,20080614,0243, 40.3320, -10.9050, 4841,   2750.7,   3.0650,  34.9760,2,  34.9540,3,    247.5,2,    248.2,2,    32.47,2,    21.43,2,     1.27,2,   -999.0,9,   7.7400,2,    25.00
  35TH20080610, OVIDE,    11,  1,     10,2,20080614,0243, 40.3320, -10.9050, 4841,   2501.0,   3.3800,  35.0090,2,  35.0090,2,    247.9,2,    248.9,2,    28.78,2,    21.55,2,     1.24,2,   -999.0,9,   7.7410,2,    25.00
  35TH20080610, OVIDE,    11,  1,     11,2,20080614,0243, 40.3320, -10.9050, 4841,   2251.2,   3.6900,  35.0340,2,  35.0310,2,    250.9,2,    249.8,2,    24.56,2,    20.20,2,     1.20,2,   -999.0,9,   7.7410,2,    25.00
  35TH20080610, OVIDE,    11,  1,     12,2,20080614,0243, 40.3320, -10.9050, 4841,   2251.7,   3.6840,  35.0330,2,  35.0340,2,    250.9,2,    251.0,2,    24.90,2,    20.16,2,     1.20,2,   -999.0,9,   7.7420,2,    25.00
  35TH20080610, OVIDE,    11,  1,     13,2,20080614,0243, 40.3320, -10.9050, 4841,   2000.5,   4.3200,  35.1050,2,  35.1040,2,    250.1,2,    233.4,3,    17.07,2,    19.95,2,     1.10,2,   -999.0,9,   7.7410,2,    25.00
  35TH20080610, OVIDE,    11,  1,     14,2,20080614,0243, 40.3320, -10.9050, 4841,   1800.1,   5.0730,  35.2060,2,  35.2090,2,    248.3,2,    242.7,2,    14.46,2,    19.61,2,     1.09,2,   -999.0,9,   7.7440,2,    25.00
  35TH20080610, OVIDE,    11,  1,     15,2,20080614,0243, 40.3320, -10.9050, 4841,   1600.1,   6.2070,  35.3740,2,  35.3740,2,    230.8,2,    230.8,2,    12.69,2,    19.30,2,     1.05,2,   -999.0,9,   7.7500,2,    25.00
  35TH20080610, OVIDE,    11,  1,     16,2,20080614,0243, 40.3320, -10.9050, 4841,   1399.9,   8.8590,  35.8470,2,  35.8440,2,    200.9,2,    201.7,2,    10.79,2,    18.11,2,     0.95,2,   -999.0,9,   7.7770,2,    25.00
  35TH20080610, OVIDE,    11,  1,     17,2,20080614,0243, 40.3320, -10.9050, 4841,   1199.8,  10.0610,  35.9950,2,  35.9970,2,    188.7,2,    189.5,2,     9.79,2,    17.63,2,     0.92,2,   -999.0,9,   7.7860,2,    25.00
  35TH20080610, OVIDE,    11,  1,     18,2,20080614,0243, 40.3320, -10.9050, 4841,    999.5,  10.9520,  36.0750,2,  36.0780,2,    181.7,2,    176.4,3,     8.91,2,    16.56,2,     0.89,2,   -999.0,9,   7.7970,2,    25.00
  35TH20080610, OVIDE,    11,  1,     19,2,20080614,0243, 40.3320, -10.9050, 4841,    900.1,  11.2170,  36.0400,2,  36.0420,2,    181.5,2,    179.7,2,     8.27,2,    16.40,2,     0.87,2,   -999.0,9,   7.7970,2,    25.00
  35TH20080610, OVIDE,    11,  1,     20,2,20080614,0243, 40.3320, -10.9050, 4841,    800.9,  11.6750,  36.0540,2,  36.0560,2,    182.3,2,    185.2,2,     7.54,2,    15.50,2,     0.83,2,   -999.0,9,   7.8060,2,    25.00
  35TH20080610, OVIDE,    11,  1,     21,2,20080614,0243, 40.3320, -10.9050, 4841,    700.7,  11.5650,  35.9310,2,  35.9340,2,    183.5,2,    174.9,3,     7.46,2,    16.40,2,     0.79,2,   -999.0,9,   7.7960,2,    25.00
  35TH20080610, OVIDE,    11,  1,     22,2,20080614,0243, 40.3320, -10.9050, 4841,    600.8,  11.3660,  35.7420,2,  35.7540,3,    188.5,2,    187.6,2,     7.05,2,    16.26,2,     0.86,2,   -999.0,9,   7.7900,2,    25.00
  35TH20080610, OVIDE,    11,  1,     23,2,20080614,0243, 40.3320, -10.9050, 4841,    500.7,  11.3920,  35.6100,2,  35.6170,3,    207.5,2,    208.4,2,     5.31,2,    14.28,2,     0.76,2,   -999.0,9,   7.8020,2,    25.00
  35TH20080610, OVIDE,    11,  1,     24,2,20080614,0243, 40.3320, -10.9050, 4841,    399.9,  11.8030,  35.6310,2,  35.6330,2,    222.1,2,    215.6,2,     4.08,2,    11.97,2,     0.62,2,   -999.0,9,   7.8240,2,    25.00
  35TH20080610, OVIDE,    11,  1,     25,2,20080614,0243, 40.3320, -10.9050, 4841,    299.3,  12.2660,  35.6830,2,  35.6840,2,    224.0,2,    226.4,2,     3.59,2,    10.75,2,     0.57,2,   -999.0,9,   7.8410,2,    25.00
  35TH20080610, OVIDE,    11,  1,     26,2,20080614,0243, 40.3320, -10.9050, 4841,    199.0,  13.2710,  35.8270,2,  35.8190,3,    227.5,2,    229.3,2,     2.78,2,     8.26,2,     0.41,2,   -999.0,9,   7.8730,2,    25.00
  35TH20080610, OVIDE,    11,  1,     27,2,20080614,0243, 40.3320, -10.9050, 4841,    149.1,  13.8210,  35.9130,2,  35.9130,2,    243.8,2,    239.8,2,     1.88,2,     4.16,2,     0.24,2,   -999.0,9,   7.9160,2,    25.00
  35TH20080610, OVIDE,    11,  1,     28,2,20080614,0243, 40.3320, -10.9050, 4841,     99.2,  14.1740,  35.9730,2,  35.9650,3,    241.7,2,    236.3,2,     1.84,2,     3.75,2,     0.19,2,   -999.0,9,   7.9190,2,    25.00
  35TH20080610, OVIDE,    11,  1,     29,2,20080614,0243, 40.3320, -10.9050, 4841,     56.9,  14.6840,  36.0470,2,  36.0450,2,    240.9,2,    237.5,2,     1.67,2,     2.14,2,     0.14,2,   -999.0,9,   7.9360,2,    25.00
  35TH20080610, OVIDE,    11,  1,     30,2,20080614,0243, 40.3320, -10.9050, 4841,      6.2,  18.6930,  35.9780,2,  35.9850,3,    244.8,2,    241.6,2,     1.30,2,     0.00,2,     0.01,2,   -999.0,9,   7.9990,2,    25.00
  35TH20080610, OVIDE,    12,  1,      3,2,20080614,0901, 40.3310, -11.3390, 5087,   5175.9,   2.5340,  34.8980,2,  34.8940,2,    245.9,2,    244.9,2,    45.94,2,    24.21,2,     1.40,2,   2356.8,2,   7.7370,2,    25.00
  35TH20080610, OVIDE,    12,  1,      4,2,20080614,0901, 40.3310, -11.3390, 5087,   4500.9,   2.4700,  34.9000,2,  34.8970,2,    246.6,2,    244.7,2,    45.26,2,    23.26,2,     1.41,2,   2353.4,2,   7.7380,2,    25.00
  35TH20080610, OVIDE,    12,  1,      5,2,20080614,0901, 40.3310, -11.3390, 5087,   4000.4,   2.4900,  34.9080,2,  34.9150,2,    245.5,2,    245.0,2,    43.33,2,    23.79,2,     1.51,2,   2350.6,2,   7.7370,2,    25.00
  35TH20080610, OVIDE,    12,  1,      6,2,20080614,0901, 40.3310, -11.3390, 5087,   3750.8,   2.5270,  34.9140,2,  34.9110,2,    245.3,2,    244.8,2,    42.31,2,    22.53,2,     1.34,2,   2348.6,2,   7.7370,2,    25.00
  35TH20080610, OVIDE,    12,  1,      7,2,20080614,0901, 40.3310, -11.3390, 5087,   3499.8,   2.5910,  34.9240,2,  34.9200,2,    245.7,2,    246.0,2,    40.16,2,    22.72,2,     1.36,2,   2346.8,2,   7.7380,2,    25.00
  35TH20080610, OVIDE,    12,  1,      8,2,20080614,0901, 40.3310, -11.3390, 5087,   3250.2,   2.6980,  34.9340,2,  34.9340,2,    246.1,2,    246.5,2,    38.01,2,    22.30,2,     1.33,2,   2344.0,2,   7.7380,2,    25.00
  35TH20080610, OVIDE,    12,  1,      9,2,20080614,0901, 40.3310, -11.3390, 5087,   3000.1,   2.8380,  34.9500,2,  34.9490,2,    247.1,2,    247.2,2,    35.18,2,    22.69,2,     1.31,2,   2341.7,2,   7.7390,2,    25.00
  35TH20080610, OVIDE,    12,  1,     10,2,20080614,0901, 40.3310, -11.3390, 5087,   2749.7,   3.0440,  34.9710,2,  34.9700,2,    248.5,2,    248.0,2,    31.66,2,    21.40,2,     1.26,2,   2337.0,2,   7.7420,2,    25.00
  35TH20080610, OVIDE,    12,  1,     11,2,20080614,0901, 40.3310, -11.3390, 5087,   2499.6,   3.3610,  35.0040,2,  35.0020,2,    249.8,2,    248.3,2,    27.66,2,    21.63,2,     1.24,2,   2332.3,2,   7.7390,2,    25.00
  35TH20080610, OVIDE,    12,  1,     12,2,20080614,0901, 40.3310, -11.3390, 5087,   2247.5,   3.7210,  35.0340,2,  35.0320,2,    252.1,2,    251.1,2,    22.97,2,    19.82,2,     1.16,2,   2330.2,2,   7.7420,2,    25.00
  35TH20080610, OVIDE,    12,  1,     13,2,20080614,0901, 40.3310, -11.3390, 5087,   2000.0,   4.2430,  35.0980,2,  35.1030,2,    250.5,2,    248.7,2,    17.58,2,    19.62,2,     1.13,2,   2327.4,2,   7.7420,2,    25.00
  35TH20080610, OVIDE,    12,  1,     14,2,20080614,0901, 40.3310, -11.3390, 5087,   1799.8,   4.7910,  35.1560,2,  35.1540,2,    248.1,2,    247.7,2,    14.35,2,    19.03,2,     1.09,2,   2326.5,2,   7.7410,2,    25.00
  35TH20080610, OVIDE,    12,  1,     15,2,20080614,0901, 40.3310, -11.3390, 5087,   1599.4,   6.0830,  35.3430,2,  35.3460,2,    233.9,2,    231.5,2,    12.35,2,    18.69,2,     1.06,2,   2337.4,2,   7.7460,2,    25.00
  35TH20080610, OVIDE,    12,  1,     16,2,20080614,0901, 40.3310, -11.3390, 5087,   1400.8,   8.2850,  35.7170,2,  35.7170,2,    206.3,2,    207.5,2,    10.93,2,    18.04,2,     0.99,2,   2362.1,2,   7.7700,2,    25.00
  35TH20080610, OVIDE,    12,  1,     17,2,20080614,0901, 40.3310, -11.3390, 5087,   1199.7,  10.3690,  36.0840,2,  36.0900,2,    186.4,2,    187.6,2,     9.53,2,    16.89,2,     0.90,2,   2385.5,2,   7.7930,2,    25.00
  35TH20080610, OVIDE,    12,  1,     18,2,20080614,0901, 40.3310, -11.3390, 5087,    999.9,  11.0950,  36.1290,2,  36.1270,2,    181.3,2,    181.7,2,     8.74,2,    16.43,2,     0.87,2,   2386.1,2,   7.7990,2,    25.00
  35TH20080610, OVIDE,    12,  1,     19,2,20080614,0901, 40.3310, -11.3390, 5087,    899.8,  11.3470,  36.1130,2,  36.1130,2,    181.6,2,    181.4,2,     8.35,2,    16.12,2,     0.86,2,   2384.0,2,   7.8010,2,    25.00
  35TH20080610, OVIDE,    12,  1,     20,2,20080614,0901, 40.3310, -11.3390, 5087,    799.8,  11.6240,  36.0830,2,  36.0820,2,    182.7,2,    182.6,2,     7.73,2,    15.93,2,     0.83,2,   -999.0,9,   7.8030,2,    25.00
  35TH20080610, OVIDE,    12,  1,     21,2,20080614,0901, 40.3310, -11.3390, 5087,    700.0,  11.6270,  35.9730,2,  35.9770,2,    183.8,2,    183.7,2,     7.38,2,    15.77,2,     0.84,2,   2371.2,2,   7.8010,2,    25.00
  35TH20080610, OVIDE,    12,  1,     22,2,20080614,0901, 40.3310, -11.3390, 5087,    599.8,  11.1770,  35.7430,2,  35.7500,3,    187.7,2,    186.1,2,     7.28,2,    17.07,2,     0.88,2,   -999.0,9,   7.7850,2,    25.00
  35TH20080610, OVIDE,    12,  1,     23,2,20080614,0901, 40.3310, -11.3390, 5087,    500.5,  11.3620,  35.6430,2,  35.6450,2,    201.7,2,    198.6,2,     5.95,2,    15.16,2,     0.81,2,   2341.5,2,   7.7920,2,    25.00
  35TH20080610, OVIDE,    12,  1,     24,2,20080614,0901, 40.3310, -11.3390, 5087,    399.8,  11.7200,  35.6380,2,  35.6370,2,    221.5,2,    215.0,2,     4.37,2,    13.03,2,     0.67,2,   2337.8,2,   7.8140,2,    25.00
  35TH20080610, OVIDE,    12,  1,     25,2,20080614,0901, 40.3310, -11.3390, 5087,    299.9,  12.1190,  35.6760,2,  35.6740,2,    223.4,2,    222.3,2,     3.69,2,    11.43,2,     0.60,2,   2339.2,2,   7.8350,2,    25.00
  35TH20080610, OVIDE,    12,  1,     26,2,20080614,0901, 40.3310, -11.3390, 5087,    199.5,  12.8170,  35.7720,2,  35.7740,2,    220.0,2,    241.3,3,     3.30,2,    10.39,2,     0.53,2,   2344.3,2,   7.8500,2,    25.00
  35TH20080610, OVIDE,    12,  1,     27,2,20080614,0901, 40.3310, -11.3390, 5087,    149.5,  13.2550,  35.8400,2,  35.8330,3,    229.2,2,    218.5,3,     2.99,2,     9.47,2,     0.48,2,   -999.0,9,   7.8590,2,    25.00
  35TH20080610, OVIDE,    12,  1,     28,2,20080614,0901, 40.3310, -11.3390, 5087,    100.6,  13.8070,  35.9080,2,  35.9060,2,    240.4,2,    241.1,2,     1.88,2,     4.70,2,     0.25,2,   2354.3,2,   7.9040,2,    25.00
  35TH20080610, OVIDE,    12,  1,     29,2,20080614,0901, 40.3310, -11.3390, 5087,     56.4,  14.2030,  35.9440,2,  35.9540,3,    249.5,2,   -999.0,3,     1.73,2,     3.54,2,     0.20,2,   -999.0,9,   7.9190,2,    25.00
  35TH20080610, OVIDE,    12,  1,     30,2,20080614,0901, 40.3310, -11.3390, 5087,      3.0,  18.4730,  36.0400,2,  36.0460,3,    244.0,2,    242.1,2,     1.10,2,     0.01,2,     0.02,2,   2365.2,2,   7.9930,2,    25.00