BOTTLE,20140930PRINUNIVRMK
EXPOCODE,SECT_ID,STNNBR,CASTNO,BTLNBR,BTLNBR_FLAG_W,DATE,TIME,LATITUDE,LONGITUDE,DEPTH,CTDPRS,CTDTMP,CTDSAL,CTDSAL_FLAG_W,SALNTY,SALNTY_FLAG_W,CTDOXY,CTDOXY_FLAG_W,OXYGEN,OXYGEN_FLAG_W,SILCAT,SILCAT_FLAG_W,NITRAT,NITRAT_FLAG_W,PHSPHT,PHSPHT_FLAG_W,ALKALI,ALKALI_FLAG_W,PH_SWS,PH_SWS_FLAG_W,PH_TMP
,,,,,,,,,,METERS,DBAR,ITS-90,PSS-78,,PSS-78,,UMOL/KG,,UMOL/KG,,UMOL/KG,,UMOL/KG,,UMOL/KG,,UMOL/KG,,,,DEG C
  35TH20080610, OVIDE,    41,  1,      3,2,20080621,2215, 48.7870, -21.4330, 4096,   4170.1,   2.5400,  34.9090,2,  34.9090,2,    242.6,2,    242.4,2,    49.85,3,    22.28,2,     1.31,2,   -999.0,9,   7.7320,2,    25.00
  35TH20080610, OVIDE,    41,  1,      4,2,20080621,2215, 48.7870, -21.4330, 4096,   3999.6,   2.5510,  34.9130,2,  34.9110,2,    243.4,2,    246.1,2,    48.40,2,    22.10,2,     1.31,2,   -999.0,9,   7.7310,2,    25.00
  35TH20080610, OVIDE,    41,  1,      5,2,20080621,2215, 48.7870, -21.4330, 4096,   3748.2,   2.6030,  34.9220,2,  34.9230,2,    245.9,2,    246.6,2,    44.79,2,    21.15,2,     1.27,2,   -999.0,9,   7.7330,2,    25.00
  35TH20080610, OVIDE,    41,  1,      6,2,20080621,2215, 48.7870, -21.4330, 4096,   3492.4,   2.6660,  34.9290,2,  34.9270,2,    249.8,2,    253.6,2,    41.00,2,    20.42,2,     1.22,2,   -999.0,9,   7.7330,2,    25.00
  35TH20080610, OVIDE,    41,  1,      7,2,20080621,2215, 48.7870, -21.4330, 4096,   3249.2,   2.7290,  34.9360,2,  34.9340,2,    253.2,2,    253.1,2,    37.60,2,    20.03,2,     1.20,2,   -999.0,9,   7.7350,2,    25.00
  35TH20080610, OVIDE,    41,  1,      8,2,20080621,2215, 48.7870, -21.4330, 4096,   2955.9,   2.9240,  34.9450,2,  34.9450,2,    259.8,2,    260.6,2,    29.50,2,    18.67,2,     1.11,2,   -999.0,9,   7.7340,2,    25.00
  35TH20080610, OVIDE,    41,  1,      9,2,20080621,2215, 48.7870, -21.4330, 4096,   2749.9,   3.0490,  34.9430,2,  34.9400,2,    265.4,2,    265.8,2,    20.86,2,    18.18,2,     1.07,2,   -999.0,9,   7.7340,2,    25.00
  35TH20080610, OVIDE,    41,  1,     10,2,20080621,2215, 48.7870, -21.4330, 4096,   2502.1,   3.1840,  34.9280,2,  34.9260,2,    273.4,2,    274.0,2,    15.88,2,    17.14,2,     1.00,2,   -999.0,9,   7.7300,2,    25.00
  35TH20080610, OVIDE,    41,  1,     11,2,20080621,2215, 48.7870, -21.4330, 4096,   2250.7,   3.2960,  34.9150,2,  34.9140,2,    277.6,2,    277.1,2,    13.82,2,    17.11,2,     1.00,2,   -999.0,9,   7.7290,2,    25.00
  35TH20080610, OVIDE,    41,  1,     12,2,20080621,2215, 48.7870, -21.4330, 4096,   2001.5,   3.4970,  34.9090,2,  34.9100,2,    277.5,2,    282.3,2,    12.42,2,    17.05,2,     0.98,2,   -999.0,9,   7.7270,2,    25.00
  35TH20080610, OVIDE,    41,  1,     13,2,20080621,2215, 48.7870, -21.4330, 4096,   1747.4,   3.9150,  34.9450,2,  34.9480,2,    270.0,2,    269.4,2,    12.25,2,    17.38,2,     1.00,2,   -999.0,9,   7.7230,2,    25.00
  35TH20080610, OVIDE,    41,  1,     14,2,20080621,2215, 48.7870, -21.4330, 4096,   1540.5,   4.2150,  34.9670,2,  34.9680,2,    264.8,2,    264.7,2,    11.57,2,    17.43,2,     1.00,2,   -999.0,9,   7.7190,2,    25.00
  35TH20080610, OVIDE,    41,  1,     15,2,20080621,2215, 48.7870, -21.4330, 4096,   1398.9,   4.5600,  35.0050,2,  35.0080,2,    258.9,2,    263.6,2,    11.47,2,    17.49,2,     0.99,2,   -999.0,9,   7.7180,2,    25.00
  35TH20080610, OVIDE,    41,  1,     16,2,20080621,2215, 48.7870, -21.4330, 4096,   1401.2,   4.5500,  35.0030,2,  35.0090,3,    258.9,2,    260.2,2,    11.48,2,    17.45,2,     1.00,2,   -999.0,9,-999.0000,9,  -999.00
  35TH20080610, OVIDE,    41,  1,     17,2,20080621,2215, 48.7870, -21.4330, 4096,   1198.4,   5.3100,  35.0700,2,  35.0710,2,    241.5,2,    247.1,3,    11.36,2,    17.77,2,     1.01,2,   -999.0,9,   7.7160,2,    25.00
  35TH20080610, OVIDE,    41,  1,     18,2,20080621,2215, 48.7870, -21.4330, 4096,   1000.5,   7.4360,  35.3370,2,  35.3430,3,    208.3,2,    211.6,2,    11.28,2,    18.14,2,     1.01,2,   -999.0,9,   7.7270,2,    25.00
  35TH20080610, OVIDE,    41,  1,     19,2,20080621,2215, 48.7870, -21.4330, 4096,    900.7,   8.3530,  35.4120,2,  35.4130,2,    197.6,2,    202.6,3,    10.91,2,    18.01,2,     1.00,2,   -999.0,9,   7.7360,2,    25.00
  35TH20080610, OVIDE,    41,  1,     20,2,20080621,2215, 48.7870, -21.4330, 4096,    799.1,   9.2560,  35.4620,2,  35.4620,2,    192.0,2,    200.0,3,    10.08,2,    17.65,2,     0.95,2,   -999.0,9,   7.7450,2,    25.00
  35TH20080610, OVIDE,    41,  1,     21,2,20080621,2215, 48.7870, -21.4330, 4096,    699.9,   9.6260,  35.3890,2,  35.3890,2,    194.2,2,    213.5,3,     9.31,2,    17.14,2,     0.96,2,   -999.0,9,   7.7460,2,    25.00
  35TH20080610, OVIDE,    41,  1,     22,2,20080621,2215, 48.7870, -21.4330, 4096,    599.2,  10.3020,  35.4330,2,  35.4330,2,    216.3,2,    215.6,2,     7.15,2,    14.51,2,     0.79,2,   -999.0,9,   7.7800,2,    25.00
  35TH20080610, OVIDE,    41,  1,     23,2,20080621,2215, 48.7870, -21.4330, 4096,    500.5,  10.9420,  35.4930,2,  35.4910,2,    225.8,2,    237.7,3,     5.08,2,    11.60,2,     0.63,2,   -999.0,9,   7.8190,2,    25.00
  35TH20080610, OVIDE,    41,  1,     24,2,20080621,2215, 48.7870, -21.4330, 4096,    399.1,  11.3560,  35.5470,2,  35.5490,2,    247.7,2,    250.4,2,     4.00,2,    10.17,2,     0.54,2,   -999.0,9,   7.8420,2,    25.00
  35TH20080610, OVIDE,    41,  1,     25,2,20080621,2215, 48.7870, -21.4330, 4096,    299.5,  11.5480,  35.5510,2,  35.5520,2,    245.0,2,    243.6,2,     4.34,2,    10.51,2,     0.55,2,   -999.0,9,   7.8430,2,    25.00
  35TH20080610, OVIDE,    41,  1,     26,2,20080621,2215, 48.7870, -21.4330, 4096,    199.7,  12.1100,  35.6200,2,  35.6200,2,    246.7,2,    248.9,2,     3.28,2,     8.86,2,     0.47,2,   -999.0,9,   7.8620,2,    25.00
  35TH20080610, OVIDE,    41,  1,     27,2,20080621,2215, 48.7870, -21.4330, 4096,    150.3,  12.4210,  35.6660,2,  35.6660,2,    248.1,2,    245.9,2,     3.15,2,     8.75,2,     0.45,2,   -999.0,9,   7.8670,2,    25.00
  35TH20080610, OVIDE,    41,  1,     28,2,20080621,2215, 48.7870, -21.4330, 4096,     99.8,  12.9330,  35.7310,2,  35.7280,2,    245.5,2,    245.0,2,     2.92,2,     7.91,2,     0.40,2,   -999.0,9,   7.8780,2,    25.00
  35TH20080610, OVIDE,    41,  1,     29,2,20080621,2215, 48.7870, -21.4330, 4096,     56.1,  13.8550,  35.7570,2,  35.7700,3,    256.3,2,    251.3,2,     1.70,2,     4.36,2,     0.25,2,   -999.0,9,   7.9200,2,    25.00
  35TH20080610, OVIDE,    41,  1,     30,2,20080621,2215, 48.7870, -21.4330, 4096,      4.4,  15.4950,  35.7360,2,  35.7370,2,    260.0,2,    260.1,2,     1.23,2,     0.09,2,     0.04,2,   -999.0,9,   7.9810,2,    25.00
  35TH20080610, OVIDE,    42,  1,      3,2,20080622,0414, 49.1580, -21.7270, 4331,   4410.5,   2.5960,  34.9120,2,  34.9140,2,    243.1,2,    243.0,2,    48.71,2,    21.93,2,     1.30,2,   2354.5,2,   7.7290,2,    25.00
  35TH20080610, OVIDE,    42,  1,      4,2,20080622,0414, 49.1580, -21.7270, 4331,   3999.7,   2.6410,  34.9210,2,  34.9200,2,    247.5,2,    246.3,2,    44.11,2,    21.14,2,     1.26,2,   2348.4,2,   7.7290,2,    25.00
  35TH20080610, OVIDE,    42,  1,      5,2,20080622,0414, 49.1580, -21.7270, 4331,   3748.7,   2.6820,  34.9280,2,  34.9300,2,    251.1,2,    250.0,2,    40.23,2,    20.85,2,     1.21,2,   2342.0,2,   7.7300,2,    25.00
  35TH20080610, OVIDE,    42,  1,      6,2,20080622,0414, 49.1580, -21.7270, 4331,   3498.2,   2.7430,  34.9350,2,  34.9340,2,    256.0,2,    256.7,2,    35.44,2,    20.10,2,     1.15,2,   2336.7,2,   7.7290,2,    25.00
  35TH20080610, OVIDE,    42,  1,      7,2,20080622,0414, 49.1580, -21.7270, 4331,   3249.5,   2.8530,  34.9410,2,  34.9430,2,    262.3,2,    261.4,2,    29.21,2,    18.93,2,     1.10,2,   2329.2,2,   7.7290,2,    25.00
  35TH20080610, OVIDE,    42,  1,      8,2,20080622,0414, 49.1580, -21.7270, 4331,   2998.1,   2.9740,  34.9400,2,  34.9410,2,    269.8,2,    267.9,2,    20.50,2,    17.95,2,     1.04,2,   2321.3,2,   7.7300,2,    25.00
  35TH20080610, OVIDE,    42,  1,      9,2,20080622,0414, 49.1580, -21.7270, 4331,   2749.9,   3.0750,  34.9280,2,  34.9280,2,    275.4,2,    274.7,2,    16.74,2,    17.54,2,     1.01,2,   2315.2,2,   7.7300,2,    25.00
  35TH20080610, OVIDE,    42,  1,     10,2,20080622,0414, 49.1580, -21.7270, 4331,   2500.8,   3.1800,  34.9120,2,  34.9120,2,    279.1,2,    278.9,2,    14.12,2,    17.37,2,     1.00,2,   2308.7,2,   7.7290,2,    25.00
  35TH20080610, OVIDE,    42,  1,     11,2,20080622,0414, 49.1580, -21.7270, 4331,   2249.8,   3.2850,  34.9040,2,  34.9040,2,    280.1,2,    280.0,2,    12.93,2,    17.63,2,     0.99,2,   2307.1,2,   7.7300,2,    25.00
  35TH20080610, OVIDE,    42,  1,     12,2,20080622,0414, 49.1580, -21.7270, 4331,   1999.9,   3.4670,  34.9060,2,  34.9060,2,    278.0,2,    277.3,2,    12.44,2,    17.69,2,     1.00,2,   2308.7,2,   7.7270,2,    25.00
  35TH20080610, OVIDE,    42,  1,     13,2,20080622,0414, 49.1580, -21.7270, 4331,   1799.1,   3.6540,  34.9160,2,  34.9200,2,    275.2,2,    274.3,2,    12.15,2,    17.84,2,     1.01,2,   2308.7,2,   7.7250,2,    25.00
  35TH20080610, OVIDE,    42,  1,     14,2,20080622,0414, 49.1580, -21.7270, 4331,   1599.3,   3.7510,  34.9090,2,  34.9110,2,    276.1,2,    275.2,2,    11.48,2,    17.59,2,     1.00,2,   2305.3,2,   7.7200,2,    25.00
  35TH20080610, OVIDE,    42,  1,     15,2,20080622,0414, 49.1580, -21.7270, 4331,   1399.3,   4.0400,  34.9290,2,  34.9310,2,    270.1,2,    270.7,2,    11.14,2,    17.28,2,     1.01,2,   2305.6,2,   7.7180,2,    25.00
  35TH20080610, OVIDE,    42,  1,     16,2,20080622,0414, 49.1580, -21.7270, 4331,   1198.9,   4.2070,  34.9250,2,  34.9310,3,    263.5,2,    269.1,3,    10.80,2,    17.66,2,     1.00,2,   2306.7,2,   7.7150,2,    25.00
  35TH20080610, OVIDE,    42,  1,     17,2,20080622,0414, 49.1580, -21.7270, 4331,    999.3,   5.9900,  35.1470,2,  35.1440,2,    232.2,2,    232.6,2,    11.51,2,    18.82,2,     1.05,2,   2322.0,2,   7.7170,2,    25.00
  35TH20080610, OVIDE,    42,  1,     18,2,20080622,0414, 49.1580, -21.7270, 4331,    899.2,   6.4980,  35.2010,2,  35.2040,2,    221.4,2,    222.2,2,    11.59,2,    18.77,2,     1.04,2,   2325.9,2,   7.7190,2,    25.00
  35TH20080610, OVIDE,    42,  1,     19,2,20080622,0414, 49.1580, -21.7270, 4331,    898.8,   6.5460,  35.2060,2,  35.2100,2,    221.4,2,    221.7,2,    11.43,2,    18.60,2,     1.04,2,   -999.0,9,-999.0000,9,  -999.00
  35TH20080610, OVIDE,    42,  1,     20,2,20080622,0414, 49.1580, -21.7270, 4331,    800.1,   6.8040,  35.1330,2,  35.1350,2,    213.0,2,    215.5,2,    11.70,2,    19.38,2,     1.08,2,   2320.5,2,   7.7110,2,    25.00
  35TH20080610, OVIDE,    42,  1,     21,2,20080622,0414, 49.1580, -21.7270, 4331,    700.0,   7.7550,  35.1480,2,  35.1560,3,    200.0,2,    201.9,2,    11.38,2,    19.66,2,     1.10,2,   2320.7,2,   7.7130,2,    25.00
  35TH20080610, OVIDE,    42,  1,     22,2,20080622,0414, 49.1580, -21.7270, 4331,    598.1,   8.5720,  35.1450,2,  35.1470,2,    198.3,2,    199.0,2,    10.78,2,    19.05,2,     1.04,2,   2318.7,2,   7.7240,2,    25.00
  35TH20080610, OVIDE,    42,  1,     23,2,20080622,0414, 49.1580, -21.7270, 4331,    499.4,   9.8650,  35.2750,2,  35.2730,2,    229.8,2,    214.6,3,     8.44,2,    16.47,2,     0.90,2,   2324.2,2,   7.7690,2,    25.00
  35TH20080610, OVIDE,    42,  1,     24,2,20080622,0414, 49.1580, -21.7270, 4331,    400.3,  10.9520,  35.4340,2,  35.4260,3,    240.3,2,    236.0,2,     6.01,2,    13.01,2,     0.71,2,   2332.4,2,   7.8190,2,    25.00
  35TH20080610, OVIDE,    42,  1,     25,2,20080622,0414, 49.1580, -21.7270, 4331,    300.4,  11.6760,  35.5600,2,  35.5600,2,    245.0,2,    243.4,2,     4.87,2,    11.25,2,     0.60,2,   -999.0,9,   7.8440,2,    25.00
  35TH20080610, OVIDE,    42,  1,     26,2,20080622,0414, 49.1580, -21.7270, 4331,    200.3,  12.3320,  35.6600,2,  35.6640,2,    245.5,2,    244.1,2,     4.11,2,     9.57,2,     0.52,2,   2345.1,2,   7.8650,2,    25.00
  35TH20080610, OVIDE,    42,  1,     27,2,20080622,0414, 49.1580, -21.7270, 4331,    149.3,  12.4830,  35.6780,2,  35.6790,2,    249.0,2,    241.8,3,     3.80,2,     9.36,2,     0.49,2,   -999.0,9,   7.8660,2,    25.00
  35TH20080610, OVIDE,    42,  1,     28,2,20080622,0414, 49.1580, -21.7270, 4331,     98.5,  12.8460,  35.7300,2,  35.7270,2,    242.8,2,    242.5,2,     3.33,2,     8.85,2,     0.47,2,   2346.6,2,   7.8780,2,    25.00
  35TH20080610, OVIDE,    42,  1,     29,2,20080622,0414, 49.1580, -21.7270, 4331,     57.1,  13.3510,  35.7580,2,  35.7600,2,    248.9,2,    250.5,2,     1.27,2,     6.00,2,     0.39,2,   -999.0,9,   7.9010,2,    25.00
  35TH20080610, OVIDE,    42,  1,     30,2,20080622,0414, 49.1580, -21.7270, 4331,      3.2,  15.7380,  35.7440,2,-999.0000,3,    261.5,2,    261.4,2,     0.48,2,     0.13,2,     0.04,2,   2352.0,2,   8.0030,2,    25.00
  35TH20080610, OVIDE,    43,  1,      3,2,20080622,1018, 49.5340, -22.0190, 4217,   4295.5,   2.6200,  34.9170,2,  34.9150,2,    244.5,2,    244.0,2,    47.00,2,    21.74,2,     1.27,2,   -999.0,9,   7.7330,2,    25.00
  35TH20080610, OVIDE,    43,  1,      4,2,20080622,1018, 49.5340, -22.0190, 4217,   4000.5,   2.6300,  34.9190,2,  34.9180,2,    246.7,2,    247.6,2,    44.70,2,    21.35,2,     1.25,2,   -999.0,9,   7.7290,2,    25.00
  35TH20080610, OVIDE,    43,  1,      5,2,20080622,1018, 49.5340, -22.0190, 4217,   3748.7,   2.6640,  34.9250,2,  34.9270,2,    250.1,2,    249.8,2,    41.01,2,    20.20,2,     1.20,2,   -999.0,9,   7.7310,2,    25.00
  35TH20080610, OVIDE,    43,  1,      6,2,20080622,1018, 49.5340, -22.0190, 4217,   3499.9,   2.7310,  34.9330,2,  34.9310,2,    255.1,2,    254.9,2,    36.08,2,    19.58,2,     1.12,2,   -999.0,9,   7.7320,2,    25.00
  35TH20080610, OVIDE,    43,  1,      7,2,20080622,1018, 49.5340, -22.0190, 4217,   3250.5,   2.8290,  34.9410,2,  34.9390,2,    261.0,2,    262.0,2,    29.79,2,    18.78,2,     1.06,2,   -999.0,9,   7.7300,2,    25.00
  35TH20080610, OVIDE,    43,  1,      8,2,20080622,1018, 49.5340, -22.0190, 4217,   3000.0,   2.9550,  34.9390,2,  34.9390,2,    267.1,2,    268.3,2,    23.41,2,    17.15,2,     0.97,2,   -999.0,9,   7.7290,2,    25.00
  35TH20080610, OVIDE,    43,  1,      9,2,20080622,1018, 49.5340, -22.0190, 4217,   2748.7,   3.0500,  34.9330,2,  34.9330,2,    273.8,2,    274.8,2,    13.59,3,    16.98,2,     0.96,2,   -999.0,9,   7.7310,2,    25.00
  35TH20080610, OVIDE,    43,  1,     10,2,20080622,1018, 49.5340, -22.0190, 4217,   2500.9,   3.1350,  34.9180,2,  34.9200,2,    277.7,2,    277.9,2,    12.44,2,    17.05,2,     0.95,2,   -999.0,9,   7.7270,2,    25.00
  35TH20080610, OVIDE,    43,  1,     11,2,20080622,1018, 49.5340, -22.0190, 4217,   2249.4,   3.2250,  34.9070,2,  34.9080,2,    280.0,2,    279.3,2,    11.60,2,    16.97,2,     0.97,2,   -999.0,9,   7.7250,2,    25.00
  35TH20080610, OVIDE,    43,  1,     12,2,20080622,1018, 49.5340, -22.0190, 4217,   2001.2,   3.3640,  34.9020,2,  34.9020,2,    279.7,2,    279.1,2,    11.10,2,    16.88,2,     0.97,2,   -999.0,9,   7.7240,2,    25.00
  35TH20080610, OVIDE,    43,  1,     13,2,20080622,1018, 49.5340, -22.0190, 4217,   1800.1,   3.5100,  34.9030,2,  34.9070,2,    278.3,2,    278.3,2,    10.76,2,    17.25,2,     1.00,2,   -999.0,9,   7.7230,2,    25.00
  35TH20080610, OVIDE,    43,  1,     14,2,20080622,1018, 49.5340, -22.0190, 4217,   1598.5,   3.6210,  34.9020,2,  34.9040,2,    278.5,2,    278.7,2,    10.31,2,    17.02,2,     0.97,2,   -999.0,9,   7.7210,2,    25.00
  35TH20080610, OVIDE,    43,  1,     15,2,20080622,1018, 49.5340, -22.0190, 4217,   1400.6,   3.7540,  34.9000,2,  34.9020,2,    277.1,2,    278.7,2,    10.35,2,    17.07,2,     0.94,2,   -999.0,9,   7.7170,2,    25.00
  35TH20080610, OVIDE,    43,  1,     16,2,20080622,1018, 49.5340, -22.0190, 4217,   1200.0,   4.0640,  34.9290,2,  34.9300,2,    269.5,2,    270.0,2,    10.40,2,    17.47,2,     0.96,2,   -999.0,9,   7.7110,2,    25.00
  35TH20080610, OVIDE,    43,  1,     17,2,20080622,1018, 49.5340, -22.0190, 4217,    999.4,   4.5460,  34.9630,2,  34.9660,2,    256.7,2,    259.6,2,    10.58,2,    17.59,2,     1.00,2,   -999.0,9,   7.7110,2,    25.00
  35TH20080610, OVIDE,    43,  1,     18,2,20080622,1018, 49.5340, -22.0190, 4217,    899.1,   4.9690,  34.9960,2,  34.9990,2,    247.4,2,    256.1,3,    10.79,2,    18.11,2,     1.02,2,   -999.0,9,   7.7090,2,    25.00
  35TH20080610, OVIDE,    43,  1,     19,2,20080622,1018, 49.5340, -22.0190, 4217,    800.6,   5.5340,  35.0240,2,  35.0310,3,    236.9,2,    236.9,2,    10.84,2,    18.56,2,     1.05,2,   -999.0,9,   7.7080,2,    25.00
  35TH20080610, OVIDE,    43,  1,     20,2,20080622,1018, 49.5340, -22.0190, 4217,    800.5,   5.5340,  35.0250,2,  35.0260,2,    236.9,2,    235.7,2,    10.99,2,    18.56,2,     1.05,2,   -999.0,9,-999.0000,9,  -999.00
  35TH20080610, OVIDE,    43,  1,     21,2,20080622,1018, 49.5340, -22.0190, 4217,    701.2,   6.7200,  35.1320,2,  35.1330,2,    220.6,2,    216.0,2,    10.78,2,    18.99,2,     1.07,2,   -999.0,9,   7.7170,2,    25.00
  35TH20080610, OVIDE,    43,  1,     22,2,20080622,1018, 49.5340, -22.0190, 4217,    600.7,   7.2200,  35.0670,2,  35.0680,2,    209.5,2,    210.1,2,    10.52,2,    19.04,2,     1.08,2,   -999.0,9,   7.7080,2,    25.00
  35TH20080610, OVIDE,    43,  1,     23,2,20080622,1018, 49.5340, -22.0190, 4217,    500.3,   7.8870,  35.0680,2,  35.0690,2,    201.0,2,    205.2,2,     8.20,2,    19.20,2,     1.08,2,   -999.0,9,   7.7180,2,    25.00
  35TH20080610, OVIDE,    43,  1,     24,2,20080622,1018, 49.5340, -22.0190, 4217,    400.3,   9.2380,  35.1960,2,  35.1990,2,    220.7,2,    220.5,2,     5.30,2,    16.55,2,     0.92,2,   -999.0,9,   7.7590,2,    25.00
  35TH20080610, OVIDE,    43,  1,     25,2,20080622,1018, 49.5340, -22.0190, 4217,    300.1,  10.8660,  35.4380,2,  35.4430,3,    233.1,2,    218.6,3,     4.60,2,    12.90,2,     0.69,2,   -999.0,9,   7.8120,2,    25.00
  35TH20080610, OVIDE,    43,  1,     26,2,20080622,1018, 49.5340, -22.0190, 4217,    200.4,  11.6080,  35.5420,2,  35.5430,2,    238.3,2,    237.6,2,     3.79,2,    11.38,2,     0.60,2,   -999.0,9,   7.8360,2,    25.00
  35TH20080610, OVIDE,    43,  1,     27,2,20080622,1018, 49.5340, -22.0190, 4217,    149.7,  12.1830,  35.6370,2,  35.6360,2,    244.0,2,    243.8,2,     3.25,2,    10.02,2,     0.51,2,   -999.0,9,   7.8580,2,    25.00
  35TH20080610, OVIDE,    43,  1,     28,2,20080622,1018, 49.5340, -22.0190, 4217,     99.8,  12.4570,  35.6670,2,  35.6640,2,    240.4,2,    238.3,2,     2.52,2,     9.84,2,     0.50,2,   -999.0,9,   7.8620,2,    25.00
  35TH20080610, OVIDE,    43,  1,     29,2,20080622,1018, 49.5340, -22.0190, 4217,     56.5,  12.9740,  35.7450,2,  35.7750,3,    248.1,2,    243.2,2,     0.23,2,     8.09,2,     0.41,2,   -999.0,9,   7.8760,2,    25.00
  35TH20080610, OVIDE,    43,  1,     30,2,20080622,1018, 49.5340, -22.0190, 4217,      3.8,  14.9360,  35.6620,2,  35.6630,2,    278.4,2,    276.3,2,     0.00,2,     0.04,2,     0.02,2,   -999.0,9,   8.0200,2,    25.00