BOTTLE,20140930PRINUNIVRMK
EXPOCODE,SECT_ID,STNNBR,CASTNO,BTLNBR,BTLNBR_FLAG_W,DATE,TIME,LATITUDE,LONGITUDE,DEPTH,CTDPRS,CTDTMP,CTDSAL,CTDSAL_FLAG_W,SALNTY,SALNTY_FLAG_W,CTDOXY,CTDOXY_FLAG_W,OXYGEN,OXYGEN_FLAG_W,SILCAT,SILCAT_FLAG_W,NITRAT,NITRAT_FLAG_W,PHSPHT,PHSPHT_FLAG_W,ALKALI,ALKALI_FLAG_W,PH_SWS,PH_SWS_FLAG_W,PH_TMP
,,,,,,,,,,METERS,DBAR,ITS-90,PSS-78,,PSS-78,,UMOL/KG,,UMOL/KG,,UMOL/KG,,UMOL/KG,,UMOL/KG,,UMOL/KG,,,,DEG C
  35TH20080610, OVIDE,    50,  1,      3,2,20080624,0057, 52.1490, -24.0750, 3895,   3957.3,   2.6290,  34.9220,2,  34.9200,2,    246.9,2,    245.8,2,    30.61,2,    21.14,2,     1.20,2,   2348.6,2,   7.7300,2,    25.00
  35TH20080610, OVIDE,    50,  1,      4,2,20080624,0057, 52.1490, -24.0750, 3895,   3500.6,   2.7540,  34.9430,2,  34.9400,2,    260.0,2,    259.9,2,    25.26,2,    18.95,2,     1.08,2,   2331.0,2,   7.7220,2,    25.00
  35TH20080610, OVIDE,    50,  1,      5,2,20080624,0057, 52.1490, -24.0750, 3895,   3247.1,   2.8190,  34.9490,2,  34.9470,2,    265.3,2,    264.8,2,    19.74,3,    18.11,2,     1.00,2,   2322.7,2,   7.7260,2,    25.00
  35TH20080610, OVIDE,    50,  1,      6,2,20080624,0057, 52.1490, -24.0750, 3895,   2999.9,   2.9050,  34.9510,2,  34.9490,2,    270.0,2,    269.2,2,    18.41,2,    17.04,2,     0.96,2,   2317.9,2,   7.7330,2,    25.00
  35TH20080610, OVIDE,    50,  1,      7,2,20080624,0057, 52.1490, -24.0750, 3895,   2749.8,   2.9940,  34.9410,2,  34.9380,2,    271.1,2,    272.1,2,    15.18,2,    17.81,2,     0.97,2,   2316.3,2,   7.7320,2,    25.00
  35TH20080610, OVIDE,    50,  1,      8,2,20080624,0057, 52.1490, -24.0750, 3895,   2504.7,   3.1050,  34.9270,2,  34.9270,2,    276.0,2,    275.5,2,    13.28,2,    17.00,2,     0.94,2,   2310.4,2,   7.7330,2,    25.00
  35TH20080610, OVIDE,    50,  1,      9,2,20080624,0057, 52.1490, -24.0750, 3895,   2251.0,   3.1880,  34.9120,2,  34.9100,2,    279.8,2,    278.9,2,    12.51,2,    17.32,2,     0.95,2,   2306.2,2,   7.7310,2,    25.00
  35TH20080610, OVIDE,    50,  1,     10,2,20080624,0057, 52.1490, -24.0750, 3895,   1999.9,   3.3080,  34.9040,2,  34.9020,2,    280.1,2,    279.4,2,    13.28,2,    17.26,2,     0.94,2,   2304.4,2,   7.7290,2,    25.00
  35TH20080610, OVIDE,    50,  1,     11,2,20080624,0057, 52.1490, -24.0750, 3895,   1801.2,   3.4430,  34.9050,2,  34.9050,2,    278.6,2,    277.5,2,    12.18,2,    17.53,2,     0.95,2,   -999.0,9,-999.0000,9,  -999.00
  35TH20080610, OVIDE,    50,  1,     12,2,20080624,0057, 52.1490, -24.0750, 3895,   1803.0,   3.4420,  34.9040,2,  34.9040,2,    278.6,2,    277.4,2,    12.23,2,    17.38,2,     0.95,2,   2305.6,2,   7.7280,2,    25.00
  35TH20080610, OVIDE,    50,  1,     13,2,20080624,0057, 52.1490, -24.0750, 3895,   1603.5,   3.5890,  34.9110,2,  34.9130,2,    276.3,2,    275.4,2,    11.94,2,    17.45,2,     0.96,2,   2304.8,2,   7.7240,2,    25.00
  35TH20080610, OVIDE,    50,  1,     14,2,20080624,0057, 52.1490, -24.0750, 3895,   1400.3,   3.7530,  34.9130,2,  34.9150,2,    275.7,2,    274.5,2,    11.40,2,    17.03,2,     0.98,2,   2304.2,2,   7.7220,2,    25.00
  35TH20080610, OVIDE,    50,  1,     15,2,20080624,0057, 52.1490, -24.0750, 3895,   1200.3,   3.9070,  34.9190,2,  34.9190,2,    270.5,2,    272.3,2,    11.06,2,    17.54,2,     0.97,2,   2305.0,2,   7.7190,2,    25.00
  35TH20080610, OVIDE,    50,  1,     16,2,20080624,0057, 52.1490, -24.0750, 3895,   1004.4,   4.4760,  34.9830,2,  34.9810,2,    271.8,2,    259.0,3,    11.24,2,    17.47,2,     0.98,2,   2308.5,2,   7.7170,2,    25.00
  35TH20080610, OVIDE,    50,  1,     17,2,20080624,0057, 52.1490, -24.0750, 3895,    903.5,   4.2720,  34.9290,2,  34.9300,2,    265.0,2,    266.9,2,    10.68,2,    17.31,2,     0.96,2,   2305.1,2,   7.7140,2,    25.00
  35TH20080610, OVIDE,    50,  1,     18,2,20080624,0057, 52.1490, -24.0750, 3895,    802.1,   4.7850,  34.9760,2,  34.9750,2,    257.2,2,    253.2,2,    11.08,2,    17.81,2,     1.01,2,   2309.4,2,   7.7110,2,    25.00
  35TH20080610, OVIDE,    50,  1,     19,2,20080624,0057, 52.1490, -24.0750, 3895,    701.1,   5.3660,  35.0270,2,  35.0330,3,    240.5,2,    240.0,2,    11.30,2,    18.30,2,     1.03,2,   2312.3,2,   7.7110,2,    25.00
  35TH20080610, OVIDE,    50,  1,     20,2,20080624,0057, 52.1490, -24.0750, 3895,    600.5,   5.7040,  34.9940,2,  34.9940,2,    229.4,2,    230.1,2,    11.51,2,    18.82,2,     1.06,2,   2311.7,2,   7.7020,2,    25.00
  35TH20080610, OVIDE,    50,  1,     21,2,20080624,0057, 52.1490, -24.0750, 3895,    499.6,   6.5110,  35.0140,2,  35.0150,2,    213.8,2,    216.8,2,    11.57,2,    18.92,2,     1.08,2,   2313.0,2,   7.7030,2,    25.00
  35TH20080610, OVIDE,    50,  1,     22,2,20080624,0057, 52.1490, -24.0750, 3895,    400.7,   7.2580,  34.9970,2,  34.9960,2,    235.1,2,    230.7,2,    10.00,2,    17.57,2,     1.00,2,   2312.0,2,   7.7260,2,    25.00
  35TH20080610, OVIDE,    50,  1,     23,2,20080624,0057, 52.1490, -24.0750, 3895,    301.2,   8.3830,  35.0910,2,  35.0920,2,    238.4,2,    248.8,3,     7.87,2,    15.17,2,     0.84,2,   2316.8,2,   7.7680,2,    25.00
  35TH20080610, OVIDE,    50,  1,     24,2,20080624,0057, 52.1490, -24.0750, 3895,    202.2,   9.5480,  35.2430,2,  35.2410,2,    241.0,2,    242.6,2,     6.55,2,    14.16,2,     0.77,2,   2323.5,2,   7.7930,3,    25.00
  35TH20080610, OVIDE,    50,  1,     25,2,20080624,0057, 52.1490, -24.0750, 3895,    151.1,  10.4640,  35.3820,2,  35.3780,2,    245.5,2,    250.7,2,     5.44,2,    12.04,2,     0.65,2,   2328.8,2,   7.8230,2,    25.00
  35TH20080610, OVIDE,    50,  1,     26,2,20080624,0057, 52.1490, -24.0750, 3895,    100.3,  10.7920,  35.4170,2,  35.4190,2,    248.7,2,    234.4,3,     6.09,2,    12.62,2,     0.68,2,   2331.8,2,   7.8180,2,    25.00
  35TH20080610, OVIDE,    50,  1,     27,2,20080624,0057, 52.1490, -24.0750, 3895,     55.8,  11.3940,  35.3710,2,  35.3770,3,    264.0,2,    264.3,2,     1.08,2,     6.74,2,     0.44,2,   -999.0,9,   7.8840,2,    25.00
  35TH20080610, OVIDE,    50,  1,     28,2,20080624,0057, 52.1490, -24.0750, 3895,      7.9,  13.7850,  35.3860,2,  35.3850,2,    266.1,2,    265.0,2,     0.63,2,     2.82,2,     0.17,2,   2334.5,2,   7.9480,2,    25.00
  35TH20080610, OVIDE,    51,  1,      3,2,20080624,0642, 52.5200, -24.3590, 3583,   3642.4,   2.6960,  34.9340,2,  34.9330,2,    254.5,2,    253.3,2,    36.06,2,    19.92,2,     1.15,2,   -999.0,9,   7.7270,2,    25.00
  35TH20080610, OVIDE,    51,  1,      4,2,20080624,0642, 52.5200, -24.3590, 3583,   3499.2,   2.7170,  34.9370,2,  34.9350,2,    257.5,2,    255.1,2,    34.06,2,    19.70,2,     1.13,2,   -999.0,9,   7.7260,2,    25.00
  35TH20080610, OVIDE,    51,  1,      5,2,20080624,0642, 52.5200, -24.3590, 3583,   3250.1,   2.7990,  34.9450,2,  34.9450,2,    264.2,2,    262.3,2,    27.38,2,    18.44,2,     1.03,2,   -999.0,9,   7.7280,2,    25.00
  35TH20080610, OVIDE,    51,  1,      6,2,20080624,0642, 52.5200, -24.3590, 3583,   2997.5,   2.9050,  34.9480,2,  34.9480,2,    269.3,2,    268.7,2,    20.78,2,    17.64,2,     0.99,2,   -999.0,9,   7.7260,2,    25.00
  35TH20080610, OVIDE,    51,  1,      7,2,20080624,0642, 52.5200, -24.3590, 3583,   2749.7,   3.0410,  34.9390,2,  34.9400,2,    274.5,2,    272.8,2,    16.97,2,    17.14,2,     0.97,2,   -999.0,9,   7.7310,2,    25.00
  35TH20080610, OVIDE,    51,  1,      8,2,20080624,0642, 52.5200, -24.3590, 3583,   2499.6,   3.1370,  34.9280,2,  34.9270,2,    280.0,2,    279.0,2,    13.52,2,    16.94,2,     0.93,2,   -999.0,9,   7.7310,2,    25.00
  35TH20080610, OVIDE,    51,  1,      9,2,20080624,0642, 52.5200, -24.3590, 3583,   2249.2,   3.2080,  34.9140,2,  34.9130,2,    281.6,2,    280.5,2,    12.88,2,    16.99,2,     0.94,2,   -999.0,9,   7.7290,2,    25.00
  35TH20080610, OVIDE,    51,  1,     10,2,20080624,0642, 52.5200, -24.3590, 3583,   1999.5,   3.3290,  34.9060,2,  34.9070,2,    281.5,2,    278.7,2,    12.30,2,    17.22,2,     0.95,2,   -999.0,9,   7.7270,2,    25.00
  35TH20080610, OVIDE,    51,  1,     11,2,20080624,0642, 52.5200, -24.3590, 3583,   1798.2,   3.4480,  34.9040,2,  34.9060,2,    280.3,2,    275.7,2,    12.02,2,    17.36,2,     0.95,2,   -999.0,9,   7.7250,2,    25.00
  35TH20080610, OVIDE,    51,  1,     12,2,20080624,0642, 52.5200, -24.3590, 3583,   1599.8,   3.5620,  34.9050,2,  34.9050,2,    279.5,2,    277.5,2,    11.69,2,    17.23,2,     0.95,2,   -999.0,9,   7.7200,2,    25.00
  35TH20080610, OVIDE,    51,  1,     13,2,20080624,0642, 52.5200, -24.3590, 3583,   1598.0,   3.5620,  34.9060,2,  34.9060,2,    279.5,2,    279.1,2,    11.68,2,    17.24,2,     0.96,2,   -999.0,9,-999.0000,9,  -999.00
  35TH20080610, OVIDE,    51,  1,     14,2,20080624,0642, 52.5200, -24.3590, 3583,   1399.1,   3.6650,  34.9010,2,  34.9020,2,    280.1,2,    276.9,2,    11.33,2,    17.29,2,     0.95,2,   -999.0,9,   7.7190,2,    25.00
  35TH20080610, OVIDE,    51,  1,     15,2,20080624,0642, 52.5200, -24.3590, 3583,   1199.7,   3.8260,  34.9050,2,  34.9050,2,    279.3,2,    277.7,2,    10.91,2,    17.23,2,     0.95,2,   -999.0,9,   7.7160,2,    25.00
  35TH20080610, OVIDE,    51,  1,     16,2,20080624,0642, 52.5200, -24.3590, 3583,    999.5,   4.0520,  34.9150,2,  34.9170,2,    273.6,2,    272.2,2,    10.81,2,    17.50,2,     0.96,2,   -999.0,9,   7.7120,2,    25.00
  35TH20080610, OVIDE,    51,  1,     17,2,20080624,0642, 52.5200, -24.3590, 3583,    898.2,   4.2590,  34.9310,2,  34.9320,2,    266.7,2,    265.8,2,    10.97,2,    17.74,2,     0.97,2,   -999.0,9,   7.7110,2,    25.00
  35TH20080610, OVIDE,    51,  1,     18,2,20080624,0642, 52.5200, -24.3590, 3583,    799.9,   4.5210,  34.9490,2,  34.9510,2,    259.2,2,    258.8,2,    11.13,2,    18.00,2,     0.98,2,   -999.0,9,   7.7080,2,    25.00
  35TH20080610, OVIDE,    51,  1,     19,2,20080624,0642, 52.5200, -24.3590, 3583,    699.3,   4.8790,  34.9600,2,  34.9630,2,    251.4,2,    250.9,2,    11.10,2,    18.12,2,     1.01,2,   -999.0,9,   7.7020,2,    25.00
  35TH20080610, OVIDE,    51,  1,     20,2,20080624,0642, 52.5200, -24.3590, 3583,    598.6,   5.3010,  34.9600,2,  34.9600,2,    240.2,2,    238.6,2,    11.40,2,    18.67,2,     1.03,2,   -999.0,9,   7.6980,2,    25.00
  35TH20080610, OVIDE,    51,  1,     21,2,20080624,0642, 52.5200, -24.3590, 3583,    499.2,   5.9680,  34.9600,2,  34.9590,2,    227.0,2,    230.2,2,    11.28,2,    18.98,2,     1.04,2,   -999.0,9,   7.6960,2,    25.00
  35TH20080610, OVIDE,    51,  1,     22,2,20080624,0642, 52.5200, -24.3590, 3583,    399.1,   6.5990,  34.9340,2,  34.9350,2,    246.6,2,    246.6,2,     9.56,2,    17.23,2,     0.96,2,   -999.0,9,   7.7240,2,    25.00
  35TH20080610, OVIDE,    51,  1,     23,2,20080624,0642, 52.5200, -24.3590, 3583,    296.9,   8.0630,  35.0700,2,  35.0670,2,    246.2,2,    252.7,3,     8.11,2,    15.58,2,     0.84,2,   -999.0,9,   7.7610,2,    25.00
  35TH20080610, OVIDE,    51,  1,     24,2,20080624,0642, 52.5200, -24.3590, 3583,    202.3,   9.0850,  35.1940,2,  35.1950,2,    260.9,2,    265.4,2,     6.41,2,    13.59,2,     0.72,2,   -999.0,9,   7.7950,2,    25.00
  35TH20080610, OVIDE,    51,  1,     25,2,20080624,0642, 52.5200, -24.3590, 3583,    148.4,   9.3160,  35.2170,2,  35.2160,2,    260.6,2,    262.1,2,     5.55,2,    13.36,2,     0.71,2,   -999.0,9,   7.7990,2,    25.00
  35TH20080610, OVIDE,    51,  1,     26,2,20080624,0642, 52.5200, -24.3590, 3583,    101.2,   9.6380,  35.2580,2,  35.2570,2,    262.5,2,    257.7,2,     4.31,2,    12.81,2,     0.67,2,   -999.0,9,   7.8050,2,    25.00
  35TH20080610, OVIDE,    51,  1,     27,2,20080624,0642, 52.5200, -24.3590, 3583,     56.8,  10.3390,  35.3510,2,  35.3500,2,    255.3,2,    255.1,2,     3.68,2,    12.06,2,     0.63,2,   -999.0,9,   7.8230,2,    25.00
  35TH20080610, OVIDE,    51,  1,     28,2,20080624,0642, 52.5200, -24.3590, 3583,      6.2,  12.5750,  35.2770,2,  35.2790,2,    274.0,2,    271.8,2,     0.57,2,     4.77,2,     0.27,2,   -999.0,9,   7.9190,2,    25.00
  35TH20080610, OVIDE,    52,  1,      3,2,20080624,1225, 52.8920, -24.6570, 3602,   3660.1,   2.5200,  34.9140,2,  34.9140,2,    243.2,2,    243.5,2,    46.64,2,    21.35,2,     1.23,2,   2351.4,2,   7.7300,2,    25.00
  35TH20080610, OVIDE,    52,  1,      4,2,20080624,1225, 52.8920, -24.6570, 3602,   3500.9,   2.6640,  34.9310,2,  34.9310,2,    252.9,2,    252.8,2,    37.31,2,    19.75,2,     1.15,2,   2338.1,2,   7.7300,2,    25.00
  35TH20080610, OVIDE,    52,  1,      5,2,20080624,1225, 52.8920, -24.6570, 3602,   3249.8,   2.7770,  34.9450,2,  34.9450,2,    263.8,2,    261.7,2,    28.14,2,    18.22,2,     1.05,2,   2327.9,2,   7.7280,2,    25.00
  35TH20080610, OVIDE,    52,  1,      6,2,20080624,1225, 52.8920, -24.6570, 3602,   3002.9,   2.8770,  34.9520,2,  34.9500,2,    267.1,2,    268.3,2,    20.05,2,    17.17,2,     0.98,2,   2322.5,2,   7.7320,2,    25.00
  35TH20080610, OVIDE,    52,  1,      7,2,20080624,1225, 52.8920, -24.6570, 3602,   2749.2,   2.9830,  34.9480,2,  34.9480,2,    274.2,2,    273.8,2,    15.99,2,    16.65,2,     0.95,2,   2311.4,2,   7.7320,2,    25.00
  35TH20080610, OVIDE,    52,  1,      8,2,20080624,1225, 52.8920, -24.6570, 3602,   2501.0,   3.0710,  34.9330,2,  34.9330,2,    276.2,2,    275.3,2,    15.29,2,    16.85,2,     0.95,2,   2309.5,2,   7.7330,2,    25.00
  35TH20080610, OVIDE,    52,  1,      9,2,20080624,1225, 52.8920, -24.6570, 3602,   2249.6,   3.1640,  34.9180,2,  34.9190,2,    279.0,2,    278.3,2,    13.34,2,    16.89,2,     0.95,2,   2306.1,2,   7.7320,2,    25.00
  35TH20080610, OVIDE,    52,  1,     10,2,20080624,1225, 52.8920, -24.6570, 3602,   1998.2,   3.2800,  34.9080,2,  34.9080,2,    280.2,2,    280.5,2,    12.39,2,    16.74,2,     0.95,2,   2304.3,2,   7.7290,2,    25.00
  35TH20080610, OVIDE,    52,  1,     11,2,20080624,1225, 52.8920, -24.6570, 3602,   1804.0,   3.3800,  34.9060,2,  34.9040,2,    279.7,2,    279.0,2,    11.96,2,    17.40,2,     0.96,2,   2303.6,2,   7.7260,2,    25.00
  35TH20080610, OVIDE,    52,  1,     12,2,20080624,1225, 52.8920, -24.6570, 3602,   1599.9,   3.5220,  34.9080,2,  34.9080,2,    277.2,2,    276.3,2,    11.86,2,    17.10,2,     0.96,2,   2304.1,2,   7.7220,2,    25.00
  35TH20080610, OVIDE,    52,  1,     13,2,20080624,1225, 52.8920, -24.6570, 3602,   1400.4,   3.6640,  34.9080,2,  34.9080,2,    276.9,2,    275.6,2,    11.44,2,    17.30,2,     0.97,2,   2303.2,2,   7.7180,2,    25.00
  35TH20080610, OVIDE,    52,  1,     14,2,20080624,1225, 52.8920, -24.6570, 3602,   1398.8,   3.6640,  34.9080,2,  34.9070,2,    277.0,2,    276.7,2,    11.40,2,    17.39,2,     0.97,2,   -999.0,9,-999.0000,9,  -999.00
  35TH20080610, OVIDE,    52,  1,     15,2,20080624,1225, 52.8920, -24.6570, 3602,   1200.0,   3.8120,  34.9060,2,  34.9060,2,    276.9,2,    275.6,2,    10.86,2,    16.98,2,     0.96,2,   2305.4,2,   7.7200,2,    25.00
  35TH20080610, OVIDE,    52,  1,     16,2,20080624,1225, 52.8920, -24.6570, 3602,    998.5,   4.1720,  34.9380,2,  34.9390,2,    270.1,2,    266.7,2,    11.02,2,    17.62,2,     0.98,2,   2308.4,2,   7.7140,2,    25.00
  35TH20080610, OVIDE,    52,  1,     17,2,20080624,1225, 52.8920, -24.6570, 3602,    901.6,   4.3380,  34.9470,2,  34.9480,2,    264.3,2,    263.4,2,    10.97,2,    17.56,2,     0.98,2,   2309.7,2,   7.7130,2,    25.00
  35TH20080610, OVIDE,    52,  1,     18,2,20080624,1225, 52.8920, -24.6570, 3602,    800.1,   4.7080,  34.9770,2,  34.9780,2,    256.3,2,    253.6,2,    11.14,2,    18.13,2,     1.00,2,   2312.9,2,   7.7080,2,    25.00
  35TH20080610, OVIDE,    52,  1,     19,2,20080624,1225, 52.8920, -24.6570, 3602,    701.6,   5.1010,  35.0060,2,  35.0110,3,    244.8,2,    245.3,2,    11.30,2,    18.34,2,     1.03,2,   2313.8,2,   7.7060,2,    25.00
  35TH20080610, OVIDE,    52,  1,     20,2,20080624,1225, 52.8920, -24.6570, 3602,    598.4,   5.5750,  35.0180,2,  35.0200,2,    232.5,2,    235.0,2,    11.35,2,    18.64,2,     1.06,2,   2315.2,2,   7.7060,2,    25.00
  35TH20080610, OVIDE,    52,  1,     21,2,20080624,1225, 52.8920, -24.6570, 3602,    500.6,   5.9960,  35.0270,2,  35.0260,2,    230.5,2,    227.6,2,    11.33,2,    18.58,2,     1.07,2,   2314.0,2,   7.7010,2,    25.00
  35TH20080610, OVIDE,    52,  1,     22,2,20080624,1225, 52.8920, -24.6570, 3602,    400.4,   5.9890,  34.8970,2,  34.9010,2,    234.3,2,    259.9,3,     9.13,2,    16.63,2,     0.95,2,   2306.2,2,   7.7270,2,    25.00
  35TH20080610, OVIDE,    52,  1,     23,2,20080624,1225, 52.8920, -24.6570, 3602,    298.1,   7.0920,  34.9570,2,  34.9570,2,    247.9,2,    245.8,2,     9.09,2,    16.56,2,     0.93,2,   2312.1,2,   7.7370,2,    25.00
  35TH20080610, OVIDE,    52,  1,     24,2,20080624,1225, 52.8920, -24.6570, 3602,    199.9,   8.4010,  35.0900,2,  35.0880,2,    255.6,2,    255.3,2,     6.88,2,    14.30,2,     0.80,2,   2318.8,2,   7.7750,2,    25.00
  35TH20080610, OVIDE,    52,  1,     25,2,20080624,1225, 52.8920, -24.6570, 3602,    148.8,   9.0180,  35.1670,2,  35.1560,3,    257.7,2,    255.9,2,     5.86,2,    13.78,2,     0.74,2,   2320.8,2,   7.7940,2,    25.00
  35TH20080610, OVIDE,    52,  1,     26,2,20080624,1225, 52.8920, -24.6570, 3602,    100.8,   9.7820,  35.2730,2,  35.2720,2,    256.5,2,    251.3,2,     4.86,2,    12.96,2,     0.70,2,   2327.9,2,   7.8090,2,    25.00
  35TH20080610, OVIDE,    52,  1,     27,2,20080624,1225, 52.8920, -24.6570, 3602,     58.3,  10.3140,  35.2030,2,  35.2030,2,    279.1,2,    273.4,2,     1.85,2,     8.11,2,     0.54,2,   -999.0,9,   7.8600,2,    25.00
  35TH20080610, OVIDE,    52,  1,     28,2,20080624,1225, 52.8920, -24.6570, 3602,      6.6,  12.4920,  35.2830,2,  35.2830,2,    278.2,2,    276.9,2,     0.61,2,     0.41,2,     0.25,2,   2332.3,2,   7.9170,2,    25.00