BOTTLE,20140930PRINUNIVRMK
# 5/8/13 Initialized README file 	 
# Data source: Maribel I. Garcia-Ibanez 8/13/14 
# SHIP: Thalassa 
# Cruise: Ovide 2008	 
# Region: North Atlantic	A25 
# EXPOCODE: 35TH20080610	 
# DATES: 06/10-07/11/2008	 
# Chief Scientist: B. Ferron	 
# 97 stations with 28 place Rosette	 
# Hydro: Who - H. Mercier; Status - final	 
# 	Notes:  
# Nuts: Pascal Morin; Status - final	 
# 	Notes: CNRS, Station Biologique de Roscoff 
# 	Nitrate is really NO3+NO2 
# O2: Who - P. Branellec/P. Lherminier; Status - final	 
# 	Notes: Data are rather noisy with RMS error of 
# 		~3umol/kg after QC 
# TCO2: Who - ; Status - unknown 
# 	Notes: 40 samples collected. no data in file 
# TA: Who - Marcos Vazquez/Aida F. Rios; Status - final	 
# 	Notes:  
# 	Notes: reported on SWS @ 25C 
# 	Spectrophotometric measurements 
# References:	 
# Clayton, T.D. and R.H. Byrne, Spectrophotometric seawater pH measurements: total hydrogen ion concentration scale concentration scale calibration of m-cresol purple and at-sea results. D.S.R. I, 40, 10, 2115-2129, doi: 10.1016/0967-0637(93)90048-8, 1993. 
# Perez F.F., A.F. Rios, T. Rellan and M. Alvarez, Improvements in a fast potentiometric seawater alkalinity determination. Ciencias Marinas, 26(3), 463-478, doi: 10.7773/cm.v26i3.592, 2000. 
#Vazquez-Rodriguez, M., F.F. Perez, A. Velo, A.F. Rios and H. Mercier, Observed acidification trends in North Atlantic water masses. Biogeosci, 9, 5217-5230, doi: 10.5194/bg-9-5217-2012, 2012. 
# Zunino, P., M.I. Garcia-Ibanez, P. Lherminier, H. Mercier, A.F. Rios and F.F. Perez, Variability of the transport of anthropogenic CO2 at the Greenland-Portugal OVIDE section: controlling mechanisms. Biogeosci, 11(8), 2375-2389, doi: 10.5194/bg-11-2375-2014, 2014.  
EXPOCODE,SECT_ID,STNNBR,CASTNO,BTLNBR,BTLNBR_FLAG_W,DATE,TIME,LATITUDE,LONGITUDE,DEPTH,CTDPRS,CTDTMP,CTDSAL,CTDSAL_FLAG_W,SALNTY,SALNTY_FLAG_W,CTDOXY,CTDOXY_FLAG_W,OXYGEN,OXYGEN_FLAG_W,SILCAT,SILCAT_FLAG_W,NITRAT,NITRAT_FLAG_W,PHSPHT,PHSPHT_FLAG_W,ALKALI,ALKALI_FLAG_W,PH_SWS,PH_SWS_FLAG_W,PH_TMP
,,,,,,,,,,METERS,DBAR,ITS-90,PSS-78,,PSS-78,,UMOL/KG,,UMOL/KG,,UMOL/KG,,UMOL/KG,,UMOL/KG,,UMOL/KG,,,,DEG C
  35TH20080610, OVIDE,     2,  1,      3,2,20080612,1814, 40.3340,  -9.4630,  140,    140.7,  13.2780,  35.8530,2,  35.3410,3,    201.0,2,    265.0,3,     1.88,2,     0.24,2,     0.02,2,   -999.0,9,-999.0000,9,  -999.00
  35TH20080610, OVIDE,     2,  1,      4,2,20080612,1814, 40.3340,  -9.4630,  140,    104.1,  13.9210,  35.9380,2,  35.9410,2,    207.0,2,    226.8,3,     2.24,2,     5.94,2,     0.38,2,   2357.6,2,   7.8870,2,    25.00
  35TH20080610, OVIDE,     2,  1,      5,2,20080612,1814, 40.3340,  -9.4630,  140,     54.0,  14.5250,  35.8860,2,  35.8910,2,    243.0,2,    231.2,3,     1.50,2,     1.83,2,     0.10,2,   2357.0,2,   7.9290,2,    25.00
  35TH20080610, OVIDE,     2,  1,      6,2,20080612,1814, 40.3340,  -9.4630,  140,     28.7,  16.5300,  35.5260,2,  35.5600,3,    253.8,2,    252.0,2,     1.17,2,     0.06,2,     0.01,2,   2343.4,2,   7.9850,2,    25.00
  35TH20080610, OVIDE,     2,  1,      7,2,20080612,1814, 40.3340,  -9.4630,  140,     14.1,  17.3480,  35.3750,2,  35.3900,3,    251.2,2,    250.6,2,     1.04,2,     0.05,2,     0.00,2,   2337.7,2,   8.0020,2,    25.00
  35TH20080610, OVIDE,     2,  1,      8,2,20080612,1814, 40.3340,  -9.4630,  140,      3.0,  18.5980,  35.2870,2,  35.2930,3,    249.3,2,    240.4,3,     1.03,2,     0.03,2,     0.03,2,   2335.5,2,   8.0060,2,    25.00
  35TH20080610, OVIDE,     3,  1,      3,2,20080612,1935, 40.3340,  -9.6450,  388,    388.0,  11.5920,  35.7020,2,  35.6980,2,    203.9,2,    202.0,2,     5.49,2,    14.40,2,     0.71,2,   -999.0,9,-999.0000,9,  -999.00
  35TH20080610, OVIDE,     3,  1,      4,2,20080612,1935, 40.3340,  -9.6450,  388,    387.8,  11.5910,  35.7010,2,  35.7000,2,    203.9,2,    203.2,2,     5.55,2,    14.25,2,     0.75,2,   2347.3,2,   7.8010,2,    25.00
  35TH20080610, OVIDE,     3,  1,      5,2,20080612,1935, 40.3340,  -9.6450,  388,    301.2,  11.7900,  35.6650,2,  35.6650,2,    214.8,2,    211.9,2,     4.44,2,    12.65,2,     0.62,2,   2343.6,2,   7.8120,2,    25.00
  35TH20080610, OVIDE,     3,  1,      6,2,20080612,1935, 40.3340,  -9.6450,  388,    200.1,  12.9620,  35.8020,2,  35.8010,2,    218.5,2,    218.8,2,     3.32,2,     9.84,2,     0.48,2,   2348.4,2,   7.8460,2,    25.00
  35TH20080610, OVIDE,     3,  1,      7,2,20080612,1935, 40.3340,  -9.6450,  388,    151.3,  13.5330,  35.8850,2,  35.8840,2,    219.7,2,    213.7,2,     3.02,2,     8.22,2,     0.42,2,   2354.1,2,   7.8640,2,    25.00
  35TH20080610, OVIDE,     3,  1,      8,2,20080612,1935, 40.3340,  -9.6450,  388,    100.0,  14.1700,  35.9650,2,  35.9600,2,    231.5,2,    225.6,2,     1.90,2,     5.00,2,     0.25,2,   2359.7,2,   7.9000,2,    25.00
  35TH20080610, OVIDE,     3,  1,      9,2,20080612,1935, 40.3340,  -9.6450,  388,     53.9,  14.6270,  35.9590,2,  35.9540,2,    239.1,2,    234.9,2,     1.40,2,     1.77,2,     0.10,2,   -999.0,9,-999.0000,9,  -999.00
  35TH20080610, OVIDE,     3,  1,     10,2,20080612,1935, 40.3340,  -9.6450,  388,     29.1,  15.3570,  35.8740,2,  35.8010,3,    252.5,2,    249.9,2,     1.29,2,     0.04,2,     0.02,2,   -999.0,9,-999.0000,9,  -999.00
  35TH20080610, OVIDE,     3,  1,     11,2,20080612,1935, 40.3340,  -9.6450,  388,     14.0,  17.9040,  35.4100,2,  35.4210,3,    247.9,2,    247.4,2,     1.17,2,     0.00,2,     0.00,2,   -999.0,9,-999.0000,9,  -999.00
  35TH20080610, OVIDE,     3,  1,     12,2,20080612,1935, 40.3340,  -9.6450,  388,      3.4,  18.4850,  35.3730,2,  35.3760,2,    246.1,2,    231.6,3,     1.20,2,     0.00,2,     0.00,2,   2336.3,2,   8.0020,2,    25.00
  35TH20080610, OVIDE,     4,  1,      3,2,20080612,2047, 40.3370,  -9.7680,  951,    957.3,  11.5570,  36.1990,2,  36.1990,2,    182.7,2,    183.0,2,     8.23,2,    15.26,2,     0.76,2,   2387.6,2,   7.8090,2,    25.00
  35TH20080610, OVIDE,     4,  1,      4,2,20080612,2047, 40.3370,  -9.7680,  951,    800.1,  11.8610,  36.1560,2,  36.1580,2,    184.0,2,    184.3,2,     7.56,2,    14.99,2,     0.75,2,   2386.5,2,   7.8140,2,    25.00
  35TH20080610, OVIDE,     4,  1,      5,2,20080612,2047, 40.3370,  -9.7680,  951,    799.5,  11.8660,  36.1550,2,  36.1580,2,    184.0,2,    185.4,2,     7.50,2,    14.78,2,     0.73,2,   -999.0,9,   7.8070,2,    25.00
  35TH20080610, OVIDE,     4,  1,      6,2,20080612,2047, 40.3370,  -9.7680,  951,    700.0,  11.9760,  36.1010,2,  36.1050,2,    185.3,2,    181.8,2,     7.10,2,    14.55,2,     0.73,2,   2380.6,2,   7.8090,2,    25.00
  35TH20080610, OVIDE,     4,  1,      7,2,20080612,2047, 40.3370,  -9.7680,  951,    600.4,  11.8140,  35.9810,2,  35.9780,2,    186.7,2,    186.2,2,     7.01,2,    15.11,2,     0.76,2,   2372.3,2,   7.8040,2,    25.00
  35TH20080610, OVIDE,     4,  1,      8,2,20080612,2047, 40.3370,  -9.7680,  951,    501.2,  11.4370,  35.7510,2,  35.7520,2,    199.2,2,    191.3,3,     6.53,2,    15.20,2,     0.78,2,   2353.5,2,   7.7900,2,    25.00
  35TH20080610, OVIDE,     4,  1,      9,2,20080612,2047, 40.3370,  -9.7680,  951,    400.4,  11.5930,  35.6490,2,  35.6500,2,    217.3,2,    209.9,3,     4.89,2,    13.37,2,     0.66,2,   2343.6,2,   7.8040,2,    25.00
  35TH20080610, OVIDE,     4,  1,     10,2,20080612,2047, 40.3370,  -9.7680,  951,    300.8,  12.0600,  35.6710,2,  35.6690,2,    224.3,2,    222.8,2,     3.68,2,    11.44,2,     0.55,2,   2340.6,2,   7.8280,2,    25.00
  35TH20080610, OVIDE,     4,  1,     11,2,20080612,2047, 40.3370,  -9.7680,  951,    200.5,  12.8330,  35.7780,2,  35.7780,2,    224.1,2,    219.4,2,     3.20,2,     9.97,2,     0.49,2,   2346.7,2,   7.8450,2,    25.00
  35TH20080610, OVIDE,     4,  1,     12,2,20080612,2047, 40.3370,  -9.7680,  951,    149.5,  13.6110,  35.8990,2,  35.8960,2,    235.6,2,    229.4,2,     2.42,2,     6.86,2,     0.33,2,   2353.1,2,   7.8780,2,    25.00
  35TH20080610, OVIDE,     4,  1,     13,2,20080612,2047, 40.3370,  -9.7680,  951,    102.1,  14.1290,  35.9540,2,  35.9530,2,    238.2,2,    240.7,2,     1.65,2,     3.67,2,     0.18,2,   2358.0,2,   7.9140,2,    25.00
  35TH20080610, OVIDE,     4,  1,     14,2,20080612,2047, 40.3370,  -9.7680,  951,     54.9,  14.5810,  35.9690,2,  35.9710,2,    244.7,2,    245.8,2,     1.40,2,     1.32,2,     0.08,2,   -999.0,9,-999.0000,9,  -999.00
  35TH20080610, OVIDE,     4,  1,     15,2,20080612,2047, 40.3370,  -9.7680,  951,     29.9,  16.7860,  35.5820,2,  35.6140,3,    256.0,2,    254.8,2,     1.20,2,     0.01,2,     0.02,2,   -999.0,9,-999.0000,9,  -999.00
  35TH20080610, OVIDE,     4,  1,     16,2,20080612,2047, 40.3370,  -9.7680,  951,      3.3,  18.4690,  35.3560,2,  35.3590,2,    246.3,2,    244.7,2,     1.16,2,     0.00,2,     0.00,2,   2334.6,2,   8.0090,2,    25.00
  35TH20080610, OVIDE,     5,  1,      3,2,20080612,2304, 40.3340,  -9.8010, 1255,   1243.1,  10.7860,  36.2120,2,  36.2130,2,    185.1,2,    187.0,2,     9.31,2,    15.96,2,     0.80,2,   2395.8,2,   7.8020,2,    25.00
  35TH20080610, OVIDE,     5,  1,      4,2,20080612,2304, 40.3340,  -9.8010, 1255,   1143.6,  11.1690,  36.2380,2,  36.2390,2,    183.3,2,    183.7,2,     8.84,2,    15.56,2,     0.78,2,   2397.2,2,   7.8060,2,    25.00
  35TH20080610, OVIDE,     5,  1,      5,2,20080612,2304, 40.3340,  -9.8010, 1255,   1001.7,  11.4660,  36.2150,2,  36.2140,2,    182.6,2,    182.5,2,     8.28,2,    15.05,2,     0.76,2,   2394.4,2,   7.8050,2,    25.00
  35TH20080610, OVIDE,     5,  1,      6,2,20080612,2304, 40.3340,  -9.8010, 1255,    900.2,  11.6880,  36.1850,2,  36.1890,2,    182.8,2,    182.7,2,     7.85,2,    15.00,2,     0.76,2,   2389.6,2,   7.8080,2,    25.00
  35TH20080610, OVIDE,     5,  1,      7,2,20080612,2304, 40.3340,  -9.8010, 1255,    750.1,  11.9310,  36.1610,2,  36.1620,2,    184.5,2,    183.7,2,     7.31,2,    14.70,2,     0.74,2,   2386.4,2,   7.8140,2,    25.00
  35TH20080610, OVIDE,     5,  1,      8,2,20080612,2304, 40.3340,  -9.8010, 1255,    600.6,  11.7500,  35.9490,2,  35.9530,2,    186.3,2,    186.3,2,     6.91,2,    15.09,2,     0.77,2,   2369.0,2,   7.8020,2,    25.00
  35TH20080610, OVIDE,     5,  1,      9,2,20080612,2304, 40.3340,  -9.8010, 1255,    499.7,  11.5220,  35.7170,2,  35.7140,2,    200.5,2,    199.0,2,     5.86,2,    14.45,2,     0.73,2,   2348.5,2,   7.7980,2,    25.00
  35TH20080610, OVIDE,     5,  1,     10,2,20080612,2304, 40.3340,  -9.8010, 1255,    400.2,  11.6070,  35.6310,2,  35.6320,2,    216.2,2,    215.1,2,     4.54,2,    12.78,2,     0.65,2,   2340.7,2,   7.8130,2,    25.00
  35TH20080610, OVIDE,     5,  1,     11,2,20080612,2304, 40.3340,  -9.8010, 1255,    299.8,  12.0950,  35.6780,2,  35.6750,2,    223.0,2,    221.9,2,     3.68,2,    11.32,2,     0.55,2,   2341.9,2,   7.8300,2,    25.00
  35TH20080610, OVIDE,     5,  1,     12,2,20080612,2304, 40.3340,  -9.8010, 1255,    199.7,  13.0120,  35.8040,2,  35.8000,2,    219.8,2,    219.3,2,     3.10,2,     9.67,2,     0.46,2,   2349.3,2,   7.8520,2,    25.00
  35TH20080610, OVIDE,     5,  1,     13,2,20080612,2304, 40.3340,  -9.8010, 1255,    149.5,  13.9230,  35.9510,2,  35.9450,3,    230.5,2,    235.3,2,     2.05,2,     5.47,2,     0.27,2,   2359.0,2,   7.9010,2,    25.00
  35TH20080610, OVIDE,     5,  1,     14,2,20080612,2304, 40.3340,  -9.8010, 1255,     99.3,  14.2130,  35.9820,2,  35.9850,2,    239.9,2,    238.6,2,     1.70,2,     3.95,2,     0.20,2,   2361.7,2,   7.9140,2,    25.00
  35TH20080610, OVIDE,     5,  1,     15,2,20080612,2304, 40.3340,  -9.8010, 1255,     49.5,  14.9740,  35.9930,2,  35.9930,2,    250.9,2,    255.1,2,     1.28,2,     0.53,2,     0.05,2,   -999.0,9,-999.0000,9,  -999.00
  35TH20080610, OVIDE,     5,  1,     16,2,20080612,2304, 40.3340,  -9.8010, 1255,      3.3,  18.2130,  35.3450,2,  35.3450,2,    246.7,2,    248.3,2,     1.04,2,     0.15,2,     0.00,2,   2336.1,2,   8.0030,2,    25.00
  35TH20080610, OVIDE,     6,  1,      3,2,20080613,0136, 40.3340,  -9.8770, 2649,   2683.0,   3.1940,  34.9890,2,  34.9900,2,    247.3,2,    247.2,2,    30.60,2,    20.89,2,     1.15,2,   2336.9,2,   7.7390,2,    25.00
  35TH20080610, OVIDE,     6,  1,      4,2,20080613,0136, 40.3340,  -9.8770, 2649,   2500.3,   3.4290,  35.0130,2,  35.0150,2,    248.0,2,    247.2,2,    27.96,2,    20.99,2,     1.15,2,   2335.2,2,   7.7390,2,    25.00
  35TH20080610, OVIDE,     6,  1,      5,2,20080613,0136, 40.3340,  -9.8770, 2649,   2249.6,   3.7210,  35.0420,2,  35.0530,3,    249.6,2,    248.3,2,    24.32,2,    20.33,2,     1.11,2,   2331.5,2,   7.7410,2,    25.00
  35TH20080610, OVIDE,     6,  1,      6,2,20080613,0136, 40.3340,  -9.8770, 2649,   1999.8,   4.2630,  35.1000,2,  35.1010,2,    249.5,2,    249.0,2,    18.11,2,    19.18,2,     1.04,2,   2327.4,2,   7.7420,2,    25.00
  35TH20080610, OVIDE,     6,  1,      7,2,20080613,0136, 40.3340,  -9.8770, 2649,   1999.7,   4.2670,  35.1000,2,  35.1050,2,    249.5,2,    248.5,2,    18.09,2,    19.81,2,     1.05,2,   2327.7,2,   7.7420,2,    25.00
  35TH20080610, OVIDE,     6,  1,      8,2,20080613,0136, 40.3340,  -9.8770, 2649,   1799.6,   4.7580,  35.1600,2,  35.1640,2,    247.0,2,    246.3,2,    15.49,2,    18.82,2,     1.01,2,   2327.5,2,   7.7420,2,    25.00
  35TH20080610, OVIDE,     6,  1,      9,2,20080613,0136, 40.3340,  -9.8770, 2649,   1599.8,   7.6620,  35.6660,2,  35.6660,2,    214.9,2,    214.8,2,    12.45,2,    17.60,2,     0.92,2,   2360.2,2,   7.7680,2,    25.00
  35TH20080610, OVIDE,     6,  1,     10,2,20080613,0136, 40.3340,  -9.8770, 2649,   1399.7,   9.6500,  36.0310,2,  36.0330,2,    195.8,2,    196.0,2,    10.56,2,    16.57,2,     0.85,2,   2384.3,2,   7.7900,2,    25.00
  35TH20080610, OVIDE,     6,  1,     11,2,20080613,0136, 40.3340,  -9.8770, 2649,   1200.6,  11.0290,  36.2470,2,  36.2470,2,    184.2,2,    186.2,2,     9.10,2,    15.74,2,     0.78,2,   2397.8,2,   7.8020,2,    25.00
  35TH20080610, OVIDE,     6,  1,     12,2,20080613,0136, 40.3340,  -9.8770, 2649,    999.4,  11.3690,  36.1840,2,  36.1890,2,    182.2,2,    182.1,2,     8.49,2,    15.64,2,     0.78,2,   2391.7,2,   7.8030,2,    25.00
  35TH20080610, OVIDE,     6,  1,     13,2,20080613,0136, 40.3340,  -9.8770, 2649,    898.7,  11.6880,  36.1970,2,  36.1960,2,    182.6,2,    182.9,2,     8.00,2,    15.21,2,     0.72,2,   2389.2,2,   7.8090,2,    25.00
  35TH20080610, OVIDE,     6,  1,     14,2,20080613,0136, 40.3340,  -9.8770, 2649,    797.6,  11.7330,  36.1440,2,  36.1430,2,    183.2,2,    183.8,2,     7.78,2,    15.04,2,     0.75,2,   2383.6,2,   7.8080,2,    25.00
  35TH20080610, OVIDE,     6,  1,     15,2,20080613,0136, 40.3340,  -9.8770, 2649,    700.0,  11.6980,  36.0230,2,  36.0230,2,    184.1,2,    185.4,2,     7.29,2,    15.24,2,     0.76,2,   2373.0,2,   7.8050,2,    25.00
  35TH20080610, OVIDE,     6,  1,     16,2,20080613,0136, 40.3340,  -9.8770, 2649,    599.7,  11.6550,  35.8880,2,  35.8870,2,    186.2,2,   -999.0,3,     6.98,2,    15.42,2,     0.76,2,   -999.0,9,   7.7970,2,    25.00
  35TH20080610, OVIDE,     6,  1,     17,2,20080613,0136, 40.3340,  -9.8770, 2649,    499.7,  11.4970,  35.7170,2,  35.7260,3,    195.3,2,    193.9,2,     6.27,2,    15.14,2,     0.75,2,   2348.2,2,   7.7940,2,    25.00
  35TH20080610, OVIDE,     6,  1,     18,2,20080613,0136, 40.3340,  -9.8770, 2649,    400.0,  11.7020,  35.6660,2,  35.6670,2,    208.3,2,    207.2,2,     4.97,2,    13.40,2,     0.66,2,   2341.5,2,   7.8060,2,    25.00
  35TH20080610, OVIDE,     6,  1,     19,2,20080613,0136, 40.3340,  -9.8770, 2649,    300.8,  12.3490,  35.7290,2,  35.7310,2,    213.5,2,    213.9,2,     3.93,2,    11.40,2,     0.55,2,   -999.0,9,   7.8270,2,    25.00
  35TH20080610, OVIDE,     6,  1,     20,2,20080613,0136, 40.3340,  -9.8770, 2649,    200.4,  13.3370,  35.8500,2,  35.8470,2,    223.5,2,    225.6,2,     2.74,2,     7.95,2,     0.38,2,   -999.0,9,-999.0000,9,  -999.00
  35TH20080610, OVIDE,     6,  1,     21,2,20080613,0136, 40.3340,  -9.8770, 2649,    100.2,  14.2020,  35.9760,2,  35.9750,2,    241.1,2,    239.0,2,     1.63,2,     3.87,2,     0.18,2,   2359.1,2,   7.9160,2,    25.00
  35TH20080610, OVIDE,     6,  1,     22,2,20080613,0136, 40.3340,  -9.8770, 2649,     56.5,  14.5020,  35.9870,2,  35.9850,2,    252.3,2,    243.2,3,     1.46,2,     2.08,2,     0.11,2,   -999.0,9,   7.9300,2,    25.00
  35TH20080610, OVIDE,     6,  1,     23,2,20080613,0136, 40.3340,  -9.8770, 2649,      3.5,  18.2730,  35.4610,2,  35.5810,3,    246.5,2,    245.0,2,     1.19,2,     0.20,2,     0.01,2,   2344.3,2,   7.9940,2,    25.00