BOTTLE,20140930PRINUNIVRMK
EXPOCODE,SECT_ID,STNNBR,CASTNO,BTLNBR,BTLNBR_FLAG_W,DATE,TIME,LATITUDE,LONGITUDE,DEPTH,CTDPRS,CTDTMP,CTDSAL,CTDSAL_FLAG_W,SALNTY,SALNTY_FLAG_W,CTDOXY,CTDOXY_FLAG_W,OXYGEN,OXYGEN_FLAG_W,SILCAT,SILCAT_FLAG_W,NITRAT,NITRAT_FLAG_W,PHSPHT,PHSPHT_FLAG_W,ALKALI,ALKALI_FLAG_W,PH_SWS,PH_SWS_FLAG_W,PH_TMP
,,,,,,,,,,METERS,DBAR,ITS-90,PSS-78,,PSS-78,,UMOL/KG,,UMOL/KG,,UMOL/KG,,UMOL/KG,,UMOL/KG,,UMOL/KG,,,,DEG C
  35TH20080610, OVIDE,    78,  1,      3,2,20080630,0831, 59.2990, -35.7630, 3087,   3137.5,   1.8190,  34.9070,2,  34.9060,2,    299.6,2,    298.6,2,     9.02,2,    13.51,2,     0.78,2,   2304.3,2,   7.7210,2,    25.00
  35TH20080610, OVIDE,    78,  1,      4,2,20080630,0831, 59.2990, -35.7630, 3087,   3073.8,   2.2200,  34.9120,2,  34.9110,2,    291.9,2,    292.8,2,    10.18,2,    14.41,2,     0.84,2,   2303.6,2,   7.7220,2,    25.00
  35TH20080610, OVIDE,    78,  1,      5,2,20080630,0831, 59.2990, -35.7630, 3087,   2998.6,   2.5880,  34.9220,2,  34.9220,2,    286.5,2,    285.5,2,    12.03,2,    15.52,2,     0.89,2,   2306.0,2,   7.7260,2,    25.00
  35TH20080610, OVIDE,    78,  1,      6,2,20080630,0831, 59.2990, -35.7630, 3087,   2750.6,   2.8840,  34.9330,2,  34.9320,2,    281.3,2,    279.7,2,    13.22,2,    16.08,2,     0.93,2,   2306.1,2,   7.7260,2,    25.00
  35TH20080610, OVIDE,    78,  1,      7,2,20080630,0831, 59.2990, -35.7630, 3087,   2499.0,   3.0010,  34.9320,2,  34.9300,2,    280.8,2,    279.6,2,    12.58,2,    16.16,2,     0.94,2,   2306.2,2,   7.7280,2,    25.00
  35TH20080610, OVIDE,    78,  1,      8,2,20080630,0831, 59.2990, -35.7630, 3087,   2239.5,   3.1720,  34.9360,2,  34.9340,2,    280.3,2,    279.9,2,    11.93,2,    16.12,2,     0.94,2,   2304.2,2,   7.7260,2,    25.00
  35TH20080610, OVIDE,    78,  1,      9,2,20080630,0831, 59.2990, -35.7630, 3087,   2000.8,   3.3050,  34.9370,2,  34.9360,2,    280.1,2,    295.1,3,    11.35,2,    16.19,2,     0.95,2,   2303.7,2,   7.7270,2,    25.00
  35TH20080610, OVIDE,    78,  1,     10,2,20080630,0831, 59.2990, -35.7630, 3087,   1798.5,   3.3600,  34.9260,2,  34.9260,2,    280.2,2,    285.8,3,    11.16,2,    16.34,2,     0.96,2,   2301.9,2,   7.7230,2,    25.00
  35TH20080610, OVIDE,    78,  1,     11,2,20080630,0831, 59.2990, -35.7630, 3087,   1599.8,   3.4820,  34.9220,2,  34.9220,2,    279.7,2,    284.2,2,    10.88,2,    16.45,2,     0.96,2,   2301.4,2,   7.7210,2,    25.00
  35TH20080610, OVIDE,    78,  1,     12,2,20080630,0831, 59.2990, -35.7630, 3087,   1400.2,   3.6580,  34.9240,2,  34.9250,2,    277.8,2,    277.1,2,    10.60,2,    16.52,2,     0.96,2,   2301.4,2,   7.7190,2,    25.00
  35TH20080610, OVIDE,    78,  1,     13,2,20080630,0831, 59.2990, -35.7630, 3087,   1200.7,   3.7290,  34.9110,2,  34.9110,2,    280.2,2,    278.8,2,    10.34,2,    17.06,2,     0.96,2,   2299.9,2,   7.7180,2,    25.00
  35TH20080610, OVIDE,    78,  1,     14,2,20080630,0831, 59.2990, -35.7630, 3087,   1198.8,   3.7280,  34.9110,2,  34.9110,2,    280.1,2,    279.6,2,    10.37,2,    17.12,2,     0.96,2,   -999.0,9,-999.0000,9,  -999.00
  35TH20080610, OVIDE,    78,  1,     15,2,20080630,0831, 59.2990, -35.7630, 3087,   1001.0,   3.7570,  34.8900,2,  34.8880,2,    287.9,2,    286.1,2,     9.53,2,    16.34,2,     0.94,2,   2300.7,2,   7.7180,2,    25.00
  35TH20080610, OVIDE,    78,  1,     16,2,20080630,0831, 59.2990, -35.7630, 3087,    899.5,   3.8980,  34.9010,2,  34.9010,2,    284.0,2,    284.3,2,     9.52,2,    16.64,2,     0.97,2,   2300.1,2,   7.7150,2,    25.00
  35TH20080610, OVIDE,    78,  1,     17,2,20080630,0831, 59.2990, -35.7630, 3087,    800.4,   4.0790,  34.9190,2,  34.9180,2,    292.4,2,    282.5,3,     9.46,2,    16.34,2,     0.93,2,   2300.0,2,   7.7200,2,    25.00
  35TH20080610, OVIDE,    78,  1,     18,2,20080630,0831, 59.2990, -35.7630, 3087,    699.9,   4.1740,  34.9250,2,  34.9250,2,    277.9,2,    286.2,3,     9.93,2,    17.18,2,     0.97,2,   2302.0,2,   7.7130,2,    25.00
  35TH20080610, OVIDE,    78,  1,     19,2,20080630,0831, 59.2990, -35.7630, 3087,    600.5,   4.2840,  34.9290,2,  34.9320,2,    271.0,2,    275.4,3,     9.62,2,    16.38,2,     0.96,2,   2302.5,2,   7.7160,2,    25.00
  35TH20080610, OVIDE,    78,  1,     20,2,20080630,0831, 59.2990, -35.7630, 3087,    500.3,   4.5420,  34.9460,2,  34.9450,2,    274.3,2,    273.6,2,     9.45,2,    16.96,2,     0.95,2,   2304.4,2,   7.7150,2,    25.00
  35TH20080610, OVIDE,    78,  1,     21,2,20080630,0831, 59.2990, -35.7630, 3087,    399.8,   5.0200,  34.9870,2,  34.9850,2,    258.3,2,    255.1,2,    10.32,2,    17.57,2,     0.99,2,   2306.4,2,   7.7090,2,    25.00
  35TH20080610, OVIDE,    78,  1,     22,2,20080630,0831, 59.2990, -35.7630, 3087,    300.3,   5.1140,  34.9530,2,  34.9530,2,    279.3,2,    290.0,3,     8.90,2,    16.24,2,     0.92,2,   2303.5,2,   7.7240,2,    25.00
  35TH20080610, OVIDE,    78,  1,     23,2,20080630,0831, 59.2990, -35.7630, 3087,    201.4,   5.6360,  34.9690,2,  34.9710,2,    280.6,2,    279.3,2,     8.35,2,    15.68,2,     0.90,2,   2304.4,2,   7.7340,2,    25.00
  35TH20080610, OVIDE,    78,  1,     24,2,20080630,0831, 59.2990, -35.7630, 3087,    123.4,   6.1110,  34.9810,2,  34.9890,3,    288.7,2,    287.1,2,     6.99,2,    13.77,2,     0.84,2,   2303.5,2,   7.7520,2,    25.00
  35TH20080610, OVIDE,    78,  1,     25,2,20080630,0831, 59.2990, -35.7630, 3087,    100.5,   6.1360,  34.9500,2,-999.0000,3,    294.1,2,    319.3,3,  -999.00,3,  -999.00,3,  -999.00,3,   -999.0,9,   7.7600,2,    25.00
  35TH20080610, OVIDE,    78,  1,     26,2,20080630,0831, 59.2990, -35.7630, 3087,     54.2,   9.1680,  34.9660,2,  34.9620,3,    290.5,2,    309.5,3,     2.24,2,     7.49,2,     0.53,2,   2305.5,2,   7.8430,2,    25.00
  35TH20080610, OVIDE,    78,  1,     27,2,20080630,0831, 59.2990, -35.7630, 3087,      9.7,   9.9280,  35.0070,2,  35.0070,2,    290.2,2,    288.8,2,     1.76,2,     5.95,2,     0.46,2,   2314.0,2,   7.8690,2,    25.00
  35TH20080610, OVIDE,    79,  1,      3,2,20080630,1426, 59.3630, -36.3980, 3085,   3134.9,   2.0870,  34.9110,2,  34.9080,2,    294.9,2,    294.0,2,    10.31,2,    14.38,2,     0.82,2,   -999.0,9,   7.7220,2,    25.00
  35TH20080610, OVIDE,    79,  1,      4,2,20080630,1426, 59.3630, -36.3980, 3085,   2749.2,   2.8490,  34.9330,2,  34.9300,2,    281.5,2,    280.1,2,    13.15,2,    16.00,2,     0.93,2,   -999.0,9,   7.7270,2,    25.00
  35TH20080610, OVIDE,    79,  1,      5,2,20080630,1426, 59.3630, -36.3980, 3085,   2501.0,   2.9960,  34.9330,2,  34.9320,2,    280.6,2,    279.6,2,    12.64,2,    16.32,2,     0.94,2,   -999.0,9,   7.7260,2,    25.00
  35TH20080610, OVIDE,    79,  1,      6,2,20080630,1426, 59.3630, -36.3980, 3085,   2248.4,   3.1010,  34.9300,2,  34.9280,2,    280.8,2,    280.2,2,    11.99,2,    16.37,2,     0.94,2,   -999.0,9,   7.7250,2,    25.00
  35TH20080610, OVIDE,    79,  1,      7,2,20080630,1426, 59.3630, -36.3980, 3085,   2000.8,   3.2070,  34.9230,2,  34.9210,2,    281.5,2,    282.0,2,    11.42,2,    17.18,2,     0.94,2,   -999.0,9,   7.7260,2,    25.00
  35TH20080610, OVIDE,    79,  1,      8,2,20080630,1426, 59.3630, -36.3980, 3085,   1799.6,   3.3180,  34.9240,2,  34.9230,2,    281.0,2,    281.2,2,    11.10,2,    17.27,2,     0.94,2,   -999.0,9,   7.7240,2,    25.00
  35TH20080610, OVIDE,    79,  1,      9,2,20080630,1426, 59.3630, -36.3980, 3085,   1599.7,   3.4250,  34.9180,2,  34.9180,2,    280.3,2,    280.5,2,    10.93,2,    17.62,2,     0.96,2,   -999.0,9,   7.7230,2,    25.00
  35TH20080610, OVIDE,    79,  1,     10,2,20080630,1426, 59.3630, -36.3980, 3085,   1398.4,   3.5460,  34.9170,2,  34.9140,2,    279.0,2,    278.0,2,    10.63,2,    17.68,2,     0.96,2,   -999.0,9,   7.7190,2,    25.00
  35TH20080610, OVIDE,    79,  1,     11,2,20080630,1426, 59.3630, -36.3980, 3085,   1200.2,   3.6860,  34.9160,2,  34.9170,2,    278.3,2,    277.4,2,    10.48,2,    17.35,2,     0.96,2,   -999.0,9,   7.7160,2,    25.00
  35TH20080610, OVIDE,    79,  1,     12,2,20080630,1426, 59.3630, -36.3980, 3085,   1002.1,   3.7350,  34.9030,2,  34.9010,2,    282.2,2,    280.7,2,     9.99,2,    17.10,2,     0.95,2,   -999.0,9,   7.7150,2,    25.00
  35TH20080610, OVIDE,    79,  1,     13,2,20080630,1426, 59.3630, -36.3980, 3085,    900.7,   3.8010,  34.9020,2,  34.9020,2,    279.7,2,    281.6,2,     9.83,2,    17.19,2,     0.96,2,   -999.0,9,   7.7110,2,    25.00
  35TH20080610, OVIDE,    79,  1,     14,2,20080630,1426, 59.3630, -36.3980, 3085,    799.8,   3.9270,  34.9080,2,  34.9090,2,    278.8,2,    279.6,2,     9.81,2,    17.80,2,     0.95,2,   -999.0,9,   7.7140,2,    25.00
  35TH20080610, OVIDE,    79,  1,     15,2,20080630,1426, 59.3630, -36.3980, 3085,    699.7,   3.9910,  34.9060,2,  34.9080,2,    286.5,2,    285.8,2,     9.18,2,    16.86,2,     0.93,2,   -999.0,9,   7.7180,2,    25.00
  35TH20080610, OVIDE,    79,  1,     16,2,20080630,1426, 59.3630, -36.3980, 3085,    600.3,   4.0210,  34.9020,2,  34.9020,2,    286.0,2,    291.2,3,     8.79,2,    16.43,2,     0.91,2,   -999.0,9,   7.7180,2,    25.00
  35TH20080610, OVIDE,    79,  1,     17,2,20080630,1426, 59.3630, -36.3980, 3085,    500.1,   4.1200,  34.9070,2,  34.9040,2,    293.4,2,    293.9,2,     8.68,2,    16.80,2,     0.92,2,   -999.0,9,   7.7230,2,    25.00
  35TH20080610, OVIDE,    79,  1,     18,2,20080630,1426, 59.3630, -36.3980, 3085,    397.4,   4.2600,  34.9140,2,  34.9120,2,    291.0,2,    292.2,2,     8.62,2,    16.12,2,     0.92,2,   -999.0,9,   7.7250,2,    25.00
  35TH20080610, OVIDE,    79,  1,     19,2,20080630,1426, 59.3630, -36.3980, 3085,    299.7,   4.5460,  34.9290,2,  34.9310,2,    284.1,2,    286.3,2,     8.80,2,    17.36,2,     0.94,2,   -999.0,9,   7.7240,2,    25.00
  35TH20080610, OVIDE,    79,  1,     20,2,20080630,1426, 59.3630, -36.3980, 3085,    199.7,   4.7980,  34.9130,2,  34.9130,2,    294.0,2,    292.3,2,     8.36,2,    16.96,2,     0.92,2,   -999.0,9,   7.7160,2,    25.00
  35TH20080610, OVIDE,    79,  1,     21,2,20080630,1426, 59.3630, -36.3980, 3085,    149.1,   5.1760,  34.9200,2,  34.9180,2,    296.5,2,    294.0,2,     7.96,2,    16.17,2,     0.90,2,   -999.0,9,   7.7360,2,    25.00
  35TH20080610, OVIDE,    79,  1,     22,2,20080630,1426, 59.3630, -36.3980, 3085,     98.9,   5.7910,  34.9640,2,  34.9610,2,    295.6,2,    291.2,3,     7.39,2,    16.66,2,     0.87,2,   -999.0,9,   7.8000,3,    25.00
  35TH20080610, OVIDE,    79,  1,     23,2,20080630,1426, 59.3630, -36.3980, 3085,     56.7,   7.0080,  34.9380,2,  34.9380,2,    301.6,2,    301.3,2,     4.07,2,    11.80,2,     0.68,2,   -999.0,9,   7.8060,2,    25.00
  35TH20080610, OVIDE,    79,  1,     24,2,20080630,1426, 59.3630, -36.3980, 3085,      6.6,   9.9320,  34.9350,2,  34.9360,2,    294.0,2,    295.3,2,     1.68,2,     7.53,2,     0.43,2,   -999.0,9,   7.8720,2,    25.00
  35TH20080610, OVIDE,    80,  1,      3,2,20080630,2306, 59.4270, -37.0380, 3102,   3151.9,   1.7780,  34.9060,2,  34.9050,2,    299.5,2,    297.8,2,     9.56,2,    14.10,2,     0.77,2,   2302.9,2,   7.7190,2,    25.00
  35TH20080610, OVIDE,    80,  1,      4,2,20080630,2306, 59.4270, -37.0380, 3102,   3000.5,   2.4880,  34.9170,2,  34.9180,2,    287.2,2,    288.3,2,    12.79,2,    15.82,2,     0.88,2,   2303.7,2,   7.7240,2,    25.00
  35TH20080610, OVIDE,    80,  1,      5,2,20080630,2306, 59.4270, -37.0380, 3102,   2750.0,   2.8490,  34.9320,2,  34.9300,2,    281.6,2,    282.8,2,    13.73,2,    16.75,2,     0.92,2,   2305.8,2,   7.7300,2,    25.00
  35TH20080610, OVIDE,    80,  1,      6,2,20080630,2306, 59.4270, -37.0380, 3102,   2501.3,   2.9850,  34.9320,2,  34.9300,2,    280.7,2,    280.8,2,    13.30,2,    16.75,2,     0.92,2,   2305.3,2,   7.7290,2,    25.00
  35TH20080610, OVIDE,    80,  1,      7,2,20080630,2306, 59.4270, -37.0380, 3102,   2253.2,   3.1440,  34.9370,2,  34.9360,2,    280.3,2,    280.5,2,    12.54,2,    16.83,2,     0.92,2,   2305.9,2,   7.7270,2,    25.00
  35TH20080610, OVIDE,    80,  1,      8,2,20080630,2306, 59.4270, -37.0380, 3102,   2002.2,   3.2540,  34.9300,2,  34.9270,2,    281.0,2,    287.2,3,    11.89,2,    17.13,2,     0.92,2,   2303.7,2,   7.7250,2,    25.00
  35TH20080610, OVIDE,    80,  1,      9,2,20080630,2306, 59.4270, -37.0380, 3102,   1799.6,   3.3240,  34.9210,2,  34.9210,2,    281.6,2,    282.3,2,    11.55,2,    17.18,2,     0.93,2,   2302.2,2,   7.7270,2,    25.00
  35TH20080610, OVIDE,    80,  1,     10,2,20080630,2306, 59.4270, -37.0380, 3102,   1600.0,   3.4560,  34.9200,2,  34.9190,2,    279.8,2,    279.2,2,    11.43,2,    17.24,2,     0.93,2,   2303.6,2,   7.7220,2,    25.00
  35TH20080610, OVIDE,    80,  1,     11,2,20080630,2306, 59.4270, -37.0380, 3102,   1399.9,   3.5770,  34.9180,2,  34.9220,3,    279.2,2,    278.1,2,    11.07,2,    17.29,2,     0.96,2,   2303.2,2,   7.7210,2,    25.00
  35TH20080610, OVIDE,    80,  1,     12,2,20080630,2306, 59.4270, -37.0380, 3102,   1200.1,   3.6000,  34.8960,2,  34.8940,2,    282.6,2,    284.3,2,    10.47,2,    17.11,2,     0.93,2,   2301.5,2,   7.7200,2,    25.00
  35TH20080610, OVIDE,    80,  1,     13,2,20080630,2306, 59.4270, -37.0380, 3102,   1000.4,   3.6910,  34.8850,2,  34.8860,2,    288.9,2,    287.1,2,     9.85,2,    17.05,2,     0.92,2,   2301.8,2,   7.7190,2,    25.00
  35TH20080610, OVIDE,    80,  1,     14,2,20080630,2306, 59.4270, -37.0380, 3102,    899.2,   3.7580,  34.8860,2,  34.8860,2,    287.5,2,    288.5,2,     9.68,2,    17.02,2,     0.91,2,   2301.2,2,   7.7200,2,    25.00
  35TH20080610, OVIDE,    80,  1,     15,2,20080630,2306, 59.4270, -37.0380, 3102,    898.5,   3.7590,  34.8860,2,  34.8860,2,    287.5,2,    287.4,2,     9.65,2,    17.09,2,     0.92,2,   -999.0,9,-999.0000,9,  -999.00
  35TH20080610, OVIDE,    80,  1,     16,2,20080630,2306, 59.4270, -37.0380, 3102,    800.0,   3.7940,  34.8790,2,  34.8810,2,    295.1,2,    294.1,2,     9.07,2,    16.60,2,     0.90,2,   2298.1,2,   7.7220,2,    25.00
  35TH20080610, OVIDE,    80,  1,     17,2,20080630,2306, 59.4270, -37.0380, 3102,    699.6,   4.0000,  34.9050,2,  34.9040,2,    297.2,2,    298.7,2,     8.86,2,    16.42,2,     0.89,2,   2300.2,2,   7.7260,2,    25.00
  35TH20080610, OVIDE,    80,  1,     18,2,20080630,2306, 59.4270, -37.0380, 3102,    600.3,   3.9720,  34.8950,2,  34.8960,2,    297.3,2,    296.8,2,     8.77,2,    16.49,2,     0.89,2,   2302.6,2,   7.7260,2,    25.00
  35TH20080610, OVIDE,    80,  1,     19,2,20080630,2306, 59.4270, -37.0380, 3102,    500.9,   4.0700,  34.9030,2,  34.9040,2,    298.1,2,    295.0,2,     8.81,2,    16.53,2,     0.90,2,   2300.7,2,   7.7300,2,    25.00
  35TH20080610, OVIDE,    80,  1,     20,2,20080630,2306, 59.4270, -37.0380, 3102,    414.6,   4.1200,  34.9000,2,  34.9020,2,    297.0,2,    296.9,2,     8.82,2,    16.73,2,     0.89,2,   2301.8,2,   7.7270,2,    25.00
  35TH20080610, OVIDE,    80,  1,     21,2,20080630,2306, 59.4270, -37.0380, 3102,    300.5,   4.4560,  34.9260,2,  34.9300,2,    287.0,2,    289.7,2,     9.10,2,    17.11,2,     0.92,2,   2304.0,2,   7.7250,2,    25.00
  35TH20080610, OVIDE,    80,  1,     22,2,20080630,2306, 59.4270, -37.0380, 3102,    199.8,   5.0040,  34.9540,2,  34.9550,2,    281.8,2,    280.4,2,     9.14,2,    16.96,2,     0.92,2,   2306.4,2,   7.7230,2,    25.00
  35TH20080610, OVIDE,    80,  1,     23,2,20080630,2306, 59.4270, -37.0380, 3102,    150.0,   5.3080,  34.9460,2,  34.9480,2,    289.7,2,    287.7,2,     8.57,2,    16.19,2,     0.88,2,   2304.2,2,   7.7370,2,    25.00
  35TH20080610, OVIDE,    80,  1,     24,2,20080630,2306, 59.4270, -37.0380, 3102,    101.3,   5.5940,  34.9410,2,  34.9410,2,    294.2,2,    293.4,2,     7.83,2,    15.62,2,     0.86,2,   2303.4,2,   7.7450,2,    25.00
  35TH20080610, OVIDE,    80,  1,     25,2,20080630,2306, 59.4270, -37.0380, 3102,     53.8,   6.7340,  34.9270,2,  34.9290,2,    302.3,2,    300.9,2,     4.66,2,    11.90,2,     0.71,2,   2305.9,2,   7.7940,2,    25.00
  35TH20080610, OVIDE,    80,  1,     26,2,20080630,2306, 59.4270, -37.0380, 3102,      9.5,   9.6640,  34.9530,2,  34.9550,2,    297.3,2,    296.2,2,     2.18,2,     7.80,2,     0.44,2,   2306.2,2,   7.8720,2,    25.00