BOTTLE,20140930PRINUNIVRMK
EXPOCODE,SECT_ID,STNNBR,CASTNO,BTLNBR,BTLNBR_FLAG_W,DATE,TIME,LATITUDE,LONGITUDE,DEPTH,CTDPRS,CTDTMP,CTDSAL,CTDSAL_FLAG_W,SALNTY,SALNTY_FLAG_W,CTDOXY,CTDOXY_FLAG_W,OXYGEN,OXYGEN_FLAG_W,SILCAT,SILCAT_FLAG_W,NITRAT,NITRAT_FLAG_W,PHSPHT,PHSPHT_FLAG_W,ALKALI,ALKALI_FLAG_W,PH_SWS,PH_SWS_FLAG_W,PH_TMP
,,,,,,,,,,METERS,DBAR,ITS-90,PSS-78,,PSS-78,,UMOL/KG,,UMOL/KG,,UMOL/KG,,UMOL/KG,,UMOL/KG,,UMOL/KG,,,,DEG C
  35TH20080610, OVIDE,    35,  1,      3,2,20080620,0800, 46.5410, -19.6760, 4560,   4647.8,   2.5950,  34.9100,2,  34.9080,2,    242.5,2,    241.5,2,    46.50,2,    22.46,2,     1.29,2,   -999.0,9,   7.7300,2,    25.00
  35TH20080610, OVIDE,    35,  1,      4,2,20080620,0800, 46.5410, -19.6760, 4560,   3998.6,   2.5890,  34.9160,2,  34.9160,2,    243.9,2,    244.3,2,    41.24,2,    21.97,2,     1.32,2,   -999.0,9,   7.7310,2,    25.00
  35TH20080610, OVIDE,    35,  1,      5,2,20080620,0800, 46.5410, -19.6760, 4560,   3750.2,   2.6160,  34.9210,2,  34.9190,2,    245.8,2,    251.9,2,    41.26,2,    21.29,2,     1.24,2,   -999.0,9,   7.7300,2,    25.00
  35TH20080610, OVIDE,    35,  1,      6,2,20080620,0800, 46.5410, -19.6760, 4560,   3500.9,   2.7340,  34.9330,2,  34.9330,2,    251.7,2,    252.0,2,    35.25,2,    20.02,2,     1.15,2,   -999.0,9,   7.7300,2,    25.00
  35TH20080610, OVIDE,    35,  1,      7,2,20080620,0800, 46.5410, -19.6760, 4560,   3252.0,   2.8290,  34.9400,2,  34.9440,2,    257.3,2,    257.1,2,    30.50,2,    19.70,2,     1.14,2,   -999.0,9,   7.7340,2,    25.00
  35TH20080610, OVIDE,    35,  1,      8,2,20080620,0800, 46.5410, -19.6760, 4560,   3250.2,   2.8290,  34.9410,2,  34.9390,2,    257.3,2,    256.6,2,    30.45,2,    19.58,2,     1.08,2,   -999.0,9,   7.7290,2,    25.00
  35TH20080610, OVIDE,    35,  1,      9,2,20080620,0800, 46.5410, -19.6760, 4560,   2998.7,   2.9720,  34.9420,2,  34.9400,2,    265.4,2,    266.3,2,    23.67,2,    18.42,2,     0.98,2,   -999.0,9,   7.7300,2,    25.00
  35TH20080610, OVIDE,    35,  1,     10,2,20080620,0800, 46.5410, -19.6760, 4560,   2749.9,   3.0820,  34.9240,2,  34.9230,2,    276.5,2,    276.1,2,    13.83,2,    17.04,2,     0.99,2,   -999.0,9,   7.7290,2,    25.00
  35TH20080610, OVIDE,    35,  1,     11,2,20080620,0800, 46.5410, -19.6760, 4560,   2501.0,   3.1530,  34.9120,2,  34.9130,2,    279.9,2,    281.1,2,    12.18,2,    17.09,2,     0.97,2,   -999.0,9,   7.7270,2,    25.00
  35TH20080610, OVIDE,    35,  1,     12,2,20080620,0800, 46.5410, -19.6760, 4560,   2250.3,   3.2120,  34.9040,2,  34.9040,2,    280.9,2,    280.0,2,    11.70,2,    16.95,2,     1.01,2,   -999.0,9,   7.7250,2,    25.00
  35TH20080610, OVIDE,    35,  1,     13,2,20080620,0800, 46.5410, -19.6760, 4560,   2000.0,   3.3300,  34.9000,2,  34.9020,2,    280.1,2,    279.5,2,    11.44,2,    17.31,2,     1.03,2,   -999.0,9,   7.7240,2,    25.00
  35TH20080610, OVIDE,    35,  1,     14,2,20080620,0800, 46.5410, -19.6760, 4560,   1800.6,   3.5180,  34.9020,2,  34.8990,2,    277.2,2,    278.5,2,    11.14,2,    17.42,2,     1.03,2,   -999.0,9,   7.7230,2,    25.00
  35TH20080610, OVIDE,    35,  1,     15,2,20080620,0800, 46.5410, -19.6760, 4560,   1600.1,   3.7670,  34.9180,2,  34.9170,2,    271.6,2,    272.8,2,    10.89,2,    17.87,2,     1.02,2,   -999.0,9,   7.7200,2,    25.00
  35TH20080610, OVIDE,    35,  1,     16,2,20080620,0800, 46.5410, -19.6760, 4560,   1399.2,   4.2330,  34.9620,2,  34.9650,2,    261.1,2,    265.6,2,    10.69,2,    17.85,2,     1.03,2,   -999.0,9,   7.7140,2,    25.00
  35TH20080610, OVIDE,    35,  1,     17,2,20080620,0800, 46.5410, -19.6760, 4560,   1200.1,   5.5540,  35.1500,2,  35.1540,2,    238.3,2,    242.4,2,    10.92,2,    18.03,2,     1.08,2,   -999.0,9,   7.7220,2,    25.00
  35TH20080610, OVIDE,    35,  1,     18,2,20080620,0800, 46.5410, -19.6760, 4560,   1000.8,   6.4940,  35.2020,2,  35.1970,2,    220.5,2,    233.0,3,    10.86,2,    18.84,2,     1.11,2,   -999.0,9,   7.7170,2,    25.00
  35TH20080610, OVIDE,    35,  1,     19,2,20080620,0800, 46.5410, -19.6760, 4560,    899.2,   7.1320,  35.2200,2,  35.2220,2,    207.4,2,    209.3,2,    10.84,2,    19.14,2,     1.13,2,   -999.0,9,   7.7180,2,    25.00
  35TH20080610, OVIDE,    35,  1,     20,2,20080620,0800, 46.5410, -19.6760, 4560,    751.2,   8.3540,  35.2330,2,  35.2330,2,    188.9,2,    190.2,2,    10.56,2,    19.75,2,     1.10,2,   -999.0,9,   7.7170,2,    25.00
  35TH20080610, OVIDE,    35,  1,     21,2,20080620,0800, 46.5410, -19.6760, 4560,    699.8,   8.8220,  35.2390,2,  35.2370,2,    186.2,2,    188.2,2,    10.25,2,    19.71,2,     0.95,2,   -999.0,9,   7.7240,2,    25.00
  35TH20080610, OVIDE,    35,  1,     22,2,20080620,0800, 46.5410, -19.6760, 4560,    597.7,   9.9750,  35.3490,2,  35.3460,2,    205.0,2,    201.4,2,     7.92,2,    16.94,2,     0.95,2,   -999.0,9,   7.7600,2,    25.00
  35TH20080610, OVIDE,    35,  1,     23,2,20080620,0800, 46.5410, -19.6760, 4560,    500.4,  10.9020,  35.4430,2,  35.4400,2,    217.0,2,    216.1,2,     6.16,2,    14.48,2,     0.79,2,   -999.0,9,   7.7930,2,    25.00
  35TH20080610, OVIDE,    35,  1,     24,2,20080620,0800, 46.5410, -19.6760, 4560,    399.7,  11.6050,  35.5330,2,  35.5260,3,    227.3,2,    230.2,2,     5.11,2,    12.49,2,     0.68,2,   -999.0,9,   7.8250,2,    25.00
  35TH20080610, OVIDE,    35,  1,     25,2,20080620,0800, 46.5410, -19.6760, 4560,    301.2,  12.2840,  35.6390,2,  35.6380,2,    238.7,2,    238.2,2,     3.80,2,    10.16,2,     0.56,2,   -999.0,9,   7.8520,2,    25.00
  35TH20080610, OVIDE,    35,  1,     26,2,20080620,0800, 46.5410, -19.6760, 4560,    199.9,  12.7350,  35.7070,2,  35.7050,2,    244.0,2,    241.0,2,     3.26,2,     8.84,2,     0.48,2,   -999.0,9,   7.8730,2,    25.00
  35TH20080610, OVIDE,    35,  1,     27,2,20080620,0800, 46.5410, -19.6760, 4560,    150.2,  12.9380,  35.7390,2,  35.7380,2,    246.9,2,    241.5,2,     3.06,2,     8.68,2,     0.47,2,   -999.0,9,   7.8750,2,    25.00
  35TH20080610, OVIDE,    35,  1,     28,2,20080620,0800, 46.5410, -19.6760, 4560,    100.2,  13.2370,  35.7760,2,  35.7770,2,    244.5,2,    242.3,2,     2.78,2,     7.98,2,     0.43,2,   -999.0,9,   7.8870,2,    25.00
  35TH20080610, OVIDE,    35,  1,     29,2,20080620,0800, 46.5410, -19.6760, 4560,     57.1,  13.6480,  35.8040,2,  35.8050,2,    247.0,2,    245.8,2,     2.24,2,     6.74,2,     0.37,2,   -999.0,9,   7.9010,2,    25.00
  35TH20080610, OVIDE,    35,  1,     30,2,20080620,0800, 46.5410, -19.6760, 4560,      3.8,  16.5980,  35.7490,2,  35.7430,3,    253.4,2,    252.4,2,     1.03,2,     0.08,2,     0.07,2,   -999.0,9,   8.0000,2,    25.00
  35TH20080610, OVIDE,    36,  1,      3,2,20080620,1459, 46.9180, -19.9690, 4502,   4586.8,   2.5830,  34.9090,2,  34.9070,2,    242.4,2,    241.6,2,    46.44,2,    22.68,2,     1.39,2,   2357.4,2,   7.7300,2,    25.00
  35TH20080610, OVIDE,    36,  1,      4,2,20080620,1459, 46.9180, -19.9690, 4502,   4000.1,   2.5630,  34.9140,2,  34.9140,2,    242.9,2,    242.5,2,    44.70,2,    22.47,2,     1.41,2,   2353.4,2,   7.7300,2,    25.00
  35TH20080610, OVIDE,    36,  1,      5,2,20080620,1459, 46.9180, -19.9690, 4502,   3749.0,   2.5890,  34.9190,2,  34.9190,2,    244.5,2,    244.9,2,    42.11,2,    21.75,2,     1.33,2,   2349.3,2,   7.7300,2,    25.00
  35TH20080610, OVIDE,    36,  1,      6,2,20080620,1459, 46.9180, -19.9690, 4502,   3500.7,   2.6510,  34.9270,2,  34.9250,2,    247.7,2,    247.9,2,    38.92,2,    21.20,2,     1.28,2,   2345.1,2,   7.7280,2,    25.00
  35TH20080610, OVIDE,    36,  1,      7,2,20080620,1459, 46.9180, -19.9690, 4502,   3248.2,   2.7470,  34.9360,2,  34.9350,2,    252.9,2,    253.2,2,    33.69,2,    20.25,2,     1.22,2,   2337.1,2,   7.7310,2,    25.00
  35TH20080610, OVIDE,    36,  1,      8,2,20080620,1459, 46.9180, -19.9690, 4502,   2999.9,   2.8790,  34.9430,2,  34.9420,2,    258.8,2,    258.9,2,    28.16,2,    19.21,2,     1.15,2,   2328.3,2,   7.7290,2,    25.00
  35TH20080610, OVIDE,    36,  1,      9,2,20080620,1459, 46.9180, -19.9690, 4502,   2999.4,   2.8790,  34.9430,2,  34.9420,2,    258.8,2,    259.7,2,    28.09,2,    18.96,2,     1.14,2,   -999.0,9,   7.7290,2,    25.00
  35TH20080610, OVIDE,    36,  1,     10,2,20080620,1459, 46.9180, -19.9690, 4502,   2750.2,   3.0090,  34.9420,2,  34.9400,2,    265.7,2,    265.2,2,    19.12,2,    18.13,2,     1.08,2,   2320.2,2,   7.7310,2,    25.00
  35TH20080610, OVIDE,    36,  1,     11,2,20080620,1459, 46.9180, -19.9690, 4502,   2499.3,   3.1480,  34.9280,2,  34.9260,2,    273.0,2,    272.9,2,    14.92,2,    17.71,2,     1.05,2,   2312.8,2,   7.7300,2,    25.00
  35TH20080610, OVIDE,    36,  1,     12,2,20080620,1459, 46.9180, -19.9690, 4502,   2249.6,   3.2300,  34.9080,2,  34.9080,2,    278.9,2,    278.6,2,    12.67,2,    17.15,2,     1.02,2,   2308.6,2,   7.7280,2,    25.00
  35TH20080610, OVIDE,    36,  1,     13,2,20080620,1459, 46.9180, -19.9690, 4502,   2000.6,   3.3600,  34.9010,2,  34.9010,2,    279.0,2,    278.7,2,    11.52,2,    17.75,2,     1.03,2,   2306.0,2,   7.7240,2,    25.00
  35TH20080610, OVIDE,    36,  1,     14,2,20080620,1459, 46.9180, -19.9690, 4502,   1798.6,   3.5580,  34.9100,2,  34.8990,3,    275.6,2,    275.5,2,    11.23,2,    17.77,2,     1.03,2,   2306.1,2,   7.7220,2,    25.00
  35TH20080610, OVIDE,    36,  1,     15,2,20080620,1459, 46.9180, -19.9690, 4502,   1601.2,   3.8440,  34.9320,2,  34.9330,2,    271.4,2,    269.6,2,    10.88,2,    17.46,2,     1.02,2,   2306.8,2,   7.7200,2,    25.00
  35TH20080610, OVIDE,    36,  1,     16,2,20080620,1459, 46.9180, -19.9690, 4502,   1400.3,   4.0740,  34.9400,2,  34.9420,2,    268.5,2,    268.1,2,    10.49,2,    17.62,2,     1.02,2,   2310.7,2,   7.7150,2,    25.00
  35TH20080610, OVIDE,    36,  1,     17,2,20080620,1459, 46.9180, -19.9690, 4502,   1199.0,   4.8710,  35.0410,2,  35.0400,2,    249.0,2,    251.7,2,    10.63,2,    17.87,2,     1.04,2,   2313.6,2,   7.7170,2,    25.00
  35TH20080610, OVIDE,    36,  1,     18,2,20080620,1459, 46.9180, -19.9690, 4502,    998.7,   6.2910,  35.2000,2,  35.1940,2,    222.8,2,    226.1,2,    10.72,2,    18.24,2,     1.07,2,   2325.5,2,   7.7210,2,    25.00
  35TH20080610, OVIDE,    36,  1,     19,2,20080620,1459, 46.9180, -19.9690, 4502,    899.6,   6.8080,  35.2140,2,  35.2230,3,    215.5,2,    215.0,2,    10.80,2,    18.83,2,     1.08,2,   2325.7,2,   7.7190,2,    25.00
  35TH20080610, OVIDE,    36,  1,     20,2,20080620,1459, 46.9180, -19.9690, 4502,    800.1,   7.6390,  35.2560,2,  35.2560,2,    201.1,2,    200.7,2,    10.64,2,    19.44,2,     1.12,2,   2329.5,2,   7.7190,2,    25.00
  35TH20080610, OVIDE,    36,  1,     21,2,20080620,1459, 46.9180, -19.9690, 4502,    700.4,   8.0920,  35.1750,2,  35.1760,2,    193.1,2,    193.1,2,    10.59,2,    19.88,2,     1.15,2,   2322.0,2,   7.7120,2,    25.00
  35TH20080610, OVIDE,    36,  1,     22,2,20080620,1459, 46.9180, -19.9690, 4502,    598.1,   9.1820,  35.2430,2,  35.2380,2,    193.7,2,    192.8,2,     9.38,2,    18.80,2,     1.07,2,   2323.7,2,   7.7310,2,    25.00
  35TH20080610, OVIDE,    36,  1,     23,2,20080620,1459, 46.9180, -19.9690, 4502,    499.8,  10.5660,  35.3980,2,  35.3970,2,    206.3,2,    209.3,2,     6.83,2,    15.64,2,     0.85,2,   2331.4,2,   7.7790,2,    25.00
  35TH20080610, OVIDE,    36,  1,     24,2,20080620,1459, 46.9180, -19.9690, 4502,    399.8,  11.3330,  35.4980,2,  35.4980,2,    218.9,2,    222.3,2,     5.38,2,    13.17,2,     0.72,2,   2338.7,2,   7.8110,2,    25.00
  35TH20080610, OVIDE,    36,  1,     25,2,20080620,1459, 46.9180, -19.9690, 4502,    299.7,  12.1440,  35.6200,2,  35.6180,2,    234.2,2,    237.4,2,     4.14,2,    10.29,2,     0.57,2,   -999.0,9,   7.8450,2,    25.00
  35TH20080610, OVIDE,    36,  1,     26,2,20080620,1459, 46.9180, -19.9690, 4502,    198.4,  12.6310,  35.6890,2,  35.6850,2,    241.4,2,    239.3,2,     3.35,2,     9.01,2,     0.47,2,   2347.4,2,   7.8670,2,    25.00
  35TH20080610, OVIDE,    36,  1,     27,2,20080620,1459, 46.9180, -19.9690, 4502,    152.1,  12.8790,  35.7390,2,  35.7370,2,    241.6,2,    242.0,2,     3.28,2,     8.63,2,     0.44,2,   -999.0,9,   7.8760,2,    25.00
  35TH20080610, OVIDE,    36,  1,     28,2,20080620,1459, 46.9180, -19.9690, 4502,     95.6,  13.1450,  35.7700,2,  35.7680,2,    241.0,2,    241.7,2,     2.98,2,     8.38,2,     0.42,2,   2351.2,2,   7.8790,2,    25.00
  35TH20080610, OVIDE,    36,  1,     29,2,20080620,1459, 46.9180, -19.9690, 4502,     56.8,  13.6940,  35.8280,2,  35.8250,2,    244.3,2,    243.9,2,     2.32,2,     6.53,2,     0.33,2,   -999.0,9,   7.8990,2,    25.00
  35TH20080610, OVIDE,    36,  1,     30,2,20080620,1459, 46.9180, -19.9690, 4502,      4.2,  16.4770,  35.7200,2,  35.7190,2,    255.6,2,    257.5,2,     1.27,2,     0.00,2,     0.02,2,   2352.6,2,   8.0050,2,    25.00
  35TH20080610, OVIDE,    37,  1,      3,2,20080620,2037, 47.2910, -20.2640, 4501,   4585.9,   2.5550,  34.9060,2,  34.9060,2,    242.6,2,    241.2,2,    47.52,2,    22.54,2,     1.34,2,   -999.0,9,   7.7320,2,    25.00
  35TH20080610, OVIDE,    37,  1,      4,2,20080620,2037, 47.2910, -20.2640, 4501,   3999.3,   2.5500,  34.9130,2,  34.9120,2,    242.5,2,    242.3,2,    45.51,2,    22.03,2,     1.31,2,   -999.0,9,   7.7320,2,    25.00
  35TH20080610, OVIDE,    37,  1,      5,2,20080620,2037, 47.2910, -20.2640, 4501,   3749.2,   2.5790,  34.9180,2,  34.9180,2,    244.1,2,    244.2,2,    42.93,2,    21.38,2,     1.28,2,   -999.0,9,   7.7300,2,    25.00
  35TH20080610, OVIDE,    37,  1,      6,2,20080620,2037, 47.2910, -20.2640, 4501,   3500.9,   2.6510,  34.9260,2,  34.9250,2,    247.3,2,    258.9,3,    39.36,2,    20.93,2,     1.23,2,   -999.0,9,   7.7290,2,    25.00
  35TH20080610, OVIDE,    37,  1,      7,2,20080620,2037, 47.2910, -20.2640, 4501,   3250.2,   2.7560,  34.9370,2,  34.9360,2,    253.3,2,    254.2,2,    33.33,2,    19.50,2,     1.17,2,   -999.0,9,   7.7300,2,    25.00
  35TH20080610, OVIDE,    37,  1,      8,2,20080620,2037, 47.2910, -20.2640, 4501,   2999.3,   2.8820,  34.9440,2,  34.9420,2,    258.6,2,    258.6,2,    28.16,2,    18.90,2,     1.12,2,   -999.0,9,   7.7290,2,    25.00
  35TH20080610, OVIDE,    37,  1,      9,2,20080620,2037, 47.2910, -20.2640, 4501,   2749.7,   3.0000,  34.9400,2,  34.9390,2,    267.4,2,    266.7,2,    20.40,2,    17.97,2,     1.05,2,   -999.0,9,   7.7290,2,    25.00
  35TH20080610, OVIDE,    37,  1,     10,2,20080620,2037, 47.2910, -20.2640, 4501,   2750.2,   3.0000,  34.9410,2,  34.9390,2,    267.4,2,    266.6,2,    20.40,2,    17.90,2,     1.04,2,   -999.0,9,   7.7290,2,    25.00
  35TH20080610, OVIDE,    37,  1,     11,2,20080620,2037, 47.2910, -20.2640, 4501,   2501.0,   3.1190,  34.9260,2,  34.9250,2,    274.2,2,    274.1,2,    16.14,2,    17.34,2,     1.00,2,   -999.0,9,   7.7270,2,    25.00
  35TH20080610, OVIDE,    37,  1,     12,2,20080620,2037, 47.2910, -20.2640, 4501,   2249.7,   3.2130,  34.9100,2,  34.9070,2,    279.0,2,    278.5,2,    13.69,2,    17.78,2,     1.00,2,   -999.0,9,   7.7270,2,    25.00
  35TH20080610, OVIDE,    37,  1,     13,2,20080620,2037, 47.2910, -20.2640, 4501,   2000.5,   3.3720,  34.9030,2,  34.9060,2,    279.1,2,    278.2,2,    12.69,2,    17.21,2,     0.99,2,   -999.0,9,   7.7220,2,    25.00
  35TH20080610, OVIDE,    37,  1,     14,2,20080620,2037, 47.2910, -20.2640, 4501,   1799.5,   3.5320,  34.9060,2,  34.9070,2,    276.8,2,    276.0,2,    12.30,2,    17.42,2,     1.00,2,   -999.0,9,   7.7180,2,    25.00
  35TH20080610, OVIDE,    37,  1,     15,2,20080620,2037, 47.2910, -20.2640, 4501,   1601.5,   3.7140,  34.9150,2,  34.9170,2,    273.7,2,    273.8,2,    11.83,2,    17.31,2,     1.00,2,   -999.0,9,   7.7190,2,    25.00
  35TH20080610, OVIDE,    37,  1,     16,2,20080620,2037, 47.2910, -20.2640, 4501,   1399.6,   4.2260,  34.9730,2,  34.9730,2,    262.4,2,    262.5,2,    11.79,2,    17.70,2,     1.01,2,   -999.0,9,   7.7200,2,    25.00
  35TH20080610, OVIDE,    37,  1,     17,2,20080620,2037, 47.2910, -20.2640, 4501,   1200.8,   4.6880,  35.0150,2,  35.0090,2,    255.0,2,    254.1,2,    11.62,2,    17.69,2,     1.01,2,   -999.0,9,   7.7190,2,    25.00
  35TH20080610, OVIDE,    37,  1,     18,2,20080620,2037, 47.2910, -20.2640, 4501,   1000.0,   5.9250,  35.1560,2,  35.1540,2,    232.5,2,    231.3,2,    11.74,2,    18.25,2,     1.04,2,   -999.0,9,   7.7150,2,    25.00
  35TH20080610, OVIDE,    37,  1,     19,2,20080620,2037, 47.2910, -20.2640, 4501,    900.4,   6.9230,  35.2670,2,  35.2790,3,    213.9,2,    216.4,2,    11.52,2,    18.24,2,     1.04,2,   -999.0,9,   7.7290,2,    25.00
  35TH20080610, OVIDE,    37,  1,     20,2,20080620,2037, 47.2910, -20.2640, 4501,    799.8,   7.5870,  35.3110,2,  35.3030,3,    204.0,2,    206.0,2,    11.52,2,    18.05,2,     1.04,2,   -999.0,9,   7.7240,2,    25.00
  35TH20080610, OVIDE,    37,  1,     21,2,20080620,2037, 47.2910, -20.2640, 4501,    700.4,   8.4170,  35.3330,2,  35.3320,2,    193.3,2,    195.9,2,    11.14,2,    18.55,2,     1.06,2,   -999.0,9,   7.7270,2,    25.00
  35TH20080610, OVIDE,    37,  1,     22,2,20080620,2037, 47.2910, -20.2640, 4501,    601.3,   8.9770,  35.2640,2,  35.2660,2,    188.0,2,    191.7,2,    10.74,2,    18.78,2,     1.06,2,   -999.0,9,   7.7250,2,    25.00
  35TH20080610, OVIDE,    37,  1,     23,2,20080620,2037, 47.2910, -20.2640, 4501,    500.9,  10.1250,  35.3750,2,  35.3740,2,    199.0,2,    202.8,2,     8.44,2,    16.27,2,     0.91,2,   -999.0,9,   7.7620,2,    25.00
  35TH20080610, OVIDE,    37,  1,     24,2,20080620,2037, 47.2910, -20.2640, 4501,    400.4,  10.9030,  35.4410,2,  35.4400,2,    232.7,2,    212.3,3,     7.09,2,    14.72,2,     0.81,2,   -999.0,9,   7.7910,2,    25.00
  35TH20080610, OVIDE,    37,  1,     25,2,20080620,2037, 47.2910, -20.2640, 4501,    299.6,  11.7180,  35.5530,2,  35.5540,2,    223.9,2,    235.8,3,     5.30,2,    11.62,2,     0.65,2,   -999.0,9,   7.8260,2,    25.00
  35TH20080610, OVIDE,    37,  1,     26,2,20080620,2037, 47.2910, -20.2640, 4501,    200.4,  12.4130,  35.6610,2,  35.6610,2,    238.3,2,    236.5,2,     4.02,2,     9.37,2,     0.51,2,   -999.0,9,   7.8550,2,    25.00
  35TH20080610, OVIDE,    37,  1,     27,2,20080620,2037, 47.2910, -20.2640, 4501,    149.9,  12.7550,  35.7120,2,  35.7080,2,    248.0,2,    244.6,2,     3.38,2,     8.13,2,     0.44,2,   -999.0,9,   7.8750,2,    25.00
  35TH20080610, OVIDE,    37,  1,     28,2,20080620,2037, 47.2910, -20.2640, 4501,     99.8,  12.9640,  35.7390,2,  35.7380,2,    248.8,2,    248.8,2,     2.92,2,     6.96,2,     0.38,2,   -999.0,9,   7.8870,2,    25.00
  35TH20080610, OVIDE,    37,  1,     29,2,20080620,2037, 47.2910, -20.2640, 4501,     55.5,  13.2910,  35.7480,2,  35.7470,2,    246.8,2,    247.4,2,     2.54,2,     6.16,2,     0.35,2,   -999.0,9,   7.8960,2,    25.00
  35TH20080610, OVIDE,    37,  1,     30,2,20080620,2037, 47.2910, -20.2640, 4501,      4.0,  16.2070,  35.6320,2,  35.6400,3,    253.9,2,    254.2,2,     1.73,2,     0.13,2,     0.04,2,   -999.0,9,   7.9990,2,    25.00