BOTTLE,20140930PRINUNIVRMK
EXPOCODE,SECT_ID,STNNBR,CASTNO,BTLNBR,BTLNBR_FLAG_W,DATE,TIME,LATITUDE,LONGITUDE,DEPTH,CTDPRS,CTDTMP,CTDSAL,CTDSAL_FLAG_W,SALNTY,SALNTY_FLAG_W,CTDOXY,CTDOXY_FLAG_W,OXYGEN,OXYGEN_FLAG_W,SILCAT,SILCAT_FLAG_W,NITRAT,NITRAT_FLAG_W,PHSPHT,PHSPHT_FLAG_W,ALKALI,ALKALI_FLAG_W,PH_SWS,PH_SWS_FLAG_W,PH_TMP
,,,,,,,,,,METERS,DBAR,ITS-90,PSS-78,,PSS-78,,UMOL/KG,,UMOL/KG,,UMOL/KG,,UMOL/KG,,UMOL/KG,,UMOL/KG,,,,DEG C
  35TH20080610, OVIDE,    88,  1,      3,2,20080702,2029, 59.7400, -40.5830, 2550,   2586.2,   1.6500,  34.9050,2,  34.9010,2,    303.1,2,    301.6,2,     8.79,2,    13.96,2,     0.79,2,   2303.9,2,   7.7170,2,    25.00
  35TH20080610, OVIDE,    88,  1,      4,2,20080702,2029, 59.7400, -40.5830, 2550,   2500.5,   1.7460,  34.9070,2,  34.9030,2,    301.1,2,    300.1,2,     9.05,2,    14.08,2,     0.81,2,   2304.2,2,   7.7180,2,    25.00
  35TH20080610, OVIDE,    88,  1,      5,2,20080702,2029, 59.7400, -40.5830, 2550,   2300.3,   2.6050,  34.9180,2,  34.9180,2,    286.9,2,    287.5,2,    11.48,2,    15.62,2,     0.88,2,   2307.2,2,   7.7270,2,    25.00
  35TH20080610, OVIDE,    88,  1,      6,2,20080702,2029, 59.7400, -40.5830, 2550,   2099.9,   2.8890,  34.9260,2,  34.9240,2,    283.2,2,    283.5,2,    11.88,2,    16.18,2,     0.90,2,   2306.9,2,   7.7260,2,    25.00
  35TH20080610, OVIDE,    88,  1,      7,2,20080702,2029, 59.7400, -40.5830, 2550,   1802.9,   3.1920,  34.9250,2,  34.9230,2,    281.7,2,    282.5,2,    11.25,2,    16.50,2,     0.92,2,   2306.2,2,   7.7270,2,    25.00
  35TH20080610, OVIDE,    88,  1,      8,2,20080702,2029, 59.7400, -40.5830, 2550,   1600.0,   3.3140,  34.9210,2,  34.9190,2,    281.5,2,    281.8,2,    10.96,2,    16.62,2,     0.94,2,   2304.6,2,   7.7220,2,    25.00
  35TH20080610, OVIDE,    88,  1,      9,2,20080702,2029, 59.7400, -40.5830, 2550,   1399.8,   3.4680,  34.9230,2,  34.9230,2,    280.7,2,    280.5,2,    10.74,2,    16.73,2,     0.94,2,   2305.5,2,   7.7200,2,    25.00
  35TH20080610, OVIDE,    88,  1,     10,2,20080702,2029, 59.7400, -40.5830, 2550,   1200.7,   3.6450,  34.9240,2,  34.9230,2,    279.2,2,    278.6,2,    10.35,2,    16.80,2,     0.93,2,   2304.0,2,   7.7200,2,    25.00
  35TH20080610, OVIDE,    88,  1,     11,2,20080702,2029, 59.7400, -40.5830, 2550,    999.1,   3.7460,  34.9130,2,  34.9130,2,    280.6,2,    281.4,2,     9.80,2,    16.64,2,     0.93,2,   2302.1,2,   7.7190,2,    25.00
  35TH20080610, OVIDE,    88,  1,     12,2,20080702,2029, 59.7400, -40.5830, 2550,    901.2,   3.8020,  34.9120,2,  34.9120,2,    282.2,2,    282.0,2,     9.60,2,    16.55,2,     0.92,2,   2302.2,2,   7.7180,2,    25.00
  35TH20080610, OVIDE,    88,  1,     13,2,20080702,2029, 59.7400, -40.5830, 2550,    800.2,   3.8890,  34.9130,2,  34.9130,2,    281.5,2,    282.1,2,     9.44,2,    16.55,2,     0.92,2,   2303.3,2,   7.7190,2,    25.00
  35TH20080610, OVIDE,    88,  1,     14,2,20080702,2029, 59.7400, -40.5830, 2550,    700.2,   3.9980,  34.9130,2,  34.9130,2,    288.6,2,    286.3,2,     9.14,2,    16.54,2,     0.93,2,   2302.5,2,   7.7200,2,    25.00
  35TH20080610, OVIDE,    88,  1,     15,2,20080702,2029, 59.7400, -40.5830, 2550,    601.1,   4.1430,  34.9240,2,  34.9240,2,    293.2,2,    290.8,2,     8.72,2,    16.38,2,     0.92,2,   2302.5,2,   7.7250,2,    25.00
  35TH20080610, OVIDE,    88,  1,     16,2,20080702,2029, 59.7400, -40.5830, 2550,    501.3,   4.2710,  34.9320,2,  34.9320,2,    289.0,2,    291.6,2,     8.64,2,    16.39,2,     0.92,2,   2303.0,2,   7.7260,2,    25.00
  35TH20080610, OVIDE,    88,  1,     17,2,20080702,2029, 59.7400, -40.5830, 2550,    399.0,   4.4500,  34.9420,2,  34.9410,2,    289.3,2,    294.2,3,     8.43,2,    16.23,2,     0.90,2,   2303.1,2,   7.7300,2,    25.00
  35TH20080610, OVIDE,    88,  1,     18,2,20080702,2029, 59.7400, -40.5830, 2550,    300.7,   4.9150,  34.9880,2,  34.9870,2,    289.3,2,    289.5,2,     8.24,2,    15.99,2,     0.89,2,   2306.2,2,   7.7370,2,    25.00
  35TH20080610, OVIDE,    88,  1,     19,2,20080702,2029, 59.7400, -40.5830, 2550,    200.7,   5.2750,  35.0200,2,  35.0180,2,    294.8,2,    293.1,2,     7.98,2,    15.76,2,     0.89,2,   2308.0,2,   7.7450,2,    25.00
  35TH20080610, OVIDE,    88,  1,     20,2,20080702,2029, 59.7400, -40.5830, 2550,    148.4,   5.4320,  35.0290,2,  35.0280,2,    297.5,2,    296.5,2,     7.80,2,    15.61,2,     0.87,2,   2308.0,2,   7.7490,2,    25.00
  35TH20080610, OVIDE,    88,  1,     21,2,20080702,2029, 59.7400, -40.5830, 2550,    101.5,   5.5270,  35.0320,2,  35.0300,2,    296.4,2,    297.5,2,     7.72,2,    15.55,2,     0.87,2,   2307.9,2,   7.7490,2,    25.00
  35TH20080610, OVIDE,    88,  1,     22,2,20080702,2029, 59.7400, -40.5830, 2550,    101.3,   5.5280,  35.0320,2,  35.0300,2,    296.4,2,    296.7,2,     7.72,2,    15.45,2,     0.87,2,   -999.0,9,-999.0000,9,  -999.00
  35TH20080610, OVIDE,    88,  1,     23,2,20080702,2029, 59.7400, -40.5830, 2550,     55.0,   6.1210,  34.9840,2,  34.9860,2,    304.5,2,    304.5,2,     5.71,2,    11.81,2,     0.73,2,   2308.4,2,   7.7890,2,    25.00
  35TH20080610, OVIDE,    88,  1,     24,2,20080702,2029, 59.7400, -40.5830, 2550,      9.3,   9.2170,  34.9250,2,  34.9540,3,    308.2,2,    309.5,2,     3.35,2,     7.48,2,     0.44,2,   2306.2,2,   7.8620,2,    25.00
  35TH20080610, OVIDE,    89,  1,      3,2,20080702,2354, 59.7570, -40.9070, 2257,   2286.0,   1.8740,  34.9050,2,  34.9030,2,    300.5,2,    300.1,2,     9.38,2,    14.29,2,     0.81,2,   -999.0,9,   7.7230,2,    25.00
  35TH20080610, OVIDE,    89,  1,      4,2,20080702,2354, 59.7570, -40.9070, 2257,   2286.1,   1.8750,  34.9040,2,  34.9040,2,    300.5,2,    300.0,2,     9.38,2,    14.26,2,     0.82,2,   -999.0,9,-999.0000,9,  -999.00
  35TH20080610, OVIDE,    89,  1,      5,2,20080702,2354, 59.7570, -40.9070, 2257,   1999.7,   2.8470,  34.9290,2,  34.9280,2,    281.5,2,    282.3,2,    13.18,2,    16.16,2,     0.91,2,   -999.0,9,   7.7280,2,    25.00
  35TH20080610, OVIDE,    89,  1,      6,2,20080702,2354, 59.7570, -40.9070, 2257,   1800.2,   3.0720,  34.9260,2,  34.9260,2,    281.3,2,    282.5,2,    12.36,2,    16.47,2,     0.93,2,   -999.0,9,   7.7290,2,    25.00
  35TH20080610, OVIDE,    89,  1,      7,2,20080702,2354, 59.7570, -40.9070, 2257,   1600.6,   3.2600,  34.9230,2,  34.9230,2,    281.4,2,    282.7,2,    11.83,2,    16.68,2,     0.94,2,   -999.0,9,   7.7260,2,    25.00
  35TH20080610, OVIDE,    89,  1,      8,2,20080702,2354, 59.7570, -40.9070, 2257,   1400.2,   3.4300,  34.9190,2,  34.9210,2,    280.0,2,    281.6,2,    11.41,2,    16.91,2,     0.94,2,   -999.0,9,   7.7220,2,    25.00
  35TH20080610, OVIDE,    89,  1,      9,2,20080702,2354, 59.7570, -40.9070, 2257,   1201.0,   3.6230,  34.9240,2,  34.9250,2,    279.2,2,    278.3,2,    11.08,2,    16.92,2,     0.94,2,   -999.0,9,   7.7210,2,    25.00
  35TH20080610, OVIDE,    89,  1,     10,2,20080702,2354, 59.7570, -40.9070, 2257,   1001.2,   3.7260,  34.9080,2,  34.9100,2,    281.1,2,    281.4,2,    10.47,2,    16.82,2,     0.94,2,   -999.0,9,   7.7190,2,    25.00
  35TH20080610, OVIDE,    89,  1,     11,2,20080702,2354, 59.7570, -40.9070, 2257,    901.0,   3.7400,  34.9000,2,  34.8980,2,    282.0,2,    284.7,2,    10.12,2,    16.72,2,     0.93,2,   -999.0,9,   7.7170,2,    25.00
  35TH20080610, OVIDE,    89,  1,     12,2,20080702,2354, 59.7570, -40.9070, 2257,    800.3,   3.8240,  34.8950,2,  34.8960,2,    281.1,2,    287.0,3,     9.78,2,    16.67,2,     0.93,2,   -999.0,9,   7.7170,2,    25.00
  35TH20080610, OVIDE,    89,  1,     13,2,20080702,2354, 59.7570, -40.9070, 2257,    703.5,   4.0190,  34.9130,2,  34.9130,2,    282.1,2,    292.1,3,     9.34,2,    16.44,2,     0.91,2,   -999.0,9,   7.7230,2,    25.00
  35TH20080610, OVIDE,    89,  1,     14,2,20080702,2354, 59.7570, -40.9070, 2257,    602.1,   4.1340,  34.9190,2,  34.9200,2,    282.9,2,    292.1,3,     9.13,2,    16.36,2,     0.91,2,   -999.0,9,   7.7250,2,    25.00
  35TH20080610, OVIDE,    89,  1,     15,2,20080702,2354, 59.7570, -40.9070, 2257,    499.3,   4.2260,  34.9230,2,  34.9240,2,    292.0,2,    294.1,2,     9.02,2,    16.31,2,     0.90,2,   -999.0,9,   7.7270,2,    25.00
  35TH20080610, OVIDE,    89,  1,     16,2,20080702,2354, 59.7570, -40.9070, 2257,    401.5,   4.4730,  34.9430,2,  34.9470,2,    294.8,2,    295.1,2,     8.85,2,    16.21,2,     0.90,2,   -999.0,9,   7.7320,2,    25.00
  35TH20080610, OVIDE,    89,  1,     17,2,20080702,2354, 59.7570, -40.9070, 2257,    301.2,   4.7140,  34.9600,2,  34.9610,2,    293.8,2,    295.8,2,     8.73,2,    16.21,2,     0.90,2,   -999.0,9,   7.7360,2,    25.00
  35TH20080610, OVIDE,    89,  1,     18,2,20080702,2354, 59.7570, -40.9070, 2257,    198.8,   4.8690,  34.9500,2,  34.9510,2,    296.3,2,    302.7,3,     8.55,2,    15.88,2,     0.88,2,   -999.0,9,   7.7390,2,    25.00
  35TH20080610, OVIDE,    89,  1,     19,2,20080702,2354, 59.7570, -40.9070, 2257,    152.0,   4.8700,  34.9360,2,  34.9370,2,    295.9,2,    304.4,3,     8.52,2,    15.74,2,     0.88,2,   -999.0,9,   7.7410,2,    25.00
  35TH20080610, OVIDE,    89,  1,     20,2,20080702,2354, 59.7570, -40.9070, 2257,    100.0,   4.9880,  34.9280,2,  34.9300,2,    294.5,2,    303.6,3,     8.51,2,    15.56,2,     0.88,2,   -999.0,9,   7.7400,2,    25.00
  35TH20080610, OVIDE,    89,  1,     21,2,20080702,2354, 59.7570, -40.9070, 2257,     53.5,   6.2980,  34.9740,2,  34.9800,3,    306.9,2,    308.8,2,     5.47,2,    11.61,2,     0.68,2,   -999.0,9,   7.7970,2,    25.00
  35TH20080610, OVIDE,    89,  1,     22,2,20080702,2354, 59.7570, -40.9070, 2257,      7.9,   9.1120,  34.9070,2,  34.9080,2,    308.1,2,    308.6,2,     3.65,2,     7.21,2,     0.43,2,   -999.0,9,   7.8670,2,    25.00
  35TH20080610, OVIDE,    90,  1,      3,2,20080703,0355, 59.7720, -41.2960, 2028,   2053.5,   2.2970,  34.9000,2,  34.9010,2,    297.3,2,    297.4,2,    10.41,2,    14.58,2,     0.82,2,   2303.7,2,   7.7220,2,    25.00
  35TH20080610, OVIDE,    90,  1,      4,2,20080703,0355, 59.7720, -41.2960, 2028,   1801.1,   2.9010,  34.9180,2,  34.9190,2,    284.1,2,    285.2,2,    12.30,2,    15.91,2,     0.89,2,   2305.6,2,   7.7260,2,    25.00
  35TH20080610, OVIDE,    90,  1,      5,2,20080703,0355, 59.7720, -41.2960, 2028,   1801.5,   2.9070,  34.9190,2,  34.9190,2,    284.1,2,    285.7,2,    12.25,2,    15.87,2,     0.89,2,   -999.0,9,-999.0000,9,  -999.00
  35TH20080610, OVIDE,    90,  1,      6,2,20080703,0355, 59.7720, -41.2960, 2028,   1598.5,   3.2030,  34.9230,2,  34.9240,2,    282.3,2,    282.2,2,    11.65,2,    16.44,2,     0.91,2,   2304.7,2,   7.7250,2,    25.00
  35TH20080610, OVIDE,    90,  1,      7,2,20080703,0355, 59.7720, -41.2960, 2028,   1402.2,   3.3680,  34.9210,2,  34.9220,2,    282.4,2,    282.8,2,    10.92,2,    16.27,2,     0.90,2,   2307.0,2,   7.7220,2,    25.00
  35TH20080610, OVIDE,    90,  1,      8,2,20080703,0355, 59.7720, -41.2960, 2028,   1194.6,   3.6160,  34.9210,2,  34.9240,2,    278.6,2,    278.6,2,    10.99,2,    16.82,2,     0.93,2,   2304.8,2,   7.7160,2,    25.00
  35TH20080610, OVIDE,    90,  1,      9,2,20080703,0355, 59.7720, -41.2960, 2028,   1000.5,   3.8060,  34.9190,2,  34.9220,2,    281.0,2,    280.5,2,    10.21,2,    16.42,2,     0.92,2,   2304.5,2,   7.7180,2,    25.00
  35TH20080610, OVIDE,    90,  1,     10,2,20080703,0355, 59.7720, -41.2960, 2028,    900.2,   4.0130,  34.9230,2,  34.9240,2,    285.8,2,    281.9,2,     9.68,2,    16.18,2,     0.90,2,   2302.5,2,   7.7190,2,    25.00
  35TH20080610, OVIDE,    90,  1,     11,2,20080703,0355, 59.7720, -41.2960, 2028,    800.7,   4.0750,  34.9190,2,  34.9190,2,    291.3,2,    291.4,2,     9.25,2,    16.22,2,     0.92,2,   2302.2,2,   7.7200,2,    25.00
  35TH20080610, OVIDE,    90,  1,     12,2,20080703,0355, 59.7720, -41.2960, 2028,    701.9,   4.1780,  34.9250,2,  34.9260,2,    289.1,2,    290.4,2,     9.36,2,    16.21,2,     0.92,2,   2303.6,2,   7.7210,2,    25.00
  35TH20080610, OVIDE,    90,  1,     13,2,20080703,0355, 59.7720, -41.2960, 2028,    599.7,   4.3420,  34.9350,2,  34.9360,2,    286.2,2,    291.5,3,     9.03,2,    16.30,2,     0.94,2,   2305.3,2,   7.7260,2,    25.00
  35TH20080610, OVIDE,    90,  1,     14,2,20080703,0355, 59.7720, -41.2960, 2028,    501.8,   4.6470,  34.9610,2,  34.9640,2,    290.9,2,    290.1,2,     8.93,2,    16.23,2,     0.92,2,   2307.0,2,   7.7300,2,    25.00
  35TH20080610, OVIDE,    90,  1,     15,2,20080703,0355, 59.7720, -41.2960, 2028,    398.8,   5.0060,  34.9880,2,  34.9870,2,    284.0,2,    285.7,2,     8.77,2,    15.78,2,     0.89,2,   2306.8,2,   7.7360,2,    25.00
  35TH20080610, OVIDE,    90,  1,     16,2,20080703,0355, 59.7720, -41.2960, 2028,    302.0,   5.4070,  35.0270,2,  35.0270,2,    286.8,2,    287.7,2,     8.35,2,    15.64,2,     0.87,2,   2309.0,2,   7.7440,2,    25.00
  35TH20080610, OVIDE,    90,  1,     17,2,20080703,0355, 59.7720, -41.2960, 2028,    202.4,   5.8570,  35.0690,2,  35.0700,2,    288.3,2,    290.6,2,     7.76,2,    15.26,2,     0.85,2,   2310.9,2,   7.7570,2,    25.00
  35TH20080610, OVIDE,    90,  1,     18,2,20080703,0355, 59.7720, -41.2960, 2028,    150.7,   6.0490,  35.0860,2,  35.0860,2,    288.4,2,    290.0,2,     7.63,2,    15.11,2,     0.84,2,   2314.0,2,   7.7580,2,    25.00
  35TH20080610, OVIDE,    90,  1,     19,2,20080703,0355, 59.7720, -41.2960, 2028,     98.8,   6.2870,  35.1090,2,  35.1090,2,    289.5,2,    287.4,2,     7.38,2,    14.77,2,     0.83,2,   2315.6,2,   7.7620,2,    25.00
  35TH20080610, OVIDE,    90,  1,     20,2,20080703,0355, 59.7720, -41.2960, 2028,     57.4,   6.4390,  35.0710,2,  35.0730,2,    302.8,2,    295.0,3,     6.10,2,    13.46,2,     0.76,2,   2313.5,2,   7.7790,2,    25.00
  35TH20080610, OVIDE,    90,  1,     21,2,20080703,0355, 59.7720, -41.2960, 2028,      6.1,   8.3220,  34.9320,2,  34.9330,2,    311.1,2,    312.4,2,     3.58,2,     8.38,2,     0.48,2,   2308.2,2,   7.8510,2,    25.00
  35TH20080610, OVIDE,    91,  1,      3,2,20080703,0800, 59.7980, -41.7290, 1836,   1860.4,   2.5630,  34.9070,2,  34.9070,2,    292.1,2,    292.0,2,    10.05,2,    14.89,2,     0.83,2,   -999.0,9,   7.7250,2,    25.00
  35TH20080610, OVIDE,    91,  1,      4,2,20080703,0800, 59.7980, -41.7290, 1836,   1801.0,   2.6360,  34.9080,2,  34.9080,2,    290.9,2,    291.0,2,    10.11,2,    15.09,2,     0.84,2,   -999.0,9,   7.7240,2,    25.00
  35TH20080610, OVIDE,    91,  1,      5,2,20080703,0800, 59.7980, -41.7290, 1836,   1599.0,   3.0470,  34.9070,2,  34.9060,2,    289.0,2,    289.0,2,     9.68,2,    15.30,2,     0.86,2,   -999.0,9,   7.7230,2,    25.00
  35TH20080610, OVIDE,    91,  1,      6,2,20080703,0800, 59.7980, -41.7290, 1836,   1598.6,   3.0480,  34.9070,2,  34.9070,2,    289.0,2,    288.8,2,     9.64,2,    15.34,2,     0.86,2,   -999.0,9,-999.0000,9,  -999.00
  35TH20080610, OVIDE,    91,  1,      7,2,20080703,0800, 59.7980, -41.7290, 1836,   1397.5,   3.2200,  34.9120,2,  34.9120,2,    285.1,2,    287.1,2,     9.81,2,    15.68,2,     0.87,2,   -999.0,9,   7.7190,2,    25.00
  35TH20080610, OVIDE,    91,  1,      8,2,20080703,0800, 59.7980, -41.7290, 1836,   1199.7,   3.5470,  34.9250,2,  34.9270,2,    281.2,2,    281.1,2,    10.07,2,    16.22,2,     0.90,2,   -999.0,9,   7.7230,2,    25.00
  35TH20080610, OVIDE,    91,  1,      9,2,20080703,0800, 59.7980, -41.7290, 1836,    997.5,   3.7270,  34.9180,2,  34.9200,2,    281.8,2,    280.6,2,     9.88,2,    16.43,2,     0.91,2,   -999.0,9,   7.7180,2,    25.00
  35TH20080610, OVIDE,    91,  1,     10,2,20080703,0800, 59.7980, -41.7290, 1836,    902.2,   3.7570,  34.9100,2,  34.9100,2,    281.6,2,    280.8,2,     9.86,2,    16.60,2,     0.92,2,   -999.0,9,   7.7100,2,    25.00
  35TH20080610, OVIDE,    91,  1,     11,2,20080703,0800, 59.7980, -41.7290, 1836,    800.8,   3.8800,  34.9090,2,  34.9120,2,    282.4,2,    281.4,2,     9.60,2,    16.64,2,     0.92,2,   -999.0,9,   7.7160,2,    25.00
  35TH20080610, OVIDE,    91,  1,     12,2,20080703,0800, 59.7980, -41.7290, 1836,    698.6,   4.0820,  34.9250,2,  34.9260,2,    284.3,2,    284.3,2,     9.16,2,    16.28,2,     0.91,2,   -999.0,9,   7.7220,2,    25.00
  35TH20080610, OVIDE,    91,  1,     13,2,20080703,0800, 59.7980, -41.7290, 1836,    601.5,   4.2270,  34.9320,2,  34.9340,2,    285.6,2,    286.2,2,     9.11,2,    16.38,2,     0.91,2,   -999.0,9,   7.7260,2,    25.00
  35TH20080610, OVIDE,    91,  1,     14,2,20080703,0800, 59.7980, -41.7290, 1836,    498.8,   4.4210,  34.9470,2,  34.9480,2,    283.7,2,    285.5,2,     9.03,2,    16.32,2,     0.90,2,   -999.0,9,   7.7250,2,    25.00
  35TH20080610, OVIDE,    91,  1,     15,2,20080703,0800, 59.7980, -41.7290, 1836,    398.4,   4.6300,  34.9650,2,  34.9650,2,    283.8,2,    283.5,2,     8.83,2,    16.20,2,     0.90,2,   -999.0,9,   7.7290,2,    25.00
  35TH20080610, OVIDE,    91,  1,     16,2,20080703,0800, 59.7980, -41.7290, 1836,    285.4,   4.9640,  34.9930,2,  34.9930,2,    290.3,2,    288.9,2,     8.47,2,    16.08,2,     0.90,2,   -999.0,9,   7.7340,2,    25.00
  35TH20080610, OVIDE,    91,  1,     17,2,20080703,0800, 59.7980, -41.7290, 1836,    198.7,   5.2990,  35.0180,2,  35.0180,2,    291.9,2,    293.6,2,     8.10,2,    15.75,2,     0.87,2,   -999.0,9,   7.7350,2,    25.00
  35TH20080610, OVIDE,    91,  1,     18,2,20080703,0800, 59.7980, -41.7290, 1836,    152.0,   5.3270,  35.0050,2,  35.0070,2,    297.1,2,    297.2,2,     8.01,2,    15.60,2,     0.87,2,   -999.0,9,   7.7440,2,    25.00
  35TH20080610, OVIDE,    91,  1,     19,2,20080703,0800, 59.7980, -41.7290, 1836,     98.5,   5.3610,  34.9680,2,  34.9720,2,    299.7,2,    300.0,2,     7.71,2,    15.18,2,     0.85,2,   -999.0,9,   7.7480,2,    25.00
  35TH20080610, OVIDE,    91,  1,     20,2,20080703,0800, 59.7980, -41.7290, 1836,     54.0,   6.5720,  34.9630,2,  34.9660,2,    306.1,2,    306.3,2,     5.34,2,    11.13,2,     0.68,2,   -999.0,9,   7.7950,2,    25.00
  35TH20080610, OVIDE,    91,  1,     21,2,20080703,0800, 59.7980, -41.7290, 1836,      9.5,   8.7950,  34.9110,2,  34.9170,3,    311.4,2,    310.5,2,     3.40,2,     7.33,2,     0.42,2,   -999.0,9,   7.8630,2,    25.00