BOTTLE,20140930PRINUNIVRMK
EXPOCODE,SECT_ID,STNNBR,CASTNO,BTLNBR,BTLNBR_FLAG_W,DATE,TIME,LATITUDE,LONGITUDE,DEPTH,CTDPRS,CTDTMP,CTDSAL,CTDSAL_FLAG_W,SALNTY,SALNTY_FLAG_W,CTDOXY,CTDOXY_FLAG_W,OXYGEN,OXYGEN_FLAG_W,SILCAT,SILCAT_FLAG_W,NITRAT,NITRAT_FLAG_W,PHSPHT,PHSPHT_FLAG_W,ALKALI,ALKALI_FLAG_W,PH_SWS,PH_SWS_FLAG_W,PH_TMP
,,,,,,,,,,METERS,DBAR,ITS-90,PSS-78,,PSS-78,,UMOL/KG,,UMOL/KG,,UMOL/KG,,UMOL/KG,,UMOL/KG,,UMOL/KG,,,,DEG C
  35TH20080610, OVIDE,    59,  1,      3,2,20080626,0524, 55.5060, -26.7080, 3222,   3274.5,   2.8270,  34.9800,2,  34.9790,2,    274.7,2,    273.5,2,    15.91,2,    16.25,2,     0.93,2,   -999.0,9,   7.7110,2,    25.00
  35TH20080610, OVIDE,    59,  1,      4,2,20080626,0524, 55.5060, -26.7080, 3222,   3223.8,   2.8140,  34.9730,2,  34.9720,2,    271.0,2,    271.3,2,    18.00,2,    17.00,2,     0.96,2,   -999.0,9,   7.7160,2,    25.00
  35TH20080610, OVIDE,    59,  1,      5,2,20080626,0524, 55.5060, -26.7080, 3222,   3172.0,   2.8130,  34.9650,2,  34.9650,2,    268.2,2,    267.9,2,    20.24,2,    17.66,2,     0.98,2,   -999.0,9,   7.7180,2,    25.00
  35TH20080610, OVIDE,    59,  1,      6,2,20080626,0524, 55.5060, -26.7080, 3222,   3000.9,   2.8800,  34.9610,2,  34.9600,2,    270.8,2,    269.7,2,    18.78,2,    17.00,2,     0.97,2,   -999.0,9,   7.7240,2,    25.00
  35TH20080610, OVIDE,    59,  1,      7,2,20080626,0524, 55.5060, -26.7080, 3222,   2748.3,   2.9930,  34.9500,2,  34.9490,2,    275.6,2,    274.2,2,    15.68,2,    16.80,2,     0.95,2,   -999.0,9,   7.7270,2,    25.00
  35TH20080610, OVIDE,    59,  1,      8,2,20080626,0524, 55.5060, -26.7080, 3222,   2499.2,   3.0940,  34.9350,2,  34.9360,2,    279.0,2,    277.1,2,    13.73,2,    17.06,2,     0.95,2,   -999.0,9,   7.7260,2,    25.00
  35TH20080610, OVIDE,    59,  1,      9,2,20080626,0524, 55.5060, -26.7080, 3222,   2248.3,   3.1830,  34.9230,2,  34.9220,2,    280.7,2,    279.6,2,    12.61,2,    16.82,2,     0.94,2,   -999.0,9,   7.7240,2,    25.00
  35TH20080610, OVIDE,    59,  1,     10,2,20080626,0524, 55.5060, -26.7080, 3222,   1998.8,   3.2710,  34.9080,2,  34.9090,2,    281.2,2,    280.0,2,    12.15,2,    17.07,2,     0.96,2,   -999.0,9,   7.7240,2,    25.00
  35TH20080610, OVIDE,    59,  1,     11,2,20080626,0524, 55.5060, -26.7080, 3222,   1798.4,   3.3860,  34.9060,2,  34.9060,2,    279.4,2,    278.8,2,    11.91,2,    17.37,2,     0.96,2,   -999.0,9,   7.7220,2,    25.00
  35TH20080610, OVIDE,    59,  1,     12,2,20080626,0524, 55.5060, -26.7080, 3222,   1599.6,   3.5030,  34.9070,2,  34.9060,2,    278.0,2,    279.1,2,    11.61,2,    17.27,2,     0.96,2,   -999.0,9,   7.7220,2,    25.00
  35TH20080610, OVIDE,    59,  1,     13,2,20080626,0524, 55.5060, -26.7080, 3222,   1400.4,   3.6050,  34.9030,2,  34.9050,2,    278.4,2,    278.0,2,    11.17,2,    17.26,2,     0.95,2,   -999.0,9,   7.7150,2,    25.00
  35TH20080610, OVIDE,    59,  1,     14,2,20080626,0524, 55.5060, -26.7080, 3222,   1199.3,   3.7010,  34.8990,2,  34.9020,2,    279.3,2,    279.5,2,    10.69,2,    17.50,2,     0.95,2,   -999.0,9,   7.7170,2,    25.00
  35TH20080610, OVIDE,    59,  1,     15,2,20080626,0524, 55.5060, -26.7080, 3222,    999.5,   4.1380,  34.9430,2,  34.9450,2,    267.2,2,    267.2,2,    11.09,2,    17.89,2,     0.97,2,   -999.0,9,   7.7120,2,    25.00
  35TH20080610, OVIDE,    59,  1,     16,2,20080626,0524, 55.5060, -26.7080, 3222,    898.4,   4.3340,  34.9560,2,  34.9590,2,    263.9,2,    263.4,2,    11.00,2,    17.56,2,     0.97,2,   -999.0,9,   7.7100,2,    25.00
  35TH20080610, OVIDE,    59,  1,     17,2,20080626,0524, 55.5060, -26.7080, 3222,    799.6,   4.5390,  34.9640,2,  34.9660,2,    261.6,2,    258.0,2,    10.99,2,    18.00,2,     0.99,2,   -999.0,9,   7.7050,2,    25.00
  35TH20080610, OVIDE,    59,  1,     18,2,20080626,0524, 55.5060, -26.7080, 3222,    699.8,   4.4840,  34.9200,2,  34.9210,2,    262.8,2,    262.2,2,    10.44,2,    17.95,2,     0.98,2,   -999.0,9,   7.7030,2,    25.00
  35TH20080610, OVIDE,    59,  1,     19,2,20080626,0524, 55.5060, -26.7080, 3222,    598.5,   4.8420,  34.9290,2,  34.9310,2,    249.4,2,    251.8,2,    10.70,2,    18.50,2,     1.01,2,   -999.0,9,   7.7000,2,    25.00
  35TH20080610, OVIDE,    59,  1,     20,2,20080626,0524, 55.5060, -26.7080, 3222,    598.9,   4.8630,  34.9300,2,  34.9300,2,    249.4,2,    250.3,2,    10.71,2,    18.67,2,     1.01,2,   -999.0,9,-999.0000,9,  -999.00
  35TH20080610, OVIDE,    59,  1,     21,2,20080626,0524, 55.5060, -26.7080, 3222,    499.8,   5.3830,  34.9410,2,  34.9440,2,    241.5,2,    239.5,2,    11.00,2,    19.06,2,     1.02,2,   -999.0,9,   7.6970,2,    25.00
  35TH20080610, OVIDE,    59,  1,     22,2,20080626,0524, 55.5060, -26.7080, 3222,    401.1,   6.1410,  34.9510,2,  34.9510,2,    236.2,2,    233.7,2,    10.57,2,    18.61,2,     1.03,2,   -999.0,9,   7.7030,2,    25.00
  35TH20080610, OVIDE,    59,  1,     23,2,20080626,0524, 55.5060, -26.7080, 3222,    301.9,   6.7030,  34.9410,2,  34.9480,3,    260.6,2,    243.9,3,     9.52,2,    17.65,2,     0.97,2,   -999.0,9,   7.7250,2,    25.00
  35TH20080610, OVIDE,    59,  1,     24,2,20080626,0524, 55.5060, -26.7080, 3222,    200.4,   7.8510,  35.0220,2,  35.0240,2,    264.3,2,    255.0,3,     7.80,2,    15.97,2,     0.86,2,   -999.0,9,   7.7570,2,    25.00
  35TH20080610, OVIDE,    59,  1,     25,2,20080626,0524, 55.5060, -26.7080, 3222,    149.9,   8.9220,  35.1600,2,  35.1050,3,    263.7,2,    261.2,2,     6.12,2,    14.26,2,     0.75,2,   -999.0,9,   7.7850,2,    25.00
  35TH20080610, OVIDE,    59,  1,     26,2,20080626,0524, 55.5060, -26.7080, 3222,    100.0,   9.5680,  35.2460,2,  35.2410,3,    262.2,2,    259.9,2,     4.28,2,    13.04,2,     0.68,2,   -999.0,9,   7.8070,2,    25.00
  35TH20080610, OVIDE,    59,  1,     27,2,20080626,0524, 55.5060, -26.7080, 3222,     57.0,  10.9020,  35.2830,2,  35.3240,3,    271.7,2,    264.8,3,     1.98,2,     8.36,2,     0.50,2,   -999.0,9,   7.8640,2,    25.00
  35TH20080610, OVIDE,    59,  1,     28,2,20080626,0524, 55.5060, -26.7080, 3222,      4.4,  12.5520,  35.3310,2,  35.3320,2,    281.8,2,    277.0,2,     0.84,2,     3.76,2,     0.23,2,   -999.0,9,   7.9280,2,    25.00
  35TH20080610, OVIDE,    60,  1,      3,2,20080626,1040, 55.8830, -26.9980, 2867,   2910.1,   2.7700,  34.9770,2,  34.9770,2,    272.1,2,    272.9,2,    17.12,2,    16.66,2,     0.94,2,   2313.6,2,   7.7150,2,    25.00
  35TH20080610, OVIDE,    60,  1,      4,2,20080626,1040, 55.8830, -26.9980, 2867,   2845.0,   2.7820,  34.9750,2,  34.9730,2,    271.7,2,    271.5,2,    17.66,2,    17.14,2,     0.95,2,   2319.5,2,   7.7160,2,    25.00
  35TH20080610, OVIDE,    60,  1,      5,2,20080626,1040, 55.8830, -26.9980, 2867,   2748.6,   2.7940,  34.9620,2,  34.9610,2,    268.3,2,    267.9,2,    20.62,3,    17.50,2,     0.99,2,   2322.4,2,   7.7180,2,    25.00
  35TH20080610, OVIDE,    60,  1,      6,2,20080626,1040, 55.8830, -26.9980, 2867,   2494.9,   3.0300,  34.9630,2,  34.9630,2,    274.7,2,    276.1,2,    14.84,2,    17.24,2,     0.93,2,   2314.1,2,   7.7220,2,    25.00
  35TH20080610, OVIDE,    60,  1,      7,2,20080626,1040, 55.8830, -26.9980, 2867,   2249.7,   3.2500,  34.9450,2,  34.9440,2,    277.9,2,    278.2,2,    12.40,2,    16.47,2,     0.92,2,   2309.0,2,   7.7260,2,    25.00
  35TH20080610, OVIDE,    60,  1,      8,2,20080626,1040, 55.8830, -26.9980, 2867,   1999.9,   3.3240,  34.9110,2,  34.9120,2,    279.8,2,    281.1,2,    12.00,2,    17.15,2,     0.94,2,   2305.1,2,   7.7240,2,    25.00
  35TH20080610, OVIDE,    60,  1,      9,2,20080626,1040, 55.8830, -26.9980, 2867,   1800.2,   3.4180,  34.9050,2,  34.9060,2,    278.0,2,    278.5,2,    11.88,2,    17.13,2,     0.95,2,   2305.0,2,   7.7230,2,    25.00
  35TH20080610, OVIDE,    60,  1,     10,2,20080626,1040, 55.8830, -26.9980, 2867,   1600.7,   3.5700,  34.9070,2,  34.9070,2,    276.9,2,    278.9,2,    11.50,2,    17.58,2,     0.96,2,   2302.9,2,   7.7180,2,    25.00
  35TH20080610, OVIDE,    60,  1,     11,2,20080626,1040, 55.8830, -26.9980, 2867,   1399.8,   3.6720,  34.9010,2,  34.9010,2,    278.5,2,    278.8,2,    10.94,2,    17.41,2,     0.96,2,   2302.9,2,   7.7170,2,    25.00
  35TH20080610, OVIDE,    60,  1,     12,2,20080626,1040, 55.8830, -26.9980, 2867,   1199.2,   3.7830,  34.8990,2,  34.9000,2,    277.6,2,    278.3,2,    10.63,2,    18.21,2,     0.97,2,   2302.8,2,   7.7140,2,    25.00
  35TH20080610, OVIDE,    60,  1,     13,2,20080626,1040, 55.8830, -26.9980, 2867,   1000.1,   4.0340,  34.9140,2,  34.9150,2,    272.2,2,    272.8,2,    10.58,2,    17.59,2,     0.98,2,   2303.8,2,   7.7120,2,    25.00
  35TH20080610, OVIDE,    60,  1,     14,2,20080626,1040, 55.8830, -26.9980, 2867,    899.5,   4.1820,  34.9210,2,  34.9220,2,    268.7,2,    268.8,2,    10.61,2,    17.56,2,     0.98,2,   2307.6,2,   7.7110,2,    25.00
  35TH20080610, OVIDE,    60,  1,     15,2,20080626,1040, 55.8830, -26.9980, 2867,    800.2,   4.4410,  34.9390,2,  34.9420,2,    260.3,2,    262.8,2,    10.86,2,    17.67,2,     0.99,2,   2307.4,2,   7.7070,2,    25.00
  35TH20080610, OVIDE,    60,  1,     16,2,20080626,1040, 55.8830, -26.9980, 2867,    700.2,   5.0360,  34.9910,2,  34.9920,2,    245.7,2,    246.6,2,    11.20,2,    18.56,2,     1.02,2,   2309.6,2,   7.7010,2,    25.00
  35TH20080610, OVIDE,    60,  1,     17,2,20080626,1040, 55.8830, -26.9980, 2867,    600.6,   5.7360,  35.0620,2,  35.0630,2,    230.0,2,    231.9,2,    11.45,2,    19.11,2,     1.04,2,   2314.6,2,   7.7110,2,    25.00
  35TH20080610, OVIDE,    60,  1,     18,2,20080626,1040, 55.8830, -26.9980, 2867,    500.1,   6.0730,  35.0200,2,  35.0210,2,    223.0,2,    225.2,2,    11.32,2,    19.61,2,     1.06,2,   2312.2,2,   7.6980,2,    25.00
  35TH20080610, OVIDE,    60,  1,     19,2,20080626,1040, 55.8830, -26.9980, 2867,    400.3,   6.7620,  35.0360,2,  35.0390,2,    218.9,2,    219.3,2,    10.94,2,    19.52,2,     1.05,2,   2315.0,2,   7.7040,2,    25.00
  35TH20080610, OVIDE,    60,  1,     20,2,20080626,1040, 55.8830, -26.9980, 2867,    300.6,   6.7170,  34.9140,2,  34.9140,2,    252.6,2,    261.5,3,     8.52,2,    16.27,2,     0.90,2,   2305.5,2,   7.7370,2,    25.00
  35TH20080610, OVIDE,    60,  1,     21,2,20080626,1040, 55.8830, -26.9980, 2867,    301.2,   6.7130,  34.9140,2,  34.9150,2,    252.6,2,    262.1,3,     8.48,2,    16.24,2,     0.90,2,   -999.0,9,-999.0000,9,  -999.00
  35TH20080610, OVIDE,    60,  1,     22,2,20080626,1040, 55.8830, -26.9980, 2867,    200.5,   8.2400,  35.0820,2,  35.0690,3,    255.8,2,    273.8,3,     7.55,2,    15.17,2,     0.82,2,   2314.7,2,   7.7640,2,    25.00
  35TH20080610, OVIDE,    60,  1,     23,2,20080626,1040, 55.8830, -26.9980, 2867,    150.4,   8.5530,  35.1070,2,  35.1080,2,    259.1,2,    258.9,2,     6.30,2,    14.30,2,     0.77,2,   2317.0,2,   7.7810,2,    25.00
  35TH20080610, OVIDE,    60,  1,     24,2,20080626,1040, 55.8830, -26.9980, 2867,     99.7,   9.3550,  35.2160,2,  35.2130,2,    260.1,2,    266.8,3,     4.29,2,    12.87,2,     0.69,2,   2324.9,2,   7.8050,2,    25.00
  35TH20080610, OVIDE,    60,  1,     25,2,20080626,1040, 55.8830, -26.9980, 2867,     56.4,  10.8110,  35.2020,2,  35.2000,2,    274.5,2,    274.1,2,     0.75,2,     6.29,2,     0.39,2,   2326.6,2,   7.8850,2,    25.00
  35TH20080610, OVIDE,    60,  1,     26,2,20080626,1040, 55.8830, -26.9980, 2867,      5.1,  12.5170,  35.3250,2,  35.3260,2,    275.4,2,    275.3,2,     0.64,2,     4.33,2,     0.23,2,   2335.5,2,   7.9240,2,    25.00
  35TH20080610, OVIDE,    61,  1,      3,2,20080626,1609, 56.2560, -27.2960, 2732,   2773.6,   2.8110,  34.9760,2,  34.9760,2,    272.9,2,    273.4,2,    16.23,2,    16.73,2,     0.91,2,   -999.0,9,   7.7150,2,    25.00
  35TH20080610, OVIDE,    61,  1,      4,2,20080626,1609, 56.2560, -27.2960, 2732,   2486.2,   2.9870,  34.9670,2,  34.9650,2,    274.0,2,    273.8,2,    14.91,2,    16.90,2,     0.93,2,   -999.0,9,   7.7230,2,    25.00
  35TH20080610, OVIDE,    61,  1,      5,2,20080626,1609, 56.2560, -27.2960, 2732,   2249.2,   3.1880,  34.9480,2,  34.9470,2,    277.4,2,    277.7,2,    12.51,2,    16.95,2,     0.94,2,   -999.0,9,   7.7250,2,    25.00
  35TH20080610, OVIDE,    61,  1,      6,2,20080626,1609, 56.2560, -27.2960, 2732,   2001.0,   3.3020,  34.9130,2,  34.9140,2,    279.9,2,    280.4,2,    11.68,2,    17.40,2,     0.95,2,   -999.0,9,   7.7240,2,    25.00
  35TH20080610, OVIDE,    61,  1,      7,2,20080626,1609, 56.2560, -27.2960, 2732,   1801.9,   3.4220,  34.9050,2,  34.9140,3,    278.7,2,    279.7,2,    11.48,2,    17.83,2,     0.96,2,   -999.0,9,   7.7220,2,    25.00
  35TH20080610, OVIDE,    61,  1,      8,2,20080626,1609, 56.2560, -27.2960, 2732,   1601.0,   3.5640,  34.9060,2,  34.9070,2,    277.1,2,    276.8,2,    11.20,2,    17.61,2,     0.97,2,   -999.0,9,   7.7170,2,    25.00
  35TH20080610, OVIDE,    61,  1,      9,2,20080626,1609, 56.2560, -27.2960, 2732,   1400.6,   3.6780,  34.9010,2,  34.9020,2,    277.6,2,    277.2,2,    10.77,2,    17.69,2,     0.97,2,   -999.0,9,   7.7140,2,    25.00
  35TH20080610, OVIDE,    61,  1,     10,2,20080626,1609, 56.2560, -27.2960, 2732,   1200.7,   3.8940,  34.9070,2,  34.9060,2,    274.7,2,    274.1,2,    10.45,2,    17.74,2,     0.97,2,   -999.0,9,   7.7100,2,    25.00
  35TH20080610, OVIDE,    61,  1,     11,2,20080626,1609, 56.2560, -27.2960, 2732,   1000.5,   4.2500,  34.9270,2,  34.9280,2,    265.7,2,    265.5,2,    10.50,2,    18.14,2,     0.99,2,   -999.0,9,   7.7050,2,    25.00
  35TH20080610, OVIDE,    61,  1,     12,2,20080626,1609, 56.2560, -27.2960, 2732,    900.6,   4.6270,  34.9520,2,  34.9550,2,    256.4,2,    254.9,2,    10.73,2,    18.52,2,     0.99,2,   -999.0,9,   7.7020,2,    25.00
  35TH20080610, OVIDE,    61,  1,     13,2,20080626,1609, 56.2560, -27.2960, 2732,    799.6,   5.0360,  34.9770,2,  34.9790,2,    244.8,2,    245.6,2,    10.90,2,    19.01,2,     1.03,2,   -999.0,9,   7.7010,2,    25.00
  35TH20080610, OVIDE,    61,  1,     14,2,20080626,1609, 56.2560, -27.2960, 2732,    701.7,   5.6240,  35.0000,2,  35.0010,2,    232.3,2,    240.0,2,    10.98,2,    19.71,2,     1.04,2,   -999.0,9,   7.6980,2,    25.00
  35TH20080610, OVIDE,    61,  1,     15,2,20080626,1609, 56.2560, -27.2960, 2732,    598.8,   6.5870,  35.0470,2,  35.0480,2,    250.8,2,    246.9,2,     9.19,2,    17.57,2,     0.96,2,   -999.0,9,   7.7310,2,    25.00
  35TH20080610, OVIDE,    61,  1,     16,2,20080626,1609, 56.2560, -27.2960, 2732,    500.3,   7.2280,  35.1150,2,  35.1090,3,    273.1,2,    272.3,2,     7.30,2,    15.42,2,     0.83,2,   -999.0,9,   7.7600,2,    25.00
  35TH20080610, OVIDE,    61,  1,     17,2,20080626,1609, 56.2560, -27.2960, 2732,    402.6,   7.1940,  35.0830,2,  35.0830,2,    275.7,2,    276.2,2,     7.10,2,    15.29,2,     0.81,2,   -999.0,9,   7.7640,2,    25.00
  35TH20080610, OVIDE,    61,  1,     18,2,20080626,1609, 56.2560, -27.2960, 2732,    299.3,   7.4090,  35.0970,2,  35.0980,2,    277.3,2,    275.9,2,     6.92,2,    14.76,2,     0.80,2,   -999.0,9,   7.7670,2,    25.00
  35TH20080610, OVIDE,    61,  1,     19,2,20080626,1609, 56.2560, -27.2960, 2732,    202.8,   7.4490,  35.0570,2,  35.0580,2,    272.0,2,    272.9,2,     6.93,2,    15.16,2,     0.81,2,   -999.0,9,   7.7660,2,    25.00
  35TH20080610, OVIDE,    61,  1,     20,2,20080626,1609, 56.2560, -27.2960, 2732,    150.0,   7.9860,  35.1180,2,  35.1180,2,    269.4,2,    265.4,2,     6.65,2,    15.06,2,     0.79,2,   -999.0,9,   7.7760,2,    25.00
  35TH20080610, OVIDE,    61,  1,     21,2,20080626,1609, 56.2560, -27.2960, 2732,    101.8,   8.2850,  35.1190,2,  35.1230,3,    269.2,2,   -999.0,3,     4.79,2,    12.85,2,     0.69,2,   -999.0,9,-999.0000,9,  -999.00
  35TH20080610, OVIDE,    61,  1,     22,2,20080626,1609, 56.2560, -27.2960, 2732,    101.1,   8.3160,  35.1220,2,  35.1220,2,    269.6,2,    269.6,2,     5.26,2,    13.81,2,     0.74,2,   -999.0,9,   7.7900,2,    25.00
  35TH20080610, OVIDE,    61,  1,     23,2,20080626,1609, 56.2560, -27.2960, 2732,     57.9,   9.1790,  35.1780,2,  35.1880,3,    273.0,2,    268.9,2,     3.49,2,    12.67,2,     0.66,2,   -999.0,9,   7.8100,2,    25.00
  35TH20080610, OVIDE,    61,  1,     24,2,20080626,1609, 56.2560, -27.2960, 2732,      5.0,  11.3320,  35.1200,2,  35.1210,2,    288.1,2,    286.8,2,     0.42,2,     4.05,2,     0.26,2,   -999.0,9,   7.9180,2,    25.00