BOTTLE,20140930PRINUNIVRMK
EXPOCODE,SECT_ID,STNNBR,CASTNO,BTLNBR,BTLNBR_FLAG_W,DATE,TIME,LATITUDE,LONGITUDE,DEPTH,CTDPRS,CTDTMP,CTDSAL,CTDSAL_FLAG_W,SALNTY,SALNTY_FLAG_W,CTDOXY,CTDOXY_FLAG_W,OXYGEN,OXYGEN_FLAG_W,SILCAT,SILCAT_FLAG_W,NITRAT,NITRAT_FLAG_W,PHSPHT,PHSPHT_FLAG_W,ALKALI,ALKALI_FLAG_W,PH_SWS,PH_SWS_FLAG_W,PH_TMP
,,,,,,,,,,METERS,DBAR,ITS-90,PSS-78,,PSS-78,,UMOL/KG,,UMOL/KG,,UMOL/KG,,UMOL/KG,,UMOL/KG,,UMOL/KG,,,,DEG C
  35TH20080610, OVIDE,    53,  1,      3,2,20080624,1846, 53.2650, -24.9480, 3496,   3553.7,   2.7060,  34.9350,2,  34.9340,2,    255.2,2,    254.1,2,    34.60,2,    19.52,2,     1.14,2,   -999.0,9,   7.7270,2,    25.00
  35TH20080610, OVIDE,    53,  1,      4,2,20080624,1846, 53.2650, -24.9480, 3496,   3247.5,   2.8020,  34.9490,2,  34.9470,2,    265.6,2,    270.3,2,    25.60,2,    17.81,2,     1.03,2,   -999.0,9,   7.7270,2,    25.00
  35TH20080610, OVIDE,    53,  1,      5,2,20080624,1846, 53.2650, -24.9480, 3496,   2998.5,   2.8960,  34.9510,2,  34.9490,2,    270.1,2,    269.2,2,    18.75,2,    17.20,2,     0.98,2,   -999.0,9,   7.7280,2,    25.00
  35TH20080610, OVIDE,    53,  1,      6,2,20080624,1846, 53.2650, -24.9480, 3496,   2748.3,   3.0070,  34.9450,2,  34.9430,2,    275.3,2,    274.4,2,    15.21,2,    16.42,2,     0.95,2,   -999.0,9,   7.7290,2,    25.00
  35TH20080610, OVIDE,    53,  1,      7,2,20080624,1846, 53.2650, -24.9480, 3496,   2498.0,   3.1130,  34.9270,2,  34.9260,2,    278.4,2,    278.0,2,    13.31,2,    16.52,2,     0.95,2,   -999.0,9,   7.7320,2,    25.00
  35TH20080610, OVIDE,    53,  1,      8,2,20080624,1846, 53.2650, -24.9480, 3496,   2248.3,   3.2150,  34.9130,2,  34.9130,2,    280.1,2,    279.8,2,    12.37,2,    16.85,2,     0.95,2,   -999.0,9,   7.7290,2,    25.00
  35TH20080610, OVIDE,    53,  1,      9,2,20080624,1846, 53.2650, -24.9480, 3496,   2000.3,   3.3230,  34.9060,2,  34.9050,2,    280.0,2,    279.8,2,    11.94,2,    17.11,2,     0.96,2,   -999.0,9,   7.7290,2,    25.00
  35TH20080610, OVIDE,    53,  1,     10,2,20080624,1846, 53.2650, -24.9480, 3496,   1798.8,   3.4600,  34.9050,2,  34.9040,2,    278.8,2,    277.8,2,    11.55,2,    16.87,2,     0.97,2,   -999.0,9,   7.7250,2,    25.00
  35TH20080610, OVIDE,    53,  1,     11,2,20080624,1846, 53.2650, -24.9480, 3496,   1598.9,   3.5930,  34.9060,2,  34.9060,2,    277.9,2,    278.0,2,    11.16,2,    17.13,2,     0.96,2,   -999.0,9,   7.7210,2,    25.00
  35TH20080610, OVIDE,    53,  1,     12,2,20080624,1846, 53.2650, -24.9480, 3496,   1399.2,   3.7010,  34.9020,2,  34.9010,2,    278.5,2,    276.4,2,    10.73,2,    16.98,2,     0.96,2,   -999.0,9,   7.7190,2,    25.00
  35TH20080610, OVIDE,    53,  1,     13,2,20080624,1846, 53.2650, -24.9480, 3496,   1200.0,   3.8630,  34.9040,2,  34.9050,2,    276.5,2,    276.8,2,    10.34,2,    16.91,2,     0.96,2,   -999.0,9,   7.7170,2,    25.00
  35TH20080610, OVIDE,    53,  1,     14,2,20080624,1846, 53.2650, -24.9480, 3496,    999.8,   4.1230,  34.9180,2,  34.9200,2,    271.4,2,    271.4,2,    10.33,2,    17.15,2,     0.97,2,   -999.0,9,   7.7140,2,    25.00
  35TH20080610, OVIDE,    53,  1,     15,2,20080624,1846, 53.2650, -24.9480, 3496,    998.7,   4.1230,  34.9180,2,  34.9200,2,    271.4,2,    269.7,2,    10.32,2,    17.00,2,     0.98,2,   -999.0,9,-999.0000,9,  -999.00
  35TH20080610, OVIDE,    53,  1,     16,2,20080624,1846, 53.2650, -24.9480, 3496,    900.3,   4.3310,  34.9270,2,  34.9270,2,    267.4,2,    266.7,2,    10.35,2,    17.22,2,     0.98,2,   -999.0,9,   7.7070,2,    25.00
  35TH20080610, OVIDE,    53,  1,     17,2,20080624,1846, 53.2650, -24.9480, 3496,    800.4,   4.6700,  34.9410,2,  34.9420,2,    255.2,2,    256.3,2,    10.60,2,    17.90,2,     1.01,2,   -999.0,9,   7.7050,2,    25.00
  35TH20080610, OVIDE,    53,  1,     18,2,20080624,1846, 53.2650, -24.9480, 3496,    700.0,   5.2900,  34.9800,2,  34.9810,2,    236.0,2,    239.5,2,    11.10,2,    18.48,2,     1.04,2,   -999.0,9,   7.7010,2,    25.00
  35TH20080610, OVIDE,    53,  1,     20,2,20080624,1846, 53.2650, -24.9480, 3496,    500.8,   6.9000,  34.9730,2,  34.9730,2,    238.7,2,    232.3,2,    10.03,2,    17.77,2,     1.02,2,   -999.0,9,   7.7180,2,    25.00
  35TH20080610, OVIDE,    53,  1,     21,2,20080624,1846, 53.2650, -24.9480, 3496,    399.8,   7.9610,  35.0570,2,  35.0550,2,    256.6,2,    254.5,2,     7.99,2,    15.59,2,     0.86,2,   -999.0,9,   7.7620,2,    25.00
  35TH20080610, OVIDE,    53,  1,     22,2,20080624,1846, 53.2650, -24.9480, 3496,    300.7,   8.9650,  35.1780,2,  35.1770,2,    266.7,2,    262.7,2,     6.60,2,    13.35,2,     0.74,2,   -999.0,9,   7.7950,2,    25.00
  35TH20080610, OVIDE,    53,  1,     23,2,20080624,1846, 53.2650, -24.9480, 3496,    201.0,   9.4470,  35.2560,2,  35.2530,2,    268.4,2,    267.4,2,     5.85,2,    12.56,2,     0.68,2,   -999.0,9,   7.8090,2,    25.00
  35TH20080610, OVIDE,    53,  1,     24,2,20080624,1846, 53.2650, -24.9480, 3496,    150.4,   9.4810,  35.2400,2,  35.2370,2,    261.6,2,    261.8,2,     4.83,2,    12.64,2,     0.69,2,   -999.0,9,   7.8070,2,    25.00
  35TH20080610, OVIDE,    53,  1,     25,2,20080624,1846, 53.2650, -24.9480, 3496,    102.7,   9.7150,  35.2690,2,  35.2670,2,    259.8,2,    263.1,2,     3.75,2,    12.19,2,     0.65,2,   -999.0,9,   7.8190,2,    25.00
  35TH20080610, OVIDE,    53,  1,     26,2,20080624,1846, 53.2650, -24.9480, 3496,     59.3,  10.3220,  35.3580,2,  35.3540,2,    259.1,2,    254.2,2,     4.12,2,    11.95,2,     0.63,2,   -999.0,9,   7.8230,2,    25.00
  35TH20080610, OVIDE,    53,  1,     27,2,20080624,1846, 53.2650, -24.9480, 3496,      5.8,  12.9350,  35.3330,2,  35.3340,2,    273.6,2,    273.0,2,     0.84,2,     4.78,2,     0.28,2,   -999.0,9,   7.9200,2,    25.00
  35TH20080610, OVIDE,    54,  1,      3,2,20080625,0033, 53.6400, -25.2400, 3566,   3623.7,   2.7480,  34.9400,2,  34.9400,2,    257.7,2,    258.2,2,    32.35,2,    19.17,2,     1.06,2,   2334.1,2,   7.7230,2,    25.00
  35TH20080610, OVIDE,    54,  1,      4,2,20080625,0033, 53.6400, -25.2400, 3566,   3499.9,   2.7590,  34.9430,2,  34.9420,2,    260.8,2,    259.7,2,    30.50,2,    18.60,2,     1.07,2,   2330.2,2,   7.7260,2,    25.00
  35TH20080610, OVIDE,    54,  1,      5,2,20080625,0033, 53.6400, -25.2400, 3566,   3250.4,   2.9270,  34.9520,2,  34.9500,2,    270.8,2,    270.5,2,    18.95,2,    17.65,2,     0.97,2,   2317.7,2,   7.7240,2,    25.00
  35TH20080610, OVIDE,    54,  1,      6,2,20080625,0033, 53.6400, -25.2400, 3566,   3001.9,   3.0090,  34.9490,2,  34.9490,2,    274.6,2,    274.8,2,    16.12,2,    16.68,2,     0.93,2,   2312.1,2,   7.7240,2,    25.00
  35TH20080610, OVIDE,    54,  1,      7,2,20080625,0033, 53.6400, -25.2400, 3566,   2749.0,   3.0720,  34.9380,2,  34.9350,2,    276.9,2,    277.2,2,    14.55,2,    17.04,2,     0.94,2,   2309.3,2,   7.7310,2,    25.00
  35TH20080610, OVIDE,    54,  1,      8,2,20080625,0033, 53.6400, -25.2400, 3566,   2499.3,   3.1670,  34.9220,2,  34.9220,2,    279.0,2,    279.5,2,    13.20,2,    17.06,2,     0.93,2,   2307.1,2,   7.7290,2,    25.00
  35TH20080610, OVIDE,    54,  1,      9,2,20080625,0033, 53.6400, -25.2400, 3566,   2250.4,   3.2520,  34.9120,2,  34.9110,2,    280.3,2,    280.6,2,    12.59,2,    17.32,2,     0.94,2,   2304.7,2,   7.7300,2,    25.00
  35TH20080610, OVIDE,    54,  1,     10,2,20080625,0033, 53.6400, -25.2400, 3566,   2000.0,   3.3650,  34.9060,2,  34.9060,2,    279.8,2,    279.5,2,    12.09,2,    17.22,2,     0.95,2,   2303.7,2,   7.7250,2,    25.00
  35TH20080610, OVIDE,    54,  1,     11,2,20080625,0033, 53.6400, -25.2400, 3566,   1801.7,   3.5210,  34.9070,2,  34.9080,2,    278.4,2,    277.9,2,    11.77,2,    17.28,2,     0.96,2,   2303.0,2,   7.7230,2,    25.00
  35TH20080610, OVIDE,    54,  1,     12,2,20080625,0033, 53.6400, -25.2400, 3566,   1600.0,   3.6240,  34.9030,2,  34.9040,2,    278.0,2,    277.7,2,    11.27,2,    17.32,2,     0.94,2,   2301.9,2,   7.7210,2,    25.00
  35TH20080610, OVIDE,    54,  1,     13,2,20080625,0033, 53.6400, -25.2400, 3566,   1399.6,   3.7260,  34.8980,2,  34.9010,2,    279.4,2,    279.1,2,    10.67,2,    16.94,2,     0.95,2,   2302.9,2,   7.7180,2,    25.00
  35TH20080610, OVIDE,    54,  1,     14,2,20080625,0033, 53.6400, -25.2400, 3566,   1197.7,   3.8850,  34.9020,2,  34.9040,2,    276.9,2,    277.0,2,    10.43,2,    16.95,2,     0.95,2,   2303.2,2,   7.7140,2,    25.00
  35TH20080610, OVIDE,    54,  1,     15,2,20080625,0033, 53.6400, -25.2400, 3566,   1001.2,   4.1600,  34.9160,2,  34.9180,2,    271.0,2,    270.8,2,    10.46,2,    17.43,2,     0.96,2,   2304.6,2,   7.7110,2,    25.00
  35TH20080610, OVIDE,    54,  1,     16,2,20080625,0033, 53.6400, -25.2400, 3566,    999.7,   4.1640,  34.9170,2,  34.9170,2,    270.9,2,    270.7,2,    10.47,2,    17.42,2,     0.96,2,   -999.0,9,-999.0000,9,  -999.00
  35TH20080610, OVIDE,    54,  1,     17,2,20080625,0033, 53.6400, -25.2400, 3566,    899.3,   4.4850,  34.9370,2,  34.9360,2,    262.2,2,    261.7,2,    10.72,2,    17.75,2,     0.98,2,   2308.0,2,   7.7080,2,    25.00
  35TH20080610, OVIDE,    54,  1,     18,2,20080625,0033, 53.6400, -25.2400, 3566,    801.1,   4.7710,  34.9490,2,  34.9500,2,    253.2,2,    252.9,2,    10.93,2,    18.31,2,     1.00,2,   2308.3,2,   7.7020,2,    25.00
  35TH20080610, OVIDE,    54,  1,     19,2,20080625,0033, 53.6400, -25.2400, 3566,    698.6,   5.2620,  34.9690,2,  34.9770,3,    238.7,2,    240.3,2,    11.18,2,    18.61,2,     1.03,2,   2310.2,2,   7.7050,2,    25.00
  35TH20080610, OVIDE,    54,  1,     20,2,20080625,0033, 53.6400, -25.2400, 3566,    599.8,   5.9500,  34.9780,2,  34.9820,2,    228.0,2,    228.1,2,    11.34,2,    18.94,2,     1.05,2,   2311.2,2,   7.7000,2,    25.00
  35TH20080610, OVIDE,    54,  1,     21,2,20080625,0033, 53.6400, -25.2400, 3566,    499.4,   6.5670,  34.9630,2,  34.9670,2,    226.8,2,    227.5,2,    10.62,2,    18.15,2,     1.03,2,   2309.6,2,   7.7100,2,    25.00
  35TH20080610, OVIDE,    54,  1,     23,2,20080625,0033, 53.6400, -25.2400, 3566,    299.6,   8.9090,  35.1700,2,  35.1630,3,    257.1,2,    260.6,2,     6.93,2,    13.42,2,     0.75,2,   2319.7,2,   7.7870,2,    25.00
  35TH20080610, OVIDE,    54,  1,     24,2,20080625,0033, 53.6400, -25.2400, 3566,    199.5,   9.4000,  35.2430,2,  35.2460,2,    261.6,2,    263.8,2,     5.92,2,    13.04,2,     0.69,2,   2324.0,2,   7.8040,2,    25.00
  35TH20080610, OVIDE,    54,  1,     25,2,20080625,0033, 53.6400, -25.2400, 3566,    149.8,   9.6250,  35.2560,2,  35.2530,2,    263.2,2,    264.1,2,     3.87,2,    11.92,2,     0.64,2,   2323.4,2,   7.8180,2,    25.00
  35TH20080610, OVIDE,    54,  1,     26,2,20080625,0033, 53.6400, -25.2400, 3566,    101.3,  10.2770,  35.3520,2,  35.3500,2,    254.2,2,    253.0,2,     4.36,2,    12.26,2,     0.65,2,   2328.7,2,   7.8210,2,    25.00
  35TH20080610, OVIDE,    54,  1,     27,2,20080625,0033, 53.6400, -25.2400, 3566,     56.8,  11.2390,  35.3790,2,  35.3810,2,    259.2,2,    263.9,2,     1.48,2,     8.16,2,     0.48,2,   2333.3,2,   7.8710,2,    25.00
  35TH20080610, OVIDE,    54,  1,     28,2,20080625,0033, 53.6400, -25.2400, 3566,      6.8,  12.9890,  35.3080,2,  35.3110,2,    271.8,2,    272.2,2,     0.80,2,     4.36,2,     0.26,2,   2330.7,2,   7.9230,2,    25.00
  35TH20080610, OVIDE,    55,  1,      3,2,20080625,0636, 54.0180, -25.5290, 3059,   3105.5,   2.7430,  34.9400,2,  34.9400,2,    257.6,2,    257.3,2,    32.05,2,    19.28,2,     1.08,2,   -999.0,9,   7.7240,2,    25.00
  35TH20080610, OVIDE,    55,  1,      4,2,20080625,0636, 54.0180, -25.5290, 3059,   2898.4,   2.9070,  34.9430,2,  34.9440,2,    265.7,2,    265.4,2,    21.27,2,    17.92,2,     1.01,2,   -999.0,9,   7.7240,2,    25.00
  35TH20080610, OVIDE,    55,  1,      5,2,20080625,0636, 54.0180, -25.5290, 3059,   2750.2,   3.0110,  34.9400,2,  34.9400,2,    269.5,2,    270.5,2,    17.62,2,    17.43,2,     0.97,2,   -999.0,9,   7.7300,2,    25.00
  35TH20080610, OVIDE,    55,  1,      6,2,20080625,0636, 54.0180, -25.5290, 3059,   2499.3,   3.1330,  34.9300,2,  34.9420,3,    278.4,2,    278.3,2,    12.90,2,    16.64,2,     0.92,2,   -999.0,9,   7.7290,2,    25.00
  35TH20080610, OVIDE,    55,  1,      7,2,20080625,0636, 54.0180, -25.5290, 3059,   2249.8,   3.2390,  34.9140,2,  34.9140,2,    280.1,2,    281.0,2,    12.04,2,    16.93,2,     0.93,2,   -999.0,9,   7.7280,2,    25.00
  35TH20080610, OVIDE,    55,  1,      8,2,20080625,0636, 54.0180, -25.5290, 3059,   1999.7,   3.3570,  34.9060,2,  34.9060,2,    279.8,2,    279.6,2,    11.59,2,    16.94,2,     0.93,2,   -999.0,9,   7.7260,2,    25.00
  35TH20080610, OVIDE,    55,  1,      9,2,20080625,0636, 54.0180, -25.5290, 3059,   1799.7,   3.4910,  34.9050,2,  34.9080,2,    278.5,2,    279.0,2,    11.28,2,    17.31,2,     0.92,2,   -999.0,9,   7.7230,2,    25.00
  35TH20080610, OVIDE,    55,  1,     10,2,20080625,0636, 54.0180, -25.5290, 3059,   1598.6,   3.6120,  34.9050,2,  34.9050,2,    277.9,2,    277.9,2,    10.84,2,    17.18,2,     0.93,2,   -999.0,9,   7.7200,2,    25.00
  35TH20080610, OVIDE,    55,  1,     11,2,20080625,0636, 54.0180, -25.5290, 3059,   1399.4,   3.7130,  34.9010,2,  34.9020,2,    278.6,2,    278.4,2,    10.45,2,    17.25,2,     0.94,2,   -999.0,9,   7.7170,2,    25.00
  35TH20080610, OVIDE,    55,  1,     12,2,20080625,0636, 54.0180, -25.5290, 3059,   1199.1,   3.8760,  34.9050,2,  34.9070,2,    277.2,2,    276.5,2,    10.15,2,    17.21,2,     0.93,2,   -999.0,9,   7.7180,2,    25.00
  35TH20080610, OVIDE,    55,  1,     13,2,20080625,0636, 54.0180, -25.5290, 3059,    999.5,   4.1280,  34.9190,2,  34.9200,2,    271.1,2,    271.6,2,    10.08,2,    17.20,2,     0.95,2,   -999.0,9,   7.7110,2,    25.00
  35TH20080610, OVIDE,    55,  1,     14,2,20080625,0636, 54.0180, -25.5290, 3059,    897.5,   4.2980,  34.9240,2,  34.9260,2,    268.3,2,    267.0,2,    10.10,2,    17.57,2,     0.96,2,   -999.0,9,   7.7130,2,    25.00
  35TH20080610, OVIDE,    55,  1,     15,2,20080625,0636, 54.0180, -25.5290, 3059,    800.8,   4.5910,  34.9400,2,  34.9410,2,    261.7,2,    259.0,2,    10.30,2,    17.77,2,     0.96,2,   -999.0,9,   7.7080,2,    25.00
  35TH20080610, OVIDE,    55,  1,     16,2,20080625,0636, 54.0180, -25.5290, 3059,    698.9,   5.0440,  34.9620,2,  34.9660,3,    244.5,2,    245.8,2,    10.62,2,    18.23,2,     0.99,2,   -999.0,9,   7.7010,2,    25.00
  35TH20080610, OVIDE,    55,  1,     17,2,20080625,0636, 54.0180, -25.5290, 3059,    700.1,   5.0420,  34.9630,2,  34.9630,2,    244.5,2,    245.6,2,    10.65,2,    18.61,2,     1.00,2,   -999.0,9,-999.0000,9,  -999.00
  35TH20080610, OVIDE,    55,  1,     18,2,20080625,0636, 54.0180, -25.5290, 3059,    599.8,   5.6980,  34.9910,2,  34.9910,2,    230.7,2,    231.4,2,    10.93,2,    18.97,2,     1.03,2,   -999.0,9,   7.6980,2,    25.00
  35TH20080610, OVIDE,    55,  1,     19,2,20080625,0636, 54.0180, -25.5290, 3059,    500.7,   6.3400,  34.9640,2,  34.9720,3,    223.6,2,    227.7,2,    10.34,2,    18.80,2,     1.01,2,   -999.0,9,   7.7060,2,    25.00
  35TH20080610, OVIDE,    55,  1,     20,2,20080625,0636, 54.0180, -25.5290, 3059,    401.2,   7.1150,  34.9770,2,  34.9800,2,    230.5,2,    235.4,2,     9.39,2,    17.53,2,     0.96,2,   -999.0,9,   7.7240,2,    25.00
  35TH20080610, OVIDE,    55,  1,     21,2,20080625,0636, 54.0180, -25.5290, 3059,    301.5,   8.6010,  35.1220,2,  35.1210,2,    248.2,2,    248.4,2,     7.38,2,    15.08,2,     0.81,2,   -999.0,9,   7.7690,2,    25.00
  35TH20080610, OVIDE,    55,  1,     22,2,20080625,0636, 54.0180, -25.5290, 3059,    201.2,   9.3490,  35.2200,2,  35.2210,2,    251.2,2,    255.4,2,     5.66,2,    13.52,2,     0.71,2,   -999.0,9,   7.7960,2,    25.00
  35TH20080610, OVIDE,    55,  1,     23,2,20080625,0636, 54.0180, -25.5290, 3059,    151.8,   9.8080,  35.2810,2,  35.2820,2,    249.4,2,    248.1,2,     5.19,2,    13.51,2,     0.69,2,   -999.0,9,   7.8030,2,    25.00
  35TH20080610, OVIDE,    55,  1,     24,2,20080625,0636, 54.0180, -25.5290, 3059,    101.3,  10.5540,  35.4000,2,  35.3990,2,    251.5,2,    255.2,2,     3.87,2,    11.89,2,     0.60,2,   -999.0,9,   7.8280,2,    25.00
  35TH20080610, OVIDE,    55,  1,     25,2,20080625,0636, 54.0180, -25.5290, 3059,     56.0,  11.5180,  35.4110,2,  35.4170,3,    260.0,2,    262.5,2,     1.40,2,     7.83,2,     0.46,2,   -999.0,9,   7.8750,2,    25.00
  35TH20080610, OVIDE,    55,  1,     26,2,20080625,0636, 54.0180, -25.5290, 3059,      3.8,  13.1850,  35.4430,2,  35.4420,2,    270.5,2,    272.6,2,     0.40,2,     3.23,2,     0.19,2,   -999.0,9,   7.9440,2,    25.00