BOTTLE,20140930PRINUNIVRMK
EXPOCODE,SECT_ID,STNNBR,CASTNO,BTLNBR,BTLNBR_FLAG_W,DATE,TIME,LATITUDE,LONGITUDE,DEPTH,CTDPRS,CTDTMP,CTDSAL,CTDSAL_FLAG_W,SALNTY,SALNTY_FLAG_W,CTDOXY,CTDOXY_FLAG_W,OXYGEN,OXYGEN_FLAG_W,SILCAT,SILCAT_FLAG_W,NITRAT,NITRAT_FLAG_W,PHSPHT,PHSPHT_FLAG_W,ALKALI,ALKALI_FLAG_W,PH_SWS,PH_SWS_FLAG_W,PH_TMP
,,,,,,,,,,METERS,DBAR,ITS-90,PSS-78,,PSS-78,,UMOL/KG,,UMOL/KG,,UMOL/KG,,UMOL/KG,,UMOL/KG,,UMOL/KG,,,,DEG C
  35TH20080610, OVIDE,    29,  1,      3,2,20080618,1837, 44.3770, -17.8170, 4814,   4902.7,   2.6400,  34.9100,2,  34.9070,2,    242.8,2,    241.5,2,    45.44,2,    22.83,2,     1.33,2,   -999.0,9,   7.7310,2,    25.00
  35TH20080610, OVIDE,    29,  1,      4,2,20080618,1837, 44.3770, -17.8170, 4814,   4501.6,   2.5930,  34.9110,2,  34.9080,2,    242.6,2,    243.1,2,    45.57,2,    23.13,2,     1.31,2,   -999.0,9,   7.7300,2,    25.00
  35TH20080610, OVIDE,    29,  1,      5,2,20080618,1837, 44.3770, -17.8170, 4814,   3998.7,   2.5670,  34.9140,2,  34.9170,2,    243.0,2,    242.8,2,    44.17,2,    22.77,2,     1.29,2,   -999.0,9,   7.7330,2,    25.00
  35TH20080610, OVIDE,    29,  1,      6,2,20080618,1837, 44.3770, -17.8170, 4814,   3748.2,   2.5890,  34.9190,2,  34.9170,2,    244.6,2,    244.9,2,    41.90,2,    21.88,2,     1.25,2,   -999.0,9,   7.7340,2,    25.00
  35TH20080610, OVIDE,    29,  1,      7,2,20080618,1837, 44.3770, -17.8170, 4814,   3500.2,   2.6550,  34.9280,2,  34.9240,2,    248.0,2,    247.8,2,    38.08,2,    22.16,2,     1.24,2,   -999.0,9,   7.7340,2,    25.00
  35TH20080610, OVIDE,    29,  1,      8,2,20080618,1837, 44.3770, -17.8170, 4814,   3250.2,   2.7400,  34.9360,2,  34.9330,2,    251.2,2,    251.7,2,    34.07,2,    21.31,2,     1.19,2,   -999.0,9,   7.7360,2,    25.00
  35TH20080610, OVIDE,    29,  1,      9,2,20080618,1837, 44.3770, -17.8170, 4814,   2999.5,   2.8830,  34.9470,2,  34.9440,2,    255.0,2,    254.9,2,    22.24,3,    20.71,2,     1.15,2,   -999.0,9,   7.7360,2,    25.00
  35TH20080610, OVIDE,    29,  1,     10,2,20080618,1837, 44.3770, -17.8170, 4814,   2749.1,   3.0860,  34.9480,2,  34.9480,2,    262.6,2,    262.4,2,    21.53,2,    19.20,2,     1.08,2,   -999.0,9,   7.7360,2,    25.00
  35TH20080610, OVIDE,    29,  1,     11,2,20080618,1837, 44.3770, -17.8170, 4814,   2499.7,   3.2380,  34.9330,2,  34.9300,2,    270.6,2,    270.8,2,    16.50,2,    18.32,2,     1.02,2,   -999.0,9,   7.7340,2,    25.00
  35TH20080610, OVIDE,    29,  1,     12,2,20080618,1837, 44.3770, -17.8170, 4814,   2249.2,   3.3380,  34.9060,2,  34.9050,2,    278.6,2,    278.4,2,    12.94,2,    18.06,2,     0.98,2,   -999.0,9,   7.7290,2,    25.00
  35TH20080610, OVIDE,    29,  1,     13,2,20080618,1837, 44.3770, -17.8170, 4814,   2000.6,   3.5480,  34.9100,2,  34.9160,2,    276.1,2,    288.2,3,    12.11,2,    18.18,2,     1.00,2,   -999.0,9,   7.7280,2,    25.00
  35TH20080610, OVIDE,    29,  1,     14,2,20080618,1837, 44.3770, -17.8170, 4814,   1799.6,   3.7790,  34.9200,2,  34.9220,2,    273.0,2,    272.6,2,    11.58,2,    18.07,2,     1.00,2,   -999.0,9,   7.7220,2,    25.00
  35TH20080610, OVIDE,    29,  1,     15,2,20080618,1837, 44.3770, -17.8170, 4814,   1599.3,   4.2150,  34.9650,2,  34.9660,2,    264.0,2,    264.1,2,    11.44,2,    18.37,2,     1.01,2,   -999.0,9,   7.7200,2,    25.00
  35TH20080610, OVIDE,    29,  1,     16,2,20080618,1837, 44.3770, -17.8170, 4814,   1401.0,   5.6050,  35.1630,2,  35.1620,2,    238.2,2,    254.3,3,    11.53,2,    18.79,2,     1.02,2,   -999.0,9,   7.7260,2,    25.00
  35TH20080610, OVIDE,    29,  1,     17,2,20080618,1837, 44.3770, -17.8170, 4814,   1199.4,   8.1860,  35.5840,2,  35.5870,2,    204.1,2,    205.7,2,    11.06,2,    18.13,2,     0.96,2,   -999.0,9,   7.7530,2,    25.00
  35TH20080610, OVIDE,    29,  1,     18,2,20080618,1837, 44.3770, -17.8170, 4814,    999.7,   9.7600,  35.7600,2,  35.7640,2,    186.1,2,    189.3,2,    10.11,2,    17.75,2,     0.93,2,   -999.0,9,   7.7690,2,    25.00
  35TH20080610, OVIDE,    29,  1,     19,2,20080618,1837, 44.3770, -17.8170, 4814,    900.3,  10.2720,  35.7560,2,  35.7520,2,    183.3,2,    187.1,2,     9.41,2,    17.79,2,     0.92,2,   -999.0,9,   7.7730,2,    25.00
  35TH20080610, OVIDE,    29,  1,     20,2,20080618,1837, 44.3770, -17.8170, 4814,    800.8,  10.3760,  35.6410,2,  35.6380,2,    185.3,2,    186.0,2,     8.95,2,    17.72,2,     0.92,2,   -999.0,9,   7.7650,2,    25.00
  35TH20080610, OVIDE,    29,  1,     21,2,20080618,1837, 44.3770, -17.8170, 4814,    698.9,   9.6020,  35.3190,2,  35.3250,2,    187.4,2,    220.9,3,     9.79,2,    19.11,2,     1.03,2,   -999.0,9,   7.7430,2,    25.00
  35TH20080610, OVIDE,    29,  1,     22,2,20080618,1837, 44.3770, -17.8170, 4814,    600.0,  10.7940,  35.4510,2,  35.4490,2,    199.6,2,    201.0,2,     7.44,2,    16.23,2,     0.84,2,   -999.0,9,   7.7810,2,    25.00
  35TH20080610, OVIDE,    29,  1,     23,2,20080618,1837, 44.3770, -17.8170, 4814,    501.5,  11.4560,  35.5110,2,  35.5090,2,    206.0,2,    208.9,2,     6.36,2,    14.58,2,     0.76,2,   -999.0,9,   7.8030,2,    25.00
  35TH20080610, OVIDE,    29,  1,     24,2,20080618,1837, 44.3770, -17.8170, 4814,    400.7,  12.5010,  35.6720,2,  35.6710,2,    231.8,2,    237.0,2,     3.90,2,     9.82,2,     0.50,2,   -999.0,9,   7.8660,2,    25.00
  35TH20080610, OVIDE,    29,  1,     25,2,20080618,1837, 44.3770, -17.8170, 4814,    300.8,  13.0760,  35.7490,2,  35.7470,2,    236.2,2,    238.7,2,     3.55,2,     9.09,2,     0.44,2,   -999.0,9,   7.8800,2,    25.00
  35TH20080610, OVIDE,    29,  1,     26,2,20080618,1837, 44.3770, -17.8170, 4814,    200.0,  13.6410,  35.8390,2,  35.8370,2,    242.7,2,    242.5,2,     3.09,2,     7.18,2,     0.35,2,   -999.0,9,   7.9050,2,    25.00
  35TH20080610, OVIDE,    29,  1,     27,2,20080618,1837, 44.3770, -17.8170, 4814,    147.7,  13.8600,  35.8790,2,  35.8760,2,    243.7,2,    244.3,2,     3.03,2,     6.80,2,     0.34,2,   -999.0,9,   7.9120,2,    25.00
  35TH20080610, OVIDE,    29,  1,     28,2,20080618,1837, 44.3770, -17.8170, 4814,     98.4,  14.0260,  35.9090,2,  35.9060,2,    244.4,2,    245.7,2,     2.93,2,     6.10,2,     0.31,2,   -999.0,9,   7.9180,2,    25.00
  35TH20080610, OVIDE,    29,  1,     29,2,20080618,1837, 44.3770, -17.8170, 4814,     57.2,  14.2050,  35.9150,2,  35.9130,2,    244.6,2,    243.9,2,     2.63,2,     5.16,2,     0.28,2,   -999.0,9,   7.9200,2,    25.00
  35TH20080610, OVIDE,    29,  1,     30,2,20080618,1837, 44.3770, -17.8170, 4814,      3.8,  16.9730,  35.8610,2,  35.8630,2,    253.2,2,    253.8,2,     1.56,2,     0.16,2,     0.04,2,   -999.0,9,   8.0060,2,    25.00
  35TH20080610, OVIDE,    30,  1,      3,2,20080619,0040, 44.6740, -18.2110, 4808,   4900.5,   2.6420,  34.9100,2,  34.9110,2,    242.6,2,    242.3,2,    46.77,2,    22.43,2,     1.32,2,   2357.5,2,   7.7270,2,    25.00
  35TH20080610, OVIDE,    30,  1,      4,2,20080619,0040, 44.6740, -18.2110, 4808,   4499.4,   2.5960,  34.9110,2,  34.9100,2,    242.8,2,    242.1,2,    46.28,2,    22.35,2,     1.33,2,   2353.9,2,   7.7270,2,    25.00
  35TH20080610, OVIDE,    30,  1,      5,2,20080619,0040, 44.6740, -18.2110, 4808,   4001.2,   2.5790,  34.9160,2,  34.9190,2,    243.3,2,    244.0,2,    44.49,2,    21.96,2,     1.27,2,   2351.3,2,   7.7260,2,    25.00
  35TH20080610, OVIDE,    30,  1,      6,2,20080619,0040, 44.6740, -18.2110, 4808,   3750.8,   2.5950,  34.9190,2,  34.9190,2,    244.5,2,    245.1,2,    43.01,2,    21.42,2,     1.24,2,   2348.8,2,   7.7270,2,    25.00
  35TH20080610, OVIDE,    30,  1,      7,2,20080619,0040, 44.6740, -18.2110, 4808,   3499.8,   2.6570,  34.9270,2,  34.9290,2,    247.3,2,    248.6,2,    39.59,2,    21.17,2,     1.24,2,   2343.9,2,   7.7290,2,    25.00
  35TH20080610, OVIDE,    30,  1,      8,2,20080619,0040, 44.6740, -18.2110, 4808,   3248.1,   2.7650,  34.9370,2,  34.9380,2,    251.5,2,    252.3,2,    35.11,2,    20.39,2,     1.18,2,   2333.9,2,   7.7310,2,    25.00
  35TH20080610, OVIDE,    30,  1,      9,2,20080619,0040, 44.6740, -18.2110, 4808,   2999.4,   2.9070,  34.9470,2,  34.9470,2,    256.5,2,    256.7,2,    29.89,2,    19.56,2,     1.12,2,   2330.6,2,   7.7320,2,    25.00
  35TH20080610, OVIDE,    30,  1,     10,2,20080619,0040, 44.6740, -18.2110, 4808,   2751.5,   3.0650,  34.9490,2,  34.9480,2,    261.4,2,    261.2,2,  -999.00,9,    18.87,2,     1.08,2,   2324.6,2,   7.7300,2,    25.00
  35TH20080610, OVIDE,    30,  1,     11,2,20080619,0040, 44.6740, -18.2110, 4808,   2499.8,   3.2290,  34.9400,2,  34.9390,2,    269.8,2,    270.5,2,    18.25,2,    17.96,2,     1.02,2,   2312.4,2,   7.7300,2,    25.00
  35TH20080610, OVIDE,    30,  1,     12,2,20080619,0040, 44.6740, -18.2110, 4808,   2248.2,   3.3920,  34.9250,2,  34.9230,2,    275.7,2,    274.8,2,    14.60,2,    17.84,2,     1.01,2,   2308.2,2,   7.7270,2,    25.00
  35TH20080610, OVIDE,    30,  1,     13,2,20080619,0040, 44.6740, -18.2110, 4808,   2000.1,   3.5840,  34.9220,2,  34.9260,2,    273.3,2,    274.6,2,    12.97,2,    17.67,2,     1.00,2,   2304.7,2,   7.7230,2,    25.00
  35TH20080610, OVIDE,    30,  1,     14,2,20080619,0040, 44.6740, -18.2110, 4808,   1800.3,   4.1070,  34.9790,2,  34.9820,2,    264.7,2,    264.9,2,    12.60,2,    17.94,2,     0.98,2,   2308.4,2,   7.7200,2,    25.00
  35TH20080610, OVIDE,    30,  1,     15,2,20080619,0040, 44.6740, -18.2110, 4808,   1600.2,   4.9320,  35.1040,2,  35.1070,2,    249.2,2,    249.5,2,    12.65,2,    18.17,2,     1.01,2,   2317.0,2,   7.7260,2,    25.00
  35TH20080610, OVIDE,    30,  1,     16,2,20080619,0040, 44.6740, -18.2110, 4808,   1399.3,   6.4920,  35.3320,2,  35.3350,2,    225.8,2,    227.7,2,    12.12,2,    18.16,2,     0.99,2,   2331.4,2,   7.7350,2,    25.00
  35TH20080610, OVIDE,    30,  1,     17,2,20080619,0040, 44.6740, -18.2110, 4808,   1198.6,   7.0260,  35.2790,2,  35.2800,2,    211.7,2,    215.2,2,    11.81,2,    18.73,2,     1.05,2,   2329.4,2,   7.7230,2,    25.00
  35TH20080610, OVIDE,    30,  1,     18,2,20080619,0040, 44.6740, -18.2110, 4808,    999.3,   9.1610,  35.4910,2,  35.4920,2,    186.3,2,    189.2,2,    10.74,2,    18.52,2,     0.97,2,   2339.9,2,   7.7430,2,    25.00
  35TH20080610, OVIDE,    30,  1,     19,2,20080619,0040, 44.6740, -18.2110, 4808,    900.6,  10.4300,  35.6620,2,  35.6640,2,    183.7,2,    186.9,2,     9.19,2,    17.15,2,     0.90,2,   2350.2,2,   7.7650,2,    25.00
  35TH20080610, OVIDE,    30,  1,     20,2,20080619,0040, 44.6740, -18.2110, 4808,    800.5,  10.5840,  35.5510,2,  35.5530,2,    192.2,2,    193.5,2,     8.21,2,    16.39,2,     0.86,2,   2338.9,2,   7.7660,2,    25.00
  35TH20080610, OVIDE,    30,  1,     21,2,20080619,0040, 44.6740, -18.2110, 4808,    701.8,  11.0670,  35.5510,2,  35.5490,2,    211.0,2,    213.2,2,     6.16,2,    13.95,2,     0.72,2,   2334.4,2,   7.7950,2,    25.00
  35TH20080610, OVIDE,    30,  1,     22,2,20080619,0040, 44.6740, -18.2110, 4808,    600.8,  11.4280,  35.5790,2,  35.5790,2,    226.8,2,    227.3,2,     4.75,2,    11.73,2,     0.60,2,   -999.0,9,   7.8150,2,    25.00
  35TH20080610, OVIDE,    30,  1,     23,2,20080619,0040, 44.6740, -18.2110, 4808,    500.7,  11.8200,  35.6170,2,  35.6180,2,    235.8,2,    232.5,2,     4.14,2,    10.89,2,     0.54,2,   2339.8,2,   7.8310,2,    25.00
  35TH20080610, OVIDE,    30,  1,     24,2,20080619,0040, 44.6740, -18.2110, 4808,    401.8,  12.1910,  35.6550,2,  35.6550,2,    232.9,2,    235.3,2,     4.12,2,    10.57,2,     0.54,2,   2342.5,2,   7.8460,2,    25.00
  35TH20080610, OVIDE,    30,  1,     25,2,20080619,0040, 44.6740, -18.2110, 4808,    299.3,  12.7250,  35.7240,2,  35.7220,2,    247.2,2,    241.5,2,     3.67,2,     9.81,2,     0.51,2,   -999.0,9,   7.8680,2,    25.00
  35TH20080610, OVIDE,    30,  1,     26,2,20080619,0040, 44.6740, -18.2110, 4808,    199.9,  13.2840,  35.8070,2,  35.8060,2,    243.0,2,    244.3,2,     2.42,2,     6.22,2,     0.31,2,   2351.5,2,   7.8890,2,    25.00
  35TH20080610, OVIDE,    30,  1,     27,2,20080619,0040, 44.6740, -18.2110, 4808,    149.4,  13.4950,  35.8350,2,  35.8350,2,    244.6,2,    247.7,2,     2.16,2,     5.38,2,     0.28,2,   -999.0,9,   7.8990,2,    25.00
  35TH20080610, OVIDE,    30,  1,     28,2,20080619,0040, 44.6740, -18.2110, 4808,    100.4,  13.7750,  35.8470,2,  35.8460,2,    247.9,2,    249.4,2,     2.09,2,     4.46,2,     0.23,2,   2353.5,2,   7.9110,2,    25.00
  35TH20080610, OVIDE,    30,  1,     29,2,20080619,0040, 44.6740, -18.2110, 4808,     55.3,  14.5370,  35.8350,2,  35.8340,2,    247.6,2,    250.3,2,     1.17,2,     1.54,2,     0.16,2,   -999.0,9,   7.9330,2,    25.00
  35TH20080610, OVIDE,    30,  1,     30,2,20080619,0040, 44.6740, -18.2110, 4808,      3.3,  17.3210,  35.8370,2,  35.8380,2,    249.3,2,    248.2,2,     0.84,2,     0.10,2,     0.02,2,   2357.2,2,   7.9880,2,    25.00
  35TH20080610, OVIDE,    31,  1,      3,2,20080619,0735, 45.0520, -18.5040, 4722,   4811.9,   2.6280,  34.9100,2,  34.9090,2,    242.8,2,    243.0,2,    46.60,2,  -999.00,9,  -999.00,9,   -999.0,9,   7.7320,2,    25.00
  35TH20080610, OVIDE,    31,  1,      4,2,20080619,0735, 45.0520, -18.5040, 4722,   4813.0,   2.6280,  34.9110,2,  34.9100,2,    242.8,2,    241.8,2,    46.52,2,  -999.00,9,  -999.00,9,   -999.0,9,   7.7350,2,    25.00
  35TH20080610, OVIDE,    31,  1,      5,2,20080619,0735, 45.0520, -18.5040, 4722,   3999.2,   2.5640,  34.9130,2,  34.9150,2,    242.8,2,    243.0,2,    44.49,2,  -999.00,9,  -999.00,9,   -999.0,9,   7.7380,2,    25.00
  35TH20080610, OVIDE,    31,  1,      6,2,20080619,0735, 45.0520, -18.5040, 4722,   3750.4,   2.5590,  34.9160,2,  34.9140,2,    243.5,2,    248.3,2,    44.04,2,  -999.00,9,  -999.00,9,   -999.0,9,   7.7350,2,    25.00
  35TH20080610, OVIDE,    31,  1,      7,2,20080619,0735, 45.0520, -18.5040, 4722,   3499.5,   2.6150,  34.9240,2,  34.9230,2,    246.1,2,    247.5,2,    41.05,2,  -999.00,9,  -999.00,9,   -999.0,9,   7.7340,2,    25.00
  35TH20080610, OVIDE,    31,  1,      8,2,20080619,0735, 45.0520, -18.5040, 4722,   3249.5,   2.7150,  34.9330,2,  34.9320,2,    250.3,2,    251.4,2,    36.70,2,  -999.00,9,  -999.00,9,   -999.0,9,   7.7370,2,    25.00
  35TH20080610, OVIDE,    31,  1,      9,2,20080619,0735, 45.0520, -18.5040, 4722,   3000.2,   2.8400,  34.9430,2,  34.9430,2,    255.4,2,    263.7,3,    31.54,2,  -999.00,9,  -999.00,9,   -999.0,9,   7.7360,2,    25.00
  35TH20080610, OVIDE,    31,  1,     10,2,20080619,0735, 45.0520, -18.5040, 4722,   2751.1,   3.0150,  34.9470,2,  34.9480,2,    259.6,2,    280.8,3,  -999.00,9,  -999.00,9,  -999.00,9,   -999.0,9,   7.7350,2,    25.00
  35TH20080610, OVIDE,    31,  1,     11,2,20080619,0735, 45.0520, -18.5040, 4722,   2502.1,   3.1580,  34.9410,2,  34.9370,2,    268.1,2,    267.6,2,  -999.00,9,  -999.00,9,  -999.00,9,   -999.0,9,   7.7320,2,    25.00
  35TH20080610, OVIDE,    31,  1,     12,2,20080619,0735, 45.0520, -18.5040, 4722,   2251.3,   3.3020,  34.9240,2,  34.9270,2,    275.3,2,    273.5,2,  -999.00,9,  -999.00,9,  -999.00,9,   -999.0,9,   7.7320,2,    25.00
  35TH20080610, OVIDE,    31,  1,     13,2,20080619,0735, 45.0520, -18.5040, 4722,   2001.1,   3.5920,  34.9390,2,  34.9380,2,    271.6,2,    272.2,2,  -999.00,9,  -999.00,9,  -999.00,9,   -999.0,9,   7.7310,2,    25.00
  35TH20080610, OVIDE,    31,  1,     14,2,20080619,0735, 45.0520, -18.5040, 4722,   1802.1,   4.1340,  35.0030,2,  35.0020,2,    261.7,2,    262.3,2,  -999.00,9,  -999.00,9,  -999.00,9,   -999.0,9,   7.7250,2,    25.00
  35TH20080610, OVIDE,    31,  1,     15,2,20080619,0735, 45.0520, -18.5040, 4722,   1601.9,   4.7200,  35.0730,2,  35.0730,2,    253.1,2,    253.2,2,  -999.00,9,  -999.00,9,  -999.00,9,   -999.0,9,   7.7290,2,    25.00
  35TH20080610, OVIDE,    31,  1,     16,2,20080619,0735, 45.0520, -18.5040, 4722,   1398.8,   6.0240,  35.2610,2,  35.2560,2,    234.6,2,    233.1,2,  -999.00,9,  -999.00,9,  -999.00,9,   -999.0,9,   7.7340,2,    25.00
  35TH20080610, OVIDE,    31,  1,     17,2,20080619,0735, 45.0520, -18.5040, 4722,   1200.4,   7.8810,  35.5450,2,  35.5480,2,    209.2,2,    209.2,2,  -999.00,9,  -999.00,9,  -999.00,9,   -999.0,9,   7.7510,2,    25.00
  35TH20080610, OVIDE,    31,  1,     18,2,20080619,0735, 45.0520, -18.5040, 4722,   1000.5,   8.2090,  35.4190,2,  35.4210,2,    199.7,2,    199.2,2,  -999.00,9,  -999.00,9,  -999.00,9,   -999.0,9,   7.7380,2,    25.00
  35TH20080610, OVIDE,    31,  1,     19,2,20080619,0735, 45.0520, -18.5040, 4722,    900.2,   8.5580,  35.3510,2,  35.3690,3,    191.1,2,    191.1,2,  -999.00,9,  -999.00,9,  -999.00,9,   -999.0,9,   7.7340,2,    25.00
  35TH20080610, OVIDE,    31,  1,     20,2,20080619,0735, 45.0520, -18.5040, 4722,    799.9,   8.9080,  35.2650,2,  35.2670,2,    188.7,2,    191.6,2,  -999.00,9,  -999.00,9,  -999.00,9,   -999.0,9,   7.7330,2,    25.00
  35TH20080610, OVIDE,    31,  1,     21,2,20080619,0735, 45.0520, -18.5040, 4722,    700.3,   9.7260,  35.2970,2,  35.2900,3,    191.9,2,    199.6,3,  -999.00,9,  -999.00,9,  -999.00,9,   -999.0,9,   7.7530,2,    25.00
  35TH20080610, OVIDE,    31,  1,     22,2,20080619,0735, 45.0520, -18.5040, 4722,    600.7,  11.1160,  35.5180,2,  35.5160,2,    217.2,2,    212.9,2,  -999.00,9,  -999.00,9,  -999.00,9,   -999.0,9,   7.8000,2,    25.00
  35TH20080610, OVIDE,    31,  1,     23,2,20080619,0735, 45.0520, -18.5040, 4722,    499.9,  11.6030,  35.5600,2,  35.5760,3,    222.1,2,    224.5,2,  -999.00,9,  -999.00,9,  -999.00,9,   -999.0,9,   7.8250,2,    25.00
  35TH20080610, OVIDE,    31,  1,     24,2,20080619,0735, 45.0520, -18.5040, 4722,    399.5,  12.3150,  35.6440,2,  35.6410,2,    222.3,2,    220.1,2,  -999.00,9,  -999.00,9,  -999.00,9,   -999.0,9,   7.8340,2,    25.00
  35TH20080610, OVIDE,    31,  1,     25,2,20080619,0735, 45.0520, -18.5040, 4722,    300.0,  12.9630,  35.7400,2,  35.7330,3,    230.5,2,    230.7,2,  -999.00,9,  -999.00,9,  -999.00,9,   -999.0,9,   7.8660,2,    25.00
  35TH20080610, OVIDE,    31,  1,     26,2,20080619,0735, 45.0520, -18.5040, 4722,    199.8,  13.4400,  35.8060,2,  35.8050,2,    236.4,2,    238.8,2,  -999.00,9,  -999.00,9,  -999.00,9,   -999.0,9,   7.8950,2,    25.00
  35TH20080610, OVIDE,    31,  1,     27,2,20080619,0735, 45.0520, -18.5040, 4722,    150.0,  13.6780,  35.8410,2,  35.8390,2,    242.8,2,    241.9,2,  -999.00,9,  -999.00,9,  -999.00,9,   -999.0,9,   7.9060,2,    25.00
  35TH20080610, OVIDE,    31,  1,     28,2,20080619,0735, 45.0520, -18.5040, 4722,    100.3,  14.0490,  35.9100,2,  35.9000,3,    243.8,2,    243.7,2,  -999.00,9,  -999.00,9,  -999.00,9,   -999.0,9,   7.9120,2,    25.00
  35TH20080610, OVIDE,    31,  1,     29,2,20080619,0735, 45.0520, -18.5040, 4722,     57.7,  14.3420,  35.9520,2,  35.9480,2,    244.5,2,    246.3,2,  -999.00,9,  -999.00,9,  -999.00,9,   -999.0,9,   7.9270,2,    25.00
  35TH20080610, OVIDE,    31,  1,     30,2,20080619,0735, 45.0520, -18.5040, 4722,      3.6,  16.9670,  35.8600,2,  35.8530,3,    251.5,2,    251.3,2,  -999.00,9,  -999.00,9,  -999.00,9,   -999.0,9,   7.9960,2,    25.00