BOTTLE,20140930PRINUNIVRMK
EXPOCODE,SECT_ID,STNNBR,CASTNO,BTLNBR,BTLNBR_FLAG_W,DATE,TIME,LATITUDE,LONGITUDE,DEPTH,CTDPRS,CTDTMP,CTDSAL,CTDSAL_FLAG_W,SALNTY,SALNTY_FLAG_W,CTDOXY,CTDOXY_FLAG_W,OXYGEN,OXYGEN_FLAG_W,SILCAT,SILCAT_FLAG_W,NITRAT,NITRAT_FLAG_W,PHSPHT,PHSPHT_FLAG_W,ALKALI,ALKALI_FLAG_W,PH_SWS,PH_SWS_FLAG_W,PH_TMP
,,,,,,,,,,METERS,DBAR,ITS-90,PSS-78,,PSS-78,,UMOL/KG,,UMOL/KG,,UMOL/KG,,UMOL/KG,,UMOL/KG,,UMOL/KG,,,,DEG C
  35TH20080610, OVIDE,    70,  1,      3,2,20080628,1210, 58.7270, -30.6960, 1442,   1457.0,   3.8770,  34.9670,2,  34.9650,2,    273.1,2,    274.7,2,    10.72,2,    16.59,2,     0.95,2,   2306.7,2,   7.7210,2,    25.00
  35TH20080610, OVIDE,    70,  1,      4,2,20080628,1210, 58.7270, -30.6960, 1442,   1399.2,   3.8830,  34.9650,2,  34.9660,2,    272.9,2,    272.1,2,    10.69,2,    16.47,2,     0.94,2,   2305.8,2,   7.7190,2,    25.00
  35TH20080610, OVIDE,    70,  1,      5,2,20080628,1210, 58.7270, -30.6960, 1442,   1202.3,   3.9540,  34.9610,2,  34.9610,2,    274.1,2,    271.5,2,    10.63,2,    16.49,2,     0.95,2,   2306.7,2,   7.7170,2,    25.00
  35TH20080610, OVIDE,    70,  1,      6,2,20080628,1210, 58.7270, -30.6960, 1442,   1002.1,   4.3110,  34.9630,2,  34.9630,2,    265.7,2,    266.2,2,    10.54,2,    17.03,2,     0.97,2,   2306.6,2,   7.7120,2,    25.00
  35TH20080610, OVIDE,    70,  1,      7,2,20080628,1210, 58.7270, -30.6960, 1442,    900.7,   4.9000,  35.0110,2,  35.0120,2,    255.4,2,    255.3,2,    10.44,2,    17.27,2,     0.98,2,   2308.3,2,   7.7150,2,    25.00
  35TH20080610, OVIDE,    70,  1,      8,2,20080628,1210, 58.7270, -30.6960, 1442,    801.3,   5.4230,  35.0490,2,  35.0500,2,    245.8,2,    245.6,2,    10.49,2,    17.43,2,     0.98,2,   2312.7,2,   7.7130,2,    25.00
  35TH20080610, OVIDE,    70,  1,      9,2,20080628,1210, 58.7270, -30.6960, 1442,    699.8,   6.0390,  35.0830,2,  35.0810,2,    239.4,2,    238.8,2,    10.32,2,    17.61,2,     0.98,2,   2313.7,2,   7.7190,2,    25.00
  35TH20080610, OVIDE,    70,  1,     10,2,20080628,1210, 58.7270, -30.6960, 1442,    601.7,   6.5650,  35.1010,2,  35.1010,2,    250.0,2,    249.6,2,     9.17,2,    16.82,2,     0.94,2,   2313.7,2,   7.7350,2,    25.00
  35TH20080610, OVIDE,    70,  1,     11,2,20080628,1210, 58.7270, -30.6960, 1442,    599.8,   6.5820,  35.1030,2,  35.1020,2,    250.4,2,    250.8,2,     9.10,2,    16.74,2,     0.95,2,   -999.0,9,-999.0000,9,  -999.00
  35TH20080610, OVIDE,    70,  1,     12,2,20080628,1210, 58.7270, -30.6960, 1442,    498.6,   7.1810,  35.1540,2,  35.1520,2,    263.3,2,    263.2,2,     7.69,2,    15.38,2,     0.86,2,   2315.7,2,   7.7580,2,    25.00
  35TH20080610, OVIDE,    70,  1,     13,2,20080628,1210, 58.7270, -30.6960, 1442,    399.8,   7.5760,  35.1940,2,  35.1930,2,    271.9,2,    272.7,2,     6.79,2,    14.43,2,     0.80,2,   2317.3,2,   7.7750,2,    25.00
  35TH20080610, OVIDE,    70,  1,     14,2,20080628,1210, 58.7270, -30.6960, 1442,    300.3,   7.7170,  35.1880,2,  35.1870,2,    271.1,2,    270.7,2,     6.43,2,    14.54,2,     0.80,2,   2317.0,2,   7.7780,2,    25.00
  35TH20080610, OVIDE,    70,  1,     15,2,20080628,1210, 58.7270, -30.6960, 1442,    200.3,   7.8550,  35.1630,2,  35.1610,2,    266.9,2,    265.1,2,     6.33,2,    14.70,2,     0.81,2,   2316.7,2,   7.7750,2,    25.00
  35TH20080610, OVIDE,    70,  1,     16,2,20080628,1210, 58.7270, -30.6960, 1442,    150.1,   8.1290,  35.1680,2,  35.1670,2,    266.9,2,    267.3,2,     5.80,2,    14.14,2,     0.78,2,   2318.1,2,   7.7810,2,    25.00
  35TH20080610, OVIDE,    70,  1,     17,2,20080628,1210, 58.7270, -30.6960, 1442,    102.3,   8.4920,  35.1910,2,  35.1900,2,    269.7,2,    268.4,2,     5.25,2,    13.62,2,     0.75,2,   2318.7,2,   7.7910,2,    25.00
  35TH20080610, OVIDE,    70,  1,     18,2,20080628,1210, 58.7270, -30.6960, 1442,     56.8,   9.3450,  35.1730,2,  35.1710,2,    277.1,2,    278.3,2,     2.23,2,     9.42,2,     0.57,2,   2319.0,2,   7.8380,2,    25.00
  35TH20080610, OVIDE,    70,  1,     19,2,20080628,1210, 58.7270, -30.6960, 1442,      9.9,  10.9420,  35.1360,2,  35.1350,2,    284.5,2,    282.8,2,     0.73,2,     4.53,2,     0.30,2,   2314.3,2,   7.9060,2,    25.00
  35TH20080610, OVIDE,    71,  1,      3,2,20080628,1523, 58.8450, -31.2690, 1470,   1486.8,   3.7870,  34.9570,2,  34.9570,2,    274.6,2,    273.6,2,    10.75,2,    16.56,2,     0.92,2,   -999.0,9,   7.7210,2,    25.00
  35TH20080610, OVIDE,    71,  1,      4,2,20080628,1523, 58.8450, -31.2690, 1470,   1397.8,   3.7790,  34.9580,2,  34.9570,2,    274.6,2,    273.7,2,    10.80,2,    16.57,2,     0.92,2,   -999.0,9,   7.7230,2,    25.00
  35TH20080610, OVIDE,    71,  1,      5,2,20080628,1523, 58.8450, -31.2690, 1470,   1202.8,   3.7680,  34.9570,2,  34.9570,2,    274.6,2,    274.3,2,    10.70,2,    16.59,2,     0.92,2,   -999.0,9,   7.7180,2,    25.00
  35TH20080610, OVIDE,    71,  1,      6,2,20080628,1523, 58.8450, -31.2690, 1470,    999.2,   4.0700,  34.9570,2,  34.9670,3,    269.1,2,    271.0,2,    10.38,2,    16.61,2,     0.94,2,   -999.0,9,   7.7180,2,    25.00
  35TH20080610, OVIDE,    71,  1,      7,2,20080628,1523, 58.8450, -31.2690, 1470,    898.2,   4.4730,  34.9890,2,  34.9890,2,    262.5,2,    263.6,2,    10.21,2,    17.02,2,     0.94,2,   -999.0,9,   7.7170,2,    25.00
  35TH20080610, OVIDE,    71,  1,      8,2,20080628,1523, 58.8450, -31.2690, 1470,    802.1,   4.7830,  35.0010,2,  35.0010,2,    255.4,2,    257.0,2,    10.44,2,    17.42,2,     0.96,2,   -999.0,9,   7.7120,2,    25.00
  35TH20080610, OVIDE,    71,  1,      9,2,20080628,1523, 58.8450, -31.2690, 1470,    700.8,   5.3560,  35.0420,2,  35.0440,2,    248.8,2,    249.2,2,    10.26,2,    17.43,2,     0.96,2,   -999.0,9,   7.7150,2,    25.00
  35TH20080610, OVIDE,    71,  1,     10,2,20080628,1523, 58.8450, -31.2690, 1470,    600.9,   5.8300,  35.0540,2,  35.0540,2,    247.4,2,    246.7,2,     9.98,2,    17.60,2,     0.98,2,   -999.0,9,   7.7150,2,    25.00
  35TH20080610, OVIDE,    71,  1,     11,2,20080628,1523, 58.8450, -31.2690, 1470,    500.1,   6.2080,  35.0440,2,  35.0430,2,    269.8,2,    267.5,2,     8.41,2,    16.24,2,     0.90,2,   -999.0,9,   7.7350,2,    25.00
  35TH20080610, OVIDE,    71,  1,     12,2,20080628,1523, 58.8450, -31.2690, 1470,    400.9,   6.6070,  35.0700,2,  35.0690,2,    272.4,2,    275.3,2,     7.62,2,    15.61,2,     0.86,2,   -999.0,9,   7.7520,2,    25.00
  35TH20080610, OVIDE,    71,  1,     13,2,20080628,1523, 58.8450, -31.2690, 1470,    301.0,   7.0010,  35.1000,2,  35.0950,3,    276.1,2,    277.1,2,     6.76,2,    14.85,2,     0.82,2,   -999.0,9,   7.7630,2,    25.00
  35TH20080610, OVIDE,    71,  1,     14,2,20080628,1523, 58.8450, -31.2690, 1470,    201.0,   7.4310,  35.1320,2,  35.1320,2,    272.7,2,    270.6,2,     6.76,2,    14.86,2,     0.82,2,   -999.0,9,   7.7670,2,    25.00
  35TH20080610, OVIDE,    71,  1,     15,2,20080628,1523, 58.8450, -31.2690, 1470,    149.3,   7.3690,  35.0900,2,  35.0890,2,    271.2,2,    275.9,3,     5.53,2,    14.27,2,     0.80,2,   -999.0,9,   7.7750,2,    25.00
  35TH20080610, OVIDE,    71,  1,     16,2,20080628,1523, 58.8450, -31.2690, 1470,    100.0,   7.9340,  35.1330,2,  35.1280,3,    272.5,2,    274.0,2,     4.74,2,    13.55,2,     0.76,2,   -999.0,9,   7.7840,2,    25.00
  35TH20080610, OVIDE,    71,  1,     17,2,20080628,1523, 58.8450, -31.2690, 1470,     57.7,   9.5810,  35.1080,2,  35.1120,3,    279.4,2,    284.7,3,     1.86,2,     7.67,2,     0.49,2,   -999.0,9,   7.8660,2,    25.00
  35TH20080610, OVIDE,    71,  1,     18,2,20080628,1523, 58.8450, -31.2690, 1470,      7.4,  10.7540,  35.1500,2,  35.1480,2,    289.2,2,    288.2,2,     1.12,2,     4.58,2,     0.33,2,   -999.0,9,   7.9090,2,    25.00
  35TH20080610, OVIDE,    72,  1,      3,2,20080628,2245, 58.9100, -31.9130, 1679,   1699.6,   3.8230,  34.9590,2,  34.9580,2,    274.2,2,    273.1,2,    11.29,2,    16.08,2,     0.88,2,   2310.1,2,   7.7210,2,    25.00
  35TH20080610, OVIDE,    72,  1,      4,2,20080628,2245, 58.9100, -31.9130, 1679,   1601.5,   3.8770,  34.9670,2,  34.9670,2,    273.2,2,    272.5,2,    11.01,2,    16.47,2,     0.92,2,   2309.2,2,   7.7220,2,    25.00
  35TH20080610, OVIDE,    72,  1,      5,2,20080628,2245, 58.9100, -31.9130, 1679,   1400.2,   4.0230,  34.9780,2,  34.9780,2,    271.3,2,    270.2,2,    10.72,2,    16.48,2,     0.93,2,   2311.4,2,   7.7230,2,    25.00
  35TH20080610, OVIDE,    72,  1,      6,2,20080628,2245, 58.9100, -31.9130, 1679,   1200.6,   4.0600,  34.9450,2,  34.9420,2,    273.3,2,    272.3,2,    10.54,2,    16.75,2,     0.94,2,   2308.7,2,   7.7160,2,    25.00
  35TH20080610, OVIDE,    72,  1,      7,2,20080628,2245, 58.9100, -31.9130, 1679,   1000.8,   4.4330,  34.9450,2,  34.9450,2,    267.7,2,    273.4,3,     9.97,2,    16.89,2,     0.95,2,   2310.7,2,   7.7170,2,    25.00
  35TH20080610, OVIDE,    72,  1,      8,2,20080628,2245, 58.9100, -31.9130, 1679,    901.1,   4.9640,  34.9860,2,  34.9860,2,    252.9,2,    252.6,2,    10.80,2,    17.70,2,     0.99,2,   2311.5,2,   7.7080,2,    25.00
  35TH20080610, OVIDE,    72,  1,      9,2,20080628,2245, 58.9100, -31.9130, 1679,    799.9,   5.5290,  35.0090,2,  35.0110,2,    250.0,2,    253.2,2,    10.28,2,    17.51,2,     0.98,2,   2310.9,2,   7.7170,2,    25.00
  35TH20080610, OVIDE,    72,  1,     10,2,20080628,2245, 58.9100, -31.9130, 1679,    700.1,   6.1920,  35.0370,2,  35.0370,2,    277.3,2,    273.8,2,     8.46,2,    15.80,2,     0.89,2,   2313.1,2,   7.7460,2,    25.00
  35TH20080610, OVIDE,    72,  1,     11,2,20080628,2245, 58.9100, -31.9130, 1679,    600.9,   6.6570,  35.0860,2,  35.0860,2,    282.8,2,    284.8,2,     7.62,2,    15.05,2,     0.85,2,   2313.6,2,   7.7630,2,    25.00
  35TH20080610, OVIDE,    72,  1,     12,2,20080628,2245, 58.9100, -31.9130, 1679,    501.5,   6.7290,  35.0950,2,  35.0930,2,    282.8,2,    282.2,2,     7.49,2,    14.90,2,     0.84,2,   2314.3,2,   7.7660,2,    25.00
  35TH20080610, OVIDE,    72,  1,     13,2,20080628,2245, 58.9100, -31.9130, 1679,    399.9,   6.7470,  35.0940,2,  35.0910,2,    281.9,2,    281.2,2,     7.56,2,    15.01,2,     0.84,2,   2314.6,2,   7.7650,2,    25.00
  35TH20080610, OVIDE,    72,  1,     14,2,20080628,2245, 58.9100, -31.9130, 1679,    300.1,   6.8170,  35.0910,2,  35.0900,2,    282.0,2,    281.4,2,     7.59,2,    14.99,2,     0.84,2,   2314.7,2,   7.7670,2,    25.00
  35TH20080610, OVIDE,    72,  1,     15,2,20080628,2245, 58.9100, -31.9130, 1679,    198.5,   6.9880,  35.1030,2,  35.1020,2,    278.5,2,    280.7,2,     7.49,2,    14.92,2,     0.84,2,   2314.5,2,   7.7630,2,    25.00
  35TH20080610, OVIDE,    72,  1,     16,2,20080628,2245, 58.9100, -31.9130, 1679,    150.6,   7.2110,  35.1250,2,  35.1250,2,    275.4,2,    276.1,2,     7.30,2,    14.74,2,     0.82,2,   2316.8,2,   7.7690,2,    25.00
  35TH20080610, OVIDE,    72,  1,     17,2,20080628,2245, 58.9100, -31.9130, 1679,     99.8,   7.3570,  35.1050,2,  35.1050,2,    276.7,2,    276.0,2,     6.36,2,    14.14,2,     0.79,2,   2316.8,2,   7.7760,2,    25.00
  35TH20080610, OVIDE,    72,  1,     18,2,20080628,2245, 58.9100, -31.9130, 1679,     53.5,   7.9110,  35.0840,2,  35.0850,2,    280.3,2,    279.8,2,     4.38,2,    12.66,2,     0.73,2,   2313.6,2,   7.7960,2,    25.00
  35TH20080610, OVIDE,    72,  1,     19,2,20080628,2245, 58.9100, -31.9130, 1679,      8.1,  10.4230,  35.0690,2,  35.0680,2,    293.5,2,    295.1,2,     1.60,2,     5.46,2,     0.32,2,   2309.3,2,   7.8960,2,    25.00
  35TH20080610, OVIDE,    73,  1,      3,2,20080629,0401, 58.9750, -32.5550, 1947,   1968.7,   3.4830,  34.9510,2,  34.9540,2,    277.7,2,    277.8,2,    10.95,2,    16.36,2,     0.93,2,   -999.0,9,   7.7250,2,    25.00
  35TH20080610, OVIDE,    73,  1,      4,2,20080629,0401, 58.9750, -32.5550, 1947,   1797.4,   3.5470,  34.9520,2,  34.9520,2,    277.2,2,    277.5,2,    10.73,2,    16.59,2,     0.93,2,   -999.0,9,   7.7230,2,    25.00
  35TH20080610, OVIDE,    73,  1,      5,2,20080629,0401, 58.9750, -32.5550, 1947,   1599.1,   3.6530,  34.9530,2,  34.9550,2,    276.3,2,    276.3,2,    10.54,2,    16.58,2,     0.93,2,   -999.0,9,   7.7220,2,    25.00
  35TH20080610, OVIDE,    73,  1,      6,2,20080629,0401, 58.9750, -32.5550, 1947,   1399.6,   3.7100,  34.9480,2,  34.9490,2,    275.8,2,    275.8,2,    10.48,2,    16.77,2,     0.94,2,   -999.0,9,   7.7210,2,    25.00
  35TH20080610, OVIDE,    73,  1,      7,2,20080629,0401, 58.9750, -32.5550, 1947,   1198.9,   3.7790,  34.9350,2,  34.9360,2,    275.8,2,    274.8,2,    10.31,2,    17.01,2,     0.94,2,   -999.0,9,   7.7170,2,    25.00
  35TH20080610, OVIDE,    73,  1,      8,2,20080629,0401, 58.9750, -32.5550, 1947,   1001.7,   4.0240,  34.9340,2,  34.9350,2,    272.2,2,    271.9,2,    10.07,2,    17.18,2,     0.96,2,   -999.0,9,   7.7150,2,    25.00
  35TH20080610, OVIDE,    73,  1,      9,2,20080629,0401, 58.9750, -32.5550, 1947,    900.2,   4.2280,  34.9400,2,  34.9410,2,    269.9,2,    269.5,2,     9.88,2,    17.21,2,     0.96,2,   -999.0,9,   7.7110,2,    25.00
  35TH20080610, OVIDE,    73,  1,     10,2,20080629,0401, 58.9750, -32.5550, 1947,    798.7,   4.5110,  34.9590,2,  34.9580,2,    263.9,2,    263.4,2,     9.85,2,    17.52,2,     0.97,2,   -999.0,9,   7.7110,2,    25.00
  35TH20080610, OVIDE,    73,  1,     11,2,20080629,0401, 58.9750, -32.5550, 1947,    700.3,   4.6470,  34.9540,2,  34.9530,2,    273.7,2,    273.2,2,     9.10,2,    17.04,2,     0.95,2,   -999.0,9,   7.7190,2,    25.00
  35TH20080610, OVIDE,    73,  1,     12,2,20080629,0401, 58.9750, -32.5550, 1947,    600.1,   5.0650,  34.9730,2,  34.9710,2,    279.9,2,    278.1,2,     8.52,2,    16.74,2,     0.93,2,   -999.0,9,   7.7260,2,    25.00
  35TH20080610, OVIDE,    73,  1,     13,2,20080629,0401, 58.9750, -32.5550, 1947,    500.5,   5.4890,  34.9900,2,  34.9900,2,    270.9,2,    271.4,2,     8.56,2,    16.94,2,     0.94,2,   -999.0,9,   7.7240,2,    25.00
  35TH20080610, OVIDE,    73,  1,     14,2,20080629,0401, 58.9750, -32.5550, 1947,    400.8,   5.9970,  35.0160,2,  35.0160,2,    281.7,2,    280.2,2,     7.51,2,    15.73,2,     0.89,2,   -999.0,9,   7.7450,2,    25.00
  35TH20080610, OVIDE,    73,  1,     15,2,20080629,0401, 58.9750, -32.5550, 1947,    301.0,   6.3230,  35.0450,2,  35.0440,2,    276.6,2,    275.9,2,     7.50,2,    15.76,2,     0.88,2,   -999.0,9,   7.7460,2,    25.00
  35TH20080610, OVIDE,    73,  1,     16,2,20080629,0401, 58.9750, -32.5550, 1947,    199.9,   6.6820,  35.0540,2,  35.0530,2,    282.7,2,    282.6,2,     6.31,2,    15.05,2,     0.83,2,   -999.0,9,   7.7610,2,    25.00
  35TH20080610, OVIDE,    73,  1,     17,2,20080629,0401, 58.9750, -32.5550, 1947,    150.7,   7.0290,  35.0870,2,  35.0880,2,    276.3,2,    276.5,2,     6.44,2,    14.89,2,     0.83,2,   -999.0,9,   7.7620,2,    25.00
  35TH20080610, OVIDE,    73,  1,     18,2,20080629,0401, 58.9750, -32.5550, 1947,     99.7,   7.2270,  35.0740,2,  35.0740,2,    279.1,2,    277.8,2,     5.70,2,    14.44,2,     0.80,2,   -999.0,9,   7.7690,2,    25.00
  35TH20080610, OVIDE,    73,  1,     19,2,20080629,0401, 58.9750, -32.5550, 1947,     55.5,   8.0080,  35.0160,2,  35.0210,3,    292.3,2,    288.7,2,     2.93,2,    11.04,2,     0.65,2,   -999.0,9,   7.8140,2,    25.00
  35TH20080610, OVIDE,    73,  1,     20,2,20080629,0401, 58.9750, -32.5550, 1947,      5.5,  10.2520,  35.0640,2,  35.0630,2,    292.9,2,    293.6,2,     1.45,2,     5.54,2,     0.34,2,   -999.0,9,   7.8970,2,    25.00