BOTTLE,20140930PRINUNIVRMK
EXPOCODE,SECT_ID,STNNBR,CASTNO,BTLNBR,BTLNBR_FLAG_W,DATE,TIME,LATITUDE,LONGITUDE,DEPTH,CTDPRS,CTDTMP,CTDSAL,CTDSAL_FLAG_W,SALNTY,SALNTY_FLAG_W,CTDOXY,CTDOXY_FLAG_W,OXYGEN,OXYGEN_FLAG_W,SILCAT,SILCAT_FLAG_W,NITRAT,NITRAT_FLAG_W,PHSPHT,PHSPHT_FLAG_W,ALKALI,ALKALI_FLAG_W,PH_SWS,PH_SWS_FLAG_W,PH_TMP
,,,,,,,,,,METERS,DBAR,ITS-90,PSS-78,,PSS-78,,UMOL/KG,,UMOL/KG,,UMOL/KG,,UMOL/KG,,UMOL/KG,,UMOL/KG,,,,DEG C
  35TH20080610, OVIDE,    13,  1,      3,2,20080614,1455, 40.3310, -11.7740, 5202,   5305.8,   2.5490,  34.8980,2,  34.8950,2,    245.6,2,    249.3,2,    46.72,2,    23.69,2,     1.38,2,   -999.0,9,   7.7390,2,    25.00
  35TH20080610, OVIDE,    13,  1,      4,2,20080614,1455, 40.3310, -11.7740, 5202,   4501.2,   2.4760,  34.9000,2,  34.8990,2,    246.1,2,    245.9,2,    45.94,2,    23.03,2,     1.39,2,   -999.0,9,   7.7370,2,    25.00
  35TH20080610, OVIDE,    13,  1,      5,2,20080614,1455, 40.3310, -11.7740, 5202,   3999.2,   2.4960,  34.9080,2,  34.9150,2,    245.4,2,    244.3,2,    43.66,2,    22.70,2,     1.38,2,   -999.0,9,   7.7390,2,    25.00
  35TH20080610, OVIDE,    13,  1,      6,2,20080614,1455, 40.3310, -11.7740, 5202,   3749.2,   2.5300,  34.9140,2,  34.9130,2,    245.4,2,    243.2,2,    43.29,2,    23.31,2,     1.37,2,   -999.0,9,   7.7380,2,    25.00
  35TH20080610, OVIDE,    13,  1,      7,2,20080614,1455, 40.3310, -11.7740, 5202,   3498.6,   2.5800,  34.9220,2,  34.9220,2,    245.8,2,    244.9,2,    40.78,2,    22.16,2,     1.35,2,   -999.0,9,   7.7400,2,    25.00
  35TH20080610, OVIDE,    13,  1,      8,2,20080614,1455, 40.3310, -11.7740, 5202,   3249.9,   2.6560,  34.9310,2,  34.9320,2,    246.9,2,    244.5,2,    38.73,2,    21.91,2,     1.33,2,   -999.0,9,   7.7380,2,    25.00
  35TH20080610, OVIDE,    13,  1,      9,2,20080614,1455, 40.3310, -11.7740, 5202,   2998.6,   2.7680,  34.9420,2,  34.9410,2,    248.7,2,    247.6,2,    35.86,2,    21.77,2,     1.30,2,   -999.0,9,   7.7380,2,    25.00
  35TH20080610, OVIDE,    13,  1,     10,2,20080614,1455, 40.3310, -11.7740, 5202,   2750.1,   2.9600,  34.9600,2,  34.9610,2,    249.9,2,    248.5,2,    32.71,2,    20.97,2,     1.26,2,   -999.0,9,   7.7420,2,    25.00
  35TH20080610, OVIDE,    13,  1,     11,2,20080614,1455, 40.3310, -11.7740, 5202,   2500.5,   3.2490,  34.9900,2,  34.9900,2,    249.5,2,    246.5,2,    29.14,2,    21.21,2,     1.23,2,   -999.0,9,   7.7410,2,    25.00
  35TH20080610, OVIDE,    13,  1,     12,2,20080614,1455, 40.3310, -11.7740, 5202,   2249.0,   3.7450,  35.0470,2,  35.0480,2,    248.9,2,    248.5,2,    21.02,2,    20.61,2,     1.19,2,   -999.0,9,   7.7420,2,    25.00
  35TH20080610, OVIDE,    13,  1,     13,2,20080614,1455, 40.3310, -11.7740, 5202,   1999.6,   4.2680,  35.1030,2,  35.1070,2,    248.0,2,    239.9,3,    17.19,2,    19.39,2,     1.13,2,   -999.0,9,   7.7440,2,    25.00
  35TH20080610, OVIDE,    13,  1,     14,2,20080614,1455, 40.3310, -11.7740, 5202,   1800.6,   4.8130,  35.1640,2,  35.1670,2,    248.5,2,    248.4,2,    13.79,2,    18.62,2,     1.08,2,   -999.0,9,   7.7450,2,    25.00
  35TH20080610, OVIDE,    13,  1,     15,2,20080614,1455, 40.3310, -11.7740, 5202,   1599.3,   6.1770,  35.3810,2,  35.3860,2,    232.6,2,    230.6,2,    12.41,2,    18.92,2,     1.05,2,   -999.0,9,   7.7530,2,    25.00
  35TH20080610, OVIDE,    13,  1,     16,2,20080614,1455, 40.3310, -11.7740, 5202,   1398.5,   8.0570,  35.6960,2,  35.7030,3,    210.3,2,    210.0,2,    10.90,2,    17.64,2,     0.99,2,   -999.0,9,   7.7670,2,    25.00
  35TH20080610, OVIDE,    13,  1,     17,2,20080614,1455, 40.3310, -11.7740, 5202,   1198.8,  10.3980,  36.1060,2,  36.1090,2,    187.1,2,    186.6,2,     9.33,2,    16.60,2,     0.89,2,   -999.0,9,   7.7950,2,    25.00
  35TH20080610, OVIDE,    13,  1,     18,2,20080614,1455, 40.3310, -11.7740, 5202,    999.4,  10.7030,  36.0280,2,  36.0280,2,    182.6,2,    182.9,2,     8.87,2,    17.12,2,     0.90,2,   -999.0,9,   7.7910,2,    25.00
  35TH20080610, OVIDE,    13,  1,     19,2,20080614,1455, 40.3310, -11.7740, 5202,    900.3,  11.1340,  36.0300,2,  36.0130,3,    181.8,2,    182.4,2,     8.14,2,    15.96,2,     0.88,2,   -999.0,9,-999.0000,9,  -999.00
  35TH20080610, OVIDE,    13,  1,     20,2,20080614,1455, 40.3310, -11.7740, 5202,    799.5,  11.4690,  36.0090,2,  36.0140,2,    182.7,2,    181.6,2,     7.53,2,    16.00,2,     0.85,2,   -999.0,9,   7.7990,2,    25.00
  35TH20080610, OVIDE,    13,  1,     21,2,20080614,1455, 40.3310, -11.7740, 5202,    698.7,  10.8420,  35.7450,2,  35.7460,2,    187.0,2,    186.6,2,     7.64,2,    16.61,2,     0.91,2,   -999.0,9,   7.7800,2,    25.00
  35TH20080610, OVIDE,    13,  1,     22,2,20080614,1455, 40.3310, -11.7740, 5202,    599.8,  11.2850,  35.7070,2,  35.7100,2,    197.6,2,    191.1,2,     6.46,2,    15.60,2,     0.84,2,   -999.0,9,   7.7890,2,    25.00
  35TH20080610, OVIDE,    13,  1,     23,2,20080614,1455, 40.3310, -11.7740, 5202,    499.2,  11.1970,  35.5900,2,  35.5900,2,    218.1,2,    210.0,3,     4.98,2,    13.77,2,     0.72,2,   -999.0,9,   7.8020,2,    25.00
  35TH20080610, OVIDE,    13,  1,     24,2,20080614,1455, 40.3310, -11.7740, 5202,    401.0,  11.5330,  35.6070,2,  35.6040,2,    227.8,2,    227.2,2,     3.81,2,    11.98,2,     0.62,2,   -999.0,9,   7.8220,2,    25.00
  35TH20080610, OVIDE,    13,  1,     25,2,20080614,1455, 40.3310, -11.7740, 5202,    299.6,  11.9770,  35.6630,2,  35.6580,2,    223.2,2,    217.7,2,     3.54,2,    11.36,2,     0.60,2,   -999.0,9,   7.8280,2,    25.00
  35TH20080610, OVIDE,    13,  1,     26,2,20080614,1455, 40.3310, -11.7740, 5202,    200.3,  12.4820,  35.7180,2,  35.7130,2,    238.4,2,    230.1,3,     2.83,2,     9.60,2,     0.50,2,   -999.0,9,   7.8540,2,    25.00
  35TH20080610, OVIDE,    13,  1,     27,2,20080614,1455, 40.3310, -11.7740, 5202,    150.9,  12.8980,  35.7740,2,  35.7720,2,    233.1,2,    247.2,3,     1.87,2,     6.12,2,     0.33,2,   -999.0,9,   7.8880,2,    25.00
  35TH20080610, OVIDE,    13,  1,     28,2,20080614,1455, 40.3310, -11.7740, 5202,    100.3,  13.1860,  35.8120,2,  35.8120,2,    243.4,2,    230.9,3,     1.91,2,     5.97,2,     0.32,2,   -999.0,9,   7.8850,2,    25.00
  35TH20080610, OVIDE,    13,  1,     29,2,20080614,1455, 40.3310, -11.7740, 5202,     56.8,  13.9720,  35.8320,2,  35.8380,2,    244.1,2,    240.3,2,     1.30,2,     3.64,2,     0.22,2,   -999.0,9,   7.9100,2,    25.00
  35TH20080610, OVIDE,    13,  1,     30,2,20080614,1455, 40.3310, -11.7740, 5202,      2.9,  18.4850,  35.8980,2,  35.9010,2,    246.9,2,    244.3,2,     0.75,2,     0.00,2,     0.03,2,   -999.0,9,   7.9860,2,    25.00
  35TH20080610, OVIDE,    14,  1,      3,2,20080614,2036, 40.3320, -12.2130, 5245,   5349.0,   2.5560,  34.8970,2,  34.8970,2,    245.1,2,    245.4,2,    46.47,2,    23.63,2,     1.32,2,   2353.4,2,   7.7370,2,    25.00
  35TH20080610, OVIDE,    14,  1,      4,2,20080614,2036, 40.3320, -12.2130, 5245,   4650.4,   2.4850,  34.9000,2,  34.8980,2,    246.3,2,    245.4,2,    45.86,2,    23.34,2,     1.32,2,   2354.0,2,   7.7360,2,    25.00
  35TH20080610, OVIDE,    14,  1,      5,2,20080614,2036, 40.3320, -12.2130, 5245,   3999.7,   2.5160,  34.9100,2,  34.9140,2,    245.4,2,    246.1,2,    42.91,2,    22.35,2,     1.29,2,   2350.8,2,   7.7380,2,    25.00
  35TH20080610, OVIDE,    14,  1,      6,2,20080614,2036, 40.3320, -12.2130, 5245,   3750.4,   2.5510,  34.9160,2,  34.9150,2,    245.4,2,    246.1,2,    41.82,2,    23.12,2,     1.27,2,   2346.6,2,   7.7370,2,    25.00
  35TH20080610, OVIDE,    14,  1,      7,2,20080614,2036, 40.3320, -12.2130, 5245,   3500.8,   2.5960,  34.9230,2,  34.9240,2,    245.8,2,    246.9,2,    40.08,2,    22.81,2,     1.26,2,   2344.1,2,   7.7380,2,    25.00
  35TH20080610, OVIDE,    14,  1,      8,2,20080614,2036, 40.3320, -12.2130, 5245,   3248.9,   2.6760,  34.9330,2,  34.9320,2,    247.2,2,    247.6,2,    37.54,2,    21.66,2,     1.25,2,   2343.3,2,   7.7380,2,    25.00
  35TH20080610, OVIDE,    14,  1,      9,2,20080614,2036, 40.3320, -12.2130, 5245,   3001.3,   2.7980,  34.9450,2,  34.9430,2,    249.0,2,    249.3,2,    34.41,2,    21.67,2,     1.21,2,   2339.4,2,   7.7370,2,    25.00
  35TH20080610, OVIDE,    14,  1,     10,2,20080614,2036, 40.3320, -12.2130, 5245,   2749.9,   2.9630,  34.9600,2,  34.9590,2,    250.9,2,    250.9,2,    30.94,2,    21.19,2,     1.17,2,   2336.3,2,   7.7410,2,    25.00
  35TH20080610, OVIDE,    14,  1,     11,2,20080614,2036, 40.3320, -12.2130, 5245,   2500.3,   3.2000,  34.9790,2,  34.9750,2,    252.5,2,    252.8,2,    26.84,2,    20.13,2,     1.13,2,   2329.7,2,   7.7410,2,    25.00
  35TH20080610, OVIDE,    14,  1,     12,2,20080614,2036, 40.3320, -12.2130, 5245,   2250.4,   3.5180,  35.0010,2,  35.0020,2,    256.1,2,    255.5,2,    19.67,2,    19.57,2,     1.08,2,   2323.9,2,   7.7420,2,    25.00
  35TH20080610, OVIDE,    14,  1,     13,2,20080614,2036, 40.3320, -12.2130, 5245,   1999.7,   3.9660,  35.0410,2,  35.0430,2,    258.1,2,    258.1,2,    15.83,2,    18.93,2,     1.03,2,   2320.4,2,   7.7420,2,    25.00
  35TH20080610, OVIDE,    14,  1,     14,2,20080614,2036, 40.3320, -12.2130, 5245,   1800.0,   4.6550,  35.1330,2,  35.1360,2,    249.5,2,    255.2,2,    13.56,2,    18.56,2,     1.00,2,   2325.9,2,   7.7430,2,    25.00
  35TH20080610, OVIDE,    14,  1,     15,2,20080614,2036, 40.3320, -12.2130, 5245,   1600.9,   6.0070,  35.3490,2,  35.3500,2,    234.0,2,    233.8,2,    12.31,2,    18.28,2,     0.97,2,   2337.6,2,   7.7500,2,    25.00
  35TH20080610, OVIDE,    14,  1,     16,2,20080614,2036, 40.3320, -12.2130, 5245,   1400.1,   8.0000,  35.6700,2,  35.6710,2,    212.7,2,    211.3,2,    10.70,2,    18.18,2,     0.91,2,   2358.0,2,   7.7640,2,    25.00
  35TH20080610, OVIDE,    14,  1,     17,2,20080614,2036, 40.3320, -12.2130, 5245,   1200.2,  10.2430,  36.0620,2,  36.0620,2,    190.6,2,    188.9,2,     9.31,2,    16.50,2,     0.83,2,   2384.4,2,   7.7900,2,    25.00
  35TH20080610, OVIDE,    14,  1,     18,2,20080614,2036, 40.3320, -12.2130, 5245,   1000.7,  10.4210,  35.9700,2,  35.9740,2,    184.4,2,    185.4,2,     8.85,2,    16.78,2,     0.85,2,   2375.4,2,   7.7850,2,    25.00
  35TH20080610, OVIDE,    14,  1,     19,2,20080614,2036, 40.3320, -12.2130, 5245,    900.0,  10.5820,  35.9310,2,  35.9310,2,    183.3,2,    184.4,2,     8.54,2,    17.39,2,     0.86,2,   2370.9,2,   7.7830,2,    25.00
  35TH20080610, OVIDE,    14,  1,     20,2,20080614,2036, 40.3320, -12.2130, 5245,    800.6,  10.7330,  35.8490,2,  35.8510,2,    183.5,2,    184.7,2,     8.08,2,    16.93,2,     0.86,2,   2362.7,2,   7.7810,2,    25.00
  35TH20080610, OVIDE,    14,  1,     21,2,20080614,2036, 40.3320, -12.2130, 5245,    699.4,  10.7530,  35.7330,2,  35.7340,2,    186.8,2,    186.9,2,     7.59,2,    16.64,2,     0.85,2,   2353.5,2,   7.7780,2,    25.00
  35TH20080610, OVIDE,    14,  1,     22,2,20080614,2036, 40.3320, -12.2130, 5245,    599.7,  11.2320,  35.7230,2,  35.7230,2,    191.8,2,    190.1,2,     6.55,2,    15.78,2,     0.79,2,   -999.0,9,   7.7880,2,    25.00
  35TH20080610, OVIDE,    14,  1,     23,2,20080614,2036, 40.3320, -12.2130, 5245,    500.2,  11.3120,  35.6310,2,  35.6360,2,    208.9,2,    201.0,3,     5.51,2,    14.66,2,     0.72,2,   2342.4,2,   7.8050,2,    25.00
  35TH20080610, OVIDE,    14,  1,     24,2,20080614,2036, 40.3320, -12.2130, 5245,    399.2,  11.4700,  35.6030,2,  35.6050,2,    222.0,2,    222.2,2,     4.05,2,    12.32,2,     0.59,2,   2336.8,2,   7.8210,2,    25.00
  35TH20080610, OVIDE,    14,  1,     25,2,20080614,2036, 40.3320, -12.2130, 5245,    300.3,  11.9940,  35.6730,2,  35.6720,2,    218.1,2,    217.0,2,     3.65,2,    12.02,2,     0.58,2,   -999.0,9,   7.8280,2,    25.00
  35TH20080610, OVIDE,    14,  1,     26,2,20080614,2036, 40.3320, -12.2130, 5245,    200.2,  12.6260,  35.7500,2,  35.7490,2,    220.8,2,    219.0,2,     3.04,2,    10.47,2,     0.50,2,   2346.3,2,   7.8540,2,    25.00
  35TH20080610, OVIDE,    14,  1,     27,2,20080614,2036, 40.3320, -12.2130, 5245,    149.9,  13.2670,  35.8410,2,  35.8270,3,    241.0,2,    231.3,3,     2.50,2,     8.46,2,     0.40,2,   -999.0,9,-999.0000,9,  -999.00
  35TH20080610, OVIDE,    14,  1,     28,2,20080614,2036, 40.3320, -12.2130, 5245,    100.1,  13.8420,  35.9260,2,  35.9190,3,    241.4,2,    239.6,2,     1.61,2,     4.73,2,     0.23,2,   2357.8,2,   7.9050,2,    25.00
  35TH20080610, OVIDE,    14,  1,     29,2,20080614,2036, 40.3320, -12.2130, 5245,     56.6,  14.1890,  35.9620,2,  35.9630,2,    250.7,2,    258.9,3,     1.25,2,     3.14,2,     0.16,2,   -999.0,9,   7.9130,2,    25.00
  35TH20080610, OVIDE,    14,  1,     30,2,20080614,2036, 40.3320, -12.2130, 5245,      3.4,  17.8750,  35.9450,2,  35.9480,2,    246.3,2,    245.0,2,     0.70,2,     0.00,2,     0.02,2,   2362.2,2,   8.0020,2,    25.00
  35TH20080610, OVIDE,    16,  1,      3,2,20080615,0738, 40.5530, -12.6380, 5294,   5398.9,   2.5650,  34.8970,2,  34.8980,2,    244.7,2,    245.0,2,    47.48,2,    23.68,2,     1.34,2,   2354.1,2,   7.7340,2,    25.00
  35TH20080610, OVIDE,    16,  1,      4,2,20080615,0738, 40.5530, -12.6380, 5294,   4649.0,   2.4920,  34.9000,2,  34.8990,2,    246.1,2,    244.5,2,    46.73,2,    23.03,2,     1.35,2,   2350.9,2,   7.7350,2,    25.00
  35TH20080610, OVIDE,    16,  1,      5,2,20080615,0738, 40.5530, -12.6380, 5294,   3998.7,   2.5130,  34.9100,2,  34.9200,3,    245.0,2,    244.2,2,    44.18,2,    23.37,2,     1.33,2,   2347.1,2,   7.7350,2,    25.00
  35TH20080610, OVIDE,    16,  1,      6,2,20080615,0738, 40.5530, -12.6380, 5294,   3749.8,   2.5520,  34.9160,2,  34.9160,2,    245.0,2,    245.1,2,    43.20,2,    22.42,2,     1.30,2,   2345.2,2,   7.7360,2,    25.00
  35TH20080610, OVIDE,    16,  1,      7,2,20080615,0738, 40.5530, -12.6380, 5294,   3499.1,   2.6190,  34.9250,2,  34.9260,2,    245.3,2,    246.0,2,    41.04,2,    23.05,2,     1.30,2,   2344.2,2,   7.7360,2,    25.00
  35TH20080610, OVIDE,    16,  1,      8,2,20080615,0738, 40.5530, -12.6380, 5294,   3248.8,   2.7200,  34.9370,2,  34.9350,2,    245.9,2,    246.5,2,    38.97,2,    22.52,2,     1.27,2,   2342.9,2,   7.7370,2,    25.00
  35TH20080610, OVIDE,    16,  1,      9,2,20080615,0738, 40.5530, -12.6380, 5294,   3000.6,   2.8670,  34.9510,2,  34.9510,2,    248.2,2,    247.3,2,    36.10,2,    22.01,2,     1.23,2,   2338.4,2,   7.7360,2,    25.00
  35TH20080610, OVIDE,    16,  1,     10,2,20080615,0738, 40.5530, -12.6380, 5294,   2750.7,   3.0080,  34.9630,2,  34.9620,2,    251.6,2,    251.4,2,    31.52,2,    21.10,2,     1.18,2,   2331.5,2,   7.7390,2,    25.00
  35TH20080610, OVIDE,    16,  1,     11,2,20080615,0738, 40.5530, -12.6380, 5294,   2501.4,   3.2930,  34.9880,2,  34.9880,2,    253.6,2,    253.5,2,    27.79,2,    20.01,2,     1.15,2,   2327.1,2,   7.7400,2,    25.00
  35TH20080610, OVIDE,    16,  1,     12,2,20080615,0738, 40.5530, -12.6380, 5294,   2397.4,   3.3850,  34.9930,2,  34.9940,2,    254.4,2,    253.9,2,    20.91,2,    20.33,2,     1.12,2,   2325.8,2,   7.7400,2,    25.00
  35TH20080610, OVIDE,    16,  1,     13,2,20080615,0738, 40.5530, -12.6380, 5294,   2000.3,   3.8980,  35.0130,2,  35.0190,2,    260.3,2,    261.0,2,    14.69,2,    18.45,2,     1.02,2,   2314.8,2,   7.7380,2,    25.00
  35TH20080610, OVIDE,    16,  1,     14,2,20080615,0738, 40.5530, -12.6380, 5294,   1790.4,   4.5300,  35.0880,2,  35.0890,2,    254.2,2,    259.1,2,    12.84,2,    18.88,3,     1.02,2,   2317.6,2,   7.7380,2,    25.00
  35TH20080610, OVIDE,    16,  1,     15,2,20080615,0738, 40.5530, -12.6380, 5294,   1487.8,   7.5230,  35.6020,2,  35.6030,2,    216.4,2,    216.1,2,    11.31,2,    17.56,2,     0.95,2,   2353.2,2,   7.7590,2,    25.00
  35TH20080610, OVIDE,    16,  1,     16,2,20080615,0738, 40.5530, -12.6380, 5294,   1300.1,   9.0340,  35.8530,2,  35.8540,2,    199.1,2,    200.8,2,    10.18,2,    16.96,2,     0.88,2,   2368.8,2,   7.7700,2,    25.00
  35TH20080610, OVIDE,    16,  1,     17,2,20080615,0738, 40.5530, -12.6380, 5294,   1100.5,  10.3580,  36.0370,2,  36.0490,3,    185.7,2,    186.9,2,     9.14,2,    16.41,2,     0.84,2,   2381.3,2,   7.7850,2,    25.00
  35TH20080610, OVIDE,    16,  1,     18,2,20080615,0738, 40.5530, -12.6380, 5294,   1000.0,  10.3690,  35.9450,2,  35.9460,2,    183.6,2,    185.2,2,     8.99,2,    17.19,2,     0.87,2,   2372.8,2,   7.7820,2,    25.00
  35TH20080610, OVIDE,    16,  1,     19,2,20080615,0738, 40.5530, -12.6380, 5294,    879.3,  11.1420,  36.0490,2,-999.0000,3,    181.7,2,    183.0,2,  -999.00,9,  -999.00,9,  -999.00,9,   2377.6,2,   7.7930,2,    25.00
  35TH20080610, OVIDE,    16,  1,     20,2,20080615,0738, 40.5530, -12.6380, 5294,    800.8,  11.3270,  36.0230,2,  36.0240,2,    182.4,2,    182.5,2,     7.82,2,    15.63,2,     0.81,2,   2375.2,2,   7.7930,2,    25.00
  35TH20080610, OVIDE,    16,  1,     21,2,20080615,0738, 40.5530, -12.6380, 5294,    699.7,  11.2970,  35.8840,2,  35.8890,2,    184.0,2,    184.1,2,     7.42,2,    16.16,2,     0.81,2,   2362.5,2,   7.7890,2,    25.00
  35TH20080610, OVIDE,    16,  1,     22,2,20080615,0738, 40.5530, -12.6380, 5294,    600.6,  11.2780,  35.7320,2,  35.7350,2,    190.8,2,    188.6,2,     6.74,2,    15.62,2,     0.80,2,   -999.0,9,   7.7900,2,    25.00
  35TH20080610, OVIDE,    16,  1,     23,2,20080615,0738, 40.5530, -12.6380, 5294,    494.3,  11.2460,  35.6020,2,  35.6030,2,    210.4,2,    210.3,2,     5.24,2,    14.00,2,     0.69,2,   2338.0,2,   7.8050,2,    25.00
  35TH20080610, OVIDE,    16,  1,     24,2,20080615,0738, 40.5530, -12.6380, 5294,    400.3,  11.5490,  35.6120,2,  35.6100,2,    217.7,2,    218.0,2,     4.43,2,    12.55,2,     0.63,2,   2336.6,2,   7.8260,2,    25.00
  35TH20080610, OVIDE,    16,  1,     25,2,20080615,0738, 40.5530, -12.6380, 5294,    299.8,  11.8990,  35.6480,2,  35.6480,2,    226.4,2,    226.4,2,     3.64,2,    11.35,2,     0.55,2,   -999.0,9,   7.8240,2,    25.00
  35TH20080610, OVIDE,    16,  1,     26,2,20080615,0738, 40.5530, -12.6380, 5294,    201.6,  12.5920,  35.7320,2,  35.7310,2,    233.8,2,    226.2,3,     3.04,2,     9.47,2,     0.49,2,   2342.6,2,   7.8420,2,    25.00
  35TH20080610, OVIDE,    16,  1,     27,2,20080615,0738, 40.5530, -12.6380, 5294,     98.4,  13.6960,  35.8870,2,  35.8860,2,    242.6,2,    241.5,2,     1.80,2,     4.75,2,     0.23,2,   -999.0,9,   7.8900,2,    25.00
  35TH20080610, OVIDE,    16,  1,     28,2,20080615,0738, 40.5530, -12.6380, 5294,     76.1,  13.9010,  35.9210,2,  35.9190,2,    242.2,2,    241.6,2,     1.67,2,     3.99,2,     0.21,2,   2355.8,2,   7.8940,2,    25.00
  35TH20080610, OVIDE,    16,  1,     29,2,20080615,0738, 40.5530, -12.6380, 5294,     50.4,  14.0780,  35.9420,2,  35.9430,2,    251.8,2,    241.8,3,     1.63,2,     3.58,2,     0.19,2,   -999.0,9,   7.8970,2,    25.00
  35TH20080610, OVIDE,    16,  1,     30,2,20080615,0738, 40.5530, -12.6380, 5294,      3.6,  17.7330,  35.9950,2,  35.9990,2,    244.2,2,    244.0,2,     1.12,2,     0.00,2,     0.02,2,   2362.9,2,   7.9870,2,    25.00