BOTTLE,20140930PRINUNIVRMK
EXPOCODE,SECT_ID,STNNBR,CASTNO,BTLNBR,BTLNBR_FLAG_W,DATE,TIME,LATITUDE,LONGITUDE,DEPTH,CTDPRS,CTDTMP,CTDSAL,CTDSAL_FLAG_W,SALNTY,SALNTY_FLAG_W,CTDOXY,CTDOXY_FLAG_W,OXYGEN,OXYGEN_FLAG_W,SILCAT,SILCAT_FLAG_W,NITRAT,NITRAT_FLAG_W,PHSPHT,PHSPHT_FLAG_W,ALKALI,ALKALI_FLAG_W,PH_SWS,PH_SWS_FLAG_W,PH_TMP
,,,,,,,,,,METERS,DBAR,ITS-90,PSS-78,,PSS-78,,UMOL/KG,,UMOL/KG,,UMOL/KG,,UMOL/KG,,UMOL/KG,,UMOL/KG,,,,DEG C
  35TH20080610, OVIDE,    47,  1,      3,2,20080623,0851, 51.0280, -23.2000, 3908,   3977.6,   2.6020,  34.9180,2,  34.9160,2,    245.1,2,    245.3,2,    42.47,2,    21.77,2,     1.28,2,   -999.0,9,   7.7290,2,    25.00
  35TH20080610, OVIDE,    47,  1,      4,2,20080623,0851, 51.0280, -23.2000, 3908,   3750.8,   2.6330,  34.9220,2,  34.9220,2,    248.2,2,    248.6,2,    39.24,2,    21.28,2,     1.29,2,   -999.0,9,   7.7270,2,    25.00
  35TH20080610, OVIDE,    47,  1,      5,2,20080623,0851, 51.0280, -23.2000, 3908,   3500.8,   2.6870,  34.9300,2,  34.9280,2,    253.3,2,    253.6,2,    35.00,2,    20.61,2,     1.24,2,   -999.0,9,   7.7300,2,    25.00
  35TH20080610, OVIDE,    47,  1,      6,2,20080623,0851, 51.0280, -23.2000, 3908,   3249.5,   2.7820,  34.9410,2,  34.9400,2,    261.6,2,    262.1,2,    27.67,2,    19.09,2,     1.13,2,   -999.0,9,   7.7270,2,    25.00
  35TH20080610, OVIDE,    47,  1,      7,2,20080623,0851, 51.0280, -23.2000, 3908,   3000.1,   2.8870,  34.9450,2,  34.9450,2,    268.2,2,    267.7,2,    21.89,2,    18.39,2,     1.07,2,   -999.0,9,   7.7280,2,    25.00
  35TH20080610, OVIDE,    47,  1,      8,2,20080623,0851, 51.0280, -23.2000, 3908,   2749.0,   2.9740,  34.9400,2,  34.9390,2,    271.3,2,    271.1,2,    17.58,2,    17.98,2,     1.06,2,   -999.0,9,   7.7290,2,    25.00
  35TH20080610, OVIDE,    47,  1,      9,2,20080623,0851, 51.0280, -23.2000, 3908,   2748.8,   2.9740,  34.9390,2,  34.9390,2,    271.3,2,    272.9,2,    17.57,2,    17.99,2,     1.06,2,   -999.0,9,-999.0000,9,  -999.00
  35TH20080610, OVIDE,    47,  1,     10,2,20080623,0851, 51.0280, -23.2000, 3908,   2500.5,   3.0810,  34.9270,2,  34.9270,2,    277.4,2,    277.1,2,    13.91,2,    17.21,2,     1.01,2,   -999.0,9,   7.7270,2,    25.00
  35TH20080610, OVIDE,    47,  1,     11,2,20080623,0851, 51.0280, -23.2000, 3908,   2249.0,   3.1740,  34.9120,2,  34.9090,2,    279.4,2,    280.4,2,    12.98,2,    17.74,2,     1.02,2,   -999.0,9,   7.7290,2,    25.00
  35TH20080610, OVIDE,    47,  1,     12,2,20080623,0851, 51.0280, -23.2000, 3908,   2001.1,   3.2880,  34.9040,2,  34.9020,2,    280.5,2,    280.1,2,    11.85,2,    17.36,2,     1.01,2,   -999.0,9,   7.7290,2,    25.00
  35TH20080610, OVIDE,    47,  1,     13,2,20080623,0851, 51.0280, -23.2000, 3908,   1800.4,   3.3950,  34.9020,2,  34.9030,2,    279.6,2,    279.6,2,    11.52,2,    17.85,2,     1.03,2,   -999.0,9,   7.7240,2,    25.00
  35TH20080610, OVIDE,    47,  1,     14,2,20080623,0851, 51.0280, -23.2000, 3908,   1601.4,   3.5290,  34.9040,2,  34.9030,2,    278.2,2,    277.1,2,    11.18,2,    17.95,2,     1.02,2,   -999.0,9,   7.7230,2,    25.00
  35TH20080610, OVIDE,    47,  1,     15,2,20080623,0851, 51.0280, -23.2000, 3908,   1399.6,   3.6500,  34.9030,2,  34.9030,2,    277.4,2,    277.5,2,    10.77,2,    18.08,2,     1.01,2,   -999.0,9,   7.7200,2,    25.00
  35TH20080610, OVIDE,    47,  1,     16,2,20080623,0851, 51.0280, -23.2000, 3908,   1199.6,   3.7990,  34.9050,2,  34.9050,2,    277.1,2,    277.2,2,    10.36,2,    17.89,2,     1.01,2,   -999.0,9,   7.7190,2,    25.00
  35TH20080610, OVIDE,    47,  1,     17,2,20080623,0851, 51.0280, -23.2000, 3908,   1000.9,   3.9850,  34.9110,2,  34.9130,2,    274.4,2,    273.4,2,    10.15,2,    17.82,2,     0.99,2,   -999.0,9,   7.7140,2,    25.00
  35TH20080610, OVIDE,    47,  1,     18,2,20080623,0851, 51.0280, -23.2000, 3908,    901.7,   4.1460,  34.9180,2,  34.9200,2,    270.8,2,    269.4,2,    10.25,2,    17.85,2,     1.01,2,   -999.0,9,   7.7160,2,    25.00
  35TH20080610, OVIDE,    47,  1,     19,2,20080623,0851, 51.0280, -23.2000, 3908,    800.3,   4.3410,  34.9290,2,  34.9300,2,    265.2,2,    265.1,2,    10.23,2,    17.97,2,     1.03,2,   -999.0,9,   7.7110,2,    25.00
  35TH20080610, OVIDE,    47,  1,     20,2,20080623,0851, 51.0280, -23.2000, 3908,    700.5,   4.6810,  34.9490,2,  34.9500,2,    255.2,2,    256.2,2,    10.46,2,    18.54,2,     1.04,2,   -999.0,9,   7.7080,2,    25.00
  35TH20080610, OVIDE,    47,  1,     21,2,20080623,0851, 51.0280, -23.2000, 3908,    600.5,   5.2340,  34.9880,2,  34.9890,2,    240.2,2,    241.9,2,    10.78,2,    18.90,2,     1.08,2,   -999.0,9,   7.7060,2,    25.00
  35TH20080610, OVIDE,    47,  1,     22,2,20080623,0851, 51.0280, -23.2000, 3908,    499.4,   5.6870,  34.9860,2,  34.9880,2,    225.6,2,    229.9,2,    11.00,2,    19.57,2,     1.10,2,   -999.0,9,   7.7010,2,    25.00
  35TH20080610, OVIDE,    47,  1,     23,2,20080623,0851, 51.0280, -23.2000, 3908,    400.9,   6.3660,  34.9640,2,  34.9660,2,    224.9,2,    225.3,2,    10.63,2,    19.52,2,     1.11,2,   -999.0,9,   7.7030,2,    25.00
  35TH20080610, OVIDE,    47,  1,     24,2,20080623,0851, 51.0280, -23.2000, 3908,    299.9,   7.5720,  35.0120,2,  35.0080,2,    236.0,2,    233.8,2,     9.15,2,    17.90,2,     1.07,2,   -999.0,9,   7.7290,2,    25.00
  35TH20080610, OVIDE,    47,  1,     25,2,20080623,0851, 51.0280, -23.2000, 3908,    200.0,   8.9980,  35.1760,2,  35.1650,3,    253.2,2,    250.2,2,     6.94,2,    15.18,2,     0.84,2,   -999.0,9,   7.7820,2,    25.00
  35TH20080610, OVIDE,    47,  1,     26,2,20080623,0851, 51.0280, -23.2000, 3908,    144.7,   9.6110,  35.2500,2,  35.2420,3,    251.7,2,    252.3,2,     4.92,2,    13.56,2,     0.76,2,   -999.0,9,   7.8030,2,    25.00
  35TH20080610, OVIDE,    47,  1,     27,2,20080623,0851, 51.0280, -23.2000, 3908,    100.8,  10.0740,  35.3140,2,  35.3210,3,    260.3,2,    257.2,2,     3.23,2,    12.06,2,     0.67,2,   -999.0,9,   7.8280,2,    25.00
  35TH20080610, OVIDE,    47,  1,     28,2,20080623,0851, 51.0280, -23.2000, 3908,     54.7,  10.8290,  35.3420,2,  35.3400,2,    274.8,2,    259.4,3,     2.12,2,     9.44,2,     0.56,2,   -999.0,9,   7.8530,2,    25.00
  35TH20080610, OVIDE,    47,  1,     29,2,20080623,0851, 51.0280, -23.2000, 3908,      4.0,  13.9340,  35.3800,2,  35.3800,2,    267.7,2,    279.8,3,     0.35,2,     2.75,2,     0.17,2,   -999.0,9,   7.9530,2,    25.00
  35TH20080610, OVIDE,    48,  1,      3,2,20080623,1401, 51.4020, -23.4850, 3222,   3271.7,   2.6760,  34.9330,2,  34.9310,2,    255.6,2,   -999.0,3,  -999.00,9,    20.57,2,     1.23,2,   2334.9,2,   7.7260,2,    25.00
  35TH20080610, OVIDE,    48,  1,      4,2,20080623,1401, 51.4020, -23.4850, 3222,   3199.3,   2.7070,  34.9370,2,  34.9350,2,    257.4,2,    257.3,2,  -999.00,9,    19.48,2,     1.17,2,   2332.1,2,   7.7300,2,    25.00
  35TH20080610, OVIDE,    48,  1,      5,2,20080623,1401, 51.4020, -23.4850, 3222,   3150.0,   2.7190,  34.9370,2,  34.9340,2,    258.6,2,    258.1,2,  -999.00,9,    19.88,2,     1.16,2,   2331.2,2,   7.7300,2,    25.00
  35TH20080610, OVIDE,    48,  1,      6,2,20080623,1401, 51.4020, -23.4850, 3222,   3102.0,   2.7410,  34.9390,2,  34.9290,3,    260.6,2,    259.9,2,  -999.00,9,    18.92,2,     1.15,2,   2328.3,2,   7.7290,2,    25.00
  35TH20080610, OVIDE,    48,  1,      7,2,20080623,1401, 51.4020, -23.4850, 3222,   2749.8,   2.9230,  34.9460,2,  34.9420,2,    271.9,2,   -999.0,3,    17.42,2,    17.13,2,     1.03,2,   2314.8,2,   7.7280,2,    25.00
  35TH20080610, OVIDE,    48,  1,      8,2,20080623,1401, 51.4020, -23.4850, 3222,   2502.5,   3.0290,  34.9360,2,  34.9220,3,    276.1,2,    275.5,2,    14.45,2,    16.62,2,     1.01,2,   2309.5,2,   7.7290,2,    25.00
  35TH20080610, OVIDE,    48,  1,      9,2,20080623,1401, 51.4020, -23.4850, 3222,   2253.4,   3.1160,  34.9190,2,  34.9160,2,    278.1,2,    277.8,2,    13.59,2,    17.26,2,     1.00,2,   2307.5,2,   7.7280,2,    25.00
  35TH20080610, OVIDE,    48,  1,     10,2,20080623,1401, 51.4020, -23.4850, 3222,   2250.9,   3.1150,  34.9200,2,  34.9190,2,    278.1,2,    277.8,2,    13.56,2,    17.42,2,     1.01,2,   -999.0,9,-999.0000,9,  -999.00
  35TH20080610, OVIDE,    48,  1,     11,2,20080623,1401, 51.4020, -23.4850, 3222,   2001.5,   3.2380,  34.9050,2,  34.9030,2,    280.5,2,    280.2,2,    12.09,2,    17.63,2,     1.02,2,   2302.9,2,   7.7280,2,    25.00
  35TH20080610, OVIDE,    48,  1,     12,2,20080623,1401, 51.4020, -23.4850, 3222,   1802.0,   3.3660,  34.9020,2,  34.9000,2,    279.9,2,    279.2,2,    11.57,2,    17.56,2,     1.02,2,   2304.1,2,   7.7250,2,    25.00
  35TH20080610, OVIDE,    48,  1,     13,2,20080623,1401, 51.4020, -23.4850, 3222,   1599.0,   3.5220,  34.9050,2,  34.9040,2,    277.7,2,    276.8,2,    11.32,2,    17.90,2,     1.03,2,   2305.4,2,   7.7220,2,    25.00
  35TH20080610, OVIDE,    48,  1,     14,2,20080623,1401, 51.4020, -23.4850, 3222,   1399.5,   3.6860,  34.9070,2,  34.9070,2,    276.4,2,    275.7,2,    10.74,2,    17.58,2,     1.02,2,   2304.4,2,   7.7200,2,    25.00
  35TH20080610, OVIDE,    48,  1,     15,2,20080623,1401, 51.4020, -23.4850, 3222,   1199.8,   3.8180,  34.9080,2,  34.9030,2,    275.9,2,    275.2,2,    10.30,2,    17.44,2,     1.01,2,   2303.4,2,   7.7150,2,    25.00
  35TH20080610, OVIDE,    48,  1,     16,2,20080623,1401, 51.4020, -23.4850, 3222,   1000.7,   4.1770,  34.9390,2,  34.9380,2,    267.2,2,    267.9,2,    10.31,2,    18.00,2,     1.02,2,   2306.5,2,   7.7140,2,    25.00
  35TH20080610, OVIDE,    48,  1,     17,2,20080623,1401, 51.4020, -23.4850, 3222,    901.2,   4.5160,  34.9760,2,  34.9770,2,    257.3,2,    258.9,2,    10.46,2,    16.92,2,     1.04,2,   2309.4,2,   7.7140,2,    25.00
  35TH20080610, OVIDE,    48,  1,     18,2,20080623,1401, 51.4020, -23.4850, 3222,    799.9,   5.1630,  35.0520,2,  35.0520,2,    248.0,2,    245.8,2,    10.71,2,    18.10,2,     1.07,2,   2314.6,2,   7.7120,2,    25.00
  35TH20080610, OVIDE,    48,  1,     19,2,20080623,1401, 51.4020, -23.4850, 3222,    699.5,   5.9300,  35.1350,2,  35.1370,2,    231.3,2,    231.4,2,    10.75,2,    19.07,2,     1.08,2,   2319.9,2,   7.7160,2,    25.00
  35TH20080610, OVIDE,    48,  1,     20,2,20080623,1401, 51.4020, -23.4850, 3222,    601.5,   5.9610,  35.0760,2,  35.0630,3,    228.3,2,    228.4,2,    10.83,2,    19.16,2,     1.11,2,   2314.8,2,   7.7080,2,    25.00
  35TH20080610, OVIDE,    48,  1,     21,2,20080623,1401, 51.4020, -23.4850, 3222,    499.6,   6.5550,  35.0710,2,  35.0620,3,    214.9,2,    218.6,2,    10.82,2,    19.71,2,     1.13,2,   2315.7,2,   7.7050,2,    25.00
  35TH20080610, OVIDE,    48,  1,     22,2,20080623,1401, 51.4020, -23.4850, 3222,    397.1,   7.7110,  35.1230,2,  35.1190,2,    221.7,2,    209.1,3,    10.12,2,    18.86,2,     1.10,2,   2317.7,2,   7.7160,2,    25.00
  35TH20080610, OVIDE,    48,  1,     23,2,20080623,1401, 51.4020, -23.4850, 3222,    302.6,   8.8470,  35.1860,2,  35.1830,2,    244.7,2,    226.0,3,     8.05,2,    16.48,2,     0.96,2,   -999.0,9,   7.7570,2,    25.00
  35TH20080610, OVIDE,    48,  1,     24,2,20080623,1401, 51.4020, -23.4850, 3222,    201.1,   9.9240,  35.3190,2,  35.3150,2,    244.1,2,    249.5,3,     5.55,2,    13.30,2,     0.76,2,   2325.7,2,   7.8050,2,    25.00
  35TH20080610, OVIDE,    48,  1,     25,2,20080623,1401, 51.4020, -23.4850, 3222,    150.2,  10.2520,  35.3500,2,  35.3480,2,    248.3,2,    242.7,2,     5.62,2,    13.75,2,     0.77,2,   -999.0,9,   7.8060,2,    25.00
  35TH20080610, OVIDE,    48,  1,     26,2,20080623,1401, 51.4020, -23.4850, 3222,    100.6,  10.6710,  35.4130,2,  35.4120,2,    247.9,2,    248.3,2,     4.45,2,    12.17,2,     0.69,2,   2331.4,2,   7.8250,2,    25.00
  35TH20080610, OVIDE,    48,  1,     27,2,20080623,1401, 51.4020, -23.4850, 3222,     53.5,  11.6400,  35.5590,2,  35.5530,3,    245.2,2,    245.8,2,     3.62,2,    10.84,2,     0.60,2,   -999.0,9,   7.8490,2,    25.00
  35TH20080610, OVIDE,    48,  1,     28,2,20080623,1401, 51.4020, -23.4850, 3222,      5.8,  14.1960,  35.4860,2,  35.4790,3,    270.8,2,    269.4,2,     0.29,2,     2.24,2,     0.24,2,   2340.8,2,   7.9670,2,    25.00
  35TH20080610, OVIDE,    49,  1,      3,2,20080623,1855, 51.7710, -23.7850, 3843,   3908.7,   2.6250,  34.9210,2,  34.9190,2,    247.0,2,    246.7,2,    42.09,2,    21.37,2,     1.21,2,   -999.0,9,   7.7320,2,    25.00
  35TH20080610, OVIDE,    49,  1,      4,2,20080623,1855, 51.7710, -23.7850, 3843,   3755.9,   2.6440,  34.9240,2,  34.9230,2,    249.2,2,    248.9,2,    39.95,2,    21.29,2,     1.22,2,   -999.0,9,   7.7300,2,    25.00
  35TH20080610, OVIDE,    49,  1,      5,2,20080623,1855, 51.7710, -23.7850, 3843,   3498.3,   2.7020,  34.9340,2,  34.9310,2,    254.2,2,    255.3,2,    34.96,2,    20.00,2,     1.15,2,   -999.0,9,   7.7290,2,    25.00
  35TH20080610, OVIDE,    49,  1,      6,2,20080623,1855, 51.7710, -23.7850, 3843,   3249.4,   2.7750,  34.9410,2,  34.9380,2,    260.4,2,    259.9,2,    29.68,2,    19.09,2,     1.10,2,   -999.0,9,   7.7280,2,    25.00
  35TH20080610, OVIDE,    49,  1,      7,2,20080623,1855, 51.7710, -23.7850, 3843,   3001.0,   2.8750,  34.9450,2,  34.9430,2,    265.0,2,    267.6,2,    21.14,2,    17.83,2,     1.01,2,   -999.0,9,   7.7300,2,    25.00
  35TH20080610, OVIDE,    49,  1,      8,2,20080623,1855, 51.7710, -23.7850, 3843,   2743.3,   2.9950,  34.9400,2,  34.9370,2,    269.8,2,    269.6,2,    18.92,2,    17.95,2,     1.00,2,   -999.0,9,   7.7300,2,    25.00
  35TH20080610, OVIDE,    49,  1,      9,2,20080623,1855, 51.7710, -23.7850, 3843,   2501.2,   3.1110,  34.9250,2,  34.9160,3,    276.4,2,    278.2,2,    13.98,2,    17.16,2,     0.96,2,   -999.0,9,   7.7320,2,    25.00
  35TH20080610, OVIDE,    49,  1,     10,2,20080623,1855, 51.7710, -23.7850, 3843,   2252.5,   3.2040,  34.9110,2,  34.9090,2,    279.9,2,    279.2,2,    13.30,2,    17.39,2,     0.96,2,   -999.0,9,   7.7300,2,    25.00
  35TH20080610, OVIDE,    49,  1,     11,2,20080623,1855, 51.7710, -23.7850, 3843,   2257.3,   3.2020,  34.9120,2,  34.8970,3,    279.9,2,    279.6,2,    13.22,2,    17.09,2,     0.97,2,   -999.0,9,-999.0000,9,  -999.00
  35TH20080610, OVIDE,    49,  1,     12,2,20080623,1855, 51.7710, -23.7850, 3843,   2000.1,   3.3150,  34.9020,2,  34.8990,2,    280.8,2,    280.3,2,    12.26,2,    17.31,2,     0.97,2,   -999.0,9,   7.7260,2,    25.00
  35TH20080610, OVIDE,    49,  1,     13,2,20080623,1855, 51.7710, -23.7850, 3843,   1801.0,   3.4700,  34.9040,2,  34.9000,2,    279.1,2,    278.8,2,    11.82,2,    17.42,2,     0.97,2,   -999.0,9,   7.7250,2,    25.00
  35TH20080610, OVIDE,    49,  1,     14,2,20080623,1855, 51.7710, -23.7850, 3843,   1599.7,   3.6090,  34.9030,2,  34.9030,2,    278.1,2,    284.8,3,    11.46,2,    17.30,2,     0.97,2,   -999.0,9,   7.7230,2,    25.00
  35TH20080610, OVIDE,    49,  1,     15,2,20080623,1855, 51.7710, -23.7850, 3843,   1400.6,   3.7290,  34.9010,2,  34.9020,2,    278.9,2,    277.5,2,    10.90,2,    16.96,2,     0.97,2,   -999.0,9,   7.7200,2,    25.00
  35TH20080610, OVIDE,    49,  1,     16,2,20080623,1855, 51.7710, -23.7850, 3843,   1201.3,   3.9210,  34.9090,2,  34.9090,2,    276.7,2,    275.9,2,    10.59,2,    17.31,2,     0.96,2,   -999.0,9,   7.7160,2,    25.00
  35TH20080610, OVIDE,    49,  1,     17,2,20080623,1855, 51.7710, -23.7850, 3843,    996.9,   4.1880,  34.9230,2,  34.9230,2,    265.6,2,    269.2,2,    10.52,2,    17.65,2,     0.98,2,   -999.0,9,   7.7170,2,    25.00
  35TH20080610, OVIDE,    49,  1,     18,2,20080623,1855, 51.7710, -23.7850, 3843,    899.9,   4.4830,  34.9440,2,  34.9420,2,    257.0,2,    261.4,2,    10.79,2,    17.74,2,     1.01,2,   -999.0,9,   7.7090,2,    25.00
  35TH20080610, OVIDE,    49,  1,     19,2,20080623,1855, 51.7710, -23.7850, 3843,    800.7,   5.1410,  35.0110,2,  35.0200,3,    247.8,2,    244.5,2,    11.07,2,    18.33,2,     1.02,2,   -999.0,9,   7.7140,2,    25.00
  35TH20080610, OVIDE,    49,  1,     20,2,20080623,1855, 51.7710, -23.7850, 3843,    703.0,   5.9620,  35.0890,2,  35.0860,2,    230.7,2,    230.4,2,    11.41,2,    19.13,2,     1.06,2,   -999.0,9,   7.7100,2,    25.00
  35TH20080610, OVIDE,    49,  1,     21,2,20080623,1855, 51.7710, -23.7850, 3843,    600.4,   6.8020,  35.1180,2,  35.1250,3,    214.0,2,    215.2,2,    11.41,2,    19.53,2,     1.08,2,   -999.0,9,   7.7140,2,    25.00
  35TH20080610, OVIDE,    49,  1,     22,2,20080623,1855, 51.7710, -23.7850, 3843,    498.8,   7.1780,  35.0320,2,  35.0290,2,    213.8,2,    214.5,2,    10.87,2,    19.32,2,     1.06,2,   -999.0,9,   7.7100,2,    25.00
  35TH20080610, OVIDE,    49,  1,     23,2,20080623,1855, 51.7710, -23.7850, 3843,    398.2,   9.0230,  35.2160,2,  35.2100,3,    228.4,2,    223.9,2,     8.38,2,    16.48,2,     0.89,2,   -999.0,9,   7.7430,2,    25.00
  35TH20080610, OVIDE,    49,  1,     24,2,20080623,1855, 51.7710, -23.7850, 3843,    303.3,  10.1170,  35.3760,2,  35.3740,2,    257.8,2,    256.8,2,     5.57,2,    11.58,2,     0.65,2,   -999.0,9,   7.7690,3,    25.00
  35TH20080610, OVIDE,    49,  1,     25,2,20080623,1855, 51.7710, -23.7850, 3843,    202.3,  10.4360,  35.4090,2,  35.4080,2,    248.7,2,    255.2,3,     4.62,2,    12.24,2,     0.62,2,   -999.0,9,   7.8100,3,    25.00
  35TH20080610, OVIDE,    49,  1,     26,2,20080623,1855, 51.7710, -23.7850, 3843,    152.0,  10.6920,  35.4150,2,  35.4110,2,    250.7,2,    269.2,3,     4.26,2,    11.71,2,     0.63,2,   -999.0,9,   7.8220,3,    25.00
  35TH20080610, OVIDE,    49,  1,     27,2,20080623,1855, 51.7710, -23.7850, 3843,    101.1,  11.1100,  35.4720,2,  35.4700,2,    253.3,2,    251.9,2,     2.93,2,    10.70,2,     0.55,2,   -999.0,9,   7.8280,3,    25.00
  35TH20080610, OVIDE,    49,  1,     28,2,20080623,1855, 51.7710, -23.7850, 3843,     57.7,  11.6830,  35.5430,2,  35.5370,3,    253.3,2,    256.8,2,     1.48,2,     8.90,2,     0.47,2,   -999.0,9,   7.8440,3,    25.00
  35TH20080610, OVIDE,    49,  1,     29,2,20080623,1855, 51.7710, -23.7850, 3843,      4.9,  13.7110,  35.5010,2,  35.4990,2,    268.3,2,    266.3,2,     0.46,2,     3.39,2,     0.19,2,   -999.0,9,   7.8740,3,    25.00