BOTTLE,20140930PRINUNIVRMK
EXPOCODE,SECT_ID,STNNBR,CASTNO,BTLNBR,BTLNBR_FLAG_W,DATE,TIME,LATITUDE,LONGITUDE,DEPTH,CTDPRS,CTDTMP,CTDSAL,CTDSAL_FLAG_W,SALNTY,SALNTY_FLAG_W,CTDOXY,CTDOXY_FLAG_W,OXYGEN,OXYGEN_FLAG_W,SILCAT,SILCAT_FLAG_W,NITRAT,NITRAT_FLAG_W,PHSPHT,PHSPHT_FLAG_W,ALKALI,ALKALI_FLAG_W,PH_SWS,PH_SWS_FLAG_W,PH_TMP
,,,,,,,,,,METERS,DBAR,ITS-90,PSS-78,,PSS-78,,UMOL/KG,,UMOL/KG,,UMOL/KG,,UMOL/KG,,UMOL/KG,,UMOL/KG,,,,DEG C
  35TH20080610, OVIDE,    32,  1,      3,2,20080619,1359, 45.4190, -18.7950, 4562,   4647.7,   2.6070,  34.9100,2,  34.9090,2,    242.5,2,    241.6,2,    47.27,2,    22.14,2,     1.33,2,   2357.2,2,   7.7310,2,    25.00
  35TH20080610, OVIDE,    32,  1,      4,2,20080619,1359, 45.4190, -18.7950, 4562,   4000.4,   2.5810,  34.9150,2,  34.9150,2,    243.5,2,    243.6,2,    45.20,2,    21.57,2,     1.30,2,   2350.0,2,   7.7340,2,    25.00
  35TH20080610, OVIDE,    32,  1,      5,2,20080619,1359, 45.4190, -18.7950, 4562,   4000.9,   2.5810,  34.9150,2,  34.9190,2,    243.5,2,    244.1,2,    44.81,2,    21.75,2,     1.29,2,   2349.0,2,   7.7370,2,    25.00
  35TH20080610, OVIDE,    32,  1,      6,2,20080619,1359, 45.4190, -18.7950, 4562,   3748.1,   2.6140,  34.9220,2,  34.9200,2,    245.5,2,    245.6,2,    42.82,2,    21.06,2,     1.25,2,   2349.3,2,   7.7350,2,    25.00
  35TH20080610, OVIDE,    32,  1,      7,2,20080619,1359, 45.4190, -18.7950, 4562,   3499.8,   2.6960,  34.9300,2,  34.9290,2,    250.1,2,    251.3,2,    37.67,2,    19.65,3,     1.19,2,   2340.3,2,   7.7320,2,    25.00
  35TH20080610, OVIDE,    32,  1,      8,2,20080619,1359, 45.4190, -18.7950, 4562,   3250.4,   2.8070,  34.9390,2,  34.9390,2,    255.3,2,    256.4,2,    32.20,2,    19.37,2,     1.13,2,   2331.2,2,   7.7340,2,    25.00
  35TH20080610, OVIDE,    32,  1,      9,2,20080619,1359, 45.4190, -18.7950, 4562,   3000.1,   2.9230,  34.9430,2,  34.9420,2,    260.6,2,    262.2,2,    26.84,2,    18.20,2,     1.05,2,   2323.8,2,   7.7320,2,    25.00
  35TH20080610, OVIDE,    32,  1,     10,2,20080619,1359, 45.4190, -18.7950, 4562,   2749.6,   3.0540,  34.9360,2,  34.9380,2,    268.2,2,    269.2,2,    19.47,2,    17.58,2,     1.02,2,   2312.9,2,   7.7330,2,    25.00
  35TH20080610, OVIDE,    32,  1,     11,2,20080619,1359, 45.4190, -18.7950, 4562,   2500.7,   3.1720,  34.9200,2,  34.9150,2,    274.6,2,    275.2,2,    15.57,2,    17.32,2,     1.00,2,   2308.2,2,   7.7330,2,    25.00
  35TH20080610, OVIDE,    32,  1,     12,2,20080619,1359, 45.4190, -18.7950, 4562,   2249.5,   3.2770,  34.9050,2,  34.9050,2,    279.0,2,    279.0,2,    13.58,2,    17.20,2,     0.98,2,   2303.6,2,   7.7290,2,    25.00
  35TH20080610, OVIDE,    32,  1,     13,2,20080619,1359, 45.4190, -18.7950, 4562,   1999.8,   3.4810,  34.9080,2,  34.9080,2,    277.8,2,    277.3,2,    12.76,2,    17.32,2,     0.99,2,   2305.0,2,   7.7270,2,    25.00
  35TH20080610, OVIDE,    32,  1,     14,2,20080619,1359, 45.4190, -18.7950, 4562,   1800.7,   3.7340,  34.9250,2,  34.9170,3,    273.5,2,    272.4,2,    12.37,2,    17.42,2,     0.99,2,   2305.3,2,   7.7240,2,    25.00
  35TH20080610, OVIDE,    32,  1,     15,2,20080619,1359, 45.4190, -18.7950, 4562,   1598.7,   4.0540,  34.9510,2,  34.9530,2,    269.9,2,    267.4,2,    11.90,2,    17.34,2,     0.97,2,   2306.3,2,   7.7190,2,    25.00
  35TH20080610, OVIDE,    32,  1,     16,2,20080619,1359, 45.4190, -18.7950, 4562,   1400.1,   4.6510,  35.0220,2,  35.0240,2,    257.9,2,    255.6,2,    11.91,2,    17.93,2,     0.99,2,   2309.3,2,   7.7200,2,    25.00
  35TH20080610, OVIDE,    32,  1,     17,2,20080619,1359, 45.4190, -18.7950, 4562,   1202.2,   5.9210,  35.2010,2,  35.2020,2,    234.0,2,    233.3,2,    11.96,2,    17.86,2,     1.00,2,   2321.9,2,   7.7270,2,    25.00
  35TH20080610, OVIDE,    32,  1,     18,2,20080619,1359, 45.4190, -18.7950, 4562,    997.8,   6.8530,  35.2450,2,  35.2460,2,    215.7,2,    217.4,2,    11.77,2,    18.66,2,     1.03,2,   2324.3,2,   7.7240,2,    25.00
  35TH20080610, OVIDE,    32,  1,     19,2,20080619,1359, 45.4190, -18.7950, 4562,    901.9,   7.6460,  35.3100,2,  35.3160,2,    201.4,2,    206.2,2,    11.47,2,    18.53,2,     1.03,2,   2329.2,2,   7.7300,2,    25.00
  35TH20080610, OVIDE,    32,  1,     20,2,20080619,1359, 45.4190, -18.7950, 4562,    799.3,   8.6760,  35.3790,2,  35.3790,2,    191.0,2,    192.8,2,    11.10,2,    18.66,2,     1.02,2,   2330.4,2,   7.7330,2,    25.00
  35TH20080610, OVIDE,    32,  1,     21,2,20080619,1359, 45.4190, -18.7950, 4562,    696.4,   9.1580,  35.3000,2,  35.3000,2,    185.9,2,    186.9,2,    10.83,2,    19.72,2,     1.05,2,   2323.1,2,   7.7320,2,    25.00
  35TH20080610, OVIDE,    32,  1,     22,2,20080619,1359, 45.4190, -18.7950, 4562,    600.8,  10.3820,  35.4300,2,  35.4300,2,    215.5,2,    215.3,2,     7.23,2,    14.84,2,     0.79,2,   -999.0,9,   7.7860,2,    25.00
  35TH20080610, OVIDE,    32,  1,     23,2,20080619,1359, 45.4190, -18.7950, 4562,    499.6,  10.9700,  35.4850,2,  35.4850,2,    233.4,2,    233.4,2,     5.54,2,    12.67,2,     0.65,2,   2331.0,2,   7.8170,2,    25.00
  35TH20080610, OVIDE,    32,  1,     24,2,20080619,1359, 45.4190, -18.7950, 4562,    400.7,  11.3180,  35.5220,2,  35.5220,2,    234.4,2,    236.6,2,     5.00,2,    11.89,2,     0.60,2,   2330.7,2,   7.8290,2,    25.00
  35TH20080610, OVIDE,    32,  1,     25,2,20080619,1359, 45.4190, -18.7950, 4562,    301.6,  11.7710,  35.5620,2,  35.5650,2,    218.2,2,    219.6,2,     5.54,2,    12.71,2,     0.65,2,   -999.0,9,   7.8230,2,    25.00
  35TH20080610, OVIDE,    32,  1,     26,2,20080619,1359, 45.4190, -18.7950, 4562,    201.2,  12.3320,  35.6560,2,  35.6530,2,    248.5,2,    248.0,2,     3.14,2,     8.74,2,     0.42,2,   2336.5,2,   7.8700,2,    25.00
  35TH20080610, OVIDE,    32,  1,     27,2,20080619,1359, 45.4190, -18.7950, 4562,     55.7,  13.8460,  35.7040,2,  35.7050,2,    256.6,2,    257.3,2,     1.46,2,     3.21,2,     0.20,2,   2348.0,2,   7.9310,2,    25.00
  35TH20080610, OVIDE,    32,  1,     28,2,20080619,1359, 45.4190, -18.7950, 4562,     57.0,  13.7380,  35.7150,2,  35.7070,3,    256.3,2,    257.2,2,     1.52,2,     3.40,2,     0.21,2,   -999.0,9,   7.9320,2,    25.00
  35TH20080610, OVIDE,    32,  1,     29,2,20080619,1359, 45.4190, -18.7950, 4562,      4.9,  16.3100,  35.7480,2,  35.7490,2,    258.7,2,    259.6,2,     0.96,2,     0.17,2,     0.02,2,   2349.4,2,   8.0030,2,    25.00
  35TH20080610, OVIDE,    32,  1,     30,2,20080619,1359, 45.4190, -18.7950, 4562,      5.0,  16.3210,  35.7490,2,  35.7490,2,    258.7,2,    259.7,2,     0.97,2,     0.24,2,     0.03,2,   -999.0,9,   8.0050,2,    25.00
  35TH20080610, OVIDE,    33,  1,      3,2,20080619,2003, 45.7940, -19.0860, 4509,   4588.0,   2.6010,  34.9120,2,  34.9090,2,    242.5,2,    242.0,2,    46.15,2,    22.41,2,     1.31,2,   -999.0,9,   7.7320,2,    25.00
  35TH20080610, OVIDE,    33,  1,      4,2,20080619,2003, 45.7940, -19.0860, 4509,   3998.9,   2.5850,  34.9170,2,  34.9130,2,    243.7,2,    244.6,2,    43.87,2,    22.02,2,     1.28,2,   -999.0,9,   7.7330,2,    25.00
  35TH20080610, OVIDE,    33,  1,      5,2,20080619,2003, 45.7940, -19.0860, 4509,   3749.1,   2.6170,  34.9220,2,  34.9220,2,    245.9,2,    246.5,2,    41.22,2,    21.51,2,     1.24,2,   -999.0,9,   7.7330,2,    25.00
  35TH20080610, OVIDE,    33,  1,      6,2,20080619,2003, 45.7940, -19.0860, 4509,   3749.9,   2.6190,  34.9220,2,  34.9190,2,    245.9,2,    246.5,2,    41.38,2,    21.31,2,     1.24,2,   -999.0,9,   7.7330,2,    25.00
  35TH20080610, OVIDE,    33,  1,      7,2,20080619,2003, 45.7940, -19.0860, 4509,   3502.0,   2.6900,  34.9300,2,  34.9280,2,    250.7,2,    251.0,2,    37.12,2,    20.62,2,     1.19,2,   -999.0,9,   7.7310,2,    25.00
  35TH20080610, OVIDE,    33,  1,      8,2,20080619,2003, 45.7940, -19.0860, 4509,   3250.9,   2.8050,  34.9390,2,  34.9360,2,    257.4,2,    259.7,2,    30.58,2,    19.49,2,     1.12,2,   -999.0,9,   7.7330,2,    25.00
  35TH20080610, OVIDE,    33,  1,      9,2,20080619,2003, 45.7940, -19.0860, 4509,   3001.4,   2.9670,  34.9450,2,  34.9430,2,    261.8,2,    262.3,2,    25.48,2,    18.81,2,     1.12,2,   -999.0,9,   7.7310,2,    25.00
  35TH20080610, OVIDE,    33,  1,     10,2,20080619,2003, 45.7940, -19.0860, 4509,   2747.0,   3.0830,  34.9360,2,  34.9330,2,    269.7,2,    279.4,3,    17.58,2,    17.83,2,     1.01,2,   -999.0,9,   7.7310,2,    25.00
  35TH20080610, OVIDE,    33,  1,     11,2,20080619,2003, 45.7940, -19.0860, 4509,   2498.5,   3.1850,  34.9180,2,  34.9170,2,    276.3,2,    275.8,2,    14.33,2,    17.50,2,     0.98,2,   -999.0,9,   7.7310,2,    25.00
  35TH20080610, OVIDE,    33,  1,     12,2,20080619,2003, 45.7940, -19.0860, 4509,   2251.3,   3.3000,  34.9060,2,  34.9040,2,    279.2,2,    278.4,2,    12.73,2,    17.54,2,     0.97,2,   -999.0,9,   7.7280,2,    25.00
  35TH20080610, OVIDE,    33,  1,     13,2,20080619,2003, 45.7940, -19.0860, 4509,   1998.7,   3.4830,  34.9050,2,  34.9060,2,    276.9,2,    277.0,2,    11.87,2,    17.62,2,     0.97,2,   -999.0,9,   7.7260,2,    25.00
  35TH20080610, OVIDE,    33,  1,     14,2,20080619,2003, 45.7940, -19.0860, 4509,   1800.8,   3.6930,  34.9190,2,  34.9170,2,    274.2,2,    274.4,2,    11.54,2,    17.66,2,     0.98,2,   -999.0,9,   7.7220,2,    25.00
  35TH20080610, OVIDE,    33,  1,     15,2,20080619,2003, 45.7940, -19.0860, 4509,   1598.9,   4.0690,  34.9550,2,  34.9510,2,    269.6,2,    267.9,2,    11.18,2,    17.84,2,     0.98,2,   -999.0,9,   7.7180,2,    25.00
  35TH20080610, OVIDE,    33,  1,     16,2,20080619,2003, 45.7940, -19.0860, 4509,   1399.5,   4.7400,  35.0330,2,  35.0320,2,    257.1,2,    262.1,2,    11.14,2,    18.07,2,     0.98,2,   -999.0,9,   7.7180,2,    25.00
  35TH20080610, OVIDE,    33,  1,     17,2,20080619,2003, 45.7940, -19.0860, 4509,   1200.2,   5.8920,  35.1690,2,  35.1680,2,    235.5,2,    234.1,2,    11.11,2,    18.45,2,     1.00,2,   -999.0,9,   7.7240,2,    25.00
  35TH20080610, OVIDE,    33,  1,     18,2,20080619,2003, 45.7940, -19.0860, 4509,    998.8,   7.9960,  35.4210,2,  35.4180,2,    205.2,2,    203.1,2,    10.75,2,    18.48,2,     0.98,2,   -999.0,9,   7.7360,2,    25.00
  35TH20080610, OVIDE,    33,  1,     19,2,20080619,2003, 45.7940, -19.0860, 4509,    900.5,   8.3040,  35.3780,2,  35.3810,2,    194.4,2,    197.6,2,    10.67,2,    18.86,2,     1.02,2,   -999.0,9,   7.7350,2,    25.00
  35TH20080610, OVIDE,    33,  1,     20,2,20080619,2003, 45.7940, -19.0860, 4509,    800.0,   8.8970,  35.3330,2,  35.3320,2,    189.4,2,    190.0,2,    10.27,2,    19.02,2,     1.03,2,   -999.0,9,   7.7320,2,    25.00
  35TH20080610, OVIDE,    33,  1,     21,2,20080619,2003, 45.7940, -19.0860, 4509,    701.0,   9.8770,  35.3950,2,  35.3950,2,    196.1,2,    199.8,2,     8.45,2,    17.16,2,     0.90,2,   -999.0,9,   7.7480,2,    25.00
  35TH20080610, OVIDE,    33,  1,     22,2,20080619,2003, 45.7940, -19.0860, 4509,    601.3,  10.4950,  35.4140,2,  35.4130,2,    214.1,2,    207.3,2,     7.20,2,    15.68,2,     0.82,2,   -999.0,9,   7.7760,2,    25.00
  35TH20080610, OVIDE,    33,  1,     23,2,20080619,2003, 45.7940, -19.0860, 4509,    500.9,  11.2410,  35.5070,2,  35.5070,2,    221.7,2,    223.6,2,     5.40,2,    13.00,2,     0.66,2,   -999.0,9,   7.8220,2,    25.00
  35TH20080610, OVIDE,    33,  1,     24,2,20080619,2003, 45.7940, -19.0860, 4509,    400.8,  11.7770,  35.5780,2,  35.5770,2,    245.6,2,    246.8,2,     3.99,2,    10.20,2,     0.51,2,   -999.0,9,   7.8360,2,    25.00
  35TH20080610, OVIDE,    33,  1,     25,2,20080619,2003, 45.7940, -19.0860, 4509,    300.1,  12.2200,  35.6300,2,  35.6270,2,    230.9,2,    227.4,2,     4.44,2,    11.08,2,     0.56,2,   -999.0,9,   7.8340,2,    25.00
  35TH20080610, OVIDE,    33,  1,     26,2,20080619,2003, 45.7940, -19.0860, 4509,    200.1,  12.7070,  35.7040,2,  35.7000,2,    242.3,2,    236.8,2,     3.56,2,     9.31,2,     0.46,2,   -999.0,9,   7.8710,2,    25.00
  35TH20080610, OVIDE,    33,  1,     27,2,20080619,2003, 45.7940, -19.0860, 4509,    149.7,  12.9370,  35.7340,2,  35.7330,2,    241.9,2,    242.8,2,     3.04,2,     8.25,2,     0.40,2,   -999.0,9,   7.8840,2,    25.00
  35TH20080610, OVIDE,    33,  1,     28,2,20080619,2003, 45.7940, -19.0860, 4509,     99.6,  13.4100,  35.8000,2,  35.7970,2,    247.9,2,    302.9,3,     2.67,2,     7.13,2,     0.34,2,   -999.0,9,   7.9050,2,    25.00
  35TH20080610, OVIDE,    33,  1,     29,2,20080619,2003, 45.7940, -19.0860, 4509,     56.0,  14.0780,  35.8160,2,  35.8170,2,    250.7,2,    248.5,2,     1.89,2,     4.34,2,     0.24,2,   -999.0,9,   7.9340,2,    25.00
  35TH20080610, OVIDE,    33,  1,     30,2,20080619,2003, 45.7940, -19.0860, 4509,      3.1,  16.7510,  35.7870,2,  35.7880,2,    256.9,2,    254.8,2,     1.11,2,     0.02,2,     0.02,2,   -999.0,9,   8.0150,2,    25.00
  35TH20080610, OVIDE,    34,  1,      3,2,20080620,0204, 46.1700, -19.3840, 4597,   4683.4,   2.6080,  34.9100,2,  34.9110,2,    242.5,2,    241.2,2,    46.43,2,    22.13,2,     1.31,2,   2354.6,2,   7.7320,2,    25.00
  35TH20080610, OVIDE,    34,  1,      4,2,20080620,0204, 46.1700, -19.3840, 4597,   3998.6,   2.5820,  34.9160,2,  34.9150,2,    243.7,2,    243.4,2,    44.06,2,    21.52,2,     1.29,2,   2349.3,2,   7.7330,2,    25.00
  35TH20080610, OVIDE,    34,  1,      5,2,20080620,0204, 46.1700, -19.3840, 4597,   3749.7,   2.6150,  34.9220,2,-999.0000,3,    246.0,2,    246.0,2,    41.13,2,    21.14,2,     1.26,2,   2346.5,2,   7.7320,2,    25.00
  35TH20080610, OVIDE,    34,  1,      6,2,20080620,0204, 46.1700, -19.3840, 4597,   3500.2,   2.6890,  34.9290,2,  34.9260,2,    250.1,2,    250.1,2,    37.17,2,    20.20,2,     1.20,2,   2341.7,2,   7.7300,2,    25.00
  35TH20080610, OVIDE,    34,  1,      7,2,20080620,0204, 46.1700, -19.3840, 4597,   3501.7,   2.6890,  34.9300,2,  34.9290,2,    250.1,2,    250.5,2,    36.98,2,    19.97,2,     1.20,2,   -999.0,9,   7.7300,2,    25.00
  35TH20080610, OVIDE,    34,  1,      8,2,20080620,0204, 46.1700, -19.3840, 4597,   3251.5,   2.8020,  34.9400,2,  34.9390,2,    256.1,2,    256.0,2,    31.25,2,    19.31,2,     1.13,2,   2333.5,2,   7.7320,2,    25.00
  35TH20080610, OVIDE,    34,  1,      9,2,20080620,0204, 46.1700, -19.3840, 4597,   2998.7,   2.9240,  34.9430,2,  34.9410,2,    261.9,2,    261.7,2,    25.86,2,    18.31,2,     1.06,2,   2325.1,2,   7.7310,2,    25.00
  35TH20080610, OVIDE,    34,  1,     10,2,20080620,0204, 46.1700, -19.3840, 4597,   2751.4,   3.0670,  34.9360,2,  34.9380,2,    268.8,2,    268.8,2,    18.51,2,    17.69,2,     1.01,2,   2316.2,2,   7.7300,2,    25.00
  35TH20080610, OVIDE,    34,  1,     11,2,20080620,0204, 46.1700, -19.3840, 4597,   2501.3,   3.1730,  34.9190,2,  34.9200,2,    275.5,2,    274.9,2,    15.04,2,    17.22,2,     1.01,2,   2306.1,2,   7.7300,2,    25.00
  35TH20080610, OVIDE,    34,  1,     12,2,20080620,0204, 46.1700, -19.3840, 4597,   2249.3,   3.2980,  34.9050,2,  34.9040,2,    278.9,2,    278.6,2,    12.94,2,    17.21,2,     0.99,2,   2304.6,2,   7.7270,2,    25.00
  35TH20080610, OVIDE,    34,  1,     13,2,20080620,0204, 46.1700, -19.3840, 4597,   1999.1,   3.4560,  34.9040,2,  34.9080,2,    277.8,2,    277.2,2,    12.29,2,    17.29,2,     0.99,2,   2304.9,2,   7.7250,2,    25.00
  35TH20080610, OVIDE,    34,  1,     14,2,20080620,0204, 46.1700, -19.3840, 4597,   1797.7,   3.6860,  34.9180,2,  34.9200,2,    274.4,2,    272.5,2,    11.91,2,    17.12,2,     1.01,2,   2305.8,2,   7.7200,2,    25.00
  35TH20080610, OVIDE,    34,  1,     15,2,20080620,0204, 46.1700, -19.3840, 4597,   1598.4,   3.9510,  34.9320,2,  34.9340,2,    270.8,2,    269.4,2,    11.42,2,    16.83,2,     0.99,2,   2306.2,2,   7.7170,2,    25.00
  35TH20080610, OVIDE,    34,  1,     16,2,20080620,0204, 46.1700, -19.3840, 4597,   1399.1,   4.4240,  34.9740,2,  34.9760,2,    261.1,2,    260.2,2,    11.28,2,    17.59,2,     1.00,2,   2309.4,2,   7.7160,2,    25.00
  35TH20080610, OVIDE,    34,  1,     17,2,20080620,0204, 46.1700, -19.3840, 4597,   1199.0,   5.6440,  35.1260,2,  35.1280,2,    236.4,2,    237.5,2,    11.46,2,    17.63,2,     1.02,2,   2320.5,2,   7.7190,2,    25.00
  35TH20080610, OVIDE,    34,  1,     18,2,20080620,0204, 46.1700, -19.3840, 4597,    998.7,   7.0220,  35.2290,2,  35.2290,2,    212.0,2,    211.1,2,    11.55,2,    18.69,2,     1.06,2,   2327.2,2,   7.7190,2,    25.00
  35TH20080610, OVIDE,    34,  1,     19,2,20080620,0204, 46.1700, -19.3840, 4597,    900.6,   7.5760,  35.2390,2,  35.2470,3,    200.6,2,    201.5,2,    11.50,2,    19.17,2,     1.07,2,   2328.2,2,   7.7190,2,    25.00
  35TH20080610, OVIDE,    34,  1,     20,2,20080620,0204, 46.1700, -19.3840, 4597,    800.5,   8.1140,  35.2170,2,  35.2190,2,    190.3,2,    191.5,2,    11.44,2,    19.60,2,     1.10,2,   2325.4,2,   7.7140,2,    25.00
  35TH20080610, OVIDE,    34,  1,     21,2,20080620,0204, 46.1700, -19.3840, 4597,    701.0,   9.0410,  35.2170,2,  35.2180,2,    195.8,2,    198.2,2,     9.95,2,    18.07,2,     1.00,2,   2323.6,2,   7.7350,2,    25.00
  35TH20080610, OVIDE,    34,  1,     22,2,20080620,0204, 46.1700, -19.3840, 4597,    598.1,  10.6260,  35.4360,2,  35.4360,2,    197.8,2,    194.3,2,     7.96,2,    16.22,2,     0.85,2,   2333.5,2,   7.7670,2,    25.00
  35TH20080610, OVIDE,    34,  1,     23,2,20080620,0204, 46.1700, -19.3840, 4597,    500.9,  11.0960,  35.4660,2,  35.4620,2,    238.9,2,    234.1,2,     5.96,2,    12.78,2,     0.67,2,   2333.7,2,   7.8180,2,    25.00
  35TH20080610, OVIDE,    34,  1,     24,2,20080620,0204, 46.1700, -19.3840, 4597,    397.9,  11.6610,  35.5430,2,  35.5420,2,    229.5,2,    228.8,2,     5.27,2,    12.04,2,     0.62,2,   2337.4,2,   7.8280,2,    25.00
  35TH20080610, OVIDE,    34,  1,     25,2,20080620,0204, 46.1700, -19.3840, 4597,    299.5,  12.2070,  35.6230,2,  35.6240,2,    240.3,2,    233.7,2,     4.55,2,    10.53,2,     0.53,2,   -999.0,9,   7.8310,2,    25.00
  35TH20080610, OVIDE,    34,  1,     26,2,20080620,0204, 46.1700, -19.3840, 4597,    199.6,  12.6430,  35.6840,2,  35.6770,3,    231.9,2,    228.0,2,     4.31,2,    10.30,2,     0.51,2,   2344.7,2,   7.8570,2,    25.00
  35TH20080610, OVIDE,    34,  1,     27,2,20080620,0204, 46.1700, -19.3840, 4597,    151.3,  12.9420,  35.7360,2,  35.7350,2,    243.6,2,    239.0,2,     3.36,2,     8.61,2,     0.42,2,   -999.0,9,   7.8740,2,    25.00
  35TH20080610, OVIDE,    34,  1,     28,2,20080620,0204, 46.1700, -19.3840, 4597,     99.3,  13.1670,  35.7660,2,  35.7650,2,    243.9,2,    243.7,2,     2.85,2,     7.73,2,     0.37,2,   2349.0,2,   7.8870,2,    25.00
  35TH20080610, OVIDE,    34,  1,     29,2,20080620,0204, 46.1700, -19.3840, 4597,     56.8,  13.7100,  35.7670,2,  35.7710,2,    244.8,2,    247.8,2,     2.05,2,     4.94,2,     0.28,2,   -999.0,9,   7.9130,2,    25.00
  35TH20080610, OVIDE,    34,  1,     30,2,20080620,0204, 46.1700, -19.3840, 4597,      7.2,  16.6230,  35.7490,2,  35.7520,2,    255.3,2,    253.6,2,     1.19,2,     0.16,2,     0.04,2,   2352.4,2,   8.0070,2,    25.00