BOTTLE,20140930PRINUNIVRMK
EXPOCODE,SECT_ID,STNNBR,CASTNO,BTLNBR,BTLNBR_FLAG_W,DATE,TIME,LATITUDE,LONGITUDE,DEPTH,CTDPRS,CTDTMP,CTDSAL,CTDSAL_FLAG_W,SALNTY,SALNTY_FLAG_W,CTDOXY,CTDOXY_FLAG_W,OXYGEN,OXYGEN_FLAG_W,SILCAT,SILCAT_FLAG_W,NITRAT,NITRAT_FLAG_W,PHSPHT,PHSPHT_FLAG_W,ALKALI,ALKALI_FLAG_W,PH_SWS,PH_SWS_FLAG_W,PH_TMP
,,,,,,,,,,METERS,DBAR,ITS-90,PSS-78,,PSS-78,,UMOL/KG,,UMOL/KG,,UMOL/KG,,UMOL/KG,,UMOL/KG,,UMOL/KG,,,,DEG C
  35TH20080610, OVIDE,    74,  1,      3,2,20080629,0933, 59.0410, -33.1930, 2272,   2302.6,   3.2270,  34.9500,2,  34.9510,2,    279.0,2,    281.5,2,    11.23,2,    16.18,2,     0.90,2,   2309.7,2,   7.7230,2,    25.00
  35TH20080610, OVIDE,    74,  1,      4,2,20080629,0933, 59.0410, -33.1930, 2272,   2200.5,   3.2470,  34.9510,2,  34.9520,2,    278.8,2,    323.2,3,    11.10,2,    15.79,2,     0.89,2,   2309.1,2,   7.7230,2,    25.00
  35TH20080610, OVIDE,    74,  1,      5,2,20080629,0933, 59.0410, -33.1930, 2272,   1998.2,   3.3150,  34.9540,2,  34.9540,2,    278.5,2,    278.2,2,    10.69,2,    16.10,2,     0.91,2,   2306.5,2,   7.7240,2,    25.00
  35TH20080610, OVIDE,    74,  1,      6,2,20080629,0933, 59.0410, -33.1930, 2272,   1798.9,   3.3630,  34.9510,2,  34.9470,3,    279.0,2,    278.4,2,    10.46,2,    16.52,2,     0.92,2,   2308.8,2,   7.7240,2,    25.00
  35TH20080610, OVIDE,    74,  1,      7,2,20080629,0933, 59.0410, -33.1930, 2272,   1600.6,   3.4190,  34.9290,2,  34.9300,2,    280.0,2,    294.7,3,    10.22,2,    16.26,2,     0.91,2,   2307.1,2,   7.7220,2,    25.00
  35TH20080610, OVIDE,    74,  1,      8,2,20080629,0933, 59.0410, -33.1930, 2272,   1400.6,   3.5910,  34.9330,2,  34.9340,2,    277.9,2,    277.6,2,     9.85,2,    16.32,2,     0.91,2,   2305.0,2,   7.7190,2,    25.00
  35TH20080610, OVIDE,    74,  1,      9,2,20080629,0933, 59.0410, -33.1930, 2272,   1200.1,   3.7800,  34.9300,2,  34.9310,2,    276.2,2,    286.1,3,     9.71,2,    16.10,2,     0.97,2,   2304.8,2,   7.7190,2,    25.00
  35TH20080610, OVIDE,    74,  1,     10,2,20080629,0933, 59.0410, -33.1930, 2272,   1000.3,   3.7480,  34.8920,2,  34.8940,2,    285.2,2,    287.8,2,     8.94,2,    16.08,2,     0.92,2,   2304.5,2,   7.7160,2,    25.00
  35TH20080610, OVIDE,    74,  1,     11,2,20080629,0933, 59.0410, -33.1930, 2272,    898.2,   3.8690,  34.8920,2,  34.8930,2,    291.9,2,    290.4,2,     8.13,2,    15.94,2,     0.90,2,   2305.3,2,   7.7200,2,    25.00
  35TH20080610, OVIDE,    74,  1,     12,2,20080629,0933, 59.0410, -33.1930, 2272,    898.5,   3.8740,  34.8920,2,  34.8920,2,    291.8,2,    292.2,2,     8.12,2,    15.67,2,     0.90,2,   -999.0,9,-999.0000,9,  -999.00
  35TH20080610, OVIDE,    74,  1,     13,2,20080629,0933, 59.0410, -33.1930, 2272,    799.9,   4.0250,  34.9080,2,  34.9070,2,    298.0,2,    305.1,3,     7.73,2,    15.24,2,     0.89,2,   2305.0,2,   7.7270,2,    25.00
  35TH20080610, OVIDE,    74,  1,     14,2,20080629,0933, 59.0410, -33.1930, 2272,    699.9,   4.0480,  34.9060,2,  34.9060,2,    298.4,2,    296.8,2,     7.77,2,    15.38,2,     0.90,2,   2305.5,2,   7.7270,2,    25.00
  35TH20080610, OVIDE,    74,  1,     15,2,20080629,0933, 59.0410, -33.1930, 2272,    599.4,   4.2300,  34.9240,2,  34.9260,2,    294.1,2,    296.2,2,     7.96,2,    15.77,2,     0.90,2,   2305.2,2,   7.7270,2,    25.00
  35TH20080610, OVIDE,    74,  1,     16,2,20080629,0933, 59.0410, -33.1930, 2272,    500.8,   4.3150,  34.9220,2,  34.9230,2,    292.7,2,    312.3,3,     7.95,2,    15.52,2,     0.93,2,   2303.9,2,   7.7260,2,    25.00
  35TH20080610, OVIDE,    74,  1,     17,2,20080629,0933, 59.0410, -33.1930, 2272,    400.9,   4.7370,  34.9530,2,  34.9540,2,    281.9,2,    284.3,2,     8.45,2,    16.13,2,     0.94,2,   2307.5,2,   7.7210,2,    25.00
  35TH20080610, OVIDE,    74,  1,     18,2,20080629,0933, 59.0410, -33.1930, 2272,    299.9,   5.3380,  34.9820,2,  34.9820,2,    267.1,2,    276.2,3,     8.65,2,    16.76,2,     0.96,2,   2307.9,2,   7.7190,2,    25.00
  35TH20080610, OVIDE,    74,  1,     19,2,20080629,0933, 59.0410, -33.1930, 2272,    200.4,   6.0370,  35.0200,2,  35.0220,2,    276.7,2,    281.0,2,     7.40,2,    15.41,2,     0.89,2,   2309.2,2,   7.7430,2,    25.00
  35TH20080610, OVIDE,    74,  1,     20,2,20080629,0933, 59.0410, -33.1930, 2272,    150.0,   6.1850,  35.0130,2,  35.0130,2,    283.1,2,    286.1,2,     6.65,2,    15.11,2,     0.86,2,   2311.3,2,   7.7500,2,    25.00
  35TH20080610, OVIDE,    74,  1,     21,2,20080629,0933, 59.0410, -33.1930, 2272,     87.2,   6.5460,  35.0260,2,  35.0270,2,    286.0,2,    289.2,2,     5.29,2,    14.52,2,     0.81,2,   2311.5,2,   7.7640,2,    25.00
  35TH20080610, OVIDE,    74,  1,     22,2,20080629,0933, 59.0410, -33.1930, 2272,     55.2,   7.0910,  35.0200,2,  35.0230,2,    293.2,2,    298.8,3,     3.60,2,    12.22,2,     0.77,2,   2312.0,2,   7.7870,2,    25.00
  35TH20080610, OVIDE,    74,  1,     23,2,20080629,0933, 59.0410, -33.1930, 2272,      9.7,  10.3750,  35.0690,2,  35.0670,2,    291.0,2,    292.6,2,     1.54,2,     5.16,2,     0.37,2,   2310.5,2,   7.8960,2,    25.00
  35TH20080610, OVIDE,    75,  1,      3,2,20080629,1502, 59.1010, -33.8340, 2279,   2309.5,   2.9580,  34.9350,2,  34.9340,2,    280.4,2,    280.8,2,    11.53,2,    15.64,2,     0.89,2,   -999.0,9,   7.7250,2,    25.00
  35TH20080610, OVIDE,    75,  1,      4,2,20080629,1502, 59.1010, -33.8340, 2279,   1999.6,   3.2900,  34.9480,2,  34.9480,2,    278.9,2,    278.6,2,    10.48,2,    16.16,2,     0.93,2,   -999.0,9,   7.7210,2,    25.00
  35TH20080610, OVIDE,    75,  1,      5,2,20080629,1502, 59.1010, -33.8340, 2279,   1797.3,   3.4050,  34.9440,2,  34.9440,2,    279.1,2,    278.8,2,     9.97,2,    16.42,2,     0.94,2,   -999.0,9,   7.7220,2,    25.00
  35TH20080610, OVIDE,    75,  1,      6,2,20080629,1502, 59.1010, -33.8340, 2279,   1600.7,   3.5050,  34.9390,2,  34.9390,2,    278.6,2,    278.4,2,     9.78,2,    15.79,2,     0.94,2,   -999.0,9,   7.7230,2,    25.00
  35TH20080610, OVIDE,    75,  1,      7,2,20080629,1502, 59.1010, -33.8340, 2279,   1401.0,   3.6930,  34.9510,2,  34.9510,2,    276.3,2,    275.9,2,     9.73,2,    16.39,2,     0.94,2,   -999.0,9,   7.7190,2,    25.00
  35TH20080610, OVIDE,    75,  1,      8,2,20080629,1502, 59.1010, -33.8340, 2279,   1200.4,   3.7330,  34.9370,2,  34.9360,2,    276.9,2,    275.9,2,     9.51,2,    16.54,2,     0.95,2,   -999.0,9,   7.7170,2,    25.00
  35TH20080610, OVIDE,    75,  1,      9,2,20080629,1502, 59.1010, -33.8340, 2279,   1001.2,   3.7700,  34.9080,2,  34.9070,2,    280.8,2,    279.2,2,     9.39,2,    16.87,2,     0.97,2,   -999.0,9,   7.7140,2,    25.00
  35TH20080610, OVIDE,    75,  1,     10,2,20080629,1502, 59.1010, -33.8340, 2279,    899.7,   3.8410,  34.9040,2,  34.9030,2,    282.2,2,    280.7,2,     8.98,2,    16.97,2,     0.95,2,   -999.0,9,   7.7140,2,    25.00
  35TH20080610, OVIDE,    75,  1,     11,2,20080629,1502, 59.1010, -33.8340, 2279,    801.9,   4.0910,  34.9220,2,  34.9220,2,    285.1,2,    283.0,2,     8.39,2,    16.76,2,     0.94,2,   -999.0,9,   7.7180,2,    25.00
  35TH20080610, OVIDE,    75,  1,     12,2,20080629,1502, 59.1010, -33.8340, 2279,    700.5,   4.1380,  34.9190,2,  34.9180,2,    294.4,2,    292.9,2,     7.80,2,    16.18,2,     0.92,2,   -999.0,9,   7.7220,2,    25.00
  35TH20080610, OVIDE,    75,  1,     13,2,20080629,1502, 59.1010, -33.8340, 2279,    601.4,   4.2410,  34.9250,2,  34.9240,2,    293.9,2,    290.2,2,     7.85,2,    16.21,2,     0.92,2,   -999.0,9,   7.7230,2,    25.00
  35TH20080610, OVIDE,    75,  1,     14,2,20080629,1502, 59.1010, -33.8340, 2279,    502.8,   4.4090,  34.9350,2,  34.9360,2,    291.4,2,    291.9,2,     7.67,2,    16.11,2,     0.92,2,   -999.0,9,   7.7340,2,    25.00
  35TH20080610, OVIDE,    75,  1,     15,2,20080629,1502, 59.1010, -33.8340, 2279,    399.6,   5.1080,  35.0140,2,  35.0130,2,    250.9,2,    253.0,2,     9.18,2,    17.32,2,     1.00,2,   -999.0,9,   7.7150,2,    25.00
  35TH20080610, OVIDE,    75,  1,     16,2,20080629,1502, 59.1010, -33.8340, 2279,    301.6,   5.1370,  34.9740,2,  34.9740,2,    275.8,2,    277.3,2,     7.86,2,    16.18,2,     0.95,2,   -999.0,9,   7.7240,2,    25.00
  35TH20080610, OVIDE,    75,  1,     17,2,20080629,1502, 59.1010, -33.8340, 2279,    198.7,   5.5720,  34.9870,2,  34.9850,2,    281.1,2,    282.2,2,     7.32,2,    16.26,2,     0.91,2,   -999.0,9,   7.7360,2,    25.00
  35TH20080610, OVIDE,    75,  1,     18,2,20080629,1502, 59.1010, -33.8340, 2279,    149.9,   5.9280,  35.0090,2,  35.0070,2,    284.5,2,    280.7,2,     6.95,2,    16.04,2,     0.90,2,   -999.0,9,   7.7410,2,    25.00
  35TH20080610, OVIDE,    75,  1,     19,2,20080629,1502, 59.1010, -33.8340, 2279,    100.6,   6.2020,  35.0010,2,  35.0030,2,    291.1,2,    291.0,2,     5.34,2,    14.86,2,     0.83,2,   -999.0,9,   7.7620,2,    25.00
  35TH20080610, OVIDE,    75,  1,     20,2,20080629,1502, 59.1010, -33.8340, 2279,     57.1,   7.1820,  35.0010,2,  35.0020,2,    297.4,2,    295.3,2,     3.05,2,    11.41,2,     0.71,2,   -999.0,9,   7.8030,2,    25.00
  35TH20080610, OVIDE,    75,  1,     21,2,20080629,1502, 59.1010, -33.8340, 2279,      6.0,   9.9870,  34.9670,2,  34.9690,2,    295.5,2,    295.8,2,     1.86,2,     7.65,2,     0.45,2,   -999.0,9,   7.8800,2,    25.00
  35TH20080610, OVIDE,    76,  1,      3,2,20080629,2036, 59.1660, -34.4760, 2467,   2502.9,   3.1110,  34.9410,2,  34.9400,2,    280.1,2,    279.2,2,    13.33,2,    16.34,2,     0.90,2,   2308.1,2,   7.7250,2,    25.00
  35TH20080610, OVIDE,    76,  1,      4,2,20080629,2036, 59.1660, -34.4760, 2467,   2200.1,   3.2530,  34.9520,2,  34.9500,2,    279.0,2,    278.1,2,    12.66,2,    16.55,2,     0.92,2,   2308.8,2,   7.7250,2,    25.00
  35TH20080610, OVIDE,    76,  1,      5,2,20080629,2036, 59.1660, -34.4760, 2467,   1999.3,   3.3100,  34.9430,2,  34.9410,2,    279.8,2,    279.2,2,    12.18,2,    16.74,2,     0.94,2,   2306.6,2,   7.7250,2,    25.00
  35TH20080610, OVIDE,    76,  1,      6,2,20080629,2036, 59.1660, -34.4760, 2467,   1798.5,   3.3820,  34.9310,2,  34.9310,2,    280.1,2,    279.6,2,    11.86,2,    16.82,2,     0.94,2,   2306.2,2,   7.7250,2,    25.00
  35TH20080610, OVIDE,    76,  1,      7,2,20080629,2036, 59.1660, -34.4760, 2467,   1599.8,   3.5450,  34.9310,2,  34.9300,2,    277.9,2,    277.4,2,    11.67,2,    17.12,2,     0.95,2,   2303.5,2,   7.7190,2,    25.00
  35TH20080610, OVIDE,    76,  1,      8,2,20080629,2036, 59.1660, -34.4760, 2467,   1398.5,   3.6730,  34.9210,2,  34.9210,2,    277.8,2,    277.5,2,    11.37,2,    17.45,2,     0.95,2,   2305.0,2,   7.7190,2,    25.00
  35TH20080610, OVIDE,    76,  1,      9,2,20080629,2036, 59.1660, -34.4760, 2467,   1201.6,   3.7380,  34.9040,2,  34.9040,2,    281.0,2,    280.7,2,    10.79,2,    17.23,2,     0.95,2,   2304.3,2,   7.7170,2,    25.00
  35TH20080610, OVIDE,    76,  1,     10,2,20080629,2036, 59.1660, -34.4760, 2467,    999.0,   3.9530,  34.9050,2,  34.9070,2,    288.2,2,    284.5,2,    10.10,2,    17.20,2,     0.93,2,   2303.1,2,   7.7170,2,    25.00
  35TH20080610, OVIDE,    76,  1,     11,2,20080629,2036, 59.1660, -34.4760, 2467,    901.6,   4.0790,  34.9130,2,  34.9130,2,    297.3,2,    293.8,2,     9.40,2,    16.64,2,     0.92,2,   2303.9,2,   7.7260,2,    25.00
  35TH20080610, OVIDE,    76,  1,     12,2,20080629,2036, 59.1660, -34.4760, 2467,    800.7,   4.1430,  34.9170,2,  34.9160,2,    295.7,2,    297.4,2,     9.15,2,    16.41,2,     0.91,2,   2304.5,2,   7.7280,2,    25.00
  35TH20080610, OVIDE,    76,  1,     13,2,20080629,2036, 59.1660, -34.4760, 2467,    800.2,   4.1450,  34.9180,2,  34.9200,2,    295.7,2,    297.7,2,     9.11,2,    16.43,2,     0.91,2,   -999.0,9,-999.0000,9,  -999.00
  35TH20080610, OVIDE,    76,  1,     14,2,20080629,2036, 59.1660, -34.4760, 2467,    702.0,   4.2710,  34.9260,2,  34.9260,2,    293.8,2,    291.9,2,     9.38,2,    16.68,2,     0.92,2,   2302.4,2,   7.7260,2,    25.00
  35TH20080610, OVIDE,    76,  1,     15,2,20080629,2036, 59.1660, -34.4760, 2467,    601.4,   4.4650,  34.9390,2,  34.9410,2,    288.4,2,    287.7,2,     9.49,2,    16.78,2,     0.93,2,   2302.2,2,   7.7260,2,    25.00
  35TH20080610, OVIDE,    76,  1,     16,2,20080629,2036, 59.1660, -34.4760, 2467,    501.3,   4.8640,  34.9660,2,  34.9680,2,    279.1,2,    283.5,3,     9.52,2,    16.86,2,     0.93,2,   2306.2,2,   7.7280,2,    25.00
  35TH20080610, OVIDE,    76,  1,     17,2,20080629,2036, 59.1660, -34.4760, 2467,    400.2,   5.4510,  34.9990,2,  34.9960,2,    261.7,2,    257.7,2,    10.43,2,    17.70,2,     0.98,2,   2306.8,2,   7.7190,2,    25.00
  35TH20080610, OVIDE,    76,  1,     18,2,20080629,2036, 59.1660, -34.4760, 2467,    301.9,   6.0720,  35.0190,2,  35.0180,2,    268.3,2,    268.6,2,     9.23,2,    16.94,2,     0.92,2,   2308.8,2,   7.7340,2,    25.00
  35TH20080610, OVIDE,    76,  1,     19,2,20080629,2036, 59.1660, -34.4760, 2467,    200.6,   6.9340,  35.0950,2,  35.0950,2,    268.8,2,    269.3,2,     8.31,2,    15.92,2,     0.88,2,   2314.3,2,   7.7530,2,    25.00
  35TH20080610, OVIDE,    76,  1,     20,2,20080629,2036, 59.1660, -34.4760, 2467,    149.5,   7.0270,  35.0880,2,  35.0870,2,    271.6,2,    275.6,2,     7.96,2,    15.49,2,     0.86,2,   2314.5,2,   7.7620,2,    25.00
  35TH20080610, OVIDE,    76,  1,     21,2,20080629,2036, 59.1660, -34.4760, 2467,    100.1,   7.2200,  35.0880,2,  35.0850,2,    274.2,2,    273.9,2,     7.57,2,    15.31,2,     0.84,2,   2312.7,2,   7.7640,2,    25.00
  35TH20080610, OVIDE,    76,  1,     22,2,20080629,2036, 59.1660, -34.4760, 2467,     56.8,   7.6140,  35.0980,2,  35.0960,2,    283.3,2,    281.1,2,     4.93,2,    13.58,2,     0.75,2,   2316.6,2,   7.7860,2,    25.00
  35TH20080610, OVIDE,    76,  1,     23,2,20080629,2036, 59.1660, -34.4760, 2467,     12.2,   9.9950,  35.0080,2,  35.0070,2,    294.2,2,    293.5,2,     2.20,2,     7.26,2,     0.42,2,   2306.0,2,   7.8750,2,    25.00
  35TH20080610, OVIDE,    77,  1,      3,2,20080630,0240, 59.2330, -35.1130, 2979,   3022.1,   2.4160,  34.9190,2,  34.9180,2,    289.7,2,    288.7,2,    11.68,2,    15.72,2,     0.88,2,   -999.0,9,   7.7220,2,    25.00
  35TH20080610, OVIDE,    77,  1,      4,2,20080630,0240, 59.2330, -35.1130, 2979,   2747.6,   2.9260,  34.9350,2,  34.9330,2,    281.1,2,    279.4,2,    13.50,2,    16.94,2,     0.93,2,   -999.0,9,   7.7270,2,    25.00
  35TH20080610, OVIDE,    77,  1,      5,2,20080630,0240, 59.2330, -35.1130, 2979,   2501.2,   3.0390,  34.9370,2,  34.9360,2,    280.2,2,    278.9,2,    13.08,2,    16.64,2,     0.92,2,   -999.0,9,   7.7240,2,    25.00
  35TH20080610, OVIDE,    77,  1,      6,2,20080630,0240, 59.2330, -35.1130, 2979,   2251.1,   3.2460,  34.9500,2,  34.9490,2,    279.2,2,    278.2,2,    12.22,2,    16.95,2,     0.93,2,   -999.0,9,   7.7240,2,    25.00
  35TH20080610, OVIDE,    77,  1,      7,2,20080630,0240, 59.2330, -35.1130, 2979,   1999.1,   3.3200,  34.9390,2,  34.9390,2,    279.8,2,    279.3,2,    11.62,2,    16.92,2,     0.93,2,   -999.0,9,   7.7250,2,    25.00
  35TH20080610, OVIDE,    77,  1,      8,2,20080630,0240, 59.2330, -35.1130, 2979,   1802.5,   3.3840,  34.9290,2,  34.9290,2,    280.1,2,    279.7,2,    11.39,2,    17.00,2,     0.94,2,   -999.0,9,   7.7230,2,    25.00
  35TH20080610, OVIDE,    77,  1,      9,2,20080630,0240, 59.2330, -35.1130, 2979,   1598.0,   3.5190,  34.9270,2,  34.9270,2,    278.6,2,    278.0,2,    11.14,2,    17.44,2,     0.95,2,   -999.0,9,   7.7200,2,    25.00
  35TH20080610, OVIDE,    77,  1,     10,2,20080630,0240, 59.2330, -35.1130, 2979,   1400.7,   3.6670,  34.9250,2,  34.9260,2,    277.7,2,    277.2,2,    10.88,2,    17.56,2,     0.95,2,   -999.0,9,   7.7190,2,    25.00
  35TH20080610, OVIDE,    77,  1,     11,2,20080630,0240, 59.2330, -35.1130, 2979,   1198.1,   3.6780,  34.8980,2,  34.8970,2,    282.5,2,    282.4,2,    10.29,2,    17.47,2,     0.95,2,   -999.0,9,   7.7140,2,    25.00
  35TH20080610, OVIDE,    77,  1,     12,2,20080630,0240, 59.2330, -35.1130, 2979,    999.6,   3.9240,  34.9110,2,  34.9120,2,    282.1,2,    277.5,2,    10.25,2,    17.64,2,     0.95,2,   -999.0,9,   7.7150,2,    25.00
  35TH20080610, OVIDE,    77,  1,     13,2,20080630,0240, 59.2330, -35.1130, 2979,    901.3,   4.0130,  34.9110,2,  34.9100,2,    286.8,2,    287.0,2,     9.43,2,    17.22,2,     0.93,2,   -999.0,9,   7.7190,2,    25.00
  35TH20080610, OVIDE,    77,  1,     14,2,20080630,0240, 59.2330, -35.1130, 2979,    799.7,   4.0500,  34.9080,2,  34.9080,2,    289.4,2,    294.4,3,     8.90,2,    16.84,2,     0.90,2,   -999.0,9,   7.7280,2,    25.00
  35TH20080610, OVIDE,    77,  1,     15,2,20080630,0240, 59.2330, -35.1130, 2979,    698.9,   4.1590,  34.9180,2,  34.9190,2,    282.9,2,    289.2,3,     9.28,2,    17.11,2,     0.93,2,   -999.0,9,   7.7230,2,    25.00
  35TH20080610, OVIDE,    77,  1,     16,2,20080630,0240, 59.2330, -35.1130, 2979,    597.7,   4.3200,  34.9290,2,  34.9290,2,    282.0,2,    279.5,2,     9.68,2,    17.42,2,     0.94,2,   -999.0,9,   7.7150,2,    25.00
  35TH20080610, OVIDE,    77,  1,     17,2,20080630,0240, 59.2330, -35.1130, 2979,    501.0,   4.5640,  34.9390,2,  34.9390,2,    279.9,2,    275.5,2,     9.70,2,    17.89,2,     0.96,2,   -999.0,9,   7.7170,2,    25.00
  35TH20080610, OVIDE,    77,  1,     18,2,20080630,0240, 59.2330, -35.1130, 2979,    400.6,   4.9190,  34.9480,2,  34.9450,2,    282.0,2,    283.1,2,     9.04,2,    17.39,2,     0.92,2,   -999.0,9,   7.7270,2,    25.00
  35TH20080610, OVIDE,    77,  1,     19,2,20080630,0240, 59.2330, -35.1130, 2979,    300.4,   5.3150,  34.9590,2,  34.9600,2,    266.5,2,    279.5,3,     8.83,2,    17.29,2,     0.92,2,   -999.0,9,   7.7320,2,    25.00
  35TH20080610, OVIDE,    77,  1,     20,2,20080630,0240, 59.2330, -35.1130, 2979,    199.5,   6.0050,  34.9880,2,  34.9860,2,    282.2,2,    285.2,2,     7.83,2,    16.42,2,     0.87,2,   -999.0,9,   7.7490,2,    25.00
  35TH20080610, OVIDE,    77,  1,     21,2,20080630,0240, 59.2330, -35.1130, 2979,    151.6,   6.3480,  35.0120,2,  35.0080,3,    281.8,2,    286.5,3,     6.73,2,    15.75,2,     0.84,2,   -999.0,9,   7.7590,2,    25.00
  35TH20080610, OVIDE,    77,  1,     22,2,20080630,0240, 59.2330, -35.1130, 2979,    100.0,   6.3180,  34.9520,2,  34.9590,3,    279.7,2,    284.3,3,     6.95,2,    15.48,2,     0.83,2,   -999.0,9,   7.7550,2,    25.00
  35TH20080610, OVIDE,    77,  1,     23,2,20080630,0240, 59.2330, -35.1130, 2979,     54.2,   7.2120,  34.9060,2,  34.9070,2,    285.8,2,    296.4,3,     3.14,2,    11.10,2,     0.66,2,   -999.0,9,   7.8090,2,    25.00
  35TH20080610, OVIDE,    77,  1,     24,2,20080630,0240, 59.2330, -35.1130, 2979,      6.3,   9.8530,  35.0060,2,  35.0050,2,    293.1,2,    292.7,2,     1.87,2,     7.78,2,     0.42,2,   -999.0,9,   7.8740,2,    25.00