BOTTLE,20240229CCHSIOSLL
EXPOCODE,SECT_ID,STNNBR,CASTNO,SAMPNO,BTLNBR,BTLNBR_FLAG_W,DATE,TIME,LATITUDE,LONGITUDE,DEPTH,CTDPRS,CTDTMP,CTDSAL,CTDSAL_FLAG_W,SALNTY,SALNTY_FLAG_W,CTDOXY,CTDOXY_FLAG_W,OXYGEN,OXYGEN_FLAG_W,SILCAT,SILCAT_FLAG_W,NITRAT,NITRAT_FLAG_W,PHSPHT,PHSPHT_FLAG_W,ALKALI,ALKALI_FLAG_W,PH_TOT,PH_TOT_FLAG_W,PH_TMP,BTL_TIME,BTL_DATE
,,,,,,,,,,,METERS,DBAR,ITS-90,PSS-78,,PSS-78,,UMOL/KG,,UMOL/KG,,UMOL/KG,,UMOL/KG,,UMOL/KG,,UMOL/KG,,,,DEG C,,
  29HE20190406,   A17,21,0,1,1,2,20190415,1410,-36.2913,-44.3974, 5014,   5004.5,   0.2701,  34.6710,2,     -999,9,    222.6,2,    221.4,2,   122.11,2,    32.68,2,     2.23,2,   2370.1,2,7.6034,2,    25.00,1410,20190415
  29HE20190406,   A17,21,0,2,2,2,20190415,1410,-36.2913,-44.3974, 5014,   4503.3,   0.3335,  34.6766,2,  34.6748,2,    221.9,2,    220.4,2,   119.67,2,    32.83,2,     2.22,2,   2368.0,2,7.6052,2,    25.00,1421,20190415
  29HE20190406,   A17,21,0,3,3,2,20190415,1410,-36.2913,-44.3974, 5014,   4002.9,   0.7115,  34.6966,2,     -999,9,    214.6,2,    213.5,2,   113.72,2,    32.17,2,     2.17,2,   2363.6,2,7.6077,2,    25.00,1431,20190415
  29HE20190406,   A17,21,0,4,4,2,20190415,1410,-36.2913,-44.3974, 5014,   3500.9,   1.3830,  34.7452,2,  34.7432,2,    211.4,2,    210.7,2,    97.09,2,    29.67,2,     2.02,2,   2359.9,2,7.6279,2,    25.00,1442,20190415
  29HE20190406,   A17,21,0,5,5,2,20190415,1410,-36.2913,-44.3974, 5014,   3000.1,   2.2720,  34.8273,2,     -999,9,    222.5,2,    222.5,2,    63.07,2,    25.51,2,     1.74,2,   2345.3,2,7.6742,2,    25.00,1453,20190415
  29HE20190406,   A17,21,0,6,6,2,20190415,1410,-36.2913,-44.3974, 5014,   2501.4,   2.8524,  34.8535,2,  34.8532,2,    222.8,2,    222.3,2,    48.97,2,    24.36,2,     1.62,2,   2335.2,2,7.6809,2,    25.00,1504,20190415
  29HE20190406,   A17,21,0,7,7,2,20190415,1410,-36.2913,-44.3974, 5014,   2274.1,   3.2052,  34.8816,2,     -999,9,    229.1,2,    228.1,2,    37.72,2,    23.37,2,     1.56,2,   2328.5,2,7.6934,2,    25.00,1510,20190415
  29HE20190406,   A17,21,0,8,8,2,20190415,1410,-36.2913,-44.3974, 5014,   2001.0,   2.9897,  34.7685,2,  34.7675,2,    199.2,2,    198.7,2,    55.96,2,    28.16,2,     1.88,2,   2335.9,2,7.6356,2,    25.00,1516,20190415
  29HE20190406,   A17,21,0,9,9,2,20190415,1410,-36.2913,-44.3974, 5014,   1801.5,   2.9201,  34.6743,2,     -999,9,    184.7,2,    184.1,2,    60.81,2,    31.04,2,     2.09,2,   2336.1,2,7.6018,2,    25.00,1521,20190415
  29HE20190406,   A17,21,0,10,10,2,20190415,1410,-36.2913,-44.3974, 5014,   1601.0,   2.9092,  34.5634,2,  34.5614,2,    180.6,2,    180.4,2,    60.21,2,    32.67,2,     2.21,2,   2333.4,2,7.5813,2,    25.00,1525,20190415
  29HE20190406,   A17,21,0,11,11,2,20190415,1410,-36.2913,-44.3974, 5014,   1401.4,   3.0090,  34.4376,2,     -999,9,    188.6,2,    188.4,2,    53.67,2,    32.90,2,     2.25,2,   2323.2,2,7.5791,2,    25.00,1530,20190415
  29HE20190406,   A17,21,0,12,12,2,20190415,1410,-36.2913,-44.3974, 5014,   1200.5,   3.2692,  34.3182,2,  34.3166,2,    209.4,2,    209.5,2,    39.93,2,    31.99,2,     2.18,2,   2310.3,2,7.5967,2,    25.00,1535,20190415
  29HE20190406,   A17,21,0,13,13,2,20190415,1410,-36.2913,-44.3974, 5014,   1001.3,   3.8434,  34.2296,2,     -999,9,    236.4,2,    236.0,2,    26.08,2,    29.10,2,     1.99,2,   2294.8,2,7.6317,2,    25.00,1540,20190415
  29HE20190406,   A17,21,0,14,14,2,20190415,1410,-36.2913,-44.3974, 5014,    901.2,   4.2431,  34.2163,2,  34.2159,2,    246.4,2,    247.5,2,    20.59,2,    27.78,2,     1.88,2,   2290.9,2,7.6508,2,    25.00,1543,20190415
  29HE20190406,   A17,21,0,15,15,2,20190415,1410,-36.2913,-44.3974, 5014,    801.7,   4.7990,  34.2239,2,     -999,9,    251.7,2,    251.4,2,    16.00,2,    26.48,2,     1.79,2,   2286.4,2,7.6677,2,    25.00,1546,20190415
  29HE20190406,   A17,21,0,16,16,2,20190415,1410,-36.2913,-44.3974, 5014,    701.3,   5.4570,  34.2548,2,  34.2535,2,    251.4,2,    251.5,2,    12.64,2,    24.71,2,     1.69,2,   2284.3,2,7.6854,2,    25.00,1548,20190415
  29HE20190406,   A17,21,0,17,17,2,20190415,1410,-36.2913,-44.3974, 5014,    602.0,   6.5755,  34.3496,2,     -999,9,    239.8,2,    239.1,2,    10.14,2,    23.13,2,     1.57,2,   2285.8,2,7.6972,2,    25.00,1551,20190415
  29HE20190406,   A17,21,0,18,18,2,20190415,1410,-36.2913,-44.3974, 5014,    502.3,   9.0122,  34.6327,2,  34.6340,2,    219.3,2,    219.7,2,     7.11,2,    18.99,2,     1.28,2,   2297.2,2,7.7346,2,    25.00,1554,20190415
  29HE20190406,   A17,21,0,19,19,2,20190415,1410,-36.2913,-44.3974, 5014,    400.3,  12.2361,  35.1012,2,     -999,9,    213.3,2,    213.6,2,     4.00,2,    11.97,2,     0.85,2,   2317.7,2,7.8095,2,    25.00,1557,20190415
  29HE20190406,   A17,21,0,20,20,2,20190415,1410,-36.2913,-44.3974, 5014,    301.9,  14.3116,  35.4958,2,  35.4946,2,    217.3,2,    219.5,2,     2.61,2,     7.31,2,     0.54,2,   2341.1,2,7.8724,2,    25.00,1600,20190415
  29HE20190406,   A17,21,0,21,21,2,20190415,1410,-36.2913,-44.3974, 5014,    201.3,  15.7004,  35.7712,2,     -999,9,    218.2,2,    219.0,2,     2.11,2,     4.92,2,     0.39,2,   2358.9,2,7.909,2,    25.00,1603,20190415
  29HE20190406,   A17,21,0,22,22,2,20190415,1410,-36.2913,-44.3974, 5014,    101.3,  17.2958,  35.7939,2,  35.7908,2,    225.6,2,    226.3,2,     1.34,2,     0.47,2,     0.17,2,   2361.9,2,7.9492,2,    25.00,1606,20190415
  29HE20190406,   A17,21,0,23,23,2,20190415,1410,-36.2913,-44.3974, 5014,     51.3,  19.7909,  35.7815,2,     -999,9,    227.9,2,    228.4,2,     1.06,2,     0.00,2,     0.05,2,   2362.5,2,8.0039,2,    25.00,1609,20190415
  29HE20190406,   A17,21,0,24,24,2,20190415,1410,-36.2913,-44.3974, 5014,      7.1,  20.0046,  35.5473,2,  35.5466,2,    228.1,2,    228.9,2,     1.21,2,     0.00,2,     0.07,2,   2353.1,2,8.0087,2,    25.00,1611,20190415
  29HE20190406,   A17,22,0,1,1,2,20190415,2134,-35.683,-43.8986, 4956,   1999.8,   3.0275,  34.7713,2,     -999,9,    199.6,2,     -999,9,     -999,9,     -999,9,     -999,9,     -999,9,-999.0,9,    25.00,2134,20190415
  29HE20190406,   A17,22,0,2,2,2,20190415,2134,-35.683,-43.8986, 4956,   1999.8,   3.0272,  34.7712,2,  34.7702,2,    199.5,2,    199.7,2,    55.19,2,    28.55,2,     1.90,2,     -999,9,7.6348,2,    25.00,2134,20190415
  29HE20190406,   A17,22,0,3,3,2,20190415,2134,-35.683,-43.8986, 4956,   1698.4,   2.9382,  34.6255,2,     -999,9,    182.5,2,    183.7,2,    60.66,2,    32.39,2,     2.14,2,     -999,9,7.5921,2,    25.00,2141,20190415
  29HE20190406,   A17,22,0,4,4,2,20190415,2134,-35.683,-43.8986, 4956,   1498.3,   2.9551,  34.5097,2,  34.5084,2,    183.1,2,    183.2,2,    58.22,2,    33.73,2,     2.24,2,     -999,9,7.5787,2,    25.00,2146,20190415
  29HE20190406,   A17,22,0,5,5,2,20190415,2134,-35.683,-43.8986, 4956,   1498.6,   2.9528,  34.5100,2,     -999,9,    183.3,2,     -999,9,     -999,9,     -999,9,     -999,9,     -999,9,-999.0,9,    25.00,2146,20190415
  29HE20190406,   A17,22,0,6,6,2,20190415,2134,-35.683,-43.8986, 4956,   1199.9,   3.3264,  34.3358,2,  34.3338,2,    207.4,2,    206.6,2,    41.03,2,    32.82,2,     2.17,2,     -999,9,7.5953,2,    25.00,2154,20190415
  29HE20190406,   A17,22,0,7,7,2,20190415,2134,-35.683,-43.8986, 4956,   1200.4,   3.3285,  34.3353,2,     -999,9,    207.0,2,     -999,9,     -999,9,     -999,9,     -999,9,     -999,9,-999.0,9,    25.00,2154,20190415
  29HE20190406,   A17,22,0,8,8,2,20190415,2134,-35.683,-43.8986, 4956,   1002.0,   3.8920,  34.2334,2,  34.2323,2,    235.6,2,    234.1,2,    26.40,2,    29.94,2,     1.99,2,     -999,9,7.6323,2,    25.00,2159,20190415
  29HE20190406,   A17,22,0,9,9,2,20190415,2134,-35.683,-43.8986, 4956,   1001.9,   3.8922,  34.2333,2,     -999,9,    235.6,2,     -999,9,     -999,9,     -999,9,     -999,9,     -999,9,-999.0,9,    25.00,2159,20190415
  29HE20190406,   A17,22,0,10,10,2,20190415,2134,-35.683,-43.8986, 4956,    792.8,   4.9338,  34.2236,2,  34.2214,2,    252.5,2,    251.6,2,    14.94,2,    26.33,2,     1.77,2,     -999,9,7.6698,2,    25.00,2204,20190415
  29HE20190406,   A17,22,0,11,11,2,20190415,2134,-35.683,-43.8986, 4956,    792.6,   4.9326,  34.2238,2,     -999,9,    253.1,2,     -999,9,     -999,9,     -999,9,     -999,9,     -999,9,-999.0,9,    25.00,2204,20190415
  29HE20190406,   A17,22,0,12,12,2,20190415,2134,-35.683,-43.8986, 4956,    602.8,   7.3725,  34.4579,2,  34.4649,2,    226.4,2,    225.0,2,     9.92,2,    22.82,2,     1.52,2,     -999,9,7.6998,2,    25.00,2208,20190415
  29HE20190406,   A17,22,0,13,13,2,20190415,2134,-35.683,-43.8986, 4956,    603.4,   7.3739,  34.4582,2,     -999,9,    226.5,2,     -999,9,     -999,9,     -999,9,     -999,9,     -999,9,-999.0,9,    25.00,2208,20190415
  29HE20190406,   A17,22,0,14,14,2,20190415,2134,-35.683,-43.8986, 4956,    500.6,   9.6868,  34.7356,2,  34.7360,2,    213.8,2,    213.8,2,     6.63,2,    17.95,2,     1.24,2,     -999,9,7.7459,2,    25.00,2211,20190415
  29HE20190406,   A17,22,0,15,15,2,20190415,2134,-35.683,-43.8986, 4956,    401.4,  12.5071,  35.1634,2,     -999,9,    208.5,2,     -999,9,     -999,9,     -999,9,     -999,9,     -999,9,-999.0,9,    25.00,2214,20190415
  29HE20190406,   A17,22,0,16,16,2,20190415,2134,-35.683,-43.8986, 4956,    401.6,  12.5065,  35.1635,2,  35.1579,2,    208.3,2,    211.5,2,     4.05,2,    11.90,2,     0.83,2,     -999,9,7.8143,2,    25.00,2214,20190415
  29HE20190406,   A17,22,0,17,17,2,20190415,2134,-35.683,-43.8986, 4956,    294.4,  15.0996,  35.6689,2,     -999,9,    217.5,2,    218.5,2,     2.40,2,     6.07,2,     0.45,2,     -999,9,7.8912,2,    25.00,2218,20190415
  29HE20190406,   A17,22,0,18,18,2,20190415,2134,-35.683,-43.8986, 4956,    210.9,  15.6073,  35.7320,2,  35.7773,4,    215.8,2,    216.7,2,     2.02,2,     4.78,2,     0.37,2,     -999,9,7.9093,2,    25.00,2220,20190415
  29HE20190406,   A17,22,0,19,19,2,20190415,2134,-35.683,-43.8986, 4956,    211.5,  15.6095,  35.7318,2,     -999,9,    214.9,2,     -999,9,     -999,9,     -999,9,     -999,9,     -999,9,-999.0,9,    25.00,2220,20190415
  29HE20190406,   A17,22,0,20,20,2,20190415,2134,-35.683,-43.8986, 4956,    100.9,  17.5274,  35.9518,2,  35.9518,2,    211.2,2,    212.1,2,     1.76,2,     2.14,2,     0.22,2,     -999,9,7.9413,2,    25.00,2224,20190415
  29HE20190406,   A17,22,0,21,21,2,20190415,2134,-35.683,-43.8986, 4956,    101.1,  17.5203,  35.9519,2,     -999,9,    210.8,2,     -999,9,     -999,9,     -999,9,     -999,9,     -999,9,-999.0,9,    25.00,2224,20190415
  29HE20190406,   A17,22,0,22,22,2,20190415,2134,-35.683,-43.8986, 4956,     50.9,  20.5976,  35.9656,2,  35.9648,2,    224.6,2,    225.5,2,     1.07,2,     0.00,2,     0.01,2,     -999,9,8.0125,2,    25.00,2226,20190415
  29HE20190406,   A17,22,0,23,23,2,20190415,2134,-35.683,-43.8986, 4956,      3.7,  20.7550,  35.9502,2,     -999,9,    225.2,2,     -999,9,     -999,9,     -999,9,     -999,9,     -999,9,-999.0,9,    25.00,2229,20190415
  29HE20190406,   A17,22,0,24,24,2,20190415,2134,-35.683,-43.8986, 4956,      4.2,  20.7569,  35.9501,2,  35.9479,2,    224.4,2,    225.6,2,     1.12,2,     0.00,2,     0.02,2,     -999,9,8.0123,2,    25.00,2229,20190415
  29HE20190406,   A17,23,0,1,1,2,20190416,451,-35.1055,-43.3328, 4854,   4843.8,   0.2570,  34.6715,2,     -999,9,    222.2,2,    221.4,2,   123.68,2,    33.26,2,     2.24,2,   2371.0,2,7.6056,2,    25.00,451,20190416
  29HE20190406,   A17,23,0,2,2,2,20190416,451,-35.1055,-43.3328, 4854,   4500.3,   0.2911,  34.6750,2,  34.6728,2,    222.9,2,    222.6,2,   121.37,2,    32.73,2,     2.23,2,   2366.5,2,7.6068,2,    25.00,458,20190416
  29HE20190406,   A17,23,0,3,3,2,20190416,451,-35.1055,-43.3328, 4854,   4001.3,   0.6954,  34.6962,2,     -999,9,    215.2,2,    214.9,2,   115.18,2,    32.32,2,     2.18,2,   2363.2,2,7.6079,2,    25.00,509,20190416
  29HE20190406,   A17,23,0,4,4,2,20190416,451,-35.1055,-43.3328, 4854,   3502.1,   1.4781,  34.7466,2,  34.7447,2,    209.1,2,    208.1,2,    97.63,2,    30.40,2,     2.05,2,   2358.1,2,7.6268,2,    25.00,519,20190416
  29HE20190406,   A17,23,0,5,5,2,20190416,451,-35.1055,-43.3328, 4854,   3002.8,   2.5605,  34.8644,2,     -999,9,    232.8,2,    236.2,2,    51.44,2,    23.96,2,     1.59,2,   2338.3,2,7.6957,2,    25.00,531,20190416
  29HE20190406,   A17,23,0,6,6,2,20190416,451,-35.1055,-43.3328, 4854,   2499.4,   3.0598,  34.8752,2,  34.8751,2,    229.0,2,    228.9,2,    41.46,2,    23.73,2,     1.57,2,   2330.3,2,7.6918,2,    25.00,541,20190416
  29HE20190406,   A17,23,0,7,7,2,20190416,451,-35.1055,-43.3328, 4854,   2275.8,   3.2981,  34.8826,2,     -999,9,    228.3,2,    228.9,2,    35.91,2,    23.42,2,     1.55,2,   2326.2,2,7.6953,2,    25.00,546,20190416
  29HE20190406,   A17,23,0,8,8,2,20190416,451,-35.1055,-43.3328, 4854,   1997.4,   3.1399,  34.7735,2,  34.7737,2,    201.9,2,    202.1,2,    51.56,2,    28.02,2,     1.86,2,   2334.1,2,7.6424,2,    25.00,553,20190416
  29HE20190406,   A17,23,0,9,9,2,20190416,451,-35.1055,-43.3328, 4854,   1798.0,   3.0680,  34.6857,2,     -999,9,    189.7,2,    189.2,2,    56.41,2,    30.31,2,     2.03,2,   2333.0,2,7.6129,2,    25.00,558,20190416
  29HE20190406,   A17,23,0,10,10,2,20190416,451,-35.1055,-43.3328, 4854,   1600.1,   2.9061,  34.5551,2,  34.5531,2,    181.2,2,    180.6,2,    61.02,2,    33.01,2,     2.21,2,   2329.4,2,7.5822,2,    25.00,603,20190416
  29HE20190406,   A17,23,0,11,11,2,20190416,451,-35.1055,-43.3328, 4854,   1398.2,   3.0840,  34.4468,2,     -999,9,    190.2,2,    191.0,2,    52.44,2,    33.20,2,     2.23,2,   2320.7,2,7.5857,2,    25.00,607,20190416
  29HE20190406,   A17,23,0,12,12,2,20190416,451,-35.1055,-43.3328, 4854,   1205.8,   3.4232,  34.3384,2,  34.3326,2,    207.6,2,    207.9,2,    39.16,2,    32.18,2,     2.18,2,   2305.7,2,7.6041,2,    25.00,613,20190416
  29HE20190406,   A17,23,0,13,13,2,20190416,451,-35.1055,-43.3328, 4854,   1000.9,   4.1354,  34.2560,2,     -999,9,    230.1,2,    229.9,2,    25.40,2,    29.62,2,     2.00,2,   2292.1,2,7.6366,2,    25.00,617,20190416
  29HE20190406,   A17,23,0,14,14,2,20190416,451,-35.1055,-43.3328, 4854,    900.4,   4.4810,  34.2202,2,  34.2193,2,    247.8,2,    247.1,2,    14.36,2,    25.91,2,     1.77,2,   2286.9,2,7.6583,2,    25.00,620,20190416
  29HE20190406,   A17,23,0,15,15,2,20190416,451,-35.1055,-43.3328, 4854,    799.9,   5.0577,  34.2271,2,     -999,9,    252.5,2,    251.7,2,    14.25,2,    25.96,2,     1.76,2,   2282.8,2,7.6741,2,    25.00,623,20190416
  29HE20190406,   A17,23,0,16,16,2,20190416,451,-35.1055,-43.3328, 4854,    706.9,   5.6222,  34.2490,2,  34.2487,2,    251.8,2,    251.4,2,    11.55,2,    24.67,2,     1.68,2,   2281.4,2,7.6841,2,    25.00,626,20190416
  29HE20190406,   A17,23,0,17,17,2,20190416,451,-35.1055,-43.3328, 4854,    600.8,   7.5242,  34.4434,2,     -999,9,    229.7,2,    230.0,2,     8.70,2,    21.79,2,     1.50,2,   2289.5,2,7.7075,2,    25.00,629,20190416
  29HE20190406,   A17,23,0,18,18,2,20190416,451,-35.1055,-43.3328, 4854,    499.5,  10.5354,  34.8359,2,  34.8350,2,    215.7,2,    216.3,2,     5.41,2,    15.81,2,     1.12,2,   2304.2,2,7.7701,2,    25.00,632,20190416
  29HE20190406,   A17,23,0,19,19,2,20190416,451,-35.1055,-43.3328, 4854,    402.1,  13.3499,  35.3055,2,     -999,9,    208.5,2,    209.7,2,     3.42,2,     9.87,2,     0.73,2,   2328.2,2,7.8387,2,    25.00,635,20190416
  29HE20190406,   A17,23,0,20,20,2,20190416,451,-35.1055,-43.3328, 4854,    299.5,  15.5015,  35.7503,2,  35.7497,2,    220.3,2,    220.2,2,     2.19,2,     5.24,2,     0.42,2,   2354.7,2,7.9054,2,    25.00,638,20190416
  29HE20190406,   A17,23,0,21,21,2,20190416,451,-35.1055,-43.3328, 4854,    202.3,  16.0500,  35.8157,2,     -999,9,    217.5,2,    217.7,2,     1.81,2,     4.13,2,     0.34,2,   2357.4,2,7.9165,2,    25.00,641,20190416
  29HE20190406,   A17,23,0,22,22,2,20190416,451,-35.1055,-43.3328, 4854,    100.5,  18.3203,  36.0134,2,  36.0011,2,    226.4,2,    227.7,2,     1.16,2,     0.01,2,     0.09,2,   2369.7,2,7.9715,2,    25.00,644,20190416
  29HE20190406,   A17,23,0,23,23,2,20190416,451,-35.1055,-43.3328, 4854,     54.3,  21.6360,  36.2006,2,     -999,9,    219.8,2,    220.2,2,     0.94,2,     0.00,2,     0.00,2,   2380.9,2,8.0244,2,    25.00,646,20190416
  29HE20190406,   A17,23,0,24,24,2,20190416,451,-35.1055,-43.3328, 4854,      5.2,  21.5216,  36.1006,2,  36.0991,2,    221.3,2,    228.0,4,     0.98,2,     0.00,2,     0.00,2,   2375.7,2,8.0238,2,    25.00,649,20190416