BOTTLE,20240229CCHSIOSLL
EXPOCODE,SECT_ID,STNNBR,CASTNO,SAMPNO,BTLNBR,BTLNBR_FLAG_W,DATE,TIME,LATITUDE,LONGITUDE,DEPTH,CTDPRS,CTDTMP,CTDSAL,CTDSAL_FLAG_W,SALNTY,SALNTY_FLAG_W,CTDOXY,CTDOXY_FLAG_W,OXYGEN,OXYGEN_FLAG_W,SILCAT,SILCAT_FLAG_W,NITRAT,NITRAT_FLAG_W,PHSPHT,PHSPHT_FLAG_W,ALKALI,ALKALI_FLAG_W,PH_TOT,PH_TOT_FLAG_W,PH_TMP,BTL_TIME,BTL_DATE
,,,,,,,,,,,METERS,DBAR,ITS-90,PSS-78,,PSS-78,,UMOL/KG,,UMOL/KG,,UMOL/KG,,UMOL/KG,,UMOL/KG,,UMOL/KG,,,,DEG C,,
  29HE20190406,   A17,71,0,1,1,2,20190511,433,5.6927,-25.2524, 4343,   4333.0,   2.3526,  34.8890,2,     -999,9,    246.2,2,     -999,9,    45.24,2,    22.28,2,     1.48,2,   2344.2,2,7.7271,2,    25.00,433,20190511
  29HE20190406,   A17,71,0,2,2,2,20190511,433,5.6927,-25.2524, 4343,   4001.2,   2.3583,  34.8924,2,  34.8942,2,    247.8,2,    246.7,2,    43.68,2,    22.11,2,     1.48,2,   2341.9,2,7.7265,2,    25.00,441,20190511
  29HE20190406,   A17,71,0,3,3,2,20190511,433,5.6927,-25.2524, 4343,   3498.4,   2.4414,  34.9019,2,     -999,9,    248.2,2,    247.6,2,    40.28,2,    21.82,2,     1.44,2,   2337.5,2,7.7293,2,    25.00,452,20190511
  29HE20190406,   A17,71,0,4,4,2,20190511,433,5.6927,-25.2524, 4343,   2999.2,   2.6536,  34.9181,2,  34.9190,2,    246.0,2,    246.3,2,    36.01,2,    21.75,2,     1.44,2,   2333.4,2,7.7303,2,    25.00,503,20190511
  29HE20190406,   A17,71,0,5,5,2,20190511,433,5.6927,-25.2524, 4343,   2499.0,   3.0005,  34.9406,2,     -999,9,    245.4,2,    245.3,2,    29.59,2,    21.18,2,     1.39,2,   2326.2,2,7.732,2,    25.00,513,20190511
  29HE20190406,   A17,71,0,6,6,2,20190511,433,5.6927,-25.2524, 4343,   2274.6,   3.2652,  34.9522,2,  34.9524,2,    243.3,2,    243.2,2,    26.08,2,    21.02,2,     1.39,2,   2322.6,2,7.7306,2,    25.00,519,20190511
  29HE20190406,   A17,71,0,7,7,2,20190511,433,5.6927,-25.2524, 4343,   2000.0,   3.5549,  34.9636,2,     -999,9,    241.6,2,    242.3,2,    22.37,2,    20.92,2,     1.37,2,   2318.4,2,7.7272,2,    25.00,525,20190511
  29HE20190406,   A17,71,0,8,8,2,20190511,433,5.6927,-25.2524, 4343,   1800.0,   3.8175,  34.9708,2,  34.9694,2,    238.7,2,    238.7,2,    20.06,2,    21.19,2,     1.38,2,   2315.5,2,7.7228,2,    25.00,530,20190511
  29HE20190406,   A17,71,0,9,9,2,20190511,433,5.6927,-25.2524, 4343,   1603.1,   4.0801,  34.9731,2,     -999,9,    232.7,2,     -999,9,     -999,9,     -999,9,     -999,9,     -999,9,-999.0,9,    25.00,534,20190511
  29HE20190406,   A17,71,0,10,10,2,20190511,433,5.6927,-25.2524, 4343,   1401.5,   4.3715,  34.9446,2,  34.9407,2,    210.4,2,    209.8,2,    20.64,2,    23.99,2,     1.57,2,   2314.3,2,7.6857,2,    25.00,539,20190511
  29HE20190406,   A17,71,0,11,11,2,20190511,433,5.6927,-25.2524, 4343,   1201.6,   4.6526,  34.8746,2,     -999,9,    180.7,2,    180.2,2,    23.76,2,    27.68,2,     1.84,2,   2312.5,2,7.6398,2,    25.00,544,20190511
  29HE20190406,   A17,71,0,12,12,2,20190511,433,5.6927,-25.2524, 4343,   1099.5,   4.7991,  34.7968,2,  34.7925,2,    159.8,2,    159.6,2,    26.12,2,    30.62,2,     2.05,2,   2310.1,2,7.6021,2,    25.00,547,20190511
  29HE20190406,   A17,71,0,13,13,2,20190511,433,5.6927,-25.2524, 4343,   1001.3,   4.9043,  34.7376,2,     -999,9,    146.9,2,    146.3,2,    27.62,2,    32.61,2,     2.17,2,   2310.3,2,7.5769,2,    25.00,550,20190511
  29HE20190406,   A17,71,0,14,14,2,20190511,433,5.6927,-25.2524, 4343,    904.1,   5.2108,  34.6672,2,  34.6676,2,    126.4,2,    126.0,2,    28.42,2,    35.15,2,     2.32,2,   2305.6,2,7.5386,2,    25.00,553,20190511
  29HE20190406,   A17,71,0,15,15,2,20190511,433,5.6927,-25.2524, 4343,    802.6,   5.6583,  34.6562,2,     -999,9,    109.2,2,    108.6,2,    26.88,2,    36.78,2,     2.40,2,   2302.0,2,7.5133,2,    25.00,556,20190511
  29HE20190406,   A17,71,0,16,16,2,20190511,433,5.6927,-25.2524, 4343,    701.8,   6.5899,  34.7010,2,  34.6983,2,     86.4,2,     86.1,2,    23.93,2,    37.63,2,     2.42,2,   2299.2,2,7.4879,2,    25.00,559,20190511
  29HE20190406,   A17,71,0,17,17,2,20190511,433,5.6927,-25.2524, 4343,    602.2,   7.2418,  34.7326,2,     -999,9,     82.7,2,     82.8,2,    21.55,2,    36.73,2,     2.34,2,   2298.4,2,7.4923,2,    25.00,602,20190511
  29HE20190406,   A17,71,0,18,18,2,20190511,433,5.6927,-25.2524, 4343,    500.9,   8.3823,  34.8390,2,  34.8350,2,     70.3,2,     70.9,2,    18.43,2,    35.93,2,     2.24,2,   2300.4,2,7.4936,2,    25.00,605,20190511
  29HE20190406,   A17,71,0,19,19,2,20190511,433,5.6927,-25.2524, 4343,    402.7,   9.5278,  34.9006,2,     -999,9,     96.7,2,     97.4,2,    14.63,2,    30.96,2,     1.94,2,   2302.8,2,7.5645,2,    25.00,608,20190511
  29HE20190406,   A17,71,0,20,20,2,20190511,433,5.6927,-25.2524, 4343,    300.1,  11.1496,  35.0719,2,  35.0706,2,    126.7,2,    127.5,2,    10.81,2,    24.41,2,     1.57,2,   2311.5,2,7.6564,2,    25.00,610,20190511
  29HE20190406,   A17,71,0,21,21,2,20190511,433,5.6927,-25.2524, 4343,    201.7,  12.5549,  35.2412,2,     -999,9,    136.1,2,    137.3,2,     8.51,2,    20.59,2,     1.34,2,   2319.6,2,7.7067,2,    25.00,613,20190511
  29HE20190406,   A17,71,0,22,22,2,20190511,433,5.6927,-25.2524, 4343,    100.2,  14.1155,  35.4512,2,  35.4514,2,     93.8,2,     93.5,2,     7.77,2,    23.03,2,     1.44,2,   2326.8,2,7.6646,2,    25.00,616,20190511
  29HE20190406,   A17,71,0,23,23,2,20190511,433,5.6927,-25.2524, 4343,     50.5,  21.6923,  35.9581,2,     -999,9,    177.6,2,    172.3,3,     2.97,2,     3.13,2,     0.26,2,   2362.1,2,7.9264,2,    25.00,618,20190511
  29HE20190406,   A17,71,0,24,24,2,20190511,433,5.6927,-25.2524, 4343,      4.2,  28.3397,  35.2707,2,  35.2966,3,    198.6,2,    197.3,2,     1.12,2,     0.04,2,     0.02,2,   2310.3,2,8.0999,2,    25.00,620,20190511
  29HE20190406,   A17,72,0,1,1,2,20190511,1349,6.7974,-25.0521, 4463,   2002.8,   3.5181,  34.9603,2,     -999,9,    240.8,2,     -999,9,     -999,9,     -999,9,     -999,9,     -999,9,-999.0,9,    25.00,1349,20190511
  29HE20190406,   A17,72,0,2,2,2,20190511,1349,6.7974,-25.0521, 4463,   2003.2,   3.5181,  34.9602,2,  34.9630,2,    240.7,2,    239.0,2,    23.53,2,    21.20,2,     1.40,2,     -999,9,7.7258,2,    25.00,1349,20190511
  29HE20190406,   A17,72,0,3,3,2,20190511,1349,6.7974,-25.0521, 4463,   1702.8,   3.9768,  34.9724,2,     -999,9,    234.9,2,    233.2,2,    19.67,2,    21.32,2,     1.41,2,     -999,9,7.7163,2,    25.00,1356,20190511
  29HE20190406,   A17,72,0,4,4,2,20190511,1349,6.7974,-25.0521, 4463,   1501.2,   4.2985,  34.9648,2,  34.9650,2,    221.3,2,    219.7,2,    19.37,2,    22.59,2,     1.49,2,     -999,9,7.7004,2,    25.00,1400,20190511
  29HE20190406,   A17,72,0,5,5,2,20190511,1349,6.7974,-25.0521, 4463,   1500.9,   4.2984,  34.9648,2,     -999,9,    221.3,2,     -999,9,     -999,9,     -999,9,     -999,9,     -999,9,-999.0,9,    25.00,1401,20190511
  29HE20190406,   A17,72,0,6,6,2,20190511,1349,6.7974,-25.0521, 4463,   1201.6,   4.7380,  34.8454,2,  34.8459,2,    171.1,2,    170.0,2,    25.00,2,    28.89,2,     1.93,2,     -999,9,7.6236,2,    25.00,1407,20190511
  29HE20190406,   A17,72,0,7,7,2,20190511,1349,6.7974,-25.0521, 4463,   1201.0,   4.7384,  34.8454,2,     -999,9,    171.1,2,     -999,9,     -999,9,     -999,9,     -999,9,     -999,9,-999.0,9,    25.00,1407,20190511
  29HE20190406,   A17,72,0,8,8,2,20190511,1349,6.7974,-25.0521, 4463,   1003.7,   5.0133,  34.7070,2,  34.7053,2,    139.1,2,    138.8,2,    28.18,2,    33.64,2,     2.24,2,     -999,9,7.5634,2,    25.00,1412,20190511
  29HE20190406,   A17,72,0,9,9,2,20190511,1349,6.7974,-25.0521, 4463,   1002.7,   5.0173,  34.7055,2,     -999,9,    139.6,2,     -999,9,     -999,9,     -999,9,     -999,9,     -999,9,-999.0,9,    25.00,1412,20190511
  29HE20190406,   A17,72,0,10,10,2,20190511,1349,6.7974,-25.0521, 4463,    803.7,   5.5939,  34.6184,2,  34.6161,2,    119.7,2,    119.2,2,    27.13,2,    35.70,2,     2.36,2,     -999,9,7.5282,2,    25.00,1417,20190511
  29HE20190406,   A17,72,0,11,11,2,20190511,1349,6.7974,-25.0521, 4463,    802.6,   5.5937,  34.6183,2,     -999,9,    119.6,2,     -999,9,     -999,9,     -999,9,     -999,9,     -999,9,-999.0,9,    25.00,1417,20190511
  29HE20190406,   A17,72,0,12,12,2,20190511,1349,6.7974,-25.0521, 4463,    604.6,   6.9265,  34.6982,2,  34.6951,2,     90.4,2,     90.0,2,    22.37,2,    36.59,2,     2.34,2,     -999,9,7.4994,2,    25.00,1422,20190511
  29HE20190406,   A17,72,0,13,13,2,20190511,1349,6.7974,-25.0521, 4463,    605.9,   6.9232,  34.6980,2,     -999,9,     90.2,2,     -999,9,     -999,9,     -999,9,     -999,9,     -999,9,-999.0,9,    25.00,1422,20190511
  29HE20190406,   A17,72,0,14,14,2,20190511,1349,6.7974,-25.0521, 4463,    500.8,   8.0481,  34.8006,2,  34.7996,2,     74.1,2,     74.5,2,    19.20,2,    36.10,2,     2.26,2,     -999,9,7.4921,2,    25.00,1425,20190511
  29HE20190406,   A17,72,0,15,15,2,20190511,1349,6.7974,-25.0521, 4463,    401.8,   9.7963,  35.0009,2,     -999,9,     49.8,2,     -999,9,     -999,9,     -999,9,     -999,9,     -999,9,-999.0,9,    25.00,1428,20190511
  29HE20190406,   A17,72,0,16,16,2,20190511,1349,6.7974,-25.0521, 4463,    402.8,   9.7977,  35.0008,2,  35.0009,2,     49.6,2,     51.1,2,    15.61,2,    35.09,2,     2.13,2,     -999,9,7.4845,2,    25.00,1428,20190511
  29HE20190406,   A17,72,0,17,17,2,20190511,1349,6.7974,-25.0521, 4463,    302.6,  11.4430,  35.1444,2,     -999,9,     73.7,2,     74.5,2,    11.62,2,    29.24,2,     1.79,2,     -999,9,7.5685,2,    25.00,1431,20190511
  29HE20190406,   A17,72,0,18,18,2,20190511,1349,6.7974,-25.0521, 4463,    197.1,  12.7826,  35.2780,2,  35.2753,2,    137.6,2,    136.3,2,     8.30,2,    20.06,2,     1.31,2,     -999,9,7.7125,2,    25.00,1434,20190511
  29HE20190406,   A17,72,0,19,19,2,20190511,1349,6.7974,-25.0521, 4463,    197.2,  12.7821,  35.2778,2,     -999,9,    140.2,2,     -999,9,     -999,9,     -999,9,     -999,9,     -999,9,-999.0,9,    25.00,1434,20190511
  29HE20190406,   A17,72,0,20,20,2,20190511,1349,6.7974,-25.0521, 4463,    102.3,  14.0282,  35.4528,2,  35.4538,2,    112.7,2,    112.3,2,     7.53,2,    20.80,2,     1.31,2,     -999,9,7.6995,2,    25.00,1437,20190511
  29HE20190406,   A17,72,0,21,21,2,20190511,1349,6.7974,-25.0521, 4463,    101.7,  14.0376,  35.4536,2,     -999,9,    112.5,2,     -999,9,     -999,9,     -999,9,     -999,9,     -999,9,-999.0,9,    25.00,1437,20190511
  29HE20190406,   A17,72,0,22,22,2,20190511,1349,6.7974,-25.0521, 4463,     53.3,  18.5876,  35.9330,2,  35.9328,2,    125.0,3,    130.8,2,     4.57,2,    12.47,2,     0.78,2,     -999,9,7.8056,2,    25.00,1439,20190511
  29HE20190406,   A17,72,0,23,23,2,20190511,1349,6.7974,-25.0521, 4463,      5.9,  27.6481,  36.2414,2,     -999,9,    202.5,2,     -999,9,     -999,9,     -999,9,     -999,9,     -999,9,-999.0,9,    25.00,1442,20190511
  29HE20190406,   A17,72,0,24,24,2,20190511,1349,6.7974,-25.0521, 4463,      5.4,  27.6579,  36.2420,2,  36.2364,2,    202.6,2,    201.3,2,     0.69,2,     0.01,2,     0.00,2,     -999,9,8.0967,2,    25.00,1442,20190511
  29HE20190406,   A17,73,0,1,1,2,20190511,2307,7.9102,-24.8597, 5015,   5005.1,   2.3163,  34.8796,2,  34.8835,2,    240.9,2,    241.5,2,    50.64,2,    23.01,2,     1.53,2,   2355.5,2,7.7263,2,    25.00,2307,20190511
  29HE20190406,   A17,73,0,2,2,2,20190511,2307,7.9102,-24.8597, 5015,   4499.4,   2.3195,  34.8854,2,     -999,9,    247.0,2,     -999,9,     -999,9,     -999,9,     -999,9,     -999,9,-999.0,9,    25.00,2317,20190511
  29HE20190406,   A17,73,0,3,3,2,20190511,2307,7.9102,-24.8597, 5015,   4002.0,   2.3511,  34.8919,2,     -999,9,    247.0,2,     -999,9,    44.06,2,    22.03,2,     1.46,2,   2342.8,2,7.7266,2,    25.00,2328,20190511
  29HE20190406,   A17,73,0,4,4,2,20190511,2307,7.9102,-24.8597, 5015,   3502.3,   2.5009,  34.9060,2,  34.9067,2,    246.9,2,    247.4,2,    39.76,2,    21.78,2,     1.46,2,   2337.5,2,7.7298,2,    25.00,2337,20190511
  29HE20190406,   A17,73,0,5,5,2,20190511,2307,7.9102,-24.8597, 5015,   3002.2,   2.6730,  34.9202,2,     -999,9,    245.8,2,    246.3,2,    35.74,2,    21.52,2,     1.43,2,   2333.2,2,7.7316,2,    25.00,2348,20190511
  29HE20190406,   A17,73,0,6,6,2,20190511,2307,7.9102,-24.8597, 5015,   2503.6,   3.0027,  34.9434,2,  34.9421,2,    247.1,2,    247.6,2,    28.82,2,    20.84,2,     1.39,2,   2326.2,2,7.7345,2,    25.00,2358,20190511
  29HE20190406,   A17,73,0,7,7,2,20190511,2307,7.9102,-24.8597, 5015,   2277.0,   3.2176,  34.9528,2,     -999,9,    244.8,2,    246.4,2,    26.05,2,    20.81,2,     1.38,2,   2322.8,2,7.7326,2,    25.00,4,20190511
  29HE20190406,   A17,73,0,8,8,2,20190511,2307,7.9102,-24.8597, 5015,   2001.4,   3.5193,  34.9624,2,  34.9610,2,    240.7,2,    241.6,2,    23.14,2,    21.07,2,     1.39,2,   2318.7,2,7.7271,2,    25.00,10,20190511
  29HE20190406,   A17,73,0,9,9,2,20190511,2307,7.9102,-24.8597, 5015,   1800.4,   3.7817,  34.9732,2,     -999,9,    240.0,2,    240.3,2,    19.95,2,    20.81,2,     1.38,2,   2316.0,2,7.7263,2,    25.00,15,20190511
  29HE20190406,   A17,73,0,10,10,2,20190511,2307,7.9102,-24.8597, 5015,   1600.0,   4.1456,  34.9696,2,  34.9701,2,    226.7,2,    226.7,2,    19.53,2,    21.95,2,     1.46,2,   2315.1,2,7.7087,2,    25.00,20,20190511
  29HE20190406,   A17,73,0,11,11,2,20190511,2307,7.9102,-24.8597, 5015,   1399.6,   4.5015,  34.9344,2,     -999,9,    199.2,2,    199.8,2,    21.70,2,    25.17,2,     1.67,2,   2314.1,2,7.6721,2,    25.00,25,20190511
  29HE20190406,   A17,73,0,12,12,2,20190511,2307,7.9102,-24.8597, 5015,   1199.7,   4.8510,  34.8628,2,  34.8628,2,    170.1,2,    170.1,2,    24.26,2,    28.67,2,     1.92,2,   2311.4,2,7.627,2,    25.00,29,20190511
  29HE20190406,   A17,73,0,13,13,2,20190511,2307,7.9102,-24.8597, 5015,   1000.9,   5.0609,  34.7070,2,     -999,9,    136.8,2,    137.4,2,    28.13,2,    33.61,2,     2.26,2,   2307.7,2,7.5622,2,    25.00,34,20190511
  29HE20190406,   A17,73,0,14,14,2,20190511,2307,7.9102,-24.8597, 5015,    902.5,   5.1732,  34.6474,2,  34.6491,2,    132.2,2,    132.0,2,    28.48,2,    34.60,2,     2.31,2,   2305.5,2,7.5503,2,    25.00,36,20190511
  29HE20190406,   A17,73,0,15,15,2,20190511,2307,7.9102,-24.8597, 5015,    800.5,   5.7060,  34.6548,2,     -999,9,    112.8,2,    111.9,2,    27.00,2,    36.14,2,     2.38,2,   2302.4,2,7.5223,2,    25.00,39,20190511
  29HE20190406,   A17,73,0,16,16,2,20190511,2307,7.9102,-24.8597, 5015,    702.6,   6.2341,  34.6776,2,  34.6777,2,    101.7,2,    100.9,2,    24.90,2,    36.52,2,     2.38,2,   2301.6,2,7.5134,2,    25.00,42,20190511
  29HE20190406,   A17,73,0,17,17,2,20190511,2307,7.9102,-24.8597, 5015,    601.3,   7.3405,  34.7777,2,     -999,9,     79.8,2,     80.0,2,    21.54,2,    36.74,2,     2.35,2,   2302.1,2,7.4949,2,    25.00,45,20190511
  29HE20190406,   A17,73,0,18,18,2,20190511,2307,7.9102,-24.8597, 5015,    503.4,   8.5511,  34.8877,2,  34.8860,2,     64.5,2,     64.5,2,    18.18,2,    35.99,2,     2.25,2,   2301.9,2,7.4906,2,    25.00,48,20190511
  29HE20190406,   A17,73,0,19,19,2,20190511,2307,7.9102,-24.8597, 5015,    400.2,   9.6265,  34.9455,2,     -999,9,     74.7,2,     75.0,2,    14.92,2,    32.83,2,     2.03,2,   2304.0,2,7.5316,2,    25.00,51,20190511
  29HE20190406,   A17,73,0,20,20,2,20190511,2307,7.9102,-24.8597, 5015,    298.5,  10.8719,  35.0642,2,  35.0654,2,     94.1,2,     93.6,2,    12.04,2,    28.27,2,     1.77,2,   2308.7,2,7.5935,2,    25.00,54,20190511
  29HE20190406,   A17,73,0,21,21,2,20190511,2307,7.9102,-24.8597, 5015,    202.5,  12.2521,  35.2080,2,     -999,9,    141.1,2,    141.3,2,     8.83,2,    20.56,2,     1.36,2,   2318.8,2,7.7105,2,    25.00,57,20190511
  29HE20190406,   A17,73,0,22,22,2,20190511,2307,7.9102,-24.8597, 5015,    103.8,  14.4666,  35.5456,2,  35.5578,2,    144.6,2,    143.5,2,     6.57,2,    16.58,2,     1.09,2,   2337.0,2,7.7657,2,    25.00,100,20190511
  29HE20190406,   A17,73,0,23,23,2,20190511,2307,7.9102,-24.8597, 5015,     52.4,  22.4578,  35.9947,2,     -999,9,    195.7,2,    195.6,2,     2.27,2,     0.12,2,     0.08,2,   2365.4,2,7.9943,2,    25.00,102,20190511
  29HE20190406,   A17,73,0,24,24,2,20190511,2307,7.9102,-24.8597, 5015,      5.1,  26.5032,  36.1810,2,  36.1865,2,    206.5,2,    205.5,2,     1.13,2,     0.04,2,     0.01,2,   2369.5,2,8.0671,2,    25.00,104,20190511