BOTTLE,20240229CCHSIOSLL
EXPOCODE,SECT_ID,STNNBR,CASTNO,SAMPNO,BTLNBR,BTLNBR_FLAG_W,DATE,TIME,LATITUDE,LONGITUDE,DEPTH,CTDPRS,CTDTMP,CTDSAL,CTDSAL_FLAG_W,SALNTY,SALNTY_FLAG_W,CTDOXY,CTDOXY_FLAG_W,OXYGEN,OXYGEN_FLAG_W,SILCAT,SILCAT_FLAG_W,NITRAT,NITRAT_FLAG_W,PHSPHT,PHSPHT_FLAG_W,ALKALI,ALKALI_FLAG_W,PH_TOT,PH_TOT_FLAG_W,PH_TMP,BTL_TIME,BTL_DATE
,,,,,,,,,,,METERS,DBAR,ITS-90,PSS-78,,PSS-78,,UMOL/KG,,UMOL/KG,,UMOL/KG,,UMOL/KG,,UMOL/KG,,UMOL/KG,,,,DEG C,,
  29HE20190406,   A17,58,1,13,13,2,20190505,1516,-8.5907,-30.3202, 5419,    992.4,   4.0637,  34.5556,2,     -999,9,    130.6,4,     -999,9,    34.54,2,    32.49,2,     2.20,2,     -999,9,-999.0,9,    25.00,1516,20190505
  29HE20190406,   A17,58,1,14,14,2,20190505,1516,-8.5907,-30.3202, 5419,    900.8,   4.1943,  34.5004,2,  34.4952,2,    163.6,2,    166.5,2,    34.08,2,    33.21,2,     2.24,2,     -999,9,7.5778,2,    25.00,1519,20190505
  29HE20190406,   A17,58,1,15,15,2,20190505,1516,-8.5907,-30.3202, 5419,    800.5,   4.5136,  34.4666,2,     -999,9,    157.9,2,    160.5,2,    31.74,2,    33.67,2,     2.26,2,     -999,9,7.5668,2,    25.00,1522,20190505
  29HE20190406,   A17,58,1,16,16,2,20190505,1516,-8.5907,-30.3202, 5419,    702.7,   5.0187,  34.4666,2,  34.4634,2,    149.8,2,    152.3,2,    28.19,2,    33.98,2,     2.26,2,     -999,9,7.5593,2,    25.00,1525,20190505
  29HE20190406,   A17,58,1,17,17,2,20190505,1516,-8.5907,-30.3202, 5419,    607.0,   5.8550,  34.5115,2,     -999,9,    134.4,2,    136.0,2,    23.80,2,    33.76,2,     2.22,2,     -999,9,7.549,2,    25.00,1529,20190505
  29HE20190406,   A17,58,1,18,18,2,20190505,1516,-8.5907,-30.3202, 5419,    504.5,   6.9278,  34.5874,2,  34.5885,2,    124.3,2,    124.6,2,    19.80,2,    32.76,2,     2.12,2,     -999,9,7.5512,2,    25.00,1533,20190505
  29HE20190406,   A17,58,1,19,19,2,20190505,1516,-8.5907,-30.3202, 5419,    402.5,   8.1334,  34.7179,2,     -999,9,     95.9,2,     97.8,2,    17.02,2,    32.99,2,     2.09,2,     -999,9,7.5321,2,    25.00,1536,20190505
  29HE20190406,   A17,58,2,20,20,2,20190505,1544,-8.5907,-30.3202, 5419,    311.7,   9.7232,  34.9004,2,  34.8965,2,     92.7,2,     94.3,2,    13.19,2,    29.47,2,     1.87,2,     -999,9,7.5684,2,    25.00,1544,20190505
  29HE20190406,   A17,58,3,21,21,2,20190505,1549,-8.5907,-30.3202, 5419,    203.8,  14.7750,  35.5406,2,     -999,9,    126.5,2,     -999,9,     4.90,2,    14.19,2,     0.98,2,     -999,9,7.7766,2,    25.00,1549,20190505
  29HE20190406,   A17,58,4,22,22,2,20190505,1554,-8.5907,-30.3202, 5419,    103.5,  24.6640,  36.9035,2,  36.9244,3,    183.3,2,     -999,9,     1.05,2,     0.01,2,     0.07,2,     -999,9,8.0513,2,    25.00,1554,20190505
  29HE20190406,   A17,58,4,23,23,2,20190505,1554,-8.5907,-30.3202, 5419,     50.6,  28.9957,  36.3486,2,     -999,9,    194.5,2,    195.0,2,     1.01,2,     0.01,2,     0.03,2,     -999,9,8.0845,2,    25.00,1556,20190505
  29HE20190406,   A17,58,4,24,24,2,20190505,1554,-8.5907,-30.3202, 5419,      4.5,  29.0474,  36.3524,2,  36.3442,2,    195.5,2,    195.6,2,     1.05,2,     0.01,2,     0.03,2,     -999,9,8.0865,2,    25.00,1559,20190505
  29HE20190406,   A17,59,0,1,1,2,20190505,2354,-7.4964,-30.2541, 5413,   5402.8,   0.6805,  34.7016,2,     -999,9,    218.6,2,    221.9,2,   115.41,2,    31.25,2,     2.15,2,   2370.5,2,7.622,2,    25.00,2354,20190505
  29HE20190406,   A17,59,0,2,2,2,20190505,2354,-7.4964,-30.2541, 5413,   4999.6,   0.8065,  34.7200,2,  34.7235,2,    221.9,2,    224.2,2,   110.16,2,    30.18,2,     2.10,2,   2368.9,2,7.636,2,    25.00,3,20190505
  29HE20190406,   A17,59,0,3,3,2,20190505,2354,-7.4964,-30.2541, 5413,   4499.0,   1.0717,  34.7539,2,     -999,9,    227.2,2,    229.8,2,    97.28,2,    28.73,2,     1.94,2,   2364.3,2,7.6581,2,    25.00,15,20190505
  29HE20190406,   A17,59,0,4,4,2,20190505,2354,-7.4964,-30.2541, 5413,   3999.3,   1.9259,  34.8489,2,  34.8522,2,    244.5,2,    246.6,2,    56.79,2,    23.07,2,     1.56,2,   2345.4,2,7.71,2,    25.00,25,20190505
  29HE20190406,   A17,59,0,5,5,2,20190505,2354,-7.4964,-30.2541, 5413,   3505.4,   2.5202,  34.9112,2,     -999,9,    255.0,2,    257.9,2,    32.35,2,    19.52,2,     1.32,2,   2331.4,2,7.7376,2,    25.00,36,20190505
  29HE20190406,   A17,59,0,6,6,2,20190505,2354,-7.4964,-30.2541, 5413,   3000.8,   2.6921,  34.9161,2,  34.9200,2,    245.7,2,    248.8,2,    34.74,2,    20.74,2,     1.40,2,   2333.7,2,7.7311,2,    25.00,47,20190505
  29HE20190406,   A17,59,0,7,7,2,20190505,2354,-7.4964,-30.2541, 5413,   2493.6,   2.9279,  34.9261,2,     -999,9,    242.4,2,    246.2,2,    32.26,2,    20.90,2,     1.40,2,   2331.0,2,7.7289,2,    25.00,59,20190505
  29HE20190406,   A17,59,0,8,8,2,20190505,2354,-7.4964,-30.2541, 5413,   2298.7,   3.1039,  34.9393,2,  34.9417,2,    245.0,2,    248.7,2,    27.78,2,    20.31,2,     1.34,2,   2325.9,2,7.7318,2,    25.00,104,20190505
  29HE20190406,   A17,59,0,9,9,2,20190505,2354,-7.4964,-30.2541, 5413,   2002.0,   3.4838,  34.9599,2,     -999,9,    246.5,2,     -999,9,     -999,9,     -999,9,     -999,9,     -999,9,-999.0,9,    25.00,110,20190505
  29HE20190406,   A17,59,0,10,10,2,20190505,2354,-7.4964,-30.2541, 5413,   1800.3,   3.8530,  34.9737,2,  34.9749,2,    243.4,2,    247.0,2,    18.21,2,    19.48,2,     1.30,2,   2317.3,2,7.7267,2,    25.00,115,20190505
  29HE20190406,   A17,59,0,11,11,2,20190505,2354,-7.4964,-30.2541, 5413,   1602.2,   4.1918,  34.9650,2,     -999,9,    229.0,2,    232.0,2,    18.42,2,    20.98,2,     1.39,2,   2316.4,2,7.7093,2,    25.00,120,20190505
  29HE20190406,   A17,59,0,12,12,2,20190505,2354,-7.4964,-30.2541, 5413,   1402.7,   4.3608,  34.8950,2,  34.8966,2,    202.0,2,    203.8,2,    22.21,2,    24.71,2,     1.65,2,   2315.7,2,7.6707,2,    25.00,125,20190505
  29HE20190406,   A17,59,0,13,13,2,20190505,2354,-7.4964,-30.2541, 5413,   1201.3,   4.3772,  34.7774,2,     -999,9,    178.7,2,    180.1,2,    27.01,2,    28.35,2,     1.91,2,   2312.2,2,7.6267,2,    25.00,130,20190505
  29HE20190406,   A17,59,0,14,14,2,20190505,2354,-7.4964,-30.2541, 5413,   1001.9,   4.2562,  34.5879,2,  34.5904,2,    160.3,2,    161.4,2,    32.49,2,    32.28,2,     2.21,2,   2308.0,2,7.5778,2,    25.00,135,20190505
  29HE20190406,   A17,59,0,15,15,2,20190505,2354,-7.4964,-30.2541, 5413,    800.1,   4.6614,  34.4673,2,     -999,9,    157.6,2,    158.8,2,    30.45,2,    33.28,2,     2.27,2,   2301.8,2,7.5658,2,    25.00,140,20190505
  29HE20190406,   A17,59,0,16,16,2,20190505,2354,-7.4964,-30.2541, 5413,    697.3,   5.3426,  34.4994,2,  34.4997,2,    134.2,2,    135.1,2,    26.76,2,    34.65,2,     2.31,2,   2300.5,2,7.5367,2,    25.00,143,20190505
  29HE20190406,   A17,59,0,17,17,2,20190505,2354,-7.4964,-30.2541, 5413,    604.3,   5.9864,  34.5186,2,     -999,9,    139.3,2,    140.0,2,    23.25,2,    32.86,2,     2.18,2,   2298.4,2,7.5552,2,    25.00,146,20190505
  29HE20190406,   A17,59,0,18,18,2,20190505,2354,-7.4964,-30.2541, 5413,    498.4,   6.6832,  34.5673,2,  34.5690,2,    134.8,2,    136.6,2,    20.56,2,    31.97,2,     2.10,2,   2296.8,2,7.5612,2,    25.00,149,20190505
  29HE20190406,   A17,59,0,19,19,2,20190505,2354,-7.4964,-30.2541, 5413,    397.3,   8.0213,  34.7078,2,     -999,9,     90.7,2,     93.7,2,    17.71,2,    33.74,2,     2.13,2,   2298.6,2,7.5157,2,    25.00,152,20190505
  29HE20190406,   A17,59,0,20,20,2,20190505,2354,-7.4964,-30.2541, 5413,    303.3,   9.3881,  34.8497,2,  34.8545,2,    104.5,2,    105.6,2,    13.41,2,    29.09,2,     1.84,2,   2302.9,2,7.5772,2,    25.00,155,20190505
  29HE20190406,   A17,59,0,21,21,2,20190505,2354,-7.4964,-30.2541, 5413,    204.5,  14.2658,  35.4597,2,     -999,9,    132.8,2,    134.9,2,     5.89,2,    16.75,2,     1.12,2,   2333.2,2,7.7421,2,    25.00,158,20190505
  29HE20190406,   A17,59,0,22,22,2,20190505,2354,-7.4964,-30.2541, 5413,    103.8,  24.3715,  37.0108,2,  37.0234,2,    207.2,2,    209.2,2,     1.11,2,     0.00,2,     0.09,2,   2431.3,2,8.0346,2,    25.00,201,20190505
  29HE20190406,   A17,59,0,23,23,2,20190505,2354,-7.4964,-30.2541, 5413,     50.7,  29.2034,  35.8871,2,     -999,9,    195.4,2,    195.6,2,     1.08,2,     0.00,2,     0.01,2,   2355.6,2,8.0882,2,    25.00,203,20190505
  29HE20190406,   A17,59,1,24,24,2,20190505,207,-7.4964,-30.2541, 5413,      6.3,  29.1830,  35.8883,2,  35.8920,2,    194.8,2,    195.0,2,     1.08,2,     0.00,2,     0.01,2,   2354.5,2,8.0879,2,    25.00,207,20190505
  29HE20190406,   A17,60,0,1,1,2,20190506,1114,-6.3926,-29.7781, 5222,   4003.3,   1.8969,  34.8471,2,     -999,9,    246.3,2,    247.0,2,    58.11,2,    23.24,2,     1.60,2,     -999,9,7.709,2,    25.00,1114,20190506
  29HE20190406,   A17,60,0,2,2,2,20190506,1114,-6.3926,-29.7781, 5222,   3502.1,   2.5499,  34.9120,2,  34.9140,2,    255.7,2,    255.2,2,    33.53,2,    19.91,2,     1.35,2,     -999,9,7.7371,2,    25.00,1125,20190506
  29HE20190406,   A17,60,0,3,3,2,20190506,1114,-6.3926,-29.7781, 5222,   3000.4,   2.7122,  34.9152,2,     -999,9,    247.3,2,    247.4,2,    35.45,2,    20.91,2,     1.41,2,     -999,9,7.7303,2,    25.00,1135,20190506
  29HE20190406,   A17,60,0,4,4,2,20190506,1114,-6.3926,-29.7781, 5222,   2750.9,   2.7858,  34.9156,2,  34.9160,2,    243.9,2,    243.5,2,    35.91,2,    21.38,2,     1.43,2,     -999,9,7.7178,2,    25.00,1141,20190506
  29HE20190406,   A17,60,0,5,5,2,20190506,1114,-6.3926,-29.7781, 5222,   2501.8,   2.9232,  34.9216,2,     -999,9,    242.6,2,    242.7,2,    33.79,2,    21.33,2,     1.44,2,     -999,9,7.7264,2,    25.00,1147,20190506
  29HE20190406,   A17,60,0,6,6,2,20190506,1114,-6.3926,-29.7781, 5222,   2275.6,   3.1750,  34.9364,2,  34.9366,2,    243.7,2,    244.1,2,    29.10,2,    20.92,2,     1.40,2,     -999,9,7.728,2,    25.00,1152,20190506
  29HE20190406,   A17,60,0,7,7,2,20190506,1114,-6.3926,-29.7781, 5222,   2001.2,   3.6176,  34.9630,2,     -999,9,    246.5,2,    246.4,2,    21.18,2,    19.92,2,     1.33,2,     -999,9,7.7306,2,    25.00,1157,20190506
  29HE20190406,   A17,60,0,8,8,2,20190506,1114,-6.3926,-29.7781, 5222,   1800.2,   3.9369,  34.9722,2,  34.9729,2,    242.4,2,    241.9,2,    18.59,2,    20.09,2,     1.34,2,     -999,9,7.7247,2,    25.00,1203,20190506
  29HE20190406,   A17,60,0,9,9,2,20190506,1114,-6.3926,-29.7781, 5222,   1601.9,   4.2148,  34.9597,2,     -999,9,    227.6,2,    227.5,2,    18.99,2,    21.37,2,     1.43,2,     -999,9,7.7078,2,    25.00,1208,20190506
  29HE20190406,   A17,60,0,10,10,2,20190506,1114,-6.3926,-29.7781, 5222,   1398.1,   4.3707,  34.8961,2,  34.8951,2,    204.2,2,    203.6,2,    22.23,2,    24.58,2,     1.65,2,     -999,9,7.6725,2,    25.00,1216,20190506
  29HE20190406,   A17,60,0,11,11,2,20190506,1114,-6.3926,-29.7781, 5222,   1200.6,   4.3835,  34.7808,2,     -999,9,    181.0,2,    180.4,2,    26.86,2,    28.41,2,     1.92,2,     -999,9,7.628,2,    25.00,1221,20190506
  29HE20190406,   A17,60,0,12,12,2,20190506,1114,-6.3926,-29.7781, 5222,   1100.8,   4.2821,  34.6862,2,  34.6887,2,    169.4,2,    168.9,2,    30.30,2,    30.70,2,     2.08,2,     -999,9,7.6008,2,    25.00,1223,20190506
  29HE20190406,   A17,60,0,13,13,2,20190506,1114,-6.3926,-29.7781, 5222,   1000.8,   4.2685,  34.6013,2,     -999,9,    161.7,2,    160.9,2,    32.28,2,    32.42,2,     2.21,2,     -999,9,7.5786,2,    25.00,1226,20190506
  29HE20190406,   A17,60,0,14,14,2,20190506,1114,-6.3926,-29.7781, 5222,    900.4,   4.3825,  34.5287,2,  34.5343,2,    155.2,2,    154.3,2,    32.59,2,    33.85,2,     2.29,2,     -999,9,7.5639,2,    25.00,1229,20190506
  29HE20190406,   A17,60,0,15,15,2,20190506,1114,-6.3926,-29.7781, 5222,    802.8,   4.5514,  34.4766,2,     -999,9,    158.3,2,    158.1,2,    31.49,2,    34.00,2,     2.29,2,     -999,9,7.5645,2,    25.00,1232,20190506
  29HE20190406,   A17,60,0,16,16,2,20190506,1114,-6.3926,-29.7781, 5222,    702.6,   5.1341,  34.4847,2,  34.4884,2,    143.0,2,    142.7,2,    27.80,2,    34.60,2,     2.30,2,     -999,9,7.5487,2,    25.00,1235,20190506
  29HE20190406,   A17,60,0,17,17,2,20190506,1114,-6.3926,-29.7781, 5222,    603.4,   5.8959,  34.5306,2,     -999,9,    124.8,2,    124.8,2,    24.23,2,    35.17,2,     2.31,2,     -999,9,7.5306,2,    25.00,1238,20190506
  29HE20190406,   A17,60,0,18,18,2,20190506,1114,-6.3926,-29.7781, 5222,    496.9,   7.1018,  34.6317,2,  34.6347,2,     94.0,2,     94.4,2,    20.61,2,    35.85,2,     2.30,2,     -999,9,7.4986,2,    25.00,1241,20190506
  29HE20190406,   A17,60,0,19,19,2,20190506,1114,-6.3926,-29.7781, 5222,    401.3,   8.1655,  34.7286,2,     -999,9,     81.9,2,     82.0,2,    17.69,2,    34.54,2,     2.20,2,     -999,9,7.5003,2,    25.00,1244,20190506
  29HE20190406,   A17,60,0,20,20,2,20190506,1114,-6.3926,-29.7781, 5222,    301.1,   9.4078,  34.8513,2,  34.8542,2,     90.9,2,     90.5,2,    14.26,2,    30.98,2,     1.95,2,     -999,9,7.5474,2,    25.00,1247,20190506
  29HE20190406,   A17,60,0,21,21,2,20190506,1114,-6.3926,-29.7781, 5222,    201.4,  11.5852,  35.1224,2,     -999,9,    108.2,2,    107.8,2,     9.52,2,    24.45,2,     1.56,2,     -999,9,7.6355,2,    25.00,1250,20190506
  29HE20190406,   A17,60,0,22,22,2,20190506,1114,-6.3926,-29.7781, 5222,     99.7,  22.4237,  36.1813,2,  36.2018,3,    157.7,2,    159.1,2,     2.39,2,     2.15,3,     0.41,2,     -999,9,7.919,2,    25.00,1253,20190506
  29HE20190406,   A17,60,0,23,23,2,20190506,1114,-6.3926,-29.7781, 5222,     51.1,  29.3309,  35.8214,2,     -999,9,    196.7,2,    195.9,2,     1.01,2,     0.00,2,     0.00,2,     -999,9,8.0925,2,    25.00,1255,20190506
  29HE20190406,   A17,60,0,24,24,2,20190506,1114,-6.3926,-29.7781, 5222,      5.3,  29.3720,  35.8127,2,  35.8170,2,    197.0,2,    195.9,2,     1.00,2,     0.00,2,     0.01,2,     -999,9,8.094,2,    25.00,1257,20190506
  29HE20190406,   A17,61,0,1,1,2,20190506,2201,-5.3196,-29.3042, 5340,   5329.8,   0.6841,  34.7030,2,     -999,9,    220.5,2,    221.8,2,   114.31,2,    31.11,2,     2.15,2,   2371.7,2,7.6247,2,    25.00,2201,20190506
  29HE20190406,   A17,61,0,2,2,2,20190506,2201,-5.3196,-29.3042, 5340,   4994.5,   0.7832,  34.7176,2,  34.7199,2,    222.7,2,    223.8,2,   110.05,2,    30.42,2,     2.09,2,   2369.8,2,7.6331,2,    25.00,2208,20190506
  29HE20190406,   A17,61,0,3,3,2,20190506,2201,-5.3196,-29.3042, 5340,   4497.8,   1.0063,  34.7484,2,     -999,9,    228.1,2,    225.2,2,    99.15,2,    28.81,2,     1.98,2,   2367.2,2,7.6545,2,    25.00,2218,20190506
  29HE20190406,   A17,61,0,4,4,2,20190506,2201,-5.3196,-29.3042, 5340,   4000.7,   1.9926,  34.8576,2,  34.8600,2,    249.2,2,    250.2,2,    52.00,2,    22.21,2,     1.53,2,   2343.7,2,7.7147,2,    25.00,2229,20190506
  29HE20190406,   A17,61,0,5,5,2,20190506,2201,-5.3196,-29.3042, 5340,   3501.2,   2.5605,  34.9140,2,     -999,9,    256.8,2,    257.8,2,    31.30,2,    19.35,2,     1.33,2,   2332.6,2,7.7373,2,    25.00,2239,20190506
  29HE20190406,   A17,61,0,6,6,2,20190506,2201,-5.3196,-29.3042, 5340,   3001.4,   2.7047,  34.9222,2,  34.9233,2,    251.4,2,    252.2,2,    31.61,2,    19.82,2,     1.35,2,   2332.2,2,7.7354,2,    25.00,2250,20190506
  29HE20190406,   A17,61,0,7,7,2,20190506,2201,-5.3196,-29.3042, 5340,   2502.3,   2.9392,  34.9296,2,     -999,9,    245.3,2,    247.0,2,    30.94,2,    20.52,2,     1.38,2,   2331.2,2,7.73,2,    25.00,2301,20190506
  29HE20190406,   A17,61,0,8,8,2,20190506,2201,-5.3196,-29.3042, 5340,   2295.1,   3.1060,  34.9352,2,  34.9446,2,    243.6,2,    244.8,2,    29.11,2,    20.65,2,     1.39,2,   2330.2,2,7.7292,2,    25.00,2305,20190506
  29HE20190406,   A17,61,0,9,9,2,20190506,2201,-5.3196,-29.3042, 5340,   2004.7,   3.5628,  34.9623,2,     -999,9,    246.5,2,    247.5,2,    21.04,2,    19.65,2,     1.32,2,   2322.7,2,7.7314,2,    25.00,2312,20190506
  29HE20190406,   A17,61,0,10,10,2,20190506,2201,-5.3196,-29.3042, 5340,   1799.2,   3.8398,  34.9704,2,  34.9833,3,    242.4,2,    243.7,2,    18.76,2,    19.78,2,     1.34,2,   2318.6,2,7.7262,2,    25.00,2317,20190506
  29HE20190406,   A17,61,0,11,11,2,20190506,2201,-5.3196,-29.3042, 5340,   1593.5,   4.1961,  34.9621,2,     -999,9,    228.2,2,    229.5,2,    18.51,2,    21.21,2,     1.43,2,   2318.2,2,7.7083,2,    25.00,2321,20190506
  29HE20190406,   A17,61,0,12,12,2,20190506,2201,-5.3196,-29.3042, 5340,   1402.9,   4.3568,  34.9085,2,  34.9078,2,    206.6,2,    207.3,2,    21.55,2,    24.24,2,     1.63,2,   2317.2,2,7.6772,2,    25.00,2326,20190506
  29HE20190406,   A17,61,0,13,13,2,20190506,2201,-5.3196,-29.3042, 5340,   1196.8,   4.3317,  34.7742,2,     -999,9,    179.1,2,    180.0,2,    26.98,2,    28.46,2,     1.94,2,   2315.5,2,7.6252,2,    25.00,2331,20190506
  29HE20190406,   A17,61,0,14,14,2,20190506,2201,-5.3196,-29.3042, 5340,    999.2,   4.2726,  34.5710,2,  34.5769,2,    161.7,2,    161.6,2,    32.49,2,    32.66,2,     2.23,2,   2309.6,2,7.578,2,    25.00,2335,20190506
  29HE20190406,   A17,61,0,15,15,2,20190506,2201,-5.3196,-29.3042, 5340,    805.1,   4.8818,  34.4882,2,     -999,9,    146.7,2,    146.4,2,    29.29,2,    34.66,2,     2.32,2,   2301.9,2,7.5494,2,    25.00,2340,20190506
  29HE20190406,   A17,61,0,16,16,2,20190506,2201,-5.3196,-29.3042, 5340,    699.1,   5.3806,  34.4943,2,  34.5104,3,    141.8,2,    141.4,2,    26.32,2,    34.15,2,     2.28,2,   2299.6,2,7.5481,2,    25.00,2343,20190506
  29HE20190406,   A17,61,0,17,17,2,20190506,2201,-5.3196,-29.3042, 5340,    597.2,   5.8889,  34.5091,2,     -999,9,    150.0,2,    149.1,2,    23.26,2,    32.45,2,     2.15,2,   2297.5,2,7.5694,2,    25.00,2346,20190506
  29HE20190406,   A17,61,0,18,18,2,20190506,2201,-5.3196,-29.3042, 5340,    501.6,   6.5930,  34.5603,2,     -999,9,    139.6,2,     -999,9,     -999,9,     -999,9,     -999,9,     -999,9,-999.0,9,    25.00,2348,20190506
  29HE20190406,   A17,61,0,19,19,2,20190506,2201,-5.3196,-29.3042, 5340,    402.5,   7.7809,  34.6713,2,     -999,9,    113.1,2,    113.3,2,    17.60,2,    32.21,2,     2.07,2,   2298.8,2,7.5467,2,    25.00,2351,20190506
  29HE20190406,   A17,61,0,20,20,2,20190506,2201,-5.3196,-29.3042, 5340,    298.3,   9.0282,  34.7917,2,  34.7905,2,    115.1,2,    115.4,2,    14.12,2,    29.20,2,     1.86,2,   2302.4,2,7.5804,2,    25.00,2354,20190506
  29HE20190406,   A17,61,0,21,21,2,20190506,2201,-5.3196,-29.3042, 5340,    199.2,  11.4893,  35.1087,2,     -999,9,    107.0,2,     -999,9,     -999,9,     -999,9,     -999,9,     -999,9,-999.0,9,    25.00,2357,20190506
  29HE20190406,   A17,61,0,22,22,2,20190506,2201,-5.3196,-29.3042, 5340,    105.7,  21.2832,  36.2579,2,  36.2593,2,    152.5,2,    152.9,2,     2.38,2,     4.76,2,     0.54,2,   2381.4,2,7.893,2,    25.00,2359,20190506
  29HE20190406,   A17,61,0,23,23,2,20190506,2201,-5.3196,-29.3042, 5340,     55.4,  29.2006,  35.8922,2,     -999,9,    198.4,2,    196.9,2,     0.93,2,     0.00,2,     0.02,2,   2352.9,2,8.0863,2,    25.00,2,20190506
  29HE20190406,   A17,61,0,24,24,2,20190506,2201,-5.3196,-29.3042, 5340,      5.4,  29.2292,  35.8356,2,  35.8441,2,    196.9,2,    196.5,2,     0.95,2,     0.00,2,     0.02,2,   2350.7,2,8.0931,2,    25.00,4,20190506