BOTTLE,20240229CCHSIOSLL
EXPOCODE,SECT_ID,STNNBR,CASTNO,SAMPNO,BTLNBR,BTLNBR_FLAG_W,DATE,TIME,LATITUDE,LONGITUDE,DEPTH,CTDPRS,CTDTMP,CTDSAL,CTDSAL_FLAG_W,SALNTY,SALNTY_FLAG_W,CTDOXY,CTDOXY_FLAG_W,OXYGEN,OXYGEN_FLAG_W,SILCAT,SILCAT_FLAG_W,NITRAT,NITRAT_FLAG_W,PHSPHT,PHSPHT_FLAG_W,ALKALI,ALKALI_FLAG_W,PH_TOT,PH_TOT_FLAG_W,PH_TMP,BTL_TIME,BTL_DATE
,,,,,,,,,,,METERS,DBAR,ITS-90,PSS-78,,PSS-78,,UMOL/KG,,UMOL/KG,,UMOL/KG,,UMOL/KG,,UMOL/KG,,UMOL/KG,,,,DEG C,,
  29HE20190406,   A17,77,0,1,1,2,20190515,1817,20.2982,-23.475, 4545,   4000.6,   2.3657,  34.8982,2,     -999,9,    244.2,2,    244.8,2,    44.87,2,    21.94,2,     1.48,2,   2350.8,2,7.7366,2,    25.00,1817,20190515
  29HE20190406,   A17,77,0,2,2,2,20190515,1817,20.2982,-23.475, 4545,   3501.7,   2.5188,  34.9174,2,  34.9248,2,    238.5,2,    238.7,2,    41.64,2,    22.17,2,     1.48,2,   2352.4,2,7.7339,2,    25.00,1827,20190515
  29HE20190406,   A17,77,0,3,3,2,20190515,1817,20.2982,-23.475, 4545,   3003.6,   2.8335,  34.9459,2,     -999,9,    237.6,2,    237.6,2,    35.42,2,    21.58,2,     1.44,2,   2342.3,2,7.7314,2,    25.00,1838,20190515
  29HE20190406,   A17,77,0,4,4,2,20190515,1817,20.2982,-23.475, 4545,   2752.4,   2.9895,  34.9558,2,  34.9578,2,    235.7,2,    235.1,2,    33.05,2,    21.64,2,     1.44,2,   2336.9,2,7.7289,2,    25.00,1844,20190515
  29HE20190406,   A17,77,0,5,5,2,20190515,1817,20.2982,-23.475, 4545,   2500.4,   3.2193,  34.9731,2,     -999,9,    234.2,2,    233.7,2,    29.58,2,    21.09,2,     1.43,2,   2331.7,2,7.7268,2,    25.00,1851,20190515
  29HE20190406,   A17,77,0,6,6,2,20190515,1817,20.2982,-23.475, 4545,   2274.7,   3.4431,  34.9880,2,  34.9896,2,    230.4,2,    230.1,2,    27.60,2,    21.41,2,     1.44,2,   2329.7,2,7.7224,2,    25.00,1856,20190515
  29HE20190406,   A17,77,0,7,7,2,20190515,1817,20.2982,-23.475, 4545,   1999.6,   3.7668,  35.0069,2,     -999,9,    226.9,2,    226.5,2,    24.12,2,    21.19,2,     1.45,2,   2325.3,2,7.7195,2,    25.00,1902,20190515
  29HE20190406,   A17,77,0,8,8,2,20190515,1817,20.2982,-23.475, 4545,   1800.4,   4.1415,  35.0307,2,  35.0313,2,    218.3,2,    217.7,2,    22.64,2,    21.80,2,     1.47,2,   2325.1,2,7.7127,2,    25.00,1906,20190515
  29HE20190406,   A17,77,0,9,9,2,20190515,1817,20.2982,-23.475, 4545,   1599.7,   4.7322,  35.0672,2,     -999,9,    202.1,2,    201.6,2,    21.66,2,    22.98,2,     1.54,2,   2324.9,2,7.6975,2,    25.00,1911,20190515
  29HE20190406,   A17,77,0,10,10,2,20190515,1817,20.2982,-23.475, 4545,   1400.3,   5.3856,  35.0852,2,  35.0868,2,    185.8,2,    185.4,2,    20.44,2,    24.24,2,     1.61,2,   2323.5,2,7.6821,2,    25.00,1915,20190515
  29HE20190406,   A17,77,0,11,11,2,20190515,1817,20.2982,-23.475, 4545,   1198.3,   6.0044,  35.0699,2,     -999,9,    161.3,2,    160.6,2,    20.87,2,    26.62,2,     1.75,2,   2321.7,2,7.6505,2,    25.00,1920,20190515
  29HE20190406,   A17,77,0,12,12,2,20190515,1817,20.2982,-23.475, 4545,   1100.8,   6.4697,  35.0772,2,  35.0804,2,    158.1,2,    157.8,2,    19.60,2,    26.46,2,     1.74,2,   2320.4,2,7.6541,2,    25.00,1923,20190515
  29HE20190406,   A17,77,0,13,13,2,20190515,1817,20.2982,-23.475, 4545,    999.4,   6.7681,  35.0442,2,     -999,9,    137.2,2,    136.5,2,    20.53,2,    28.71,2,     1.89,2,   2318.7,2,7.6217,2,    25.00,1926,20190515
  29HE20190406,   A17,77,0,14,14,2,20190515,1817,20.2982,-23.475, 4545,    899.2,   7.0885,  35.0180,2,  35.0194,2,    117.5,2,    117.1,2,    20.57,2,    30.55,2,     1.99,2,   2317.2,2,7.591,2,    25.00,1929,20190515
  29HE20190406,   A17,77,0,15,15,2,20190515,1817,20.2982,-23.475, 4545,    798.4,   7.7353,  35.0548,2,     -999,9,    104.3,2,    104.2,2,    19.24,2,    31.03,2,     1.99,2,   2315.6,2,7.5804,2,    25.00,1932,20190515
  29HE20190406,   A17,77,0,16,16,2,20190515,1817,20.2982,-23.475, 4545,    695.3,   8.6100,  35.1334,2,  35.1363,2,     94.7,2,     94.8,2,    17.12,2,    30.77,2,     1.95,2,   2316.5,2,7.5792,2,    25.00,1935,20190515
  29HE20190406,   A17,77,0,17,17,2,20190515,1817,20.2982,-23.475, 4545,    601.5,   9.8724,  35.2864,2,     -999,9,     87.9,2,     86.7,2,    14.25,2,    29.58,2,     1.81,2,   2321.4,2,7.5862,2,    25.00,1937,20190515
  29HE20190406,   A17,77,0,18,18,2,20190515,1817,20.2982,-23.475, 4545,    501.2,  11.1035,  35.4292,2,  35.4289,2,     81.8,2,     82.0,2,    11.57,2,    27.67,2,     1.65,2,   2326.2,2,7.5989,2,    25.00,1940,20190515
  29HE20190406,   A17,77,0,19,19,2,20190515,1817,20.2982,-23.475, 4545,    401.6,  12.6999,  35.6564,2,     -999,9,     96.6,2,     96.6,2,     8.41,2,    23.23,2,     1.35,2,   2335.6,2,7.6562,2,    25.00,1943,20190515
  29HE20190406,   A17,77,0,20,20,2,20190515,1817,20.2982,-23.475, 4545,    300.1,  14.3299,  35.8988,2,  35.8991,2,    117.9,2,    118.1,2,     6.02,2,    18.20,2,     1.04,2,   2348.7,2,7.7289,2,    25.00,1945,20190515
  29HE20190406,   A17,77,0,21,21,2,20190515,1817,20.2982,-23.475, 4545,    200.0,  16.3552,  36.1830,2,     -999,9,    119.7,2,    120.1,2,     4.49,2,    15.51,2,     0.90,2,   2365.3,2,7.7655,2,    25.00,1948,20190515
  29HE20190406,   A17,77,0,22,22,2,20190515,1817,20.2982,-23.475, 4545,     99.3,  20.7607,  37.0183,2,  37.0232,2,    193.9,2,    196.3,2,     1.00,2,     2.41,2,     0.16,2,   2420.9,2,7.9599,2,    25.00,1951,20190515
  29HE20190406,   A17,77,0,23,23,2,20190515,1817,20.2982,-23.475, 4545,     51.5,  21.9278,  36.8332,2,     -999,9,    221.1,2,    221.0,2,     0.65,2,     0.01,2,     0.10,2,   2411.2,2,8.0071,2,    25.00,1953,20190515
  29HE20190406,   A17,77,0,24,24,2,20190515,1817,20.2982,-23.475, 4545,      5.9,  22.1534,  36.7344,2,  36.7344,2,    220.0,2,    219.4,2,     0.66,2,     0.03,2,     0.10,2,   2405.3,2,8.006,2,    25.00,1955,20190515
  29HE20190406,   A17,78,0,1,1,2,20190516,514,21.3681,-22.537, 4655,   2000.4,   3.9524,  35.0264,2,     -999,9,    221.6,2,     -999,9,     -999,9,     -999,9,     -999,9,     -999,9,-999.0,9,    25.00,514,20190516
  29HE20190406,   A17,78,0,2,2,2,20190516,514,21.3681,-22.537, 4655,   2000.3,   3.9522,  35.0264,2,  35.0287,2,    221.6,2,    220.8,2,    24.80,2,    21.94,2,     1.47,2,     -999,9,7.715,2,    25.00,514,20190516
  29HE20190406,   A17,78,0,3,3,2,20190516,514,21.3681,-22.537, 4655,   1701.3,   4.6356,  35.0728,2,     -999,9,    208.3,2,    208.4,2,    21.69,2,    22.45,2,     1.50,2,     -999,9,7.7053,2,    25.00,521,20190516
  29HE20190406,   A17,78,0,4,4,2,20190516,514,21.3681,-22.537, 4655,   1498.6,   5.4929,  35.1389,2,  35.1396,2,    193.5,2,    192.8,2,    19.75,2,    22.86,2,     1.52,2,     -999,9,7.6985,2,    25.00,525,20190516
  29HE20190406,   A17,78,0,5,5,2,20190516,514,21.3681,-22.537, 4655,   1499.8,   5.5005,  35.1396,2,     -999,9,    193.4,2,     -999,9,     -999,9,     -999,9,     -999,9,     -999,9,-999.0,9,    25.00,525,20190516
  29HE20190406,   A17,78,0,6,6,2,20190516,514,21.3681,-22.537, 4655,   1198.5,   6.3426,  35.0748,2,  35.0766,2,    153.3,2,    153.2,2,    20.56,2,    27.25,2,     1.78,2,     -999,9,7.6438,2,    25.00,532,20190516
  29HE20190406,   A17,78,0,7,7,2,20190516,514,21.3681,-22.537, 4655,   1199.1,   6.3469,  35.0744,2,     -999,9,    153.5,2,     -999,9,     -999,9,     -999,9,     -999,9,     -999,9,-999.0,9,    25.00,532,20190516
  29HE20190406,   A17,78,0,8,8,2,20190516,514,21.3681,-22.537, 4655,   1000.4,   6.8246,  34.9976,2,  34.9999,2,    119.4,2,    119.6,2,    21.58,2,    30.90,2,     2.01,2,     -999,9,7.5881,2,    25.00,537,20190516
  29HE20190406,   A17,78,0,9,9,2,20190516,514,21.3681,-22.537, 4655,   1000.2,   6.8243,  34.9976,2,     -999,9,    119.3,2,     -999,9,     -999,9,     -999,9,     -999,9,     -999,9,-999.0,9,    25.00,537,20190516
  29HE20190406,   A17,78,0,10,10,2,20190516,514,21.3681,-22.537, 4655,    799.2,   8.2081,  35.0804,2,  35.0785,2,     92.1,2,     92.9,2,    18.69,2,    31.88,2,     2.02,2,     -999,9,7.5643,2,    25.00,541,20190516
  29HE20190406,   A17,78,0,11,11,2,20190516,514,21.3681,-22.537, 4655,    799.4,   8.2243,  35.0822,2,     -999,9,     92.1,2,     -999,9,     -999,9,     -999,9,     -999,9,     -999,9,-999.0,9,    25.00,541,20190516
  29HE20190406,   A17,78,0,12,12,2,20190516,514,21.3681,-22.537, 4655,    599.7,  10.8340,  35.3980,2,  35.0746,4,     84.6,2,     -999,9,    18.69,2,    32.05,2,     2.02,2,     -999,9,7.5627,2,    25.00,546,20190516
  29HE20190406,   A17,78,0,13,13,2,20190516,514,21.3681,-22.537, 4655,    599.6,  10.8323,  35.3979,2,     -999,9,     84.8,2,     -999,9,     -999,9,     -999,9,     -999,9,     -999,9,-999.0,9,    25.00,546,20190516
  29HE20190406,   A17,78,0,14,14,2,20190516,514,21.3681,-22.537, 4655,    501.6,  11.8168,  35.5007,2,  35.5003,2,     72.5,2,     72.9,2,    11.01,2,    27.43,2,     1.65,2,     -999,9,7.593,2,    25.00,549,20190516
  29HE20190406,   A17,78,0,15,15,2,20190516,514,21.3681,-22.537, 4655,    400.6,  12.9536,  35.5984,2,     -999,9,     55.6,2,     -999,9,     -999,9,     -999,9,     -999,9,     -999,9,-999.0,9,    25.00,552,20190516
  29HE20190406,   A17,78,0,16,16,2,20190516,514,21.3681,-22.537, 4655,    401.2,  12.9533,  35.5984,2,  35.5973,2,     55.6,2,     56.9,2,     9.79,2,    27.19,2,     1.61,2,     -999,9,7.5796,2,    25.00,552,20190516
  29HE20190406,   A17,78,0,17,17,2,20190516,514,21.3681,-22.537, 4655,    300.4,  14.1157,  35.6674,2,     -999,9,     61.9,2,     63.3,2,     8.57,2,    25.41,2,     1.52,2,     -999,9,7.6065,2,    25.00,555,20190516
  29HE20190406,   A17,78,0,18,18,2,20190516,514,21.3681,-22.537, 4655,    202.5,  16.5714,  36.1144,2,  36.1209,2,    109.1,2,    111.0,2,     5.30,2,    17.24,2,     1.07,2,     -999,9,7.7373,2,    25.00,558,20190516
  29HE20190406,   A17,78,0,19,19,2,20190516,514,21.3681,-22.537, 4655,    201.5,  16.5804,  36.1182,2,     -999,9,    109.3,2,     -999,9,     -999,9,     -999,9,     -999,9,     -999,9,-999.0,9,    25.00,558,20190516
  29HE20190406,   A17,78,0,20,20,2,20190516,514,21.3681,-22.537, 4655,    101.8,  19.6553,  36.7009,2,  36.7047,2,    183.9,2,    186.0,2,     1.70,2,     5.91,2,     0.41,2,     -999,9,7.9088,2,    25.00,601,20190516
  29HE20190406,   A17,78,0,21,21,2,20190516,514,21.3681,-22.537, 4655,    101.1,  19.6640,  36.7024,2,     -999,9,    185.5,2,     -999,9,     -999,9,     -999,9,     -999,9,     -999,9,-999.0,9,    25.00,601,20190516
  29HE20190406,   A17,78,0,22,22,2,20190516,514,21.3681,-22.537, 4655,     50.9,  21.4847,  36.7823,2,  36.7812,2,    223.3,2,    223.4,2,     0.58,2,     0.05,2,     0.12,2,     -999,9,8.0052,2,    25.00,603,20190516
  29HE20190406,   A17,78,0,23,23,2,20190516,514,21.3681,-22.537, 4655,      4.8,  21.5405,  36.6882,2,     -999,9,    223.4,2,     -999,9,     -999,9,     -999,9,     -999,9,     -999,9,-999.0,9,    25.00,605,20190516
  29HE20190406,   A17,78,0,24,24,2,20190516,514,21.3681,-22.537, 4655,      4.1,  21.5367,  36.6879,2,  36.6900,2,    222.8,2,    222.7,2,     0.52,2,     0.02,2,     0.12,2,     -999,9,8.0053,2,    25.00,605,20190516
  29HE20190406,   A17,79,0,1,1,2,20190516,1506,22.4426,-21.5971, 4517,   3999.6,   2.3643,  34.8978,2,     -999,9,    244.7,2,    243.6,2,    45.23,2,    22.53,2,     1.50,2,   2352.1,2,7.7362,2,    25.00,1506,20190516
  29HE20190406,   A17,79,0,2,2,2,20190516,1506,22.4426,-21.5971, 4517,   3499.0,   2.4813,  34.9136,2,  34.9154,2,    239.4,2,    238.3,2,    42.92,2,    22.65,2,     1.49,2,   2353.3,2,7.7342,2,    25.00,1516,20190516
  29HE20190406,   A17,79,0,3,3,2,20190516,1506,22.4426,-21.5971, 4517,   2997.7,   2.7730,  34.9428,2,     -999,9,    237.5,2,    236.5,2,    37.35,2,    22.16,2,     1.46,2,   2347.8,2,7.7309,2,    25.00,1526,20190516
  29HE20190406,   A17,79,0,4,4,2,20190516,1506,22.4426,-21.5971, 4517,   2750.6,   2.9801,  34.9624,2,  34.9638,2,    236.0,2,    234.9,2,    34.13,2,    22.09,2,     1.45,2,   2344.4,2,7.7299,2,    25.00,1532,20190516
  29HE20190406,   A17,79,0,5,5,2,20190516,1506,22.4426,-21.5971, 4517,   2501.9,   3.2119,  34.9817,2,     -999,9,    233.4,2,    233.2,2,    31.35,2,    21.79,2,     1.44,2,   2338.5,2,7.7283,2,    25.00,1537,20190516
  29HE20190406,   A17,79,0,6,6,2,20190516,1506,22.4426,-21.5971, 4517,   2273.6,   3.4567,  34.9998,2,  35.0003,2,    233.1,2,    232.7,2,    27.83,2,    21.96,2,     1.42,2,   2332.6,2,7.7276,2,    25.00,1542,20190516
  29HE20190406,   A17,79,0,7,7,2,20190516,1506,22.4426,-21.5971, 4517,   2004.8,   3.8942,  35.0401,2,     -999,9,    225.3,2,    225.0,2,    25.46,2,    22.07,2,     1.43,2,   2330.0,2,7.7233,2,    25.00,1548,20190516
  29HE20190406,   A17,79,0,8,8,2,20190516,1506,22.4426,-21.5971, 4517,   1801.3,   4.3815,  35.0904,2,  35.0912,2,    218.5,2,    218.3,2,    23.36,2,    22.06,2,     1.43,2,   2330.5,2,7.7211,2,    25.00,1554,20190516
  29HE20190406,   A17,79,0,9,9,2,20190516,1506,22.4426,-21.5971, 4517,   1596.2,   4.8954,  35.1263,2,     -999,9,    211.2,2,    210.7,2,    20.58,2,    22.66,2,     1.45,2,   2328.4,2,7.717,2,    25.00,1558,20190516
  29HE20190406,   A17,79,0,10,10,2,20190516,1506,22.4426,-21.5971, 4517,   1398.0,   5.5518,  35.1740,2,  35.1742,2,    197.7,2,    197.4,2,    19.26,2,    23.07,2,     1.49,2,   2329.6,2,7.7062,2,    25.00,1603,20190516
  29HE20190406,   A17,79,0,11,11,2,20190516,1506,22.4426,-21.5971, 4517,   1197.7,   6.3776,  35.1934,2,     -999,9,    176.5,2,    176.9,2,    18.60,2,    24.99,2,     1.58,2,   2329.1,2,7.6872,2,    25.00,1608,20190516
  29HE20190406,   A17,79,0,12,12,2,20190516,1506,22.4426,-21.5971, 4517,   1102.6,   6.5459,  35.1434,2,  35.1458,2,    165.1,2,    165.0,2,    19.00,2,    26.37,2,     1.67,2,   2325.3,2,7.6703,2,    25.00,1611,20190516
  29HE20190406,   A17,79,0,13,13,2,20190516,1506,22.4426,-21.5971, 4517,    997.8,   6.9148,  35.1345,2,     -999,9,    152.6,2,    152.6,2,    18.93,2,    27.53,2,     1.74,2,   2323.5,2,7.6562,2,    25.00,1614,20190516
  29HE20190406,   A17,79,0,14,14,2,20190516,1506,22.4426,-21.5971, 4517,    897.5,   7.4643,  35.1359,2,  35.1363,2,    137.3,2,    137.3,2,    18.73,2,    28.61,2,     1.79,2,   2321.7,2,7.6401,2,    25.00,1617,20190516
  29HE20190406,   A17,79,0,15,15,2,20190516,1506,22.4426,-21.5971, 4517,    795.3,   8.1586,  35.1734,2,     -999,9,    125.6,2,     -999,9,     -999,9,     -999,9,     -999,9,     -999,9,-999.0,9,    25.00,1620,20190516
  29HE20190406,   A17,79,0,16,16,2,20190516,1506,22.4426,-21.5971, 4517,    695.9,   9.4420,  35.3032,2,  35.3021,2,    118.5,2,    118.4,2,    14.46,2,    27.74,2,     1.66,2,   2324.8,2,7.642,2,    25.00,1622,20190516
  29HE20190406,   A17,79,0,17,17,2,20190516,1506,22.4426,-21.5971, 4517,    599.4,  10.7459,  35.4668,2,     -999,9,    125.4,2,    125.5,2,    11.12,2,    24.85,2,     1.43,2,   2329.5,2,7.6733,2,    25.00,1625,20190516
  29HE20190406,   A17,79,0,18,18,2,20190516,1506,22.4426,-21.5971, 4517,    500.2,  12.4320,  35.6931,2,  35.6912,2,    158.1,2,    158.0,2,     6.63,2,    17.83,2,     1.00,2,   2340.3,2,7.7562,2,    25.00,1628,20190516
  29HE20190406,   A17,79,0,19,19,2,20190516,1506,22.4426,-21.5971, 4517,    398.1,  14.0783,  35.9234,2,     -999,9,    180.3,2,    180.3,2,     4.20,2,    12.39,2,     0.68,2,   2353.0,2,7.8219,2,    25.00,1631,20190516
  29HE20190406,   A17,79,0,20,20,2,20190516,1506,22.4426,-21.5971, 4517,    301.6,  15.5892,  36.1470,2,  36.1477,2,    176.1,2,    175.8,2,     3.31,2,    10.59,2,     0.57,2,   2366.4,2,7.8485,2,    25.00,1634,20190516
  29HE20190406,   A17,79,0,21,21,2,20190516,1506,22.4426,-21.5971, 4517,    201.1,  16.7893,  36.2791,2,     -999,9,    143.8,2,    146.3,2,     3.69,2,    12.34,2,     0.71,2,   2372.7,2,7.8208,2,    25.00,1637,20190516
  29HE20190406,   A17,79,0,22,22,2,20190516,1506,22.4426,-21.5971, 4517,    101.8,  18.9851,  36.5006,2,  36.4971,2,    179.2,2,    181.5,2,     2.17,2,     9.05,2,     0.58,2,   2386.4,2,7.8671,2,    25.00,1640,20190516
  29HE20190406,   A17,79,0,23,23,2,20190516,1506,22.4426,-21.5971, 4517,     54.6,  21.5507,  36.8278,2,     -999,9,    222.5,2,    219.2,2,     0.62,2,     0.00,2,     0.09,2,   2411.8,2,8.0013,2,    25.00,1642,20190516
  29HE20190406,   A17,79,0,24,24,2,20190516,1506,22.4426,-21.5971, 4517,      5.7,  21.9374,  36.7914,2,  36.7907,2,    222.3,2,    221.8,2,     0.63,2,     0.02,2,     0.10,2,   2409.1,2,8.0022,2,    25.00,1644,20190516