BOTTLE,20240229CCHSIOSLL
EXPOCODE,SECT_ID,STNNBR,CASTNO,SAMPNO,BTLNBR,BTLNBR_FLAG_W,DATE,TIME,LATITUDE,LONGITUDE,DEPTH,CTDPRS,CTDTMP,CTDSAL,CTDSAL_FLAG_W,SALNTY,SALNTY_FLAG_W,CTDOXY,CTDOXY_FLAG_W,OXYGEN,OXYGEN_FLAG_W,SILCAT,SILCAT_FLAG_W,NITRAT,NITRAT_FLAG_W,PHSPHT,PHSPHT_FLAG_W,ALKALI,ALKALI_FLAG_W,PH_TOT,PH_TOT_FLAG_W,PH_TMP,BTL_TIME,BTL_DATE
,,,,,,,,,,,METERS,DBAR,ITS-90,PSS-78,,PSS-78,,UMOL/KG,,UMOL/KG,,UMOL/KG,,UMOL/KG,,UMOL/KG,,UMOL/KG,,,,DEG C,,
  29HE20190406,   A17,46,0,1,1,2,20190430,1631,-20.6231,-32.9729, 4343,   4332.6,   0.7101,  34.7154,2,     -999,9,    223.6,2,    223.1,2,   111.09,2,    30.67,2,     2.11,2,     -999,9,7.6277,2,    25.00,1631,20190430
  29HE20190406,   A17,46,0,2,2,2,20190430,1631,-20.6231,-32.9729, 4343,   4000.4,   1.3364,  34.7825,2,  34.7849,2,    233.3,2,    231.9,2,    83.30,2,    27.05,2,     1.86,2,     -999,9,7.6687,2,    25.00,1639,20190430
  29HE20190406,   A17,46,0,3,3,2,20190430,1631,-20.6231,-32.9729, 4343,   3501.4,   2.4377,  34.8977,2,     -999,9,    253.2,2,    251.9,2,    38.75,2,    20.59,2,     1.42,2,     -999,9,7.7276,2,    25.00,1648,20190430
  29HE20190406,   A17,46,0,4,4,2,20190430,1631,-20.6231,-32.9729, 4343,   3005.1,   2.7391,  34.9198,2,  34.9214,2,    251.6,2,    250.7,2,    32.77,2,    20.33,2,     1.38,2,     -999,9,7.7326,2,    25.00,1658,20190430
  29HE20190406,   A17,46,0,5,5,2,20190430,1631,-20.6231,-32.9729, 4343,   2500.1,   3.0313,  34.9367,2,     -999,9,    251.6,2,    250.1,2,    27.84,2,    19.92,2,     1.35,2,     -999,9,7.7328,2,    25.00,1708,20190430
  29HE20190406,   A17,46,0,6,6,2,20190430,1631,-20.6231,-32.9729, 4343,   2277.1,   3.2005,  34.9465,2,  34.9466,2,    252.2,2,    251.8,2,    24.73,2,    19.51,2,     1.32,2,     -999,9,7.7328,2,    25.00,1712,20190430
  29HE20190406,   A17,46,0,7,7,2,20190430,1631,-20.6231,-32.9729, 4343,   2002.4,   3.4872,  34.9589,2,     -999,9,    250.9,2,    249.8,2,    21.22,2,    19.49,2,     1.32,2,     -999,9,7.7309,2,    25.00,1718,20190430
  29HE20190406,   A17,46,0,8,8,2,20190430,1631,-20.6231,-32.9729, 4343,   1805.3,   3.6776,  34.9609,2,  34.9793,3,    246.8,2,    246.9,2,    20.23,2,    19.78,2,     1.32,2,     -999,9,7.726,2,    25.00,1723,20190430
  29HE20190406,   A17,46,0,9,9,2,20190430,1631,-20.6231,-32.9729, 4343,   1599.9,   3.9733,  34.9507,2,     -999,9,    234.8,2,     -999,9,     -999,9,     -999,9,     -999,9,     -999,9,-999.0,9,    25.00,1727,20190430
  29HE20190406,   A17,46,0,10,10,2,20190430,1631,-20.6231,-32.9729, 4343,   1399.8,   4.1740,  34.8816,2,  34.8861,2,    211.1,2,    210.2,2,    23.81,2,    24.10,2,     1.63,2,     -999,9,7.6762,2,    25.00,1731,20190430
  29HE20190406,   A17,46,0,11,11,2,20190430,1631,-20.6231,-32.9729, 4343,   1201.0,   3.7420,  34.6650,2,     -999,9,    190.4,2,    189.3,2,    37.26,2,    29.19,2,     2.01,2,     -999,9,7.6221,2,    25.00,1736,20190430
  29HE20190406,   A17,46,0,12,12,2,20190430,1631,-20.6231,-32.9729, 4343,   1102.0,   3.6214,  34.5696,2,  34.5705,2,    186.8,2,    185.6,2,    40.67,2,    30.96,2,     2.13,2,     -999,9,7.6067,2,    25.00,1739,20190430
  29HE20190406,   A17,46,0,13,13,2,20190430,1631,-20.6231,-32.9729, 4343,   1000.0,   3.7019,  34.4940,2,     -999,9,    185.5,2,    184.5,2,    40.11,2,    31.71,2,     2.19,2,     -999,9,7.5971,2,    25.00,1741,20190430
  29HE20190406,   A17,46,0,14,14,2,20190430,1631,-20.6231,-32.9729, 4343,    901.8,   3.9804,  34.4398,2,  34.4421,2,    185.7,2,    183.5,2,    36.75,2,    31.81,2,     2.20,2,     -999,9,7.5949,2,    25.00,1744,20190430
  29HE20190406,   A17,46,0,15,15,2,20190430,1631,-20.6231,-32.9729, 4343,    801.6,   4.6042,  34.4110,2,     -999,9,    182.8,2,    181.4,2,    30.47,2,    31.69,2,     2.16,2,     -999,9,7.5954,2,    25.00,1747,20190430
  29HE20190406,   A17,46,0,16,16,2,20190430,1631,-20.6231,-32.9729, 4343,    701.3,   5.5213,  34.4316,2,  34.4343,2,    180.5,2,    179.2,2,    23.89,2,    30.15,2,     2.06,2,     -999,9,7.6056,2,    25.00,1749,20190430
  29HE20190406,   A17,46,0,17,17,2,20190430,1631,-20.6231,-32.9729, 4343,    604.3,   7.0720,  34.5348,2,     -999,9,    174.4,2,    173.0,2,    17.06,2,    27.10,2,     1.86,2,     -999,9,7.6276,2,    25.00,1752,20190430
  29HE20190406,   A17,46,0,18,18,2,20190430,1631,-20.6231,-32.9729, 4343,    501.6,   9.4255,  34.7604,2,  34.7627,2,    173.5,2,    172.4,2,    10.51,2,    21.70,2,     1.50,2,     -999,9,7.6798,2,    25.00,1755,20190430
  29HE20190406,   A17,46,0,19,19,2,20190430,1631,-20.6231,-32.9729, 4343,    400.2,  11.9753,  35.0482,2,     -999,9,    189.8,2,    189.2,2,     5.58,2,    14.44,2,     1.04,2,     -999,9,7.7657,2,    25.00,1757,20190430
  29HE20190406,   A17,46,0,20,20,2,20190430,1631,-20.6231,-32.9729, 4343,    301.7,  14.6589,  35.3937,2,  35.3978,2,    199.2,2,    197.8,2,     3.13,2,     7.75,2,     0.63,2,     -999,9,7.847,2,    25.00,1800,20190430
  29HE20190406,   A17,46,0,21,21,2,20190430,1631,-20.6231,-32.9729, 4343,    201.4,  20.0970,  36.3424,2,     -999,9,    203.8,2,    201.9,2,     1.33,2,     0.90,2,     0.24,2,     -999,9,7.9581,2,    25.00,1803,20190430
  29HE20190406,   A17,46,0,22,22,2,20190430,1631,-20.6231,-32.9729, 4343,    101.3,  23.5817,  36.9464,2,  36.9456,2,    214.9,2,    213.2,2,     1.11,2,     0.00,2,     0.15,2,     -999,9,8.0239,2,    25.00,1805,20190430
  29HE20190406,   A17,46,0,23,23,2,20190430,1631,-20.6231,-32.9729, 4343,     51.6,  25.9515,  37.0442,2,     -999,9,    223.2,2,    221.2,2,     1.12,2,     0.00,2,     0.11,2,     -999,9,8.0493,2,    25.00,1807,20190430
  29HE20190406,   A17,46,0,24,24,2,20190430,1631,-20.6231,-32.9729, 4343,      4.9,  28.5093,  37.2056,2,  37.2034,2,    197.2,2,    195.5,2,     0.77,2,     0.00,2,     0.02,2,     -999,9,8.0884,2,    25.00,1809,20190430
  29HE20190406,   A17,47,0,1,1,2,20190501,114,-19.5829,-32.862, 4156,   4141.2,   0.9289,  34.7396,2,     -999,9,    226.6,2,    225.9,2,   103.05,2,    29.32,2,     2.01,2,   2363.8,2,7.6422,2,    25.00,114,20190501
  29HE20190406,   A17,47,0,2,2,2,20190501,114,-19.5829,-32.862, 4156,   3502.2,   2.3805,  34.8922,2,  34.8965,2,    252.5,2,    251.2,2,    40.60,2,    21.00,2,     1.41,2,   2335.1,2,7.7259,2,    25.00,126,20190501
  29HE20190406,   A17,47,0,3,3,2,20190501,114,-19.5829,-32.862, 4156,   2998.9,   2.7628,  34.9213,2,     -999,9,    252.1,2,    250.7,2,    32.17,2,    20.27,2,     1.35,2,   2330.3,2,7.7324,2,    25.00,137,20190501
  29HE20190406,   A17,47,0,4,4,2,20190501,114,-19.5829,-32.862, 4156,   2750.5,   2.8871,  34.9275,2,  34.9339,2,    250.9,2,    249.9,2,    30.34,2,    20.17,2,     1.35,2,   2329.3,2,7.7326,2,    25.00,142,20190501
  29HE20190406,   A17,47,0,5,5,2,20190501,114,-19.5829,-32.862, 4156,   2497.8,   3.0485,  34.9374,2,     -999,9,    251.6,2,    251.2,2,    27.38,2,    19.88,2,     1.33,2,   2326.4,2,7.7331,2,    25.00,147,20190501
  29HE20190406,   A17,47,0,6,6,2,20190501,114,-19.5829,-32.862, 4156,   2279.3,   3.2295,  34.9473,2,  34.9505,2,    251.8,2,    250.8,2,    24.48,2,    19.60,2,     1.30,2,   2322.7,2,7.7333,2,    25.00,152,20190501
  29HE20190406,   A17,47,0,7,7,2,20190501,114,-19.5829,-32.862, 4156,   2003.3,   3.4893,  34.9570,2,     -999,9,    250.1,2,    249.7,2,    21.44,2,    19.56,2,     1.30,2,   2319.5,2,7.7309,2,    25.00,158,20190501
  29HE20190406,   A17,47,0,8,8,2,20190501,114,-19.5829,-32.862, 4156,   1793.6,   3.7668,  34.9586,2,  34.9651,2,    243.7,2,    243.0,2,    19.98,2,    20.10,2,     1.35,2,   2319.5,2,7.7231,2,    25.00,203,20190501
  29HE20190406,   A17,47,0,9,9,2,20190501,114,-19.5829,-32.862, 4156,   1599.4,   4.0122,  34.9396,2,     -999,9,    230.5,2,    229.0,2,    20.80,2,    21.59,2,     1.44,2,   2317.4,2,7.7065,2,    25.00,207,20190501
  29HE20190406,   A17,47,0,10,10,2,20190501,114,-19.5829,-32.862, 4156,   1402.0,   3.9953,  34.8299,2,  34.8361,2,    205.8,2,    204.6,2,    28.01,2,    25.58,2,     1.72,2,   2318.5,2,7.6635,2,    25.00,211,20190501
  29HE20190406,   A17,47,0,11,11,2,20190501,114,-19.5829,-32.862, 4156,   1193.2,   3.8298,  34.6642,2,     -999,9,    189.0,2,    187.6,2,    35.65,2,    29.53,2,     2.00,2,   2317.6,2,7.6214,2,    25.00,216,20190501
  29HE20190406,   A17,47,0,12,12,2,20190501,114,-19.5829,-32.862, 4156,   1101.4,   3.6535,  34.5596,2,  34.5636,2,    186.8,2,    185.0,2,    40.08,2,    31.28,2,     2.11,2,   2316.7,2,7.6059,2,    25.00,219,20190501
  29HE20190406,   A17,47,0,13,13,2,20190501,114,-19.5829,-32.862, 4156,   1003.8,   3.6838,  34.4912,2,     -999,9,    186.5,2,    185.4,2,    40.10,2,    31.95,2,     2.17,2,   2312.2,2,7.5988,2,    25.00,221,20190501
  29HE20190406,   A17,47,0,14,14,2,20190501,114,-19.5829,-32.862, 4156,    902.7,   3.9310,  34.4370,2,  34.4393,2,    186.4,2,    184.7,2,    37.10,2,    32.18,2,     2.18,2,   2308.2,2,7.5969,2,    25.00,224,20190501
  29HE20190406,   A17,47,0,15,15,2,20190501,114,-19.5829,-32.862, 4156,    801.7,   4.3933,  34.3955,2,     -999,9,    190.5,2,    188.7,2,    31.67,2,    31.75,2,     2.13,2,   2302.4,2,7.6018,2,    25.00,227,20190501
  29HE20190406,   A17,47,0,16,16,2,20190501,114,-19.5829,-32.862, 4156,    702.4,   5.3587,  34.4107,2,  34.4173,2,    188.7,2,    187.2,2,    24.05,2,    30.10,2,     2.01,2,   2295.6,2,7.6132,2,    25.00,230,20190501
  29HE20190406,   A17,47,0,17,17,2,20190501,114,-19.5829,-32.862, 4156,    600.3,   7.1359,  34.5392,2,     -999,9,    174.2,2,    172.9,2,    16.80,2,    27.48,2,     1.83,2,   2294.4,2,7.6278,2,    25.00,232,20190501
  29HE20190406,   A17,47,0,18,18,2,20190501,114,-19.5829,-32.862, 4156,    500.3,   9.3866,  34.7662,2,  34.7697,2,    164.9,2,    163.8,2,    11.05,2,    22.89,2,     1.53,2,   2300.0,2,7.6669,2,    25.00,235,20190501
  29HE20190406,   A17,47,0,19,19,2,20190501,114,-19.5829,-32.862, 4156,    399.2,  11.6102,  35.0094,2,     -999,9,    182.2,2,    180.1,2,     6.33,2,    16.29,2,     1.13,2,   2308.7,2,7.7429,2,    25.00,238,20190501
  29HE20190406,   A17,47,0,20,20,2,20190501,114,-19.5829,-32.862, 4156,    302.9,  14.5125,  35.3846,2,  35.3906,2,    194.4,2,    194.0,2,     3.23,2,     8.66,2,     0.67,2,   2328.6,2,7.8378,2,    25.00,241,20190501
  29HE20190406,   A17,47,0,21,21,2,20190501,114,-19.5829,-32.862, 4156,    200.0,  19.1341,  36.1500,2,     -999,9,    203.1,2,    201.9,2,     1.51,2,     1.76,2,     0.28,2,   2376.3,2,7.9386,2,    25.00,243,20190501
  29HE20190406,   A17,47,0,22,22,2,20190501,114,-19.5829,-32.862, 4156,     99.1,  23.5903,  36.9520,2,  36.9498,2,    213.8,2,    212.8,2,     1.00,2,     0.00,2,     0.12,2,   2428.2,2,8.0227,2,    25.00,246,20190501
  29HE20190406,   A17,47,0,23,23,2,20190501,114,-19.5829,-32.862, 4156,     49.9,  27.2026,  37.1736,2,     -999,9,    213.1,2,    207.8,3,     0.90,2,     0.00,2,     0.05,2,   2443.6,2,8.0683,2,    25.00,248,20190501
  29HE20190406,   A17,47,0,24,24,2,20190501,114,-19.5829,-32.862, 4156,      5.2,  28.8730,  37.3745,2,  37.3711,2,    197.1,2,    196.1,2,     0.71,2,     0.00,2,     0.02,2,   2452.6,2,8.0861,2,    25.00,252,20190501
  29HE20190406,   A17,48,0,1,1,2,20190501,1034,-18.625,-32.3918, 4424,   4332.6,   0.7211,  34.7164,2,     -999,9,    223.1,2,    222.9,2,   110.97,2,    30.57,2,     2.10,2,     -999,9,7.6281,2,    25.00,1034,20190501
  29HE20190406,   A17,48,0,2,2,2,20190501,1034,-18.625,-32.3918, 4424,   3993.6,   1.5006,  34.7996,2,  34.8033,2,    236.7,2,    235.6,2,    74.58,2,    26.12,2,     1.79,2,     -999,9,7.6777,2,    25.00,1041,20190501
  29HE20190406,   A17,48,0,3,3,2,20190501,1034,-18.625,-32.3918, 4424,   3498.3,   2.5192,  34.9042,2,     -999,9,    254.1,2,    252.5,2,    36.42,2,    20.42,2,     1.38,2,     -999,9,7.7298,2,    25.00,1049,20190501
  29HE20190406,   A17,48,0,4,4,2,20190501,1034,-18.625,-32.3918, 4424,   3004.5,   2.7928,  34.9226,2,  34.9406,3,    251.8,2,    251.1,2,    31.76,2,    20.27,2,     1.37,2,     -999,9,7.732,2,    25.00,1058,20190501
  29HE20190406,   A17,48,0,5,5,2,20190501,1034,-18.625,-32.3918, 4424,   2496.2,   3.0416,  34.9335,2,     -999,9,    250.1,2,    249.1,2,    28.46,2,    20.17,2,     1.36,2,     -999,9,7.7308,2,    25.00,1108,20190501
  29HE20190406,   A17,48,0,6,6,2,20190501,1034,-18.625,-32.3918, 4424,   2279.9,   3.2108,  34.9447,2,  34.9473,2,    251.0,2,    250.7,2,    24.81,2,    19.66,2,     1.33,2,     -999,9,7.7341,2,    25.00,1113,20190501
  29HE20190406,   A17,48,0,7,7,2,20190501,1034,-18.625,-32.3918, 4424,   1997.5,   3.4755,  34.9578,2,     -999,9,    250.8,2,    250.1,2,    21.31,2,    19.34,2,     1.29,2,     -999,9,7.7308,2,    25.00,1118,20190501
  29HE20190406,   A17,48,0,8,8,2,20190501,1034,-18.625,-32.3918, 4424,   1806.5,   3.7036,  34.9636,2,  34.9666,2,    247.4,2,    246.7,2,    19.47,2,    19.53,2,     1.32,2,     -999,9,7.7272,2,    25.00,1123,20190501
  29HE20190406,   A17,48,0,9,9,2,20190501,1034,-18.625,-32.3918, 4424,   1605.4,   3.9505,  34.9460,2,     -999,9,    234.1,2,    233.4,2,    20.42,2,    21.06,2,     1.43,2,     -999,9,7.7107,2,    25.00,1128,20190501
  29HE20190406,   A17,48,0,10,10,2,20190501,1034,-18.625,-32.3918, 4424,   1399.8,   4.1782,  34.8814,2,  34.8832,2,    210.7,2,    210.0,2,    23.50,2,    24.24,2,     1.63,2,     -999,9,7.6758,2,    25.00,1133,20190501
  29HE20190406,   A17,48,0,11,11,2,20190501,1034,-18.625,-32.3918, 4424,   1204.9,   3.9291,  34.7034,2,     -999,9,    190.0,2,    188.8,2,    33.18,2,    28.81,2,     1.96,2,     -999,9,7.6268,2,    25.00,1137,20190501
  29HE20190406,   A17,48,0,12,12,2,20190501,1034,-18.625,-32.3918, 4424,   1099.1,   3.6904,  34.5856,2,  34.5884,2,    187.3,2,    186.0,2,    38.90,2,    30.73,2,     2.10,2,     -999,9,7.6097,2,    25.00,1140,20190501
  29HE20190406,   A17,48,0,13,13,2,20190501,1034,-18.625,-32.3918, 4424,   1003.2,   3.6594,  34.5042,2,     -999,9,    187.0,2,    185.5,2,    40.20,2,    31.66,2,     2.18,2,     -999,9,7.6004,2,    25.00,1142,20190501
  29HE20190406,   A17,48,0,14,14,2,20190501,1034,-18.625,-32.3918, 4424,    902.2,   3.8408,  34.4434,2,  34.4455,2,    187.5,2,    186.5,2,    38.05,2,    32.03,2,     2.20,2,     -999,9,7.5981,2,    25.00,1145,20190501
  29HE20190406,   A17,48,0,15,15,2,20190501,1034,-18.625,-32.3918, 4424,    802.2,   4.3604,  34.4066,2,     -999,9,    185.4,2,    186.0,2,    31.95,2,    31.87,2,     2.17,2,     -999,9,7.5975,2,    25.00,1148,20190501
  29HE20190406,   A17,48,0,16,16,2,20190501,1034,-18.625,-32.3918, 4424,    700.8,   5.3403,  34.4232,2,  34.4263,2,    181.4,2,    180.1,2,    24.56,2,    30.64,2,     2.06,2,     -999,9,7.605,2,    25.00,1151,20190501
  29HE20190406,   A17,48,0,17,17,2,20190501,1034,-18.625,-32.3918, 4424,    597.5,   7.1003,  34.5572,2,     -999,9,    161.8,2,    160.6,2,    17.53,2,    28.54,2,     1.91,2,     -999,9,7.6143,2,    25.00,1153,20190501
  29HE20190406,   A17,48,0,18,18,2,20190501,1034,-18.625,-32.3918, 4424,    504.7,   9.1663,  34.7434,2,  34.7472,2,    164.5,2,    163.4,2,    11.50,2,    23.38,2,     1.58,2,     -999,9,7.6617,2,    25.00,1156,20190501
  29HE20190406,   A17,48,0,19,19,2,20190501,1034,-18.625,-32.3918, 4424,    401.6,  11.5626,  35.0046,2,     -999,9,    175.6,2,    174.5,2,     6.68,2,    16.94,2,     1.19,2,     -999,9,7.7328,2,    25.00,1159,20190501
  29HE20190406,   A17,48,0,20,20,2,20190501,1034,-18.625,-32.3918, 4424,    307.4,  14.0272,  35.3046,2,  35.3121,2,    190.8,2,    190.1,2,     3.66,2,     9.92,2,     0.76,2,     -999,9,7.8197,2,    25.00,1203,20190501
  29HE20190406,   A17,48,0,21,21,2,20190501,1034,-18.625,-32.3918, 4424,    204.8,  18.9902,  36.1114,2,     -999,9,    198.3,2,    200.7,2,     1.34,2,     1.31,2,     0.24,2,     -999,9,7.9714,2,    25.00,1206,20190501
  29HE20190406,   A17,48,0,22,22,2,20190501,1034,-18.625,-32.3918, 4424,    100.4,  24.8057,  37.1482,2,  37.1452,2,    216.5,2,    215.2,2,     0.96,2,     0.00,2,     0.11,2,     -999,9,8.0434,2,    25.00,1209,20190501
  29HE20190406,   A17,48,0,23,23,2,20190501,1034,-18.625,-32.3918, 4424,     50.2,  28.9236,  37.5382,2,     -999,9,    197.0,2,    195.8,2,     0.76,2,     0.00,2,     0.04,2,     -999,9,8.0853,2,    25.00,1211,20190501
  29HE20190406,   A17,48,0,24,24,2,20190501,1034,-18.625,-32.3918, 4424,      5.9,  28.9275,  37.5400,2,  37.5390,2,    196.0,2,    195.6,2,     0.78,2,     0.00,2,     0.04,2,     -999,9,8.087,2,    25.00,1213,20190501