BOTTLE,20240229CCHSIOSLL
EXPOCODE,SECT_ID,STNNBR,CASTNO,SAMPNO,BTLNBR,BTLNBR_FLAG_W,DATE,TIME,LATITUDE,LONGITUDE,DEPTH,CTDPRS,CTDTMP,CTDSAL,CTDSAL_FLAG_W,SALNTY,SALNTY_FLAG_W,CTDOXY,CTDOXY_FLAG_W,OXYGEN,OXYGEN_FLAG_W,SILCAT,SILCAT_FLAG_W,NITRAT,NITRAT_FLAG_W,PHSPHT,PHSPHT_FLAG_W,ALKALI,ALKALI_FLAG_W,PH_TOT,PH_TOT_FLAG_W,PH_TMP,BTL_TIME,BTL_DATE
,,,,,,,,,,,METERS,DBAR,ITS-90,PSS-78,,PSS-78,,UMOL/KG,,UMOL/KG,,UMOL/KG,,UMOL/KG,,UMOL/KG,,UMOL/KG,,,,DEG C,,
  29HE20190406,   A17,15,0,1,1,2,20190413,1849,-39.9175,-47.5352, 5348,   5337.8,   0.3047,  34.6705,2,     -999,9,    222.9,2,    220.9,2,   124.22,2,    33.35,2,     2.28,2,   2368.1,2,7.6043,2,    25.00,1849,20190413
  29HE20190406,   A17,15,0,2,2,2,20190413,1849,-39.9175,-47.5352, 5348,   4993.5,   0.3096,  34.6732,2,  34.6730,2,    224.0,2,    223.3,2,   121.91,2,    33.01,2,     2.27,2,   2365.2,2,7.6062,2,    25.00,1858,20190413
  29HE20190406,   A17,15,0,3,3,2,20190413,1849,-39.9175,-47.5352, 5348,   4503.3,   0.4230,  34.6807,2,     -999,9,    220.5,2,    218.7,2,   120.99,2,    32.97,2,     2.25,2,   2364.1,2,7.6065,2,    25.00,1908,20190413
  29HE20190406,   A17,15,0,4,4,2,20190413,1849,-39.9175,-47.5352, 5348,   4002.5,   0.8397,  34.7021,2,  34.7011,2,    212.1,2,    211.6,2,   114.60,2,    32.43,2,     2.20,2,   2360.6,2,7.6093,2,    25.00,1919,20190413
  29HE20190406,   A17,15,0,5,5,2,20190413,1849,-39.9175,-47.5352, 5348,   3507.2,   1.3541,  34.7320,2,     -999,9,    205.1,2,    204.3,2,   104.49,2,    31.54,2,     2.12,2,   2359.3,2,7.6177,2,    25.00,1930,20190413
  29HE20190406,   A17,15,0,6,6,2,20190413,1849,-39.9175,-47.5352, 5348,   3011.5,   2.1750,  34.8052,2,  34.8040,2,    214.1,2,    214.8,2,    70.73,2,    27.61,2,     1.85,2,   2345.8,2,7.6578,2,    25.00,1942,20190413
  29HE20190406,   A17,15,0,7,7,2,20190413,1849,-39.9175,-47.5352, 5348,   2504.4,   2.7856,  34.8431,2,     -999,9,    218.9,2,    219.5,2,    53.61,2,    25.56,2,     1.70,2,   2334.3,2,7.6749,2,    25.00,1954,20190413
  29HE20190406,   A17,15,0,8,8,2,20190413,1849,-39.9175,-47.5352, 5348,   2277.7,   2.9408,  34.8282,2,  34.8276,2,    213.0,2,    213.1,2,    53.19,2,    26.21,2,     1.76,2,   2333.0,2,7.6641,2,    25.00,2000,20190413
  29HE20190406,   A17,15,0,9,9,2,20190413,1849,-39.9175,-47.5352, 5348,   2010.2,   2.9897,  34.7720,2,     -999,9,    198.7,2,    199.5,2,    57.23,2,    28.32,2,     1.91,2,   2332.9,2,7.6372,2,    25.00,2008,20190413
  29HE20190406,   A17,15,0,10,10,2,20190413,1849,-39.9175,-47.5352, 5348,   1812.4,   2.9307,  34.6928,2,  34.6901,2,    186.0,2,    186.6,2,    61.82,2,    30.96,2,     2.09,2,   2333.5,2,7.6074,2,    25.00,2013,20190413
  29HE20190406,   A17,15,0,11,11,2,20190413,1849,-39.9175,-47.5352, 5348,   1607.9,   2.9187,  34.6048,2,     -999,9,    180.3,2,    181.9,2,    61.94,2,    32.53,2,     2.21,2,   2330.9,2,7.5893,2,    25.00,2029,20190413
  29HE20190406,   A17,15,0,12,12,2,20190413,1849,-39.9175,-47.5352, 5348,   1405.5,   2.9382,  34.4968,2,  34.4954,2,    182.1,2,    183.1,2,    59.07,2,    33.70,2,     2.29,2,   2327.7,2,7.5779,2,    25.00,2035,20190413
  29HE20190406,   A17,15,0,13,13,2,20190413,1849,-39.9175,-47.5352, 5348,   1198.5,   3.1235,  34.3810,2,     -999,9,    195.7,2,    196.3,2,    48.88,2,    33.29,2,     2.27,2,   2310.1,2,7.5837,2,    25.00,2040,20190413
  29HE20190406,   A17,15,0,14,14,2,20190413,1849,-39.9175,-47.5352, 5348,    998.5,   3.4044,  34.2781,2,  34.2782,2,    217.8,2,    219.5,2,    35.58,2,    31.62,2,     2.14,2,   2297.2,2,7.6091,2,    25.00,2045,20190413
  29HE20190406,   A17,15,0,15,15,2,20190413,1849,-39.9175,-47.5352, 5348,    798.4,   4.1457,  34.1956,2,     -999,9,    255.2,2,    255.4,2,    19.92,2,    28.03,2,     1.90,2,   2283.4,2,7.6604,2,    25.00,2050,20190413
  29HE20190406,   A17,15,0,16,16,2,20190413,1849,-39.9175,-47.5352, 5348,    697.2,   4.5417,  34.1919,2,  34.1920,2,    261.7,2,    262.3,2,    15.63,2,    26.63,2,     1.80,2,   2280.5,2,7.6729,2,    25.00,2056,20190413
  29HE20190406,   A17,15,0,17,17,2,20190413,1849,-39.9175,-47.5352, 5348,    600.9,   5.1131,  34.2080,2,     -999,9,    262.0,2,    261.4,2,    12.37,2,    24.82,2,     1.71,2,   2277.6,2,7.684,2,    25.00,2059,20190413
  29HE20190406,   A17,15,0,18,18,2,20190413,1849,-39.9175,-47.5352, 5348,    502.3,   6.5072,  34.3312,2,  34.3299,2,    241.9,2,    242.1,2,     9.97,2,    23.15,2,     1.58,2,   2280.4,2,7.6955,2,    25.00,2102,20190413
  29HE20190406,   A17,15,0,19,19,2,20190413,1849,-39.9175,-47.5352, 5348,    400.7,   9.7566,  34.7412,2,     -999,9,    212.3,2,    213.6,2,     6.61,2,    17.72,2,     1.21,2,   2297.4,2,7.7477,2,    25.00,2105,20190413
  29HE20190406,   A17,15,0,20,20,2,20190413,1849,-39.9175,-47.5352, 5348,    300.6,  12.9887,  35.2456,2,  35.2377,2,    210.4,2,    212.1,2,     3.57,2,    10.71,2,     0.76,2,   2323.1,2,7.8314,2,    25.00,2108,20190413
  29HE20190406,   A17,15,0,21,21,2,20190413,1849,-39.9175,-47.5352, 5348,    199.6,  15.4029,  35.7456,2,     -999,9,    224.7,2,    226.2,2,     2.01,2,     4.77,2,     0.38,2,   2352.4,2,7.9104,2,    25.00,2111,20190413
  29HE20190406,   A17,15,0,22,22,2,20190413,1849,-39.9175,-47.5352, 5348,    100.4,  16.5691,  35.8738,2,  35.8724,2,    213.4,2,    215.1,2,     1.71,2,     3.53,2,     0.30,2,   2361.2,2,7.9237,2,    25.00,2114,20190413
  29HE20190406,   A17,15,0,23,23,2,20190413,1849,-39.9175,-47.5352, 5348,     52.9,  18.7984,  35.6078,2,     -999,9,    229.8,2,    231.8,2,     1.15,2,     0.00,2,     0.08,2,   2353.6,2,7.999,2,    25.00,2116,20190413
  29HE20190406,   A17,15,0,24,24,2,20190413,1849,-39.9175,-47.5352, 5348,      5.1,  18.8319,  35.6153,2,  35.6144,2,    230.4,2,    231.7,2,     1.21,2,     0.00,2,     0.08,2,   2354.0,2,7.9995,2,    25.00,2118,20190413
  29HE20190406,   A17,16,0,1,1,2,20190414,242,-39.3057,-47.0281, 5223,   2005.2,   3.0410,  34.8112,2,     -999,9,    208.6,2,     -999,9,     -999,9,     -999,9,     -999,9,     -999,9,-999.0,9,    25.00,242,20190414
  29HE20190406,   A17,16,0,2,2,2,20190414,242,-39.3057,-47.0281, 5223,   2005.8,   3.0370,  34.8105,2,  34.8116,2,    208.7,2,    208.6,2,    51.73,2,    27.03,2,     1.81,2,     -999,9,7.6573,2,    25.00,242,20190414
  29HE20190406,   A17,16,0,3,3,2,20190414,242,-39.3057,-47.0281, 5223,   1704.3,   2.9028,  34.6895,2,     -999,9,    185.8,2,    185.8,2,    62.33,2,    31.07,2,     2.09,2,     -999,9,7.6061,2,    25.00,249,20190414
  29HE20190406,   A17,16,0,4,4,2,20190414,242,-39.3057,-47.0281, 5223,   1501.3,   2.9218,  34.6183,2,  34.6164,2,    182.1,2,    182.3,2,    60.73,2,    32.39,2,     2.20,2,     -999,9,7.5921,2,    25.00,254,20190414
  29HE20190406,   A17,16,0,5,5,2,20190414,242,-39.3057,-47.0281, 5223,   1502.2,   2.9226,  34.6185,2,     -999,9,    182.2,2,     -999,9,     -999,9,     -999,9,     -999,9,     -999,9,-999.0,9,    25.00,254,20190414
  29HE20190406,   A17,16,0,6,6,2,20190414,242,-39.3057,-47.0281, 5223,   1201.0,   2.9040,  34.4498,2,  34.4481,2,    184.9,2,    185.2,2,    58.84,2,    34.20,2,     2.31,2,     -999,9,7.572,2,    25.00,302,20190414
  29HE20190406,   A17,16,0,7,7,2,20190414,242,-39.3057,-47.0281, 5223,   1200.8,   2.9037,  34.4498,2,     -999,9,    185.0,2,     -999,9,     -999,9,     -999,9,     -999,9,     -999,9,-999.0,9,    25.00,302,20190414
  29HE20190406,   A17,16,0,8,8,2,20190414,242,-39.3057,-47.0281, 5223,   1003.0,   3.1474,  34.3506,2,  34.3496,2,    202.3,2,    202.8,2,    45.89,2,    33.14,2,     2.26,2,     -999,9,7.5899,2,    25.00,307,20190414
  29HE20190406,   A17,16,0,9,9,2,20190414,242,-39.3057,-47.0281, 5223,   1002.8,   3.1475,  34.3506,2,     -999,9,    202.5,2,     -999,9,     -999,9,     -999,9,     -999,9,     -999,9,-999.0,9,    25.00,307,20190414
  29HE20190406,   A17,16,0,10,10,2,20190414,242,-39.3057,-47.0281, 5223,    799.3,   3.5289,  34.2542,2,  34.2544,2,    228.1,2,    227.4,2,    32.13,2,    31.32,2,     2.12,2,     -999,9,7.6187,2,    25.00,312,20190414
  29HE20190406,   A17,16,0,11,11,2,20190414,242,-39.3057,-47.0281, 5223,    798.5,   3.5285,  34.2546,2,     -999,9,    228.1,2,     -999,9,     -999,9,     -999,9,     -999,9,     -999,9,-999.0,9,    25.00,312,20190414
  29HE20190406,   A17,16,0,12,12,2,20190414,242,-39.3057,-47.0281, 5223,    602.3,   4.1666,  34.2120,2,  34.2113,2,    247.7,2,    247.2,2,    21.24,2,    28.39,2,     1.93,2,     -999,9,7.6508,2,    25.00,317,20190414
  29HE20190406,   A17,16,0,13,13,2,20190414,242,-39.3057,-47.0281, 5223,    602.8,   4.1653,  34.2121,2,     -999,9,    247.7,2,     -999,9,     -999,9,     -999,9,     -999,9,     -999,9,-999.0,9,    25.00,317,20190414
  29HE20190406,   A17,16,0,14,14,2,20190414,242,-39.3057,-47.0281, 5223,    499.9,   4.5013,  34.1919,2,  34.1917,2,    264.3,2,    262.7,2,    15.82,2,    26.40,2,     1.80,2,     -999,9,7.6732,2,    25.00,320,20190414
  29HE20190406,   A17,16,0,15,15,2,20190414,242,-39.3057,-47.0281, 5223,    401.5,   4.8832,  34.1923,2,     -999,9,    268.9,2,     -999,9,     -999,9,     -999,9,     -999,9,     -999,9,-999.0,9,    25.00,323,20190414
  29HE20190406,   A17,16,0,16,16,2,20190414,242,-39.3057,-47.0281, 5223,    402.1,   4.8822,  34.1922,2,  34.1913,2,    268.4,2,    266.7,2,    12.70,2,    25.44,2,     1.71,2,     -999,9,7.6836,2,    25.00,323,20190414
  29HE20190406,   A17,16,0,17,17,2,20190414,242,-39.3057,-47.0281, 5223,    303.3,   5.5364,  34.2117,2,     -999,9,    262.7,2,    260.6,2,    10.13,2,    24.40,2,     1.65,2,     -999,9,7.6881,2,    25.00,326,20190414
  29HE20190406,   A17,16,0,18,18,2,20190414,242,-39.3057,-47.0281, 5223,    200.5,   7.6566,  34.4325,2,  34.4276,2,    246.6,2,    245.8,2,     6.93,2,    20.24,2,     1.38,2,     -999,9,7.7271,2,    25.00,329,20190414
  29HE20190406,   A17,16,0,19,19,2,20190414,242,-39.3057,-47.0281, 5223,    200.0,   7.6485,  34.4316,2,     -999,9,    246.2,2,     -999,9,     -999,9,     -999,9,     -999,9,     -999,9,-999.0,9,    25.00,329,20190414
  29HE20190406,   A17,16,0,20,20,2,20190414,242,-39.3057,-47.0281, 5223,    100.0,  10.1735,  34.5582,2,  34.5602,2,    243.0,2,    242.4,2,     3.52,2,    14.36,2,     1.02,2,     -999,9,7.79,2,    25.00,332,20190414
  29HE20190406,   A17,16,0,21,21,2,20190414,242,-39.3057,-47.0281, 5223,    100.3,  10.1544,  34.5576,2,     -999,9,    242.5,2,     -999,9,     -999,9,     -999,9,     -999,9,     -999,9,-999.0,9,    25.00,332,20190414
  29HE20190406,   A17,16,0,22,22,2,20190414,242,-39.3057,-47.0281, 5223,     51.4,  17.3393,  34.8431,2,  34.8288,2,    243.4,2,    244.8,2,     0.99,2,     0.88,2,     0.23,2,     -999,9,7.9707,2,    25.00,334,20190414
  29HE20190406,   A17,16,0,23,23,2,20190414,242,-39.3057,-47.0281, 5223,      6.2,  18.7698,  34.8442,2,     -999,9,    233.0,2,     -999,9,     -999,9,     -999,9,     -999,9,     -999,9,-999.0,9,    25.00,337,20190414
  29HE20190406,   A17,16,0,24,24,2,20190414,242,-39.3057,-47.0281, 5223,      5.9,  18.7814,  34.8442,2,  34.8441,2,    231.9,2,    235.4,2,     0.80,2,     0.00,2,     0.13,2,     -999,9,7.9941,2,    25.00,337,20190414
  29HE20190406,   A17,17,0,1,1,2,20190414,947,-38.6824,-46.4385, 5273,   5263.2,   0.3046,  34.6708,2,     -999,9,    222.5,2,    221.9,2,   122.76,2,    33.16,2,     2.28,2,   2367.8,2,7.6041,2,    25.00,947,20190414
  29HE20190406,   A17,17,0,2,2,2,20190414,947,-38.6824,-46.4385, 5273,   4497.7,   0.3827,  34.6788,2,  34.6799,2,    221.4,2,    218.8,2,   118.90,2,    32.75,2,     2.25,2,   2364.6,2,7.6054,2,    25.00,1003,20190414
  29HE20190406,   A17,17,0,3,3,2,20190414,947,-38.6824,-46.4385, 5273,   3994.9,   0.7643,  34.6991,2,     -999,9,    213.9,2,     -999,9,   113.09,2,    32.40,2,     2.21,2,   2361.9,2,7.6076,2,    25.00,1014,20190414
  29HE20190406,   A17,17,0,4,4,2,20190414,947,-38.6824,-46.4385, 5273,   3500.9,   1.3155,  34.7312,2,  34.7313,2,    206.5,2,    205.1,2,   103.31,2,    31.44,2,     2.13,2,   2360.9,2,7.617,2,    25.00,1023,20190414
  29HE20190406,   A17,17,0,5,5,2,20190414,947,-38.6824,-46.4385, 5273,   3001.2,   2.1853,  34.8151,2,     -999,9,    219.0,2,    218.2,2,    67.53,2,    26.88,2,     1.81,2,   2345.6,2,7.6671,2,    25.00,1033,20190414
  29HE20190406,   A17,17,0,6,6,2,20190414,947,-38.6824,-46.4385, 5273,   2501.5,   2.8335,  34.8564,2,  34.8555,2,    224.0,2,    223.4,2,    50.11,2,    24.95,2,     1.67,2,   2334.9,2,7.6828,2,    25.00,1044,20190414
  29HE20190406,   A17,17,0,7,7,2,20190414,947,-38.6824,-46.4385, 5273,   2279.1,   2.6883,  34.7871,2,     -999,9,    202.2,2,    201.3,2,    63.76,2,    28.05,2,     1.91,2,   2340.3,2,7.639,2,    25.00,1050,20190414
  29HE20190406,   A17,17,0,8,8,2,20190414,947,-38.6824,-46.4385, 5273,   2001.6,   2.9170,  34.7523,2,  34.7525,2,    195.4,2,    194.7,2,    60.10,2,    28.91,2,     1.98,2,   2336.8,2,7.6273,2,    25.00,1056,20190414
  29HE20190406,   A17,17,0,9,9,2,20190414,947,-38.6824,-46.4385, 5273,   1795.3,   2.8942,  34.6832,2,     -999,9,    184.7,2,    184.9,2,    62.84,2,    30.81,2,     2.12,2,   2335.3,2,7.6049,2,    25.00,1101,20190414
  29HE20190406,   A17,17,0,10,10,2,20190414,947,-38.6824,-46.4385, 5273,   1597.9,   2.9206,  34.6096,2,  34.6104,2,    181.2,2,    181.8,2,    62.00,2,    32.03,2,     2.22,2,   2330.6,2,7.5905,2,    25.00,1106,20190414
  29HE20190406,   A17,17,0,11,11,2,20190414,947,-38.6824,-46.4385, 5273,   1394.6,   2.8681,  34.4898,2,     -999,9,    181.0,2,    181.0,2,    61.35,2,    33.61,2,     2.32,2,   2324.4,2,7.5716,2,    25.00,1111,20190414
  29HE20190406,   A17,17,0,12,12,2,20190414,947,-38.6824,-46.4385, 5273,   1196.7,   3.0205,  34.3693,2,  34.1908,4,    196.5,2,     -999,9,    22.12,4,    28.17,2,     1.93,2,     -999,9,7.6511,2,    25.00,1116,20190414
  29HE20190406,   A17,17,0,13,13,2,20190414,947,-38.6824,-46.4385, 5273,    987.5,   3.4926,  34.2658,2,     -999,9,    226.2,2,    226.3,2,    33.49,2,    30.80,2,     2.12,2,   2297.2,2,7.6168,2,    25.00,1120,20190414
  29HE20190406,   A17,17,0,14,14,2,20190414,947,-38.6824,-46.4385, 5273,    912.4,   3.5859,  34.2098,2,  34.2088,2,    245.4,2,    245.9,2,    27.11,2,    29.24,2,     2.02,2,   2290.3,2,7.6365,2,    25.00,1123,20190414
  29HE20190406,   A17,17,0,15,15,2,20190414,947,-38.6824,-46.4385, 5273,    807.6,   3.9330,  34.1880,2,     -999,9,    256.9,2,    256.3,2,    20.99,2,    27.62,2,     1.93,2,   2286.1,2,7.6549,2,    25.00,1130,20190414
  29HE20190406,   A17,17,0,16,16,2,20190414,947,-38.6824,-46.4385, 5273,    701.2,   4.2330,  34.1690,2,  34.1704,2,    273.1,2,    271.5,2,    16.21,2,    26.03,2,     1.80,2,   2281.5,2,7.6768,2,    25.00,1135,20190414
  29HE20190406,   A17,17,0,17,17,2,20190414,947,-38.6824,-46.4385, 5273,    598.8,   4.9202,  34.2096,2,     -999,9,    263.3,2,    261.8,2,    13.61,2,    25.14,2,     1.73,2,   2280.2,2,7.682,2,    25.00,1138,20190414
  29HE20190406,   A17,17,0,18,18,2,20190414,947,-38.6824,-46.4385, 5273,    494.0,   5.4551,  34.2169,2,  34.2193,2,    259.5,2,    258.6,2,    10.91,2,    24.27,2,     1.68,2,   2276.7,2,7.6848,2,    25.00,1141,20190414
  29HE20190406,   A17,17,0,19,19,2,20190414,947,-38.6824,-46.4385, 5273,    397.1,   7.1949,  34.3920,2,     -999,9,    238.8,2,    238.7,2,     8.57,2,    21.52,2,     1.49,2,   2282.9,2,7.7076,2,    25.00,1144,20190414
  29HE20190406,   A17,17,0,20,20,2,20190414,947,-38.6824,-46.4385, 5273,    292.5,  10.5542,  34.8140,2,  34.8161,2,    218.0,2,    217.8,2,     5.16,2,    15.20,2,     1.07,2,   2301.7,2,7.773,2,    25.00,1147,20190414
  29HE20190406,   A17,17,0,21,21,2,20190414,947,-38.6824,-46.4385, 5273,    203.2,  12.3239,  34.9878,2,     -999,9,    205.7,2,    208.5,2,     3.76,2,    11.21,2,     0.85,2,   2301.4,2,7.8067,2,    25.00,1149,20190414
  29HE20190406,   A17,17,0,22,22,2,20190414,947,-38.6824,-46.4385, 5273,     96.2,  16.5789,  35.4612,2,  35.4559,2,    211.7,2,    213.5,2,     2.55,2,     5.18,2,     0.46,2,   2340.6,2,7.9125,2,    25.00,1152,20190414
  29HE20190406,   A17,17,0,23,23,2,20190414,947,-38.6824,-46.4385, 5273,     49.8,  20.4537,  35.8792,2,     -999,9,    223.1,2,    223.4,2,     0.72,2,     0.00,2,     0.08,2,   2368.5,2,8.0169,2,    25.00,1154,20190414
  29HE20190406,   A17,17,0,24,24,2,20190414,947,-38.6824,-46.4385, 5273,      5.9,  20.4535,  35.8815,2,  35.8795,2,    223.1,2,    224.3,2,     0.70,2,     0.00,2,     0.09,2,   2368.9,2,8.017,2,    25.00,1157,20190414