BOTTLE,20240229CCHSIOSLL
EXPOCODE,SECT_ID,STNNBR,CASTNO,SAMPNO,BTLNBR,BTLNBR_FLAG_W,DATE,TIME,LATITUDE,LONGITUDE,DEPTH,CTDPRS,CTDTMP,CTDSAL,CTDSAL_FLAG_W,SALNTY,SALNTY_FLAG_W,CTDOXY,CTDOXY_FLAG_W,OXYGEN,OXYGEN_FLAG_W,SILCAT,SILCAT_FLAG_W,NITRAT,NITRAT_FLAG_W,PHSPHT,PHSPHT_FLAG_W,ALKALI,ALKALI_FLAG_W,PH_TOT,PH_TOT_FLAG_W,PH_TMP,BTL_TIME,BTL_DATE
,,,,,,,,,,,METERS,DBAR,ITS-90,PSS-78,,PSS-78,,UMOL/KG,,UMOL/KG,,UMOL/KG,,UMOL/KG,,UMOL/KG,,UMOL/KG,,,,DEG C,,
  29HE20190406,   A17,12,0,1,1,2,20190412,1708,-41.7356,-49.0837, 5556,   2004.1,   2.9199,  34.7246,2,     -999,9,    189.8,2,     -999,9,     -999,9,     -999,9,     -999,9,     -999,9,-999.0,9,    25.00,1708,20190412
  29HE20190406,   A17,12,0,2,2,2,20190412,1708,-41.7356,-49.0837, 5556,   2003.9,   2.9198,  34.7245,2,  34.7251,2,    189.5,2,    189.9,2,    60.82,2,    29.66,2,     2.00,2,     -999,9,7.6172,2,    25.00,1708,20190412
  29HE20190406,   A17,12,0,3,3,2,20190412,1708,-41.7356,-49.0837, 5556,   1705.3,   2.8640,  34.6078,2,     -999,9,    178.9,2,    179.5,2,    63.09,2,    32.28,2,     2.21,2,     -999,9,7.5868,2,    25.00,1715,20190412
  29HE20190406,   A17,12,0,4,4,2,20190412,1708,-41.7356,-49.0837, 5556,   1505.4,   2.8615,  34.5001,2,  34.5006,2,    179.9,2,    180.2,2,    61.40,2,    33.57,2,     2.29,2,     -999,9,7.5714,2,    25.00,1720,20190412
  29HE20190406,   A17,12,0,5,5,2,20190412,1708,-41.7356,-49.0837, 5556,   1198.9,   3.1957,  34.3340,2,     -999,9,    206.0,2,     -999,9,     -999,9,     -999,9,     -999,9,     -999,9,-999.0,9,    25.00,1726,20190412
  29HE20190406,   A17,12,0,6,6,2,20190412,1708,-41.7356,-49.0837, 5556,   1197.2,   3.1983,  34.3337,2,  34.3347,2,    206.0,2,    204.9,2,    42.86,2,    32.24,2,     2.19,2,     -999,9,7.5921,2,    25.00,1726,20190412
  29HE20190406,   A17,12,0,7,7,2,20190412,1708,-41.7356,-49.0837, 5556,   1198.1,   3.1983,  34.3340,2,     -999,9,    206.1,2,     -999,9,     -999,9,     -999,9,     -999,9,     -999,9,-999.0,9,    25.00,1726,20190412
  29HE20190406,   A17,12,0,8,8,2,20190412,1708,-41.7356,-49.0837, 5556,   1128.6,   3.2217,  34.2872,2,     -999,9,    218.2,2,     -999,9,     -999,9,     -999,9,     -999,9,     -999,9,-999.0,9,    25.00,1727,20190412
  29HE20190406,   A17,12,0,9,9,2,20190412,1708,-41.7356,-49.0837, 5556,   1003.6,   3.5106,  34.2280,2,  34.2285,2,    237.4,2,    236.0,2,    29.48,2,    30.16,2,     2.04,2,     -999,9,7.6249,2,    25.00,1730,20190412
  29HE20190406,   A17,12,0,10,10,2,20190412,1708,-41.7356,-49.0837, 5556,    801.6,   4.2657,  34.1966,2,  34.1979,2,    257.8,2,    256.5,2,    18.74,2,    27.15,2,     1.86,2,     -999,9,7.6627,2,    25.00,1735,20190412
  29HE20190406,   A17,12,0,11,11,2,20190412,1708,-41.7356,-49.0837, 5556,    801.4,   4.2647,  34.1964,2,     -999,9,    257.8,2,     -999,9,     -999,9,     -999,9,     -999,9,     -999,9,-999.0,9,    25.00,1735,20190412
  29HE20190406,   A17,12,0,12,12,2,20190412,1708,-41.7356,-49.0837, 5556,    601.8,   5.4789,  34.2415,2,  34.2429,2,    253.6,2,    252.1,2,    12.14,2,    24.74,2,     1.68,2,     -999,9,7.6815,2,    25.00,1739,20190412
  29HE20190406,   A17,12,0,13,13,2,20190412,1708,-41.7356,-49.0837, 5556,    600.9,   5.4801,  34.2418,2,     -999,9,    253.7,2,     -999,9,     -999,9,     -999,9,     -999,9,     -999,9,-999.0,9,    25.00,1739,20190412
  29HE20190406,   A17,12,0,14,14,2,20190412,1708,-41.7356,-49.0837, 5556,    501.5,   6.6699,  34.3484,2,  34.3499,2,    242.0,2,    240.9,2,     9.67,2,    22.65,2,     1.54,2,     -999,9,7.699,2,    25.00,1742,20190412
  29HE20190406,   A17,12,0,15,15,2,20190412,1708,-41.7356,-49.0837, 5556,    405.6,   8.5290,  34.5638,2,     -999,9,    225.3,2,     -999,9,     -999,9,     -999,9,     -999,9,     -999,9,-999.0,9,    25.00,1745,20190412
  29HE20190406,   A17,12,0,16,16,2,20190412,1708,-41.7356,-49.0837, 5556,    404.2,   8.5368,  34.5649,2,  34.5657,2,    225.4,2,    224.9,2,     7.36,2,    19.57,2,     1.34,2,     -999,9,7.7268,2,    25.00,1745,20190412
  29HE20190406,   A17,12,0,17,17,2,20190412,1708,-41.7356,-49.0837, 5556,    301.8,  11.3732,  34.9493,2,     -999,9,    214.3,2,    214.6,2,     4.59,2,    13.73,2,     0.97,2,     -999,9,7.7914,2,    25.00,1747,20190412
  29HE20190406,   A17,12,0,18,18,2,20190412,1708,-41.7356,-49.0837, 5556,    202.2,  14.1942,  35.4582,2,  35.4579,2,    216.7,2,    217.8,2,     2.68,2,     7.54,2,     0.57,2,     -999,9,7.8703,2,    25.00,1750,20190412
  29HE20190406,   A17,12,0,19,19,2,20190412,1708,-41.7356,-49.0837, 5556,    202.0,  14.1937,  35.4582,2,     -999,9,    217.2,2,     -999,9,     -999,9,     -999,9,     -999,9,     -999,9,-999.0,9,    25.00,1750,20190412
  29HE20190406,   A17,12,0,20,20,2,20190412,1708,-41.7356,-49.0837, 5556,    101.4,  16.2357,  35.6198,2,  35.6219,2,    214.1,2,    216.3,2,     1.95,2,     3.59,2,     0.36,2,     -999,9,7.9123,2,    25.00,1753,20190412
  29HE20190406,   A17,12,0,21,21,2,20190412,1708,-41.7356,-49.0837, 5556,    100.3,  16.2383,  35.6199,2,     -999,9,    214.3,2,     -999,9,     -999,9,     -999,9,     -999,9,     -999,9,-999.0,9,    25.00,1753,20190412
  29HE20190406,   A17,12,0,22,22,2,20190412,1708,-41.7356,-49.0837, 5556,     55.5,  19.0488,  35.4438,2,  35.4433,2,    230.7,2,    231.6,2,     1.04,2,     0.00,2,     0.08,2,     -999,9,7.9977,2,    25.00,1755,20190412
  29HE20190406,   A17,12,0,23,23,2,20190412,1708,-41.7356,-49.0837, 5556,      6.5,  18.9858,  35.3635,2,     -999,9,    231.8,2,     -999,9,     -999,9,     -999,9,     -999,9,     -999,9,-999.0,9,    25.00,1758,20190412
  29HE20190406,   A17,12,0,24,24,2,20190412,1708,-41.7356,-49.0837, 5556,      6.0,  18.9847,  35.3635,2,  35.3638,2,    231.8,2,    232.2,2,     1.04,2,     0.00,2,     0.08,2,     -999,9,7.9989,2,    25.00,1758,20190412
  29HE20190406,   A17,13,0,1,1,2,20190413,309,-41.1206,-48.6743, 5619,   5608.5,   0.3547,  34.6709,2,     -999,9,    222.4,2,    221.8,2,   122.86,2,    32.93,2,     2.28,2,   2369.7,2,7.6036,2,    25.00,309,20190413
  29HE20190406,   A17,13,0,2,2,2,20190413,309,-41.1206,-48.6743, 5619,   4998.0,   0.3590,  34.6750,2,  34.9627,4,    222.2,2,     -999,9,     -999,9,     -999,9,     -999,9,     -999,9,-999.0,9,    25.00,320,20190413
  29HE20190406,   A17,13,0,3,3,2,20190413,309,-41.1206,-48.6743, 5619,   4497.2,   0.6001,  34.6893,2,     -999,9,    217.2,2,    216.7,2,   118.49,2,    32.47,2,     2.21,2,   2364.1,2,7.6074,2,    25.00,331,20190413
  29HE20190406,   A17,13,0,4,4,2,20190413,309,-41.1206,-48.6743, 5619,   4000.3,   1.0441,  34.7134,2,  34.7144,2,    209.0,2,    209.0,2,   111.19,2,    31.87,2,     2.14,2,   2362.4,2,7.6117,2,    25.00,341,20190413
  29HE20190406,   A17,13,0,5,5,2,20190413,309,-41.1206,-48.6743, 5619,   3501.4,   1.7112,  34.7655,2,     -999,9,    210.3,2,    209.9,2,    89.43,2,    29.34,2,     1.96,2,   2355.3,2,7.636,2,    25.00,350,20190413
  29HE20190406,   A17,13,0,6,6,2,20190413,309,-41.1206,-48.6743, 5619,   2999.8,   2.6603,  34.8722,2,  34.8739,2,    234.0,2,    233.3,2,    48.48,2,    23.23,2,     1.55,2,   2336.3,2,7.7004,2,    25.00,359,20190413
  29HE20190406,   A17,13,0,7,7,2,20190413,309,-41.1206,-48.6743, 5619,   2499.6,   2.8893,  34.8452,2,     -999,9,    219.7,2,    219.4,2,    50.99,2,    25.01,2,     1.68,2,   2336.3,2,7.6755,2,    25.00,408,20190413
  29HE20190406,   A17,13,0,8,8,2,20190413,309,-41.1206,-48.6743, 5619,   2274.3,   2.9394,  34.8058,2,  34.8063,2,    207.2,2,    207.2,2,    55.49,2,    27.08,2,     1.81,2,   2335.9,2,7.652,2,    25.00,413,20190413
  29HE20190406,   A17,13,0,9,9,2,20190413,309,-41.1206,-48.6743, 5619,   1999.7,   3.0422,  34.7505,2,     -999,9,    196.4,2,    195.9,2,    55.88,2,    28.80,2,     1.96,2,   2333.4,2,7.6312,2,    25.00,419,20190413
  29HE20190406,   A17,13,0,10,10,2,20190413,309,-41.1206,-48.6743, 5619,   1799.4,   2.9362,  34.6563,2,  34.6562,2,    183.6,2,    183.6,2,    61.49,2,    31.53,2,     2.12,2,   2333.7,2,7.5996,2,    25.00,423,20190413
  29HE20190406,   A17,13,0,11,11,2,20190413,309,-41.1206,-48.6743, 5619,   1597.7,   2.8786,  34.5544,2,     -999,9,    179.9,2,    180.7,2,    62.26,2,    32.83,2,     2.23,2,   2330.1,2,7.5803,2,    25.00,428,20190413
  29HE20190406,   A17,13,0,12,12,2,20190413,309,-41.1206,-48.6743, 5619,   1398.7,   2.9968,  34.4482,2,  34.4486,2,    187.0,2,    187.0,2,    55.48,2,    33.18,2,     2.26,2,   2320.1,2,7.5781,2,    25.00,432,20190413
  29HE20190406,   A17,13,0,13,13,2,20190413,309,-41.1206,-48.6743, 5619,   1201.9,   3.2199,  34.3468,2,     -999,9,    203.1,2,    202.7,2,    44.48,2,    32.62,2,     2.21,2,   2308.6,2,7.5919,2,    25.00,436,20190413
  29HE20190406,   A17,13,0,14,14,2,20190413,309,-41.1206,-48.6743, 5619,   1000.8,   3.6347,  34.2445,2,  34.2448,2,    228.5,2,    227.7,2,    30.22,2,    30.42,2,     2.06,2,   2293.6,2,7.6218,2,    25.00,440,20190413
  29HE20190406,   A17,13,0,15,15,2,20190413,309,-41.1206,-48.6743, 5619,    801.0,   4.4209,  34.2066,2,     -999,9,    248.6,2,    248.1,2,    18.78,2,    27.14,2,     1.87,2,   2284.1,2,7.658,2,    25.00,445,20190413
  29HE20190406,   A17,13,0,16,16,2,20190413,309,-41.1206,-48.6743, 5619,    700.9,   4.8635,  34.2131,2,  34.2142,2,    253.3,2,    252.8,2,    15.10,2,    26.02,2,     1.77,2,   2281.3,2,7.6702,2,    25.00,448,20190413
  29HE20190406,   A17,13,0,17,17,2,20190413,309,-41.1206,-48.6743, 5619,    601.4,   5.5792,  34.2495,2,     -999,9,    251.0,2,    250.5,2,    11.62,2,    24.22,2,     1.68,2,   2280.4,2,7.6828,2,    25.00,451,20190413
  29HE20190406,   A17,13,0,18,18,2,20190413,309,-41.1206,-48.6743, 5619,    500.2,   7.0639,  34.3902,2,  34.3929,2,    233.8,2,    233.2,2,     9.01,2,    22.13,2,     1.55,2,   2284.0,2,7.6981,2,    25.00,453,20190413
  29HE20190406,   A17,13,0,19,19,2,20190413,309,-41.1206,-48.6743, 5619,    399.9,   9.7771,  34.7248,2,     -999,9,    219.8,2,    219.8,2,     5.98,2,    16.59,2,     1.17,2,   2297.9,2,7.7555,2,    25.00,456,20190413
  29HE20190406,   A17,13,0,20,20,2,20190413,309,-41.1206,-48.6743, 5619,    301.2,  13.0107,  35.2312,2,  35.2368,2,    211.4,2,    212.0,2,     3.35,2,     9.84,2,     0.73,2,   2324.1,2,7.8337,2,    25.00,459,20190413
  29HE20190406,   A17,13,0,21,21,2,20190413,309,-41.1206,-48.6743, 5619,    199.7,  15.4729,  35.7222,2,     -999,9,    217.4,2,    217.9,2,     2.18,2,     5.04,2,     0.42,2,   2352.7,2,7.9026,2,    25.00,502,20190413
  29HE20190406,   A17,13,0,22,22,2,20190413,309,-41.1206,-48.6743, 5619,     94.6,  16.9228,  35.6665,2,  35.6667,2,    202.5,2,    204.3,2,     2.26,2,     4.28,2,     0.42,2,   2350.1,2,7.9098,2,    25.00,504,20190413
  29HE20190406,   A17,13,0,23,23,2,20190413,309,-41.1206,-48.6743, 5619,     52.6,  18.7721,  35.5345,2,     -999,9,    230.8,2,    231.8,2,     1.15,2,     0.00,2,     0.08,2,   2349.4,2,7.9977,2,    25.00,506,20190413
  29HE20190406,   A17,13,0,24,24,2,20190413,309,-41.1206,-48.6743, 5619,      6.1,  17.6728,  35.0507,2,  35.0507,2,    236.4,2,    236.8,2,     1.00,2,     0.00,2,     0.15,2,   2327.3,2,7.9925,2,    25.00,509,20190413
  29HE20190406,   A17,14,0,1,1,2,20190413,1108,-40.5115,-48.1125, 5401,   1999.3,   2.9194,  34.7921,2,     -999,9,    203.4,2,     -999,9,     -999,9,     -999,9,     -999,9,     -999,9,-999.0,9,    25.00,1108,20190413
  29HE20190406,   A17,14,0,2,2,2,20190413,1108,-40.5115,-48.1125, 5401,   1998.9,   2.9193,  34.7921,2,  34.7932,2,    203.8,2,    203.6,2,    57.07,2,    26.78,2,     1.85,2,     -999,9,7.6497,2,    25.00,1108,20190413
  29HE20190406,   A17,14,0,3,3,2,20190413,1108,-40.5115,-48.1125, 5401,   1702.5,   2.9520,  34.6814,2,     -999,9,    186.1,2,    186.4,2,    60.52,2,    30.06,2,     2.07,2,     -999,9,7.6063,2,    25.00,1115,20190413
  29HE20190406,   A17,14,0,4,4,2,20190413,1108,-40.5115,-48.1125, 5401,   1502.7,   2.9163,  34.5353,2,  34.5352,2,    181.0,2,    181.0,2,    60.07,2,    32.26,2,     2.26,2,     -999,9,7.5798,2,    25.00,1120,20190413
  29HE20190406,   A17,14,0,5,5,2,20190413,1108,-40.5115,-48.1125, 5401,   1503.4,   2.9171,  34.5354,2,     -999,9,    181.1,2,     -999,9,     -999,9,     -999,9,     -999,9,     -999,9,-999.0,9,    25.00,1120,20190413
  29HE20190406,   A17,14,0,6,6,2,20190413,1108,-40.5115,-48.1125, 5401,   1199.6,   3.1531,  34.3704,2,  34.3701,2,    198.8,2,    198.7,2,    47.53,2,    32.12,2,     2.23,2,     -999,9,7.5868,2,    25.00,1127,20190413
  29HE20190406,   A17,14,0,7,7,2,20190413,1108,-40.5115,-48.1125, 5401,   1199.5,   3.1528,  34.3704,2,     -999,9,    198.8,2,     -999,9,     -999,9,     -999,9,     -999,9,     -999,9,-999.0,9,    25.00,1127,20190413
  29HE20190406,   A17,14,0,8,8,2,20190413,1108,-40.5115,-48.1125, 5401,   1001.5,   3.4805,  34.2689,2,  34.2678,2,    223.1,2,    222.6,2,    33.93,2,    30.62,2,     2.12,2,     -999,9,7.6178,2,    25.00,1131,20190413
  29HE20190406,   A17,14,0,9,9,2,20190413,1108,-40.5115,-48.1125, 5401,   1001.2,   3.4804,  34.2684,2,     -999,9,    222.9,2,     -999,9,     -999,9,     -999,9,     -999,9,     -999,9,-999.0,9,    25.00,1132,20190413
  29HE20190406,   A17,14,0,10,10,2,20190413,1108,-40.5115,-48.1125, 5401,    803.8,   4.2109,  34.2102,2,  34.2105,2,    248.3,2,    247.3,2,    20.83,2,    27.39,2,     1.89,2,     -999,9,7.652,2,    25.00,1137,20190413
  29HE20190406,   A17,14,0,11,11,2,20190413,1108,-40.5115,-48.1125, 5401,    802.6,   4.2133,  34.2102,2,     -999,9,    248.6,2,     -999,9,     -999,9,     -999,9,     -999,9,     -999,9,-999.0,9,    25.00,1137,20190413
  29HE20190406,   A17,14,0,12,12,2,20190413,1108,-40.5115,-48.1125, 5401,    607.4,   5.0709,  34.1989,2,  34.1988,2,    262.4,2,    263.5,2,    12.13,2,    24.38,2,     1.69,2,     -999,9,7.6817,2,    25.00,1143,20190413
  29HE20190406,   A17,14,0,13,13,2,20190413,1108,-40.5115,-48.1125, 5401,    607.8,   5.0688,  34.1987,2,     -999,9,    262.1,2,     -999,9,     -999,9,     -999,9,     -999,9,     -999,9,-999.0,9,    25.00,1143,20190413
  29HE20190406,   A17,14,0,14,14,2,20190413,1108,-40.5115,-48.1125, 5401,    505.1,   6.6480,  34.3456,2,  34.3469,2,    240.9,2,    240.2,2,     9.69,2,    22.39,2,     1.54,2,     -999,9,7.6957,2,    25.00,1147,20190413
  29HE20190406,   A17,14,0,15,15,2,20190413,1108,-40.5115,-48.1125, 5401,    400.0,   9.2681,  34.6680,2,     -999,9,    217.1,2,     -999,9,     -999,9,     -999,9,     -999,9,     -999,9,-999.0,9,    25.00,1150,20190413
  29HE20190406,   A17,14,0,16,16,2,20190413,1108,-40.5115,-48.1125, 5401,    400.4,   9.2562,  34.6662,2,  34.6714,2,    217.2,2,    217.5,2,     6.82,2,    17.92,2,     1.26,2,     -999,9,7.7385,2,    25.00,1150,20190413
  29HE20190406,   A17,14,0,17,17,2,20190413,1108,-40.5115,-48.1125, 5401,    302.9,  12.5253,  35.1557,2,     -999,9,    210.6,2,    211.4,2,     3.77,2,    11.03,2,     0.80,2,     -999,9,7.8181,2,    25.00,1153,20190413
  29HE20190406,   A17,14,0,18,18,2,20190413,1108,-40.5115,-48.1125, 5401,    199.6,  15.3264,  35.6972,2,  35.6942,2,    216.8,2,    218.1,2,     2.17,2,     5.22,2,     0.43,2,     -999,9,7.8987,2,    25.00,1156,20190413
  29HE20190406,   A17,14,0,19,19,2,20190413,1108,-40.5115,-48.1125, 5401,    200.1,  15.3348,  35.6984,2,     -999,9,    217.5,2,     -999,9,     -999,9,     -999,9,     -999,9,     -999,9,-999.0,9,    25.00,1156,20190413
  29HE20190406,   A17,14,0,20,20,2,20190413,1108,-40.5115,-48.1125, 5401,    103.9,  16.3553,  35.8130,2,  35.8130,2,    207.8,2,    208.8,2,     1.93,2,     3.96,2,     0.35,2,     -999,9,7.9121,2,    25.00,1159,20190413
  29HE20190406,   A17,14,0,21,21,2,20190413,1108,-40.5115,-48.1125, 5401,    103.9,  16.3909,  35.8118,2,     -999,9,    208.2,2,     -999,9,     -999,9,     -999,9,     -999,9,     -999,9,-999.0,9,    25.00,1159,20190413
  29HE20190406,   A17,14,0,22,22,2,20190413,1108,-40.5115,-48.1125, 5401,     52.3,  18.9400,  35.6199,2,  35.6267,2,    229.2,2,    229.6,2,     1.11,2,     0.00,2,     0.06,2,     -999,9,7.9992,2,    25.00,1201,20190413
  29HE20190406,   A17,14,0,23,23,2,20190413,1108,-40.5115,-48.1125, 5401,      4.6,  18.9220,  35.6155,2,     -999,9,    229.1,2,     -999,9,     -999,9,     -999,9,     -999,9,     -999,9,-999.0,9,    25.00,1204,20190413
  29HE20190406,   A17,14,0,24,24,2,20190413,1108,-40.5115,-48.1125, 5401,      4.7,  18.9261,  35.6171,2,  35.6149,2,    229.2,2,    230.4,2,     1.07,2,     0.00,2,     0.06,2,     -999,9,7.9999,2,    25.00,1204,20190413