BOTTLE,20240229CCHSIOSLL
EXPOCODE,SECT_ID,STNNBR,CASTNO,SAMPNO,BTLNBR,BTLNBR_FLAG_W,DATE,TIME,LATITUDE,LONGITUDE,DEPTH,CTDPRS,CTDTMP,CTDSAL,CTDSAL_FLAG_W,SALNTY,SALNTY_FLAG_W,CTDOXY,CTDOXY_FLAG_W,OXYGEN,OXYGEN_FLAG_W,SILCAT,SILCAT_FLAG_W,NITRAT,NITRAT_FLAG_W,PHSPHT,PHSPHT_FLAG_W,ALKALI,ALKALI_FLAG_W,PH_TOT,PH_TOT_FLAG_W,PH_TMP,BTL_TIME,BTL_DATE
,,,,,,,,,,,METERS,DBAR,ITS-90,PSS-78,,PSS-78,,UMOL/KG,,UMOL/KG,,UMOL/KG,,UMOL/KG,,UMOL/KG,,UMOL/KG,,,,DEG C,,
  29HE20190406,   A17,6,0,1,1,2,20190410,2214,-45.3055,-52.2911, 5953,   2001.8,   2.7936,  34.7028,2,     -999,9,    185.2,2,     -999,9,     -999,9,     -999,9,     -999,9,     -999,9,-999.0,9,    25.00,2214,20190410
  29HE20190406,   A17,6,0,2,2,2,20190410,2214,-45.3055,-52.2911, 5953,   2002.1,   2.7935,  34.7028,2,  34.7014,2,    185.2,2,     -999,9,    65.69,2,    30.36,2,     2.01,2,     -999,9,7.6056,2,    25.00,2214,20190410
  29HE20190406,   A17,6,0,3,3,2,20190410,2214,-45.3055,-52.2911, 5953,   1701.3,   2.8227,  34.5996,2,     -999,9,    178.3,2,     -999,9,    63.39,2,    32.05,2,     2.14,2,     -999,9,7.582,2,    25.00,2221,20190410
  29HE20190406,   A17,6,0,4,4,2,20190410,2214,-45.3055,-52.2911, 5953,   1503.2,   2.8502,  34.4968,2,  34.4943,2,    180.2,2,     -999,9,    59.95,2,    32.92,2,     2.22,2,     -999,9,7.5709,2,    25.00,2225,20190410
  29HE20190406,   A17,6,0,5,5,2,20190410,2214,-45.3055,-52.2911, 5953,   1503.7,   2.8504,  34.4966,2,     -999,9,    180.1,2,     -999,9,     -999,9,     -999,9,     -999,9,     -999,9,-999.0,9,    25.00,2225,20190410
  29HE20190406,   A17,6,0,6,6,2,20190410,2214,-45.3055,-52.2911, 5953,   1197.4,   3.0982,  34.3384,2,  34.3364,2,    204.4,2,     -999,9,    44.89,2,    32.29,2,     2.17,2,     -999,9,7.5869,2,    25.00,2231,20190410
  29HE20190406,   A17,6,0,7,7,2,20190410,2214,-45.3055,-52.2911, 5953,   1199.0,   3.0976,  34.3384,2,     -999,9,    204.5,2,     -999,9,     -999,9,     -999,9,     -999,9,     -999,9,-999.0,9,    25.00,2232,20190410
  29HE20190406,   A17,6,0,8,8,2,20190410,2214,-45.3055,-52.2911, 5953,   1003.9,   3.4900,  34.2350,2,  34.2342,2,    232.8,2,     -999,9,    30.26,2,    30.06,2,     2.01,2,     -999,9,7.6214,2,    25.00,2236,20190410
  29HE20190406,   A17,6,0,9,9,2,20190410,2214,-45.3055,-52.2911, 5953,   1002.4,   3.4909,  34.2348,2,     -999,9,    233.3,2,     -999,9,     -999,9,     -999,9,     -999,9,     -999,9,-999.0,9,    25.00,2236,20190410
  29HE20190406,   A17,6,0,10,10,2,20190410,2214,-45.3055,-52.2911, 5953,    798.6,   4.1368,  34.1849,2,  34.1841,2,    258.5,2,     -999,9,    18.85,2,    27.06,2,     1.79,2,     -999,9,7.6595,2,    25.00,2240,20190410
  29HE20190406,   A17,6,0,11,11,2,20190410,2214,-45.3055,-52.2911, 5953,    798.7,   4.1367,  34.1849,2,     -999,9,    258.3,2,     -999,9,     -999,9,     -999,9,     -999,9,     -999,9,-999.0,9,    25.00,2240,20190410
  29HE20190406,   A17,6,0,12,12,2,20190410,2214,-45.3055,-52.2911, 5953,    600.2,   4.7907,  34.1788,2,  34.1779,2,    275.2,2,     -999,9,    12.38,2,    24.36,2,     1.63,2,     -999,9,7.6904,2,    25.00,2245,20190410
  29HE20190406,   A17,6,0,13,13,2,20190410,2214,-45.3055,-52.2911, 5953,    601.4,   4.7894,  34.1788,2,     -999,9,    275.3,2,     -999,9,     -999,9,     -999,9,     -999,9,     -999,9,-999.0,9,    25.00,2245,20190410
  29HE20190406,   A17,6,0,14,14,2,20190410,2214,-45.3055,-52.2911, 5953,    498.4,   5.6036,  34.2338,2,  34.2323,2,    260.1,2,     -999,9,    10.64,2,    23.33,2,     1.56,2,     -999,9,7.6918,2,    25.00,2248,20190410
  29HE20190406,   A17,6,0,15,15,2,20190410,2214,-45.3055,-52.2911, 5953,    407.6,   7.5008,  34.4452,2,     -999,9,    235.5,2,     -999,9,     -999,9,     -999,9,     -999,9,     -999,9,-999.0,9,    25.00,2250,20190410
  29HE20190406,   A17,6,0,16,16,2,20190410,2214,-45.3055,-52.2911, 5953,    407.6,   7.4953,  34.4436,2,  34.4469,2,    235.5,2,    236.3,2,     8.27,2,    20.68,2,     1.38,2,     -999,9,7.7135,2,    25.00,2250,20190410
  29HE20190406,   A17,6,0,17,17,2,20190410,2214,-45.3055,-52.2911, 5953,    299.0,  10.3699,  34.8527,2,     -999,9,    226.3,2,    227.8,2,     4.97,2,    14.46,2,     0.99,2,     -999,9,7.7817,2,    25.00,2253,20190410
  29HE20190406,   A17,6,0,18,18,2,20190410,2214,-45.3055,-52.2911, 5953,    199.8,  12.8144,  35.1592,2,  35.1517,2,    209.9,2,    212.2,2,     3.47,2,    10.40,2,     0.75,2,     -999,9,7.8233,2,    25.00,2257,20190410
  29HE20190406,   A17,6,0,19,19,2,20190410,2214,-45.3055,-52.2911, 5953,    200.2,  12.8128,  35.1581,2,     -999,9,    210.2,2,     -999,9,     -999,9,     -999,9,     -999,9,     -999,9,-999.0,9,    25.00,2257,20190410
  29HE20190406,   A17,6,0,20,20,2,20190410,2214,-45.3055,-52.2911, 5953,     99.9,  15.3678,  35.4830,2,  35.4818,2,    201.5,2,    205.5,2,     2.63,2,     6.45,2,     0.51,2,     -999,9,7.8736,2,    25.00,2300,20190410
  29HE20190406,   A17,6,0,21,21,2,20190410,2214,-45.3055,-52.2911, 5953,    100.0,  15.3684,  35.4832,2,     -999,9,    201.2,2,     -999,9,     -999,9,     -999,9,     -999,9,     -999,9,-999.0,9,    25.00,2300,20190410
  29HE20190406,   A17,6,0,22,22,2,20190410,2214,-45.3055,-52.2911, 5953,     46.3,  15.9859,  35.2945,2,  35.2929,2,    236.1,2,    241.5,2,     1.25,2,     0.81,2,     0.19,2,     -999,9,7.9631,2,    25.00,2302,20190410
  29HE20190406,   A17,6,0,23,23,2,20190410,2214,-45.3055,-52.2911, 5953,      5.7,  15.5965,  35.0753,2,     -999,9,    241.6,2,     -999,9,     -999,9,     -999,9,     -999,9,     -999,9,-999.0,9,    25.00,2306,20190410
  29HE20190406,   A17,6,0,24,24,2,20190410,2214,-45.3055,-52.2911, 5953,      5.6,  15.5977,  35.0752,2,  35.0743,2,    241.6,2,    243.3,2,     1.16,2,     0.82,2,     0.18,2,     -999,9,7.9636,2,    25.00,2306,20190410
  29HE20190406,   A17,7,0,1,1,2,20190411,527,-44.6922,-51.7171, 5959,   5949.2,   0.3996,  34.6708,2,     -999,9,    221.0,2,    221.4,2,   125.01,2,    32.58,2,     2.19,2,   2367.8,2,7.6025,2,    25.00,527,20190411
  29HE20190406,   A17,7,0,2,2,2,20190411,527,-44.6922,-51.7171, 5959,   5497.8,   0.3675,  34.6724,2,  34.6707,2,    222.6,2,    221.9,2,   123.91,2,    32.52,2,     2.19,2,   2365.6,2,7.6029,2,    25.00,536,20190411
  29HE20190406,   A17,7,0,3,3,2,20190411,527,-44.6922,-51.7171, 5959,   4999.2,   0.4251,  34.6782,2,     -999,9,    220.8,2,     -999,9,     -999,9,     -999,9,     -999,9,     -999,9,-999.0,9,    25.00,546,20190411
  29HE20190406,   A17,7,0,4,4,2,20190411,527,-44.6922,-51.7171, 5959,   4494.3,   0.6719,  34.6909,2,  34.6884,2,    214.3,2,    216.6,2,   118.40,2,    32.24,2,     2.15,2,   2362.5,2,7.6048,2,    25.00,556,20190411
  29HE20190406,   A17,7,0,5,5,2,20190411,527,-44.6922,-51.7171, 5959,   4002.8,   1.1245,  34.7172,2,     -999,9,    207.4,2,    208.8,2,   110.95,2,    31.20,2,     2.09,2,   2360.8,2,7.6122,2,    25.00,606,20190411
  29HE20190406,   A17,7,0,6,6,2,20190411,527,-44.6922,-51.7171, 5959,   3499.4,   1.5769,  34.7442,2,  34.7425,2,    202.5,2,    203.0,2,    98.94,2,    30.23,2,     2.00,2,   2358.6,2,7.6216,2,    25.00,615,20190411
  29HE20190406,   A17,7,0,7,7,2,20190411,527,-44.6922,-51.7171, 5959,   3002.9,   2.2596,  34.8048,2,     -999,9,    211.2,2,    213.4,2,    69.71,2,    26.99,2,     1.78,2,   2346.3,2,7.6536,2,    25.00,625,20190411
  29HE20190406,   A17,7,0,8,8,2,20190411,527,-44.6922,-51.7171, 5959,   2496.3,   2.5723,  34.7836,2,  34.7821,2,    200.8,2,    201.9,2,    67.17,2,    27.93,2,     1.86,2,   2343.9,2,7.6364,2,    25.00,634,20190411
  29HE20190406,   A17,7,0,9,9,2,20190411,527,-44.6922,-51.7171, 5959,   2273.8,   2.6623,  34.7536,2,     -999,9,    193.1,2,    193.3,2,    67.38,2,    29.04,2,     1.94,2,   2342.6,2,7.6215,2,    25.00,641,20190411
  29HE20190406,   A17,7,0,10,10,2,20190411,527,-44.6922,-51.7171, 5959,   1989.5,   2.5352,  34.6544,2,  34.6523,2,    175.0,2,    177.4,2,    73.95,2,    32.41,2,     2.17,2,   2343.3,2,7.5806,2,    25.00,647,20190411
  29HE20190406,   A17,7,0,11,11,2,20190411,527,-44.6922,-51.7171, 5959,   1805.0,   2.6806,  34.6116,2,     -999,9,    175.1,2,    176.8,2,    70.03,2,    32.96,2,     2.18,2,   2338.7,2,7.5751,2,    25.00,651,20190411
  29HE20190406,   A17,7,0,12,12,2,20190411,527,-44.6922,-51.7171, 5959,   1604.1,   2.8230,  34.5592,2,  34.5570,2,    177.0,2,    178.0,2,    64.93,2,    33.06,2,     2.19,2,   2333.3,2,7.5764,2,    25.00,655,20190411
  29HE20190406,   A17,7,0,13,13,2,20190411,527,-44.6922,-51.7171, 5959,   1406.1,   2.9196,  34.4700,2,     -999,9,    182.7,2,    183.6,2,    59.50,2,    33.65,2,     2.21,2,   2323.9,2,7.5724,2,    25.00,700,20190411
  29HE20190406,   A17,7,0,14,14,2,20190411,527,-44.6922,-51.7171, 5959,   1204.0,   3.0813,  34.3670,2,  34.3646,2,    197.7,2,    199.8,2,    48.76,2,    32.91,2,     2.18,2,   2315.0,2,7.5832,2,    25.00,704,20190411
  29HE20190406,   A17,7,0,15,15,2,20190411,527,-44.6922,-51.7171, 5959,   1000.1,   3.3557,  34.2650,2,     -999,9,    224.2,2,    225.0,2,    35.10,2,    31.11,2,     2.07,2,   2299.0,2,7.6117,2,    25.00,709,20190411
  29HE20190406,   A17,7,0,16,16,2,20190411,527,-44.6922,-51.7171, 5959,    804.4,   3.8996,  34.2036,2,  34.2009,2,    248.7,2,    250.0,2,    23.33,2,    28.49,2,     1.88,2,   2288.8,2,7.6465,2,    25.00,713,20190411
  29HE20190406,   A17,7,0,17,17,2,20190411,527,-44.6922,-51.7171, 5959,    611.2,   4.4910,  34.1674,2,     -999,9,    277.5,2,    277.5,2,    13.81,2,    24.84,2,     1.66,2,   2282.1,2,7.6887,2,    25.00,718,20190411
  29HE20190406,   A17,7,0,18,18,2,20190411,527,-44.6922,-51.7171, 5959,    505.0,   5.1150,  34.2097,2,  34.2087,2,    262.7,2,    262.5,2,    12.37,2,    24.61,2,     1.64,2,   2280.0,2,7.6848,2,    25.00,722,20190411
  29HE20190406,   A17,7,0,19,19,2,20190411,527,-44.6922,-51.7171, 5959,    399.3,   5.6763,  34.2187,2,     -999,9,    261.6,2,    262.9,2,    10.36,2,    23.21,2,     1.56,2,   2278.0,2,7.6935,2,    25.00,725,20190411
  29HE20190406,   A17,7,0,20,20,2,20190411,527,-44.6922,-51.7171, 5959,    300.2,   7.5237,  34.4426,2,  34.4457,2,    238.3,2,    238.9,2,     7.92,2,    20.59,2,     1.37,2,   2287.1,2,7.7181,2,    25.00,728,20190411
  29HE20190406,   A17,7,0,21,21,2,20190411,527,-44.6922,-51.7171, 5959,    200.7,  11.5532,  34.9916,2,     -999,9,    215.7,2,    216.3,2,     4.45,2,    12.97,2,     0.91,2,   2311.2,2,7.7972,2,    25.00,731,20190411
  29HE20190406,   A17,7,0,22,22,2,20190411,527,-44.6922,-51.7171, 5959,    105.9,  14.6689,  35.4632,2,  35.4487,2,    206.6,2,    208.7,2,     2.91,2,     7.37,2,     0.58,2,   2337.6,2,7.8634,2,    25.00,733,20190411
  29HE20190406,   A17,7,0,23,23,2,20190411,527,-44.6922,-51.7171, 5959,     53.2,  14.9375,  34.8164,2,     -999,9,    244.1,2,    247.6,2,     1.31,2,     2.17,2,     0.30,2,   2314.2,2,7.9507,2,    25.00,736,20190411
  29HE20190406,   A17,7,0,24,24,2,20190411,527,-44.6922,-51.7171, 5959,      4.6,  14.9270,  34.8158,2,  34.8159,2,    244.9,2,    245.4,2,     1.30,2,     2.11,2,     0.29,2,   2314.1,2,7.9435,2,    25.00,739,20190411
  29HE20190406,   A17,8,0,1,1,2,20190411,1153,-44.1007,-51.2379, 5700,   2012.4,   2.6121,  34.7012,2,     -999,9,    182.1,2,     -999,9,     -999,9,     -999,9,     -999,9,     -999,9,-999.0,9,    25.00,1153,20190411
  29HE20190406,   A17,8,0,2,2,2,20190411,1153,-44.1007,-51.2379, 5700,   2011.9,   2.6116,  34.7012,2,  34.7039,2,    182.4,2,    184.8,2,    70.41,2,    30.75,2,     2.06,2,     -999,9,7.5998,2,    25.00,1153,20190411
  29HE20190406,   A17,8,0,3,3,2,20190411,1153,-44.1007,-51.2379, 5700,   1700.7,   2.8887,  34.6497,2,     -999,9,    181.8,2,    184.3,2,    62.53,2,    31.01,2,     2.09,2,     -999,9,7.596,2,    25.00,1200,20190411
  29HE20190406,   A17,8,0,4,4,2,20190411,1153,-44.1007,-51.2379, 5700,   1499.1,   2.8292,  34.5445,2,  34.5499,2,    177.8,2,    179.7,2,    63.27,2,    32.73,2,     2.19,2,     -999,9,7.5749,2,    25.00,1204,20190411
  29HE20190406,   A17,8,0,5,5,2,20190411,1153,-44.1007,-51.2379, 5700,   1497.5,   2.8274,  34.5458,2,     -999,9,    177.8,2,     -999,9,     -999,9,     -999,9,     -999,9,     -999,9,-999.0,9,    25.00,1204,20190411
  29HE20190406,   A17,8,0,6,6,2,20190411,1153,-44.1007,-51.2379, 5700,   1198.7,   2.9795,  34.3866,2,  34.3899,2,    193.7,2,    194.9,2,    52.60,2,    33.03,2,     2.21,2,     -999,9,7.5774,2,    25.00,1210,20190411
  29HE20190406,   A17,8,0,7,7,2,20190411,1153,-44.1007,-51.2379, 5700,   1198.9,   2.9797,  34.3865,2,     -999,9,    193.3,2,     -999,9,     -999,9,     -999,9,     -999,9,     -999,9,-999.0,9,    25.00,1210,20190411
  29HE20190406,   A17,8,0,8,8,2,20190411,1153,-44.1007,-51.2379, 5700,    997.1,   3.2272,  34.2780,2,  34.2808,2,    220.4,2,    221.3,2,    37.30,2,    31.12,2,     2.08,2,     -999,9,7.6045,2,    25.00,1214,20190411
  29HE20190406,   A17,8,0,9,9,2,20190411,1153,-44.1007,-51.2379, 5700,    995.6,   3.2282,  34.2776,2,     -999,9,    220.4,2,     -999,9,     -999,9,     -999,9,     -999,9,     -999,9,-999.0,9,    25.00,1214,20190411
  29HE20190406,   A17,8,0,10,10,2,20190411,1153,-44.1007,-51.2379, 5700,    798.7,   3.6399,  34.2037,2,  34.2068,2,    246.9,2,    248.5,2,    25.61,2,    28.53,2,     1.92,2,     -999,9,7.6382,2,    25.00,1218,20190411
  29HE20190406,   A17,8,0,11,11,2,20190411,1153,-44.1007,-51.2379, 5700,    797.6,   3.6406,  34.2040,2,     -999,9,    247.8,2,     -999,9,     -999,9,     -999,9,     -999,9,     -999,9,-999.0,9,    25.00,1218,20190411
  29HE20190406,   A17,8,0,12,12,2,20190411,1153,-44.1007,-51.2379, 5700,    599.2,   4.4023,  34.1800,2,  34.1838,2,    266.2,2,    266.7,2,    15.71,2,    25.79,2,     1.73,2,     -999,9,7.6718,2,    25.00,1222,20190411
  29HE20190406,   A17,8,0,13,13,2,20190411,1153,-44.1007,-51.2379, 5700,    599.5,   4.4029,  34.1807,2,     -999,9,    266.0,2,     -999,9,     -999,9,     -999,9,     -999,9,     -999,9,-999.0,9,    25.00,1223,20190411
  29HE20190406,   A17,8,0,14,14,2,20190411,1153,-44.1007,-51.2379, 5700,    504.6,   4.7539,  34.1864,2,  34.1897,2,    271.1,2,     -999,9,    13.08,2,    24.56,2,     1.66,2,     -999,9,7.6847,2,    25.00,1226,20190411
  29HE20190406,   A17,8,0,15,15,2,20190411,1153,-44.1007,-51.2379, 5700,    406.3,   5.5407,  34.2376,2,     -999,9,    258.8,2,     -999,9,     -999,9,     -999,9,     -999,9,     -999,9,-999.0,9,    25.00,1229,20190411
  29HE20190406,   A17,8,0,16,16,2,20190411,1153,-44.1007,-51.2379, 5700,    404.9,   5.5740,  34.2394,2,  34.2437,2,    259.3,2,    259.3,2,    11.14,2,    23.58,2,     1.59,2,     -999,9,7.6894,2,    25.00,1229,20190411
  29HE20190406,   A17,8,0,17,17,2,20190411,1153,-44.1007,-51.2379, 5700,    303.2,   6.9186,  34.3540,2,     -999,9,    244.3,2,    245.1,2,     8.37,2,    21.48,2,     1.45,2,     -999,9,7.7057,2,    25.00,1231,20190411
  29HE20190406,   A17,8,0,18,18,2,20190411,1153,-44.1007,-51.2379, 5700,    201.9,   8.7496,  34.5204,2,  34.5116,2,    239.1,2,    240.8,2,     5.55,2,    17.26,2,     1.19,2,     -999,9,7.7488,2,    25.00,1234,20190411
  29HE20190406,   A17,8,0,19,19,2,20190411,1153,-44.1007,-51.2379, 5700,    201.8,   8.7491,  34.5206,2,     -999,9,    237.6,2,     -999,9,     -999,9,     -999,9,     -999,9,     -999,9,-999.0,9,    25.00,1234,20190411
  29HE20190406,   A17,8,0,20,20,2,20190411,1153,-44.1007,-51.2379, 5700,    102.7,  13.1408,  34.7462,2,  34.7456,2,    231.0,2,    232.9,2,     2.14,2,     7.99,2,     0.63,2,     -999,9,7.8687,2,    25.00,1237,20190411
  29HE20190406,   A17,8,0,21,21,2,20190411,1153,-44.1007,-51.2379, 5700,    103.4,  12.9712,  34.7528,2,     -999,9,    229.4,2,     -999,9,     -999,9,     -999,9,     -999,9,     -999,9,-999.0,9,    25.00,1237,20190411
  29HE20190406,   A17,8,0,22,22,2,20190411,1153,-44.1007,-51.2379, 5700,     52.1,  15.0036,  34.8319,2,  34.8366,2,    246.0,2,    248.8,2,     1.14,2,     1.73,2,     0.26,2,     -999,9,7.9546,2,    25.00,1239,20190411
  29HE20190406,   A17,8,0,23,23,2,20190411,1153,-44.1007,-51.2379, 5700,      6.7,  14.6717,  34.6417,2,     -999,9,    250.1,2,     -999,9,     -999,9,     -999,9,     -999,9,     -999,9,7.9513,2,    25.00,1241,20190411
  29HE20190406,   A17,8,0,24,24,2,20190411,1153,-44.1007,-51.2379, 5700,      7.0,  14.6696,  34.6415,2,  34.6465,2,    250.0,2,    252.3,2,     1.07,2,     2.42,2,     0.30,2,     -999,9,-999.0,9,    25.00,1241,20190411