BOTTLE,20240229CCHSIOSLL
EXPOCODE,SECT_ID,STNNBR,CASTNO,SAMPNO,BTLNBR,BTLNBR_FLAG_W,DATE,TIME,LATITUDE,LONGITUDE,DEPTH,CTDPRS,CTDTMP,CTDSAL,CTDSAL_FLAG_W,SALNTY,SALNTY_FLAG_W,CTDOXY,CTDOXY_FLAG_W,OXYGEN,OXYGEN_FLAG_W,SILCAT,SILCAT_FLAG_W,NITRAT,NITRAT_FLAG_W,PHSPHT,PHSPHT_FLAG_W,ALKALI,ALKALI_FLAG_W,PH_TOT,PH_TOT_FLAG_W,PH_TMP,BTL_TIME,BTL_DATE
,,,,,,,,,,,METERS,DBAR,ITS-90,PSS-78,,PSS-78,,UMOL/KG,,UMOL/KG,,UMOL/KG,,UMOL/KG,,UMOL/KG,,UMOL/KG,,,,DEG C,,
  29HE20190406,   A17,74,0,1,1,2,20190512,834,9.0047,-24.6863, 5175,   2003.2,   3.5237,  34.9640,2,     -999,9,    242.3,2,     -999,9,     -999,9,     -999,9,     -999,9,     -999,9,-999.0,9,    25.00,834,20190512
  29HE20190406,   A17,74,0,2,2,2,20190512,834,9.0047,-24.6863, 5175,   2003.0,   3.5238,  34.9641,2,  34.9695,2,    242.3,2,    241.3,2,    22.35,2,    20.82,2,     1.38,2,     -999,9,7.7289,2,    25.00,834,20190512
  29HE20190406,   A17,74,0,3,3,2,20190512,834,9.0047,-24.6863, 5175,   1700.7,   3.9400,  34.9706,2,     -999,9,    232.6,2,    231.1,2,    20.10,2,    21.60,2,     1.44,2,     -999,9,7.7153,2,    25.00,841,20190512
  29HE20190406,   A17,74,0,4,4,2,20190512,834,9.0047,-24.6863, 5175,   1501.6,   4.2776,  34.9652,2,  34.9668,2,    219.4,2,    218.4,2,    19.83,2,    22.75,2,     1.52,2,     -999,9,7.6981,2,    25.00,846,20190512
  29HE20190406,   A17,74,0,5,5,2,20190512,834,9.0047,-24.6863, 5175,   1502.0,   4.2774,  34.9652,2,     -999,9,    219.5,2,     -999,9,     -999,9,     -999,9,     -999,9,     -999,9,-999.0,9,    25.00,846,20190512
  29HE20190406,   A17,74,0,6,6,2,20190512,834,9.0047,-24.6863, 5175,   1201.2,   4.8400,  34.8851,2,  34.8878,2,    169.4,2,    167.9,2,    24.16,2,    28.59,2,     1.91,2,     -999,9,7.6254,2,    25.00,852,20190512
  29HE20190406,   A17,74,0,7,7,2,20190512,834,9.0047,-24.6863, 5175,   1201.5,   4.8398,  34.8854,2,     -999,9,    169.3,2,     -999,9,     -999,9,     -999,9,     -999,9,     -999,9,-999.0,9,    25.00,852,20190512
  29HE20190406,   A17,74,0,8,8,2,20190512,834,9.0047,-24.6863, 5175,   1005.0,   5.3136,  34.7811,2,  34.7825,2,    133.8,2,    132.6,2,    26.44,2,    32.85,2,     2.19,2,     -999,9,7.5661,2,    25.00,857,20190512
  29HE20190406,   A17,74,0,9,9,2,20190512,834,9.0047,-24.6863, 5175,   1005.3,   5.3132,  34.7811,2,     -999,9,    133.8,2,     -999,9,     -999,9,     -999,9,     -999,9,     -999,9,-999.0,9,    25.00,857,20190512
  29HE20190406,   A17,74,0,10,10,2,20190512,834,9.0047,-24.6863, 5175,    801.6,   6.0284,  34.7297,2,  34.7306,2,    103.2,2,    102.6,2,    25.59,2,    35.94,2,     2.35,2,     -999,9,7.5173,2,    25.00,902,20190512
  29HE20190406,   A17,74,0,11,11,2,20190512,834,9.0047,-24.6863, 5175,    801.6,   6.0286,  34.7297,2,     -999,9,    103.3,2,     -999,9,     -999,9,     -999,9,     -999,9,     -999,9,-999.0,9,    25.00,902,20190512
  29HE20190406,   A17,74,0,12,12,2,20190512,834,9.0047,-24.6863, 5175,    599.8,   7.6360,  34.8452,2,  34.8458,2,     64.6,2,     -999,9,    20.95,2,    37.24,2,     2.37,2,     -999,9,7.4752,2,    25.00,907,20190512
  29HE20190406,   A17,74,0,13,13,2,20190512,834,9.0047,-24.6863, 5175,    600.2,   7.6364,  34.8453,2,     -999,9,     64.6,2,     -999,9,     -999,9,     -999,9,     -999,9,     -999,9,-999.0,9,    25.00,907,20190512
  29HE20190406,   A17,74,0,14,14,2,20190512,834,9.0047,-24.6863, 5175,    502.6,   8.7905,  34.9415,2,  34.9421,2,     52.4,2,     52.6,2,    17.89,2,    36.40,2,     2.25,2,     -999,9,7.4746,2,    25.00,910,20190512
  29HE20190406,   A17,74,0,15,15,2,20190512,834,9.0047,-24.6863, 5175,    400.2,   9.8858,  35.0446,2,     -999,9,     41.6,2,     -999,9,     -999,9,     -999,9,     -999,9,     -999,9,-999.0,9,    25.00,913,20190512
  29HE20190406,   A17,74,0,16,16,2,20190512,834,9.0047,-24.6863, 5175,    399.9,   9.8905,  35.0451,2,  35.0464,2,     41.6,2,     42.4,2,    15.34,2,    35.16,2,     2.15,2,     -999,9,7.4743,2,    25.00,913,20190512
  29HE20190406,   A17,74,0,17,17,2,20190512,834,9.0047,-24.6863, 5175,    301.0,  10.6462,  35.0460,2,     -999,9,     84.8,2,     84.5,2,    12.61,2,    29.39,2,     1.83,2,     -999,9,7.5677,2,    25.00,915,20190512
  29HE20190406,   A17,74,0,18,18,2,20190512,834,9.0047,-24.6863, 5175,    200.9,  11.8656,  35.1778,2,  35.1774,2,    105.7,2,    105.4,2,    10.14,2,    24.67,2,     1.57,2,     -999,9,7.6368,2,    25.00,918,20190512
  29HE20190406,   A17,74,0,19,19,2,20190512,834,9.0047,-24.6863, 5175,    201.2,  11.8643,  35.1776,2,     -999,9,    105.4,2,     -999,9,     -999,9,     -999,9,     -999,9,     -999,9,-999.0,9,    25.00,918,20190512
  29HE20190406,   A17,74,0,20,20,2,20190512,834,9.0047,-24.6863, 5175,    100.7,  14.0583,  35.4553,2,  35.4516,2,     97.2,2,     97.8,2,     7.95,2,    22.39,2,     1.40,2,     -999,9,7.6663,2,    25.00,921,20190512
  29HE20190406,   A17,74,0,21,21,2,20190512,834,9.0047,-24.6863, 5175,    101.3,  14.0507,  35.4542,2,     -999,9,     97.5,2,     -999,9,     -999,9,     -999,9,     -999,9,     -999,9,-999.0,9,    25.00,921,20190512
  29HE20190406,   A17,74,0,22,22,2,20190512,834,9.0047,-24.6863, 5175,     49.9,  21.1394,  35.9069,2,  35.8844,2,    178.4,4,    171.3,2,     2.40,2,     3.90,2,     0.33,2,     -999,9,7.9213,2,    25.00,923,20190512
  29HE20190406,   A17,74,0,23,23,2,20190512,834,9.0047,-24.6863, 5175,      5.6,  26.3229,  36.2240,2,     -999,9,    204.9,2,     -999,9,     -999,9,     -999,9,     -999,9,     -999,9,-999.0,9,    25.00,925,20190512
  29HE20190406,   A17,74,0,24,24,2,20190512,834,9.0047,-24.6863, 5175,      5.3,  26.3217,  36.2242,2,  36.2232,2,    204.6,2,    204.1,2,     1.27,2,     0.05,2,     0.00,2,     -999,9,8.0718,2,    25.00,925,20190512
  29HE20190406,   A17,75,0,1,1,2,20190512,1742,10.0799,-24.5215, 5207,   4708.9,   2.2716,  34.8794,2,     -999,9,    241.5,2,    242.2,2,    50.14,2,    22.85,2,     1.53,2,   2354.4,2,7.7269,2,    25.00,1742,20190512
  29HE20190406,   A17,75,0,2,2,2,20190512,1742,10.0799,-24.5215, 5207,   3995.9,   2.3815,  34.8952,2,  34.8963,2,    249.5,2,    248.8,2,    42.13,2,    21.65,2,     1.46,2,   2339.2,2,7.7306,2,    25.00,1755,20190512
  29HE20190406,   A17,75,0,3,3,2,20190512,1742,10.0799,-24.5215, 5207,   3502.8,   2.5076,  34.9080,2,     -999,9,    246.9,2,    246.0,2,    39.30,2,    21.70,2,     1.45,2,   2336.8,2,7.7311,2,    25.00,1805,20190512
  29HE20190406,   A17,75,0,4,4,2,20190512,1742,10.0799,-24.5215, 5207,   3000.0,   2.7255,  34.9272,2,  34.9262,2,    246.6,2,    246.6,2,    33.93,2,    21.12,2,     1.41,2,   2330.5,2,7.7344,2,    25.00,1816,20190512
  29HE20190406,   A17,75,0,5,5,2,20190512,1742,10.0799,-24.5215, 5207,   2499.5,   3.0892,  34.9500,2,     -999,9,    243.3,2,    243.4,2,    28.40,2,    21.09,2,     1.40,2,   2324.8,2,7.7325,2,    25.00,1829,20190512
  29HE20190406,   A17,75,0,6,6,2,20190512,1742,10.0799,-24.5215, 5207,   2277.6,   3.2913,  34.9583,2,  34.9565,2,    243.0,2,    243.2,2,    25.14,2,    20.92,2,     1.39,2,     -999,9,7.7385,2,    25.00,1835,20190512
  29HE20190406,   A17,75,0,7,7,2,20190512,1742,10.0799,-24.5215, 5207,   2000.3,   3.5609,  34.9664,2,     -999,9,    239.6,2,    240.7,2,    22.40,2,    21.02,2,     1.40,2,   2317.8,2,7.7278,2,    25.00,1841,20190512
  29HE20190406,   A17,75,0,8,8,2,20190512,1742,10.0799,-24.5215, 5207,   1805.0,   3.7679,  34.9690,2,  34.9671,2,    234.4,2,    234.9,2,    21.14,2,    21.45,2,     1.42,2,     -999,9,7.7205,2,    25.00,1846,20190512
  29HE20190406,   A17,75,0,9,9,2,20190512,1742,10.0799,-24.5215, 5207,   1612.0,   4.0234,  34.9696,2,     -999,9,    225.4,2,    225.4,2,    20.49,2,    22.11,2,     1.48,2,   2315.6,2,7.7089,2,    25.00,1852,20190512
  29HE20190406,   A17,75,0,10,10,2,20190512,1742,10.0799,-24.5215, 5207,   1401.6,   4.4050,  34.9521,2,  34.9510,2,    203.5,2,    204.4,2,    21.33,2,    24.42,2,     1.64,2,   2315.9,2,7.6768,2,    25.00,1900,20190512
  29HE20190406,   A17,75,0,11,11,2,20190512,1742,10.0799,-24.5215, 5207,   1201.9,   4.9491,  34.8884,2,     -999,9,    163.2,2,    163.4,2,    24.39,2,    28.91,2,     1.94,2,     -999,9,7.6196,2,    25.00,1905,20190512
  29HE20190406,   A17,75,0,12,12,2,20190512,1742,10.0799,-24.5215, 5207,   1099.3,   5.1657,  34.8289,2,  34.8299,2,    143.9,2,    144.0,2,    25.81,2,    31.47,2,     2.11,2,     -999,9,7.5859,2,    25.00,1908,20190512
  29HE20190406,   A17,75,0,13,13,2,20190512,1742,10.0799,-24.5215, 5207,    999.5,   5.4567,  34.7821,2,     -999,9,    125.3,2,    125.8,2,    26.68,2,    33.65,2,     2.24,2,   2308.8,2,7.5547,2,    25.00,1911,20190512
  29HE20190406,   A17,75,0,14,14,2,20190512,1742,10.0799,-24.5215, 5207,    900.4,   5.7042,  34.7351,2,  34.7337,2,    111.5,2,    112.2,2,    26.75,2,    35.32,2,     2.34,2,     -999,9,7.5283,2,    25.00,1914,20190512
  29HE20190406,   A17,75,0,15,15,2,20190512,1742,10.0799,-24.5215, 5207,    800.2,   6.1899,  34.7300,2,     -999,9,     94.7,2,     94.9,2,    25.39,2,    36.69,2,     2.41,2,   2303.7,2,7.5033,2,    25.00,1916,20190512
  29HE20190406,   A17,75,0,16,16,2,20190512,1742,10.0799,-24.5215, 5207,    701.1,   6.8715,  34.7726,2,  34.7687,2,     77.3,2,     77.8,2,    23.29,2,    37.51,2,     2.40,2,     -999,9,7.4832,2,    25.00,1919,20190512
  29HE20190406,   A17,75,0,17,17,2,20190512,1742,10.0799,-24.5215, 5207,    600.6,   7.8525,  34.8682,2,     -999,9,     59.3,2,     59.1,2,    20.63,2,    37.71,2,     2.38,2,     -999,9,7.4701,2,    25.00,1922,20190512
  29HE20190406,   A17,75,0,18,18,2,20190512,1742,10.0799,-24.5215, 5207,    500.9,   9.0410,  35.0005,2,  35.0049,2,     43.7,2,     43.8,2,    17.74,2,    36.78,2,     2.27,2,   2306.2,2,7.4658,2,    25.00,1925,20190512
  29HE20190406,   A17,75,0,19,19,2,20190512,1742,10.0799,-24.5215, 5207,    398.2,  10.2983,  35.1189,2,     -999,9,     37.5,2,     38.1,2,    14.94,2,    35.02,2,     2.12,2,     -999,9,7.4779,2,    25.00,1927,20190512
  29HE20190406,   A17,75,0,20,20,2,20190512,1742,10.0799,-24.5215, 5207,    301.2,  10.9250,  35.0968,2,  35.0939,2,     80.2,2,     80.6,2,    12.28,2,    29.31,2,     1.81,2,     -999,9,7.5686,2,    25.00,1930,20190512
  29HE20190406,   A17,75,0,21,21,2,20190512,1742,10.0799,-24.5215, 5207,    199.5,  12.0924,  35.2026,2,     -999,9,    107.5,2,    107.4,2,     9.85,2,    24.36,2,     1.55,2,     -999,9,7.6457,2,    25.00,1933,20190512
  29HE20190406,   A17,75,0,22,22,2,20190512,1742,10.0799,-24.5215, 5207,    101.8,  14.1869,  35.4536,2,  35.4562,2,     72.6,2,     73.4,2,     8.49,2,    24.60,2,     1.55,2,     -999,9,7.6259,2,    25.00,1936,20190512
  29HE20190406,   A17,75,0,23,23,2,20190512,1742,10.0799,-24.5215, 5207,     51.0,  20.8307,  35.8602,2,     -999,9,    198.5,3,    194.5,2,     1.13,2,     2.66,2,     0.22,2,     -999,9,7.9553,2,    25.00,1937,20190512
  29HE20190406,   A17,75,0,24,24,2,20190512,1742,10.0799,-24.5215, 5207,      5.0,  26.2840,  36.2400,2,  36.2408,2,    207.3,2,    206.6,2,     0.85,2,     0.00,2,     0.01,2,   2372.8,2,8.0727,2,    25.00,1939,20190512
  29HE20190406,   A17,76,0,1,1,2,20190513,516,11.4034,-24.272, 5118,   4702.5,   2.2904,  34.8809,2,     -999,9,    240.5,2,    241.8,2,    50.73,2,    23.06,2,     1.53,2,   2357.0,2,7.7256,2,    25.00,516,20190513
  29HE20190406,   A17,76,0,2,2,2,20190513,516,11.4034,-24.272, 5118,   3997.7,   2.3560,  34.8947,2,  34.8930,2,    244.7,2,    244.3,2,    44.97,2,    22.30,2,     1.49,2,   2346.5,2,7.7291,2,    25.00,530,20190513
  29HE20190406,   A17,76,0,3,3,2,20190513,516,11.4034,-24.272, 5118,   3499.9,   2.5068,  34.9106,2,     -999,9,    245.3,2,    244.3,2,    39.94,2,    21.88,2,     1.46,2,   2339.7,2,7.7315,2,    25.00,540,20190513
  29HE20190406,   A17,76,0,4,4,2,20190513,516,11.4034,-24.272, 5118,   2995.1,   2.7207,  34.9293,2,  34.9296,2,    245.7,2,    245.1,2,    34.71,2,    21.48,2,     1.42,2,   2334.0,2,7.7338,2,    25.00,550,20190513
  29HE20190406,   A17,76,0,5,5,2,20190513,516,11.4034,-24.272, 5118,   2498.0,   3.1013,  34.9536,2,     -999,9,    239.6,2,    239.8,2,    29.49,2,    21.51,2,     1.43,2,   2329.5,2,7.7301,2,    25.00,600,20190513
  29HE20190406,   A17,76,0,6,6,2,20190513,516,11.4034,-24.272, 5118,   2277.7,   3.3135,  34.9615,2,  34.9622,2,    240.9,2,    241.0,2,    25.61,2,    21.11,2,     1.41,2,   2324.4,2,7.7304,2,    25.00,605,20190513
  29HE20190406,   A17,76,0,7,7,2,20190513,516,11.4034,-24.272, 5118,   2001.5,   3.5713,  34.9680,2,     -999,9,    238.2,2,    238.6,2,    22.56,2,    21.23,2,     1.41,2,   2320.3,2,7.726,2,    25.00,612,20190513
  29HE20190406,   A17,76,0,8,8,2,20190513,516,11.4034,-24.272, 5118,   1800.2,   3.7805,  34.9680,2,  34.9682,2,    230.5,2,    230.2,2,    21.84,2,    21.85,2,     1.46,2,   2319.3,2,7.7148,2,    25.00,617,20190513
  29HE20190406,   A17,76,0,9,9,2,20190513,516,11.4034,-24.272, 5118,   1601.9,   4.1036,  34.9641,2,     -999,9,    216.1,2,    216.3,2,    21.56,2,    23.17,2,     1.55,2,   2318.2,2,7.6968,2,    25.00,622,20190513
  29HE20190406,   A17,76,0,10,10,2,20190513,516,11.4034,-24.272, 5118,   1398.7,   4.5275,  34.9514,2,  34.9505,2,    193.3,2,    192.7,2,    22.31,2,    25.48,2,     1.71,2,   2317.4,2,7.6652,2,    25.00,627,20190513
  29HE20190406,   A17,76,0,11,11,2,20190513,516,11.4034,-24.272, 5118,   1202.3,   5.1837,  34.9349,2,     -999,9,    159.9,2,    159.4,2,    23.60,2,    28.78,2,     1.92,2,   2316.8,2,7.6221,2,    25.00,631,20190513
  29HE20190406,   A17,76,0,12,12,2,20190513,516,11.4034,-24.272, 5118,   1100.5,   5.4692,  34.8803,2,  34.8762,2,    138.1,2,    137.5,2,    24.95,2,    31.32,2,     2.09,2,   2313.9,2,7.585,2,    25.00,634,20190513
  29HE20190406,   A17,76,0,13,13,2,20190513,516,11.4034,-24.272, 5118,    997.9,   5.5818,  34.8029,2,     -999,9,    122.1,2,    121.7,2,    25.85,2,    33.56,2,     2.24,2,   2310.2,2,7.5528,2,    25.00,637,20190513
  29HE20190406,   A17,76,0,14,14,2,20190513,516,11.4034,-24.272, 5118,    903.6,   5.7783,  34.7730,2,  34.7709,2,    111.7,2,    111.5,2,    26.24,2,    35.02,2,     2.31,2,   2307.8,2,7.535,2,    25.00,640,20190513
  29HE20190406,   A17,76,0,15,15,2,20190513,516,11.4034,-24.272, 5118,    800.3,   6.3267,  34.7808,2,     -999,9,     97.0,2,     96.5,2,    24.73,2,    36.00,2,     2.35,2,   2306.5,2,7.516,2,    25.00,643,20190513
  29HE20190406,   A17,76,0,16,16,2,20190513,516,11.4034,-24.272, 5118,    701.8,   7.1813,  34.8344,2,  34.8334,2,     75.9,2,     75.9,2,    22.18,2,    36.98,2,     2.36,2,   2304.7,2,7.4975,2,    25.00,646,20190513
  29HE20190406,   A17,76,0,17,17,2,20190513,516,11.4034,-24.272, 5118,    603.9,   8.2076,  34.9359,2,     -999,9,     57.0,2,     56.8,2,    19.53,2,    36.93,2,     2.33,2,   2306.2,2,7.4791,2,    25.00,649,20190513
  29HE20190406,   A17,76,0,18,18,2,20190513,516,11.4034,-24.272, 5118,    501.6,   9.4636,  35.0767,2,  35.0768,2,     45.1,2,     45.3,2,    16.57,2,    35.76,2,     2.21,2,   2309.1,2,7.4883,2,    25.00,652,20190513
  29HE20190406,   A17,76,0,19,19,2,20190513,516,11.4034,-24.272, 5118,    402.6,  10.6203,  35.1766,2,     -999,9,     36.7,2,     37.9,2,    13.93,2,    34.12,2,     2.06,2,   2311.4,2,7.4906,2,    25.00,655,20190513
  29HE20190406,   A17,76,0,20,20,2,20190513,516,11.4034,-24.272, 5118,    302.2,  11.3359,  35.1777,2,  35.1744,2,     62.5,2,     62.4,2,    11.96,2,    30.55,2,     1.87,2,   2312.9,2,7.5473,2,    25.00,658,20190513
  29HE20190406,   A17,76,0,21,21,2,20190513,516,11.4034,-24.272, 5118,    199.9,  12.3935,  35.2524,2,     -999,9,     92.7,2,     91.4,2,     9.80,2,    25.50,2,     1.61,2,   2317.8,2,7.6246,2,    25.00,701,20190513
  29HE20190406,   A17,76,0,22,22,2,20190513,516,11.4034,-24.272, 5118,    100.1,  14.4207,  35.5265,2,  35.5156,2,     58.2,2,     60.2,2,     8.37,2,    26.09,2,     1.60,2,   2327.1,2,7.6042,2,    25.00,704,20190513
  29HE20190406,   A17,76,0,23,23,2,20190513,516,11.4034,-24.272, 5118,     51.0,  19.6393,  35.7756,2,     -999,9,    139.0,2,    131.3,3,     2.99,2,    10.80,2,     0.74,2,   2347.4,2,7.8173,2,    25.00,706,20190513
  29HE20190406,   A17,76,0,24,24,2,20190513,516,11.4034,-24.272, 5118,      4.3,  24.8940,  36.0795,2,  36.0794,2,    210.6,2,    209.6,2,     0.46,2,     0.00,2,     0.01,2,   2368.1,2,8.0457,2,    25.00,708,20190513