BOTTLE,20240229CCHSIOSLL
EXPOCODE,SECT_ID,STNNBR,CASTNO,SAMPNO,BTLNBR,BTLNBR_FLAG_W,DATE,TIME,LATITUDE,LONGITUDE,DEPTH,CTDPRS,CTDTMP,CTDSAL,CTDSAL_FLAG_W,SALNTY,SALNTY_FLAG_W,CTDOXY,CTDOXY_FLAG_W,OXYGEN,OXYGEN_FLAG_W,SILCAT,SILCAT_FLAG_W,NITRAT,NITRAT_FLAG_W,PHSPHT,PHSPHT_FLAG_W,ALKALI,ALKALI_FLAG_W,PH_TOT,PH_TOT_FLAG_W,PH_TMP,BTL_TIME,BTL_DATE
,,,,,,,,,,,METERS,DBAR,ITS-90,PSS-78,,PSS-78,,UMOL/KG,,UMOL/KG,,UMOL/KG,,UMOL/KG,,UMOL/KG,,UMOL/KG,,,,DEG C,,
  29HE20190406,   A17,62,0,1,1,2,20190507,953,-4.1945,-28.7497, 5073,   4003.8,   2.0423,  34.8645,2,  34.8731,2,    252.7,2,    252.9,2,    48.56,2,    21.88,2,     1.47,2,     -999,9,7.7196,2,    25.00,953,20190507
  29HE20190406,   A17,62,0,2,2,2,20190507,953,-4.1945,-28.7497, 5073,   3499.3,   2.5406,  34.9133,2,     -999,9,    258.0,2,     -999,9,     -999,9,     -999,9,     -999,9,     -999,9,-999.0,9,    25.00,1003,20190507
  29HE20190406,   A17,62,0,3,3,2,20190507,953,-4.1945,-28.7497, 5073,   3000.3,   2.6921,  34.9171,2,     -999,9,    247.7,2,    247.9,2,    34.98,2,    21.06,2,     1.41,2,     -999,9,7.7299,2,    25.00,1013,20190507
  29HE20190406,   A17,62,0,4,4,2,20190507,953,-4.1945,-28.7497, 5073,   2751.5,   2.8185,  34.9254,2,  34.9263,2,    248.3,2,    248.0,2,    32.54,2,    20.80,2,     1.39,2,     -999,9,7.7312,2,    25.00,1019,20190507
  29HE20190406,   A17,62,0,5,5,2,20190507,953,-4.1945,-28.7497, 5073,   2502.3,   3.0138,  34.9372,2,     -999,9,    249.6,2,    249.8,2,    28.49,2,    20.35,2,     1.37,2,     -999,9,7.7328,2,    25.00,1024,20190507
  29HE20190406,   A17,62,0,6,6,2,20190507,953,-4.1945,-28.7497, 5073,   2274.0,   3.2633,  34.9513,2,  34.9555,2,    250.5,2,    250.1,2,    24.60,2,    19.95,2,     1.32,2,     -999,9,7.7335,2,    25.00,1029,20190507
  29HE20190406,   A17,62,0,7,7,2,20190507,953,-4.1945,-28.7497, 5073,   1994.8,   3.6107,  34.9699,2,     -999,9,    251.4,2,    251.8,2,    19.38,2,    19.50,2,     1.29,2,     -999,9,7.7333,2,    25.00,1035,20190507
  29HE20190406,   A17,62,0,8,8,2,20190507,953,-4.1945,-28.7497, 5073,   1801.9,   3.8169,  34.9778,2,  34.9804,2,    250.6,2,    251.0,2,    17.28,2,    19.26,2,     1.27,2,     -999,9,7.7301,2,    25.00,1040,20190507
  29HE20190406,   A17,62,0,9,9,2,20190507,953,-4.1945,-28.7497, 5073,   1602.3,   4.2049,  34.9710,2,     -999,9,    233.8,2,    233.7,2,    17.85,2,    20.81,2,     1.39,2,     -999,9,7.7124,2,    25.00,1045,20190507
  29HE20190406,   A17,62,0,10,10,2,20190507,953,-4.1945,-28.7497, 5073,   1402.2,   4.4715,  34.9133,2,  34.9167,2,    206.4,2,    207.8,2,    21.10,2,    23.76,2,     1.61,2,     -999,9,7.676,2,    25.00,1050,20190507
  29HE20190406,   A17,62,0,11,11,2,20190507,953,-4.1945,-28.7497, 5073,   1200.8,   4.5404,  34.7651,2,     -999,9,    175.8,2,    175.3,2,    26.73,2,    28.56,2,     1.96,2,     -999,9,7.62,2,    25.00,1054,20190507
  29HE20190406,   A17,62,0,12,12,2,20190507,953,-4.1945,-28.7497, 5073,   1099.4,   4.4212,  34.6839,2,  34.6837,2,    168.9,2,    168.5,2,    29.49,2,    30.36,2,     2.07,2,     -999,9,7.6008,2,    25.00,1057,20190507
  29HE20190406,   A17,62,0,13,13,2,20190507,953,-4.1945,-28.7497, 5073,   1000.2,   4.3793,  34.5976,2,     -999,9,    162.1,2,    161.2,2,    31.53,2,    31.80,2,     2.21,2,     -999,9,7.5807,2,    25.00,1100,20190507
  29HE20190406,   A17,62,0,14,14,2,20190507,953,-4.1945,-28.7497, 5073,    901.4,   4.4130,  34.5220,2,  34.5239,2,    163.7,2,    162.7,2,    32.06,2,    32.86,2,     2.23,2,     -999,9,7.5745,2,    25.00,1102,20190507
  29HE20190406,   A17,62,0,15,15,2,20190507,953,-4.1945,-28.7497, 5073,    799.8,   4.6831,  34.4807,2,     -999,9,    157.9,2,    156.8,2,    30.50,2,    33.77,2,     2.27,2,     -999,9,7.5643,2,    25.00,1105,20190507
  29HE20190406,   A17,62,0,16,16,2,20190507,953,-4.1945,-28.7497, 5073,    701.8,   5.2183,  34.4870,2,  34.4910,2,    144.8,2,    143.5,2,    27.32,2,    34.26,2,     2.30,2,     -999,9,7.548,2,    25.00,1108,20190507
  29HE20190406,   A17,62,0,17,17,2,20190507,953,-4.1945,-28.7497, 5073,    598.2,   6.2225,  34.5444,2,     -999,9,    130.3,2,    129.9,2,    22.56,2,    33.91,2,     2.23,2,     -999,9,7.5426,2,    25.00,1111,20190507
  29HE20190406,   A17,62,0,18,18,2,20190507,953,-4.1945,-28.7497, 5073,    503.4,   7.7215,  34.6780,2,  34.6839,2,     98.2,2,     97.8,2,    18.29,2,    33.88,2,     2.15,2,     -999,9,7.5184,2,    25.00,1114,20190507
  29HE20190406,   A17,62,0,19,19,2,20190507,953,-4.1945,-28.7497, 5073,    401.1,  10.2257,  34.9300,2,     -999,9,    114.8,2,    115.2,2,    12.09,2,    26.86,2,     1.73,2,     -999,9,7.6092,2,    25.00,1116,20190507
  29HE20190406,   A17,62,0,20,20,2,20190507,953,-4.1945,-28.7497, 5073,    300.2,  11.6088,  35.1062,2,  35.1084,2,    106.2,2,    105.4,2,    10.29,2,    25.21,2,     1.60,2,     -999,9,7.6273,2,    25.00,1119,20190507
  29HE20190406,   A17,62,0,21,21,2,20190507,953,-4.1945,-28.7497, 5073,    200.7,  12.7602,  35.2603,2,     -999,9,    101.9,2,    100.1,2,     9.00,2,    23.53,2,     1.52,2,     -999,9,7.6452,2,    25.00,1122,20190507
  29HE20190406,   A17,62,0,22,22,2,20190507,953,-4.1945,-28.7497, 5073,    100.9,  14.5499,  35.5040,2,  35.4979,2,     99.8,2,    100.1,2,     7.15,2,    21.08,2,     1.37,2,     -999,9,7.681,2,    25.00,1125,20190507
  29HE20190406,   A17,62,0,23,23,2,20190507,953,-4.1945,-28.7497, 5073,     50.0,  25.8986,  36.2395,2,     -999,9,    201.9,2,    201.3,2,     1.27,2,     0.00,2,     0.11,2,     -999,9,8.0285,2,    25.00,1127,20190507
  29HE20190406,   A17,62,0,24,24,2,20190507,953,-4.1945,-28.7497, 5073,      6.1,  29.0293,  35.7356,2,  35.7387,2,    199.5,2,    197.3,2,     1.02,2,     0.00,2,     0.02,2,     -999,9,8.0884,2,    25.00,1129,20190507
  29HE20190406,   A17,63,0,1,1,2,20190507,2137,-3.103,-28.0355, 4989,   4500.2,   0.9408,  34.7426,2,     -999,9,    226.6,2,    226.8,2,   104.41,2,    30.53,2,     2.04,2,   2367.8,2,7.6513,2,    25.00,2137,20190507
  29HE20190406,   A17,63,0,2,2,2,20190507,2137,-3.103,-28.0355, 4989,   4001.5,   1.9835,  34.8582,2,  34.8630,2,    250.2,2,     -999,9,    53.27,2,    23.36,2,     1.54,2,   2341.4,2,7.7129,2,    25.00,2148,20190507
  29HE20190406,   A17,63,0,3,3,2,20190507,2137,-3.103,-28.0355, 4989,   3498.3,   2.5363,  34.9137,2,     -999,9,    257.5,2,    257.8,2,    32.41,2,    20.62,2,     1.34,2,   2329.4,2,7.7377,2,    25.00,2158,20190507
  29HE20190406,   A17,63,0,4,4,2,20190507,2137,-3.103,-28.0355, 4989,   2998.2,   2.7182,  34.9190,2,  34.9240,2,    247.4,2,    247.8,2,    34.89,2,    21.79,2,     1.41,2,   2332.7,2,7.7302,2,    25.00,2208,20190507
  29HE20190406,   A17,63,0,5,5,2,20190507,2137,-3.103,-28.0355, 4989,   2500.4,   3.0439,  34.9400,2,     -999,9,    248.2,2,    249.2,2,    28.85,2,    21.06,2,     1.42,2,   2326.0,2,7.7323,2,    25.00,2218,20190507
  29HE20190406,   A17,63,0,6,6,2,20190507,2137,-3.103,-28.0355, 4989,   2272.9,   3.2557,  34.9524,2,  34.9544,2,    249.0,2,    250.7,2,    24.93,2,    20.58,2,     1.38,2,   2322.3,2,7.7334,2,    25.00,2222,20190507
  29HE20190406,   A17,63,0,7,7,2,20190507,2137,-3.103,-28.0355, 4989,   2000.3,   3.5302,  34.9670,2,     -999,9,    251.3,2,    251.8,2,    20.36,2,    19.53,2,     1.35,2,   2318.7,2,7.7345,2,    25.00,2228,20190507
  29HE20190406,   A17,63,0,8,8,2,20190507,2137,-3.103,-28.0355, 4989,   1802.4,   3.7578,  34.9754,2,  34.9777,2,    249.6,2,    250.4,2,    18.40,2,    19.60,2,     1.33,2,   2315.8,2,7.7306,2,    25.00,2233,20190507
  29HE20190406,   A17,63,0,9,9,2,20190507,2137,-3.103,-28.0355, 4989,   1601.5,   4.1820,  34.9730,2,     -999,9,    234.8,2,    235.3,2,    17.87,2,    20.93,2,     1.43,2,   2315.4,2,7.7143,2,    25.00,2238,20190507
  29HE20190406,   A17,63,0,10,10,2,20190507,2137,-3.103,-28.0355, 4989,   1403.8,   4.4517,  34.9227,2,  34.9238,2,    209.4,2,    209.4,2,    20.81,2,    24.07,2,     1.64,2,   2314.4,2,7.6805,2,    25.00,2243,20190507
  29HE20190406,   A17,63,0,11,11,2,20190507,2137,-3.103,-28.0355, 4989,   1201.9,   4.4967,  34.7782,2,     -999,9,    177.3,2,    176.7,2,    26.78,2,    29.48,2,     2.00,2,   2312.8,2,7.6225,2,    25.00,2248,20190507
  29HE20190406,   A17,63,0,12,12,2,20190507,2137,-3.103,-28.0355, 4989,   1099.2,   4.4555,  34.7152,2,  34.7147,2,    170.4,2,    169.6,2,    28.84,2,    31.07,2,     2.11,2,   2311.1,2,7.6062,2,    25.00,2251,20190507
  29HE20190406,   A17,63,0,13,13,2,20190507,2137,-3.103,-28.0355, 4989,   1002.0,   4.3775,  34.6226,2,     -999,9,    163.4,2,    163.4,2,    31.33,2,    32.81,2,     2.24,2,   2307.8,2,7.5853,2,    25.00,2254,20190507
  29HE20190406,   A17,63,0,14,14,2,20190507,2137,-3.103,-28.0355, 4989,    901.7,   4.4259,  34.5467,2,  34.5494,2,    161.8,2,    161.0,2,    32.26,2,    33.94,2,     2.30,2,   2305.1,2,7.5757,2,    25.00,2257,20190507
  29HE20190406,   A17,63,0,15,15,2,20190507,2137,-3.103,-28.0355, 4989,    802.1,   4.6420,  34.4963,2,     -999,9,    154.7,2,    154.0,2,    31.18,2,    35.17,2,     2.36,2,   2301.5,2,7.5601,2,    25.00,2300,20190507
  29HE20190406,   A17,63,0,16,16,2,20190507,2137,-3.103,-28.0355, 4989,    700.0,   5.1964,  34.4838,2,  34.4866,2,    150.1,2,    149.6,2,    27.62,2,    35.03,2,     2.33,2,   2297.4,2,7.5576,2,    25.00,2303,20190507
  29HE20190406,   A17,63,0,17,17,2,20190507,2137,-3.103,-28.0355, 4989,    599.8,   6.2483,  34.5470,2,     -999,9,    130.9,2,    130.8,2,    22.86,2,    34.95,2,     2.28,2,   2299.4,2,7.5452,2,    25.00,2305,20190507
  29HE20190406,   A17,63,0,18,18,2,20190507,2137,-3.103,-28.0355, 4989,    503.5,   8.0578,  34.7097,2,  34.7102,2,     92.1,2,     93.0,2,    18.08,2,    35.32,2,     2.23,2,   2295.7,2,7.5128,2,    25.00,2308,20190507
  29HE20190406,   A17,63,0,19,19,2,20190507,2137,-3.103,-28.0355, 4989,    402.2,  10.4584,  34.9696,2,     -999,9,     89.4,2,     89.7,2,    12.68,2,    30.31,2,     1.90,2,   2308.0,2,7.5665,2,    25.00,2311,20190507
  29HE20190406,   A17,63,0,20,20,2,20190507,2137,-3.103,-28.0355, 4989,    301.6,  11.9467,  35.1485,2,  35.1505,2,    107.3,2,    107.6,2,     9.99,2,    25.44,2,     1.62,2,   2312.7,2,7.6373,2,    25.00,2314,20190507
  29HE20190406,   A17,63,0,21,21,2,20190507,2137,-3.103,-28.0355, 4989,    202.7,  12.8479,  35.2718,2,     -999,9,    114.0,2,    113.9,2,     8.71,2,    23.10,2,     1.48,2,   2319.4,2,7.6716,2,    25.00,2317,20190507
  29HE20190406,   A17,63,0,22,22,2,20190507,2137,-3.103,-28.0355, 4989,    100.7,  14.3140,  35.4742,2,  35.4718,2,    136.0,2,    134.8,2,     6.63,2,    18.22,2,     1.20,2,   2331.0,2,7.7409,2,    25.00,2320,20190507
  29HE20190406,   A17,63,0,23,23,2,20190507,2137,-3.103,-28.0355, 4989,     50.6,  19.5418,  35.9958,2,     -999,9,    143.9,2,    147.0,2,     3.75,2,    10.40,2,     0.82,2,   2360.2,2,7.8331,2,    25.00,2321,20190507
  29HE20190406,   A17,63,0,24,24,2,20190507,2137,-3.103,-28.0355, 4989,      6.4,  28.8300,  35.6198,2,  35.6273,2,    200.8,2,    199.9,2,     1.10,2,     0.00,2,     0.04,2,   2333.7,2,8.0907,2,    25.00,2324,20190507
  29HE20190406,   A17,64,0,1,1,2,20190508,911,-2.0091,-27.316, 4858,   4003.3,   2.1132,  34.8736,2,     -999,9,    256.1,2,    255.2,2,    44.06,2,    21.50,2,     1.46,2,     -999,9,7.7229,2,    25.00,911,20190508
  29HE20190406,   A17,64,0,2,2,2,20190508,911,-2.0091,-27.316, 4858,   3500.2,   2.4718,  34.9100,2,  34.9143,2,    260.0,2,    258.7,2,    31.76,2,    20.00,2,     1.35,2,     -999,9,7.7373,2,    25.00,921,20190508
  29HE20190406,   A17,64,0,3,3,2,20190508,911,-2.0091,-27.316, 4858,   3001.1,   2.6897,  34.9186,2,     -999,9,    249.1,2,    248.4,2,    34.79,2,    21.37,2,     1.43,2,     -999,9,7.7309,2,    25.00,932,20190508
  29HE20190406,   A17,64,0,4,4,2,20190508,911,-2.0091,-27.316, 4858,   2747.2,   2.8257,  34.9273,2,  34.9297,2,    248.4,2,    247.8,2,    32.71,2,    21.27,2,     1.41,2,     -999,9,7.7312,2,    25.00,937,20190508
  29HE20190406,   A17,64,0,5,5,2,20190508,911,-2.0091,-27.316, 4858,   2498.5,   2.9250,  34.9340,2,     -999,9,    248.4,2,    247.5,2,    30.82,2,    21.19,2,     1.40,2,     -999,9,7.7315,2,    25.00,943,20190508
  29HE20190406,   A17,64,0,6,6,2,20190508,911,-2.0091,-27.316, 4858,   2274.4,   3.1938,  34.9539,2,  34.9573,2,    255.4,2,    254.5,2,    23.29,2,    19.79,2,     1.31,2,     -999,9,7.7376,2,    25.00,948,20190508
  29HE20190406,   A17,64,0,7,7,2,20190508,911,-2.0091,-27.316, 4858,   2001.2,   3.5967,  34.9710,2,     -999,9,    254.9,2,    254.1,2,    18.54,2,    19.43,2,     1.28,2,     -999,9,7.7352,2,    25.00,954,20190508
  29HE20190406,   A17,64,0,8,8,2,20190508,911,-2.0091,-27.316, 4858,   1799.9,   3.8601,  34.9794,2,  34.9830,2,    250.2,2,    248.6,2,    17.17,2,    19.91,2,     1.30,2,     -999,9,7.729,2,    25.00,959,20190508
  29HE20190406,   A17,64,0,9,9,2,20190508,911,-2.0091,-27.316, 4858,   1602.4,   4.2303,  34.9790,2,     -999,9,    237.2,2,    236.5,2,    17.17,2,    21.10,2,     1.38,2,     -999,9,7.716,2,    25.00,1003,20190508
  29HE20190406,   A17,64,0,10,10,2,20190508,911,-2.0091,-27.316, 4858,   1400.6,   4.5106,  34.9364,2,  34.9346,2,    212.1,2,    211.1,2,    20.09,2,    24.32,2,     1.59,2,     -999,9,7.6845,2,    25.00,1008,20190508
  29HE20190406,   A17,64,0,11,11,2,20190508,911,-2.0091,-27.316, 4858,   1201.4,   4.6290,  34.8534,2,     -999,9,    189.7,2,    189.0,2,    23.46,2,    27.67,2,     1.81,2,     -999,9,7.648,2,    25.00,1012,20190508
  29HE20190406,   A17,64,0,12,12,2,20190508,911,-2.0091,-27.316, 4858,   1100.5,   4.4339,  34.7007,2,  34.7039,2,    168.5,2,    167.7,2,    29.34,2,    31.95,2,     2.13,2,     -999,9,7.6004,2,    25.00,1015,20190508
  29HE20190406,   A17,64,0,13,13,2,20190508,911,-2.0091,-27.316, 4858,    999.2,   4.4217,  34.5876,2,     -999,9,    162.4,2,    160.9,2,    31.53,2,    34.07,2,     2.26,2,     -999,9,7.5818,2,    25.00,1018,20190508
  29HE20190406,   A17,64,0,14,14,2,20190508,911,-2.0091,-27.316, 4858,    901.3,   4.6341,  34.5592,2,  34.5597,2,    154.6,2,    153.7,2,    30.77,2,    34.89,2,     2.32,2,     -999,9,7.5676,2,    25.00,1021,20190508
  29HE20190406,   A17,64,0,15,15,2,20190508,911,-2.0091,-27.316, 4858,    798.4,   4.8239,  34.5169,2,     -999,9,    154.0,2,    152.7,2,    30.12,2,    35.12,2,     2.33,2,     -999,9,7.5639,2,    25.00,1024,20190508
  29HE20190406,   A17,64,0,16,16,2,20190508,911,-2.0091,-27.316, 4858,    700.3,   5.1814,  34.5058,2,  34.5087,2,    150.1,2,    149.1,2,    28.11,2,    34.45,2,     2.31,2,     -999,9,7.5607,2,    25.00,1026,20190508
  29HE20190406,   A17,64,0,17,17,2,20190508,911,-2.0091,-27.316, 4858,    601.9,   5.3879,  34.4622,2,     -999,9,    171.8,2,    170.6,2,    25.66,2,    31.87,2,     2.17,2,     -999,9,7.5931,2,    25.00,1029,20190508
  29HE20190406,   A17,64,0,18,18,2,20190508,911,-2.0091,-27.316, 4858,    498.0,   7.1203,  34.6166,2,  34.6219,2,    115.4,2,    114.2,2,    19.87,2,    34.12,2,     2.21,2,     -999,9,7.5347,2,    25.00,1032,20190508
  29HE20190406,   A17,64,0,19,19,2,20190508,911,-2.0091,-27.316, 4858,    399.8,   9.6082,  34.8739,2,     -999,9,     84.9,2,     84.7,2,    14.62,2,    32.07,2,     2.03,2,     -999,9,7.5354,2,    25.00,1035,20190508
  29HE20190406,   A17,64,0,20,20,2,20190508,911,-2.0091,-27.316, 4858,    301.3,  11.8365,  35.1404,2,  35.1341,2,     85.4,2,     86.1,2,    10.89,2,    27.71,2,     1.75,2,     -999,9,7.5927,2,    25.00,1038,20190508
  29HE20190406,   A17,64,0,21,21,2,20190508,911,-2.0091,-27.316, 4858,    201.5,  13.0861,  35.3060,2,     -999,9,    104.2,2,    104.0,2,     8.73,2,    23.13,2,     1.51,2,     -999,9,7.6592,2,    25.00,1040,20190508
  29HE20190406,   A17,64,0,22,22,2,20190508,911,-2.0091,-27.316, 4858,    102.4,  13.9215,  35.4240,2,  35.4254,2,    114.7,2,    113.9,2,     7.55,2,    20.61,2,     1.36,2,     -999,9,7.6966,2,    25.00,1043,20190508
  29HE20190406,   A17,64,0,23,23,2,20190508,911,-2.0091,-27.316, 4858,     49.1,  19.6210,  35.8534,2,     -999,9,    155.7,2,    155.7,2,     3.43,2,     6.86,2,     0.66,2,     -999,9,7.8603,2,    25.00,1045,20190508
  29HE20190406,   A17,64,0,24,24,2,20190508,911,-2.0091,-27.316, 4858,      6.3,  28.5899,  35.7192,2,  35.7257,2,    202.3,2,    201.2,2,     1.07,2,     0.00,2,     0.03,2,     -999,9,8.0841,2,    25.00,1047,20190508