BOTTLE,20240229CCHSIOSLL
EXPOCODE,SECT_ID,STNNBR,CASTNO,SAMPNO,BTLNBR,BTLNBR_FLAG_W,DATE,TIME,LATITUDE,LONGITUDE,DEPTH,CTDPRS,CTDTMP,CTDSAL,CTDSAL_FLAG_W,SALNTY,SALNTY_FLAG_W,CTDOXY,CTDOXY_FLAG_W,OXYGEN,OXYGEN_FLAG_W,SILCAT,SILCAT_FLAG_W,NITRAT,NITRAT_FLAG_W,PHSPHT,PHSPHT_FLAG_W,ALKALI,ALKALI_FLAG_W,PH_TOT,PH_TOT_FLAG_W,PH_TMP,BTL_TIME,BTL_DATE
,,,,,,,,,,,METERS,DBAR,ITS-90,PSS-78,,PSS-78,,UMOL/KG,,UMOL/KG,,UMOL/KG,,UMOL/KG,,UMOL/KG,,UMOL/KG,,,,DEG C,,
  29HE20190406,   A17,43,0,1,1,2,20190429,1811,-23.1034,-32.8932, 4835,   4825.2,   0.3461,  34.6780,2,     -999,9,    221.1,2,    220.8,2,   120.56,2,    32.98,2,     2.27,2,   2369.1,2,7.6066,2,    25.00,1811,20190429
  29HE20190406,   A17,43,0,2,2,2,20190429,1811,-23.1034,-32.8932, 4835,   4500.8,   0.9823,  34.7420,2,  34.7429,2,    227.7,2,    227.2,2,   100.21,2,    29.94,2,     2.04,2,   2362.5,2,7.6464,2,    25.00,1817,20190429
  29HE20190406,   A17,43,0,3,3,2,20190429,1811,-23.1034,-32.8932, 4835,   3999.1,   1.6359,  34.8130,2,     -999,9,    239.2,2,    239.4,2,    71.12,2,    26.13,2,     1.77,2,   2351.5,2,7.6878,2,    25.00,1826,20190429
  29HE20190406,   A17,43,0,4,4,2,20190429,1811,-23.1034,-32.8932, 4835,   3499.1,   2.5079,  34.9022,2,  34.9033,2,    253.4,2,    252.8,2,    37.59,2,    21.03,2,     1.43,2,   2332.9,2,7.7306,2,    25.00,1836,20190429
  29HE20190406,   A17,43,0,5,5,2,20190429,1811,-23.1034,-32.8932, 4835,   3000.4,   2.7883,  34.9214,2,     -999,9,    251.8,2,    250.8,2,    32.60,2,    20.70,2,     1.40,2,   2330.0,2,7.7334,2,    25.00,1845,20190429
  29HE20190406,   A17,43,0,6,6,2,20190429,1811,-23.1034,-32.8932, 4835,   2500.4,   3.0433,  34.9358,2,  34.9376,2,    250.9,2,    251.0,2,    28.39,2,    20.28,2,     1.36,2,   2324.5,2,7.7333,2,    25.00,1854,20190429
  29HE20190406,   A17,43,0,7,7,2,20190429,1811,-23.1034,-32.8932, 4835,   2269.6,   3.2140,  34.9447,2,     -999,9,    251.1,2,     -999,9,     -999,9,     -999,9,     -999,9,     -999,9,-999.0,9,    25.00,1859,20190429
  29HE20190406,   A17,43,0,8,8,2,20190429,1811,-23.1034,-32.8932, 4835,   2001.4,   3.4527,  34.9512,2,  34.9529,2,    248.7,2,    248.1,2,    23.14,2,    20.20,2,     1.35,2,   2319.4,2,7.7293,2,    25.00,1904,20190429
  29HE20190406,   A17,43,0,9,9,2,20190429,1811,-23.1034,-32.8932, 4835,   1802.9,   3.6253,  34.9446,2,     -999,9,    242.6,2,    241.8,2,    23.22,2,    21.08,2,     1.39,2,   2317.9,2,7.7208,2,    25.00,1909,20190429
  29HE20190406,   A17,43,0,10,10,2,20190429,1811,-23.1034,-32.8932, 4835,   1596.9,   3.6563,  34.8897,2,  34.8888,2,    226.1,2,    224.8,2,    28.83,2,    23.43,2,     1.58,2,   2319.8,2,7.6939,2,    25.00,1913,20190429
  29HE20190406,   A17,43,0,11,11,2,20190429,1811,-23.1034,-32.8932, 4835,   1406.4,   3.2340,  34.7213,2,     -999,9,    199.8,2,    199.0,2,    46.02,2,    29.00,2,     1.94,2,   2325.8,2,7.6375,2,    25.00,1918,20190429
  29HE20190406,   A17,43,0,12,12,2,20190429,1811,-23.1034,-32.8932, 4835,   1200.4,   3.1663,  34.5484,2,  34.5477,2,    187.7,2,    186.2,2,    51.97,2,    32.57,2,     2.19,2,   2322.5,2,7.5982,2,    25.00,1923,20190429
  29HE20190406,   A17,43,0,13,13,2,20190429,1811,-23.1034,-32.8932, 4835,    998.9,   3.6319,  34.4028,2,     -999,9,    195.2,2,    194.0,2,    41.12,2,    32.94,2,     2.18,2,   2308.1,2,7.5986,2,    25.00,1927,20190429
  29HE20190406,   A17,43,0,14,14,2,20190429,1811,-23.1034,-32.8932, 4835,    903.6,   4.1396,  34.3708,2,  34.3805,2,    198.4,2,    197.5,2,    34.17,2,    31.96,2,     2.14,2,   2303.7,2,7.6067,2,    25.00,1930,20190429
  29HE20190406,   A17,43,0,15,15,2,20190429,1811,-23.1034,-32.8932, 4835,    801.2,   4.9981,  34.3702,2,     -999,9,    199.3,2,    198.6,2,    25.81,2,    30.26,2,     2.02,2,   2293.7,2,7.6197,2,    25.00,1933,20190429
  29HE20190406,   A17,43,0,16,16,2,20190429,1811,-23.1034,-32.8932, 4835,    700.2,   6.2368,  34.4331,2,  34.4370,2,    201.0,2,    198.1,2,    18.52,2,    27.67,2,     1.83,2,   2292.0,2,7.6433,2,    25.00,1935,20190429
  29HE20190406,   A17,43,0,17,17,2,20190429,1811,-23.1034,-32.8932, 4835,    601.3,   7.8591,  34.5700,2,     -999,9,    201.7,2,    201.3,2,    12.65,2,    23.70,2,     1.57,2,   2296.1,2,7.7011,2,    25.00,1938,20190429
  29HE20190406,   A17,43,0,18,18,2,20190429,1811,-23.1034,-32.8932, 4835,    499.6,  10.2069,  34.8332,2,  34.8338,2,    201.6,2,    202.4,2,     7.61,2,    17.67,2,     1.20,2,   2302.4,2,7.7427,2,    25.00,1941,20190429
  29HE20190406,   A17,43,0,19,19,2,20190429,1811,-23.1034,-32.8932, 4835,    400.2,  12.3684,  35.1041,2,     -999,9,    206.6,2,    207.2,2,     4.66,2,    11.72,2,     0.85,2,   2313.8,2,7.8027,2,    25.00,1943,20190429
  29HE20190406,   A17,43,0,20,20,2,20190429,1811,-23.1034,-32.8932, 4835,    299.4,  14.4369,  35.3664,2,  35.3678,2,    208.7,2,    208.1,2,     2.94,2,     6.42,2,     0.56,2,   2328.2,2,7.8573,2,    25.00,1946,20190429
  29HE20190406,   A17,43,0,21,21,2,20190429,1811,-23.1034,-32.8932, 4835,    199.3,  18.0214,  35.9489,2,     -999,9,    208.8,2,    208.5,2,     1.63,2,     1.60,2,     0.24,2,   2362.8,2,7.9333,2,    25.00,1949,20190429
  29HE20190406,   A17,43,0,22,22,2,20190429,1811,-23.1034,-32.8932, 4835,     99.3,  21.9342,  36.6726,2,  36.6630,2,    216.5,2,    215.7,2,     1.01,2,     0.00,2,     0.02,2,   2407.8,2,8.0176,2,    25.00,1951,20190429
  29HE20190406,   A17,43,0,23,23,2,20190429,1811,-23.1034,-32.8932, 4835,     50.0,  24.8977,  36.7735,2,     -999,9,    232.1,2,    231.4,2,     1.08,2,     0.00,2,     0.00,2,   2413.8,2,8.0564,2,    25.00,1953,20190429
  29HE20190406,   A17,43,0,24,24,2,20190429,1811,-23.1034,-32.8932, 4835,      5.6,  27.2262,  36.8972,2,  36.9023,2,    202.4,2,    201.2,2,     0.82,2,     0.00,2,     0.00,2,   2420.1,2,8.0762,2,    25.00,1955,20190429
  29HE20190406,   A17,44,0,1,1,2,20190430,127,-22.3731,-32.8406, 4543,   2002.1,   3.5344,  34.9561,2,     -999,9,    249.3,2,     -999,9,     -999,9,     -999,9,     -999,9,     -999,9,-999.0,9,    25.00,127,20190430
  29HE20190406,   A17,44,0,2,2,2,20190430,127,-22.3731,-32.8406, 4543,   2002.3,   3.5343,  34.9561,2,  34.9595,2,    249.3,2,    248.6,2,    22.32,2,    20.32,2,     1.35,2,     -999,9,7.7291,2,    25.00,127,20190430
  29HE20190406,   A17,44,0,3,3,2,20190430,127,-22.3731,-32.8406, 4543,   1704.1,   3.7602,  34.9302,2,     -999,9,    235.1,2,    234.1,2,    24.20,2,    22.05,2,     1.46,2,     -999,9,7.7083,2,    25.00,133,20190430
  29HE20190406,   A17,44,0,4,4,2,20190430,127,-22.3731,-32.8406, 4543,   1501.7,   3.8048,  34.8496,2,  34.8521,2,    213.8,2,    212.6,2,    30.62,2,    25.29,2,     1.69,2,     -999,9,7.6742,2,    25.00,137,20190430
  29HE20190406,   A17,44,0,5,5,2,20190430,127,-22.3731,-32.8406, 4543,   1502.0,   3.8019,  34.8498,2,     -999,9,    213.9,2,     -999,9,     -999,9,     -999,9,     -999,9,     -999,9,-999.0,9,    25.00,138,20190430
  29HE20190406,   A17,44,0,6,6,2,20190430,127,-22.3731,-32.8406, 4543,   1204.2,   3.7055,  34.6320,2,  34.6339,2,    188.7,2,    188.1,2,    38.70,2,    30.53,2,     2.08,2,     -999,9,7.6161,2,    25.00,144,20190430
  29HE20190406,   A17,44,0,7,7,2,20190430,127,-22.3731,-32.8406, 4543,   1204.0,   3.7058,  34.6318,2,     -999,9,    188.8,2,     -999,9,     -999,9,     -999,9,     -999,9,     -999,9,-999.0,9,    25.00,144,20190430
  29HE20190406,   A17,44,0,8,8,2,20190430,127,-22.3731,-32.8406, 4543,    998.6,   3.7336,  34.4456,2,  34.4474,2,    187.2,2,    186.6,2,    40.99,2,    32.37,2,     2.23,2,     -999,9,7.5941,2,    25.00,148,20190430
  29HE20190406,   A17,44,0,9,9,2,20190430,127,-22.3731,-32.8406, 4543,    998.5,   3.7338,  34.4456,2,     -999,9,    187.2,2,     -999,9,     -999,9,     -999,9,     -999,9,     -999,9,-999.0,9,    25.00,148,20190430
  29HE20190406,   A17,44,0,10,10,2,20190430,127,-22.3731,-32.8406, 4543,    800.8,   5.0237,  34.4160,2,  34.4172,2,    181.0,2,    180.0,2,    27.79,2,    31.90,2,     2.14,2,     -999,9,7.5978,2,    25.00,153,20190430
  29HE20190406,   A17,44,0,11,11,2,20190430,127,-22.3731,-32.8406, 4543,    801.7,   5.0199,  34.4161,2,     -999,9,    180.8,2,     -999,9,     -999,9,     -999,9,     -999,9,     -999,9,-999.0,9,    25.00,153,20190430
  29HE20190406,   A17,44,0,12,12,2,20190430,127,-22.3731,-32.8406, 4543,    600.4,   7.8078,  34.6000,2,  34.6026,2,    172.5,2,    172.0,2,    15.32,2,    26.60,2,     1.77,2,     -999,9,7.6404,2,    25.00,157,20190430
  29HE20190406,   A17,44,0,13,13,2,20190430,127,-22.3731,-32.8406, 4543,    601.0,   7.8042,  34.5998,2,     -999,9,    172.3,2,     -999,9,     -999,9,     -999,9,     -999,9,     -999,9,-999.0,9,    25.00,157,20190430
  29HE20190406,   A17,44,0,14,14,2,20190430,127,-22.3731,-32.8406, 4543,    501.6,  10.0562,  34.8227,2,  34.8270,2,    183.5,2,    182.6,2,     9.05,2,    19.76,2,     1.39,2,     -999,9,7.709,2,    25.00,200,20190430
  29HE20190406,   A17,44,0,15,15,2,20190430,127,-22.3731,-32.8406, 4543,    400.0,  12.3281,  35.0925,2,     -999,9,    194.6,2,     -999,9,     -999,9,     -999,9,     -999,9,     -999,9,-999.0,9,    25.00,203,20190430
  29HE20190406,   A17,44,0,16,16,2,20190430,127,-22.3731,-32.8406, 4543,    400.6,  12.3339,  35.0926,2,  35.0986,2,    194.2,2,    193.8,2,     5.27,2,    13.12,2,     0.98,2,     -999,9,7.7817,2,    25.00,203,20190430
  29HE20190406,   A17,44,0,17,17,2,20190430,127,-22.3731,-32.8406, 4543,    300.2,  14.5345,  35.3837,2,     -999,9,    203.9,2,    203.6,2,     3.12,2,     6.74,2,     0.62,2,     -999,9,7.8519,2,    25.00,205,20190430
  29HE20190406,   A17,44,0,18,18,2,20190430,127,-22.3731,-32.8406, 4543,    203.2,  18.5695,  36.0588,2,  36.0602,2,    205.4,2,    205.8,2,     1.62,2,     1.34,2,     0.28,2,     -999,9,7.9387,2,    25.00,208,20190430
  29HE20190406,   A17,44,0,19,19,2,20190430,127,-22.3731,-32.8406, 4543,    202.2,  18.5797,  36.0612,2,     -999,9,    206.0,2,     -999,9,     -999,9,     -999,9,     -999,9,     -999,9,-999.0,9,    25.00,208,20190430
  29HE20190406,   A17,44,0,20,20,2,20190430,127,-22.3731,-32.8406, 4543,    102.0,  22.7607,  36.8185,2,  36.8228,2,    210.5,2,    210.2,2,     1.13,2,     0.00,2,     0.10,2,     -999,9,8.0178,2,    25.00,211,20190430
  29HE20190406,   A17,44,0,21,21,2,20190430,127,-22.3731,-32.8406, 4543,    101.3,  22.7667,  36.8206,2,     -999,9,    210.8,2,     -999,9,     -999,9,     -999,9,     -999,9,     -999,9,-999.0,9,    25.00,211,20190430
  29HE20190406,   A17,44,0,22,22,2,20190430,127,-22.3731,-32.8406, 4543,     50.5,  25.0287,  37.0256,2,  37.0229,2,    220.4,2,    219.8,2,     1.20,2,     0.00,2,     0.06,2,     -999,9,8.0497,2,    25.00,213,20190430
  29HE20190406,   A17,44,0,23,23,2,20190430,127,-22.3731,-32.8406, 4543,      6.6,  27.9566,  37.1565,2,     -999,9,    198.8,2,     -999,9,     -999,9,     -999,9,     -999,9,     -999,9,-999.0,9,    25.00,215,20190430
  29HE20190406,   A17,44,0,24,24,2,20190430,127,-22.3731,-32.8406, 4543,      6.1,  27.9565,  37.1564,2,  37.1572,2,    199.8,2,    198.5,2,     0.73,2,     0.00,2,     0.01,2,     -999,9,8.084,2,    25.00,215,20190430
  29HE20190406,   A17,45,0,1,1,2,20190430,745,-21.6187,-32.7854, 4461,   4450.9,   0.3946,  34.6851,2,     -999,9,    220.9,2,    220.8,2,   118.72,2,    31.77,2,     2.20,2,   2367.9,2,7.611,2,    25.00,745,20190430
  29HE20190406,   A17,45,0,2,2,2,20190430,745,-21.6187,-32.7854, 4461,   4000.5,   1.1095,  34.7595,2,  34.7623,2,    230.4,2,    229.7,2,    93.85,2,    28.09,2,     1.94,2,   2360.8,2,7.6579,2,    25.00,754,20190430
  29HE20190406,   A17,45,0,3,3,2,20190430,745,-21.6187,-32.7854, 4461,   3499.3,   1.7596,  34.8307,2,     -999,9,    241.9,2,    242.0,2,    66.10,2,    23.71,2,     1.66,2,   2346.6,2,7.6974,2,    25.00,803,20190430
  29HE20190406,   A17,45,0,4,4,2,20190430,745,-21.6187,-32.7854, 4461,   3000.7,   2.3632,  34.8946,2,  34.8961,2,    252.6,2,    252.1,2,    40.07,2,    20.50,2,     1.42,2,   2334.9,2,7.7274,2,    25.00,812,20190430
  29HE20190406,   A17,45,0,5,5,2,20190430,745,-21.6187,-32.7854, 4461,   2500.8,   2.8858,  34.9288,2,     -999,9,    251.8,2,    251.6,2,    30.29,2,    19.80,2,     1.34,2,   2327.1,2,7.7327,2,    25.00,822,20190430
  29HE20190406,   A17,45,0,6,6,2,20190430,745,-21.6187,-32.7854, 4461,   2273.2,   3.1840,  34.9446,2,  34.9456,2,    252.2,2,    252.1,2,    25.47,2,    18.88,2,     1.31,2,   2322.8,2,7.7323,2,    25.00,826,20190430
  29HE20190406,   A17,45,0,7,7,2,20190430,745,-21.6187,-32.7854, 4461,   2002.1,   3.9550,  34.9536,2,     -999,9,    238.0,2,    237.8,2,    20.33,2,    20.03,2,     1.37,2,   2316.7,2,7.7146,2,    25.00,832,20190430
  29HE20190406,   A17,45,0,8,8,2,20190430,745,-21.6187,-32.7854, 4461,   1802.1,   3.9009,  34.8990,2,  34.9012,2,    223.2,2,    222.7,2,    26.08,2,    22.37,2,     1.54,2,   2317.8,2,7.6891,2,    25.00,837,20190430
  29HE20190406,   A17,45,0,9,9,2,20190430,745,-21.6187,-32.7854, 4461,   1601.8,   3.8229,  34.8252,2,     -999,9,    208.6,2,    208.3,2,    31.66,2,    24.93,2,     1.74,2,   2320.0,2,7.6632,2,    25.00,841,20190430
  29HE20190406,   A17,45,0,10,10,2,20190430,745,-21.6187,-32.7854, 4461,   1400.1,   3.6703,  34.6994,2,  34.7015,2,    193.8,2,    192.2,2,    38.27,2,    28.20,2,     1.95,2,   2318.2,2,7.629,2,    25.00,845,20190430
  29HE20190406,   A17,45,0,11,11,2,20190430,745,-21.6187,-32.7854, 4461,   1199.1,   3.5675,  34.5374,2,     -999,9,    186.0,2,    184.9,2,    42.84,2,    30.73,2,     2.15,2,   2314.2,2,7.6006,2,    25.00,849,20190430
  29HE20190406,   A17,45,0,12,12,2,20190430,745,-21.6187,-32.7854, 4461,   1101.3,   3.7344,  34.4948,2,  34.5004,2,    186.6,2,    185.2,2,    39.66,2,    30.40,2,     2.16,2,   2309.9,2,7.5975,2,    25.00,852,20190430
  29HE20190406,   A17,45,0,13,13,2,20190430,745,-21.6187,-32.7854, 4461,   1001.2,   3.8956,  34.4553,2,     -999,9,    185.7,2,    184.1,2,    37.95,2,    30.73,2,     2.18,2,   2307.9,2,7.5944,2,    25.00,855,20190430
  29HE20190406,   A17,45,0,14,14,2,20190430,745,-21.6187,-32.7854, 4461,    901.8,   4.2800,  34.4104,2,  34.4133,2,    186.7,2,    185.6,2,    33.68,2,    30.77,2,     2.16,2,   2302.4,2,7.5949,2,    25.00,857,20190430
  29HE20190406,   A17,45,0,15,15,2,20190430,745,-21.6187,-32.7854, 4461,    794.6,   5.1515,  34.4100,2,     -999,9,    184.9,2,    184.8,2,    26.31,2,    29.78,2,     2.08,2,   2295.3,2,7.5973,2,    25.00,900,20190430
  29HE20190406,   A17,45,0,16,16,2,20190430,745,-21.6187,-32.7854, 4461,    699.9,   6.0786,  34.4600,2,  34.4639,2,    178.0,2,    178.1,2,    21.40,2,    28.60,2,     1.97,2,   2293.4,2,7.6116,2,    25.00,903,20190430
  29HE20190406,   A17,45,0,17,17,2,20190430,745,-21.6187,-32.7854, 4461,    602.4,   7.8345,  34.5996,2,     -999,9,    173.4,2,    172.8,2,    14.88,2,    25.68,2,     1.72,2,   2293.7,2,7.6428,2,    25.00,905,20190430
  29HE20190406,   A17,45,0,18,18,2,20190430,745,-21.6187,-32.7854, 4461,    499.5,   9.6797,  34.7728,2,  34.7794,2,    197.0,2,    196.2,2,     8.95,2,    19.26,2,     1.31,2,   2299.1,2,7.7218,2,    25.00,908,20190430
  29HE20190406,   A17,45,0,19,19,2,20190430,745,-21.6187,-32.7854, 4461,    398.2,  11.9961,  35.0538,2,     -999,9,    201.0,2,    200.2,2,     5.29,2,    13.29,2,     0.94,2,   2311.2,2,7.7845,2,    25.00,910,20190430
  29HE20190406,   A17,45,0,20,20,2,20190430,745,-21.6187,-32.7854, 4461,    299.8,  14.3390,  35.3571,2,  35.3585,2,    209.0,2,    208.3,2,     2.97,2,     6.54,2,     0.57,2,   2326.9,2,7.8553,2,    25.00,913,20190430
  29HE20190406,   A17,45,0,21,21,2,20190430,745,-21.6187,-32.7854, 4461,    199.9,  17.9197,  35.9276,2,     -999,9,    207.0,2,    207.1,2,     1.80,2,     1.94,2,     0.28,2,   2361.1,2,7.926,2,    25.00,916,20190430
  29HE20190406,   A17,45,0,22,22,2,20190430,745,-21.6187,-32.7854, 4461,     95.1,  22.2319,  36.5896,2,  36.5915,2,    226.4,2,    225.7,2,     1.12,2,     0.00,2,     0.04,2,   2404.2,2,8.0213,2,    25.00,919,20190430
  29HE20190406,   A17,45,0,23,23,2,20190430,745,-21.6187,-32.7854, 4461,     50.5,  26.3220,  37.0198,2,     -999,9,    222.1,2,    221.1,2,     1.17,2,     0.00,2,     0.07,2,   2431.1,2,8.0528,2,    25.00,921,20190430
  29HE20190406,   A17,45,0,24,24,2,20190430,745,-21.6187,-32.7854, 4461,      4.9,  28.1416,  37.0787,2,  37.0764,2,    197.9,2,    197.2,2,     0.80,2,     0.00,2,     0.03,2,   2434.1,2,8.0783,2,    25.00,924,20190430