BOTTLE,20240229CCHSIOSLL
EXPOCODE,SECT_ID,STNNBR,CASTNO,SAMPNO,BTLNBR,BTLNBR_FLAG_W,DATE,TIME,LATITUDE,LONGITUDE,DEPTH,CTDPRS,CTDTMP,CTDSAL,CTDSAL_FLAG_W,SALNTY,SALNTY_FLAG_W,CTDOXY,CTDOXY_FLAG_W,OXYGEN,OXYGEN_FLAG_W,SILCAT,SILCAT_FLAG_W,NITRAT,NITRAT_FLAG_W,PHSPHT,PHSPHT_FLAG_W,ALKALI,ALKALI_FLAG_W,PH_TOT,PH_TOT_FLAG_W,PH_TMP,BTL_TIME,BTL_DATE
,,,,,,,,,,,METERS,DBAR,ITS-90,PSS-78,,PSS-78,,UMOL/KG,,UMOL/KG,,UMOL/KG,,UMOL/KG,,UMOL/KG,,UMOL/KG,,,,DEG C,,
  29HE20190406,   A17,31,0,1,1,2,20190418,945,-30.3456,-39.2531, 4172,   4102.6,   1.3166,  34.7751,2,     -999,9,    230.4,2,    231.8,2,    87.30,2,    27.52,2,     1.88,2,   2355.7,2,7.6615,2,    25.00,945,20190418
  29HE20190406,   A17,31,0,2,2,2,20190418,945,-30.3456,-39.2531, 4172,   4003.7,   1.3296,  34.7775,2,  34.7754,2,    231.1,2,    231.5,2,    86.13,2,    27.51,2,     1.87,2,   2355.2,2,7.6661,2,    25.00,948,20190418
  29HE20190406,   A17,31,0,3,3,2,20190418,945,-30.3456,-39.2531, 4172,   3501.9,   1.9270,  34.8444,2,     -999,9,    242.0,2,    243.4,2,    61.60,2,    23.68,2,     1.61,2,   2343.4,2,7.7029,2,    25.00,959,20190418
  29HE20190406,   A17,31,0,4,4,2,20190418,945,-30.3456,-39.2531, 4172,   3004.7,   2.6518,  34.9106,2,  34.9079,2,    249.9,2,    251.4,2,    35.75,2,    20.62,2,     1.39,2,   2330.9,2,7.7302,2,    25.00,1009,20190418
  29HE20190406,   A17,31,0,5,5,2,20190418,945,-30.3456,-39.2531, 4172,   2498.5,   2.9525,  34.9148,2,     -999,9,    244.4,2,    246.1,2,    32.59,2,    20.78,2,     1.41,2,   2327.3,2,7.7236,2,    25.00,1021,20190418
  29HE20190406,   A17,31,0,6,6,2,20190418,945,-30.3456,-39.2531, 4172,   2277.1,   3.0710,  34.9045,2,  34.9024,2,    239.4,2,    240.8,2,    33.29,2,    21.69,2,     1.44,2,   2326.4,2,7.7142,2,    25.00,1026,20190418
  29HE20190406,   A17,31,0,7,7,2,20190418,945,-30.3456,-39.2531, 4172,   2001.0,   3.0199,  34.8397,2,     -999,9,    221.5,2,    223.3,2,    42.57,2,    24.46,2,     1.65,2,   2330.3,2,7.6823,2,    25.00,1033,20190418
  29HE20190406,   A17,31,0,8,8,2,20190418,945,-30.3456,-39.2531, 4172,   1804.7,   2.9283,  34.7590,2,  34.7565,2,    204.8,2,    206.0,2,    52.01,2,    27.37,2,     1.86,2,   2331.5,2,7.6476,2,    25.00,1038,20190418
  29HE20190406,   A17,31,0,9,9,2,20190418,945,-30.3456,-39.2531, 4172,   1603.3,   2.8960,  34.6577,2,     -999,9,    192.1,2,    193.7,2,    56.26,2,    29.94,2,     2.05,2,   2329.7,2,7.616,2,    25.00,1044,20190418
  29HE20190406,   A17,31,0,10,10,2,20190418,945,-30.3456,-39.2531, 4172,   1401.4,   3.0182,  34.5397,2,  34.5386,2,    186.5,2,    187.9,2,    55.53,2,    32.07,2,     2.20,2,   2324.6,2,7.5949,2,    25.00,1048,20190418
  29HE20190406,   A17,31,0,11,11,2,20190418,945,-30.3456,-39.2531, 4172,   1204.3,   3.2771,  34.4084,2,     -999,9,    193.7,2,    195.2,2,    47.23,2,    32.53,2,     2.20,2,   2314.4,2,7.5919,2,    25.00,1054,20190418
  29HE20190406,   A17,31,0,12,12,2,20190418,945,-30.3456,-39.2531, 4172,   1103.2,   3.5056,  34.3420,2,  34.3393,2,    203.9,2,    205.2,2,    38.49,2,    31.75,2,     2.16,2,   2305.6,2,7.6041,2,    25.00,1057,20190418
  29HE20190406,   A17,31,0,13,13,2,20190418,945,-30.3456,-39.2531, 4172,   1001.1,   3.8974,  34.2959,2,     -999,9,    215.7,2,    217.0,2,    31.08,2,    30.52,2,     2.06,2,   2297.8,2,7.6208,2,    25.00,1100,20190418
  29HE20190406,   A17,31,0,14,14,2,20190418,945,-30.3456,-39.2531, 4172,    898.9,   4.4364,  34.2753,2,  34.2754,2,    222.7,2,    225.2,2,    24.16,2,    29.20,2,     1.97,2,   2291.5,2,7.6374,2,    25.00,1103,20190418
  29HE20190406,   A17,31,0,15,15,2,20190418,945,-30.3456,-39.2531, 4172,    793.5,   5.1998,  34.2954,2,     -999,9,    227.1,2,    229.1,2,    17.81,2,    27.17,2,     1.83,2,   2286.7,2,7.6561,2,    25.00,1105,20190418
  29HE20190406,   A17,31,0,16,16,2,20190418,945,-30.3456,-39.2531, 4172,    692.7,   6.5011,  34.4059,2,  34.4044,2,    216.9,2,    218.6,2,    13.75,2,    25.07,2,     1.69,2,   2287.6,2,7.6717,2,    25.00,1107,20190418
  29HE20190406,   A17,31,0,17,17,2,20190418,945,-30.3456,-39.2531, 4172,    600.7,   8.0707,  34.5714,2,     -999,9,    207.9,2,    209.1,2,    10.45,2,    21.99,2,     1.51,2,   2293.7,2,7.6999,2,    25.00,1110,20190418
  29HE20190406,   A17,31,0,18,18,2,20190418,945,-30.3456,-39.2531, 4172,    499.9,  10.3354,  34.8494,2,  34.8461,2,    202.9,2,    204.9,2,     6.82,2,    16.85,2,     1.17,2,   2303.0,2,7.7519,2,    25.00,1112,20190418
  29HE20190406,   A17,31,0,19,19,2,20190418,945,-30.3456,-39.2531, 4172,    405.9,  12.1881,  35.1150,2,     -999,9,    206.1,2,    208.3,2,     4.37,2,    11.99,2,     0.84,2,   2316.4,2,7.8074,2,    25.00,1117,20190418
  29HE20190406,   A17,31,0,20,20,2,20190418,945,-30.3456,-39.2531, 4172,    304.6,  13.9496,  35.3867,2,  35.3837,2,    209.0,2,    211.0,2,     2.89,2,     7.90,2,     0.57,2,   2330.9,2,7.8546,2,    25.00,1120,20190418
  29HE20190406,   A17,31,0,21,21,2,20190418,945,-30.3456,-39.2531, 4172,    202.8,  15.5325,  35.5672,2,     -999,9,    210.7,2,    213.2,2,     1.83,2,     4.16,2,     0.36,2,   2340.5,2,7.8968,2,    25.00,1123,20190418
  29HE20190406,   A17,31,0,22,22,2,20190418,945,-30.3456,-39.2531, 4172,    104.1,  17.7962,  35.8411,2,  35.8444,2,    227.9,2,    233.1,3,     1.00,2,     0.00,2,     0.05,2,   2356.7,2,7.9654,2,    25.00,1126,20190418
  29HE20190406,   A17,31,0,23,23,2,20190418,945,-30.3456,-39.2531, 4172,     50.3,  22.4554,  35.9083,2,     -999,9,    216.9,2,    217.9,2,     0.75,2,     0.00,2,     0.00,2,   2361.4,2,8.0247,2,    25.00,1128,20190418
  29HE20190406,   A17,31,0,24,24,2,20190418,945,-30.3456,-39.2531, 4172,      6.5,  23.2690,  36.0880,2,  36.0866,2,    211.3,2,    213.9,2,     0.82,2,     0.00,2,     0.00,2,   2369.2,2,8.0358,2,    25.00,1130,20190418
  29HE20190406,   A17,32,0,1,1,2,20190418,1708,-29.7008,-38.6691, 4277,   2002.9,   3.0640,  34.8698,2,     -999,9,    230.0,2,     -999,9,     -999,9,     -999,9,     -999,9,     -999,9,-999.0,9,    25.00,1708,20190418
  29HE20190406,   A17,32,0,2,2,2,20190418,1708,-29.7008,-38.6691, 4277,   2003.9,   3.0642,  34.8698,2,  34.8666,2,    229.5,2,    227.9,2,    38.17,2,    23.25,2,     1.57,2,     -999,9,7.6967,2,    25.00,1708,20190418
  29HE20190406,   A17,32,0,3,3,2,20190418,1708,-29.7008,-38.6691, 4277,   1700.8,   2.9200,  34.7433,2,     -999,9,    202.5,2,     -999,9,    53.59,2,    28.34,2,     1.89,2,     -999,9,7.6404,2,    25.00,1715,20190418
  29HE20190406,   A17,32,0,4,4,2,20190418,1708,-29.7008,-38.6691, 4277,   1500.8,   2.8950,  34.6319,2,  34.6285,2,    190.8,2,    190.8,2,    56.96,2,    30.83,2,     2.08,2,     -999,9,7.61,2,    25.00,1720,20190418
  29HE20190406,   A17,32,0,5,5,2,20190418,1708,-29.7008,-38.6691, 4277,   1499.4,   2.8955,  34.6313,2,     -999,9,    190.8,2,     -999,9,     -999,9,     -999,9,     -999,9,     -999,9,-999.0,9,    25.00,1720,20190418
  29HE20190406,   A17,32,0,6,6,2,20190418,1708,-29.7008,-38.6691, 4277,   1202.6,   3.2321,  34.4404,2,  34.4357,2,    193.6,2,    193.1,2,    48.85,2,    32.58,2,     2.20,2,     -999,9,7.5942,2,    25.00,1727,20190418
  29HE20190406,   A17,32,0,7,7,2,20190418,1708,-29.7008,-38.6691, 4277,   1202.9,   3.2316,  34.4404,2,     -999,9,    193.5,2,     -999,9,     -999,9,     -999,9,     -999,9,     -999,9,-999.0,9,    25.00,1727,20190418
  29HE20190406,   A17,32,0,8,8,2,20190418,1708,-29.7008,-38.6691, 4277,    997.4,   3.9316,  34.3160,2,  34.3126,2,    213.3,2,    213.5,2,    32.49,2,    30.73,2,     2.09,2,     -999,9,7.6185,2,    25.00,1732,20190418
  29HE20190406,   A17,32,0,9,9,2,20190418,1708,-29.7008,-38.6691, 4277,    999.9,   3.9368,  34.3184,2,     -999,9,    214.5,2,     -999,9,     -999,9,     -999,9,     -999,9,     -999,9,-999.0,9,    25.00,1732,20190418
  29HE20190406,   A17,32,0,10,10,2,20190418,1708,-29.7008,-38.6691, 4277,    804.1,   5.0677,  34.2992,2,     -999,9,    230.4,2,    229.9,2,    19.25,2,    27.49,2,     1.86,2,     -999,9,7.6555,2,    25.00,1737,20190418
  29HE20190406,   A17,32,0,11,11,2,20190418,1708,-29.7008,-38.6691, 4277,    804.1,   5.0698,  34.2990,2,  34.2961,2,    230.1,2,     -999,9,     -999,9,     -999,9,     -999,9,     -999,9,-999.0,9,    25.00,1737,20190418
  29HE20190406,   A17,32,0,12,12,2,20190418,1708,-29.7008,-38.6691, 4277,    599.7,   8.1666,  34.5792,2,  34.5762,2,    211.8,2,    211.3,2,     9.84,2,    21.67,2,     1.49,2,     -999,9,7.7043,2,    25.00,1742,20190418
  29HE20190406,   A17,32,0,13,13,2,20190418,1708,-29.7008,-38.6691, 4277,    598.6,   8.1626,  34.5788,2,     -999,9,    211.9,2,     -999,9,     -999,9,     -999,9,     -999,9,     -999,9,-999.0,9,    25.00,1742,20190418
  29HE20190406,   A17,32,0,14,14,2,20190418,1708,-29.7008,-38.6691, 4277,    501.5,  10.2139,  34.8380,2,  34.8355,2,    206.1,2,    206.2,2,     6.86,2,    17.33,2,     1.18,2,     -999,9,7.7523,2,    25.00,1745,20190418
  29HE20190406,   A17,32,0,15,15,2,20190418,1708,-29.7008,-38.6691, 4277,    451.9,  11.3311,  34.9919,2,     -999,9,    205.7,2,     -999,9,     -999,9,     -999,9,     -999,9,     -999,9,-999.0,9,    25.00,1747,20190418
  29HE20190406,   A17,32,0,16,16,2,20190418,1708,-29.7008,-38.6691, 4277,    399.8,  12.5155,  35.1713,2,  35.1738,2,    207.7,2,    207.7,2,     4.07,2,    11.67,2,     0.83,2,     -999,9,7.816,2,    25.00,1748,20190418
  29HE20190406,   A17,32,0,17,17,2,20190418,1708,-29.7008,-38.6691, 4277,    300.8,  14.3824,  35.4579,2,     -999,9,    209.8,2,    210.0,2,     2.66,2,     7.45,2,     0.56,2,     -999,9,7.8649,2,    25.00,1753,20190418
  29HE20190406,   A17,32,0,18,18,2,20190418,1708,-29.7008,-38.6691, 4277,    201.0,  15.9750,  35.6862,2,  35.6825,2,    214.0,2,    214.3,2,     1.72,2,     3.97,2,     0.34,2,     -999,9,7.9097,2,    25.00,1755,20190418
  29HE20190406,   A17,32,0,19,19,2,20190418,1708,-29.7008,-38.6691, 4277,    200.2,  15.9770,  35.6864,2,     -999,9,    213.9,2,     -999,9,     -999,9,     -999,9,     -999,9,     -999,9,-999.0,9,    25.00,1755,20190418
  29HE20190406,   A17,32,0,20,20,2,20190418,1708,-29.7008,-38.6691, 4277,    100.2,  18.4782,  35.9811,2,  35.9802,2,    226.6,2,    227.3,2,     1.00,2,     0.09,2,     0.07,2,     -999,9,7.9739,2,    25.00,1758,20190418
  29HE20190406,   A17,32,0,21,21,2,20190418,1708,-29.7008,-38.6691, 4277,     99.1,  18.5426,  35.9838,2,     -999,9,    226.1,2,     -999,9,     -999,9,     -999,9,     -999,9,     -999,9,-999.0,9,    25.00,1758,20190418
  29HE20190406,   A17,32,0,22,22,2,20190418,1708,-29.7008,-38.6691, 4277,     48.9,  23.5533,  36.1309,2,  36.1288,2,    212.9,2,    213.3,2,     0.79,2,     0.06,2,     0.00,2,     -999,9,8.0395,2,    25.00,1800,20190418
  29HE20190406,   A17,32,0,23,23,2,20190418,1708,-29.7008,-38.6691, 4277,      3.7,  23.7735,  36.0561,2,     -999,9,    212.8,2,     -999,9,     -999,9,     -999,9,     -999,9,     -999,9,-999.0,9,    25.00,1804,20190418
  29HE20190406,   A17,32,0,24,24,2,20190418,1708,-29.7008,-38.6691, 4277,      4.5,  23.7707,  36.0559,2,  36.0545,2,    212.5,2,    213.5,2,     0.75,2,     0.04,2,     0.00,2,     -999,9,8.0372,2,    25.00,1804,20190418
  29HE20190406,   A17,33,0,1,1,2,20190418,2341,-29.1255,-38.1584, 4125,   2004.1,   3.2043,  34.8999,2,     -999,9,    236.7,2,     -999,9,     -999,9,     -999,9,     -999,9,     -999,9,-999.0,9,    25.00,2341,20190418
  29HE20190406,   A17,33,0,2,2,2,20190418,2341,-29.1255,-38.1584, 4125,   2004.8,   3.2066,  34.9002,2,  34.8944,2,    237.1,2,    237.0,2,    32.57,2,    22.08,2,     1.48,2,     -999,9,7.7092,2,    25.00,2341,20190418
  29HE20190406,   A17,33,0,3,3,2,20190418,2341,-29.1255,-38.1584, 4125,   1703.7,   2.9245,  34.7598,2,     -999,9,    207.2,2,    207.7,2,    50.91,2,    27.77,2,     1.85,2,     -999,9,7.6515,2,    25.00,2347,20190418
  29HE20190406,   A17,33,0,4,4,2,20190418,2341,-29.1255,-38.1584, 4125,   1500.3,   2.8881,  34.6497,2,  34.6453,2,    191.0,2,    191.5,2,    57.35,2,    30.72,2,     2.07,2,     -999,9,7.6122,2,    25.00,2352,20190418
  29HE20190406,   A17,33,0,5,5,2,20190418,2341,-29.1255,-38.1584, 4125,   1500.4,   2.8877,  34.6500,2,     -999,9,    191.1,2,     -999,9,     -999,9,     -999,9,     -999,9,     -999,9,-999.0,9,    25.00,2352,20190418
  29HE20190406,   A17,33,0,6,6,2,20190418,2341,-29.1255,-38.1584, 4125,   1202.7,   3.1849,  34.4756,2,  34.4749,2,    190.6,2,    190.6,2,    50.89,2,    32.39,2,     2.21,2,     -999,9,7.5938,2,    25.00,2359,20190418
  29HE20190406,   A17,33,0,7,7,2,20190418,2341,-29.1255,-38.1584, 4125,   1202.9,   3.1849,  34.4758,2,     -999,9,    190.5,2,     -999,9,     -999,9,     -999,9,     -999,9,     -999,9,-999.0,9,    25.00,2359,20190418
  29HE20190406,   A17,33,0,8,8,2,20190418,2341,-29.1255,-38.1584, 4125,   1005.5,   3.8662,  34.3436,2,  34.3400,2,    206.2,2,    205.8,2,    35.13,2,    31.60,2,     2.12,2,     -999,9,7.6109,2,    25.00,4,20190418
  29HE20190406,   A17,33,0,9,9,2,20190418,2341,-29.1255,-38.1584, 4125,   1004.3,   3.8740,  34.3426,2,     -999,9,    206.2,2,     -999,9,     -999,9,     -999,9,     -999,9,     -999,9,-999.0,9,    25.00,4,20190418
  29HE20190406,   A17,33,0,10,10,2,20190418,2341,-29.1255,-38.1584, 4125,    797.8,   5.1688,  34.3140,2,  34.3106,2,    224.1,2,    223.9,2,    19.49,2,    27.58,2,     1.87,2,     -999,9,7.6506,2,    25.00,9,20190418
  29HE20190406,   A17,33,0,11,11,2,20190418,2341,-29.1255,-38.1584, 4125,    798.3,   5.1741,  34.3144,2,     -999,9,    224.2,2,     -999,9,     -999,9,     -999,9,     -999,9,     -999,9,-999.0,9,    25.00,9,20190418
  29HE20190406,   A17,33,0,12,12,2,20190418,2341,-29.1255,-38.1584, 4125,    603.4,   8.1707,  34.5954,2,  34.5966,2,    210.4,2,    211.3,2,    10.41,2,    21.59,2,     1.46,2,     -999,9,7.7063,2,    25.00,13,20190418
  29HE20190406,   A17,33,0,13,13,2,20190418,2341,-29.1255,-38.1584, 4125,    602.6,   8.2003,  34.5982,2,     -999,9,    210.5,2,     -999,9,     -999,9,     -999,9,     -999,9,     -999,9,-999.0,9,    25.00,13,20190418
  29HE20190406,   A17,33,0,14,14,2,20190418,2341,-29.1255,-38.1584, 4125,    500.3,  10.4474,  34.8748,2,  34.8704,2,    205.6,2,    206.5,2,     6.69,2,    16.54,2,     1.13,2,     -999,9,7.7587,2,    25.00,16,20190418
  29HE20190406,   A17,33,0,15,15,2,20190418,2341,-29.1255,-38.1584, 4125,    401.0,  12.5554,  35.1772,2,     -999,9,    207.8,2,     -999,9,     -999,9,     -999,9,     -999,9,     -999,9,-999.0,9,    25.00,19,20190418
  29HE20190406,   A17,33,0,16,16,2,20190418,2341,-29.1255,-38.1584, 4125,    401.6,  12.5548,  35.1769,2,  35.1741,2,    207.7,2,    208.8,2,     4.02,2,    11.42,2,     0.80,2,     -999,9,7.8162,2,    25.00,19,20190418
  29HE20190406,   A17,33,0,17,17,2,20190418,2341,-29.1255,-38.1584, 4125,    300.3,  14.2388,  35.4372,2,     -999,9,    209.8,2,    211.8,2,     2.68,2,     7.64,2,     0.55,2,     -999,9,7.8621,2,    25.00,22,20190418
  29HE20190406,   A17,33,0,18,18,2,20190418,2341,-29.1255,-38.1584, 4125,    201.9,  15.7713,  35.6604,2,  35.6565,2,    213.1,2,    214.2,2,     1.80,2,     4.33,2,     0.34,2,     -999,9,7.9044,2,    25.00,25,20190418
  29HE20190406,   A17,33,0,19,19,2,20190418,2341,-29.1255,-38.1584, 4125,    202.5,  15.7740,  35.6607,2,     -999,9,    213.1,2,     -999,9,     -999,9,     -999,9,     -999,9,     -999,9,-999.0,9,    25.00,25,20190418
  29HE20190406,   A17,33,0,20,20,2,20190418,2341,-29.1255,-38.1584, 4125,    101.4,  18.1307,  35.9273,2,  35.9237,2,    224.3,2,    226.9,2,     1.00,2,     0.21,2,     0.05,2,     -999,9,7.9653,2,    25.00,28,20190418
  29HE20190406,   A17,33,0,21,21,2,20190418,2341,-29.1255,-38.1584, 4125,    101.2,  18.1282,  35.9272,2,     -999,9,    225.2,2,     -999,9,     -999,9,     -999,9,     -999,9,     -999,9,-999.0,9,    25.00,28,20190418
  29HE20190406,   A17,33,0,22,22,2,20190418,2341,-29.1255,-38.1584, 4125,     53.5,  21.1702,  35.9994,2,  35.9964,2,    234.0,2,    235.7,2,     0.95,2,     0.08,2,     0.00,2,     -999,9,8.0114,2,    25.00,31,20190418
  29HE20190406,   A17,33,0,23,23,2,20190418,2341,-29.1255,-38.1584, 4125,      5.9,  23.9131,  35.9974,2,     -999,9,    211.1,2,     -999,9,     -999,9,     -999,9,     -999,9,     -999,9,-999.0,9,    25.00,33,20190418
  29HE20190406,   A17,33,0,24,24,2,20190418,2341,-29.1255,-38.1584, 4125,      6.1,  23.9139,  35.9974,2,  35.9932,2,    211.4,2,    213.0,2,     0.72,2,     0.00,2,     0.00,2,     -999,9,8.0359,2,    25.00,33,20190418