BOTTLE,20240229CCHSIOSLL
EXPOCODE,SECT_ID,STNNBR,CASTNO,SAMPNO,BTLNBR,BTLNBR_FLAG_W,DATE,TIME,LATITUDE,LONGITUDE,DEPTH,CTDPRS,CTDTMP,CTDSAL,CTDSAL_FLAG_W,SALNTY,SALNTY_FLAG_W,CTDOXY,CTDOXY_FLAG_W,OXYGEN,OXYGEN_FLAG_W,SILCAT,SILCAT_FLAG_W,NITRAT,NITRAT_FLAG_W,PHSPHT,PHSPHT_FLAG_W,ALKALI,ALKALI_FLAG_W,PH_TOT,PH_TOT_FLAG_W,PH_TMP,BTL_TIME,BTL_DATE
,,,,,,,,,,,METERS,DBAR,ITS-90,PSS-78,,PSS-78,,UMOL/KG,,UMOL/KG,,UMOL/KG,,UMOL/KG,,UMOL/KG,,UMOL/KG,,,,DEG C,,
  29HE20190406,   A17,40,0,1,1,2,20190428,2122,-24.9034,-34.4691, 4409,   2003.0,   3.3557,  34.9283,2,     -999,9,    244.7,2,     -999,9,     -999,9,     -999,9,     -999,9,     -999,9,-999.0,9,    25.00,2122,20190428
  29HE20190406,   A17,40,0,2,2,2,20190428,2122,-24.9034,-34.4691, 4409,   2002.8,   3.3557,  34.9285,2,  34.9282,2,    245.3,2,    242.4,2,    27.31,2,    20.85,2,     1.40,2,     -999,9,7.7209,2,    25.00,2122,20190428
  29HE20190406,   A17,40,0,3,3,2,20190428,2122,-24.9034,-34.4691, 4409,   1698.9,   3.3063,  34.8355,2,     -999,9,    220.7,2,    218.6,2,    37.72,2,    24.46,2,     1.68,2,     -999,9,7.6792,2,    25.00,2128,20190428
  29HE20190406,   A17,40,0,4,4,2,20190428,2122,-24.9034,-34.4691, 4409,   1495.5,   3.1950,  34.7186,2,  34.7183,2,    200.4,2,    199.2,2,    47.85,2,    28.35,2,     1.94,2,     -999,9,7.6373,2,    25.00,2132,20190428
  29HE20190406,   A17,40,0,5,5,2,20190428,2122,-24.9034,-34.4691, 4409,   1495.5,   3.1950,  34.7189,2,     -999,9,    200.7,2,     -999,9,     -999,9,     -999,9,     -999,9,     -999,9,-999.0,9,    25.00,2132,20190428
  29HE20190406,   A17,40,0,6,6,2,20190428,2122,-24.9034,-34.4691, 4409,   1199.9,   3.3384,  34.5192,2,  34.5181,2,    187.1,2,    185.2,2,    50.08,2,    32.08,2,     2.20,2,     -999,9,7.6004,2,    25.00,2138,20190428
  29HE20190406,   A17,40,0,7,7,2,20190428,2122,-24.9034,-34.4691, 4409,   1198.7,   3.3387,  34.5186,2,     -999,9,    187.4,2,     -999,9,     -999,9,     -999,9,     -999,9,     -999,9,-999.0,9,    25.00,2138,20190428
  29HE20190406,   A17,40,0,8,8,2,20190428,2122,-24.9034,-34.4691, 4409,   1002.7,   3.8341,  34.3897,2,  34.3878,2,    197.0,2,    194.3,2,    39.11,2,    32.02,2,     2.18,2,     -999,9,7.6025,2,    25.00,2142,20190428
  29HE20190406,   A17,40,0,9,9,2,20190428,2122,-24.9034,-34.4691, 4409,   1003.0,   3.8338,  34.3898,2,     -999,9,    196.6,2,     -999,9,     -999,9,     -999,9,     -999,9,     -999,9,-999.0,9,    25.00,2142,20190428
  29HE20190406,   A17,40,0,10,10,2,20190428,2122,-24.9034,-34.4691, 4409,    804.1,   5.4049,  34.3709,2,  34.3705,2,    207.4,2,    205.1,2,    22.65,2,    28.45,2,     1.94,2,     -999,9,7.6338,2,    25.00,2147,20190428
  29HE20190406,   A17,40,0,11,11,2,20190428,2122,-24.9034,-34.4691, 4409,    804.8,   5.4033,  34.3708,2,     -999,9,    207.4,2,     -999,9,     -999,9,     -999,9,     -999,9,     -999,9,-999.0,9,    25.00,2147,20190428
  29HE20190406,   A17,40,0,12,12,2,20190428,2122,-24.9034,-34.4691, 4409,    606.2,   8.5486,  34.6431,2,  34.6468,2,    201.5,2,    199.9,2,    11.09,2,    21.23,2,     1.46,2,     -999,9,7.7011,2,    25.00,2151,20190428
  29HE20190406,   A17,40,0,13,13,2,20190428,2122,-24.9034,-34.4691, 4409,    606.1,   8.5574,  34.6439,2,     -999,9,    201.7,2,     -999,9,     -999,9,     -999,9,     -999,9,     -999,9,-999.0,9,    25.00,2151,20190428
  29HE20190406,   A17,40,0,14,14,2,20190428,2122,-24.9034,-34.4691, 4409,    504.4,  10.9556,  34.9171,2,  34.9215,2,    204.6,2,    203.6,2,     6.70,2,    15.46,2,     1.08,2,     -999,9,7.7655,2,    25.00,2154,20190428
  29HE20190406,   A17,40,0,15,15,2,20190428,2122,-24.9034,-34.4691, 4409,    400.5,  12.9809,  35.1820,2,     -999,9,    210.0,2,    207.8,2,     -999,9,     -999,9,     -999,9,     -999,9,-999.0,9,    25.00,2157,20190428
  29HE20190406,   A17,40,0,16,16,2,20190428,2122,-24.9034,-34.4691, 4409,    400.2,  12.9805,  35.1819,2,  35.1776,2,    209.8,2,    208.2,2,     4.31,2,    10.55,2,     0.76,2,     -999,9,7.8223,2,    25.00,2157,20190428
  29HE20190406,   A17,40,0,17,17,2,20190428,2122,-24.9034,-34.4691, 4409,    298.5,  15.0735,  35.4390,2,     -999,9,    211.6,2,    210.0,2,     2.83,2,     5.56,2,     0.49,2,     -999,9,7.8764,2,    25.00,2200,20190428
  29HE20190406,   A17,40,0,18,18,2,20190428,2122,-24.9034,-34.4691, 4409,    205.9,  17.7358,  35.8771,2,  35.8700,2,    211.9,2,    210.3,2,     2.03,2,     2.03,2,     0.27,2,     -999,9,7.9319,2,    25.00,2203,20190428
  29HE20190406,   A17,40,0,19,19,2,20190428,2122,-24.9034,-34.4691, 4409,    206.3,  17.7244,  35.8748,2,     -999,9,    212.3,2,     -999,9,     -999,9,     -999,9,     -999,9,     -999,9,-999.0,9,    25.00,2203,20190428
  29HE20190406,   A17,40,0,20,20,2,20190428,2122,-24.9034,-34.4691, 4409,     97.9,  20.7107,  36.4230,2,  36.4232,2,    222.7,2,    221.8,2,     1.19,2,     0.00,2,     0.07,2,     -999,9,8.0024,2,    25.00,2206,20190428
  29HE20190406,   A17,40,0,21,21,2,20190428,2122,-24.9034,-34.4691, 4409,     97.7,  20.7131,  36.4228,2,     -999,9,    223.4,2,     -999,9,     -999,9,     -999,9,     -999,9,     -999,9,-999.0,9,    25.00,2206,20190428
  29HE20190406,   A17,40,0,22,22,2,20190428,2122,-24.9034,-34.4691, 4409,     48.1,  22.9071,  36.5901,2,  36.5677,2,    234.4,2,    232.9,2,     1.16,2,     0.00,2,     0.03,2,     -999,9,8.0332,2,    25.00,2208,20190428
  29HE20190406,   A17,40,0,23,23,2,20190428,2122,-24.9034,-34.4691, 4409,      4.5,  26.1792,  36.5188,2,     -999,9,    205.8,2,     -999,9,     -999,9,     -999,9,     -999,9,     -999,9,-999.0,9,    25.00,2211,20190428
  29HE20190406,   A17,40,0,24,24,2,20190428,2122,-24.9034,-34.4691, 4409,      4.4,  26.1814,  36.5186,2,  36.5150,2,    205.6,2,    204.0,2,     0.88,2,     0.00,2,     0.00,2,     -999,9,8.0676,2,    25.00,2211,20190428
  29HE20190406,   A17,41,0,1,1,2,20190429,428,-24.3118,-33.9385, 4669,   4658.6,   0.6224,  34.7056,2,     -999,9,    224.2,2,    223.9,2,   115.19,2,    31.82,2,     2.16,2,   2366.7,2,7.6271,2,    25.00,428,20190429
  29HE20190406,   A17,41,0,2,2,2,20190429,428,-24.3118,-33.9385, 4669,   3994.8,   1.4948,  34.7989,2,  34.7961,2,    237.8,2,    236.0,2,    76.44,2,    26.93,2,     1.80,2,   2352.9,2,7.6802,2,    25.00,441,20190429
  29HE20190406,   A17,41,0,3,3,2,20190429,428,-24.3118,-33.9385, 4669,   3501.1,   2.4515,  34.8969,2,     -999,9,    253.5,2,    252.0,2,    40.18,2,    21.58,2,     1.43,2,   2335.1,2,7.7275,2,    25.00,451,20190429
  29HE20190406,   A17,41,0,4,4,2,20190429,428,-24.3118,-33.9385, 4669,   2997.2,   2.7894,  34.9216,2,  34.9176,2,    251.7,2,    250.5,2,    32.74,2,    20.80,2,     1.36,2,   2330.3,2,7.7333,2,    25.00,501,20190429
  29HE20190406,   A17,41,0,5,5,2,20190429,428,-24.3118,-33.9385, 4669,   2502.7,   3.0780,  34.9369,2,     -999,9,    251.6,2,    251.1,2,    28.08,2,    20.44,2,     1.35,2,   2325.7,2,7.7332,2,    25.00,512,20190429
  29HE20190406,   A17,41,0,6,6,2,20190429,428,-24.3118,-33.9385, 4669,   2273.9,   3.2662,  34.9467,2,  34.9440,2,    251.6,2,    251.7,2,    25.29,2,    20.33,2,     1.33,2,   2322.5,2,7.7329,2,    25.00,517,20190429
  29HE20190406,   A17,41,0,7,7,2,20190429,428,-24.3118,-33.9385, 4669,   1999.8,   3.5206,  34.9548,2,     -999,9,    249.2,2,    248.7,2,    22.52,2,    20.12,2,     1.32,2,   2320.2,2,7.7297,2,    25.00,523,20190429
  29HE20190406,   A17,41,0,8,8,2,20190429,428,-24.3118,-33.9385, 4669,   1796.3,   3.7329,  34.9404,2,  34.9385,2,    239.2,2,    238.6,2,    23.16,2,    21.37,2,     1.41,2,   2319.3,2,7.716,2,    25.00,528,20190429
  29HE20190406,   A17,41,0,9,9,2,20190429,428,-24.3118,-33.9385, 4669,   1599.9,   3.8024,  34.8890,2,     -999,9,    222.8,2,    222.2,2,    27.56,2,    23.62,2,     1.57,2,   2320.2,2,7.6902,2,    25.00,533,20190429
  29HE20190406,   A17,41,0,10,10,2,20190429,428,-24.3118,-33.9385, 4669,   1402.6,   3.8094,  34.7740,2,  34.7702,2,    200.5,2,    199.4,2,    34.45,2,    27.73,2,     1.84,2,   2320.5,2,7.6482,2,    25.00,538,20190429
  29HE20190406,   A17,41,0,11,11,2,20190429,428,-24.3118,-33.9385, 4669,   1198.5,   3.6248,  34.6074,2,     -999,9,    188.3,2,    187.2,2,    41.49,2,    31.19,2,     2.10,2,   2318.6,2,7.6112,2,    25.00,542,20190429
  29HE20190406,   A17,41,0,12,12,2,20190429,428,-24.3118,-33.9385, 4669,   1101.0,   3.5151,  34.5090,2,  34.5036,2,    186.9,2,    186.4,2,    44.98,2,    32.68,2,     2.17,2,   2316.9,2,7.5988,2,    25.00,545,20190429
  29HE20190406,   A17,41,0,13,13,2,20190429,428,-24.3118,-33.9385, 4669,    999.3,   3.6922,  34.4192,2,     -999,9,    191.4,2,    190.6,2,    42.00,2,    32.96,2,     2.22,2,   2310.4,2,7.5966,2,    25.00,548,20190429
  29HE20190406,   A17,41,0,14,14,2,20190429,428,-24.3118,-33.9385, 4669,    900.4,   4.2230,  34.3733,2,  34.3674,2,    197.7,2,    197.0,2,    33.46,2,    32.07,2,     2.15,2,   2301.6,2,7.6076,2,    25.00,551,20190429
  29HE20190406,   A17,41,0,15,15,2,20190429,428,-24.3118,-33.9385, 4669,    802.2,   4.8414,  34.3486,2,     -999,9,    207.0,2,    205.6,2,    25.98,2,    30.16,2,     2.05,2,   2294.6,2,7.6247,2,    25.00,554,20190429
  29HE20190406,   A17,41,0,16,16,2,20190429,428,-24.3118,-33.9385, 4669,    701.2,   6.1087,  34.4250,2,  34.4228,2,    199.4,2,    198.3,2,    19.04,2,    27.97,2,     1.88,2,   2291.6,2,7.6415,2,    25.00,557,20190429
  29HE20190406,   A17,41,0,17,17,2,20190429,428,-24.3118,-33.9385, 4669,    601.8,   7.7529,  34.5607,2,     -999,9,    200.4,2,    198.8,2,    13.18,2,    23.84,2,     1.62,2,   2293.0,2,7.6798,2,    25.00,600,20190429
  29HE20190406,   A17,41,0,18,18,2,20190429,428,-24.3118,-33.9385, 4669,    501.5,   9.8580,  34.7865,2,  34.7844,2,    199.2,2,    198.3,2,     8.80,2,    18.77,2,     1.31,2,   2300.4,2,7.7298,2,    25.00,603,20190429
  29HE20190406,   A17,41,0,19,19,2,20190429,428,-24.3118,-33.9385, 4669,    401.6,  12.5814,  35.1365,2,     -999,9,    206.7,2,    207.0,2,     4.45,2,    11.51,2,     0.84,2,   2317.8,2,7.8107,2,    25.00,606,20190429
  29HE20190406,   A17,41,0,20,20,2,20190429,428,-24.3118,-33.9385, 4669,    302.7,  14.5012,  35.3928,2,  35.3912,2,    209.9,2,    209.0,2,     2.83,2,     6.82,2,     0.55,2,   2329.9,2,7.8635,2,    25.00,609,20190429
  29HE20190406,   A17,41,0,21,21,2,20190429,428,-24.3118,-33.9385, 4669,    204.2,  17.3269,  35.8170,2,     -999,9,    210.2,2,    209.0,2,     1.83,2,     2.46,2,     0.29,2,   2354.7,2,7.9242,2,    25.00,612,20190429
  29HE20190406,   A17,41,0,22,22,2,20190429,428,-24.3118,-33.9385, 4669,    102.0,  21.0235,  36.4772,2,  36.4735,2,    220.0,2,    219.1,2,     1.11,2,     0.00,2,     0.05,2,   2395.0,2,8.0057,2,    25.00,615,20190429
  29HE20190406,   A17,41,0,23,23,2,20190429,428,-24.3118,-33.9385, 4669,     51.6,  22.7455,  36.5366,2,     -999,9,    236.3,2,    234.3,2,     1.10,2,     0.00,2,     0.02,2,   2399.5,2,8.0325,2,    25.00,617,20190429
  29HE20190406,   A17,41,0,24,24,2,20190429,428,-24.3118,-33.9385, 4669,      4.9,  26.7075,  36.7009,2,  36.6961,2,    204.4,2,    203.8,2,     0.79,2,     0.00,2,     0.01,2,   2407.5,2,8.0743,2,    25.00,620,20190429
  29HE20190406,   A17,42,0,1,1,2,20190429,1124,-23.7147,-33.4208, 4811,   2005.6,   3.4303,  34.9436,2,     -999,9,    249.1,2,     -999,9,     -999,9,     -999,9,     -999,9,     -999,9,-999.0,9,    25.00,1124,20190429
  29HE20190406,   A17,42,0,2,2,2,20190429,1124,-23.7147,-33.4208, 4811,   2005.7,   3.4236,  34.9424,2,  34.9479,2,    248.2,2,    247.7,2,    23.31,2,    19.94,2,     1.33,2,     -999,9,7.7263,2,    25.00,1124,20190429
  29HE20190406,   A17,42,0,3,3,2,20190429,1124,-23.7147,-33.4208, 4811,   1700.8,   3.5661,  34.8918,2,     -999,9,    229.8,2,    228.5,2,    29.58,2,    22.66,2,     1.52,2,     -999,9,7.6966,2,    25.00,1131,20190429
  29HE20190406,   A17,42,0,4,4,2,20190429,1124,-23.7147,-33.4208, 4811,   1500.9,   3.4989,  34.8003,2,  34.7997,2,    209.5,2,    208.4,2,    36.90,2,    26.18,2,     1.76,2,     -999,9,7.6615,2,    25.00,1135,20190429
  29HE20190406,   A17,42,0,5,5,2,20190429,1124,-23.7147,-33.4208, 4811,   1501.0,   3.4971,  34.8000,2,     -999,9,    209.8,2,     -999,9,     -999,9,     -999,9,     -999,9,     -999,9,-999.0,9,    25.00,1135,20190429
  29HE20190406,   A17,42,0,6,6,2,20190429,1124,-23.7147,-33.4208, 4811,   1198.7,   3.2813,  34.5520,2,  34.5495,2,    187.7,2,    186.6,2,    49.87,2,    31.89,2,     2.16,2,     -999,9,7.5997,2,    25.00,1141,20190429
  29HE20190406,   A17,42,0,7,7,2,20190429,1124,-23.7147,-33.4208, 4811,   1199.4,   3.2825,  34.5516,2,     -999,9,    187.8,2,     -999,9,     -999,9,     -999,9,     -999,9,     -999,9,-999.0,9,    25.00,1141,20190429
  29HE20190406,   A17,42,0,8,8,2,20190429,1124,-23.7147,-33.4208, 4811,    999.5,   3.6906,  34.4148,2,  34.4126,2,    192.9,2,    190.7,2,    41.07,2,    32.43,2,     2.20,2,     -999,9,7.5966,2,    25.00,1146,20190429
  29HE20190406,   A17,42,0,9,9,2,20190429,1124,-23.7147,-33.4208, 4811,    998.9,   3.6936,  34.4144,2,     -999,9,    192.5,2,     -999,9,     -999,9,     -999,9,     -999,9,     -999,9,-999.0,9,    25.00,1146,20190429
  29HE20190406,   A17,42,0,10,10,2,20190429,1124,-23.7147,-33.4208, 4811,    803.1,   4.6872,  34.3396,2,  34.3381,2,    210.0,2,    207.8,2,    26.86,2,    29.98,2,     2.03,2,     -999,9,7.6255,2,    25.00,1150,20190429
  29HE20190406,   A17,42,0,11,11,2,20190429,1124,-23.7147,-33.4208, 4811,    803.3,   4.6873,  34.3396,2,     -999,9,    210.2,2,     -999,9,     -999,9,     -999,9,     -999,9,     -999,9,-999.0,9,    25.00,1150,20190429
  29HE20190406,   A17,42,0,12,12,2,20190429,1124,-23.7147,-33.4208, 4811,    604.4,   7.7833,  34.5666,2,  34.5652,2,    198.4,2,    196.4,2,    13.41,2,    23.85,2,     1.61,2,     -999,9,7.674,2,    25.00,1154,20190429
  29HE20190406,   A17,42,0,13,13,2,20190429,1124,-23.7147,-33.4208, 4811,    604.4,   7.7831,  34.5665,2,     -999,9,    198.4,2,     -999,9,     -999,9,     -999,9,     -999,9,     -999,9,-999.0,9,    25.00,1154,20190429
  29HE20190406,   A17,42,0,14,14,2,20190429,1124,-23.7147,-33.4208, 4811,    506.6,   9.8237,  34.7891,2,  34.7942,2,    201.3,2,    199.6,2,     8.20,2,    18.26,2,     1.25,2,     -999,9,7.7316,2,    25.00,1157,20190429
  29HE20190406,   A17,42,0,15,15,2,20190429,1124,-23.7147,-33.4208, 4811,    399.0,  12.1862,  35.0946,2,     -999,9,    207.4,2,     -999,9,     -999,9,     -999,9,     -999,9,     -999,9,-999.0,9,    25.00,1200,20190429
  29HE20190406,   A17,42,0,16,16,2,20190429,1124,-23.7147,-33.4208, 4811,    399.0,  12.1883,  35.0945,2,  35.0935,2,    206.5,2,    205.4,2,     4.72,2,    12.08,2,     0.87,2,     -999,9,7.7996,2,    25.00,1200,20190429
  29HE20190406,   A17,42,0,17,17,2,20190429,1124,-23.7147,-33.4208, 4811,    298.7,  14.6358,  35.3908,2,     -999,9,    210.2,2,    208.8,2,     2.77,2,     6.42,2,     0.52,2,     -999,9,7.864,2,    25.00,1203,20190429
  29HE20190406,   A17,42,0,18,18,2,20190429,1124,-23.7147,-33.4208, 4811,    199.2,  18.1429,  35.9652,2,  35.9637,2,    210.3,2,    208.7,2,     1.63,2,     1.63,2,     0.22,2,     -999,9,7.9378,2,    25.00,1205,20190429
  29HE20190406,   A17,42,0,19,19,2,20190429,1124,-23.7147,-33.4208, 4811,    199.0,  18.1477,  35.9658,2,     -999,9,    209.9,2,     -999,9,     -999,9,     -999,9,     -999,9,     -999,9,-999.0,9,    25.00,1205,20190429
  29HE20190406,   A17,42,0,20,20,2,20190429,1124,-23.7147,-33.4208, 4811,    103.0,  21.3904,  36.5684,2,  36.5689,2,    215.3,2,    214.5,2,     1.09,2,     0.00,2,     0.05,2,     -999,9,8.0071,2,    25.00,1208,20190429
  29HE20190406,   A17,42,0,21,21,2,20190429,1124,-23.7147,-33.4208, 4811,    102.7,  21.3966,  36.5692,2,     -999,9,    215.1,2,     -999,9,     -999,9,     -999,9,     -999,9,     -999,9,-999.0,9,    25.00,1208,20190429
  29HE20190406,   A17,42,0,22,22,2,20190429,1124,-23.7147,-33.4208, 4811,     49.2,  24.0258,  36.7278,2,  36.7243,2,    233.9,2,    231.2,2,     1.13,2,     0.00,2,     0.00,2,     -999,9,8.0501,2,    25.00,1210,20190429
  29HE20190406,   A17,42,0,23,23,2,20190429,1124,-23.7147,-33.4208, 4811,      6.5,  26.8036,  36.7194,2,     -999,9,    203.7,2,     -999,9,     -999,9,     -999,9,     -999,9,     -999,9,-999.0,9,    25.00,1213,20190429
  29HE20190406,   A17,42,0,24,24,2,20190429,1124,-23.7147,-33.4208, 4811,      6.5,  26.8026,  36.7192,2,  36.7179,2,    204.5,2,    202.5,2,     0.88,2,     0.00,2,     0.00,2,     -999,9,8.0733,2,    25.00,1213,20190429