BOTTLE,20240229CCHSIOSLL
EXPOCODE,SECT_ID,STNNBR,CASTNO,SAMPNO,BTLNBR,BTLNBR_FLAG_W,DATE,TIME,LATITUDE,LONGITUDE,DEPTH,CTDPRS,CTDTMP,CTDSAL,CTDSAL_FLAG_W,SALNTY,SALNTY_FLAG_W,CTDOXY,CTDOXY_FLAG_W,OXYGEN,OXYGEN_FLAG_W,SILCAT,SILCAT_FLAG_W,NITRAT,NITRAT_FLAG_W,PHSPHT,PHSPHT_FLAG_W,ALKALI,ALKALI_FLAG_W,PH_TOT,PH_TOT_FLAG_W,PH_TMP,BTL_TIME,BTL_DATE
,,,,,,,,,,,METERS,DBAR,ITS-90,PSS-78,,PSS-78,,UMOL/KG,,UMOL/KG,,UMOL/KG,,UMOL/KG,,UMOL/KG,,UMOL/KG,,,,DEG C,,
  29HE20190406,   A17,24,0,1,1,2,20190416,1213,-34.4715,-42.8258, 4471,   2001.2,   3.1301,  34.7716,2,  34.7697,2,    200.6,2,    200.2,2,    51.43,2,    27.79,2,     1.87,2,     -999,9,-999.0,9,    25.00,1213,20190416
  29HE20190406,   A17,24,0,2,2,2,20190416,1213,-34.4715,-42.8258, 4471,   1695.4,   2.9322,  34.6006,2,     -999,9,    181.2,2,     -999,9,     -999,9,     -999,9,     -999,9,     -999,9,7.6412,2,    25.00,1220,20190416
  29HE20190406,   A17,24,0,3,3,2,20190416,1213,-34.4715,-42.8258, 4471,   1694.2,   2.9347,  34.6009,2,     -999,9,    181.3,2,    180.7,2,    60.41,2,    32.04,2,     2.19,2,     -999,9,7.5883,2,    25.00,1220,20190416
  29HE20190406,   A17,24,0,4,4,2,20190416,1213,-34.4715,-42.8258, 4471,   1505.0,   2.9533,  34.4784,2,  34.4749,2,    184.2,2,    184.1,2,    57.33,2,    33.30,2,     2.26,2,     -999,9,7.5758,2,    25.00,1224,20190416
  29HE20190406,   A17,24,0,5,5,2,20190416,1213,-34.4715,-42.8258, 4471,   1503.8,   2.9539,  34.4772,2,     -999,9,    184.2,2,     -999,9,     -999,9,     -999,9,     -999,9,     -999,9,-999.0,9,    25.00,1224,20190416
  29HE20190406,   A17,24,0,6,6,2,20190416,1213,-34.4715,-42.8258, 4471,   1204.5,   3.5039,  34.3284,2,  34.3255,2,    209.7,2,    208.8,2,    36.64,2,    31.48,2,     2.14,2,     -999,9,7.6079,2,    25.00,1231,20190416
  29HE20190406,   A17,24,0,7,7,2,20190416,1213,-34.4715,-42.8258, 4471,   1205.0,   3.5020,  34.3285,2,     -999,9,    209.9,2,     -999,9,     -999,9,     -999,9,     -999,9,     -999,9,-999.0,9,    25.00,1231,20190416
  29HE20190406,   A17,24,0,8,8,2,20190416,1213,-34.4715,-42.8258, 4471,   1005.7,   4.1432,  34.2534,2,  34.2507,2,    232.0,2,    229.9,2,    24.55,2,    29.26,2,     1.97,2,     -999,9,7.6382,2,    25.00,1237,20190416
  29HE20190406,   A17,24,0,9,9,2,20190416,1213,-34.4715,-42.8258, 4471,   1004.3,   4.1547,  34.2526,2,     -999,9,    231.8,2,     -999,9,     -999,9,     -999,9,     -999,9,     -999,9,-999.0,9,    25.00,1237,20190416
  29HE20190406,   A17,24,0,10,10,2,20190416,1213,-34.4715,-42.8258, 4471,    796.5,   5.1439,  34.2326,2,  34.2314,2,    253.6,2,    252.2,2,    13.77,2,    25.43,2,     1.72,2,     -999,9,7.676,2,    25.00,1242,20190416
  29HE20190406,   A17,24,0,11,11,2,20190416,1213,-34.4715,-42.8258, 4471,    796.4,   5.1461,  34.2330,2,     -999,9,    253.8,2,     -999,9,     -999,9,     -999,9,     -999,9,     -999,9,-999.0,9,    25.00,1242,20190416
  29HE20190406,   A17,24,0,12,12,2,20190416,1213,-34.4715,-42.8258, 4471,    607.6,   7.7403,  34.4742,2,  34.4792,2,    228.6,2,    226.8,2,     8.50,2,    21.02,2,     1.46,2,     -999,9,7.7114,2,    25.00,1246,20190416
  29HE20190406,   A17,24,0,13,13,2,20190416,1213,-34.4715,-42.8258, 4471,    609.1,   7.6697,  34.4678,2,     -999,9,    227.9,2,     -999,9,     -999,9,     -999,9,     -999,9,     -999,9,-999.0,9,    25.00,1246,20190416
  29HE20190406,   A17,24,0,14,14,2,20190416,1213,-34.4715,-42.8258, 4471,    503.7,  10.8595,  34.8986,2,  34.8947,2,    210.6,2,    210.7,2,     5.37,2,    15.17,2,     1.06,2,     -999,9,7.7736,2,    25.00,1249,20190416
  29HE20190406,   A17,24,0,15,15,2,20190416,1213,-34.4715,-42.8258, 4471,    402.4,  13.1601,  35.2728,2,     -999,9,    208.5,2,     -999,9,     -999,9,     -999,9,     -999,9,     -999,9,-999.0,9,    25.00,1252,20190416
  29HE20190406,   A17,24,0,16,16,2,20190416,1213,-34.4715,-42.8258, 4471,    402.3,  13.1629,  35.2732,2,  35.2727,2,    208.5,2,    207.8,2,     3.52,2,    10.25,2,     0.73,2,     -999,9,7.8323,2,    25.00,1253,20190416
  29HE20190406,   A17,24,0,17,17,2,20190416,1213,-34.4715,-42.8258, 4471,    295.9,  15.2390,  35.6831,2,     -999,9,    216.6,2,    216.7,2,     2.30,2,     5.73,2,     0.44,2,     -999,9,7.8953,2,    25.00,1255,20190416
  29HE20190406,   A17,24,0,18,18,2,20190416,1213,-34.4715,-42.8258, 4471,    202.7,  15.9174,  35.7861,2,  35.7828,2,    214.6,2,    214.6,2,     2.00,2,     4.61,2,     0.36,2,     -999,9,7.9089,2,    25.00,1258,20190416
  29HE20190406,   A17,24,0,19,19,2,20190416,1213,-34.4715,-42.8258, 4471,    203.2,  15.9171,  35.7859,2,     -999,9,    214.1,2,     -999,9,     -999,9,     -999,9,     -999,9,     -999,9,-999.0,9,    25.00,1258,20190416
  29HE20190406,   A17,24,0,20,20,2,20190416,1213,-34.4715,-42.8258, 4471,     99.2,  17.6546,  35.9272,2,  35.9268,2,    228.9,2,    231.0,2,     1.18,2,     0.04,2,     0.10,2,     -999,9,7.9633,2,    25.00,1301,20190416
  29HE20190406,   A17,24,0,21,21,2,20190416,1213,-34.4715,-42.8258, 4471,     99.1,  17.6486,  35.9268,2,     -999,9,    229.3,2,     -999,9,     -999,9,     -999,9,     -999,9,     -999,9,-999.0,9,    25.00,1301,20190416
  29HE20190406,   A17,24,0,22,22,2,20190416,1213,-34.4715,-42.8258, 4471,     50.2,  20.6876,  35.8962,2,  35.8956,2,    224.4,2,    225.6,2,     0.99,2,     0.00,2,     0.01,2,     -999,9,8.0088,2,    25.00,1303,20190416
  29HE20190406,   A17,24,0,23,23,2,20190416,1213,-34.4715,-42.8258, 4471,      5.8,  20.6913,  35.8969,2,     -999,9,    224.0,2,     -999,9,     -999,9,     -999,9,     -999,9,     -999,9,-999.0,9,    25.00,1305,20190416
  29HE20190406,   A17,24,0,24,24,2,20190416,1213,-34.4715,-42.8258, 4471,      5.2,  20.6949,  35.8967,2,  35.8952,2,    224.5,2,    224.9,2,     1.02,2,     0.00,2,     0.02,2,     -999,9,8.0081,2,    25.00,1305,20190416
  29HE20190406,   A17,25,0,1,1,2,20190416,1936,-33.8756,-42.3395, 4588,   4578.2,   0.2301,  34.6718,2,     -999,9,    222.1,2,    220.9,2,   120.90,2,    32.15,2,     2.25,2,   2369.0,2,7.6046,2,    25.00,1936,20190416
  29HE20190406,   A17,25,0,2,2,2,20190416,1936,-33.8756,-42.3395, 4588,   3998.1,   0.5192,  34.6880,2,  34.6879,2,    217.7,2,    217.2,2,   115.82,2,    31.41,2,     2.19,2,   2364.1,2,7.6076,2,    25.00,1949,20190416
  29HE20190406,   A17,25,0,3,3,2,20190416,1936,-33.8756,-42.3395, 4588,   3488.9,   1.5833,  34.7732,2,     -999,9,    219.3,2,    220.1,2,    84.92,2,    27.94,2,     1.92,2,   2352.9,2,7.6492,2,    25.00,1959,20190416
  29HE20190406,   A17,25,0,4,4,2,20190416,1936,-33.8756,-42.3395, 4588,   2980.5,   2.8685,  34.9152,2,  34.9186,2,    248.6,2,    247.6,2,    33.63,2,    20.56,2,     1.40,2,   2329.0,2,7.728,2,    25.00,2012,20190416
  29HE20190406,   A17,25,0,5,5,2,20190416,1936,-33.8756,-42.3395, 4588,   2488.7,   3.3319,  34.9362,2,     -999,9,    248.1,2,    248.2,2,    26.30,2,    19.94,2,     1.35,2,   2322.2,2,7.7284,2,    25.00,2021,20190416
  29HE20190406,   A17,25,0,6,6,2,20190416,1936,-33.8756,-42.3395, 4588,   2274.7,   3.4937,  34.9318,2,  34.9343,2,    243.0,2,    242.9,2,    25.76,2,    20.41,2,     1.38,2,   2320.2,2,7.722,2,    25.00,2025,20190416
  29HE20190406,   A17,25,0,7,7,2,20190416,1936,-33.8756,-42.3395, 4588,   1995.6,   3.4553,  34.8558,2,     -999,9,    220.3,2,    219.2,2,    35.90,2,    23.97,2,     1.65,2,   2326.2,2,7.6797,2,    25.00,2031,20190416
  29HE20190406,   A17,25,0,8,8,2,20190416,1936,-33.8756,-42.3395, 4588,   1792.6,   3.0258,  34.7028,2,  34.7020,2,    191.3,2,    190.3,2,    57.06,2,    29.48,2,     2.00,2,   2332.9,2,7.6178,2,    25.00,2034,20190416
  29HE20190406,   A17,25,0,9,9,2,20190416,1936,-33.8756,-42.3395, 4588,   1602.7,   2.9158,  34.5908,2,     -999,9,    182.0,2,    181.2,2,    60.76,2,    31.57,2,     2.19,2,   2330.3,2,7.5854,2,    25.00,2038,20190416
  29HE20190406,   A17,25,0,10,10,2,20190416,1936,-33.8756,-42.3395, 4588,   1393.5,   2.9930,  34.4650,2,  34.4669,2,    186.8,2,    186.3,2,    55.82,2,    32.83,2,     2.25,2,   2321.9,2,7.5809,2,    25.00,2042,20190416
  29HE20190406,   A17,25,0,11,11,2,20190416,1936,-33.8756,-42.3395, 4588,   1199.1,   3.2796,  34.3406,2,     -999,9,    205.8,2,    204.5,2,    42.08,2,    32.13,2,     2.21,2,   2307.3,2,7.5955,2,    25.00,2046,20190416
  29HE20190406,   A17,25,0,12,12,2,20190416,1936,-33.8756,-42.3395, 4588,   1106.2,   3.5231,  34.2865,2,  34.2880,2,    218.6,2,    217.3,2,    34.56,2,    31.06,2,     2.12,2,   2300.4,2,7.6109,2,    25.00,2049,20190416
  29HE20190406,   A17,25,0,13,13,2,20190416,1936,-33.8756,-42.3395, 4588,   1000.5,   3.8582,  34.2482,2,     -999,9,    230.9,2,    229.1,2,    27.83,2,    29.67,2,     2.01,2,   2292.9,2,7.6267,2,    25.00,2052,20190416
  29HE20190406,   A17,25,0,14,14,2,20190416,1936,-33.8756,-42.3395, 4588,    905.4,   4.2345,  34.2222,2,  34.2257,2,    243.2,2,    241.3,2,    21.43,2,    27.90,2,     1.90,2,   2287.8,2,7.6479,2,    25.00,2056,20190416
  29HE20190406,   A17,25,0,15,15,2,20190416,1936,-33.8756,-42.3395, 4588,    808.0,   4.8380,  34.2366,2,     -999,9,    246.9,2,    245.4,2,    16.51,2,    26.36,2,     1.80,2,   2284.6,2,7.6652,2,    25.00,2059,20190416
  29HE20190406,   A17,25,0,16,16,2,20190416,1936,-33.8756,-42.3395, 4588,    711.4,   5.5169,  34.2606,2,  34.2664,2,    250.1,2,    249.9,2,    12.57,2,    24.60,2,     1.68,2,   2282.5,2,7.6808,2,    25.00,2103,20190416
  29HE20190406,   A17,25,0,17,17,2,20190416,1936,-33.8756,-42.3395, 4588,    610.8,   7.0727,  34.4180,2,     -999,9,    230.8,2,    229.5,2,     9.94,2,    22.32,2,     1.52,2,   2286.4,2,7.7001,2,    25.00,2107,20190416
  29HE20190406,   A17,25,0,18,18,2,20190416,1936,-33.8756,-42.3395, 4588,    501.7,   9.8140,  34.7522,2,  34.7558,2,    212.2,2,    212.3,2,     6.55,2,    17.51,2,     1.19,2,   2300.1,2,7.748,2,    25.00,2112,20190416
  29HE20190406,   A17,25,0,19,19,2,20190416,1936,-33.8756,-42.3395, 4588,    406.0,  12.5401,  35.1506,2,     -999,9,    210.6,2,    211.5,2,     3.71,2,    11.28,2,     0.80,2,   2318.9,2,7.8212,2,    25.00,2116,20190416
  29HE20190406,   A17,25,0,20,20,2,20190416,1936,-33.8756,-42.3395, 4588,    303.9,  14.7292,  35.5746,2,  35.5766,2,    214.5,2,    215.3,2,     2.52,2,     6.81,2,     0.51,2,   2343.4,2,7.8823,2,    25.00,2120,20190416
  29HE20190406,   A17,25,0,21,21,2,20190416,1936,-33.8756,-42.3395, 4588,    206.8,  15.7702,  35.7565,2,     -999,9,    213.5,2,    213.2,2,     2.15,2,     4.91,2,     0.39,2,   2353.9,2,7.9065,2,    25.00,2124,20190416
  29HE20190406,   A17,25,0,22,22,2,20190416,1936,-33.8756,-42.3395, 4588,    104.2,  18.2198,  36.0629,2,  36.0701,2,    219.4,2,    220.0,2,     1.10,2,     0.49,2,     0.10,2,   2371.4,2,7.9644,2,    25.00,2129,20190416
  29HE20190406,   A17,25,0,23,23,2,20190416,1936,-33.8756,-42.3395, 4588,     58.2,  21.1357,  36.1054,2,     -999,9,    222.4,2,    222.8,2,     1.01,2,     0.00,2,     0.00,2,   2376.3,2,8.0233,2,    25.00,2132,20190416
  29HE20190406,   A17,25,0,24,24,2,20190416,1936,-33.8756,-42.3395, 4588,      3.9,  21.0769,  36.0799,2,  36.0851,2,    223.4,2,    223.3,2,     1.03,2,     0.00,2,     0.01,2,   2375.1,2,8.0209,2,    25.00,2134,20190416
  29HE20190406,   A17,26,0,1,1,2,20190417,300,-33.3075,-41.8041, 4324,   2001.0,   3.2531,  34.8386,2,     -999,9,    219.8,2,     -999,9,     -999,9,     -999,9,     -999,9,     -999,9,-999.0,9,    25.00,300,20190417
  29HE20190406,   A17,26,0,2,2,2,20190417,300,-33.3075,-41.8041, 4324,   2001.6,   3.2533,  34.8382,2,  34.8364,2,    219.4,2,    219.2,2,    38.91,2,    24.53,2,     1.66,2,     -999,9,7.6774,2,    25.00,300,20190417
  29HE20190406,   A17,26,0,3,3,2,20190417,300,-33.3075,-41.8041, 4324,   1701.8,   3.0319,  34.6790,2,     -999,9,    191.3,2,    191.0,2,    55.18,2,    29.86,2,     2.04,2,     -999,9,7.6158,2,    25.00,308,20190417
  29HE20190406,   A17,26,0,4,4,2,20190417,300,-33.3075,-41.8041, 4324,   1503.9,   2.9391,  34.5457,2,  34.5437,2,    184.2,2,    183.9,2,    57.86,2,    32.36,2,     2.20,2,     -999,9,7.5881,2,    25.00,312,20190417
  29HE20190406,   A17,26,0,5,5,2,20190417,300,-33.3075,-41.8041, 4324,   1503.8,   2.9387,  34.5457,2,     -999,9,    184.2,2,     -999,9,     -999,9,     -999,9,     -999,9,     -999,9,-999.0,9,    25.00,312,20190417
  29HE20190406,   A17,26,0,6,6,2,20190417,300,-33.3075,-41.8041, 4324,   1204.1,   3.2093,  34.3412,2,  34.3397,2,    205.6,2,    204.2,2,    42.67,2,    32.22,2,     2.20,2,     -999,9,7.5941,2,    25.00,319,20190417
  29HE20190406,   A17,26,0,7,7,2,20190417,300,-33.3075,-41.8041, 4324,   1203.9,   3.2080,  34.3408,2,     -999,9,    205.9,2,     -999,9,     -999,9,     -999,9,     -999,9,     -999,9,-999.0,9,    25.00,319,20190417
  29HE20190406,   A17,26,0,8,8,2,20190417,300,-33.3075,-41.8041, 4324,   1001.1,   3.8106,  34.2484,2,  34.2495,2,    230.8,2,    229.7,2,    27.59,2,    30.10,2,     2.02,2,     -999,9,7.6291,2,    25.00,324,20190417
  29HE20190406,   A17,26,0,9,9,2,20190417,300,-33.3075,-41.8041, 4324,   1002.3,   3.8137,  34.2480,2,     -999,9,    230.7,2,     -999,9,     -999,9,     -999,9,     -999,9,     -999,9,-999.0,9,    25.00,324,20190417
  29HE20190406,   A17,26,0,10,10,2,20190417,300,-33.3075,-41.8041, 4324,    800.8,   5.0020,  34.2633,2,  34.2668,2,    241.7,2,    237.7,2,    16.91,2,    26.77,2,     1.81,2,     -999,9,7.6618,2,    25.00,329,20190417
  29HE20190406,   A17,26,0,11,11,2,20190417,300,-33.3075,-41.8041, 4324,    801.5,   4.9887,  34.2617,2,     -999,9,    240.3,2,     -999,9,     -999,9,     -999,9,     -999,9,     -999,9,-999.0,9,    25.00,329,20190417
  29HE20190406,   A17,26,0,12,12,2,20190417,300,-33.3075,-41.8041, 4324,    600.1,   7.5822,  34.4926,2,  34.4919,2,    222.0,2,    221.7,2,     9.87,2,    22.14,2,     1.52,2,     -999,9,7.7004,2,    25.00,334,20190417
  29HE20190406,   A17,26,0,13,13,2,20190417,300,-33.3075,-41.8041, 4324,    601.0,   7.5963,  34.4937,2,     -999,9,    221.9,2,     -999,9,     -999,9,     -999,9,     -999,9,     -999,9,-999.0,9,    25.00,334,20190417
  29HE20190406,   A17,26,0,14,14,2,20190417,300,-33.3075,-41.8041, 4324,    500.0,   9.8041,  34.7580,2,  34.7566,2,    210.7,2,    210.7,2,     6.62,2,    17.74,2,     1.23,2,     -999,9,7.7444,2,    25.00,336,20190417
  29HE20190406,   A17,26,0,15,15,2,20190417,300,-33.3075,-41.8041, 4324,    401.0,  12.3930,  35.1464,2,     -999,9,    207.7,2,     -999,9,     -999,9,     -999,9,     -999,9,     -999,9,-999.0,9,    25.00,339,20190417
  29HE20190406,   A17,26,0,16,16,2,20190417,300,-33.3075,-41.8041, 4324,    400.5,  12.3905,  35.1465,2,  35.1451,2,    208.1,2,    208.3,2,     4.11,2,    11.90,2,     0.86,2,     -999,9,7.8111,2,    25.00,339,20190417
  29HE20190406,   A17,26,0,17,17,2,20190417,300,-33.3075,-41.8041, 4324,    300.3,  14.6150,  35.5566,2,     -999,9,    214.8,2,    215.6,2,     2.51,2,     6.83,2,     0.53,2,     -999,9,7.8794,2,    25.00,342,20190417
  29HE20190406,   A17,26,0,18,18,2,20190417,300,-33.3075,-41.8041, 4324,    203.3,  15.6269,  35.7242,2,  35.7245,2,    215.9,2,    215.8,2,     2.02,2,     4.90,2,     0.41,2,     -999,9,7.9046,2,    25.00,345,20190417
  29HE20190406,   A17,26,0,19,19,2,20190417,300,-33.3075,-41.8041, 4324,    202.5,  15.6267,  35.7242,2,     -999,9,    215.3,2,     -999,9,     -999,9,     -999,9,     -999,9,     -999,9,-999.0,9,    25.00,345,20190417
  29HE20190406,   A17,26,0,20,20,2,20190417,300,-33.3075,-41.8041, 4324,    103.1,  17.2110,  35.9005,2,  35.9009,2,    211.7,2,    212.1,2,     1.40,2,     2.31,2,     0.22,2,     -999,9,7.9336,2,    25.00,348,20190417
  29HE20190406,   A17,26,0,21,21,2,20190417,300,-33.3075,-41.8041, 4324,    102.7,  17.2039,  35.8991,2,     -999,9,    211.7,2,     -999,9,     -999,9,     -999,9,     -999,9,     -999,9,-999.0,9,    25.00,348,20190417
  29HE20190406,   A17,26,0,22,22,2,20190417,300,-33.3075,-41.8041, 4324,     48.5,  22.4559,  36.1168,2,  36.1159,2,    217.0,2,    217.0,2,     0.96,2,     0.00,2,     0.01,2,     -999,9,8.0289,2,    25.00,350,20190417
  29HE20190406,   A17,26,0,23,23,2,20190417,300,-33.3075,-41.8041, 4324,      4.9,  22.4436,  36.1190,2,     -999,9,    217.4,2,     -999,9,     -999,9,     -999,9,     -999,9,     -999,9,-999.0,9,    25.00,353,20190417
  29HE20190406,   A17,26,0,24,24,2,20190417,300,-33.3075,-41.8041, 4324,      6.3,  22.4457,  36.1192,2,  36.1163,2,    217.0,2,    217.5,2,     0.93,2,     0.00,2,     0.01,2,     -999,9,8.0289,2,    25.00,353,20190417