BOTTLE,20240229CCHSIOSLL
EXPOCODE,SECT_ID,STNNBR,CASTNO,SAMPNO,BTLNBR,BTLNBR_FLAG_W,DATE,TIME,LATITUDE,LONGITUDE,DEPTH,CTDPRS,CTDTMP,CTDSAL,CTDSAL_FLAG_W,SALNTY,SALNTY_FLAG_W,CTDOXY,CTDOXY_FLAG_W,OXYGEN,OXYGEN_FLAG_W,SILCAT,SILCAT_FLAG_W,NITRAT,NITRAT_FLAG_W,PHSPHT,PHSPHT_FLAG_W,ALKALI,ALKALI_FLAG_W,PH_TOT,PH_TOT_FLAG_W,PH_TMP,BTL_TIME,BTL_DATE
,,,,,,,,,,,METERS,DBAR,ITS-90,PSS-78,,PSS-78,,UMOL/KG,,UMOL/KG,,UMOL/KG,,UMOL/KG,,UMOL/KG,,UMOL/KG,,,,DEG C,,
  29HE20190406,   A17,80,0,1,1,2,20190517,59,23.5003,-20.6563, 4122,   2000.6,   3.9227,  35.0325,2,     -999,9,    222.6,2,     -999,9,     -999,9,     -999,9,     -999,9,     -999,9,-999.0,9,    25.00,59,20190517
  29HE20190406,   A17,80,0,2,2,2,20190517,59,23.5003,-20.6563, 4122,   2000.7,   3.9236,  35.0326,2,  35.0326,2,    222.6,2,    221.9,2,    25.18,2,    22.05,2,     1.47,2,     -999,9,7.7205,2,    25.00,59,20190517
  29HE20190406,   A17,80,0,3,3,2,20190517,59,23.5003,-20.6563, 4122,   1699.9,   4.4683,  35.0616,2,     -999,9,    208.4,2,    207.2,2,    22.94,2,    23.08,2,     1.52,2,     -999,9,7.7043,2,    25.00,105,20190517
  29HE20190406,   A17,80,0,4,4,2,20190517,59,23.5003,-20.6563, 4122,   1513.3,   5.4924,  35.1788,2,  35.1896,2,    197.3,2,    195.6,2,    20.49,2,    23.37,2,     1.49,2,     -999,9,7.7088,2,    25.00,110,20190517
  29HE20190406,   A17,80,0,5,5,2,20190517,59,23.5003,-20.6563, 4122,   1515.1,   5.4857,  35.1784,2,     -999,9,    197.0,2,     -999,9,     -999,9,     -999,9,     -999,9,     -999,9,-999.0,9,    25.00,111,20190517
  29HE20190406,   A17,80,0,6,6,2,20190517,59,23.5003,-20.6563, 4122,   1197.0,   6.4148,  35.1582,2,  35.1530,2,    166.9,2,    165.5,2,    19.41,2,    26.32,2,     1.67,2,     -999,9,7.6711,2,    25.00,119,20190517
  29HE20190406,   A17,80,0,7,7,2,20190517,59,23.5003,-20.6563, 4122,   1197.3,   6.4157,  35.1585,2,     -999,9,    166.7,2,     -999,9,     -999,9,     -999,9,     -999,9,     -999,9,-999.0,9,    25.00,119,20190517
  29HE20190406,   A17,80,0,8,8,2,20190517,59,23.5003,-20.6563, 4122,    994.0,   6.7066,  35.0534,2,  35.0534,2,    138.6,2,    138.0,2,    20.82,2,    29.56,2,     1.89,2,     -999,9,7.6251,2,    25.00,124,20190517
  29HE20190406,   A17,80,0,9,9,2,20190517,59,23.5003,-20.6563, 4122,    994.8,   6.7035,  35.0532,2,     -999,9,    138.4,2,     -999,9,     -999,9,     -999,9,     -999,9,     -999,9,-999.0,9,    25.00,124,20190517
  29HE20190406,   A17,80,0,10,10,2,20190517,59,23.5003,-20.6563, 4122,    797.1,   8.1168,  35.1356,2,  35.1348,2,    110.8,2,    111.0,2,    18.32,2,    30.87,2,     1.90,2,     -999,9,7.603,2,    25.00,128,20190517
  29HE20190406,   A17,80,0,11,11,2,20190517,59,23.5003,-20.6563, 4122,    797.0,   8.1199,  35.1360,2,     -999,9,    110.8,2,     -999,9,     -999,9,     -999,9,     -999,9,     -999,9,-999.0,9,    25.00,128,20190517
  29HE20190406,   A17,80,0,12,12,2,20190517,59,23.5003,-20.6563, 4122,    606.3,  10.6384,  35.4384,2,  35.4428,2,    115.6,2,    115.8,2,    11.59,2,    25.35,2,     1.52,2,     -999,9,7.6579,2,    25.00,133,20190517
  29HE20190406,   A17,80,0,13,13,2,20190517,59,23.5003,-20.6563, 4122,    606.8,  10.6370,  35.4382,2,     -999,9,    115.1,2,     -999,9,     -999,9,     -999,9,     -999,9,     -999,9,-999.0,9,    25.00,133,20190517
  29HE20190406,   A17,80,0,14,14,2,20190517,59,23.5003,-20.6563, 4122,    506.5,  12.1907,  35.6516,2,  35.6522,2,    143.7,2,    143.4,2,     7.58,2,    19.52,2,     1.14,2,     -999,9,7.7295,2,    25.00,137,20190517
  29HE20190406,   A17,80,0,15,15,2,20190517,59,23.5003,-20.6563, 4122,    397.7,  13.5828,  35.8408,2,     -999,9,    150.2,2,     -999,9,     -999,9,     -999,9,     -999,9,     -999,9,-999.0,9,    25.00,140,20190517
  29HE20190406,   A17,80,0,16,16,2,20190517,59,23.5003,-20.6563, 4122,    398.0,  13.5836,  35.8409,2,  35.8400,2,    150.3,2,    150.0,2,     5.70,2,    16.22,2,     0.94,2,     -999,9,7.7667,2,    25.00,140,20190517
  29HE20190406,   A17,80,0,17,17,2,20190517,59,23.5003,-20.6563, 4122,    300.5,  15.0464,  36.0608,2,     -999,9,    162.8,2,    163.1,2,     4.10,2,    12.32,2,     0.71,2,     -999,9,7.8176,2,    25.00,143,20190517
  29HE20190406,   A17,80,0,18,18,2,20190517,59,23.5003,-20.6563, 4122,    204.2,  17.3729,  36.4507,2,  36.4477,2,    171.6,2,    171.6,2,     2.50,2,     8.30,2,     0.47,2,     -999,9,7.8727,2,    25.00,146,20190517
  29HE20190406,   A17,80,0,19,19,2,20190517,59,23.5003,-20.6563, 4122,    204.6,  17.3719,  36.4504,2,     -999,9,    171.5,2,     -999,9,     -999,9,     -999,9,     -999,9,     -999,9,-999.0,9,    25.00,146,20190517
  29HE20190406,   A17,80,0,20,20,2,20190517,59,23.5003,-20.6563, 4122,     98.2,  20.6207,  36.9195,2,  36.9165,2,    209.4,2,    209.1,2,     0.94,2,     1.87,2,     0.16,2,     -999,9,7.967,2,    25.00,149,20190517
  29HE20190406,   A17,80,0,21,21,2,20190517,59,23.5003,-20.6563, 4122,     98.6,  20.6211,  36.9197,2,     -999,9,    209.7,2,     -999,9,     -999,9,     -999,9,     -999,9,     -999,9,-999.0,9,    25.00,149,20190517
  29HE20190406,   A17,80,0,22,22,2,20190517,59,23.5003,-20.6563, 4122,     52.4,  21.3540,  36.9532,2,  36.9506,2,    223.4,2,    223.2,2,     0.57,2,     0.01,2,     0.08,2,     -999,9,7.9994,2,    25.00,150,20190517
  29HE20190406,   A17,80,0,23,23,2,20190517,59,23.5003,-20.6563, 4122,      5.0,  21.5277,  36.9656,2,     -999,9,    222.6,2,     -999,9,     -999,9,     -999,9,     -999,9,     -999,9,-999.0,9,    25.00,153,20190517
  29HE20190406,   A17,80,0,24,24,2,20190517,59,23.5003,-20.6563, 4122,      5.9,  21.5292,  36.9654,2,  36.9629,2,    222.4,2,    222.4,2,     0.57,2,     0.01,2,     0.06,2,     -999,9,7.9999,2,    25.00,153,20190517
  29HE20190406,   A17,81,0,1,1,2,20190517,1035,24.5959,-19.7004, 3704,   3470.9,   2.5370,  34.9168,2,     -999,9,    229.4,2,    227.5,2,    44.56,2,    22.51,2,     1.53,2,   2365.3,2,7.7253,2,    25.00,1035,20190517
  29HE20190406,   A17,81,0,2,2,2,20190517,1035,24.5959,-19.7004, 3704,   3250.8,   2.6371,  34.9274,2,  34.9277,2,    233.8,2,    232.2,2,    40.60,2,    21.94,2,     1.49,2,   2354.8,2,7.7256,2,    25.00,1040,20190517
  29HE20190406,   A17,81,0,3,3,2,20190517,1035,24.5959,-19.7004, 3704,   2998.9,   2.8130,  34.9446,2,     -999,9,    235.6,2,    234.1,2,    36.74,2,    21.57,2,     1.47,2,   2348.2,2,7.7279,2,    25.00,1046,20190517
  29HE20190406,   A17,81,0,4,4,2,20190517,1035,24.5959,-19.7004, 3704,   2746.9,   3.0085,  34.9634,2,  34.9614,2,    234.8,2,    233.2,2,    33.77,2,    21.40,2,     1.44,2,   2343.1,2,7.7266,2,    25.00,1052,20190517
  29HE20190406,   A17,81,0,5,5,2,20190517,1035,24.5959,-19.7004, 3704,   2495.7,   3.2588,  34.9892,2,     -999,9,    233.1,2,    232.1,2,    31.51,2,    21.43,2,     1.43,2,   2341.0,2,7.7247,2,    25.00,1058,20190517
  29HE20190406,   A17,81,0,6,6,2,20190517,1035,24.5959,-19.7004, 3704,   2272.6,   3.5851,  35.0210,2,  35.0200,2,    228.7,2,    227.4,2,    28.91,2,    21.47,2,     1.43,2,   2337.6,2,7.7257,2,    25.00,1103,20190517
  29HE20190406,   A17,81,0,7,7,2,20190517,1035,24.5959,-19.7004, 3704,   1989.7,   4.1384,  35.0778,2,     -999,9,    221.5,2,    220.6,2,    25.90,2,    21.64,2,     1.42,2,   2336.0,2,7.7227,2,    25.00,1112,20190517
  29HE20190406,   A17,81,0,8,8,2,20190517,1035,24.5959,-19.7004, 3704,   1800.7,   4.5157,  35.1038,2,  35.1026,2,    214.2,2,    213.0,2,    23.55,2,    21.90,2,     1.44,2,   2334.5,2,7.7159,2,    25.00,1117,20190517
  29HE20190406,   A17,81,0,9,9,2,20190517,1035,24.5959,-19.7004, 3704,   1599.8,   5.2064,  35.1742,2,     -999,9,    204.7,2,    203.8,2,    21.43,2,    22.08,2,     1.45,2,   2334.7,2,7.714,2,    25.00,1122,20190517
  29HE20190406,   A17,81,0,10,10,2,20190517,1035,24.5959,-19.7004, 3704,   1400.2,   5.9155,  35.2056,2,  35.2037,2,    187.1,2,    186.1,2,    19.84,2,    23.26,2,     1.52,2,   2333.2,2,7.6987,2,    25.00,1126,20190517
  29HE20190406,   A17,81,0,11,11,2,20190517,1035,24.5959,-19.7004, 3704,   1199.5,   6.5460,  35.1940,2,     -999,9,    167.3,2,    167.3,2,    19.08,2,    25.23,2,     1.63,2,   2330.5,2,7.6771,2,    25.00,1131,20190517
  29HE20190406,   A17,81,0,12,12,2,20190517,1035,24.5959,-19.7004, 3704,   1102.1,   6.7923,  35.1662,2,  35.1628,2,    155.8,2,    155.3,2,    19.21,2,    26.41,2,     1.71,2,   2327.9,2,7.6603,2,    25.00,1135,20190517
  29HE20190406,   A17,81,0,13,13,2,20190517,1035,24.5959,-19.7004, 3704,    998.8,   7.1917,  35.1526,2,     -999,9,    143.5,2,    143.2,2,    19.00,2,    27.59,2,     1.75,2,   2326.5,2,7.6457,2,    25.00,1137,20190517
  29HE20190406,   A17,81,0,14,14,2,20190517,1035,24.5959,-19.7004, 3704,    896.7,   7.6436,  35.1636,2,  35.1596,2,    133.4,2,    133.4,2,    18.28,2,    27.62,2,     1.78,2,   2325.1,2,7.637,2,    25.00,1140,20190517
  29HE20190406,   A17,81,0,15,15,2,20190517,1035,24.5959,-19.7004, 3704,    796.2,   8.1351,  35.1818,2,     -999,9,    123.8,2,    124.1,2,    17.56,2,    28.24,2,     1.79,2,   2323.5,2,7.6284,2,    25.00,1143,20190517
  29HE20190406,   A17,81,0,16,16,2,20190517,1035,24.5959,-19.7004, 3704,    701.4,   9.3896,  35.3184,2,  35.3183,2,    122.2,2,    121.7,2,    14.41,2,    26.35,2,     1.63,2,   2326.1,2,7.6484,2,    25.00,1146,20190517
  29HE20190406,   A17,81,0,17,17,2,20190517,1035,24.5959,-19.7004, 3704,    603.0,  10.6172,  35.4560,2,     -999,9,    126.7,2,    127.6,2,    11.41,2,    23.62,2,     1.43,2,   2331.7,2,7.6735,2,    25.00,1149,20190517
  29HE20190406,   A17,81,0,18,18,2,20190517,1035,24.5959,-19.7004, 3704,    500.9,  11.8474,  35.6064,2,  35.6048,2,    136.0,2,    135.8,2,     8.59,2,    20.41,2,     1.20,2,   2336.5,2,7.7085,2,    25.00,1152,20190517
  29HE20190406,   A17,81,0,19,19,2,20190517,1035,24.5959,-19.7004, 3704,    394.2,  13.2283,  35.7921,2,     -999,9,    145.6,2,    145.9,2,     6.42,2,    17.07,2,     0.99,2,   2346.0,2,7.7492,2,    25.00,1155,20190517
  29HE20190406,   A17,81,0,20,20,2,20190517,1035,24.5959,-19.7004, 3704,    302.5,  14.6219,  35.9806,2,  35.9774,2,    150.1,2,    150.1,2,     4.91,2,    14.27,2,     0.82,2,   2356.2,2,7.786,2,    25.00,1158,20190517
  29HE20190406,   A17,81,0,21,21,2,20190517,1035,24.5959,-19.7004, 3704,    196.2,  17.0219,  36.4074,2,     -999,9,    187.5,2,    187.2,2,     2.18,2,     6.63,2,     0.36,2,   2382.4,2,7.8897,2,    25.00,1202,20190517
  29HE20190406,   A17,81,0,22,22,2,20190517,1035,24.5959,-19.7004, 3704,     98.1,  20.2300,  36.9689,2,  36.9633,2,    224.5,2,    224.5,2,     0.62,2,     0.00,2,     0.01,2,   2419.8,2,7.9913,2,    25.00,1205,20190517
  29HE20190406,   A17,81,0,23,23,2,20190517,1035,24.5959,-19.7004, 3704,     50.4,  21.0733,  37.0855,2,     -999,9,    225.0,2,    224.3,2,     0.60,2,     0.00,2,     0.00,2,   2427.1,2,8.0007,2,    25.00,1207,20190517
  29HE20190406,   A17,81,0,24,24,2,20190517,1035,24.5959,-19.7004, 3704,      5.1,  21.4971,  37.1032,2,  37.0995,2,    223.1,2,    222.8,2,     0.60,2,     0.00,2,     0.00,2,   2428.5,2,8.0001,2,    25.00,1210,20190517