BOTTLE,20240229CCHSIOSLL
EXPOCODE,SECT_ID,STNNBR,CASTNO,SAMPNO,BTLNBR,BTLNBR_FLAG_W,DATE,TIME,LATITUDE,LONGITUDE,DEPTH,CTDPRS,CTDTMP,CTDSAL,CTDSAL_FLAG_W,SALNTY,SALNTY_FLAG_W,CTDOXY,CTDOXY_FLAG_W,OXYGEN,OXYGEN_FLAG_W,SILCAT,SILCAT_FLAG_W,NITRAT,NITRAT_FLAG_W,PHSPHT,PHSPHT_FLAG_W,ALKALI,ALKALI_FLAG_W,PH_TOT,PH_TOT_FLAG_W,PH_TMP,BTL_TIME,BTL_DATE
,,,,,,,,,,,METERS,DBAR,ITS-90,PSS-78,,PSS-78,,UMOL/KG,,UMOL/KG,,UMOL/KG,,UMOL/KG,,UMOL/KG,,UMOL/KG,,,,DEG C,,
  29HE20190406,   A17,52,0,1,1,2,20190503,4,-15.1929,-30.642, 4912,   4902.3,   0.4356,  34.6836,2,     -999,9,    219.9,2,    221.4,2,   119.47,2,    31.98,2,     2.22,2,     -999,9,7.6099,2,    25.00,4,20190503
  29HE20190406,   A17,52,0,2,2,2,20190503,4,-15.1929,-30.642, 4912,   4503.1,   1.2011,  34.7629,2,  34.7676,2,    230.1,2,    231.0,2,    93.65,2,    28.15,2,     1.93,2,     -999,9,7.6602,2,    25.00,13,20190503
  29HE20190406,   A17,52,0,3,3,2,20190503,4,-15.1929,-30.642, 4912,   4000.8,   2.0453,  34.8570,2,     -999,9,    247.1,2,    248.7,2,    53.89,2,    22.88,2,     1.53,2,     -999,9,7.7133,2,    25.00,24,20190503
  29HE20190406,   A17,52,0,4,4,2,20190503,4,-15.1929,-30.642, 4912,   3501.3,   2.5136,  34.9016,2,  34.9060,2,    251.3,2,    252.6,2,    37.60,2,    20.85,2,     1.41,2,     -999,9,7.7315,2,    25.00,34,20190503
  29HE20190406,   A17,52,0,5,5,2,20190503,4,-15.1929,-30.642, 4912,   3000.2,   2.6827,  34.9052,2,     -999,9,    244.5,2,    246.0,2,    37.77,2,    21.56,2,     1.44,2,     -999,9,7.7266,2,    25.00,45,20190503
  29HE20190406,   A17,52,0,6,6,2,20190503,4,-15.1929,-30.642, 4912,   2494.7,   2.8528,  34.9117,2,  34.9163,2,    242.7,2,    244.1,2,    35.02,2,    21.55,2,     1.45,2,     -999,9,7.7256,2,    25.00,55,20190503
  29HE20190406,   A17,52,0,7,7,2,20190503,4,-15.1929,-30.642, 4912,   2273.9,   2.9509,  34.9110,2,     -999,9,    240.2,2,    243.1,2,    34.12,2,    21.74,2,     1.45,2,     -999,9,7.7218,2,    25.00,100,20190503
  29HE20190406,   A17,52,0,8,8,2,20190503,4,-15.1929,-30.642, 4912,   2002.5,   3.1780,  34.9146,2,  34.9187,2,    238.1,2,    239.5,2,    30.71,2,    21.68,2,     1.46,2,     -999,9,7.7204,2,    25.00,106,20190503
  29HE20190406,   A17,52,0,9,9,2,20190503,4,-15.1929,-30.642, 4912,   1801.0,   3.5886,  34.9376,2,     -999,9,    238.8,2,    240.2,2,    23.68,2,    20.91,2,     1.39,2,     -999,9,7.7214,2,    25.00,111,20190503
  29HE20190406,   A17,52,0,10,10,2,20190503,4,-15.1929,-30.642, 4912,   1601.5,   3.9010,  34.9146,2,  34.9179,2,    224.7,2,    225.1,2,    23.50,2,    22.60,2,     1.52,2,     -999,9,7.7005,2,    25.00,116,20190503
  29HE20190406,   A17,52,0,11,11,2,20190503,4,-15.1929,-30.642, 4912,   1401.9,   4.1272,  34.8506,2,     -999,9,    203.8,2,    205.7,2,    25.60,2,    25.28,2,     1.70,2,     -999,9,7.6681,2,    25.00,121,20190503
  29HE20190406,   A17,52,0,12,12,2,20190503,4,-15.1929,-30.642, 4912,   1199.6,   4.0341,  34.7042,2,  34.7048,2,    184.2,2,    185.0,2,    31.71,2,    29.10,2,     1.99,2,     -999,9,7.6234,2,    25.00,125,20190503
  29HE20190406,   A17,52,0,13,13,2,20190503,4,-15.1929,-30.642, 4912,   1001.3,   3.8847,  34.5208,2,     -999,9,    178.0,2,    178.7,2,    36.90,2,    31.92,2,     2.18,2,     -999,9,7.5942,2,    25.00,130,20190503
  29HE20190406,   A17,52,0,14,14,2,20190503,4,-15.1929,-30.642, 4912,    901.9,   4.0061,  34.4629,2,  34.4656,2,    178.4,2,    178.7,2,    35.77,2,    32.43,2,     2.24,2,     -999,9,7.591,2,    25.00,133,20190503
  29HE20190406,   A17,52,0,15,15,2,20190503,4,-15.1929,-30.642, 4912,    800.5,   4.2639,  34.4273,2,     -999,9,    179.1,2,    180.1,2,    33.09,2,    32.32,2,     2.20,2,     -999,9,7.5901,2,    25.00,137,20190503
  29HE20190406,   A17,52,0,16,16,2,20190503,4,-15.1929,-30.642, 4912,    700.9,   4.8183,  34.4228,2,  34.4256,2,    175.8,2,    176.0,2,    28.24,2,    31.96,2,     2.17,2,     -999,9,7.5901,2,    25.00,140,20190503
  29HE20190406,   A17,52,0,17,17,2,20190503,4,-15.1929,-30.642, 4912,    601.1,   5.6639,  34.4550,2,     -999,9,    172.0,2,    172.6,2,    23.01,2,    30.70,2,     2.07,2,     -999,9,7.5995,2,    25.00,143,20190503
  29HE20190406,   A17,52,0,18,18,2,20190503,4,-15.1929,-30.642, 4912,    501.6,   7.2446,  34.5798,2,  34.5843,2,    154.9,2,    155.8,2,    17.59,2,    28.80,2,     1.93,2,     -999,9,7.6064,2,    25.00,146,20190503
  29HE20190406,   A17,52,0,19,19,2,20190503,4,-15.1929,-30.642, 4912,    401.7,   9.9231,  34.8452,2,     -999,9,    150.1,2,    151.7,2,    10.66,2,    23.06,2,     1.54,2,     -999,9,7.6595,2,    25.00,149,20190503
  29HE20190406,   A17,52,0,20,20,2,20190503,4,-15.1929,-30.642, 4912,    300.7,  13.2625,  35.2672,2,  35.2716,2,    153.1,2,    155.1,2,     5.83,2,    15.99,2,     1.12,2,     -999,9,7.7435,2,    25.00,152,20190503
  29HE20190406,   A17,52,0,21,21,2,20190503,4,-15.1929,-30.642, 4912,    201.0,  19.5775,  36.2498,2,     -999,9,    186.1,2,    186.8,2,     1.86,2,     3.75,2,     0.43,2,     -999,9,7.9279,2,    25.00,155,20190503
  29HE20190406,   A17,52,0,22,22,2,20190503,4,-15.1929,-30.642, 4912,    100.0,  24.6730,  37.0350,2,  37.0349,2,    218.7,2,    218.6,2,     0.98,2,     0.00,2,     0.11,2,     -999,9,8.0416,2,    25.00,158,20190503
  29HE20190406,   A17,52,0,23,23,2,20190503,4,-15.1929,-30.642, 4912,     49.9,  28.3649,  37.2609,2,     -999,9,    198.2,3,    203.1,2,     0.93,2,     0.00,2,     0.06,2,     -999,9,8.0688,2,    25.00,200,20190503
  29HE20190406,   A17,52,0,24,24,2,20190503,4,-15.1929,-30.642, 4912,      5.5,  28.4206,  37.2647,2,  37.2650,2,    198.1,2,    197.0,2,     0.97,2,     0.00,2,     0.05,2,     -999,9,8.0739,2,    25.00,202,20190503
  29HE20190406,   A17,53,0,1,1,2,20190503,952,-14.0931,-30.5809, 5338,   5327.6,   0.5113,  34.6854,2,     -999,9,    219.6,2,    220.1,2,   119.34,2,    31.97,2,     2.22,2,   2370.2,2,7.6109,2,    25.00,952,20190503
  29HE20190406,   A17,53,0,2,2,2,20190503,952,-14.0931,-30.5809, 5338,   5003.3,   0.5440,  34.6924,2,  34.6978,2,    220.4,2,    220.4,2,   117.38,2,    31.64,2,     2.19,2,   2370.3,2,7.6157,2,    25.00,1000,20190503
  29HE20190406,   A17,53,0,3,3,2,20190503,952,-14.0931,-30.5809, 5338,   4497.6,   1.2223,  34.7663,2,     -999,9,    230.9,2,    230.7,2,    91.60,2,    27.88,2,     1.92,2,   2360.3,2,7.6637,2,    25.00,1010,20190503
  29HE20190406,   A17,53,0,4,4,2,20190503,952,-14.0931,-30.5809, 5338,   3998.6,   1.9436,  34.8473,2,  34.8489,2,    245.5,2,    245.3,2,    58.09,2,    23.31,2,     1.60,2,   2345.0,2,7.7089,2,    25.00,1021,20190503
  29HE20190406,   A17,53,0,5,5,2,20190503,952,-14.0931,-30.5809, 5338,   3500.8,   2.4734,  34.8992,2,     -999,9,    250.4,2,    251.7,2,    38.15,2,    20.76,2,     1.42,2,   2335.4,2,7.7316,2,    25.00,1031,20190503
  29HE20190406,   A17,53,0,6,6,2,20190503,952,-14.0931,-30.5809, 5338,   3001.0,   2.6584,  34.8998,2,  34.9068,2,    241.3,2,    242.9,2,    39.89,2,    21.94,2,     1.49,2,   2337.0,2,7.7242,2,    25.00,1041,20190503
  29HE20190406,   A17,53,0,7,7,2,20190503,952,-14.0931,-30.5809, 5338,   2500.9,   2.8403,  34.9074,2,     -999,9,    240.3,2,    242.1,2,    36.24,2,    21.75,2,     1.47,2,   2332.9,2,7.7232,2,    25.00,1052,20190503
  29HE20190406,   A17,53,0,8,8,2,20190503,952,-14.0931,-30.5809, 5338,   2198.8,   3.1130,  34.9296,2,  34.9364,2,    244.0,2,    246.0,2,    27.64,2,    20.37,2,     1.38,2,   2325.3,2,7.7298,2,    25.00,1059,20190503
  29HE20190406,   A17,53,0,9,9,2,20190503,952,-14.0931,-30.5809, 5338,   1998.7,   3.3758,  34.9472,2,     -999,9,    246.1,2,    247.3,2,    23.80,2,    19.91,2,     1.34,2,   2320.9,2,7.7314,2,    25.00,1103,20190503
  29HE20190406,   A17,53,0,10,10,2,20190503,952,-14.0931,-30.5809, 5338,   1801.2,   3.6889,  34.9531,2,  34.9594,2,    241.3,2,    242.3,2,    21.29,2,    20.34,2,     1.36,2,   2318.2,2,7.7255,2,    25.00,1108,20190503
  29HE20190406,   A17,53,0,11,11,2,20190503,952,-14.0931,-30.5809, 5338,   1600.7,   4.0308,  34.9364,2,     -999,9,    226.7,2,    228.2,2,    21.18,2,    21.84,2,     1.47,2,   2317.2,2,7.706,2,    25.00,1113,20190503
  29HE20190406,   A17,53,0,12,12,2,20190503,952,-14.0931,-30.5809, 5338,   1401.6,   4.2144,  34.8511,2,  34.8520,2,    200.9,2,    202.0,2,    25.06,2,    25.52,2,     1.72,2,   2316.1,2,7.6646,2,    25.00,1118,20190503
  29HE20190406,   A17,53,0,13,13,2,20190503,952,-14.0931,-30.5809, 5338,   1200.6,   4.0824,  34.6744,2,     -999,9,    179.5,2,    179.7,2,    32.11,2,    29.89,2,     2.03,2,   2313.8,2,7.6155,2,    25.00,1122,20190503
  29HE20190406,   A17,53,0,14,14,2,20190503,952,-14.0931,-30.5809, 5338,    999.1,   3.9586,  34.5274,2,  34.5427,3,    175.0,2,    175.0,2,    35.89,2,    32.13,2,     2.21,2,   2311.6,2,7.5932,2,    25.00,1127,20190503
  29HE20190406,   A17,53,0,15,15,2,20190503,952,-14.0931,-30.5809, 5338,    798.8,   4.3562,  34.4355,2,     -999,9,    175.2,2,    175.1,2,    32.50,2,    32.59,2,     2.21,2,   2303.6,2,7.5875,2,    25.00,1132,20190503
  29HE20190406,   A17,53,0,16,16,2,20190503,952,-14.0931,-30.5809, 5338,    702.1,   4.8464,  34.4348,2,  34.4478,3,    169.9,2,    170.4,2,    28.67,2,    32.42,2,     2.19,2,   2299.8,2,7.5843,2,    25.00,1135,20190503
  29HE20190406,   A17,53,0,17,17,2,20190503,952,-14.0931,-30.5809, 5338,    601.6,   5.5195,  34.4562,2,     -999,9,    166.5,2,    167.1,2,    24.18,2,    31.29,2,     2.12,2,   2297.2,2,7.59,2,    25.00,1138,20190503
  29HE20190406,   A17,53,0,18,18,2,20190503,952,-14.0931,-30.5809, 5338,    500.9,   7.0398,  34.5798,2,  34.5890,2,    145.2,2,    145.2,2,    18.35,2,    30.27,2,     2.00,2,   2295.7,2,7.5899,2,    25.00,1141,20190503
  29HE20190406,   A17,53,0,19,19,2,20190503,952,-14.0931,-30.5809, 5338,    400.3,   9.2272,  34.8163,2,     -999,9,    112.8,2,    112.9,2,    13.60,2,    28.25,2,     1.86,2,   2302.4,2,7.5878,2,    25.00,1144,20190503
  29HE20190406,   A17,53,0,20,20,2,20190503,952,-14.0931,-30.5809, 5338,    299.2,  12.3398,  35.1636,2,  35.1652,2,    134.8,2,    133.6,2,     7.59,2,    20.06,2,     1.35,2,   2315.6,2,7.6901,2,    25.00,1147,20190503
  29HE20190406,   A17,53,0,21,21,2,20190503,952,-14.0931,-30.5809, 5338,    199.5,  18.3556,  36.0414,2,     -999,9,    179.4,2,    178.3,2,     2.49,2,     6.51,2,     0.57,2,   2366.8,2,7.8893,2,    25.00,1149,20190503
  29HE20190406,   A17,53,0,22,22,2,20190503,952,-14.0931,-30.5809, 5338,     99.8,  24.4008,  37.0587,2,  37.0482,2,    218.6,2,    217.5,2,     1.00,2,     0.00,2,     0.12,2,   2434.6,2,8.0388,2,    25.00,1152,20190503
  29HE20190406,   A17,53,0,23,23,2,20190503,952,-14.0931,-30.5809, 5338,     52.1,  28.1429,  37.3124,2,     -999,9,    200.3,2,    202.8,2,     0.96,2,     0.00,2,     0.07,2,   2446.0,2,8.0653,2,    25.00,1154,20190503
  29HE20190406,   A17,53,0,24,24,2,20190503,952,-14.0931,-30.5809, 5338,      5.1,  28.3772,  37.1048,2,  37.1015,2,    196.2,2,    195.3,2,     0.96,2,     0.00,2,     0.05,2,   2433.5,2,8.0788,2,    25.00,1156,20190503
  29HE20190406,   A17,54,0,1,1,2,20190503,1957,-12.9835,-30.5344, 5255,   5245.2,   0.6011,  34.6950,2,     -999,9,    220.6,2,    221.8,2,   117.01,2,    32.01,2,     2.16,2,     -999,9,7.6179,2,    25.00,1957,20190503
  29HE20190406,   A17,54,0,2,2,2,20190503,1957,-12.9835,-30.5344, 5255,   4999.5,   0.7407,  34.7118,2,  34.7204,2,    222.4,2,    223.4,2,   112.19,2,    31.19,2,     2.11,2,     -999,9,7.6285,2,    25.00,2003,20190503
  29HE20190406,   A17,54,0,3,3,2,20190503,1957,-12.9835,-30.5344, 5255,   4498.3,   1.1910,  34.7642,2,     -999,9,    230.6,2,    231.9,2,    92.63,2,    28.47,2,     1.91,2,     -999,9,7.6625,2,    25.00,2015,20190503
  29HE20190406,   A17,54,0,4,4,2,20190503,1957,-12.9835,-30.5344, 5255,   4000.4,   1.9188,  34.8456,2,  34.8480,2,    245.1,2,    246.6,2,    58.09,2,    23.73,2,     1.58,2,     -999,9,7.7075,2,    25.00,2026,20190503
  29HE20190406,   A17,54,0,5,5,2,20190503,1957,-12.9835,-30.5344, 5255,   3501.0,   2.4480,  34.8964,2,     -999,9,    249.4,2,    250.8,2,    39.24,2,    21.56,2,     1.41,2,     -999,9,7.7292,2,    25.00,2036,20190503
  29HE20190406,   A17,54,0,6,6,2,20190503,1957,-12.9835,-30.5344, 5255,   2999.1,   2.6637,  34.9066,2,  34.9110,2,    244.4,2,    245.6,2,    37.41,2,    21.71,2,     1.43,2,     -999,9,7.7279,2,    25.00,2047,20190503
  29HE20190406,   A17,54,0,7,7,2,20190503,1957,-12.9835,-30.5344, 5255,   2500.1,   2.8694,  34.9174,2,     -999,9,    243.1,2,    245.4,2,    33.52,2,    21.46,2,     1.41,2,     -999,9,7.7283,2,    25.00,2057,20190503
  29HE20190406,   A17,54,0,8,8,2,20190503,1957,-12.9835,-30.5344, 5255,   2273.0,   3.0182,  34.9248,2,  34.9272,2,    243.5,2,    245.6,2,    30.73,2,    21.25,2,     1.40,2,     -999,9,7.7285,2,    25.00,2103,20190503
  29HE20190406,   A17,54,0,9,9,2,20190503,1957,-12.9835,-30.5344, 5255,   1997.0,   3.3268,  34.9447,2,     -999,9,    245.6,2,    247.6,2,    24.59,2,    20.48,2,     1.33,2,     -999,9,7.7311,2,    25.00,2109,20190503
  29HE20190406,   A17,54,0,10,10,2,20190503,1957,-12.9835,-30.5344, 5255,   1801.2,   3.5678,  34.9464,2,  34.9490,2,    240.9,2,    243.6,2,    22.94,2,    21.11,2,     1.36,2,     -999,9,7.7251,2,    25.00,2113,20190503
  29HE20190406,   A17,54,0,11,11,2,20190503,1957,-12.9835,-30.5344, 5255,   1600.4,   3.9667,  34.9470,2,     -999,9,    231.1,2,    233.3,2,    20.35,2,    21.59,2,     1.41,2,     -999,9,7.7118,2,    25.00,2118,20190503
  29HE20190406,   A17,54,0,12,12,2,20190503,1957,-12.9835,-30.5344, 5255,   1399.6,   4.0941,  34.8360,2,  34.8373,2,    200.6,2,    201.5,2,    25.85,2,    26.07,2,     1.74,2,     -999,9,7.6622,2,    25.00,2122,20190503
  29HE20190406,   A17,54,0,13,13,2,20190503,1957,-12.9835,-30.5344, 5255,   1203.4,   3.9778,  34.6734,2,     -999,9,    179.4,2,    180.3,2,    32.38,2,    30.22,2,     2.04,2,     -999,9,7.6151,2,    25.00,2128,20190503
  29HE20190406,   A17,54,0,14,14,2,20190503,1957,-12.9835,-30.5344, 5255,    997.9,   4.0230,  34.5072,2,  34.5095,2,    170.7,2,    171.3,2,    35.04,2,    32.80,2,     2.21,2,     -999,9,7.5841,2,    25.00,2133,20190503
  29HE20190406,   A17,54,0,15,15,2,20190503,1957,-12.9835,-30.5344, 5255,    803.0,   4.5614,  34.4402,2,     -999,9,    168.2,2,    168.9,2,    30.55,2,    33.20,2,     2.22,2,     -999,9,7.5783,2,    25.00,2138,20190503
  29HE20190406,   A17,54,0,16,16,2,20190503,1957,-12.9835,-30.5344, 5255,    697.3,   5.0910,  34.4452,2,  34.4495,2,    164.0,2,    164.6,2,    26.70,2,    32.67,2,     2.17,2,     -999,9,7.5789,2,    25.00,2141,20190503
  29HE20190406,   A17,54,0,17,17,2,20190503,1957,-12.9835,-30.5344, 5255,    602.3,   5.7657,  34.4797,2,     -999,9,    157.5,2,    158.2,2,    22.91,2,    31.94,2,     2.12,2,     -999,9,7.5815,2,    25.00,2144,20190503
  29HE20190406,   A17,54,0,18,18,2,20190503,1957,-12.9835,-30.5344, 5255,    501.0,   6.7440,  34.5453,2,  34.5522,2,    154.1,2,    154.9,2,    18.76,2,    30.24,2,     1.98,2,     -999,9,7.595,2,    25.00,2147,20190503
  29HE20190406,   A17,54,0,19,19,2,20190503,1957,-12.9835,-30.5344, 5255,    399.7,   8.9377,  34.7733,2,     -999,9,    124.7,2,    126.0,2,    13.61,2,    28.05,2,     1.82,2,     -999,9,7.5999,2,    25.00,2150,20190503
  29HE20190406,   A17,54,0,20,20,2,20190503,1957,-12.9835,-30.5344, 5255,    302.1,  11.6879,  35.1088,2,  35.1133,2,    111.8,3,    107.7,2,     9.13,2,    23.91,2,     1.54,2,     -999,9,7.641,2,    25.00,2153,20190503
  29HE20190406,   A17,54,0,21,21,2,20190503,1957,-12.9835,-30.5344, 5255,    199.8,  17.7945,  35.9402,2,     -999,9,    178.6,2,    179.6,2,     2.61,2,     7.18,2,     0.59,2,     -999,9,7.8797,2,    25.00,2156,20190503
  29HE20190406,   A17,54,0,22,22,2,20190503,1957,-12.9835,-30.5344, 5255,     99.0,  24.6981,  37.0015,2,  37.0009,2,    220.4,2,    220.4,2,     0.98,2,     0.10,2,     0.11,2,     -999,9,8.0466,2,    25.00,2159,20190503
  29HE20190406,   A17,54,0,23,23,2,20190503,1957,-12.9835,-30.5344, 5255,     49.1,  28.6421,  36.8678,2,     -999,9,    196.7,2,    196.8,2,     1.00,2,     0.09,2,     0.05,2,     -999,9,8.0818,2,    25.00,2201,20190503
  29HE20190406,   A17,54,0,24,24,2,20190503,1957,-12.9835,-30.5344, 5255,      4.9,  28.6763,  36.8692,2,  36.8660,2,    196.2,2,    196.7,2,     1.04,2,     0.05,2,     0.05,2,     -999,9,8.083,2,    25.00,2203,20190503