BOTTLE,20240229CCHSIOSLL
EXPOCODE,SECT_ID,STNNBR,CASTNO,SAMPNO,BTLNBR,BTLNBR_FLAG_W,DATE,TIME,LATITUDE,LONGITUDE,DEPTH,CTDPRS,CTDTMP,CTDSAL,CTDSAL_FLAG_W,SALNTY,SALNTY_FLAG_W,CTDOXY,CTDOXY_FLAG_W,OXYGEN,OXYGEN_FLAG_W,SILCAT,SILCAT_FLAG_W,NITRAT,NITRAT_FLAG_W,PHSPHT,PHSPHT_FLAG_W,ALKALI,ALKALI_FLAG_W,PH_TOT,PH_TOT_FLAG_W,PH_TMP,BTL_TIME,BTL_DATE
,,,,,,,,,,,METERS,DBAR,ITS-90,PSS-78,,PSS-78,,UMOL/KG,,UMOL/KG,,UMOL/KG,,UMOL/KG,,UMOL/KG,,UMOL/KG,,,,DEG C,,
  29HE20190406,   A17,34,0,1,1,2,20190419,700,-28.494,-37.6053, 4532,   4521.8,   0.9200,  34.7306,2,     -999,9,    224.7,2,    224.6,2,   104.82,2,    30.14,2,     2.06,2,   2363.7,2,7.6377,2,    25.00,700,20190419
  29HE20190406,   A17,34,0,2,2,2,20190419,700,-28.494,-37.6053, 4532,   4001.7,   1.5801,  34.8049,2,  34.8024,2,    236.9,2,    236.5,2,    73.69,2,    26.10,2,     1.78,2,   2352.8,2,7.6827,2,    25.00,711,20190419
  29HE20190406,   A17,34,0,3,3,2,20190419,700,-28.494,-37.6053, 4532,   3502.9,   2.4355,  34.8930,2,     -999,9,    250.7,2,    250.6,2,    41.46,2,    21.29,2,     1.44,2,   2335.7,2,7.7256,2,    25.00,722,20190419
  29HE20190406,   A17,34,0,4,4,2,20190419,700,-28.494,-37.6053, 4532,   2999.6,   2.8002,  34.9199,2,  34.9176,2,    250.3,2,    251.4,2,    32.88,2,    20.60,2,     1.36,2,   2330.9,2,7.7325,2,    25.00,733,20190419
  29HE20190406,   A17,34,0,5,5,2,20190419,700,-28.494,-37.6053, 4532,   2500.5,   3.1045,  34.9353,2,     -999,9,    249.4,2,    250.8,2,    28.01,2,    20.24,2,     1.34,2,   2326.9,2,7.7327,2,    25.00,744,20190419
  29HE20190406,   A17,34,0,6,6,2,20190419,700,-28.494,-37.6053, 4532,   2273.2,   3.2567,  34.9397,2,  34.9372,2,    248.0,2,    249.2,2,    26.22,2,    20.29,2,     1.33,2,   2324.0,2,7.7303,2,    25.00,757,20190419
  29HE20190406,   A17,34,0,7,7,2,20190419,700,-28.494,-37.6053, 4532,   2001.1,   3.4801,  34.9328,2,     -999,9,    241.2,2,     -999,9,     -999,9,     -999,9,     -999,9,     -999,9,-999.0,9,    25.00,804,20190419
  29HE20190406,   A17,34,0,8,8,2,20190419,700,-28.494,-37.6053, 4532,   1802.9,   3.5031,  34.8874,2,  34.8845,2,    228.0,2,    228.9,2,    30.62,2,    22.88,2,     1.53,2,   2324.2,2,7.6974,2,    25.00,808,20190419
  29HE20190406,   A17,34,0,9,9,2,20190419,700,-28.494,-37.6053, 4532,   1602.6,   3.3045,  34.7674,2,     -999,9,    204.7,2,    205.5,2,    42.73,2,    27.15,2,     1.82,2,   2326.9,2,7.6517,2,    25.00,818,20190419
  29HE20190406,   A17,34,0,10,10,2,20190419,700,-28.494,-37.6053, 4532,   1400.5,   3.2392,  34.6392,2,  34.6354,2,    190.1,2,    191.5,2,    49.50,2,    30.54,2,     2.06,2,   2325.2,2,7.6162,2,    25.00,823,20190419
  29HE20190406,   A17,34,0,11,11,2,20190419,700,-28.494,-37.6053, 4532,   1202.4,   3.2607,  34.4707,2,     -999,9,    188.6,2,    190.0,2,    50.09,2,    32.46,2,     2.20,2,   2318.3,2,7.5939,2,    25.00,829,20190419
  29HE20190406,   A17,34,0,12,12,2,20190419,700,-28.494,-37.6053, 4532,   1099.4,   3.4948,  34.4033,2,  34.4011,2,    194.8,2,    195.6,2,    43.91,2,    32.56,2,     2.20,2,   2311.3,2,7.5981,2,    25.00,833,20190419
  29HE20190406,   A17,34,0,13,13,2,20190419,700,-28.494,-37.6053, 4532,   1002.3,   3.8686,  34.3536,2,     -999,9,    201.3,2,    203.1,2,    36.20,2,    31.75,2,     2.14,2,   2303.1,2,7.6065,2,    25.00,836,20190419
  29HE20190406,   A17,34,0,14,14,2,20190419,700,-28.494,-37.6053, 4532,    898.6,   4.4687,  34.3264,2,  34.3265,2,    209.0,2,    210.0,2,    28.16,2,    30.26,2,     2.05,2,   2296.5,2,7.6239,2,    25.00,839,20190419
  29HE20190406,   A17,34,0,15,15,2,20190419,700,-28.494,-37.6053, 4532,    798.6,   5.0395,  34.3088,2,     -999,9,    221.3,2,    222.3,2,    20.43,2,    28.16,2,     1.92,2,   2289.2,2,7.6469,2,    25.00,842,20190419
  29HE20190406,   A17,34,0,16,16,2,20190419,700,-28.494,-37.6053, 4532,    701.5,   6.2087,  34.3882,2,  34.3849,2,    218.7,2,    220.3,2,    14.83,2,    25.72,2,     1.76,2,   2288.1,2,7.6681,2,    25.00,845,20190419
  29HE20190406,   A17,34,0,17,17,2,20190419,700,-28.494,-37.6053, 4532,    600.2,   8.4510,  34.6250,2,     -999,9,    204.9,2,    206.1,2,    10.21,2,    21.34,2,     1.47,2,   2295.6,2,7.7063,2,    25.00,847,20190419
  29HE20190406,   A17,34,0,18,18,2,20190419,700,-28.494,-37.6053, 4532,    498.8,  10.6993,  34.9018,2,  34.9017,2,    201.9,2,    203.7,2,     6.56,2,    16.20,2,     1.14,2,   2305.9,2,7.7602,2,    25.00,856,20190419
  29HE20190406,   A17,34,0,19,19,2,20190419,700,-28.494,-37.6053, 4532,    395.1,  12.8054,  35.1977,2,     -999,9,    205.7,2,    207.3,2,     3.94,2,    10.90,2,     0.78,2,   2320.3,2,7.821,2,    25.00,859,20190419
  29HE20190406,   A17,34,0,20,20,2,20190419,700,-28.494,-37.6053, 4532,    300.6,  14.3690,  35.4384,2,  35.4371,2,    209.3,2,    211.2,2,     2.70,2,     7.14,2,     0.55,2,   2334.3,2,7.8655,2,    25.00,901,20190419
  29HE20190406,   A17,34,0,21,21,2,20190419,700,-28.494,-37.6053, 4532,    200.6,  16.1667,  35.6982,2,     -999,9,    210.7,2,    211.8,2,     1.74,2,     3.78,2,     0.33,2,   2348.9,2,7.9095,2,    25.00,904,20190419
  29HE20190406,   A17,34,0,22,22,2,20190419,700,-28.494,-37.6053, 4532,     90.7,  19.3744,  36.1695,2,  36.1599,2,    216.7,2,    218.3,2,     1.02,2,     0.09,2,     0.05,2,   2374.8,2,7.9784,2,    25.00,908,20190419
  29HE20190406,   A17,34,0,23,23,2,20190419,700,-28.494,-37.6053, 4532,     52.3,  21.8510,  36.2841,2,     -999,9,    236.6,2,    238.4,2,     0.96,2,     0.03,2,     0.00,2,   2380.0,2,8.0272,2,    25.00,910,20190419
  29HE20190406,   A17,34,0,24,24,2,20190419,700,-28.494,-37.6053, 4532,      4.8,  24.6781,  36.2080,2,  36.2042,2,    208.8,2,    209.4,2,     0.77,2,     0.02,2,     0.00,2,   2375.5,2,8.0437,2,    25.00,913,20190419
  29HE20190406,   A17,35,0,1,1,2,20190427,1015,-27.9039,-37.0898, 4735,   4725.0,   0.2897,  34.6758,2,     -999,9,    221.3,2,    221.0,2,   120.91,2,    32.60,2,     2.24,2,   2367.1,2,7.6059,2,    25.00,1015,20190427
  29HE20190406,   A17,35,0,2,2,2,20190427,1015,-27.9039,-37.0898, 4735,   4000.8,   1.5189,  34.7991,2,  34.7971,2,    235.2,2,    234.8,2,    74.71,2,    26.69,2,     1.81,2,   2352.4,2,7.6792,2,    25.00,1029,20190427
  29HE20190406,   A17,35,0,3,3,2,20190427,1015,-27.9039,-37.0898, 4735,   3500.3,   2.5324,  34.9020,2,     -999,9,    252.1,2,    250.7,2,    38.22,2,    21.22,2,     1.41,2,   2333.1,2,7.7299,2,    25.00,1040,20190427
  29HE20190406,   A17,35,0,4,4,2,20190427,1015,-27.9039,-37.0898, 4735,   3002.0,   2.8412,  34.9237,2,  34.9241,2,    250.8,2,    250.6,2,    32.01,2,    20.61,2,     1.36,2,   2328.4,2,7.7337,2,    25.00,1050,20190427
  29HE20190406,   A17,35,0,5,5,2,20190427,1015,-27.9039,-37.0898, 4735,   2495.8,   3.1440,  34.9379,2,     -999,9,    249.7,2,    249.3,2,    27.32,2,    20.37,2,     1.34,2,   2323.7,2,7.7329,2,    25.00,1101,20190427
  29HE20190406,   A17,35,0,6,6,2,20190427,1015,-27.9039,-37.0898, 4735,   2274.7,   3.3117,  34.9419,2,  34.9391,2,    248.1,2,    248.7,2,    25.55,2,    20.77,2,     1.33,2,   2321.4,2,7.7306,2,    25.00,1106,20190427
  29HE20190406,   A17,35,0,7,7,2,20190427,1015,-27.9039,-37.0898, 4735,   1998.1,   3.4664,  34.9202,2,     -999,9,    238.9,2,    238.8,2,    27.70,2,    21.84,2,     1.42,2,   2320.7,2,7.7139,2,    25.00,1112,20190427
  29HE20190406,   A17,35,0,8,8,2,20190427,1015,-27.9039,-37.0898, 4735,   1800.7,   3.4530,  34.8558,2,  34.8549,2,    221.3,2,    220.9,2,    34.47,2,    24.49,2,     1.62,2,   2321.9,2,7.6845,2,    25.00,1117,20190427
  29HE20190406,   A17,35,0,9,9,2,20190427,1015,-27.9039,-37.0898, 4735,   1599.8,   3.3622,  34.7486,2,     -999,9,    201.9,2,    201.9,2,    42.68,2,    28.06,2,     1.87,2,   2324.5,2,7.6461,2,    25.00,1121,20190427
  29HE20190406,   A17,35,0,10,10,2,20190427,1015,-27.9039,-37.0898, 4735,   1400.5,   3.2372,  34.6106,2,  34.6106,2,    188.9,2,    188.4,2,    50.00,2,    31.06,2,     2.09,2,   2323.8,2,7.6093,2,    25.00,1126,20190427
  29HE20190406,   A17,35,0,11,11,2,20190427,1015,-27.9039,-37.0898, 4735,   1200.8,   3.3359,  34.4556,2,     -999,9,    190.1,2,    189.7,2,    48.18,2,    32.55,2,     2.22,2,   2316.0,2,7.5942,2,    25.00,1131,20190427
  29HE20190406,   A17,35,0,12,12,2,20190427,1015,-27.9039,-37.0898, 4735,   1098.8,   3.5824,  34.3916,2,  34.3967,2,    196.8,2,    197.3,2,    41.91,2,    32.30,2,     2.19,2,   2311.7,2,7.5987,2,    25.00,1134,20190427
  29HE20190406,   A17,35,0,13,13,2,20190427,1015,-27.9039,-37.0898, 4735,   1004.7,   3.9563,  34.3407,2,     -999,9,    205.7,2,    205.7,2,    34.30,2,    31.59,2,     2.12,2,   2301.6,2,7.6113,2,    25.00,1136,20190427
  29HE20190406,   A17,35,0,14,14,2,20190427,1015,-27.9039,-37.0898, 4735,    897.3,   4.4957,  34.2984,2,  34.2982,2,    219.7,2,    219.7,2,    25.19,2,    29.80,2,     1.99,2,   2292.2,2,7.6337,2,    25.00,1139,20190427
  29HE20190406,   A17,35,0,15,15,2,20190427,1015,-27.9039,-37.0898, 4735,    799.7,   5.3723,  34.3320,2,     -999,9,    221.5,2,    220.3,2,    18.83,2,    27.64,2,     1.84,2,   2289.0,2,7.6515,2,    25.00,1142,20190427
  29HE20190406,   A17,35,0,16,16,2,20190427,1015,-27.9039,-37.0898, 4735,    700.2,   6.9794,  34.4730,2,  34.4728,2,    209.7,2,    209.5,2,    13.96,2,    24.91,2,     1.66,2,   2291.4,2,7.6733,2,    25.00,1145,20190427
  29HE20190406,   A17,35,0,17,17,2,20190427,1015,-27.9039,-37.0898, 4735,    595.7,   8.9459,  34.6842,2,     -999,9,    205.5,2,    204.0,2,     9.42,2,    20.58,2,     1.38,2,   2300.2,2,7.7175,2,    25.00,1148,20190427
  29HE20190406,   A17,35,0,18,18,2,20190427,1015,-27.9039,-37.0898, 4735,    499.1,  10.9851,  34.9353,2,  34.9410,2,    202.2,2,    202.0,2,     6.20,2,    15.85,2,     1.06,2,   2306.4,2,7.7662,2,    25.00,1151,20190427
  29HE20190406,   A17,35,0,19,19,2,20190427,1015,-27.9039,-37.0898, 4735,    399.2,  12.9773,  35.2147,2,     -999,9,    206.7,2,    206.4,2,     3.83,2,    10.79,2,     0.74,2,   2320.2,2,7.824,2,    25.00,1154,20190427
  29HE20190406,   A17,35,0,20,20,2,20190427,1015,-27.9039,-37.0898, 4735,    298.6,  14.7770,  35.4631,2,  35.4694,2,    206.9,2,    207.0,2,     2.53,2,     6.66,2,     0.50,2,   2333.3,2,7.8701,2,    25.00,1157,20190427
  29HE20190406,   A17,35,0,21,21,2,20190427,1015,-27.9039,-37.0898, 4735,    203.2,  16.5406,  35.7196,2,     -999,9,    205.0,2,    205.2,2,     1.92,2,     3.70,2,     0.33,2,   2348.4,2,7.9066,2,    25.00,1200,20190427
  29HE20190406,   A17,35,0,22,22,2,20190427,1015,-27.9039,-37.0898, 4735,     98.9,  20.3734,  36.2926,2,  36.2964,2,    223.1,2,    222.1,2,     0.92,2,     0.00,2,     0.01,2,   2383.1,2,8.0007,2,    25.00,1203,20190427
  29HE20190406,   A17,35,0,23,23,2,20190427,1015,-27.9039,-37.0898, 4735,     47.9,  25.2999,  36.7460,2,     -999,9,    207.0,2,    206.6,2,     0.82,2,     0.16,2,     0.00,2,   2409.8,2,8.0642,2,    25.00,1205,20190427
  29HE20190406,   A17,35,0,24,24,2,20190427,1015,-27.9039,-37.0898, 4735,      4.5,  25.2609,  36.6868,2,  36.6864,2,    207.7,2,    206.7,2,     0.82,2,     0.00,2,     0.00,2,   2406.0,2,8.0621,2,    25.00,1207,20190427
  29HE20190406,   A17,36,0,1,1,2,20190427,1747,-27.322,-36.5604, 4407,   2000.2,   3.2332,  34.8922,2,     -999,9,    235.7,2,     -999,9,     -999,9,     -999,9,     -999,9,     -999,9,-999.0,9,    25.00,1747,20190427
  29HE20190406,   A17,36,0,2,2,2,20190427,1747,-27.322,-36.5604, 4407,   1999.8,   3.2311,  34.8922,2,  34.8923,2,    235.8,2,    236.0,2,    32.60,2,    22.62,2,     1.50,2,     -999,9,7.706,2,    25.00,1747,20190427
  29HE20190406,   A17,36,0,3,3,2,20190427,1747,-27.322,-36.5604, 4407,   1702.1,   3.0897,  34.7800,2,     -999,9,    211.6,2,    210.6,2,    45.18,2,    26.86,2,     1.80,2,     -999,9,7.6592,2,    25.00,1754,20190427
  29HE20190406,   A17,36,0,4,4,2,20190427,1747,-27.322,-36.5604, 4407,   1500.5,   2.9280,  34.6459,2,  34.6471,2,    193.6,2,    192.3,2,    54.82,2,    30.34,2,     2.07,2,     -999,9,7.6166,2,    25.00,1759,20190427
  29HE20190406,   A17,36,0,5,5,2,20190427,1747,-27.322,-36.5604, 4407,   1501.2,   2.9285,  34.6454,2,     -999,9,    193.5,2,     -999,9,     -999,9,     -999,9,     -999,9,     -999,9,-999.0,9,    25.00,1759,20190427
  29HE20190406,   A17,36,0,6,6,2,20190427,1747,-27.322,-36.5604, 4407,   1199.9,   3.2726,  34.4637,2,  34.4657,2,    191.0,2,    189.8,2,    49.53,2,    32.60,2,     2.21,2,     -999,9,7.5932,2,    25.00,1805,20190427
  29HE20190406,   A17,36,0,7,7,2,20190427,1747,-27.322,-36.5604, 4407,   1200.9,   3.2747,  34.4626,2,     -999,9,    190.8,2,     -999,9,     -999,9,     -999,9,     -999,9,     -999,9,-999.0,9,    25.00,1806,20190427
  29HE20190406,   A17,36,0,8,8,2,20190427,1747,-27.322,-36.5604, 4407,   1009.0,   3.9033,  34.3454,2,  34.3477,2,    206.3,2,    205.1,2,    35.09,2,    31.62,2,     2.13,2,     -999,9,7.6106,2,    25.00,1810,20190427
  29HE20190406,   A17,36,0,9,9,2,20190427,1747,-27.322,-36.5604, 4407,   1008.6,   3.9054,  34.3448,2,     -999,9,    205.6,2,     -999,9,     -999,9,     -999,9,     -999,9,     -999,9,-999.0,9,    25.00,1810,20190427
  29HE20190406,   A17,36,0,10,10,2,20190427,1747,-27.322,-36.5604, 4407,    799.7,   5.3249,  34.3315,2,  34.3324,2,    221.5,2,    219.9,2,    19.22,2,    27.67,2,     1.89,2,     -999,9,7.6512,2,    25.00,1815,20190427
  29HE20190406,   A17,36,0,11,11,2,20190427,1747,-27.322,-36.5604, 4407,    798.7,   5.3328,  34.3317,2,     -999,9,    221.1,2,     -999,9,     -999,9,     -999,9,     -999,9,     -999,9,-999.0,9,    25.00,1815,20190427
  29HE20190406,   A17,36,0,12,12,2,20190427,1747,-27.322,-36.5604, 4407,    600.4,   8.5639,  34.6390,2,  34.6424,2,    205.5,2,    204.3,2,    10.06,2,    21.29,2,     1.46,2,     -999,9,7.7083,2,    25.00,1820,20190427
  29HE20190406,   A17,36,0,13,13,2,20190427,1747,-27.322,-36.5604, 4407,    601.3,   8.5653,  34.6394,2,     -999,9,    205.2,2,     -999,9,     -999,9,     -999,9,     -999,9,     -999,9,-999.0,9,    25.00,1820,20190427
  29HE20190406,   A17,36,0,14,14,2,20190427,1747,-27.322,-36.5604, 4407,    498.7,  10.5872,  34.8877,2,  34.8864,2,    204.0,2,    203.4,2,     6.66,2,    16.56,2,     1.14,2,     -999,9,7.7592,2,    25.00,1823,20190427
  29HE20190406,   A17,36,0,15,15,2,20190427,1747,-27.322,-36.5604, 4407,    401.0,  12.9047,  35.2203,2,     -999,9,    209.2,2,     -999,9,     -999,9,     -999,9,     -999,9,     -999,9,-999.0,9,    25.00,1826,20190427
  29HE20190406,   A17,36,0,16,16,2,20190427,1747,-27.322,-36.5604, 4407,    400.6,  12.9129,  35.2216,2,  35.2252,2,    209.4,2,    208.8,2,     3.77,2,    10.54,2,     0.77,2,     -999,9,7.8275,2,    25.00,1826,20190427
  29HE20190406,   A17,36,0,17,17,2,20190427,1747,-27.322,-36.5604, 4407,    299.4,  14.5832,  35.4468,2,     -999,9,    210.4,2,    209.8,2,     2.58,2,     6.67,2,     0.53,2,     -999,9,7.8702,2,    25.00,1829,20190427
  29HE20190406,   A17,36,0,18,18,2,20190427,1747,-27.322,-36.5604, 4407,    199.7,  16.6583,  35.7261,2,  35.7266,2,    208.4,2,    207.6,2,     1.78,2,     3.23,2,     0.32,2,     -999,9,7.9128,2,    25.00,1831,20190427
  29HE20190406,   A17,36,0,19,19,2,20190427,1747,-27.322,-36.5604, 4407,    198.8,  16.6718,  35.7286,2,     -999,9,    208.2,2,     -999,9,     -999,9,     -999,9,     -999,9,     -999,9,-999.0,9,    25.00,1832,20190427
  29HE20190406,   A17,36,0,20,20,2,20190427,1747,-27.322,-36.5604, 4407,     99.4,  20.4213,  36.3642,2,  36.3644,2,    216.1,2,    215.0,2,     1.02,2,     0.00,2,     0.06,2,     -999,9,7.9943,2,    25.00,1834,20190427
  29HE20190406,   A17,36,0,21,21,2,20190427,1747,-27.322,-36.5604, 4407,    100.4,  20.4385,  36.3670,2,     -999,9,    215.7,2,     -999,9,     -999,9,     -999,9,     -999,9,     -999,9,-999.0,9,    25.00,1835,20190427
  29HE20190406,   A17,36,0,22,22,2,20190427,1747,-27.322,-36.5604, 4407,     48.2,  25.1879,  36.6847,2,  36.6857,2,    208.0,2,    207.9,2,     0.80,2,     0.00,2,     0.00,2,     -999,9,8.0635,2,    25.00,1836,20190427
  29HE20190406,   A17,36,0,23,23,2,20190427,1747,-27.322,-36.5604, 4407,      5.5,  25.2195,  36.6786,2,     -999,9,    207.7,2,     -999,9,     -999,9,     -999,9,     -999,9,     -999,9,-999.0,9,    25.00,1839,20190427
  29HE20190406,   A17,36,0,24,24,2,20190427,1747,-27.322,-36.5604, 4407,      5.5,  25.2197,  36.6786,2,  36.6765,2,    207.9,2,    208.4,2,     0.82,2,     0.00,2,     0.01,2,     -999,9,8.0643,2,    25.00,1839,20190427