BOTTLE,20240229CCHSIOSLL
EXPOCODE,SECT_ID,STNNBR,CASTNO,SAMPNO,BTLNBR,BTLNBR_FLAG_W,DATE,TIME,LATITUDE,LONGITUDE,DEPTH,CTDPRS,CTDTMP,CTDSAL,CTDSAL_FLAG_W,SALNTY,SALNTY_FLAG_W,CTDOXY,CTDOXY_FLAG_W,OXYGEN,OXYGEN_FLAG_W,SILCAT,SILCAT_FLAG_W,NITRAT,NITRAT_FLAG_W,PHSPHT,PHSPHT_FLAG_W,ALKALI,ALKALI_FLAG_W,PH_TOT,PH_TOT_FLAG_W,PH_TMP,BTL_TIME,BTL_DATE
,,,,,,,,,,,METERS,DBAR,ITS-90,PSS-78,,PSS-78,,UMOL/KG,,UMOL/KG,,UMOL/KG,,UMOL/KG,,UMOL/KG,,UMOL/KG,,,,DEG C,,
  29HE20190406,   A17,55,0,1,1,2,20190504,600,-11.8551,-30.4848, 5513,   5503.3,   0.5986,  34.6914,2,     -999,9,    220.3,2,    221.9,2,   117.23,2,    31.62,2,     2.17,2,   2369.3,2,7.6149,2,    25.00,600,20190504
  29HE20190406,   A17,55,0,2,2,2,20190504,600,-11.8551,-30.4848, 5513,   5003.3,   0.7458,  34.7124,2,  34.7159,2,    222.6,2,    223.9,2,   111.35,2,    30.61,2,     2.11,2,   2367.6,2,7.6306,2,    25.00,640,20190504
  29HE20190406,   A17,55,0,3,3,2,20190504,600,-11.8551,-30.4848, 5513,   4496.2,   1.2598,  34.7702,2,     -999,9,    230.1,2,    232.3,2,    89.09,2,    27.56,2,     1.89,2,   2361.0,2,7.6648,2,    25.00,653,20190504
  29HE20190406,   A17,55,0,4,4,2,20190504,600,-11.8551,-30.4848, 5513,   3997.1,   2.0120,  34.8556,2,  34.8572,2,    245.5,2,    249.0,2,    53.83,2,    22.66,2,     1.53,2,   2345.2,2,7.7119,2,    25.00,703,20190504
  29HE20190406,   A17,55,0,5,5,2,20190504,600,-11.8551,-30.4848, 5513,   3502.4,   2.4752,  34.9010,2,     -999,9,    249.6,2,    253.9,2,    37.41,2,    20.57,2,     1.38,2,   2335.9,2,7.7316,2,    25.00,714,20190504
  29HE20190406,   A17,55,0,6,6,2,20190504,600,-11.8551,-30.4848, 5513,   2999.0,   2.6874,  34.9123,2,  34.9136,2,    243.6,2,    249.6,2,    35.50,2,    20.86,2,     1.40,2,   2334.8,2,7.7306,2,    25.00,755,20190504
  29HE20190406,   A17,55,0,7,7,2,20190504,600,-11.8551,-30.4848, 5513,   2503.9,   2.9134,  34.9238,2,     -999,9,    241.1,2,    248.6,2,    31.66,2,    20.67,2,     1.39,2,   2329.7,2,7.7297,2,    25.00,947,20190504
  29HE20190406,   A17,55,0,8,8,2,20190504,600,-11.8551,-30.4848, 5513,   2203.2,   3.1740,  34.9385,2,  34.9385,2,    242.1,2,    249.0,2,    26.82,2,    20.19,2,     1.35,2,   2325.1,2,7.7318,2,    25.00,954,20190504
  29HE20190406,   A17,55,0,9,9,2,20190504,600,-11.8551,-30.4848, 5513,   2002.8,   3.4210,  34.9524,2,     -999,9,    243.0,2,    249.1,2,    22.88,2,    19.87,2,     1.32,2,   2322.3,2,7.7327,2,    25.00,1000,20190504
  29HE20190406,   A17,55,0,10,10,2,20190504,600,-11.8551,-30.4848, 5513,   1803.5,   3.7217,  34.9608,2,  34.9618,2,    239.0,2,    244.9,2,    20.25,2,    20.07,2,     1.33,2,   2319.5,2,7.727,2,    25.00,1005,20190504
  29HE20190406,   A17,55,0,11,11,2,20190504,600,-11.8551,-30.4848, 5513,   1602.6,   3.9830,  34.9457,2,     -999,9,    226.2,2,    230.5,2,    20.63,2,    21.54,2,     1.44,2,   2318.1,2,7.7109,2,    25.00,1011,20190504
  29HE20190406,   A17,55,0,12,12,2,20190504,600,-11.8551,-30.4848, 5513,   1401.2,   4.1633,  34.8730,2,  34.8796,2,    202.7,2,    206.0,2,    23.90,2,    24.85,2,     1.67,2,   2317.2,2,7.6718,2,    25.00,1016,20190504
  29HE20190406,   A17,55,0,13,13,2,20190504,600,-11.8551,-30.4848, 5513,   1201.2,   4.0605,  34.7103,2,     -999,9,    178.7,2,    181.7,2,    30.82,2,    29.42,2,     1.99,2,   2316.3,2,7.6219,2,    25.00,1022,20190504
  29HE20190406,   A17,55,0,14,14,2,20190504,600,-11.8551,-30.4848, 5513,   1000.0,   3.9395,  34.5432,2,  34.5416,2,    173.1,2,    175.5,2,    35.60,2,    31.93,2,     2.18,2,   2311.6,2,7.5945,2,    25.00,1027,20190504
  29HE20190406,   A17,55,0,15,15,2,20190504,600,-11.8551,-30.4848, 5513,    804.0,   4.3456,  34.4498,2,     -999,9,    168.0,2,    170.1,2,    32.38,2,    33.02,2,     2.23,2,   2304.3,2,7.5809,2,    25.00,1032,20190504
  29HE20190406,   A17,55,0,16,16,2,20190504,600,-11.8551,-30.4848, 5513,    701.4,   4.7979,  34.4403,2,  34.4489,2,    164.8,2,    166.4,2,    28.86,2,    32.76,2,     2.21,2,   2300.2,2,7.5779,2,    25.00,1036,20190504
  29HE20190406,   A17,55,0,17,17,2,20190504,600,-11.8551,-30.4848, 5513,    601.2,   5.4631,  34.4602,2,     -999,9,    160.8,2,    162.1,2,    24.55,2,    32.00,2,     2.14,2,   2298.9,2,7.583,2,    25.00,1039,20190504
  29HE20190406,   A17,55,0,18,18,2,20190504,600,-11.8551,-30.4848, 5513,    502.5,   6.4106,  34.5160,2,  34.5170,2,    157.6,2,    158.7,2,    19.96,2,    30.31,2,     2.02,2,   2296.2,2,7.5951,2,    25.00,1042,20190504
  29HE20190406,   A17,55,0,19,19,2,20190504,600,-11.8551,-30.4848, 5513,    401.2,   8.3721,  34.7082,2,     -999,9,    135.3,2,    136.6,2,    14.64,2,    28.00,2,     1.84,2,   2299.7,2,7.6045,2,    25.00,1045,20190504
  29HE20190406,   A17,55,0,20,20,2,20190504,600,-11.8551,-30.4848, 5513,    300.8,  11.5956,  35.0868,2,  35.0851,2,    127.0,2,    127.5,2,     8.68,2,    22.09,2,     1.46,2,   2312.1,2,7.6673,2,    25.00,1048,20190504
  29HE20190406,   A17,55,0,21,21,2,20190504,600,-11.8551,-30.4848, 5513,    202.7,  17.0003,  35.8312,2,     -999,9,    167.8,2,    170.2,2,     3.12,2,     8.88,2,     0.69,2,   2353.9,2,7.8528,2,    25.00,1051,20190504
  29HE20190406,   A17,55,0,22,22,2,20190504,600,-11.8551,-30.4848, 5513,    101.5,  24.4802,  37.0324,2,  37.0313,2,    217.2,2,    220.3,2,     1.01,2,     0.04,2,     0.11,2,   2432.0,2,8.0441,2,    25.00,1054,20190504
  29HE20190406,   A17,55,0,23,23,2,20190504,600,-11.8551,-30.4848, 5513,     52.2,  28.6059,  36.8784,2,     -999,9,    193.7,2,    198.3,2,     0.98,2,     0.04,2,     0.04,2,   2419.1,2,8.0804,2,    25.00,1056,20190504
  29HE20190406,   A17,55,0,24,24,2,20190504,600,-11.8551,-30.4848, 5513,      5.3,  28.5963,  36.8690,2,  36.8646,2,    193.5,2,    196.4,2,     0.99,2,     0.03,2,     0.04,2,   2418.3,2,8.0798,2,    25.00,1059,20190504
  29HE20190406,   A17,56,0,1,1,2,20190504,1826,-10.8052,-30.4219, 5272,   4204.0,   1.5586,  34.8060,2,     -999,9,    237.1,2,    239.2,2,    71.75,2,    25.61,2,     1.75,2,     -999,9,7.6864,2,    25.00,1826,20190504
  29HE20190406,   A17,56,0,2,2,2,20190504,1826,-10.8052,-30.4219, 5272,   3500.1,   2.5233,  34.9071,2,  34.9096,2,    254.0,2,    254.8,2,    34.77,2,    20.32,2,     1.36,2,     -999,9,7.7318,2,    25.00,1841,20190504
  29HE20190406,   A17,56,0,3,3,2,20190504,1826,-10.8052,-30.4219, 5272,   3000.0,   2.7281,  34.9192,2,     -999,9,    249.8,2,    251.3,2,    32.86,2,    20.59,2,     1.37,2,     -999,9,7.7315,2,    25.00,1851,20190504
  29HE20190406,   A17,56,0,4,4,2,20190504,1826,-10.8052,-30.4219, 5272,   2749.7,   2.8149,  34.9214,2,  34.9207,2,    247.2,2,    248.0,2,    32.61,2,    20.70,2,     1.38,2,     -999,9,7.7313,2,    25.00,1857,20190504
  29HE20190406,   A17,56,0,5,5,2,20190504,1826,-10.8052,-30.4219, 5272,   2496.5,   2.9449,  34.9291,2,     -999,9,    247.2,2,    247.9,2,    30.20,2,    20.60,2,     1.37,2,     -999,9,7.7323,2,    25.00,1903,20190504
  29HE20190406,   A17,56,0,6,6,2,20190504,1826,-10.8052,-30.4219, 5272,   2272.4,   3.1409,  34.9436,2,  34.9480,2,    250.1,2,    251.5,2,    25.70,2,    19.88,2,     1.32,2,     -999,9,7.7344,2,    25.00,1908,20190504
  29HE20190406,   A17,56,0,7,7,2,20190504,1826,-10.8052,-30.4219, 5272,   2001.2,   3.4020,  34.9558,2,     -999,9,    248.6,2,    250.8,2,    22.34,2,    19.72,2,     1.31,2,     -999,9,7.7345,2,    25.00,1915,20190504
  29HE20190406,   A17,56,0,8,8,2,20190504,1826,-10.8052,-30.4219, 5272,   1800.7,   3.6789,  34.9634,2,  34.9615,2,    245.4,2,    247.1,2,    19.89,2,    19.79,2,     1.30,2,     -999,9,7.7292,2,    25.00,1920,20190504
  29HE20190406,   A17,56,0,9,9,2,20190504,1826,-10.8052,-30.4219, 5272,   1600.0,   3.9773,  34.9411,2,     -999,9,    228.6,2,    229.8,2,    20.92,2,    21.84,2,     1.45,2,     -999,9,7.7088,2,    25.00,1925,20190504
  29HE20190406,   A17,56,0,10,10,2,20190504,1826,-10.8052,-30.4219, 5272,   1401.1,   4.1370,  34.8630,2,  34.9785,4,    204.3,2,    204.9,2,    24.40,2,    25.29,2,     1.70,2,     -999,9,7.6696,2,    25.00,1929,20190504
  29HE20190406,   A17,56,0,11,11,2,20190504,1826,-10.8052,-30.4219, 5272,   1199.8,   4.1460,  34.7219,2,     -999,9,    180.2,2,    181.4,2,    29.95,2,    29.33,2,     1.97,2,     -999,9,7.6219,2,    25.00,1934,20190504
  29HE20190406,   A17,56,0,12,12,2,20190504,1826,-10.8052,-30.4219, 5272,   1097.8,   4.0067,  34.6160,2,  34.6136,2,    172.6,2,    173.9,2,    33.80,2,    31.60,2,     2.12,2,     -999,9,7.5973,2,    25.00,1937,20190504
  29HE20190406,   A17,56,0,13,13,2,20190504,1826,-10.8052,-30.4219, 5272,   1001.3,   3.9919,  34.5296,2,     -999,9,    171.7,2,    172.4,2,    35.42,2,    32.50,2,     2.20,2,     -999,9,7.5881,2,    25.00,1940,20190504
  29HE20190406,   A17,56,0,14,14,2,20190504,1826,-10.8052,-30.4219, 5272,    902.9,   4.1055,  34.4848,2,  34.4801,2,    170.7,2,    171.8,2,    34.60,2,    32.96,2,     2.22,2,     -999,9,7.5823,2,    25.00,1942,20190504
  29HE20190406,   A17,56,0,15,15,2,20190504,1826,-10.8052,-30.4219, 5272,    801.1,   4.4361,  34.4538,2,     -999,9,    166.1,2,    166.3,2,    31.92,2,    33.35,2,     2.25,2,     -999,9,7.5743,2,    25.00,1945,20190504
  29HE20190406,   A17,56,0,16,16,2,20190504,1826,-10.8052,-30.4219, 5272,    701.3,   4.9313,  34.4516,2,  34.4492,2,    159.6,2,    159.5,2,    28.36,2,    33.45,2,     2.22,2,     -999,9,7.5696,2,    25.00,1948,20190504
  29HE20190406,   A17,56,0,17,17,2,20190504,1826,-10.8052,-30.4219, 5272,    601.2,   5.5979,  34.4804,2,     -999,9,    150.9,2,    151.5,2,    24.36,2,    32.71,2,     2.18,2,     -999,9,7.5677,2,    25.00,1951,20190504
  29HE20190406,   A17,56,0,18,18,2,20190504,1826,-10.8052,-30.4219, 5272,    500.2,   6.5243,  34.5316,2,  34.5298,2,    150.6,2,    151.5,2,    20.01,2,    30.95,2,     2.04,2,     -999,9,7.5828,2,    25.00,1954,20190504
  29HE20190406,   A17,56,0,19,19,2,20190504,1826,-10.8052,-30.4219, 5272,    398.8,   8.1820,  34.6824,2,     -999,9,    139.7,2,    140.9,2,    15.05,2,    28.07,2,     1.85,2,     -999,9,7.6041,2,    25.00,1957,20190504
  29HE20190406,   A17,56,0,20,20,2,20190504,1826,-10.8052,-30.4219, 5272,    300.7,  11.1173,  35.0247,2,  35.0227,2,    124.4,2,    124.6,2,     9.62,2,    23.47,2,     1.53,2,     -999,9,7.6488,2,    25.00,2000,20190504
  29HE20190406,   A17,56,0,21,21,2,20190504,1826,-10.8052,-30.4219, 5272,    199.6,  16.1556,  35.7159,2,     -999,9,    163.5,2,    164.3,2,     3.54,2,    10.42,2,     0.78,2,     -999,9,7.828,2,    25.00,2003,20190504
  29HE20190406,   A17,56,0,22,22,2,20190504,1826,-10.8052,-30.4219, 5272,    100.8,  24.2714,  36.9868,2,  36.9719,2,    217.6,2,    217.4,2,     0.99,2,     0.00,2,     0.10,2,     -999,9,8.0394,2,    25.00,2006,20190504
  29HE20190406,   A17,56,0,23,23,2,20190504,1826,-10.8052,-30.4219, 5272,     50.4,  28.6971,  36.8900,2,     -999,9,    197.2,2,    196.7,2,     0.93,2,     0.00,2,     0.04,2,     -999,9,8.0814,2,    25.00,2008,20190504
  29HE20190406,   A17,56,0,24,24,2,20190504,1826,-10.8052,-30.4219, 5272,      5.1,  28.9511,  36.4944,2,  36.4910,2,    196.2,2,    195.5,2,     1.03,2,     0.00,2,     0.03,2,     -999,9,8.0849,2,    25.00,2010,20190504
  29HE20190406,   A17,57,0,1,1,2,20190505,410,-9.6887,-30.3664, 4685,   4455.3,   1.1703,  34.7626,2,     -999,9,    229.5,2,    231.3,2,    91.86,2,    28.10,2,     1.93,2,   2362.3,2,7.6627,2,    25.00,410,20190505
  29HE20190406,   A17,57,0,2,2,2,20190505,410,-9.6887,-30.3664, 4685,   4001.0,   1.8389,  34.8374,2,  34.8358,2,    243.7,2,    244.5,2,    60.80,2,    23.93,2,     1.62,2,   2347.8,2,7.7041,2,    25.00,420,20190505
  29HE20190406,   A17,57,0,3,3,2,20190505,410,-9.6887,-30.3664, 4685,   3501.4,   2.5232,  34.9090,2,     -999,9,    255.6,2,    257.4,2,    32.83,2,    19.76,2,     1.34,2,   2332.1,2,7.7376,2,    25.00,431,20190505
  29HE20190406,   A17,57,0,4,4,2,20190505,410,-9.6887,-30.3664, 4685,   2997.9,   2.7452,  34.9219,2,  34.9189,2,    250.9,2,    252.3,2,    31.51,2,    20.23,2,     1.36,2,   2332.3,2,7.7364,2,    25.00,441,20190505
  29HE20190406,   A17,57,0,5,5,2,20190505,410,-9.6887,-30.3664, 4685,   2499.0,   2.9702,  34.9357,2,     -999,9,    250.6,2,    251.7,2,    27.77,2,    19.91,2,     1.33,2,   2327.8,2,7.7363,2,    25.00,451,20190505
  29HE20190406,   A17,57,0,6,6,2,20190505,410,-9.6887,-30.3664, 4685,   2273.8,   3.1712,  34.9492,2,  34.9458,2,    253.4,2,    254.9,2,    23.48,2,    19.05,2,     1.29,2,   2324.8,2,7.7387,2,    25.00,456,20190505
  29HE20190406,   A17,57,0,7,7,2,20190505,410,-9.6887,-30.3664, 4685,   2002.8,   3.3933,  34.9521,2,     -999,9,    248.0,2,    248.5,2,    22.78,2,    19.76,2,     1.32,2,   2322.7,2,7.7334,2,    25.00,503,20190505
  29HE20190406,   A17,57,0,8,8,2,20190505,410,-9.6887,-30.3664, 4685,   1801.7,   3.6879,  34.9630,2,  34.9593,2,    245.1,2,    246.7,2,    19.81,2,    19.69,2,     1.32,2,   2319.6,2,7.73,2,    25.00,508,20190505
  29HE20190406,   A17,57,0,9,9,2,20190505,410,-9.6887,-30.3664, 4685,   1599.5,   4.0350,  34.9576,2,     -999,9,    233.3,2,    235.0,2,    19.12,2,    20.85,2,     1.40,2,   2319.4,2,7.715,2,    25.00,513,20190505
  29HE20190406,   A17,57,0,10,10,2,20190505,410,-9.6887,-30.3664, 4685,   1400.8,   4.3217,  34.9112,2,  34.9063,2,    210.7,2,    211.4,2,    21.29,2,    23.70,2,     1.59,2,   2317.3,2,7.6837,2,    25.00,518,20190505
  29HE20190406,   A17,57,0,11,11,2,20190505,410,-9.6887,-30.3664, 4685,   1201.9,   4.1831,  34.7238,2,     -999,9,    180.6,2,    181.9,2,    29.68,2,    29.01,2,     1.97,2,   2316.5,2,7.6232,2,    25.00,522,20190505
  29HE20190406,   A17,57,0,12,12,2,20190505,410,-9.6887,-30.3664, 4685,   1100.4,   4.0732,  34.6356,2,  34.6302,2,    174.9,2,    178.1,2,    32.69,2,    30.78,2,     2.10,2,   2315.0,2,7.6046,2,    25.00,525,20190505
  29HE20190406,   A17,57,0,13,13,2,20190505,410,-9.6887,-30.3664, 4685,   1000.0,   4.0743,  34.5562,2,     -999,9,    169.0,2,    169.8,2,    34.18,2,    32.35,2,     2.20,2,   2311.8,2,7.5882,2,    25.00,528,20190505
  29HE20190406,   A17,57,0,14,14,2,20190505,410,-9.6887,-30.3664, 4685,    899.8,   4.2934,  34.4953,2,  34.4936,2,    159.3,2,    159.7,2,    33.09,2,    33.77,2,     2.28,2,   2308.0,2,7.5685,2,    25.00,531,20190505
  29HE20190406,   A17,57,0,15,15,2,20190505,410,-9.6887,-30.3664, 4685,    800.0,   4.5864,  34.4714,2,     -999,9,    154.3,2,    155.3,2,    31.09,2,    34.13,2,     2.30,2,   2305.4,2,7.5614,2,    25.00,534,20190505
  29HE20190406,   A17,57,0,16,16,2,20190505,410,-9.6887,-30.3664, 4685,    701.9,   5.2093,  34.4774,2,  34.4740,2,    145.0,2,    145.7,2,    26.82,2,    34.12,2,     2.29,2,   2300.9,2,7.5528,2,    25.00,537,20190505
  29HE20190406,   A17,57,0,17,17,2,20190505,410,-9.6887,-30.3664, 4685,    599.8,   5.9814,  34.5200,2,     -999,9,    133.4,2,    134.3,2,    23.11,2,    33.76,2,     2.23,2,   2299.6,2,7.5481,2,    25.00,540,20190505
  29HE20190406,   A17,57,0,18,18,2,20190505,410,-9.6887,-30.3664, 4685,    501.6,   7.0333,  34.6007,2,  34.5995,2,    120.3,2,    119.9,2,    19.47,2,    33.14,2,     2.15,2,   2298.8,2,7.5449,2,    25.00,542,20190505
  29HE20190406,   A17,57,0,19,19,2,20190505,410,-9.6887,-30.3664, 4685,    402.4,   8.1108,  34.7065,2,     -999,9,    109.4,2,    110.6,2,    16.31,2,    31.55,2,     2.03,2,   2300.6,2,7.5548,2,    25.00,545,20190505
  29HE20190406,   A17,57,0,20,20,2,20190505,410,-9.6887,-30.3664, 4685,    302.0,   9.8451,  34.9056,2,  34.9036,2,    102.0,2,    102.2,2,    12.47,2,    28.39,2,     1.83,2,   2307.9,2,7.586,2,    25.00,548,20190505
  29HE20190406,   A17,57,0,21,21,2,20190505,410,-9.6887,-30.3664, 4685,    201.1,  14.3156,  35.4856,2,     -999,9,    126.0,2,    126.7,2,     5.98,2,    17.77,2,     1.20,2,   2335.4,2,7.7309,2,    25.00,551,20190505
  29HE20190406,   A17,57,0,22,22,2,20190505,410,-9.6887,-30.3664, 4685,    101.8,  21.5158,  36.4788,2,  36.4863,2,    196.6,2,    197.3,2,     1.49,2,     0.15,2,     0.25,2,   2402.5,2,7.971,2,    25.00,554,20190505
  29HE20190406,   A17,57,0,23,23,2,20190505,410,-9.6887,-30.3664, 4685,     51.7,  28.8824,  36.6400,2,     -999,9,    195.6,2,    196.0,2,     0.97,2,     0.00,2,     0.03,2,   2405.5,2,8.0851,2,    25.00,556,20190505
  29HE20190406,   A17,57,0,24,24,2,20190505,410,-9.6887,-30.3664, 4685,      6.8,  28.9144,  36.2859,2,  36.2780,2,    195.2,2,    195.3,2,     0.97,2,     0.00,2,     0.03,2,   2381.0,2,8.0857,2,    25.00,558,20190505
  29HE20190406,   A17,58,0,1,1,2,20190505,1354,-8.5907,-30.3202, 5419,   4201.9,   1.5161,  34.8015,2,     -999,9,    236.2,2,    237.6,2,    73.71,2,    26.19,2,     1.77,2,     -999,9,7.683,2,    25.00,1354,20190505
  29HE20190406,   A17,58,0,2,2,2,20190505,1354,-8.5907,-30.3202, 5419,   3502.1,   2.5307,  34.9090,2,  34.9170,2,    254.8,2,    256.1,2,    33.74,2,    20.07,2,     1.35,2,     -999,9,7.7348,2,    25.00,1409,20190505
  29HE20190406,   A17,58,0,3,3,2,20190505,1354,-8.5907,-30.3202, 5419,   3000.5,   2.7312,  34.9186,2,     -999,9,    248.8,2,    250.3,2,    33.45,2,    20.60,2,     1.38,2,     -999,9,7.7332,2,    25.00,1419,20190505
  29HE20190406,   A17,58,0,4,4,2,20190505,1354,-8.5907,-30.3202, 5419,   2749.7,   2.8466,  34.9252,2,  34.9226,2,    248.3,2,    250.2,2,    31.55,2,    20.56,2,     1.37,2,     -999,9,7.7326,2,    25.00,1424,20190505
  29HE20190406,   A17,58,0,5,5,2,20190505,1354,-8.5907,-30.3202, 5419,   2497.4,   2.9889,  34.9311,2,     -999,9,    246.5,2,    248.6,2,    30.06,2,    20.66,2,     1.37,2,     -999,9,7.7314,2,    25.00,1430,20190505
  29HE20190406,   A17,58,0,6,6,2,20190505,1354,-8.5907,-30.3202, 5419,   2275.1,   3.1635,  34.9381,2,  34.9341,2,    244.8,2,    247.8,2,    27.98,2,    20.49,2,     1.36,2,     -999,9,7.7301,2,    25.00,1435,20190505
  29HE20190406,   A17,58,0,7,7,2,20190505,1354,-8.5907,-30.3202, 5419,   2000.1,   3.4552,  34.9530,2,     -999,9,    245.1,2,    246.7,2,    23.26,2,    20.20,2,     1.33,2,     -999,9,7.73,2,    25.00,1442,20190505
  29HE20190406,   A17,58,0,8,8,2,20190505,1354,-8.5907,-30.3202, 5419,   1802.2,   3.6842,  34.9586,2,  34.9562,2,    241.2,2,    243.1,2,    21.44,2,    20.49,2,     1.35,2,     -999,9,7.7258,2,    25.00,1447,20190505
  29HE20190406,   A17,58,0,9,9,2,20190505,1354,-8.5907,-30.3202, 5419,   1608.6,   3.9748,  34.9566,2,     -999,9,    233.0,2,    234.5,2,    20.00,2,    21.28,2,     1.40,2,     -999,9,7.7152,2,    25.00,1452,20190505
  29HE20190406,   A17,58,0,10,10,2,20190505,1354,-8.5907,-30.3202, 5419,   1197.6,   4.2203,  34.7654,2,     -999,9,    183.3,2,     -999,9,     -999,9,     -999,9,     -999,9,     -999,9,-999.0,9,    25.00,1504,20190505
  29HE20190406,   A17,58,0,11,11,2,20190505,1354,-8.5907,-30.3202, 5419,   1197.3,   4.2200,  34.7649,2,     -999,9,    183.5,2,    184.3,2,    28.19,2,    28.44,2,     1.92,2,     -999,9,7.6303,2,    25.00,1504,20190505
  29HE20190406,   A17,58,0,12,12,2,20190505,1354,-8.5907,-30.3202, 5419,   1095.8,   4.1310,  34.6641,2,  34.6586,2,    173.3,2,    173.7,2,    32.05,2,    30.82,2,     2.07,2,     -999,9,7.603,2,    25.00,1508,20190505