BOTTLE,20240229CCHSIOSLL
EXPOCODE,SECT_ID,STNNBR,CASTNO,SAMPNO,BTLNBR,BTLNBR_FLAG_W,DATE,TIME,LATITUDE,LONGITUDE,DEPTH,CTDPRS,CTDTMP,CTDSAL,CTDSAL_FLAG_W,SALNTY,SALNTY_FLAG_W,CTDOXY,CTDOXY_FLAG_W,OXYGEN,OXYGEN_FLAG_W,SILCAT,SILCAT_FLAG_W,NITRAT,NITRAT_FLAG_W,PHSPHT,PHSPHT_FLAG_W,ALKALI,ALKALI_FLAG_W,PH_TOT,PH_TOT_FLAG_W,PH_TMP,BTL_TIME,BTL_DATE
,,,,,,,,,,,METERS,DBAR,ITS-90,PSS-78,,PSS-78,,UMOL/KG,,UMOL/KG,,UMOL/KG,,UMOL/KG,,UMOL/KG,,UMOL/KG,,,,DEG C,,
  29HE20190406,   A17,9,0,1,1,2,20190411,1842,-43.5003,-50.7023, 5599,   5452.3,   0.3170,  34.6704,2,     -999,9,    221.2,2,    222.1,2,   123.42,2,    32.72,2,     2.25,2,   2366.1,2,7.6039,2,    25.00,1842,20190411
  29HE20190406,   A17,9,0,2,2,2,20190411,1842,-43.5003,-50.7023, 5599,   5002.6,   0.3246,  34.6736,2,  34.6798,2,    223.0,2,    222.0,2,   121.89,2,    32.55,2,     2.23,2,   2365.0,2,7.6044,2,    25.00,1851,20190411
  29HE20190406,   A17,9,0,3,3,2,20190411,1842,-43.5003,-50.7023, 5599,   4501.3,   0.4436,  34.6818,2,     -999,9,    219.7,2,    219.6,2,   119.78,2,    32.36,2,     2.21,2,   2363.6,2,7.6019,2,    25.00,1901,20190411
  29HE20190406,   A17,9,0,4,4,2,20190411,1842,-43.5003,-50.7023, 5599,   4000.0,   0.7860,  34.6998,2,  34.7033,2,    212.7,2,    212.9,2,   114.05,2,    31.74,2,     2.18,2,   2361.0,2,7.6072,2,    25.00,1911,20190411
  29HE20190406,   A17,9,0,5,5,2,20190411,1842,-43.5003,-50.7023, 5599,   3499.3,   1.3346,  34.7318,2,     -999,9,    205.8,2,    205.8,2,   103.52,2,    30.84,2,     2.09,2,   2357.9,2,7.6171,2,    25.00,1920,20190411
  29HE20190406,   A17,9,0,6,6,2,20190411,1842,-43.5003,-50.7023, 5599,   2994.8,   2.0195,  34.7862,2,  34.7919,2,    209.0,2,    211.1,2,    75.17,2,    28.15,2,     1.91,2,   2348.8,2,7.6457,2,    25.00,1929,20190411
  29HE20190406,   A17,9,0,7,7,2,20190411,1842,-43.5003,-50.7023, 5599,   2500.8,   2.6254,  34.8252,2,     -999,9,    215.2,2,    217.0,2,    58.01,2,    25.83,2,     1.74,2,   2337.8,2,7.6678,2,    25.00,1939,20190411
  29HE20190406,   A17,9,0,8,8,2,20190411,1842,-43.5003,-50.7023, 5599,   2275.6,   2.8194,  34.8219,2,  34.8254,2,    212.2,2,    213.5,2,    55.76,2,    26.30,2,     1.76,2,   2335.7,2,-999.0,9,    25.00,1944,20190411
  29HE20190406,   A17,9,0,9,9,2,20190411,1842,-43.5003,-50.7023, 5599,   2002.3,   2.8204,  34.7582,2,     -999,9,    195.2,2,    197.4,2,    60.99,2,    28.79,2,     1.94,2,   2337.6,2,7.6292,2,    25.00,1950,20190411
  29HE20190406,   A17,9,0,10,10,2,20190411,1842,-43.5003,-50.7023, 5599,   1799.2,   2.7437,  34.6870,2,  34.6869,2,    182.4,2,    183.5,2,    66.15,2,    31.13,2,     2.12,2,   2338.4,2,7.5988,2,    25.00,1954,20190411
  29HE20190406,   A17,9,0,11,11,2,20190411,1842,-43.5003,-50.7023, 5599,   1595.9,   2.7450,  34.6098,2,     -999,9,    176.5,2,    177.6,2,    66.35,2,    32.77,2,     2.21,2,   2334.8,2,7.5799,2,    25.00,1959,20190411
  29HE20190406,   A17,9,0,12,12,2,20190411,1842,-43.5003,-50.7023, 5599,   1396.9,   2.7730,  34.5254,2,  34.5255,2,    176.9,2,    177.9,2,    63.29,2,    33.83,2,     2.29,2,   2328.9,2,7.5695,2,    25.00,2005,20190411
  29HE20190406,   A17,9,0,13,13,2,20190411,1842,-43.5003,-50.7023, 5599,   1199.3,   2.9497,  34.4194,2,     -999,9,    188.5,2,    189.6,2,    54.50,2,    33.69,2,     2.27,2,   2318.1,2,7.5751,2,    25.00,2009,20190411
  29HE20190406,   A17,9,0,14,14,2,20190411,1842,-43.5003,-50.7023, 5599,    998.9,   3.2349,  34.3032,2,  34.3038,2,    211.5,2,    212.2,2,    39.18,2,    32.21,2,     2.19,2,   2303.1,2,7.5978,2,    25.00,2014,20190411
  29HE20190406,   A17,9,0,15,15,2,20190411,1842,-43.5003,-50.7023, 5599,    793.6,   3.6555,  34.2176,2,     -999,9,    239.8,2,    240.5,2,    26.97,2,    29.71,2,     2.01,2,   2291.7,2,7.6324,2,    25.00,2018,20190411
  29HE20190406,   A17,9,0,16,16,2,20190411,1842,-43.5003,-50.7023, 5599,    693.6,   3.9372,  34.1910,2,  34.1896,2,    254.4,2,    254.1,2,    21.33,2,    28.03,2,     1.89,2,   2286.3,2,7.6521,2,    25.00,2023,20190411
  29HE20190406,   A17,9,0,17,17,2,20190411,1842,-43.5003,-50.7023, 5599,    593.2,   4.3807,  34.2022,2,     -999,9,    256.2,2,    257.6,2,    17.79,2,    26.90,2,     1.83,2,   2284.7,2,7.6657,2,    25.00,2027,20190411
  29HE20190406,   A17,9,0,18,18,2,20190411,1842,-43.5003,-50.7023, 5599,    497.8,   4.7072,  34.1956,2,  34.1921,2,    260.4,2,    260.7,2,    14.74,2,    26.00,2,     1.75,2,   2281.2,2,7.6743,2,    25.00,2032,20190411
  29HE20190406,   A17,9,0,19,19,2,20190411,1842,-43.5003,-50.7023, 5599,    409.3,   5.2089,  34.2205,2,     -999,9,    259.3,2,    259.5,2,    12.11,2,    24.84,2,     1.67,2,   2279.4,2,7.6828,2,    25.00,2035,20190411
  29HE20190406,   A17,9,0,20,20,2,20190411,1842,-43.5003,-50.7023, 5599,    307.9,   6.2265,  34.2774,2,  34.2726,2,    248.9,2,    249.1,2,     9.13,2,    23.34,2,     1.58,2,   2278.9,2,7.6888,2,    25.00,2038,20190411
  29HE20190406,   A17,9,0,21,21,2,20190411,1842,-43.5003,-50.7023, 5599,    199.7,   9.3440,  34.6194,2,     -999,9,    237.4,2,    237.9,2,     4.94,2,    16.37,2,     1.12,2,   2294.4,2,7.7631,2,    25.00,2042,20190411
  29HE20190406,   A17,9,0,22,22,2,20190411,1842,-43.5003,-50.7023, 5599,    103.7,  11.4210,  34.7358,2,  34.7882,4,    219.2,2,    222.4,2,     3.47,2,    12.29,2,     0.90,2,   2302.5,2,7.7991,2,    25.00,2045,20190411
  29HE20190406,   A17,9,0,23,23,2,20190411,1842,-43.5003,-50.7023, 5599,     54.3,  15.3771,  34.6245,2,     -999,9,    247.7,2,    249.6,2,     0.81,2,     0.41,2,     0.18,2,   2304.7,2,7.962,2,    25.00,2048,20190411
  29HE20190406,   A17,9,0,24,24,2,20190411,1842,-43.5003,-50.7023, 5599,      5.1,  15.5435,  34.6133,2,  34.6127,2,    248.5,2,    257.3,3,     0.78,2,     0.07,2,     0.16,2,   2302.9,2,7.9688,2,    25.00,2050,20190411
  29HE20190406,   A17,10,0,1,1,2,20190412,144,-42.907,-50.1976, 5661,   2006.7,   2.9883,  34.7528,2,     -999,9,    195.3,2,     -999,9,     -999,9,     -999,9,     -999,9,     -999,9,-999.0,9,    25.00,144,20190412
  29HE20190406,   A17,10,0,2,2,2,20190412,144,-42.907,-50.1976, 5661,   2006.4,   2.9889,  34.7527,2,  34.7531,2,    195.0,2,     -999,9,    57.37,2,    28.68,2,     1.94,2,     -999,9,7.6299,2,    25.00,144,20190412
  29HE20190406,   A17,10,0,3,3,2,20190412,144,-42.907,-50.1976, 5661,   1703.2,   2.8316,  34.6221,2,     -999,9,    179.4,2,    181.0,2,    64.19,2,    32.02,2,     2.18,2,     -999,9,7.5879,2,    25.00,150,20190412
  29HE20190406,   A17,10,0,4,4,2,20190412,144,-42.907,-50.1976, 5661,   1501.2,   2.8814,  34.5226,2,  34.5215,2,    180.1,2,    183.0,2,    61.14,2,    33.22,2,     2.25,2,     -999,9,7.5763,2,    25.00,155,20190412
  29HE20190406,   A17,10,0,5,5,2,20190412,144,-42.907,-50.1976, 5661,   1503.7,   2.8815,  34.5241,2,     -999,9,    180.1,2,     -999,9,     -999,9,     -999,9,     -999,9,     -999,9,-999.0,9,    25.00,155,20190412
  29HE20190406,   A17,10,0,6,6,2,20190412,144,-42.907,-50.1976, 5661,   1198.9,   3.0855,  34.3394,2,  34.3380,2,    203.9,2,     -999,9,    45.80,2,    32.87,2,     2.22,2,     -999,9,7.5864,2,    25.00,201,20190412
  29HE20190406,   A17,10,0,7,7,2,20190412,144,-42.907,-50.1976, 5661,   1199.2,   3.0853,  34.3396,2,     -999,9,    203.8,2,     -999,9,     -999,9,     -999,9,     -999,9,     -999,9,-999.0,9,    25.00,201,20190412
  29HE20190406,   A17,10,0,8,8,2,20190412,144,-42.907,-50.1976, 5661,    999.3,   3.6578,  34.2626,2,  34.2604,2,    227.0,2,    227.7,2,    30.87,2,    30.58,2,     2.07,2,     -999,9,7.6179,2,    25.00,205,20190412
  29HE20190406,   A17,10,0,9,9,2,20190412,144,-42.907,-50.1976, 5661,    999.7,   3.6666,  34.2644,2,     -999,9,    226.9,2,     -999,9,     -999,9,     -999,9,     -999,9,     -999,9,-999.0,9,    25.00,205,20190412
  29HE20190406,   A17,10,0,10,10,2,20190412,144,-42.907,-50.1976, 5661,    801.9,   4.0346,  34.1713,2,  34.1698,2,    267.3,2,    266.9,2,    18.45,2,    27.04,2,     1.83,2,     -999,9,7.6652,2,    25.00,209,20190412
  29HE20190406,   A17,10,0,11,11,2,20190412,144,-42.907,-50.1976, 5661,    801.1,   4.0341,  34.1714,2,     -999,9,    266.6,2,     -999,9,     -999,9,     -999,9,     -999,9,     -999,9,-999.0,9,    25.00,209,20190412
  29HE20190406,   A17,10,0,12,12,2,20190412,144,-42.907,-50.1976, 5661,    599.2,   5.1465,  34.2178,2,  34.2155,2,    262.7,2,    263.4,2,    12.66,2,    24.87,2,     1.69,2,     -999,9,7.6866,2,    25.00,214,20190412
  29HE20190406,   A17,10,0,13,13,2,20190412,144,-42.907,-50.1976, 5661,    599.7,   5.1438,  34.2177,2,     -999,9,    263.1,2,     -999,9,     -999,9,     -999,9,     -999,9,     -999,9,-999.0,9,    25.00,214,20190412
  29HE20190406,   A17,10,0,14,14,2,20190412,144,-42.907,-50.1976, 5661,    501.2,   5.8816,  34.2636,2,  34.2619,2,    254.7,2,    254.6,2,    10.64,2,    23.71,2,     1.63,2,     -999,9,7.6936,2,    25.00,216,20190412
  29HE20190406,   A17,10,0,15,15,2,20190412,144,-42.907,-50.1976, 5661,    398.1,   8.3091,  34.5412,2,     -999,9,    225.7,2,     -999,9,     -999,9,     -999,9,     -999,9,     -999,9,-999.0,9,    25.00,220,20190412
  29HE20190406,   A17,10,0,16,16,2,20190412,144,-42.907,-50.1976, 5661,    398.2,   8.3191,  34.5422,2,  34.5413,2,    225.6,2,     -999,9,     8.01,2,    20.27,2,     1.37,2,     -999,9,7.724,2,    25.00,220,20190412
  29HE20190406,   A17,10,0,17,17,2,20190412,144,-42.907,-50.1976, 5661,    300.6,  11.6395,  34.9973,2,     -999,9,    212.3,2,    215.7,2,     4.51,2,    13.34,2,     0.94,2,     -999,9,7.7978,2,    25.00,222,20190412
  29HE20190406,   A17,10,0,18,18,2,20190412,144,-42.907,-50.1976, 5661,    202.9,  14.4819,  35.5100,2,  35.5107,2,    214.5,2,    217.1,2,     2.71,2,     7.36,2,     0.57,2,     -999,9,7.8756,2,    25.00,225,20190412
  29HE20190406,   A17,10,0,19,19,2,20190412,144,-42.907,-50.1976, 5661,    202.7,  14.4820,  35.5102,2,     -999,9,    214.7,2,     -999,9,     -999,9,     -999,9,     -999,9,     -999,9,-999.0,9,    25.00,225,20190412
  29HE20190406,   A17,10,0,20,20,2,20190412,144,-42.907,-50.1976, 5661,    102.1,  16.7145,  35.8122,2,  35.5015,4,    208.1,2,    209.9,2,     1.92,2,     3.83,2,     0.35,2,     -999,9,7.9176,2,    25.00,227,20190412
  29HE20190406,   A17,10,0,21,21,2,20190412,144,-42.907,-50.1976, 5661,    103.0,  16.7246,  35.8152,2,     -999,9,    207.8,2,     -999,9,     -999,9,     -999,9,     -999,9,     -999,9,-999.0,9,    25.00,227,20190412
  29HE20190406,   A17,10,0,22,22,2,20190412,144,-42.907,-50.1976, 5661,     50.3,  18.6613,  35.4978,2,  35.5069,2,    230.5,2,    233.9,2,     1.08,2,     0.07,2,     0.12,2,     -999,9,7.9996,2,    25.00,229,20190412
  29HE20190406,   A17,10,0,23,23,2,20190412,144,-42.907,-50.1976, 5661,      8.4,  18.6376,  35.4923,2,     -999,9,    231.0,2,     -999,9,     -999,9,     -999,9,     -999,9,     -999,9,-999.0,9,    25.00,239,20190412
  29HE20190406,   A17,10,0,24,24,2,20190412,144,-42.907,-50.1976, 5661,      8.9,  18.6379,  35.4924,2,  35.4958,2,    231.0,2,    233.9,2,     1.07,2,     0.00,2,     0.12,2,     -999,9,8.0005,2,    25.00,239,20190412
  29HE20190406,   A17,11,0,1,1,2,20190412,912,-42.3464,-49.6862, 5858,   5848.0,   0.3941,  34.6713,2,     -999,9,    222.9,2,    222.7,2,   121.13,2,    32.56,2,     2.24,2,   2366.1,2,7.6076,2,    25.00,912,20190412
  29HE20190406,   A17,11,0,2,2,2,20190412,912,-42.3464,-49.6862, 5858,   5498.3,   0.3608,  34.6719,2,  34.6723,2,    222.7,2,    223.1,2,   120.42,2,    32.45,2,     2.23,2,   2366.7,2,7.6056,2,    25.00,921,20190412
  29HE20190406,   A17,11,0,3,3,2,20190412,912,-42.3464,-49.6862, 5858,   5001.7,   0.3701,  34.6756,2,     -999,9,    222.3,2,    221.8,2,   119.94,2,    32.54,2,     2.22,2,   2367.0,2,7.6061,2,    25.00,931,20190412
  29HE20190406,   A17,11,0,4,4,2,20190412,912,-42.3464,-49.6862, 5858,   4503.1,   0.5592,  34.6865,2,  34.6864,2,    217.2,2,    217.2,2,   117.52,2,    32.14,2,     2.20,2,   2363.6,2,7.6072,2,    25.00,940,20190412
  29HE20190406,   A17,11,0,5,5,2,20190412,912,-42.3464,-49.6862, 5858,   3999.7,   1.0001,  34.7115,2,     -999,9,    209.6,2,    210.0,2,   110.18,2,    31.47,2,     2.14,2,   2361.5,2,7.6128,2,    25.00,950,20190412
  29HE20190406,   A17,11,0,6,6,2,20190412,912,-42.3464,-49.6862, 5858,   3497.7,   1.4565,  34.7392,2,  34.7394,2,    204.2,2,    205.3,2,    99.09,2,    30.49,2,     2.07,2,   2359.2,2,7.6216,2,    25.00,1000,20190412
  29HE20190406,   A17,11,0,7,7,2,20190412,912,-42.3464,-49.6862, 5858,   3003.1,   2.2217,  34.8071,2,     -999,9,    213.5,2,    215.1,2,    68.80,2,    26.89,2,     1.82,2,   2346.7,2,7.6593,2,    25.00,1011,20190412
  29HE20190406,   A17,11,0,8,8,2,20190412,912,-42.3464,-49.6862, 5858,   2499.6,   2.6684,  34.8064,2,  34.8093,2,    207.3,2,    209.6,2,    60.77,2,    26.95,2,     1.82,2,   2340.9,2,7.652,2,    25.00,1021,20190412
  29HE20190406,   A17,11,0,9,9,2,20190412,912,-42.3464,-49.6862, 5858,   2275.0,   2.7753,  34.7788,2,     -999,9,    199.9,2,    200.3,2,    62.02,2,    28.04,2,     1.89,2,   2339.8,2,7.6366,2,    25.00,1025,20190412
  29HE20190406,   A17,11,0,10,10,2,20190412,912,-42.3464,-49.6862, 5858,   2003.7,   2.9149,  34.7367,2,  34.7358,2,    191.8,2,    193.6,2,    60.65,2,    29.38,2,     1.98,2,   2336.1,2,7.6218,2,    25.00,1032,20190412
  29HE20190406,   A17,11,0,11,11,2,20190412,912,-42.3464,-49.6862, 5858,   1799.7,   2.8103,  34.6533,2,     -999,9,    180.6,2,    181.8,2,    64.97,2,    31.56,2,     2.14,2,   2337.0,2,7.5935,2,    25.00,1037,20190412
  29HE20190406,   A17,11,0,12,12,2,20190412,912,-42.3464,-49.6862, 5858,   1598.1,   2.9128,  34.5723,2,  34.5733,2,    180.0,2,    180.9,2,    60.36,2,    32.10,2,     2.20,2,   2330.4,2,7.5843,2,    25.00,1042,20190412
  29HE20190406,   A17,11,0,13,13,2,20190412,912,-42.3464,-49.6862, 5858,   1394.3,   2.9102,  34.4616,2,     -999,9,    183.1,2,    184.7,2,    57.68,2,    33.30,2,     2.27,2,   2323.2,2,7.5718,2,    25.00,1046,20190412
  29HE20190406,   A17,11,0,14,14,2,20190412,912,-42.3464,-49.6862, 5858,   1193.5,   3.0682,  34.3507,2,  34.3513,2,    200.6,2,    201.4,2,    47.51,2,    32.71,2,     2.22,2,   2310.6,2,7.5848,2,    25.00,1051,20190412
  29HE20190406,   A17,11,0,15,15,2,20190412,912,-42.3464,-49.6862, 5858,   1011.6,   3.3286,  34.2535,2,     -999,9,    223.6,2,    224.5,2,    34.07,2,    31.07,2,     2.11,2,   2297.1,2,7.6087,2,    25.00,1059,20190412
  29HE20190406,   A17,11,0,16,16,2,20190412,912,-42.3464,-49.6862, 5858,    790.7,   4.0410,  34.2034,2,  34.2043,2,    252.9,2,    254.0,2,    21.12,2,    27.89,2,     1.88,2,   2286.1,2,7.6548,2,    25.00,1105,20190412
  29HE20190406,   A17,11,0,17,17,2,20190412,912,-42.3464,-49.6862, 5858,    601.2,   4.7630,  34.1940,2,     -999,9,    267.4,2,    266.9,2,    13.67,2,    25.09,2,     1.70,2,   2280.0,2,7.6839,2,    25.00,1109,20190412
  29HE20190406,   A17,11,0,18,18,2,20190412,912,-42.3464,-49.6862, 5858,    494.3,   5.5397,  34.2444,2,  34.2466,2,    254.0,2,    256.3,2,    11.63,2,    24.19,2,     1.65,2,   2280.1,2,7.6856,2,    25.00,1112,20190412
  29HE20190406,   A17,11,0,19,19,2,20190412,912,-42.3464,-49.6862, 5858,    401.7,   6.8867,  34.3758,2,     -999,9,    237.0,2,    238.2,2,     9.53,2,    22.45,2,     1.53,2,   2284.0,2,7.7004,2,    25.00,1114,20190412
  29HE20190406,   A17,11,0,20,20,2,20190412,912,-42.3464,-49.6862, 5858,    296.9,   9.5374,  34.6884,2,  34.6883,2,    223.6,2,    224.3,2,     6.00,2,    17.10,2,     1.17,2,   2296.2,2,7.754,2,    25.00,1117,20190412
  29HE20190406,   A17,11,0,21,21,2,20190412,912,-42.3464,-49.6862, 5858,    197.4,  13.0180,  35.2314,2,     -999,9,    211.7,2,    213.1,2,     3.43,2,    10.24,2,     0.73,2,   2323.1,2,7.8347,2,    25.00,1120,20190412
  29HE20190406,   A17,11,0,22,22,2,20190412,912,-42.3464,-49.6862, 5858,    107.0,  15.1625,  35.5762,2,  35.5732,2,    210.7,2,    211.5,2,     2.50,2,     6.37,2,     0.50,2,   2343.2,2,7.8831,2,    25.00,1123,20190412
  29HE20190406,   A17,11,0,23,23,2,20190412,912,-42.3464,-49.6862, 5858,     53.5,  18.0279,  35.3475,2,     -999,9,    236.9,2,    239.2,2,     1.22,2,     0.12,2,     0.14,2,   2339.4,2,7.9813,2,    25.00,1125,20190412
  29HE20190406,   A17,11,0,24,24,2,20190412,912,-42.3464,-49.6862, 5858,      5.0,  18.7596,  35.2746,2,  35.2745,2,    233.3,2,    234.5,2,     0.99,2,     0.00,2,     0.10,2,   2337.3,2,7.9962,2,    25.00,1128,20190412