BOTTLE,20240229CCHSIOSLL
# These data are under a CC0 license. For more information on how to cite, please visit cchdo.ucsd.edu
# DATE and TIME were renamed BTL_DATE and BTL_TIME, respectively 
# DATE and TIME were changed so that the TIME for every cast matches the time at the deepest bottle i.e. bottle 1
#BOTTLE,20200410PRINUNIVRMK
# 02/12/2020 Initialized README file 
# DataSource: A.Velo and F.Perez 20200210 
# SHIP: HESPERIDES 
# Cruise: FICARAM_XIX 
# Region: Atlantic Ocean; A17  
# EXPOCODE: 29HE20190406 
# DATES: 20190406 - 20190518 					 
# Chief scientist: Miguel Gil Coto 
# 81 stations with 24 place Rosette 
# Data QC by F.F. Perez and A. Velo 
# Bottom depths approximated as  
# 	max(maximum sampling pressure + 10, depth from topography)  
# 	for each station.  
# 	Appropriate only for bottom topography in graphics 
# Hydro: Who - Miguel Gilcoto/Fiz F. Perez/Alexandre Chamorro 
# 	Notes:	CTDSAL & CTDOXY 
# 	CTD values updated 20200408, A.Velo 
# Nuts: Fernando Alonso/Jesus Rey  micromol/Kg 
# 	Notes: 	CRM from JAMSTEC		 
# O2: Who - Marcos Fontela/Fiz F Perez/Ma Jesus Alvarez 
# 	Note 
# TA: Who - Marcos Fontela/Fiz F. Perez/Anton Velo 
# 	Notes: 	CRM from A. Dickson			 
# pH: Who - Marcos Fontela/Fiz F. Perez/Anton Velo 
# 	Notes pH scale: TS@25C						 
EXPOCODE,SECT_ID,STNNBR,CASTNO,SAMPNO,BTLNBR,BTLNBR_FLAG_W,DATE,TIME,LATITUDE,LONGITUDE,DEPTH,CTDPRS,CTDTMP,CTDSAL,CTDSAL_FLAG_W,SALNTY,SALNTY_FLAG_W,CTDOXY,CTDOXY_FLAG_W,OXYGEN,OXYGEN_FLAG_W,SILCAT,SILCAT_FLAG_W,NITRAT,NITRAT_FLAG_W,PHSPHT,PHSPHT_FLAG_W,ALKALI,ALKALI_FLAG_W,PH_TOT,PH_TOT_FLAG_W,PH_TMP,BTL_TIME,BTL_DATE
,,,,,,,,,,,METERS,DBAR,ITS-90,PSS-78,,PSS-78,,UMOL/KG,,UMOL/KG,,UMOL/KG,,UMOL/KG,,UMOL/KG,,UMOL/KG,,,,DEG C,,
  29HE20190406,   A17,0,0,1,1,2,20190408,1326,-49.9129,-59.1499,  348,    151.7,   6.3807,  33.9683,2,     -999,9,    280.6,2,    278.8,2,     5.33,2,    20.44,2,     1.44,2,   2262.0,2,-999.0,9,    25.00,1326,20190408
  29HE20190406,   A17,0,0,2,2,2,20190408,1326,-49.9129,-59.1499,  348,    151.4,   6.3826,  33.9681,2,  33.9670,2,    280.4,2,    276.7,2,     5.35,2,    20.47,2,     1.45,2,   2262.2,2,-999.0,9,    25.00,1327,20190408
  29HE20190406,   A17,0,0,3,3,2,20190408,1326,-49.9129,-59.1499,  348,    152.4,   6.3810,  33.9679,2,     -999,9,    280.8,2,    276.4,2,     5.38,2,    20.49,2,     1.46,2,   2261.7,2,-999.0,9,    25.00,1327,20190408
  29HE20190406,   A17,0,0,4,4,2,20190408,1326,-49.9129,-59.1499,  348,    152.0,   6.3836,  33.9678,2,  33.9654,2,    280.2,2,    277.4,2,     5.40,2,    20.42,2,     1.45,2,   2262.5,2,-999.0,9,    25.00,1327,20190408
  29HE20190406,   A17,0,0,5,5,2,20190408,1326,-49.9129,-59.1499,  348,    151.4,   6.3855,  33.9678,2,     -999,9,    280.9,2,    276.8,2,     5.33,2,    20.45,2,     1.45,2,   2262.0,2,-999.0,9,    25.00,1327,20190408
  29HE20190406,   A17,0,0,6,6,2,20190408,1326,-49.9129,-59.1499,  348,    152.0,   6.3867,  33.9676,2,  33.9658,2,    280.6,2,    277.1,2,     5.37,2,    20.41,2,     1.44,2,   2262.0,2,-999.0,9,    25.00,1327,20190408
  29HE20190406,   A17,0,0,7,7,2,20190408,1326,-49.9129,-59.1499,  348,    151.5,   6.3848,  33.9678,2,     -999,9,    280.4,2,    277.1,2,     5.42,2,    20.61,2,     1.45,2,   2261.1,2,-999.0,9,    25.00,1327,20190408
  29HE20190406,   A17,0,0,8,8,2,20190408,1326,-49.9129,-59.1499,  348,    151.6,   6.3834,  33.9680,2,  33.9654,2,    281.1,2,    276.8,2,     5.31,2,    20.54,2,     1.43,2,   2261.5,2,-999.0,9,    25.00,1327,20190408
  29HE20190406,   A17,0,0,9,9,2,20190408,1326,-49.9129,-59.1499,  348,    152.0,   6.3802,  33.9682,2,     -999,9,    280.4,2,    277.1,2,     5.34,2,    20.59,2,     1.43,2,   2260.4,2,-999.0,9,    25.00,1327,20190408
  29HE20190406,   A17,0,0,10,10,2,20190408,1326,-49.9129,-59.1499,  348,    151.8,   6.3811,  33.9681,2,  33.9658,2,    280.0,2,    277.5,2,     5.38,2,    20.49,2,     1.45,2,   2260.8,2,-999.0,9,    25.00,1327,20190408
  29HE20190406,   A17,0,0,11,11,2,20190408,1326,-49.9129,-59.1499,  348,    151.8,   6.3917,  33.9671,2,     -999,9,    280.1,2,    277.4,2,     5.38,2,    20.48,2,     1.46,2,   2261.0,2,-999.0,9,    25.00,1327,20190408
  29HE20190406,   A17,0,0,12,12,2,20190408,1326,-49.9129,-59.1499,  348,    151.7,   6.4070,  33.9671,2,  33.9642,2,    280.6,2,    277.4,2,     5.31,2,    20.42,2,     1.45,2,   2261.2,2,-999.0,9,    25.00,1327,20190408
  29HE20190406,   A17,0,0,13,13,2,20190408,1326,-49.9129,-59.1499,  348,    151.5,   6.4066,  33.9674,2,     -999,9,    280.2,2,    277.4,2,     5.34,2,    20.53,2,     1.46,2,   2262.2,2,-999.0,9,    25.00,1327,20190408
  29HE20190406,   A17,0,0,14,14,2,20190408,1326,-49.9129,-59.1499,  348,    151.9,   6.4010,  33.9696,2,  33.9646,2,    280.8,2,    277.6,2,     5.33,2,    20.45,2,     1.45,2,   2262.6,2,-999.0,9,    25.00,1327,20190408
  29HE20190406,   A17,0,0,15,15,2,20190408,1326,-49.9129,-59.1499,  348,    151.9,   6.3919,  33.9686,2,     -999,9,    280.6,2,    277.5,2,     5.33,2,    20.38,2,     1.44,2,   2261.2,2,-999.0,9,    25.00,1327,20190408
  29HE20190406,   A17,0,0,16,16,2,20190408,1326,-49.9129,-59.1499,  348,    151.7,   6.3893,  33.9683,2,  33.9638,2,    280.2,2,    277.6,2,     5.32,2,    20.18,2,     1.46,2,   2262.0,2,-999.0,9,    25.00,1327,20190408
  29HE20190406,   A17,0,0,17,17,2,20190408,1326,-49.9129,-59.1499,  348,    151.4,   6.3971,  33.9680,2,     -999,9,    280.6,2,    277.3,2,     5.31,2,    20.25,2,     1.46,2,   2262.6,2,-999.0,9,    25.00,1327,20190408
  29HE20190406,   A17,0,0,18,18,2,20190408,1326,-49.9129,-59.1499,  348,    151.5,   6.3836,  33.9688,2,  33.9658,2,    280.7,2,    277.3,2,     5.27,2,    20.28,2,     1.45,2,   2260.8,2,-999.0,9,    25.00,1327,20190408
  29HE20190406,   A17,0,0,19,19,2,20190408,1326,-49.9129,-59.1499,  348,    151.7,   6.3811,  33.9688,2,     -999,9,    280.5,2,    277.0,2,     5.32,2,    20.15,2,     1.45,2,   2261.5,2,-999.0,9,    25.00,1327,20190408
  29HE20190406,   A17,0,0,20,20,2,20190408,1326,-49.9129,-59.1499,  348,    151.8,   6.3793,  33.9686,2,  33.9658,2,    280.3,2,    277.7,2,     5.33,2,    21.19,2,     1.46,2,   2261.7,2,-999.0,9,    25.00,1327,20190408
  29HE20190406,   A17,0,0,21,21,2,20190408,1326,-49.9129,-59.1499,  348,    151.6,   6.3785,  33.9684,2,     -999,9,    280.2,2,    277.4,2,     5.30,2,    21.00,2,     1.44,2,   2261.6,2,-999.0,9,    25.00,1327,20190408
  29HE20190406,   A17,0,0,22,22,2,20190408,1326,-49.9129,-59.1499,  348,    151.6,   6.3809,  33.9682,2,  33.9658,2,    280.3,2,    277.3,2,     5.32,2,    20.93,2,     1.44,2,   2260.1,2,-999.0,9,    25.00,1328,20190408
  29HE20190406,   A17,0,0,23,23,2,20190408,1326,-49.9129,-59.1499,  348,    151.6,   6.4125,  33.9666,2,     -999,9,    280.3,2,    277.5,2,     5.35,2,    20.90,2,     1.43,2,   2259.7,2,-999.0,9,    25.00,1328,20190408
  29HE20190406,   A17,0,0,24,24,2,20190408,1326,-49.9129,-59.1499,  348,    151.3,   6.4115,  33.9688,2,  33.9661,2,    280.9,2,    277.6,2,     5.35,2,    20.83,2,     1.41,2,   2260.3,2,-999.0,9,    25.00,1328,20190408
  29HE20190406,   A17,1,1,1,1,2,20190409,826,-48.306,-54.9245, 5620,   4901.1,   0.2956,  34.6728,2,     -999,9,    223.6,2,    222.0,2,   123.22,2,    32.89,2,     2.23,2,   2361.7,2,7.6062,2,    25.00,826,20190409
  29HE20190406,   A17,1,1,2,2,2,20190409,826,-48.306,-54.9245, 5620,   4498.2,   0.3527,  34.6774,2,  34.6753,2,    221.7,2,     -999,9,   121.16,2,    32.66,2,     2.20,2,   2362.9,2,7.6053,2,    25.00,837,20190409
  29HE20190406,   A17,1,1,3,3,2,20190409,826,-48.306,-54.9245, 5620,   3996.4,   0.5540,  34.6885,2,     -999,9,    217.0,2,    215.3,2,   118.49,2,    32.48,2,     2.19,2,   2360.6,2,7.6049,2,    25.00,847,20190409
  29HE20190406,   A17,1,1,4,4,2,20190409,826,-48.306,-54.9245, 5620,   3500.3,   1.0373,  34.7134,2,  34.7083,2,    207.7,2,    206.2,2,   112.17,2,    31.85,2,     2.14,2,   2358.0,2,7.609,2,    25.00,856,20190409
  29HE20190406,   A17,1,1,5,5,2,20190409,826,-48.306,-54.9245, 5620,   2998.8,   1.4470,  34.7360,2,     -999,9,    202.5,2,    201.3,2,   101.67,2,    31.19,2,     2.08,2,   2355.3,2,7.6171,2,    25.00,905,20190409
  29HE20190406,   A17,1,1,6,6,2,20190409,826,-48.306,-54.9245, 5620,   2501.0,   2.0102,  34.7758,2,  34.7742,2,    204.6,2,    204.5,2,    76.72,2,    28.86,2,     1.92,2,   2350.8,2,7.6362,2,    25.00,915,20190409
  29HE20190406,   A17,1,1,7,7,2,20190409,826,-48.306,-54.9245, 5620,   2275.9,   2.3722,  34.7886,2,     -999,9,    203.9,2,    203.9,2,    68.92,2,    28.29,2,     1.88,2,   2342.4,2,7.6425,2,    25.00,920,20190409
  29HE20190406,   A17,1,1,8,8,2,20190409,826,-48.306,-54.9245, 5620,   2003.8,   2.6005,  34.7964,2,  34.7958,2,    205.9,2,    205.1,2,    62.38,2,    27.63,2,     1.84,2,   2337.8,2,7.6464,2,    25.00,926,20190409
  29HE20190406,   A17,1,1,9,9,2,20190409,826,-48.306,-54.9245, 5620,   1797.7,   2.7730,  34.8011,2,     -999,9,    206.2,2,    205.7,2,    58.03,2,    27.34,2,     1.82,2,   2334.6,2,7.6493,2,    25.00,930,20190409
  29HE20190406,   A17,1,1,10,10,2,20190409,826,-48.306,-54.9245, 5620,   1598.3,   2.7792,  34.7534,2,  34.7514,2,    195.0,2,    193.9,2,    61.58,2,    28.99,2,     1.95,2,   2335.7,2,7.6257,2,    25.00,935,20190409
  29HE20190406,   A17,1,1,11,11,2,20190409,826,-48.306,-54.9245, 5620,   1396.1,   2.6268,  34.6600,2,     -999,9,    178.9,2,    178.1,2,    68.51,2,    32.02,2,     2.17,2,   2337.6,2,7.5891,2,    25.00,939,20190409
  29HE20190406,   A17,1,1,12,12,2,20190409,826,-48.306,-54.9245, 5620,   1195.1,   2.5833,  34.5674,2,  34.5643,2,    173.5,2,    172.4,2,    69.53,2,    33.87,2,     2.30,2,   2334.5,2,7.5653,2,    25.00,943,20190409
  29HE20190406,   A17,1,1,13,13,2,20190409,826,-48.306,-54.9245, 5620,   1005.0,   2.7238,  34.4909,2,     -999,9,    178.2,2,    177.6,2,    64.38,2,    34.06,2,     2.30,2,   2326.8,2,7.5669,2,    25.00,948,20190409
  29HE20190406,   A17,1,1,14,14,2,20190409,826,-48.306,-54.9245, 5620,    902.1,   2.8934,  34.4412,2,  34.4385,2,    186.5,2,    185.7,2,    56.34,2,    33.70,2,     2.29,2,   2319.0,2,7.5739,2,    25.00,951,20190409
  29HE20190406,   A17,1,1,15,15,2,20190409,826,-48.306,-54.9245, 5620,    803.9,   2.7457,  34.3549,2,     -999,9,    201.9,2,    201.1,2,    52.04,2,    33.67,2,     2.26,2,   2312.4,2,7.5781,2,    25.00,954,20190409
  29HE20190406,   A17,1,1,16,16,2,20190409,826,-48.306,-54.9245, 5620,    694.7,   2.7397,  34.2682,2,  34.2666,2,    226.3,2,    224.9,2,    41.40,2,    32.25,2,     2.18,2,   2302.5,2,7.5977,2,    25.00,957,20190409
  29HE20190406,   A17,1,1,17,17,2,20190409,826,-48.306,-54.9245, 5620,    599.6,   2.7795,  34.2050,2,     -999,9,    246.3,2,    244.9,2,    33.49,2,    30.92,2,     2.08,2,   2294.8,2,7.6199,2,    25.00,959,20190409
  29HE20190406,   A17,1,1,18,18,2,20190409,826,-48.306,-54.9245, 5620,    505.3,   2.7714,  34.1396,2,  34.1390,2,    270.4,2,    269.7,2,    26.73,2,    29.56,2,     1.98,2,   2288.1,2,7.642,2,    25.00,1002,20190409
  29HE20190406,   A17,1,1,19,19,2,20190409,826,-48.306,-54.9245, 5620,    396.4,   3.2812,  34.1418,2,     -999,9,    273.7,2,    277.5,2,    22.56,2,    28.49,2,     1.91,2,   2284.7,2,7.6576,2,    25.00,1005,20190409
  29HE20190406,   A17,1,1,20,20,2,20190409,826,-48.306,-54.9245, 5620,    302.5,   3.6738,  34.1348,2,  34.1351,2,    280.8,2,    278.5,2,    17.93,2,    27.02,2,     1.80,2,   2281.1,2,7.6749,2,    25.00,1008,20190409
  29HE20190406,   A17,1,1,21,21,2,20190409,826,-48.306,-54.9245, 5620,    203.2,   4.1423,  34.1324,2,     -999,9,    289.2,2,    287.3,2,    13.46,2,    25.40,2,     1.70,2,   2278.5,2,7.6887,2,    25.00,1010,20190409
  29HE20190406,   A17,1,1,22,22,2,20190409,826,-48.306,-54.9245, 5620,    100.7,   5.0119,  34.0988,2,     -999,9,    291.4,2,     -999,9,     -999,9,     -999,9,     -999,9,     -999,9,-999.0,9,    25.00,1013,20190409
  29HE20190406,   A17,1,1,23,23,2,20190409,826,-48.306,-54.9245, 5620,     50.7,   8.4018,  34.0752,2,     -999,9,    287.4,2,    286.3,2,     2.88,2,    16.57,2,     1.13,2,   2277.5,2,7.8127,2,    25.00,1015,20190409
  29HE20190406,   A17,1,1,24,24,2,20190409,826,-48.306,-54.9245, 5620,      4.5,  11.5020,  34.1519,2,  34.1511,2,    269.0,2,    268.4,2,     1.15,2,     8.57,2,     0.63,2,   2286.3,2,7.8986,2,    25.00,1018,20190409
  29HE20190406,   A17,2,0,1,1,2,20190409,1609,-47.6833,-54.419, 5919,    997.8,   2.8978,  34.4246,2,     -999,9,    187.3,2,    186.8,2,    55.50,2,    33.80,2,     2.28,2,     -999,9,7.5715,2,    25.00,1609,20190409
  29HE20190406,   A17,2,0,2,2,2,20190409,1609,-47.6833,-54.419, 5919,    996.7,   2.8925,  34.4238,2,  34.4221,2,    187.9,2,     -999,9,    56.23,2,    33.69,2,     2.29,2,     -999,9,7.572,2,    25.00,1609,20190409
  29HE20190406,   A17,2,0,3,3,2,20190409,1609,-47.6833,-54.419, 5919,    890.1,   2.8346,  34.3446,2,     -999,9,    203.3,2,    202.3,2,    50.58,2,    33.29,2,     2.25,2,     -999,9,7.578,2,    25.00,1611,20190409
  29HE20190406,   A17,2,0,4,4,2,20190409,1609,-47.6833,-54.419, 5919,    888.4,   2.8343,  34.3439,2,  34.3433,2,    203.3,2,     -999,9,     -999,9,     -999,9,     -999,9,     -999,9,7.5792,2,    25.00,1611,20190409
  29HE20190406,   A17,2,0,5,5,2,20190409,1609,-47.6833,-54.419, 5919,    787.8,   2.7244,  34.2600,2,     -999,9,    229.1,2,    228.4,2,    40.72,2,    32.03,2,     2.16,2,     -999,9,7.5999,2,    25.00,1613,20190409
  29HE20190406,   A17,2,0,6,6,2,20190409,1609,-47.6833,-54.419, 5919,    788.2,   2.7235,  34.2591,2,  34.2568,2,    229.6,2,     -999,9,     -999,9,     -999,9,     -999,9,     -999,9,7.6002,2,    25.00,1613,20190409
  29HE20190406,   A17,2,0,7,7,2,20190409,1609,-47.6833,-54.419, 5919,    688.0,   3.0576,  34.2212,2,     -999,9,    239.1,2,    237.7,2,    33.51,2,    31.17,2,     2.07,2,     -999,9,7.6157,2,    25.00,1616,20190409
  29HE20190406,   A17,2,0,8,8,2,20190409,1609,-47.6833,-54.419, 5919,    687.9,   3.0605,  34.2212,2,  34.2200,2,    239.8,2,     -999,9,     -999,9,     -999,9,     -999,9,     -999,9,7.6158,2,    25.00,1616,20190409
  29HE20190406,   A17,2,0,9,9,2,20190409,1609,-47.6833,-54.419, 5919,    596.7,   3.1225,  34.1648,2,     -999,9,    261.8,2,    259.7,2,    26.24,2,    29.58,2,     1.97,2,     -999,9,7.6388,2,    25.00,1618,20190409
  29HE20190406,   A17,2,0,10,10,2,20190409,1609,-47.6833,-54.419, 5919,    597.2,   3.1221,  34.1646,2,  34.1636,2,    261.7,2,     -999,9,     -999,9,     -999,9,     -999,9,     -999,9,7.6386,2,    25.00,1618,20190409
  29HE20190406,   A17,2,0,11,11,2,20190409,1609,-47.6833,-54.419, 5919,    482.7,   3.5338,  34.1480,2,     -999,9,    272.9,2,    270.4,2,    20.42,2,    27.77,2,     1.87,2,     -999,9,7.6582,2,    25.00,1624,20190409
  29HE20190406,   A17,2,0,12,12,2,20190409,1609,-47.6833,-54.419, 5919,    483.5,   3.5341,  34.1480,2,  34.1444,2,    273.0,2,     -999,9,     -999,9,     -999,9,     -999,9,     -999,9,7.6588,2,    25.00,1624,20190409
  29HE20190406,   A17,2,0,13,13,2,20190409,1609,-47.6833,-54.419, 5919,    398.9,   3.9098,  34.1492,2,     -999,9,    278.5,2,    276.1,2,    16.54,2,    26.54,2,     1.78,2,     -999,9,7.6733,2,    25.00,1628,20190409
  29HE20190406,   A17,2,0,14,14,2,20190409,1609,-47.6833,-54.419, 5919,    398.7,   3.9107,  34.1492,2,  34.1483,2,    278.6,2,     -999,9,     -999,9,     -999,9,     -999,9,     -999,9,7.6735,2,    25.00,1628,20190409
  29HE20190406,   A17,2,0,15,15,2,20190409,1609,-47.6833,-54.419, 5919,    311.9,   4.5178,  34.1776,2,     -999,9,    275.3,2,    272.6,2,    13.69,2,    25.36,2,     1.71,2,     -999,9,7.6808,2,    25.00,1634,20190409
  29HE20190406,   A17,2,0,16,16,2,20190409,1609,-47.6833,-54.419, 5919,    313.4,   4.5032,  34.1770,2,  34.1769,2,    275.1,2,     -999,9,     -999,9,     -999,9,     -999,9,     -999,9,7.6826,2,    25.00,1634,20190409
  29HE20190406,   A17,2,0,17,17,2,20190409,1609,-47.6833,-54.419, 5919,    207.6,   4.9957,  34.1808,2,     -999,9,    272.9,2,    270.9,2,    11.00,2,    24.77,2,     1.65,2,     -999,9,7.6855,2,    25.00,1639,20190409
  29HE20190406,   A17,2,0,18,18,2,20190409,1609,-47.6833,-54.419, 5919,    207.7,   4.9952,  34.1810,2,  34.1793,2,    273.2,2,     -999,9,     -999,9,     -999,9,     -999,9,     -999,9,7.6861,2,    25.00,1639,20190409
  29HE20190406,   A17,2,0,19,19,2,20190409,1609,-47.6833,-54.419, 5919,    105.1,   7.7802,  34.3720,2,     -999,9,    255.0,2,    254.1,2,     5.47,2,    19.08,2,     1.29,2,     -999,9,7.7386,2,    25.00,1642,20190409
  29HE20190406,   A17,2,0,20,20,2,20190409,1609,-47.6833,-54.419, 5919,    104.4,   7.7962,  34.3721,2,  34.3766,2,    256.2,2,     -999,9,     -999,9,     -999,9,     -999,9,     -999,9,7.7394,2,    25.00,1642,20190409
  29HE20190406,   A17,2,0,21,21,2,20190409,1609,-47.6833,-54.419, 5919,     51.6,  11.5919,  34.2604,2,     -999,9,    267.4,2,    267.3,2,     1.45,2,     7.87,2,     0.62,2,     -999,9,7.896,2,    25.00,1644,20190409
  29HE20190406,   A17,2,0,22,22,2,20190409,1609,-47.6833,-54.419, 5919,     50.8,  11.5943,  34.2604,2,  34.2630,2,    267.4,2,     -999,9,     -999,9,     -999,9,     -999,9,     -999,9,7.8991,2,    25.00,1644,20190409
  29HE20190406,   A17,2,0,23,23,2,20190409,1609,-47.6833,-54.419, 5919,      5.0,  11.6464,  34.2676,2,     -999,9,    267.7,2,    267.3,2,     1.39,2,     7.66,2,     0.59,2,     -999,9,7.9004,2,    25.00,1650,20190409
  29HE20190406,   A17,2,0,24,24,2,20190409,1609,-47.6833,-54.419, 5919,      5.5,  11.6503,  34.2673,2,  34.2669,2,    267.2,2,     -999,9,     -999,9,     -999,9,     -999,9,     -999,9,7.9015,2,    25.00,1650,20190409