BOTTLE,20240229CCHSIOSLL
EXPOCODE,SECT_ID,STNNBR,CASTNO,SAMPNO,BTLNBR,BTLNBR_FLAG_W,DATE,TIME,LATITUDE,LONGITUDE,DEPTH,CTDPRS,CTDTMP,CTDSAL,CTDSAL_FLAG_W,SALNTY,SALNTY_FLAG_W,CTDOXY,CTDOXY_FLAG_W,OXYGEN,OXYGEN_FLAG_W,SILCAT,SILCAT_FLAG_W,NITRAT,NITRAT_FLAG_W,PHSPHT,PHSPHT_FLAG_W,ALKALI,ALKALI_FLAG_W,PH_TOT,PH_TOT_FLAG_W,PH_TMP,BTL_TIME,BTL_DATE
,,,,,,,,,,,METERS,DBAR,ITS-90,PSS-78,,PSS-78,,UMOL/KG,,UMOL/KG,,UMOL/KG,,UMOL/KG,,UMOL/KG,,UMOL/KG,,,,DEG C,,
  29HE20190406,   A17,18,0,1,1,2,20190414,1639,-38.0785,-45.9734, 5113,   2002.6,   2.9456,  34.7280,2,     -999,9,    191.1,2,     -999,9,     -999,9,     -999,9,     -999,9,     -999,9,-999.0,9,    25.00,1639,20190414
  29HE20190406,   A17,18,0,2,2,2,20190414,1639,-38.0785,-45.9734, 5113,   2002.6,   2.9491,  34.7282,2,  34.7265,2,    191.0,2,    191.3,2,    60.12,2,    29.89,2,     2.01,2,     -999,9,7.6202,2,    25.00,1639,20190414
  29HE20190406,   A17,18,0,3,3,2,20190414,1639,-38.0785,-45.9734, 5113,   1703.0,   3.0191,  34.6222,2,     -999,9,    183.9,2,    183.8,2,    58.36,2,    31.91,2,     2.16,2,     -999,9,7.5974,2,    25.00,1646,20190414
  29HE20190406,   A17,18,0,4,4,2,20190414,1639,-38.0785,-45.9734, 5113,   1502.5,   3.0383,  34.4953,2,  34.4953,2,    185.4,2,    184.7,2,    56.02,2,    33.36,2,     2.27,2,     -999,9,7.5845,2,    25.00,1650,20190414
  29HE20190406,   A17,18,0,5,5,2,20190414,1639,-38.0785,-45.9734, 5113,   1502.7,   3.0380,  34.4952,2,     -999,9,    185.3,2,     -999,9,     -999,9,     -999,9,     -999,9,     -999,9,-999.0,9,    25.00,1651,20190414
  29HE20190406,   A17,18,0,6,6,2,20190414,1639,-38.0785,-45.9734, 5113,   1202.5,   3.3986,  34.2992,2,  34.2976,2,    215.7,2,    214.9,2,    37.57,2,    32.01,2,     2.17,2,     -999,9,7.6058,2,    25.00,1657,20190414
  29HE20190406,   A17,18,0,7,7,2,20190414,1639,-38.0785,-45.9734, 5113,   1201.9,   3.3978,  34.2989,2,     -999,9,    215.7,2,     -999,9,     -999,9,     -999,9,     -999,9,     -999,9,-999.0,9,    25.00,1657,20190414
  29HE20190406,   A17,18,0,8,8,2,20190414,1639,-38.0785,-45.9734, 5113,   1004.4,   4.2110,  34.2633,2,  34.2627,2,    230.9,2,    229.5,2,    25.37,2,    29.65,2,     1.99,2,     -999,9,7.6375,2,    25.00,1702,20190414
  29HE20190406,   A17,18,0,9,9,2,20190414,1639,-38.0785,-45.9734, 5113,   1003.4,   4.2164,  34.2636,2,     -999,9,    231.0,2,     -999,9,     -999,9,     -999,9,     -999,9,     -999,9,-999.0,9,    25.00,1702,20190414
  29HE20190406,   A17,18,0,10,10,2,20190414,1639,-38.0785,-45.9734, 5113,    801.9,   4.7586,  34.1918,2,     -999,9,    270.8,2,     -999,9,     -999,9,     -999,9,     -999,9,     -999,9,-999.0,9,    25.00,1707,20190414
  29HE20190406,   A17,18,0,11,11,2,20190414,1639,-38.0785,-45.9734, 5113,    801.2,   4.7586,  34.1916,2,  34.1914,2,    271.0,2,    268.7,2,    13.84,2,    25.47,2,     1.75,2,     -999,9,7.6848,2,    25.00,1707,20190414
  29HE20190406,   A17,18,0,12,12,2,20190414,1639,-38.0785,-45.9734, 5113,    603.8,   6.4474,  34.3144,2,  34.3141,2,    247.4,2,    246.0,2,     9.94,2,    23.21,2,     1.60,2,     -999,9,7.698,2,    25.00,1712,20190414
  29HE20190406,   A17,18,0,13,13,2,20190414,1639,-38.0785,-45.9734, 5113,    604.2,   6.4308,  34.3119,2,     -999,9,    248.2,2,     -999,9,     -999,9,     -999,9,     -999,9,     -999,9,-999.0,9,    25.00,1712,20190414
  29HE20190406,   A17,18,0,14,14,2,20190414,1639,-38.0785,-45.9734, 5113,    500.6,   8.8998,  34.6011,2,  34.6409,4,    221.5,2,    221.3,2,     7.23,2,    19.14,2,     1.32,2,     -999,9,7.7355,2,    25.00,1715,20190414
  29HE20190406,   A17,18,0,15,15,2,20190414,1639,-38.0785,-45.9734, 5113,    401.2,  12.3058,  35.1050,2,     -999,9,    210.6,2,     -999,9,     -999,9,     -999,9,     -999,9,     -999,9,-999.0,9,    25.00,1718,20190414
  29HE20190406,   A17,18,0,16,16,2,20190414,1639,-38.0785,-45.9734, 5113,    401.9,  12.2752,  35.1001,2,  35.1070,2,    209.7,2,    209.3,2,     4.19,2,    12.12,2,     0.88,2,     -999,9,7.8109,2,    25.00,1718,20190414
  29HE20190406,   A17,18,0,17,17,2,20190414,1639,-38.0785,-45.9734, 5113,    300.2,  15.0755,  35.6442,2,     -999,9,    215.7,2,    216.5,2,     2.55,2,     6.07,2,     0.51,2,     -999,9,7.8912,2,    25.00,1721,20190414
  29HE20190406,   A17,18,0,18,18,2,20190414,1639,-38.0785,-45.9734, 5113,    202.9,  16.1926,  35.7880,2,  35.7768,2,    208.6,2,    208.4,2,     2.12,2,     4.54,2,     0.39,2,     -999,9,7.9068,2,    25.00,1724,20190414
  29HE20190406,   A17,18,0,19,19,2,20190414,1639,-38.0785,-45.9734, 5113,    201.9,  16.1699,  35.7796,2,     -999,9,    209.2,2,     -999,9,     -999,9,     -999,9,     -999,9,     -999,9,-999.0,9,    25.00,1724,20190414
  29HE20190406,   A17,18,0,20,20,2,20190414,1639,-38.0785,-45.9734, 5113,    103.3,  19.2826,  36.1866,2,  36.1836,2,    206.2,2,    206.5,2,     1.41,2,     1.25,2,     0.19,2,     -999,9,7.9642,2,    25.00,1727,20190414
  29HE20190406,   A17,18,0,21,21,2,20190414,1639,-38.0785,-45.9734, 5113,    102.8,  19.2948,  36.1878,2,     -999,9,    206.1,2,     -999,9,     -999,9,     -999,9,     -999,9,     -999,9,-999.0,9,    25.00,1727,20190414
  29HE20190406,   A17,18,0,22,22,2,20190414,1639,-38.0785,-45.9734, 5113,     51.9,  20.1701,  35.8648,2,  35.8636,2,    224.2,2,    224.5,2,     1.24,2,     0.00,2,     0.09,2,     -999,9,8.0154,2,    25.00,1729,20190414
  29HE20190406,   A17,18,0,23,23,2,20190414,1639,-38.0785,-45.9734, 5113,      5.3,  20.3088,  35.8886,2,     -999,9,    224.3,2,     -999,9,     -999,9,     -999,9,     -999,9,     -999,9,-999.0,9,    25.00,1733,20190414
  29HE20190406,   A17,18,0,24,24,2,20190414,1639,-38.0785,-45.9734, 5113,      5.4,  20.3160,  35.8898,2,  35.8873,2,    224.4,2,    224.2,2,     1.21,2,     0.00,2,     0.08,2,     -999,9,8.0174,2,    25.00,1733,20190414
  29HE20190406,   A17,19,0,1,1,2,20190414,2328,-37.4883,-45.4616, 5193,   5183.4,   0.2970,  34.6712,2,     -999,9,    221.7,2,    220.7,2,   122.42,2,    32.72,2,     2.23,2,   2369.0,2,7.6044,2,    25.00,2328,20190414
  29HE20190406,   A17,19,0,2,2,2,20190414,2328,-37.4883,-45.4616, 5193,   4501.8,   0.3878,  34.6794,2,  34.6773,2,    221.1,2,    219.4,2,   119.62,2,    32.58,2,     2.20,2,   2365.0,2,7.6052,2,    25.00,2341,20190414
  29HE20190406,   A17,19,0,3,3,2,20190414,2328,-37.4883,-45.4616, 5193,   4001.1,   0.8641,  34.7065,2,     -999,9,    213.3,2,    212.2,2,   112.06,2,    31.72,2,     2.15,2,   2362.1,2,7.6111,2,    25.00,2350,20190414
  29HE20190406,   A17,19,0,4,4,2,20190414,2328,-37.4883,-45.4616, 5193,   3500.5,   1.5120,  34.7444,2,  34.7421,2,    206.3,2,    205.6,2,    97.88,2,    30.21,2,     2.05,2,   2358.1,2,7.6239,2,    25.00,1,20190414
  29HE20190406,   A17,19,0,5,5,2,20190414,2328,-37.4883,-45.4616, 5193,   3002.0,   2.5621,  34.8628,2,     -999,9,    231.9,2,    231.8,2,    51.37,2,    23.71,2,     1.59,2,   2337.4,2,7.696,2,    25.00,12,20190414
  29HE20190406,   A17,19,0,6,6,2,20190414,2328,-37.4883,-45.4616, 5193,   2498.4,   3.0795,  34.8834,2,  34.8816,2,    230.7,2,    231.0,2,    39.29,2,    23.17,2,     1.54,2,   2329.3,2,7.6965,2,    25.00,22,20190414
  29HE20190406,   A17,19,0,7,7,2,20190414,2328,-37.4883,-45.4616, 5193,   2271.3,   3.0452,  34.8250,2,     -999,9,    213.0,2,    212.7,2,    49.29,2,    25.93,2,     1.73,2,   2331.8,2,7.6628,2,    25.00,27,20190414
  29HE20190406,   A17,19,0,8,8,2,20190414,2328,-37.4883,-45.4616, 5193,   2000.6,   3.1184,  34.7650,2,  34.7637,2,    200.1,2,    199.7,2,    52.38,2,    28.27,2,     1.86,2,   2331.3,2,7.6386,2,    25.00,33,20190414
  29HE20190406,   A17,19,0,9,9,2,20190414,2328,-37.4883,-45.4616, 5193,   1799.7,   2.9333,  34.6592,2,     -999,9,    184.2,2,    184.7,2,    61.20,2,    31.37,2,     2.10,2,   2332.6,2,7.6006,2,    25.00,38,20190414
  29HE20190406,   A17,19,0,10,10,2,20190414,2328,-37.4883,-45.4616, 5193,   1596.2,   2.9869,  34.5588,2,  34.5568,2,    182.7,2,    183.0,2,    58.31,2,    32.65,2,     2.19,2,   2326.0,2,7.5867,2,    25.00,43,20190414
  29HE20190406,   A17,19,0,11,11,2,20190414,2328,-37.4883,-45.4616, 5193,   1401.4,   3.0031,  34.4334,2,     -999,9,    188.5,2,    188.2,2,    54.92,2,    33.48,2,     2.24,2,   2317.5,2,7.5768,2,    25.00,47,20190414
  29HE20190406,   A17,19,0,12,12,2,20190414,2328,-37.4883,-45.4616, 5193,   1198.7,   3.2930,  34.3187,2,  34.3176,2,    209.3,2,    209.2,2,    40.20,2,    32.08,2,     2.16,2,   2305.2,2,7.5983,2,    25.00,52,20190414
  29HE20190406,   A17,19,0,13,13,2,20190414,2328,-37.4883,-45.4616, 5193,    997.0,   3.9757,  34.2612,2,     -999,9,    227.0,2,    226.5,2,    27.76,2,    30.09,2,     2.02,2,   2292.6,2,7.6291,2,    25.00,57,20190414
  29HE20190406,   A17,19,0,14,14,2,20190414,2328,-37.4883,-45.4616, 5193,    899.2,   4.2861,  34.2314,2,  34.2305,2,    241.0,2,    241.3,2,    21.70,2,    28.15,2,     1.90,2,   2285.5,2,7.6488,2,    25.00,59,20190414
  29HE20190406,   A17,19,0,15,15,2,20190414,2328,-37.4883,-45.4616, 5193,    802.4,   4.8265,  34.2384,2,     -999,9,    250.0,2,    249.7,2,    16.43,2,    26.59,2,     1.78,2,   2281.8,2,7.6677,2,    25.00,102,20190414
  29HE20190406,   A17,19,0,16,16,2,20190414,2328,-37.4883,-45.4616, 5193,    702.6,   5.2838,  34.2453,2,  34.2454,2,    253.5,2,    252.9,2,    13.28,2,    25.12,2,     1.69,2,   2280.1,2,7.6793,2,    25.00,105,20190414
  29HE20190406,   A17,19,0,17,17,2,20190414,2328,-37.4883,-45.4616, 5193,    600.9,   6.0525,  34.2906,2,     -999,9,    249.0,2,    248.7,2,    10.82,2,    23.79,2,     1.59,2,   2279.3,2,7.6909,2,    25.00,108,20190414
  29HE20190406,   A17,19,0,18,18,2,20190414,2328,-37.4883,-45.4616, 5193,    499.5,   7.8101,  34.4856,2,  34.4846,2,    227.2,2,    226.6,2,     8.88,2,    21.45,2,     1.43,2,   2285.6,2,7.7107,2,    25.00,111,20190414
  29HE20190406,   A17,19,0,19,19,2,20190414,2328,-37.4883,-45.4616, 5193,    400.5,  10.4696,  34.8260,2,     -999,9,    214.7,2,    215.7,2,     5.68,2,    15.94,2,     1.08,2,   2301.9,2,7.7667,2,    25.00,113,20190414
  29HE20190406,   A17,19,0,20,20,2,20190414,2328,-37.4883,-45.4616, 5193,    300.7,  12.4931,  35.1030,2,  35.1116,2,    211.1,2,    210.4,2,     3.81,2,    11.40,2,     0.80,2,   2315.8,2,7.8133,2,    25.00,116,20190414
  29HE20190406,   A17,19,0,21,21,2,20190414,2328,-37.4883,-45.4616, 5193,    200.1,  14.3178,  35.3782,2,     -999,9,    203.5,2,    204.0,2,     3.20,2,     8.13,2,     0.60,2,   2331.7,2,7.8521,2,    25.00,119,20190414
  29HE20190406,   A17,19,0,22,22,2,20190414,2328,-37.4883,-45.4616, 5193,    103.9,  17.0256,  35.5585,2,  35.6284,4,    216.7,2,    216.5,2,     1.65,2,     1.99,2,     0.28,2,   2351.6,2,7.9368,2,    25.00,122,20190414
  29HE20190406,   A17,19,0,23,23,2,20190414,2328,-37.4883,-45.4616, 5193,     49.8,  19.3639,  35.5416,2,     -999,9,    229.0,2,    229.6,2,     1.16,2,     0.00,2,     0.10,2,   2351.9,2,8.0066,2,    25.00,124,20190414
  29HE20190406,   A17,19,0,24,24,2,20190414,2328,-37.4883,-45.4616, 5193,      5.6,  19.5807,  35.5248,2,  35.5204,2,    230.1,2,    229.2,2,     1.02,2,     0.00,2,     0.09,2,   2350.0,2,8.008,2,    25.00,126,20190414
  29HE20190406,   A17,20,0,1,1,2,20190415,651,-36.917,-44.9515, 4988,   2003.5,   3.1335,  34.7781,2,     -999,9,    201.8,2,     -999,9,     -999,9,     -999,9,     -999,9,     -999,9,-999.0,9,    25.00,651,20190415
  29HE20190406,   A17,20,0,2,2,2,20190415,651,-36.917,-44.9515, 4988,   2003.5,   3.1334,  34.7778,2,  34.7774,2,    201.4,2,    201.2,2,    51.42,2,    27.38,2,     1.85,2,     -999,9,7.6435,2,    25.00,651,20190415
  29HE20190406,   A17,20,0,3,3,2,20190415,651,-36.917,-44.9515, 4988,   1695.5,   3.0762,  34.6363,2,     -999,9,    186.6,2,     -999,9,    55.67,2,    30.85,2,     2.09,2,     -999,9,7.6036,2,    25.00,657,20190415
  29HE20190406,   A17,20,0,4,4,2,20190415,651,-36.917,-44.9515, 4988,   1499.9,   2.9741,  34.5016,2,  34.4999,2,    184.0,2,    183.0,2,    57.13,2,    32.96,2,     2.23,2,     -999,9,7.5801,2,    25.00,702,20190415
  29HE20190406,   A17,20,0,5,5,2,20190415,651,-36.917,-44.9515, 4988,   1501.1,   2.9740,  34.5017,2,     -999,9,    184.0,2,     -999,9,     -999,9,     -999,9,     -999,9,     -999,9,-999.0,9,    25.00,702,20190415
  29HE20190406,   A17,20,0,6,6,2,20190415,651,-36.917,-44.9515, 4988,   1198.3,   3.3220,  34.3106,2,  34.3101,2,    211.8,2,    210.6,2,    38.55,2,    31.90,2,     2.17,2,     -999,9,7.5997,2,    25.00,709,20190415
  29HE20190406,   A17,20,0,7,7,2,20190415,651,-36.917,-44.9515, 4988,   1197.9,   3.3213,  34.3107,2,     -999,9,    212.0,2,     -999,9,     -999,9,     -999,9,     -999,9,     -999,9,-999.0,9,    25.00,709,20190415
  29HE20190406,   A17,20,0,8,8,2,20190415,651,-36.917,-44.9515, 4988,    998.6,   4.0181,  34.2404,2,  34.4991,4,    234.8,2,    233.3,2,    25.25,2,    29.27,2,     1.97,2,     -999,9,7.6363,2,    25.00,714,20190415
  29HE20190406,   A17,20,0,9,9,2,20190415,651,-36.917,-44.9515, 4988,    998.4,   4.0176,  34.2406,2,     -999,9,    234.8,2,     -999,9,     -999,9,     -999,9,     -999,9,     -999,9,-999.0,9,    25.00,714,20190415
  29HE20190406,   A17,20,0,10,10,2,20190415,651,-36.917,-44.9515, 4988,    801.5,   5.0485,  34.2463,2,  34.2454,2,    246.8,2,    245.6,2,    15.24,2,    26.07,2,     1.77,2,     -999,9,7.6692,2,    25.00,719,20190415
  29HE20190406,   A17,20,0,11,11,2,20190415,651,-36.917,-44.9515, 4988,    800.2,   5.0541,  34.2465,2,     -999,9,    247.3,2,     -999,9,     -999,9,     -999,9,     -999,9,     -999,9,-999.0,9,    25.00,719,20190415
  29HE20190406,   A17,20,0,12,12,2,20190415,651,-36.917,-44.9515, 4988,    605.5,   7.2147,  34.4248,2,  34.4277,2,    231.3,2,    229.8,2,     9.52,2,    22.30,2,     1.52,2,     -999,9,7.7016,2,    25.00,724,20190415
  29HE20190406,   A17,20,0,13,13,2,20190415,651,-36.917,-44.9515, 4988,    606.0,   7.2149,  34.4250,2,     -999,9,    231.2,2,     -999,9,     -999,9,     -999,9,     -999,9,     -999,9,-999.0,9,    25.00,724,20190415
  29HE20190406,   A17,20,0,14,14,2,20190415,651,-36.917,-44.9515, 4988,    504.6,   9.3900,  34.6846,2,  34.6891,2,    217.2,2,    216.4,2,     6.56,2,    18.10,2,     1.25,2,     -999,9,7.7435,2,    25.00,727,20190415
  29HE20190406,   A17,20,0,15,15,2,20190415,651,-36.917,-44.9515, 4988,    404.3,  12.1246,  35.0921,2,     -999,9,    208.2,2,     -999,9,     -999,9,     -999,9,     -999,9,     -999,9,-999.0,9,    25.00,731,20190415
  29HE20190406,   A17,20,0,16,16,2,20190415,651,-36.917,-44.9515, 4988,    403.8,  12.1375,  35.0934,2,  35.0962,2,    208.7,2,    208.0,2,     4.32,2,    12.38,2,     0.89,2,     -999,9,7.8057,2,    25.00,731,20190415
  29HE20190406,   A17,20,0,17,17,2,20190415,651,-36.917,-44.9515, 4988,    301.4,  14.1813,  35.4434,2,     -999,9,    213.6,2,    213.1,2,     2.84,2,     7.83,2,     0.60,2,     -999,9,7.8654,2,    25.00,734,20190415
  29HE20190406,   A17,20,0,18,18,2,20190415,651,-36.917,-44.9515, 4988,    202.0,  15.8447,  35.7772,2,  35.7798,2,    215.7,2,    215.7,2,     2.04,2,     4.78,2,     0.39,2,     -999,9,7.9123,2,    25.00,737,20190415
  29HE20190406,   A17,20,0,19,19,2,20190415,651,-36.917,-44.9515, 4988,    202.3,  15.8367,  35.7760,2,     -999,9,    215.8,2,     -999,9,     -999,9,     -999,9,     -999,9,     -999,9,-999.0,9,    25.00,737,20190415
  29HE20190406,   A17,20,0,20,20,2,20190415,651,-36.917,-44.9515, 4988,    101.7,  17.7058,  35.8982,2,  35.9132,3,    207.4,2,    207.7,2,     1.75,2,     2.57,2,     0.28,2,     -999,9,7.9392,2,    25.00,740,20190415
  29HE20190406,   A17,20,0,21,21,2,20190415,651,-36.917,-44.9515, 4988,    101.9,  17.7097,  35.8966,2,     -999,9,    207.6,2,     -999,9,     -999,9,     -999,9,     -999,9,     -999,9,-999.0,9,    25.00,740,20190415
  29HE20190406,   A17,20,0,22,22,2,20190415,651,-36.917,-44.9515, 4988,     50.4,  20.9070,  36.0209,2,  36.0211,2,    223.0,2,    222.2,2,     1.23,2,     0.00,2,     0.05,2,     -999,9,8.0245,2,    25.00,743,20190415
  29HE20190406,   A17,20,0,23,23,2,20190415,651,-36.917,-44.9515, 4988,      4.7,  20.5461,  35.7534,2,     -999,9,    223.9,2,     -999,9,     -999,9,     -999,9,     -999,9,     -999,9,-999.0,9,    25.00,747,20190415
  29HE20190406,   A17,20,0,24,24,2,20190415,651,-36.917,-44.9515, 4988,      5.0,  20.5454,  35.7510,2,  35.7490,2,    223.9,2,    224.6,2,     1.23,2,     0.00,2,     0.05,2,     -999,9,8.021,2,    25.00,747,20190415