BOTTLE,20240229CCHSIOSLL
EXPOCODE,SECT_ID,STNNBR,CASTNO,SAMPNO,BTLNBR,BTLNBR_FLAG_W,DATE,TIME,LATITUDE,LONGITUDE,DEPTH,CTDPRS,CTDTMP,CTDSAL,CTDSAL_FLAG_W,SALNTY,SALNTY_FLAG_W,CTDOXY,CTDOXY_FLAG_W,OXYGEN,OXYGEN_FLAG_W,SILCAT,SILCAT_FLAG_W,NITRAT,NITRAT_FLAG_W,PHSPHT,PHSPHT_FLAG_W,ALKALI,ALKALI_FLAG_W,PH_TOT,PH_TOT_FLAG_W,PH_TMP,BTL_TIME,BTL_DATE
,,,,,,,,,,,METERS,DBAR,ITS-90,PSS-78,,PSS-78,,UMOL/KG,,UMOL/KG,,UMOL/KG,,UMOL/KG,,UMOL/KG,,UMOL/KG,,,,DEG C,,
  29HE20190406,   A17,65,0,1,1,2,20190508,1944,-0.9988,-26.5961, 3544,   3502.3,   2.4176,  34.9026,2,     -999,9,    255.7,2,    255.3,2,    36.04,2,    20.62,2,     1.38,2,   2332.1,2,-999.0,9,    25.00,1944,20190508
  29HE20190406,   A17,65,0,2,2,2,20190508,1944,-0.9988,-26.5961, 3544,   3002.3,   2.6883,  34.9176,2,     -999,9,    247.8,2,     -999,9,     -999,9,     -999,9,     -999,9,     -999,9,-999.0,9,    25.00,1954,20190508
  29HE20190406,   A17,65,0,3,3,2,20190508,1944,-0.9988,-26.5961, 3544,   2749.3,   2.8199,  34.9270,2,     -999,9,    249.0,2,    248.1,2,    32.85,2,    21.05,2,     1.40,2,   2329.7,2,-999.0,9,    25.00,1959,20190508
  29HE20190406,   A17,65,0,4,4,2,20190508,1944,-0.9988,-26.5961, 3544,   2496.7,   3.0326,  34.9431,2,  34.9484,2,    252.4,2,    251.6,2,    27.27,2,    20.25,2,     1.35,2,   2324.8,2,-999.0,9,    25.00,2007,20190508
  29HE20190406,   A17,65,0,5,5,2,20190508,1944,-0.9988,-26.5961, 3544,   2273.9,   3.2222,  34.9532,2,     -999,9,    252.8,2,    252.1,2,    24.54,2,    19.90,2,     1.32,2,   2321.6,2,-999.0,9,    25.00,2012,20190508
  29HE20190406,   A17,65,0,6,6,2,20190508,1944,-0.9988,-26.5961, 3544,   2001.2,   3.5057,  34.9660,2,  34.9689,2,    251.5,2,    250.7,2,    21.11,2,    19.79,2,     1.32,2,   2319.6,2,-999.0,9,    25.00,2018,20190508
  29HE20190406,   A17,65,0,7,7,2,20190508,1944,-0.9988,-26.5961, 3544,   1797.5,   3.8513,  34.9784,2,     -999,9,    249.8,2,     -999,9,     -999,9,     -999,9,     -999,9,     -999,9,-999.0,9,    25.00,2023,20190508
  29HE20190406,   A17,65,0,8,8,2,20190508,1944,-0.9988,-26.5961, 3544,   1596.5,   4.2421,  34.9770,2,  34.9804,2,    235.6,2,    234.3,2,    17.57,2,    20.97,2,     1.39,2,   2316.5,2,-999.0,9,    25.00,2028,20190508
  29HE20190406,   A17,65,0,9,9,2,20190508,1944,-0.9988,-26.5961, 3544,   1397.3,   4.5115,  34.9113,2,     -999,9,    204.5,2,    203.3,2,    21.61,2,    24.96,2,     1.67,2,   2314.8,2,-999.0,9,    25.00,2033,20190508
  29HE20190406,   A17,65,0,10,10,2,20190508,1944,-0.9988,-26.5961, 3544,   1296.6,   4.5538,  34.8958,2,  34.8971,2,    199.8,2,    200.1,2,    22.12,2,    25.61,2,     1.71,2,   2312.4,2,-999.0,9,    25.00,2035,20190508
  29HE20190406,   A17,65,0,11,11,2,20190508,1944,-0.9988,-26.5961, 3544,   1198.0,   4.5437,  34.8132,2,     -999,9,    182.9,2,    181.5,2,    25.36,2,    28.10,2,     1.90,2,   2312.8,2,7.6329,2,    25.00,2038,20190508
  29HE20190406,   A17,65,0,12,12,2,20190508,1944,-0.9988,-26.5961, 3544,   1100.9,   4.5340,  34.6785,2,  34.6812,2,    165.1,2,    163.9,2,    29.43,2,    31.60,2,     2.14,2,   2309.8,2,7.5938,2,    25.00,2041,20190508
  29HE20190406,   A17,65,0,13,13,2,20190508,1944,-0.9988,-26.5961, 3544,   1000.1,   4.6248,  34.5969,2,     -999,9,    154.9,2,    153.7,2,    30.75,2,    33.58,2,     2.28,2,   2307.4,2,7.5715,2,    25.00,2044,20190508
  29HE20190406,   A17,65,0,14,14,2,20190508,1944,-0.9988,-26.5961, 3544,    897.9,   4.7360,  34.5268,2,  34.5317,2,    152.3,2,    151.0,2,    30.76,2,    34.49,2,     2.32,2,   2303.1,2,7.5608,2,    25.00,2047,20190508
  29HE20190406,   A17,65,0,15,15,2,20190508,1944,-0.9988,-26.5961, 3544,    798.8,   4.9718,  34.5032,2,     -999,9,    152.4,2,    151.6,2,    29.19,2,    34.17,2,     2.30,2,   2300.3,2,7.5629,2,    25.00,2049,20190508
  29HE20190406,   A17,65,0,16,16,2,20190508,1944,-0.9988,-26.5961, 3544,    698.3,   5.4463,  34.5118,2,  34.5145,2,    146.7,2,    145.3,2,    26.64,2,    34.22,2,     2.28,2,   2298.2,2,7.5585,2,    25.00,2052,20190508
  29HE20190406,   A17,65,0,17,17,2,20190508,1944,-0.9988,-26.5961, 3544,    598.5,   6.0725,  34.5408,2,     -999,9,    142.0,2,    141.0,2,    23.66,2,    33.44,2,     2.22,2,   2297.3,2,7.5622,2,    25.00,2055,20190508
  29HE20190406,   A17,65,0,18,18,2,20190508,1944,-0.9988,-26.5961, 3544,    497.4,   7.0514,  34.6142,2,  34.6186,2,    130.8,2,    129.6,2,    20.13,2,    32.63,2,     2.11,2,   2295.9,2,7.5611,2,    25.00,2058,20190508
  29HE20190406,   A17,65,0,19,19,2,20190508,1944,-0.9988,-26.5961, 3544,    396.4,   8.3426,  34.7385,2,     -999,9,    115.4,2,    114.8,2,    16.78,2,    31.51,2,     2.01,2,   2298.8,2,7.5636,2,    25.00,2101,20190508
  29HE20190406,   A17,65,0,20,20,2,20190508,1944,-0.9988,-26.5961, 3544,    297.6,  11.4709,  35.0994,2,  35.1013,2,     95.5,2,     94.9,2,    11.43,2,    27.06,2,     1.71,2,   2311.3,2,7.6039,2,    25.00,2103,20190508
  29HE20190406,   A17,65,0,21,21,2,20190508,1944,-0.9988,-26.5961, 3544,    200.6,  13.3281,  35.3391,2,     -999,9,    115.1,2,    114.5,2,     8.55,2,    21.62,2,     1.41,2,   2324.4,2,7.6854,2,    25.00,2106,20190508
  29HE20190406,   A17,65,0,22,22,2,20190508,1944,-0.9988,-26.5961, 3544,     97.1,  15.2603,  35.6114,2,  35.6087,2,    152.1,2,    150.7,2,     5.90,2,    14.60,2,     1.01,2,   2341.4,2,7.79,2,    25.00,2109,20190508
  29HE20190406,   A17,65,0,23,23,2,20190508,1944,-0.9988,-26.5961, 3544,     49.0,  23.7403,  36.1790,2,     -999,9,    185.9,2,    184.8,2,     1.93,2,     0.17,2,     0.24,2,   2378.6,2,7.9658,2,    25.00,2111,20190508
  29HE20190406,   A17,65,0,24,24,2,20190508,1944,-0.9988,-26.5961, 3544,      5.9,  28.1992,  36.1198,2,  36.1152,2,    203.0,2,    201.1,2,     1.18,2,     0.08,2,     0.04,2,   2367.3,2,8.0705,2,    25.00,2113,20190508
  29HE20190406,   A17,66,0,1,1,2,20190509,541,0.0064,-25.998, 3773,   3714.2,   2.4947,  34.9034,2,  34.9033,2,    252.2,2,    251.3,2,    37.47,2,    21.14,2,     1.41,2,     -999,9,7.7296,2,    25.00,541,20190509
  29HE20190406,   A17,66,0,2,2,2,20190509,541,0.0064,-25.998, 3773,   3501.9,   2.4957,  34.9050,2,     -999,9,    251.9,2,     -999,9,     -999,9,     -999,9,     -999,9,     -999,9,-999.0,9,    25.00,546,20190509
  29HE20190406,   A17,66,0,3,3,2,20190509,541,0.0064,-25.998, 3773,   3001.2,   2.6922,  34.9198,2,     -999,9,    250.2,2,    249.7,2,    34.12,2,    21.05,2,     1.40,2,     -999,9,7.7315,2,    25.00,557,20190509
  29HE20190406,   A17,66,0,4,4,2,20190509,541,0.0064,-25.998, 3773,   2749.5,   2.8041,  34.9273,2,  34.9289,2,    249.9,2,    248.9,2,    32.64,2,    21.02,2,     1.39,2,     -999,9,7.7325,2,    25.00,603,20190509
  29HE20190406,   A17,66,0,5,5,2,20190509,541,0.0064,-25.998, 3773,   2501.5,   2.9803,  34.9386,2,     -999,9,    250.6,2,    249.8,2,    29.16,2,    20.61,2,     1.38,2,     -999,9,7.7336,2,    25.00,608,20190509
  29HE20190406,   A17,66,0,6,6,2,20190509,541,0.0064,-25.998, 3773,   2276.7,   3.2672,  34.9537,2,  34.9569,2,    250.7,2,    250.6,2,    24.82,2,    20.27,2,     1.35,2,     -999,9,7.7341,2,    25.00,614,20190509
  29HE20190406,   A17,66,0,7,7,2,20190509,541,0.0064,-25.998, 3773,   2000.6,   3.5373,  34.9668,2,  34.9672,2,    250.5,2,    251.2,2,    20.99,2,    19.90,2,     1.33,2,     -999,9,7.7328,2,    25.00,620,20190509
  29HE20190406,   A17,66,0,8,8,2,20190509,541,0.0064,-25.998, 3773,   1799.9,   3.8234,  34.9773,2,     -999,9,    248.9,2,     -999,9,     -999,9,     -999,9,     -999,9,     -999,9,-999.0,9,    25.00,625,20190509
  29HE20190406,   A17,66,0,9,9,2,20190509,541,0.0064,-25.998, 3773,   1600.3,   4.1411,  34.9814,2,     -999,9,    240.9,2,    240.5,2,    17.29,2,    20.42,2,     1.37,2,     -999,9,7.7199,2,    25.00,630,20190509
  29HE20190406,   A17,66,0,10,10,2,20190509,541,0.0064,-25.998, 3773,   1400.9,   4.4751,  34.9323,2,  34.9315,2,    211.7,2,    210.9,2,    20.53,2,    24.10,2,     1.60,2,     -999,9,7.6819,2,    25.00,635,20190509
  29HE20190406,   A17,66,0,11,11,2,20190509,541,0.0064,-25.998, 3773,   1200.4,   4.6042,  34.8542,2,     -999,9,    188.7,2,    191.6,2,    23.84,2,    27.16,2,     1.82,2,     -999,9,7.6479,2,    25.00,640,20190509
  29HE20190406,   A17,66,0,12,12,2,20190509,541,0.0064,-25.998, 3773,   1099.7,   4.6268,  34.7736,2,  34.7742,2,    173.3,2,    174.5,2,    26.77,2,    29.71,2,     2.01,2,     -999,9,7.618,2,    25.00,643,20190509
  29HE20190406,   A17,66,0,13,13,2,20190509,541,0.0064,-25.998, 3773,   1000.5,   4.6114,  34.6428,2,     -999,9,    159.0,2,     -999,9,    30.12,2,    32.61,2,     2.21,2,     -999,9,7.5862,2,    25.00,646,20190509
  29HE20190406,   A17,66,0,14,14,2,20190509,541,0.0064,-25.998, 3773,    898.9,   4.7185,  34.5434,2,  34.5464,2,    152.2,2,    157.1,3,    30.73,2,    34.21,2,     2.32,2,     -999,9,7.5621,2,    25.00,649,20190509
  29HE20190406,   A17,66,0,15,15,2,20190509,541,0.0064,-25.998, 3773,    800.2,   5.1033,  34.5300,2,     -999,9,    147.6,2,    147.2,2,    28.79,2,    34.55,2,     2.31,2,     -999,9,7.5606,2,    25.00,652,20190509
  29HE20190406,   A17,66,0,16,16,2,20190509,541,0.0064,-25.998, 3773,    700.3,   5.3722,  34.5188,2,  34.5186,2,    145.4,2,    144.1,2,    27.20,2,    34.74,2,     2.31,2,     -999,9,7.5551,2,    25.00,655,20190509
  29HE20190406,   A17,66,0,17,17,2,20190509,541,0.0064,-25.998, 3773,    599.5,   6.0041,  34.5362,2,     -999,9,    142.5,2,    141.6,2,    23.98,2,    33.81,2,     2.24,2,     -999,9,7.5624,2,    25.00,658,20190509
  29HE20190406,   A17,66,0,18,18,2,20190509,541,0.0064,-25.998, 3773,    500.2,   7.1209,  34.6234,2,  34.6267,2,    129.5,2,    129.0,2,    20.01,2,    32.58,2,     2.14,2,     -999,9,7.5623,2,    25.00,701,20190509
  29HE20190406,   A17,66,0,19,19,2,20190509,541,0.0064,-25.998, 3773,    401.0,   8.9662,  34.8100,2,     -999,9,    109.0,2,    108.4,2,    15.44,2,    30.70,2,     1.96,2,     -999,9,7.5702,2,    25.00,704,20190509
  29HE20190406,   A17,66,0,20,20,2,20190509,541,0.0064,-25.998, 3773,    302.2,  10.8586,  35.0230,2,  35.0156,2,    113.1,2,    113.4,2,    11.98,2,    26.81,2,     1.70,2,     -999,9,7.6218,2,    25.00,706,20190509
  29HE20190406,   A17,66,0,21,21,2,20190509,541,0.0064,-25.998, 3773,    200.7,  13.6925,  35.3877,2,     -999,9,    141.2,2,    140.1,2,     7.45,2,    18.29,2,     1.22,2,     -999,9,7.739,2,    25.00,709,20190509
  29HE20190406,   A17,66,0,22,22,2,20190509,541,0.0064,-25.998, 3773,     99.2,  17.0733,  35.8790,2,  35.8904,2,    176.0,2,    174.7,2,     4.31,2,     9.65,2,     0.73,2,     -999,9,7.8665,2,    25.00,712,20190509
  29HE20190406,   A17,66,0,23,23,2,20190509,541,0.0064,-25.998, 3773,     48.9,  24.8753,  36.7089,2,     -999,9,    208.6,2,    207.2,2,     1.24,2,     0.05,2,     0.10,2,     -999,9,8.0372,2,    25.00,714,20190509
  29HE20190406,   A17,66,0,24,24,2,20190509,541,0.0064,-25.998, 3773,      5.1,  28.0300,  36.2052,2,  36.2056,2,    203.4,2,    201.9,2,     1.12,2,     0.05,2,     0.03,2,     -999,9,8.0719,2,    25.00,716,20190509
  29HE20190406,   A17,67,0,1,1,2,20190509,1615,1.311,-26.0105, 3955,   3438.1,   2.5307,  34.9072,2,     -999,9,    247.3,2,    247.6,2,    38.79,2,    21.73,2,     1.46,2,   2339.7,2,7.7276,2,    25.00,1615,20190509
  29HE20190406,   A17,67,0,2,2,2,20190509,1615,1.311,-26.0105, 3955,   3012.7,   2.6978,  34.9192,2,  34.9186,2,    248.7,2,    248.0,2,    35.12,2,    21.29,2,     1.42,2,   2335.3,2,7.7306,2,    25.00,1627,20190509
  29HE20190406,   A17,67,0,3,3,2,20190509,1615,1.311,-26.0105, 3955,   2755.3,   2.8712,  34.9302,2,     -999,9,    248.6,2,    248.1,2,    31.89,2,    21.03,2,     1.40,2,   2333.6,2,7.7315,2,    25.00,1635,20190509
  29HE20190406,   A17,67,0,4,4,2,20190509,1615,1.311,-26.0105, 3955,   2486.4,   3.0722,  34.9430,2,  34.9442,2,    250.2,2,    249.2,2,    27.98,2,    20.61,2,     1.37,2,   2327.8,2,7.7333,2,    25.00,1641,20190509
  29HE20190406,   A17,67,0,5,5,2,20190509,1615,1.311,-26.0105, 3955,   2262.4,   3.2709,  34.9543,2,     -999,9,    250.5,2,    249.8,2,    24.73,2,    20.20,2,     1.34,2,   2327.1,2,7.7339,2,    25.00,1646,20190509
  29HE20190406,   A17,67,0,6,6,2,20190509,1615,1.311,-26.0105, 3955,   2006.4,   3.4982,  34.9666,2,  34.9654,2,    252.6,2,    252.8,2,    20.45,2,    19.64,2,     1.30,2,   2321.2,2,7.7348,2,    25.00,1652,20190509
  29HE20190406,   A17,67,0,7,7,2,20190509,1615,1.311,-26.0105, 3955,   1807.0,   3.6769,  34.9728,2,     -999,9,    250.2,2,    249.1,2,    19.17,2,    19.78,2,     1.31,2,   2321.3,2,7.7318,2,    25.00,1657,20190509
  29HE20190406,   A17,67,0,8,8,2,20190509,1615,1.311,-26.0105, 3955,   1599.8,   4.2545,  34.9729,2,  34.9733,2,    232.1,2,    231.2,2,    18.16,2,    21.39,2,     1.42,2,   2318.3,2,7.711,2,    25.00,1703,20190509
  29HE20190406,   A17,67,0,9,9,2,20190509,1615,1.311,-26.0105, 3955,   1399.8,   4.4872,  34.9259,2,     -999,9,    209.0,2,    207.9,2,    20.82,2,    24.22,2,     1.61,2,   2318.6,2,7.681,2,    25.00,1708,20190509
  29HE20190406,   A17,67,0,10,10,2,20190509,1615,1.311,-26.0105, 3955,   1305.5,   4.5118,  34.8984,2,  34.8963,2,    200.6,2,    199.9,2,    22.15,2,    25.43,2,     1.71,2,   2315.9,2,7.667,2,    25.00,1711,20190509
  29HE20190406,   A17,67,0,11,11,2,20190509,1615,1.311,-26.0105, 3955,   1200.6,   4.5402,  34.8543,2,     -999,9,    190.2,2,    188.6,2,    23.91,2,    27.20,2,     1.83,2,   2315.2,2,7.6481,2,    25.00,1714,20190509
  29HE20190406,   A17,67,0,12,12,2,20190509,1615,1.311,-26.0105, 3955,   1101.0,   4.6875,  34.7552,2,  34.7505,2,    167.2,2,    165.7,2,    27.30,2,    30.51,2,     2.06,2,   2313.2,2,7.6076,2,    25.00,1717,20190509
  29HE20190406,   A17,67,0,13,13,2,20190509,1615,1.311,-26.0105, 3955,    998.8,   4.6831,  34.6265,2,     -999,9,    154.9,2,    154.0,2,    29.97,2,    33.17,2,     2.23,2,   2308.1,2,7.5758,2,    25.00,1720,20190509
  29HE20190406,   A17,67,0,14,14,2,20190509,1615,1.311,-26.0105, 3955,    899.6,   4.6942,  34.5754,2,  34.5733,2,    152.2,2,    151.2,2,    30.70,2,    34.03,2,     2.29,2,   2307.1,2,7.5665,2,    25.00,1723,20190509
  29HE20190406,   A17,67,0,15,15,2,20190509,1615,1.311,-26.0105, 3955,    797.7,   4.8530,  34.5520,2,     -999,9,    149.7,2,    148.9,2,    29.99,2,    34.22,2,     2.31,2,   2304.7,2,7.5623,2,    25.00,1726,20190509
  29HE20190406,   A17,67,0,16,16,2,20190509,1615,1.311,-26.0105, 3955,    699.2,   5.4346,  34.5357,2,  34.5361,2,    142.7,2,    142.1,2,    27.11,2,    34.46,2,     2.31,2,   2300.9,2,7.557,2,    25.00,1729,20190509
  29HE20190406,   A17,67,0,17,17,2,20190509,1615,1.311,-26.0105, 3955,    595.5,   6.5099,  34.5760,2,     -999,9,    139.6,2,    139.0,2,    22.11,2,    32.87,2,     2.16,2,   2300.7,2,7.5678,2,    25.00,1731,20190509
  29HE20190406,   A17,67,0,18,18,2,20190509,1615,1.311,-26.0105, 3955,    502.4,   7.3256,  34.6435,2,  34.6421,2,    124.0,2,    123.5,2,    19.39,2,    32.80,2,     2.11,2,   2297.6,2,7.556,2,    25.00,1735,20190509
  29HE20190406,   A17,67,0,19,19,2,20190509,1615,1.311,-26.0105, 3955,    403.1,   8.4499,  34.7569,2,     -999,9,    114.5,2,    114.6,2,    16.41,2,    31.15,2,     1.99,2,   2301.4,2,7.5678,2,    25.00,1738,20190509
  29HE20190406,   A17,67,0,20,20,2,20190509,1615,1.311,-26.0105, 3955,    299.2,  11.8672,  35.1491,2,  35.1493,2,    109.0,2,     -999,9,    10.39,2,    24.94,2,     1.59,2,   2315.8,2,7.6407,2,    25.00,1741,20190509
  29HE20190406,   A17,67,0,21,21,2,20190509,1615,1.311,-26.0105, 3955,    201.6,  13.2657,  35.3308,2,     -999,9,    117.5,2,    117.6,2,     8.51,2,    21.58,2,     1.39,2,   2325.0,2,7.6891,2,    25.00,1744,20190509
  29HE20190406,   A17,67,0,22,22,2,20190509,1615,1.311,-26.0105, 3955,     98.6,  15.7066,  35.6448,2,  35.6446,2,    146.6,2,    145.9,2,     5.85,2,    14.92,2,     0.99,2,   2343.2,2,7.7905,2,    25.00,1747,20190509
  29HE20190406,   A17,67,0,23,23,2,20190509,1615,1.311,-26.0105, 3955,     47.4,  22.6172,  36.2884,2,     -999,9,    188.8,2,    187.8,2,     2.31,2,     1.59,2,     0.21,2,   2383.6,2,7.977,2,    25.00,1749,20190509
  29HE20190406,   A17,67,0,24,24,2,20190509,1615,1.311,-26.0105, 3955,      4.8,  28.4122,  36.0038,2,  36.0031,2,    205.8,2,    204.7,2,     1.14,2,     0.00,2,     0.02,2,   2360.1,2,8.0857,2,    25.00,1751,20190509