BOTTLE,20240229CCHSIOSLL
EXPOCODE,SECT_ID,STNNBR,CASTNO,SAMPNO,BTLNBR,BTLNBR_FLAG_W,DATE,TIME,LATITUDE,LONGITUDE,DEPTH,CTDPRS,CTDTMP,CTDSAL,CTDSAL_FLAG_W,SALNTY,SALNTY_FLAG_W,CTDOXY,CTDOXY_FLAG_W,OXYGEN,OXYGEN_FLAG_W,SILCAT,SILCAT_FLAG_W,NITRAT,NITRAT_FLAG_W,PHSPHT,PHSPHT_FLAG_W,ALKALI,ALKALI_FLAG_W,PH_TOT,PH_TOT_FLAG_W,PH_TMP,BTL_TIME,BTL_DATE
,,,,,,,,,,,METERS,DBAR,ITS-90,PSS-78,,PSS-78,,UMOL/KG,,UMOL/KG,,UMOL/KG,,UMOL/KG,,UMOL/KG,,UMOL/KG,,,,DEG C,,
  29HE20190406,   A17,37,0,1,1,2,20190428,34,-26.708,-36.0349, 4594,   4583.6,   0.2872,  34.6760,2,     -999,9,    221.7,2,    221.2,2,   121.39,2,    32.94,2,     2.26,2,   2366.8,2,7.6049,2,    25.00,34,20190428
  29HE20190406,   A17,37,0,2,2,2,20190428,34,-26.708,-36.0349, 4594,   3998.6,   1.2176,  34.7660,2,  34.7662,2,    230.2,2,    230.1,2,    90.17,2,    28.56,2,     1.92,2,   2356.9,2,7.6581,2,    25.00,45,20190428
  29HE20190406,   A17,37,0,3,3,2,20190428,34,-26.708,-36.0349, 4594,   3500.4,   2.2858,  34.8808,2,     -999,9,    250.3,2,    249.2,2,    46.28,2,    22.24,2,     1.48,2,   2335.9,2,7.7206,2,    25.00,54,20190428
  29HE20190406,   A17,37,0,4,4,2,20190428,34,-26.708,-36.0349, 4594,   3000.3,   2.7254,  34.9170,2,  34.9163,2,    251.7,2,    250.6,2,    33.73,2,    20.81,2,     1.38,2,   2329.9,2,7.7315,2,    25.00,104,20190428
  29HE20190406,   A17,37,0,5,5,2,20190428,34,-26.708,-36.0349, 4594,   2501.4,   2.9508,  34.9212,2,     -999,9,    248.2,2,    247.6,2,    31.40,2,    21.03,2,     1.38,2,   2326.5,2,7.7284,2,    25.00,113,20190428
  29HE20190406,   A17,37,0,6,6,2,20190428,34,-26.708,-36.0349, 4594,   2276.1,   2.9843,  34.9014,2,  34.9002,2,    241.6,2,    240.4,2,    33.28,2,    21.95,2,     1.45,2,   2326.1,2,7.7161,2,    25.00,118,20190428
  29HE20190406,   A17,37,0,7,7,2,20190428,34,-26.708,-36.0349, 4594,   1999.5,   2.9683,  34.8560,2,     -999,9,    229.5,2,    228.8,2,    39.30,2,    23.94,2,     1.60,2,   2327.5,2,7.6936,2,    25.00,123,20190428
  29HE20190406,   A17,37,0,8,8,2,20190428,34,-26.708,-36.0349, 4594,   1797.4,   2.9381,  34.8004,2,  34.8000,2,    216.5,2,    215.4,2,    46.09,2,    26.16,2,     1.75,2,   2329.4,2,7.6681,2,    25.00,127,20190428
  29HE20190406,   A17,37,0,9,9,2,20190428,34,-26.708,-36.0349, 4594,   1592.4,   2.8720,  34.7052,2,     -999,9,    199.9,2,    199.3,2,    54.23,2,    29.21,2,     1.98,2,   2330.5,2,7.6323,2,    25.00,132,20190428
  29HE20190406,   A17,37,0,10,10,2,20190428,34,-26.708,-36.0349, 4594,   1396.4,   2.9893,  34.6086,2,  34.6094,2,    190.8,2,    189.7,2,    54.71,2,    31.31,2,     2.12,2,   2327.0,2,7.6084,2,    25.00,135,20190428
  29HE20190406,   A17,37,0,11,11,2,20190428,34,-26.708,-36.0349, 4594,   1201.2,   3.2435,  34.4748,2,     -999,9,    189.8,2,    188.7,2,    50.22,2,    32.77,2,     2.22,2,   2318.4,2,7.5929,2,    25.00,139,20190428
  29HE20190406,   A17,37,0,12,12,2,20190428,34,-26.708,-36.0349, 4594,   1105.1,   3.4985,  34.4048,2,  34.4034,2,    195.8,2,    194.3,2,    43.46,2,    32.64,2,     2.20,2,   2311.4,2,7.5971,2,    25.00,142,20190428
  29HE20190406,   A17,37,0,13,13,2,20190428,34,-26.708,-36.0349, 4594,   1008.4,   3.8614,  34.3491,2,     -999,9,    204.6,2,    203.9,2,    35.58,2,    31.59,2,     2.15,2,   2304.8,2,7.6082,2,    25.00,146,20190428
  29HE20190406,   A17,37,0,14,14,2,20190428,34,-26.708,-36.0349, 4594,    907.7,   4.3605,  34.3074,2,  34.3050,2,    217.1,2,    215.7,2,    27.07,2,    30.04,2,     2.03,2,   2295.1,2,7.6274,2,    25.00,149,20190428
  29HE20190406,   A17,37,0,15,15,2,20190428,34,-26.708,-36.0349, 4594,    801.7,   5.2577,  34.3327,2,     -999,9,    218.6,2,    217.7,2,    20.15,2,    28.08,2,     1.88,2,   2289.8,2,7.647,2,    25.00,152,20190428
  29HE20190406,   A17,37,0,16,16,2,20190428,34,-26.708,-36.0349, 4594,    698.0,   6.6342,  34.4292,2,  34.4293,2,    217.1,2,    216.2,2,    13.82,2,    24.86,2,     1.68,2,   2289.7,2,7.6759,2,    25.00,154,20190428
  29HE20190406,   A17,37,0,17,17,2,20190428,34,-26.708,-36.0349, 4594,    600.0,   8.8098,  34.6651,2,     -999,9,    207.8,2,    206.5,2,     9.37,2,    20.53,2,     1.39,2,   2297.2,2,7.7153,2,    25.00,157,20190428
  29HE20190406,   A17,37,0,18,18,2,20190428,34,-26.708,-36.0349, 4594,    501.9,  11.3058,  34.9900,2,  34.9918,2,    207.6,2,    206.4,2,     5.49,2,    14.46,2,     0.99,2,   2311.1,2,7.7817,2,    25.00,200,20190428
  29HE20190406,   A17,37,0,19,19,2,20190428,34,-26.708,-36.0349, 4594,    400.0,  13.5300,  35.3230,2,     -999,9,    211.4,2,    210.7,2,     3.23,2,     9.06,2,     0.66,2,   2328.6,2,7.843,2,    25.00,202,20190428
  29HE20190406,   A17,37,0,20,20,2,20190428,34,-26.708,-36.0349, 4594,    301.8,  15.0535,  35.5329,2,  35.5333,2,    212.1,2,    211.2,2,     2.21,2,     5.66,2,     0.45,2,   2340.1,2,7.8819,2,    25.00,205,20190428
  29HE20190406,   A17,37,0,21,21,2,20190428,34,-26.708,-36.0349, 4594,    201.8,  17.4754,  35.8898,2,     -999,9,    204.1,2,    203.2,2,     1.59,2,     2.71,2,     0.26,2,   2358.5,2,7.9252,2,    25.00,208,20190428
  29HE20190406,   A17,37,0,22,22,2,20190428,34,-26.708,-36.0349, 4594,    101.1,  20.5024,  36.3065,2,  36.3051,2,    223.9,2,    222.8,2,     0.91,2,     0.00,2,     0.02,2,   2385.2,2,8.0022,2,    25.00,211,20190428
  29HE20190406,   A17,37,0,23,23,2,20190428,34,-26.708,-36.0349, 4594,     50.3,  25.7898,  36.8825,2,     -999,9,    206.1,2,    205.4,2,     0.81,2,     0.00,2,     0.00,2,   2417.8,2,8.0699,2,    25.00,212,20190428
  29HE20190406,   A17,37,0,24,24,2,20190428,34,-26.708,-36.0349, 4594,      5.9,  25.8081,  36.8872,2,  36.8851,2,    206.5,2,    204.9,2,     0.82,2,     0.00,2,     0.01,2,   2417.5,2,8.0705,2,    25.00,215,20190428
  29HE20190406,   A17,38,0,1,1,2,20190428,728,-26.0888,-35.5215, 4354,   2006.5,   3.3905,  34.9332,2,     -999,9,    245.0,2,     -999,9,     -999,9,     -999,9,     -999,9,     -999,9,-999.0,9,    25.00,728,20190428
  29HE20190406,   A17,38,0,2,2,2,20190428,728,-26.0888,-35.5215, 4354,   2005.8,   3.3911,  34.9331,2,  34.9329,2,    244.9,2,    245.0,2,    26.39,2,    21.09,2,     1.38,2,     -999,9,7.7236,2,    25.00,728,20190428
  29HE20190406,   A17,38,0,3,3,2,20190428,728,-26.0888,-35.5215, 4354,   1697.0,   3.2380,  34.8238,2,     -999,9,    218.7,2,    217.5,2,    38.62,2,    25.36,2,     1.69,2,     -999,9,7.6753,2,    25.00,734,20190428
  29HE20190406,   A17,38,0,4,4,2,20190428,728,-26.0888,-35.5215, 4354,   1501.3,   2.9117,  34.6702,2,  34.6680,2,    195.7,2,    194.1,2,    54.45,2,    30.37,2,     2.04,2,     -999,9,7.6219,2,    25.00,739,20190428
  29HE20190406,   A17,38,0,5,5,2,20190428,728,-26.0888,-35.5215, 4354,   1501.1,   2.9116,  34.6703,2,     -999,9,    196.0,2,     -999,9,     -999,9,     -999,9,     -999,9,     -999,9,-999.0,9,    25.00,739,20190428
  29HE20190406,   A17,38,0,6,6,2,20190428,728,-26.0888,-35.5215, 4354,   1199.4,   3.2706,  34.4922,2,  34.4909,2,    188.7,2,    187.3,2,    49.61,2,    32.61,2,     2.21,2,     -999,9,7.5948,2,    25.00,745,20190428
  29HE20190406,   A17,38,0,7,7,2,20190428,728,-26.0888,-35.5215, 4354,   1198.7,   3.2703,  34.4922,2,     -999,9,    188.7,2,     -999,9,     -999,9,     -999,9,     -999,9,     -999,9,-999.0,9,    25.00,745,20190428
  29HE20190406,   A17,38,0,8,8,2,20190428,728,-26.0888,-35.5215, 4354,   1002.8,   3.8481,  34.3616,2,  34.3603,2,    202.7,2,    201.2,2,    36.34,2,    32.10,2,     2.16,2,     -999,9,7.6072,2,    25.00,750,20190428
  29HE20190406,   A17,38,0,9,9,2,20190428,728,-26.0888,-35.5215, 4354,   1002.5,   3.8481,  34.3616,2,     -999,9,    202.5,2,     -999,9,     -999,9,     -999,9,     -999,9,     -999,9,-999.0,9,    25.00,750,20190428
  29HE20190406,   A17,38,0,10,10,2,20190428,728,-26.0888,-35.5215, 4354,    802.3,   5.0656,  34.3296,2,  34.3285,2,    217.7,2,    215.9,2,    21.86,2,    28.99,2,     1.94,2,     -999,9,7.6428,2,    25.00,754,20190428
  29HE20190406,   A17,38,0,11,11,2,20190428,728,-26.0888,-35.5215, 4354,    802.5,   5.0621,  34.3295,2,     -999,9,    217.7,2,     -999,9,     -999,9,     -999,9,     -999,9,     -999,9,-999.0,9,    25.00,755,20190428
  29HE20190406,   A17,38,0,12,12,2,20190428,728,-26.0888,-35.5215, 4354,    595.3,   8.5209,  34.6348,2,  34.6362,2,    207.0,2,    204.9,2,    10.06,2,    21.67,2,     1.46,2,     -999,9,7.7082,2,    25.00,759,20190428
  29HE20190406,   A17,38,0,13,13,2,20190428,728,-26.0888,-35.5215, 4354,    594.7,   8.5332,  34.6362,2,     -999,9,    206.8,2,     -999,9,     -999,9,     -999,9,     -999,9,     -999,9,-999.0,9,    25.00,759,20190428
  29HE20190406,   A17,38,0,14,14,2,20190428,728,-26.0888,-35.5215, 4354,    501.5,  10.6090,  34.8920,2,  34.8935,2,    204.6,2,    203.2,2,     6.57,2,    16.72,2,     1.14,2,     -999,9,7.7604,2,    25.00,802,20190428
  29HE20190406,   A17,38,0,15,15,2,20190428,728,-26.0888,-35.5215, 4354,    399.3,  12.7738,  35.1998,2,     -999,9,    208.4,2,     -999,9,     -999,9,     -999,9,     -999,9,     -999,9,-999.0,9,    25.00,805,20190428
  29HE20190406,   A17,38,0,16,16,2,20190428,728,-26.0888,-35.5215, 4354,    398.9,  12.7897,  35.2014,2,  35.2044,2,    209.1,2,    207.8,2,     3.92,2,    11.19,2,     0.79,2,     -999,9,7.823,2,    25.00,805,20190428
  29HE20190406,   A17,38,0,17,17,2,20190428,728,-26.0888,-35.5215, 4354,    299.2,  14.7383,  35.4706,2,     -999,9,    212.8,2,    211.8,2,     2.41,2,     6.49,2,     0.51,2,     -999,9,7.8758,2,    25.00,808,20190428
  29HE20190406,   A17,38,0,18,18,2,20190428,728,-26.0888,-35.5215, 4354,    199.3,  16.9425,  35.7866,2,  35.7918,2,    207.8,2,    206.6,2,     1.61,2,     3.34,2,     0.29,2,     -999,9,7.9186,2,    25.00,811,20190428
  29HE20190406,   A17,38,0,19,19,2,20190428,728,-26.0888,-35.5215, 4354,    200.8,  16.8803,  35.7764,2,     -999,9,    208.0,2,     -999,9,     -999,9,     -999,9,     -999,9,     -999,9,-999.0,9,    25.00,811,20190428
  29HE20190406,   A17,38,0,20,20,2,20190428,728,-26.0888,-35.5215, 4354,     97.6,  21.7230,  36.6730,2,  36.6714,2,    213.4,2,    213.5,2,     0.96,2,     0.33,2,     0.04,2,     -999,9,8.0155,2,    25.00,813,20190428
  29HE20190406,   A17,38,0,21,21,2,20190428,728,-26.0888,-35.5215, 4354,     97.0,  21.7460,  36.6744,2,     -999,9,    213.6,2,     -999,9,     -999,9,     -999,9,     -999,9,     -999,9,-999.0,9,    25.00,814,20190428
  29HE20190406,   A17,38,0,22,22,2,20190428,728,-26.0888,-35.5215, 4354,     48.5,  25.8736,  36.6239,2,  36.6421,3,    205.7,2,    208.1,2,     0.83,2,     0.34,2,     0.02,2,     -999,9,8.0682,2,    25.00,815,20190428
  29HE20190406,   A17,38,0,23,23,2,20190428,728,-26.0888,-35.5215, 4354,      5.5,  25.8997,  36.6214,2,     -999,9,    204.8,2,     -999,9,     -999,9,     -999,9,     -999,9,     -999,9,-999.0,9,    25.00,818,20190428
  29HE20190406,   A17,38,0,24,24,2,20190428,728,-26.0888,-35.5215, 4354,      5.2,  25.8976,  36.6214,2,  36.6191,2,    204.1,2,    204.6,2,     0.82,2,     0.35,2,     0.01,2,     -999,9,8.0699,2,    25.00,818,20190428
  29HE20190406,   A17,39,0,1,1,2,20190428,1425,-25.5143,-35.0042, 4394,   4383.6,   0.3164,  34.6790,2,     -999,9,    220.7,2,    220.6,2,   120.63,2,    32.17,2,     2.22,2,   2366.0,2,7.6063,2,    25.00,1425,20190428
  29HE20190406,   A17,39,0,2,2,2,20190428,1425,-25.5143,-35.0042, 4394,   3999.4,   1.1538,  34.7606,2,  34.7588,2,    230.3,2,    228.7,2,    93.61,2,    28.31,2,     1.94,2,   2358.1,2,7.6531,2,    25.00,1432,20190428
  29HE20190406,   A17,39,0,3,3,2,20190428,1425,-25.5143,-35.0042, 4394,   3498.7,   2.2761,  34.8800,2,     -999,9,    251.1,2,    249.2,2,    46.79,2,    21.75,2,     1.46,2,   2335.7,2,7.7203,2,    25.00,1442,20190428
  29HE20190406,   A17,39,0,4,4,2,20190428,1425,-25.5143,-35.0042, 4394,   2998.5,   2.7380,  34.9184,2,  34.9168,2,    253.1,2,    251.4,2,    33.17,2,    20.20,2,     1.37,2,   2329.0,2,7.7328,2,    25.00,1451,20190428
  29HE20190406,   A17,39,0,5,5,2,20190428,1425,-25.5143,-35.0042, 4394,   2502.9,   3.0049,  34.9316,2,     -999,9,    251.7,2,    250.6,2,    29.01,2,    19.97,2,     1.34,2,   2324.9,2,7.7322,2,    25.00,1501,20190428
  29HE20190406,   A17,39,0,6,6,2,20190428,1425,-25.5143,-35.0042, 4394,   2277.0,   3.1702,  34.9390,2,  34.9376,2,    251.4,2,    250.6,2,    26.67,2,    19.81,2,     1.33,2,   2323.3,2,7.7312,2,    25.00,1506,20190428
  29HE20190406,   A17,39,0,7,7,2,20190428,1425,-25.5143,-35.0042, 4394,   1997.3,   3.3779,  34.9358,2,     -999,9,    246.6,2,    245.2,2,    25.59,2,    20.21,2,     1.36,2,   2320.7,2,7.7239,2,    25.00,1512,20190428
  29HE20190406,   A17,39,0,8,8,2,20190428,1425,-25.5143,-35.0042, 4394,   1794.1,   3.4149,  34.8940,2,  34.8940,2,    233.5,2,    232.8,2,    30.49,2,    22.22,2,     1.50,2,   2321.5,2,7.7021,2,    25.00,1516,20190428
  29HE20190406,   A17,39,0,9,9,2,20190428,1425,-25.5143,-35.0042, 4394,   1601.0,   3.0922,  34.7624,2,     -999,9,    208.5,2,    207.2,2,    46.07,2,    26.88,2,     1.83,2,   2327.4,2,7.6527,2,    25.00,1520,20190428
  29HE20190406,   A17,39,0,10,10,2,20190428,1425,-25.5143,-35.0042, 4394,   1398.8,   3.1049,  34.6427,2,  34.6417,2,    193.2,2,    191.5,2,    51.69,2,    30.06,2,     2.06,2,   2327.2,2,7.6158,2,    25.00,1525,20190428
  29HE20190406,   A17,39,0,11,11,2,20190428,1425,-25.5143,-35.0042, 4394,   1202.3,   3.3064,  34.5032,2,     -999,9,    187.5,2,    186.1,2,    50.13,2,    31.90,2,     2.20,2,   2319.1,2,7.5941,2,    25.00,1529,20190428
  29HE20190406,   A17,39,0,12,12,2,20190428,1425,-25.5143,-35.0042, 4394,   1100.9,   3.5502,  34.4294,2,  34.4286,2,    192.1,2,    190.6,2,    44.21,2,    32.08,2,     2.20,2,   2311.9,2,7.595,2,    25.00,1532,20190428
  29HE20190406,   A17,39,0,13,13,2,20190428,1425,-25.5143,-35.0042, 4394,   1000.8,   3.9662,  34.3753,2,     -999,9,    198.6,2,    197.3,2,    36.31,2,    31.54,2,     2.15,2,   2304.5,2,7.6037,2,    25.00,1534,20190428
  29HE20190406,   A17,39,0,14,14,2,20190428,1425,-25.5143,-35.0042, 4394,    903.7,   4.5840,  34.3476,2,  34.3470,2,    205.7,2,    205.6,2,    28.49,2,    30.16,2,     2.06,2,   2298.1,2,7.6194,2,    25.00,1537,20190428
  29HE20190406,   A17,39,0,15,15,2,20190428,1425,-25.5143,-35.0042, 4394,    801.3,   5.2930,  34.3541,2,     -999,9,    212.0,2,    211.5,2,    21.85,2,    28.31,2,     1.93,2,   2291.4,2,7.6389,2,    25.00,1540,20190428
  29HE20190406,   A17,39,0,16,16,2,20190428,1425,-25.5143,-35.0042, 4394,    706.6,   6.8213,  34.4785,2,  34.4800,2,    197.5,2,    198.2,2,    15.79,2,    25.78,2,     1.75,2,   2292.2,2,7.654,2,    25.00,1542,20190428
  29HE20190406,   A17,39,0,17,17,2,20190428,1425,-25.5143,-35.0042, 4394,    608.4,   8.6049,  34.6480,2,     -999,9,    204.1,2,    202.3,2,    10.35,2,    20.95,2,     1.43,2,   2296.4,2,7.7059,2,    25.00,1545,20190428
  29HE20190406,   A17,39,0,18,18,2,20190428,1425,-25.5143,-35.0042, 4394,    497.6,  10.9137,  34.9245,2,  34.9250,2,    204.1,2,    202.7,2,     6.33,2,    15.36,2,     1.08,2,   2306.9,2,7.7668,2,    25.00,1548,20190428
  29HE20190406,   A17,39,0,19,19,2,20190428,1425,-25.5143,-35.0042, 4394,    401.8,  12.8251,  35.1685,2,     -999,9,    208.8,2,    206.8,2,     4.12,2,    10.59,2,     0.78,2,   2319.4,2,7.8166,2,    25.00,1551,20190428
  29HE20190406,   A17,39,0,20,20,2,20190428,1425,-25.5143,-35.0042, 4394,    303.5,  14.7503,  35.4093,2,  35.4092,2,    210.9,2,    209.5,2,     2.70,2,     6.10,2,     0.50,2,   2332.0,2,7.8667,2,    25.00,1554,20190428
  29HE20190406,   A17,39,0,21,21,2,20190428,1425,-25.5143,-35.0042, 4394,    201.7,  17.5801,  35.8566,2,     -999,9,    211.0,2,    210.1,2,     1.82,2,     2.11,2,     0.26,2,   2358.8,2,7.9292,2,    25.00,1556,20190428
  29HE20190406,   A17,39,0,22,22,2,20190428,1425,-25.5143,-35.0042, 4394,    102.1,  21.0976,  36.4897,2,  36.4833,2,    221.2,2,    218.7,2,     1.13,2,     0.00,2,     0.06,2,   2396.8,2,8.0048,2,    25.00,1559,20190428
  29HE20190406,   A17,39,0,23,23,2,20190428,1425,-25.5143,-35.0042, 4394,     53.8,  22.7219,  36.6190,2,     -999,9,    230.3,2,     -999,9,     1.07,2,     0.00,2,     0.02,2,   2404.1,2,8.0404,2,    25.00,1601,20190428
  29HE20190406,   A17,39,0,24,24,2,20190428,1425,-25.5143,-35.0042, 4394,      6.3,  26.4704,  36.6510,2,  36.6481,2,    205.2,2,    202.7,2,     0.78,2,     0.00,2,     0.00,2,   2404.8,2,8.0728,2,    25.00,1604,20190428