BOTTLE,20240229CCHSIOSLL
EXPOCODE,SECT_ID,STNNBR,CASTNO,SAMPNO,BTLNBR,BTLNBR_FLAG_W,DATE,TIME,LATITUDE,LONGITUDE,DEPTH,CTDPRS,CTDTMP,CTDSAL,CTDSAL_FLAG_W,SALNTY,SALNTY_FLAG_W,CTDOXY,CTDOXY_FLAG_W,OXYGEN,OXYGEN_FLAG_W,SILCAT,SILCAT_FLAG_W,NITRAT,NITRAT_FLAG_W,PHSPHT,PHSPHT_FLAG_W,ALKALI,ALKALI_FLAG_W,PH_TOT,PH_TOT_FLAG_W,PH_TMP,BTL_TIME,BTL_DATE
,,,,,,,,,,,METERS,DBAR,ITS-90,PSS-78,,PSS-78,,UMOL/KG,,UMOL/KG,,UMOL/KG,,UMOL/KG,,UMOL/KG,,UMOL/KG,,,,DEG C,,
  29HE20190406,   A17,49,0,1,1,2,20190501,2000,-17.8206,-31.6311, 4744,   4732.8,   0.4821,  34.6895,2,     -999,9,    220.7,2,    220.2,2,   118.03,2,    31.56,2,     2.19,2,   2359.6,2,7.611,2,    25.00,2000,20190501
  29HE20190406,   A17,49,0,2,2,2,20190501,2000,-17.8206,-31.6311, 4744,   4495.0,   0.8113,  34.7230,2,  34.7281,2,    224.1,2,    223.8,2,   108.67,2,    29.94,2,     2.07,2,   2355.6,2,7.6318,2,    25.00,2006,20190501
  29HE20190406,   A17,49,0,3,3,2,20190501,2000,-17.8206,-31.6311, 4744,   3997.4,   1.8608,  34.8361,2,     -999,9,    242.8,2,    242.3,2,    62.49,2,    24.06,2,     1.64,2,   2339.5,2,7.6989,2,    25.00,2017,20190501
  29HE20190406,   A17,49,0,4,4,2,20190501,2000,-17.8206,-31.6311, 4744,   3499.1,   2.5594,  34.9039,2,  34.9067,2,    250.9,2,    250.3,2,    37.09,2,    20.74,2,     1.40,2,   2326.9,2,7.7292,2,    25.00,2029,20190501
  29HE20190406,   A17,49,0,5,5,2,20190501,2000,-17.8206,-31.6311, 4744,   3004.8,   2.7448,  34.9132,2,     -999,9,    247.5,2,    247.0,2,    34.85,2,    20.85,2,     1.41,2,   2328.9,2,7.7274,2,    25.00,2041,20190501
  29HE20190406,   A17,49,0,6,6,2,20190501,2000,-17.8206,-31.6311, 4744,   2499.5,   2.9769,  34.9258,2,  34.9323,2,    246.8,2,    247.1,2,    30.60,2,    20.49,2,     1.38,2,   2320.4,2,7.7298,2,    25.00,2053,20190501
  29HE20190406,   A17,49,0,7,7,2,20190501,2000,-17.8206,-31.6311, 4744,   2173.9,   3.2154,  34.9356,2,     -999,9,    246.0,2,    246.3,2,    26.75,2,    20.26,2,     1.36,2,   2316.6,2,7.7294,2,    25.00,2101,20190501
  29HE20190406,   A17,49,0,8,8,2,20190501,2000,-17.8206,-31.6311, 4744,   2001.4,   3.4221,  34.9467,2,  34.9512,2,    246.3,2,    247.3,2,    23.43,2,    19.85,2,     1.34,2,   2313.9,2,7.7281,2,    25.00,2106,20190501
  29HE20190406,   A17,49,0,9,9,2,20190501,2000,-17.8206,-31.6311, 4744,   1803.1,   3.6629,  34.9464,2,     -999,9,    240.6,2,    241.7,2,    22.15,2,    20.37,2,     1.37,2,   2312.9,2,7.7201,2,    25.00,2111,20190501
  29HE20190406,   A17,49,0,10,10,2,20190501,2000,-17.8206,-31.6311, 4744,   1599.5,   3.8020,  34.8983,2,  34.9024,2,    222.2,2,    222.8,2,    25.21,2,    22.88,2,     1.55,2,   2312.1,2,7.696,2,    25.00,2116,20190501
  29HE20190406,   A17,49,0,11,11,2,20190501,2000,-17.8206,-31.6311, 4744,   1398.9,   4.1025,  34.8481,2,     -999,9,    204.2,2,    204.2,2,    25.76,2,    25.08,2,     1.71,2,   2309.2,2,7.6663,2,    25.00,2122,20190501
  29HE20190406,   A17,49,0,12,12,2,20190501,2000,-17.8206,-31.6311, 4744,   1200.3,   3.9558,  34.6906,2,  34.6980,2,    186.1,2,    185.8,2,    32.85,2,    28.93,2,     1.97,2,   2306.8,2,7.6225,2,    25.00,2127,20190501
  29HE20190406,   A17,49,0,13,13,2,20190501,2000,-17.8206,-31.6311, 4744,    999.7,   3.7767,  34.5080,2,     -999,9,    182.2,2,    181.2,2,    38.23,2,    31.49,2,     2.19,2,   2303.5,2,7.5971,2,    25.00,2132,20190501
  29HE20190406,   A17,49,0,14,14,2,20190501,2000,-17.8206,-31.6311, 4744,    900.1,   3.9772,  34.4423,2,  34.4482,2,    182.7,2,    181.9,2,    36.04,2,    31.88,2,     2.20,2,   2299.0,2,7.5938,2,    25.00,2135,20190501
  29HE20190406,   A17,49,0,15,15,2,20190501,2000,-17.8206,-31.6311, 4744,    801.5,   4.3738,  34.4174,2,     -999,9,    180.4,2,    179.7,2,    32.15,2,    31.84,2,     2.18,2,   2294.5,2,7.5925,2,    25.00,2138,20190501
  29HE20190406,   A17,49,0,16,16,2,20190501,2000,-17.8206,-31.6311, 4744,    698.6,   5.1993,  34.4410,2,  34.4443,2,    169.6,2,    169.9,2,    26.31,2,    31.49,2,     2.15,2,   2289.5,2,7.5885,2,    25.00,2141,20190501
  29HE20190406,   A17,49,0,17,17,2,20190501,2000,-17.8206,-31.6311, 4744,    598.1,   6.5730,  34.5144,2,     -999,9,    163.3,2,    162.2,2,    19.66,2,    29.39,2,     1.97,2,   2290.2,2,7.5997,2,    25.00,2144,20190501
  29HE20190406,   A17,49,0,18,18,2,20190501,2000,-17.8206,-31.6311, 4744,    499.4,   8.4275,  34.6681,2,  34.6741,2,    161.3,2,    161.8,2,    13.58,2,    25.29,2,     1.71,2,   2288.9,2,7.6366,2,    25.00,2147,20190501
  29HE20190406,   A17,49,0,19,19,2,20190501,2000,-17.8206,-31.6311, 4744,    397.6,  11.0840,  34.9438,2,     -999,9,    172.2,2,    172.5,2,     7.51,2,    18.06,2,     1.25,2,   2299.2,2,7.7146,2,    25.00,2150,20190501
  29HE20190406,   A17,49,0,20,20,2,20190501,2000,-17.8206,-31.6311, 4744,    298.5,  13.7536,  35.2567,2,  35.2553,2,    188.1,2,    188.4,2,     4.14,2,    10.78,2,     0.82,2,   2316.2,2,7.8041,2,    25.00,2153,20190501
  29HE20190406,   A17,49,0,21,21,2,20190501,2000,-17.8206,-31.6311, 4744,    198.5,  18.3737,  35.9682,2,     -999,9,    201.3,2,    201.2,2,     1.84,2,     2.75,2,     0.36,2,   2360.7,2,7.9199,2,    25.00,2156,20190501
  29HE20190406,   A17,49,0,22,22,2,20190501,2000,-17.8206,-31.6311, 4744,    101.6,  23.9917,  36.9974,2,  36.9989,2,    216.4,2,    216.0,2,     1.07,2,     0.00,2,     0.11,2,   2428.6,2,8.0316,2,    25.00,2159,20190501
  29HE20190406,   A17,49,0,23,23,2,20190501,2000,-17.8206,-31.6311, 4744,     49.9,  28.7402,  37.5612,2,     -999,9,    197.2,2,    197.1,2,     0.87,2,     0.00,2,     0.05,2,   2463.8,2,8.0788,2,    25.00,2201,20190501
  29HE20190406,   A17,49,0,24,24,2,20190501,2000,-17.8206,-31.6311, 4744,      5.1,  28.7694,  37.5192,2,  37.5190,2,    196.9,2,    195.4,2,     0.91,2,     0.00,2,     0.06,2,   2460.8,2,8.0793,2,    25.00,2203,20190501
  29HE20190406,   A17,50,0,1,1,2,20190502,452,-17.0435,-31.2044, 4960,   4950.3,   0.4698,  34.6854,2,     -999,9,    220.0,2,    219.9,2,   119.04,2,    31.83,2,     2.20,2,     -999,9,7.6112,2,    25.00,452,20190502
  29HE20190406,   A17,50,0,2,2,2,20190502,452,-17.0435,-31.2044, 4960,   4499.7,   1.2410,  34.7671,2,  34.7720,2,    231.1,2,    231.3,2,    91.04,2,    27.76,2,     1.91,2,     -999,9,7.6614,2,    25.00,502,20190502
  29HE20190406,   A17,50,0,3,3,2,20190502,452,-17.0435,-31.2044, 4960,   3999.7,   2.1432,  34.8652,2,     -999,9,    248.4,2,    248.7,2,    50.94,2,    22.34,2,     1.51,2,     -999,9,7.7178,2,    25.00,513,20190502
  29HE20190406,   A17,50,0,4,4,2,20190502,452,-17.0435,-31.2044, 4960,   3501.0,   2.5641,  34.9042,2,  34.9069,2,    251.1,2,    251.5,2,    36.83,2,    20.67,2,     1.39,2,     -999,9,7.7302,2,    25.00,524,20190502
  29HE20190406,   A17,50,0,5,5,2,20190502,452,-17.0435,-31.2044, 4960,   3002.7,   2.7429,  34.9131,2,     -999,9,    247.3,2,    248.2,2,    34.90,2,    20.85,2,     1.39,2,     -999,9,7.7292,2,    25.00,535,20190502
  29HE20190406,   A17,50,0,6,6,2,20190502,452,-17.0435,-31.2044, 4960,   2501.7,   2.9066,  34.9172,2,  34.9219,2,    244.5,2,    246.3,2,    32.77,2,    20.94,2,     1.40,2,     -999,9,7.7265,2,    25.00,546,20190502
  29HE20190406,   A17,50,0,7,7,2,20190502,452,-17.0435,-31.2044, 4960,   2274.3,   3.0668,  34.9270,2,     -999,9,    245.3,2,    246.7,2,    29.38,2,    20.48,2,     1.37,2,     -999,9,7.7285,2,    25.00,552,20190502
  29HE20190406,   A17,50,0,8,8,2,20190502,452,-17.0435,-31.2044, 4960,   1999.9,   3.3193,  34.9340,2,  34.9393,2,    243.4,2,    245.1,2,    26.18,2,    20.47,2,     1.38,2,     -999,9,7.726,2,    25.00,559,20190502
  29HE20190406,   A17,50,0,9,9,2,20190502,452,-17.0435,-31.2044, 4960,   1801.2,   3.5022,  34.9209,2,     -999,9,    234.8,2,    236.1,2,    26.08,2,    21.60,2,     1.42,2,     -999,9,7.715,2,    25.00,604,20190502
  29HE20190406,   A17,50,0,10,10,2,20190502,452,-17.0435,-31.2044, 4960,   1601.2,   3.7207,  34.8937,2,  34.8972,2,    223.2,2,    224.1,2,    26.19,2,    23.07,2,     1.55,2,     -999,9,7.6967,2,    25.00,610,20190502
  29HE20190406,   A17,50,0,11,11,2,20190502,452,-17.0435,-31.2044, 4960,   1401.3,   3.9499,  34.8419,2,     -999,9,    206.6,2,    207.5,2,    26.82,2,    25.14,2,     1.70,2,     -999,9,7.6704,2,    25.00,615,20190502
  29HE20190406,   A17,50,0,12,12,2,20190502,452,-17.0435,-31.2044, 4960,   1201.4,   4.0360,  34.7280,2,  34.7305,2,    186.9,2,    186.8,2,    30.91,2,    28.46,2,     1.92,2,     -999,9,7.6298,2,    25.00,621,20190502
  29HE20190406,   A17,50,0,13,13,2,20190502,452,-17.0435,-31.2044, 4960,    999.8,   3.7859,  34.5376,2,     -999,9,    181.5,2,    181.5,2,    37.81,2,    31.68,2,     2.13,2,     -999,9,7.5995,2,    25.00,626,20190502
  29HE20190406,   A17,50,0,14,14,2,20190502,452,-17.0435,-31.2044, 4960,    900.3,   3.8528,  34.4662,2,  34.4712,2,    182.5,2,    182.6,2,    37.56,2,    32.15,2,     2.19,2,     -999,9,7.594,2,    25.00,629,20190502
  29HE20190406,   A17,50,0,15,15,2,20190502,452,-17.0435,-31.2044, 4960,    799.3,   4.1578,  34.4243,2,     -999,9,    182.3,2,    182.3,2,    34.14,2,    32.35,2,     2.17,2,     -999,9,7.5922,2,    25.00,632,20190502
  29HE20190406,   A17,50,0,16,16,2,20190502,452,-17.0435,-31.2044, 4960,    700.0,   4.8577,  34.4243,2,  34.4277,2,    175.3,2,    175.4,2,    28.46,2,    31.96,2,     2.14,2,     -999,9,7.5907,2,    25.00,635,20190502
  29HE20190406,   A17,50,0,17,17,2,20190502,452,-17.0435,-31.2044, 4960,    600.0,   6.1015,  34.4898,2,     -999,9,    162.9,2,    162.7,2,    21.89,2,    30.66,2,     2.03,2,     -999,9,7.5946,2,    25.00,638,20190502
  29HE20190406,   A17,50,0,18,18,2,20190502,452,-17.0435,-31.2044, 4960,    499.5,   8.1035,  34.6395,2,  34.6453,2,    159.8,2,    160.1,2,    14.63,2,    26.32,2,     1.75,2,     -999,9,7.6303,2,    25.00,641,20190502
  29HE20190406,   A17,50,0,19,19,2,20190502,452,-17.0435,-31.2044, 4960,    401.0,  10.6003,  34.8969,2,     -999,9,    167.3,2,    167.2,2,     8.68,2,    19.97,2,     1.35,2,     -999,9,7.6938,2,    25.00,644,20190502
  29HE20190406,   A17,50,0,20,20,2,20190502,452,-17.0435,-31.2044, 4960,    300.1,  13.6738,  35.2640,2,  35.2575,2,    185.4,2,    184.7,2,     4.37,2,    11.45,2,     0.85,2,     -999,9,7.798,2,    25.00,647,20190502
  29HE20190406,   A17,50,0,21,21,2,20190502,452,-17.0435,-31.2044, 4960,    201.3,  18.6878,  36.0232,2,     -999,9,    199.6,2,    199.5,2,     1.74,2,     2.38,2,     0.36,2,     -999,9,7.9242,2,    25.00,651,20190502
  29HE20190406,   A17,50,0,22,22,2,20190502,452,-17.0435,-31.2044, 4960,    101.0,  24.5706,  37.0346,2,  37.0378,2,    219.4,2,    219.9,2,     1.04,2,     0.00,2,     0.12,2,     -999,9,8.0368,2,    25.00,653,20190502
  29HE20190406,   A17,50,0,23,23,2,20190502,452,-17.0435,-31.2044, 4960,     50.8,  28.6321,  37.5778,2,     -999,9,    197.3,2,    196.1,2,     0.93,2,     0.00,2,     0.04,2,     -999,9,8.0785,2,    25.00,656,20190502
  29HE20190406,   A17,50,0,24,24,2,20190502,452,-17.0435,-31.2044, 4960,      4.8,  28.6236,  37.5659,2,  37.5643,2,    194.5,2,    196.4,2,     0.94,2,     0.00,2,     0.04,2,     -999,9,8.0782,2,    25.00,657,20190502
  29HE20190406,   A17,51,0,1,1,2,20190502,1630,-15.8737,-30.691, 4962,   4952.1,   0.4419,  34.6835,2,     -999,9,    219.1,2,    220.0,2,   118.84,2,    31.82,2,     2.21,2,   2368.4,2,7.6111,2,    25.00,1630,20190502
  29HE20190406,   A17,51,0,2,2,2,20190502,1630,-15.8737,-30.691, 4962,   4500.0,   1.1796,  34.7604,2,  34.7637,2,    229.7,2,    228.8,2,    92.97,2,    28.01,2,     1.94,2,   2358.6,2,7.6591,2,    25.00,1641,20190502
  29HE20190406,   A17,51,0,3,3,2,20190502,1630,-15.8737,-30.691, 4962,   4000.7,   2.1709,  34.8697,2,     -999,9,    249.9,2,    249.3,2,    48.03,2,    21.91,2,     1.50,2,   2338.9,2,7.7198,2,    25.00,1652,20190502
  29HE20190406,   A17,51,0,4,4,2,20190502,1630,-15.8737,-30.691, 4962,   3501.4,   2.5653,  34.9060,2,  34.9092,2,    251.6,2,    251.6,2,    35.48,2,    20.34,2,     1.39,2,   2332.4,2,7.7338,2,    25.00,1704,20190502
  29HE20190406,   A17,51,0,5,5,2,20190502,1630,-15.8737,-30.691, 4962,   2998.9,   2.6980,  34.9084,2,     -999,9,    245.3,2,    245.8,2,    36.31,2,    21.13,2,     1.43,2,   2333.2,2,7.7268,2,    25.00,1716,20190502
  29HE20190406,   A17,51,0,6,6,2,20190502,1630,-15.8737,-30.691, 4962,   2499.6,   2.8899,  34.9185,2,  34.9191,2,    244.7,2,    245.4,2,    32.74,2,    20.85,2,     1.41,2,   2329.8,2,7.7289,2,    25.00,1726,20190502
  29HE20190406,   A17,51,0,7,7,2,20190502,1630,-15.8737,-30.691, 4962,   2274.4,   3.0514,  34.9288,2,     -999,9,    245.4,2,    246.8,2,    28.96,2,    20.42,2,     1.38,2,   2326.5,2,7.7313,2,    25.00,1732,20190502
  29HE20190406,   A17,51,0,8,8,2,20190502,1630,-15.8737,-30.691, 4962,   2002.0,   3.2901,  34.9356,2,  34.9408,2,    244.1,2,    244.8,2,    26.07,2,    20.42,2,     1.38,2,   2322.4,2,7.7288,2,    25.00,1738,20190502
  29HE20190406,   A17,51,0,9,9,2,20190502,1630,-15.8737,-30.691, 4962,   1801.1,   3.4349,  34.9158,2,     -999,9,    234.2,2,    234.8,2,    27.06,2,    21.72,2,     1.47,2,   2322.0,2,7.716,2,    25.00,1743,20190502
  29HE20190406,   A17,51,0,10,10,2,20190502,1630,-15.8737,-30.691, 4962,   1601.6,   3.8261,  34.9143,2,  34.9187,2,    225.8,2,    226.4,2,    23.75,2,    22.33,2,     1.50,2,   2317.8,2,7.7041,2,    25.00,1747,20190502
  29HE20190406,   A17,51,0,11,11,2,20190502,1630,-15.8737,-30.691, 4962,   1400.5,   4.0926,  34.8610,2,     -999,9,    206.6,2,    207.3,2,    25.04,2,    24.72,2,     1.67,2,   2315.7,2,7.6742,2,    25.00,1752,20190502
  29HE20190406,   A17,51,0,12,12,2,20190502,1630,-15.8737,-30.691, 4962,   1201.1,   4.0659,  34.7180,2,  34.7221,2,    185.8,2,    186.0,2,    30.80,2,    28.68,2,     1.96,2,   2314.6,2,7.6286,2,    25.00,1756,20190502
  29HE20190406,   A17,51,0,13,13,2,20190502,1630,-15.8737,-30.691, 4962,   1001.5,   3.8137,  34.5184,2,     -999,9,    180.9,2,    180.6,2,    37.53,2,    31.61,2,     2.18,2,   2310.9,2,7.5996,2,    25.00,1801,20190502
  29HE20190406,   A17,51,0,14,14,2,20190502,1630,-15.8737,-30.691, 4962,    900.4,   3.9350,  34.4562,2,  34.4578,2,    182.0,2,    181.5,2,    36.59,2,    32.10,2,     2.21,2,   2306.7,2,7.5948,2,    25.00,1804,20190502
  29HE20190406,   A17,51,0,15,15,2,20190502,1630,-15.8737,-30.691, 4962,    799.7,   4.2513,  34.4024,2,     -999,9,    189.1,2,    187.9,2,    32.80,2,    31.65,2,     2.17,2,   2301.9,2,7.601,2,    25.00,1807,20190502
  29HE20190406,   A17,51,0,16,16,2,20190502,1630,-15.8737,-30.691, 4962,    701.0,   4.8441,  34.4060,2,  34.4088,2,    184.5,2,    183.5,2,    27.74,2,    31.09,2,     2.13,2,   2297.5,2,7.6019,2,    25.00,1809,20190502
  29HE20190406,   A17,51,0,17,17,2,20190502,1630,-15.8737,-30.691, 4962,    599.7,   5.8916,  34.4696,2,     -999,9,    170.9,2,    170.5,2,    21.72,2,    30.21,2,     2.04,2,   2294.0,2,7.6056,2,    25.00,1812,20190502
  29HE20190406,   A17,51,0,18,18,2,20190502,1630,-15.8737,-30.691, 4962,    500.2,   7.5465,  34.5984,2,  34.6039,2,    159.1,2,    158.9,2,    16.17,2,    27.80,2,     1.86,2,   2294.6,2,7.6243,2,    25.00,1815,20190502
  29HE20190406,   A17,51,0,19,19,2,20190502,1630,-15.8737,-30.691, 4962,    401.2,  10.2516,  34.8995,2,     -999,9,    139.0,2,    138.9,2,    10.53,2,    23.60,2,     1.58,2,   2303.1,2,7.6536,2,    25.00,1818,20190502
  29HE20190406,   A17,51,0,20,20,2,20190502,1630,-15.8737,-30.691, 4962,    299.8,  13.2763,  35.2606,2,  35.2529,2,    160.4,2,    160.2,2,     5.61,2,    15.26,2,     1.08,2,   2318.9,2,7.7544,2,    25.00,1821,20190502
  29HE20190406,   A17,51,0,21,21,2,20190502,1630,-15.8737,-30.691, 4962,    199.2,  19.2639,  36.1892,2,     -999,9,    190.4,2,    188.9,2,     1.86,2,     3.51,2,     0.41,2,   2377.6,2,7.9249,2,    25.00,1824,20190502
  29HE20190406,   A17,51,0,22,22,2,20190502,1630,-15.8737,-30.691, 4962,    100.1,  25.3927,  37.1956,2,  37.1998,2,    217.3,2,    215.7,2,     0.95,2,     0.00,2,     0.09,2,   2440.5,2,8.0559,2,    25.00,1827,20190502
  29HE20190406,   A17,51,0,23,23,2,20190502,1630,-15.8737,-30.691, 4962,     50.8,  28.5039,  37.3452,2,     -999,9,    198.4,2,    196.5,2,     0.96,2,     0.00,2,     0.05,2,   2447.8,2,8.0785,2,    25.00,1829,20190502
  29HE20190406,   A17,51,0,24,24,2,20190502,1630,-15.8737,-30.691, 4962,      4.9,  28.6863,  37.3554,2,  37.3521,2,    197.7,2,    196.5,2,     0.99,2,     0.00,2,     0.05,2,   2448.6,2,8.0789,2,    25.00,1831,20190502