BOTTLE,20240229CCHSIOSLL
EXPOCODE,SECT_ID,STNNBR,CASTNO,SAMPNO,BTLNBR,BTLNBR_FLAG_W,DATE,TIME,LATITUDE,LONGITUDE,DEPTH,CTDPRS,CTDTMP,CTDSAL,CTDSAL_FLAG_W,SALNTY,SALNTY_FLAG_W,CTDOXY,CTDOXY_FLAG_W,OXYGEN,OXYGEN_FLAG_W,SILCAT,SILCAT_FLAG_W,NITRAT,NITRAT_FLAG_W,PHSPHT,PHSPHT_FLAG_W,ALKALI,ALKALI_FLAG_W,PH_TOT,PH_TOT_FLAG_W,PH_TMP,BTL_TIME,BTL_DATE
,,,,,,,,,,,METERS,DBAR,ITS-90,PSS-78,,PSS-78,,UMOL/KG,,UMOL/KG,,UMOL/KG,,UMOL/KG,,UMOL/KG,,UMOL/KG,,,,DEG C,,
  29HE20190406,   A17,68,0,1,1,2,20190510,150,2.408,-25.8069, 4104,   4093.9,   2.3953,  34.8927,2,     -999,9,    246.5,2,    245.8,2,    44.07,2,    22.35,2,     1.48,2,     -999,9,7.7262,2,    25.00,150,20190510
  29HE20190406,   A17,68,0,2,2,2,20190510,150,2.408,-25.8069, 4104,   3500.9,   2.4578,  34.9019,2,  34.9023,2,    247.2,2,    246.4,2,    40.66,2,    22.01,2,     1.46,2,     -999,9,7.7275,2,    25.00,202,20190510
  29HE20190406,   A17,68,0,3,3,2,20190510,150,2.408,-25.8069, 4104,   3003.1,   2.7030,  34.9184,2,     -999,9,    244.8,2,    244.5,2,    36.67,2,    21.90,2,     1.44,2,     -999,9,7.7273,2,    25.00,212,20190510
  29HE20190406,   A17,68,0,4,4,2,20190510,150,2.408,-25.8069, 4104,   2752.8,   2.8427,  34.9278,2,  34.9361,2,    244.7,2,    244.3,2,    33.98,2,    21.66,2,     1.43,2,     -999,9,7.7289,2,    25.00,218,20190510
  29HE20190406,   A17,68,0,5,5,2,20190510,150,2.408,-25.8069, 4104,   2499.3,   3.0883,  34.9438,2,     -999,9,    250.0,2,    248.6,2,    28.26,2,    20.91,2,     1.37,2,     -999,9,7.733,2,    25.00,224,20190510
  29HE20190406,   A17,68,0,6,6,2,20190510,150,2.408,-25.8069, 4104,   2276.2,   3.2944,  34.9555,2,  34.9542,2,    250.7,2,    250.1,2,    24.74,2,    20.53,2,     1.34,2,     -999,9,7.734,2,    25.00,229,20190510
  29HE20190406,   A17,68,0,7,7,2,20190510,150,2.408,-25.8069, 4104,   2001.4,   3.5347,  34.9666,2,     -999,9,    249.2,2,    248.6,2,    21.47,2,    20.24,2,     1.33,2,     -999,9,7.7325,2,    25.00,235,20190510
  29HE20190406,   A17,68,0,8,8,2,20190510,150,2.408,-25.8069, 4104,   1800.9,   3.8591,  34.9772,2,  34.9754,2,    246.7,2,    245.7,2,    18.35,2,    20.23,2,     1.33,2,     -999,9,7.7278,2,    25.00,240,20190510
  29HE20190406,   A17,68,0,9,9,2,20190510,150,2.408,-25.8069, 4104,   1600.8,   4.1974,  34.9723,2,     -999,9,    231.9,2,    231.1,2,    18.56,2,    21.57,2,     1.42,2,     -999,9,7.7121,2,    25.00,245,20190510
  29HE20190406,   A17,68,0,10,10,2,20190510,150,2.408,-25.8069, 4104,   1399.7,   4.5291,  34.9448,2,  34.9432,2,    212.5,2,    211.9,2,    19.97,2,    23.81,2,     1.58,2,     -999,9,7.6863,2,    25.00,250,20190510
  29HE20190406,   A17,68,0,11,11,2,20190510,150,2.408,-25.8069, 4104,   1201.9,   4.6201,  34.8486,2,     -999,9,    185.2,2,    184.7,2,    23.98,2,    27.58,2,     1.85,2,     -999,9,7.6425,2,    25.00,255,20190510
  29HE20190406,   A17,68,0,12,12,2,20190510,150,2.408,-25.8069, 4104,   1099.2,   4.6291,  34.7525,2,  34.7502,2,    165.7,2,    165.1,2,    27.64,2,    30.76,2,     2.06,2,     -999,9,7.6042,2,    25.00,258,20190510
  29HE20190406,   A17,68,0,13,13,2,20190510,150,2.408,-25.8069, 4104,   1001.8,   4.6936,  34.6580,2,     -999,9,    155.1,2,    154.4,2,    29.57,2,    32.82,2,     2.22,2,     -999,9,7.5795,2,    25.00,300,20190510
  29HE20190406,   A17,68,0,14,14,2,20190510,150,2.408,-25.8069, 4104,    899.6,   4.8597,  34.6107,2,  34.6065,2,    148.6,2,    147.7,2,    29.37,2,    33.83,2,     2.27,2,     -999,9,7.5662,2,    25.00,303,20190510
  29HE20190406,   A17,68,0,15,15,2,20190510,150,2.408,-25.8069, 4104,    801.5,   4.8706,  34.5670,2,     -999,9,    149.3,2,    149.3,2,    29.67,2,    34.05,2,     2.29,2,     -999,9,7.5633,2,    25.00,306,20190510
  29HE20190406,   A17,68,0,16,16,2,20190510,150,2.408,-25.8069, 4104,    702.2,   5.6391,  34.5676,2,  34.5645,2,    131.5,2,    130.8,2,    26.39,2,    35.09,2,     2.31,2,     -999,9,7.5423,2,    25.00,309,20190510
  29HE20190406,   A17,68,0,17,17,2,20190510,150,2.408,-25.8069, 4104,    601.3,   6.8229,  34.6444,2,     -999,9,    110.6,2,     -999,9,    22.15,2,    34.98,2,     2.27,2,     -999,9,7.5294,2,    25.00,312,20190510
  29HE20190406,   A17,68,0,18,18,2,20190510,150,2.408,-25.8069, 4104,    501.3,   8.2049,  34.7686,2,  34.7656,2,     91.6,2,     91.6,2,    18.26,2,    34.17,2,     2.15,2,     -999,9,7.5231,2,    25.00,315,20190510
  29HE20190406,   A17,68,0,19,19,2,20190510,150,2.408,-25.8069, 4104,    399.4,   9.9358,  34.9400,2,     -999,9,    101.2,2,    101.6,2,    13.83,2,    29.52,2,     1.86,2,     -999,9,7.5825,2,    25.00,318,20190510
  29HE20190406,   A17,68,0,20,20,2,20190510,150,2.408,-25.8069, 4104,    301.3,  12.3021,  35.2068,2,  35.2029,2,    121.4,2,    121.4,2,     9.38,2,    22.74,2,     1.47,2,     -999,9,7.6732,2,    25.00,321,20190510
  29HE20190406,   A17,68,0,21,21,2,20190510,150,2.408,-25.8069, 4104,    201.4,  13.6557,  35.3860,2,     -999,9,    127.0,2,    126.6,2,     7.81,2,    19.93,2,     1.30,2,     -999,9,7.7139,2,    25.00,324,20190510
  29HE20190406,   A17,68,0,22,22,2,20190510,150,2.408,-25.8069, 4104,    101.8,  15.4529,  35.6232,2,  35.6207,2,    103.6,2,    103.8,2,     6.85,2,    20.14,2,     1.29,2,     -999,9,7.7092,2,    25.00,327,20190510
  29HE20190406,   A17,68,0,23,23,2,20190510,150,2.408,-25.8069, 4104,     51.4,  24.7876,  35.9836,2,     -999,9,    200.4,4,    191.4,2,     2.24,2,     1.23,2,     0.17,2,     -999,9,7.9945,2,    25.00,328,20190510
  29HE20190406,   A17,68,0,24,24,2,20190510,150,2.408,-25.8069, 4104,      4.9,  28.6607,  35.7758,2,  35.7734,2,    203.1,2,    202.0,2,     1.03,2,     0.00,2,     0.01,2,     -999,9,8.0913,2,    25.00,331,20190510
  29HE20190406,   A17,69,0,1,1,2,20190510,1101,3.5224,-25.6078, 4524,   4513.7,   2.3690,  34.8862,2,     -999,9,    243.1,2,    243.6,2,    47.17,2,    22.46,2,     1.53,2,   2348.7,2,7.7205,2,    25.00,1101,20190510
  29HE20190406,   A17,69,0,2,2,2,20190510,1101,3.5224,-25.6078, 4524,   4002.0,   2.3633,  34.8918,2,  34.8902,2,    246.1,2,    245.8,2,    44.59,2,    22.14,2,     1.49,2,   2345.8,2,7.7259,2,    25.00,1113,20190510
  29HE20190406,   A17,69,0,3,3,2,20190510,1101,3.5224,-25.6078, 4524,   3500.7,   2.5052,  34.9056,2,     -999,9,    248.3,2,    248.3,2,    39.09,2,    21.56,2,     1.45,2,   2338.9,2,7.7295,2,    25.00,1124,20190510
  29HE20190406,   A17,69,0,4,4,2,20190510,1101,3.5224,-25.6078, 4524,   2999.9,   2.6645,  34.9172,2,  34.9146,2,    243.7,2,    244.3,2,    37.00,2,    21.87,2,     1.47,2,   2336.2,2,7.7277,2,    25.00,1135,20190510
  29HE20190406,   A17,69,0,5,5,2,20190510,1101,3.5224,-25.6078, 4524,   2497.8,   3.0142,  34.9401,2,     -999,9,    244.8,2,    245.8,2,    30.05,2,    21.02,2,     1.42,2,   2327.7,2,7.731,2,    25.00,1146,20190510
  29HE20190406,   A17,69,0,6,6,2,20190510,1101,3.5224,-25.6078, 4524,   2278.4,   3.2464,  34.9538,2,  34.9504,2,    248.4,2,    249.1,2,    25.13,2,    20.38,2,     1.36,2,   2322.9,2,7.7339,2,    25.00,1152,20190510
  29HE20190406,   A17,69,0,7,7,2,20190510,1101,3.5224,-25.6078, 4524,   2001.3,   3.5473,  34.9674,2,     -999,9,    247.2,2,    248.9,2,    21.33,2,    20.16,2,     1.33,2,   2318.8,2,7.7325,2,    25.00,1159,20190510
  29HE20190406,   A17,69,0,8,8,2,20190510,1101,3.5224,-25.6078, 4524,   1803.9,   3.8493,  34.9758,2,  34.9732,2,    242.9,2,    243.3,2,    18.98,2,    20.28,2,     1.35,2,   2317.2,2,7.7267,2,    25.00,1204,20190510
  29HE20190406,   A17,69,0,9,9,2,20190510,1101,3.5224,-25.6078, 4524,   1602.1,   4.1139,  34.9732,2,     -999,9,    232.9,2,    232.6,2,    18.56,2,    21.15,2,     1.41,2,   2316.6,2,7.7147,2,    25.00,1208,20190510
  29HE20190406,   A17,69,0,10,10,2,20190510,1101,3.5224,-25.6078, 4524,   1402.4,   4.3805,  34.9456,2,  34.9433,2,    214.2,2,    214.4,2,    20.35,2,    23.39,2,     1.58,2,   2315.9,2,7.69,2,    25.00,1213,20190510
  29HE20190406,   A17,69,0,11,11,2,20190510,1101,3.5224,-25.6078, 4524,   1201.6,   4.6080,  34.8703,2,     -999,9,    185.7,2,    186.0,2,    23.69,2,    27.07,2,     1.83,2,   2314.3,2,7.6462,2,    25.00,1218,20190510
  29HE20190406,   A17,69,0,12,12,2,20190510,1101,3.5224,-25.6078, 4524,   1103.0,   4.7554,  34.7861,2,  34.7806,2,    163.4,2,    164.1,2,    26.53,2,    30.38,2,     2.04,2,   2312.5,2,7.6069,2,    25.00,1221,20190510
  29HE20190406,   A17,69,0,13,13,2,20190510,1101,3.5224,-25.6078, 4524,   1003.9,   4.9091,  34.7018,2,     -999,9,    145.6,2,    146.0,2,    28.32,2,    33.06,2,     2.23,2,   2308.7,2,7.572,2,    25.00,1224,20190510
  29HE20190406,   A17,69,0,14,14,2,20190510,1101,3.5224,-25.6078, 4524,    900.9,   5.0375,  34.6128,2,  34.6097,2,    137.0,2,    137.4,2,    29.33,2,    34.77,2,     2.33,2,   2304.9,2,7.5506,2,    25.00,1227,20190510
  29HE20190406,   A17,69,0,15,15,2,20190510,1101,3.5224,-25.6078, 4524,    802.5,   5.3359,  34.5850,2,     -999,9,    130.3,2,    130.5,2,    28.16,2,    35.55,2,     2.37,2,   2301.4,2,7.5397,2,    25.00,1230,20190510
  29HE20190406,   A17,69,0,16,16,2,20190510,1101,3.5224,-25.6078, 4524,    701.4,   5.7897,  34.5772,2,  34.5724,2,    124.8,2,    125.0,2,    26.18,2,    35.53,2,     2.36,2,   2299.4,2,7.5346,2,    25.00,1232,20190510
  29HE20190406,   A17,69,0,17,17,2,20190510,1101,3.5224,-25.6078, 4524,    600.7,   6.5360,  34.6116,2,     -999,9,    119.9,2,    120.3,2,    22.73,2,    34.54,2,     2.28,2,   2299.0,2,7.5399,2,    25.00,1236,20190510
  29HE20190406,   A17,69,0,18,18,2,20190510,1101,3.5224,-25.6078, 4524,    499.4,   7.6735,  34.7207,2,  34.7264,2,     94.4,2,     96.4,2,    19.73,2,    34.93,2,     2.25,2,   2300.5,2,7.5167,2,    25.00,1238,20190510
  29HE20190406,   A17,69,0,19,19,2,20190510,1101,3.5224,-25.6078, 4524,    402.3,   9.1076,  34.8578,2,     -999,9,     79.8,2,     81.1,2,    16.22,2,    33.43,2,     2.10,2,   2301.9,2,7.5215,2,    25.00,1241,20190510
  29HE20190406,   A17,69,0,20,20,2,20190510,1101,3.5224,-25.6078, 4524,    302.7,  11.8146,  35.1586,2,  35.1562,2,    109.9,2,    110.2,2,    10.37,2,    24.95,2,     1.60,2,   2315.3,2,7.6411,2,    25.00,1245,20190510
  29HE20190406,   A17,69,0,21,21,2,20190510,1101,3.5224,-25.6078, 4524,    200.0,  13.7287,  35.3961,2,     -999,9,    120.2,2,    120.3,2,     7.94,2,    20.45,2,     1.35,2,   2327.7,2,7.7048,2,    25.00,1247,20190510
  29HE20190406,   A17,69,0,22,22,2,20190510,1101,3.5224,-25.6078, 4524,    105.8,  15.9349,  35.6706,2,  35.6685,2,     98.2,2,     99.4,2,     6.49,2,    20.17,2,     1.29,2,   2338.6,2,7.7071,2,    25.00,1251,20190510
  29HE20190406,   A17,69,0,23,23,2,20190510,1101,3.5224,-25.6078, 4524,     51.0,  20.7576,  35.8597,2,     -999,9,    164.7,2,    163.8,2,     2.95,2,     0.33,3,     0.24,2,   2361.7,2,7.8799,2,    25.00,1253,20190510
  29HE20190406,   A17,69,0,24,24,2,20190510,1101,3.5224,-25.6078, 4524,      4.8,  28.8119,  35.7726,2,  35.7719,2,    202.1,2,    201.3,2,     1.06,2,     0.00,2,     0.03,2,   2342.4,2,8.0918,2,    25.00,1255,20190510
  29HE20190406,   A17,70,0,1,1,2,20190510,1937,4.6023,-25.43, 4430,   2004.3,   3.5274,  34.9646,2,     -999,9,    245.7,2,     -999,9,     -999,9,     -999,9,     -999,9,     -999,9,-999.0,9,    25.00,1937,20190510
  29HE20190406,   A17,70,0,2,2,2,20190510,1937,4.6023,-25.43, 4430,   2003.7,   3.5284,  34.9646,2,  34.9651,2,    245.6,2,    244.2,2,    22.13,2,    20.75,2,     1.37,2,     -999,9,7.7317,2,    25.00,1937,20190510
  29HE20190406,   A17,70,0,3,3,2,20190510,1937,4.6023,-25.43, 4430,   1702.4,   3.9676,  34.9740,2,     -999,9,    238.3,2,    236.5,2,    18.83,2,    21.15,2,     1.38,2,     -999,9,7.7201,2,    25.00,1945,20190510
  29HE20190406,   A17,70,0,4,4,2,20190510,1937,4.6023,-25.43, 4430,   1502.0,   4.3285,  34.9715,2,  34.9698,2,    227.4,2,    226.1,2,    18.30,2,    21.96,2,     1.45,2,     -999,9,7.7061,2,    25.00,1949,20190510
  29HE20190406,   A17,70,0,5,5,2,20190510,1937,4.6023,-25.43, 4430,   1500.6,   4.3289,  34.9718,2,     -999,9,    227.6,2,     -999,9,     -999,9,     -999,9,     -999,9,     -999,9,-999.0,9,    25.00,1949,20190510
  29HE20190406,   A17,70,0,6,6,2,20190510,1937,4.6023,-25.43, 4430,   1202.8,   4.7030,  34.8668,2,  34.8672,2,    183.5,2,    182.0,2,    23.63,2,    27.59,2,     1.84,2,     -999,9,7.6429,2,    25.00,1956,20190510
  29HE20190406,   A17,70,0,7,7,2,20190510,1937,4.6023,-25.43, 4430,   1202.9,   4.7034,  34.8669,2,     -999,9,    183.6,2,     -999,9,     -999,9,     -999,9,     -999,9,     -999,9,-999.0,9,    25.00,1956,20190510
  29HE20190406,   A17,70,0,8,8,2,20190510,1937,4.6023,-25.43, 4430,    998.7,   4.9137,  34.7048,2,  34.7026,2,    146.5,2,    145.1,2,    28.18,2,    32.97,2,     2.22,2,     -999,9,7.5737,2,    25.00,2001,20190510
  29HE20190406,   A17,70,0,9,9,2,20190510,1937,4.6023,-25.43, 4430,    998.2,   4.9134,  34.7046,2,     -999,9,    146.5,2,     -999,9,     -999,9,     -999,9,     -999,9,     -999,9,-999.0,9,    25.00,2001,20190510
  29HE20190406,   A17,70,0,10,10,2,20190510,1937,4.6023,-25.43, 4430,    799.0,   5.4385,  34.5920,2,  34.5891,2,    126.0,2,    124.9,2,    27.56,2,    35.68,2,     2.37,2,     -999,9,7.5345,2,    25.00,2005,20190510
  29HE20190406,   A17,70,0,11,11,2,20190510,1937,4.6023,-25.43, 4430,    799.4,   5.4382,  34.5920,2,     -999,9,    126.0,2,     -999,9,     -999,9,     -999,9,     -999,9,     -999,9,-999.0,9,    25.00,2005,20190510
  29HE20190406,   A17,70,0,12,12,2,20190510,1937,4.6023,-25.43, 4430,    604.1,   6.5593,  34.6178,2,  34.6119,2,    116.7,2,    117.4,2,    22.58,2,    34.77,2,     2.27,2,     -999,9,7.5359,2,    25.00,2010,20190510
  29HE20190406,   A17,70,0,13,13,2,20190510,1937,4.6023,-25.43, 4430,    603.7,   6.5587,  34.6176,2,     -999,9,    117.1,2,     -999,9,     -999,9,     -999,9,     -999,9,     -999,9,-999.0,9,    25.00,2010,20190510
  29HE20190406,   A17,70,0,14,14,2,20190510,1937,4.6023,-25.43, 4430,    501.2,   7.7031,  34.7198,2,  34.7199,2,     97.5,2,     96.7,2,    19.27,2,    34.70,2,     2.19,2,     -999,9,7.5225,2,    25.00,2013,20190510
  29HE20190406,   A17,70,0,15,15,2,20190510,1937,4.6023,-25.43, 4430,    402.1,   9.2941,  34.8778,2,     -999,9,     75.3,2,     -999,9,     -999,9,     -999,9,     -999,9,     -999,9,-999.0,9,    25.00,2016,20190510
  29HE20190406,   A17,70,0,16,16,2,20190510,1937,4.6023,-25.43, 4430,    402.7,   9.2924,  34.8777,2,  34.8779,2,     75.2,2,     78.6,2,    15.70,2,    33.59,2,     2.08,2,     -999,9,7.517,2,    25.00,2016,20190510
  29HE20190406,   A17,70,0,17,17,2,20190510,1937,4.6023,-25.43, 4430,    301.2,  11.5134,  35.1236,2,     -999,9,     99.0,2,    102.8,2,    10.84,2,    26.95,2,     1.68,2,     -999,9,7.6167,2,    25.00,2019,20190510
  29HE20190406,   A17,70,0,18,18,2,20190510,1937,4.6023,-25.43, 4430,    199.6,  13.2974,  35.3404,2,  35.3376,2,    118.0,2,    118.3,2,     8.04,2,    21.44,2,     1.39,2,     -999,9,7.7042,2,    25.00,2022,20190510
  29HE20190406,   A17,70,0,19,19,2,20190510,1937,4.6023,-25.43, 4430,    199.8,  13.2914,  35.3400,2,     -999,9,    118.3,2,     -999,9,     -999,9,     -999,9,     -999,9,     -999,9,-999.0,9,    25.00,2022,20190510
  29HE20190406,   A17,70,0,20,20,2,20190510,1937,4.6023,-25.43, 4430,    101.4,  15.0872,  35.5656,2,  35.5619,2,    103.7,2,    106.1,2,     6.80,2,    20.60,2,     1.32,2,     -999,9,7.6904,2,    25.00,2025,20190510
  29HE20190406,   A17,70,0,21,21,2,20190510,1937,4.6023,-25.43, 4430,    101.1,  15.0744,  35.5649,2,     -999,9,    104.0,2,     -999,9,     -999,9,     -999,9,     -999,9,     -999,9,-999.0,9,    25.00,2025,20190510
  29HE20190406,   A17,70,0,22,22,2,20190510,1937,4.6023,-25.43, 4430,     48.2,  18.7530,  35.9576,2,  35.9613,2,    140.6,2,    144.7,3,     4.18,2,    10.48,2,     0.68,2,     -999,9,7.8357,2,    25.00,2027,20190510
  29HE20190406,   A17,70,0,23,23,2,20190510,1937,4.6023,-25.43, 4430,      5.0,  28.6741,  35.3242,2,     -999,9,    201.7,2,     -999,9,     -999,9,     -999,9,     -999,9,     -999,9,-999.0,9,    25.00,2029,20190510
  29HE20190406,   A17,70,0,24,24,2,20190510,1937,4.6023,-25.43, 4430,      4.8,  28.6721,  35.3242,2,  35.3318,2,    201.6,2,    200.5,2,     1.16,2,     0.00,2,     0.02,2,     -999,9,8.0963,2,    25.00,2029,20190510