BOTTLE,20240229CCHSIOSLL
EXPOCODE,SECT_ID,STNNBR,CASTNO,SAMPNO,BTLNBR,BTLNBR_FLAG_W,DATE,TIME,LATITUDE,LONGITUDE,DEPTH,CTDPRS,CTDTMP,CTDSAL,CTDSAL_FLAG_W,SALNTY,SALNTY_FLAG_W,CTDOXY,CTDOXY_FLAG_W,OXYGEN,OXYGEN_FLAG_W,SILCAT,SILCAT_FLAG_W,NITRAT,NITRAT_FLAG_W,PHSPHT,PHSPHT_FLAG_W,ALKALI,ALKALI_FLAG_W,PH_TOT,PH_TOT_FLAG_W,PH_TMP,BTL_TIME,BTL_DATE
,,,,,,,,,,,METERS,DBAR,ITS-90,PSS-78,,PSS-78,,UMOL/KG,,UMOL/KG,,UMOL/KG,,UMOL/KG,,UMOL/KG,,UMOL/KG,,,,DEG C,,
  29HE20190406,   A17,3,0,1,1,2,20190410,27,-47.105,-53.8636, 6008,   5503.6,   0.3663,  34.6719,2,     -999,9,    223.6,2,    222.0,2,   121.85,2,    32.63,2,     2.23,2,   2364.2,2,7.6031,2,    25.00,27,20190410
  29HE20190406,   A17,3,0,2,2,2,20190410,27,-47.105,-53.8636, 6008,   5001.3,   0.3633,  34.6748,2,  34.6725,2,    222.6,2,    220.2,2,   120.65,2,    32.43,2,     2.23,2,   2363.9,2,7.6043,2,    25.00,37,20190410
  29HE20190406,   A17,3,0,3,3,2,20190410,27,-47.105,-53.8636, 6008,   4999.5,   0.3632,  34.6748,2,     -999,9,    222.5,2,     -999,9,   122.12,2,    32.55,2,     2.22,2,   2363.6,2,7.6041,2,    25.00,37,20190410
  29HE20190406,   A17,3,0,4,4,2,20190410,27,-47.105,-53.8636, 6008,   4500.0,   0.4335,  34.6804,2,  34.6792,2,    219.6,2,    220.5,2,   120.48,2,    32.47,2,     2.22,2,   2363.0,2,7.604,2,    25.00,46,20190410
  29HE20190406,   A17,3,0,5,5,2,20190410,27,-47.105,-53.8636, 6008,   4002.0,   0.7158,  34.6957,2,     -999,9,    213.7,2,    212.3,2,   116.26,2,    32.13,2,     2.19,2,   2360.9,2,7.607,2,    25.00,57,20190410
  29HE20190406,   A17,3,0,6,6,2,20190410,27,-47.105,-53.8636, 6008,   3502.0,   1.1428,  34.7185,2,  34.7164,2,    205.0,2,    205.1,2,   110.14,2,    31.49,2,     2.14,2,   2360.0,2,7.6103,2,    25.00,106,20190410
  29HE20190406,   A17,3,0,7,7,2,20190410,27,-47.105,-53.8636, 6008,   2995.9,   1.4810,  34.7308,2,     -999,9,    198.1,2,    197.5,2,   104.32,2,    31.36,2,     2.13,2,   2359.1,2,7.6103,2,    25.00,115,20190410
  29HE20190406,   A17,3,0,8,8,2,20190410,27,-47.105,-53.8636, 6008,   2499.3,   2.2108,  34.7814,2,  34.7804,2,    203.2,2,    202.5,2,    74.38,2,    28.54,2,     1.92,2,   2348.1,2,7.6382,2,    25.00,125,20190410
  29HE20190406,   A17,3,0,9,9,2,20190410,27,-47.105,-53.8636, 6008,   2271.7,   2.4798,  34.7885,2,     -999,9,    203.1,2,    203.2,2,    67.76,2,    27.77,2,     1.89,2,   2343.5,2,7.6417,2,    25.00,129,20190410
  29HE20190406,   A17,3,0,10,10,2,20190410,27,-47.105,-53.8636, 6008,   1997.5,   2.6311,  34.7602,2,  34.7592,2,    195.0,2,    194.6,2,    67.52,2,    29.16,2,     1.96,2,   2341.8,2,7.6258,2,    25.00,135,20190410
  29HE20190406,   A17,3,0,11,11,2,20190410,27,-47.105,-53.8636, 6008,   1796.9,   2.3733,  34.6683,2,     -999,9,    175.2,2,    175.2,2,    79.85,2,    32.62,2,     2.21,2,   2346.8,2,7.5812,2,    25.00,139,20190410
  29HE20190406,   A17,3,0,12,12,2,20190410,27,-47.105,-53.8636, 6008,   1599.0,   2.8403,  34.6912,2,  34.6909,2,    185.2,2,    185.0,2,    64.10,2,    30.89,2,     2.08,2,   2335.1,2,7.6039,2,    25.00,143,20190410
  29HE20190406,   A17,3,0,13,13,2,20190410,27,-47.105,-53.8636, 6008,   1403.0,   2.6651,  34.5880,2,     -999,9,    175.1,2,    176.1,2,    69.29,2,    33.17,2,     2.26,2,   2335.3,2,7.5734,2,    25.00,147,20190410
  29HE20190406,   A17,3,0,14,14,2,20190410,27,-47.105,-53.8636, 6008,   1199.6,   2.7285,  34.4977,2,  34.4969,2,    177.5,2,    176.6,2,    65.06,2,    33.93,2,     2.31,2,   2327.2,2,7.5629,2,    25.00,152,20190410
  29HE20190406,   A17,3,0,15,15,2,20190410,27,-47.105,-53.8636, 6008,    998.8,   2.9040,  34.4072,2,     -999,9,    190.0,2,    189.4,2,    56.10,2,    33.87,2,     2.28,2,   2316.4,2,7.5711,2,    25.00,156,20190410
  29HE20190406,   A17,3,0,16,16,2,20190410,27,-47.105,-53.8636, 6008,    800.2,   2.9053,  34.2892,2,  34.2892,2,    216.0,2,    215.6,2,    43.13,2,    32.54,2,     2.19,2,   2302.6,2,7.5917,2,    25.00,201,20190410
  29HE20190406,   A17,3,0,17,17,2,20190410,27,-47.105,-53.8636, 6008,    596.2,   3.1814,  34.1851,2,     -999,9,    252.3,2,    251.0,2,    28.45,2,    29.66,2,     2.01,2,   2288.5,2,7.631,2,    25.00,205,20190410
  29HE20190406,   A17,3,0,18,18,2,20190410,27,-47.105,-53.8636, 6008,    499.7,   3.2916,  34.1445,2,  34.1460,2,    272.3,2,    270.3,2,    22.36,2,    28.37,2,     1.90,2,   2283.1,2,7.6548,2,    25.00,208,20190410
  29HE20190406,   A17,3,0,19,19,2,20190410,27,-47.105,-53.8636, 6008,    396.9,   3.6758,  34.1369,2,     -999,9,    280.0,2,    279.8,2,    17.64,2,    26.65,2,     1.82,2,   2280.5,2,7.6718,2,    25.00,210,20190410
  29HE20190406,   A17,3,0,20,20,2,20190410,27,-47.105,-53.8636, 6008,    299.9,   3.9898,  34.1287,2,  34.1276,2,    285.5,2,    283.4,2,    15.02,2,    25.99,2,     1.77,2,   2280.7,2,7.6859,2,    25.00,213,20190410
  29HE20190406,   A17,3,0,21,21,2,20190410,27,-47.105,-53.8636, 6008,    199.6,   4.6193,  34.1484,2,     -999,9,    282.9,2,    281.5,2,    11.55,2,    24.83,2,     1.67,2,   2273.5,2,7.689,2,    25.00,215,20190410
  29HE20190406,   A17,3,0,22,22,2,20190410,27,-47.105,-53.8636, 6008,     96.7,   7.0235,  34.1616,2,  34.1659,2,    276.1,2,    274.8,2,     4.79,2,    20.37,2,     1.39,2,   2273.9,2,7.7385,2,    25.00,218,20190410
  29HE20190406,   A17,3,0,23,23,2,20190410,27,-47.105,-53.8636, 6008,     28.2,  12.6594,  34.3027,2,     -999,9,    261.4,2,    262.0,2,     1.06,2,     4.95,2,     0.46,2,   2288.4,2,7.9222,2,    25.00,220,20190410
  29HE20190406,   A17,3,0,24,24,2,20190410,27,-47.105,-53.8636, 6008,      6.7,  12.6743,  34.3038,2,  34.3033,2,    261.9,2,    261.7,2,     1.07,2,     4.82,2,     0.44,2,   2288.7,2,7.9226,2,    25.00,224,20190410
  29HE20190406,   A17,4,0,1,1,2,20190410,743,-46.5194,-53.3412, 6014,   1996.9,   2.8466,  34.8083,2,     -999,9,    208.5,2,     -999,9,    56.18,2,    26.68,2,     1.81,2,     -999,9,7.6541,2,    25.00,743,20190410
  29HE20190406,   A17,4,0,2,2,2,20190410,743,-46.5194,-53.3412, 6014,   1998.0,   2.8469,  34.8082,2,  34.8082,2,    208.3,2,     -999,9,    56.01,2,    26.53,2,     1.82,2,     -999,9,-999.0,9,    25.00,743,20190410
  29HE20190406,   A17,4,0,3,3,2,20190410,743,-46.5194,-53.3412, 6014,   1705.8,   2.8686,  34.7412,2,     -999,9,    193.5,2,     -999,9,    60.34,2,    29.07,2,     1.98,2,     -999,9,7.6249,2,    25.00,749,20190410
  29HE20190406,   A17,4,0,4,4,2,20190410,743,-46.5194,-53.3412, 6014,   1514.2,   2.6352,  34.6498,2,  34.6473,2,    178.0,2,     -999,9,    69.26,2,    32.03,2,     2.19,2,     -999,9,7.5864,2,    25.00,754,20190410
  29HE20190406,   A17,4,0,5,5,2,20190410,743,-46.5194,-53.3412, 6014,   1515.9,   2.6386,  34.6504,2,     -999,9,    177.9,2,     -999,9,    69.41,2,    31.94,2,     2.20,2,     -999,9,-999.0,9,    25.00,754,20190410
  29HE20190406,   A17,4,0,6,6,2,20190410,743,-46.5194,-53.3412, 6014,   1210.3,   2.7757,  34.5579,2,  34.5563,2,    177.9,2,     -999,9,    64.21,2,    33.15,2,     2.26,2,     -999,9,7.576,2,    25.00,803,20190410
  29HE20190406,   A17,4,0,7,7,2,20190410,743,-46.5194,-53.3412, 6014,   1209.8,   2.7797,  34.5574,2,     -999,9,    177.8,2,     -999,9,    64.12,2,    33.28,2,     2.25,2,     -999,9,-999.0,9,    25.00,803,20190410
  29HE20190406,   A17,4,0,8,8,2,20190410,743,-46.5194,-53.3412, 6014,   1005.2,   2.8339,  34.4422,2,  34.4399,2,    185.5,2,     -999,9,    59.31,2,    33.64,2,     2.29,2,     -999,9,7.5702,2,    25.00,808,20190410
  29HE20190406,   A17,4,0,9,9,2,20190410,743,-46.5194,-53.3412, 6014,   1006.1,   2.8336,  34.4422,2,     -999,9,    185.1,2,     -999,9,    59.48,2,    33.68,2,     2.29,2,     -999,9,-999.0,9,    25.00,808,20190410
  29HE20190406,   A17,4,0,10,10,2,20190410,743,-46.5194,-53.3412, 6014,    797.3,   2.7652,  34.2926,2,  34.2915,2,    218.9,2,     -999,9,    45.18,2,    32.57,2,     2.20,2,     -999,9,7.5893,2,    25.00,813,20190410
  29HE20190406,   A17,4,0,11,11,2,20190410,743,-46.5194,-53.3412, 6014,    799.0,   2.7693,  34.2931,2,     -999,9,    218.7,2,     -999,9,    45.09,2,    32.51,2,     2.19,2,     -999,9,-999.0,9,    25.00,813,20190410
  29HE20190406,   A17,4,0,12,12,2,20190410,743,-46.5194,-53.3412, 6014,    599.5,   3.1637,  34.2117,2,  34.2108,2,    243.3,2,     -999,9,    31.56,2,    30.32,2,     2.05,2,     -999,9,7.6228,2,    25.00,818,20190410
  29HE20190406,   A17,4,0,13,13,2,20190410,743,-46.5194,-53.3412, 6014,    599.7,   3.1627,  34.2121,2,     -999,9,    243.3,2,     -999,9,    31.64,2,    30.14,2,     2.05,2,     -999,9,-999.0,9,    25.00,818,20190410
  29HE20190406,   A17,4,0,14,14,2,20190410,743,-46.5194,-53.3412, 6014,    496.3,   3.1948,  34.1482,2,  34.1478,2,    271.1,2,     -999,9,    23.88,2,    28.38,2,     1.92,2,     -999,9,7.6506,2,    25.00,820,20190410
  29HE20190406,   A17,4,0,15,15,2,20190410,743,-46.5194,-53.3412, 6014,    396.1,   3.5526,  34.1370,2,     -999,9,    279.5,2,     -999,9,    19.16,2,    26.80,2,     1.83,2,     -999,9,7.6666,2,    25.00,823,20190410
  29HE20190406,   A17,4,0,16,16,2,20190410,743,-46.5194,-53.3412, 6014,    396.4,   3.5523,  34.1369,2,  34.1373,2,    279.5,2,     -999,9,    19.23,2,    27.00,2,     1.83,2,     -999,9,-999.0,9,    25.00,823,20190410
  29HE20190406,   A17,4,0,17,17,2,20190410,743,-46.5194,-53.3412, 6014,    299.6,   3.9035,  34.1344,2,     -999,9,    288.0,2,     -999,9,    15.35,2,    25.54,2,     1.75,2,     -999,9,7.6826,2,    25.00,826,20190410
  29HE20190406,   A17,4,0,18,18,2,20190410,743,-46.5194,-53.3412, 6014,    197.4,   4.4597,  34.1437,2,  34.1427,2,    287.4,2,     -999,9,    11.92,2,    24.34,2,     1.66,2,     -999,9,7.6911,2,    25.00,829,20190410
  29HE20190406,   A17,4,0,19,19,2,20190410,743,-46.5194,-53.3412, 6014,    197.2,   4.4601,  34.1438,2,     -999,9,    287.3,2,     -999,9,    11.86,2,    24.39,2,     1.67,2,     -999,9,-999.0,9,    25.00,829,20190410
  29HE20190406,   A17,4,0,20,20,2,20190410,743,-46.5194,-53.3412, 6014,    100.9,   6.0513,  34.1698,2,  34.1635,2,    278.7,2,     -999,9,     6.70,2,    21.83,2,     1.51,2,     -999,9,7.7123,2,    25.00,831,20190410
  29HE20190406,   A17,4,0,21,21,2,20190410,743,-46.5194,-53.3412, 6014,    100.7,   6.0489,  34.1701,2,     -999,9,    277.7,2,     -999,9,     6.69,2,    21.93,2,     1.51,2,     -999,9,-999.0,9,    25.00,832,20190410
  29HE20190406,   A17,4,0,22,22,2,20190410,743,-46.5194,-53.3412, 6014,     54.8,  10.6996,  34.1106,2,  34.1114,2,    274.2,2,     -999,9,     1.73,2,    11.91,2,     0.87,2,     -999,9,7.8621,2,    25.00,833,20190410
  29HE20190406,   A17,4,0,23,23,2,20190410,743,-46.5194,-53.3412, 6014,      6.1,  13.1135,  34.1286,2,     -999,9,    260.8,2,     -999,9,     0.76,2,     6.03,2,     0.51,2,     -999,9,7.9237,2,    25.00,840,20190410
  29HE20190406,   A17,4,0,24,24,2,20190410,743,-46.5194,-53.3412, 6014,      5.9,  13.1139,  34.1278,2,  34.1322,2,    261.2,2,     -999,9,     -999,9,     -999,9,     -999,9,     -999,9,-999.0,9,    25.00,840,20190410
  29HE20190406,   A17,5,0,1,1,2,20190410,1509,-45.9187,-52.7895, 6034,   6023.6,   0.4087,  34.6702,2,     -999,9,    222.1,2,     -999,9,   122.50,2,    32.29,2,     2.20,2,   2363.9,2,7.6032,2,    25.00,1509,20190410
  29HE20190406,   A17,5,0,2,2,2,20190410,1509,-45.9187,-52.7895, 6034,   5517.8,   0.3784,  34.6724,2,  34.6724,2,    222.1,2,     -999,9,   121.98,2,    32.35,2,     2.21,2,   2363.8,2,7.6032,2,    25.00,1520,20190410
  29HE20190406,   A17,5,0,3,3,2,20190410,1509,-45.9187,-52.7895, 6034,   5001.9,   0.4048,  34.6764,2,     -999,9,    221.3,2,     -999,9,   120.71,2,    32.21,2,     2.21,2,   2363.6,2,7.6029,2,    25.00,1529,20190410
  29HE20190406,   A17,5,0,4,4,2,20190410,1509,-45.9187,-52.7895, 6034,   4500.0,   0.5868,  34.6871,2,  34.6857,2,    216.3,2,     -999,9,   117.97,2,    31.99,2,     2.20,2,   2361.9,2,7.6054,2,    25.00,1539,20190410
  29HE20190406,   A17,5,0,5,5,2,20190410,1509,-45.9187,-52.7895, 6034,   3999.8,   1.0108,  34.7102,2,     -999,9,    208.2,2,     -999,9,   112.18,2,    31.50,2,     2.16,2,   2359.7,2,7.6104,2,    25.00,1548,20190410
  29HE20190406,   A17,5,0,6,6,2,20190410,1509,-45.9187,-52.7895, 6034,   3499.3,   1.4702,  34.7335,2,  34.7324,2,    200.9,2,     -999,9,   102.22,2,    30.62,2,     2.09,2,   2359.6,2,7.6153,2,    25.00,1557,20190410
  29HE20190406,   A17,5,0,7,7,2,20190410,1509,-45.9187,-52.7895, 6034,   2999.5,   2.1722,  34.8005,2,     -999,9,    211.8,2,     -999,9,    70.83,2,    27.15,2,     1.84,2,   2358.3,2,7.6549,2,    25.00,1606,20190410
  29HE20190406,   A17,5,0,8,8,2,20190410,1509,-45.9187,-52.7895, 6034,   2500.9,   3.0085,  34.8899,2,  34.8890,2,    233.0,2,     -999,9,    38.75,2,    22.31,2,     1.51,2,   2329.9,2,7.7032,2,    25.00,1615,20190410
  29HE20190406,   A17,5,0,9,9,2,20190410,1509,-45.9187,-52.7895, 6034,   2268.5,   2.8638,  34.8183,2,     -999,9,    210.4,2,     -999,9,    54.80,2,    26.02,2,     1.76,2,   2336.7,2,7.659,2,    25.00,1620,20190410
  29HE20190406,   A17,5,0,10,10,2,20190410,1509,-45.9187,-52.7895, 6034,   2002.4,   2.8517,  34.7550,2,  34.7547,2,    195.4,2,     -999,9,    61.41,2,    28.68,2,     1.94,2,   2339.0,2,7.6269,2,    25.00,1625,20190410
  29HE20190406,   A17,5,0,11,11,2,20190410,1509,-45.9187,-52.7895, 6034,   1799.4,   2.7796,  34.6723,2,     -999,9,    181.6,2,     -999,9,    65.68,2,    31.26,2,     2.11,2,   2339.2,2,7.5974,2,    25.00,1629,20190410
  29HE20190406,   A17,5,0,12,12,2,20190410,1509,-45.9187,-52.7895, 6034,   1601.1,   2.7610,  34.5914,2,  34.5904,2,    176.4,2,     -999,9,    65.76,2,    32.63,2,     2.23,2,   2336.3,2,7.5769,2,    25.00,1634,20190410
  29HE20190406,   A17,5,0,13,13,2,20190410,1509,-45.9187,-52.7895, 6034,   1402.5,   2.8543,  34.4947,2,     -999,9,    180.2,2,     -999,9,    60.50,2,    33.35,2,     2.28,2,   2328.0,2,7.5684,2,    25.00,1638,20190410
  29HE20190406,   A17,5,0,14,14,2,20190410,1509,-45.9187,-52.7895, 6034,   1200.2,   3.0056,  34.3848,2,  34.3846,2,    193.8,2,     -999,9,    51.63,2,    33.02,2,     2.25,2,   2316.2,2,7.578,2,    25.00,1642,20190410
  29HE20190406,   A17,5,0,15,15,2,20190410,1509,-45.9187,-52.7895, 6034,   1001.9,   3.2521,  34.2756,2,     -999,9,    219.7,2,     -999,9,    36.46,2,    31.40,2,     2.13,2,   2302.3,2,7.6058,2,    25.00,1646,20190410
  29HE20190406,   A17,5,0,16,16,2,20190410,1509,-45.9187,-52.7895, 6034,    804.5,   3.6703,  34.1968,2,  34.1975,2,    249.5,2,     -999,9,    24.44,2,    28.58,2,     1.96,2,   2289.9,2,7.6424,2,    25.00,1650,20190410
  29HE20190406,   A17,5,0,17,17,2,20190410,1509,-45.9187,-52.7895, 6034,    603.1,   4.4868,  34.1801,2,     -999,9,    260.9,2,     -999,9,    15.44,2,    26.16,2,     1.80,2,   2281.4,2,7.6679,2,    25.00,1701,20190410
  29HE20190406,   A17,5,0,18,18,2,20190410,1509,-45.9187,-52.7895, 6034,    497.5,   4.9317,  34.1866,2,  34.1873,2,    262.0,2,     -999,9,    12.50,2,    25.28,2,     1.71,2,   2278.4,2,7.6765,2,    25.00,1704,20190410
  29HE20190406,   A17,5,0,19,19,2,20190410,1509,-45.9187,-52.7895, 6034,    396.3,   5.6610,  34.2222,2,     -999,9,    258.1,2,     -999,9,    10.01,2,    23.52,2,     1.63,2,   2276.9,2,7.6865,2,    25.00,1706,20190410
  29HE20190406,   A17,5,0,20,20,2,20190410,1509,-45.9187,-52.7895, 6034,    300.5,   7.8359,  34.4393,2,  34.4375,2,    243.2,2,     -999,9,     6.49,2,    19.35,2,     1.34,2,   2285.0,2,7.7271,2,    25.00,1709,20190410
  29HE20190406,   A17,5,0,21,21,2,20190410,1509,-45.9187,-52.7895, 6034,    202.9,  10.6449,  34.7453,2,     -999,9,    220.7,2,     -999,9,     4.44,2,    14.21,2,     1.04,2,   2299.8,2,7.7785,2,    25.00,1711,20190410
  29HE20190406,   A17,5,0,22,22,2,20190410,1509,-45.9187,-52.7895, 6034,    106.7,  13.9526,  35.2901,2,  35.2725,2,    209.5,2,     -999,9,     3.08,2,     8.66,2,     0.69,2,   2327.1,2,7.8452,2,    25.00,1714,20190410
  29HE20190406,   A17,5,0,23,23,2,20190410,1509,-45.9187,-52.7895, 6034,     51.8,  15.1591,  34.8064,2,     -999,9,    244.7,2,     -999,9,     1.14,2,     2.30,2,     0.34,2,   2314.1,2,7.9471,2,    25.00,1718,20190410
  29HE20190406,   A17,5,0,24,24,2,20190410,1509,-45.9187,-52.7895, 6034,      5.5,  15.5906,  34.6709,2,  34.6708,2,    247.0,2,     -999,9,     0.91,2,     1.18,2,     0.25,2,   2307.6,2,7.9611,2,    25.00,1720,20190410