BOTTLE,20240228CCHSIOADS
EXPOCODE,SECT_ID,STNNBR,CASTNO,SAMPNO,BIONBR,BTLNBR,BTLNBR_FLAG_W,DATE,TIME,LATITUDE,LONGITUDE,DEPTH,CTDPRS,CTDTMP,CTDSAL,CTDOXY,CTDOXY_FLAG_W,OXYGEN,OXYGEN_FLAG_W,SILCAT,SILCAT_FLAG_W,NITRAT,NITRAT_FLAG_W,NITRIT,NITRIT_FLAG_W,PHSPHT,PHSPHT_FLAG_W,CFC-12,CFC-12_FLAG_W,SF6,SF6_FLAG_W,TCARBN,TCARBN_FLAG_W,ALKALI,ALKALI_FLAG_W,BTL_DATE,BTL_TIME
,,,,,,,,,,,,METERS,DBAR,ITS-90,PSS-78,UMOL/KG,,UMOL/KG,,UMOL/KG,,UMOL/KG,,UMOL/KG,,UMOL/KG,,PMOL/KG,,FMOL/KG,,UMOL/KG,,UMOL/KG,,,
06M220170104  ,A10.5      ,12      ,  1,12122.0    ,241264.0   ,22         ,2,20170105,2045, -34.4992,  16.5154,     3705,      8.4,  21.4087,  35.5613,    228.4,2,     -999,9,     1.85,2,     0.30,2,     0.01,2,     0.13,2,    1.178,2,   1.6990,2,   2035.7,2,   2336.0,2,20170105,2148
06M220170104  ,A10.5      ,12      ,  1,12121.0    ,241263.0   ,21         ,2,20170105,2045, -34.4992,  16.5154,     3705,     21.2,  21.4100,  35.5602,    228.7,2,     -999,9,     1.80,2,     0.31,2,     0.01,2,     0.10,2,     -999,9,     -999,9,   2042.7,2,   2334.8,2,20170105,2147
06M220170104  ,A10.5      ,12      ,  1,12120.0    ,241262.0   ,20         ,2,20170105,2045, -34.4992,  16.5154,     3705,     58.5,  18.5955,  35.4424,    218.6,2,    226.6,3,     4.05,2,     3.23,2,     0.31,2,     0.30,2,    1.288,2,   1.5960,2,   2087.5,2,   2330.3,2,20170105,2146
06M220170104  ,A10.5      ,12      ,  1,12119.0    ,241261.0   ,19         ,2,20170105,2045, -34.4992,  16.5154,     3705,     98.2,  15.6575,  35.4386,    192.0,2,    204.0,3,     6.00,2,     7.09,2,     0.04,2,     0.57,2,    1.407,2,   1.4800,2,     -999,9,     -999,9,20170105,2145
06M220170104  ,A10.5      ,12      ,  1,12118.0    ,241260.0   ,18         ,2,20170105,2045, -34.4992,  16.5154,     3705,    186.7,  12.8256,  35.1233,    229.7,2,    194.4,3,     7.02,2,    15.04,2,     0.00,2,     1.13,2,    1.655,2,   1.7590,2,   2124.8,2,   2314.7,2,20170105,2143
06M220170104  ,A10.5      ,12      ,  1,12117.0    ,241259.0   ,17         ,2,20170105,2045, -34.4992,  16.5154,     3705,    347.9,   9.9785,  34.7563,    225.6,2,    233.9,4,     5.51,3,    11.48,3,     0.02,3,     0.94,3,    1.788,2,   1.6170,2,   2138.1,2,   2301.8,2,20170105,2141
06M220170104  ,A10.5      ,12      ,  1,12116.0    ,241258.0   ,16         ,2,20170105,2045, -34.4992,  16.5154,     3705,    575.4,   6.3734,  34.4100,    213.9,2,    226.9,4,    16.78,2,    23.82,2,     0.02,2,     1.60,2,    1.700,2,   1.2050,2,   2178.6,2,   2289.8,2,20170105,2137
06M220170104  ,A10.5      ,12      ,  1,12115.0    ,241257.0   ,15         ,2,20170105,2045, -34.4992,  16.5154,     3705,    714.4,   5.1436,  34.3770,    206.3,2,    213.9,3,    27.77,2,    26.88,2,     0.02,2,     1.80,2,    1.321,2,   0.5420,2,   2198.0,2,   2298.7,2,20170105,2135
06M220170104  ,A10.5      ,12      ,  1,12114.0    ,241256.0   ,14         ,2,20170105,2045, -34.4992,  16.5154,     3705,    838.8,   4.1488,  34.3524,    205.4,2,    203.6,2,    33.83,2,    28.53,2,     0.00,2,     2.01,2,    1.092,2,   0.6120,2,   2203.7,2,   2303.3,2,20170105,2133
06M220170104  ,A10.5      ,12      ,  1,12113.0    ,241255.0   ,13         ,2,20170105,2045, -34.4992,  16.5154,     3705,    997.7,   3.7445,  34.4399,    183.2,2,    208.0,4,    45.98,2,    30.34,2,     0.02,2,     1.81,3,    0.617,2,   0.2890,2,   2215.8,2,   2316.9,2,20170105,2130
06M220170104  ,A10.5      ,12      ,  1,12112.0    ,241254.0   ,12         ,2,20170105,2045, -34.4992,  16.5154,     3705,   1246.5,   3.1267,  34.5613,    176.8,2,    187.5,4,    58.15,2,    30.49,2,     0.00,2,     2.12,2,    0.284,2,   0.0740,2,   2215.0,2,   2331.9,2,20170105,2126
06M220170104  ,A10.5      ,12      ,  1,12111.0    ,241253.0   ,11         ,2,20170105,2045, -34.4992,  16.5154,     3705,   1494.1,   2.8716,  34.6809,    187.1,2,    177.6,3,    58.14,2,    28.37,2,     0.00,2,     1.91,2,    0.108,2,   0.0850,2,     -999,9,     -999,9,20170105,2122
06M220170104  ,A10.5      ,12      ,  1,12110.0    ,241252.0   ,10         ,2,20170105,2045, -34.4992,  16.5154,     3705,   1745.1,   2.7986,  34.7737,    204.1,2,    184.4,4,    54.04,2,    25.94,2,     0.00,2,     1.82,2,    0.047,2,   0.0000,2,   2205.0,2,   2335.7,2,20170105,2118
06M220170104  ,A10.5      ,12      ,  1,12109.0    ,241251.0   ,9          ,2,20170105,2045, -34.4992,  16.5154,     3705,   1995.9,   2.6930,  34.8193,    216.8,2,    217.7,2,    52.44,2,    24.80,2,     0.02,2,     1.68,2,    0.025,2,   0.0000,2,     -999,9,     -999,9,20170105,2114
06M220170104  ,A10.5      ,12      ,  1,12108.0    ,240250.0   ,8          ,2,20170105,2045, -34.4992,  16.5154,     3705,   1996.7,   2.6954,  34.8193,    216.4,2,    216.5,2,    52.31,2,    24.73,2,     0.00,2,     1.65,2,    0.028,2,   0.0000,2,     -999,9,     -999,9,20170105,2114
06M220170104  ,A10.5      ,12      ,  1,12107.0    ,240249.0   ,7          ,2,20170105,2045, -34.4992,  16.5154,     3705,   2395.0,   2.4818,  34.8396,    225.9,2,    226.2,2,    52.99,2,    23.52,2,     0.01,2,     1.65,2,    0.016,2,   0.0000,2,   2188.5,3,   2338.7,2,20170105,2108
06M220170104  ,A10.5      ,12      ,  1,12106.0    ,240248.0   ,6          ,2,20170105,2045, -34.4992,  16.5154,     3705,   2698.1,   2.3392,  34.8428,    228.9,2,    232.1,2,    54.53,2,    23.10,2,     0.00,2,     1.56,2,    0.014,2,   0.0000,2,     -999,9,     -999,9,20170105,2103
06M220170104  ,A10.5      ,12      ,  1,12105.0    ,240247.0   ,5          ,2,20170105,2045, -34.4992,  16.5154,     3705,   2994.4,   2.2763,  34.8532,    233.2,2,    233.7,2,    54.10,2,    22.76,2,     0.00,2,     1.43,2,    0.010,2,   0.0000,2,   2193.2,3,   2348.5,2,20170105,2058
06M220170104  ,A10.5      ,12      ,  1,12104.0    ,240246.0   ,4          ,2,20170105,2045, -34.4992,  16.5154,     3705,   3200.8,   2.2070,  34.8488,    232.6,2,    233.5,2,    51.16,3,     0.01,4,     0.01,4,     1.41,2,    0.012,2,   0.0000,2,   2193.4,3,   2348.6,2,20170105,2055
06M220170104  ,A10.5      ,12      ,  1,12103.0    ,240245.0   ,3          ,2,20170105,2045, -34.4992,  16.5154,     3705,   3552.3,   1.8769,  34.8147,    227.2,2,    228.2,2,    66.93,2,    24.91,2,     0.03,2,     1.54,2,    0.020,2,   0.0000,2,   2197.3,3,   2355.5,2,20170105,2049
06M220170104  ,A10.5      ,12      ,  1,12101.0    ,240243.0   ,1          ,2,20170105,2045, -34.4992,  16.5154,     3705,   3694.1,   1.6524,  34.7931,    223.7,2,    224.1,2,    74.23,2,    26.23,2,     0.01,2,     1.70,2,     -999,9,     -999,9,     -999,9,     -999,9,20170105,2045
06M220170104  ,A10.5      ,12      ,  1,12102.0    ,240244.0   ,2          ,2,20170105,2045, -34.4992,  16.5154,     3705,   3694.6,   1.6522,  34.7931,    223.7,2,    227.0,3,    78.58,3,    26.33,2,     0.02,2,     1.90,3,    0.025,2,   0.0000,2,   2218.2,2,   2362.9,2,20170105,2046
06M220170104  ,A10.5      ,13      ,  1,13118.0    ,241282.0   ,18         ,2,20170106,0224, -34.4994,  15.8897,     4252,     13.0,  21.3170,  35.5653,    227.4,2,    226.8,2,     1.40,3,    -0.16,3,     0.00,3,     0.03,3,     -999,9,     -999,9,   2033.2,2,   2336.7,2,20170106,0335
06M220170104  ,A10.5      ,13      ,  1,13117.0    ,241281.0   ,17         ,2,20170106,0224, -34.4994,  15.8897,     4252,     27.3,  21.2897,  35.5639,    227.4,2,    227.7,2,     1.51,3,    -0.14,3,     0.00,3,     0.02,3,     -999,9,     -999,9,   2036.5,2,   2336.8,2,20170106,0334
06M220170104  ,A10.5      ,13      ,  1,13116.0    ,241280.0   ,16         ,2,20170106,0224, -34.4994,  15.8897,     4252,     57.7,  19.8164,  35.5117,    227.7,2,    229.0,2,     2.50,3,     0.04,3,     0.04,3,     0.14,3,     -999,9,     -999,9,   2055.7,2,   2337.6,2,20170106,0333
06M220170104  ,A10.5      ,13      ,  1,13115.0    ,241279.0   ,15         ,2,20170106,0224, -34.4994,  15.8897,     4252,     75.1,  17.5751,  35.4121,    213.9,2,    224.8,3,     3.87,3,     2.87,3,     0.69,3,     0.33,3,     -999,9,     -999,9,   2087.8,2,   2332.5,2,20170106,0332
06M220170104  ,A10.5      ,13      ,  1,13114.0    ,241278.0   ,14         ,2,20170106,0224, -34.4994,  15.8897,     4252,     97.6,  15.5309,  35.3569,    181.1,2,    217.9,4,     8.26,3,    11.84,3,     0.03,3,     0.75,3,     -999,9,     -999,9,   2121.8,2,   2297.1,3,20170106,0331
06M220170104  ,A10.5      ,13      ,  1,13113.0    ,241277.0   ,13         ,2,20170106,0224, -34.4994,  15.8897,     4252,    198.2,  12.5009,  35.1105,    217.6,2,    190.1,4,     5.62,3,    11.54,3,     0.04,3,     0.78,3,     -999,9,     -999,9,   2125.2,2,   2315.7,2,20170106,0330
06M220170104  ,A10.5      ,13      ,  1,13112.0    ,241276.0   ,12         ,2,20170106,0224, -34.4994,  15.8897,     4252,    350.1,   9.1467,  34.5884,    250.8,2,    215.6,4,     5.81,3,    17.31,3,     0.02,3,     1.04,3,     -999,9,     -999,9,   2126.1,2,   2297.9,2,20170106,0327
06M220170104  ,A10.5      ,13      ,  1,13111.0    ,241275.0   ,11         ,2,20170106,0224, -34.4994,  15.8897,     4252,    582.6,   6.3670,  34.4260,    210.1,2,    252.3,4,    20.96,3,    30.26,3,     0.02,3,     1.95,3,     -999,9,     -999,9,   2171.4,2,   2294.4,2,20170106,0324
06M220170104  ,A10.5      ,13      ,  1,13110.0    ,241274.0   ,10         ,2,20170106,0224, -34.4994,  15.8897,     4252,    683.8,   5.0524,  34.3203,    222.6,2,    197.0,4,    21.80,3,    28.96,3,     0.02,3,     1.69,3,     -999,9,     -999,9,     -999,9,     -999,9,20170106,0322
06M220170104  ,A10.5      ,13      ,  1,13109.0    ,241273.0   ,9          ,2,20170106,0224, -34.4994,  15.8897,     4252,    712.0,   4.7639,  34.2938,    225.7,2,    229.1,2,    22.01,3,    29.51,3,     0.05,3,     1.62,3,     -999,9,     -999,9,   2176.3,2,   2291.0,2,20170106,0321
06M220170104  ,A10.5      ,13      ,  1,13108.0    ,241272.0   ,8          ,2,20170106,0224, -34.4994,  15.8897,     4252,   1004.5,   3.3770,  34.3798,    198.5,2,    201.2,2,    51.03,3,    36.58,3,     0.00,3,     2.47,3,     -999,9,     -999,9,   2212.6,2,   2318.9,2,20170106,0317
06M220170104  ,A10.5      ,13      ,  1,13107.0    ,241271.0   ,7          ,2,20170106,0224, -34.4994,  15.8897,     4252,   1205.0,   3.1363,  34.5219,    179.4,2,    180.6,2,    57.57,3,    32.74,3,     0.00,3,     1.94,3,     -999,9,     -999,9,     -999,9,     -999,9,20170106,0313
06M220170104  ,A10.5      ,13      ,  1,13106.0    ,241270.0   ,6          ,2,20170106,0224, -34.4994,  15.8897,     4252,   1310.3,   2.9947,  34.5798,    179.1,2,    179.8,2,    63.81,3,    33.59,3,     0.00,3,     2.14,3,     -999,9,     -999,9,   2231.9,2,   2333.2,2,20170106,0312
06M220170104  ,A10.5      ,13      ,  1,13105.0    ,241269.0   ,5          ,2,20170106,0224, -34.4994,  15.8897,     4252,   2627.2,   2.3773,  34.8430,    228.1,2,     -999,9,    51.92,3,    25.52,3,     0.01,3,     1.45,3,     -999,9,     -999,9,   2206.6,2,   2344.7,2,20170106,0251
06M220170104  ,A10.5      ,13      ,  1,13104.0    ,241268.0   ,4          ,2,20170106,0224, -34.4994,  15.8897,     4252,   3001.2,   2.2160,  34.8422,    230.0,2,    231.3,2,    65.54,3,    27.94,3,     0.00,3,     1.71,3,     -999,9,     -999,9,   2205.6,2,   2349.3,2,20170106,0245
06M220170104  ,A10.5      ,13      ,  1,13103.0    ,241267.0   ,3          ,2,20170106,0224, -34.4994,  15.8897,     4252,   3551.8,   1.6411,  34.7899,    223.5,2,    224.9,2,    84.33,3,    25.24,3,     0.01,3,     1.78,3,     -999,9,     -999,9,   2228.6,2,   2361.3,2,20170106,0236
06M220170104  ,A10.5      ,13      ,  1,13102.0    ,241266.0   ,2          ,2,20170106,0224, -34.4994,  15.8897,     4252,   4241.5,   1.0573,  34.7331,    218.9,2,    219.7,2,   103.85,3,    32.33,3,     0.01,3,     1.94,3,     -999,9,     -999,9,     -999,9,     -999,9,20170106,0224
06M220170104  ,A10.5      ,13      ,  1,13101.0    ,241265.0   ,1          ,2,20170106,0224, -34.4994,  15.8897,     4252,   4242.5,   1.0575,  34.7330,    219.0,2,    218.3,2,   140.43,4,    43.26,4,     0.04,4,     2.66,4,     -999,9,     -999,9,   2247.6,2,   2373.5,2,20170106,0224
06M220170104  ,A10.5      ,14      ,  1,14122.0    ,241308.0   ,22         ,2,20170106,0809, -34.4994,  15.2655,     4522,     17.7,  21.3153,  35.5805,    227.8,2,    226.0,2,     1.32,3,     0.46,3,     0.01,3,     0.06,3,    1.162,2,   1.6150,2,   2042.6,2,   2337.8,2,20170106,0926
06M220170104  ,A10.5      ,14      ,  1,14121.0    ,241307.0   ,21         ,2,20170106,0809, -34.4994,  15.2655,     4522,     24.1,  21.3070,  35.5794,    228.0,2,    227.2,2,     1.60,3,     0.44,3,     0.02,3,     0.26,3,    1.145,2,   1.5780,2,   2039.5,2,   2337.1,2,20170106,0925
06M220170104  ,A10.5      ,14      ,  1,14120.0    ,241306.0   ,20         ,2,20170106,0809, -34.4994,  15.2655,     4522,     58.1,  18.6791,  35.5904,    232.1,2,    228.6,2,     4.33,3,     1.35,3,     0.34,3,     0.33,3,    1.274,2,   1.8130,2,   2059.4,2,   2337.4,2,20170106,0924
06M220170104  ,A10.5      ,14      ,  1,14119.0    ,241305.0   ,19         ,2,20170106,0809, -34.4994,  15.2655,     4522,    101.9,  17.4481,  35.5531,    196.6,2,    195.0,2,     5.90,3,     6.10,3,     0.05,3,     0.59,3,    1.271,2,   1.5730,2,     -999,9,     -999,9,20170106,0922
06M220170104  ,A10.5      ,14      ,  1,14118.0    ,241304.0   ,18         ,2,20170106,0809, -34.4994,  15.2655,     4522,    198.6,  13.7734,  35.2484,    205.4,2,    204.5,2,     8.76,3,    12.16,3,     0.13,3,     1.23,3,    1.530,2,   1.4170,2,   2126.7,2,   2320.7,2,20170106,0920
06M220170104  ,A10.5      ,14      ,  1,14117.0    ,241303.0   ,17         ,2,20170106,0809, -34.4994,  15.2655,     4522,    315.3,  11.1215,  34.9068,    226.6,2,    226.5,2,     6.45,3,    14.20,3,     0.07,3,     1.35,3,    1.772,2,   1.6680,2,     -999,9,     -999,9,20170106,0918
06M220170104  ,A10.5      ,14      ,  1,14116.0    ,241302.0   ,16         ,2,20170106,0809, -34.4994,  15.2655,     4522,    397.1,   9.8074,  34.7489,    223.7,2,    222.3,2,     5.60,3,    13.27,3,     0.01,3,     1.38,3,    1.712,2,   1.0920,2,   2142.2,2,   2300.5,2,20170106,0917
06M220170104  ,A10.5      ,14      ,  1,14115.0    ,241301.0   ,15         ,2,20170106,0809, -34.4994,  15.2655,     4522,    496.5,   8.5705,  34.6340,    204.6,2,    206.0,2,     5.58,3,    26.16,3,     0.02,3,     2.37,3,    1.624,2,   1.0660,2,     -999,9,     -999,9,20170106,0915
06M220170104  ,A10.5      ,14      ,  1,14114.0    ,241300.0   ,14         ,2,20170106,0809, -34.4994,  15.2655,     4522,    595.9,   7.0609,  34.5096,    202.8,2,    203.6,2,    24.86,3,    31.76,3,     0.04,3,     3.06,3,    1.409,3,   1.0200,2,   2178.6,2,   2297.1,2,20170106,0914
06M220170104  ,A10.5      ,14      ,  1,14113.0    ,241299.0   ,13         ,2,20170106,0809, -34.4994,  15.2655,     4522,    698.2,   5.6532,  34.3988,    208.9,2,    208.3,2,    28.39,3,    33.67,3,     0.04,3,     3.30,3,    1.389,2,   0.9280,2,     -999,9,     -999,9,20170106,0912
06M220170104  ,A10.5      ,14      ,  1,14112.0    ,241298.0   ,12         ,2,20170106,0809, -34.4994,  15.2655,     4522,    829.4,   4.6711,  34.3982,    198.1,2,    198.4,2,    42.71,3,    33.49,3,     0.02,3,     2.98,3,    1.080,2,   0.6600,2,   2204.4,2,   2306.3,2,20170106,0910
06M220170104  ,A10.5      ,14      ,  1,14111.0    ,241297.0   ,11         ,2,20170106,0809, -34.4994,  15.2655,     4522,    996.4,   3.8908,  34.4426,    184.6,2,    184.9,2,    65.55,3,    32.71,3,     0.04,3,     4.36,3,    0.686,2,   0.2960,2,   2229.8,2,   2316.0,2,20170106,0907
06M220170104  ,A10.5      ,14      ,  1,14110.0    ,241296.0   ,10         ,2,20170106,0809, -34.4994,  15.2655,     4522,   1245.7,   3.0467,  34.5495,    179.2,2,    180.0,2,    68.24,3,    38.82,3,     0.04,3,     3.29,3,    0.315,2,   0.1350,2,   2240.1,2,   2336.0,2,20170106,0903
06M220170104  ,A10.5      ,14      ,  1,14109.0    ,241295.0   ,9          ,2,20170106,0809, -34.4994,  15.2655,     4522,   1496.1,   2.8593,  34.6831,    187.8,2,    187.9,2,    71.50,3,    32.71,3,     0.04,3,     2.98,3,    0.106,2,   0.0000,2,     -999,9,     -999,9,20170106,0859
06M220170104  ,A10.5      ,14      ,  1,14108.0    ,241294.0   ,8          ,2,20170106,0809, -34.4994,  15.2655,     4522,   1746.5,   2.8176,  34.7698,    203.2,2,    216.9,4,    81.61,3,    28.28,3,     0.02,3,     2.45,3,    0.046,2,   0.0000,2,   2219.1,2,   2341.5,2,20170106,0855
06M220170104  ,A10.5      ,14      ,  1,14107.0    ,241293.0   ,7          ,2,20170106,0809, -34.4994,  15.2655,     4522,   1997.6,   2.7189,  34.8188,    215.9,2,    223.6,4,    78.10,3,    28.99,3,     0.12,3,     3.36,3,    0.025,2,   0.0000,2,   2223.6,2,   2333.0,2,20170106,0851
06M220170104  ,A10.5      ,14      ,  1,14106.0    ,241292.0   ,6          ,2,20170106,0809, -34.4994,  15.2655,     4522,   2294.2,   2.5430,  34.8364,    223.2,2,    225.9,3,    58.97,3,    25.65,3,     0.05,3,     2.71,3,    0.017,2,   0.0000,2,   2204.4,2,   2346.5,3,20170106,0846
06M220170104  ,A10.5      ,14      ,  1,14105.0    ,241291.0   ,5          ,2,20170106,0809, -34.4994,  15.2655,     4522,   2795.3,   2.3094,  34.8452,    229.4,2,    230.2,2,    73.68,3,    31.16,3,     0.05,3,     3.17,3,    0.013,2,   0.0000,2,   2215.3,2,   2344.0,2,20170106,0837
06M220170104  ,A10.5      ,14      ,  1,14104.0    ,241290.0   ,4          ,2,20170106,0809, -34.4994,  15.2655,     4522,   3297.6,   1.9881,  34.8253,    227.8,2,    228.5,2,    91.68,3,    33.10,3,     0.05,3,     3.65,3,    0.019,2,   0.0000,2,   2219.2,2,   2356.1,2,20170106,0829
06M220170104  ,A10.5      ,14      ,  1,14103.0    ,241289.0   ,3          ,2,20170106,0809, -34.4994,  15.2655,     4522,   3795.8,   1.2900,  34.7583,    221.0,2,    236.8,4,    99.77,3,    26.36,3,     0.04,3,     2.06,3,    0.035,2,   0.0000,2,   2226.8,2,   2367.9,2,20170106,0821
06M220170104  ,A10.5      ,14      ,  1,14102.0    ,241288.0   ,2          ,2,20170106,0809, -34.4994,  15.2655,     4522,   4196.5,   1.1096,  34.7382,    219.3,2,    218.9,2,   118.95,3,    32.39,3,     0.03,3,     2.54,3,    0.047,2,   0.0000,2,   2249.2,2,   2373.4,2,20170106,0815
06M220170104  ,A10.5      ,14      ,  1,14101.0    ,241287.0   ,1          ,2,20170106,0809, -34.4994,  15.2655,     4522,   4511.8,   1.0682,  34.7309,    219.0,2,    218.6,2,   116.56,3,    39.82,3,     0.05,3,     3.22,3,    0.073,2,   0.0000,2,   2253.7,2,   2371.2,2,20170106,0809