BOTTLE,20240228CCHSIOADS
EXPOCODE,SECT_ID,STNNBR,CASTNO,SAMPNO,BIONBR,BTLNBR,BTLNBR_FLAG_W,DATE,TIME,LATITUDE,LONGITUDE,DEPTH,CTDPRS,CTDTMP,CTDSAL,CTDOXY,CTDOXY_FLAG_W,OXYGEN,OXYGEN_FLAG_W,SILCAT,SILCAT_FLAG_W,NITRAT,NITRAT_FLAG_W,NITRIT,NITRIT_FLAG_W,PHSPHT,PHSPHT_FLAG_W,CFC-12,CFC-12_FLAG_W,SF6,SF6_FLAG_W,TCARBN,TCARBN_FLAG_W,ALKALI,ALKALI_FLAG_W,BTL_DATE,BTL_TIME
,,,,,,,,,,,,METERS,DBAR,ITS-90,PSS-78,UMOL/KG,,UMOL/KG,,UMOL/KG,,UMOL/KG,,UMOL/KG,,UMOL/KG,,PMOL/KG,,FMOL/KG,,UMOL/KG,,UMOL/KG,,,
06M220170104  ,A10.5      ,73      ,  1,73122.0    ,241088.0   ,22         ,2,20170119,1456, -34.5005, -21.4389,     4006,      7.9,  22.4920,  35.7191,    224.2,2,    223.4,2,    -1.01,2,     0.61,2,     0.01,2,     0.09,2,    1.231,2,   1.7660,2,   2071.5,2,   2323.2,4,20170119,1605
06M220170104  ,A10.5      ,73      ,  1,73121.0    ,241087.0   ,21         ,2,20170119,1456, -34.5005, -21.4389,     4006,     18.8,  22.3725,  35.7193,    224.0,2,     -999,9,     -999,9,     -999,9,     -999,9,     -999,9,     -999,9,     -999,9,     -999,9,     -999,9,20170119,1604
06M220170104  ,A10.5      ,73      ,  1,73120.0    ,241086.0   ,20         ,2,20170119,1456, -34.5005, -21.4389,     4006,     48.3,  19.2351,  35.7538,    241.6,2,    243.6,2,    -0.97,2,     0.50,2,     0.00,2,     0.09,2,    1.380,2,   1.8070,2,   2076.9,2,   2325.3,4,20170119,1603
06M220170104  ,A10.5      ,73      ,  1,73119.0    ,241085.0   ,19         ,2,20170119,1456, -34.5005, -21.4389,     4006,    102.6,  16.9409,  35.6634,    237.4,2,     -999,9,     -999,9,     -999,9,     -999,9,     -999,9,     -999,9,     -999,9,     -999,9,     -999,9,20170119,1601
06M220170104  ,A10.5      ,73      ,  1,73118.0    ,241084.0   ,18         ,2,20170119,1456, -34.5005, -21.4389,     4006,    228.5,  14.3424,  35.3587,    218.7,2,    219.9,2,     0.69,2,     7.23,2,     0.01,2,     0.55,2,    1.653,2,   1.8300,2,   2118.5,2,   2301.2,4,20170119,1559
06M220170104  ,A10.5      ,73      ,  1,73117.0    ,241083.0   ,17         ,2,20170119,1456, -34.5005, -21.4389,     4006,    363.1,  12.7934,  35.1918,    215.1,2,    214.8,2,     1.78,2,    11.39,2,     0.02,2,     0.80,2,    1.765,2,   1.8450,2,     -999,9,     -999,9,20170119,1557
06M220170104  ,A10.5      ,73      ,  1,73116.0    ,241082.0   ,16         ,2,20170119,1456, -34.5005, -21.4389,     4006,    452.1,  11.3533,  34.9864,    210.5,2,    211.7,2,     3.32,2,    14.96,2,     0.01,2,     1.02,2,    1.857,2,   1.5840,2,   2135.0,2,   2283.7,4,20170119,1555
06M220170104  ,A10.5      ,73      ,  1,73115.0    ,241081.0   ,15         ,2,20170119,1456, -34.5005, -21.4389,     4006,    567.3,   9.2847,  34.7176,    205.9,2,    208.5,2,     7.00,2,    21.27,2,     0.01,2,     1.40,2,    1.873,2,   1.3660,2,   2152.4,2,   2270.6,4,20170119,1553
06M220170104  ,A10.5      ,73      ,  1,73114.0    ,241080.0   ,14         ,2,20170119,1456, -34.5005, -21.4389,     4006,    648.0,   7.8598,  34.5475,    213.7,2,    213.8,2,     9.46,2,    25.22,2,     0.02,2,     1.60,2,    1.943,2,   1.3230,2,     -999,9,     -999,9,20170119,1552
06M220170104  ,A10.5      ,73      ,  1,73113.0    ,241079.0   ,13         ,2,20170119,1456, -34.5005, -21.4389,     4006,    767.7,   5.5038,  34.3092,    232.5,2,    233.7,2,    14.24,2,    29.21,2,     0.01,2,     1.86,2,    1.992,2,   1.2960,2,   2173.9,2,   2286.6,2,20170119,1550
06M220170104  ,A10.5      ,73      ,  1,73112.0    ,241078.0   ,12         ,2,20170119,1456, -34.5005, -21.4389,     4006,    887.1,   4.4872,  34.2577,    233.7,2,    235.4,2,    21.43,2,    31.65,2,     0.01,2,     2.01,2,    1.789,2,   1.0850,2,     -999,9,     -999,9,20170119,1548
06M220170104  ,A10.5      ,73      ,  1,73111.0    ,241077.0   ,11         ,2,20170119,1456, -34.5005, -21.4389,     4006,    969.3,   4.1269,  34.2684,    227.1,2,    227.1,2,    27.27,2,    33.17,2,     0.00,2,     2.11,2,    1.560,2,   0.9010,2,   2191.0,2,   2296.1,2,20170119,1547
06M220170104  ,A10.5      ,73      ,  1,73110.0    ,241076.0   ,10         ,2,20170119,1456, -34.5005, -21.4389,     4006,   1140.3,   3.4371,  34.3254,    210.8,2,    213.6,2,    39.69,2,    33.97,2,     0.00,2,     2.23,2,    1.044,2,   0.5070,2,   2202.6,2,   2275.8,3,20170119,1544
06M220170104  ,A10.5      ,73      ,  1,73109.0    ,241075.0   ,9          ,2,20170119,1456, -34.5005, -21.4389,     4006,   1481.2,   2.9079,  34.5298,    188.0,2,    187.6,2,    61.52,2,    36.04,2,     0.01,2,     2.27,2,    0.304,2,   0.0000,2,   2231.2,2,   2326.9,3,20170119,1538
06M220170104  ,A10.5      ,73      ,  1,73108.0    ,241074.0   ,8          ,2,20170119,1456, -34.5005, -21.4389,     4006,   1481.9,   2.9070,  34.5306,    187.9,2,     -999,9,     -999,9,     -999,9,     -999,9,     -999,9,     -999,9,     -999,9,     -999,9,     -999,9,20170119,1538
06M220170104  ,A10.5      ,73      ,  1,73107.0    ,241073.0   ,7          ,2,20170119,1456, -34.5005, -21.4389,     4006,   1696.1,   2.8468,  34.6608,    192.0,2,     -999,9,     -999,9,     -999,9,     -999,9,     -999,9,     -999,9,     -999,9,     -999,9,     -999,9,20170119,1534
06M220170104  ,A10.5      ,73      ,  1,73106.0    ,241072.0   ,6          ,2,20170119,1456, -34.5005, -21.4389,     4006,   1997.7,   2.8683,  34.7758,    208.9,2,    209.6,2,    54.91,2,    30.20,2,     0.00,2,     1.92,2,    0.064,2,   0.0000,2,   2211.4,2,   2333.8,2,20170119,1529
06M220170104  ,A10.5      ,73      ,  1,73105.0    ,241071.0   ,5          ,2,20170119,1456, -34.5005, -21.4389,     4006,   2312.8,   2.8510,  34.8497,    227.1,2,    227.7,2,    46.91,2,    26.92,2,     0.01,2,     1.71,2,    0.037,2,   0.0000,2,     -999,9,     -999,9,20170119,1524
06M220170104  ,A10.5      ,73      ,  1,73104.0    ,241070.0   ,4          ,2,20170119,1456, -34.5005, -21.4389,     4006,   2497.8,   2.8141,  34.8686,    233.4,2,    232.1,2,    43.23,2,    24.99,2,     0.00,2,     1.58,2,    0.031,2,   0.0000,2,   2193.2,2,   2332.0,2,20170119,1521
06M220170104  ,A10.5      ,73      ,  1,73103.0    ,241069.0   ,3          ,2,20170119,1456, -34.5005, -21.4389,     4006,   2997.8,   2.5696,  34.8828,    242.6,2,    243.3,2,    46.72,2,    24.55,2,     0.00,2,     1.56,2,    0.020,2,   0.0000,2,   2192.0,2,   2334.9,2,20170119,1512
06M220170104  ,A10.5      ,73      ,  1,73102.0    ,241068.0   ,2          ,2,20170119,1456, -34.5005, -21.4389,     4006,   3496.5,   2.0291,  34.8424,    239.4,2,    239.9,2,    64.12,2,    26.68,2,     0.00,2,     1.69,2,    0.020,2,   0.0000,2,   2207.3,2,   2348.0,2,20170119,1504
06M220170104  ,A10.5      ,73      ,  1,73101.0    ,241067.0   ,1          ,2,20170119,1456, -34.5005, -21.4389,     4006,   3928.7,   1.6923,  34.8034,    232.6,2,    237.9,2,    77.44,2,    28.88,2,     0.01,2,     1.82,2,    0.172,4,   2.5080,4,   2215.9,2,   2352.7,2,20170119,1456
06M220170104  ,A10.5      ,74      ,  1,74122.0    ,241110.0   ,22         ,2,20170119,2017, -34.4998, -22.0937,     4012,      3.0,  21.1601,  35.4876,    229.8,2,    231.5,2,    -0.11,3,     0.03,3,     0.00,3,     0.17,3,    1.396,4,   1.8690,2,   2064.3,2,   2332.7,2,20170119,2124
06M220170104  ,A10.5      ,74      ,  1,74121.0    ,241109.0   ,21         ,2,20170119,2017, -34.4998, -22.0937,     4012,     48.3,  17.4183,  35.6017,    247.1,2,    231.9,3,    -0.17,3,     0.05,3,     0.00,3,     0.30,3,    1.380,4,   1.8970,2,   2065.0,2,   2336.3,2,20170119,2123
06M220170104  ,A10.5      ,74      ,  1,74120.0    ,241108.0   ,20         ,2,20170119,2017, -34.4998, -22.0937,     4012,     77.1,  16.3863,  35.6166,    225.2,2,    226.8,2,     0.50,3,     1.36,3,     0.02,3,     0.48,3,    1.602,3,   2.0560,2,   2101.6,2,   2342.4,2,20170119,2122
06M220170104  ,A10.5      ,74      ,  1,74119.0    ,241107.0   ,19         ,2,20170119,2017, -34.4998, -22.0937,     4012,    125.3,  14.8492,  35.4243,    218.5,2,    216.5,2,     1.10,3,     5.38,3,     0.02,3,     0.49,3,    1.679,3,   1.9450,2,     -999,9,     -999,9,20170119,2121
06M220170104  ,A10.5      ,74      ,  1,74118.0    ,241106.0   ,18         ,2,20170119,2017, -34.4998, -22.0937,     4012,    246.8,  14.4682,  35.5270,    228.7,2,    229.9,2,     1.21,3,     6.10,3,     0.01,3,     0.56,3,    1.667,3,   2.0340,2,   2118.1,2,   2342.8,2,20170119,2119
06M220170104  ,A10.5      ,74      ,  1,74117.0    ,241105.0   ,17         ,2,20170119,2017, -34.4998, -22.0937,     4012,    395.9,  12.5564,  35.1738,    213.0,2,    213.5,2,     1.84,3,     7.61,3,     0.00,3,     1.57,3,    1.831,3,   1.7500,2,   2137.3,2,   2318.2,2,20170119,2116
06M220170104  ,A10.5      ,74      ,  1,74116.0    ,241104.0   ,16         ,2,20170119,2017, -34.4998, -22.0937,     4012,    627.1,   6.6255,  34.4109,    223.4,2,    227.0,2,    11.24,2,    25.56,2,     0.00,2,     1.85,2,    2.003,2,   1.3830,2,   2165.6,2,   2286.4,2,20170119,2112
06M220170104  ,A10.5      ,74      ,  1,74115.0    ,241103.0   ,15         ,2,20170119,2017, -34.4998, -22.0937,     4012,    847.2,   4.4689,  34.2555,    234.3,2,    233.7,2,    21.05,2,    30.41,2,     0.00,2,     2.05,2,    1.812,2,   1.1030,2,   2180.3,2,   2287.3,2,20170119,2109
06M220170104  ,A10.5      ,74      ,  1,74114.0    ,241102.0   ,14         ,2,20170119,2017, -34.4998, -22.0937,     4012,   1097.7,   3.5018,  34.3239,    210.9,2,    212.1,2,    37.32,2,    33.45,2,     0.00,2,     1.95,2,     -999,9,     -999,9,   2207.2,2,   2307.8,2,20170119,2105
06M220170104  ,A10.5      ,74      ,  1,74113.0    ,241101.0   ,13         ,2,20170119,2017, -34.4998, -22.0937,     4012,   1296.8,   3.0486,  34.4349,    193.6,2,    193.4,2,    30.60,4,    21.32,4,     0.00,4,     2.10,4,    0.577,2,   0.2260,2,   2226.2,2,   2316.5,2,20170119,2102
06M220170104  ,A10.5      ,74      ,  1,74112.0    ,241100.0   ,12         ,2,20170119,2017, -34.4998, -22.0937,     4012,   1546.8,   2.8631,  34.5802,    187.4,2,    188.5,2,    57.85,2,    33.93,2,     0.00,2,     2.14,2,    0.238,2,   0.0000,2,   2235.5,2,   2331.0,2,20170119,2058
06M220170104  ,A10.5      ,74      ,  1,74111.0    ,241099.0   ,11         ,2,20170119,2017, -34.4998, -22.0937,     4012,   1697.0,   2.8476,  34.6595,    191.9,2,    192.3,2,    63.48,3,    36.50,3,     0.00,3,     1.80,3,    0.137,2,   0.0000,2,   2231.3,2,   2335.3,2,20170119,2055
06M220170104  ,A10.5      ,74      ,  1,74110.0    ,241098.0   ,10         ,2,20170119,2017, -34.4998, -22.0937,     4012,   1996.8,   2.8744,  34.7845,    210.7,2,    211.0,2,    55.33,2,    30.32,2,     0.00,2,     1.69,2,     -999,9,     -999,9,     -999,9,     -999,9,20170119,2050
06M220170104  ,A10.5      ,74      ,  1,74109.0    ,241097.0   ,9          ,2,20170119,2017, -34.4998, -22.0937,     4012,   2294.5,   2.8601,  34.8498,    227.2,2,    228.3,2,    51.08,3,    29.41,3,     0.00,3,     1.58,3,     -999,9,     -999,9,   2202.6,2,   2332.6,2,20170119,2046
06M220170104  ,A10.5      ,74      ,  1,74108.0    ,241096.0   ,8          ,2,20170119,2017, -34.4998, -22.0937,     4012,   2297.7,   2.8585,  34.8505,    227.5,2,    228.4,2,    46.40,2,    27.73,2,     0.00,2,     1.58,2,     -999,9,     -999,9,     -999,9,     -999,9,20170119,2045
06M220170104  ,A10.5      ,74      ,  1,74107.0    ,241095.0   ,7          ,2,20170119,2017, -34.4998, -22.0937,     4012,   2597.2,   2.7776,  34.8814,    237.9,2,     -999,9,     -999,9,     -999,9,     -999,9,     -999,9,     -999,9,     -999,9,     -999,9,     -999,9,20170119,2041
06M220170104  ,A10.5      ,74      ,  1,74106.0    ,241094.0   ,6          ,2,20170119,2017, -34.4998, -22.0937,     4012,   2896.2,   2.5816,  34.8841,    242.4,2,    244.2,2,    44.14,2,    25.16,2,     0.00,2,     1.61,2,     -999,9,     -999,9,   2194.7,2,   2335.7,2,20170119,2036
06M220170104  ,A10.5      ,74      ,  1,74105.0    ,241093.0   ,5          ,2,20170119,2017, -34.4998, -22.0937,     4012,   3195.2,   2.2858,  34.8638,    241.3,2,    242.4,2,    55.06,2,    25.21,2,     0.00,2,     1.67,2,     -999,9,     -999,9,   2195.1,2,   2342.3,2,20170119,2031
06M220170104  ,A10.5      ,74      ,  1,74104.0    ,241092.0   ,4          ,2,20170119,2017, -34.4998, -22.0937,     4012,   3497.6,   2.0020,  34.8392,    239.1,2,    240.5,2,    64.53,2,    27.00,2,     0.01,2,     1.63,2,     -999,9,     -999,9,     -999,9,     -999,9,20170119,2026
06M220170104  ,A10.5      ,74      ,  1,74103.0    ,241091.0   ,3          ,2,20170119,2017, -34.4998, -22.0937,     4012,   3796.2,   1.7832,  34.8163,    235.8,2,    236.7,2,    69.39,2,    28.15,2,     0.01,2,     1.81,2,     -999,9,     -999,9,   2216.6,2,   2353.5,2,20170119,2021
06M220170104  ,A10.5      ,74      ,  1,74102.0    ,241090.0   ,2          ,2,20170119,2017, -34.4998, -22.0937,     4012,   4001.4,   1.7072,  34.8051,    233.4,2,    234.2,2,    74.21,2,    29.13,2,     0.01,2,     2.13,2,     -999,9,     -999,9,     -999,9,     -999,9,20170119,2017
06M220170104  ,A10.5      ,74      ,  1,74101.0    ,241089.0   ,1          ,2,20170119,2017, -34.4998, -22.0937,     4012,   4002.0,   1.7054,  34.8049,    233.3,2,    233.7,2,   109.71,4,    48.59,4,     0.03,4,     0.06,4,     -999,9,     -999,9,   2222.0,2,   2352.5,2,20170119,2017
06M220170104  ,A10.5      ,75      ,  1,75122.0    ,241132.0   ,22         ,2,20170120,0130, -34.5000, -22.7490,     4000,     10.1,  20.6205,  35.4193,    231.1,2,    231.6,2,    -1.35,2,     0.39,3,     0.00,3,     0.08,2,    1.336,2,   1.8260,2,   2066.1,2,   2332.3,2,20170120,0239
06M220170104  ,A10.5      ,75      ,  1,75121.0    ,241131.0   ,21         ,2,20170120,0130, -34.5000, -22.7490,     4000,     23.1,  19.6160,  35.3978,    236.0,2,    239.3,2,    -1.31,2,     0.36,3,     0.01,3,     0.12,2,    1.357,2,   1.8450,2,   2072.0,2,   2332.3,2,20170120,0238
06M220170104  ,A10.5      ,75      ,  1,75120.0    ,241130.0   ,20         ,2,20170120,0130, -34.5000, -22.7490,     4000,     72.8,  15.1986,  35.3702,    248.8,2,    249.3,2,    -0.74,2,     1.60,3,     0.32,3,     0.25,2,    1.662,2,   2.1700,2,   2091.0,2,   2331.7,2,20170120,0237
06M220170104  ,A10.5      ,75      ,  1,75119.0    ,241129.0   ,19         ,2,20170120,0130, -34.5000, -22.7490,     4000,    147.7,  14.4683,  35.5396,    230.5,2,    232.5,2,     1.86,2,     7.35,3,     0.02,3,     0.52,2,    1.591,2,   1.8900,2,   2116.7,2,   2340.7,2,20170120,0235
06M220170104  ,A10.5      ,75      ,  1,75118.0    ,241128.0   ,18         ,2,20170120,0130, -34.5000, -22.7490,     4000,    247.9,  13.5764,  35.3785,    236.2,2,    237.0,2,     0.99,2,     8.09,3,     0.02,3,     0.72,2,    1.675,2,   2.0390,2,   2119.8,2,   2331.3,2,20170120,0233
06M220170104  ,A10.5      ,75      ,  1,75117.0    ,241127.0   ,17         ,2,20170120,0130, -34.5000, -22.7490,     4000,    361.8,  11.4927,  34.9961,    228.2,2,    231.6,2,     1.44,2,    11.14,3,     0.01,3,     0.86,2,    1.776,2,   1.9030,2,   2122.6,2,   2310.8,2,20170120,0231
06M220170104  ,A10.5      ,75      ,  1,75116.0    ,241126.0   ,16         ,2,20170120,0130, -34.5000, -22.7490,     4000,    506.5,   8.1143,  34.5559,    218.1,2,    220.1,2,     7.29,2,    23.01,3,     0.00,3,     1.43,2,    1.945,2,   1.4520,2,   2149.7,2,   2290.7,2,20170120,0229
06M220170104  ,A10.5      ,75      ,  1,75115.0    ,241125.0   ,15         ,2,20170120,0130, -34.5000, -22.7490,     4000,    616.4,   5.9250,  34.3061,    240.0,2,    242.9,2,     8.36,2,    21.96,3,     0.00,3,     1.61,2,    2.080,2,   1.6100,2,     -999,9,     -999,9,20170120,0227
06M220170104  ,A10.5      ,75      ,  1,75114.0    ,241124.0   ,14         ,2,20170120,0130, -34.5000, -22.7490,     4000,    717.3,   4.9003,  34.2271,    250.2,2,    249.0,2,    12.20,2,    26.73,3,     0.01,3,     1.86,2,    2.082,2,   1.5940,2,     -999,9,     -999,9,20170120,0225
06M220170104  ,A10.5      ,75      ,  1,75113.0    ,241123.0   ,13         ,2,20170120,0130, -34.5000, -22.7490,     4000,    816.7,   4.3309,  34.2170,    245.7,2,    247.3,2,    20.88,2,    32.04,3,     0.00,3,     2.00,2,    1.914,2,   1.3980,2,   2168.6,2,   2284.4,2,20170120,0223
06M220170104  ,A10.5      ,75      ,  1,75112.0    ,241122.0   ,12         ,2,20170120,0130, -34.5000, -22.7490,     4000,    906.7,   4.0012,  34.2368,    235.0,2,    236.9,2,    29.28,2,    34.32,3,     0.01,3,     2.23,2,    1.647,2,   1.0250,2,     -999,9,     -999,9,20170120,0222
06M220170104  ,A10.5      ,75      ,  1,75111.0    ,241121.0   ,11         ,2,20170120,0130, -34.5000, -22.7490,     4000,   1028.4,   3.5204,  34.2744,    221.7,2,    227.6,2,    36.00,2,    34.22,3,     0.01,3,     2.35,2,    1.286,2,   0.7430,2,   2194.4,2,   2299.8,2,20170120,0220
06M220170104  ,A10.5      ,75      ,  1,75110.0    ,241120.0   ,10         ,2,20170120,0130, -34.5000, -22.7490,     4000,   1216.3,   3.1251,  34.3720,    199.8,2,    200.5,2,    48.13,2,    34.38,3,     0.01,3,     2.32,2,    0.786,2,   0.3960,2,   2221.8,2,   2315.8,2,20170120,0217
06M220170104  ,A10.5      ,75      ,  1,75109.0    ,241119.0   ,9          ,2,20170120,0130, -34.5000, -22.7490,     4000,   1486.2,   2.8538,  34.5548,    182.4,2,    183.2,2,    64.03,2,    36.28,3,     0.01,3,     2.45,2,    0.261,2,   0.0940,2,   2238.0,2,   2333.8,2,20170120,0212
06M220170104  ,A10.5      ,75      ,  1,75108.0    ,241118.0   ,8          ,2,20170120,0130, -34.5000, -22.7490,     4000,   1497.4,   2.8529,  34.5604,    182.5,2,      0.0,4,     -999,9,     -999,9,     -999,9,     -999,9,     -999,9,     -999,9,     -999,9,     -999,9,20170120,0212
06M220170104  ,A10.5      ,75      ,  1,75107.0    ,241117.0   ,7          ,2,20170120,0130, -34.5000, -22.7490,     4000,   1678.0,   2.8632,  34.6567,    187.7,2,    189.1,2,    55.21,2,    31.11,3,     0.02,3,     2.23,2,    0.145,2,   0.0000,2,     -999,9,     -999,9,20170120,0209
06M220170104  ,A10.5      ,75      ,  1,75106.0    ,241116.0   ,6          ,2,20170120,0130, -34.5000, -22.7490,     4000,   2036.9,   2.9529,  34.8158,    214.2,2,    214.9,2,    54.57,2,    28.81,3,     0.01,3,     1.92,2,     -999,9,     -999,9,   2218.6,2,   2342.4,2,20170120,0203
06M220170104  ,A10.5      ,75      ,  1,75105.0    ,241115.0   ,5          ,2,20170120,0130, -34.5000, -22.7490,     4000,   2296.7,   2.9087,  34.8625,    228.4,2,    230.2,2,    52.91,2,    28.72,3,     0.02,3,     1.97,2,    0.050,2,   0.0000,2,   2199.0,2,   2335.8,2,20170120,0159
06M220170104  ,A10.5      ,75      ,  1,75104.0    ,241114.0   ,4          ,2,20170120,0130, -34.5000, -22.7490,     4000,   2697.6,   2.7804,  34.8909,    239.4,2,    241.4,2,    45.85,2,    25.33,3,     0.02,3,     1.62,2,    0.034,2,   0.0000,2,   2187.8,2,   2331.0,2,20170120,0152
06M220170104  ,A10.5      ,75      ,  1,75103.0    ,241113.0   ,3          ,2,20170120,0130, -34.5000, -22.7490,     4000,   2997.8,   2.5711,  34.8842,    240.9,2,    243.3,2,    44.73,2,    22.86,3,     0.01,3,     1.62,2,    0.025,2,   0.0000,2,   2194.9,2,   2339.8,2,20170120,0147
06M220170104  ,A10.5      ,75      ,  1,75102.0    ,241112.0   ,2          ,2,20170120,0130, -34.5000, -22.7490,     4000,   3498.3,   1.9825,  34.8385,    236.8,2,    239.4,2,    51.68,2,    20.07,3,     0.00,3,     1.57,2,    0.023,2,   0.0000,2,   2211.1,2,   2352.1,2,20170120,0138
06M220170104  ,A10.5      ,75      ,  1,75101.0    ,241111.0   ,1          ,2,20170120,0130, -34.5000, -22.7490,     4000,   3990.0,   1.6408,  34.8004,    229.8,2,    233.5,2,    69.33,2,    26.68,3,     0.02,3,     1.73,2,    0.036,2,   0.0000,2,   2227.8,2,   2358.0,2,20170120,0130