BOTTLE,20240228CCHSIOADS
EXPOCODE,SECT_ID,STNNBR,CASTNO,SAMPNO,BIONBR,BTLNBR,BTLNBR_FLAG_W,DATE,TIME,LATITUDE,LONGITUDE,DEPTH,CTDPRS,CTDTMP,CTDSAL,CTDOXY,CTDOXY_FLAG_W,OXYGEN,OXYGEN_FLAG_W,SILCAT,SILCAT_FLAG_W,NITRAT,NITRAT_FLAG_W,NITRIT,NITRIT_FLAG_W,PHSPHT,PHSPHT_FLAG_W,CFC-12,CFC-12_FLAG_W,SF6,SF6_FLAG_W,TCARBN,TCARBN_FLAG_W,ALKALI,ALKALI_FLAG_W,BTL_DATE,BTL_TIME
,,,,,,,,,,,,METERS,DBAR,ITS-90,PSS-78,UMOL/KG,,UMOL/KG,,UMOL/KG,,UMOL/KG,,UMOL/KG,,UMOL/KG,,PMOL/KG,,FMOL/KG,,UMOL/KG,,UMOL/KG,,,
06M220170104  ,A10.5      ,55      ,  1,55122.0    ,241677.0   ,22         ,2,20170115,1620, -34.4998,  -9.6510,     4558,      8.3,  22.7362,  35.7137,    223.8,2,    229.0,2,     1.29,3,     0.44,3,     0.00,3,     0.16,3,    1.281,4,   0.9060,4,   2083.1,2,   2342.8,2,20170115,1735
06M220170104  ,A10.5      ,55      ,  1,55121.0    ,241676.0   ,21         ,2,20170115,1620, -34.4998,  -9.6510,     4558,     22.9,  21.0212,  35.6320,    231.6,2,    231.3,2,     1.19,3,     0.50,3,     0.01,3,     0.10,3,    1.290,2,   1.6590,2,     -999,9,     -999,9,20170115,1735
06M220170104  ,A10.5      ,55      ,  1,55120.0    ,241675.0   ,20         ,2,20170115,1620, -34.4998,  -9.6510,     4558,     47.6,  19.5355,  35.6470,    242.4,2,    238.8,2,     5.67,3,    40.62,3,     0.06,3,     0.72,3,    1.368,2,   1.7290,2,   2086.3,2,   2343.4,2,20170115,1734
06M220170104  ,A10.5      ,55      ,  1,55119.0    ,241674.0   ,19         ,2,20170115,1620, -34.4998,  -9.6510,     4558,    106.3,  16.6760,  35.5690,    247.9,2,    240.9,3,     2.11,3,     0.84,3,     0.08,3,     0.36,3,    1.512,2,   1.8650,2,     -999,9,     -999,9,20170115,1732
06M220170104  ,A10.5      ,55      ,  1,55118.0    ,241673.0   ,18         ,2,20170115,1620, -34.4998,  -9.6510,     4558,    225.9,  14.1890,  35.3066,    217.0,2,    215.3,2,     3.82,3,     8.27,3,     0.02,3,     0.79,3,    1.661,2,   1.7540,2,   2126.4,2,   2321.5,2,20170115,1730
06M220170104  ,A10.5      ,55      ,  1,55117.0    ,241672.0   ,17         ,2,20170115,1620, -34.4998,  -9.6510,     4558,    346.7,  12.5424,  35.1296,    212.2,2,    208.6,2,    24.42,3,    21.55,3,     0.02,3,     1.92,3,    1.307,4,   1.0550,4,     -999,9,     -999,9,20170115,1728
06M220170104  ,A10.5      ,55      ,  1,55116.0    ,241671.0   ,16         ,2,20170115,1620, -34.4998,  -9.6510,     4558,    451.4,  10.8319,  34.9107,    209.5,2,    208.0,2,     6.68,3,    15.32,3,     0.02,3,     1.45,3,    1.837,2,   1.4340,2,   2153.0,2,   2307.1,2,20170115,1726
06M220170104  ,A10.5      ,55      ,  1,55115.0    ,241670.0   ,15         ,2,20170115,1620, -34.4998,  -9.6510,     4558,    736.6,   5.8351,  34.3390,    227.5,2,    225.3,2,    14.28,3,    24.47,3,     0.01,3,     1.62,3,    1.951,2,   1.2320,2,   2173.0,2,   2280.1,2,20170115,1722
06M220170104  ,A10.5      ,55      ,  1,55114.0    ,241669.0   ,14         ,2,20170115,1620, -34.4998,  -9.6510,     4558,    884.1,   4.4151,  34.2522,    233.7,2,    232.2,2,    22.33,3,    27.38,3,     0.01,3,     1.85,3,    1.781,2,   1.0310,2,   2183.5,2,   2283.5,2,20170115,1719
06M220170104  ,A10.5      ,55      ,  1,55113.0    ,241668.0   ,13         ,2,20170115,1620, -34.4998,  -9.6510,     4558,   1036.9,   3.7764,  34.2929,    218.4,2,    216.1,2,    26.23,3,    25.49,3,     0.01,3,     1.43,3,    1.264,2,   0.6740,2,     -999,9,     -999,9,20170115,1717
06M220170104  ,A10.5      ,55      ,  1,55112.0    ,241667.0   ,12         ,2,20170115,1620, -34.4998,  -9.6510,     4558,   1195.5,   3.4040,  34.3825,    199.1,2,    197.1,2,    34.56,3,    25.73,3,     0.00,3,     1.77,3,    0.791,2,   0.3860,2,   2226.3,2,   2306.2,2,20170115,1714
06M220170104  ,A10.5      ,55      ,  1,55111.0    ,241666.0   ,11         ,2,20170115,1620, -34.4998,  -9.6510,     4558,   1496.9,   2.9213,  34.5447,    188.4,2,    187.2,2,    55.83,3,    30.48,3,     0.01,3,     1.97,3,    0.296,2,   0.1210,2,   2233.4,2,   2322.4,2,20170115,1709
06M220170104  ,A10.5      ,55      ,  1,55110.0    ,241665.0   ,10         ,2,20170115,1620, -34.4998,  -9.6510,     4558,   1709.3,   2.8259,  34.6625,    193.1,2,    192.5,2,    57.49,3,    28.62,3,     0.01,3,     1.77,3,    0.142,2,   0.0730,2,     -999,9,     -999,9,20170115,1706
06M220170104  ,A10.5      ,55      ,  1,55109.0    ,241664.0   ,9          ,2,20170115,1620, -34.4998,  -9.6510,     4558,   1740.9,   2.8168,  34.6797,    194.7,2,    193.0,2,    78.16,3,    36.50,3,     0.02,3,     3.33,3,    0.125,2,   0.0000,2,   2231.7,2,   2325.5,2,20170115,1705
06M220170104  ,A10.5      ,55      ,  1,55108.0    ,241663.0   ,8          ,2,20170115,1620, -34.4998,  -9.6510,     4558,   1997.5,   2.7699,  34.7691,    208.3,2,    205.7,2,    54.41,3,    25.91,3,     0.01,3,     1.64,3,    0.070,2,   0.0000,2,     -999,9,     -999,9,20170115,1701
06M220170104  ,A10.5      ,55      ,  1,55107.0    ,241662.0   ,7          ,2,20170115,1620, -34.4998,  -9.6510,     4558,   2538.7,   2.5656,  34.8478,    230.2,2,    243.8,4,    48.19,3,    23.72,3,     0.02,3,     1.53,3,    0.025,2,   0.0000,2,   2208.1,2,   2331.8,2,20170115,1653
06M220170104  ,A10.5      ,55      ,  1,55106.0    ,241661.0   ,6          ,2,20170115,1620, -34.4998,  -9.6510,     4558,   2720.8,   2.5119,  34.8555,    233.6,2,    231.7,2,    49.81,3,    23.03,3,     0.02,3,     1.40,3,    0.026,2,   0.0000,2,     -999,9,     -999,9,20170115,1650
06M220170104  ,A10.5      ,55      ,  1,55105.0    ,241660.0   ,5          ,2,20170115,1620, -34.4998,  -9.6510,     4558,   3049.8,   2.4108,  34.8604,    237.0,2,    235.4,2,    66.14,3,    29.95,3,     0.02,3,     2.27,3,    0.364,4,   0.0000,2,   2207.3,2,   2335.4,2,20170115,1645
06M220170104  ,A10.5      ,55      ,  1,55104.0    ,241659.0   ,4          ,2,20170115,1620, -34.4998,  -9.6510,     4558,   3561.1,   2.2640,  34.8539,    234.9,2,    230.7,2,    69.80,3,    26.84,3,     0.01,3,     2.30,3,    0.020,2,   0.0000,2,     -999,9,     -999,9,20170115,1636
06M220170104  ,A10.5      ,55      ,  1,55103.0    ,241658.0   ,3          ,2,20170115,1620, -34.4998,  -9.6510,     4558,   4076.6,   1.9562,  34.8200,    228.8,2,    226.2,2,    85.18,3,    32.49,3,     0.03,3,     2.92,3,     -999,9,     -999,9,   2228.7,2,   2352.9,2,20170115,1628
06M220170104  ,A10.5      ,55      ,  1,55101.0    ,241656.0   ,1          ,2,20170115,1620, -34.4998,  -9.6510,     4558,   4547.4,   1.7293,  34.7912,    224.6,2,    224.1,2,    83.39,3,    30.12,3,     0.03,3,     2.63,3,    0.034,2,   0.0000,2,   2236.3,2,   2358.0,2,20170115,1620
06M220170104  ,A10.5      ,55      ,  1,55102.0    ,241657.0   ,2          ,2,20170115,1620, -34.4998,  -9.6510,     4558,   4547.5,   1.7289,  34.7912,    224.6,2,    224.2,2,    77.87,3,    25.29,3,     0.01,3,     1.69,3,    0.033,2,   0.0000,2,     -999,9,     -999,9,20170115,1620
06M220170104  ,A10.5      ,56      ,  1,56122.0    ,241699.0   ,22         ,2,20170115,2132, -34.5000, -10.3059,     4196,      9.3,  21.5651,  35.6528,    228.5,2,    225.9,2,     0.55,2,    -0.09,2,     0.02,2,     0.05,2,    1.255,2,   1.6400,2,   2077.1,2,   2354.8,2,20170115,2243
06M220170104  ,A10.5      ,56      ,  1,56121.0    ,241698.0   ,21         ,2,20170115,2132, -34.5000, -10.3059,     4196,     58.5,  16.8083,  35.4839,    254.1,2,    254.3,2,     0.51,2,    -0.10,2,     0.02,2,     0.05,2,    1.544,2,   1.9300,2,   2080.9,2,   2342.7,2,20170115,2241
06M220170104  ,A10.5      ,56      ,  1,56120.0    ,241697.0   ,20         ,2,20170115,2132, -34.5000, -10.3059,     4196,    107.6,  15.4228,  35.4119,    247.2,2,    243.0,2,     0.21,2,     0.31,2,     0.06,2,     0.08,2,    1.585,2,   1.9050,2,   2088.6,2,   2340.1,2,20170115,2240
06M220170104  ,A10.5      ,56      ,  1,56119.0    ,241696.0   ,19         ,2,20170115,2132, -34.5000, -10.3059,     4196,    147.1,  14.6929,  35.3489,    232.8,2,    242.4,3,     0.53,2,     0.33,2,     0.08,2,     0.14,2,    1.559,4,   1.9240,2,   2090.7,2,   2332.9,2,20170115,2239
06M220170104  ,A10.5      ,56      ,  1,56118.0    ,241695.0   ,18         ,2,20170115,2132, -34.5000, -10.3059,     4196,    197.7,  14.1115,  35.3244,    222.7,2,    218.9,3,     1.49,2,     5.62,2,     0.02,2,     0.46,2,    1.664,2,   1.8590,2,     -999,9,     -999,9,20170115,2238
06M220170104  ,A10.5      ,56      ,  1,56117.0    ,241694.0   ,17         ,2,20170115,2132, -34.5000, -10.3059,     4196,    297.0,  12.7053,  35.1571,    211.7,2,    209.3,2,     3.22,2,     9.77,2,     0.02,2,     0.66,2,     -999,9,     -999,9,   2136.7,2,   2312.8,2,20170115,2236
06M220170104  ,A10.5      ,56      ,  1,56116.0    ,241693.0   ,16         ,2,20170115,2132, -34.5000, -10.3059,     4196,    396.7,  11.0154,  34.9394,    210.2,2,    208.4,2,     3.04,2,    10.60,2,     0.00,2,     0.70,2,    1.836,2,   1.5490,2,     -999,9,     -999,9,20170115,2235
06M220170104  ,A10.5      ,56      ,  1,56115.0    ,241692.0   ,15         ,2,20170115,2132, -34.5000, -10.3059,     4196,    586.7,   7.4622,  34.4966,    218.0,2,    216.5,2,     8.89,2,    20.25,2,     0.01,2,     1.42,2,     -999,9,     -999,9,   2163.6,2,   2288.2,2,20170115,2231
06M220170104  ,A10.5      ,56      ,  1,56114.0    ,241691.0   ,14         ,2,20170115,2132, -34.5000, -10.3059,     4196,    768.3,   5.0953,  34.2729,    236.5,2,    235.5,2,    15.46,2,    25.52,2,     0.02,2,     1.58,2,    1.959,2,   1.2310,2,     -999,9,     -999,9,20170115,2228
06M220170104  ,A10.5      ,56      ,  1,56113.0    ,241690.0   ,13         ,2,20170115,2132, -34.5000, -10.3059,     4196,    877.3,   4.4088,  34.2508,    234.4,2,    232.0,2,    20.26,2,    25.40,2,     0.01,2,     1.88,2,     -999,9,     -999,9,   2181.0,2,   2285.0,2,20170115,2227
06M220170104  ,A10.5      ,56      ,  1,56112.0    ,241689.0   ,12         ,2,20170115,2132, -34.5000, -10.3059,     4196,    997.3,   3.8832,  34.2760,    223.4,2,    220.8,2,    28.96,2,    26.76,2,     0.00,2,     1.83,2,    1.375,2,   0.7040,2,     -999,9,     -999,9,20170115,2225
06M220170104  ,A10.5      ,56      ,  1,56111.0    ,241688.0   ,11         ,2,20170115,2132, -34.5000, -10.3059,     4196,   1096.5,   3.5308,  34.3135,    213.4,2,    211.7,2,    34.46,2,    28.92,2,     0.00,2,     2.10,2,     -999,9,     -999,9,   2205.5,2,   2303.8,2,20170115,2223
06M220170104  ,A10.5      ,56      ,  1,56110.0    ,241687.0   ,10         ,2,20170115,2132, -34.5000, -10.3059,     4196,   1294.0,   3.0712,  34.4192,    195.1,2,    192.9,2,    48.02,2,    31.19,2,     0.01,2,     2.28,2,    0.627,2,   0.3000,2,     -999,9,     -999,9,20170115,2220
06M220170104  ,A10.5      ,56      ,  1,56109.0    ,241686.0   ,9          ,2,20170115,2132, -34.5000, -10.3059,     4196,   1496.6,   2.8805,  34.5571,    187.8,2,    185.4,2,    56.15,2,    29.69,2,     0.00,2,     2.13,2,    0.296,2,   0.1470,2,   2234.7,2,   2328.0,2,20170115,2216
06M220170104  ,A10.5      ,56      ,  1,56108.0    ,241685.0   ,8          ,2,20170115,2132, -34.5000, -10.3059,     4196,   1696.8,   2.8221,  34.6669,    193.3,2,     -999,9,     -999,9,     -999,9,     -999,9,     -999,9,     -999,9,     -999,9,     -999,9,     -999,9,20170115,2213
06M220170104  ,A10.5      ,56      ,  1,56107.0    ,241684.0   ,7          ,2,20170115,2132, -34.5000, -10.3059,     4196,   2096.6,   2.7348,  34.7940,    214.7,2,    213.1,2,    45.88,2,    24.06,2,     0.02,2,     1.41,2,     -999,9,     -999,9,   2213.6,2,   2333.1,2,20170115,2207
06M220170104  ,A10.5      ,56      ,  1,56106.0    ,241683.0   ,6          ,2,20170115,2132, -34.5000, -10.3059,     4196,   2498.1,   2.6305,  34.8463,    228.4,2,    226.2,2,    49.43,2,    23.04,2,     0.03,2,     1.65,2,     -999,9,     -999,9,     -999,9,     -999,9,20170115,2200
06M220170104  ,A10.5      ,56      ,  1,56105.0    ,241682.0   ,5          ,2,20170115,2132, -34.5000, -10.3059,     4196,   2897.3,   2.4755,  34.8574,    234.5,2,    232.6,2,    52.02,2,    23.11,2,     0.02,2,     1.40,2,     -999,9,     -999,9,   2204.3,2,   2335.1,2,20170115,2153
06M220170104  ,A10.5      ,56      ,  1,56104.0    ,241681.0   ,4          ,2,20170115,2132, -34.5000, -10.3059,     4196,   3296.9,   2.3147,  34.8550,    236.2,2,    231.2,3,    57.02,2,    22.75,2,     0.02,2,     1.57,2,     -999,9,     -999,9,     -999,9,     -999,9,20170115,2147
06M220170104  ,A10.5      ,56      ,  1,56103.0    ,241680.0   ,3          ,2,20170115,2132, -34.5000, -10.3059,     4196,   3591.6,   2.2480,  34.8552,    234.6,2,    233.1,2,    46.57,3,    23.56,2,     0.01,2,     1.49,2,     -999,9,     -999,9,   2218.5,2,   2345.9,2,20170115,2142
06M220170104  ,A10.5      ,56      ,  1,56101.0    ,241678.0   ,1          ,2,20170115,2132, -34.5000, -10.3059,     4196,   4186.3,   1.8982,  34.8130,    228.1,2,    226.1,2,    71.11,2,    25.34,2,     0.00,2,     1.68,2,     -999,9,     -999,9,   2233.6,2,   2353.6,2,20170115,2132
06M220170104  ,A10.5      ,56      ,  1,56102.0    ,241679.0   ,2          ,2,20170115,2132, -34.5000, -10.3059,     4196,   4186.5,   1.8950,  34.8130,    228.2,2,    225.0,3,    64.22,3,    24.79,2,     0.00,2,     1.62,2,     -999,9,     -999,9,     -999,9,     -999,9,20170115,2132
06M220170104  ,A10.5      ,57      ,  1,57122.0    ,241721.0   ,22         ,2,20170116,0247, -34.4996, -10.9607,     4086,      7.8,  19.5343,  35.4299,    238.0,2,    234.5,2,     1.26,2,     0.03,3,     0.02,2,     0.15,2,    1.407,2,   1.8320,2,   2072.4,2,   2334.7,2,20170116,0356
06M220170104  ,A10.5      ,57      ,  1,57121.0    ,241720.0   ,21         ,2,20170116,0247, -34.4996, -10.9607,     4086,     23.5,  19.1492,  35.4238,    238.4,2,    236.1,2,     1.33,2,     0.06,3,     0.00,2,     0.16,2,    1.440,2,   1.7660,2,   2072.4,2,   2336.4,2,20170116,0356
06M220170104  ,A10.5      ,57      ,  1,57120.0    ,241719.0   ,20         ,2,20170116,0247, -34.4996, -10.9607,     4086,     49.0,  17.8182,  35.4942,    246.9,2,    245.2,2,     1.35,2,     0.09,3,     0.01,2,     0.50,2,    1.584,4,   1.7990,2,   2075.3,2,   2339.7,2,20170116,0355
06M220170104  ,A10.5      ,57      ,  1,57119.0    ,241718.0   ,19         ,2,20170116,0247, -34.4996, -10.9607,     4086,    103.4,  15.1345,  35.3624,    242.0,2,    238.1,2,     2.21,2,     2.29,3,     0.28,2,     0.54,2,    1.644,2,   2.0290,2,   2096.0,2,   2330.0,2,20170116,0353
06M220170104  ,A10.5      ,57      ,  1,57118.0    ,241717.0   ,18         ,2,20170116,0247, -34.4996, -10.9607,     4086,    147.8,  14.4648,  35.3137,    225.4,2,    223.6,2,     2.54,3,     5.60,3,     0.03,3,     0.80,3,    1.709,2,   1.8880,2,     -999,9,     -999,9,20170116,0353
06M220170104  ,A10.5      ,57      ,  1,57117.0    ,241716.0   ,17         ,2,20170116,0247, -34.4996, -10.9607,     4086,    247.9,  13.4605,  35.2580,    219.2,2,    217.8,2,     2.72,2,     7.29,3,     0.01,2,     1.52,2,    1.802,2,   1.7360,2,   2121.0,2,   2323.3,2,20170116,0351
06M220170104  ,A10.5      ,57      ,  1,57116.0    ,241715.0   ,16         ,2,20170116,0247, -34.4996, -10.9607,     4086,    408.3,  11.3199,  34.9802,    213.4,2,    212.4,2,     6.59,3,    16.98,3,     0.01,3,     1.69,3,    1.910,2,   1.5860,2,   2151.0,2,   2309.1,2,20170116,0348
06M220170104  ,A10.5      ,57      ,  1,57115.0    ,241714.0   ,15         ,2,20170116,0247, -34.4996, -10.9607,     4086,    548.6,   8.9913,  34.6758,    211.3,2,    209.4,2,     7.05,3,    15.69,3,     0.01,3,     2.18,3,    1.891,2,   1.4130,2,   2144.0,2,   2295.3,2,20170116,0346
06M220170104  ,A10.5      ,57      ,  1,57114.0    ,241713.0   ,14         ,2,20170116,0247, -34.4996, -10.9607,     4086,    647.2,   7.0902,  34.4582,    218.5,2,    216.2,2,    14.11,3,    29.10,3,     0.01,3,     2.23,3,    1.959,2,   1.2870,2,     -999,9,     -999,9,20170116,0344
06M220170104  ,A10.5      ,57      ,  1,57113.0    ,241712.0   ,13         ,2,20170116,0247, -34.4996, -10.9607,     4086,    765.8,   5.3308,  34.2902,    233.9,2,    232.3,2,    16.80,3,    32.29,3,     0.01,3,     2.25,3,    1.860,3,   1.2450,2,   2163.8,2,   2285.1,2,20170116,0342
06M220170104  ,A10.5      ,57      ,  1,57112.0    ,241711.0   ,12         ,2,20170116,0247, -34.4996, -10.9607,     4086,    826.8,   4.8210,  34.2630,    234.8,2,    232.8,2,    19.37,3,    29.24,3,     0.01,3,     1.54,3,    1.916,2,   1.1610,2,   2182.0,2,   2285.1,2,20170116,0341
06M220170104  ,A10.5      ,57      ,  1,57111.0    ,241710.0   ,11         ,2,20170116,0247, -34.4996, -10.9607,     4086,    897.6,   4.3232,  34.2537,    232.1,2,    230.0,2,    16.96,3,    21.00,3,     0.00,3,     2.60,3,    1.696,2,   0.9840,2,     -999,9,     -999,9,20170116,0340
06M220170104  ,A10.5      ,57      ,  1,57110.0    ,241709.0   ,10         ,2,20170116,0247, -34.4996, -10.9607,     4086,   1037.6,   3.6844,  34.2957,    218.1,2,    212.9,2,    36.94,2,    32.29,3,     0.01,2,     2.33,3,    1.226,2,   0.6420,2,   2200.1,2,   2296.6,2,20170116,0338
06M220170104  ,A10.5      ,57      ,  1,57109.0    ,241708.0   ,9          ,2,20170116,0247, -34.4996, -10.9607,     4086,   1256.5,   3.1846,  34.3999,    199.0,2,    196.6,2,    45.54,3,    29.70,3,     0.00,3,     3.34,3,    0.718,2,   0.3450,2,   2218.1,2,   2311.9,2,20170116,0334
06M220170104  ,A10.5      ,57      ,  1,57108.0    ,241707.0   ,8          ,2,20170116,0247, -34.4996, -10.9607,     4086,   1259.8,   3.1800,  34.4023,    198.9,2,    196.1,2,    63.85,2,    39.15,3,     0.01,2,     3.00,2,    0.701,2,   0.3410,2,     -999,9,     -999,9,20170116,0334
06M220170104  ,A10.5      ,57      ,  1,57107.0    ,241706.0   ,7          ,2,20170116,0247, -34.4996, -10.9607,     4086,   1497.6,   2.9070,  34.5396,    188.1,2,    186.2,2,    64.42,2,    37.16,3,     0.01,2,     2.49,2,    0.299,2,   0.1620,2,   2236.6,2,   2326.3,2,20170116,0330
06M220170104  ,A10.5      ,57      ,  1,57106.0    ,241705.0   ,6          ,2,20170116,0247, -34.4996, -10.9607,     4086,   1736.9,   2.8141,  34.6814,    194.6,2,    193.5,2,    66.32,2,    31.36,3,     0.01,2,     2.35,2,    0.157,2,   0.0430,2,     -999,9,     -999,9,20170116,0326
06M220170104  ,A10.5      ,57      ,  1,57105.0    ,241704.0   ,5          ,2,20170116,0247, -34.4996, -10.9607,     4086,   1997.8,   2.7748,  34.7746,    208.8,2,    206.6,2,    59.33,2,    28.04,3,     0.01,2,     1.76,2,    0.074,2,   0.0000,2,   2227.6,2,   2330.0,2,20170116,0322
06M220170104  ,A10.5      ,57      ,  1,57104.0    ,241703.0   ,4          ,2,20170116,0247, -34.4996, -10.9607,     4086,   2497.8,   2.6026,  34.8444,    228.1,2,    226.0,2,    52.12,2,    23.88,3,     0.01,2,     1.80,2,    0.038,2,   0.0000,2,     -999,9,     -999,9,20170116,0313
06M220170104  ,A10.5      ,57      ,  1,57103.0    ,241702.0   ,3          ,2,20170116,0247, -34.4996, -10.9607,     4086,   2996.3,   2.3767,  34.8565,    235.8,2,    233.8,2,    60.97,2,    26.95,3,     0.01,2,     1.89,2,    0.026,2,   0.0000,2,   2199.7,2,   2336.4,2,20170116,0305
06M220170104  ,A10.5      ,57      ,  1,57102.0    ,241701.0   ,2          ,2,20170116,0247, -34.4996, -10.9607,     4086,   3497.4,   2.2201,  34.8498,    234.7,2,    233.4,2,    66.62,2,    25.82,3,     0.01,2,     1.84,2,    0.021,2,   0.0000,2,   2201.8,2,   2347.9,2,20170116,0256
06M220170104  ,A10.5      ,57      ,  1,57101.0    ,241700.0   ,1          ,2,20170116,0247, -34.4996, -10.9607,     4086,   4076.2,   1.8921,  34.8142,    228.1,2,    227.5,2,    73.08,2,    25.36,3,     0.01,2,     0.03,4,    0.028,2,   0.0000,2,   2228.0,2,   2353.0,2,20170116,0247