BOTTLE,20240228CCHSIOADS
EXPOCODE,SECT_ID,STNNBR,CASTNO,SAMPNO,BIONBR,BTLNBR,BTLNBR_FLAG_W,DATE,TIME,LATITUDE,LONGITUDE,DEPTH,CTDPRS,CTDTMP,CTDSAL,CTDOXY,CTDOXY_FLAG_W,OXYGEN,OXYGEN_FLAG_W,SILCAT,SILCAT_FLAG_W,NITRAT,NITRAT_FLAG_W,NITRIT,NITRIT_FLAG_W,PHSPHT,PHSPHT_FLAG_W,CFC-12,CFC-12_FLAG_W,SF6,SF6_FLAG_W,TCARBN,TCARBN_FLAG_W,ALKALI,ALKALI_FLAG_W,BTL_DATE,BTL_TIME
,,,,,,,,,,,,METERS,DBAR,ITS-90,PSS-78,UMOL/KG,,UMOL/KG,,UMOL/KG,,UMOL/KG,,UMOL/KG,,UMOL/KG,,PMOL/KG,,FMOL/KG,,UMOL/KG,,UMOL/KG,,,
06M220170104  ,A10.5      ,76      ,  1,76122.0    ,241154.0   ,22         ,2,20170120,0643, -34.4999, -23.4033,     3991,      8.0,  21.0765,  35.3996,    229.2,2,    230.6,2,    -0.56,2,     0.06,2,     0.00,2,     0.16,2,     -999,9,     -999,9,   2067.1,2,   2333.4,2,20170120,0748
06M220170104  ,A10.5      ,76      ,  1,76121.0    ,241153.0   ,21         ,2,20170120,0643, -34.4999, -23.4033,     3991,     20.6,  19.6468,  35.4323,    236.4,2,     -999,9,     -999,9,     -999,9,     -999,9,     -999,9,    1.365,2,   1.8670,2,     -999,9,     -999,9,20170120,0748
06M220170104  ,A10.5      ,76      ,  1,76120.0    ,241152.0   ,20         ,2,20170120,0643, -34.4999, -23.4033,     3991,     48.5,  16.6876,  35.5360,    256.0,2,    256.2,2,    -0.61,2,     0.09,2,     0.00,2,     0.21,2,    1.561,2,   2.0520,2,   2074.7,2,   2345.1,2,20170120,0747
06M220170104  ,A10.5      ,76      ,  1,76119.0    ,241151.0   ,19         ,2,20170120,0643, -34.4999, -23.4033,     3991,     72.6,  15.8733,  35.5470,    261.6,2,    262.3,2,    -0.70,2,     0.10,2,     0.01,2,     0.19,2,     -999,9,     -999,9,   2077.1,2,   2346.0,2,20170120,0746
06M220170104  ,A10.5      ,76      ,  1,76118.0    ,241150.0   ,18         ,2,20170120,0643, -34.4999, -23.4033,     3991,     89.9,  15.3407,  35.5674,    239.9,2,    247.7,3,     0.15,2,     2.36,2,     0.24,2,     0.39,2,    1.630,2,   1.9720,2,     -999,9,     -999,9,20170120,0746
06M220170104  ,A10.5      ,76      ,  1,76117.0    ,241149.0   ,17         ,2,20170120,0643, -34.4999, -23.4033,     3991,    196.4,  14.4859,  35.5470,    231.5,2,    232.5,2,     1.02,2,     5.89,2,     0.01,2,     0.57,2,     -999,9,     -999,9,   2117.6,2,   2344.3,2,20170120,0744
06M220170104  ,A10.5      ,76      ,  1,76116.0    ,241148.0   ,16         ,2,20170120,0643, -34.4999, -23.4033,     3991,    297.0,  13.5637,  35.3821,    227.4,2,    225.9,2,     1.70,2,     8.98,2,     0.01,2,     0.75,2,    1.743,2,   0.8190,4,   2123.0,2,   2332.3,2,20170120,0742
06M220170104  ,A10.5      ,76      ,  1,76115.0    ,241147.0   ,15         ,2,20170120,0643, -34.4999, -23.4033,     3991,    497.1,   8.8409,  34.6308,    218.8,2,    220.7,2,     7.02,2,    23.68,3,     0.01,3,     1.70,3,     -999,9,     -999,9,   2155.6,2,   2294.7,2,20170120,0739
06M220170104  ,A10.5      ,76      ,  1,76114.0    ,241146.0   ,14         ,2,20170120,0643, -34.4999, -23.4033,     3991,    747.3,   4.6248,  34.1978,    258.6,2,    258.6,2,    14.76,2,    29.10,2,     0.00,2,     2.07,2,    2.274,2,   1.0000,4,   2162.0,2,   2282.6,2,20170120,0735
06M220170104  ,A10.5      ,76      ,  1,76113.0    ,241145.0   ,13         ,2,20170120,0643, -34.4999, -23.4033,     3991,    896.5,   3.9866,  34.2234,    239.8,2,    275.7,4,    23.09,2,    31.76,2,     0.00,2,     2.24,2,    1.811,2,   1.0910,2,   2191.8,2,   2293.3,2,20170120,0732
06M220170104  ,A10.5      ,76      ,  1,76112.0    ,241144.0   ,12         ,2,20170120,0643, -34.4999, -23.4033,     3991,   1095.9,   3.2818,  34.3056,    213.0,2,    215.0,2,    42.67,3,    37.38,2,     0.00,2,     2.76,3,    1.164,2,   0.6140,2,   2208.7,2,   2303.0,2,20170120,0729
06M220170104  ,A10.5      ,76      ,  1,76111.0    ,241143.0   ,11         ,2,20170120,0643, -34.4999, -23.4033,     3991,   1197.0,   3.1333,  34.3651,    201.4,2,    202.6,2,    46.80,2,    30.41,3,     0.00,3,     2.61,2,     -999,9,     -999,9,     -999,9,     -999,9,20170120,0727
06M220170104  ,A10.5      ,76      ,  1,76110.0    ,241142.0   ,10         ,2,20170120,0643, -34.4999, -23.4033,     3991,   1496.4,   2.8633,  34.5551,    184.8,2,    185.0,2,    62.48,2,    36.51,2,     0.00,2,     -999,9,    0.270,2,   0.1000,2,   2244.8,2,   2324.1,2,20170120,0723
06M220170104  ,A10.5      ,76      ,  1,76109.0    ,241141.0   ,9          ,2,20170120,0643, -34.4999, -23.4033,     3991,   1596.3,   2.8541,  34.6099,    184.4,2,    184.3,2,    65.97,2,    35.30,2,     0.00,2,     2.65,3,    0.185,2,   0.0000,2,   2243.5,2,   2332.6,2,20170120,0721
06M220170104  ,A10.5      ,76      ,  1,76108.0    ,241140.0   ,8          ,2,20170120,0643, -34.4999, -23.4033,     3991,   1696.7,   2.8689,  34.6578,    187.9,2,     -999,9,     -999,9,     -999,9,     -999,9,     -999,9,     -999,9,     -999,9,     -999,9,     -999,9,20170120,0719
06M220170104  ,A10.5      ,76      ,  1,76107.0    ,241139.0   ,7          ,2,20170120,0643, -34.4999, -23.4033,     3991,   1896.8,   2.9188,  34.7516,    201.5,2,    201.6,2,    54.98,2,    26.40,3,     0.00,3,     2.16,2,     -999,9,     -999,9,   2226.3,2,   2333.7,2,20170120,0716
06M220170104  ,A10.5      ,76      ,  1,76106.0    ,241138.0   ,6          ,2,20170120,0643, -34.4999, -23.4033,     3991,   2396.0,   2.8796,  34.8709,    232.9,2,    234.0,2,    43.88,2,    25.84,2,     0.00,2,     1.88,2,     -999,9,     -999,9,   2201.1,2,     -999,9,20170120,0708
06M220170104  ,A10.5      ,76      ,  1,76105.0    ,241137.0   ,5          ,2,20170120,0643, -34.4999, -23.4033,     3991,   2595.0,   2.8113,  34.8855,    239.0,2,    239.6,2,    40.40,2,    24.50,2,     0.00,2,     1.74,2,     -999,9,     -999,9,     -999,9,     -999,9,20170120,0705
06M220170104  ,A10.5      ,76      ,  1,76104.0    ,241136.0   ,4          ,2,20170120,0643, -34.4999, -23.4033,     3991,   2997.1,   2.5667,  34.8831,    242.6,2,    243.0,2,    45.11,2,    24.26,2,     0.00,2,     1.78,2,     -999,9,     -999,9,   2190.4,2,   2333.8,2,20170120,0658
06M220170104  ,A10.5      ,76      ,  1,76103.0    ,241135.0   ,3          ,2,20170120,0643, -34.4999, -23.4033,     3991,   3497.5,   2.0326,  34.8433,    239.8,2,    239.5,2,    65.87,2,    26.64,2,     0.00,2,     2.00,2,     -999,9,     -999,9,   2210.4,2,   2347.2,2,20170120,0650
06M220170104  ,A10.5      ,76      ,  1,76101.0    ,241133.0   ,1          ,2,20170120,0643, -34.4999, -23.4033,     3991,   3949.9,   1.6063,  34.7983,    233.3,2,    233.7,2,    79.00,2,    30.37,3,     0.00,3,     2.23,3,     -999,9,     -999,9,   2220.8,2,   2356.4,2,20170120,0643
06M220170104  ,A10.5      ,76      ,  1,76102.0    ,241134.0   ,2          ,2,20170120,0643, -34.4999, -23.4033,     3991,   3950.1,   1.6061,  34.7983,    233.5,2,    235.5,2,    73.12,3,    28.21,2,     0.00,2,     2.08,2,     -999,9,     -999,9,     -999,9,     -999,9,20170120,0643
06M220170104  ,A10.5      ,77      ,  1,77122.0    ,241176.0   ,22         ,2,20170120,1150, -34.4994, -24.0589,     4072,      8.3,  20.1067,  35.3814,    233.8,2,    235.8,2,    -1.63,2,     0.20,2,     0.00,2,     0.08,2,    1.347,2,   1.8360,2,     -999,9,     -999,9,20170120,1257
06M220170104  ,A10.5      ,77      ,  1,77121.0    ,241175.0   ,21         ,2,20170120,1150, -34.4994, -24.0589,     4072,     28.5,  17.9562,  35.5121,    246.8,2,     -999,9,     -999,9,     -999,9,     -999,9,     -999,9,     -999,9,     -999,9,     -999,9,     -999,9,20170120,1256
06M220170104  ,A10.5      ,77      ,  1,77120.0    ,241174.0   ,20         ,2,20170120,1150, -34.4994, -24.0589,     4072,     68.6,  15.5310,  35.5521,    248.7,2,    250.6,2,     0.29,2,     6.27,3,     0.03,2,     0.47,2,    1.523,2,   1.9540,2,     -999,9,     -999,9,20170120,1255
06M220170104  ,A10.5      ,77      ,  1,77119.0    ,241173.0   ,19         ,2,20170120,1150, -34.4994, -24.0589,     4072,    193.3,  14.5924,  35.5758,    228.6,2,    229.5,2,     0.34,2,     6.26,2,     0.02,2,     0.46,2,    1.557,2,   1.8530,2,     -999,9,     -999,9,20170120,1252
06M220170104  ,A10.5      ,77      ,  1,77118.0    ,241172.0   ,18         ,2,20170120,1150, -34.4994, -24.0589,     4072,    326.9,  12.9433,  35.2576,    218.5,2,    219.6,2,     1.40,2,    10.42,2,     0.01,2,     0.73,2,    1.712,2,   1.7980,2,     -999,9,     -999,9,20170120,1250
06M220170104  ,A10.5      ,77      ,  1,77117.0    ,241171.0   ,17         ,2,20170120,1150, -34.4994, -24.0589,     4072,    448.0,   9.9125,  34.7775,    213.4,2,    214.1,2,     4.74,2,    19.58,2,     0.01,2,     1.28,2,    1.857,2,   1.5980,2,     -999,9,     -999,9,20170120,1248
06M220170104  ,A10.5      ,77      ,  1,77116.0    ,241170.0   ,16         ,2,20170120,1150, -34.4994, -24.0589,     4072,    596.8,   6.7703,  34.4089,    227.4,2,    228.0,2,     9.44,2,    25.23,2,     0.01,2,     1.62,2,    1.615,4,   1.1660,2,     -999,9,     -999,9,20170120,1246
06M220170104  ,A10.5      ,77      ,  1,77115.0    ,241169.0   ,15         ,2,20170120,1150, -34.4994, -24.0589,     4072,    733.3,   4.8018,  34.2152,    252.4,2,    252.6,2,    13.98,2,    28.72,2,     0.01,2,     1.85,2,    2.084,2,   1.5760,2,     -999,9,     -999,9,20170120,1243
06M220170104  ,A10.5      ,77      ,  1,77114.0    ,241168.0   ,14         ,2,20170120,1150, -34.4994, -24.0589,     4072,    897.9,   3.9260,  34.2347,    235.2,2,    236.3,2,    25.70,2,    31.99,2,     0.01,2,     2.06,2,    1.645,2,   1.0330,2,     -999,9,     -999,9,20170120,1241
06M220170104  ,A10.5      ,77      ,  1,77113.0    ,241167.0   ,13         ,2,20170120,1150, -34.4994, -24.0589,     4072,   1198.1,   3.1361,  34.3691,    200.9,2,    201.6,2,    48.91,2,    35.65,2,     0.01,2,     2.28,2,     -999,9,     -999,9,     -999,9,     -999,9,20170120,1236
06M220170104  ,A10.5      ,77      ,  1,77112.0    ,241166.0   ,12         ,2,20170120,1150, -34.4994, -24.0589,     4072,   1576.9,   2.8522,  34.5965,    184.8,2,    185.7,2,    63.57,2,    34.27,2,     0.01,2,     2.24,2,    0.206,2,   0.0000,2,     -999,9,     -999,9,20170120,1230
06M220170104  ,A10.5      ,77      ,  1,77111.0    ,241165.0   ,11         ,2,20170120,1150, -34.4994, -24.0589,     4072,   1897.2,   2.9144,  34.7574,    203.1,2,    203.3,2,    57.47,2,    29.94,2,     0.01,2,     1.95,2,    0.083,2,   0.0000,2,     -999,9,     -999,9,20170120,1225
06M220170104  ,A10.5      ,77      ,  1,77110.0    ,241164.0   ,10         ,2,20170120,1150, -34.4994, -24.0589,     4072,   2097.1,   2.9121,  34.8183,    217.2,2,     -999,9,     -999,9,     -999,9,     -999,9,     -999,9,     -999,9,     -999,9,     -999,9,     -999,9,20170120,1222
06M220170104  ,A10.5      ,77      ,  1,77109.0    ,241163.0   ,9          ,2,20170120,1150, -34.4994, -24.0589,     4072,   2397.2,   2.8591,  34.8694,    232.9,2,    234.4,2,    42.98,2,    24.57,3,     0.01,2,     1.55,2,    0.048,2,   0.0000,2,     -999,9,     -999,9,20170120,1217
06M220170104  ,A10.5      ,77      ,  1,77108.0    ,241162.0   ,8          ,2,20170120,1150, -34.4994, -24.0589,     4072,   2400.9,   2.8559,  34.8700,    233.2,2,    233.8,2,    44.74,2,    25.73,2,     0.01,2,     1.62,2,    0.036,2,   0.0000,2,     -999,9,     -999,9,20170120,1217
06M220170104  ,A10.5      ,77      ,  1,77107.0    ,241161.0   ,7          ,2,20170120,1150, -34.4994, -24.0589,     4072,   2697.3,   2.7452,  34.8857,    239.9,2,    240.9,2,    45.24,2,    24.91,2,     0.01,2,     1.62,2,    0.038,2,   0.0000,2,     -999,9,     -999,9,20170120,1212
06M220170104  ,A10.5      ,77      ,  1,77106.0    ,241160.0   ,6          ,2,20170120,1150, -34.4994, -24.0589,     4072,   2981.6,   2.5905,  34.8839,    242.3,2,    243.3,2,    49.27,2,    24.98,2,     0.01,2,     1.60,2,    0.020,2,   0.0000,2,     -999,9,     -999,9,20170120,1208
06M220170104  ,A10.5      ,77      ,  1,77105.0    ,241159.0   ,5          ,2,20170120,1150, -34.4994, -24.0589,     4072,   3297.2,   2.2783,  34.8599,    239.8,2,    241.1,2,    50.94,2,    22.86,3,     0.02,2,     1.52,2,    0.025,2,   0.0000,2,     -999,9,     -999,9,20170120,1202
06M220170104  ,A10.5      ,77      ,  1,77104.0    ,241158.0   ,4          ,2,20170120,1150, -34.4994, -24.0589,     4072,   3597.8,   1.8664,  34.8214,    234.8,2,    236.1,2,    68.67,2,    26.99,2,     0.01,2,     1.71,2,    0.049,2,   0.1020,2,     -999,9,     -999,9,20170120,1158
06M220170104  ,A10.5      ,77      ,  1,77103.0    ,241157.0   ,3          ,2,20170120,1150, -34.4994, -24.0589,     4072,   3871.9,   1.6619,  34.8016,    232.7,2,    233.1,2,    90.69,2,    30.05,2,     0.01,2,     2.11,2,    0.040,2,   0.1090,2,     -999,9,     -999,9,20170120,1153
06M220170104  ,A10.5      ,77      ,  1,77102.0    ,241156.0   ,2          ,2,20170120,1150, -34.4994, -24.0589,     4072,   4061.6,   1.4977,  34.7847,    230.6,2,    231.3,2,    93.69,2,    30.85,3,     0.01,2,     2.05,2,    0.051,2,   0.0620,2,     -999,9,     -999,9,20170120,1150
06M220170104  ,A10.5      ,77      ,  1,77101.0    ,241155.0   ,1          ,2,20170120,1150, -34.4994, -24.0589,     4072,   4061.7,   1.4959,  34.7845,    230.6,2,    231.7,2,    89.87,2,    32.91,2,     0.01,2,     2.12,2,    0.069,2,   0.0830,2,     -999,9,     -999,9,20170120,1150
06M220170104  ,A10.5      ,78      ,  1,78122.0    ,241198.0   ,22         ,2,20170120,1659, -34.4998, -24.7140,     4302,      8.4,  20.7226,  35.4136,    231.4,2,    232.5,2,    -0.50,3,     0.08,2,     0.00,3,     0.11,3,    1.329,2,   1.7840,2,   2069.5,2,   2330.5,2,20170120,1806
06M220170104  ,A10.5      ,78      ,  1,78121.0    ,241197.0   ,21         ,2,20170120,1659, -34.4998, -24.7140,     4302,     22.1,  19.9741,  35.4515,    235.3,2,     -999,9,     -999,9,     -999,9,     -999,9,     -999,9,     -999,9,     -999,9,     -999,9,     -999,9,20170120,1805
06M220170104  ,A10.5      ,78      ,  1,78120.0    ,241196.0   ,20         ,2,20170120,1659, -34.4998, -24.7140,     4302,     44.8,  18.1449,  35.5312,    245.8,2,    246.7,2,    -0.31,3,     0.04,2,     0.01,3,     0.14,3,    1.443,2,   1.9730,2,   2077.5,2,   2338.4,2,20170120,1805
06M220170104  ,A10.5      ,78      ,  1,78119.0    ,241195.0   ,19         ,2,20170120,1659, -34.4998, -24.7140,     4302,     81.9,  16.1220,  35.5931,    252.3,2,    250.1,2,    -0.24,3,     0.56,2,     0.05,3,     0.22,3,     -999,9,     -999,9,   2091.4,2,   2343.4,2,20170120,1803
06M220170104  ,A10.5      ,78      ,  1,78118.0    ,241194.0   ,18         ,2,20170120,1659, -34.4998, -24.7140,     4302,     98.0,  15.3785,  35.5966,    234.3,2,    235.5,2,    -0.48,3,     1.11,2,     0.11,3,     0.18,3,     -999,9,     -999,9,     -999,9,     -999,9,20170120,1803
06M220170104  ,A10.5      ,78      ,  1,78117.0    ,241193.0   ,17         ,2,20170120,1659, -34.4998, -24.7140,     4302,    148.5,  14.8990,  35.5925,    228.6,2,    229.0,2,     0.52,3,     5.00,2,     0.01,3,     0.48,3,    1.593,2,   1.9400,2,   2117.1,2,   2342.3,2,20170120,1802
06M220170104  ,A10.5      ,78      ,  1,78116.0    ,241192.0   ,16         ,2,20170120,1659, -34.4998, -24.7140,     4302,    188.5,  14.6348,  35.5605,    228.3,2,    229.2,2,     0.82,3,     5.35,2,     0.01,3,     0.50,3,     -999,9,     -999,9,   2119.6,2,   2341.4,2,20170120,1801
06M220170104  ,A10.5      ,78      ,  1,78115.0    ,241191.0   ,15         ,2,20170120,1659, -34.4998, -24.7140,     4302,    295.3,  13.3285,  35.3206,    217.2,2,    217.6,2,     1.97,3,     9.92,2,     0.01,3,     0.67,3,    1.756,2,   1.7800,2,   2136.1,2,   2330.4,2,20170120,1759
06M220170104  ,A10.5      ,78      ,  1,78114.0    ,241190.0   ,14         ,2,20170120,1659, -34.4998, -24.7140,     4302,    395.8,  11.3971,  34.9969,    210.0,2,    211.6,2,     3.95,3,    16.01,2,     0.01,3,     1.18,3,     -999,9,     -999,9,   2145.5,2,   2307.8,2,20170120,1758
06M220170104  ,A10.5      ,78      ,  1,78113.0    ,241189.0   ,13         ,2,20170120,1659, -34.4998, -24.7140,     4302,    495.2,   8.9651,  34.6635,    213.5,2,    215.1,2,     2.76,3,     9.99,3,     0.00,3,     1.03,3,    1.968,2,   1.5560,2,     -999,9,     -999,9,20170120,1756
06M220170104  ,A10.5      ,78      ,  1,78112.0    ,241188.0   ,12         ,2,20170120,1659, -34.4998, -24.7140,     4302,    597.3,   6.7659,  34.4110,    226.6,2,    228.3,2,    10.17,3,    25.22,2,     0.01,3,     1.77,3,    2.040,2,   1.4750,2,   2168.5,2,   2286.6,2,20170120,1754
06M220170104  ,A10.5      ,78      ,  1,78111.0    ,241187.0   ,11         ,2,20170120,1659, -34.4998, -24.7140,     4302,    797.7,   4.3595,  34.2045,    250.2,2,    251.5,2,    11.71,3,    19.76,3,     0.00,3,     1.61,3,    2.116,2,   1.5550,2,   2175.8,2,   2280.3,2,20170120,1751
06M220170104  ,A10.5      ,78      ,  1,78110.0    ,241186.0   ,10         ,2,20170120,1659, -34.4998, -24.7140,     4302,    997.0,   3.7664,  34.2764,    223.0,2,     -999,9,     -999,9,     -999,9,     -999,9,     -999,9,     -999,9,     -999,9,     -999,9,     -999,9,20170120,1748
06M220170104  ,A10.5      ,78      ,  1,78109.0    ,241185.0   ,9          ,2,20170120,1659, -34.4998, -24.7140,     4302,   1497.1,   2.8643,  34.5545,    185.2,2,    202.7,4,    44.82,3,    30.12,3,     0.00,3,     1.83,3,    0.704,4,   0.5390,4,   2218.7,2,   2322.9,2,20170120,1739
06M220170104  ,A10.5      ,78      ,  1,78108.0    ,241184.0   ,8          ,2,20170120,1659, -34.4998, -24.7140,     4302,   1745.3,   2.8640,  34.6876,    193.7,2,     -999,9,     -999,9,     -999,9,     -999,9,     -999,9,     -999,9,     -999,9,     -999,9,     -999,9,20170120,1735
06M220170104  ,A10.5      ,78      ,  1,78107.0    ,241183.0   ,7          ,2,20170120,1659, -34.4998, -24.7140,     4302,   1997.3,   2.9148,  34.7870,    210.1,2,    210.8,2,    53.69,3,    31.80,3,     0.00,3,     2.26,3,    0.064,2,   0.0000,2,   2221.1,2,   2330.8,2,20170120,1731
06M220170104  ,A10.5      ,78      ,  1,78106.0    ,241182.0   ,6          ,2,20170120,1659, -34.4998, -24.7140,     4302,   2496.9,   2.8559,  34.8756,    234.9,2,    236.2,2,    26.26,3,    17.29,3,     0.01,3,     1.36,3,     -999,9,     -999,9,   2200.5,2,   2328.1,2,20170120,1723
06M220170104  ,A10.5      ,78      ,  1,78105.0    ,241181.0   ,5          ,2,20170120,1659, -34.4998, -24.7140,     4302,   2746.4,   2.7661,  34.8878,    240.5,2,    242.1,2,    40.09,3,    24.30,2,     0.00,3,     1.57,3,     -999,9,     -999,9,     -999,9,     -999,9,20170120,1719
06M220170104  ,A10.5      ,78      ,  1,78104.0    ,241180.0   ,4          ,2,20170120,1659, -34.4998, -24.7140,     4302,   3039.2,   2.5671,  34.8834,    242.4,2,    243.8,2,    41.19,3,    21.79,3,     0.00,3,     1.57,3,     -999,9,     -999,9,   2200.2,2,   2331.8,2,20170120,1715
06M220170104  ,A10.5      ,78      ,  1,78103.0    ,241179.0   ,3          ,2,20170120,1659, -34.4998, -24.7140,     4302,   3497.2,   2.0316,  34.8403,    238.4,2,    239.9,2,    59.75,3,    25.27,2,     0.00,3,     1.75,3,     -999,9,     -999,9,   2214.2,2,   2342.5,2,20170120,1707
06M220170104  ,A10.5      ,78      ,  1,78102.0    ,241178.0   ,2          ,2,20170120,1659, -34.4998, -24.7140,     4302,   4027.5,   1.5984,  34.7949,    232.1,2,    233.1,2,    76.43,3,    28.07,2,     0.00,3,     1.97,3,     -999,9,     -999,9,     -999,9,     -999,9,20170120,1659
06M220170104  ,A10.5      ,78      ,  1,78101.0    ,241177.0   ,1          ,2,20170120,1659, -34.4998, -24.7140,     4302,   4028.0,   1.5933,  34.7943,    232.1,2,    233.3,2,    77.62,3,    28.08,2,     0.00,3,     1.96,3,     -999,9,     -999,9,   2230.5,2,   2352.7,2,20170120,1659