BOTTLE,20240228CCHSIOADS
EXPOCODE,SECT_ID,STNNBR,CASTNO,SAMPNO,BIONBR,BTLNBR,BTLNBR_FLAG_W,DATE,TIME,LATITUDE,LONGITUDE,DEPTH,CTDPRS,CTDTMP,CTDSAL,CTDOXY,CTDOXY_FLAG_W,OXYGEN,OXYGEN_FLAG_W,SILCAT,SILCAT_FLAG_W,NITRAT,NITRAT_FLAG_W,NITRIT,NITRIT_FLAG_W,PHSPHT,PHSPHT_FLAG_W,CFC-12,CFC-12_FLAG_W,SF6,SF6_FLAG_W,TCARBN,TCARBN_FLAG_W,ALKALI,ALKALI_FLAG_W,BTL_DATE,BTL_TIME
,,,,,,,,,,,,METERS,DBAR,ITS-90,PSS-78,UMOL/KG,,UMOL/KG,,UMOL/KG,,UMOL/KG,,UMOL/KG,,UMOL/KG,,PMOL/KG,,FMOL/KG,,UMOL/KG,,UMOL/KG,,,
06M220170104  ,A10.5      ,27      ,  1,27122.0    ,240594.0   ,22         ,2,20170109,1414, -34.4991,   6.7212,     5439,      7.7,  19.2863,  35.0825,    239.4,2,    243.3,2,     1.66,2,     0.21,2,     0.01,2,     0.15,3,    1.347,2,   1.8100,2,   2053.6,2,   2310.9,2,20170109,1546
06M220170104  ,A10.5      ,27      ,  1,27121.0    ,240593.0   ,21         ,2,20170109,1414, -34.4991,   6.7212,     5439,     61.3,  14.9510,  35.1655,    260.1,2,    258.0,2,     1.02,2,     0.76,2,     0.16,2,     0.27,3,    1.559,2,   1.9700,2,   2087.0,2,   2324.6,2,20170109,1544
06M220170104  ,A10.5      ,27      ,  1,27120.0    ,240592.0   ,20         ,2,20170109,1414, -34.4991,   6.7212,     5439,     98.4,  14.1572,  35.1100,    244.5,2,    246.8,2,     0.83,2,     3.20,2,     0.16,2,     0.34,3,     -999,9,     -999,9,   2101.5,2,   2319.6,2,20170109,1543
06M220170104  ,A10.5      ,27      ,  1,27119.0    ,240591.0   ,19         ,2,20170109,1414, -34.4991,   6.7212,     5439,    228.0,  12.9363,  35.1402,    211.6,2,    219.0,4,     1.46,2,     4.56,2,     0.22,2,     0.47,3,    1.646,2,   1.6600,2,   2133.6,2,   2318.6,2,20170109,1541
06M220170104  ,A10.5      ,27      ,  1,27118.0    ,240590.0   ,18         ,2,20170109,1414, -34.4991,   6.7212,     5439,    358.2,  11.1536,  34.9392,    213.2,2,    213.4,2,     6.02,2,    18.14,2,     0.01,2,     1.26,3,    1.757,2,   1.6140,2,   2129.7,2,   2308.5,2,20170109,1539
06M220170104  ,A10.5      ,27      ,  1,27117.0    ,240589.0   ,17         ,2,20170109,1414, -34.4991,   6.7212,     5439,    431.1,   9.7888,  34.7654,    213.8,2,    220.0,4,     7.32,2,    22.21,2,     0.02,2,     1.49,3,    1.800,2,   1.4520,2,     -999,9,     -999,9,20170109,1537
06M220170104  ,A10.5      ,27      ,  1,27116.0    ,240588.0   ,16         ,2,20170109,1414, -34.4991,   6.7212,     5439,    560.7,   7.3737,  34.4817,    218.7,2,    220.8,2,    10.21,2,    27.20,2,     0.00,2,     1.66,3,    1.857,2,   1.3230,2,   2170.5,2,   2289.9,2,20170109,1535
06M220170104  ,A10.5      ,27      ,  1,27115.0    ,240587.0   ,15         ,2,20170109,1414, -34.4991,   6.7212,     5439,    640.0,   5.9721,  34.3427,    228.1,2,    228.8,2,    18.02,2,    35.72,2,     0.01,2,     2.82,3,    1.905,2,   1.4200,2,     -999,9,     -999,9,20170109,1534
06M220170104  ,A10.5      ,27      ,  1,27114.0    ,240586.0   ,14         ,2,20170109,1414, -34.4991,   6.7212,     5439,    730.9,   5.1085,  34.2868,    229.7,2,    231.3,2,    23.90,2,    37.82,2,     0.02,2,     3.33,3,    1.766,2,   1.1860,2,   2163.4,2,   2290.7,2,20170109,1532
06M220170104  ,A10.5      ,27      ,  1,27113.0    ,240585.0   ,13         ,2,20170109,1414, -34.4991,   6.7212,     5439,    823.8,   4.2701,  34.2446,    233.0,2,    233.5,2,    28.21,2,    37.70,2,     0.01,2,     2.69,3,    1.660,2,   0.9920,2,   2184.4,2,   2287.0,2,20170109,1531
06M220170104  ,A10.5      ,27      ,  1,27112.0    ,240584.0   ,12         ,2,20170109,1414, -34.4991,   6.7212,     5439,   1027.2,   3.6706,  34.3543,    202.1,2,    204.0,2,    46.52,2,    38.60,2,     0.01,2,     2.67,3,    0.925,2,   0.4640,2,   2197.1,2,   2308.1,2,20170109,1527
06M220170104  ,A10.5      ,27      ,  1,27111.0    ,240583.0   ,11         ,2,20170109,1414, -34.4991,   6.7212,     5439,   1187.6,   3.2918,  34.4472,    187.0,2,    189.9,2,    59.98,2,    40.80,2,     0.01,2,     3.02,3,    0.539,2,   0.1720,2,   2227.5,2,   2318.9,2,20170109,1525
06M220170104  ,A10.5      ,27      ,  1,27110.0    ,240582.0   ,10         ,2,20170109,1414, -34.4991,   6.7212,     5439,   1411.9,   3.0996,  34.5786,    180.9,2,    182.2,2,    58.94,2,    35.99,2,     0.00,2,     2.44,3,    0.220,2,   0.0520,2,   2236.3,2,   2329.7,2,20170109,1521
06M220170104  ,A10.5      ,27      ,  1,27109.0    ,240581.0   ,9          ,2,20170109,1414, -34.4991,   6.7212,     5439,   1751.3,   3.0030,  34.7411,    197.4,2,    199.3,2,    51.39,2,    31.40,2,     0.00,2,     1.71,3,     -999,9,     -999,9,   2203.4,3,   2332.6,2,20170109,1515
06M220170104  ,A10.5      ,27      ,  1,27108.0    ,240580.0   ,8          ,2,20170109,1414, -34.4991,   6.7212,     5439,   2107.9,   2.8906,  34.8168,    213.7,2,    215.8,2,    50.44,2,    30.41,2,     0.00,2,     1.95,3,     -999,9,     -999,9,   2214.8,2,   2333.9,2,20170109,1509
06M220170104  ,A10.5      ,27      ,  1,27107.0    ,240579.0   ,7          ,2,20170109,1414, -34.4991,   6.7212,     5439,   2527.7,   2.6332,  34.8417,    224.0,2,    226.4,2,    62.87,3,    32.28,2,     0.00,2,     2.45,3,     -999,9,     -999,9,     -999,9,     -999,9,20170109,1502
06M220170104  ,A10.5      ,27      ,  1,27106.0    ,240578.0   ,6          ,2,20170109,1414, -34.4991,   6.7212,     5439,   2998.8,   2.4347,  34.8526,    230.1,2,    232.8,2,    63.61,3,    30.88,2,     0.01,2,     2.37,3,     -999,9,     -999,9,   2212.0,2,   2343.1,2,20170109,1454
06M220170104  ,A10.5      ,27      ,  1,27105.0    ,240577.0   ,5          ,2,20170109,1414, -34.4991,   6.7212,     5439,   3467.3,   2.2751,  34.8482,    230.5,2,    231.7,2,    74.97,3,    31.37,2,     0.01,2,     2.91,3,     -999,9,     -999,9,   2210.7,2,   2348.1,2,20170109,1446
06M220170104  ,A10.5      ,27      ,  1,27104.0    ,240576.0   ,4          ,2,20170109,1414, -34.4991,   6.7212,     5439,   3798.7,   2.1133,  34.8357,    228.7,2,    230.8,2,    65.46,2,    28.71,2,     0.00,2,     1.83,3,     -999,9,     -999,9,     -999,9,     -999,9,20170109,1441
06M220170104  ,A10.5      ,27      ,  1,27103.0    ,240575.0   ,3          ,2,20170109,1414, -34.4991,   6.7212,     5439,   4695.6,   1.2185,  34.7418,    219.1,2,    220.0,2,     -999,9,     -999,9,     -999,9,     -999,9,     -999,9,     -999,9,   2238.6,2,   2368.3,2,20170109,1426
06M220170104  ,A10.5      ,27      ,  1,27102.0    ,240574.0   ,2          ,2,20170109,1414, -34.4991,   6.7212,     5439,   5428.7,   1.1886,  34.7301,    218.7,2,    219.7,2,   124.68,2,    37.86,2,     0.01,2,     3.01,3,     -999,9,     -999,9,     -999,9,     -999,9,20170109,1414
06M220170104  ,A10.5      ,27      ,  1,27101.0    ,240573.0   ,1          ,2,20170109,1414, -34.4991,   6.7212,     5439,   5429.4,   1.1888,  34.7299,    218.4,2,    218.5,2,   123.53,2,    37.69,2,     0.03,2,     2.99,3,     -999,9,     -999,9,   2241.1,2,   2370.0,2,20170109,1414
06M220170104  ,A10.5      ,28      ,  1,28122.0    ,240616.0   ,22         ,2,20170109,2032, -34.4997,   6.0664,     5360,      6.7,  19.4105,  35.6453,    236.9,2,    238.9,2,     0.80,2,    -0.14,2,     0.01,2,     0.06,2,    1.265,2,   1.6810,2,   2076.9,2,   2348.6,2,20170109,2205
06M220170104  ,A10.5      ,28      ,  1,28121.0    ,240615.0   ,21         ,2,20170109,2032, -34.4997,   6.0664,     5360,     23.8,  19.3696,  35.7247,    236.9,2,    238.8,2,     0.98,2,    -0.13,2,     0.01,2,     0.07,2,    1.314,2,   1.8110,2,   2082.2,2,   2350.6,2,20170109,2204
06M220170104  ,A10.5      ,28      ,  1,28120.0    ,240614.0   ,20         ,2,20170109,2032, -34.4997,   6.0664,     5360,     88.3,  16.5761,  35.5872,    236.7,2,    237.4,2,     1.45,2,     1.02,2,     0.13,2,     0.17,2,    1.420,2,   1.8020,2,   2094.5,2,   2339.4,2,20170109,2202
06M220170104  ,A10.5      ,28      ,  1,28119.0    ,240613.0   ,19         ,2,20170109,2032, -34.4997,   6.0664,     5360,    127.2,  15.7863,  35.4612,    234.5,2,    233.9,2,     1.26,2,     1.95,2,     0.04,2,     0.26,2,    1.469,2,   1.9140,2,     -999,9,     -999,9,20170109,2201
06M220170104  ,A10.5      ,28      ,  1,28118.0    ,240612.0   ,18         ,2,20170109,2032, -34.4997,   6.0664,     5360,    228.3,  13.4709,  35.1681,    225.8,2,    228.4,2,     1.65,2,     5.88,2,     0.01,2,     0.48,2,     -999,9,     -999,9,   2117.0,2,   2316.7,2,20170109,2200
06M220170104  ,A10.5      ,28      ,  1,28117.0    ,240611.0   ,17         ,2,20170109,2032, -34.4997,   6.0664,     5360,    296.3,  12.9167,  35.1704,    219.8,2,    223.4,2,     2.25,2,     8.12,2,     0.02,2,     0.62,2,    1.626,2,   1.8040,2,   2132.6,2,   2317.8,2,20170109,2159
06M220170104  ,A10.5      ,28      ,  1,28116.0    ,240610.0   ,16         ,2,20170109,2032, -34.4997,   6.0664,     5360,    397.5,  11.2483,  34.9519,    213.6,2,    215.4,2,     4.60,2,    12.69,2,     0.01,2,     1.00,2,    1.696,2,   1.4730,2,   2146.9,2,   2302.2,2,20170109,2157
06M220170104  ,A10.5      ,28      ,  1,28115.0    ,240609.0   ,15         ,2,20170109,2032, -34.4997,   6.0664,     5360,    535.6,   8.8608,  34.6611,    197.7,2,     -999,9,     -999,9,     -999,9,     -999,9,     -999,9,     -999,9,     -999,9,     -999,9,     -999,9,20170109,2155
06M220170104  ,A10.5      ,28      ,  1,28114.0    ,240608.0   ,14         ,2,20170109,2032, -34.4997,   6.0664,     5360,    701.5,   5.8292,  34.3388,    225.7,2,    229.4,2,    13.80,2,    23.09,2,     0.01,2,     1.46,2,    1.835,2,   1.2360,2,   2177.0,2,   2284.3,2,20170109,2152
06M220170104  ,A10.5      ,28      ,  1,28113.0    ,240607.0   ,13         ,2,20170109,2032, -34.4997,   6.0664,     5360,    848.8,   4.4090,  34.2529,    232.0,2,    234.9,2,    20.42,2,    25.10,2,     0.00,2,     1.90,2,    1.675,2,   1.0340,2,   2184.0,2,   2286.1,2,20170109,2149
06M220170104  ,A10.5      ,28      ,  1,28112.0    ,240606.0   ,12         ,2,20170109,2032, -34.4997,   6.0664,     5360,    997.3,   4.1119,  34.3461,    203.0,2,    204.9,2,    33.45,2,    28.17,2,     0.00,2,     2.12,2,    1.069,2,   0.5880,2,   2212.2,2,   2298.7,2,20170109,2147
06M220170104  ,A10.5      ,28      ,  1,28111.0    ,240605.0   ,11         ,2,20170109,2032, -34.4997,   6.0664,     5360,   1396.2,   3.0920,  34.5564,    180.8,2,    184.4,2,    56.13,2,    29.24,2,     0.01,2,     2.26,2,    0.257,2,   0.1150,2,   2241.4,2,   2325.4,2,20170109,2140
06M220170104  ,A10.5      ,28      ,  1,28110.0    ,240604.0   ,10         ,2,20170109,2032, -34.4997,   6.0664,     5360,   1746.7,   3.0436,  34.7319,    195.3,2,    199.2,3,    48.39,2,    25.24,2,     0.01,2,     1.94,2,    0.061,2,   0.0000,2,   2228.6,2,   2328.2,2,20170109,2135
06M220170104  ,A10.5      ,28      ,  1,28109.0    ,240603.0   ,9          ,2,20170109,2032, -34.4997,   6.0664,     5360,   2097.5,   2.9831,  34.8355,    217.1,2,    225.3,4,    43.73,2,    22.77,2,     0.00,2,     1.60,2,    0.024,2,   0.0000,2,     -999,9,     -999,9,20170109,2126
06M220170104  ,A10.5      ,28      ,  1,28108.0    ,240602.0   ,8          ,2,20170109,2032, -34.4997,   6.0664,     5360,   2519.4,   2.6172,  34.8381,    223.2,2,    228.3,3,    46.48,2,    22.44,2,     0.00,2,     1.54,2,    0.017,2,   0.0000,2,   2214.9,2,   2335.4,2,20170109,2119
06M220170104  ,A10.5      ,28      ,  1,28107.0    ,240601.0   ,7          ,2,20170109,2032, -34.4997,   6.0664,     5360,   2998.7,   2.4339,  34.8515,    229.8,2,    234.0,2,    51.75,2,    21.51,2,     0.01,2,     1.48,2,    0.018,2,   0.0000,2,   2214.9,2,   2339.7,2,20170109,2111
06M220170104  ,A10.5      ,28      ,  1,28106.0    ,240600.0   ,6          ,2,20170109,2032, -34.4997,   6.0664,     5360,   3347.2,   2.3215,  34.8516,    231.1,2,    252.0,4,    52.04,2,    21.69,2,     0.00,2,     1.53,2,    0.014,2,   0.0000,2,     -999,9,     -999,9,20170109,2105
06M220170104  ,A10.5      ,28      ,  1,28105.0    ,240599.0   ,5          ,2,20170109,2032, -34.4997,   6.0664,     5360,   3693.9,   2.2048,  34.8462,    230.7,2,    234.3,2,    58.40,2,    22.35,2,     0.00,2,     1.64,2,    0.014,2,   0.0000,2,   2228.8,2,   2352.5,2,20170109,2059
06M220170104  ,A10.5      ,28      ,  1,28104.0    ,240598.0   ,4          ,2,20170109,2032, -34.4997,   6.0664,     5360,   4198.0,   1.6036,  34.7819,    222.2,2,    226.0,2,    79.37,2,    24.10,2,     0.02,2,     1.66,2,    0.026,2,   0.0000,2,   2249.6,2,   2362.0,2,20170109,2051
06M220170104  ,A10.5      ,28      ,  1,28103.0    ,240597.0   ,3          ,2,20170109,2032, -34.4997,   6.0664,     5360,   4696.0,   1.2044,  34.7406,    218.9,2,    220.4,2,    98.79,2,    27.47,2,     0.00,2,     2.00,2,    0.072,2,   0.0000,2,   2258.5,2,   2382.4,3,20170109,2043
06M220170104  ,A10.5      ,28      ,  1,28101.0    ,240595.0   ,1          ,2,20170109,2032, -34.4997,   6.0664,     5360,   5348.8,   1.1723,  34.7298,    218.4,2,    219.8,2,    98.16,3,    25.12,2,     0.01,2,     1.90,2,    0.079,2,   0.0000,2,     -999,9,     -999,9,20170109,2032
06M220170104  ,A10.5      ,28      ,  1,28102.0    ,240596.0   ,2          ,2,20170109,2032, -34.4997,   6.0664,     5360,   5349.8,   1.1721,  34.7297,    218.4,2,    218.0,2,    69.43,3,    22.93,3,     0.01,3,     1.64,3,    0.067,2,   0.0000,2,   2264.8,2,   2372.7,2,20170109,2032
06M220170104  ,A10.5      ,29      ,  1,29122.0    ,240638.0   ,22         ,2,20170110,0241, -34.4997,   5.4129,     5295,      8.0,  18.8542,  35.2098,    239.4,2,    240.4,2,     1.30,2,     0.01,2,     0.01,2,     0.20,3,    1.302,2,   1.7200,2,   2068.0,2,   2327.1,2,20170110,0411
06M220170104  ,A10.5      ,29      ,  1,29121.0    ,240637.0   ,21         ,2,20170110,0241, -34.4997,   5.4129,     5295,     23.4,  18.8572,  35.2211,    239.1,2,    240.1,2,     1.42,2,     0.00,2,     0.00,2,     0.23,3,     -999,9,     -999,9,   2071.3,2,   2330.4,2,20170110,0410
06M220170104  ,A10.5      ,29      ,  1,29120.0    ,240636.0   ,20         ,2,20170110,0241, -34.4997,   5.4129,     5295,     74.4,  16.9048,  35.6011,    249.6,2,    250.7,2,     1.66,2,     0.02,2,     0.01,2,     0.37,3,    1.386,2,   1.8090,2,   2087.5,2,   2343.2,2,20170110,0409
06M220170104  ,A10.5      ,29      ,  1,29119.0    ,240635.0   ,19         ,2,20170110,0241, -34.4997,   5.4129,     5295,    128.5,  15.7456,  35.4492,    238.2,2,    239.6,2,     1.90,2,     1.47,2,     0.43,2,     0.64,3,    1.441,2,   1.8850,2,   2097.9,2,   2339.9,2,20170110,0407
06M220170104  ,A10.5      ,29      ,  1,29118.0    ,240634.0   ,18         ,2,20170110,0241, -34.4997,   5.4129,     5295,    222.5,  13.5652,  35.0911,    232.3,2,    234.1,2,     2.52,2,     6.09,2,     0.02,2,     0.07,4,    1.579,2,   1.9250,2,   2116.8,2,   2315.5,2,20170110,0406
06M220170104  ,A10.5      ,29      ,  1,29117.0    ,240633.0   ,17         ,2,20170110,0241, -34.4997,   5.4129,     5295,    320.1,  12.7114,  35.1180,    211.1,2,    214.1,2,     4.44,2,    11.67,2,     0.01,2,     0.93,3,    1.620,2,   1.5830,2,     -999,9,     -999,9,20170110,0404
06M220170104  ,A10.5      ,29      ,  1,29116.0    ,240632.0   ,16         ,2,20170110,0241, -34.4997,   5.4129,     5295,    451.3,  10.8204,  34.8930,    211.7,2,    204.2,4,     3.87,2,    11.33,3,     0.00,3,     0.86,3,    1.724,2,   1.5550,2,   2146.2,2,   2305.9,2,20170110,0402
06M220170104  ,A10.5      ,29      ,  1,29115.0    ,240631.0   ,15         ,2,20170110,0241, -34.4997,   5.4129,     5295,    651.0,   7.2153,  34.4742,    212.9,2,    238.3,4,    12.10,2,    26.42,2,     0.00,2,     1.94,3,    1.783,2,   1.2580,2,   2171.5,2,   2290.0,2,20170110,0358
06M220170104  ,A10.5      ,29      ,  1,29114.0    ,240630.0   ,14         ,2,20170110,0241, -34.4997,   5.4129,     5295,    785.2,   5.1665,  34.2725,    235.7,2,    239.0,2,    18.30,2,    34.58,3,     0.01,3,     2.42,3,    1.854,2,   1.3310,2,     -999,9,     -999,9,20170110,0356
06M220170104  ,A10.5      ,29      ,  1,29113.0    ,240629.0   ,13         ,2,20170110,0241, -34.4997,   5.4129,     5295,    884.4,   4.5522,  34.2549,    232.9,2,    235.7,2,    26.35,2,    36.43,2,     0.00,2,     2.78,3,    1.680,2,   1.1460,2,   2180.8,2,   2288.8,2,20170110,0354
06M220170104  ,A10.5      ,29      ,  1,29112.0    ,240628.0   ,12         ,2,20170110,0241, -34.4997,   5.4129,     5295,   1008.4,   3.8442,  34.2706,    222.9,2,    226.6,2,    34.44,2,    39.05,2,     0.01,2,     2.85,3,    1.366,2,   0.7990,2,   2187.7,2,   2300.8,2,20170110,0352
06M220170104  ,A10.5      ,29      ,  1,29111.0    ,240627.0   ,11         ,2,20170110,0241, -34.4997,   5.4129,     5295,   1422.2,   3.1895,  34.5407,    179.8,2,    181.8,2,    73.03,2,    47.07,2,     0.01,2,     3.83,4,    0.285,2,   0.1310,2,   2236.5,2,   2327.8,2,20170110,0345
06M220170104  ,A10.5      ,29      ,  1,29110.0    ,240626.0   ,10         ,2,20170110,0241, -34.4997,   5.4129,     5295,   1755.5,   3.1731,  34.7302,    195.2,2,    197.6,2,    54.72,2,    33.19,2,     0.01,2,     2.63,3,     -999,9,     -999,9,   2214.8,2,   2336.3,2,20170110,0340
06M220170104  ,A10.5      ,29      ,  1,29109.0    ,240625.0   ,9          ,2,20170110,0241, -34.4997,   5.4129,     5295,   2201.9,   2.8425,  34.8153,    213.3,2,    218.1,3,    50.05,2,    27.50,2,     0.01,2,     2.06,3,     -999,9,     -999,9,   2208.7,2,   2336.4,2,20170110,0332
06M220170104  ,A10.5      ,29      ,  1,29108.0    ,240624.0   ,8          ,2,20170110,0241, -34.4997,   5.4129,     5295,   2531.9,   2.6048,  34.8326,    222.4,2,    226.9,3,    52.38,2,    28.88,3,     0.01,3,     2.06,3,     -999,9,     -999,9,     -999,9,     -999,9,20170110,0327
06M220170104  ,A10.5      ,29      ,  1,29107.0    ,240623.0   ,7          ,2,20170110,0241, -34.4997,   5.4129,     5295,   3038.6,   2.3824,  34.8451,    229.5,2,    232.9,3,    49.86,2,    24.17,2,     0.01,2,     1.77,2,     -999,9,     -999,9,   2202.4,2,   2337.6,2,20170110,0318
06M220170104  ,A10.5      ,29      ,  1,29106.0    ,240622.0   ,6          ,2,20170110,0241, -34.4997,   5.4129,     5295,   3550.7,   2.2183,  34.8473,    231.2,2,    235.3,2,    56.72,2,    25.43,2,     0.01,2,     1.77,2,     -999,9,     -999,9,   2209.5,2,   2344.9,2,20170110,0310
06M220170104  ,A10.5      ,29      ,  1,29105.0    ,240621.0   ,5          ,2,20170110,0241, -34.4997,   5.4129,     5295,   3960.6,   1.8764,  34.8108,    225.8,2,    228.5,2,    58.65,2,    29.07,2,     0.02,2,     1.98,2,     -999,9,     -999,9,     -999,9,     -999,9,20170110,0303
06M220170104  ,A10.5      ,29      ,  1,29104.0    ,240620.0   ,4          ,2,20170110,0241, -34.4997,   5.4129,     5295,   4246.4,   1.4385,  34.7654,    220.8,2,    223.4,2,    92.09,2,    31.89,2,     0.01,2,     2.30,2,     -999,9,     -999,9,   2229.3,2,   2367.5,2,20170110,0258
06M220170104  ,A10.5      ,29      ,  1,29103.0    ,240619.0   ,3          ,2,20170110,0241, -34.4997,   5.4129,     5295,   4597.9,   1.2063,  34.7420,    218.9,2,    222.8,2,   102.67,2,    33.61,2,     0.00,2,     2.49,2,     -999,9,     -999,9,   2243.9,2,   2362.2,2,20170110,0253
06M220170104  ,A10.5      ,29      ,  1,29101.0    ,240617.0   ,1          ,2,20170110,0241, -34.4997,   5.4129,     5295,   5284.2,   1.1615,  34.7295,    218.3,2,    220.8,2,   123.24,2,    36.20,2,     0.01,2,     2.76,2,     -999,9,     -999,9,   2250.2,2,   2368.3,2,20170110,0241
06M220170104  ,A10.5      ,29      ,  1,29102.0    ,240618.0   ,2          ,2,20170110,0241, -34.4997,   5.4129,     5295,   5284.7,   1.1615,  34.7294,    218.2,2,    219.9,2,    99.26,3,    29.15,4,     0.01,4,     2.03,4,     -999,9,     -999,9,     -999,9,     -999,9,20170110,0241