BOTTLE,20240228CCHSIOADS
EXPOCODE,SECT_ID,STNNBR,CASTNO,SAMPNO,BIONBR,BTLNBR,BTLNBR_FLAG_W,DATE,TIME,LATITUDE,LONGITUDE,DEPTH,CTDPRS,CTDTMP,CTDSAL,CTDOXY,CTDOXY_FLAG_W,OXYGEN,OXYGEN_FLAG_W,SILCAT,SILCAT_FLAG_W,NITRAT,NITRAT_FLAG_W,NITRIT,NITRIT_FLAG_W,PHSPHT,PHSPHT_FLAG_W,CFC-12,CFC-12_FLAG_W,SF6,SF6_FLAG_W,TCARBN,TCARBN_FLAG_W,ALKALI,ALKALI_FLAG_W,BTL_DATE,BTL_TIME
,,,,,,,,,,,,METERS,DBAR,ITS-90,PSS-78,UMOL/KG,,UMOL/KG,,UMOL/KG,,UMOL/KG,,UMOL/KG,,UMOL/KG,,PMOL/KG,,FMOL/KG,,UMOL/KG,,UMOL/KG,,,
06M220170104  ,A10.5      ,109     ,  1,109122.0   ,242380.0   ,22         ,2,20170128,0400, -34.5004, -44.5000,     4850,      7.5,  22.8567,  36.0162,    219.2,2,    219.8,2,     0.30,2,     0.23,3,     0.00,3,    -0.01,4,    1.133,2,   1.5600,2,   2065.6,2,   2387.9,2,20170128,0522
06M220170104  ,A10.5      ,109     ,  1,109121.0   ,242379.0   ,21         ,2,20170128,0400, -34.5004, -44.5000,     4850,     22.5,  22.5586,  36.0963,    222.5,2,    221.6,2,     0.42,2,     0.45,3,     0.00,3,    -0.01,4,    1.092,2,   1.4090,2,   2064.9,2,   2392.8,2,20170128,0522
06M220170104  ,A10.5      ,109     ,  1,109120.0   ,242378.0   ,20         ,2,20170128,0400, -34.5004, -44.5000,     4850,     80.7,  16.9211,  35.8616,    225.4,2,    221.2,2,     0.96,2,     1.56,3,     0.05,3,     0.19,2,    1.422,2,   1.7170,2,   2095.8,2,   2374.1,2,20170128,0520
06M220170104  ,A10.5      ,109     ,  1,109119.0   ,242377.0   ,19         ,2,20170128,0400, -34.5004, -44.5000,     4850,    151.9,  15.7182,  35.7753,    220.2,2,    222.0,2,     0.38,2,     0.31,3,     0.00,3,    -0.01,4,    1.129,4,   1.4990,4,     -999,9,     -999,9,20170128,0518
06M220170104  ,A10.5      ,109     ,  1,109118.0   ,242376.0   ,18         ,2,20170128,0400, -34.5004, -44.5000,     4850,    299.3,  14.0749,  35.4907,    219.2,2,    220.5,2,     2.13,2,     8.38,3,     0.01,3,     0.55,2,    1.597,2,   1.7060,2,     -999,9,     -999,9,20170128,0516
06M220170104  ,A10.5      ,109     ,  1,109117.0   ,242375.0   ,17         ,2,20170128,0400, -34.5004, -44.5000,     4850,    402.9,  11.4762,  35.0084,    207.8,2,     -999,9,     -999,9,     -999,9,     -999,9,     -999,9,     -999,9,     -999,9,     -999,9,     -999,9,20170128,0514
06M220170104  ,A10.5      ,109     ,  1,109116.0   ,242374.0   ,16         ,2,20170128,0400, -34.5004, -44.5000,     4850,    501.5,   8.5519,  34.5851,    227.4,2,    227.3,2,     6.28,2,    20.97,3,     0.01,3,     1.33,2,    1.947,2,   1.6430,2,   2140.8,2,   2308.0,2,20170128,0512
06M220170104  ,A10.5      ,109     ,  1,109115.0   ,242373.0   ,15         ,2,20170128,0400, -34.5004, -44.5000,     4850,    602.3,   6.2745,  34.3375,    238.1,2,    198.7,4,    10.01,2,    26.29,3,     0.00,3,     1.67,2,    2.055,2,   1.5460,2,     -999,9,     -999,9,20170128,0511
06M220170104  ,A10.5      ,109     ,  1,109114.0   ,242372.0   ,14         ,2,20170128,0400, -34.5004, -44.5000,     4850,    749.0,   4.7089,  34.2050,    258.6,2,    257.2,2,    14.16,2,    29.74,3,     0.00,3,     1.85,2,    2.188,2,   1.7210,2,   2151.6,2,   2296.9,3,20170128,0508
06M220170104  ,A10.5      ,109     ,  1,109113.0   ,242371.0   ,13         ,2,20170128,0400, -34.5004, -44.5000,     4850,    846.7,   4.1654,  34.2005,    252.4,2,    251.4,2,    18.19,2,    30.29,3,     0.01,3,     1.97,2,    1.988,2,   1.5090,2,     -999,9,     -999,9,20170128,0507
06M220170104  ,A10.5      ,109     ,  1,109112.0   ,242370.0   ,12         ,2,20170128,0400, -34.5004, -44.5000,     4850,    944.9,   3.8182,  34.2306,    238.0,2,    237.8,2,    25.77,2,    33.90,3,     0.00,3,     2.18,2,    1.620,2,   1.1830,2,   2177.1,2,   2305.1,3,20170128,0505
06M220170104  ,A10.5      ,109     ,  1,109111.0   ,242369.0   ,11         ,2,20170128,0400, -34.5004, -44.5000,     4850,   1296.6,   3.0328,  34.4024,    193.6,2,    193.5,2,    46.57,2,    35.70,3,     0.01,3,     2.38,2,    0.673,2,   0.3730,2,   2223.4,2,   2331.7,3,20170128,0459
06M220170104  ,A10.5      ,109     ,  1,109110.0   ,242368.0   ,10         ,2,20170128,0400, -34.5004, -44.5000,     4850,   1596.4,   2.9226,  34.5911,    182.8,2,     -999,9,     -999,9,     -999,9,     -999,9,     -999,9,     -999,9,     -999,9,     -999,9,     -999,9,20170128,0453
06M220170104  ,A10.5      ,109     ,  1,109109.0   ,242367.0   ,9          ,2,20170128,0400, -34.5004, -44.5000,     4850,   2000.0,   3.1758,  34.8127,    212.8,2,    212.5,2,    41.91,3,    26.90,3,     0.00,3,     1.72,2,    0.092,2,   0.0000,2,     -999,9,     -999,9,20170128,0447
06M220170104  ,A10.5      ,109     ,  1,109108.0   ,242366.0   ,8          ,2,20170128,0400, -34.5004, -44.5000,     4850,   2001.6,   3.1755,  34.8127,    212.9,2,    212.1,2,    45.69,3,    30.03,3,     0.00,3,     1.89,3,    0.100,2,   0.0000,2,   2205.5,2,   2330.2,2,20170128,0447
06M220170104  ,A10.5      ,109     ,  1,109107.0   ,242365.0   ,7          ,2,20170128,0400, -34.5004, -44.5000,     4850,   2248.4,   3.2736,  34.8910,    231.8,2,    230.4,2,    31.35,3,    25.21,3,     0.00,3,     1.53,2,    0.116,2,   0.0000,2,     -999,9,     -999,9,20170128,0442
06M220170104  ,A10.5      ,109     ,  1,109106.0   ,242364.0   ,6          ,2,20170128,0400, -34.5004, -44.5000,     4850,   2497.0,   3.1604,  34.9158,    242.0,2,    242.1,2,    30.04,3,    22.97,3,     0.00,3,     1.38,2,    0.102,2,   0.0000,2,   2179.9,2,   2327.4,2,20170128,0438
06M220170104  ,A10.5      ,109     ,  1,109105.0   ,242363.0   ,5          ,2,20170128,0400, -34.5004, -44.5000,     4850,   2998.0,   2.7808,  34.9158,    248.8,2,    248.8,2,    31.67,3,    22.88,3,     0.01,3,     1.34,2,    0.070,2,   0.0000,2,   2186.8,2,   2333.0,2,20170128,0430
06M220170104  ,A10.5      ,109     ,  1,109104.0   ,242362.0   ,4          ,2,20170128,0400, -34.5004, -44.5000,     4850,   3497.7,   1.4602,  34.7546,    212.8,2,    212.3,2,    86.29,3,    31.90,3,     0.00,3,     1.98,3,    0.083,2,   0.0000,2,   2243.4,2,   2353.7,2,20170128,0422
06M220170104  ,A10.5      ,109     ,  1,109103.0   ,242361.0   ,3          ,2,20170128,0400, -34.5004, -44.5000,     4850,   3998.3,   0.6050,  34.6927,    216.4,2,    215.8,2,   100.63,3,    28.13,3,     0.00,3,     2.06,3,    0.165,2,   0.0000,2,   2260.3,2,   2361.4,2,20170128,0413
06M220170104  ,A10.5      ,109     ,  1,109102.0   ,242360.0   ,2          ,2,20170128,0400, -34.5004, -44.5000,     4850,   4496.7,   0.2783,  34.6742,    222.2,2,    221.4,2,    87.86,3,    28.26,3,     0.00,3,     1.99,2,    0.228,2,   0.1110,2,   2259.3,2,   2369.0,2,20170128,0405
06M220170104  ,A10.5      ,109     ,  1,109101.0   ,242359.0   ,1          ,2,20170128,0400, -34.5004, -44.5000,     4850,   4839.8,   0.2485,  34.6706,    221.6,2,    221.1,2,   114.99,3,    34.99,3,     0.02,3,     2.28,2,    0.267,2,   0.1530,2,   2261.8,2,   2371.1,2,20170128,0400
06M220170104  ,A10.5      ,110     ,  1,110122.0   ,242402.0   ,22         ,2,20170128,0909, -34.4998, -44.9997,     4858,      4.2,  22.2188,  35.8987,    221.6,2,    220.1,2,     0.18,3,     0.10,3,     0.02,2,     0.03,2,    1.160,2,   1.5980,2,   2060.2,2,   2365.8,2,20170128,1041
06M220170104  ,A10.5      ,110     ,  1,110121.0   ,242401.0   ,21         ,2,20170128,0909, -34.4998, -44.9997,     4858,     23.6,  21.6908,  35.8813,    226.2,2,    224.4,2,     0.35,3,     0.07,3,     0.01,2,     0.03,2,     -999,9,     -999,9,   2060.7,2,   2363.8,2,20170128,1040
06M220170104  ,A10.5      ,110     ,  1,110120.0   ,242400.0   ,20         ,2,20170128,0909, -34.4998, -44.9997,     4858,     47.7,  18.9288,  36.0061,    238.7,2,    240.6,2,     0.44,3,     0.14,3,     0.01,2,     0.03,2,    1.347,2,   1.7540,2,   2067.5,2,   2369.5,2,20170128,1039
06M220170104  ,A10.5      ,110     ,  1,110119.0   ,242399.0   ,19         ,2,20170128,0909, -34.4998, -44.9997,     4858,     72.3,  17.4032,  35.8624,    246.1,2,     -999,9,     -999,9,     -999,9,     -999,9,     -999,9,     -999,9,     -999,9,     -999,9,     -999,9,20170128,1038
06M220170104  ,A10.5      ,110     ,  1,110118.0   ,242398.0   ,18         ,2,20170128,0909, -34.4998, -44.9997,     4858,    107.0,  16.3126,  35.8314,    238.8,2,    238.2,2,     0.52,3,     0.02,3,     0.00,2,     0.06,3,    1.419,2,   1.8530,2,   2087.2,2,   2358.9,2,20170128,1037
06M220170104  ,A10.5      ,110     ,  1,110117.0   ,242397.0   ,17         ,2,20170128,0909, -34.4998, -44.9997,     4858,    158.7,  15.2333,  35.7121,    225.2,2,     -999,9,     -999,9,     -999,9,     -999,9,     -999,9,     -999,9,     -999,9,     -999,9,     -999,9,20170128,1036
06M220170104  ,A10.5      ,110     ,  1,110116.0   ,242396.0   ,16         ,2,20170128,0909, -34.4998, -44.9997,     4858,    241.8,  14.4933,  35.5740,    224.7,2,    224.1,2,     1.00,3,     0.74,3,     0.22,2,     0.16,3,     -999,9,     -999,9,     -999,9,     -999,9,20170128,1035
06M220170104  ,A10.5      ,110     ,  1,110115.0   ,242395.0   ,15         ,2,20170128,0909, -34.4998, -44.9997,     4858,    272.2,  13.9990,  35.4751,    219.4,2,    219.4,2,     1.92,3,     6.74,3,     0.01,2,     0.50,3,    1.601,2,   1.7780,2,   2112.1,2,   2335.6,2,20170128,1034
06M220170104  ,A10.5      ,110     ,  1,110114.0   ,242394.0   ,14         ,2,20170128,0909, -34.4998, -44.9997,     4858,    368.6,  11.8485,  35.0692,    208.5,2,    208.8,2,     2.15,3,     8.02,3,     0.01,2,     0.57,3,     -999,9,     -999,9,   2127.6,2,   2314.9,2,20170128,1031
06M220170104  ,A10.5      ,110     ,  1,110113.0   ,242393.0   ,13         ,2,20170128,0909, -34.4998, -44.9997,     4858,    516.0,   8.0109,  34.5391,    219.5,2,    220.8,2,     3.78,3,    13.29,3,     0.01,2,     0.90,3,    1.893,2,   1.4510,2,     -999,9,     -999,9,20170128,1028
06M220170104  ,A10.5      ,110     ,  1,110112.0   ,242392.0   ,12         ,2,20170128,0909, -34.4998, -44.9997,     4858,    775.8,   4.4679,  34.1884,    261.4,2,    256.1,2,     7.06,3,    21.66,3,     0.01,2,     1.43,3,    2.194,2,   1.8540,2,     -999,9,     -999,9,20170128,1023
06M220170104  ,A10.5      ,110     ,  1,110111.0   ,242391.0   ,11         ,2,20170128,0909, -34.4998, -44.9997,     4858,   1098.0,   3.4353,  34.2865,    218.0,2,    217.0,2,    32.62,3,    32.20,3,     0.00,2,     2.14,2,    1.152,2,   0.6750,2,   2203.1,2,   2301.0,2,20170128,1017
06M220170104  ,A10.5      ,110     ,  1,110110.0   ,242390.0   ,10         ,2,20170128,0909, -34.4998, -44.9997,     4858,   1195.8,   3.2196,  34.3398,    205.5,2,     -999,9,     -999,9,     -999,9,     -999,9,     -999,9,     -999,9,     -999,9,     -999,9,     -999,9,20170128,1015
06M220170104  ,A10.5      ,110     ,  1,110109.0   ,242389.0   ,9          ,2,20170128,0909, -34.4998, -44.9997,     4858,   1494.9,   2.9247,  34.5300,    182.6,2,    183.0,2,    53.18,3,    33.37,3,     0.00,2,     2.25,2,    0.315,2,   0.1230,2,   2237.8,2,   2324.9,2,20170128,1010
06M220170104  ,A10.5      ,110     ,  1,110108.0   ,242388.0   ,8          ,2,20170128,0909, -34.4998, -44.9997,     4858,   1795.8,   2.9402,  34.6942,    187.7,2,    187.6,2,    50.73,3,    26.16,3,     0.00,3,     1.90,3,     -999,9,     -999,9,     -999,9,     -999,9,20170128,1004
06M220170104  ,A10.5      ,110     ,  1,110107.0   ,242387.0   ,7          ,2,20170128,0909, -34.4998, -44.9997,     4858,   1996.4,   3.0078,  34.7768,    201.2,2,    202.5,2,    48.75,3,    28.39,3,     0.00,2,     1.84,2,     -999,9,     -999,9,   2227.7,2,   2336.3,2,20170128,1001
06M220170104  ,A10.5      ,110     ,  1,110106.0   ,242386.0   ,6          ,2,20170128,0909, -34.4998, -44.9997,     4858,   2497.3,   3.0226,  34.8913,    234.5,2,    235.8,2,    35.10,3,    22.84,3,     0.00,2,     1.48,2,     -999,9,     -999,9,   2195.8,2,   2329.6,2,20170128,0951
06M220170104  ,A10.5      ,110     ,  1,110105.0   ,242385.0   ,5          ,2,20170128,0909, -34.4998, -44.9997,     4858,   2979.9,   2.7563,  34.9141,    248.6,2,    249.1,2,    27.16,3,    19.00,3,     0.00,2,     1.25,3,     -999,9,     -999,9,   2185.6,2,   2329.2,2,20170128,0942
06M220170104  ,A10.5      ,110     ,  1,110104.0   ,242384.0   ,4          ,2,20170128,0909, -34.4998, -44.9997,     4858,   3495.4,   1.3864,  34.7529,    214.5,2,    213.7,2,    83.22,3,    29.63,3,     0.00,2,     1.98,3,     -999,9,     -999,9,   2248.1,2,   2357.3,2,20170128,0932
06M220170104  ,A10.5      ,110     ,  1,110103.0   ,242383.0   ,3          ,2,20170128,0909, -34.4998, -44.9997,     4858,   3997.2,   0.5792,  34.6913,    216.3,2,    215.9,2,   106.30,3,    31.52,3,     0.00,2,     2.14,3,     -999,9,     -999,9,   2262.7,2,   2364.0,2,20170128,0923
06M220170104  ,A10.5      ,110     ,  1,110102.0   ,242382.0   ,2          ,2,20170128,0909, -34.4998, -44.9997,     4858,   4489.3,   0.2816,  34.6744,    221.9,2,    221.4,2,   113.92,3,    30.22,3,     0.00,2,     2.11,2,     -999,9,     -999,9,   2266.5,2,   2368.8,2,20170128,0915
06M220170104  ,A10.5      ,110     ,  1,110101.0   ,242381.0   ,1          ,2,20170128,0909, -34.4998, -44.9997,     4858,   4847.8,   0.2494,  34.6706,    221.6,2,    220.8,2,   121.94,3,    29.48,3,     0.00,2,     2.20,2,     -999,9,     -999,9,   2273.3,2,   2371.2,2,20170128,0909
06M220170104  ,A10.5      ,111     ,  1,111122.0   ,242424.0   ,22         ,2,20170128,1434, -34.4997, -45.4993,     4853,     10.0,  22.2968,  35.7906,    222.1,2,    222.8,2,     1.73,2,     1.67,3,     0.00,3,     0.14,3,    1.148,2,   1.5920,2,   2055.6,2,   2363.7,2,20170128,1607
06M220170104  ,A10.5      ,111     ,  1,111121.0   ,242423.0   ,21         ,2,20170128,1434, -34.4997, -45.4993,     4853,     31.6,  18.8766,  35.9279,    241.4,2,     -999,9,     -999,9,     -999,9,     -999,9,     -999,9,     -999,9,     -999,9,     -999,9,     -999,9,20170128,1606
06M220170104  ,A10.5      ,111     ,  1,111120.0   ,242422.0   ,20         ,2,20170128,1434, -34.4997, -45.4993,     4853,     69.5,  16.5736,  35.7153,    224.2,2,    225.1,2,     0.30,2,     1.12,3,     0.19,3,     0.24,3,    1.406,2,   1.8700,2,   2083.9,2,   2354.5,2,20170128,1605
06M220170104  ,A10.5      ,111     ,  1,111119.0   ,242421.0   ,19         ,2,20170128,1434, -34.4997, -45.4993,     4853,    119.9,  16.3122,  35.8773,    220.5,2,     -999,9,     -999,9,     -999,9,     -999,9,     -999,9,     -999,9,     -999,9,     -999,9,     -999,9,20170128,1603
06M220170104  ,A10.5      ,111     ,  1,111118.0   ,242420.0   ,18         ,2,20170128,1434, -34.4997, -45.4993,     4853,    296.8,  14.5938,  35.5971,    224.9,2,    224.9,2,     1.87,2,     7.98,3,     0.02,3,     0.64,3,    1.517,2,   1.8370,2,   2110.0,2,   2344.3,2,20170128,1600
06M220170104  ,A10.5      ,111     ,  1,111117.0   ,242419.0   ,17         ,2,20170128,1434, -34.4997, -45.4993,     4853,    424.0,  11.4580,  35.0059,    210.1,2,     -999,9,     -999,9,     -999,9,     -999,9,     -999,9,     -999,9,     -999,9,     -999,9,     -999,9,20170128,1557
06M220170104  ,A10.5      ,111     ,  1,111116.0   ,242418.0   ,16         ,2,20170128,1434, -34.4997, -45.4993,     4853,    547.2,   8.0848,  34.5336,    222.2,2,    213.7,3,     4.76,2,    17.11,3,     0.01,3,     1.22,3,    1.852,2,   1.6280,2,   2142.2,2,   2301.8,2,20170128,1555
06M220170104  ,A10.5      ,111     ,  1,111115.0   ,242417.0   ,15         ,2,20170128,1434, -34.4997, -45.4993,     4853,    785.9,   4.5411,  34.1995,    258.0,2,    256.2,2,    13.53,2,    27.07,3,     0.01,3,     1.97,3,    2.099,2,   1.8580,2,   2168.5,2,   2284.0,2,20170128,1550
06M220170104  ,A10.5      ,111     ,  1,111114.0   ,242416.0   ,14         ,2,20170128,1434, -34.4997, -45.4993,     4853,    995.8,   3.6163,  34.2356,    233.6,2,    232.5,2,    24.49,2,    30.26,3,     0.00,3,     2.23,3,    1.555,2,   1.1310,2,     -999,9,     -999,9,20170128,1546
06M220170104  ,A10.5      ,111     ,  1,111113.0   ,242415.0   ,13         ,2,20170128,1434, -34.4997, -45.4993,     4853,   1196.7,   3.2160,  34.3607,    201.9,2,    202.2,2,    46.31,2,    37.04,3,     0.00,3,     2.75,3,    0.830,2,   0.4300,2,   2211.2,2,   2311.0,2,20170128,1542
06M220170104  ,A10.5      ,111     ,  1,111112.0   ,242414.0   ,12         ,2,20170128,1434, -34.4997, -45.4993,     4853,   1395.9,   2.9976,  34.4727,    187.2,2,    187.0,2,    49.60,2,    33.26,3,     0.01,3,     2.28,3,    0.400,2,   0.2090,2,   2226.0,2,   2322.5,2,20170128,1538
06M220170104  ,A10.5      ,111     ,  1,111111.0   ,242413.0   ,11         ,2,20170128,1434, -34.4997, -45.4993,     4853,   1598.5,   2.9369,  34.5935,    182.8,2,    181.9,2,    52.44,2,    31.99,3,     0.01,3,     2.33,3,    0.211,2,   0.0000,2,   2227.7,2,   2328.8,2,20170128,1535
06M220170104  ,A10.5      ,111     ,  1,111110.0   ,242412.0   ,10         ,2,20170128,1434, -34.4997, -45.4993,     4853,   1797.3,   3.0509,  34.7051,    192.7,2,    192.7,2,    52.45,2,    32.89,3,     0.01,3,     2.26,3,    0.123,2,   0.0000,2,     -999,9,     -999,9,20170128,1530
06M220170104  ,A10.5      ,111     ,  1,111109.0   ,242411.0   ,9          ,2,20170128,1434, -34.4997, -45.4993,     4853,   2096.9,   3.1882,  34.8343,    216.8,2,    216.9,2,    37.11,2,    24.50,3,     0.01,3,     1.67,3,    0.101,2,   0.0000,2,     -999,9,     -999,9,20170128,1525
06M220170104  ,A10.5      ,111     ,  1,111108.0   ,242410.0   ,8          ,2,20170128,1434, -34.4997, -45.4993,     4853,   2097.6,   3.1877,  34.8343,    217.0,2,    217.4,2,    39.26,2,    26.42,3,     0.01,3,     1.86,3,    0.097,2,   0.0000,2,   2197.5,2,   2328.0,2,20170128,1525
06M220170104  ,A10.5      ,111     ,  1,111107.0   ,242409.0   ,7          ,2,20170128,1434, -34.4997, -45.4993,     4853,   2408.0,   3.2527,  34.9134,    239.6,2,    240.0,2,    27.62,2,    20.59,3,     0.00,3,     1.51,3,    0.122,2,   0.0000,2,   2185.8,2,   2326.3,2,20170128,1519
06M220170104  ,A10.5      ,111     ,  1,111106.0   ,242408.0   ,6          ,2,20170128,1434, -34.4997, -45.4993,     4853,   2897.6,   2.8410,  34.9043,    242.4,2,    243.0,2,    28.38,2,    18.89,3,     0.00,3,     1.31,3,    0.068,2,   0.0000,2,   2191.7,2,   2331.6,2,20170128,1510
06M220170104  ,A10.5      ,111     ,  1,111105.0   ,242407.0   ,5          ,2,20170128,1434, -34.4997, -45.4993,     4853,   3290.8,   2.0563,  34.8047,    217.9,2,    217.6,2,    50.26,2,    23.71,3,     0.00,3,     1.82,3,    0.059,2,   0.0000,2,   2231.9,2,   2348.2,2,20170128,1502
06M220170104  ,A10.5      ,111     ,  1,111104.0   ,242406.0   ,4          ,2,20170128,1434, -34.4997, -45.4993,     4853,   3699.3,   1.1042,  34.7346,    216.6,2,    217.2,2,    86.56,3,    29.89,3,     0.00,3,     2.13,3,    0.109,2,   0.1380,2,   2252.0,2,   2359.0,2,20170128,1454
06M220170104  ,A10.5      ,111     ,  1,111103.0   ,242405.0   ,3          ,2,20170128,1434, -34.4997, -45.4993,     4853,   4097.1,   0.3941,  34.6815,    219.0,2,    218.7,2,    92.32,2,    27.30,3,     0.01,3,     2.11,3,    0.192,2,   0.1600,2,   2269.6,2,   2364.5,2,20170128,1448
06M220170104  ,A10.5      ,111     ,  1,111102.0   ,242404.0   ,2          ,2,20170128,1434, -34.4997, -45.4993,     4853,   4498.7,   0.2314,  34.6719,    222.7,2,    222.4,2,   109.34,2,    32.34,3,     0.01,3,     2.34,3,    0.245,2,   0.1210,2,   2250.9,2,   2367.9,2,20170128,1440
06M220170104  ,A10.5      ,111     ,  1,111101.0   ,242403.0   ,1          ,2,20170128,1434, -34.4997, -45.4993,     4853,   4842.6,   0.2484,  34.6705,    221.9,2,    219.6,2,   112.99,3,    31.46,3,     0.02,3,     2.50,3,    0.277,2,   0.2030,2,   2258.7,2,   2367.2,2,20170128,1434