BOTTLE,20240228CCHSIOADS
EXPOCODE,SECT_ID,STNNBR,CASTNO,SAMPNO,BIONBR,BTLNBR,BTLNBR_FLAG_W,DATE,TIME,LATITUDE,LONGITUDE,DEPTH,CTDPRS,CTDTMP,CTDSAL,CTDOXY,CTDOXY_FLAG_W,OXYGEN,OXYGEN_FLAG_W,SILCAT,SILCAT_FLAG_W,NITRAT,NITRAT_FLAG_W,NITRIT,NITRIT_FLAG_W,PHSPHT,PHSPHT_FLAG_W,CFC-12,CFC-12_FLAG_W,SF6,SF6_FLAG_W,TCARBN,TCARBN_FLAG_W,ALKALI,ALKALI_FLAG_W,BTL_DATE,BTL_TIME
,,,,,,,,,,,,METERS,DBAR,ITS-90,PSS-78,UMOL/KG,,UMOL/KG,,UMOL/KG,,UMOL/KG,,UMOL/KG,,UMOL/KG,,PMOL/KG,,FMOL/KG,,UMOL/KG,,UMOL/KG,,,
06M220170104  ,A10.5      ,94      ,  1,94122.0    ,242050.0   ,22         ,2,20170124,1238, -34.4998, -34.5379,     4518,      8.6,  21.5637,  35.6341,    226.8,2,    225.5,2,     0.75,2,     0.07,2,     0.00,3,     6.16,3,    1.253,2,   1.6170,2,   2073.1,2,   2345.4,2,20170124,1355
06M220170104  ,A10.5      ,94      ,  1,94121.0    ,242049.0   ,21         ,2,20170124,1238, -34.4998, -34.5379,     4518,     38.5,  18.2431,  35.6760,    243.9,2,    226.2,3,     0.61,2,     0.10,2,     0.00,3,     7.82,3,    1.255,3,   1.6730,2,   2071.2,2,   2344.9,2,20170124,1353
06M220170104  ,A10.5      ,94      ,  1,94120.0    ,242048.0   ,20         ,2,20170124,1238, -34.4998, -34.5379,     4518,     84.6,  15.8987,  35.6343,    237.1,2,    235.3,2,     1.06,2,     1.11,2,     0.16,3,    14.60,3,    1.551,2,   1.8600,2,   2101.4,2,   2346.1,2,20170124,1352
06M220170104  ,A10.5      ,94      ,  1,94119.0    ,242047.0   ,19         ,2,20170124,1238, -34.4998, -34.5379,     4518,    162.1,  14.8934,  35.5899,    217.2,2,    216.7,2,     2.00,2,     6.15,2,     0.01,3,    15.52,3,     -999,9,     -999,9,     -999,9,     -999,9,20170124,1350
06M220170104  ,A10.5      ,94      ,  1,94118.0    ,242046.0   ,18         ,2,20170124,1238, -34.4998, -34.5379,     4518,    246.5,  14.2371,  35.4924,    218.7,2,    218.5,2,     2.37,2,     7.17,2,     0.01,3,    21.83,3,    1.655,2,   1.7240,2,   2125.4,2,   2338.7,2,20170124,1349
06M220170104  ,A10.5      ,94      ,  1,94117.0    ,242045.0   ,17         ,2,20170124,1238, -34.4998, -34.5379,     4518,    396.9,  11.7726,  35.0565,    210.2,2,    210.4,2,     4.46,2,    13.44,2,     0.00,3,    33.03,3,    1.823,2,   1.5440,2,   2143.9,2,   2313.4,2,20170124,1346
06M220170104  ,A10.5      ,94      ,  1,94116.0    ,242044.0   ,16         ,2,20170124,1238, -34.4998, -34.5379,     4518,    586.1,   7.7624,  34.5330,    215.0,2,    215.8,2,    11.21,2,    22.78,2,     0.00,3,    32.73,3,    1.925,2,   1.2740,2,   2160.6,2,   2290.0,2,20170124,1343
06M220170104  ,A10.5      ,94      ,  1,94115.0    ,242043.0   ,15         ,2,20170124,1238, -34.4998, -34.5379,     4518,    696.7,   5.5971,  34.2990,    239.0,2,    238.7,2,    14.73,2,    25.63,2,     0.00,3,    43.79,3,    2.086,2,   1.4450,2,     -999,9,     -999,9,20170124,1341
06M220170104  ,A10.5      ,94      ,  1,94114.0    ,242042.0   ,14         ,2,20170124,1238, -34.4998, -34.5379,     4518,    825.7,   4.3617,  34.2096,    248.5,2,    249.0,2,    18.51,2,    28.24,2,     0.01,3,    37.30,3,    2.067,2,   1.4060,2,   2170.1,2,   2284.5,2,20170124,1339
06M220170104  ,A10.5      ,94      ,  1,94113.0    ,242041.0   ,13         ,2,20170124,1238, -34.4998, -34.5379,     4518,    947.0,   4.1253,  34.2703,    227.3,2,    227.1,2,    32.21,2,    34.02,2,     0.01,3,    36.84,3,    1.544,2,   0.8250,2,     -999,9,     -999,9,20170124,1337
06M220170104  ,A10.5      ,94      ,  1,94112.0    ,242040.0   ,12         ,2,20170124,1238, -34.4998, -34.5379,     4518,   1098.1,   3.3444,  34.2969,    215.5,2,    214.8,2,    48.94,2,    36.91,2,     0.01,3,    30.08,3,    1.148,2,   0.6130,2,     -999,9,     -999,9,20170124,1335
06M220170104  ,A10.5      ,94      ,  1,94111.0    ,242039.0   ,11         ,2,20170124,1238, -34.4998, -34.5379,     4518,   1299.5,   3.0929,  34.4288,    194.0,2,    193.2,2,    53.02,2,    32.18,2,     0.00,3,    10.43,3,    0.577,2,   0.2510,2,   2226.5,2,   2316.6,2,20170124,1331
06M220170104  ,A10.5      ,94      ,  1,94110.0    ,242038.0   ,10         ,2,20170124,1238, -34.4998, -34.5379,     4518,   1546.5,   2.9028,  34.5833,    186.0,2,    185.2,2,    55.02,2,    28.88,2,     0.00,3,    17.45,3,    0.234,2,   0.0860,2,   2236.3,2,   2328.2,2,20170124,1327
06M220170104  ,A10.5      ,94      ,  1,94109.0    ,242037.0   ,9          ,2,20170124,1238, -34.4998, -34.5379,     4518,   1787.9,   2.8969,  34.7034,    197.1,2,    196.8,2,    46.01,2,    27.69,2,     0.01,3,    14.03,3,     -999,9,     -999,9,   2227.6,2,   2332.5,2,20170124,1323
06M220170104  ,A10.5      ,94      ,  1,94108.0    ,242036.0   ,8          ,2,20170124,1238, -34.4998, -34.5379,     4518,   1797.5,   2.8995,  34.7074,    197.5,2,     -999,9,     -999,9,     -999,9,     -999,9,     -999,9,     -999,9,     -999,9,     -999,9,     -999,9,20170124,1323
06M220170104  ,A10.5      ,94      ,  1,94107.0    ,242035.0   ,7          ,2,20170124,1238, -34.4998, -34.5379,     4518,   2196.9,   3.0330,  34.8485,    224.0,2,    223.8,2,    45.33,3,    23.89,2,     0.01,3,    11.16,3,     -999,9,     -999,9,   2199.0,2,   2329.4,2,20170124,1317
06M220170104  ,A10.5      ,94      ,  1,94106.0    ,242034.0   ,6          ,2,20170124,1238, -34.4998, -34.5379,     4518,   2597.0,   2.9994,  34.9080,    242.7,2,    243.0,2,    32.75,2,    20.19,2,     0.01,3,    10.39,3,     -999,9,     -999,9,   2186.0,2,   2326.5,2,20170124,1310
06M220170104  ,A10.5      ,94      ,  1,94105.0    ,242033.0   ,5          ,2,20170124,1238, -34.4998, -34.5379,     4518,   2997.5,   2.7014,  34.8965,    243.2,2,    243.4,2,    37.42,2,    19.17,2,     0.01,3,    11.46,3,     -999,9,     -999,9,   2186.9,2,   2333.2,2,20170124,1303
06M220170104  ,A10.5      ,94      ,  1,94104.0    ,242032.0   ,4          ,2,20170124,1238, -34.4998, -34.5379,     4518,   3496.9,   1.9268,  34.8267,    233.1,2,    238.0,3,    56.97,2,    22.36,2,     0.00,3,    12.51,3,     -999,9,     -999,9,   2219.1,2,   2345.1,2,20170124,1255
06M220170104  ,A10.5      ,94      ,  1,94103.0    ,242031.0   ,3          ,2,20170124,1238, -34.4998, -34.5379,     4518,   3997.7,   0.8621,  34.7133,    216.8,2,    216.9,2,    99.41,2,    24.58,2,     0.00,3,    14.13,3,     -999,9,     -999,9,   2257.6,2,   2361.2,2,20170124,1247
06M220170104  ,A10.5      ,94      ,  1,94101.0    ,242029.0   ,1          ,2,20170124,1238, -34.4998, -34.5379,     4518,   4506.9,   0.2898,  34.6749,    221.0,2,    216.4,3,   147.84,3,    34.04,3,     0.01,3,     7.87,3,     -999,9,     -999,9,   2264.4,2,   2367.3,2,20170124,1238
06M220170104  ,A10.5      ,94      ,  1,94102.0    ,242030.0   ,2          ,2,20170124,1238, -34.4998, -34.5379,     4518,   4507.7,   0.2901,  34.6749,    220.9,2,    215.6,3,    98.16,3,    27.36,2,     0.00,3,    15.85,3,     -999,9,     -999,9,     -999,9,     -999,9,20170124,1238
06M220170104  ,A10.5      ,95      ,  1,95122.0    ,242072.0   ,22         ,2,20170124,1751, -34.4997, -35.1921,     4438,      7.6,  20.7638,  35.5923,    230.1,2,    225.2,4,    -0.30,2,     0.02,2,     0.00,2,     0.12,2,    1.294,2,   1.6990,2,   2070.7,2,   2343.6,2,20170124,1904
06M220170104  ,A10.5      ,95      ,  1,95121.0    ,242071.0   ,21         ,2,20170124,1751, -34.4997, -35.1921,     4438,     22.6,  20.5690,  35.6136,    230.1,2,    239.1,4,    -0.45,2,     0.04,2,     0.00,2,     0.09,2,    1.337,2,   1.7270,2,   2071.3,2,   2345.1,2,20170124,1903
06M220170104  ,A10.5      ,95      ,  1,95120.0    ,242070.0   ,20         ,2,20170124,1751, -34.4997, -35.1921,     4438,     72.2,  16.3566,  35.7751,    234.4,2,    237.9,2,     0.10,2,     0.81,2,     0.20,2,     0.26,2,    1.513,2,   1.8650,2,   2100.1,2,   2355.7,2,20170124,1901
06M220170104  ,A10.5      ,95      ,  1,95119.0    ,242069.0   ,19         ,2,20170124,1751, -34.4997, -35.1921,     4438,    107.4,  15.7151,  35.7493,    223.8,2,    220.5,2,     -999,9,     -999,9,     -999,9,     -999,9,     -999,9,     -999,9,     -999,9,     -999,9,20170124,1901
06M220170104  ,A10.5      ,95      ,  1,95118.0    ,242068.0   ,18         ,2,20170124,1751, -34.4997, -35.1921,     4438,    236.1,  14.8976,  35.6607,    228.8,2,    221.4,4,     0.97,2,     5.73,2,     0.01,2,     0.51,2,    1.581,2,   1.7860,2,     -999,9,     -999,9,20170124,1858
06M220170104  ,A10.5      ,95      ,  1,95117.0    ,242067.0   ,17         ,2,20170124,1751, -34.4997, -35.1921,     4438,    347.4,  12.9661,  35.2597,    214.1,2,    227.4,4,     -999,9,     -999,9,     -999,9,     -999,9,     -999,9,     -999,9,     -999,9,     -999,9,20170124,1857
06M220170104  ,A10.5      ,95      ,  1,95116.0    ,242066.0   ,16         ,2,20170124,1751, -34.4997, -35.1921,     4438,    467.0,  10.2516,  34.8253,    214.0,2,    216.6,2,     4.56,2,    17.57,2,     0.01,2,     1.24,2,    1.873,2,   1.4990,2,   2147.3,2,   2302.9,2,20170124,1855
06M220170104  ,A10.5      ,95      ,  1,95115.0    ,242065.0   ,15         ,2,20170124,1751, -34.4997, -35.1921,     4438,    546.7,   8.1374,  34.5478,    224.1,2,    216.6,4,     -999,9,     -999,9,     -999,9,     -999,9,     -999,9,     -999,9,     -999,9,     -999,9,20170124,1853
06M220170104  ,A10.5      ,95      ,  1,95114.0    ,242064.0   ,14         ,2,20170124,1751, -34.4997, -35.1921,     4438,    623.7,   6.4644,  34.3683,    234.8,2,    255.6,4,    10.48,2,    26.45,2,     0.01,2,     1.88,3,    2.098,2,   1.5300,2,   2157.6,2,   2283.6,2,20170124,1852
06M220170104  ,A10.5      ,95      ,  1,95113.0    ,242063.0   ,13         ,2,20170124,1751, -34.4997, -35.1921,     4438,    716.5,   5.4392,  34.2944,    237.2,2,    243.0,4,    13.93,2,    27.80,2,     0.00,2,     1.83,3,    1.998,2,   1.2900,2,     -999,9,     -999,9,20170124,1851
06M220170104  ,A10.5      ,95      ,  1,95112.0    ,242062.0   ,12         ,2,20170124,1751, -34.4997, -35.1921,     4438,    756.4,   5.0949,  34.2670,    240.4,2,    226.2,4,    15.14,2,    28.83,2,     0.01,2,     2.00,3,    1.999,2,   1.3400,2,   2166.3,2,   2284.1,2,20170124,1850
06M220170104  ,A10.5      ,95      ,  1,95111.0    ,242061.0   ,11         ,2,20170124,1751, -34.4997, -35.1921,     4438,    833.6,   4.5675,  34.2432,    240.0,2,    198.6,4,    19.68,2,    32.65,3,     0.01,3,     2.10,3,    1.876,2,   1.1290,2,     -999,9,     -999,9,20170124,1849
06M220170104  ,A10.5      ,95      ,  1,95110.0    ,242060.0   ,10         ,2,20170124,1751, -34.4997, -35.1921,     4438,    967.4,   3.9466,  34.2598,    228.6,2,    182.3,4,    28.08,2,    32.61,2,     0.00,2,     2.10,3,    1.506,2,   0.7970,2,   2184.4,2,   2292.4,2,20170124,1847
06M220170104  ,A10.5      ,95      ,  1,95109.0    ,242059.0   ,9          ,2,20170124,1751, -34.4997, -35.1921,     4438,   1146.8,   3.3343,  34.3374,    208.2,2,    188.3,4,    38.86,2,    34.10,2,     0.00,2,     2.40,2,    0.921,2,   0.4400,2,   2211.2,2,   2306.6,2,20170124,1844
06M220170104  ,A10.5      ,95      ,  1,95108.0    ,242058.0   ,8          ,2,20170124,1751, -34.4997, -35.1921,     4438,   1496.7,   2.9221,  34.5481,    187.8,2,     -999,9,     -999,9,     -999,9,     -999,9,     -999,9,     -999,9,     -999,9,     -999,9,     -999,9,20170124,1838
06M220170104  ,A10.5      ,95      ,  1,95107.0    ,242057.0   ,7          ,2,20170124,1751, -34.4997, -35.1921,     4438,   1696.8,   2.8947,  34.6648,    191.2,2,    215.4,4,    56.56,2,    32.14,2,     0.00,2,     2.25,2,    0.124,2,   0.0620,2,   2230.4,2,   2331.2,2,20170124,1835
06M220170104  ,A10.5      ,95      ,  1,95106.0    ,242056.0   ,6          ,2,20170124,1751, -34.4997, -35.1921,     4438,   2503.7,   2.9454,  34.8948,    239.8,2,    238.2,2,    38.90,2,    24.93,2,     0.01,2,     1.78,2,     -999,9,     -999,9,   2183.1,2,   2330.7,2,20170124,1822
06M220170104  ,A10.5      ,95      ,  1,95105.0    ,242055.0   ,5          ,2,20170124,1751, -34.4997, -35.1921,     4438,   2971.1,   2.7356,  34.9081,    247.7,2,    222.9,4,    42.54,2,    27.80,2,     0.00,2,     1.71,2,    0.047,2,   0.0000,2,   2172.0,2,   2335.0,2,20170124,1815
06M220170104  ,A10.5      ,95      ,  1,95104.0    ,242054.0   ,4          ,2,20170124,1751, -34.4997, -35.1921,     4438,   3676.5,   1.4992,  34.7588,    215.2,2,     -999,9,   100.48,3,    34.53,2,     0.00,2,     2.50,3,    0.085,2,   0.0970,2,   2233.4,2,   2355.2,2,20170124,1804
06M220170104  ,A10.5      ,95      ,  1,95103.0    ,242053.0   ,3          ,2,20170124,1751, -34.4997, -35.1921,     4438,   3997.2,   0.9271,  34.7186,    217.2,2,    218.6,2,   138.34,3,    42.51,3,     0.01,3,     3.09,3,    0.130,2,   0.0550,2,     -999,9,     -999,9,20170124,1759
06M220170104  ,A10.5      ,95      ,  1,95101.0    ,242051.0   ,1          ,2,20170124,1751, -34.4997, -35.1921,     4438,   4427.7,   0.2962,  34.6756,    220.5,2,    221.0,2,   123.49,2,    35.24,2,     0.00,2,     2.57,2,    0.228,2,   0.0500,2,   2254.6,2,   2368.8,2,20170124,1751
06M220170104  ,A10.5      ,95      ,  1,95102.0    ,242052.0   ,2          ,2,20170124,1751, -34.4997, -35.1921,     4438,   4428.5,   0.2955,  34.6756,    221.0,2,    220.5,2,   121.41,2,    34.94,2,     0.01,2,     2.53,2,    0.205,2,   0.0840,2,     -999,9,     -999,9,20170124,1751
06M220170104  ,A10.5      ,96      ,  1,96122.0    ,242094.0   ,22         ,2,20170124,2325, -34.5000, -35.8476,     4665,      8.1,  21.6539,  35.7984,    225.8,2,    224.7,2,     1.16,2,     0.02,3,     0.00,3,    -0.02,3,    1.243,2,   1.6080,2,   2066.2,2,   2353.9,2,20170125,0043
06M220170104  ,A10.5      ,96      ,  1,96121.0    ,242093.0   ,21         ,2,20170124,2325, -34.5000, -35.8476,     4665,     47.6,  19.1899,  35.8210,    240.2,2,    239.1,2,     1.36,2,     0.35,3,     0.02,3,    -0.01,3,     -999,9,     -999,9,   2055.7,2,   2356.3,2,20170125,0042
06M220170104  ,A10.5      ,96      ,  1,96120.0    ,242092.0   ,20         ,2,20170124,2325, -34.5000, -35.8476,     4665,     83.0,  17.3432,  35.7790,    240.0,2,    234.1,3,     1.36,2,     0.59,3,     0.04,3,     0.10,3,    1.483,2,   1.8080,2,   2076.4,2,   2353.1,2,20170125,0041
06M220170104  ,A10.5      ,96      ,  1,96119.0    ,242091.0   ,19         ,2,20170124,2325, -34.5000, -35.8476,     4665,    144.4,  15.7322,  35.6739,    219.1,2,    219.4,2,     1.99,2,     4.26,3,     0.02,3,     0.34,3,    1.550,2,   1.7170,2,     -999,9,     -999,9,20170125,0039
06M220170104  ,A10.5      ,96      ,  1,96118.0    ,242090.0   ,18         ,2,20170124,2325, -34.5000, -35.8476,     4665,    209.9,  14.9025,  35.5902,    214.2,2,    218.2,2,     2.34,2,     6.24,3,     0.01,3,     0.44,3,    1.608,2,   1.7500,2,   2102.9,2,   2344.6,2,20170125,0038
06M220170104  ,A10.5      ,96      ,  1,96117.0    ,242089.0   ,17         ,2,20170124,2325, -34.5000, -35.8476,     4665,    321.4,  14.6207,  35.5982,    225.8,2,    228.2,2,     2.09,2,     5.27,3,     0.01,3,     0.42,3,    1.597,2,   1.8100,2,   2099.0,3,   2349.5,3,20170125,0036
06M220170104  ,A10.5      ,96      ,  1,96116.0    ,242088.0   ,16         ,2,20170124,2325, -34.5000, -35.8476,     4665,    426.8,  12.5367,  35.1941,    217.2,2,    217.0,2,     3.85,2,    11.82,3,     0.01,3,     0.76,3,    1.780,2,   1.6680,2,   2140.2,2,   2325.5,2,20170125,0035
06M220170104  ,A10.5      ,96      ,  1,96115.0    ,242087.0   ,15         ,2,20170124,2325, -34.5000, -35.8476,     4665,    585.5,   8.4387,  34.6014,    215.3,2,    215.2,2,     8.54,2,    22.33,3,     0.00,3,     1.36,3,     -999,9,     -999,9,   2135.7,2,   2294.4,2,20170125,0032
06M220170104  ,A10.5      ,96      ,  1,96114.0    ,242086.0   ,14         ,2,20170124,2325, -34.5000, -35.8476,     4665,    860.5,   4.4620,  34.2108,    251.7,2,    252.1,2,    17.52,2,    29.41,3,     0.00,3,     1.78,3,    2.109,2,   1.5610,2,   2146.6,2,   2285.6,2,20170125,0027
06M220170104  ,A10.5      ,96      ,  1,96113.0    ,242085.0   ,13         ,2,20170124,2325, -34.5000, -35.8476,     4665,    947.1,   4.1624,  34.2255,    241.4,2,    241.0,2,    20.94,2,    28.61,3,     0.01,3,     1.84,3,    1.828,2,   1.1250,2,     -999,9,     -999,9,20170125,0026
06M220170104  ,A10.5      ,96      ,  1,96112.0    ,242084.0   ,12         ,2,20170124,2325, -34.5000, -35.8476,     4665,   1098.2,   3.4917,  34.2591,    226.4,2,    227.2,2,    21.91,3,    23.34,3,     0.01,3,     1.78,3,    1.423,2,   0.8400,2,   2175.6,2,   2295.4,2,20170125,0023
06M220170104  ,A10.5      ,96      ,  1,96111.0    ,242083.0   ,11         ,2,20170124,2325, -34.5000, -35.8476,     4665,   1297.1,   3.0936,  34.3877,    197.3,2,    197.4,2,    51.44,2,    37.32,3,     0.01,3,     2.32,3,    0.713,2,   0.3850,2,   2202.0,2,   2313.7,2,20170125,0020
06M220170104  ,A10.5      ,96      ,  1,96110.0    ,242082.0   ,10         ,2,20170124,2325, -34.5000, -35.8476,     4665,   1576.0,   2.9062,  34.5597,    184.7,2,    185.0,2,    48.36,3,    29.87,3,     0.01,3,     1.97,3,    0.260,2,   0.0640,2,   2215.6,2,   2327.6,2,20170125,0015
06M220170104  ,A10.5      ,96      ,  1,96109.0    ,242081.0   ,9          ,2,20170124,2325, -34.5000, -35.8476,     4665,   1794.6,   2.9442,  34.6745,    187.0,2,    187.9,2,    67.07,2,    40.47,3,     0.01,3,     2.51,3,    0.156,2,   0.0650,2,   2242.6,2,   2332.7,2,20170125,0012
06M220170104  ,A10.5      ,96      ,  1,96108.0    ,242080.0   ,8          ,2,20170124,2325, -34.5000, -35.8476,     4665,   1796.2,   2.9442,  34.6745,    187.0,2,     -999,9,     -999,9,     -999,9,     -999,9,     -999,9,     -999,9,     -999,9,     -999,9,     -999,9,20170125,0012
06M220170104  ,A10.5      ,96      ,  1,96107.0    ,242079.0   ,7          ,2,20170124,2325, -34.5000, -35.8476,     4665,   2197.9,   3.0600,  34.8340,    215.3,2,    215.2,2,    43.18,2,    23.80,2,     0.01,2,     1.53,2,     -999,9,     -999,9,   2207.8,2,   2335.7,2,20170125,0005
06M220170104  ,A10.5      ,96      ,  1,96106.0    ,242078.0   ,6          ,2,20170124,2325, -34.5000, -35.8476,     4665,   2621.9,   2.8906,  34.8802,    232.4,2,    233.2,2,    43.30,2,    24.76,2,     0.00,2,     1.48,2,     -999,9,     -999,9,     -999,9,     -999,9,20170124,2358
06M220170104  ,A10.5      ,96      ,  1,96105.0    ,242077.0   ,5          ,2,20170124,2325, -34.5000, -35.8476,     4665,   2996.4,   2.3843,  34.8395,    225.2,2,    224.2,2,    59.14,2,    27.23,2,     0.00,2,     1.64,2,     -999,9,     -999,9,   2222.8,2,   2341.0,2,20170124,2352
06M220170104  ,A10.5      ,96      ,  1,96104.0    ,242076.0   ,4          ,2,20170124,2325, -34.5000, -35.8476,     4665,   3398.1,   1.9916,  34.8382,    237.1,2,     -999,9,     -999,9,     -999,9,     -999,9,     -999,9,     -999,9,     -999,9,     -999,9,     -999,9,20170124,2345
06M220170104  ,A10.5      ,96      ,  1,96103.0    ,242075.0   ,3          ,2,20170124,2325, -34.5000, -35.8476,     4665,   3795.1,   1.1125,  34.7336,    216.0,2,    215.1,2,   100.36,2,    32.74,2,     0.01,2,     2.02,2,     -999,9,     -999,9,   2247.2,2,   2364.3,2,20170124,2339
06M220170104  ,A10.5      ,96      ,  1,96102.0    ,242074.0   ,2          ,2,20170124,2325, -34.5000, -35.8476,     4665,   4153.4,   0.5209,  34.6900,    218.5,2,    217.8,2,   119.60,2,    35.25,2,     0.00,2,     2.17,2,     -999,9,     -999,9,   2270.2,2,   2364.6,2,20170124,2333
06M220170104  ,A10.5      ,96      ,  1,96101.0    ,242073.0   ,1          ,2,20170124,2325, -34.5000, -35.8476,     4665,   4654.7,   0.2514,  34.6721,    221.4,2,    222.5,2,   129.34,2,    36.04,2,     0.00,2,     2.28,2,     -999,9,     -999,9,   2264.2,2,   2368.8,2,20170124,2325