BOTTLE,20240228CCHSIOADS
EXPOCODE,SECT_ID,STNNBR,CASTNO,SAMPNO,BIONBR,BTLNBR,BTLNBR_FLAG_W,DATE,TIME,LATITUDE,LONGITUDE,DEPTH,CTDPRS,CTDTMP,CTDSAL,CTDOXY,CTDOXY_FLAG_W,OXYGEN,OXYGEN_FLAG_W,SILCAT,SILCAT_FLAG_W,NITRAT,NITRAT_FLAG_W,NITRIT,NITRIT_FLAG_W,PHSPHT,PHSPHT_FLAG_W,CFC-12,CFC-12_FLAG_W,SF6,SF6_FLAG_W,TCARBN,TCARBN_FLAG_W,ALKALI,ALKALI_FLAG_W,BTL_DATE,BTL_TIME
,,,,,,,,,,,,METERS,DBAR,ITS-90,PSS-78,UMOL/KG,,UMOL/KG,,UMOL/KG,,UMOL/KG,,UMOL/KG,,UMOL/KG,,PMOL/KG,,FMOL/KG,,UMOL/KG,,UMOL/KG,,,
06M220170104  ,A10.5      ,64      ,  1,64122.0    ,240382.0   ,22         ,2,20170117,1433, -34.8326, -15.5014,     3259,      8.3,  19.7031,  35.4890,    237.4,2,    237.2,2,    -0.39,2,     0.07,2,     0.00,3,     0.06,2,    1.681,4,   7.2530,4,   2078.9,2,   2337.9,2,20170117,1529
06M220170104  ,A10.5      ,64      ,  1,64121.0    ,240381.0   ,21         ,2,20170117,1433, -34.8326, -15.5014,     3259,     23.4,  18.1401,  35.5745,    244.5,2,    236.0,3,     0.01,2,     0.09,2,     0.01,3,     0.13,2,    1.385,3,   1.7750,2,   2077.0,2,   2337.0,2,20170117,1528
06M220170104  ,A10.5      ,64      ,  1,64120.0    ,240380.0   ,20         ,2,20170117,1433, -34.8326, -15.5014,     3259,     49.7,  17.1392,  35.5879,    245.5,2,    242.2,2,     0.28,2,     0.16,2,     0.02,3,     0.20,2,    1.504,3,   1.7690,2,   2086.2,2,   2340.6,2,20170117,1527
06M220170104  ,A10.5      ,64      ,  1,64119.0    ,240379.0   ,19         ,2,20170117,1433, -34.8326, -15.5014,     3259,     83.9,  15.6172,  35.5117,    233.3,2,    231.2,2,     0.96,2,     2.61,2,     0.18,3,     0.39,2,    1.540,3,   1.7610,2,     -999,9,     -999,9,20170117,1526
06M220170104  ,A10.5      ,64      ,  1,64118.0    ,240378.0   ,18         ,2,20170117,1433, -34.8326, -15.5014,     3259,     97.1,  15.0473,  35.3884,    242.5,2,    239.4,2,     0.69,2,     1.96,2,     0.17,3,     0.31,2,    1.649,3,   2.0420,2,   2098.0,2,   2329.4,2,20170117,1526
06M220170104  ,A10.5      ,64      ,  1,64117.0    ,240377.0   ,17         ,2,20170117,1433, -34.8326, -15.5014,     3259,    148.2,  13.8368,  35.2506,    238.7,2,    232.7,3,     0.96,2,     5.06,2,     0.03,3,     0.48,2,    1.621,3,   1.8910,2,     -999,9,     -999,9,20170117,1525
06M220170104  ,A10.5      ,64      ,  1,64116.0    ,240376.0   ,16         ,2,20170117,1433, -34.8326, -15.5014,     3259,    245.0,  13.2969,  35.2644,    226.8,2,    224.6,2,     1.72,2,     8.75,2,     0.03,3,     0.72,2,    1.694,3,   1.9040,2,   2131.3,2,   2324.1,2,20170117,1523
06M220170104  ,A10.5      ,64      ,  1,64115.0    ,240375.0   ,15         ,2,20170117,1433, -34.8326, -15.5014,     3259,    345.3,  12.0919,  35.0696,    224.6,2,    224.0,2,     2.60,2,    11.63,2,     0.01,3,     0.77,2,    1.734,3,   1.7460,2,     -999,9,     -999,9,20170117,1522
06M220170104  ,A10.5      ,64      ,  1,64114.0    ,240374.0   ,14         ,2,20170117,1433, -34.8326, -15.5014,     3259,    446.3,  10.2244,  34.8095,    217.3,2,    216.1,2,     4.40,2,    17.15,2,     0.01,3,     1.22,2,    1.912,2,   1.6780,2,   2151.5,2,   2298.9,2,20170117,1520
06M220170104  ,A10.5      ,64      ,  1,64113.0    ,240373.0   ,13         ,2,20170117,1433, -34.8326, -15.5014,     3259,    546.7,   8.0612,  34.5413,    221.7,2,    219.9,2,     6.24,2,    19.96,2,     0.01,3,     1.60,2,    1.974,2,   1.5920,2,     -999,9,     -999,9,20170117,1518
06M220170104  ,A10.5      ,64      ,  1,64112.0    ,240372.0   ,12         ,2,20170117,1433, -34.8326, -15.5014,     3259,    714.8,   5.0049,  34.2385,    246.0,2,    243.3,2,    14.39,2,    28.23,2,     0.02,3,     1.91,2,    2.146,2,   1.4990,2,     -999,9,     -999,9,20170117,1515
06M220170104  ,A10.5      ,64      ,  1,64111.0    ,240371.0   ,11         ,2,20170117,1433, -34.8326, -15.5014,     3259,    813.2,   4.2938,  34.2126,    245.2,2,    240.9,2,    19.77,2,    30.34,2,     0.02,3,     2.08,2,    1.973,2,   1.4090,2,   2183.1,2,   2279.6,2,20170117,1514
06M220170104  ,A10.5      ,64      ,  1,64110.0    ,240370.0   ,10         ,2,20170117,1433, -34.8326, -15.5014,     3259,    969.9,   3.7879,  34.2605,    227.0,2,    224.8,2,    30.97,2,    33.82,2,     0.02,3,     2.31,2,    1.480,2,   1.4390,3,     -999,9,     -999,9,20170117,1511
06M220170104  ,A10.5      ,64      ,  1,64109.0    ,240369.0   ,9          ,2,20170117,1433, -34.8326, -15.5014,     3259,   1239.6,   3.2022,  34.4083,    197.9,2,    197.1,2,    55.44,2,    42.06,3,     0.02,3,     2.87,3,     -999,9,     -999,9,   2231.7,2,   2301.9,2,20170117,1507
06M220170104  ,A10.5      ,64      ,  1,64108.0    ,240368.0   ,8          ,2,20170117,1433, -34.8326, -15.5014,     3259,   1438.6,   2.9046,  34.5102,    188.0,2,     -999,9,     -999,9,     -999,9,     -999,9,     -999,9,     -999,9,     -999,9,     -999,9,     -999,9,20170117,1503
06M220170104  ,A10.5      ,64      ,  1,64107.0    ,240367.0   ,7          ,2,20170117,1433, -34.8326, -15.5014,     3259,   1735.8,   2.8456,  34.6830,    194.2,2,    191.8,2,    51.15,2,    30.09,2,     0.01,3,     2.21,3,     -999,9,     -999,9,   2235.5,2,   2331.0,2,20170117,1459
06M220170104  ,A10.5      ,64      ,  1,64106.0    ,240366.0   ,6          ,2,20170117,1433, -34.8326, -15.5014,     3259,   2047.6,   2.8421,  34.8000,    214.8,2,    212.1,2,    54.60,2,    30.55,2,     0.02,3,     2.20,3,     -999,9,     -999,9,   2219.4,2,   2330.1,2,20170117,1453
06M220170104  ,A10.5      ,64      ,  1,64105.0    ,240365.0   ,5          ,2,20170117,1433, -34.8326, -15.5014,     3259,   2238.0,   2.7753,  34.8315,    224.0,2,    220.2,2,    55.46,2,    30.51,2,     0.02,3,     2.13,3,     -999,9,     -999,9,     -999,9,     -999,9,20170117,1450
06M220170104  ,A10.5      ,64      ,  1,64104.0    ,240364.0   ,4          ,2,20170117,1433, -34.8326, -15.5014,     3259,   2528.2,   2.6518,  34.8606,    232.9,2,    229.3,2,    54.74,2,    28.23,2,     0.01,3,     2.01,3,     -999,9,     -999,9,   2206.5,2,   2332.8,2,20170117,1445
06M220170104  ,A10.5      ,64      ,  1,64103.0    ,240363.0   ,3          ,2,20170117,1433, -34.8326, -15.5014,     3259,   2745.4,   2.5051,  34.8641,    236.6,2,    235.8,2,    57.33,2,    29.22,2,     0.02,3,     2.16,3,     -999,9,     -999,9,   2205.4,2,   2333.4,2,20170117,1442
06M220170104  ,A10.5      ,64      ,  1,64102.0    ,240362.0   ,2          ,2,20170117,1433, -34.8326, -15.5014,     3259,   2992.9,   2.4104,  34.8617,    237.7,2,    235.0,2,    62.36,2,    31.11,2,     0.01,3,     2.22,3,     -999,9,     -999,9,   2207.0,2,   2335.4,2,20170117,1438
06M220170104  ,A10.5      ,64      ,  1,64101.0    ,240361.0   ,1          ,2,20170117,1433, -34.8326, -15.5014,     3259,   3249.4,   2.3868,  34.8606,    238.1,2,    236.6,2,    59.24,2,    29.69,2,     0.02,3,     2.01,3,     -999,9,     -999,9,   2204.6,2,   2336.6,2,20170117,1433
06M220170104  ,A10.5      ,65      ,  1,65122.0    ,240404.0   ,22         ,2,20170117,2226, -34.8329, -16.3589,     3394,      5.1,  20.1486,  35.4422,    233.9,2,    232.2,2,     0.25,2,     0.71,2,     0.01,2,     0.13,2,    1.347,2,   1.8230,2,   2069.6,2,   2336.1,2,20170117,2321
06M220170104  ,A10.5      ,65      ,  1,65121.0    ,240403.0   ,21         ,2,20170117,2226, -34.8329, -16.3589,     3394,     49.2,  16.8258,  35.5375,    248.0,2,    248.0,2,     0.44,2,     0.70,2,     0.02,2,     0.19,2,    1.503,2,   1.9220,2,   2084.0,2,   2343.9,2,20170117,2320
06M220170104  ,A10.5      ,65      ,  1,65120.0    ,240402.0   ,20         ,2,20170117,2226, -34.8329, -16.3589,     3394,     98.3,  15.2021,  35.5274,    231.2,2,    232.2,2,     1.10,2,     3.70,2,     0.10,2,     0.31,2,    1.589,2,   1.8910,2,   2105.1,2,   2341.8,2,20170117,2318
06M220170104  ,A10.5      ,65      ,  1,65119.0    ,240401.0   ,19         ,2,20170117,2226, -34.8329, -16.3589,     3394,    148.7,  14.3814,  35.4895,    231.2,2,    231.4,2,     1.35,2,     5.53,2,     0.02,2,     0.44,2,    1.617,2,   1.9420,2,     -999,9,     -999,9,20170117,2318
06M220170104  ,A10.5      ,65      ,  1,65118.0    ,240400.0   ,18         ,2,20170117,2226, -34.8329, -16.3589,     3394,    197.7,  14.2540,  35.5034,    233.5,2,    233.6,2,     1.76,2,     6.64,2,     0.02,2,     0.51,2,    1.629,2,   1.8410,2,   2122.3,2,   2341.6,2,20170117,2317
06M220170104  ,A10.5      ,65      ,  1,65117.0    ,240399.0   ,17         ,2,20170117,2226, -34.8329, -16.3589,     3394,    297.8,  12.7389,  35.2191,    218.1,2,    220.3,2,     2.70,2,    10.66,2,     0.02,2,     0.72,2,    1.755,2,   1.7100,2,   2128.3,2,   2325.8,2,20170117,2315
06M220170104  ,A10.5      ,65      ,  1,65116.0    ,240398.0   ,16         ,2,20170117,2226, -34.8329, -16.3589,     3394,    486.0,   9.0347,  34.6721,    213.9,2,    214.3,2,     6.52,2,    20.22,2,     0.01,2,     1.34,2,    1.926,2,   1.4280,2,   2149.1,2,   2296.6,2,20170117,2312
06M220170104  ,A10.5      ,65      ,  1,65115.0    ,240397.0   ,15         ,2,20170117,2226, -34.8329, -16.3589,     3394,    595.8,   6.5133,  34.3847,    229.1,2,    228.8,2,     9.08,2,    21.55,2,     0.01,2,     1.53,2,    2.033,2,   1.3960,2,   2157.8,2,   2288.2,2,20170117,2310
06M220170104  ,A10.5      ,65      ,  1,65114.0    ,240396.0   ,14         ,2,20170117,2226, -34.8329, -16.3589,     3394,    695.5,   5.2634,  34.2732,    239.9,2,    240.0,2,    16.56,2,    27.85,2,     0.01,2,     1.81,2,    2.036,2,   1.4620,2,     -999,9,     -999,9,20170117,2309
06M220170104  ,A10.5      ,65      ,  1,65113.0    ,240395.0   ,13         ,2,20170117,2226, -34.8329, -16.3589,     3394,    796.1,   4.6628,  34.2486,    238.9,2,    237.7,2,    16.53,3,    26.94,3,     0.01,3,     1.70,3,    1.898,2,   1.2310,2,   2170.1,2,   2287.6,2,20170117,2307
06M220170104  ,A10.5      ,65      ,  1,65112.0    ,240394.0   ,12         ,2,20170117,2226, -34.8329, -16.3589,     3394,    999.1,   3.6147,  34.2747,    222.5,2,    221.3,2,    32.53,2,    33.79,2,     0.01,2,     2.16,2,    1.336,2,   0.7750,2,   2199.9,2,   2298.7,2,20170117,2304
06M220170104  ,A10.5      ,65      ,  1,65111.0    ,240393.0   ,11         ,2,20170117,2226, -34.8329, -16.3589,     3394,   1288.8,   3.1451,  34.4428,    194.2,2,    192.8,2,    48.52,2,    34.71,2,     0.01,2,     2.21,2,    0.557,2,   0.2150,2,   2221.0,2,   2316.0,2,20170117,2259
06M220170104  ,A10.5      ,65      ,  1,65110.0    ,240392.0   ,10         ,2,20170117,2226, -34.8329, -16.3589,     3394,   1498.6,   2.8777,  34.5570,    186.5,2,    185.4,2,    54.77,2,    32.79,2,     0.01,2,     2.21,2,    0.293,2,   0.0940,2,   2234.9,2,   2328.0,2,20170117,2254
06M220170104  ,A10.5      ,65      ,  1,65109.0    ,240391.0   ,9          ,2,20170117,2226, -34.8329, -16.3589,     3394,   1746.4,   2.8507,  34.6911,    194.3,2,    193.2,2,    57.23,3,    30.47,3,     0.01,3,     2.08,3,    0.119,2,   0.0000,2,   2223.8,2,   2330.7,2,20170117,2250
06M220170104  ,A10.5      ,65      ,  1,65108.0    ,240390.0   ,8          ,2,20170117,2226, -34.8329, -16.3589,     3394,   1747.6,   2.8508,  34.6898,    194.2,2,    193.4,2,    59.12,2,    34.25,2,     0.01,2,     2.22,2,    0.191,4,   0.0000,2,     -999,9,     -999,9,20170117,2250
06M220170104  ,A10.5      ,65      ,  1,65107.0    ,240389.0   ,7          ,2,20170117,2226, -34.8329, -16.3589,     3394,   1995.3,   2.8633,  34.7809,    208.1,2,    207.4,2,    55.84,2,    32.42,2,     0.01,2,     2.06,2,    0.077,2,   0.0000,2,   2219.0,2,   2336.1,2,20170117,2246
06M220170104  ,A10.5      ,65      ,  1,65106.0    ,240388.0   ,6          ,2,20170117,2226, -34.8329, -16.3589,     3394,   2245.6,   2.7863,  34.8179,    218.2,2,    217.3,2,    35.22,4,    17.30,4,     0.01,4,     1.32,4,    0.137,3,   0.0000,2,     -999,9,     -999,9,20170117,2242
06M220170104  ,A10.5      ,65      ,  1,65105.0    ,240387.0   ,5          ,2,20170117,2226, -34.8329, -16.3589,     3394,   2497.3,   2.6717,  34.8565,    230.5,2,    229.2,2,    48.08,2,    25.87,2,     0.01,2,     1.66,2,    0.048,2,   0.0000,2,   2198.4,2,   2336.5,2,20170117,2238
06M220170104  ,A10.5      ,65      ,  1,65104.0    ,240386.0   ,4          ,2,20170117,2226, -34.8329, -16.3589,     3394,   2745.7,   2.4262,  34.8638,    237.5,2,    236.6,2,    47.82,2,    24.07,2,     0.01,2,     1.52,2,    0.052,2,   0.0000,2,     -999,9,     -999,9,20170117,2234
06M220170104  ,A10.5      ,65      ,  1,65103.0    ,240385.0   ,3          ,2,20170117,2226, -34.8329, -16.3589,     3394,   2968.1,   2.2840,  34.8572,    238.7,2,    239.3,2,    38.59,3,    17.28,3,     0.01,3,     1.30,3,    0.029,2,   0.0000,2,   2205.3,2,   2341.0,2,20170117,2231
06M220170104  ,A10.5      ,65      ,  1,65102.0    ,240384.0   ,2          ,2,20170117,2226, -34.8329, -16.3589,     3394,   3232.0,   2.1793,  34.8497,    238.0,2,    237.7,2,    46.41,3,    21.46,3,     0.01,3,     1.58,3,    0.136,4,   0.0000,2,     -999,9,     -999,9,20170117,2226
06M220170104  ,A10.5      ,65      ,  1,65101.0    ,240383.0   ,1          ,2,20170117,2226, -34.8329, -16.3589,     3394,   3232.0,   2.1799,  34.8495,    238.1,2,    237.7,2,    59.49,2,    29.29,2,     0.02,2,     1.84,2,    0.041,2,   0.0000,2,   2201.6,2,   2342.9,2,20170117,2226
06M220170104  ,A10.5      ,66      ,  1,66122.0    ,240426.0   ,22         ,2,20170118,0332, -34.4980, -16.8557,     3985,      8.9,  19.9909,  35.4741,    234.6,2,    232.3,2,     0.33,2,     0.66,3,     0.01,2,     0.13,2,    1.324,2,   1.7100,2,   2069.3,2,   2336.8,2,20170118,0439
06M220170104  ,A10.5      ,66      ,  1,66121.0    ,240425.0   ,21         ,2,20170118,0332, -34.4980, -16.8557,     3985,     22.2,  19.1928,  35.5015,    238.4,2,    239.3,2,     0.32,2,     0.67,3,     0.01,2,     0.16,2,     -999,9,     -999,9,   2068.2,2,   2338.0,2,20170118,0438
06M220170104  ,A10.5      ,66      ,  1,66120.0    ,240424.0   ,20         ,2,20170118,0332, -34.4980, -16.8557,     3985,     46.9,  17.8525,  35.5321,    245.0,2,    245.3,2,     0.31,2,     0.76,3,     0.02,2,     0.16,2,    1.420,2,   1.8040,2,   2076.8,2,   2340.7,2,20170118,0438
06M220170104  ,A10.5      ,66      ,  1,66119.0    ,240423.0   ,19         ,2,20170118,0332, -34.4980, -16.8557,     3985,     67.8,  16.2017,  35.5473,    245.2,2,    244.0,2,     0.53,2,     0.96,3,     0.06,2,     0.23,2,     -999,9,     -999,9,     -999,9,     -999,9,20170118,0437
06M220170104  ,A10.5      ,66      ,  1,66118.0    ,240422.0   ,18         ,2,20170118,0332, -34.4980, -16.8557,     3985,    147.8,  14.3616,  35.4207,    222.9,2,    221.7,2,     2.01,2,     7.54,3,     0.03,2,     0.62,2,    1.609,2,   1.7860,2,   2117.8,2,   2331.7,2,20170118,0435
06M220170104  ,A10.5      ,66      ,  1,66117.0    ,240421.0   ,17         ,2,20170118,0332, -34.4980, -16.8557,     3985,    248.2,  14.0653,  35.4806,    231.0,2,    230.8,2,     1.68,2,     6.80,3,     0.02,2,     0.56,2,     -999,9,     -999,9,     -999,9,     -999,9,20170118,0433
06M220170104  ,A10.5      ,66      ,  1,66116.0    ,240420.0   ,16         ,2,20170118,0332, -34.4980, -16.8557,     3985,    347.7,  12.4218,  35.1681,    223.7,2,    223.4,2,     2.79,2,    11.15,3,     0.02,2,     0.80,2,    1.736,2,   1.8370,2,   2124.4,2,   2320.9,2,20170118,0431
06M220170104  ,A10.5      ,66      ,  1,66115.0    ,240419.0   ,15         ,2,20170118,0332, -34.4980, -16.8557,     3985,    488.5,   9.4289,  34.7329,    209.9,2,    217.6,4,     5.96,2,    17.10,3,     0.02,2,     1.21,2,     -999,9,     -999,9,     -999,9,     -999,9,20170118,0429
06M220170104  ,A10.5      ,66      ,  1,66114.0    ,240418.0   ,14         ,2,20170118,0332, -34.4980, -16.8557,     3985,    577.1,   7.6522,  34.5187,    217.2,2,    216.3,2,    10.61,2,    26.61,3,     0.02,2,     1.76,2,    1.903,2,   1.3200,2,   2162.7,2,   2293.0,2,20170118,0428
06M220170104  ,A10.5      ,66      ,  1,66113.0    ,240417.0   ,13         ,2,20170118,0332, -34.4980, -16.8557,     3985,    748.6,   4.7831,  34.2124,    254.5,2,    254.0,2,    11.13,3,    21.50,3,     0.01,3,     1.76,3,    2.136,2,   1.6310,2,     -999,9,     -999,9,20170118,0425
06M220170104  ,A10.5      ,66      ,  1,66112.0    ,240416.0   ,12         ,2,20170118,0332, -34.4980, -16.8557,     3985,    837.0,   4.3055,  34.1993,    252.7,2,    251.8,2,    16.89,3,    27.29,3,     0.01,3,     1.91,3,    2.024,2,   1.5340,2,   2173.4,2,   2287.3,2,20170118,0423
06M220170104  ,A10.5      ,66      ,  1,66111.0    ,240415.0   ,11         ,2,20170118,0332, -34.4980, -16.8557,     3985,    937.6,   3.8392,  34.2194,    239.9,2,    238.3,2,    18.38,3,    22.12,3,     0.01,3,     1.74,3,    1.729,2,   1.1370,2,     -999,9,     -999,9,20170118,0422
06M220170104  ,A10.5      ,66      ,  1,66110.0    ,240414.0   ,10         ,2,20170118,0332, -34.4980, -16.8557,     3985,   1246.6,   3.1039,  34.3690,    200.6,2,    199.5,2,    44.00,2,    33.03,3,     0.01,2,     2.23,2,    0.801,2,   0.3690,2,   2226.6,2,   2314.1,2,20170118,0417
06M220170104  ,A10.5      ,66      ,  1,66109.0    ,240413.0   ,9          ,2,20170118,0332, -34.4980, -16.8557,     3985,   1497.0,   2.8559,  34.5408,    185.5,2,    184.4,2,    58.18,2,    34.73,3,     0.01,2,     2.27,2,    0.330,2,   0.1380,2,   2238.0,2,   2329.6,2,20170118,0412
06M220170104  ,A10.5      ,66      ,  1,66108.0    ,240412.0   ,8          ,2,20170118,0332, -34.4980, -16.8557,     3985,   1747.0,   2.8368,  34.6975,    193.4,2,     -999,9,     -999,9,     -999,9,     -999,9,     -999,9,     -999,9,     -999,9,     -999,9,     -999,9,20170118,0408
06M220170104  ,A10.5      ,66      ,  1,66107.0    ,240411.0   ,7          ,2,20170118,0332, -34.4980, -16.8557,     3985,   1998.9,   2.9102,  34.7840,    207.6,2,    206.6,2,    48.48,2,    26.22,3,     0.01,2,     1.78,2,     -999,9,     -999,9,     -999,9,     -999,9,20170118,0404
06M220170104  ,A10.5      ,66      ,  1,66106.0    ,240410.0   ,6          ,2,20170118,0332, -34.4980, -16.8557,     3985,   2196.3,   2.9071,  34.8373,    221.3,2,    220.2,2,    46.66,2,    25.10,3,     0.01,2,     1.74,2,     -999,9,     -999,9,   2210.7,2,   2335.6,2,20170118,0401
06M220170104  ,A10.5      ,66      ,  1,66105.0    ,240409.0   ,5          ,2,20170118,0332, -34.4980, -16.8557,     3985,   2496.9,   2.7793,  34.8718,    233.7,2,    233.9,2,    46.56,2,    26.57,3,     0.01,2,     1.76,2,     -999,9,     -999,9,     -999,9,     -999,9,20170118,0356
06M220170104  ,A10.5      ,66      ,  1,66104.0    ,240408.0   ,4          ,2,20170118,0332, -34.4980, -16.8557,     3985,   2720.1,   2.6290,  34.8780,    238.5,2,    238.9,2,    34.84,4,    18.67,3,     0.01,4,     1.36,4,     -999,9,     -999,9,     -999,9,     -999,9,20170118,0353
06M220170104  ,A10.5      ,66      ,  1,66103.0    ,240407.0   ,3          ,2,20170118,0332, -34.4980, -16.8557,     3985,   2876.9,   2.4877,  34.8712,    238.8,2,    238.8,2,    48.63,2,    25.40,3,     0.01,2,     1.63,2,     -999,9,     -999,9,   2199.7,2,   2338.5,2,20170118,0350
06M220170104  ,A10.5      ,66      ,  1,66102.0    ,240406.0   ,2          ,2,20170118,0332, -34.4980, -16.8557,     3985,   3499.1,   2.0623,  34.8383,    236.6,2,    236.3,2,    54.22,2,    20.83,3,     0.01,2,     1.55,2,     -999,9,     -999,9,   2215.2,2,   2346.7,2,20170118,0340
06M220170104  ,A10.5      ,66      ,  1,66101.0    ,240405.0   ,1          ,2,20170118,0332, -34.4980, -16.8557,     3985,   3974.7,   2.0414,  34.8311,    235.6,2,    239.0,3,    63.64,2,    26.06,3,     0.01,2,     1.76,2,     -999,9,     -999,9,   2218.5,2,   2347.5,2,20170118,0332