BOTTLE,20240228CCHSIOADS
EXPOCODE,SECT_ID,STNNBR,CASTNO,SAMPNO,BIONBR,BTLNBR,BTLNBR_FLAG_W,DATE,TIME,LATITUDE,LONGITUDE,DEPTH,CTDPRS,CTDTMP,CTDSAL,CTDOXY,CTDOXY_FLAG_W,OXYGEN,OXYGEN_FLAG_W,SILCAT,SILCAT_FLAG_W,NITRAT,NITRAT_FLAG_W,NITRIT,NITRIT_FLAG_W,PHSPHT,PHSPHT_FLAG_W,CFC-12,CFC-12_FLAG_W,SF6,SF6_FLAG_W,TCARBN,TCARBN_FLAG_W,ALKALI,ALKALI_FLAG_W,BTL_DATE,BTL_TIME
,,,,,,,,,,,,METERS,DBAR,ITS-90,PSS-78,UMOL/KG,,UMOL/KG,,UMOL/KG,,UMOL/KG,,UMOL/KG,,UMOL/KG,,PMOL/KG,,FMOL/KG,,UMOL/KG,,UMOL/KG,,,
06M220170104  ,A10.5      ,70      ,  1,70122.0    ,241022.0   ,22         ,2,20170118,2331, -34.4997, -19.4743,     3991,      8.7,  21.4456,  35.5606,    227.3,2,    228.1,2,    -0.11,2,    -0.10,2,     0.00,2,     0.18,2,     -999,9,     -999,9,   2074.0,2,   2345.8,2,20170119,0030
06M220170104  ,A10.5      ,70      ,  1,70121.0    ,241021.0   ,21         ,2,20170118,2331, -34.4997, -19.4743,     3991,     69.3,  18.6716,  35.7436,    240.8,2,    243.6,2,     0.35,2,    -0.03,2,     0.01,2,     0.13,2,     -999,9,     -999,9,   2076.2,2,   2353.3,2,20170119,0028
06M220170104  ,A10.5      ,70      ,  1,70120.0    ,241020.0   ,20         ,2,20170118,2331, -34.4997, -19.4743,     3991,    131.7,  15.8553,  35.5577,    226.0,2,    229.9,2,     0.89,2,     2.82,2,     0.08,2,     0.41,2,     -999,9,     -999,9,   2101.2,2,   2343.4,2,20170119,0027
06M220170104  ,A10.5      ,70      ,  1,70119.0    ,241019.0   ,19         ,2,20170118,2331, -34.4997, -19.4743,     3991,    196.5,  14.7388,  35.4896,    223.0,2,    225.5,2,     1.41,2,     5.98,2,     0.02,2,     0.49,2,     -999,9,     -999,9,     -999,9,     -999,9,20170119,0025
06M220170104  ,A10.5      ,70      ,  1,70118.0    ,241018.0   ,18         ,2,20170118,2331, -34.4997, -19.4743,     3991,    272.1,  13.9474,  35.3972,    221.0,2,    221.2,2,     2.18,2,     9.20,2,     0.01,2,     0.75,2,     -999,9,     -999,9,   2124.4,2,   2333.2,2,20170119,0024
06M220170104  ,A10.5      ,70      ,  1,70117.0    ,241017.0   ,17         ,2,20170118,2331, -34.4997, -19.4743,     3991,    397.9,  12.3456,  35.1346,    213.6,2,    214.2,2,     3.89,2,    14.16,2,     0.01,2,     0.95,2,     -999,9,     -999,9,   2137.4,2,   2319.1,2,20170119,0022
06M220170104  ,A10.5      ,70      ,  1,70116.0    ,241016.0   ,16         ,2,20170118,2331, -34.4997, -19.4743,     3991,    627.5,   8.1545,  34.5873,    208.0,2,    211.1,2,    12.31,2,    27.23,2,     0.00,2,     1.89,3,     -999,9,     -999,9,   2165.0,2,   2293.9,2,20170119,0018
06M220170104  ,A10.5      ,70      ,  1,70115.0    ,241015.0   ,15         ,2,20170118,2331, -34.4997, -19.4743,     3991,    797.0,   5.6464,  34.3350,    225.5,2,    226.9,2,    16.87,2,    29.64,2,     0.00,2,     1.98,2,     -999,9,     -999,9,     -999,9,     -999,9,20170119,0015
06M220170104  ,A10.5      ,70      ,  1,70114.0    ,241014.0   ,14         ,2,20170118,2331, -34.4997, -19.4743,     3991,    963.8,   4.1247,  34.2361,    236.8,2,    237.4,2,    25.33,2,    33.23,2,     0.00,2,     2.34,2,     -999,9,     -999,9,   2183.8,2,   2290.3,2,20170119,0013
06M220170104  ,A10.5      ,70      ,  1,70113.0    ,241013.0   ,13         ,2,20170118,2331, -34.4997, -19.4743,     3991,   1095.1,   3.5679,  34.2847,    220.0,2,    222.3,2,    35.04,2,    34.16,2,     0.00,2,     2.36,2,     -999,9,     -999,9,   2196.9,2,   2302.3,2,20170119,0011
06M220170104  ,A10.5      ,70      ,  1,70112.0    ,241012.0   ,12         ,2,20170118,2331, -34.4997, -19.4743,     3991,   1246.9,   3.2244,  34.3535,    204.2,2,    204.5,2,    46.00,2,    38.46,3,     0.00,2,     2.39,2,     -999,9,     -999,9,   2219.8,2,   2311.5,2,20170119,0008
06M220170104  ,A10.5      ,70      ,  1,70111.0    ,241011.0   ,11         ,2,20170118,2331, -34.4997, -19.4743,     3991,   1497.4,   2.8888,  34.5105,    184.6,2,    185.3,2,    62.31,2,    40.77,3,     0.01,2,     2.81,3,     -999,9,     -999,9,   2243.9,2,   2330.0,2,20170119,0004
06M220170104  ,A10.5      ,70      ,  1,70110.0    ,241010.0   ,10         ,2,20170118,2331, -34.4997, -19.4743,     3991,   1746.1,   2.8705,  34.6621,    188.0,2,    201.3,4,    67.36,2,    41.32,3,     0.00,2,     2.78,3,     -999,9,     -999,9,     -999,9,     -999,9,20170119,0000
06M220170104  ,A10.5      ,70      ,  1,70109.0    ,241009.0   ,9          ,2,20170118,2331, -34.4997, -19.4743,     3991,   1995.0,   2.9303,  34.7703,    204.9,2,    205.3,2,    77.69,3,    41.26,3,     0.01,2,     2.96,3,     -999,9,     -999,9,   2225.9,2,   2335.2,2,20170118,2356
06M220170104  ,A10.5      ,70      ,  1,70108.0    ,241008.0   ,8          ,2,20170118,2331, -34.4997, -19.4743,     3991,   1996.7,   2.9281,  34.7704,    205.1,2,     -999,9,     -999,9,     -999,9,     -999,9,     -999,9,     -999,9,     -999,9,     -999,9,     -999,9,20170118,2356
06M220170104  ,A10.5      ,70      ,  1,70107.0    ,241007.0   ,7          ,2,20170118,2331, -34.4997, -19.4743,     3991,   2247.4,   2.8945,  34.8225,    219.4,2,    220.8,2,    49.51,3,    28.48,3,     0.00,2,     1.97,3,     -999,9,     -999,9,   2211.8,2,   2332.7,2,20170118,2352
06M220170104  ,A10.5      ,70      ,  1,70106.0    ,241006.0   ,6          ,2,20170118,2331, -34.4997, -19.4743,     3991,   2496.7,   2.8524,  34.8679,    232.8,2,    233.8,2,    50.72,3,    29.08,3,     0.00,2,     1.93,3,     -999,9,     -999,9,   2198.7,2,   2336.0,2,20170118,2348
06M220170104  ,A10.5      ,70      ,  1,70105.0    ,241005.0   ,5          ,2,20170118,2331, -34.4997, -19.4743,     3991,   2746.3,   2.7579,  34.8870,    240.5,2,    244.2,3,    44.28,3,    25.25,2,     0.00,2,     1.72,3,     -999,9,     -999,9,     -999,9,     -999,9,20170118,2344
06M220170104  ,A10.5      ,70      ,  1,70104.0    ,241004.0   ,4          ,2,20170118,2331, -34.4997, -19.4743,     3991,   2997.5,   2.5563,  34.8819,    242.2,2,    277.9,4,    52.37,3,    28.21,3,     0.00,2,     1.96,3,     -999,9,     -999,9,   2196.3,2,   2340.9,2,20170118,2340
06M220170104  ,A10.5      ,70      ,  1,70103.0    ,241003.0   ,3          ,2,20170118,2331, -34.4997, -19.4743,     3991,   3197.8,   2.3533,  34.8670,    241.1,2,    242.4,2,    77.96,3,    37.08,4,     0.01,4,     2.65,4,     -999,9,     -999,9,   2201.8,2,   2339.3,2,20170118,2337
06M220170104  ,A10.5      ,70      ,  1,70102.0    ,241002.0   ,2          ,2,20170118,2331, -34.4997, -19.4743,     3991,   3520.6,   2.0092,  34.8365,    237.6,2,    239.6,2,    65.99,3,    26.69,2,     0.00,2,     1.81,2,     -999,9,     -999,9,     -999,9,     -999,9,20170118,2331
06M220170104  ,A10.5      ,70      ,  1,70101.0    ,241001.0   ,1          ,2,20170118,2331, -34.4997, -19.4743,     3991,   3521.2,   2.0074,  34.8365,    237.6,2,     -999,9,    59.96,3,    27.55,2,     0.00,2,     1.84,2,     -999,9,     -999,9,   2210.4,2,   2349.0,2,20170118,2331
06M220170104  ,A10.5      ,71      ,  1,71122.0    ,241044.0   ,22         ,2,20170119,0428, -34.4998, -20.1288,     4004,      8.7,  22.5047,  35.7043,    222.2,2,    226.6,2,     0.70,2,     0.54,2,     0.01,2,     0.11,2,    1.197,2,   1.6710,2,   2073.3,2,   2352.2,2,20170119,0532
06M220170104  ,A10.5      ,71      ,  1,71121.0    ,241043.0   ,21         ,2,20170119,0428, -34.4998, -20.1288,     4004,     24.0,  21.0461,  35.6841,    232.4,2,    234.8,2,     0.66,2,     0.56,2,     0.01,2,     0.15,2,    1.291,2,   1.7260,2,   2074.7,2,   2350.3,2,20170119,0532
06M220170104  ,A10.5      ,71      ,  1,71120.0    ,241042.0   ,20         ,2,20170119,0428, -34.4998, -20.1288,     4004,     48.9,  19.4030,  35.7618,    239.8,2,    241.8,2,     0.76,2,     0.59,2,     0.02,2,     0.16,2,    1.339,2,   1.7120,2,   2071.4,2,   2352.6,2,20170119,0531
06M220170104  ,A10.5      ,71      ,  1,71119.0    ,241041.0   ,19         ,2,20170119,0428, -34.4998, -20.1288,     4004,    118.2,  17.1586,  35.6817,    239.9,2,    242.5,2,     0.49,2,     0.56,2,     0.01,2,     0.31,2,    1.468,2,   1.8110,2,   2086.4,2,   2348.8,2,20170119,0529
06M220170104  ,A10.5      ,71      ,  1,71118.0    ,241040.0   ,18         ,2,20170119,0428, -34.4998, -20.1288,     4004,    267.6,  14.1700,  35.3774,    219.8,2,    222.6,2,     1.97,2,     7.33,2,     0.02,2,     0.58,2,    1.648,2,   1.7010,2,     -999,9,     -999,9,20170119,0526
06M220170104  ,A10.5      ,71      ,  1,71117.0    ,241039.0   ,17         ,2,20170119,0428, -34.4998, -20.1288,     4004,    347.2,  13.0566,  35.2367,    216.6,2,    217.3,2,     2.90,2,    10.64,2,     0.01,2,     0.77,2,    1.720,2,   1.6210,2,   2119.5,2,   2322.3,2,20170119,0525
06M220170104  ,A10.5      ,71      ,  1,71116.0    ,241038.0   ,16         ,2,20170119,0428, -34.4998, -20.1288,     4004,    437.2,  11.5008,  35.0020,    208.7,2,    210.7,2,     4.90,2,    15.71,2,     0.01,2,     1.05,2,    1.798,2,   1.4880,2,     -999,9,     -999,9,20170119,0523
06M220170104  ,A10.5      ,71      ,  1,71115.0    ,241037.0   ,15         ,2,20170119,0428, -34.4998, -20.1288,     4004,    548.0,   9.4321,  34.7337,    207.8,2,    209.2,2,     7.38,2,    20.30,2,     0.01,2,     1.34,2,    1.816,2,   1.3180,2,   2143.2,2,   2300.1,2,20170119,0521
06M220170104  ,A10.5      ,71      ,  1,71114.0    ,241036.0   ,14         ,2,20170119,0428, -34.4998, -20.1288,     4004,    697.5,   6.8805,  34.4483,    216.1,2,    218.7,2,    12.34,2,    26.12,2,     0.01,2,     1.69,2,    1.851,2,   1.1350,2,   2168.9,2,   2293.2,2,20170119,0519
06M220170104  ,A10.5      ,71      ,  1,71113.0    ,241035.0   ,13         ,2,20170119,0428, -34.4998, -20.1288,     4004,    845.5,   5.1330,  34.3013,    227.0,2,    230.0,2,    18.20,2,    29.31,2,     0.01,2,     1.93,2,    1.762,2,   1.0580,2,     -999,9,     -999,9,20170119,0516
06M220170104  ,A10.5      ,71      ,  1,71112.0    ,241034.0   ,12         ,2,20170119,0428, -34.4998, -20.1288,     4004,    996.5,   4.1124,  34.2597,    229.4,2,    231.0,2,    24.88,2,    31.12,2,     0.01,2,     2.04,2,    1.556,2,   0.8620,2,   2176.2,2,   2293.2,2,20170119,0514
06M220170104  ,A10.5      ,71      ,  1,71111.0    ,241033.0   ,11         ,2,20170119,0428, -34.4998, -20.1288,     4004,   1233.9,   3.2690,  34.3568,    204.4,2,    204.5,2,    42.73,2,    34.56,2,     0.01,2,     2.26,2,    0.828,2,   0.4000,2,   2211.6,2,   2310.9,2,20170119,0510
06M220170104  ,A10.5      ,71      ,  1,71110.0    ,241032.0   ,10         ,2,20170119,0428, -34.4998, -20.1288,     4004,   1497.3,   2.9216,  34.5174,    187.6,2,    187.8,2,    54.26,2,    35.36,2,     0.01,2,     2.30,2,    0.338,2,   0.1230,2,   2225.9,2,   2326.4,2,20170119,0505
06M220170104  ,A10.5      ,71      ,  1,71109.0    ,241031.0   ,9          ,2,20170119,0428, -34.4998, -20.1288,     4004,   1734.8,   2.8586,  34.6615,    191.1,2,    191.4,2,    52.77,2,    32.68,2,     0.00,2,     2.08,2,    0.137,2,   0.0820,2,     -999,9,     -999,9,20170119,0501
06M220170104  ,A10.5      ,71      ,  1,71108.0    ,241030.0   ,8          ,2,20170119,0428, -34.4998, -20.1288,     4004,   1995.4,   2.8752,  34.7678,    207.6,2,      0.0,4,     -999,9,     -999,9,     -999,9,     -999,9,     -999,9,     -999,9,     -999,9,     -999,9,20170119,0457
06M220170104  ,A10.5      ,71      ,  1,71107.0    ,241029.0   ,7          ,2,20170119,0428, -34.4998, -20.1288,     4004,   1997.8,   2.8695,  34.7681,    207.8,2,    208.5,2,    49.89,2,    29.40,2,     0.00,2,     1.87,2,    0.069,2,   0.0000,2,   2209.7,2,   2334.9,2,20170119,0457
06M220170104  ,A10.5      ,71      ,  1,71106.0    ,241028.0   ,6          ,2,20170119,0428, -34.4998, -20.1288,     4004,   2496.3,   2.8740,  34.8734,    234.1,2,    235.2,2,    39.80,2,    23.02,2,     0.00,2,     1.57,2,    0.040,2,   0.0000,2,   2187.8,2,   2332.2,2,20170119,0449
06M220170104  ,A10.5      ,71      ,  1,71105.0    ,241027.0   ,5          ,2,20170119,0428, -34.4998, -20.1288,     4004,   2996.8,   2.5580,  34.8785,    241.6,2,    242.5,2,    44.78,2,    24.40,2,     0.00,2,     1.58,2,    0.022,2,   0.0000,2,   2186.1,2,   2335.7,2,20170119,0440
06M220170104  ,A10.5      ,71      ,  1,71104.0    ,241026.0   ,4          ,2,20170119,0428, -34.4998, -20.1288,     4004,   3247.2,   2.3708,  34.8685,    242.0,2,    243.1,2,    50.45,2,    24.75,2,     0.00,2,     1.61,2,    0.017,2,   0.0000,2,   2183.8,2,   2341.6,2,20170119,0436
06M220170104  ,A10.5      ,71      ,  1,71103.0    ,241025.0   ,3          ,2,20170119,0428, -34.4998, -20.1288,     4004,   3497.2,   2.0763,  34.8428,    238.4,2,    240.9,2,    58.44,2,    26.16,2,     0.00,2,     1.68,2,    0.024,2,   0.0000,2,     -999,9,     -999,9,20170119,0432
06M220170104  ,A10.5      ,71      ,  1,71101.0    ,241023.0   ,1          ,2,20170119,0428, -34.4998, -20.1288,     4004,   3652.0,   1.9226,  34.8281,    236.8,2,    238.6,2,    62.42,2,    27.26,2,     0.00,2,     1.79,2,    0.026,2,   0.0000,2,   2203.5,2,   2348.4,2,20170119,0428
06M220170104  ,A10.5      ,71      ,  1,71102.0    ,241024.0   ,2          ,2,20170119,0428, -34.4998, -20.1288,     4004,   3652.9,   1.9213,  34.8279,    236.9,2,    238.5,2,    61.54,2,    26.39,2,     0.00,2,     1.70,2,    0.027,2,   0.0000,2,     -999,9,     -999,9,20170119,0429
06M220170104  ,A10.5      ,72      ,  1,72122.0    ,241066.0   ,22         ,2,20170119,0938, -34.4996, -20.7841,     4047,      7.4,  21.9440,  35.7205,    225.3,2,    224.2,2,     0.70,2,     0.24,2,     0.00,2,     0.14,2,     -999,9,     -999,9,   2073.8,2,   2349.7,2,20170119,1048
06M220170104  ,A10.5      ,72      ,  1,72121.0    ,241065.0   ,21         ,2,20170119,0938, -34.4996, -20.7841,     4047,     49.5,  19.0293,  35.7205,    241.4,2,     -999,9,     -999,9,     -999,9,     -999,9,     -999,9,     -999,9,     -999,9,     -999,9,     -999,9,20170119,1046
06M220170104  ,A10.5      ,72      ,  1,72120.0    ,241064.0   ,20         ,2,20170119,0938, -34.4996, -20.7841,     4047,    113.3,  16.3003,  35.5851,    233.4,2,    230.7,2,     1.02,2,     1.17,2,     0.13,2,     0.24,2,    0.979,4,   1.3380,4,   2097.6,2,   2341.1,2,20170119,1044
06M220170104  ,A10.5      ,72      ,  1,72119.0    ,241063.0   ,19         ,2,20170119,0938, -34.4996, -20.7841,     4047,    218.0,  14.6541,  35.4534,    222.5,2,    224.2,2,     1.75,2,     5.66,2,     0.01,2,     0.45,2,     -999,9,     -999,9,   2118.5,2,   2333.6,2,20170119,1043
06M220170104  ,A10.5      ,72      ,  1,72118.0    ,241062.0   ,18         ,2,20170119,0938, -34.4996, -20.7841,     4047,    346.9,  13.1312,  35.2684,    216.3,2,    217.6,2,     2.78,2,     9.82,2,     0.01,2,     0.72,2,    1.166,4,   1.4000,4,   2132.4,2,   2324.4,2,20170119,1040
06M220170104  ,A10.5      ,72      ,  1,72117.0    ,241061.0   ,17         ,2,20170119,0938, -34.4996, -20.7841,     4047,    496.7,  10.8587,  34.9208,    209.9,2,    211.0,2,     5.22,2,    15.95,2,     0.01,2,     1.10,2,    1.317,4,   1.3130,4,   2144.9,2,   2307.8,2,20170119,1038
06M220170104  ,A10.5      ,72      ,  1,72116.0    ,241060.0   ,16         ,2,20170119,0938, -34.4996, -20.7841,     4047,    667.0,   7.7140,  34.5361,    210.2,2,    211.3,2,    11.04,2,    23.83,2,     0.01,2,     1.59,2,     -999,9,     -999,9,   2164.3,2,   2288.5,2,20170119,1035
06M220170104  ,A10.5      ,72      ,  1,72115.0    ,241059.0   ,15         ,2,20170119,0938, -34.4996, -20.7841,     4047,    797.1,   5.4892,  34.3290,    223.9,2,    224.3,2,    13.58,3,    22.38,3,     0.00,3,     1.62,3,     -999,9,     -999,9,     -999,9,     -999,9,20170119,1033
06M220170104  ,A10.5      ,72      ,  1,72114.0    ,241058.0   ,14         ,2,20170119,0938, -34.4996, -20.7841,     4047,    956.2,   4.1815,  34.2614,    229.4,2,    229.7,2,    25.51,2,    31.02,2,     0.00,2,     2.08,2,    1.411,4,   1.1100,4,   2187.4,2,   2288.6,2,20170119,1030
06M220170104  ,A10.5      ,72      ,  1,72113.0    ,241057.0   ,13         ,2,20170119,0938, -34.4996, -20.7841,     4047,   1246.7,   3.2117,  34.3704,    201.9,2,    202.2,2,    44.70,2,    33.53,2,     0.01,2,     2.23,2,     -999,9,     -999,9,   2220.1,2,   2305.9,2,20170119,1025
06M220170104  ,A10.5      ,72      ,  1,72112.0    ,241056.0   ,12         ,2,20170119,0938, -34.4996, -20.7841,     4047,   1547.3,   2.8839,  34.5566,    186.9,2,    187.4,2,    56.14,2,    33.16,2,     0.01,2,     2.21,2,    0.264,4,   0.1580,4,   2236.7,2,   2323.7,2,20170119,1020
06M220170104  ,A10.5      ,72      ,  1,72111.0    ,241055.0   ,11         ,2,20170119,0938, -34.4996, -20.7841,     4047,   1698.4,   2.8500,  34.6542,    190.9,2,    203.8,4,    55.42,2,    31.62,2,     0.01,2,     2.13,2,    0.145,4,   0.0000,4,   2234.2,2,   2329.5,2,20170119,1017
06M220170104  ,A10.5      ,72      ,  1,72110.0    ,241054.0   ,10         ,2,20170119,0938, -34.4996, -20.7841,     4047,   1867.5,   2.8559,  34.7243,    200.0,2,    200.1,2,    55.15,2,    29.91,2,     0.01,2,     1.98,2,     -999,9,     -999,9,     -999,9,     -999,9,20170119,1015
06M220170104  ,A10.5      ,72      ,  1,72109.0    ,241053.0   ,9          ,2,20170119,0938, -34.4996, -20.7841,     4047,   2182.4,   2.8699,  34.8167,    218.4,2,    220.5,2,    47.96,2,    26.45,2,     0.00,2,     1.73,2,     -999,9,     -999,9,   2209.1,2,   2329.5,2,20170119,1009
06M220170104  ,A10.5      ,72      ,  1,72108.0    ,241052.0   ,8          ,2,20170119,0938, -34.4996, -20.7841,     4047,   2197.7,   2.8658,  34.8185,    218.9,2,     -999,9,     -999,9,     -999,9,     -999,9,     -999,9,     -999,9,     -999,9,     -999,9,     -999,9,20170119,1009
06M220170104  ,A10.5      ,72      ,  1,72107.0    ,241051.0   ,7          ,2,20170119,0938, -34.4996, -20.7841,     4047,   2497.1,   2.8229,  34.8702,    233.9,2,    235.0,2,    40.03,2,    19.32,3,     0.00,3,     1.51,2,     -999,9,     -999,9,     -999,9,     -999,9,20170119,1004
06M220170104  ,A10.5      ,72      ,  1,72106.0    ,241050.0   ,6          ,2,20170119,0938, -34.4996, -20.7841,     4047,   2796.8,   2.7189,  34.8856,    240.6,2,    241.6,2,    41.39,2,    23.04,2,     0.00,2,     1.51,2,     -999,9,     -999,9,   2193.6,2,   2332.4,2,20170119,0959
06M220170104  ,A10.5      ,72      ,  1,72105.0    ,241049.0   ,5          ,2,20170119,0938, -34.4996, -20.7841,     4047,   3051.9,   2.4952,  34.8781,    242.4,2,    243.0,2,    46.46,2,    23.46,2,     0.00,2,     1.54,2,     -999,9,     -999,9,   2196.7,2,   2334.4,2,20170119,0955
06M220170104  ,A10.5      ,72      ,  1,72104.0    ,241048.0   ,4          ,2,20170119,0938, -34.4996, -20.7841,     4047,   3390.5,   2.2088,  34.8571,    241.1,2,    242.1,2,    52.32,2,    23.10,2,     0.01,2,     1.57,2,     -999,9,     -999,9,     -999,9,     -999,9,20170119,0949
06M220170104  ,A10.5      ,72      ,  1,72103.0    ,241047.0   ,3          ,2,20170119,0938, -34.4996, -20.7841,     4047,   3696.3,   1.9274,  34.8299,    237.5,2,    238.0,2,    61.86,2,    24.91,2,     0.00,2,     1.67,2,     -999,9,     -999,9,   2219.1,2,   2344.5,2,20170119,0944
06M220170104  ,A10.5      ,72      ,  1,72101.0    ,241045.0   ,1          ,2,20170119,0938, -34.4996, -20.7841,     4047,   4035.8,   1.8548,  34.8191,    235.8,2,    237.4,2,    65.78,2,    26.69,2,     0.01,2,     1.78,2,     -999,9,     -999,9,   2220.5,2,   2349.8,2,20170119,0938
06M220170104  ,A10.5      ,72      ,  1,72102.0    ,241046.0   ,2          ,2,20170119,0938, -34.4996, -20.7841,     4047,   4036.6,   1.8551,  34.8192,    236.0,2,    236.9,2,    73.26,3,    28.42,3,     0.02,3,     1.93,3,     -999,9,     -999,9,     -999,9,     -999,9,20170119,0938