BOTTLE,20240228CCHSIOADS
EXPOCODE,SECT_ID,STNNBR,CASTNO,SAMPNO,BIONBR,BTLNBR,BTLNBR_FLAG_W,DATE,TIME,LATITUDE,LONGITUDE,DEPTH,CTDPRS,CTDTMP,CTDSAL,CTDOXY,CTDOXY_FLAG_W,OXYGEN,OXYGEN_FLAG_W,SILCAT,SILCAT_FLAG_W,NITRAT,NITRAT_FLAG_W,NITRIT,NITRIT_FLAG_W,PHSPHT,PHSPHT_FLAG_W,CFC-12,CFC-12_FLAG_W,SF6,SF6_FLAG_W,TCARBN,TCARBN_FLAG_W,ALKALI,ALKALI_FLAG_W,BTL_DATE,BTL_TIME
,,,,,,,,,,,,METERS,DBAR,ITS-90,PSS-78,UMOL/KG,,UMOL/KG,,UMOL/KG,,UMOL/KG,,UMOL/KG,,UMOL/KG,,PMOL/KG,,FMOL/KG,,UMOL/KG,,UMOL/KG,,,
06M220170104  ,A10.5      ,112     ,  1,112121.0   ,242445.0   ,21         ,2,20170128,1957, -34.4995, -45.9995,     4836,      7.7,  22.7919,  35.7231,    219.8,2,     -999,9,     -999,9,     -999,9,     -999,9,     -999,9,     -999,9,     -999,9,     -999,9,     -999,9,20170128,2122
06M220170104  ,A10.5      ,112     ,  1,112120.0   ,242444.0   ,20         ,2,20170128,1957, -34.4995, -45.9995,     4836,     18.3,  22.0325,  35.7488,    224.4,2,    229.8,2,     0.46,3,     0.05,3,     0.01,3,     0.09,3,    1.197,2,   1.7120,2,   2069.9,2,   2366.1,2,20170128,2122
06M220170104  ,A10.5      ,112     ,  1,112119.0   ,242443.0   ,19         ,2,20170128,1957, -34.4995, -45.9995,     4836,     47.9,  18.6490,  35.9200,    243.8,2,     -999,9,     -999,9,     -999,9,     -999,9,     -999,9,     -999,9,     -999,9,     -999,9,     -999,9,20170128,2121
06M220170104  ,A10.5      ,112     ,  1,112118.0   ,242442.0   ,18         ,2,20170128,1957, -34.4995, -45.9995,     4836,     78.9,  17.3031,  35.9424,    236.4,2,    232.0,2,     9.84,3,    16.19,3,     0.05,3,     0.82,3,    1.392,2,   1.8660,2,   2094.6,2,   2365.2,2,20170128,2120
06M220170104  ,A10.5      ,112     ,  1,112117.0   ,242441.0   ,17         ,2,20170128,1957, -34.4995, -45.9995,     4836,    147.6,  16.2428,  35.8774,    221.3,2,    222.1,2,     1.43,3,     3.82,3,     0.02,3,     0.36,3,    1.448,2,   1.8510,2,   2113.3,2,   2361.1,2,20170128,2118
06M220170104  ,A10.5      ,112     ,  1,112116.0   ,242440.0   ,16         ,2,20170128,1957, -34.4995, -45.9995,     4836,    246.3,  14.9601,  35.6476,    222.0,2,    223.6,2,     2.50,3,     7.72,3,     0.02,3,     0.70,3,    1.574,2,   1.8520,2,   2115.5,2,   2345.5,2,20170128,2117
06M220170104  ,A10.5      ,112     ,  1,112115.0   ,242439.0   ,15         ,2,20170128,1957, -34.4995, -45.9995,     4836,    367.2,  12.6068,  35.1927,    209.1,2,    208.3,2,     3.18,3,    11.03,3,     0.01,3,     0.83,3,    1.692,2,   1.6260,2,     -999,9,     -999,9,20170128,2114
06M220170104  ,A10.5      ,112     ,  1,112114.0   ,242438.0   ,14         ,2,20170128,1957, -34.4995, -45.9995,     4836,    406.9,  11.6113,  35.0273,    208.5,2,    209.3,2,     4.03,3,    13.86,3,     0.01,3,     1.00,3,    1.727,2,   1.4960,2,   2136.1,2,   2309.8,2,20170128,2113
06M220170104  ,A10.5      ,112     ,  1,112113.0   ,242437.0   ,13         ,2,20170128,1957, -34.4995, -45.9995,     4836,    818.3,   4.4910,  34.2211,    247.5,2,    250.4,2,    18.26,3,    31.07,3,     0.01,3,     2.12,3,    1.960,2,   1.5120,2,   2168.4,2,   2282.3,2,20170128,2106
06M220170104  ,A10.5      ,112     ,  1,112112.0   ,242436.0   ,12         ,2,20170128,1957, -34.4995, -45.9995,     4836,    995.9,   3.7355,  34.2506,    229.7,2,    227.9,2,    26.21,3,    29.13,3,     0.01,3,     1.99,3,    1.471,2,   1.0140,2,   2188.7,2,   2291.5,2,20170128,2103
06M220170104  ,A10.5      ,112     ,  1,112111.0   ,242435.0   ,11         ,2,20170128,1957, -34.4995, -45.9995,     4836,   1294.9,   3.1278,  34.4106,    194.5,2,    192.9,2,    44.90,3,    32.07,3,     0.00,3,     2.16,3,    0.598,2,   0.2950,2,   2222.8,2,   2313.4,2,20170128,2057
06M220170104  ,A10.5      ,112     ,  1,112110.0   ,242434.0   ,10         ,2,20170128,1957, -34.4995, -45.9995,     4836,   1894.3,   3.2835,  34.8005,    208.9,2,    212.8,2,    46.07,3,    29.33,3,     0.01,3,     2.10,3,    0.118,2,   0.0470,2,   2209.3,2,   2325.8,2,20170128,2046
06M220170104  ,A10.5      ,112     ,  1,112109.0   ,242433.0   ,9          ,2,20170128,1957, -34.4995, -45.9995,     4836,   2492.1,   3.1697,  34.9222,    243.9,2,    239.2,2,    31.50,3,    22.94,3,     0.01,3,     1.53,3,     -999,9,     -999,9,   2181.5,2,   2324.1,2,20170128,2034
06M220170104  ,A10.5      ,112     ,  1,112108.0   ,242432.0   ,8          ,2,20170128,1957, -34.4995, -45.9995,     4836,   2493.9,   3.1691,  34.9223,    243.9,2,     -999,9,     -999,9,     -999,9,     -999,9,     -999,9,     -999,9,     -999,9,     -999,9,     -999,9,20170128,2034
06M220170104  ,A10.5      ,112     ,  1,112107.0   ,242431.0   ,7          ,2,20170128,1957, -34.4995, -45.9995,     4836,   3047.3,   2.6073,  34.8940,    242.4,2,    242.6,2,    43.89,3,    23.83,3,     0.00,3,     1.61,3,     -999,9,     -999,9,     -999,9,     -999,9,20170128,2025
06M220170104  ,A10.5      ,112     ,  1,112106.0   ,242430.0   ,6          ,2,20170128,1957, -34.4995, -45.9995,     4836,   3395.8,   1.6726,  34.7796,    217.7,2,    218.1,2,    88.72,3,    30.01,3,     0.00,3,     2.17,3,     -999,9,     -999,9,   2235.0,2,   2350.0,2,20170128,2019
06M220170104  ,A10.5      ,112     ,  1,112105.0   ,242429.0   ,5          ,2,20170128,1957, -34.4995, -45.9995,     4836,   3596.2,   1.1677,  34.7316,    213.8,2,    210.9,2,    73.39,3,    23.66,3,     0.00,3,     1.86,3,     -999,9,     -999,9,     -999,9,     -999,9,20170128,2016
06M220170104  ,A10.5      ,112     ,  1,112104.0   ,242428.0   ,4          ,2,20170128,1957, -34.4995, -45.9995,     4836,   3987.3,   0.5323,  34.6883,    217.0,2,    216.5,2,   135.36,3,    38.04,3,     0.01,3,     2.72,3,     -999,9,     -999,9,   2259.6,2,   2361.2,2,20170128,2010
06M220170104  ,A10.5      ,112     ,  1,112103.0   ,242427.0   ,3          ,2,20170128,1957, -34.4995, -45.9995,     4836,   4593.2,   0.2349,  34.6716,    222.6,2,    222.1,2,   103.53,3,    29.43,3,     0.00,3,     2.27,3,     -999,9,     -999,9,   2267.1,2,   2365.2,2,20170128,2000
06M220170104  ,A10.5      ,112     ,  1,112102.0   ,242426.0   ,2          ,2,20170128,1957, -34.4995, -45.9995,     4836,   4825.4,   0.2415,  34.6704,    221.4,2,    221.0,2,   112.26,3,    31.84,3,     0.00,3,     2.26,3,     -999,9,     -999,9,     -999,9,     -999,9,20170128,1957
06M220170104  ,A10.5      ,112     ,  1,112101.0   ,242425.0   ,1          ,2,20170128,1957, -34.4995, -45.9995,     4836,   4826.5,   0.2412,  34.6702,    222.1,2,    221.3,2,   103.47,3,    27.60,3,     0.01,3,     2.12,3,     -999,9,     -999,9,   2271.8,2,   2367.3,2,20170128,1957
06M220170104  ,A10.5      ,113     ,  1,113122.0   ,242468.0   ,22         ,2,20170129,0056, -34.4993, -46.5006,     4725,      8.4,  22.7695,  35.6993,    219.4,2,     -999,9,     0.72,3,     1.82,3,     0.01,3,     0.16,3,    1.156,2,   1.5690,2,   2060.7,2,   2370.0,2,20170129,0223
06M220170104  ,A10.5      ,113     ,  1,113121.0   ,242467.0   ,21         ,2,20170129,0056, -34.4993, -46.5006,     4725,     38.5,  19.5395,  35.9179,    238.2,2,     -999,9,     -999,9,     -999,9,     -999,9,     -999,9,     -999,9,     -999,9,     -999,9,     -999,9,20170129,0222
06M220170104  ,A10.5      ,113     ,  1,113120.0   ,242466.0   ,20         ,2,20170129,0056, -34.4993, -46.5006,     4725,     79.8,  17.1930,  35.8659,    230.7,2,     -999,9,     0.30,3,     0.22,3,     0.18,3,     0.21,3,    1.390,2,   1.7480,2,   2092.1,2,   2376.4,2,20170129,0221
06M220170104  ,A10.5      ,113     ,  1,113119.0   ,242465.0   ,19         ,2,20170129,0056, -34.4993, -46.5006,     4725,    125.5,  16.2951,  35.8313,    214.3,2,     -999,9,     1.16,3,     4.33,3,     0.02,3,     0.40,3,    1.471,2,   1.6640,2,   2112.4,2,   2368.8,2,20170129,0220
06M220170104  ,A10.5      ,113     ,  1,113118.0   ,242464.0   ,18         ,2,20170129,0056, -34.4993, -46.5006,     4725,    246.3,  14.8256,  35.6077,    217.9,2,     -999,9,     1.20,3,     5.26,3,     0.01,3,     0.57,3,    1.582,2,   1.7500,2,   2124.2,2,   2356.6,2,20170129,0218
06M220170104  ,A10.5      ,113     ,  1,113117.0   ,242463.0   ,17         ,2,20170129,0056, -34.4993, -46.5006,     4725,    336.7,  12.8245,  35.2287,    208.9,2,     -999,9,     2.02,3,     8.13,3,     0.01,3,     0.69,3,    1.630,2,   1.6650,2,     -999,9,     -999,9,20170129,0216
06M220170104  ,A10.5      ,113     ,  1,113116.0   ,242462.0   ,16         ,2,20170129,0056, -34.4993, -46.5006,     4725,    447.5,  10.2063,  34.8166,    211.1,2,     -999,9,     5.93,3,    19.19,3,     0.01,3,     1.34,3,    1.825,2,   1.4620,2,   2146.5,2,   2299.6,2,20170129,0214
06M220170104  ,A10.5      ,113     ,  1,113115.0   ,242461.0   ,15         ,2,20170129,0056, -34.4993, -46.5006,     4725,    597.7,   6.2507,  34.3354,    238.8,2,     -999,9,    13.20,3,    26.68,3,     0.01,3,     1.72,3,    2.111,2,   1.7240,2,     -999,9,     -999,9,20170129,0211
06M220170104  ,A10.5      ,113     ,  1,113114.0   ,242460.0   ,14         ,2,20170129,0056, -34.4993, -46.5006,     4725,    728.4,   4.9262,  34.2322,    250.4,2,     -999,9,    15.81,3,    30.27,3,     0.01,3,     2.08,3,    2.097,2,   1.5930,2,     -999,9,     -999,9,20170129,0209
06M220170104  ,A10.5      ,113     ,  1,113113.0   ,242459.0   ,13         ,2,20170129,0056, -34.4993, -46.5006,     4725,    867.9,   4.1954,  34.2305,    238.9,2,     -999,9,    18.83,3,    25.46,3,     0.01,3,     1.97,3,    1.719,2,   1.1980,2,   2180.3,2,   2290.0,2,20170129,0207
06M220170104  ,A10.5      ,113     ,  1,113112.0   ,242458.0   ,12         ,2,20170129,0056, -34.4993, -46.5006,     4725,    982.1,   3.7565,  34.2592,    227.1,2,     -999,9,    22.05,3,    24.67,3,     0.00,3,     1.78,3,    1.412,2,   0.9880,2,     -999,9,     -999,9,20170129,0205
06M220170104  ,A10.5      ,113     ,  1,113111.0   ,242457.0   ,11         ,2,20170129,0056, -34.4993, -46.5006,     4725,   1247.6,   3.1737,  34.4000,    195.6,2,     -999,9,    18.02,3,    25.50,3,     0.00,3,     1.79,3,    0.668,2,   0.4260,2,   2223.1,2,   2313.0,2,20170129,0200
06M220170104  ,A10.5      ,113     ,  1,113110.0   ,242456.0   ,10         ,2,20170129,0056, -34.4993, -46.5006,     4725,   1536.8,   2.9347,  34.5668,    182.3,2,     -999,9,    47.76,3,    28.76,3,     0.00,3,     2.28,3,    0.258,2,   0.1620,2,   2242.9,2,   2329.7,2,20170129,0155
06M220170104  ,A10.5      ,113     ,  1,113109.0   ,242455.0   ,9          ,2,20170129,0056, -34.4993, -46.5006,     4725,   1655.6,   3.1792,  34.6720,    190.3,2,     -999,9,    53.22,3,    32.30,3,     0.00,3,     2.21,3,    0.150,2,   0.0920,2,     -999,9,     -999,9,20170129,0153
06M220170104  ,A10.5      ,113     ,  1,113108.0   ,242454.0   ,8          ,2,20170129,0056, -34.4993, -46.5006,     4725,   1995.6,   3.5654,  34.8743,    223.3,2,     -999,9,     -999,9,     -999,9,     -999,9,     -999,9,     -999,9,     -999,9,     -999,9,     -999,9,20170129,0147
06M220170104  ,A10.5      ,113     ,  1,113107.0   ,242453.0   ,7          ,2,20170129,0056, -34.4993, -46.5006,     4725,   2417.1,   3.0747,  34.8761,    228.2,2,     -999,9,    42.53,3,    25.46,3,     0.00,3,     1.70,3,    0.119,2,   0.0000,2,   2198.5,2,   2330.8,2,20170129,0139
06M220170104  ,A10.5      ,113     ,  1,113106.0   ,242452.0   ,6          ,2,20170129,0056, -34.4993, -46.5006,     4725,   2419.6,   3.0694,  34.8761,    228.5,2,     -999,9,    39.02,3,    24.55,3,     0.00,3,     1.65,3,    0.106,2,   0.0000,2,     -999,9,     -999,9,20170129,0136
06M220170104  ,A10.5      ,113     ,  1,113105.0   ,242451.0   ,5          ,2,20170129,0056, -34.4993, -46.5006,     4725,   2721.9,   3.0881,  34.9338,    249.6,2,     -999,9,    28.90,3,    21.58,3,     0.00,3,     1.41,3,    0.095,2,   0.0000,2,   2176.4,2,   2324.2,2,20170129,0131
06M220170104  ,A10.5      ,113     ,  1,113104.0   ,242450.0   ,4          ,2,20170129,0056, -34.4993, -46.5006,     4725,   3090.6,   2.4238,  34.8589,    232.7,2,     -999,9,    60.88,3,    27.08,3,     0.01,3,     1.94,3,    0.058,2,   0.0000,2,   2206.2,2,   2338.2,2,20170129,0123
06M220170104  ,A10.5      ,113     ,  1,113103.0   ,242449.0   ,3          ,2,20170129,0056, -34.4993, -46.5006,     4725,   3596.1,   1.0138,  34.7207,    211.8,2,     -999,9,    70.35,3,    24.88,3,     0.01,3,     1.88,3,    0.135,2,   0.0000,2,   2256.5,2,   2361.7,2,20170129,0115
06M220170104  ,A10.5      ,113     ,  1,113102.0   ,242448.0   ,2          ,2,20170129,0056, -34.4993, -46.5006,     4725,   4093.8,   0.3720,  34.6807,    219.6,2,     -999,9,   108.91,3,    32.71,3,     0.01,3,     2.39,3,    0.195,2,   0.0000,2,   2265.1,2,   2364.4,2,20170129,0107
06M220170104  ,A10.5      ,113     ,  1,113101.0   ,242447.0   ,1          ,2,20170129,0056, -34.4993, -46.5006,     4725,   4714.8,   0.2327,  34.6705,    221.9,2,     -999,9,   119.57,3,    35.56,3,     0.01,3,     2.65,3,    0.298,2,   0.2060,2,   2268.4,2,   2366.6,2,20170129,0056
06M220170104  ,A10.5      ,114     ,  1,114122.0   ,242490.0   ,22         ,2,20170129,0553, -34.5027, -47.0039,     4690,      7.9,  22.2622,  35.8311,    222.4,2,     -999,9,     0.48,2,     0.00,2,     0.00,2,     0.10,2,    1.115,2,   1.5120,2,   2065.0,2,   2362.9,2,20170129,0715
06M220170104  ,A10.5      ,114     ,  1,114121.0   ,242489.0   ,21         ,2,20170129,0553, -34.5027, -47.0039,     4690,     23.2,  21.8698,  35.9772,    224.2,2,     -999,9,     -999,9,     -999,9,     -999,9,     -999,9,     -999,9,     -999,9,     -999,9,     -999,9,20170129,0715
06M220170104  ,A10.5      ,114     ,  1,114120.0   ,242488.0   ,20         ,2,20170129,0553, -34.5027, -47.0039,     4690,     71.8,  17.5360,  35.9134,    225.6,2,     -999,9,     0.77,2,     0.27,2,     0.13,2,     0.21,2,    1.349,2,   1.7440,2,   2098.0,2,   2368.4,2,20170129,0713
06M220170104  ,A10.5      ,114     ,  1,114119.0   ,242487.0   ,19         ,2,20170129,0553, -34.5027, -47.0039,     4690,    146.9,  15.7315,  35.7538,    219.3,2,     -999,9,     0.72,2,     1.89,2,     0.00,2,     0.28,2,    1.480,2,   1.7390,2,   2114.9,2,   2358.2,2,20170129,0712
06M220170104  ,A10.5      ,114     ,  1,114118.0   ,242486.0   ,18         ,2,20170129,0553, -34.5027, -47.0039,     4690,    276.7,  14.5805,  35.6106,    227.6,2,     -999,9,     2.60,2,     8.37,2,     0.01,2,     0.70,2,    1.491,2,   1.7100,2,   2124.5,2,   2345.6,2,20170129,0709
06M220170104  ,A10.5      ,114     ,  1,114117.0   ,242485.0   ,17         ,2,20170129,0553, -34.5027, -47.0039,     4690,    368.2,  11.5692,  35.0321,    213.4,2,     -999,9,     4.31,2,    14.45,2,     0.01,2,     1.04,2,    1.740,2,   1.5220,2,     -999,9,     -999,9,20170129,0708
06M220170104  ,A10.5      ,114     ,  1,114116.0   ,242484.0   ,16         ,2,20170129,0553, -34.5027, -47.0039,     4690,    511.8,   7.7934,  34.5142,    221.2,2,     -999,9,     9.35,2,    24.13,2,     0.01,2,     1.65,2,    1.944,2,   1.4580,2,   2160.0,2,   2293.8,2,20170129,0704
06M220170104  ,A10.5      ,114     ,  1,114115.0   ,242483.0   ,15         ,2,20170129,0553, -34.5027, -47.0039,     4690,    696.2,   4.8787,  34.2335,    249.1,2,     -999,9,    15.41,2,    28.57,2,     0.00,2,     1.92,2,    2.045,2,   1.4660,2,     -999,9,     -999,9,20170129,0701
06M220170104  ,A10.5      ,114     ,  1,114114.0   ,242482.0   ,14         ,2,20170129,0553, -34.5027, -47.0039,     4690,    797.6,   4.3782,  34.2296,    242.2,2,     -999,9,    20.57,2,    30.81,2,     0.00,2,     2.09,2,    1.844,2,   1.2710,2,   2177.2,2,   2291.8,2,20170129,0700
06M220170104  ,A10.5      ,114     ,  1,114113.0   ,242481.0   ,13         ,2,20170129,0553, -34.5027, -47.0039,     4690,    987.3,   3.4498,  34.2696,    223.8,2,     -999,9,    34.19,2,    33.78,2,     0.00,2,     2.29,2,    1.343,2,   0.7880,2,     -999,9,     -999,9,20170129,0656
06M220170104  ,A10.5      ,114     ,  1,114112.0   ,242480.0   ,12         ,2,20170129,0553, -34.5027, -47.0039,     4690,   1236.6,   3.0221,  34.4198,    192.1,2,     -999,9,    54.25,2,    36.48,2,     0.00,2,     2.50,2,    0.634,2,   0.3860,2,   2218.2,2,   2315.1,2,20170129,0652
06M220170104  ,A10.5      ,114     ,  1,114111.0   ,242479.0   ,11         ,2,20170129,0553, -34.5027, -47.0039,     4690,   1496.2,   3.1912,  34.6289,    189.4,2,     -999,9,    51.09,2,    32.53,3,     0.00,2,     2.20,2,    0.183,2,   0.0000,2,   2231.9,2,   2329.1,2,20170129,0647
06M220170104  ,A10.5      ,114     ,  1,114110.0   ,242478.0   ,10         ,2,20170129,0553, -34.5027, -47.0039,     4690,   1747.3,   3.6522,  34.8225,    212.0,2,     -999,9,    40.00,2,    32.28,2,     0.01,2,     2.20,3,     -999,9,     -999,9,     -999,9,     -999,9,20170129,0643
06M220170104  ,A10.5      ,114     ,  1,114109.0   ,242477.0   ,9          ,2,20170129,0553, -34.5027, -47.0039,     4690,   2055.9,   3.6416,  34.9250,    237.1,2,     -999,9,    26.16,2,    23.05,3,     0.01,2,     1.58,2,     -999,9,     -999,9,   2183.2,2,   2320.5,2,20170129,0637
06M220170104  ,A10.5      ,114     ,  1,114108.0   ,242476.0   ,8          ,2,20170129,0553, -34.5027, -47.0039,     4690,   2057.7,   3.6416,  34.9255,    237.1,2,     -999,9,     -999,9,     -999,9,     -999,9,     -999,9,     -999,9,     -999,9,     -999,9,     -999,9,20170129,0637
06M220170104  ,A10.5      ,114     ,  1,114107.0   ,242475.0   ,7          ,2,20170129,0553, -34.5027, -47.0039,     4690,   2396.9,   3.4230,  34.9414,    247.0,2,     -999,9,    25.52,2,    21.74,3,     0.01,2,     1.46,2,     -999,9,     -999,9,   2175.7,2,   2322.9,2,20170129,0632
06M220170104  ,A10.5      ,114     ,  1,114106.0   ,242474.0   ,6          ,2,20170129,0553, -34.5027, -47.0039,     4690,   2797.0,   3.0886,  34.9346,    249.9,2,     -999,9,    28.36,2,    21.23,3,     0.00,2,     1.44,2,     -999,9,     -999,9,   2167.4,2,   2322.9,2,20170129,0625
06M220170104  ,A10.5      ,114     ,  1,114105.0   ,242473.0   ,5          ,2,20170129,0553, -34.5027, -47.0039,     4690,   2997.4,   2.8881,  34.9238,    249.7,2,     -999,9,    32.56,2,    21.22,3,     0.00,2,     1.46,2,     -999,9,     -999,9,   2184.3,2,   2332.6,2,20170129,0622
06M220170104  ,A10.5      ,114     ,  1,114104.0   ,242472.0   ,4          ,2,20170129,0553, -34.5027, -47.0039,     4690,   3498.3,   1.4249,  34.7466,    210.1,2,     -999,9,    94.10,3,    31.06,3,     0.01,2,     2.14,3,     -999,9,     -999,9,     -999,9,     -999,9,20170129,0613
06M220170104  ,A10.5      ,114     ,  1,114103.0   ,242471.0   ,3          ,2,20170129,0553, -34.5027, -47.0039,     4690,   3998.1,   0.4769,  34.6859,    217.8,2,     -999,9,   128.47,3,    36.27,3,     0.01,2,     2.54,3,     -999,9,     -999,9,   2263.5,2,   2364.6,2,20170129,0605
06M220170104  ,A10.5      ,114     ,  1,114102.0   ,242470.0   ,2          ,2,20170129,0553, -34.5027, -47.0039,     4690,   4497.5,   0.2327,  34.6721,    222.9,2,     -999,9,   132.93,3,    32.44,2,     0.01,2,     2.61,3,     -999,9,     -999,9,   2267.7,2,   2370.2,2,20170129,0556
06M220170104  ,A10.5      ,114     ,  1,114101.0   ,242469.0   ,1          ,2,20170129,0553, -34.5027, -47.0039,     4690,   4680.5,   0.2324,  34.6708,    222.3,2,     -999,9,   122.31,3,    33.52,2,     0.01,2,     2.34,2,     -999,9,     -999,9,   2270.3,2,   2372.3,2,20170129,0553