BOTTLE,20240228CCHSIOADS
EXPOCODE,SECT_ID,STNNBR,CASTNO,SAMPNO,BIONBR,BTLNBR,BTLNBR_FLAG_W,DATE,TIME,LATITUDE,LONGITUDE,DEPTH,CTDPRS,CTDTMP,CTDSAL,CTDOXY,CTDOXY_FLAG_W,OXYGEN,OXYGEN_FLAG_W,SILCAT,SILCAT_FLAG_W,NITRAT,NITRAT_FLAG_W,NITRIT,NITRIT_FLAG_W,PHSPHT,PHSPHT_FLAG_W,CFC-12,CFC-12_FLAG_W,SF6,SF6_FLAG_W,TCARBN,TCARBN_FLAG_W,ALKALI,ALKALI_FLAG_W,BTL_DATE,BTL_TIME
,,,,,,,,,,,,METERS,DBAR,ITS-90,PSS-78,UMOL/KG,,UMOL/KG,,UMOL/KG,,UMOL/KG,,UMOL/KG,,UMOL/KG,,PMOL/KG,,FMOL/KG,,UMOL/KG,,UMOL/KG,,,
06M220170104  ,A10.5      ,31      ,  1,31122.0    ,240660.0   ,22         ,2,20170110,1229, -34.4996,   4.7569,     5334,      8.7,  19.7322,  35.7806,    234.2,2,    232.2,2,     1.79,3,    -0.14,3,     0.01,3,     0.07,3,    1.279,2,   1.6860,2,   2082.9,2,   2354.2,2,20170110,1400
06M220170104  ,A10.5      ,31      ,  1,31121.0    ,240659.0   ,21         ,2,20170110,1229, -34.4996,   4.7569,     5334,     48.3,  18.4462,  35.7049,    243.6,2,    241.6,2,     3.08,3,     1.04,3,     0.02,3,     0.15,3,    1.331,2,   1.7760,2,   2079.3,2,   2351.5,2,20170110,1359
06M220170104  ,A10.5      ,31      ,  1,31120.0    ,240658.0   ,20         ,2,20170110,1229, -34.4996,   4.7569,     5334,     97.8,  16.6255,  35.5925,    238.2,2,    233.7,2,     1.96,3,     0.86,3,     0.27,3,     0.18,3,    1.445,2,   1.9200,2,   2088.1,2,   2338.9,2,20170110,1357
06M220170104  ,A10.5      ,31      ,  1,31119.0    ,240657.0   ,19         ,2,20170110,1229, -34.4996,   4.7569,     5334,    148.2,  15.8656,  35.4808,    236.8,2,    234.6,2,     2.50,3,     3.37,3,     0.03,3,     0.33,3,    1.460,2,   1.8630,2,     -999,9,     -999,9,20170110,1356
06M220170104  ,A10.5      ,31      ,  1,31118.0    ,240656.0   ,18         ,2,20170110,1229, -34.4996,   4.7569,     5334,    227.7,  14.8366,  35.3030,    229.7,2,    230.4,2,     2.40,3,     5.24,3,     0.03,3,     0.37,3,    1.506,2,   1.7990,2,   2101.5,2,   2321.8,2,20170110,1354
06M220170104  ,A10.5      ,31      ,  1,31117.0    ,240655.0   ,17         ,2,20170110,1229, -34.4996,   4.7569,     5334,    367.6,  12.6887,  35.1177,    213.1,2,    211.8,2,     4.27,3,    12.14,3,     0.01,3,     1.05,3,    1.697,2,   1.6600,2,     -999,9,     -999,9,20170110,1352
06M220170104  ,A10.5      ,31      ,  1,31116.0    ,240654.0   ,16         ,2,20170110,1229, -34.4996,   4.7569,     5334,    446.3,  11.3455,  34.9598,    211.8,2,    211.1,2,     8.23,3,    23.55,3,     0.01,3,     1.43,3,    1.762,2,   1.5760,2,   2141.2,2,   2307.6,2,20170110,1350
06M220170104  ,A10.5      ,31      ,  1,31115.0    ,240653.0   ,15         ,2,20170110,1229, -34.4996,   4.7569,     5334,    548.4,   9.5872,  34.7389,    210.8,2,    211.5,2,     9.78,3,    27.63,3,     0.02,3,     1.72,3,    1.800,2,   1.3960,2,   2150.6,2,   2292.8,2,20170110,1349
06M220170104  ,A10.5      ,31      ,  1,31114.0    ,240652.0   ,14         ,2,20170110,1229, -34.4996,   4.7569,     5334,    752.1,   5.7913,  34.3232,    230.0,2,    228.8,2,    23.32,3,    45.14,3,     0.02,3,     3.32,3,    1.932,2,   1.3400,2,     -999,9,     -999,9,20170110,1345
06M220170104  ,A10.5      ,31      ,  1,31113.0    ,240651.0   ,13         ,2,20170110,1229, -34.4996,   4.7569,     5334,    917.7,   4.4137,  34.2524,    232.1,2,    210.1,4,    23.86,3,    30.71,3,     0.00,3,     2.14,3,    1.686,2,   1.0360,2,   2181.7,2,   2289.1,2,20170110,1343
06M220170104  ,A10.5      ,31      ,  1,31112.0    ,240650.0   ,12         ,2,20170110,1229, -34.4996,   4.7569,     5334,   1126.7,   3.5595,  34.3275,    209.3,2,    207.6,2,    50.50,3,    45.35,3,     0.02,3,     2.89,3,    1.009,2,   0.5350,2,   2206.0,2,   2299.5,2,20170110,1339
06M220170104  ,A10.5      ,31      ,  1,31111.0    ,240649.0   ,11         ,2,20170110,1229, -34.4996,   4.7569,     5334,   1497.2,   2.9980,  34.5461,    183.3,2,    182.9,2,    61.84,3,    41.65,3,     0.01,3,     2.81,3,    0.314,2,   0.1570,2,   2240.8,2,   2326.5,2,20170110,1333
06M220170104  ,A10.5      ,31      ,  1,31110.0    ,240648.0   ,10         ,2,20170110,1229, -34.4996,   4.7569,     5334,   1758.8,   2.9534,  34.6845,    189.7,2,    185.9,3,    57.70,3,    32.65,3,     0.02,3,     2.10,3,    0.110,2,   0.0000,2,   2240.4,2,   2329.5,2,20170110,1329
06M220170104  ,A10.5      ,31      ,  1,31109.0    ,240647.0   ,9          ,2,20170110,1229, -34.4996,   4.7569,     5334,   2105.9,   2.7924,  34.7793,    206.2,2,    205.5,2,    76.60,3,    41.94,3,     0.03,3,     2.44,3,     -999,9,     -999,9,     -999,9,     -999,9,20170110,1323
06M220170104  ,A10.5      ,31      ,  1,31108.0    ,240646.0   ,8          ,2,20170110,1229, -34.4996,   4.7569,     5334,   2498.2,   2.6695,  34.8344,    221.6,2,    221.3,2,    54.10,3,    26.22,3,     0.00,3,     1.72,3,    0.019,2,   0.0000,2,   2215.0,2,   2331.6,2,20170110,1316
06M220170104  ,A10.5      ,31      ,  1,31107.0    ,240645.0   ,7          ,2,20170110,1229, -34.4996,   4.7569,     5334,   2996.9,   2.4028,  34.8431,    228.3,2,    227.2,2,    69.69,3,    35.66,3,     0.03,3,     2.23,3,    0.017,2,   0.0000,2,   2213.6,2,   2337.3,2,20170110,1308
06M220170104  ,A10.5      ,31      ,  1,31106.0    ,240644.0   ,6          ,2,20170110,1229, -34.4996,   4.7569,     5334,   3396.3,   2.2553,  34.8464,    230.4,2,    230.4,2,    85.58,3,    39.49,3,     0.02,3,     2.33,3,    0.014,2,   0.0000,2,     -999,9,     -999,9,20170110,1301
06M220170104  ,A10.5      ,31      ,  1,31105.0    ,240643.0   ,5          ,2,20170110,1229, -34.4996,   4.7569,     5334,   3697.0,   2.1034,  34.8343,    228.4,2,    243.8,4,    68.07,3,    31.91,3,     0.02,3,     2.40,3,    0.017,2,   0.0000,2,   2226.3,2,   2347.0,2,20170110,1256
06M220170104  ,A10.5      ,31      ,  1,31104.0    ,240642.0   ,4          ,2,20170110,1229, -34.4996,   4.7569,     5334,   4497.7,   1.2151,  34.7438,    219.0,2,    217.2,2,   115.81,3,    30.57,3,     0.00,3,     2.13,3,    0.043,2,   0.0000,2,   2256.8,2,   2363.6,2,20170110,1243
06M220170104  ,A10.5      ,31      ,  1,31103.0    ,240641.0   ,3          ,2,20170110,1229, -34.4996,   4.7569,     5334,   4894.2,   1.1678,  34.7352,    218.8,2,    214.7,3,   128.53,3,    42.39,3,     0.03,3,     2.41,3,    0.052,2,   0.0000,2,   2260.3,2,   2365.8,2,20170110,1237
06M220170104  ,A10.5      ,31      ,  1,31101.0    ,240639.0   ,1          ,2,20170110,1229, -34.4996,   4.7569,     5334,   5323.5,   1.1641,  34.7292,    218.1,2,    217.1,2,   129.86,3,    43.69,3,     0.02,3,     2.80,3,    0.091,2,   0.0000,2,   2259.6,2,   2366.8,2,20170110,1229
06M220170104  ,A10.5      ,31      ,  1,31102.0    ,240640.0   ,2          ,2,20170110,1229, -34.4996,   4.7569,     5334,   5324.1,   1.1641,  34.7292,    218.2,2,    214.9,3,   107.38,3,    33.30,3,     0.00,3,     1.99,3,    0.066,2,   0.0000,2,     -999,9,     -999,9,20170110,1229
06M220170104  ,A10.5      ,32      ,  1,32122.0    ,240682.0   ,22         ,2,20170110,1838, -34.4998,   4.1019,     5425,      7.4,  20.2642,  35.8307,    231.7,2,    231.7,2,     0.94,3,    -0.12,3,     0.00,3,     0.18,3,    1.226,2,   1.6810,2,   2083.5,2,   2358.1,2,20170110,2010
06M220170104  ,A10.5      ,32      ,  1,32121.0    ,240681.0   ,21         ,2,20170110,1838, -34.4998,   4.1019,     5425,     22.6,  19.9585,  35.8026,    233.7,2,    231.8,2,     1.87,3,    -0.12,3,     0.01,3,     0.32,3,    1.248,2,   1.6500,2,     -999,9,     -999,9,20170110,2009
06M220170104  ,A10.5      ,32      ,  1,32120.0    ,240680.0   ,20         ,2,20170110,1838, -34.4998,   4.1019,     5425,     27.9,  19.9459,  35.8008,    233.4,2,    232.6,2,     1.58,3,    -0.06,3,     0.02,3,     0.28,3,    1.255,2,   1.7400,2,   2087.2,2,   2358.2,2,20170110,2009
06M220170104  ,A10.5      ,32      ,  1,32119.0    ,240679.0   ,19         ,2,20170110,1838, -34.4998,   4.1019,     5425,     88.8,  16.9210,  35.6069,    242.8,2,    243.0,2,     1.70,3,     0.09,3,     0.03,3,     0.28,3,    1.404,2,   1.8460,2,   2079.8,2,   2341.0,2,20170110,2007
06M220170104  ,A10.5      ,32      ,  1,32118.0    ,240678.0   ,18         ,2,20170110,1838, -34.4998,   4.1019,     5425,    146.7,  16.1463,  35.5176,    232.2,2,    231.0,2,     2.36,3,     4.12,3,     0.03,3,     0.49,3,    1.422,2,   1.8540,2,     -999,9,     -999,9,20170110,2006
06M220170104  ,A10.5      ,32      ,  1,32117.0    ,240677.0   ,17         ,2,20170110,1838, -34.4998,   4.1019,     5425,    195.2,  15.5711,  35.4213,    232.0,2,    231.8,2,     3.48,3,     6.89,3,     0.04,3,     0.73,3,    1.454,2,   1.8050,2,   2104.3,2,   2329.9,2,20170110,2005
06M220170104  ,A10.5      ,32      ,  1,32116.0    ,240676.0   ,16         ,2,20170110,1838, -34.4998,   4.1019,     5425,    295.9,  13.7449,  35.1951,    214.2,2,    215.2,2,     3.54,3,    11.45,3,     0.01,3,     0.92,3,    1.587,2,   1.7000,2,   2123.7,2,   2318.0,2,20170110,2003
06M220170104  ,A10.5      ,32      ,  1,32115.0    ,240675.0   ,15         ,2,20170110,1838, -34.4998,   4.1019,     5425,    397.7,  12.2536,  35.0801,    213.4,2,    213.6,2,     3.86,3,    14.47,3,     0.01,3,     1.08,3,    1.695,2,   1.5570,2,   2140.9,2,   2317.8,2,20170110,2002
06M220170104  ,A10.5      ,32      ,  1,32114.0    ,240674.0   ,14         ,2,20170110,1838, -34.4998,   4.1019,     5425,    495.9,  10.4721,  34.8463,    208.4,2,    208.6,2,     8.62,3,    26.07,3,     0.02,3,     1.79,3,    1.761,2,   1.4760,2,   2155.0,2,   2302.3,2,20170110,2000
06M220170104  ,A10.5      ,32      ,  1,32113.0    ,240673.0   ,13         ,2,20170110,1838, -34.4998,   4.1019,     5425,    596.6,   8.6727,  34.6328,    206.0,2,    204.4,2,    13.96,3,    37.04,3,     0.03,3,     2.43,3,    1.740,2,   1.3400,2,   2166.0,2,   2294.8,2,20170110,1958
06M220170104  ,A10.5      ,32      ,  1,32112.0    ,240672.0   ,12         ,2,20170110,1838, -34.4998,   4.1019,     5425,    693.1,   6.8336,  34.4247,    220.6,2,    220.4,2,    13.42,3,    31.76,3,     0.00,3,     2.18,3,    1.886,2,   1.3190,2,     -999,9,     -999,9,20170110,1957
06M220170104  ,A10.5      ,32      ,  1,32111.0    ,240671.0   ,11         ,2,20170110,1838, -34.4998,   4.1019,     5425,    910.9,   4.3414,  34.2476,    233.1,2,    233.2,2,    39.33,3,    55.98,3,     0.02,3,     3.72,3,    1.675,2,   1.0090,2,   2180.2,2,   2290.1,2,20170110,1953
06M220170104  ,A10.5      ,32      ,  1,32110.0    ,240670.0   ,10         ,2,20170110,1838, -34.4998,   4.1019,     5425,   1096.8,   3.7401,  34.3248,    209.1,2,    209.2,2,    49.53,3,    46.54,3,     0.01,3,     3.19,3,    1.099,2,   0.5450,2,   2206.8,2,   2302.5,2,20170110,1950
06M220170104  ,A10.5      ,32      ,  1,32109.0    ,240669.0   ,9          ,2,20170110,1838, -34.4998,   4.1019,     5425,   1298.1,   3.3300,  34.4382,    187.6,2,    187.3,2,    55.72,3,    38.75,3,     0.01,3,     2.79,3,     -999,9,     -999,9,     -999,9,     -999,9,20170110,1947
06M220170104  ,A10.5      ,32      ,  1,32108.0    ,240668.0   ,8          ,2,20170110,1838, -34.4998,   4.1019,     5425,   1514.0,   2.9738,  34.5513,    183.9,2,    183.7,2,    67.89,3,    40.30,3,     0.00,3,     2.68,3,     -999,9,     -999,9,   2234.1,2,   2329.0,2,20170110,1943
06M220170104  ,A10.5      ,32      ,  1,32107.0    ,240667.0   ,7          ,2,20170110,1838, -34.4998,   4.1019,     5425,   1769.0,   2.9957,  34.6998,    191.8,2,    192.3,2,    66.43,3,    37.05,3,     0.00,3,     2.45,3,     -999,9,     -999,9,   2234.2,2,   2331.6,2,20170110,1939
06M220170104  ,A10.5      ,32      ,  1,32106.0    ,240666.0   ,6          ,2,20170110,1838, -34.4998,   4.1019,     5425,   2529.6,   2.6375,  34.8357,    221.5,2,    221.9,2,    53.66,3,    30.79,3,     0.00,3,     2.14,3,     -999,9,     -999,9,   2209.4,2,   2337.4,2,20170110,1926
06M220170104  ,A10.5      ,32      ,  1,32105.0    ,240665.0   ,5          ,2,20170110,1838, -34.4998,   4.1019,     5425,   2597.5,   2.5971,  34.8370,    222.6,2,    222.2,2,    57.11,3,    31.68,3,     0.00,3,     2.06,3,     -999,9,     -999,9,     -999,9,     -999,9,20170110,1925
06M220170104  ,A10.5      ,32      ,  1,32104.0    ,240664.0   ,4          ,2,20170110,1838, -34.4998,   4.1019,     5425,   3014.8,   2.4210,  34.8475,    228.8,2,    229.1,2,    73.91,3,    39.43,3,     0.02,3,     2.88,3,     -999,9,     -999,9,   2209.9,2,   2341.2,2,20170110,1918
06M220170104  ,A10.5      ,32      ,  1,32103.0    ,240663.0   ,3          ,2,20170110,1838, -34.4998,   4.1019,     5425,   4578.0,   1.1939,  34.7412,    218.8,2,    218.4,2,   146.91,3,    53.46,3,     0.02,3,     3.70,3,     -999,9,     -999,9,   2252.8,2,   2370.1,2,20170110,1852
06M220170104  ,A10.5      ,32      ,  1,32102.0    ,240662.0   ,2          ,2,20170110,1838, -34.4998,   4.1019,     5425,   5414.9,   1.1780,  34.7294,    218.4,2,    217.7,2,   124.40,3,    51.98,3,     0.02,3,     3.34,3,     -999,9,     -999,9,     -999,9,     -999,9,20170110,1838
06M220170104  ,A10.5      ,32      ,  1,32101.0    ,240661.0   ,1          ,2,20170110,1838, -34.4998,   4.1019,     5425,   5415.0,   1.1778,  34.7293,    218.4,2,    218.9,2,   111.57,4,    36.31,4,     0.01,4,     2.57,4,     -999,9,     -999,9,   2252.4,2,   2371.3,2,20170110,1838
06M220170104  ,A10.5      ,33      ,  1,33102.0    ,240684.0   ,2          ,2,20170111,0104, -34.4989,   3.4465,     5080,   5069.5,   1.1290,  34.7294,    218.3,2,     -999,9,     -999,9,     -999,9,     -999,9,     -999,9,     -999,9,     -999,9,     -999,9,     -999,9,20170111,0104
06M220170104  ,A10.5      ,33      ,  1,33101.0    ,240683.0   ,1          ,2,20170111,0104, -34.4989,   3.4465,     5080,   5069.6,   1.1289,  34.7294,    218.1,2,     -999,9,     -999,9,     -999,9,     -999,9,     -999,9,     -999,9,     -999,9,   2250.1,2,   2371.2,2,20170111,0104
06M220170104  ,A10.5      ,34      ,  1,34122.0    ,240726.0   ,22         ,2,20170111,0659, -34.4997,   2.7923,     5009,      6.4,  20.3633,  35.8073,    231.7,2,    230.2,2,     1.27,2,     0.23,2,     0.00,2,     0.14,2,    1.242,2,   1.7380,2,   2085.2,2,   2358.4,2,20170111,0823
06M220170104  ,A10.5      ,34      ,  1,34121.0    ,240725.0   ,21         ,2,20170111,0659, -34.4997,   2.7923,     5009,     62.8,  17.5248,  35.6735,    252.8,2,    247.4,2,     1.49,2,     0.24,2,     0.01,2,     0.19,2,    1.393,2,   1.7950,2,   2079.0,2,   2350.6,2,20170111,0821
06M220170104  ,A10.5      ,34      ,  1,34120.0    ,240724.0   ,20         ,2,20170111,0659, -34.4997,   2.7923,     5009,     91.1,  16.9927,  35.6369,    247.0,2,    243.0,2,     1.54,2,     0.44,2,     0.08,2,     0.21,2,    1.402,2,   1.8270,2,   2100.7,2,   2346.8,2,20170111,0820
06M220170104  ,A10.5      ,34      ,  1,34119.0    ,240723.0   ,19         ,2,20170111,0659, -34.4997,   2.7923,     5009,    137.6,  16.3626,  35.5619,    232.6,2,    234.1,2,     2.22,2,     3.24,2,     0.02,2,     0.35,2,    1.412,2,   1.8430,2,     -999,9,     -999,9,20170111,0819
06M220170104  ,A10.5      ,34      ,  1,34118.0    ,240722.0   ,18         ,2,20170111,0659, -34.4997,   2.7923,     5009,    186.6,  16.1047,  35.5172,    233.4,2,    230.2,2,     1.93,2,     3.01,2,     0.01,2,     0.34,2,    1.424,2,   1.8590,2,   2099.4,2,   2339.2,2,20170111,0818
06M220170104  ,A10.5      ,34      ,  1,34117.0    ,240721.0   ,17         ,2,20170111,0659, -34.4997,   2.7923,     5009,    287.0,  14.2762,  35.2218,    226.0,2,    226.5,2,     2.05,2,     6.33,2,     0.01,2,     0.74,2,    1.579,2,   1.7990,2,     -999,9,     -999,9,20170111,0816
06M220170104  ,A10.5      ,34      ,  1,34116.0    ,240720.0   ,16         ,2,20170111,0659, -34.4997,   2.7923,     5009,    347.3,  13.2952,  35.1721,    211.8,2,    207.7,3,     3.80,2,    10.13,2,     0.01,2,     0.89,2,    1.612,2,   1.6150,2,   2123.1,2,   2321.0,2,20170111,0815
06M220170104  ,A10.5      ,34      ,  1,34115.0    ,240719.0   ,15         ,2,20170111,0659, -34.4997,   2.7923,     5009,    506.8,  10.7432,  34.8658,    217.5,2,    215.9,2,     4.86,2,    16.07,2,     0.01,2,     1.38,2,    1.794,2,   1.6600,2,   2147.7,2,   2304.2,2,20170111,0813
06M220170104  ,A10.5      ,34      ,  1,34114.0    ,240718.0   ,14         ,2,20170111,0659, -34.4997,   2.7923,     5009,    667.5,   8.0922,  34.5750,    203.3,2,    203.1,2,    12.41,2,    25.10,2,     0.00,2,     1.95,2,    1.690,2,   1.2280,2,     -999,9,     -999,9,20170111,0810
06M220170104  ,A10.5      ,34      ,  1,34113.0    ,240717.0   ,13         ,2,20170111,0659, -34.4997,   2.7923,     5009,    897.1,   4.6469,  34.2653,    230.0,2,    230.2,2,    19.76,2,    29.95,2,     0.00,2,     2.20,2,    1.681,2,   1.0450,2,   2183.9,2,   2290.1,2,20170111,0806
06M220170104  ,A10.5      ,34      ,  1,34112.0    ,240716.0   ,12         ,2,20170111,0659, -34.4997,   2.7923,     5009,   1127.0,   3.8454,  34.3819,    194.0,2,    193.8,2,    39.65,2,    33.55,2,     0.00,2,     2.14,2,    0.833,2,   0.3930,2,   2216.2,2,   2311.9,2,20170111,0802
06M220170104  ,A10.5      ,34      ,  1,34111.0    ,240715.0   ,11         ,2,20170111,0659, -34.4997,   2.7923,     5009,   1495.4,   3.0949,  34.5830,    180.7,2,    180.9,2,    55.45,2,    33.59,2,     0.00,2,     2.00,2,    0.211,2,   0.1280,2,   2239.6,2,   2329.3,2,20170111,0756
06M220170104  ,A10.5      ,34      ,  1,34110.0    ,240714.0   ,10         ,2,20170111,0659, -34.4997,   2.7923,     5009,   1797.2,   2.9001,  34.7024,    194.2,2,    195.9,2,    54.34,2,    30.70,2,     0.00,2,     1.81,2,    0.098,2,   0.0000,2,     -999,9,     -999,9,20170111,0751
06M220170104  ,A10.5      ,34      ,  1,34109.0    ,240713.0   ,9          ,2,20170111,0659, -34.4997,   2.7923,     5009,   2197.1,   2.6692,  34.7915,    211.8,2,    213.7,2,    56.21,2,    27.87,2,     0.01,2,     1.57,2,    0.044,2,   0.0000,2,   2221.5,2,   2338.4,2,20170111,0745
06M220170104  ,A10.5      ,34      ,  1,34108.0    ,240712.0   ,8          ,2,20170111,0659, -34.4997,   2.7923,     5009,   2698.6,   2.4577,  34.8387,    225.9,2,    227.7,2,    53.68,2,    26.47,2,     0.00,2,     1.78,2,    0.023,2,   0.0000,2,   2212.8,2,   2342.5,2,20170111,0736
06M220170104  ,A10.5      ,34      ,  1,34107.0    ,240711.0   ,7          ,2,20170111,0659, -34.4997,   2.7923,     5009,   3147.5,   2.2989,  34.8483,    230.9,2,    233.4,2,    56.57,2,    27.46,2,     0.01,2,     1.70,2,    0.017,2,   0.0000,2,   2207.3,2,   2347.9,2,20170111,0729
06M220170104  ,A10.5      ,34      ,  1,34106.0    ,240710.0   ,6          ,2,20170111,0659, -34.4997,   2.7923,     5009,   3497.6,   2.1618,  34.8454,    230.2,2,    231.6,2,    61.25,2,    26.08,2,     0.00,2,     1.84,2,    0.014,2,   0.0000,2,   2214.6,2,   2352.8,2,20170111,0723
06M220170104  ,A10.5      ,34      ,  1,34105.0    ,240709.0   ,5          ,2,20170111,0659, -34.4997,   2.7923,     5009,   3995.8,   1.4814,  34.7731,    220.4,2,    236.9,4,    86.56,2,    30.44,2,     0.00,2,     2.13,2,    0.034,2,   0.0000,2,   2241.8,2,   2363.9,2,20170111,0715
06M220170104  ,A10.5      ,34      ,  1,34104.0    ,240708.0   ,4          ,2,20170111,0659, -34.4997,   2.7923,     5009,   4497.1,   1.1527,  34.7385,    217.7,2,    219.1,2,   101.05,2,    31.82,2,     0.00,2,     2.11,2,    0.047,2,   0.0000,2,   2252.1,2,   2371.5,2,20170111,0707
06M220170104  ,A10.5      ,34      ,  1,34103.0    ,240707.0   ,3          ,2,20170111,0659, -34.4997,   2.7923,     5009,   4696.2,   1.1358,  34.7346,    217.2,2,    217.4,2,    98.78,2,    31.64,2,     0.00,2,     2.18,2,    0.055,2,   0.0000,2,     -999,9,     -999,9,20170111,0704
06M220170104  ,A10.5      ,34      ,  1,34101.0    ,240705.0   ,1          ,2,20170111,0659, -34.4997,   2.7923,     5009,   4997.2,   1.1247,  34.7304,    215.9,2,    218.7,2,   103.04,2,    33.19,2,     0.01,2,     0.04,4,     -999,9,     -999,9,   2252.0,2,   2371.9,2,20170111,0659
06M220170104  ,A10.5      ,34      ,  1,34102.0    ,240706.0   ,2          ,2,20170111,0659, -34.4997,   2.7923,     5009,   4998.7,   1.1248,  34.7303,    216.6,2,    217.3,2,   102.53,2,    32.74,2,     0.01,2,     2.13,2,     -999,9,     -999,9,     -999,9,     -999,9,20170111,0659