BOTTLE,20240228CCHSIOADS
EXPOCODE,SECT_ID,STNNBR,CASTNO,SAMPNO,BIONBR,BTLNBR,BTLNBR_FLAG_W,DATE,TIME,LATITUDE,LONGITUDE,DEPTH,CTDPRS,CTDTMP,CTDSAL,CTDOXY,CTDOXY_FLAG_W,OXYGEN,OXYGEN_FLAG_W,SILCAT,SILCAT_FLAG_W,NITRAT,NITRAT_FLAG_W,NITRIT,NITRIT_FLAG_W,PHSPHT,PHSPHT_FLAG_W,CFC-12,CFC-12_FLAG_W,SF6,SF6_FLAG_W,TCARBN,TCARBN_FLAG_W,ALKALI,ALKALI_FLAG_W,BTL_DATE,BTL_TIME
,,,,,,,,,,,,METERS,DBAR,ITS-90,PSS-78,UMOL/KG,,UMOL/KG,,UMOL/KG,,UMOL/KG,,UMOL/KG,,UMOL/KG,,PMOL/KG,,FMOL/KG,,UMOL/KG,,UMOL/KG,,,
06M220170104  ,A10.5      ,61      ,  1,61122.0    ,240316.0   ,22         ,2,20170117,0030, -34.4999, -13.8330,     3646,      8.4,  20.4059,  35.3533,    234.4,2,    234.0,2,     0.18,2,    -0.07,2,     0.01,2,     0.22,2,    1.352,2,   1.7460,2,   2064.3,2,   2330.9,2,20170117,0131
06M220170104  ,A10.5      ,61      ,  1,61121.0    ,240315.0   ,21         ,2,20170117,0030, -34.4999, -13.8330,     3646,     38.0,  18.6270,  35.4026,    242.2,2,    243.5,2,     0.14,2,    -0.03,2,     0.02,2,     0.22,2,    1.444,2,   1.8870,2,   2068.6,2,   2336.3,2,20170117,0130
06M220170104  ,A10.5      ,61      ,  1,61120.0    ,240314.0   ,20         ,2,20170117,0030, -34.4999, -13.8330,     3646,     89.8,  15.3563,  35.3324,    254.8,2,    252.8,2,     0.25,2,     0.43,2,     0.13,2,     0.28,2,    1.615,2,   1.9420,2,   2079.7,2,   2332.2,2,20170117,0128
06M220170104  ,A10.5      ,61      ,  1,61119.0    ,240313.0   ,19         ,2,20170117,0030, -34.4999, -13.8330,     3646,    153.4,  14.1579,  35.3174,    230.8,2,     -999,9,     -999,9,     -999,9,     -999,9,     -999,9,     -999,9,     -999,9,     -999,9,     -999,9,20170117,0127
06M220170104  ,A10.5      ,61      ,  1,61118.0    ,240312.0   ,18         ,2,20170117,0030, -34.4999, -13.8330,     3646,    297.2,  12.9202,  35.2000,    227.2,2,    226.3,2,     1.46,2,     8.98,2,     0.02,2,     0.73,2,    1.772,2,   1.8380,2,   2114.5,2,   2323.6,2,20170117,0124
06M220170104  ,A10.5      ,61      ,  1,61117.0    ,240311.0   ,17         ,2,20170117,0030, -34.4999, -13.8330,     3646,    416.3,   9.8842,  34.7756,    215.2,2,    215.4,2,     4.53,2,    20.98,2,     0.01,2,     1.47,2,    1.960,2,   1.6850,2,   2149.2,3,   2299.0,3,20170117,0122
06M220170104  ,A10.5      ,61      ,  1,61116.0    ,240310.0   ,16         ,2,20170117,0030, -34.4999, -13.8330,     3646,    541.7,   7.3480,  34.4744,    222.1,2,    223.2,2,     6.99,2,    24.48,2,     0.01,2,     1.68,2,    2.016,2,   1.5460,2,   2151.8,2,   2289.8,2,20170117,0120
06M220170104  ,A10.5      ,61      ,  1,61115.0    ,240309.0   ,15         ,2,20170117,0030, -34.4999, -13.8330,     3646,    697.6,   5.4490,  34.2811,    239.9,2,    241.5,2,    12.36,2,    27.09,2,     0.01,2,     1.87,2,    2.133,2,   1.5620,2,     -999,9,     -999,9,20170117,0118
06M220170104  ,A10.5      ,61      ,  1,61114.0    ,240308.0   ,14         ,2,20170117,0030, -34.4999, -13.8330,     3646,    831.4,   4.5436,  34.2210,    245.1,2,    244.8,2,    16.54,2,    28.58,2,     0.01,2,     1.83,2,    2.048,2,   1.3960,2,   2161.2,2,   2302.0,3,20170117,0116
06M220170104  ,A10.5      ,61      ,  1,61113.0    ,240307.0   ,13         ,2,20170117,0030, -34.4999, -13.8330,     3646,    957.1,   3.9334,  34.2360,    234.7,2,    234.2,2,    24.94,2,    31.39,2,     0.01,2,     2.20,2,    1.684,2,   1.0710,2,     -999,9,     -999,9,20170117,0114
06M220170104  ,A10.5      ,61      ,  1,61112.0    ,240306.0   ,12         ,2,20170117,0030, -34.4999, -13.8330,     3646,   1071.4,   3.4938,  34.2830,    220.2,2,    219.6,2,    26.04,2,    31.96,2,     0.01,2,     2.27,2,    1.297,2,   0.7580,2,   2190.0,2,   2317.5,3,20170117,0112
06M220170104  ,A10.5      ,61      ,  1,61111.0    ,240305.0   ,11         ,2,20170117,0030, -34.4999, -13.8330,     3646,   1248.9,   3.0819,  34.3927,    198.1,2,    197.0,2,    47.61,2,    34.61,2,     0.01,2,     2.42,2,    0.727,2,   0.3480,2,   2220.7,3,   2314.1,3,20170117,0109
06M220170104  ,A10.5      ,61      ,  1,61110.0    ,240304.0   ,10         ,2,20170117,0030, -34.4999, -13.8330,     3646,   1526.7,   2.8696,  34.5733,    187.5,2,    187.7,2,    46.54,3,    26.98,2,     0.00,2,     2.08,2,    0.262,2,   0.0910,2,   2221.2,2,   2347.1,3,20170117,0104
06M220170104  ,A10.5      ,61      ,  1,61109.0    ,240303.0   ,9          ,2,20170117,0030, -34.4999, -13.8330,     3646,   1747.9,   2.8412,  34.6890,    194.6,2,    202.6,4,    47.92,2,    28.67,2,     0.01,2,     1.69,3,    0.525,4,   0.4630,4,   2198.2,4,   2325.8,3,20170117,0101
06M220170104  ,A10.5      ,61      ,  1,61108.0    ,240302.0   ,8          ,2,20170117,0030, -34.4999, -13.8330,     3646,   1993.7,   2.8219,  34.7771,    210.2,2,    210.3,2,    51.47,2,    28.14,2,     0.00,2,     1.94,2,    0.074,2,   0.0000,2,     -999,9,     -999,9,20170117,0057
06M220170104  ,A10.5      ,61      ,  1,61107.0    ,240301.0   ,7          ,2,20170117,0030, -34.4999, -13.8330,     3646,   1998.4,   2.8202,  34.7789,    210.6,2,    210.8,2,    51.20,2,    28.71,2,     0.01,2,     1.95,2,    0.089,2,   0.0000,2,   2210.7,2,   2332.1,2,20170117,0057
06M220170104  ,A10.5      ,61      ,  1,61106.0    ,240300.0   ,6          ,2,20170117,0030, -34.4999, -13.8330,     3646,   2176.5,   2.7645,  34.8181,    220.7,2,    221.8,2,    54.75,2,    29.49,2,     0.01,2,     1.96,2,    0.052,2,   0.0000,2,     -999,9,     -999,9,20170117,0054
06M220170104  ,A10.5      ,61      ,  1,61105.0    ,240299.0   ,5          ,2,20170117,0030, -34.4999, -13.8330,     3646,   2497.6,   2.6482,  34.8515,    231.3,2,    230.3,2,    46.95,2,    26.18,2,     0.01,2,     1.83,2,    0.037,2,   0.0000,2,   2200.2,2,   2334.4,2,20170117,0049
06M220170104  ,A10.5      ,61      ,  1,61104.0    ,240298.0   ,4          ,2,20170117,0030, -34.4999, -13.8330,     3646,   2746.7,   2.5520,  34.8571,    234.5,2,    234.1,2,    47.03,2,    24.28,2,     0.02,2,     1.69,2,    0.054,2,   0.0000,2,     -999,9,     -999,9,20170117,0045
06M220170104  ,A10.5      ,61      ,  1,61103.0    ,240297.0   ,3          ,2,20170117,0030, -34.4999, -13.8330,     3646,   2998.3,   2.4315,  34.8584,    237.0,2,    236.2,2,    54.90,2,    26.53,2,     0.00,2,     1.85,2,    0.033,2,   0.0000,2,   2201.1,2,   2337.1,2,20170117,0041
06M220170104  ,A10.5      ,61      ,  1,61102.0    ,240296.0   ,2          ,2,20170117,0030, -34.4999, -13.8330,     3646,   3246.5,   2.3235,  34.8552,    238.2,2,    238.0,2,    61.11,2,    29.08,2,     0.01,2,     2.07,2,    0.022,2,   0.0000,2,   2205.0,2,   2338.5,2,20170117,0036
06M220170104  ,A10.5      ,61      ,  1,61101.0    ,240295.0   ,1          ,2,20170117,0030, -34.4999, -13.8330,     3646,   3636.2,   2.2583,  34.8512,    238.4,2,    238.1,2,    52.07,2,    23.46,2,     0.00,2,     1.49,2,    0.026,2,   0.0000,2,   2200.8,2,   2341.4,2,20170117,0030
06M220170104  ,A10.5      ,62      ,  1,62122.0    ,240338.0   ,22         ,2,20170117,0422, -34.4996, -14.2347,     3233,      9.2,  21.1429,  35.3528,    230.9,2,    229.9,2,     0.68,2,     0.42,2,     0.00,2,     0.13,2,    1.314,2,   1.7210,2,   2076.5,2,   2333.8,2,20170117,0516
06M220170104  ,A10.5      ,62      ,  1,62121.0    ,240337.0   ,21         ,2,20170117,0422, -34.4996, -14.2347,     3233,     46.2,  18.6672,  35.4528,    240.3,2,    240.9,2,     0.55,2,     0.34,2,     0.00,2,     0.11,2,    1.407,2,   1.8150,2,   2036.0,2,   2334.0,2,20170117,0515
06M220170104  ,A10.5      ,62      ,  1,62120.0    ,240336.0   ,20         ,2,20170117,0422, -34.4996, -14.2347,     3233,     70.2,  16.3385,  35.3541,    255.4,2,    253.4,2,     0.67,2,     0.37,2,     0.00,2,     0.14,2,    1.541,2,   1.8690,2,   2085.2,2,   2333.9,2,20170117,0514
06M220170104  ,A10.5      ,62      ,  1,62119.0    ,240335.0   ,19         ,2,20170117,0422, -34.4996, -14.2347,     3233,     96.2,  15.5398,  35.2802,    259.5,2,     -999,9,     -999,9,     -999,9,     -999,9,     -999,9,     -999,9,     -999,9,     -999,9,     -999,9,20170117,0514
06M220170104  ,A10.5      ,62      ,  1,62118.0    ,240334.0   ,18         ,2,20170117,0422, -34.4996, -14.2347,     3233,    242.6,  13.7474,  35.3409,    227.7,2,    229.0,2,     2.41,2,     6.87,2,     0.01,2,     0.53,2,    1.667,2,   1.9410,2,   2127.6,2,   2331.6,2,20170117,0511
06M220170104  ,A10.5      ,62      ,  1,62117.0    ,240333.0   ,17         ,2,20170117,0422, -34.4996, -14.2347,     3233,    344.8,  12.2209,  35.1149,    217.6,2,    217.6,2,     3.07,2,    11.03,2,     0.00,2,     0.84,2,    1.805,2,   1.7360,2,     -999,9,     -999,9,20170117,0510
06M220170104  ,A10.5      ,62      ,  1,62116.0    ,240332.0   ,16         ,2,20170117,0422, -34.4996, -14.2347,     3233,    487.9,   9.3963,  34.7332,    209.2,2,    210.4,2,     7.71,2,    19.56,2,     0.01,2,     1.35,2,     -999,9,     -999,9,   2166.8,2,   2297.2,2,20170117,0507
06M220170104  ,A10.5      ,62      ,  1,62115.0    ,240331.0   ,15         ,2,20170117,0422, -34.4996, -14.2347,     3233,    616.9,   6.2328,  34.3467,    234.9,2,    234.8,2,    10.39,2,    24.87,2,     0.00,2,     1.72,2,    2.133,2,   1.5030,2,     -999,9,     -999,9,20170117,0505
06M220170104  ,A10.5      ,62      ,  1,62114.0    ,240330.0   ,14         ,2,20170117,0422, -34.4996, -14.2347,     3233,    731.0,   4.9244,  34.2355,    245.3,2,    244.8,2,    13.70,2,    26.60,2,     0.00,2,     1.82,2,     -999,9,     -999,9,     -999,9,     -999,9,20170117,0503
06M220170104  ,A10.5      ,62      ,  1,62113.0    ,240329.0   ,13         ,2,20170117,0422, -34.4996, -14.2347,     3233,    836.8,   4.2492,  34.2211,    242.2,2,    241.2,2,    18.38,2,    26.50,2,     0.00,2,     1.87,2,    1.888,2,   1.2790,2,   2183.9,2,   2287.8,2,20170117,0501
06M220170104  ,A10.5      ,62      ,  1,62112.0    ,240328.0   ,12         ,2,20170117,0422, -34.4996, -14.2347,     3233,   1046.6,   3.4414,  34.2754,    221.4,2,    221.7,2,    33.66,2,    31.81,2,     0.00,2,     2.14,2,    1.319,2,   0.7070,2,     -999,9,     -999,9,20170117,0458
06M220170104  ,A10.5      ,62      ,  1,62111.0    ,240327.0   ,11         ,2,20170117,0422, -34.4996, -14.2347,     3233,   1246.3,   3.0415,  34.3940,    197.7,2,    195.9,2,    47.77,2,    33.75,2,     0.00,2,     2.27,2,    0.701,2,   0.3010,2,   2228.0,2,   2313.8,2,20170117,0455
06M220170104  ,A10.5      ,62      ,  1,62110.0    ,240326.0   ,10         ,2,20170117,0422, -34.4996, -14.2347,     3233,   1489.9,   2.8279,  34.5829,    186.5,2,    186.7,2,    49.29,4,    27.66,4,     0.00,4,     2.00,4,    0.255,2,   0.1090,2,   2254.6,2,   2335.7,3,20170117,0451
06M220170104  ,A10.5      ,62      ,  1,62109.0    ,240325.0   ,9          ,2,20170117,0422, -34.4996, -14.2347,     3233,   1594.9,   2.8198,  34.6355,    188.7,2,    187.3,2,    56.22,2,    29.79,2,     0.00,2,     2.11,2,     -999,9,     -999,9,     -999,9,     -999,9,20170117,0449
06M220170104  ,A10.5      ,62      ,  1,62108.0    ,240324.0   ,8          ,2,20170117,0422, -34.4996, -14.2347,     3233,   1797.0,   2.8224,  34.7388,    200.9,2,    199.9,2,    55.60,2,    28.79,2,     0.00,2,     1.96,2,     -999,9,     -999,9,   2237.7,2,   2335.7,2,20170117,0446
06M220170104  ,A10.5      ,62      ,  1,62107.0    ,240323.0   ,7          ,2,20170117,0422, -34.4996, -14.2347,     3233,   1997.7,   2.8304,  34.7890,    211.7,2,    212.6,2,    52.46,2,    27.75,2,     0.00,2,     1.93,2,     -999,9,     -999,9,     -999,9,     -999,9,20170117,0442
06M220170104  ,A10.5      ,62      ,  1,62106.0    ,240322.0   ,6          ,2,20170117,0422, -34.4996, -14.2347,     3233,   2247.8,   2.7666,  34.8438,    226.7,2,    226.8,2,    46.87,2,    25.19,2,     0.00,2,     1.69,2,     -999,9,     -999,9,   2212.5,2,   2336.4,2,20170117,0438
06M220170104  ,A10.5      ,62      ,  1,62105.0    ,240321.0   ,5          ,2,20170117,0422, -34.4996, -14.2347,     3233,   2496.7,   2.6522,  34.8575,    232.8,2,    231.4,2,    45.83,2,    24.76,2,     0.00,2,     1.64,2,     -999,9,     -999,9,     -999,9,     -999,9,20170117,0434
06M220170104  ,A10.5      ,62      ,  1,62104.0    ,240320.0   ,4          ,2,20170117,0422, -34.4996, -14.2347,     3233,   2744.9,   2.5205,  34.8588,    235.4,2,    234.5,2,    49.06,2,    24.38,2,     0.00,2,     1.62,2,     -999,9,     -999,9,   2209.6,2,   2337.5,2,20170117,0430
06M220170104  ,A10.5      ,62      ,  1,62103.0    ,240319.0   ,3          ,2,20170117,0422, -34.4996, -14.2347,     3233,   2995.9,   2.4140,  34.8569,    236.0,2,    235.8,2,    52.92,2,    24.63,2,     0.01,2,     1.65,2,     -999,9,     -999,9,   2213.6,2,   2339.3,2,20170117,0426
06M220170104  ,A10.5      ,62      ,  1,62101.0    ,240317.0   ,1          ,2,20170117,0422, -34.4996, -14.2347,     3233,   3221.8,   2.4007,  34.8556,    236.1,2,    236.0,2,    53.60,2,    24.18,2,     0.01,2,     1.70,2,     -999,9,     -999,9,   2213.7,2,   2340.8,2,20170117,0422
06M220170104  ,A10.5      ,62      ,  1,62102.0    ,240318.0   ,2          ,2,20170117,0422, -34.4996, -14.2347,     3233,   3222.6,   2.3987,  34.8557,    236.0,2,    236.0,2,    53.23,2,    24.38,2,     0.01,2,     1.64,2,     -999,9,     -999,9,     -999,9,     -999,9,20170117,0422
06M220170104  ,A10.5      ,63      ,  1,63122.0    ,240360.0   ,22         ,2,20170117,0952, -34.4995, -15.0908,     3184,      7.3,  21.3310,  35.4503,    228.8,2,    228.5,2,    -0.39,2,     0.07,2,     0.01,2,     0.17,2,    1.303,2,   0.3800,4,   2068.2,2,   2337.8,2,20170117,1048
06M220170104  ,A10.5      ,63      ,  1,63121.0    ,240359.0   ,21         ,2,20170117,0952, -34.4995, -15.0908,     3184,     48.6,  18.1733,  35.5904,    243.8,2,    243.7,2,    -0.67,2,     0.09,2,     0.00,2,     0.14,2,    1.439,2,   1.7880,2,   2076.7,2,   2344.9,2,20170117,1046
06M220170104  ,A10.5      ,63      ,  1,63120.0    ,240358.0   ,20         ,2,20170117,0952, -34.4995, -15.0908,     3184,     79.7,  16.3530,  35.5342,    245.5,2,    244.3,2,     0.01,2,     0.20,2,     0.02,2,     0.23,2,    1.526,2,   1.8120,2,   2087.2,2,   2341.5,2,20170117,1045
06M220170104  ,A10.5      ,63      ,  1,63119.0    ,240357.0   ,19         ,2,20170117,0952, -34.4995, -15.0908,     3184,    157.9,  14.2510,  35.3731,    228.6,2,     -999,9,     -999,9,     -999,9,     -999,9,     -999,9,     -999,9,     -999,9,     -999,9,     -999,9,20170117,1043
06M220170104  ,A10.5      ,63      ,  1,63118.0    ,240356.0   ,18         ,2,20170117,0952, -34.4995, -15.0908,     3184,    262.0,  13.8963,  35.4219,    230.3,2,    231.0,2,     1.19,2,     6.90,2,     0.02,2,     0.61,2,    1.666,2,   1.8460,2,   2119.0,2,   2336.0,2,20170117,1042
06M220170104  ,A10.5      ,63      ,  1,63117.0    ,240355.0   ,17         ,2,20170117,0952, -34.4995, -15.0908,     3184,    388.6,  11.3756,  34.9795,    216.4,2,    215.8,2,     3.24,2,    14.60,2,     0.01,2,     1.10,2,    1.827,2,   1.6470,2,   2137.2,2,   2310.1,2,20170117,1039
06M220170104  ,A10.5      ,63      ,  1,63116.0    ,240354.0   ,16         ,2,20170117,0952, -34.4995, -15.0908,     3184,    494.5,   9.2393,  34.7124,    208.9,2,    210.8,2,     7.57,2,    21.80,2,     0.01,2,     1.58,2,    1.848,2,   1.3560,2,   2151.9,2,   2298.6,2,20170117,1038
06M220170104  ,A10.5      ,63      ,  1,63115.0    ,240353.0   ,15         ,2,20170117,0952, -34.4995, -15.0908,     3184,    596.0,   7.4497,  34.5063,    214.1,2,    212.3,2,    10.75,2,    25.06,2,     0.01,2,     1.56,2,    1.911,2,   1.2710,2,   2160.7,2,   2291.0,2,20170117,1036
06M220170104  ,A10.5      ,63      ,  1,63114.0    ,240352.0   ,14         ,2,20170117,0952, -34.4995, -15.0908,     3184,    830.0,   4.7212,  34.2822,    228.1,2,    225.6,2,    18.24,4,    26.45,4,     0.00,4,     1.96,4,    1.689,2,   0.9320,3,   2174.8,2,   2294.5,2,20170117,1032
06M220170104  ,A10.5      ,63      ,  1,63113.0    ,240351.0   ,13         ,2,20170117,0952, -34.4995, -15.0908,     3184,    947.9,   4.0902,  34.2988,    217.8,2,    217.0,2,    30.77,2,    34.04,2,     0.01,2,     2.26,2,    1.358,2,   0.6650,3,     -999,9,     -999,9,20170117,1030
06M220170104  ,A10.5      ,63      ,  1,63112.0    ,240350.0   ,12         ,2,20170117,0952, -34.4995, -15.0908,     3184,   1100.0,   3.4736,  34.3478,    206.4,2,    205.6,2,    38.90,2,    34.65,2,     0.01,2,     2.44,2,    0.942,2,   0.5170,2,   2202.8,2,   2308.3,2,20170117,1027
06M220170104  ,A10.5      ,63      ,  1,63111.0    ,240349.0   ,11         ,2,20170117,0952, -34.4995, -15.0908,     3184,   1296.0,   3.0541,  34.4406,    193.3,2,    192.2,2,    53.17,2,    36.12,2,     0.00,2,     2.55,2,    0.568,2,   0.2580,2,   2218.6,2,   2317.2,2,20170117,1024
06M220170104  ,A10.5      ,63      ,  1,63110.0    ,240348.0   ,10         ,2,20170117,0952, -34.4995, -15.0908,     3184,   1496.7,   2.8786,  34.5510,    186.6,2,    186.7,2,    58.69,2,    34.96,2,     0.00,2,     2.47,2,    0.338,2,   0.1230,2,   2247.4,2,   2326.1,2,20170117,1021
06M220170104  ,A10.5      ,63      ,  1,63109.0    ,240347.0   ,9          ,2,20170117,0952, -34.4995, -15.0908,     3184,   1746.8,   2.8353,  34.7107,    199.5,2,    199.4,2,    56.83,2,    31.81,2,     0.00,2,     2.26,2,     -999,9,     -999,9,   2219.4,2,   2332.5,2,20170117,1017
06M220170104  ,A10.5      ,63      ,  1,63108.0    ,240346.0   ,8          ,2,20170117,0952, -34.4995, -15.0908,     3184,   1996.1,   2.8051,  34.7822,    213.2,2,    212.7,2,    51.06,2,    28.76,2,     0.01,2,     2.03,2,    0.066,2,   0.0000,2,     -999,9,     -999,9,20170117,1012
06M220170104  ,A10.5      ,63      ,  1,63107.0    ,240345.0   ,7          ,2,20170117,0952, -34.4995, -15.0908,     3184,   1996.9,   2.8053,  34.7820,    213.1,2,    213.2,2,    48.97,2,    28.57,2,     0.00,2,     1.98,2,    0.066,2,   0.0000,2,   2208.8,2,   2332.8,2,20170117,1012
06M220170104  ,A10.5      ,63      ,  1,63106.0    ,240344.0   ,6          ,2,20170117,0952, -34.4995, -15.0908,     3184,   2275.0,   2.7357,  34.8384,    227.0,2,    226.3,2,    48.58,2,    27.08,2,     0.00,2,     1.91,2,    0.039,2,   0.0000,2,     -999,9,     -999,9,20170117,1008
06M220170104  ,A10.5      ,63      ,  1,63105.0    ,240343.0   ,5          ,2,20170117,0952, -34.4995, -15.0908,     3184,   2530.3,   2.6973,  34.8692,    235.5,2,    233.8,2,    29.47,4,    15.99,4,     0.00,4,     1.32,4,    0.035,2,   0.0000,2,   2193.3,2,   2334.0,2,20170117,1003
06M220170104  ,A10.5      ,63      ,  1,63104.0    ,240342.0   ,4          ,2,20170117,0952, -34.4995, -15.0908,     3184,   2747.8,   2.5488,  34.8677,    237.7,2,    237.2,2,    45.91,2,    24.60,2,     0.00,2,     1.74,2,    0.031,2,   0.0000,2,   2197.1,2,   2336.0,2,20170117,1000
06M220170104  ,A10.5      ,63      ,  1,63103.0    ,240341.0   ,3          ,2,20170117,0952, -34.4995, -15.0908,     3184,   2995.9,   2.3570,  34.8615,    238.7,2,    238.6,2,    54.76,2,    25.97,2,     0.00,2,     1.85,2,    0.026,2,   0.0000,2,     -999,9,     -999,9,20170117,0956
06M220170104  ,A10.5      ,63      ,  1,63102.0    ,240340.0   ,2          ,2,20170117,0952, -34.4995, -15.0908,     3184,   3172.8,   2.2986,  34.8574,    238.7,2,    237.1,2,    54.18,2,    25.14,2,     0.00,2,     1.79,2,    0.026,2,   0.0000,2,     -999,9,     -999,9,20170117,0952
06M220170104  ,A10.5      ,63      ,  1,63101.0    ,240339.0   ,1          ,2,20170117,0952, -34.4995, -15.0908,     3184,   3173.6,   2.2983,  34.8573,    238.5,2,    237.9,2,    52.09,2,    25.10,2,     0.00,2,     1.81,2,    0.029,2,   0.0000,2,   2190.9,2,   2339.8,2,20170117,0952