BOTTLE,20240228CCHSIOADS
EXPOCODE,SECT_ID,STNNBR,CASTNO,SAMPNO,BIONBR,BTLNBR,BTLNBR_FLAG_W,DATE,TIME,LATITUDE,LONGITUDE,DEPTH,CTDPRS,CTDTMP,CTDSAL,CTDOXY,CTDOXY_FLAG_W,OXYGEN,OXYGEN_FLAG_W,SILCAT,SILCAT_FLAG_W,NITRAT,NITRAT_FLAG_W,NITRIT,NITRIT_FLAG_W,PHSPHT,PHSPHT_FLAG_W,CFC-12,CFC-12_FLAG_W,SF6,SF6_FLAG_W,TCARBN,TCARBN_FLAG_W,ALKALI,ALKALI_FLAG_W,BTL_DATE,BTL_TIME
,,,,,,,,,,,,METERS,DBAR,ITS-90,PSS-78,UMOL/KG,,UMOL/KG,,UMOL/KG,,UMOL/KG,,UMOL/KG,,UMOL/KG,,PMOL/KG,,FMOL/KG,,UMOL/KG,,UMOL/KG,,,
06M220170104  ,A10.5      ,58      ,  1,58122.0    ,241743.0   ,22         ,2,20170116,0755, -34.4998, -11.6160,     4070,      7.6,  21.8916,  35.6928,    227.3,2,    225.5,2,     0.38,2,    -0.07,2,     0.00,2,     0.06,2,     -999,9,     -999,9,   2080.1,2,   2347.7,2,20170116,0905
06M220170104  ,A10.5      ,58      ,  1,58121.0    ,241742.0   ,21         ,2,20170116,0755, -34.4998, -11.6160,     4070,     21.9,  20.7531,  35.7431,    230.6,2,    226.5,2,     0.49,2,    -0.09,2,     0.01,2,     0.10,2,     -999,9,     -999,9,   2081.7,2,   2351.7,2,20170116,0904
06M220170104  ,A10.5      ,58      ,  1,58120.0    ,241741.0   ,20         ,2,20170116,0755, -34.4998, -11.6160,     4070,     48.1,  20.2672,  35.8126,    234.6,2,    238.5,2,     0.57,2,    -0.14,2,     0.01,2,     0.07,2,     -999,9,     -999,9,   2082.0,2,   2356.6,2,20170116,0903
06M220170104  ,A10.5      ,58      ,  1,58119.0    ,241740.0   ,19         ,2,20170116,0755, -34.4998, -11.6160,     4070,     73.5,  18.4529,  35.8099,    242.5,2,    238.4,2,     0.64,2,    -0.07,2,     0.01,2,     0.08,2,     -999,9,     -999,9,     -999,9,     -999,9,20170116,0902
06M220170104  ,A10.5      ,58      ,  1,58118.0    ,241739.0   ,18         ,2,20170116,0755, -34.4998, -11.6160,     4070,    121.9,  16.9003,  35.6665,    234.8,2,    228.1,3,     0.79,2,     0.48,2,     0.06,2,     0.15,2,     -999,9,     -999,9,   2099.4,2,   2346.0,2,20170116,0901
06M220170104  ,A10.5      ,58      ,  1,58117.0    ,241738.0   ,17         ,2,20170116,0755, -34.4998, -11.6160,     4070,    243.7,  14.0719,  35.3074,    218.1,2,    221.2,2,     2.32,2,     5.74,2,     0.01,2,     0.61,2,     -999,9,     -999,9,     -999,9,     -999,9,20170116,0859
06M220170104  ,A10.5      ,58      ,  1,58116.0    ,241737.0   ,16         ,2,20170116,0755, -34.4998, -11.6160,     4070,    397.3,  11.9516,  35.0657,    211.4,2,    209.5,2,     4.12,2,    10.94,2,     0.01,2,     0.81,2,     -999,9,     -999,9,   2142.0,2,   2309.3,2,20170116,0856
06M220170104  ,A10.5      ,58      ,  1,58115.0    ,241736.0   ,15         ,2,20170116,0755, -34.4998, -11.6160,     4070,    625.4,   8.1363,  34.5821,    207.5,2,    205.2,2,     9.94,2,    18.48,2,     0.01,2,     1.41,2,     -999,9,     -999,9,   2168.0,2,   2291.2,2,20170116,0852
06M220170104  ,A10.5      ,58      ,  1,58114.0    ,241735.0   ,14         ,2,20170116,0755, -34.4998, -11.6160,     4070,    776.9,   5.5573,  34.2992,    236.7,2,    235.1,2,    14.70,3,    23.70,3,     0.01,3,     2.03,3,     -999,9,     -999,9,     -999,9,     -999,9,20170116,0850
06M220170104  ,A10.5      ,58      ,  1,58113.0    ,241734.0   ,13         ,2,20170116,0755, -34.4998, -11.6160,     4070,    827.3,   5.0280,  34.2649,    238.7,2,    235.7,2,    16.33,2,    22.76,2,     0.01,2,     1.80,2,     -999,9,     -999,9,   2173.1,2,   2281.4,2,20170116,0849
06M220170104  ,A10.5      ,58      ,  1,58112.0    ,241733.0   ,12         ,2,20170116,0755, -34.4998, -11.6160,     4070,    998.8,   4.0043,  34.2639,    227.4,2,    225.5,2,    25.71,2,    24.59,2,     0.01,2,     1.95,2,     -999,9,     -999,9,   2189.4,2,   2289.4,2,20170116,0846
06M220170104  ,A10.5      ,58      ,  1,58111.0    ,241732.0   ,11         ,2,20170116,0755, -34.4998, -11.6160,     4070,   1296.9,   3.0965,  34.4115,    196.3,2,    199.5,2,    46.88,2,    28.16,2,     0.01,2,     2.07,2,     -999,9,     -999,9,   2234.9,2,   2315.4,2,20170116,0841
06M220170104  ,A10.5      ,58      ,  1,58110.0    ,241731.0   ,10         ,2,20170116,0755, -34.4998, -11.6160,     4070,   1497.4,   2.8952,  34.5327,    187.2,2,    186.2,2,    57.79,2,    27.00,2,     0.00,2,     2.20,2,     -999,9,     -999,9,   2237.9,2,   2323.6,2,20170116,0837
06M220170104  ,A10.5      ,58      ,  1,58109.0    ,241730.0   ,9          ,2,20170116,0755, -34.4998, -11.6160,     4070,   1746.6,   2.8226,  34.6738,    192.5,2,    191.5,2,    70.98,2,    28.08,2,     0.02,2,     2.33,2,     -999,9,     -999,9,   2236.5,2,   2330.6,2,20170116,0833
06M220170104  ,A10.5      ,58      ,  1,58108.0    ,241729.0   ,8          ,2,20170116,0755, -34.4998, -11.6160,     4070,   1748.1,   2.8224,  34.6743,    192.7,2,    192.3,2,    50.22,4,    21.33,4,     0.01,4,     1.57,4,     -999,9,     -999,9,     -999,9,     -999,9,20170116,0833
06M220170104  ,A10.5      ,58      ,  1,58107.0    ,241728.0   ,7          ,2,20170116,0755, -34.4998, -11.6160,     4070,   1997.8,   2.7943,  34.7692,    207.0,2,     -999,9,     -999,9,     -999,9,     -999,9,     -999,9,     -999,9,     -999,9,     -999,9,     -999,9,20170116,0829
06M220170104  ,A10.5      ,58      ,  1,58106.0    ,241727.0   ,6          ,2,20170116,0755, -34.4998, -11.6160,     4070,   2497.5,   2.6146,  34.8402,    225.8,2,    224.3,2,    54.78,2,    21.80,2,     0.02,2,     1.70,2,     -999,9,     -999,9,   2217.0,2,   2340.2,2,20170116,0821
06M220170104  ,A10.5      ,58      ,  1,58105.0    ,241726.0   ,5          ,2,20170116,0755, -34.4998, -11.6160,     4070,   2997.4,   2.3678,  34.8547,    235.3,2,    234.3,2,    57.36,2,    21.08,2,     0.00,2,     1.73,2,     -999,9,     -999,9,   2207.0,2,   2340.3,2,20170116,0813
06M220170104  ,A10.5      ,58      ,  1,58104.0    ,241725.0   ,4          ,2,20170116,0755, -34.4998, -11.6160,     4070,   3497.2,   2.1542,  34.8400,    233.8,2,    232.5,2,    66.19,2,    21.64,2,     0.00,2,     1.64,2,     -999,9,     -999,9,   2233.5,4,   2345.7,2,20170116,0804
06M220170104  ,A10.5      ,58      ,  1,58103.0    ,241724.0   ,3          ,2,20170116,0755, -34.4998, -11.6160,     4070,   3798.1,   2.0149,  34.8279,    230.6,2,    229.0,2,    66.90,2,    21.36,2,     0.00,2,     1.55,3,     -999,9,     -999,9,   2223.2,2,   2349.6,2,20170116,0759
06M220170104  ,A10.5      ,58      ,  1,58101.0    ,241722.0   ,1          ,2,20170116,0755, -34.4998, -11.6160,     4070,   4059.7,   1.8397,  34.8081,    227.4,2,    226.4,2,    89.48,4,    24.18,4,     0.00,4,     2.02,2,     -999,9,     -999,9,   2230.6,2,   2359.5,2,20170116,0755
06M220170104  ,A10.5      ,58      ,  1,58102.0    ,241723.0   ,2          ,2,20170116,0755, -34.4998, -11.6160,     4070,   4060.2,   1.8397,  34.8081,    227.4,2,    226.3,2,    72.55,2,    22.81,2,     0.01,2,     1.59,3,     -999,9,     -999,9,     -999,9,     -999,9,20170116,0755
06M220170104  ,A10.5      ,59      ,  1,59122.0    ,240272.0   ,22         ,2,20170116,1311, -34.5000, -12.2703,     3983,      8.7,  22.3773,  36.0308,    224.7,2,    225.2,2,     0.29,2,     0.05,3,     0.00,3,     0.15,3,    1.155,2,   1.5880,2,   2083.0,2,   2369.3,2,20170116,1420
06M220170104  ,A10.5      ,59      ,  1,59121.0    ,240271.0   ,21         ,2,20170116,1311, -34.5000, -12.2703,     3983,     22.6,  21.9330,  36.0231,    226.1,2,    222.9,2,     0.35,2,     0.08,3,     0.00,3,     0.12,3,     -999,9,     -999,9,   2085.0,2,   2369.1,2,20170116,1419
06M220170104  ,A10.5      ,59      ,  1,59120.0    ,240270.0   ,20         ,2,20170116,1311, -34.5000, -12.2703,     3983,     48.8,  20.8796,  36.0177,    232.6,2,    230.1,2,     0.42,2,     0.11,3,     0.00,3,     0.14,3,     -999,9,     -999,9,   2085.6,2,   2367.5,2,20170116,1418
06M220170104  ,A10.5      ,59      ,  1,59119.0    ,240269.0   ,19         ,2,20170116,1311, -34.5000, -12.2703,     3983,    127.0,  17.6234,  35.7568,    237.1,2,     -999,9,     -999,9,     -999,9,     -999,9,     -999,9,     -999,9,     -999,9,     -999,9,     -999,9,20170116,1416
06M220170104  ,A10.5      ,59      ,  1,59118.0    ,240268.0   ,18         ,2,20170116,1311, -34.5000, -12.2703,     3983,    247.9,  14.6503,  35.3795,    223.1,2,    219.0,2,     1.22,2,     5.35,3,     0.01,3,     0.48,3,    1.631,2,   1.8190,2,   2112.5,2,   2331.2,2,20170116,1414
06M220170104  ,A10.5      ,59      ,  1,59117.0    ,240267.0   ,17         ,2,20170116,1311, -34.5000, -12.2703,     3983,    358.0,  13.0367,  35.1922,    211.6,2,    210.4,2,     4.17,2,    13.90,3,     0.01,3,     1.06,3,    1.738,2,   1.6800,2,   2132.1,2,   2316.3,2,20170116,1412
06M220170104  ,A10.5      ,59      ,  1,59116.0    ,240266.0   ,16         ,2,20170116,1311, -34.5000, -12.2703,     3983,    517.3,  10.4242,  34.8596,    209.4,2,    208.4,2,     5.50,2,    17.03,3,     0.00,3,     1.09,3,    1.828,2,   1.4540,2,   2148.0,2,   2302.9,2,20170116,1410
06M220170104  ,A10.5      ,59      ,  1,59115.0    ,240265.0   ,15         ,2,20170116,1311, -34.5000, -12.2703,     3983,    667.5,   7.2485,  34.4818,    213.9,2,    212.7,2,    10.41,2,    23.58,3,     0.00,3,     1.67,3,    1.876,2,   1.2240,2,     -999,9,     -999,9,20170116,1407
06M220170104  ,A10.5      ,59      ,  1,59114.0    ,240264.0   ,14         ,2,20170116,1311, -34.5000, -12.2703,     3983,    777.5,   5.9921,  34.3619,    222.2,2,    220.9,2,    14.44,2,    27.86,3,     0.01,3,     1.88,3,     -999,9,     -999,9,   2175.2,2,   2286.3,2,20170116,1405
06M220170104  ,A10.5      ,59      ,  1,59113.0    ,240263.0   ,13         ,2,20170116,1311, -34.5000, -12.2703,     3983,    867.0,   4.9053,  34.2925,    225.4,2,    224.4,2,     -999,9,     -999,9,     -999,9,     -999,9,    1.724,2,   1.0070,2,   2175.0,2,   2288.6,2,20170116,1404
06M220170104  ,A10.5      ,59      ,  1,59112.0    ,240262.0   ,12         ,2,20170116,1311, -34.5000, -12.2703,     3983,    987.8,   4.0875,  34.2802,    222.8,2,    219.9,2,    25.50,2,    28.02,3,     0.01,3,     1.80,3,    1.465,2,   0.7490,2,   2177.6,2,   2294.6,2,20170116,1402
06M220170104  ,A10.5      ,59      ,  1,59111.0    ,240261.0   ,11         ,2,20170116,1311, -34.5000, -12.2703,     3983,   1217.9,   3.3182,  34.3616,    204.0,2,    200.6,2,    42.56,2,    35.26,3,     0.01,3,     2.54,3,    0.874,2,   0.4570,2,   2210.6,2,   2308.0,2,20170116,1358
06M220170104  ,A10.5      ,59      ,  1,59110.0    ,240260.0   ,10         ,2,20170116,1311, -34.5000, -12.2703,     3983,   1498.6,   2.9525,  34.5423,    188.3,2,    187.2,2,    66.02,2,    40.42,3,     0.02,3,     2.71,3,    0.315,2,   0.1210,2,   2225.0,2,   2325.0,2,20170116,1353
06M220170104  ,A10.5      ,59      ,  1,59109.0    ,240259.0   ,9          ,2,20170116,1311, -34.5000, -12.2703,     3983,   1777.0,   2.8388,  34.6789,    195.7,2,    191.0,2,    54.72,3,    30.62,3,     0.00,3,     2.19,3,    0.144,2,   0.0000,2,   2228.6,2,   2332.3,2,20170116,1348
06M220170104  ,A10.5      ,59      ,  1,59108.0    ,240258.0   ,8          ,2,20170116,1311, -34.5000, -12.2703,     3983,   2047.7,   2.7808,  34.7635,    208.5,2,     -999,9,     -999,9,     -999,9,     -999,9,     -999,9,     -999,9,     -999,9,     -999,9,     -999,9,20170116,1344
06M220170104  ,A10.5      ,59      ,  1,59107.0    ,240257.0   ,7          ,2,20170116,1311, -34.5000, -12.2703,     3983,   2048.8,   2.7806,  34.7638,    208.5,2,    204.8,2,    56.66,3,    32.14,3,     0.01,3,     2.19,3,    0.118,2,   0.0000,2,   2212.8,2,   2334.2,2,20170116,1344
06M220170104  ,A10.5      ,59      ,  1,59106.0    ,240256.0   ,6          ,2,20170116,1311, -34.5000, -12.2703,     3983,   2267.5,   2.7393,  34.8078,    218.4,2,    216.6,2,    47.82,3,    27.06,3,     0.00,3,     1.87,3,    0.047,2,   0.0000,2,     -999,9,     -999,9,20170116,1340
06M220170104  ,A10.5      ,59      ,  1,59105.0    ,240255.0   ,5          ,2,20170116,1311, -34.5000, -12.2703,     3983,   2497.9,   2.6536,  34.8396,    227.8,2,    225.4,2,    51.57,3,    29.88,3,     0.01,3,     2.19,3,    0.075,2,   0.0000,2,   2201.9,2,   2334.8,2,20170116,1336
06M220170104  ,A10.5      ,59      ,  1,59104.0    ,240254.0   ,4          ,2,20170116,1311, -34.5000, -12.2703,     3983,   2747.3,   2.5376,  34.8557,    233.8,2,    229.8,2,    44.17,3,    23.04,3,     0.01,3,     1.67,3,    0.050,2,   0.0000,2,     -999,9,     -999,9,20170116,1332
06M220170104  ,A10.5      ,59      ,  1,59103.0    ,240253.0   ,3          ,2,20170116,1311, -34.5000, -12.2703,     3983,   2998.9,   2.4582,  34.8585,    235.6,2,    233.6,2,    50.70,3,    25.27,3,     0.00,3,     1.74,3,    0.034,2,   0.0000,2,   2197.6,2,   2337.7,2,20170116,1328
06M220170104  ,A10.5      ,59      ,  1,59102.0    ,240252.0   ,2          ,2,20170116,1311, -34.5000, -12.2703,     3983,   3497.8,   2.3048,  34.8533,    236.2,2,    234.6,2,    79.56,3,    35.66,3,     0.02,3,     2.46,3,    0.026,2,   0.0000,2,   2204.7,2,   2342.6,2,20170116,1319
06M220170104  ,A10.5      ,59      ,  1,59101.0    ,240251.0   ,1          ,2,20170116,1311, -34.5000, -12.2703,     3983,   3973.0,   1.9586,  34.8201,    229.3,2,    228.4,2,   101.26,3,    44.39,3,     0.02,3,     2.99,3,    0.037,2,   0.0000,2,   2213.8,2,   2353.2,2,20170116,1311
06M220170104  ,A10.5      ,60      ,  1,60122.0    ,240294.0   ,22         ,2,20170116,1823, -34.5000, -12.9253,     3798,      7.6,  22.8822,  35.9108,    223.5,2,    224.2,2,     1.74,2,     0.66,3,     0.01,3,     0.06,3,    1.237,3,   1.6400,2,   2090.6,2,   2359.2,2,20170116,1928
06M220170104  ,A10.5      ,60      ,  1,60121.0    ,240293.0   ,21         ,2,20170116,1823, -34.5000, -12.9253,     3798,     21.7,  21.5471,  35.9322,    228.3,2,    227.8,2,     1.42,2,     0.20,3,     0.00,3,     0.05,3,     -999,9,     -999,9,   2092.6,2,   2362.3,2,20170116,1928
06M220170104  ,A10.5      ,60      ,  1,60120.0    ,240292.0   ,20         ,2,20170116,1823, -34.5000, -12.9253,     3798,     71.4,  19.8120,  35.9143,    236.3,2,    235.6,2,     1.76,2,     0.36,3,     0.01,3,     0.12,3,    1.335,2,   1.7070,2,   2094.2,2,   2357.7,2,20170116,1926
06M220170104  ,A10.5      ,60      ,  1,60119.0    ,240291.0   ,19         ,2,20170116,1823, -34.5000, -12.9253,     3798,    136.7,  17.6533,  35.7982,    235.4,2,     -999,9,     -999,9,     -999,9,     -999,9,     -999,9,     -999,9,     -999,9,     -999,9,     -999,9,20170116,1925
06M220170104  ,A10.5      ,60      ,  1,60118.0    ,240290.0   ,18         ,2,20170116,1823, -34.5000, -12.9253,     3798,    197.4,  16.2657,  35.5767,    229.9,2,    229.2,2,     1.81,2,     1.96,3,     0.07,3,     0.23,3,    1.538,2,   1.8870,2,   2110.4,2,   2336.6,2,20170116,1923
06M220170104  ,A10.5      ,60      ,  1,60117.0    ,240289.0   ,17         ,2,20170116,1823, -34.5000, -12.9253,     3798,    276.2,  14.7779,  35.3759,    220.6,2,    220.0,2,     4.63,2,     6.85,3,     0.02,3,     0.48,3,    1.621,2,   1.8540,2,   2119.1,2,   2329.2,2,20170116,1922
06M220170104  ,A10.5      ,60      ,  1,60116.0    ,240288.0   ,16         ,2,20170116,1823, -34.5000, -12.9253,     3798,    347.6,  13.8218,  35.3183,    222.2,2,    220.6,2,     2.75,2,     7.50,3,     0.01,3,     0.54,3,    1.706,2,   1.7870,2,     -999,9,     -999,9,20170116,1921
06M220170104  ,A10.5      ,60      ,  1,60115.0    ,240287.0   ,15         ,2,20170116,1823, -34.5000, -12.9253,     3798,    505.1,  11.1152,  34.9546,    210.4,2,    211.2,2,     5.68,2,    17.29,3,     0.02,3,     1.07,3,    1.837,2,   1.5020,2,   2155.1,2,   2310.3,2,20170116,1918
06M220170104  ,A10.5      ,60      ,  1,60114.0    ,240286.0   ,14         ,2,20170116,1823, -34.5000, -12.9253,     3798,    697.7,   7.1437,  34.4697,    215.4,2,    215.6,2,    12.04,2,    25.83,3,     0.01,3,     1.59,3,    1.915,2,   1.2610,2,   2172.8,2,   2287.8,2,20170116,1915
06M220170104  ,A10.5      ,60      ,  1,60113.0    ,240285.0   ,13         ,2,20170116,1823, -34.5000, -12.9253,     3798,    846.3,   5.0808,  34.3143,    220.5,2,    219.9,2,    22.26,2,    32.22,3,     0.01,3,     2.08,3,    1.683,2,   0.9860,2,     -999,9,     -999,9,20170116,1912
06M220170104  ,A10.5      ,60      ,  1,60112.0    ,240284.0   ,12         ,2,20170116,1823, -34.5000, -12.9253,     3798,    958.4,   4.2684,  34.2792,    224.4,2,    218.3,4,    25.87,2,    31.94,3,     0.01,3,     1.94,3,    1.553,2,   0.8600,2,   2192.4,2,   2288.3,2,20170116,1911
06M220170104  ,A10.5      ,60      ,  1,60111.0    ,240283.0   ,11         ,2,20170116,1823, -34.5000, -12.9253,     3798,   1097.6,   3.8971,  34.3244,    209.8,2,    209.2,2,    39.63,2,    39.79,3,     0.00,3,     2.44,3,    1.177,2,   0.5620,2,   2205.1,2,   2298.6,2,20170116,1908
06M220170104  ,A10.5      ,60      ,  1,60110.0    ,240282.0   ,10         ,2,20170116,1823, -34.5000, -12.9253,     3798,   1185.7,   3.5215,  34.3463,    206.3,2,    205.2,2,    40.24,2,    35.96,3,     0.02,3,     2.29,3,    0.961,2,   0.4810,2,   2214.4,2,   2300.4,2,20170116,1907
06M220170104  ,A10.5      ,60      ,  1,60109.0    ,240281.0   ,9          ,2,20170116,1823, -34.5000, -12.9253,     3798,   1493.3,   2.9561,  34.5295,    188.8,2,    187.1,2,    62.05,2,    40.21,3,     0.00,3,     2.58,3,     -999,9,     -999,9,   2235.5,2,   2320.5,2,20170116,1902
06M220170104  ,A10.5      ,60      ,  1,60108.0    ,240280.0   ,8          ,2,20170116,1823, -34.5000, -12.9253,     3798,   1789.0,   2.8177,  34.6940,    197.8,2,    196.2,2,    48.79,3,    26.13,3,     0.00,3,     1.91,3,     -999,9,     -999,9,     -999,9,     -999,9,20170116,1857
06M220170104  ,A10.5      ,60      ,  1,60107.0    ,240279.0   ,7          ,2,20170116,1823, -34.5000, -12.9253,     3798,   1982.0,   2.7923,  34.7603,    208.2,2,    208.5,2,    52.15,2,    28.24,3,     0.02,3,     1.74,3,     -999,9,     -999,9,   2223.7,2,   2330.3,2,20170116,1853
06M220170104  ,A10.5      ,60      ,  1,60106.0    ,240278.0   ,6          ,2,20170116,1823, -34.5000, -12.9253,     3798,   2296.5,   2.6902,  34.8303,    224.2,2,    220.4,3,    51.27,2,    29.79,3,     0.01,3,     1.90,3,     -999,9,     -999,9,     -999,9,     -999,9,20170116,1848
06M220170104  ,A10.5      ,60      ,  1,60105.0    ,240277.0   ,5          ,2,20170116,1823, -34.5000, -12.9253,     3798,   2497.3,   2.6351,  34.8455,    229.4,2,    228.3,2,    55.20,2,    28.89,3,     0.00,3,     1.88,3,     -999,9,     -999,9,   2206.6,2,   2331.2,2,20170116,1845
06M220170104  ,A10.5      ,60      ,  1,60104.0    ,240276.0   ,4          ,2,20170116,1823, -34.5000, -12.9253,     3798,   2986.9,   2.4655,  34.8588,    236.6,2,    235.0,2,    54.01,2,    27.32,3,     0.00,3,     1.72,3,     -999,9,     -999,9,     -999,9,     -999,9,20170116,1837
06M220170104  ,A10.5      ,60      ,  1,60103.0    ,240275.0   ,3          ,2,20170116,1823, -34.5000, -12.9253,     3798,   3524.5,   2.2872,  34.8554,    237.0,2,    233.3,3,    63.06,2,    29.01,3,     0.01,3,     1.90,3,     -999,9,     -999,9,   2209.8,2,   2340.4,2,20170116,1828
06M220170104  ,A10.5      ,60      ,  1,60102.0    ,240274.0   ,2          ,2,20170116,1823, -34.5000, -12.9253,     3798,   3787.3,   2.2328,  34.8481,    235.4,2,    233.9,2,    62.55,2,    29.85,3,     0.01,3,     1.83,3,     -999,9,     -999,9,     -999,9,     -999,9,20170116,1823
06M220170104  ,A10.5      ,60      ,  1,60101.0    ,240273.0   ,1          ,2,20170116,1823, -34.5000, -12.9253,     3798,   3787.8,   2.2325,  34.8482,    235.4,2,    234.1,2,    61.94,2,    27.72,3,     0.00,3,     1.72,3,     -999,9,     -999,9,   2213.8,2,   2342.6,2,20170116,1823