BOTTLE,20240228CCHSIOADS
EXPOCODE,SECT_ID,STNNBR,CASTNO,SAMPNO,BIONBR,BTLNBR,BTLNBR_FLAG_W,DATE,TIME,LATITUDE,LONGITUDE,DEPTH,CTDPRS,CTDTMP,CTDSAL,CTDOXY,CTDOXY_FLAG_W,OXYGEN,OXYGEN_FLAG_W,SILCAT,SILCAT_FLAG_W,NITRAT,NITRAT_FLAG_W,NITRIT,NITRIT_FLAG_W,PHSPHT,PHSPHT_FLAG_W,CFC-12,CFC-12_FLAG_W,SF6,SF6_FLAG_W,TCARBN,TCARBN_FLAG_W,ALKALI,ALKALI_FLAG_W,BTL_DATE,BTL_TIME
,,,,,,,,,,,,METERS,DBAR,ITS-90,PSS-78,UMOL/KG,,UMOL/KG,,UMOL/KG,,UMOL/KG,,UMOL/KG,,UMOL/KG,,PMOL/KG,,FMOL/KG,,UMOL/KG,,UMOL/KG,,,
06M220170104  ,A10.5      ,44      ,  1,44115.0    ,240939.0   ,15         ,2,20170113,1457, -34.4997,  -3.8500,     3121,     97.2,  16.2036,  35.4991,    245.9,2,     -999,9,     -999,9,     -999,9,     -999,9,     -999,9,    1.504,2,   1.9390,2,     -999,9,     -999,9,20170113,1500
06M220170104  ,A10.5      ,44      ,  1,44114.0    ,240938.0   ,14         ,2,20170113,1457, -34.4997,  -3.8500,     3121,    189.3,  14.5614,  35.2868,    235.4,2,    244.2,4,     -999,9,     -999,9,     -999,9,     -999,9,    1.610,2,   2.0420,2,     -999,9,     -999,9,20170113,1459
06M220170104  ,A10.5      ,44      ,  1,44113.0    ,240937.0   ,13         ,2,20170113,1457, -34.4997,  -3.8500,     3121,    229.2,  14.1398,  35.2677,    228.5,2,    226.7,2,     -999,9,     -999,9,     -999,9,     -999,9,    1.631,2,   1.9290,2,     -999,9,     -999,9,20170113,1458
06M220170104  ,A10.5      ,44      ,  1,44112.0    ,240936.0   ,12         ,2,20170113,1457, -34.4997,  -3.8500,     3121,    261.6,  13.7968,  35.2473,    224.0,2,    222.0,2,     -999,9,     -999,9,     -999,9,     -999,9,    1.648,2,   1.8480,2,     -999,9,     -999,9,20170113,1458
06M220170104  ,A10.5      ,44      ,  1,44111.0    ,240935.0   ,11         ,2,20170113,1457, -34.4997,  -3.8500,     3121,    274.4,  13.5879,  35.2345,    219.8,2,    217.3,2,     -999,9,     -999,9,     -999,9,     -999,9,    1.685,3,   1.8310,2,     -999,9,     -999,9,20170113,1457
06M220170104  ,A10.5      ,45      ,  1,45102.0    ,240948.0   ,2          ,2,20170113,1758, -34.4990,  -4.1040,     3900,      1.3,  20.4423,  35.5438,    233.8,2,     -999,9,     -999,9,     -999,9,     -999,9,     -999,9,     -999,9,     -999,9,     -999,9,     -999,9,20170113,1758
06M220170104  ,A10.5      ,45      ,  1,45106.0    ,240952.0   ,6          ,2,20170113,1758, -34.4990,  -4.1040,     3900,      1.3,  20.4982,  35.5426,    233.4,2,     -999,9,     -999,9,     -999,9,     -999,9,     -999,9,     -999,9,     -999,9,     -999,9,     -999,9,20170113,1758
06M220170104  ,A10.5      ,45      ,  1,45103.0    ,240949.0   ,3          ,2,20170113,1758, -34.4990,  -4.1040,     3900,      1.4,  20.4178,  35.5404,    233.5,2,     -999,9,     -999,9,     -999,9,     -999,9,     -999,9,     -999,9,     -999,9,     -999,9,     -999,9,20170113,1758
06M220170104  ,A10.5      ,45      ,  1,45101.0    ,240947.0   ,1          ,2,20170113,1758, -34.4990,  -4.1040,     3900,      1.8,  20.3679,  35.5484,    233.3,2,     -999,9,     -999,9,     -999,9,     -999,9,     -999,9,     -999,9,     -999,9,     -999,9,     -999,9,20170113,1758
06M220170104  ,A10.5      ,45      ,  1,45104.0    ,240950.0   ,4          ,2,20170113,1758, -34.4990,  -4.1040,     3900,      1.9,  20.3582,  35.5473,    233.6,2,     -999,9,     -999,9,     -999,9,     -999,9,     -999,9,     -999,9,     -999,9,     -999,9,     -999,9,20170113,1758
06M220170104  ,A10.5      ,45      ,  1,45105.0    ,240951.0   ,5          ,2,20170113,1758, -34.4990,  -4.1040,     3900,      1.9,  20.4024,  35.5458,    233.5,2,     -999,9,     -999,9,     -999,9,     -999,9,     -999,9,     -999,9,     -999,9,     -999,9,     -999,9,20170113,1758
06M220170104  ,A10.5      ,46      ,  1,46118.0    ,240964.0   ,18         ,2,20170113,2042, -34.4998,  -4.4119,     3900,      4.9,  21.0306,  35.4974,    231.1,2,     -999,9,     -999,9,     -999,9,     -999,9,     -999,9,     -999,9,     -999,9,     -999,9,     -999,9,20170113,2048
06M220170104  ,A10.5      ,46      ,  1,46117.0    ,240963.0   ,17         ,2,20170113,2042, -34.4998,  -4.4119,     3900,      5.8,  21.0159,  35.4970,    231.2,2,     -999,9,     -999,9,     -999,9,     -999,9,     -999,9,     -999,9,     -999,9,     -999,9,     -999,9,20170113,2048
06M220170104  ,A10.5      ,46      ,  1,46116.0    ,240962.0   ,16         ,2,20170113,2042, -34.4998,  -4.4119,     3900,     94.3,  16.1368,  35.4716,    250.0,2,     -999,9,     -999,9,     -999,9,     -999,9,     -999,9,     -999,9,     -999,9,     -999,9,     -999,9,20170113,2045
06M220170104  ,A10.5      ,46      ,  1,46115.0    ,240961.0   ,15         ,2,20170113,2042, -34.4998,  -4.4119,     3900,    146.2,  15.1886,  35.3533,    239.3,2,     -999,9,     -999,9,     -999,9,     -999,9,     -999,9,     -999,9,     -999,9,   2089.2,2,   2337.1,2,20170113,2044
06M220170104  ,A10.5      ,46      ,  1,46114.0    ,240960.0   ,14         ,2,20170113,2042, -34.4998,  -4.4119,     3900,    196.1,  14.3059,  35.2794,    231.6,2,     -999,9,     -999,9,     -999,9,     -999,9,     -999,9,     -999,9,     -999,9,   2103.7,2,   2322.9,2,20170113,2043
06M220170104  ,A10.5      ,46      ,  1,46113.0    ,240959.0   ,13         ,2,20170113,2042, -34.4998,  -4.4119,     3900,    237.5,  13.7048,  35.2455,    221.9,2,     -999,9,     -999,9,     -999,9,     -999,9,     -999,9,     -999,9,     -999,9,   2111.4,2,   2322.6,2,20170113,2042
06M220170104  ,A10.5      ,47      ,  1,47122.0    ,240990.0   ,22         ,2,20170113,2200, -34.4998,  -4.4119,     3900,      8.4,  20.3840,  35.4939,    233.5,2,    231.6,2,     1.09,2,     0.27,2,     0.01,2,     0.14,3,    1.334,2,   1.7190,2,   2042.2,2,   2340.0,2,20170113,2357
06M220170104  ,A10.5      ,47      ,  1,47121.0    ,240989.0   ,21         ,2,20170113,2200, -34.4998,  -4.4119,     3900,     23.5,  19.7579,  35.5084,    237.5,2,    236.4,2,     0.97,2,     0.26,2,     0.01,2,     0.13,3,    1.359,2,   1.8010,2,   2042.0,2,   2339.9,2,20170113,2356
06M220170104  ,A10.5      ,47      ,  1,47120.0    ,240988.0   ,20         ,2,20170113,2200, -34.4998,  -4.4119,     3900,     31.8,  19.6130,  35.5156,    238.7,2,    236.9,2,     1.41,2,     0.33,2,     0.01,2,     0.19,3,    1.374,2,   1.7210,2,     -999,9,     -999,9,20170113,2356
06M220170104  ,A10.5      ,47      ,  1,47119.0    ,240987.0   ,19         ,2,20170113,2200, -34.4998,  -4.4119,     3900,     88.1,  15.9477,  35.4628,    246.1,2,    245.0,2,     1.31,2,     1.06,2,     0.12,2,     0.26,3,    1.529,2,   1.9530,2,   2064.3,2,   2338.0,2,20170113,2354
06M220170104  ,A10.5      ,47      ,  1,47118.0    ,240986.0   ,18         ,2,20170113,2200, -34.4998,  -4.4119,     3900,    147.3,  14.9946,  35.3250,    239.6,2,    238.2,2,     1.23,2,     2.96,2,     0.11,2,     0.31,3,    1.570,2,   1.9480,2,   2094.9,2,   2330.1,2,20170113,2353
06M220170104  ,A10.5      ,47      ,  1,47117.0    ,240985.0   ,17         ,2,20170113,2200, -34.4998,  -4.4119,     3900,    244.9,  13.7395,  35.2466,    224.0,2,    221.8,2,     2.04,2,     6.97,2,     0.01,2,     0.62,3,    1.680,2,   1.7910,2,     -999,9,     -999,9,20170113,2351
06M220170104  ,A10.5      ,47      ,  1,47116.0    ,240984.0   ,16         ,2,20170113,2200, -34.4998,  -4.4119,     3900,    346.1,  12.3608,  35.1061,    214.5,2,    213.2,2,     3.99,2,    12.12,2,     0.01,2,     1.27,3,     -999,9,     -999,9,   2139.9,2,   2316.4,2,20170113,2349
06M220170104  ,A10.5      ,47      ,  1,47115.0    ,240983.0   ,15         ,2,20170113,2200, -34.4998,  -4.4119,     3900,    446.9,  10.6525,  34.8825,    210.2,2,    210.8,2,     5.85,2,    16.92,2,     0.00,2,     1.14,3,    1.829,2,   1.5340,2,   2145.5,2,   2304.1,2,20170113,2348
06M220170104  ,A10.5      ,47      ,  1,47101.0    ,240969.0   ,1          ,2,20170113,2200, -34.4998,  -4.4119,     3900,    510.1,   9.6446,  34.7551,    208.5,2,     -999,9,     7.53,2,    16.19,3,     0.04,3,     1.98,3,    1.830,2,   1.4650,2,     -999,9,     -999,9,20170113,2200
06M220170104  ,A10.5      ,47      ,  1,47114.0    ,240982.0   ,14         ,2,20170113,2200, -34.4998,  -4.4119,     3900,    578.4,   8.3190,  34.6031,    209.0,2,    208.8,2,    12.30,2,    25.83,2,     0.01,2,     2.08,3,    1.847,2,   1.2990,2,   2169.6,2,   2292.5,2,20170113,2346
06M220170104  ,A10.5      ,47      ,  1,47113.0    ,240981.0   ,13         ,2,20170113,2200, -34.4998,  -4.4119,     3900,    777.6,   5.1893,  34.2882,    232.4,2,    231.2,2,    17.80,2,    30.55,2,     0.00,2,     2.07,3,    1.888,2,   1.2140,2,     -999,9,     -999,9,20170113,2342
06M220170104  ,A10.5      ,47      ,  1,47112.0    ,240980.0   ,12         ,2,20170113,2200, -34.4998,  -4.4119,     3900,    877.1,   4.5486,  34.2808,    225.8,2,    223.4,2,    28.23,2,    36.80,2,     0.01,2,     2.70,3,    1.632,2,   0.9630,2,   2187.9,2,   2291.8,2,20170113,2341
06M220170104  ,A10.5      ,47      ,  1,47111.0    ,240979.0   ,11         ,2,20170113,2200, -34.4998,  -4.4119,     3900,    997.2,   3.8375,  34.3075,    215.1,2,    213.8,2,    50.08,2,    40.02,2,     0.03,2,     3.14,3,    1.214,2,   0.6020,2,   2208.2,2,   2297.3,2,20170113,2339
06M220170104  ,A10.5      ,47      ,  1,47110.0    ,240978.0   ,10         ,2,20170113,2200, -34.4998,  -4.4119,     3900,   1248.4,   3.2137,  34.4230,    197.8,2,    195.4,2,    68.18,2,    41.90,2,     0.02,2,     3.57,3,    0.659,2,   0.3110,2,   2216.4,2,   2336.3,3,20170113,2334
06M220170104  ,A10.5      ,47      ,  1,47109.0    ,240977.0   ,9          ,2,20170113,2200, -34.4998,  -4.4119,     3900,   1497.8,   2.9250,  34.5709,    190.8,2,    189.3,2,    68.32,2,    39.02,2,     0.01,2,     3.45,3,    0.275,2,   0.1010,2,   2236.0,2,   2326.0,2,20170113,2330
06M220170104  ,A10.5      ,47      ,  1,47108.0    ,240976.0   ,8          ,2,20170113,2200, -34.4998,  -4.4119,     3900,   1898.3,   2.7480,  34.7287,    204.2,2,    203.9,2,    55.00,2,    28.00,2,     0.00,2,     1.96,3,    0.088,2,   0.0720,2,   2201.1,3,   2334.0,2,20170113,2324
06M220170104  ,A10.5      ,47      ,  1,47107.0    ,240975.0   ,7          ,2,20170113,2200, -34.4998,  -4.4119,     3900,   2293.2,   2.6098,  34.8127,    220.9,2,    219.5,2,    62.55,2,    29.43,3,     0.01,3,     2.20,3,    0.036,2,   0.0000,2,   2224.9,2,   2340.4,2,20170113,2317
06M220170104  ,A10.5      ,47      ,  1,47106.0    ,240974.0   ,6          ,2,20170113,2200, -34.4998,  -4.4119,     3900,   2597.2,   2.5161,  34.8396,    228.9,2,    226.7,2,    67.93,3,    24.35,2,     0.01,2,     2.68,3,    0.024,2,   0.0000,2,     -999,9,     -999,9,20170113,2312
06M220170104  ,A10.5      ,47      ,  1,47105.0    ,240973.0   ,5          ,2,20170113,2200, -34.4998,  -4.4119,     3900,   2895.2,   2.4227,  34.8560,    235.5,2,    235.0,2,    58.29,2,    26.45,2,     0.00,2,     2.15,3,    0.018,2,   0.0000,2,   2210.1,2,   2340.2,2,20170113,2307
06M220170104  ,A10.5      ,47      ,  1,47104.0    ,240972.0   ,4          ,2,20170113,2200, -34.4998,  -4.4119,     3900,   3297.1,   2.2890,  34.8555,    235.7,2,    234.4,2,    71.38,2,    29.99,2,     0.01,2,     2.87,3,    0.015,2,   0.0000,2,   2210.4,2,   2343.8,2,20170113,2301
06M220170104  ,A10.5      ,47      ,  1,47103.0    ,240971.0   ,3          ,2,20170113,2200, -34.4998,  -4.4119,     3900,   3703.9,   2.1355,  34.8459,    232.3,2,    246.2,4,    89.03,2,    31.38,2,     0.02,2,     3.02,3,    0.014,2,   0.0000,2,     -999,9,     -999,9,20170113,2253
06M220170104  ,A10.5      ,47      ,  1,47102.0    ,240970.0   ,2          ,2,20170113,2200, -34.4998,  -4.4119,     3900,   3704.5,   2.1356,  34.8459,    232.4,2,    231.6,2,    75.63,3,    28.65,3,     0.04,3,     3.02,3,    0.031,2,   0.0000,2,   2224.1,2,   2353.8,2,20170113,2253
06M220170104  ,A10.5      ,48      ,  1,48116.0    ,241517.0   ,16         ,2,20170114,0320, -34.5002,  -5.0671,     4007,      8.5,  20.1808,  35.4069,    233.0,2,    236.3,3,     -999,9,     -999,9,     -999,9,     -999,9,    1.323,2,   1.7390,2,   2079.5,2,   2334.2,2,20170114,0346
06M220170104  ,A10.5      ,48      ,  1,48115.0    ,241516.0   ,15         ,2,20170114,0320, -34.5002,  -5.0671,     4007,     24.0,  19.9021,  35.3902,    235.5,2,    235.9,2,     -999,9,     -999,9,     -999,9,     -999,9,     -999,9,     -999,9,   2081.0,2,   2332.9,2,20170114,0345
06M220170104  ,A10.5      ,48      ,  1,48114.0    ,241515.0   ,14         ,2,20170114,0320, -34.5002,  -5.0671,     4007,     48.8,  18.8952,  35.3670,    242.0,2,    242.2,2,     -999,9,     -999,9,     -999,9,     -999,9,    1.404,2,   1.8050,2,   2079.8,2,   2331.1,2,20170114,0344
06M220170104  ,A10.5      ,48      ,  1,48113.0    ,241514.0   ,13         ,2,20170114,0320, -34.5002,  -5.0671,     4007,     97.8,  15.2811,  35.2899,    258.1,2,    234.4,4,     -999,9,     -999,9,     -999,9,     -999,9,    1.606,2,   1.9440,2,   2086.0,2,   2327.6,2,20170114,0343
06M220170104  ,A10.5      ,48      ,  1,48112.0    ,241513.0   ,12         ,2,20170114,0320, -34.5002,  -5.0671,     4007,    130.7,  14.3987,  35.2701,    238.0,2,    234.5,4,     -999,9,     -999,9,     -999,9,     -999,9,    1.615,2,   1.9030,2,   2107.0,2,   2328.0,2,20170114,0342
06M220170104  ,A10.5      ,48      ,  1,48111.0    ,241512.0   ,11         ,2,20170114,0320, -34.5002,  -5.0671,     4007,    155.3,  13.9130,  35.2427,    229.0,2,    221.6,4,     -999,9,     -999,9,     -999,9,     -999,9,    1.638,2,   1.9270,2,   2114.7,2,   2326.3,2,20170114,0342
06M220170104  ,A10.5      ,48      ,  1,48110.0    ,241511.0   ,10         ,2,20170114,0320, -34.5002,  -5.0671,     4007,    222.2,  13.4036,  35.2556,    222.4,2,    229.3,4,     -999,9,     -999,9,     -999,9,     -999,9,    1.692,2,   1.8450,2,   2124.0,2,   2327.0,2,20170114,0341
06M220170104  ,A10.5      ,48      ,  1,48109.0    ,241510.0   ,9          ,2,20170114,0320, -34.5002,  -5.0671,     4007,    298.1,  12.4708,  35.1472,    216.6,2,    215.5,2,     -999,9,     -999,9,     -999,9,     -999,9,    1.753,2,   1.6660,2,   2135.1,2,   2316.4,2,20170114,0339
06M220170104  ,A10.5      ,48      ,  1,48108.0    ,241509.0   ,8          ,2,20170114,0320, -34.5002,  -5.0671,     4007,    447.2,   9.7044,  34.7638,    207.8,2,     -999,9,     -999,9,     -999,9,     -999,9,     -999,9,     -999,9,     -999,9,     -999,9,     -999,9,20170114,0337
06M220170104  ,A10.5      ,48      ,  1,48107.0    ,241508.0   ,7          ,2,20170114,0320, -34.5002,  -5.0671,     4007,    547.9,   8.2505,  34.5870,    211.4,2,    217.1,4,     -999,9,     -999,9,     -999,9,     -999,9,    1.876,2,   1.3740,2,   2164.2,2,   2297.4,2,20170114,0335
06M220170104  ,A10.5      ,48      ,  1,48106.0    ,241507.0   ,6          ,2,20170114,0320, -34.5002,  -5.0671,     4007,    698.1,   6.0434,  34.3726,    220.5,2,    220.3,2,     -999,9,     -999,9,     -999,9,     -999,9,    1.823,2,   1.1540,2,   2177.2,2,   2289.4,2,20170114,0333
06M220170104  ,A10.5      ,48      ,  1,48105.0    ,241506.0   ,5          ,2,20170114,0320, -34.5002,  -5.0671,     4007,    838.6,   4.4042,  34.2748,    226.4,2,    225.5,2,     -999,9,     -999,9,     -999,9,     -999,9,    1.581,2,   0.9060,2,   2187.8,2,     -999,9,20170114,0330
06M220170104  ,A10.5      ,48      ,  1,48104.0    ,241505.0   ,4          ,2,20170114,0320, -34.5002,  -5.0671,     4007,    897.3,   4.1420,  34.2815,    222.7,2,    222.6,2,     -999,9,     -999,9,     -999,9,     -999,9,     -999,9,     -999,9,   2187.2,2,   2296.0,2,20170114,0330
06M220170104  ,A10.5      ,48      ,  1,48103.0    ,241504.0   ,3          ,2,20170114,0320, -34.5002,  -5.0671,     4007,    956.7,   3.8443,  34.3033,    216.2,2,    215.5,2,     -999,9,     -999,9,     -999,9,     -999,9,    1.235,2,   0.8740,2,   2222.3,3,     -999,9,20170114,0329
06M220170104  ,A10.5      ,48      ,  1,48102.0    ,241503.0   ,2          ,2,20170114,0320, -34.5002,  -5.0671,     4007,   1162.7,   3.2826,  34.4118,    198.8,2,    197.4,2,     -999,9,     -999,9,     -999,9,     -999,9,     -999,9,     -999,9,     -999,9,     -999,9,20170114,0322
06M220170104  ,A10.5      ,48      ,  1,48101.0    ,241502.0   ,1          ,2,20170114,0320, -34.5002,  -5.0671,     4007,   1162.8,   3.2860,  34.4108,    198.7,2,    198.1,2,     -999,9,     -999,9,     -999,9,     -999,9,    0.719,2,   0.3510,2,   2221.1,3,   2315.6,2,20170114,0320