BOTTLE,20240228CCHSIOADS
EXPOCODE,SECT_ID,STNNBR,CASTNO,SAMPNO,BIONBR,BTLNBR,BTLNBR_FLAG_W,DATE,TIME,LATITUDE,LONGITUDE,DEPTH,CTDPRS,CTDTMP,CTDSAL,CTDOXY,CTDOXY_FLAG_W,OXYGEN,OXYGEN_FLAG_W,SILCAT,SILCAT_FLAG_W,NITRAT,NITRAT_FLAG_W,NITRIT,NITRIT_FLAG_W,PHSPHT,PHSPHT_FLAG_W,CFC-12,CFC-12_FLAG_W,SF6,SF6_FLAG_W,TCARBN,TCARBN_FLAG_W,ALKALI,ALKALI_FLAG_W,BTL_DATE,BTL_TIME
,,,,,,,,,,,,METERS,DBAR,ITS-90,PSS-78,UMOL/KG,,UMOL/KG,,UMOL/KG,,UMOL/KG,,UMOL/KG,,UMOL/KG,,PMOL/KG,,FMOL/KG,,UMOL/KG,,UMOL/KG,,,
06M220170104  ,A10.5      ,100     ,  1,100122.0   ,242182.0   ,22         ,2,20170125,2224, -34.4993, -38.4660,     4882,      7.7,  22.2841,  35.7427,    221.2,2,    219.4,2,    -1.31,2,     0.56,2,     0.02,2,     0.02,2,    1.190,2,   1.6090,2,   2063.3,2,   2348.6,2,20170125,2354
06M220170104  ,A10.5      ,100     ,  1,100121.0   ,242181.0   ,21         ,2,20170125,2224, -34.4993, -38.4660,     4882,     47.9,  19.6843,  35.8578,    239.1,2,    239.1,2,    -1.18,2,     0.51,2,     0.00,2,     0.03,2,    1.319,2,   1.7770,2,   2077.9,2,   2358.3,2,20170125,2353
06M220170104  ,A10.5      ,100     ,  1,100120.0   ,242180.0   ,20         ,2,20170125,2224, -34.4993, -38.4660,     4882,     98.3,  17.0901,  35.7872,    227.5,2,    226.8,2,    -0.91,2,     1.20,2,     0.12,2,     0.14,2,    1.475,2,   1.7990,2,   2096.3,2,   2356.3,2,20170125,2351
06M220170104  ,A10.5      ,100     ,  1,100119.0   ,242179.0   ,19         ,2,20170125,2224, -34.4993, -38.4660,     4882,    167.4,  15.8883,  35.6724,    220.1,2,     -999,9,     -999,9,     -999,9,     -999,9,     -999,9,     -999,9,     -999,9,     -999,9,     -999,9,20170125,2350
06M220170104  ,A10.5      ,100     ,  1,100118.0   ,242178.0   ,18         ,2,20170125,2224, -34.4993, -38.4660,     4882,    254.6,  15.1528,  35.6629,    231.0,2,    229.8,2,    -0.48,2,     3.89,2,     0.01,2,     0.30,2,    1.546,2,   1.8120,2,     -999,9,     -999,9,20170125,2348
06M220170104  ,A10.5      ,100     ,  1,100117.0   ,242177.0   ,17         ,2,20170125,2224, -34.4993, -38.4660,     4882,    396.9,  13.1794,  35.2830,    214.7,2,    214.5,2,     1.36,2,    10.57,2,     0.01,2,     0.72,2,    1.688,2,   1.5900,2,   2128.8,2,   2327.0,2,20170125,2346
06M220170104  ,A10.5      ,100     ,  1,100116.0   ,242176.0   ,16         ,2,20170125,2224, -34.4993, -38.4660,     4882,    546.7,  10.1282,  34.8289,    207.5,2,    207.7,2,     5.17,2,    18.98,2,     0.01,2,     1.21,2,    1.815,2,   1.2760,2,   2146.2,2,   2301.8,2,20170125,2343
06M220170104  ,A10.5      ,100     ,  1,100115.0   ,242175.0   ,15         ,2,20170125,2224, -34.4993, -38.4660,     4882,    697.2,   6.7963,  34.4322,    223.0,2,    225.8,2,     9.58,2,    24.92,2,     0.00,2,     1.56,2,    1.920,2,   1.2570,2,     -999,9,     -999,9,20170125,2341
06M220170104  ,A10.5      ,100     ,  1,100114.0   ,242174.0   ,14         ,2,20170125,2224, -34.4993, -38.4660,     4882,    881.6,   4.7579,  34.2503,    238.8,2,    238.5,2,    16.82,2,    29.61,2,     0.01,2,     1.82,2,    1.931,2,   1.1710,2,   2171.0,2,   2285.6,2,20170125,2338
06M220170104  ,A10.5      ,100     ,  1,100113.0   ,242173.0   ,13         ,2,20170125,2224, -34.4993, -38.4660,     4882,    997.0,   4.2224,  34.2716,    226.0,2,    225.8,2,    25.79,2,    32.66,2,     0.00,2,     2.01,2,    1.484,2,   0.7850,2,     -999,9,     -999,9,20170125,2336
06M220170104  ,A10.5      ,100     ,  1,100112.0   ,242172.0   ,12         ,2,20170125,2224, -34.4993, -38.4660,     4882,   1197.0,   3.4061,  34.3305,    209.0,2,    208.7,2,    42.28,2,    37.49,2,     0.02,2,     2.51,2,    0.971,2,   0.4360,2,   2210.4,2,   2304.4,2,20170125,2331
06M220170104  ,A10.5      ,100     ,  1,100111.0   ,242171.0   ,11         ,2,20170125,2224, -34.4993, -38.4660,     4882,   1395.9,   3.0087,  34.4425,    190.0,2,    189.6,2,    57.43,2,    37.14,2,     0.01,2,     2.40,2,    0.493,2,   0.2240,2,   2230.4,2,   2319.1,2,20170125,2328
06M220170104  ,A10.5      ,100     ,  1,100110.0   ,242170.0   ,10         ,2,20170125,2224, -34.4993, -38.4660,     4882,   1566.7,   2.9045,  34.5585,    184.2,2,     -999,9,    51.04,2,    34.75,2,     0.01,2,     2.16,2,     -999,9,     -999,9,     -999,9,     -999,9,20170125,2325
06M220170104  ,A10.5      ,100     ,  1,100109.0   ,242169.0   ,9          ,2,20170125,2224, -34.4993, -38.4660,     4882,   1895.9,   2.9796,  34.7391,    199.4,2,    199.9,2,    54.86,2,    31.19,2,     0.01,2,     1.96,2,    0.099,2,   0.0390,2,   2221.6,2,   2332.1,2,20170125,2318
06M220170104  ,A10.5      ,100     ,  1,100108.0   ,242168.0   ,8          ,2,20170125,2224, -34.4993, -38.4660,     4882,   1898.6,   2.9809,  34.7402,    199.7,2,     -999,9,     -999,9,     -999,9,     -999,9,     -999,9,     -999,9,     -999,9,     -999,9,     -999,9,20170125,2318
06M220170104  ,A10.5      ,100     ,  1,100107.0   ,242167.0   ,7          ,2,20170125,2224, -34.4993, -38.4660,     4882,   2286.7,   3.2029,  34.8889,    232.5,2,    234.6,2,    28.33,3,    20.75,3,     0.00,3,     1.27,3,     -999,9,     -999,9,   2190.2,2,   2326.6,2,20170125,2311
06M220170104  ,A10.5      ,100     ,  1,100106.0   ,242166.0   ,6          ,2,20170125,2224, -34.4993, -38.4660,     4882,   2696.1,   3.0246,  34.9137,    242.9,2,    243.2,2,    35.76,2,    23.50,2,     0.00,2,     1.45,2,     -999,9,     -999,9,   2185.2,2,   2328.4,2,20170125,2304
06M220170104  ,A10.5      ,100     ,  1,100105.0   ,242165.0   ,5          ,2,20170125,2224, -34.4993, -38.4660,     4882,   3119.5,   2.7377,  34.9057,    245.7,2,    246.0,2,    40.26,3,    23.54,3,     0.00,3,     1.48,3,     -999,9,     -999,9,   2189.9,2,   2333.3,2,20170125,2256
06M220170104  ,A10.5      ,100     ,  1,100104.0   ,242164.0   ,4          ,2,20170125,2224, -34.4993, -38.4660,     4882,   3454.6,   1.9320,  34.7934,    216.7,2,    216.3,2,    80.78,2,    29.68,2,     0.00,2,     1.90,2,     -999,9,     -999,9,     -999,9,     -999,9,20170125,2250
06M220170104  ,A10.5      ,100     ,  1,100103.0   ,242163.0   ,3          ,2,20170125,2224, -34.4993, -38.4660,     4882,   3995.9,   0.9655,  34.7192,    215.4,2,    214.6,2,   114.36,2,    33.85,2,     0.00,2,     2.19,2,     -999,9,     -999,9,   2265.2,2,   2362.9,2,20170125,2240
06M220170104  ,A10.5      ,100     ,  1,100102.0   ,242162.0   ,2          ,2,20170125,2224, -34.4993, -38.4660,     4882,   4497.7,   0.3238,  34.6763,    221.2,2,    220.2,2,   127.17,2,    34.91,2,     0.00,2,     2.27,2,     -999,9,     -999,9,   2268.4,2,   2367.8,2,20170125,2231
06M220170104  ,A10.5      ,100     ,  1,100101.0   ,242161.0   ,1          ,2,20170125,2224, -34.4993, -38.4660,     4882,   4872.2,   0.2524,  34.6705,    222.9,2,    222.5,2,   136.70,2,    35.87,2,     0.00,2,     2.30,2,     -999,9,     -999,9,     -999,9,   2370.0,2,20170125,2224
06M220170104  ,A10.5      ,101     ,  1,101122.0   ,242204.0   ,22         ,2,20170126,0431, -34.5002, -39.1210,     4977,      8.2,  22.4500,  35.4549,    220.8,2,    218.7,2,     0.39,2,    -0.09,2,     0.00,2,     0.01,2,    1.120,2,   1.6390,2,   2040.8,2,   2329.4,2,20170126,0554
06M220170104  ,A10.5      ,101     ,  1,101121.0   ,242203.0   ,21         ,2,20170126,0431, -34.5002, -39.1210,     4977,     22.6,  22.2947,  35.8038,    221.9,2,    220.8,2,     0.45,2,    -0.10,2,     0.00,2,     0.01,2,    1.175,2,   1.6440,2,   2061.1,2,   2353.9,2,20170126,0554
06M220170104  ,A10.5      ,101     ,  1,101120.0   ,242202.0   ,20         ,2,20170126,0431, -34.5002, -39.1210,     4977,     48.0,  20.5927,  35.9641,    234.6,2,    235.4,2,     0.57,2,    -0.04,2,     0.01,2,     0.04,2,    1.223,2,   1.7700,2,   2069.4,2,   2362.7,2,20170126,0553
06M220170104  ,A10.5      ,101     ,  1,101119.0   ,242201.0   ,19         ,2,20170126,0431, -34.5002, -39.1210,     4977,    103.6,  17.1629,  35.8817,    227.4,2,     -999,9,     -999,9,     -999,9,     -999,9,     -999,9,     -999,9,     -999,9,     -999,9,     -999,9,20170126,0551
06M220170104  ,A10.5      ,101     ,  1,101118.0   ,242200.0   ,18         ,2,20170126,0431, -34.5002, -39.1210,     4977,    148.1,  16.2329,  35.7523,    219.2,2,    217.8,2,     1.44,2,     3.81,2,     0.03,2,     0.38,2,    1.438,2,   1.7840,2,   2104.4,2,   2350.5,2,20170126,0550
06M220170104  ,A10.5      ,101     ,  1,101117.0   ,242199.0   ,17         ,2,20170126,0431, -34.5002, -39.1210,     4977,    238.4,  15.6472,  35.7549,    224.0,2,    221.8,2,     1.68,2,     4.96,2,     0.02,2,     0.44,2,    1.502,2,   1.8430,2,     -999,9,     -999,9,20170126,0549
06M220170104  ,A10.5      ,101     ,  1,101116.0   ,242198.0   ,16         ,2,20170126,0431, -34.5002, -39.1210,     4977,    347.4,  14.4064,  35.5323,    218.9,2,    217.8,2,     2.28,2,     7.70,2,     0.01,2,     0.59,2,    1.611,2,   1.8610,2,   2117.8,2,   2339.2,2,20170126,0547
06M220170104  ,A10.5      ,101     ,  1,101115.0   ,242197.0   ,15         ,2,20170126,0431, -34.5002, -39.1210,     4977,    477.6,  11.5164,  35.0159,    208.5,2,    208.1,2,     4.65,2,    15.35,2,     0.01,2,     1.06,2,    1.770,2,   1.5190,2,     -999,9,     -999,9,20170126,0545
06M220170104  ,A10.5      ,101     ,  1,101114.0   ,242196.0   ,14         ,2,20170126,0431, -34.5002, -39.1210,     4977,    587.6,   8.9600,  34.6659,    212.3,2,    212.0,2,     8.53,2,    23.77,2,     0.01,2,     1.64,2,    1.836,2,   1.4880,2,   2149.0,2,   2295.4,2,20170126,0543
06M220170104  ,A10.5      ,101     ,  1,101113.0   ,242195.0   ,13         ,2,20170126,0431, -34.5002, -39.1210,     4977,    677.9,   6.8041,  34.4146,    226.1,2,    226.1,2,    10.90,2,    25.62,2,     0.00,2,     1.71,2,    1.992,2,   1.3220,2,     -999,9,     -999,9,20170126,0542
06M220170104  ,A10.5      ,101     ,  1,101112.0   ,242194.0   ,12         ,2,20170126,0431, -34.5002, -39.1210,     4977,    788.6,   5.4282,  34.2895,    238.2,2,    237.1,2,    14.33,2,    28.28,2,     0.00,2,     1.91,2,    1.964,2,   1.4230,2,     -999,9,     -999,9,20170126,0540
06M220170104  ,A10.5      ,101     ,  1,101111.0   ,242193.0   ,11         ,2,20170126,0431, -34.5002, -39.1210,     4977,    889.8,   4.8095,  34.2753,    230.9,2,    231.3,2,    19.47,2,    29.79,2,     0.00,2,     1.96,2,    1.743,2,   0.9890,2,   2170.1,2,   2287.5,2,20170126,0538
06M220170104  ,A10.5      ,101     ,  1,101110.0   ,242192.0   ,10         ,2,20170126,0431, -34.5002, -39.1210,     4977,    997.8,   4.2247,  34.2792,    224.0,2,     -999,9,     -999,9,     -999,9,     -999,9,     -999,9,     -999,9,     -999,9,     -999,9,     -999,9,20170126,0536
06M220170104  ,A10.5      ,101     ,  1,101109.0   ,242191.0   ,9          ,2,20170126,0431, -34.5002, -39.1210,     4977,   1247.1,   3.3063,  34.3601,    203.6,2,    203.6,2,    43.86,2,    35.62,2,     0.00,2,     2.38,2,    0.799,2,   0.4160,2,   2210.6,2,   2308.8,2,20170126,0532
06M220170104  ,A10.5      ,101     ,  1,101108.0   ,242190.0   ,8          ,2,20170126,0431, -34.5002, -39.1210,     4977,   1565.8,   2.9063,  34.5677,    185.9,2,     -999,9,     -999,9,     -999,9,     -999,9,     -999,9,     -999,9,     -999,9,     -999,9,     -999,9,20170126,0527
06M220170104  ,A10.5      ,101     ,  1,101107.0   ,242189.0   ,7          ,2,20170126,0431, -34.5002, -39.1210,     4977,   1566.5,   2.9064,  34.5678,    185.9,2,    184.7,2,    60.39,2,    37.94,2,     0.00,2,     2.55,3,    0.218,2,   0.1450,2,   2229.2,2,   2328.5,2,20170126,0527
06M220170104  ,A10.5      ,101     ,  1,101106.0   ,242188.0   ,6          ,2,20170126,0431, -34.5002, -39.1210,     4977,   2016.0,   3.1246,  34.8048,    210.3,2,    210.1,2,    55.40,2,    33.56,2,     0.00,2,     2.44,3,    0.096,2,   0.0000,2,   2205.1,2,   2331.4,2,20170126,0519
06M220170104  ,A10.5      ,101     ,  1,101105.0   ,242187.0   ,5          ,2,20170126,0431, -34.5002, -39.1210,     4977,   2495.9,   3.0577,  34.9001,    237.7,2,    235.9,2,    36.89,2,    24.10,2,     0.01,2,     1.64,2,    0.096,2,   0.0000,2,   2185.2,2,   2330.6,2,20170126,0512
06M220170104  ,A10.5      ,101     ,  1,101104.0   ,242186.0   ,4          ,2,20170126,0431, -34.5002, -39.1210,     4977,   3042.8,   2.7382,  34.9103,    247.6,2,    248.1,2,    37.21,2,    23.24,2,     0.01,2,     1.57,2,    0.075,2,   0.0670,2,   2185.2,2,   2332.2,2,20170126,0503
06M220170104  ,A10.5      ,101     ,  1,101103.0   ,242185.0   ,3          ,2,20170126,0431, -34.5002, -39.1210,     4977,   3507.7,   1.8318,  34.8130,    229.7,2,    230.1,2,    66.05,2,    27.83,2,     0.00,2,     1.84,2,    0.068,2,   0.0490,2,   2210.5,2,   2343.4,2,20170126,0455
06M220170104  ,A10.5      ,101     ,  1,101102.0   ,242184.0   ,2          ,2,20170126,0431, -34.5002, -39.1210,     4977,   3997.4,   0.9415,  34.7230,    217.9,2,    218.3,2,   114.55,2,    34.38,2,     0.01,2,     2.34,3,    0.123,2,   0.1060,2,   2244.4,2,   2365.3,2,20170126,0447
06M220170104  ,A10.5      ,101     ,  1,101101.0   ,242183.0   ,1          ,2,20170126,0431, -34.5002, -39.1210,     4977,   4967.1,   0.2745,  34.6708,    221.9,2,    221.8,2,   129.32,2,    35.46,2,     0.00,2,     2.45,2,    0.263,2,   0.1180,2,   2259.5,2,   2370.1,2,20170126,0431
06M220170104  ,A10.5      ,102     ,  1,102122.0   ,242226.0   ,22         ,2,20170126,1018, -34.5001, -39.7764,     4927,      9.6,  22.1787,  35.6198,    221.0,2,    220.4,2,     1.04,2,     0.20,3,     0.00,3,     0.00,4,    1.161,2,   1.6450,2,   2063.9,2,   2342.0,2,20170126,1144
06M220170104  ,A10.5      ,102     ,  1,102121.0   ,242225.0   ,21         ,2,20170126,1018, -34.5001, -39.7764,     4927,     23.0,  22.1620,  35.7946,    221.5,2,    221.2,2,     0.98,2,     0.20,3,     0.00,3,    -0.02,4,     -999,9,     -999,9,   2072.7,2,   2352.9,2,20170126,1143
06M220170104  ,A10.5      ,102     ,  1,102120.0   ,242224.0   ,20         ,2,20170126,1018, -34.5001, -39.7764,     4927,     49.1,  18.8391,  35.9100,    239.5,2,    239.0,2,     0.89,2,     0.25,3,     0.01,3,    -0.01,4,    1.338,2,   1.8530,2,   2084.6,2,   2362.7,2,20170126,1142
06M220170104  ,A10.5      ,102     ,  1,102119.0   ,242223.0   ,19         ,2,20170126,1018, -34.5001, -39.7764,     4927,     89.1,  17.1933,  35.9155,    235.1,2,     -999,9,     -999,9,     -999,9,     -999,9,     -999,9,     -999,9,     -999,9,     -999,9,     -999,9,20170126,1141
06M220170104  ,A10.5      ,102     ,  1,102118.0   ,242222.0   ,18         ,2,20170126,1018, -34.5001, -39.7764,     4927,    168.0,  15.7686,  35.7585,    218.0,2,    215.3,2,     1.98,2,     4.57,3,     0.01,3,     0.29,2,    1.492,2,   1.8700,2,     -999,9,     -999,9,20170126,1139
06M220170104  ,A10.5      ,102     ,  1,102117.0   ,242221.0   ,17         ,2,20170126,1018, -34.5001, -39.7764,     4927,    246.7,  14.9939,  35.6440,    219.9,2,    220.4,2,     2.45,2,     7.07,3,     0.01,3,     0.41,2,    1.563,2,   1.8850,2,   2127.5,2,   2346.6,2,20170126,1138
06M220170104  ,A10.5      ,102     ,  1,102116.0   ,242220.0   ,16         ,2,20170126,1018, -34.5001, -39.7764,     4927,    276.0,  14.7351,  35.6068,    222.0,2,    222.9,2,     2.36,2,     6.24,3,     0.01,3,     0.41,2,     -999,9,     -999,9,     -999,9,     -999,9,20170126,1137
06M220170104  ,A10.5      ,102     ,  1,102115.0   ,242219.0   ,15         ,2,20170126,1018, -34.5001, -39.7764,     4927,    397.5,  12.4716,  35.1659,    209.4,2,    208.9,2,     3.86,2,    13.14,3,     0.01,3,     0.76,2,    1.776,2,   1.6540,2,   2132.8,2,   2318.9,2,20170126,1135
06M220170104  ,A10.5      ,102     ,  1,102114.0   ,242218.0   ,14         ,2,20170126,1018, -34.5001, -39.7764,     4927,    646.1,   6.5928,  34.3799,    230.9,2,    231.8,2,    10.36,2,    24.99,3,     0.00,3,     1.54,2,    1.996,2,   1.7410,2,     -999,9,     -999,9,20170126,1131
06M220170104  ,A10.5      ,102     ,  1,102113.0   ,242217.0   ,13         ,2,20170126,1018, -34.5001, -39.7764,     4927,    845.4,   4.6314,  34.2392,    240.9,2,    241.0,2,    17.03,2,    26.66,3,     0.00,3,     1.70,2,    1.886,2,   1.4160,2,   2171.0,2,   2286.1,2,20170126,1128
06M220170104  ,A10.5      ,102     ,  1,102112.0   ,242216.0   ,12         ,2,20170126,1018, -34.5001, -39.7764,     4927,    966.5,   4.0229,  34.2505,    230.5,2,    230.6,2,    24.66,2,    31.56,3,     0.00,3,     1.92,2,     -999,9,     -999,9,     -999,9,     -999,9,20170126,1126
06M220170104  ,A10.5      ,102     ,  1,102111.0   ,242215.0   ,11         ,2,20170126,1018, -34.5001, -39.7764,     4927,   1097.8,   3.5527,  34.2957,    216.2,2,    216.2,2,    34.07,2,    31.78,3,     0.00,3,     2.05,2,    1.136,2,   0.6460,2,   2205.1,2,   2298.4,2,20170126,1124
06M220170104  ,A10.5      ,102     ,  1,102110.0   ,242214.0   ,10         ,2,20170126,1018, -34.5001, -39.7764,     4927,   1296.6,   3.0904,  34.3983,    195.4,2,    195.3,2,    48.87,2,    35.83,3,     0.00,3,     2.23,2,    0.648,2,   0.3610,2,   2226.9,2,   2313.3,2,20170126,1121
06M220170104  ,A10.5      ,102     ,  1,102109.0   ,242213.0   ,9          ,2,20170126,1018, -34.5001, -39.7764,     4927,   1494.9,   2.9154,  34.5335,    184.2,2,    184.5,2,    58.53,2,    37.02,2,     0.00,2,     2.26,2,    0.284,2,   0.1990,2,   2237.7,2,   2325.6,2,20170126,1118
06M220170104  ,A10.5      ,102     ,  1,102108.0   ,242212.0   ,8          ,2,20170126,1018, -34.5001, -39.7764,     4927,   1496.8,   2.9160,  34.5327,    184.0,2,     -999,9,     -999,9,     -999,9,     -999,9,     -999,9,     -999,9,     -999,9,     -999,9,     -999,9,20170126,1118
06M220170104  ,A10.5      ,102     ,  1,102107.0   ,242211.0   ,7          ,2,20170126,1018, -34.5001, -39.7764,     4927,   1785.4,   2.9762,  34.7047,    193.1,2,    193.0,2,    51.52,2,    29.41,2,     0.00,2,     1.84,2,     -999,9,     -999,9,     -999,9,     -999,9,20170126,1113
06M220170104  ,A10.5      ,102     ,  1,102106.0   ,242210.0   ,6          ,2,20170126,1018, -34.5001, -39.7764,     4927,   2498.3,   3.2006,  34.9223,    243.5,2,    244.6,2,    30.80,2,    22.66,2,     0.00,2,     1.27,2,     -999,9,     -999,9,   2182.4,2,   2323.5,2,20170126,1100
06M220170104  ,A10.5      ,102     ,  1,102105.0   ,242209.0   ,5          ,2,20170126,1018, -34.5001, -39.7764,     4927,   2998.9,   2.8724,  34.9166,    246.6,2,    248.5,2,    34.55,2,    22.47,2,     0.00,2,     1.31,2,     -999,9,     -999,9,     -999,9,     -999,9,20170126,1051
06M220170104  ,A10.5      ,102     ,  1,102104.0   ,242208.0   ,4          ,2,20170126,1018, -34.5001, -39.7764,     4927,   3494.2,   2.2114,  34.8677,    244.0,2,    247.3,2,    50.51,2,    24.32,2,     0.00,2,     1.44,2,     -999,9,     -999,9,   2201.1,2,   2338.6,2,20170126,1042
06M220170104  ,A10.5      ,102     ,  1,102103.0   ,242207.0   ,3          ,2,20170126,1018, -34.5001, -39.7764,     4927,   3906.1,   0.8876,  34.7128,    214.5,2,    215.6,2,   114.07,3,    30.24,3,     0.00,3,     2.08,3,     -999,9,     -999,9,   2259.1,2,   2360.0,2,20170126,1035
06M220170104  ,A10.5      ,102     ,  1,102102.0   ,242206.0   ,2          ,2,20170126,1018, -34.5001, -39.7764,     4927,   4497.1,   0.2895,  34.6749,    221.8,2,    221.2,2,   100.05,2,    28.88,2,     0.00,2,     2.00,2,     -999,9,     -999,9,   2268.7,2,   2365.5,2,20170126,1025
06M220170104  ,A10.5      ,102     ,  1,102101.0   ,242205.0   ,1          ,2,20170126,1018, -34.5001, -39.7764,     4927,   4916.6,   0.2598,  34.6708,    221.7,2,    221.5,2,   115.77,2,    35.48,2,     0.01,2,     2.15,2,     -999,9,     -999,9,   2267.7,2,   2368.0,2,20170126,1018