BOTTLE,20240228CCHSIOADS
EXPOCODE,SECT_ID,STNNBR,CASTNO,SAMPNO,BIONBR,BTLNBR,BTLNBR_FLAG_W,DATE,TIME,LATITUDE,LONGITUDE,DEPTH,CTDPRS,CTDTMP,CTDSAL,CTDOXY,CTDOXY_FLAG_W,OXYGEN,OXYGEN_FLAG_W,SILCAT,SILCAT_FLAG_W,NITRAT,NITRAT_FLAG_W,NITRIT,NITRIT_FLAG_W,PHSPHT,PHSPHT_FLAG_W,CFC-12,CFC-12_FLAG_W,SF6,SF6_FLAG_W,TCARBN,TCARBN_FLAG_W,ALKALI,ALKALI_FLAG_W,BTL_DATE,BTL_TIME
,,,,,,,,,,,,METERS,DBAR,ITS-90,PSS-78,UMOL/KG,,UMOL/KG,,UMOL/KG,,UMOL/KG,,UMOL/KG,,UMOL/KG,,PMOL/KG,,FMOL/KG,,UMOL/KG,,UMOL/KG,,,
06M220170104  ,A10.5      ,6       ,  1,6122.0     ,240131.0   ,22         ,2,20170105,0157, -34.4057,  17.5569,     1262,      7.8,  21.1919,  35.5280,    227.5,2,     -999,9,     1.43,3,     0.02,3,     0.01,3,     0.07,3,    1.168,2,   1.5530,2,   2047.7,2,   2337.3,2,20170105,0219
06M220170104  ,A10.5      ,6       ,  1,6121.0     ,240130.0   ,21         ,2,20170105,0157, -34.4057,  17.5569,     1262,     23.6,  21.1113,  35.5285,    228.1,2,    225.6,2,     1.60,3,     0.09,3,     0.02,3,     0.10,3,     -999,9,     -999,9,   2041.6,2,   2336.4,2,20170105,0219
06M220170104  ,A10.5      ,6       ,  1,6120.0     ,240129.0   ,20         ,2,20170105,0157, -34.4057,  17.5569,     1262,     48.6,  17.7531,  35.5150,    206.1,2,    225.6,3,     5.68,3,     5.61,3,     0.27,3,     0.50,3,    1.324,2,   1.5570,2,   2089.2,2,   2332.3,2,20170105,0218
06M220170104  ,A10.5      ,6       ,  1,6119.0     ,240128.0   ,19         ,2,20170105,0157, -34.4057,  17.5569,     1262,     69.1,  16.4358,  35.4269,    221.9,2,    208.4,3,     3.71,3,     4.97,3,     0.39,3,     0.35,3,     -999,9,     -999,9,   2088.6,2,   2332.2,2,20170105,0217
06M220170104  ,A10.5      ,6       ,  1,6118.0     ,240127.0   ,18         ,2,20170105,0157, -34.4057,  17.5569,     1262,    103.1,  14.8738,  35.3434,    181.4,2,    223.5,3,     6.99,3,    11.89,3,     0.04,3,     0.80,3,    1.494,2,   1.4510,2,   2129.1,2,   2327.1,2,20170105,0216
06M220170104  ,A10.5      ,6       ,  1,6117.0     ,240126.0   ,17         ,2,20170105,0157, -34.4057,  17.5569,     1262,    175.6,  12.7322,  35.1471,    212.8,2,     -999,9,     6.79,3,    14.52,3,     0.02,3,     0.91,3,     -999,9,     -999,9,   2131.8,2,   2316.3,2,20170105,0215
06M220170104  ,A10.5      ,6       ,  1,6116.0     ,240125.0   ,16         ,2,20170105,0157, -34.4057,  17.5569,     1262,    327.9,   9.7874,  34.7558,    215.3,2,    211.8,3,     9.28,3,    23.08,3,     0.02,3,     1.58,3,    1.773,2,   1.3560,2,   2151.3,2,   2302.1,2,20170105,0212
06M220170104  ,A10.5      ,6       ,  1,6115.0     ,240124.0   ,15         ,2,20170105,0157, -34.4057,  17.5569,     1262,    330.3,   9.7630,  34.7515,    214.0,2,    215.0,2,     8.41,3,    21.86,3,     0.02,3,     1.38,3,    1.739,2,   1.3160,2,   2148.7,2,   2298.9,2,20170105,0212
06M220170104  ,A10.5      ,6       ,  1,6114.0     ,240123.0   ,14         ,2,20170105,0157, -34.4057,  17.5569,     1262,    467.8,   7.3119,  34.5249,    191.9,2,    214.3,4,    19.83,3,    31.73,3,     0.02,3,     1.97,3,    1.535,2,   0.9730,2,   2183.6,2,   2296.3,2,20170105,0210
06M220170104  ,A10.5      ,6       ,  1,6113.0     ,240122.0   ,13         ,2,20170105,0157, -34.4057,  17.5569,     1262,    542.4,   6.2345,  34.4404,    204.8,2,    193.2,4,    25.75,3,    37.33,3,     0.02,3,     2.59,3,    1.438,2,   0.8850,2,   2181.2,2,   2296.1,2,20170105,0209
06M220170104  ,A10.5      ,6       ,  1,6112.0     ,240121.0   ,12         ,2,20170105,0157, -34.4057,  17.5569,     1262,    646.5,   4.8765,  34.3519,    212.0,2,    204.2,3,    28.12,3,    36.24,3,     0.03,3,     2.24,3,    1.346,2,   0.8170,2,   2189.6,2,   2297.5,2,20170105,0207
06M220170104  ,A10.5      ,6       ,  1,6111.0     ,240120.0   ,11         ,2,20170105,0157, -34.4057,  17.5569,     1262,    747.7,   4.2979,  34.4026,    194.3,2,    214.0,4,    45.54,3,    39.37,3,     0.03,3,     2.69,3,    0.915,2,   0.5300,2,   2211.4,2,   2313.7,2,20170105,0205
06M220170104  ,A10.5      ,6       ,  1,6110.0     ,240119.0   ,10         ,2,20170105,0157, -34.4057,  17.5569,     1262,    842.2,   3.9327,  34.4557,    182.0,2,    182.8,2,    58.25,3,    40.70,3,     0.01,3,     2.66,3,    0.652,2,   0.3150,2,   2224.9,2,   2317.9,2,20170105,0204
06M220170104  ,A10.5      ,6       ,  1,6109.0     ,240118.0   ,9          ,2,20170105,0157, -34.4057,  17.5569,     1262,    896.0,   3.7236,  34.4819,    177.7,2,    183.3,3,    64.41,3,    43.14,3,     0.01,3,     3.00,3,    0.531,2,   0.2230,2,   2237.7,2,   2323.5,2,20170105,0203
06M220170104  ,A10.5      ,6       ,  1,6108.0     ,240117.0   ,8          ,2,20170105,0157, -34.4057,  17.5569,     1262,   1007.4,   3.2790,  34.5025,    179.5,2,    178.1,2,     -999,9,     -999,9,     -999,9,     -999,9,     -999,9,     -999,9,     -999,9,     -999,9,20170105,0201
06M220170104  ,A10.5      ,6       ,  1,6107.0     ,240116.0   ,7          ,2,20170105,0157, -34.4057,  17.5569,     1262,   1046.1,   3.1150,  34.5273,    178.8,2,     -999,9,    71.16,3,    44.38,3,     0.01,3,     3.37,3,    0.347,2,   0.1270,2,     -999,9,     -999,9,20170105,0201
06M220170104  ,A10.5      ,6       ,  1,6106.0     ,240115.0   ,6          ,2,20170105,0157, -34.4057,  17.5569,     1262,   1091.7,   3.0143,  34.5609,    178.4,2,    178.8,2,    70.00,3,    41.04,3,     0.01,3,     2.86,3,     -999,9,     -999,9,   2239.1,2,   2336.8,2,20170105,0200
06M220170104  ,A10.5      ,6       ,  1,6105.0     ,240114.0   ,5          ,2,20170105,0157, -34.4057,  17.5569,     1262,   1132.2,   3.0150,  34.5904,    178.6,2,    179.5,2,    60.44,3,    34.90,4,     0.00,4,     2.26,3,    0.224,2,   0.1150,2,     -999,9,     -999,9,20170105,0159
06M220170104  ,A10.5      ,6       ,  1,6104.0     ,240113.0   ,4          ,2,20170105,0157, -34.4057,  17.5569,     1262,   1146.7,   3.0657,  34.6085,    179.7,2,    180.6,2,    71.94,3,    41.08,3,     0.04,3,     2.98,3,     -999,9,     -999,9,   2231.5,2,   2294.6,3,20170105,0159
06M220170104  ,A10.5      ,6       ,  1,6103.0     ,-999       ,3          ,2,20170105,0157, -34.4057,  17.5569,     1262,   1198.7,   3.0811,  34.6272,    181.8,2,    180.5,2,     -999,9,     -999,9,     -999,9,     -999,9,     -999,9,     -999,9,   2227.5,2,   2336.6,2,20170105,0158
06M220170104  ,A10.5      ,6       ,  1,6101.0     ,240111.0   ,1          ,2,20170105,0157, -34.4057,  17.5569,     1262,   1250.4,   3.0811,  34.6383,    182.9,2,    182.6,2,    71.45,3,    42.38,3,     0.02,3,     3.28,3,     -999,9,     -999,9,   2223.1,2,   2337.1,2,20170105,0157
06M220170104  ,A10.5      ,6       ,  1,6102.0     ,240112.0   ,2          ,2,20170105,0157, -34.4057,  17.5569,     1262,   1251.5,   3.0807,  34.6386,    182.8,2,    181.2,2,    67.11,3,    39.61,3,     0.02,3,     2.77,3,    0.161,2,   0.0960,2,     -999,9,     -999,9,20170105,0157
06M220170104  ,A10.5      ,7       ,  1,7122.0     ,240154.0   ,22         ,2,20170105,0452, -34.4365,  17.4696,     1609,      8.0,  21.2287,  35.5434,    228.3,2,    227.2,2,     -999,9,     -999,9,     -999,9,     -999,9,     -999,9,     -999,9,   2034.2,2,   2336.4,2,20170105,0521
06M220170104  ,A10.5      ,7       ,  1,7121.0     ,240153.0   ,21         ,2,20170105,0452, -34.4365,  17.4696,     1609,     23.1,  20.8833,  35.5567,    229.5,2,    234.5,2,     2.07,3,     0.31,2,     0.02,3,     0.22,3,     -999,9,     -999,9,   2045.8,2,   2335.2,2,20170105,0520
06M220170104  ,A10.5      ,7       ,  1,7120.0     ,240152.0   ,20         ,2,20170105,0452, -34.4365,  17.4696,     1609,     48.2,  18.0901,  35.5809,    219.4,2,    216.1,2,     3.53,3,     2.82,2,     0.10,3,     0.43,3,     -999,9,     -999,9,   2073.7,2,   2332.7,2,20170105,0520
06M220170104  ,A10.5      ,7       ,  1,7119.0     ,240151.0   ,19         ,2,20170105,0452, -34.4365,  17.4696,     1609,     70.4,  17.3402,  35.5458,    204.7,2,    202.4,2,     4.52,3,     4.80,2,     0.05,3,     0.59,3,     -999,9,     -999,9,   2092.6,2,   2333.0,2,20170105,0519
06M220170104  ,A10.5      ,7       ,  1,7118.0     ,240150.0   ,18         ,2,20170105,0452, -34.4365,  17.4696,     1609,     97.7,  15.8595,  35.4305,    192.4,2,    191.2,2,     5.97,3,     7.53,2,     0.02,3,     0.71,3,     -999,9,     -999,9,   2115.7,2,   2328.8,2,20170105,0518
06M220170104  ,A10.5      ,7       ,  1,7117.0     ,240149.0   ,17         ,2,20170105,0452, -34.4365,  17.4696,     1609,    198.4,  12.6531,  35.1192,    217.2,2,    215.2,2,     5.61,3,    10.72,2,     0.03,3,     1.02,3,     -999,9,     -999,9,   2129.3,2,   2314.1,2,20170105,0516
06M220170104  ,A10.5      ,7       ,  1,7116.0     ,240148.0   ,16         ,2,20170105,0452, -34.4365,  17.4696,     1609,    298.4,  10.6853,  34.8617,    221.0,2,    221.3,2,     5.82,3,    13.77,2,     0.01,3,     1.29,3,     -999,9,     -999,9,   2137.8,2,   2303.4,2,20170105,0514
06M220170104  ,A10.5      ,7       ,  1,7115.0     ,240147.0   ,15         ,2,20170105,0452, -34.4365,  17.4696,     1609,    398.7,   9.0674,  34.6884,    208.2,2,    207.6,2,    10.76,3,    20.86,2,     0.01,3,     0.89,3,     -999,9,     -999,9,   2127.4,3,   2294.4,2,20170105,0513
06M220170104  ,A10.5      ,7       ,  1,7114.0     ,240146.0   ,14         ,2,20170105,0452, -34.4365,  17.4696,     1609,    498.7,   7.2266,  34.4956,    208.0,2,    207.2,2,    15.41,3,    24.06,3,     0.01,3,     2.11,3,     -999,9,     -999,9,   2133.4,3,   2293.6,2,20170105,0511
06M220170104  ,A10.5      ,7       ,  1,7113.0     ,240145.0   ,13         ,2,20170105,0452, -34.4365,  17.4696,     1609,    549.2,   6.3263,  34.4204,    212.4,2,    213.8,2,    21.76,3,    28.79,2,     0.01,3,     2.03,3,     -999,9,     -999,9,   2138.6,3,   2290.9,2,20170105,0510
06M220170104  ,A10.5      ,7       ,  1,7112.0     ,240144.0   ,12         ,2,20170105,0452, -34.4365,  17.4696,     1609,    652.0,   5.0410,  34.3283,    219.6,2,    216.9,2,    25.15,3,    31.10,2,     0.01,3,     2.42,3,     -999,9,     -999,9,   2143.3,3,   2292.2,2,20170105,0508
06M220170104  ,A10.5      ,7       ,  1,7111.0     ,240143.0   ,11         ,2,20170105,0452, -34.4365,  17.4696,     1609,    702.5,   4.7957,  34.3496,    211.5,2,    211.8,2,    32.92,3,    32.58,2,     0.01,3,     2.50,3,     -999,9,     -999,9,   2199.0,2,   2301.9,2,20170105,0508
06M220170104  ,A10.5      ,7       ,  1,7110.0     ,240142.0   ,10         ,2,20170105,0452, -34.4365,  17.4696,     1609,    803.4,   4.1602,  34.3774,    199.5,2,    197.8,2,    33.52,3,    27.51,3,     0.00,4,     2.70,3,     -999,9,     -999,9,   2214.8,2,   2306.5,2,20170105,0506
06M220170104  ,A10.5      ,7       ,  1,7109.0     ,240141.0   ,9          ,2,20170105,0452, -34.4365,  17.4696,     1609,    895.9,   3.7482,  34.4400,    184.5,2,    184.7,2,    43.88,3,    33.97,2,     0.01,3,     2.44,3,     -999,9,     -999,9,   2234.2,2,   2317.0,2,20170105,0504
06M220170104  ,A10.5      ,7       ,  1,7108.0     ,240140.0   ,8          ,2,20170105,0452, -34.4365,  17.4696,     1609,    977.0,   3.5665,  34.4732,    179.9,2,     -999,9,     -999,9,     -999,9,     -999,9,     -999,9,     -999,9,     -999,9,     -999,9,     -999,9,20170105,0503
06M220170104  ,A10.5      ,7       ,  1,7107.0     ,240139.0   ,7          ,2,20170105,0452, -34.4365,  17.4696,     1609,   1107.9,   3.1831,  34.5359,    177.2,2,    175.2,2,    67.82,3,    39.84,3,     0.01,3,     3.07,3,     -999,9,     -999,9,   2243.5,2,   2330.9,2,20170105,0501
06M220170104  ,A10.5      ,7       ,  1,7106.0     ,240138.0   ,6          ,2,20170105,0452, -34.4365,  17.4696,     1609,   1208.3,   2.9857,  34.5808,    178.6,2,    179.2,2,    66.88,3,    36.73,2,     0.00,3,     2.43,3,     -999,9,     -999,9,   2247.8,2,   2333.3,2,20170105,0459
06M220170104  ,A10.5      ,7       ,  1,7105.0     ,240137.0   ,5          ,2,20170105,0452, -34.4365,  17.4696,     1609,   1310.9,   3.0909,  34.6719,    186.7,2,    179.9,3,    58.56,3,    33.87,3,     0.00,3,     3.06,3,     -999,9,     -999,9,   2233.1,2,   2329.4,2,20170105,0458
06M220170104  ,A10.5      ,7       ,  1,7104.0     ,240136.0   ,4          ,2,20170105,0452, -34.4365,  17.4696,     1609,   1409.7,   3.0613,  34.7296,    195.0,2,    194.1,2,    73.34,3,    44.38,4,     0.02,4,     3.13,3,     -999,9,     -999,9,   2228.7,2,   2326.6,3,20170105,0456
06M220170104  ,A10.5      ,7       ,  1,7103.0     ,240135.0   ,3          ,2,20170105,0452, -34.4365,  17.4696,     1609,   1510.7,   3.0617,  34.7621,    200.4,2,    188.9,4,    58.89,3,    36.11,2,     0.01,3,     2.54,3,     -999,9,     -999,9,   2224.8,2,   2336.0,2,20170105,0454
06M220170104  ,A10.5      ,7       ,  1,7102.0     ,240134.0   ,2          ,2,20170105,0452, -34.4365,  17.4696,     1609,   1598.1,   3.0690,  34.7746,    202.9,2,    198.8,2,    50.50,3,    30.85,3,     0.01,3,     2.14,3,     -999,9,     -999,9,     -999,9,     -999,9,20170105,0452
06M220170104  ,A10.5      ,7       ,  1,7101.0     ,240133.0   ,1          ,2,20170105,0452, -34.4365,  17.4696,     1609,   1599.0,   3.0691,  34.7745,    202.8,2,     -999,9,    53.26,3,    30.77,3,     0.01,3,     1.16,3,     -999,9,     -999,9,   2226.4,2,   2330.0,2,20170105,0452
06M220170104  ,A10.5      ,8       ,  1,8115.0     ,240169.0   ,15         ,2,20170105,0720, -34.4704,  17.3815,     1867,     13.9,  21.3940,  35.5514,    228.1,2,     -999,9,     1.45,3,    -0.10,2,     0.00,2,     0.07,2,     -999,9,     -999,9,   2036.7,2,   2335.4,2,20170105,0755
06M220170104  ,A10.5      ,8       ,  1,8114.0     ,240168.0   ,14         ,2,20170105,0720, -34.4704,  17.3815,     1867,     25.4,  20.0779,  35.5552,    228.0,2,     -999,9,     1.58,3,    -0.04,2,     0.01,2,     0.09,2,     -999,9,     -999,9,   2040.1,2,   2335.4,2,20170105,0754
06M220170104  ,A10.5      ,8       ,  1,8113.0     ,240167.0   ,13         ,2,20170105,0720, -34.4704,  17.3815,     1867,     50.4,  18.1117,  35.5621,    213.0,2,     -999,9,     4.41,3,     3.73,2,     0.14,2,     0.29,2,     -999,9,     -999,9,   2085.4,2,   2330.8,2,20170105,0753
06M220170104  ,A10.5      ,8       ,  1,8112.0     ,240166.0   ,12         ,2,20170105,0720, -34.4704,  17.3815,     1867,    107.9,  15.6938,  35.4093,    217.4,2,     -999,9,     3.77,3,     4.50,2,     0.03,2,     0.40,2,     -999,9,     -999,9,   2104.1,2,   2327.2,2,20170105,0751
06M220170104  ,A10.5      ,8       ,  1,8111.0     ,240165.0   ,11         ,2,20170105,0720, -34.4704,  17.3815,     1867,    247.7,  11.4445,  34.9659,    220.9,2,     -999,9,     5.25,3,    12.61,2,     0.02,2,     0.80,2,     -999,9,     -999,9,   2138.0,2,   2305.8,2,20170105,0749
06M220170104  ,A10.5      ,8       ,  1,8110.0     ,240164.0   ,10         ,2,20170105,0720, -34.4704,  17.3815,     1867,    469.2,   7.6827,  34.5435,    207.3,2,     -999,9,    14.38,3,    22.82,2,     0.01,2,     1.53,2,     -999,9,     -999,9,   2168.4,2,   2293.6,2,20170105,0745
06M220170104  ,A10.5      ,8       ,  1,8109.0     ,240163.0   ,9          ,2,20170105,0720, -34.4704,  17.3815,     1867,    646.9,   5.0669,  34.3317,    219.5,2,     -999,9,    22.31,3,    28.20,2,     0.01,2,     1.74,2,     -999,9,     -999,9,   2181.6,2,   2291.4,2,20170105,0742
06M220170104  ,A10.5      ,8       ,  1,8108.0     ,240162.0   ,8          ,2,20170105,0720, -34.4704,  17.3815,     1867,    650.7,   5.0278,  34.3206,    221.2,2,     -999,9,     0.51,3,     0.44,4,     0.02,4,     0.00,4,     -999,9,     -999,9,     -999,9,     -999,9,20170105,0742
06M220170104  ,A10.5      ,8       ,  1,8107.0     ,240161.0   ,7          ,2,20170105,0720, -34.4704,  17.3815,     1867,    803.7,   4.3561,  34.4028,    194.5,2,     -999,9,    40.16,3,    31.57,2,     0.01,2,     1.94,2,     -999,9,     -999,9,   2213.5,2,   2309.1,2,20170105,0739
06M220170104  ,A10.5      ,8       ,  1,8106.0     ,240160.0   ,6          ,2,20170105,0720, -34.4704,  17.3815,     1867,   1025.5,   3.3763,  34.4813,    181.2,2,     -999,9,    45.33,3,    29.38,3,     0.02,3,     1.98,3,     -999,9,     -999,9,   2233.7,2,   2324.1,2,20170105,0736
06M220170104  ,A10.5      ,8       ,  1,8105.0     ,240159.0   ,5          ,2,20170105,0720, -34.4704,  17.3815,     1867,   1206.7,   3.1315,  34.5905,    175.6,2,     -999,9,    56.71,3,    31.10,3,     0.01,3,     1.86,3,     -999,9,     -999,9,   2241.6,2,   2334.3,2,20170105,0732
06M220170104  ,A10.5      ,8       ,  1,8104.0     ,240158.0   ,4          ,2,20170105,0720, -34.4704,  17.3815,     1867,   1409.8,   2.9107,  34.6809,    186.9,2,     -999,9,    61.56,3,    30.91,2,     0.01,2,     1.94,2,     -999,9,     -999,9,   2237.8,2,   2335.6,2,20170105,0729
06M220170104  ,A10.5      ,8       ,  1,8103.0     ,240157.0   ,3          ,2,20170105,0720, -34.4704,  17.3815,     1867,   1666.5,   2.9841,  34.7979,    209.0,2,     -999,9,    47.56,3,    27.25,2,     0.00,2,     1.79,2,     -999,9,     -999,9,   2211.3,2,   2330.4,2,20170105,0725
06M220170104  ,A10.5      ,8       ,  1,8101.0     ,240155.0   ,1          ,2,20170105,0720, -34.4704,  17.3815,     1867,   1855.3,   2.9571,  34.8266,    215.9,2,     -999,9,    47.49,3,    27.01,2,     0.04,2,     1.65,2,     -999,9,     -999,9,   2203.8,2,   2331.6,2,20170105,0720
06M220170104  ,A10.5      ,8       ,  1,8102.0     ,240156.0   ,2          ,2,20170105,0720, -34.4704,  17.3815,     1867,   1857.2,   2.9560,  34.8274,    216.1,2,     -999,9,    41.03,3,    23.79,3,     0.03,3,     1.42,3,     -999,9,     -999,9,   2210.3,2,   2331.5,2,20170105,0720