BOTTLE,20240228CCHSIOADS
EXPOCODE,SECT_ID,STNNBR,CASTNO,SAMPNO,BIONBR,BTLNBR,BTLNBR_FLAG_W,DATE,TIME,LATITUDE,LONGITUDE,DEPTH,CTDPRS,CTDTMP,CTDSAL,CTDOXY,CTDOXY_FLAG_W,OXYGEN,OXYGEN_FLAG_W,SILCAT,SILCAT_FLAG_W,NITRAT,NITRAT_FLAG_W,NITRIT,NITRIT_FLAG_W,PHSPHT,PHSPHT_FLAG_W,CFC-12,CFC-12_FLAG_W,SF6,SF6_FLAG_W,TCARBN,TCARBN_FLAG_W,ALKALI,ALKALI_FLAG_W,BTL_DATE,BTL_TIME
,,,,,,,,,,,,METERS,DBAR,ITS-90,PSS-78,UMOL/KG,,UMOL/KG,,UMOL/KG,,UMOL/KG,,UMOL/KG,,UMOL/KG,,PMOL/KG,,FMOL/KG,,UMOL/KG,,UMOL/KG,,,
06M220170104  ,A10.5      ,15      ,  1,15122.0    ,241330.0   ,22         ,2,20170106,1409, -34.5014,  14.6370,     4593,     24.3,  20.8752,  35.5732,    229.4,2,    229.1,2,     1.30,3,    -0.05,3,     0.01,3,     0.12,3,     -999,9,     -999,9,     -999,9,     -999,9,20170106,1531
06M220170104  ,A10.5      ,15      ,  1,15121.0    ,241329.0   ,21         ,2,20170106,1409, -34.5014,  14.6370,     4593,     24.9,  20.8725,  35.5732,    229.5,2,    229.0,2,     1.43,3,     0.01,3,     0.01,3,     0.08,3,     -999,9,     -999,9,   2038.9,2,   2335.7,2,20170106,1531
06M220170104  ,A10.5      ,15      ,  1,15120.0    ,241328.0   ,20         ,2,20170106,1409, -34.5014,  14.6370,     4593,     48.1,  18.3503,  35.4684,    212.8,2,    193.8,4,     4.98,3,     5.07,3,     0.09,3,     0.44,3,     -999,9,     -999,9,   2092.8,2,   2342.3,2,20170106,1530
06M220170104  ,A10.5      ,15      ,  1,15119.0    ,241327.0   ,19         ,2,20170106,1409, -34.5014,  14.6370,     4593,     96.5,  15.6625,  35.3792,    219.3,2,    221.2,2,     2.35,3,     3.69,3,     0.01,3,     0.34,3,     -999,9,     -999,9,   2101.6,2,   2328.6,2,20170106,1528
06M220170104  ,A10.5      ,15      ,  1,15118.0    ,241326.0   ,18         ,2,20170106,1409, -34.5014,  14.6370,     4593,    197.1,  12.3686,  34.9592,    233.9,2,    235.8,2,     2.26,3,     7.49,3,     0.01,3,     0.61,3,     -999,9,     -999,9,   2108.8,2,   2311.3,2,20170106,1526
06M220170104  ,A10.5      ,15      ,  1,15117.0    ,241325.0   ,17         ,2,20170106,1409, -34.5014,  14.6370,     4593,    297.3,  11.0252,  34.8723,    224.2,2,    224.1,2,     3.31,3,    10.39,3,     0.02,3,     0.77,3,     -999,9,     -999,9,   2134.2,2,   2302.5,2,20170106,1525
06M220170104  ,A10.5      ,15      ,  1,15116.0    ,241324.0   ,16         ,2,20170106,1409, -34.5014,  14.6370,     4593,    456.8,   8.4934,  34.6189,    205.3,2,     -999,9,     -999,9,     -999,9,     -999,9,     -999,9,     -999,9,     -999,9,     -999,9,     -999,9,20170106,1522
06M220170104  ,A10.5      ,15      ,  1,15115.0    ,241323.0   ,15         ,2,20170106,1409, -34.5014,  14.6370,     4593,    552.1,   7.0617,  34.4885,    207.6,2,    208.5,2,    15.98,3,    26.66,3,     0.01,3,     1.71,3,     -999,9,     -999,9,   2167.9,2,   2292.6,2,20170106,1521
06M220170104  ,A10.5      ,15      ,  1,15114.0    ,241322.0   ,14         ,2,20170106,1409, -34.5014,  14.6370,     4593,    648.3,   5.7883,  34.3884,    211.9,2,    212.8,2,    33.01,3,    31.54,3,     0.00,3,     2.31,3,     -999,9,     -999,9,     -999,9,     -999,9,20170106,1519
06M220170104  ,A10.5      ,15      ,  1,15113.0    ,241321.0   ,13         ,2,20170106,1409, -34.5014,  14.6370,     4593,    749.4,   4.8617,  34.3725,    206.1,2,    207.2,2,    29.75,3,    30.88,3,     0.01,3,     2.14,3,     -999,9,     -999,9,   2199.4,2,   2302.0,2,20170106,1517
06M220170104  ,A10.5      ,15      ,  1,15112.0    ,241320.0   ,12         ,2,20170106,1409, -34.5014,  14.6370,     4593,    893.0,   4.0009,  34.4151,    190.0,2,    189.7,2,    47.92,3,    35.06,3,     0.00,3,     2.45,3,     -999,9,     -999,9,   2213.4,2,   2315.8,2,20170106,1515
06M220170104  ,A10.5      ,15      ,  1,15111.0    ,241319.0   ,11         ,2,20170106,1409, -34.5014,  14.6370,     4593,   1031.2,   3.4970,  34.4871,    178.3,2,    181.0,2,    48.58,3,    30.34,3,     0.00,3,     2.17,3,     -999,9,     -999,9,   2237.1,2,   2324.1,2,20170106,1512
06M220170104  ,A10.5      ,15      ,  1,15110.0    ,241318.0   ,10         ,2,20170106,1409, -34.5014,  14.6370,     4593,   1233.2,   3.0898,  34.5892,    177.3,2,    178.3,2,    57.52,3,    35.58,3,     0.01,3,     2.33,3,     -999,9,     -999,9,   2240.1,2,   2333.1,2,20170106,1508
06M220170104  ,A10.5      ,15      ,  1,15109.0    ,241317.0   ,9          ,2,20170106,1409, -34.5014,  14.6370,     4593,   1576.0,   2.9407,  34.7505,    197.8,2,    195.3,2,    57.46,3,    32.55,3,     0.00,3,     2.12,3,     -999,9,     -999,9,   2221.8,2,   2334.5,2,20170106,1459
06M220170104  ,A10.5      ,15      ,  1,15108.0    ,241316.0   ,8          ,2,20170106,1409, -34.5014,  14.6370,     4593,   1795.5,   2.7614,  34.7928,    208.1,2,    210.0,2,    52.28,3,    26.41,3,     0.00,3,     1.95,3,     -999,9,     -999,9,   2208.6,2,   2339.1,2,20170106,1456
06M220170104  ,A10.5      ,15      ,  1,15107.0    ,241315.0   ,7          ,2,20170106,1409, -34.5014,  14.6370,     4593,   1977.7,   2.6823,  34.8154,    215.0,2,    216.3,2,    51.42,3,    22.21,3,     0.00,3,     2.03,3,     -999,9,     -999,9,   2214.0,2,   2357.7,3,20170106,1453
06M220170104  ,A10.5      ,15      ,  1,15106.0    ,241314.0   ,6          ,2,20170106,1409, -34.5014,  14.6370,     4593,   2331.9,   2.4565,  34.8377,    224.7,2,    225.8,2,    51.97,3,    28.12,3,     0.03,3,     1.86,3,     -999,9,     -999,9,   2213.1,2,   2340.3,2,20170106,1447
06M220170104  ,A10.5      ,15      ,  1,15104.0    ,241312.0   ,4          ,2,20170106,1409, -34.5014,  14.6370,     4593,   3297.6,   1.9538,  34.8231,    227.1,2,    229.1,2,    63.47,4,    28.32,3,     0.03,3,     1.40,3,     -999,9,     -999,9,     -999,9,     -999,9,20170106,1430
06M220170104  ,A10.5      ,15      ,  1,15105.0    ,241313.0   ,5          ,2,20170106,1409, -34.5014,  14.6370,     4593,   3297.8,   1.9565,  34.8233,    227.2,2,    228.6,2,    92.94,3,    35.66,3,     0.02,3,     2.33,3,     -999,9,     -999,9,   2231.8,2,   2366.3,3,20170106,1430
06M220170104  ,A10.5      ,15      ,  1,15103.0    ,241311.0   ,3          ,2,20170106,1409, -34.5014,  14.6370,     4593,   3906.4,   1.2386,  34.7520,    220.5,2,    222.2,2,   103.10,3,    33.32,3,     0.04,3,     2.28,3,     -999,9,     -999,9,   2254.2,2,   2378.8,3,20170106,1420
06M220170104  ,A10.5      ,15      ,  1,15102.0    ,241310.0   ,2          ,2,20170106,1409, -34.5014,  14.6370,     4593,   4582.0,   1.0910,  34.7321,    219.5,2,    216.4,2,   102.98,3,    33.98,3,     0.02,3,     2.13,3,     -999,9,     -999,9,     -999,9,     -999,9,20170106,1409
06M220170104  ,A10.5      ,15      ,  1,15101.0    ,241309.0   ,1          ,2,20170106,1409, -34.5014,  14.6370,     4593,   4583.1,   1.0906,  34.7322,    219.3,2,    217.3,2,   131.50,4,    36.89,3,     0.02,3,     2.82,3,     -999,9,     -999,9,   2262.2,2,   2372.7,2,20170106,1409
06M220170104  ,A10.5      ,16      ,  1,16122.0    ,241352.0   ,22         ,2,20170106,2028, -34.5016,  13.9238,     4628,      8.3,  21.0475,  35.6080,    229.5,2,    227.8,2,     2.01,3,     0.05,3,     0.00,2,     0.16,3,    1.159,2,   1.5740,2,   2045.4,2,   2334.3,2,20170106,2146
06M220170104  ,A10.5      ,16      ,  1,16121.0    ,241351.0   ,21         ,2,20170106,2028, -34.5016,  13.9238,     4628,     20.8,  21.0498,  35.6075,    228.7,2,    228.7,2,     2.04,3,     0.11,3,     0.02,2,     0.29,3,    1.087,3,   1.4600,2,   2043.7,2,   2334.7,2,20170106,2146
06M220170104  ,A10.5      ,16      ,  1,16120.0    ,241350.0   ,20         ,2,20170106,2028, -34.5016,  13.9238,     4628,     67.8,  18.6743,  35.4491,    237.8,2,    227.8,3,     2.94,3,     1.37,3,     0.45,2,     0.88,3,    1.300,2,   1.6510,2,   2068.1,2,   2324.5,2,20170106,2144
06M220170104  ,A10.5      ,16      ,  1,16119.0    ,241349.0   ,19         ,2,20170106,2028, -34.5016,  13.9238,     4628,     97.4,  14.7626,  35.2509,    196.4,2,    196.4,2,     7.20,3,    10.68,3,     0.03,2,     1.12,3,    1.491,2,   1.5210,2,     -999,9,     -999,9,20170106,2143
06M220170104  ,A10.5      ,16      ,  1,16118.0    ,241348.0   ,18         ,2,20170106,2028, -34.5016,  13.9238,     4628,    147.6,  11.3690,  34.9665,    198.2,2,    201.3,2,    10.54,3,    17.97,3,     0.04,2,     1.43,3,    1.628,2,   1.3660,2,   2146.2,2,   2303.3,2,20170106,2142
06M220170104  ,A10.5      ,16      ,  1,16117.0    ,241347.0   ,17         ,2,20170106,2028, -34.5016,  13.9238,     4628,    196.7,  10.0232,  34.8173,    190.2,2,    191.4,2,    13.37,3,    19.69,3,     0.01,2,     1.67,3,    1.648,2,   1.1970,2,   2162.8,2,   2298.0,2,20170106,2142
06M220170104  ,A10.5      ,16      ,  1,16116.0    ,241346.0   ,16         ,2,20170106,2028, -34.5016,  13.9238,     4628,    245.4,   8.7903,  34.6831,    199.6,2,    201.7,2,    13.87,3,    21.18,3,     0.01,2,     1.79,3,    1.555,2,   1.0430,2,     -999,9,     -999,9,20170106,2141
06M220170104  ,A10.5      ,16      ,  1,16115.0    ,241345.0   ,15         ,2,20170106,2028, -34.5016,  13.9238,     4628,    336.3,   6.1950,  34.4263,    207.3,2,    219.8,4,    20.74,3,    26.67,3,     0.01,2,     2.15,3,    1.530,2,   1.0480,2,   2181.8,2,   2287.6,2,20170106,2139
06M220170104  ,A10.5      ,16      ,  1,16114.0    ,241344.0   ,14         ,2,20170106,2028, -34.5016,  13.9238,     4628,    445.9,   4.9586,  34.3578,    211.5,2,    215.6,2,    26.97,3,    27.96,3,     0.01,2,     2.17,3,    1.331,2,   0.7810,2,     -999,9,     -999,9,20170106,2137
06M220170104  ,A10.5      ,16      ,  1,16113.0    ,241343.0   ,13         ,2,20170106,2028, -34.5016,  13.9238,     4628,    592.8,   4.2951,  34.3905,    197.2,2,    197.8,2,    39.54,3,    30.36,3,     0.00,2,     2.94,3,    0.999,2,   0.5760,2,   2206.7,2,   2305.5,2,20170106,2135
06M220170104  ,A10.5      ,16      ,  1,16112.0    ,241342.0   ,12         ,2,20170106,2028, -34.5016,  13.9238,     4628,    746.6,   3.7404,  34.4383,    185.4,2,    187.2,2,    52.99,3,    36.30,3,     0.01,2,     2.70,3,    0.679,2,   0.2720,2,   2225.1,2,   2315.2,2,20170106,2132
06M220170104  ,A10.5      ,16      ,  1,16111.0    ,241341.0   ,11         ,2,20170106,2028, -34.5016,  13.9238,     4628,    938.9,   3.3112,  34.5366,    174.2,2,    177.7,2,    63.38,3,    34.07,3,     0.00,2,     1.96,3,    0.352,2,   0.1700,2,   2237.9,2,   2325.8,2,20170106,2129
06M220170104  ,A10.5      ,16      ,  1,16110.0    ,241340.0   ,10         ,2,20170106,2028, -34.5016,  13.9238,     4628,   1246.7,   2.9486,  34.6779,    185.9,2,    187.0,2,    59.09,3,    29.74,3,     0.02,2,     2.03,3,    0.111,2,   0.0350,2,   2242.6,2,   2333.7,2,20170106,2124
06M220170104  ,A10.5      ,16      ,  1,16109.0    ,241339.0   ,9          ,2,20170106,2028, -34.5016,  13.9238,     4628,   1494.3,   3.1261,  34.8068,    207.9,2,    217.4,4,     -999,9,     -999,9,     -999,9,     -999,9,     -999,9,     -999,9,     -999,9,     -999,9,20170106,2120
06M220170104  ,A10.5      ,16      ,  1,16108.0    ,241338.0   ,8          ,2,20170106,2028, -34.5016,  13.9238,     4628,   1747.1,   2.9771,  34.8373,    216.3,2,    217.1,2,    45.17,3,    26.04,3,     0.00,2,     1.95,3,    0.019,2,   0.0000,2,   2205.3,2,   2327.8,3,20170106,2116
06M220170104  ,A10.5      ,16      ,  1,16107.0    ,241337.0   ,7          ,2,20170106,2028, -34.5016,  13.9238,     4628,   1997.8,   2.6344,  34.8253,    218.1,2,    219.5,2,    59.48,3,    28.60,3,     0.04,2,     1.73,3,    0.022,2,   0.0000,2,   2211.0,2,   2333.6,2,20170106,2111
06M220170104  ,A10.5      ,16      ,  1,16106.0    ,241336.0   ,6          ,2,20170106,2028, -34.5016,  13.9238,     4628,   2270.8,   2.5002,  34.8387,    224.1,2,    225.6,2,    48.25,3,    25.56,3,     0.00,2,     1.45,3,    0.017,2,   0.0000,2,   2216.5,2,   2341.3,2,20170106,2107
06M220170104  ,A10.5      ,16      ,  1,16105.0    ,241335.0   ,5          ,2,20170106,2028, -34.5016,  13.9238,     4628,   2895.2,   2.2254,  34.8441,    229.8,2,    230.1,2,    37.24,3,    17.26,3,     0.00,2,     2.29,3,    0.014,2,   0.0000,2,   2218.3,2,   2342.0,2,20170106,2056
06M220170104  ,A10.5      ,16      ,  1,16104.0    ,241334.0   ,4          ,2,20170106,2028, -34.5016,  13.9238,     4628,   3295.4,   1.9661,  34.8244,    227.6,2,    229.6,2,    70.34,3,    26.32,3,     0.00,2,     3.05,3,    0.018,2,   0.0000,2,   2227.3,2,   2349.6,2,20170106,2050
06M220170104  ,A10.5      ,16      ,  1,16103.0    ,241333.0   ,3          ,2,20170106,2028, -34.5016,  13.9238,     4628,   3794.5,   1.3192,  34.7595,    220.9,2,    221.6,2,    98.52,3,    35.57,3,     0.01,2,     2.65,3,    0.038,2,   0.0000,2,   2248.5,2,   2360.8,2,20170106,2042
06M220170104  ,A10.5      ,16      ,  1,16102.0    ,241332.0   ,2          ,2,20170106,2028, -34.5016,  13.9238,     4628,   4196.8,   1.1371,  34.7404,    219.6,2,    221.0,2,   111.31,3,    35.68,3,     0.00,2,     2.12,3,    0.046,2,   0.0000,2,   2259.4,2,   2369.0,2,20170106,2035
06M220170104  ,A10.5      ,16      ,  1,16101.0    ,241331.0   ,1          ,2,20170106,2028, -34.5016,  13.9238,     4628,   4617.6,   1.0906,  34.7317,    219.2,2,    222.3,2,   104.24,3,    29.94,3,     0.00,2,     1.17,3,    0.069,2,   0.0000,2,   2259.5,2,   2373.5,2,20170106,2028
06M220170104  ,A10.5      ,17      ,  1,17122.0    ,241374.0   ,22         ,2,20170107,0208, -34.4942,  13.2697,     4575,      6.6,  21.0759,  35.6028,    228.3,2,    224.9,2,     2.33,3,     0.40,3,     0.06,3,     0.30,3,     -999,9,     -999,9,   2046.6,2,   2340.2,2,20170107,0327
06M220170104  ,A10.5      ,17      ,  1,17121.0    ,241373.0   ,21         ,2,20170107,0208, -34.4942,  13.2697,     4575,     25.6,  21.0834,  35.6022,    229.0,2,    243.7,3,     2.18,3,     0.40,3,     0.05,3,     0.84,3,     -999,9,     -999,9,   2048.8,2,   2339.3,2,20170107,0326
06M220170104  ,A10.5      ,17      ,  1,17120.0    ,241372.0   ,20         ,2,20170107,0208, -34.4942,  13.2697,     4575,     45.4,  21.0733,  35.6005,    228.5,2,    231.3,2,     2.34,3,     0.34,3,     0.04,3,     1.33,3,     -999,9,     -999,9,   2055.2,2,   2339.0,2,20170107,0326
06M220170104  ,A10.5      ,17      ,  1,17119.0    ,241371.0   ,19         ,2,20170107,0208, -34.4942,  13.2697,     4575,    100.4,  15.9437,  35.3267,    197.5,2,    197.0,2,     9.57,3,    10.75,3,     0.09,3,     1.76,3,     -999,9,     -999,9,   2113.9,2,   2329.1,2,20170107,0324
06M220170104  ,A10.5      ,17      ,  1,17118.0    ,241370.0   ,18         ,2,20170107,0208, -34.4942,  13.2697,     4575,    150.5,  11.7545,  35.0102,    194.5,2,    202.8,3,    10.89,3,    17.84,3,     0.04,3,     2.69,3,     -999,9,     -999,9,   2151.4,2,   2308.0,2,20170107,0323
06M220170104  ,A10.5      ,17      ,  1,17117.0    ,241369.0   ,17         ,2,20170107,0208, -34.4942,  13.2697,     4575,    198.4,  10.3293,  34.8419,    200.1,2,    186.4,4,    13.23,3,    20.64,3,     0.04,3,     2.46,3,     -999,9,     -999,9,     -999,9,     -999,9,20170107,0322
06M220170104  ,A10.5      ,17      ,  1,17116.0    ,241368.0   ,16         ,2,20170107,0208, -34.4942,  13.2697,     4575,    300.8,   8.1759,  34.6074,    202.2,2,    201.7,2,    19.05,3,    25.45,3,     0.03,3,     3.12,3,     -999,9,     -999,9,   2172.8,2,   2297.5,2,20170107,0320
06M220170104  ,A10.5      ,17      ,  1,17115.0    ,241367.0   ,15         ,2,20170107,0208, -34.4942,  13.2697,     4575,    453.4,   5.7613,  34.4051,    209.2,2,    210.1,2,    32.83,3,    34.35,3,     0.02,3,     4.28,3,     -999,9,     -999,9,     -999,9,     -999,9,20170107,0317
06M220170104  ,A10.5      ,17      ,  1,17114.0    ,241366.0   ,14         ,2,20170107,0208, -34.4942,  13.2697,     4575,    553.7,   4.8431,  34.3529,    211.2,2,    207.4,2,    31.04,3,    32.57,3,     0.02,3,     4.13,3,     -999,9,     -999,9,   2189.4,2,   2296.2,2,20170107,0316
06M220170104  ,A10.5      ,17      ,  1,17113.0    ,241365.0   ,13         ,2,20170107,0208, -34.4942,  13.2697,     4575,    612.8,   4.5415,  34.3586,    206.6,2,    204.1,2,    32.73,3,    26.22,3,     0.01,3,     3.81,3,     -999,9,     -999,9,     -999,9,     -999,9,20170107,0315
06M220170104  ,A10.5      ,17      ,  1,17112.0    ,241364.0   ,12         ,2,20170107,0208, -34.4942,  13.2697,     4575,    807.8,   3.8587,  34.4343,    185.7,2,    183.8,2,    58.36,3,    38.58,3,     0.01,3,     4.73,3,     -999,9,     -999,9,   2214.9,2,   2316.4,2,20170107,0311
06M220170104  ,A10.5      ,17      ,  1,17111.0    ,241363.0   ,11         ,2,20170107,0208, -34.4942,  13.2697,     4575,   1023.3,   3.3257,  34.5300,    175.5,2,    175.7,2,    69.77,3,    37.63,3,     0.01,3,     4.67,3,     -999,9,     -999,9,   2248.4,2,   2329.9,2,20170107,0308
06M220170104  ,A10.5      ,17      ,  1,17110.0    ,241362.0   ,10         ,2,20170107,0208, -34.4942,  13.2697,     4575,   1250.0,   2.9729,  34.6320,    180.6,2,    182.6,2,    85.58,3,    41.90,3,     0.01,3,     5.31,3,     -999,9,     -999,9,     -999,9,     -999,9,20170107,0304
06M220170104  ,A10.5      ,17      ,  1,17109.0    ,241361.0   ,9          ,2,20170107,0208, -34.4942,  13.2697,     4575,   1536.8,   2.9870,  34.7728,    202.1,2,    201.8,2,    76.08,3,    36.49,3,     0.03,3,     4.56,3,     -999,9,     -999,9,   2226.6,2,   2332.9,2,20170107,0259
06M220170104  ,A10.5      ,17      ,  1,17108.0    ,241360.0   ,8          ,2,20170107,0208, -34.4942,  13.2697,     4575,   1809.0,   2.7230,  34.8033,    211.2,2,    214.2,2,    73.59,3,    34.41,3,     0.04,3,     3.84,3,     -999,9,     -999,9,   2216.3,2,   2339.6,2,20170107,0255
06M220170104  ,A10.5      ,17      ,  1,17107.0    ,241359.0   ,7          ,2,20170107,0208, -34.4942,  13.2697,     4575,   2037.1,   2.6241,  34.8286,    219.5,2,    222.0,2,    77.89,3,    33.80,3,     0.03,3,     1.33,4,     -999,9,     -999,9,     -999,9,     -999,9,20170107,0251
06M220170104  ,A10.5      ,17      ,  1,17106.0    ,241358.0   ,6          ,2,20170107,0208, -34.4942,  13.2697,     4575,   2398.1,   2.4393,  34.8403,    225.8,2,    226.0,2,    67.95,3,    28.96,3,     0.00,3,     3.24,3,     -999,9,     -999,9,   2206.2,2,   2339.8,2,20170107,0245
06M220170104  ,A10.5      ,17      ,  1,17105.0    ,241357.0   ,5          ,2,20170107,0208, -34.4942,  13.2697,     4575,   3001.9,   2.2114,  34.8447,    230.5,2,    241.7,4,    86.89,3,    33.55,3,     0.01,3,     0.66,4,     -999,9,     -999,9,   2209.1,2,   2348.5,2,20170107,0235
06M220170104  ,A10.5      ,17      ,  1,17104.0    ,241356.0   ,4          ,2,20170107,0208, -34.4942,  13.2697,     4575,   3497.6,   1.7700,  34.8043,    225.2,2,    224.7,2,    91.38,3,    28.48,3,     0.01,3,     3.12,3,     -999,9,     -999,9,   2227.6,2,   2358.8,2,20170107,0226
06M220170104  ,A10.5      ,17      ,  1,17103.0    ,241355.0   ,3          ,2,20170107,0208, -34.4942,  13.2697,     4575,   3816.0,   1.3596,  34.7635,    221.6,2,    222.1,2,   125.60,3,    34.93,3,     0.01,3,     4.10,4,     -999,9,     -999,9,   2242.1,2,   2365.4,2,20170107,0221
06M220170104  ,A10.5      ,17      ,  1,17102.0    ,241354.0   ,2          ,2,20170107,0208, -34.4942,  13.2697,     4575,   4196.2,   1.1522,  34.7419,    219.8,2,    226.8,4,   134.10,3,    30.74,3,     0.02,3,     2.08,4,     -999,9,     -999,9,   2247.9,2,   2369.9,2,20170107,0215
06M220170104  ,A10.5      ,17      ,  1,17101.0    ,241353.0   ,1          ,2,20170107,0208, -34.4942,  13.2697,     4575,   4565.3,   1.0980,  34.7331,    219.4,2,    228.6,4,   132.22,3,    33.00,3,     0.01,3,     3.44,3,     -999,9,     -999,9,   2247.6,2,   2370.2,2,20170107,0208