BOTTLE,20240228CCHSIOADS
EXPOCODE,SECT_ID,STNNBR,CASTNO,SAMPNO,BIONBR,BTLNBR,BTLNBR_FLAG_W,DATE,TIME,LATITUDE,LONGITUDE,DEPTH,CTDPRS,CTDTMP,CTDSAL,CTDOXY,CTDOXY_FLAG_W,OXYGEN,OXYGEN_FLAG_W,SILCAT,SILCAT_FLAG_W,NITRAT,NITRAT_FLAG_W,NITRIT,NITRIT_FLAG_W,PHSPHT,PHSPHT_FLAG_W,CFC-12,CFC-12_FLAG_W,SF6,SF6_FLAG_W,TCARBN,TCARBN_FLAG_W,ALKALI,ALKALI_FLAG_W,BTL_DATE,BTL_TIME
,,,,,,,,,,,,METERS,DBAR,ITS-90,PSS-78,UMOL/KG,,UMOL/KG,,UMOL/KG,,UMOL/KG,,UMOL/KG,,UMOL/KG,,PMOL/KG,,FMOL/KG,,UMOL/KG,,UMOL/KG,,,
06M220170104  ,A10.5      ,79      ,  1,79122.0    ,241220.0   ,22         ,2,20170120,2209, -34.4993, -25.3674,     4426,      6.9,  21.7279,  35.3956,    226.7,2,    231.4,3,     1.02,2,     0.22,2,     0.00,2,     0.02,2,    1.283,2,   1.8050,2,   2062.3,2,   2331.3,2,20170120,2317
06M220170104  ,A10.5      ,79      ,  1,79121.0    ,241219.0   ,21         ,2,20170120,2209, -34.4993, -25.3674,     4426,     38.0,  18.6821,  35.7275,    242.6,2,    245.0,2,     1.07,2,     0.23,2,     0.01,2,     0.02,2,    1.401,2,   1.8500,2,   2072.7,2,   2347.9,2,20170120,2316
06M220170104  ,A10.5      ,79      ,  1,79120.0    ,241218.0   ,20         ,2,20170120,2209, -34.4993, -25.3674,     4426,     86.4,  15.9423,  35.5823,    227.5,2,    229.3,2,     1.47,2,     2.09,2,     0.04,2,     0.20,2,    1.535,2,   1.9590,2,   2110.4,2,   2342.6,2,20170120,2315
06M220170104  ,A10.5      ,79      ,  1,79119.0    ,241217.0   ,19         ,2,20170120,2209, -34.4993, -25.3674,     4426,    123.0,  14.9725,  35.4700,    220.5,2,    221.3,2,     2.12,2,     4.96,2,     0.02,2,     0.36,2,    1.603,2,   1.9530,2,     -999,9,     -999,9,20170120,2314
06M220170104  ,A10.5      ,79      ,  1,79118.0    ,241216.0   ,18         ,2,20170120,2209, -34.4993, -25.3674,     4426,    245.9,  14.5802,  35.5601,    234.4,2,    235.3,2,     2.12,2,     5.36,2,     0.01,2,     0.37,2,    1.613,2,   1.9870,2,   2109.6,2,   2342.3,2,20170120,2312
06M220170104  ,A10.5      ,79      ,  1,79117.0    ,241215.0   ,17         ,2,20170120,2209, -34.4993, -25.3674,     4426,    395.7,  12.5730,  35.1866,    213.2,2,    214.7,2,     2.79,2,     9.49,2,     0.00,2,     0.63,2,    1.754,2,   1.6970,2,   2138.0,2,   2322.1,2,20170120,2309
06M220170104  ,A10.5      ,79      ,  1,79116.0    ,241214.0   ,16         ,2,20170120,2209, -34.4993, -25.3674,     4426,    597.2,   7.7931,  34.5268,    217.8,2,    234.3,4,     9.92,2,    24.12,2,     0.01,2,     1.45,2,    1.949,2,   1.4960,2,   2164.1,2,   2288.4,2,20170120,2306
06M220170104  ,A10.5      ,79      ,  1,79115.0    ,241213.0   ,15         ,2,20170120,2209, -34.4993, -25.3674,     4426,    747.1,   5.2555,  34.2768,    241.1,2,    242.4,2,    14.34,2,    26.71,2,     0.01,2,     1.67,2,    2.036,2,   1.5350,2,     -999,9,     -999,9,20170120,2302
06M220170104  ,A10.5      ,79      ,  1,79114.0    ,241212.0   ,14         ,2,20170120,2209, -34.4993, -25.3674,     4426,    896.6,   4.1128,  34.2302,    238.6,2,    240.1,2,    22.06,2,    30.97,2,     0.00,2,     1.87,2,    1.821,2,   1.2280,2,   2183.7,2,   2286.6,2,20170120,2300
06M220170104  ,A10.5      ,79      ,  1,79113.0    ,241211.0   ,13         ,2,20170120,2209, -34.4993, -25.3674,     4426,   1093.9,   3.4517,  34.2997,    215.6,2,    216.8,2,    35.73,2,    33.48,2,     0.00,2,     2.02,2,    1.162,2,   0.5540,2,   2209.4,2,   2299.7,2,20170120,2257
06M220170104  ,A10.5      ,79      ,  1,79112.0    ,241210.0   ,12         ,2,20170120,2209, -34.4993, -25.3674,     4426,   1296.0,   3.0316,  34.4045,    193.6,2,    194.6,2,    54.22,2,    37.73,2,     0.00,2,     2.39,2,    0.673,2,   0.3490,2,     -999,9,     -999,9,20170120,2253
06M220170104  ,A10.5      ,79      ,  1,79111.0    ,241209.0   ,11         ,2,20170120,2209, -34.4993, -25.3674,     4426,   1496.8,   2.8851,  34.5292,    185.0,2,    191.4,4,    57.49,2,    34.99,2,     0.01,2,     2.13,2,    0.299,2,   0.1390,2,   2236.6,2,   2325.4,2,20170120,2248
06M220170104  ,A10.5      ,79      ,  1,79110.0    ,241208.0   ,10         ,2,20170120,2209, -34.4993, -25.3674,     4426,   1797.0,   2.8772,  34.7048,    195.4,2,     -999,9,     -999,9,     -999,9,     -999,9,     -999,9,     -999,9,     -999,9,     -999,9,     -999,9,20170120,2243
06M220170104  ,A10.5      ,79      ,  1,79109.0    ,241207.0   ,9          ,2,20170120,2209, -34.4993, -25.3674,     4426,   2096.9,   2.8987,  34.7983,    213.2,2,    214.7,2,    50.47,2,    27.94,2,     0.00,2,     1.66,2,    0.055,2,   0.0000,2,   2217.1,2,   2332.2,2,20170120,2238
06M220170104  ,A10.5      ,79      ,  1,79108.0    ,241206.0   ,8          ,2,20170120,2209, -34.4993, -25.3674,     4426,   2097.7,   2.8985,  34.7990,    213.2,2,     -999,9,     -999,9,     -999,9,     -999,9,     -999,9,     -999,9,     -999,9,     -999,9,     -999,9,20170120,2238
06M220170104  ,A10.5      ,79      ,  1,79107.0    ,241205.0   ,7          ,2,20170120,2209, -34.4993, -25.3674,     4426,   2396.5,   2.8751,  34.8565,    228.8,2,    231.1,2,    43.99,2,    25.82,2,     0.00,2,     1.55,2,    0.037,2,   0.0000,2,   2196.3,2,   2332.0,2,20170120,2233
06M220170104  ,A10.5      ,79      ,  1,79106.0    ,241204.0   ,6          ,2,20170120,2209, -34.4993, -25.3674,     4426,   2696.0,   2.7771,  34.8824,    238.8,2,    241.4,2,    40.46,2,    23.72,2,     0.00,2,     1.41,2,    0.031,2,   0.0000,2,     -999,9,     -999,9,20170120,2228
06M220170104  ,A10.5      ,79      ,  1,79105.0    ,241203.0   ,5          ,2,20170120,2209, -34.4993, -25.3674,     4426,   3039.9,   2.5967,  34.8856,    243.0,2,    244.4,2,    43.02,2,    24.32,2,     0.00,2,     1.44,2,    0.019,2,   0.0000,2,   2200.4,2,   2332.4,2,20170120,2223
06M220170104  ,A10.5      ,79      ,  1,79104.0    ,241202.0   ,4          ,2,20170120,2209, -34.4993, -25.3674,     4426,   3346.9,   2.2879,  34.8627,    241.0,2,    242.7,2,    45.58,2,    25.14,2,     0.00,2,     1.38,2,    0.034,2,   0.0000,2,     -999,9,     -999,9,20170120,2218
06M220170104  ,A10.5      ,79      ,  1,79103.0    ,241201.0   ,3          ,2,20170120,2209, -34.4993, -25.3674,     4426,   3653.5,   1.9418,  34.8308,    237.2,2,    238.7,2,    58.77,2,    26.57,2,     0.00,2,     1.59,2,    0.024,2,   0.0680,2,   2207.1,2,   2345.4,2,20170120,2213
06M220170104  ,A10.5      ,79      ,  1,79102.0    ,241200.0   ,2          ,2,20170120,2209, -34.4993, -25.3674,     4426,   3899.6,   1.7514,  34.8107,    233.7,2,    237.4,3,    59.78,2,    27.09,2,     0.00,2,     1.50,2,    0.030,2,   0.1210,2,     -999,9,     -999,9,20170120,2209
06M220170104  ,A10.5      ,79      ,  1,79101.0    ,241199.0   ,1          ,2,20170120,2209, -34.4993, -25.3674,     4426,   3899.8,   1.7487,  34.8100,    234.0,2,    236.1,2,    62.64,3,    24.02,3,     0.00,3,     1.50,3,    0.042,2,   0.1300,2,   2215.3,2,   2350.3,2,20170120,2209
06M220170104  ,A10.5      ,80      ,  1,80122.0    ,241242.0   ,22         ,2,20170121,0321, -34.4997, -26.0238,     4507,      6.6,  21.5824,  35.4868,    227.7,2,    234.7,3,     0.60,2,    -0.07,3,     0.00,2,     0.08,2,    1.273,2,   1.6670,2,   2069.3,2,   2335.7,2,20170121,0432
06M220170104  ,A10.5      ,80      ,  1,80121.0    ,241241.0   ,21         ,2,20170121,0321, -34.4997, -26.0238,     4507,     24.3,  20.1987,  35.5812,    234.4,2,     -999,9,     -999,9,     -999,9,     -999,9,     -999,9,     -999,9,     -999,9,     -999,9,     -999,9,20170121,0431
06M220170104  ,A10.5      ,80      ,  1,80120.0    ,241240.0   ,20         ,2,20170121,0321, -34.4997, -26.0238,     4507,     49.0,  18.1871,  35.7104,    241.6,2,    242.6,2,     0.62,2,    -0.06,3,     0.00,2,     0.07,2,    1.400,2,   1.7550,2,   2079.3,2,   2349.2,2,20170121,0430
06M220170104  ,A10.5      ,80      ,  1,80119.0    ,241239.0   ,19         ,2,20170121,0321, -34.4997, -26.0238,     4507,    103.2,  16.1530,  35.5959,    224.0,2,     -999,9,     -999,9,     -999,9,     -999,9,     -999,9,     -999,9,     -999,9,     -999,9,     -999,9,20170121,0428
06M220170104  ,A10.5      ,80      ,  1,80118.0    ,241238.0   ,18         ,2,20170121,0321, -34.4997, -26.0238,     4507,    148.4,  15.3483,  35.5414,    223.7,2,    224.8,2,     1.23,2,     3.54,3,     0.02,2,     0.34,2,    1.578,2,   1.8940,2,   2107.0,2,   2343.6,2,20170121,0427
06M220170104  ,A10.5      ,80      ,  1,80117.0    ,241237.0   ,17         ,2,20170121,0321, -34.4997, -26.0238,     4507,    247.9,  14.7654,  35.5707,    231.3,2,    231.7,2,     2.04,2,     6.16,3,     0.01,2,     0.76,2,    1.593,2,   1.8100,2,   2110.5,2,   2342.9,2,20170121,0426
06M220170104  ,A10.5      ,80      ,  1,80116.0    ,241236.0   ,16         ,2,20170121,0321, -34.4997, -26.0238,     4507,    386.8,  12.4813,  35.1566,    213.3,2,    215.2,2,     4.19,2,    14.28,3,     0.02,2,     1.06,2,    1.776,2,   1.6070,2,   2139.7,2,   2320.8,2,20170121,0423
06M220170104  ,A10.5      ,80      ,  1,80115.0    ,241235.0   ,15         ,2,20170121,0321, -34.4997, -26.0238,     4507,    462.1,  10.8825,  34.9241,    209.2,2,    210.5,2,     6.03,2,    20.05,3,     0.01,2,     1.31,2,     -999,9,     -999,9,   2140.8,2,   2307.2,2,20170121,0422
06M220170104  ,A10.5      ,80      ,  1,80114.0    ,241234.0   ,14         ,2,20170121,0321, -34.4997, -26.0238,     4507,    566.3,   9.0098,  34.6861,    207.9,2,    209.3,2,     8.51,2,    22.25,3,     0.01,2,     1.68,2,    1.856,2,   1.3180,2,   2150.4,2,   2296.0,2,20170121,0420
06M220170104  ,A10.5      ,80      ,  1,80113.0    ,241233.0   ,13         ,2,20170121,0321, -34.4997, -26.0238,     4507,    647.5,   7.1721,  34.4546,    224.0,2,    217.1,4,    11.26,2,    27.64,3,     0.02,2,     1.92,2,     -999,9,     -999,9,     -999,9,     -999,9,20170121,0419
06M220170104  ,A10.5      ,80      ,  1,80112.0    ,241232.0   ,12         ,2,20170121,0321, -34.4997, -26.0238,     4507,    747.8,   5.2790,  34.2660,    243.1,2,    244.8,2,    15.49,2,    32.07,3,     0.01,2,     2.09,2,    2.098,2,   1.4910,2,     -999,9,     -999,9,20170121,0417
06M220170104  ,A10.5      ,80      ,  1,80111.0    ,241231.0   ,11         ,2,20170121,0321, -34.4997, -26.0238,     4507,    878.3,   4.2153,  34.2107,    246.0,2,    247.5,2,    22.54,2,    33.75,3,     0.00,2,     2.28,2,    1.960,2,   1.2600,2,   2169.9,2,   2286.8,2,20170121,0415
06M220170104  ,A10.5      ,80      ,  1,80110.0    ,241230.0   ,10         ,2,20170121,0321, -34.4997, -26.0238,     4507,   1009.1,   3.8161,  34.2513,    230.2,2,    231.3,2,    31.84,2,    38.66,3,     0.01,2,     2.69,3,    1.401,2,   0.8230,2,   2183.0,2,   2293.9,2,20170121,0413
06M220170104  ,A10.5      ,80      ,  1,80109.0    ,241229.0   ,9          ,2,20170121,0321, -34.4997, -26.0238,     4507,   1251.1,   3.1719,  34.3732,    201.2,2,    206.5,3,    43.08,2,    34.99,3,     0.00,2,     2.02,3,     -999,9,     -999,9,   2207.5,2,     -999,9,20170121,0409
06M220170104  ,A10.5      ,80      ,  1,80108.0    ,241228.0   ,8          ,2,20170121,0321, -34.4997, -26.0238,     4507,   1496.7,   2.8910,  34.5421,    186.9,2,    188.9,2,    57.83,2,    36.62,3,     0.00,2,     2.34,3,    0.261,2,   0.1170,2,   2225.9,2,   2329.3,2,20170121,0405
06M220170104  ,A10.5      ,80      ,  1,80107.0    ,241227.0   ,7          ,2,20170121,0321, -34.4997, -26.0238,     4507,   1647.9,   2.8597,  34.6295,    189.3,2,    189.2,2,    69.88,2,    38.60,3,     0.02,2,     2.98,3,     -999,9,     -999,9,     -999,9,     -999,9,20170121,0402
06M220170104  ,A10.5      ,80      ,  1,80106.0    ,241226.0   ,6          ,2,20170121,0321, -34.4997, -26.0238,     4507,   2000.8,   2.8730,  34.7727,    208.4,2,    209.1,2,    51.26,2,    30.26,3,     0.01,2,     1.88,3,     -999,9,     -999,9,   2209.9,2,   2335.0,2,20170121,0356
06M220170104  ,A10.5      ,80      ,  1,80105.0    ,241225.0   ,5          ,2,20170121,0321, -34.4997, -26.0238,     4507,   2249.5,   2.8370,  34.8296,    223.0,2,    224.3,2,    49.44,2,    28.53,3,     0.00,2,     1.91,3,     -999,9,     -999,9,   2199.7,2,   2334.3,2,20170121,0352
06M220170104  ,A10.5      ,80      ,  1,80104.0    ,241224.0   ,4          ,2,20170121,0321, -34.4997, -26.0238,     4507,   2496.5,   2.8187,  34.8647,    233.0,2,    234.0,2,    50.44,2,    29.76,3,     0.01,2,     2.05,3,     -999,9,     -999,9,     -999,9,     -999,9,20170121,0348
06M220170104  ,A10.5      ,80      ,  1,80103.0    ,241223.0   ,3          ,2,20170121,0321, -34.4997, -26.0238,     4507,   2999.5,   2.6398,  34.8880,    243.1,2,    244.6,2,    49.27,2,    28.08,3,     0.01,2,     1.87,3,     -999,9,     -999,9,   2189.6,2,   2333.7,2,20170121,0339
06M220170104  ,A10.5      ,80      ,  1,80102.0    ,241222.0   ,2          ,2,20170121,0321, -34.4997, -26.0238,     4507,   3480.0,   2.1722,  34.8534,    240.4,2,    243.3,2,    58.24,2,    29.98,3,     0.01,2,     1.92,3,     -999,9,     -999,9,   2194.1,2,   2341.8,2,20170121,0331
06M220170104  ,A10.5      ,80      ,  1,80101.0    ,241221.0   ,1          ,2,20170121,0321, -34.4997, -26.0238,     4507,   4065.6,   1.4214,  34.7756,    228.8,2,    231.1,2,    90.91,2,    26.56,3,     0.01,2,     2.47,3,     -999,9,     -999,9,   2226.8,2,   2359.0,2,20170121,0321
06M220170104  ,A10.5      ,81      ,  1,81122.0    ,-999       ,22         ,2,20170121,0838, -34.4998, -26.6792,     4585,      7.8,  21.0272,  35.4023,    228.9,2,    229.7,2,    -0.92,2,     0.42,2,     0.02,2,     0.06,2,    1.291,2,   1.7180,2,   2065.0,2,   2332.3,2,20170121,0946
06M220170104  ,A10.5      ,81      ,  1,81121.0    ,-999       ,21         ,2,20170121,0838, -34.4998, -26.6792,     4585,     43.4,  17.9415,  35.5926,    244.2,2,    244.8,2,    -0.82,2,     0.45,2,     0.01,2,     0.08,2,     -999,9,     -999,9,   2075.7,2,   2345.1,2,20170121,0945
06M220170104  ,A10.5      ,81      ,  1,81120.0    ,-999       ,20         ,2,20170121,0838, -34.4998, -26.6792,     4585,     83.6,  16.3107,  35.6051,    240.6,2,    241.4,2,    -0.79,2,     0.48,2,     0.03,2,     0.14,2,    1.512,2,   1.8340,2,   2090.0,2,   2345.0,2,20170121,0943
06M220170104  ,A10.5      ,81      ,  1,81119.0    ,-999       ,19         ,2,20170121,0838, -34.4998, -26.6792,     4585,    178.6,  14.8821,  35.5731,    231.5,2,    231.8,2,     0.19,2,     4.99,2,     0.01,2,     0.41,2,    1.603,2,   1.8880,2,     -999,9,     -999,9,20170121,0941
06M220170104  ,A10.5      ,81      ,  1,81118.0    ,-999       ,18         ,2,20170121,0838, -34.4998, -26.6792,     4585,    215.6,  14.7510,  35.5713,    232.2,2,    232.1,2,     0.17,2,     5.15,2,     0.01,2,     0.40,2,    1.624,2,   1.9040,2,   2115.9,2,   2345.5,2,20170121,0941
06M220170104  ,A10.5      ,81      ,  1,81117.0    ,-999       ,17         ,2,20170121,0838, -34.4998, -26.6792,     4585,    396.4,  12.3916,  35.1512,    212.0,2,    213.5,2,     2.34,2,    11.81,2,     0.00,2,     0.88,2,    1.794,2,   1.5140,2,   2145.1,2,   2318.7,2,20170121,0938
06M220170104  ,A10.5      ,81      ,  1,81116.0    ,-999       ,16         ,2,20170121,0838, -34.4998, -26.6792,     4585,    496.8,  10.2571,  34.8376,    210.3,2,    212.6,2,     5.06,2,    17.93,2,     0.00,2,     1.20,2,    1.878,2,   1.4790,2,   2149.1,2,   2301.5,2,20170121,0936
06M220170104  ,A10.5      ,81      ,  1,81115.0    ,-999       ,15         ,2,20170121,0838, -34.4998, -26.6792,     4585,    823.6,   4.6395,  34.2235,    247.4,2,    249.0,2,    18.93,2,    31.93,2,     0.00,2,     2.08,2,    2.058,2,   1.4940,2,   2169.5,2,   2282.5,2,20170121,0931
06M220170104  ,A10.5      ,81      ,  1,81114.0    ,-999       ,14         ,2,20170121,0838, -34.4998, -26.6792,     4585,    999.4,   3.8642,  34.2669,    226.4,2,    237.1,4,    32.20,2,    34.65,2,     0.00,2,     2.28,2,    1.479,2,   0.8320,2,   2192.0,2,   2293.4,2,20170121,0928
06M220170104  ,A10.5      ,81      ,  1,81113.0    ,-999       ,13         ,2,20170121,0838, -34.4998, -26.6792,     4585,   1297.3,   3.1121,  34.4023,    196.8,2,    198.3,2,    52.02,2,    35.50,2,     0.00,2,     2.28,2,    0.647,2,   0.2880,2,   2223.5,2,   2315.9,2,20170121,0923
06M220170104  ,A10.5      ,81      ,  1,81112.0    ,-999       ,12         ,2,20170121,0838, -34.4998, -26.6792,     4585,   1597.3,   2.8605,  34.5999,    187.4,2,    188.6,2,    60.70,2,    32.44,2,     0.00,2,     2.20,2,    0.193,2,   0.0710,2,   2234.0,2,   2332.2,2,20170121,0919
06M220170104  ,A10.5      ,81      ,  1,81111.0    ,-999       ,11         ,2,20170121,0838, -34.4998, -26.6792,     4585,   1797.6,   2.8650,  34.7052,    196.7,2,    198.0,2,    55.34,2,    29.35,2,     0.00,2,     1.93,2,    0.096,2,   0.0000,2,     -999,9,     -999,9,20170121,0915
06M220170104  ,A10.5      ,81      ,  1,81110.0    ,-999       ,10         ,2,20170121,0838, -34.4998, -26.6792,     4585,   2095.4,   2.8626,  34.8014,    215.3,2,    217.3,2,    54.20,2,    28.78,2,     0.00,2,     1.88,2,    0.046,2,   0.0000,2,   2211.1,2,   2332.9,2,20170121,0911
06M220170104  ,A10.5      ,81      ,  1,81109.0    ,-999       ,9          ,2,20170121,0838, -34.4998, -26.6792,     4585,   2396.5,   2.8284,  34.8512,    229.1,2,    229.7,2,    50.14,3,    26.46,3,     0.01,3,     1.71,3,    0.026,2,   0.0000,2,     -999,9,     -999,9,20170121,0906
06M220170104  ,A10.5      ,81      ,  1,81108.0    ,-999       ,8          ,2,20170121,0838, -34.4998, -26.6792,     4585,   2398.2,   2.8280,  34.8516,    229.0,2,    230.2,2,    49.43,2,    25.44,2,     0.01,2,     1.64,2,    0.026,2,   0.0000,2,   2200.6,2,   2334.5,2,20170121,0906
06M220170104  ,A10.5      ,81      ,  1,81107.0    ,241249.0   ,7          ,2,20170121,0838, -34.4998, -26.6792,     4585,   2692.7,   2.7646,  34.8779,    237.9,2,    240.0,2,    46.32,2,    23.97,2,     0.01,2,     1.60,2,    0.024,2,   0.0000,2,     -999,9,     -999,9,20170121,0901
06M220170104  ,A10.5      ,81      ,  1,81106.0    ,241248.0   ,6          ,2,20170121,0838, -34.4998, -26.6792,     4585,   2997.1,   2.6150,  34.8847,    242.5,2,    244.0,2,    44.00,2,    21.22,2,     0.00,2,     1.41,2,    0.020,2,   0.0000,2,   2192.2,2,   2333.0,2,20170121,0856
06M220170104  ,A10.5      ,81      ,  1,81105.0    ,241247.0   ,5          ,2,20170121,0838, -34.4998, -26.6792,     4585,   3295.7,   2.3729,  34.8702,    242.4,2,    243.4,2,    52.66,2,    22.47,2,     0.00,2,     1.50,2,    0.020,2,   0.0000,2,     -999,9,     -999,9,20170121,0852
06M220170104  ,A10.5      ,81      ,  1,81104.0    ,241246.0   ,4          ,2,20170121,0838, -34.4998, -26.6792,     4585,   3594.9,   2.0368,  34.8406,    238.9,2,    237.5,2,    54.13,2,    20.51,3,     0.00,2,     1.42,3,    0.023,2,   0.0000,2,   2210.3,2,   2345.5,2,20170121,0847
06M220170104  ,A10.5      ,81      ,  1,81103.0    ,241245.0   ,3          ,2,20170121,0838, -34.4998, -26.6792,     4585,   3896.3,   1.6256,  34.7984,    232.5,2,    233.9,2,    87.65,2,    26.82,2,     0.00,2,     1.92,2,    0.044,2,   0.0000,2,     -999,9,     -999,9,20170121,0842
06M220170104  ,A10.5      ,81      ,  1,81102.0    ,241244.0   ,2          ,2,20170121,0838, -34.4998, -26.6792,     4585,   4121.7,   1.2865,  34.7604,    226.4,2,    227.5,2,   101.89,2,    27.66,3,     0.01,2,     1.98,2,    0.085,2,   0.0000,2,     -999,9,     -999,9,20170121,0838
06M220170104  ,A10.5      ,81      ,  1,81101.0    ,241243.0   ,1          ,2,20170121,0838, -34.4998, -26.6792,     4585,   4123.5,   1.2716,  34.7590,    226.4,2,    226.6,2,   112.28,3,    30.07,3,     0.04,3,     2.13,3,    0.089,2,   0.0000,2,   2239.3,2,   2359.7,2,20170121,0838