BOTTLE,20240228CCHSIOADS
EXPOCODE,SECT_ID,STNNBR,CASTNO,SAMPNO,BIONBR,BTLNBR,BTLNBR_FLAG_W,DATE,TIME,LATITUDE,LONGITUDE,DEPTH,CTDPRS,CTDTMP,CTDSAL,CTDOXY,CTDOXY_FLAG_W,OXYGEN,OXYGEN_FLAG_W,SILCAT,SILCAT_FLAG_W,NITRAT,NITRAT_FLAG_W,NITRIT,NITRIT_FLAG_W,PHSPHT,PHSPHT_FLAG_W,CFC-12,CFC-12_FLAG_W,SF6,SF6_FLAG_W,TCARBN,TCARBN_FLAG_W,ALKALI,ALKALI_FLAG_W,BTL_DATE,BTL_TIME
,,,,,,,,,,,,METERS,DBAR,ITS-90,PSS-78,UMOL/KG,,UMOL/KG,,UMOL/KG,,UMOL/KG,,UMOL/KG,,UMOL/KG,,PMOL/KG,,FMOL/KG,,UMOL/KG,,UMOL/KG,,,
06M220170104  ,A10.5      ,97      ,  1,97122.0    ,242116.0   ,22         ,2,20170125,0505, -34.4999, -36.5020,     4686,      8.8,  21.9657,  35.6996,    224.2,2,    222.5,2,    -1.11,2,     0.41,2,     0.00,2,     0.01,2,    1.212,2,   1.6780,2,   2061.2,2,   2348.4,2,20170125,0626
06M220170104  ,A10.5      ,97      ,  1,97121.0    ,242115.0   ,21         ,2,20170125,0505, -34.4999, -36.5020,     4686,     23.2,  21.4536,  35.7024,    226.0,2,    222.7,2,    -1.09,2,     0.39,2,     0.00,2,     0.01,2,    1.223,2,   1.5970,2,   2055.4,2,   2348.0,2,20170125,0625
06M220170104  ,A10.5      ,97      ,  1,97120.0    ,242114.0   ,20         ,2,20170125,0505, -34.4999, -36.5020,     4686,     48.7,  18.7597,  35.7373,    242.9,2,    243.2,2,    -1.05,2,     0.45,2,     0.01,2,     0.13,2,    1.421,2,   1.8020,2,   2071.9,2,   2351.9,2,20170125,0625
06M220170104  ,A10.5      ,97      ,  1,97119.0    ,242113.0   ,19         ,2,20170125,0505, -34.4999, -36.5020,     4686,    101.2,  16.4597,  35.7171,    242.3,2,      0.0,4,     -999,9,     -999,9,     -999,9,     -999,9,     -999,9,     -999,9,     -999,9,     -999,9,20170125,0623
06M220170104  ,A10.5      ,97      ,  1,97118.0    ,242112.0   ,18         ,2,20170125,0505, -34.4999, -36.5020,     4686,    157.0,  15.6216,  35.7384,    225.8,2,    224.7,2,    -0.09,2,     4.26,2,     0.01,2,     0.35,2,    1.565,2,   1.8690,2,   2113.6,2,   2354.4,2,20170125,0622
06M220170104  ,A10.5      ,97      ,  1,97117.0    ,242111.0   ,17         ,2,20170125,0505, -34.4999, -36.5020,     4686,    242.8,  14.3942,  35.4959,    216.3,2,    215.9,2,     0.70,2,     7.55,2,     0.02,2,     0.55,2,    1.642,2,   1.6790,2,     -999,9,     -999,9,20170125,0620
06M220170104  ,A10.5      ,97      ,  1,97116.0    ,242110.0   ,16         ,2,20170125,0505, -34.4999, -36.5020,     4686,    358.2,  12.9926,  35.2513,    213.5,2,    212.0,2,     1.90,2,    11.36,2,     0.01,2,     0.77,2,    1.729,2,   1.5870,2,   2132.2,2,   2324.6,2,20170125,0618
06M220170104  ,A10.5      ,97      ,  1,97115.0    ,242109.0   ,15         ,2,20170125,0505, -34.4999, -36.5020,     4686,    448.0,  11.0854,  34.9514,    211.7,2,    211.0,2,     3.62,2,    16.00,2,     0.00,2,     1.04,2,    1.809,2,   1.4990,2,     -999,9,     -999,9,20170125,0617
06M220170104  ,A10.5      ,97      ,  1,97114.0    ,242108.0   ,14         ,2,20170125,0505, -34.4999, -36.5020,     4686,    567.4,   8.4334,  34.6060,    213.8,2,    215.9,2,     7.77,2,    22.84,2,     0.00,2,     1.45,2,    1.902,2,   1.3430,2,   2155.9,2,   2294.0,2,20170125,0615
06M220170104  ,A10.5      ,97      ,  1,97113.0    ,242107.0   ,13         ,2,20170125,0505, -34.4999, -36.5020,     4686,    651.2,   6.3635,  34.3650,    232.3,2,    233.8,2,    10.51,2,    26.98,2,     0.00,2,     1.64,2,    2.022,2,   1.4060,2,     -999,9,     -999,9,20170125,0613
06M220170104  ,A10.5      ,97      ,  1,97112.0    ,242106.0   ,12         ,2,20170125,0505, -34.4999, -36.5020,     4686,    777.5,   4.8072,  34.2172,    254.7,2,    253.1,2,    12.78,3,    25.96,3,     0.02,3,     1.73,3,    2.130,2,   1.6710,2,     -999,9,     -999,9,20170125,0611
06M220170104  ,A10.5      ,97      ,  1,97111.0    ,242105.0   ,11         ,2,20170125,0505, -34.4999, -36.5020,     4686,    846.2,   4.5336,  34.2259,    246.5,2,    245.7,2,    18.41,2,    30.03,2,     0.00,2,     1.90,2,    1.966,2,   1.3680,2,   2172.4,2,   2284.9,2,20170125,0610
06M220170104  ,A10.5      ,97      ,  1,97110.0    ,242104.0   ,10         ,2,20170125,0505, -34.4999, -36.5020,     4686,   1012.9,   3.8320,  34.2473,    230.5,2,    229.2,2,    28.95,2,    31.92,2,     0.00,2,     2.03,2,    1.528,2,   0.8380,2,     -999,9,     -999,9,20170125,0607
06M220170104  ,A10.5      ,97      ,  1,97109.0    ,242103.0   ,9          ,2,20170125,0505, -34.4999, -36.5020,     4686,   1306.7,   3.1106,  34.3825,    197.7,2,    197.7,2,    44.85,3,    28.07,3,     0.00,3,     2.05,3,    0.738,2,   0.3440,2,   2226.4,2,   2313.1,2,20170125,0602
06M220170104  ,A10.5      ,97      ,  1,97108.0    ,242102.0   ,8          ,2,20170125,0505, -34.4999, -36.5020,     4686,   1593.7,   2.9111,  34.5601,    184.7,2,     -999,9,     -999,9,     -999,9,     -999,9,     -999,9,     -999,9,     -999,9,     -999,9,     -999,9,20170125,0557
06M220170104  ,A10.5      ,97      ,  1,97107.0    ,242101.0   ,7          ,2,20170125,0505, -34.4999, -36.5020,     4686,   1596.4,   2.9105,  34.5631,    184.9,2,    183.3,2,    65.31,2,    34.93,2,     0.00,2,     2.34,2,    0.234,2,   0.0750,2,   2237.0,2,   2328.9,2,20170125,0557
06M220170104  ,A10.5      ,97      ,  1,97106.0    ,242100.0   ,6          ,2,20170125,0505, -34.4999, -36.5020,     4686,   1967.2,   3.0050,  34.7531,    197.6,2,    198.5,2,    62.21,3,    31.86,3,     0.00,3,     2.03,3,    0.117,2,   0.0720,2,   2227.8,2,   2333.6,2,20170125,0551
06M220170104  ,A10.5      ,97      ,  1,97105.0    ,242099.0   ,5          ,2,20170125,0505, -34.4999, -36.5020,     4686,   2556.7,   2.8872,  34.8715,    228.5,2,    227.1,2,    46.74,3,    23.81,3,     0.00,3,     1.58,3,    0.089,2,   0.0500,2,   2211.7,2,   2332.8,2,20170125,0541
06M220170104  ,A10.5      ,97      ,  1,97104.0    ,242098.0   ,4          ,2,20170125,0505, -34.4999, -36.5020,     4686,   3497.6,   1.3712,  34.7420,    209.7,2,     -999,9,     -999,9,     -999,9,     -999,9,     -999,9,     -999,9,     -999,9,     -999,9,     -999,9,20170125,0525
06M220170104  ,A10.5      ,97      ,  1,97103.0    ,242097.0   ,3          ,2,20170125,0505, -34.4999, -36.5020,     4686,   3997.7,   0.6656,  34.6960,    216.0,2,    215.1,2,   117.19,3,    34.31,3,     0.00,3,     2.23,3,    0.176,2,   0.0780,2,   2252.4,2,   2367.8,2,20170125,0517
06M220170104  ,A10.5      ,97      ,  1,97102.0    ,242096.0   ,2          ,2,20170125,0505, -34.4999, -36.5020,     4686,   4396.9,   0.3046,  34.6761,    221.6,2,    220.7,2,   129.77,3,    32.47,3,     0.00,3,     2.14,3,    0.213,2,   0.1230,2,   2259.4,2,   2370.8,2,20170125,0510
06M220170104  ,A10.5      ,97      ,  1,97101.0    ,242095.0   ,1          ,2,20170125,0505, -34.4999, -36.5020,     4686,   4675.7,   0.2718,  34.6728,    222.4,2,    224.7,2,   140.04,3,    34.99,3,     0.00,3,     2.28,3,    0.253,2,   0.1150,2,   2265.8,2,   2368.5,2,20170125,0505
06M220170104  ,A10.5      ,98      ,  1,98122.0    ,242138.0   ,22         ,2,20170125,1037, -34.4999, -37.1575,     4587,      7.8,  21.2407,  35.7370,    226.6,2,    225.2,2,    -1.10,2,     0.39,2,     0.01,2,     0.04,2,    1.262,2,   1.6280,2,   2067.1,2,   2353.7,2,20170125,1155
06M220170104  ,A10.5      ,98      ,  1,98121.0    ,242137.0   ,21         ,2,20170125,1037, -34.4999, -37.1575,     4587,     58.2,  18.1735,  35.7509,    242.4,2,    241.5,2,    -1.04,2,     0.15,2,     0.00,2,     0.09,2,    1.413,2,   1.8550,2,   2080.5,2,   2354.4,2,20170125,1153
06M220170104  ,A10.5      ,98      ,  1,98120.0    ,242136.0   ,20         ,2,20170125,1037, -34.4999, -37.1575,     4587,     86.5,  17.2056,  35.7802,    237.5,2,    238.9,2,     -999,9,     -999,9,     -999,9,     -999,9,    1.457,2,   1.7970,2,   2088.4,2,   2360.4,2,20170125,1152
06M220170104  ,A10.5      ,98      ,  1,98119.0    ,242135.0   ,19         ,2,20170125,1037, -34.4999, -37.1575,     4587,    167.7,  15.4864,  35.6838,    216.2,2,     -999,9,     -999,9,     -999,9,     -999,9,     -999,9,     -999,9,     -999,9,     -999,9,     -999,9,20170125,1151
06M220170104  ,A10.5      ,98      ,  1,98118.0    ,242134.0   ,18         ,2,20170125,1037, -34.4999, -37.1575,     4587,    322.2,  13.3558,  35.2982,    214.1,2,    213.4,2,     1.10,2,     9.14,2,     0.01,2,     0.67,2,    1.708,2,   1.5760,2,   2131.7,2,   2325.5,2,20170125,1148
06M220170104  ,A10.5      ,98      ,  1,98117.0    ,242133.0   ,17         ,2,20170125,1037, -34.4999, -37.1575,     4587,    471.5,  10.8191,  34.9103,    212.2,2,    212.1,2,     3.55,2,    15.48,2,     0.01,2,     1.12,2,    1.863,2,   1.5850,2,   2138.4,2,   2307.7,2,20170125,1146
06M220170104  ,A10.5      ,98      ,  1,98116.0    ,242132.0   ,16         ,2,20170125,1037, -34.4999, -37.1575,     4587,    647.1,   5.9710,  34.2856,    249.0,2,    249.0,2,     8.76,2,    24.73,2,     0.02,2,     1.60,2,    2.242,2,   1.9030,2,   2150.9,2,   2284.4,2,20170125,1143
06M220170104  ,A10.5      ,98      ,  1,98115.0    ,242131.0   ,15         ,2,20170125,1037, -34.4999, -37.1575,     4587,    849.4,   4.4109,  34.1979,    256.3,2,    255.4,2,    16.58,2,    29.63,2,     0.01,2,     1.88,2,    2.167,2,   1.6530,2,   2160.9,2,   2285.4,2,20170125,1139
06M220170104  ,A10.5      ,98      ,  1,98114.0    ,242130.0   ,14         ,2,20170125,1037, -34.4999, -37.1575,     4587,    997.2,   3.9374,  34.2489,    231.0,2,    231.2,2,    26.83,2,    32.83,2,     0.00,2,     2.07,2,    1.575,2,   0.8890,2,     -999,9,     -999,9,20170125,1137
06M220170104  ,A10.5      ,98      ,  1,98113.0    ,242129.0   ,13         ,2,20170125,1037, -34.4999, -37.1575,     4587,   1147.0,   3.4675,  34.3018,    215.0,2,    214.6,2,    34.28,2,    29.77,3,     0.00,3,     2.04,3,    1.147,2,   0.6070,2,   2196.3,2,   2300.8,2,20170125,1134
06M220170104  ,A10.5      ,98      ,  1,98112.0    ,242128.0   ,12         ,2,20170125,1037, -34.4999, -37.1575,     4587,   1298.2,   3.1383,  34.3826,    198.6,2,    198.0,2,    48.41,2,    36.46,2,     0.00,2,     2.31,2,    0.731,2,   0.3480,2,   2214.7,2,   2313.1,2,20170125,1132
06M220170104  ,A10.5      ,98      ,  1,98111.0    ,242127.0   ,11         ,2,20170125,1037, -34.4999, -37.1575,     4587,   1538.0,   2.9160,  34.5420,    183.6,2,    183.3,2,    53.50,2,    31.23,2,     0.00,2,     2.05,2,    0.271,2,   0.1020,2,   2228.3,2,   2327.7,2,20170125,1128
06M220170104  ,A10.5      ,98      ,  1,98110.0    ,242126.0   ,10         ,2,20170125,1037, -34.4999, -37.1575,     4587,   1847.3,   2.9576,  34.7180,    196.8,2,     -999,9,     -999,9,     -999,9,     -999,9,     -999,9,     -999,9,     -999,9,     -999,9,     -999,9,20170125,1123
06M220170104  ,A10.5      ,98      ,  1,98109.0    ,242125.0   ,9          ,2,20170125,1037, -34.4999, -37.1575,     4587,   2146.0,   3.1042,  34.8470,    221.6,2,    221.6,2,    44.34,2,    25.63,2,     0.00,2,     1.66,2,     -999,9,     -999,9,   2195.5,2,   2330.2,2,20170125,1118
06M220170104  ,A10.5      ,98      ,  1,98108.0    ,242124.0   ,8          ,2,20170125,1037, -34.4999, -37.1575,     4587,   2147.9,   3.1033,  34.8475,    221.8,2,     -999,9,     -999,9,     -999,9,     -999,9,     -999,9,     -999,9,     -999,9,     -999,9,     -999,9,20170125,1118
06M220170104  ,A10.5      ,98      ,  1,98107.0    ,242123.0   ,7          ,2,20170125,1037, -34.4999, -37.1575,     4587,   2546.2,   3.0468,  34.9115,    242.6,2,    242.9,2,    35.57,2,    23.49,2,     0.00,2,     1.48,2,     -999,9,     -999,9,     -999,9,     -999,9,20170125,1111
06M220170104  ,A10.5      ,98      ,  1,98106.0    ,242122.0   ,6          ,2,20170125,1037, -34.4999, -37.1575,     4587,   2840.8,   2.8649,  34.9134,    246.4,2,    243.7,2,    36.59,2,    23.10,2,     0.01,2,     1.47,2,     -999,9,     -999,9,   2172.3,2,   2330.3,2,20170125,1106
06M220170104  ,A10.5      ,98      ,  1,98105.0    ,242121.0   ,5          ,2,20170125,1037, -34.4999, -37.1575,     4587,   3148.3,   2.5172,  34.8818,    240.8,2,    239.7,2,    48.88,2,    24.60,2,     0.01,2,     1.60,2,     -999,9,     -999,9,     -999,9,     -999,9,20170125,1101
06M220170104  ,A10.5      ,98      ,  1,98104.0    ,242120.0   ,4          ,2,20170125,1037, -34.4999, -37.1575,     4587,   3365.0,   1.8626,  34.7885,    216.5,2,    215.8,2,    81.19,3,    27.68,2,     0.00,2,     1.89,3,     -999,9,     -999,9,   2220.2,2,   2349.8,2,20170125,1058
06M220170104  ,A10.5      ,98      ,  1,98103.0    ,242119.0   ,3          ,2,20170125,1037, -34.4999, -37.1575,     4587,   3541.5,   1.4892,  34.7523,    211.1,2,    209.8,2,    95.50,3,    31.81,2,     0.00,2,     2.05,3,     -999,9,     -999,9,   2237.4,2,   2358.9,2,20170125,1055
06M220170104  ,A10.5      ,98      ,  1,98102.0    ,242118.0   ,2          ,2,20170125,1037, -34.4999, -37.1575,     4587,   4197.4,   0.4300,  34.6837,    219.5,2,    210.0,4,    85.91,3,    25.20,3,     0.00,3,     1.93,3,     -999,9,     -999,9,   2240.8,2,   2357.2,3,20170125,1044
06M220170104  ,A10.5      ,98      ,  1,98101.0    ,242117.0   ,1          ,2,20170125,1037, -34.4999, -37.1575,     4587,   4541.1,   0.2519,  34.6667,    221.4,2,    219.6,2,   137.99,3,    32.11,2,     0.01,2,     2.30,2,     -999,9,     -999,9,   2255.2,2,   2369.3,2,20170125,1037
06M220170104  ,A10.5      ,99      ,  1,99122.0    ,242160.0   ,22         ,2,20170125,1609, -34.4999, -37.8119,     4680,      7.1,  21.4765,  35.6887,    226.0,2,    226.8,2,     0.20,2,     0.02,3,    -0.01,3,     0.04,3,    1.243,2,   1.6500,2,   2073.1,2,   2345.8,2,20170125,1731
06M220170104  ,A10.5      ,99      ,  1,99121.0    ,242159.0   ,21         ,2,20170125,1609, -34.4999, -37.8119,     4680,     16.8,  20.7101,  35.6558,    228.8,2,    229.5,2,     0.66,2,     0.00,3,     0.00,3,     0.08,3,    1.394,2,   1.8540,4,   2075.8,2,   2345.4,2,20170125,1731
06M220170104  ,A10.5      ,99      ,  1,99120.0    ,242158.0   ,20         ,2,20170125,1609, -34.4999, -37.8119,     4680,     47.2,  19.0235,  35.7271,    240.2,2,    241.7,2,     0.47,2,     0.07,3,     0.00,3,     0.28,3,     -999,9,     -999,9,   2084.9,2,   2349.7,2,20170125,1730
06M220170104  ,A10.5      ,99      ,  1,99119.0    ,242157.0   ,19         ,2,20170125,1609, -34.4999, -37.8119,     4680,    108.5,  16.1952,  35.7274,    233.6,2,     -999,9,     -999,9,     -999,9,     -999,9,     -999,9,     -999,9,     -999,9,     -999,9,     -999,9,20170125,1728
06M220170104  ,A10.5      ,99      ,  1,99118.0    ,242156.0   ,18         ,2,20170125,1609, -34.4999, -37.8119,     4680,    244.3,  15.0792,  35.6650,    227.4,2,    227.1,2,     1.56,2,     4.90,3,     0.01,3,     1.48,3,    1.455,2,   1.9290,2,     -999,9,     -999,9,20170125,1726
06M220170104  ,A10.5      ,99      ,  1,99117.0    ,242155.0   ,17         ,2,20170125,1609, -34.4999, -37.8119,     4680,    345.6,  14.4846,  35.5638,    223.3,2,    223.3,2,     2.07,2,     6.79,3,     0.01,3,     1.96,3,    1.513,2,   1.9630,2,   2125.3,2,   2342.5,2,20170125,1724
06M220170104  ,A10.5      ,99      ,  1,99116.0    ,242154.0   ,16         ,2,20170125,1609, -34.4999, -37.8119,     4680,    471.8,  12.1998,  35.1294,    214.9,2,    214.4,2,     4.22,2,    12.74,3,     0.01,3,     3.08,3,    1.681,2,   1.7210,2,   2141.0,2,   2314.6,2,20170125,1722
06M220170104  ,A10.5      ,99      ,  1,99115.0    ,242153.0   ,15         ,2,20170125,1609, -34.4999, -37.8119,     4680,    526.8,  10.7982,  34.9082,    213.0,2,    213.9,2,     4.02,2,    13.53,3,     0.01,3,     3.18,3,    1.743,2,   1.6640,2,   2148.0,2,   2304.9,2,20170125,1721
06M220170104  ,A10.5      ,99      ,  1,99114.0    ,242152.0   ,14         ,2,20170125,1609, -34.4999, -37.8119,     4680,    660.6,   6.7187,  34.3537,    241.5,2,    242.5,2,     9.50,2,    22.32,3,     0.00,3,     4.94,3,    2.015,2,   2.0890,3,     -999,9,     -999,9,20170125,1719
06M220170104  ,A10.5      ,99      ,  1,99113.0    ,242151.0   ,13         ,2,20170125,1609, -34.4999, -37.8119,     4680,    764.0,   5.3319,  34.2515,    249.9,2,    250.3,2,    12.51,2,    24.14,3,     0.01,3,     5.40,3,    2.093,2,   1.9260,2,     -999,9,     -999,9,20170125,1718
06M220170104  ,A10.5      ,99      ,  1,99112.0    ,242150.0   ,12         ,2,20170125,1609, -34.4999, -37.8119,     4680,    835.8,   4.6581,  34.2078,    255.6,2,    253.1,2,    15.90,2,    26.28,3,     0.02,3,     5.88,3,    2.012,2,   1.7090,2,   2170.0,2,   2280.9,2,20170125,1716
06M220170104  ,A10.5      ,99      ,  1,99111.0    ,242149.0   ,11         ,2,20170125,1609, -34.4999, -37.8119,     4680,   1017.5,   3.8644,  34.2411,    232.7,2,    233.1,2,    27.14,2,    29.57,3,     0.02,3,     6.31,3,    1.531,2,   1.0230,2,   2190.4,2,   2291.5,2,20170125,1714
06M220170104  ,A10.5      ,99      ,  1,99110.0    ,242148.0   ,10         ,2,20170125,1609, -34.4999, -37.8119,     4680,   1282.6,   3.1355,  34.3829,    198.4,2,     -999,9,     -999,9,     -999,9,     -999,9,     -999,9,     -999,9,     -999,9,     -999,9,     -999,9,20170125,1709
06M220170104  ,A10.5      ,99      ,  1,99109.0    ,242147.0   ,9          ,2,20170125,1609, -34.4999, -37.8119,     4680,   1575.1,   2.9087,  34.5560,    184.4,2,    184.6,2,    53.46,3,    30.08,3,     0.00,3,     6.71,3,    0.244,2,   0.0680,2,   2240.4,2,   2326.7,2,20170125,1704
06M220170104  ,A10.5      ,99      ,  1,99108.0    ,242146.0   ,8          ,2,20170125,1609, -34.4999, -37.8119,     4680,   1774.1,   2.9448,  34.6674,    189.7,2,     -999,9,     -999,9,     -999,9,     -999,9,     -999,9,     -999,9,     -999,9,     -999,9,     -999,9,20170125,1659
06M220170104  ,A10.5      ,99      ,  1,99107.0    ,242145.0   ,7          ,2,20170125,1609, -34.4999, -37.8119,     4680,   1775.2,   2.9456,  34.6682,    189.9,2,    189.1,2,    61.80,2,    31.27,3,     0.01,3,     6.68,3,    0.126,2,   0.0540,2,   2233.5,2,   2332.7,2,20170125,1659
06M220170104  ,A10.5      ,99      ,  1,99106.0    ,242144.0   ,6          ,2,20170125,1609, -34.4999, -37.8119,     4680,   2007.1,   3.0634,  34.7902,    207.4,2,    204.3,2,    54.04,2,    27.75,3,     0.01,3,     5.59,3,    0.094,2,   0.0000,2,     -999,9,     -999,9,20170125,1655
06M220170104  ,A10.5      ,99      ,  1,99105.0    ,242143.0   ,5          ,2,20170125,1609, -34.4999, -37.8119,     4680,   2497.4,   3.1519,  34.9146,    242.3,2,    246.7,3,    37.62,2,    23.25,3,     0.00,3,     4.96,3,    0.092,2,   0.0000,2,   2177.4,2,   2328.6,2,20170125,1646
06M220170104  ,A10.5      ,99      ,  1,99104.0    ,242142.0   ,4          ,2,20170125,1609, -34.4999, -37.8119,     4680,   2998.2,   2.8386,  34.9129,    247.0,2,    250.1,2,    33.43,2,    21.62,3,     0.02,3,     4.28,3,    0.063,2,   0.0000,2,   2177.2,2,   2329.9,2,20170125,1638
06M220170104  ,A10.5      ,99      ,  1,99103.0    ,242141.0   ,3          ,2,20170125,1609, -34.4999, -37.8119,     4680,   3497.7,   1.9673,  34.8319,    234.9,2,    232.5,2,    73.98,3,    27.44,3,     0.04,3,     5.43,3,    0.051,2,   0.0930,2,   2207.6,2,   2339.9,2,20170125,1629
06M220170104  ,A10.5      ,99      ,  1,99102.0    ,242140.0   ,2          ,2,20170125,1609, -34.4999, -37.8119,     4680,   3999.3,   0.9458,  34.7164,    214.9,2,    230.3,4,    70.30,2,    26.22,3,     0.03,3,     4.98,3,    0.052,2,   0.0580,2,   2209.4,3,   2348.4,3,20170125,1621
06M220170104  ,A10.5      ,99      ,  1,99101.0    ,242139.0   ,1          ,2,20170125,1609, -34.4999, -37.8119,     4680,   4670.2,   0.2603,  34.6723,    222.1,2,    225.7,2,   108.95,2,    28.02,3,     0.02,3,     5.66,3,    0.251,2,   0.0450,2,   2256.7,2,   2367.3,2,20170125,1609