BOTTLE,20240228CCHSIOADS
EXPOCODE,SECT_ID,STNNBR,CASTNO,SAMPNO,BIONBR,BTLNBR,BTLNBR_FLAG_W,DATE,TIME,LATITUDE,LONGITUDE,DEPTH,CTDPRS,CTDTMP,CTDSAL,CTDOXY,CTDOXY_FLAG_W,OXYGEN,OXYGEN_FLAG_W,SILCAT,SILCAT_FLAG_W,NITRAT,NITRAT_FLAG_W,NITRIT,NITRIT_FLAG_W,PHSPHT,PHSPHT_FLAG_W,CFC-12,CFC-12_FLAG_W,SF6,SF6_FLAG_W,TCARBN,TCARBN_FLAG_W,ALKALI,ALKALI_FLAG_W,BTL_DATE,BTL_TIME
,,,,,,,,,,,,METERS,DBAR,ITS-90,PSS-78,UMOL/KG,,UMOL/KG,,UMOL/KG,,UMOL/KG,,UMOL/KG,,UMOL/KG,,PMOL/KG,,FMOL/KG,,UMOL/KG,,UMOL/KG,,,
06M220170104  ,A10.5      ,21      ,  1,21122.0    ,241462.0   ,22         ,2,20170108,0145, -34.4986,  10.6499,     5095,      8.0,  19.6221,  35.6117,    236.4,2,    239.9,2,     1.17,2,    -0.18,2,     0.00,2,     0.03,2,     -999,9,     -999,9,   2070.8,2,   2344.0,2,20170108,0314
06M220170104  ,A10.5      ,21      ,  1,21121.0    ,241461.0   ,21         ,2,20170108,0145, -34.4986,  10.6499,     5095,     22.1,  19.5705,  35.6108,    236.9,2,    241.6,2,     1.30,2,    -0.20,2,     0.00,2,     0.04,2,    1.241,2,   1.6960,2,   2072.6,2,   2343.1,2,20170108,0314
06M220170104  ,A10.5      ,21      ,  1,21120.0    ,241460.0   ,20         ,2,20170108,0145, -34.4986,  10.6499,     5095,     69.3,  16.4247,  35.4447,    248.0,2,    247.8,2,     1.72,2,     0.38,2,     0.15,2,     0.13,2,     -999,9,     -999,9,   2079.0,2,   2332.6,2,20170108,0310
06M220170104  ,A10.5      ,21      ,  1,21119.0    ,241459.0   ,19         ,2,20170108,0145, -34.4986,  10.6499,     5095,    100.1,  15.3776,  35.3176,    242.7,2,    243.3,2,     1.57,2,     1.48,2,     0.46,2,     0.20,2,    1.461,2,   1.8020,2,     -999,9,     -999,9,20170108,0309
06M220170104  ,A10.5      ,21      ,  1,21118.0    ,241458.0   ,18         ,2,20170108,0145, -34.4986,  10.6499,     5095,    129.4,  15.0098,  35.2733,    240.7,2,    241.1,2,     2.04,2,     3.37,2,     0.09,2,     0.34,2,     -999,9,     -999,9,   2094.5,2,   2324.6,2,20170108,0309
06M220170104  ,A10.5      ,21      ,  1,21117.0    ,241457.0   ,17         ,2,20170108,0145, -34.4986,  10.6499,     5095,    235.7,  13.6773,  35.2016,    220.3,2,    223.4,3,     2.54,2,     7.70,2,     0.01,2,     0.51,2,    1.538,2,   1.7320,2,     -999,9,     -999,9,20170108,0307
06M220170104  ,A10.5      ,21      ,  1,21116.0    ,241456.0   ,16         ,2,20170108,0145, -34.4986,  10.6499,     5095,    360.1,  11.9339,  35.0315,    214.6,2,    217.7,3,     4.11,2,    12.04,2,     0.00,2,     0.86,2,    1.674,2,   1.6060,2,   2135.4,2,   2311.8,2,20170108,0305
06M220170104  ,A10.5      ,21      ,  1,21115.0    ,241455.0   ,15         ,2,20170108,0145, -34.4986,  10.6499,     5095,    499.7,   9.5651,  34.7336,    207.7,2,    209.5,2,     8.09,2,    17.77,2,     0.01,2,     1.24,2,    1.632,2,   1.3440,2,   2156.5,2,   2297.9,2,20170108,0302
06M220170104  ,A10.5      ,21      ,  1,21114.0    ,241454.0   ,14         ,2,20170108,0145, -34.4986,  10.6499,     5095,    601.6,   8.0330,  34.5657,    206.6,2,    210.2,2,    11.34,2,    22.77,2,     0.00,2,     1.58,2,    1.678,2,   1.2250,2,     -999,9,     -999,9,20170108,0300
06M220170104  ,A10.5      ,21      ,  1,21113.0    ,241453.0   ,13         ,2,20170108,0145, -34.4986,  10.6499,     5095,    747.2,   5.7006,  34.3501,    220.4,2,    221.4,2,    17.25,2,    27.37,2,     0.00,2,     1.90,2,    1.621,2,   1.0530,2,     -999,9,     -999,9,20170108,0258
06M220170104  ,A10.5      ,21      ,  1,21112.0    ,241452.0   ,12         ,2,20170108,0145, -34.4986,  10.6499,     5095,    848.1,   4.8641,  34.3157,    219.7,2,    222.1,2,    22.48,2,    26.82,3,     0.01,3,     2.14,2,    1.459,2,   0.9010,2,   2191.3,2,   2293.0,2,20170108,0256
06M220170104  ,A10.5      ,21      ,  1,21111.0    ,241451.0   ,11         ,2,20170108,0145, -34.4986,  10.6499,     5095,    966.9,   4.2462,  34.3429,    207.3,2,    213.2,3,    41.32,3,    43.40,3,     0.04,2,     2.82,3,    1.122,2,   0.6210,2,   2203.3,2,   2303.2,2,20170108,0254
06M220170104  ,A10.5      ,21      ,  1,21110.0    ,241450.0   ,10         ,2,20170108,0145, -34.4986,  10.6499,     5095,   1296.9,   3.2010,  34.4936,    181.0,2,    182.7,2,    73.18,2,    44.35,3,     0.01,2,     3.36,3,    0.432,2,   0.1690,2,   2242.5,2,   2323.9,2,20170108,0249
06M220170104  ,A10.5      ,21      ,  1,21109.0    ,241449.0   ,9          ,2,20170108,0145, -34.4986,  10.6499,     5095,   1437.4,   3.0044,  34.5770,    179.1,2,    182.9,3,    72.14,2,    39.88,3,     0.01,2,     2.72,3,    0.238,2,   0.0750,2,     -999,9,     -999,9,20170108,0246
06M220170104  ,A10.5      ,21      ,  1,21108.0    ,241448.0   ,8          ,2,20170108,0145, -34.4986,  10.6499,     5095,   1709.1,   2.8632,  34.7048,    191.2,2,    195.6,3,    59.32,3,    29.48,3,     0.00,3,     2.06,2,    0.094,2,   0.0630,2,   2237.1,2,   2334.6,2,20170108,0242
06M220170104  ,A10.5      ,21      ,  1,21107.0    ,241447.0   ,7          ,2,20170108,0145, -34.4986,  10.6499,     5095,   1957.9,   2.7861,  34.7763,    204.6,2,    208.0,2,    72.38,3,    34.50,3,     0.01,2,     2.44,3,    0.046,2,   0.0000,2,   2221.4,2,   2337.4,2,20170108,0237
06M220170104  ,A10.5      ,21      ,  1,21106.0    ,241446.0   ,6          ,2,20170108,0145, -34.4986,  10.6499,     5095,   2517.7,   2.5652,  34.8407,    224.2,2,    227.6,2,    58.13,3,    30.42,2,     0.01,2,     2.15,3,    0.026,2,   0.0000,2,   2213.0,2,   2338.0,2,20170108,0228
06M220170104  ,A10.5      ,21      ,  1,21105.0    ,241445.0   ,5          ,2,20170108,0145, -34.4986,  10.6499,     5095,   2996.7,   2.3589,  34.8466,    229.0,2,    232.4,2,    53.14,2,    25.22,2,     0.01,2,     1.50,2,     -999,9,     -999,9,   2212.7,2,   2347.9,2,20170108,0220
06M220170104  ,A10.5      ,21      ,  1,21104.0    ,241444.0   ,4          ,2,20170108,0145, -34.4986,  10.6499,     5095,   3497.4,   2.1289,  34.8368,    228.9,2,    231.8,2,    63.25,2,    26.08,2,     0.01,2,     1.79,3,     -999,9,     -999,9,   2225.7,2,   2352.0,2,20170108,0211
06M220170104  ,A10.5      ,21      ,  1,21103.0    ,241443.0   ,3          ,2,20170108,0145, -34.4986,  10.6499,     5095,   3998.9,   1.4885,  34.7720,    221.4,2,    223.1,2,    84.70,2,    28.71,2,     0.01,2,     1.84,2,     -999,9,     -999,9,     -999,9,     -999,9,20170108,0203
06M220170104  ,A10.5      ,21      ,  1,21102.0    ,241442.0   ,2          ,2,20170108,0145, -34.4986,  10.6499,     5095,   4496.5,   1.1673,  34.7398,    219.5,2,    221.3,2,    91.03,3,    27.99,3,     0.00,2,     2.01,2,     -999,9,     -999,9,   2259.8,2,   2369.8,2,20170108,0155
06M220170104  ,A10.5      ,21      ,  1,21101.0    ,241441.0   ,1          ,2,20170108,0145, -34.4986,  10.6499,     5095,   5085.0,   1.1262,  34.7291,    219.0,2,    235.4,4,   124.04,2,    39.49,3,     0.02,4,     2.80,3,     -999,9,     -999,9,   2260.0,2,   2370.3,2,20170108,0145
06M220170104  ,A10.5      ,22      ,  1,22122.0    ,241484.0   ,22         ,2,20170108,0745, -34.4995,   9.9959,     5114,      7.8,  19.7880,  35.5564,    236.0,2,    236.9,2,     1.79,2,    -0.16,3,     0.00,2,     0.06,3,    1.254,2,   1.7300,2,   2068.1,2,   2340.3,2,20170108,0920
06M220170104  ,A10.5      ,22      ,  1,22121.0    ,241483.0   ,21         ,2,20170108,0745, -34.4995,   9.9959,     5114,     13.3,  19.7884,  35.5566,    236.6,2,    235.0,2,     1.70,2,    -0.19,3,     0.01,2,     0.06,3,     -999,9,     -999,9,   2067.8,2,   2341.8,2,20170108,0920
06M220170104  ,A10.5      ,22      ,  1,22120.0    ,241482.0   ,20         ,2,20170108,0745, -34.4995,   9.9959,     5114,     23.8,  19.4920,  35.5379,    237.4,2,    239.5,2,     1.59,2,    -0.07,3,     0.00,2,     0.06,3,    1.277,2,   1.7290,2,   2070.7,2,   2338.9,2,20170108,0911
06M220170104  ,A10.5      ,22      ,  1,22119.0    ,241481.0   ,19         ,2,20170108,0745, -34.4995,   9.9959,     5114,     48.8,  17.3369,  35.4318,    252.4,2,     -999,9,     -999,9,     -999,9,     -999,9,     -999,9,     -999,9,     -999,9,     -999,9,     -999,9,20170108,0910
06M220170104  ,A10.5      ,22      ,  1,22118.0    ,241480.0   ,18         ,2,20170108,0745, -34.4995,   9.9959,     5114,     93.2,  15.6110,  35.3347,    244.8,2,    246.2,2,     2.20,2,     0.89,3,     0.28,2,     0.21,3,    1.449,2,   1.8440,2,   2095.8,2,   2331.5,2,20170108,0909
06M220170104  ,A10.5      ,22      ,  1,22117.0    ,241479.0   ,17         ,2,20170108,0745, -34.4995,   9.9959,     5114,    146.5,  14.4749,  35.1502,    239.9,2,    240.6,2,     1.95,2,     3.60,3,     0.03,2,     0.35,3,    1.529,2,   1.9100,2,     -999,9,     -999,9,20170108,0908
06M220170104  ,A10.5      ,22      ,  1,22116.0    ,241478.0   ,16         ,2,20170108,0745, -34.4995,   9.9959,     5114,    226.4,  13.4874,  35.1332,    222.6,2,    225.2,2,     2.80,2,     7.97,3,     0.01,2,     0.55,3,    1.602,2,   1.8610,2,   2123.3,2,   2316.1,2,20170108,0906
06M220170104  ,A10.5      ,22      ,  1,22115.0    ,241477.0   ,15         ,2,20170108,0745, -34.4995,   9.9959,     5114,    297.0,  12.7905,  35.1320,    212.5,2,     -999,9,     -999,9,     -999,9,     -999,9,     -999,9,     -999,9,     -999,9,     -999,9,     -999,9,20170108,0905
06M220170104  ,A10.5      ,22      ,  1,22114.0    ,241476.0   ,14         ,2,20170108,0745, -34.4995,   9.9959,     5114,    397.0,  11.2438,  34.9403,    214.0,2,    217.3,2,     7.12,2,    19.04,3,     0.03,2,     1.15,3,    1.770,2,   1.6070,2,   2167.7,2,   2306.9,2,20170108,0903
06M220170104  ,A10.5      ,22      ,  1,22113.0    ,241475.0   ,13         ,2,20170108,0745, -34.4995,   9.9959,     5114,    496.7,   9.8127,  34.7649,    203.1,2,    206.6,2,     9.04,2,    20.00,3,     0.00,2,     1.32,3,    1.712,2,   1.2320,2,     -999,9,     -999,9,20170108,0902
06M220170104  ,A10.5      ,22      ,  1,22112.0    ,241474.0   ,12         ,2,20170108,0745, -34.4995,   9.9959,     5114,    596.4,   7.8854,  34.5474,    206.7,2,    209.2,2,    13.75,2,    28.06,3,     0.03,2,     1.72,3,    1.686,2,   1.1860,2,   2168.8,2,   2291.9,2,20170108,0900
06M220170104  ,A10.5      ,22      ,  1,22111.0    ,241473.0   ,11         ,2,20170108,0745, -34.4995,   9.9959,     5114,    734.6,   5.3293,  34.3114,    226.0,2,    228.6,2,    19.38,2,    29.79,3,     0.00,2,     1.72,3,    1.740,2,   1.1780,2,   2168.5,2,   2289.8,2,20170108,0858
06M220170104  ,A10.5      ,22      ,  1,22110.0    ,241472.0   ,10         ,2,20170108,0745, -34.4995,   9.9959,     5114,    906.4,   5.0230,  34.4048,    194.8,2,    197.9,2,    38.78,3,    38.95,3,     0.00,2,     2.47,3,    1.073,2,   0.5480,2,   2216.4,2,   2303.0,2,20170108,0855
06M220170104  ,A10.5      ,22      ,  1,22109.0    ,241471.0   ,9          ,2,20170108,0745, -34.4995,   9.9959,     5114,   1146.1,   4.0788,  34.4035,    183.5,2,    186.8,2,    43.69,2,    37.28,3,     0.00,2,     2.29,3,    0.727,2,   0.3720,2,   2212.8,2,   2307.9,2,20170108,0851
06M220170104  ,A10.5      ,22      ,  1,22108.0    ,241470.0   ,8          ,2,20170108,0745, -34.4995,   9.9959,     5114,   1497.5,   3.0024,  34.5889,    179.1,2,    183.1,3,    65.19,2,    35.87,3,     0.00,2,     2.17,3,    0.211,2,   0.0700,2,   2243.1,2,   2331.4,2,20170108,0845
06M220170104  ,A10.5      ,22      ,  1,22107.0    ,241469.0   ,7          ,2,20170108,0745, -34.4995,   9.9959,     5114,   1996.9,   2.7456,  34.7789,    205.6,2,    208.2,2,    66.57,2,    34.23,3,     0.00,2,     2.11,3,    0.045,2,   0.0000,2,   2215.2,2,   2342.5,3,20170108,0837
06M220170104  ,A10.5      ,22      ,  1,22106.0    ,241468.0   ,6          ,2,20170108,0745, -34.4995,   9.9959,     5114,   2496.8,   2.5427,  34.8377,    223.2,2,    224.1,2,    53.74,2,    26.61,3,     0.00,2,     1.69,3,    0.016,2,   0.0000,2,     -999,9,     -999,9,20170108,0829
06M220170104  ,A10.5      ,22      ,  1,22105.0    ,241467.0   ,5          ,2,20170108,0745, -34.4995,   9.9959,     5114,   3096.2,   2.3080,  34.8481,    229.9,2,    233.6,2,    57.04,2,    26.22,3,     0.01,2,     1.54,3,    0.012,2,   0.0000,2,   2208.6,2,   2347.3,2,20170108,0819
06M220170104  ,A10.5      ,22      ,  1,22104.0    ,241466.0   ,4          ,2,20170108,0745, -34.4995,   9.9959,     5114,   3496.7,   2.1363,  34.8399,    229.4,2,    233.4,2,    69.47,3,    29.18,3,     0.01,2,     1.82,3,    0.015,2,   0.0000,2,   2215.6,2,   2351.2,2,20170108,0812
06M220170104  ,A10.5      ,22      ,  1,22103.0    ,241465.0   ,3          ,2,20170108,0745, -34.4995,   9.9959,     5114,   3996.3,   1.5037,  34.7743,    221.7,2,    225.1,2,    63.47,3,    26.26,3,     0.00,2,     1.54,3,    0.031,2,   0.0000,2,   2235.8,2,   2364.1,2,20170108,0804
06M220170104  ,A10.5      ,22      ,  1,22102.0    ,241464.0   ,2          ,2,20170108,0745, -34.4995,   9.9959,     5114,   4496.5,   1.1697,  34.7399,    219.3,2,    223.1,2,   107.29,3,    33.46,3,     0.00,2,     2.17,3,    0.048,2,   0.0000,2,     -999,9,     -999,9,20170108,0755
06M220170104  ,A10.5      ,22      ,  1,22101.0    ,241463.0   ,1          ,2,20170108,0745, -34.4995,   9.9959,     5114,   5104.2,   1.1377,  34.7299,    218.8,2,    222.2,2,   103.50,3,    31.69,3,     0.00,2,     1.71,3,    0.072,2,   0.0000,2,   2251.0,2,   2371.5,2,20170108,0745
06M220170104  ,A10.5      ,23      ,  1,23122.0    ,240506.0   ,22         ,2,20170108,1353, -34.4997,   9.3412,     5131,      9.1,  19.7597,  35.6153,    236.5,2,    236.9,2,     -999,9,     -999,9,     -999,9,     -999,9,     -999,9,     -999,9,   2071.2,2,   2343.5,2,20170108,1522
06M220170104  ,A10.5      ,23      ,  1,23121.0    ,240505.0   ,21         ,2,20170108,1353, -34.4997,   9.3412,     5131,     23.5,  19.3435,  35.6095,    238.9,2,    243.1,2,     1.92,2,     0.50,2,     0.01,2,     0.15,2,     -999,9,     -999,9,   2071.3,2,   2340.8,2,20170108,1522
06M220170104  ,A10.5      ,23      ,  1,23120.0    ,240504.0   ,20         ,2,20170108,1353, -34.4997,   9.3412,     5131,     69.0,  17.0251,  35.5712,    248.8,2,    248.3,2,     2.17,2,     0.51,2,     0.02,2,     0.20,2,     -999,9,     -999,9,     -999,9,     -999,9,20170108,1520
06M220170104  ,A10.5      ,23      ,  1,23119.0    ,240503.0   ,19         ,2,20170108,1353, -34.4997,   9.3412,     5131,     99.3,  16.2687,  35.4893,    236.3,2,    237.0,2,     2.21,2,     2.54,2,     0.17,2,     0.33,2,     -999,9,     -999,9,   2087.7,2,   2332.3,2,20170108,1519
06M220170104  ,A10.5      ,23      ,  1,23118.0    ,240502.0   ,18         ,2,20170108,1353, -34.4997,   9.3412,     5131,    155.0,  15.0642,  35.2856,    238.6,2,    253.4,4,     1.90,2,     3.22,2,     0.05,2,     0.37,2,     -999,9,     -999,9,     -999,9,     -999,9,20170108,1518
06M220170104  ,A10.5      ,23      ,  1,23117.0    ,240501.0   ,17         ,2,20170108,1353, -34.4997,   9.3412,     5131,    258.9,  13.6280,  35.1679,    217.8,2,    221.1,2,     2.85,2,     8.64,2,     0.04,2,     0.74,2,     -999,9,     -999,9,   2120.4,2,   2316.4,2,20170108,1516
06M220170104  ,A10.5      ,23      ,  1,23116.0    ,241500.0   ,16         ,2,20170108,1353, -34.4997,   9.3412,     5131,    350.2,  12.3693,  35.0841,    213.4,2,    214.6,2,     3.35,2,    11.08,2,     0.02,2,     0.75,2,     -999,9,     -999,9,   2132.0,2,   2311.4,2,20170108,1515
06M220170104  ,A10.5      ,23      ,  1,23115.0    ,241499.0   ,15         ,2,20170108,1353, -34.4997,   9.3412,     5131,    461.2,  10.5927,  34.8579,    213.1,2,    215.7,2,     6.67,2,    15.20,2,     0.01,2,     1.08,2,     -999,9,     -999,9,   2145.3,2,   2300.1,2,20170108,1513
06M220170104  ,A10.5      ,23      ,  1,23114.0    ,241498.0   ,14         ,2,20170108,1353, -34.4997,   9.3412,     5131,    652.7,   7.1475,  34.4782,    210.0,2,    213.4,2,    15.35,2,    24.52,2,     0.01,2,     1.65,2,     -999,9,     -999,9,   2174.0,2,   2288.6,2,20170108,1510
06M220170104  ,A10.5      ,23      ,  1,23113.0    ,241497.0   ,13         ,2,20170108,1353, -34.4997,   9.3412,     5131,    734.6,   5.8952,  34.3604,    220.1,2,    223.4,2,    20.18,2,    27.98,2,     0.02,2,     1.97,2,     -999,9,     -999,9,     -999,9,     -999,9,20170108,1508
06M220170104  ,A10.5      ,23      ,  1,23112.0    ,241496.0   ,12         ,2,20170108,1353, -34.4997,   9.3412,     5131,    875.4,   4.6770,  34.3124,    217.9,2,    220.8,2,    31.59,2,    30.96,2,     0.02,2,     2.54,2,     -999,9,     -999,9,   2192.1,2,   2290.8,2,20170108,1506
06M220170104  ,A10.5      ,23      ,  1,23111.0    ,241495.0   ,11         ,2,20170108,1353, -34.4997,   9.3412,     5131,   1015.0,   3.9824,  34.3473,    203.4,2,    206.0,2,    30.42,3,    28.66,3,     0.00,3,     1.68,3,     -999,9,     -999,9,     -999,9,     -999,9,20170108,1504
06M220170104  ,A10.5      ,23      ,  1,23110.0    ,241494.0   ,10         ,2,20170108,1353, -34.4997,   9.3412,     5131,   1270.2,   3.1731,  34.4675,    185.3,2,    189.3,2,    46.02,3,    27.36,3,     0.01,3,     1.95,3,     -999,9,     -999,9,   2234.2,2,   2322.2,2,20170108,1459
06M220170104  ,A10.5      ,23      ,  1,23109.0    ,241493.0   ,9          ,2,20170108,1353, -34.4997,   9.3412,     5131,   1496.4,   2.9926,  34.6078,    184.2,2,    186.1,2,    69.19,4,    33.01,4,     0.02,4,     2.68,4,     -999,9,     -999,9,   2238.4,2,   2327.3,2,20170108,1456
06M220170104  ,A10.5      ,23      ,  1,23108.0    ,241492.0   ,8          ,2,20170108,1353, -34.4997,   9.3412,     5131,   1747.4,   2.8285,  34.7116,    192.5,2,     -999,9,     1.05,4,    -0.27,4,     0.02,4,     0.01,4,     -999,9,     -999,9,     -999,9,     -999,9,20170108,1452
06M220170104  ,A10.5      ,23      ,  1,23107.0    ,241491.0   ,7          ,2,20170108,1353, -34.4997,   9.3412,     5131,   1997.5,   2.8163,  34.7923,    207.9,2,    209.8,2,    54.04,3,    26.48,3,     0.03,3,     1.81,3,     -999,9,     -999,9,   2218.3,2,   2333.2,2,20170108,1447
06M220170104  ,A10.5      ,23      ,  1,23106.0    ,241490.0   ,6          ,2,20170108,1353, -34.4997,   9.3412,     5131,   2498.9,   2.5687,  34.8441,    226.0,2,    230.4,2,    60.23,3,    25.63,3,     0.01,3,     1.91,3,     -999,9,     -999,9,   2209.7,2,   2337.1,2,20170108,1439
06M220170104  ,A10.5      ,23      ,  1,23105.0    ,241489.0   ,5          ,2,20170108,1353, -34.4997,   9.3412,     5131,   2998.5,   2.3358,  34.8493,    230.4,2,    234.4,2,    68.42,3,    25.44,3,     0.04,3,     2.20,3,     -999,9,     -999,9,     -999,9,     -999,9,20170108,1430
06M220170104  ,A10.5      ,23      ,  1,23104.0    ,241488.0   ,4          ,2,20170108,1353, -34.4997,   9.3412,     5131,   3498.1,   2.1353,  34.8418,    230.0,2,    233.0,2,    63.14,3,    22.14,3,     0.01,3,     1.53,3,     -999,9,     -999,9,   2221.4,2,   2349.2,2,20170108,1421
06M220170104  ,A10.5      ,23      ,  1,23103.0    ,241487.0   ,3          ,2,20170108,1353, -34.4997,   9.3412,     5131,   3997.1,   1.4294,  34.7676,    221.2,2,    223.6,2,   110.31,3,    25.34,3,     0.01,3,     2.38,3,     -999,9,     -999,9,     -999,9,     -999,9,20170108,1413
06M220170104  ,A10.5      ,23      ,  1,23102.0    ,241486.0   ,2          ,2,20170108,1353, -34.4997,   9.3412,     5131,   4498.1,   1.1501,  34.7384,    218.9,2,    220.5,2,   132.63,3,    30.28,3,     0.01,3,     2.43,3,     -999,9,     -999,9,   2257.5,2,   2366.9,2,20170108,1404
06M220170104  ,A10.5      ,23      ,  1,23101.0    ,241485.0   ,1          ,2,20170108,1353, -34.4997,   9.3412,     5131,   5121.0,   1.1447,  34.7301,    218.9,2,     -999,9,     1.67,4,     0.22,4,     0.00,4,     0.07,4,     -999,9,     -999,9,     -999,9,     -999,9,20170108,1353