BOTTLE,20240228CCHSIOADS
EXPOCODE,SECT_ID,STNNBR,CASTNO,SAMPNO,BIONBR,BTLNBR,BTLNBR_FLAG_W,DATE,TIME,LATITUDE,LONGITUDE,DEPTH,CTDPRS,CTDTMP,CTDSAL,CTDOXY,CTDOXY_FLAG_W,OXYGEN,OXYGEN_FLAG_W,SILCAT,SILCAT_FLAG_W,NITRAT,NITRAT_FLAG_W,NITRIT,NITRIT_FLAG_W,PHSPHT,PHSPHT_FLAG_W,CFC-12,CFC-12_FLAG_W,SF6,SF6_FLAG_W,TCARBN,TCARBN_FLAG_W,ALKALI,ALKALI_FLAG_W,BTL_DATE,BTL_TIME
,,,,,,,,,,,,METERS,DBAR,ITS-90,PSS-78,UMOL/KG,,UMOL/KG,,UMOL/KG,,UMOL/KG,,UMOL/KG,,UMOL/KG,,PMOL/KG,,FMOL/KG,,UMOL/KG,,UMOL/KG,,,
06M220170104  ,A10.5      ,103     ,  1,103122.0   ,242248.0   ,22         ,2,20170126,1610, -34.4995, -40.4309,     4810,      8.4,  21.5780,  35.6405,    226.1,2,    224.9,2,     0.54,2,    -0.08,2,     0.00,2,     0.11,3,    1.195,2,   1.7640,2,   2072.9,2,   2348.6,2,20170126,1734
06M220170104  ,A10.5      ,103     ,  1,103121.0   ,242247.0   ,21         ,2,20170126,1610, -34.4995, -40.4309,     4810,     21.4,  21.4967,  35.6624,    225.8,2,    227.1,2,     0.71,2,    -0.02,2,     0.00,2,     0.25,3,    1.201,2,   1.7730,2,   2080.9,2,   2350.0,2,20170126,1733
06M220170104  ,A10.5      ,103     ,  1,103120.0   ,242246.0   ,20         ,2,20170126,1610, -34.4995, -40.4309,     4810,     89.9,  16.6125,  35.8375,    228.2,2,    227.8,2,     1.09,2,     1.69,2,     0.05,2,     0.46,3,    1.414,2,   1.8820,2,   2109.6,2,   2362.3,2,20170126,1731
06M220170104  ,A10.5      ,103     ,  1,103119.0   ,242245.0   ,19         ,2,20170126,1610, -34.4995, -40.4309,     4810,    147.4,  16.0486,  35.8101,    219.9,2,     -999,9,     -999,9,     -999,9,     -999,9,     -999,9,     -999,9,     -999,9,     -999,9,     -999,9,20170126,1730
06M220170104  ,A10.5      ,103     ,  1,103118.0   ,242244.0   ,18         ,2,20170126,1610, -34.4995, -40.4309,     4810,    247.5,  14.7538,  35.5995,    221.8,2,    222.2,2,     1.74,2,     6.06,2,     0.01,2,     0.79,3,    1.550,2,   1.7770,2,   2123.5,2,   2345.4,2,20170126,1728
06M220170104  ,A10.5      ,103     ,  1,103117.0   ,242243.0   ,17         ,2,20170126,1610, -34.4995, -40.4309,     4810,    353.6,  12.9789,  35.2544,    211.2,2,    211.0,2,     3.06,2,    10.99,2,     0.00,2,     1.13,3,    1.723,2,   1.5840,2,     -999,9,     -999,9,20170126,1726
06M220170104  ,A10.5      ,103     ,  1,103116.0   ,242242.0   ,16         ,2,20170126,1610, -34.4995, -40.4309,     4810,    452.5,  10.7411,  34.8952,    210.3,2,    210.5,2,     5.58,2,    18.94,2,     0.02,3,     1.42,3,    1.833,2,   1.5860,2,   2144.9,2,   2306.6,2,20170126,1724
06M220170104  ,A10.5      ,103     ,  1,103115.0   ,242241.0   ,15         ,2,20170126,1610, -34.4995, -40.4309,     4810,    588.2,   7.6862,  34.5212,    217.0,2,    217.7,2,     8.65,2,    21.34,2,     0.00,2,     1.49,3,    1.923,2,   1.4010,2,     -999,9,     -999,9,20170126,1722
06M220170104  ,A10.5      ,103     ,  1,103114.0   ,242240.0   ,14         ,2,20170126,1610, -34.4995, -40.4309,     4810,    680.3,   5.8350,  34.3101,    238.8,2,    239.1,2,    11.00,2,    26.97,2,     0.00,2,     1.96,3,    2.107,2,   1.6120,2,   2154.0,2,   2280.3,2,20170126,1720
06M220170104  ,A10.5      ,103     ,  1,103113.0   ,242239.0   ,13         ,2,20170126,1610, -34.4995, -40.4309,     4810,    807.1,   4.7459,  34.2392,    244.6,2,    243.5,2,    17.52,2,    29.37,2,     0.00,2,     1.82,3,    1.979,2,   1.4800,2,   2171.7,2,   2284.7,2,20170126,1718
06M220170104  ,A10.5      ,103     ,  1,103112.0   ,242238.0   ,12         ,2,20170126,1610, -34.4995, -40.4309,     4810,    906.8,   4.0730,  34.2198,    241.8,2,    240.5,2,    21.09,2,    30.96,2,     0.01,2,     2.13,3,    1.762,2,   1.3220,2,     -999,9,     -999,9,20170126,1716
06M220170104  ,A10.5      ,103     ,  1,103111.0   ,242237.0   ,11         ,2,20170126,1610, -34.4995, -40.4309,     4810,   1098.8,   3.4464,  34.2860,    218.3,2,    218.3,2,    35.76,2,    34.83,2,     0.00,2,     2.70,3,    1.211,2,   0.7290,2,   2205.7,2,   2300.3,2,20170126,1713
06M220170104  ,A10.5      ,103     ,  1,103110.0   ,242236.0   ,10         ,2,20170126,1610, -34.4995, -40.4309,     4810,   1317.9,   3.0852,  34.4222,    193.0,2,    192.4,2,    66.43,2,    50.02,3,     0.03,3,     2.89,3,    0.566,2,   0.2410,2,   2228.0,2,   2315.7,2,20170126,1709
06M220170104  ,A10.5      ,103     ,  1,103109.0   ,242235.0   ,9          ,2,20170126,1610, -34.4995, -40.4309,     4810,   1503.1,   2.9490,  34.5383,    185.8,2,    185.6,2,    68.08,2,    42.62,3,     0.02,3,     2.52,3,    0.269,2,   0.1500,2,   2235.5,2,   2325.9,2,20170126,1706
06M220170104  ,A10.5      ,103     ,  1,103108.0   ,242234.0   ,8          ,2,20170126,1610, -34.4995, -40.4309,     4810,   1747.3,   3.0143,  34.6888,    192.2,2,     -999,9,     -999,9,     -999,9,     -999,9,     -999,9,     -999,9,     -999,9,     -999,9,     -999,9,20170126,1702
06M220170104  ,A10.5      ,103     ,  1,103107.0   ,242233.0   ,7          ,2,20170126,1610, -34.4995, -40.4309,     4810,   1748.7,   3.0154,  34.6898,    192.4,2,     -999,9,     -999,9,     -999,9,     -999,9,     -999,9,     -999,9,     -999,9,     -999,9,     -999,9,20170126,1702
06M220170104  ,A10.5      ,103     ,  1,103106.0   ,242232.0   ,6          ,2,20170126,1610, -34.4995, -40.4309,     4810,   1997.4,   3.2524,  34.8308,    216.4,2,    217.4,2,    59.24,2,    39.80,3,     0.02,3,     1.76,3,    0.107,2,   0.0000,2,   2205.4,2,   2326.4,2,20170126,1658
06M220170104  ,A10.5      ,103     ,  1,103105.0   ,242231.0   ,5          ,2,20170126,1610, -34.4995, -40.4309,     4810,   2497.5,   3.2316,  34.9305,    246.0,2,    247.7,2,    35.16,2,    27.72,3,     0.02,2,     1.98,3,    0.114,2,   0.0000,2,     -999,9,     -999,9,20170126,1649
06M220170104  ,A10.5      ,103     ,  1,103104.0   ,242230.0   ,4          ,2,20170126,1610, -34.4995, -40.4309,     4810,   3018.1,   2.5526,  34.8694,    233.6,2,    234.4,2,    57.94,3,    28.96,3,     0.02,2,     2.62,3,    0.066,2,   0.1250,2,   2204.9,2,   2336.7,2,20170126,1640
06M220170104  ,A10.5      ,103     ,  1,103103.0   ,242229.0   ,3          ,2,20170126,1610, -34.4995, -40.4309,     4810,   3546.8,   1.3781,  34.7597,    218.4,2,    218.8,2,   106.16,3,    41.24,3,     0.03,2,     2.96,3,    0.085,2,   0.1660,2,   2244.5,2,   2356.0,2,20170126,1631
06M220170104  ,A10.5      ,103     ,  1,103102.0   ,242228.0   ,2          ,2,20170126,1610, -34.4995, -40.4309,     4810,   4197.3,   0.3520,  34.6796,    220.1,2,    219.7,2,   147.51,3,    48.38,3,     0.03,2,     2.13,3,    0.200,2,   0.1060,2,   2269.0,2,   2367.5,2,20170126,1621
06M220170104  ,A10.5      ,103     ,  1,103101.0   ,242227.0   ,1          ,2,20170126,1610, -34.4995, -40.4309,     4810,   4800.0,   0.2353,  34.6703,    222.5,2,    222.1,2,   162.18,3,    50.67,3,     0.03,2,     3.71,3,    0.298,2,   0.1820,2,   2272.3,2,   2367.5,2,20170126,1610
06M220170104  ,A10.5      ,104     ,  1,104122.0   ,242270.0   ,22         ,2,20170126,2157, -34.5000, -41.0860,     4743,      7.7,  22.4378,  36.1116,    222.1,2,    221.3,2,     0.22,2,     0.27,2,     0.00,2,     0.03,2,    1.122,2,   1.6970,2,   2080.4,2,   2371.7,2,20170126,2329
06M220170104  ,A10.5      ,104     ,  1,104121.0   ,242269.0   ,21         ,2,20170126,2157, -34.5000, -41.0860,     4743,     68.2,  17.9897,  35.9801,    240.0,2,    240.0,2,     0.61,2,     0.30,2,     0.00,2,     0.10,2,    1.369,2,   1.8970,2,   2088.8,2,   2358.0,2,20170126,2327
06M220170104  ,A10.5      ,104     ,  1,104120.0   ,242268.0   ,20         ,2,20170126,2157, -34.5000, -41.0860,     4743,     92.0,  17.2917,  35.9594,    227.5,2,    225.3,2,     0.38,2,     0.80,2,     0.08,2,     0.14,2,    1.364,2,   1.8650,2,   2107.7,2,   2354.7,2,20170126,2326
06M220170104  ,A10.5      ,104     ,  1,104119.0   ,242267.0   ,19         ,2,20170126,2157, -34.5000, -41.0860,     4743,    196.5,  15.8861,  35.7786,    215.4,2,    216.9,2,     1.87,2,     5.57,2,     0.02,2,     0.44,2,    1.461,2,   1.7710,2,     -999,9,     -999,9,20170126,2324
06M220170104  ,A10.5      ,104     ,  1,104118.0   ,242266.0   ,18         ,2,20170126,2157, -34.5000, -41.0860,     4743,    245.2,  15.2629,  35.6775,    216.8,2,    217.2,2,     1.99,2,     6.41,2,     0.01,2,     0.50,2,    1.513,2,   1.8890,2,     -999,9,     -999,9,20170126,2323
06M220170104  ,A10.5      ,104     ,  1,104117.0   ,242265.0   ,17         ,2,20170126,2157, -34.5000, -41.0860,     4743,    297.6,  14.4880,  35.5240,    214.0,2,    214.6,2,     2.22,2,     7.75,2,     0.01,2,     0.58,2,     -999,9,     -999,9,   2129.5,2,   2330.9,2,20170126,2322
06M220170104  ,A10.5      ,104     ,  1,104116.0   ,242264.0   ,16         ,2,20170126,2157, -34.5000, -41.0860,     4743,    349.0,  13.6575,  35.3656,    210.2,2,    211.2,2,     2.99,2,    10.74,2,     0.01,2,     0.78,2,    1.628,2,   1.7010,2,     -999,9,     -999,9,20170126,2321
06M220170104  ,A10.5      ,104     ,  1,104115.0   ,242263.0   ,15         ,2,20170126,2157, -34.5000, -41.0860,     4743,    470.1,  10.9507,  34.9396,    206.8,2,    207.0,2,     5.66,2,    18.01,2,     0.01,3,     1.20,2,    1.781,2,   1.4540,2,     -999,9,     -999,9,20170126,2318
06M220170104  ,A10.5      ,104     ,  1,104114.0   ,242262.0   ,14         ,2,20170126,2157, -34.5000, -41.0860,     4743,    597.0,   8.1336,  34.5723,    213.1,2,    214.3,2,     7.46,2,    19.24,2,     0.00,2,     1.39,2,    1.839,2,   1.2780,2,   2161.5,2,   2286.1,2,20170126,2316
06M220170104  ,A10.5      ,104     ,  1,104113.0   ,242261.0   ,13         ,2,20170126,2157, -34.5000, -41.0860,     4743,    840.2,   4.5655,  34.2169,    250.4,2,    249.8,2,    17.20,2,    31.90,2,     0.01,2,     2.05,2,    1.992,2,   1.5810,2,   2174.9,2,   2278.3,2,20170126,2311
06M220170104  ,A10.5      ,104     ,  1,104112.0   ,242260.0   ,12         ,2,20170126,2157, -34.5000, -41.0860,     4743,   1100.3,   3.5526,  34.2940,    216.9,2,    218.0,2,    36.08,2,    37.99,2,     0.00,2,     2.45,2,    1.152,2,   0.7210,2,   2209.8,2,   2292.0,2,20170126,2306
06M220170104  ,A10.5      ,104     ,  1,104111.0   ,242259.0   ,11         ,2,20170126,2157, -34.5000, -41.0860,     4743,   1419.1,   2.9677,  34.5018,    186.0,2,    185.7,2,    35.52,3,    36.23,2,     0.00,2,     2.33,2,    0.339,2,   0.1540,2,   2236.2,2,   2316.0,2,20170126,2300
06M220170104  ,A10.5      ,104     ,  1,104110.0   ,242258.0   ,10         ,2,20170126,2157, -34.5000, -41.0860,     4743,   1782.9,   3.2586,  34.7761,    203.9,2,    205.1,2,    49.36,2,    31.46,2,     0.00,2,     2.04,2,    0.121,2,   0.0000,2,     -999,9,     -999,9,20170126,2250
06M220170104  ,A10.5      ,104     ,  1,104109.0   ,242257.0   ,9          ,2,20170126,2157, -34.5000, -41.0860,     4743,   2195.8,   3.3046,  34.8958,    232.9,2,    233.7,2,    34.29,3,    23.94,2,     0.01,3,     1.54,3,     -999,9,     -999,9,   2188.1,2,   2320.6,3,20170126,2242
06M220170104  ,A10.5      ,104     ,  1,104108.0   ,242256.0   ,8          ,2,20170126,2157, -34.5000, -41.0860,     4743,   2198.4,   3.3033,  34.8963,    233.2,2,     -999,9,     -999,9,     -999,9,     -999,9,     -999,9,     -999,9,     -999,9,     -999,9,     -999,9,20170126,2242
06M220170104  ,A10.5      ,104     ,  1,104107.0   ,242255.0   ,7          ,2,20170126,2157, -34.5000, -41.0860,     4743,   2678.6,   3.0143,  34.9289,    249.1,2,    215.7,4,     0.63,4,     6.09,4,     0.01,4,     0.52,4,     -999,9,     -999,9,   2124.3,3,   2349.7,3,20170126,2233
06M220170104  ,A10.5      ,104     ,  1,104106.0   ,242254.0   ,6          ,2,20170126,2157, -34.5000, -41.0860,     4743,   3140.9,   1.9569,  34.7945,    215.3,2,    215.0,2,    81.32,3,    31.01,3,     0.00,2,     2.08,3,     -999,9,     -999,9,   2228.8,3,   2351.2,3,20170126,2225
06M220170104  ,A10.5      ,104     ,  1,104105.0   ,242253.0   ,5          ,2,20170126,2157, -34.5000, -41.0860,     4743,   3521.2,   1.1681,  34.7320,    211.8,2,    212.1,2,   114.86,3,    35.26,3,     0.00,2,     2.40,3,     -999,9,     -999,9,     -999,9,     -999,9,20170126,2219
06M220170104  ,A10.5      ,104     ,  1,104104.0   ,242252.0   ,4          ,2,20170126,2157, -34.5000, -41.0860,     4743,   3896.0,   0.6155,  34.6937,    215.8,2,    216.3,2,   115.04,3,    34.50,3,     0.00,2,     2.26,3,     -999,9,     -999,9,   2259.3,2,   2364.6,2,20170126,2212
06M220170104  ,A10.5      ,104     ,  1,104103.0   ,242251.0   ,3          ,2,20170126,2157, -34.5000, -41.0860,     4743,   4298.4,   0.2909,  34.6762,    221.4,2,    221.4,2,   132.24,3,    36.24,3,     0.00,2,     2.43,3,     -999,9,     -999,9,   2259.1,2,   2370.3,2,20170126,2205
06M220170104  ,A10.5      ,104     ,  1,104101.0   ,242249.0   ,1          ,2,20170126,2157, -34.5000, -41.0860,     4743,   4732.7,   0.2294,  34.6705,    222.5,2,    223.0,2,   144.23,3,    39.38,3,     0.01,3,     2.68,3,     -999,9,     -999,9,   2267.0,2,   2369.2,2,20170126,2157
06M220170104  ,A10.5      ,104     ,  1,104102.0   ,242250.0   ,2          ,2,20170126,2157, -34.5000, -41.0860,     4743,   4733.2,   0.2294,  34.6705,    222.4,2,    222.6,2,   140.08,3,    37.52,3,     0.01,2,     2.55,3,     -999,9,     -999,9,     -999,9,     -999,9,20170126,2157
06M220170104  ,A10.5      ,105     ,  1,105122.0   ,242292.0   ,22         ,2,20170127,0400, -34.5003, -41.7402,     4756,      8.1,  23.0354,  36.1009,    218.2,2,    221.0,2,     0.26,2,    -0.02,3,     0.00,3,     0.00,3,    1.126,2,   1.6100,2,   2077.1,2,   2375.6,2,20170127,0520
06M220170104  ,A10.5      ,105     ,  1,105121.0   ,242291.0   ,21         ,2,20170127,0400, -34.5003, -41.7402,     4756,     22.7,  22.2598,  36.1089,    222.2,2,    225.6,2,     0.27,2,    -0.01,3,     0.00,3,     0.00,3,    1.153,2,   1.6630,2,   2080.9,2,   2376.8,2,20170127,0520
06M220170104  ,A10.5      ,105     ,  1,105120.0   ,242290.0   ,20         ,2,20170127,0400, -34.5003, -41.7402,     4756,     78.0,  17.6690,  36.0119,    234.4,2,    234.2,2,     0.41,2,     0.10,3,     0.01,3,     0.09,3,    1.349,2,   1.7200,2,   2092.7,2,   2372.0,2,20170127,0518
06M220170104  ,A10.5      ,105     ,  1,105119.0   ,242289.0   ,19         ,2,20170127,0400, -34.5003, -41.7402,     4756,    141.2,  16.3720,  35.8643,    216.1,2,     -999,9,     -999,9,     -999,9,     -999,9,     -999,9,     -999,9,     -999,9,     -999,9,     -999,9,20170127,0517
06M220170104  ,A10.5      ,105     ,  1,105118.0   ,242288.0   ,18         ,2,20170127,0400, -34.5003, -41.7402,     4756,    247.8,  15.2073,  35.6648,    215.7,2,    215.3,2,     1.94,2,     6.25,3,     0.01,3,     0.48,3,     -999,9,     -999,9,   2121.0,2,   2351.0,2,20170127,0515
06M220170104  ,A10.5      ,105     ,  1,105117.0   ,242287.0   ,17         ,2,20170127,0400, -34.5003, -41.7402,     4756,    363.0,  13.2685,  35.2936,    208.4,2,    212.0,3,     3.05,2,    11.41,3,     0.01,3,     0.76,3,    1.675,2,   1.5010,2,     -999,9,     -999,9,20170127,0513
06M220170104  ,A10.5      ,105     ,  1,105116.0   ,242286.0   ,16         ,2,20170127,0400, -34.5003, -41.7402,     4756,    449.2,  11.3508,  34.9869,    207.3,2,    208.6,2,     3.11,2,    10.77,3,     0.01,3,     0.79,3,    1.669,2,   1.5540,2,   2127.8,2,   2329.5,2,20170127,0511
06M220170104  ,A10.5      ,105     ,  1,105115.0   ,242285.0   ,15         ,2,20170127,0400, -34.5003, -41.7402,     4756,    547.9,   8.9848,  34.6750,    210.4,2,    211.0,2,     6.08,2,    21.24,3,     0.01,3,     1.46,3,    1.835,2,   1.3250,2,   2156.6,2,   2299.1,2,20170127,0510
06M220170104  ,A10.5      ,105     ,  1,105114.0   ,242284.0   ,14         ,2,20170127,0400, -34.5003, -41.7402,     4756,    657.2,   6.3621,  34.3542,    236.0,2,    210.6,4,     7.71,2,    20.31,3,     0.00,3,     1.43,3,    1.787,3,   1.3070,2,     -999,9,     -999,9,20170127,0508
06M220170104  ,A10.5      ,105     ,  1,105113.0   ,242283.0   ,13         ,2,20170127,0400, -34.5003, -41.7402,     4756,    758.1,   4.9035,  34.2184,    256.6,2,    257.1,2,    12.67,2,    26.26,3,     0.01,3,     1.75,3,    2.147,2,   1.8070,2,     -999,9,     -999,9,20170127,0506
06M220170104  ,A10.5      ,105     ,  1,105112.0   ,242282.0   ,12         ,2,20170127,0400, -34.5003, -41.7402,     4756,    887.9,   4.1781,  34.2205,    244.4,2,    244.4,2,    19.74,2,    28.22,3,     0.00,3,     1.90,3,    1.818,2,   1.4080,2,   2178.1,2,   2291.2,2,20170127,0504
06M220170104  ,A10.5      ,105     ,  1,105111.0   ,242281.0   ,11         ,2,20170127,0400, -34.5003, -41.7402,     4756,    996.3,   3.6260,  34.2226,    239.1,2,    239.6,2,    28.02,2,    33.39,3,     0.00,3,     2.31,3,    1.676,2,   1.2570,2,     -999,9,     -999,9,20170127,0502
06M220170104  ,A10.5      ,105     ,  1,105110.0   ,242280.0   ,10         ,2,20170127,0400, -34.5003, -41.7402,     4756,   1371.8,   3.0010,  34.4485,    188.9,2,    189.0,2,    52.21,2,    35.08,3,     0.01,3,     2.51,3,    0.501,2,   0.3780,2,   2232.5,2,   2323.5,2,20170127,0456
06M220170104  ,A10.5      ,105     ,  1,105109.0   ,242279.0   ,9          ,2,20170127,0400, -34.5003, -41.7402,     4756,   1719.6,   2.9522,  34.6568,    185.4,2,    185.1,2,    70.93,2,    41.66,3,     0.01,3,     2.86,3,    0.165,2,   0.0000,2,   2232.1,2,   2333.7,2,20170127,0450
06M220170104  ,A10.5      ,105     ,  1,105108.0   ,242278.0   ,8          ,2,20170127,0400, -34.5003, -41.7402,     4756,   1720.4,   2.9520,  34.6567,    185.4,2,     -999,9,     -999,9,     -999,9,     -999,9,     -999,9,     -999,9,     -999,9,     -999,9,     -999,9,20170127,0450
06M220170104  ,A10.5      ,105     ,  1,105107.0   ,242277.0   ,7          ,2,20170127,0400, -34.5003, -41.7402,     4756,   2027.0,   3.1120,  34.8081,    209.9,2,    211.8,2,    47.55,2,    29.45,3,     0.01,3,     2.10,3,    0.114,2,   0.1590,3,   2218.5,2,   2334.5,2,20170127,0445
06M220170104  ,A10.5      ,105     ,  1,105106.0   ,242276.0   ,6          ,2,20170127,0400, -34.5003, -41.7402,     4756,   2497.6,   3.1567,  34.9222,    244.7,2,    245.2,2,    34.62,2,    26.04,3,     0.00,3,     1.86,3,    0.112,2,   0.0000,2,   2181.9,2,     -999,9,20170127,0437
06M220170104  ,A10.5      ,105     ,  1,105105.0   ,242275.0   ,5          ,2,20170127,0400, -34.5003, -41.7402,     4756,   2997.8,   2.7917,  34.9112,    246.5,2,    247.6,2,    37.63,2,    25.96,3,     0.02,3,     1.72,3,    0.323,4,   0.0000,2,   2184.9,2,   2331.1,2,20170127,0429
06M220170104  ,A10.5      ,105     ,  1,105104.0   ,242274.0   ,4          ,2,20170127,0400, -34.5003, -41.7402,     4756,   3518.7,   1.4299,  34.7488,    212.1,2,    210.5,2,   113.44,3,    42.05,3,     0.01,3,     2.90,3,    0.103,2,   0.1670,3,   2234.9,2,   2355.6,2,20170127,0421
06M220170104  ,A10.5      ,105     ,  1,105103.0   ,242273.0   ,3          ,2,20170127,0400, -34.5003, -41.7402,     4756,   3968.4,   0.6648,  34.6966,    215.7,2,    216.1,2,   110.72,3,    35.15,3,     0.00,3,     2.38,3,    0.171,2,   0.0000,2,   2265.7,2,   2362.5,2,20170127,0413
06M220170104  ,A10.5      ,105     ,  1,105102.0   ,242272.0   ,2          ,2,20170127,0400, -34.5003, -41.7402,     4756,   4497.3,   0.2605,  34.6737,    222.3,2,    221.6,2,   130.28,3,    38.38,3,     0.01,3,     2.64,3,    0.226,2,   0.1290,2,   2273.5,2,   2366.8,2,20170127,0405
06M220170104  ,A10.5      ,105     ,  1,105101.0   ,242271.0   ,1          ,2,20170127,0400, -34.5003, -41.7402,     4756,   4745.5,   0.2346,  34.6706,    222.3,2,    222.3,2,   132.47,3,    36.14,3,     0.01,3,     2.49,3,    0.272,2,   0.2450,2,   2272.1,2,   2368.3,2,20170127,0400