BOTTLE,20240228CCHSIOADS
EXPOCODE,SECT_ID,STNNBR,CASTNO,SAMPNO,BIONBR,BTLNBR,BTLNBR_FLAG_W,DATE,TIME,LATITUDE,LONGITUDE,DEPTH,CTDPRS,CTDTMP,CTDSAL,CTDOXY,CTDOXY_FLAG_W,OXYGEN,OXYGEN_FLAG_W,SILCAT,SILCAT_FLAG_W,NITRAT,NITRAT_FLAG_W,NITRIT,NITRIT_FLAG_W,PHSPHT,PHSPHT_FLAG_W,CFC-12,CFC-12_FLAG_W,SF6,SF6_FLAG_W,TCARBN,TCARBN_FLAG_W,ALKALI,ALKALI_FLAG_W,BTL_DATE,BTL_TIME
,,,,,,,,,,,,METERS,DBAR,ITS-90,PSS-78,UMOL/KG,,UMOL/KG,,UMOL/KG,,UMOL/KG,,UMOL/KG,,UMOL/KG,,PMOL/KG,,FMOL/KG,,UMOL/KG,,UMOL/KG,,,
06M220170104  ,A10.5      ,41      ,  1,41122.0    ,240880.0   ,22         ,2,20170112,2254, -34.4997,  -1.7924,     4570,      8.5,  20.1601,  35.5230,    233.5,2,    232.1,2,     1.21,3,     0.02,3,     0.01,3,     0.19,3,    1.298,2,   1.7470,2,   2075.3,2,   2340.6,2,20170113,0011
06M220170104  ,A10.5      ,41      ,  1,41121.0    ,240879.0   ,21         ,2,20170112,2254, -34.4997,  -1.7924,     4570,     23.6,  19.3237,  35.5482,    238.1,2,    239.5,2,     1.18,3,     0.07,3,     0.02,3,     0.15,3,     -999,9,     -999,9,   2075.3,2,   2342.1,2,20170113,0010
06M220170104  ,A10.5      ,41      ,  1,41120.0    ,240878.0   ,20         ,2,20170112,2254, -34.4997,  -1.7924,     4570,     53.7,  17.2195,  35.5626,    251.9,2,    249.0,2,     1.20,3,     0.16,3,     0.02,3,     0.18,3,    1.451,2,   1.8820,2,   2075.2,2,   2344.2,2,20170113,0009
06M220170104  ,A10.5      ,41      ,  1,41119.0    ,240877.0   ,19         ,2,20170112,2254, -34.4997,  -1.7924,     4570,    115.9,  15.7118,  35.4489,    239.1,2,    238.2,2,     1.13,3,     2.30,3,     0.20,3,     0.27,3,    1.473,2,   1.8710,2,   2090.6,2,   2335.5,2,20170113,0007
06M220170104  ,A10.5      ,41      ,  1,41118.0    ,240876.0   ,18         ,2,20170112,2254, -34.4997,  -1.7924,     4570,    226.6,  13.8784,  35.2127,    224.9,2,    223.4,2,     2.55,3,     8.74,3,     0.01,3,     0.63,3,    1.636,2,   1.8830,2,   2111.8,2,   2321.5,2,20170113,0005
06M220170104  ,A10.5      ,41      ,  1,41117.0    ,240875.0   ,17         ,2,20170112,2254, -34.4997,  -1.7924,     4570,    322.4,  12.5798,  35.1170,    213.6,2,    212.7,2,     3.94,3,    14.28,3,     0.01,3,     0.87,3,    1.712,2,   1.6490,2,   2132.4,2,   2318.0,2,20170113,0004
06M220170104  ,A10.5      ,41      ,  1,41116.0    ,240874.0   ,16         ,2,20170112,2254, -34.4997,  -1.7924,     4570,    446.8,  10.5065,  34.8516,    208.2,2,    236.2,4,     1.02,4,     0.57,3,     0.00,4,     0.14,3,    1.361,4,   1.7080,2,   2082.2,3,   2341.9,3,20170113,0002
06M220170104  ,A10.5      ,41      ,  1,41115.0    ,240873.0   ,15         ,2,20170112,2254, -34.4997,  -1.7924,     4570,    596.2,   7.9094,  34.5537,    211.5,2,    210.0,2,    12.38,3,    30.52,3,     0.00,3,     1.73,3,    1.870,2,   1.4160,2,   2159.8,2,   2292.6,2,20170112,2359
06M220170104  ,A10.5      ,41      ,  1,41114.0    ,240872.0   ,14         ,2,20170112,2254, -34.4997,  -1.7924,     4570,    699.0,   6.0981,  34.3529,    228.8,2,    227.5,2,    15.08,3,    34.65,3,     0.02,3,     2.27,3,    1.984,2,   1.4170,2,     -999,9,     -999,9,20170112,2358
06M220170104  ,A10.5      ,41      ,  1,41113.0    ,240871.0   ,13         ,2,20170112,2254, -34.4997,  -1.7924,     4570,    792.5,   4.9345,  34.2617,    236.9,2,    236.4,2,    19.44,3,    36.58,3,     0.00,3,     2.22,3,     -999,9,     -999,9,   2174.1,2,   2288.0,2,20170112,2356
06M220170104  ,A10.5      ,41      ,  1,41112.0    ,240870.0   ,12         ,2,20170112,2254, -34.4997,  -1.7924,     4570,    942.1,   3.9882,  34.2479,    231.4,2,    227.4,3,     3.93,4,     9.00,3,     0.02,3,     0.65,3,    1.921,2,   1.3230,2,     -999,9,     -999,9,20170112,2354
06M220170104  ,A10.5      ,41      ,  1,41111.0    ,240869.0   ,11         ,2,20170112,2254, -34.4997,  -1.7924,     4570,   1147.2,   3.4319,  34.3229,    211.5,2,    210.4,2,    52.95,3,    46.98,3,     0.01,3,     3.27,3,    1.067,2,   0.5790,2,   2203.1,2,   2305.5,2,20170112,2350
06M220170104  ,A10.5      ,41      ,  1,41110.0    ,240868.0   ,10         ,2,20170112,2254, -34.4997,  -1.7924,     4570,   1296.0,   3.1866,  34.4105,    197.3,2,    195.5,2,    61.67,3,    46.79,3,     0.00,3,     3.05,3,    0.681,2,   0.3700,2,     -999,9,     -999,9,20170112,2348
06M220170104  ,A10.5      ,41      ,  1,41109.0    ,240867.0   ,9          ,2,20170112,2254, -34.4997,  -1.7924,     4570,   1495.2,   2.9344,  34.5461,    189.1,2,    187.4,2,    84.31,3,    51.55,3,     0.01,3,     4.23,3,     -999,9,     -999,9,   2230.1,2,   2328.0,2,20170112,2345
06M220170104  ,A10.5      ,41      ,  1,41108.0    ,240866.0   ,8          ,2,20170112,2254, -34.4997,  -1.7924,     4570,   1797.3,   2.7824,  34.6939,    198.4,2,    195.8,2,    94.96,3,    46.50,3,     0.01,3,     3.93,3,     -999,9,     -999,9,   2217.3,2,   2332.6,2,20170112,2340
06M220170104  ,A10.5      ,41      ,  1,41107.0    ,240865.0   ,7          ,2,20170112,2254, -34.4997,  -1.7924,     4570,   2296.5,   2.6242,  34.8084,    217.2,2,    215.6,2,    96.89,3,    45.12,3,     0.03,3,     4.13,3,     -999,9,     -999,9,   2214.2,2,   2338.7,2,20170112,2332
06M220170104  ,A10.5      ,41      ,  1,41106.0    ,240864.0   ,6          ,2,20170112,2254, -34.4997,  -1.7924,     4570,   2796.6,   2.4620,  34.8430,    229.6,2,    226.7,2,    78.72,3,    30.77,3,     0.00,3,     2.73,3,     -999,9,     -999,9,   2203.8,2,   2338.7,2,20170112,2324
06M220170104  ,A10.5      ,41      ,  1,41105.0    ,240863.0   ,5          ,2,20170112,2254, -34.4997,  -1.7924,     4570,   3196.9,   2.2686,  34.8455,    233.0,2,    234.1,2,    64.84,3,    32.32,3,     0.00,3,     1.97,3,     -999,9,     -999,9,     -999,9,     -999,9,20170112,2317
06M220170104  ,A10.5      ,41      ,  1,41104.0    ,240862.0   ,4          ,2,20170112,2254, -34.4997,  -1.7924,     4570,   3595.9,   2.0389,  34.8274,    229.1,2,    228.4,2,    82.26,3,    36.59,3,     0.00,3,     2.25,3,     -999,9,     -999,9,   2216.5,2,   2351.1,2,20170112,2311
06M220170104  ,A10.5      ,41      ,  1,41103.0    ,240861.0   ,3          ,2,20170112,2254, -34.4997,  -1.7924,     4570,   4044.8,   1.3413,  34.7594,    220.5,2,    219.6,2,   139.89,4,    50.09,3,     0.02,3,     4.38,3,     -999,9,     -999,9,   2242.6,2,   2368.5,2,20170112,2303
06M220170104  ,A10.5      ,41      ,  1,41102.0    ,240860.0   ,2          ,2,20170112,2254, -34.4997,  -1.7924,     4570,   4559.9,   1.1334,  34.7353,    218.3,2,    216.7,2,   124.32,3,    43.56,3,     0.01,3,     3.36,3,     -999,9,     -999,9,     -999,9,     -999,9,20170112,2254
06M220170104  ,A10.5      ,41      ,  1,41101.0    ,240859.0   ,1          ,2,20170112,2254, -34.4997,  -1.7924,     4570,   4560.1,   1.1333,  34.7353,    218.3,2,    216.2,2,   126.81,3,    38.30,3,     0.00,3,     2.80,3,     -999,9,     -999,9,   2250.6,2,   2368.5,2,20170112,2254
06M220170104  ,A10.5      ,42      ,  1,42122.0    ,240902.0   ,22         ,2,20170113,0417, -34.4997,  -2.4468,     4167,      6.8,  19.5190,  35.2773,    236.6,2,    235.0,2,     1.27,2,    -0.06,2,     0.00,2,     0.36,2,    1.373,2,   1.8130,2,   2075.6,2,   2329.0,2,20170113,0528
06M220170104  ,A10.5      ,42      ,  1,42121.0    ,240901.0   ,21         ,2,20170113,0417, -34.4997,  -2.4468,     4167,     21.9,  19.0329,  35.2433,    239.3,2,    238.2,2,     1.15,2,     0.00,2,     0.00,2,     0.29,2,    1.369,2,   1.7860,2,   2075.3,2,   2328.2,2,20170113,0527
06M220170104  ,A10.5      ,42      ,  1,42120.0    ,240900.0   ,20         ,2,20170113,0417, -34.4997,  -2.4468,     4167,     48.0,  16.9975,  35.3683,    253.4,2,    252.3,2,     1.46,2,    -0.05,2,     0.00,2,     0.31,2,    1.518,2,   1.9120,2,   2079.4,2,   2331.8,2,20170113,0527
06M220170104  ,A10.5      ,42      ,  1,42119.0    ,240899.0   ,19         ,2,20170113,0417, -34.4997,  -2.4468,     4167,     72.3,  15.4540,  35.3482,    253.2,2,    250.0,2,     1.57,2,     0.15,2,     0.03,2,     0.33,2,    1.550,2,   1.9160,2,     -999,9,     -999,9,20170113,0526
06M220170104  ,A10.5      ,42      ,  1,42118.0    ,240898.0   ,18         ,2,20170113,0417, -34.4997,  -2.4468,     4167,     99.7,  15.0133,  35.3373,    239.6,2,    239.8,2,     1.95,2,     2.11,2,     0.20,2,     0.63,2,    1.585,2,   1.8860,2,   2098.2,2,   2331.2,2,20170113,0525
06M220170104  ,A10.5      ,42      ,  1,42117.0    ,240897.0   ,17         ,2,20170113,0417, -34.4997,  -2.4468,     4167,    147.1,  14.4005,  35.2892,    231.0,2,    228.8,2,     2.52,2,     5.75,2,     0.02,2,     0.67,2,    1.621,2,   1.8880,2,     -999,9,     -999,9,20170113,0524
06M220170104  ,A10.5      ,42      ,  1,42116.0    ,240896.0   ,16         ,2,20170113,0417, -34.4997,  -2.4468,     4167,    208.0,  13.6603,  35.2382,    225.0,2,    229.0,2,     2.53,2,     6.78,2,     0.01,2,     0.97,2,    1.658,2,   1.8260,2,   2117.6,2,   2324.6,2,20170113,0523
06M220170104  ,A10.5      ,42      ,  1,42115.0    ,240895.0   ,15         ,2,20170113,0417, -34.4997,  -2.4468,     4167,    348.8,  12.0703,  35.0823,    219.0,2,    217.5,2,     4.81,2,    14.49,2,     0.01,2,     1.12,2,    1.769,2,   1.7410,2,   2135.4,2,   2313.2,2,20170113,0521
06M220170104  ,A10.5      ,42      ,  1,42114.0    ,240894.0   ,14         ,2,20170113,0417, -34.4997,  -2.4468,     4167,    555.9,   8.1649,  34.5738,    215.8,2,    215.2,2,     3.43,4,     9.33,4,     0.01,4,     2.10,3,    1.926,2,   1.4180,2,   2160.9,2,   2295.4,2,20170113,0517
06M220170104  ,A10.5      ,42      ,  1,42113.0    ,240893.0   ,13         ,2,20170113,0417, -34.4997,  -2.4468,     4167,    648.9,   6.3449,  34.3746,    228.2,2,    227.4,2,    11.73,2,    23.04,2,     0.00,2,     1.78,2,    1.979,2,   1.3800,2,     -999,9,     -999,9,20170113,0516
06M220170104  ,A10.5      ,42      ,  1,42112.0    ,240892.0   ,12         ,2,20170113,0417, -34.4997,  -2.4468,     4167,    737.0,   5.1670,  34.2770,    236.1,2,    235.6,2,    15.77,2,    26.34,2,     0.00,2,     2.33,3,    1.953,2,   1.2790,2,     -999,9,     -999,9,20170113,0514
06M220170104  ,A10.5      ,42      ,  1,42111.0    ,240891.0   ,11         ,2,20170113,0417, -34.4997,  -2.4468,     4167,    849.1,   4.3823,  34.2428,    236.5,2,    235.6,2,    21.04,2,    33.31,2,     0.01,2,     2.06,2,    1.801,2,   1.1250,2,   2182.6,2,   2290.8,2,20170113,0512
06M220170104  ,A10.5      ,42      ,  1,42110.0    ,240890.0   ,10         ,2,20170113,0417, -34.4997,  -2.4468,     4167,    936.2,   4.0061,  34.2503,    231.4,2,    229.8,2,    28.55,2,    32.21,2,     0.00,2,     2.49,3,    1.597,2,   0.9280,2,     -999,9,     -999,9,20170113,0511
06M220170104  ,A10.5      ,42      ,  1,42109.0    ,240889.0   ,9          ,2,20170113,0417, -34.4997,  -2.4468,     4167,   1246.7,   3.1175,  34.4015,    198.7,2,    196.9,2,    48.56,2,    32.22,2,     0.00,2,     2.46,2,    0.715,2,   0.3520,2,   2225.5,2,   2314.6,2,20170113,0506
06M220170104  ,A10.5      ,42      ,  1,42108.0    ,240888.0   ,8          ,2,20170113,0417, -34.4997,  -2.4468,     4167,   1499.2,   2.8988,  34.5442,    190.4,2,    188.9,2,    59.64,2,    33.47,2,     0.00,2,     2.52,2,    0.344,2,   0.1840,2,   2232.0,2,   2328.9,2,20170113,0501
06M220170104  ,A10.5      ,42      ,  1,42107.0    ,240887.0   ,7          ,2,20170113,0417, -34.4997,  -2.4468,     4167,   1716.1,   2.8140,  34.6445,    193.4,2,    191.5,2,    66.32,2,    31.04,2,     0.01,2,     1.61,4,    0.173,2,   0.0630,2,   2235.8,2,   2332.5,2,20170113,0458
06M220170104  ,A10.5      ,42      ,  1,42106.0    ,240886.0   ,6          ,2,20170113,0417, -34.4997,  -2.4468,     4167,   1996.1,   2.7183,  34.7494,    205.1,2,    203.8,2,    42.49,4,    22.51,4,     0.01,4,     2.04,2,    0.079,2,   0.0000,2,   2225.5,2,   2338.2,2,20170113,0453
06M220170104  ,A10.5      ,42      ,  1,42105.0    ,240885.0   ,5          ,2,20170113,0417, -34.4997,  -2.4468,     4167,   2498.1,   2.5370,  34.8340,    225.8,2,    224.2,2,    57.66,2,    28.40,2,     0.00,2,     1.70,2,    0.033,2,   0.0000,2,   2215.1,2,   2339.5,2,20170113,0445
06M220170104  ,A10.5      ,42      ,  1,42104.0    ,240884.0   ,4          ,2,20170113,0417, -34.4997,  -2.4468,     4167,   2996.8,   2.3327,  34.8493,    233.9,2,    233.4,2,    50.74,2,    25.59,2,     0.01,2,     1.89,2,    0.025,2,   0.0000,2,   2213.5,2,   2344.5,2,20170113,0436
06M220170104  ,A10.5      ,42      ,  1,42103.0    ,240883.0   ,3          ,2,20170113,0417, -34.4997,  -2.4468,     4167,   3497.9,   2.1648,  34.8430,    232.8,2,    232.5,2,    59.00,2,    26.21,2,     0.00,2,     2.07,2,    0.020,2,   0.0000,2,   2220.1,2,   2352.1,2,20170113,0428
06M220170104  ,A10.5      ,42      ,  1,42101.0    ,240881.0   ,1          ,2,20170113,0417, -34.4997,  -2.4468,     4167,   4156.0,   1.1860,  34.7443,    219.3,2,    218.0,2,    95.16,2,    29.85,2,     0.00,2,     0.07,4,    0.057,2,   0.0000,2,   2252.3,2,   2371.5,2,20170113,0417
06M220170104  ,A10.5      ,42      ,  1,42102.0    ,240882.0   ,2          ,2,20170113,0417, -34.4997,  -2.4468,     4167,   4157.2,   1.1859,  34.7443,    219.1,2,    217.5,2,    92.26,2,    30.25,2,     0.01,2,     2.15,2,    0.051,2,   0.0000,2,     -999,9,     -999,9,20170113,0417
06M220170104  ,A10.5      ,43      ,  1,43122.0    ,240924.0   ,22         ,2,20170113,0944, -34.4996,  -3.1019,     4228,      8.1,  20.6737,  35.5081,    230.9,2,    229.4,2,     1.31,2,     0.04,2,     0.02,3,     0.16,3,     -999,9,     -999,9,   2078.4,2,   2338.9,2,20170113,1054
06M220170104  ,A10.5      ,43      ,  1,43121.0    ,240923.0   ,21         ,2,20170113,0944, -34.4996,  -3.1019,     4228,     63.1,  18.1711,  35.5770,    248.0,2,    244.7,2,     1.58,2,     0.04,2,     0.01,3,     0.21,3,     -999,9,     -999,9,   2078.9,2,   2345.4,2,20170113,1052
06M220170104  ,A10.5      ,43      ,  1,43120.0    ,240922.0   ,20         ,2,20170113,0944, -34.4996,  -3.1019,     4228,    101.5,  16.7379,  35.5839,    245.1,2,    239.8,2,     1.73,2,     0.52,2,     0.03,3,     0.41,3,     -999,9,     -999,9,   2096.6,2,   2338.7,2,20170113,1050
06M220170104  ,A10.5      ,43      ,  1,43119.0    ,240921.0   ,19         ,2,20170113,0944, -34.4996,  -3.1019,     4228,    166.9,  15.0669,  35.3804,    227.5,2,    228.2,2,     2.51,2,     4.82,2,     0.05,3,     0.56,3,     -999,9,     -999,9,     -999,9,     -999,9,20170113,1049
06M220170104  ,A10.5      ,43      ,  1,43118.0    ,240920.0   ,18         ,2,20170113,0944, -34.4996,  -3.1019,     4228,    247.9,  13.5737,  35.2416,    222.9,2,    174.2,4,     3.07,2,     7.83,2,     0.01,3,     0.73,3,     -999,9,     -999,9,   2130.3,2,   2317.0,2,20170113,1048
06M220170104  ,A10.5      ,43      ,  1,43117.0    ,240919.0   ,17         ,2,20170113,0944, -34.4996,  -3.1019,     4228,    316.9,  12.6713,  35.1503,    215.6,2,    212.0,2,     4.11,2,    10.79,2,     0.01,3,     1.27,3,     -999,9,     -999,9,     -999,9,     -999,9,20170113,1047
06M220170104  ,A10.5      ,43      ,  1,43116.0    ,240918.0   ,16         ,2,20170113,0944, -34.4996,  -3.1019,     4228,    416.5,  10.8946,  34.9152,    211.2,2,    210.7,2,     5.93,2,    14.92,2,     0.00,3,     2.37,3,     -999,9,     -999,9,   2151.2,2,   2303.6,2,20170113,1045
06M220170104  ,A10.5      ,43      ,  1,43115.0    ,240917.0   ,15         ,2,20170113,0944, -34.4996,  -3.1019,     4228,    517.6,   8.9399,  34.6732,    208.8,2,     -999,9,     -999,9,     -999,9,     -999,9,     -999,9,     -999,9,     -999,9,     -999,9,     -999,9,20170113,1044
06M220170104  ,A10.5      ,43      ,  1,43114.0    ,240916.0   ,14         ,2,20170113,0944, -34.4996,  -3.1019,     4228,    587.3,   7.5116,  34.5160,    212.9,2,    211.8,2,    15.57,3,    29.38,3,     0.04,3,     1.85,3,     -999,9,     -999,9,   2174.2,2,   2287.5,2,20170113,1043
06M220170104  ,A10.5      ,43      ,  1,43113.0    ,240915.0   ,13         ,2,20170113,0944, -34.4996,  -3.1019,     4228,    767.2,   5.1434,  34.2833,    234.4,2,    232.0,2,    17.48,2,    27.49,2,     0.02,3,     2.53,3,     -999,9,     -999,9,     -999,9,     -999,9,20170113,1040
06M220170104  ,A10.5      ,43      ,  1,43112.0    ,240914.0   ,12         ,2,20170113,0944, -34.4996,  -3.1019,     4228,    872.0,   4.3262,  34.2545,    233.3,2,    229.7,2,    24.68,2,    29.61,2,     0.03,3,     2.29,3,     -999,9,     -999,9,   2186.2,2,   2287.7,2,20170113,1038
06M220170104  ,A10.5      ,43      ,  1,43111.0    ,240913.0   ,11         ,2,20170113,0944, -34.4996,  -3.1019,     4228,    997.5,   3.9183,  34.2903,    220.6,2,    217.4,2,    33.18,2,    30.27,3,     0.02,3,     2.78,3,     -999,9,     -999,9,     -999,9,     -999,9,20170113,1036
06M220170104  ,A10.5      ,43      ,  1,43110.0    ,240912.0   ,10         ,2,20170113,0944, -34.4996,  -3.1019,     4228,   1297.7,   3.0864,  34.4203,    196.8,2,    194.0,2,    65.64,2,    39.98,3,     0.01,3,     2.86,3,     -999,9,     -999,9,   2233.2,2,   2312.1,2,20170113,1031
06M220170104  ,A10.5      ,43      ,  1,43109.0    ,240911.0   ,9          ,2,20170113,0944, -34.4996,  -3.1019,     4228,   1596.7,   2.8583,  34.5790,    190.0,2,    188.4,2,    62.71,2,    36.62,3,     0.01,3,     2.33,3,     -999,9,     -999,9,   2241.6,2,   2325.6,2,20170113,1026
06M220170104  ,A10.5      ,43      ,  1,43108.0    ,240910.0   ,8          ,2,20170113,0944, -34.4996,  -3.1019,     4228,   1996.6,   2.7570,  34.7373,    204.2,2,     -999,9,     -999,9,     -999,9,     -999,9,     -999,9,     -999,9,     -999,9,     -999,9,     -999,9,20170113,1020
06M220170104  ,A10.5      ,43      ,  1,43107.0    ,240909.0   ,7          ,2,20170113,0944, -34.4996,  -3.1019,     4228,   2397.7,   2.6139,  34.8161,    220.1,2,    219.6,2,    66.31,3,    28.35,3,     0.01,3,     0.98,3,     -999,9,     -999,9,   2221.4,2,   2333.9,2,20170113,1014
06M220170104  ,A10.5      ,43      ,  1,43106.0    ,240908.0   ,6          ,2,20170113,0944, -34.4996,  -3.1019,     4228,   2797.4,   2.4671,  34.8431,    230.1,2,    228.3,2,    48.69,2,    19.62,3,     0.00,3,     1.94,3,     -999,9,     -999,9,   2201.4,2,   2340.9,2,20170113,1007
06M220170104  ,A10.5      ,43      ,  1,43105.0    ,240907.0   ,5          ,2,20170113,0944, -34.4996,  -3.1019,     4228,   3195.6,   2.3326,  34.8472,    233.4,2,    232.6,2,    58.69,2,    26.59,3,     0.00,3,     1.99,3,     -999,9,     -999,9,   2215.8,2,   2341.3,2,20170113,1001
06M220170104  ,A10.5      ,43      ,  1,43104.0    ,240906.0   ,4          ,2,20170113,0944, -34.4996,  -3.1019,     4228,   3596.6,   2.1343,  34.8381,    232.2,2,    230.7,2,    70.09,2,    26.76,3,     0.01,3,     2.80,3,     -999,9,     -999,9,   2219.4,2,   2347.4,2,20170113,0955
06M220170104  ,A10.5      ,43      ,  1,43103.0    ,240905.0   ,3          ,2,20170113,0944, -34.4996,  -3.1019,     4228,   3994.7,   1.3654,  34.7622,    221.4,2,    220.8,2,   106.73,2,    32.76,3,     0.01,3,     2.14,3,     -999,9,     -999,9,   2240.2,2,   2368.2,2,20170113,0949
06M220170104  ,A10.5      ,43      ,  1,43102.0    ,240904.0   ,2          ,2,20170113,0944, -34.4996,  -3.1019,     4228,   4217.9,   1.1353,  34.7393,    218.5,2,    214.2,3,   102.25,3,    28.54,3,     0.00,3,     3.00,3,     -999,9,     -999,9,     -999,9,     -999,9,20170113,0944
06M220170104  ,A10.5      ,43      ,  1,43101.0    ,240903.0   ,1          ,2,20170113,0944, -34.4996,  -3.1019,     4228,   4218.5,   1.1342,  34.7393,    218.9,2,    215.8,3,   123.34,2,    34.15,3,     0.01,3,     0.02,3,     -999,9,     -999,9,   2258.5,2,   2368.3,2,20170113,0944