BOTTLE,20240228CCHSIOADS
EXPOCODE,SECT_ID,STNNBR,CASTNO,SAMPNO,BIONBR,BTLNBR,BTLNBR_FLAG_W,DATE,TIME,LATITUDE,LONGITUDE,DEPTH,CTDPRS,CTDTMP,CTDSAL,CTDOXY,CTDOXY_FLAG_W,OXYGEN,OXYGEN_FLAG_W,SILCAT,SILCAT_FLAG_W,NITRAT,NITRAT_FLAG_W,NITRIT,NITRIT_FLAG_W,PHSPHT,PHSPHT_FLAG_W,CFC-12,CFC-12_FLAG_W,SF6,SF6_FLAG_W,TCARBN,TCARBN_FLAG_W,ALKALI,ALKALI_FLAG_W,BTL_DATE,BTL_TIME
,,,,,,,,,,,,METERS,DBAR,ITS-90,PSS-78,UMOL/KG,,UMOL/KG,,UMOL/KG,,UMOL/KG,,UMOL/KG,,UMOL/KG,,PMOL/KG,,FMOL/KG,,UMOL/KG,,UMOL/KG,,,
06M220170104  ,A10.5      ,52      ,  1,52122.0    ,241611.0   ,22         ,2,20170115,0015, -34.4996,  -7.6864,     4402,      8.6,  19.9964,  35.3994,    235.7,2,    234.6,2,     1.30,2,     0.36,2,     0.02,2,     0.21,3,     -999,9,     -999,9,   2035.9,2,   2327.4,2,20170115,0130
06M220170104  ,A10.5      ,52      ,  1,52121.0    ,241610.0   ,21         ,2,20170115,0015, -34.4996,  -7.6864,     4402,     48.5,  17.0107,  35.3837,    251.6,2,    251.3,2,     1.17,2,     0.35,2,     0.01,2,     0.19,3,     -999,9,     -999,9,   2077.0,2,   2329.2,2,20170115,0129
06M220170104  ,A10.5      ,52      ,  1,52120.0    ,241609.0   ,20         ,2,20170115,0015, -34.4996,  -7.6864,     4402,    104.4,  15.1072,  35.3555,    248.1,2,    245.4,2,     1.37,2,     1.17,2,     0.16,2,     0.31,3,     -999,9,     -999,9,   2097.0,2,   2328.4,2,20170115,0127
06M220170104  ,A10.5      ,52      ,  1,52119.0    ,241608.0   ,19         ,2,20170115,0015, -34.4996,  -7.6864,     4402,    147.3,  14.6878,  35.3465,    241.0,2,    239.4,2,     1.75,2,     3.05,2,     0.03,2,     0.38,3,     -999,9,     -999,9,   2108.4,2,   2328.4,2,20170115,0127
06M220170104  ,A10.5      ,52      ,  1,52118.0    ,241607.0   ,18         ,2,20170115,0015, -34.4996,  -7.6864,     4402,    298.4,  13.2153,  35.2709,    219.5,2,    219.8,2,     3.96,2,    10.58,2,     0.01,2,     0.91,3,     -999,9,     -999,9,     -999,9,     -999,9,20170115,0124
06M220170104  ,A10.5      ,52      ,  1,52117.0    ,241606.0   ,17         ,2,20170115,0015, -34.4996,  -7.6864,     4402,    397.4,  11.4013,  34.9996,    211.9,2,    211.6,2,     4.76,2,    15.88,2,     0.00,2,     1.10,3,     -999,9,     -999,9,   2150.1,2,   2307.9,2,20170115,0122
06M220170104  ,A10.5      ,52      ,  1,52116.0    ,241605.0   ,16         ,2,20170115,0015, -34.4996,  -7.6864,     4402,    496.3,   9.4657,  34.7305,    212.4,2,    212.4,2,    10.10,2,    23.89,2,     0.01,2,     1.90,3,     -999,9,     -999,9,   2162.8,2,   2295.2,2,20170115,0121
06M220170104  ,A10.5      ,52      ,  1,52115.0    ,241604.0   ,15         ,2,20170115,0015, -34.4996,  -7.6864,     4402,    647.8,   6.4316,  34.3867,    225.5,2,    225.1,2,    19.08,2,    33.34,2,     0.02,2,     2.64,3,     -999,9,     -999,9,   2171.9,2,   2286.2,2,20170115,0118
06M220170104  ,A10.5      ,52      ,  1,52114.0    ,241603.0   ,14         ,2,20170115,0015, -34.4996,  -7.6864,     4402,    877.5,   4.2399,  34.2529,    232.1,2,    231.4,2,    32.89,2,    37.28,2,     0.01,2,     3.10,3,     -999,9,     -999,9,   2193.0,2,   2287.3,2,20170115,0114
06M220170104  ,A10.5      ,52      ,  1,52113.0    ,241602.0   ,13         ,2,20170115,0015, -34.4996,  -7.6864,     4402,    997.1,   3.7134,  34.2835,    221.0,2,    220.3,2,    42.03,3,    36.80,3,     0.02,3,     2.69,3,     -999,9,     -999,9,     -999,9,     -999,9,20170115,0112
06M220170104  ,A10.5      ,52      ,  1,52112.0    ,241601.0   ,12         ,2,20170115,0015, -34.4996,  -7.6864,     4402,   1097.6,   3.4405,  34.3312,    209.9,2,    209.3,2,    52.25,2,    37.74,2,     0.03,2,     2.53,3,     -999,9,     -999,9,   2219.9,2,   2301.3,2,20170115,0110
06M220170104  ,A10.5      ,52      ,  1,52111.0    ,241600.0   ,11         ,2,20170115,0015, -34.4996,  -7.6864,     4402,   1248.4,   3.1428,  34.4179,    196.8,2,    196.8,2,    55.50,2,    35.97,2,     0.01,2,     2.84,3,     -999,9,     -999,9,     -999,9,     -999,9,20170115,0108
06M220170104  ,A10.5      ,52      ,  1,52110.0    ,241599.0   ,10         ,2,20170115,0015, -34.4996,  -7.6864,     4402,   1498.0,   2.9234,  34.5625,    189.0,2,    188.9,2,    55.06,2,    33.37,2,     0.00,2,     2.44,3,     -999,9,     -999,9,   2236.6,2,   2325.4,2,20170115,0104
06M220170104  ,A10.5      ,52      ,  1,52109.0    ,241598.0   ,9          ,2,20170115,0015, -34.4996,  -7.6864,     4402,   1746.4,   2.8154,  34.6775,    195.6,2,    194.6,2,    63.59,3,    33.20,3,     0.02,3,     2.35,3,     -999,9,     -999,9,     -999,9,     -999,9,20170115,0100
06M220170104  ,A10.5      ,52      ,  1,52108.0    ,241597.0   ,8          ,2,20170115,0015, -34.4996,  -7.6864,     4402,   1996.2,   2.7593,  34.7553,    206.6,2,     -999,9,     -999,9,     -999,9,     -999,9,     -999,9,     -999,9,     -999,9,     -999,9,     -999,9,20170115,0055
06M220170104  ,A10.5      ,52      ,  1,52107.0    ,241596.0   ,7          ,2,20170115,0015, -34.4996,  -7.6864,     4402,   2396.4,   2.6466,  34.8303,    223.9,2,    223.9,2,    58.23,2,    26.82,2,     0.02,2,     1.71,3,     -999,9,     -999,9,   2213.4,2,   2333.3,2,20170115,0049
06M220170104  ,A10.5      ,52      ,  1,52106.0    ,241595.0   ,6          ,2,20170115,0015, -34.4996,  -7.6864,     4402,   2796.7,   2.5087,  34.8540,    233.1,2,    232.6,2,    57.74,2,    25.31,2,     0.02,2,     1.69,3,     -999,9,     -999,9,     -999,9,     -999,9,20170115,0042
06M220170104  ,A10.5      ,52      ,  1,52105.0    ,241594.0   ,5          ,2,20170115,0015, -34.4996,  -7.6864,     4402,   3197.3,   2.3390,  34.8547,    236.0,2,    235.4,2,    58.91,2,    24.76,2,     0.00,2,     1.73,3,     -999,9,     -999,9,   2212.5,2,   2338.7,2,20170115,0035
06M220170104  ,A10.5      ,52      ,  1,52104.0    ,241593.0   ,4          ,2,20170115,0015, -34.4996,  -7.6864,     4402,   3597.8,   2.2370,  34.8524,    234.6,2,    234.1,2,    52.52,3,    22.48,3,     0.00,3,     1.41,3,     -999,9,     -999,9,   2213.3,2,   2347.7,2,20170115,0029
06M220170104  ,A10.5      ,52      ,  1,52103.0    ,241592.0   ,3          ,2,20170115,0015, -34.4996,  -7.6864,     4402,   3997.4,   1.9706,  34.8228,    229.2,2,    229.3,2,    69.24,2,    27.20,2,     0.01,2,     1.70,3,     -999,9,     -999,9,   2228.6,2,   2358.0,2,20170115,0022
06M220170104  ,A10.5      ,52      ,  1,52102.0    ,241591.0   ,2          ,2,20170115,0015, -34.4996,  -7.6864,     4402,   4391.5,   1.5334,  34.7733,    222.2,2,    221.3,2,   103.26,3,    35.60,3,     0.02,3,     2.76,3,     -999,9,     -999,9,     -999,9,     -999,9,20170115,0015
06M220170104  ,A10.5      ,52      ,  1,52101.0    ,241590.0   ,1          ,2,20170115,0015, -34.4996,  -7.6864,     4402,   4392.3,   1.5313,  34.7731,    222.3,2,    221.2,2,    93.69,2,    29.11,2,     0.01,2,     2.04,3,     -999,9,     -999,9,   2247.5,2,   2363.8,2,20170115,0015
06M220170104  ,A10.5      ,53      ,  1,53122.0    ,241633.0   ,22         ,2,20170115,0528, -34.4997,  -8.3411,     4121,      6.6,  19.0150,  35.3380,    240.3,2,    238.4,2,     0.96,2,     0.39,2,     0.00,2,     0.18,3,    1.398,2,   1.7930,2,   2076.1,2,   2331.3,2,20170115,0639
06M220170104  ,A10.5      ,53      ,  1,53121.0    ,241632.0   ,21         ,2,20170115,0528, -34.4997,  -8.3411,     4121,     22.3,  18.1843,  35.2683,    244.9,2,    243.4,2,     1.27,2,     0.33,2,     0.01,2,     0.19,3,    1.458,2,   1.8250,2,   2070.0,2,   2328.4,2,20170115,0639
06M220170104  ,A10.5      ,53      ,  1,53120.0    ,241631.0   ,20         ,2,20170115,0528, -34.4997,  -8.3411,     4121,     48.8,  17.0747,  35.3140,    248.9,2,    243.2,2,     1.45,2,     0.37,2,     0.01,2,     0.23,3,    1.519,2,   1.8880,2,   2073.6,2,   2329.6,2,20170115,0638
06M220170104  ,A10.5      ,53      ,  1,53119.0    ,241630.0   ,19         ,2,20170115,0528, -34.4997,  -8.3411,     4121,     77.8,  15.4941,  35.3675,    252.2,2,    249.6,2,     1.50,2,     0.63,2,     0.10,2,     0.24,3,    1.575,2,   1.9330,2,     -999,9,     -999,9,20170115,0637
06M220170104  ,A10.5      ,53      ,  1,53118.0    ,241629.0   ,18         ,2,20170115,0528, -34.4997,  -8.3411,     4121,    143.0,  14.4757,  35.3289,    236.4,2,    248.5,4,     1.93,2,     4.22,2,     0.02,2,     0.43,3,    1.652,2,   1.9450,2,   2106.6,2,   2329.2,2,20170115,0635
06M220170104  ,A10.5      ,53      ,  1,53117.0    ,241628.0   ,17         ,2,20170115,0528, -34.4997,  -8.3411,     4121,    227.2,  13.9479,  35.3577,    224.2,2,    223.0,2,     2.70,2,     7.08,2,     0.01,2,     0.58,3,    1.669,2,   1.8620,2,   2125.3,2,   2330.6,2,20170115,0634
06M220170104  ,A10.5      ,53      ,  1,53116.0    ,241627.0   ,16         ,2,20170115,0528, -34.4997,  -8.3411,     4121,    346.1,  12.8475,  35.2117,    218.2,2,    216.1,2,     4.03,2,    11.58,2,     0.02,2,     0.98,3,    1.733,2,   1.7130,2,   2128.4,2,   2321.3,2,20170115,0632
06M220170104  ,A10.5      ,53      ,  1,53115.0    ,241626.0   ,15         ,2,20170115,0528, -34.4997,  -8.3411,     4121,    446.9,  11.1025,  34.9498,    212.0,2,    211.3,2,     4.65,2,    14.50,2,     0.01,2,     1.21,3,    1.837,2,   1.5200,2,     -999,9,     -999,9,20170115,0630
06M220170104  ,A10.5      ,53      ,  1,53114.0    ,241625.0   ,14         ,2,20170115,0528, -34.4997,  -8.3411,     4121,    566.8,   8.5857,  34.6228,    214.0,2,    213.9,2,     9.01,2,    20.75,2,     0.01,2,     1.46,3,    1.934,2,   1.4210,2,   2152.0,2,   2293.3,2,20170115,0628
06M220170104  ,A10.5      ,53      ,  1,53113.0    ,241624.0   ,13         ,2,20170115,0528, -34.4997,  -8.3411,     4121,    636.3,   6.7727,  34.4133,    225.7,2,    225.1,2,    11.12,2,    28.93,3,     0.03,3,     2.24,3,    2.013,2,   1.4090,2,     -999,9,     -999,9,20170115,0627
06M220170104  ,A10.5      ,53      ,  1,53112.0    ,241623.0   ,12         ,2,20170115,0528, -34.4997,  -8.3411,     4121,    837.0,   4.4883,  34.2456,    236.8,2,    234.8,2,    23.94,2,    31.67,2,     0.01,2,     2.29,3,    1.805,2,   1.1100,2,   2177.8,2,   2287.7,2,20170115,0623
06M220170104  ,A10.5      ,53      ,  1,53111.0    ,241622.0   ,11         ,2,20170115,0528, -34.4997,  -8.3411,     4121,    996.5,   3.7355,  34.2788,    222.2,2,    222.0,2,    41.82,2,    36.56,2,     0.02,2,     2.72,3,    1.317,2,   0.6670,2,   2191.6,2,   2296.9,2,20170115,0621
06M220170104  ,A10.5      ,53      ,  1,53110.0    ,241621.0   ,10         ,2,20170115,0528, -34.4997,  -8.3411,     4121,   1188.7,   3.2272,  34.3738,    202.4,2,    201.9,2,     -999,9,     -999,9,     -999,9,     -999,9,    0.792,2,   0.3840,2,   2216.6,2,   2313.1,2,20170115,0618
06M220170104  ,A10.5      ,53      ,  1,53109.0    ,241620.0   ,9          ,2,20170115,0528, -34.4997,  -8.3411,     4121,   1496.9,   2.9157,  34.5459,    190.5,2,    189.9,2,    48.73,3,    35.32,2,     0.01,2,     2.39,3,    0.315,2,   0.1440,2,   2231.7,2,   2326.0,2,20170115,0612
06M220170104  ,A10.5      ,53      ,  1,53108.0    ,241619.0   ,8          ,2,20170115,0528, -34.4997,  -8.3411,     4121,   1698.2,   2.8525,  34.6411,    192.8,2,     -999,9,    66.44,3,    34.77,2,     0.00,2,     2.54,3,     -999,9,     -999,9,     -999,9,     -999,9,20170115,0609
06M220170104  ,A10.5      ,53      ,  1,53107.0    ,241618.0   ,7          ,2,20170115,0528, -34.4997,  -8.3411,     4121,   1996.5,   2.7671,  34.7538,    206.2,2,    205.2,2,    69.72,3,    33.78,2,     0.01,2,     2.75,3,    0.066,2,   0.0000,2,   2217.4,2,   2334.3,2,20170115,0604
06M220170104  ,A10.5      ,53      ,  1,53106.0    ,241617.0   ,6          ,2,20170115,0528, -34.4997,  -8.3411,     4121,   2497.1,   2.6526,  34.8366,    226.1,2,    225.1,2,    59.56,3,    27.83,2,     0.02,2,     1.94,3,    0.036,2,   0.0000,2,   2210.3,2,   2337.0,2,20170115,0556
06M220170104  ,A10.5      ,53      ,  1,53105.0    ,241616.0   ,5          ,2,20170115,0528, -34.4997,  -8.3411,     4121,   2995.7,   2.4394,  34.8560,    235.2,2,    234.5,2,    54.25,3,    24.84,2,     0.01,2,     1.63,3,    0.024,2,   0.0000,2,   2201.2,2,   2340.3,2,20170115,0548
06M220170104  ,A10.5      ,53      ,  1,53104.0    ,241615.0   ,4          ,2,20170115,0528, -34.4997,  -8.3411,     4121,   3498.0,   2.2760,  34.8555,    235.6,2,    235.3,2,    70.08,3,    27.69,3,     0.02,3,     2.26,3,    0.018,2,   0.0000,2,   2210.5,2,   2347.1,2,20170115,0539
06M220170104  ,A10.5      ,53      ,  1,53103.0    ,241614.0   ,3          ,2,20170115,0528, -34.4997,  -8.3411,     4121,   3858.6,   2.0364,  34.8298,    230.9,2,    229.5,2,    65.55,3,    23.60,2,     0.02,2,     1.54,3,    0.020,2,   0.0000,2,   2217.7,2,   2357.4,2,20170115,0533
06M220170104  ,A10.5      ,53      ,  1,53102.0    ,241613.0   ,2          ,2,20170115,0528, -34.4997,  -8.3411,     4121,   4110.9,   1.8895,  34.8124,    228.0,2,    226.6,2,    71.44,3,    24.83,2,     0.02,2,     1.87,3,    0.023,2,   0.0000,2,     -999,9,     -999,9,20170115,0528
06M220170104  ,A10.5      ,53      ,  1,53101.0    ,241612.0   ,1          ,2,20170115,0528, -34.4997,  -8.3411,     4121,   4111.0,   1.8889,  34.8123,    227.9,2,    227.2,2,    74.52,3,    26.14,3,     0.02,3,     1.98,3,    0.025,2,   0.0000,2,   2224.8,2,   2358.0,2,20170115,0528
06M220170104  ,A10.5      ,54      ,  1,54122.0    ,241655.0   ,22         ,2,20170115,1043, -34.4997,  -8.9961,     4077,      8.5,  20.8808,  35.4486,    231.6,2,    231.2,2,     0.56,2,    -0.10,2,     0.00,2,     0.05,2,    1.331,2,   1.6940,2,   2080.4,2,   2336.1,2,20170115,1153
06M220170104  ,A10.5      ,54      ,  1,54121.0    ,241654.0   ,21         ,2,20170115,1043, -34.4997,  -8.9961,     4077,     38.3,  18.0497,  35.3414,    245.6,2,    240.4,2,     0.55,2,    -0.10,2,     0.00,2,     0.06,2,     -999,9,     -999,9,   2078.0,2,   2326.7,2,20170115,1152
06M220170104  ,A10.5      ,54      ,  1,54120.0    ,241653.0   ,20         ,2,20170115,1043, -34.4997,  -8.9961,     4077,    103.6,  15.1387,  35.3544,    246.0,2,    241.6,2,     0.58,2,     0.94,2,     0.19,2,     0.16,2,    1.588,2,   1.9370,2,   2095.8,2,   2327.1,2,20170115,1150
06M220170104  ,A10.5      ,54      ,  1,54119.0    ,241652.0   ,19         ,2,20170115,1043, -34.4997,  -8.9961,     4077,    146.2,  14.5191,  35.3015,    243.0,2,    239.5,2,     0.84,2,     2.63,2,     0.03,2,     0.23,2,    1.631,2,   2.0300,2,     -999,9,     -999,9,20170115,1149
06M220170104  ,A10.5      ,54      ,  1,54118.0    ,241651.0   ,18         ,2,20170115,1043, -34.4997,  -8.9961,     4077,    281.8,  13.5073,  35.3075,    221.4,2,    219.2,2,     2.10,2,     8.13,2,     0.00,2,     0.58,2,    1.707,2,   1.8420,2,   2128.2,2,   2324.6,2,20170115,1147
06M220170104  ,A10.5      ,54      ,  1,54117.0    ,241650.0   ,17         ,2,20170115,1043, -34.4997,  -8.9961,     4077,    396.5,  11.5104,  35.0027,    213.8,2,    212.0,2,     3.73,2,    12.97,2,     0.00,2,     0.85,2,     -999,9,     -999,9,   2147.4,2,   2310.4,2,20170115,1145
06M220170104  ,A10.5      ,54      ,  1,54116.0    ,241649.0   ,16         ,2,20170115,1043, -34.4997,  -8.9961,     4077,    496.7,   9.9217,  34.7906,    210.1,2,    208.8,2,     5.28,2,    15.49,2,     0.00,2,     1.23,2,    1.873,2,   1.4390,2,     -999,9,     -999,9,20170115,1143
06M220170104  ,A10.5      ,54      ,  1,54115.0    ,241648.0   ,15         ,2,20170115,1043, -34.4997,  -8.9961,     4077,    612.1,   8.0685,  34.5697,    210.6,2,    208.9,2,    11.09,3,    26.36,3,     0.01,3,     1.78,3,     -999,9,     -999,9,   2164.6,2,   2287.9,2,20170115,1141
06M220170104  ,A10.5      ,54      ,  1,54114.0    ,241647.0   ,14         ,2,20170115,1043, -34.4997,  -8.9961,     4077,    841.2,   4.7810,  34.2613,    234.6,2,    232.4,2,    18.12,2,    28.52,2,     0.00,2,     1.95,2,    1.858,2,   1.1670,2,   2177.0,2,   2283.8,2,20170115,1137
06M220170104  ,A10.5      ,54      ,  1,54113.0    ,241646.0   ,13         ,2,20170115,1043, -34.4997,  -8.9961,     4077,    897.0,   4.4816,  34.2721,    227.6,2,    225.1,2,    23.78,2,    31.27,2,     0.00,2,     2.12,2,    1.640,2,   1.0230,2,     -999,9,     -999,9,20170115,1136
06M220170104  ,A10.5      ,54      ,  1,54112.0    ,241645.0   ,12         ,2,20170115,1043, -34.4997,  -8.9961,     4077,    997.7,   3.9670,  34.3010,    216.1,2,    212.7,2,    21.94,3,    23.99,3,     0.03,3,     1.67,3,    1.297,2,   0.6400,2,   2197.9,2,   2293.4,2,20170115,1134
06M220170104  ,A10.5      ,54      ,  1,54111.0    ,241644.0   ,11         ,2,20170115,1043, -34.4997,  -8.9961,     4077,   1246.6,   3.2231,  34.4058,    197.5,2,    194.7,2,    49.49,2,    38.00,2,     0.02,2,     2.80,2,    0.668,2,   0.2890,2,   2223.8,2,   2314.3,2,20170115,1130
06M220170104  ,A10.5      ,54      ,  1,54110.0    ,241643.0   ,10         ,2,20170115,1043, -34.4997,  -8.9961,     4077,   1496.9,   2.9128,  34.5672,    189.6,2,    188.3,2,    57.32,2,    33.08,2,     0.00,2,     2.30,2,    0.272,2,   0.1070,2,   2232.3,2,   2326.2,2,20170115,1126
06M220170104  ,A10.5      ,54      ,  1,54109.0    ,241642.0   ,9          ,2,20170115,1043, -34.4997,  -8.9961,     4077,   1746.0,   2.8222,  34.6731,    195.3,2,    192.9,2,    57.57,2,    31.50,3,     0.00,2,     2.16,2,     -999,9,     -999,9,     -999,9,     -999,9,20170115,1122
06M220170104  ,A10.5      ,54      ,  1,54108.0    ,241641.0   ,8          ,2,20170115,1043, -34.4997,  -8.9961,     4077,   1747.8,   2.8207,  34.6738,    195.6,2,     -999,9,     -999,9,     -999,9,     -999,9,     -999,9,     -999,9,     -999,9,     -999,9,     -999,9,20170115,1122
06M220170104  ,A10.5      ,54      ,  1,54107.0    ,241640.0   ,7          ,2,20170115,1043, -34.4997,  -8.9961,     4077,   1996.9,   2.7719,  34.7642,    207.8,2,    204.9,2,    53.06,2,    34.09,3,     0.03,2,     2.24,2,     -999,9,     -999,9,   2217.7,2,   2331.7,2,20170115,1118
06M220170104  ,A10.5      ,54      ,  1,54106.0    ,241639.0   ,6          ,2,20170115,1043, -34.4997,  -8.9961,     4077,   2396.2,   2.6239,  34.8265,    223.7,2,    219.9,2,    44.05,2,    21.62,3,     0.02,2,     1.80,2,     -999,9,     -999,9,     -999,9,     -999,9,20170115,1111
06M220170104  ,A10.5      ,54      ,  1,54105.0    ,241638.0   ,5          ,2,20170115,1043, -34.4997,  -8.9961,     4077,   2797.1,   2.5034,  34.8535,    233.3,2,    232.6,2,    51.22,2,    24.64,2,     0.00,2,     1.67,2,     -999,9,     -999,9,   2200.7,2,   2338.2,2,20170115,1104
06M220170104  ,A10.5      ,54      ,  1,54104.0    ,241637.0   ,4          ,2,20170115,1043, -34.4997,  -8.9961,     4077,   3196.9,   2.3507,  34.8542,    236.1,2,    235.0,2,    55.64,2,    26.37,2,     0.01,2,     1.81,2,     -999,9,     -999,9,   2203.0,2,   2340.2,2,20170115,1058
06M220170104  ,A10.5      ,54      ,  1,54103.0    ,241636.0   ,3          ,2,20170115,1043, -34.4997,  -8.9961,     4077,   3596.8,   2.2071,  34.8503,    234.2,2,    231.7,2,    57.44,2,    26.32,2,     0.00,2,     1.73,2,     -999,9,     -999,9,   2213.0,2,   2349.6,2,20170115,1051
06M220170104  ,A10.5      ,54      ,  1,54102.0    ,241635.0   ,2          ,2,20170115,1043, -34.4997,  -8.9961,     4077,   4066.1,   1.8787,  34.8118,    227.7,2,    228.3,2,     -999,9,     -999,9,     -999,9,     -999,9,     -999,9,     -999,9,     -999,9,     -999,9,20170115,1043
06M220170104  ,A10.5      ,54      ,  1,54101.0    ,241634.0   ,1          ,2,20170115,1043, -34.4997,  -8.9961,     4077,   4066.9,   1.8786,  34.8118,    227.7,2,    225.2,2,     -999,9,     -999,9,     -999,9,     -999,9,     -999,9,     -999,9,   2227.6,2,   2350.7,2,20170115,1043