BOTTLE,20240228CCHSIOADS
# Updated parameters to meet spec, please see History Note for more details.
#
# Data source: T.Tanhua 8/22/18 
# SHIP: Maria S. Merian 
# Cruise: MSM60 
# Region: Atlantic transect at 34.5S; A10.5 
# EXPOCODE: 06M220170104 
# DATES: 20170104 - 20170201 
# Chief Scientist: Johannes Karstensen 
# 126 stations with 22 place Rosette 
# CTD: Who - R.Hummels; Status - final 
# 	Includes: CTDSAL, CTDOXY 
# 	After additional QC: 
# 	CTDOXY = 0.717(+/-0.536) + 0.996(+/-0.002)*SALNTY 
# 		with RSE=1.77 and R^2=.989 
# SALNTY: Who - ; Status -  
# 	Notes: 	NO DATA 
# Nutrients: Who - ; Status - final 
# 	Includes: nitrate, nitrite, silicate, phosphate 
# OXYGEN: Who - G.Berbel; Status - final 
# 	Notes: Problems with titrations. Uncertainty estimated at +/-2umol/kg 
# TCARBN: Who - A.Lebehot; Status - final 
# 	Notes:  
# ALKALI: Who - A.Lebehot; Status - final 
# 	Notes:  
# CFC: Who - T.Stoven; Status - final 
# 	Notes: includes 12 and SF6 
#
# These data are under a CC0 license. For more information on how to cite, please visit cchdo.ucsd.edu
EXPOCODE,SECT_ID,STNNBR,CASTNO,SAMPNO,BIONBR,BTLNBR,BTLNBR_FLAG_W,DATE,TIME,LATITUDE,LONGITUDE,DEPTH,CTDPRS,CTDTMP,CTDSAL,CTDOXY,CTDOXY_FLAG_W,OXYGEN,OXYGEN_FLAG_W,SILCAT,SILCAT_FLAG_W,NITRAT,NITRAT_FLAG_W,NITRIT,NITRIT_FLAG_W,PHSPHT,PHSPHT_FLAG_W,CFC-12,CFC-12_FLAG_W,SF6,SF6_FLAG_W,TCARBN,TCARBN_FLAG_W,ALKALI,ALKALI_FLAG_W,BTL_DATE,BTL_TIME
,,,,,,,,,,,,METERS,DBAR,ITS-90,PSS-78,UMOL/KG,,UMOL/KG,,UMOL/KG,,UMOL/KG,,UMOL/KG,,UMOL/KG,,PMOL/KG,,FMOL/KG,,UMOL/KG,,UMOL/KG,,,
06M220170104  ,A10.5      ,2       ,  1,2109.0     ,240031.0   ,9          ,2,20170104,1749, -34.2169,  17.8544,      300,      6.8,  20.2518,  35.4685,    232.2,2,    230.6,2,     1.85,2,     0.40,2,     0.04,2,     0.09,2,    0.068,4,   0.0000,4,   2054.6,2,   2331.2,2,20170104,1759
06M220170104  ,A10.5      ,2       ,  1,2108.0     ,240030.0   ,8          ,2,20170104,1749, -34.2169,  17.8544,      300,     21.4,  20.1867,  35.4646,    230.9,2,     -999,9,     -999,9,     -999,9,     -999,9,     -999,9,     -999,9,     -999,9,     -999,9,     -999,9,20170104,1759
06M220170104  ,A10.5      ,2       ,  1,2107.0     ,240029.0   ,7          ,2,20170104,1749, -34.2169,  17.8544,      300,     50.0,  15.0058,  35.3046,    192.2,2,    194.4,2,     6.45,2,     9.28,2,     0.40,2,     0.57,2,    1.453,2,   1.4310,2,   2131.0,2,   2321.8,2,20170104,1758
06M220170104  ,A10.5      ,2       ,  1,2106.0     ,240028.0   ,6          ,2,20170104,1749, -34.2169,  17.8544,      300,     99.3,  12.2805,  35.0895,    217.2,2,    217.7,2,     5.69,2,    11.82,2,     0.01,2,     0.82,2,    1.697,2,   1.6000,2,   2131.2,2,     -999,9,20170104,1756
06M220170104  ,A10.5      ,2       ,  1,2105.0     ,240027.0   ,5          ,2,20170104,1749, -34.2169,  17.8544,      300,    153.4,  10.9653,  34.9060,    220.4,2,    220.8,2,     6.13,2,    14.17,2,     0.01,2,     0.99,2,    1.782,2,   1.5930,2,   2128.6,2,   2299.5,2,20170104,1754
06M220170104  ,A10.5      ,2       ,  1,2104.0     ,240026.0   ,4          ,2,20170104,1749, -34.2169,  17.8544,      300,    197.5,  10.0142,  34.7830,    213.2,2,    216.2,2,     8.10,2,    16.62,2,     0.00,2,     1.18,2,    1.766,2,   1.4290,2,   2145.3,2,   2297.2,2,20170104,1753
06M220170104  ,A10.5      ,2       ,  1,2103.0     ,240025.0   ,3          ,2,20170104,1749, -34.2169,  17.8544,      300,    250.1,   9.0786,  34.6932,    197.5,2,    200.2,2,    11.29,2,    20.11,2,     0.01,2,     1.35,2,     -999,9,     -999,9,   2161.6,2,   2292.6,2,20170104,1751
06M220170104  ,A10.5      ,2       ,  1,2101.0     ,240023.0   ,1          ,2,20170104,1749, -34.2169,  17.8544,      300,    288.3,   8.1862,  34.6038,    174.0,2,    176.8,2,    18.33,2,    24.99,2,     0.02,2,     1.63,2,     -999,9,     -999,9,   2205.5,2,   2295.8,2,20170104,1749
06M220170104  ,A10.5      ,2       ,  1,2102.0     ,240024.0   ,2          ,2,20170104,1749, -34.2169,  17.8544,      300,    289.7,   8.1617,  34.6019,    173.8,2,    172.5,2,    18.35,2,    26.23,2,     0.01,2,     1.73,2,    1.574,2,   1.1690,2,   2198.3,2,   2296.2,2,20170104,1749
06M220170104  ,A10.5      ,3       ,  1,3112.0     ,240056.0   ,12         ,2,20170104,1953, -34.3448,  17.6586,      644,     10.3,  21.2460,  35.5106,    228.6,2,    227.9,2,     0.76,2,    -0.09,2,     0.00,2,     0.07,2,     -999,9,     -999,9,   2048.2,2,   2336.4,2,20170104,2006
06M220170104  ,A10.5      ,3       ,  1,3113.0     ,240057.0   ,13         ,2,20170104,1953, -34.3448,  17.6586,      644,     10.6,  21.2460,  35.5105,    228.0,2,    226.2,2,     1.12,2,    -0.12,2,     0.01,2,     0.08,2,     -999,9,     -999,9,   2039.8,3,   2338.2,3,20170104,2006
06M220170104  ,A10.5      ,3       ,  1,3111.0     ,240055.0   ,11         ,2,20170104,1953, -34.3448,  17.6586,      644,     48.5,  18.8040,  35.3590,    227.3,2,    221.8,3,     3.02,2,     2.09,2,     0.37,2,     0.32,2,     -999,9,     -999,9,   2073.3,2,   2325.0,2,20170104,2005
06M220170104  ,A10.5      ,3       ,  1,3110.0     ,240054.0   ,10         ,2,20170104,1953, -34.3448,  17.6586,      644,     97.1,  13.9618,  35.1744,    199.7,2,    203.1,2,     6.11,2,    10.34,2,     0.03,2,     0.87,2,     -999,9,     -999,9,   2124.5,2,   2315.5,2,20170104,2003
06M220170104  ,A10.5      ,3       ,  1,3109.0     ,240053.0   ,9          ,2,20170104,1953, -34.3448,  17.6586,      644,    123.6,  13.0776,  35.1386,    206.2,2,    206.8,2,     5.89,2,    11.26,2,     0.02,2,     0.88,2,     -999,9,     -999,9,   2126.3,2,   2313.6,2,20170104,2003
06M220170104  ,A10.5      ,3       ,  1,3108.0     ,240052.0   ,8          ,2,20170104,1953, -34.3448,  17.6586,      644,    132.1,  12.9432,  35.1330,    206.7,2,     -999,9,     -999,9,     -999,9,     -999,9,     -999,9,     -999,9,     -999,9,     -999,9,     -999,9,20170104,2003
06M220170104  ,A10.5      ,3       ,  1,3107.0     ,240051.0   ,7          ,2,20170104,1953, -34.3448,  17.6586,      644,    199.4,  10.8233,  34.9025,    205.7,2,    205.9,2,     7.87,2,    15.18,2,     0.01,2,     1.13,2,     -999,9,     -999,9,   2139.4,2,   2302.9,2,20170104,2001
06M220170104  ,A10.5      ,3       ,  1,3106.0     ,240050.0   ,6          ,2,20170104,1953, -34.3448,  17.6586,      644,    289.2,   9.5590,  34.7608,    207.2,2,    204.4,2,    10.19,2,    17.50,2,     0.00,2,     1.44,2,     -999,9,     -999,9,   2148.1,2,   2297.4,2,20170104,2000
06M220170104  ,A10.5      ,3       ,  1,3105.0     ,240049.0   ,5          ,2,20170104,1953, -34.3448,  17.6586,      644,    378.9,   7.8246,  34.5396,    208.6,2,    208.8,2,    11.50,2,    22.97,2,     0.01,2,     1.65,2,     -999,9,     -999,9,   2165.0,2,   2289.7,2,20170104,1959
06M220170104  ,A10.5      ,3       ,  1,3104.0     ,240048.0   ,4          ,2,20170104,1953, -34.3448,  17.6586,      644,    480.8,   6.5369,  34.4473,    201.0,2,    203.1,2,    17.72,2,    26.04,2,     0.01,2,     1.81,2,     -999,9,     -999,9,   2181.1,2,   2291.5,2,20170104,1957
06M220170104  ,A10.5      ,3       ,  1,3103.0     ,240047.0   ,3          ,2,20170104,1953, -34.3448,  17.6586,      644,    569.5,   5.4344,  34.3649,    213.0,2,    212.0,2,    22.22,2,    27.67,2,     0.02,2,     2.03,2,     -999,9,     -999,9,   2188.3,2,   2292.4,2,20170104,1955
06M220170104  ,A10.5      ,3       ,  1,3101.0     ,240045.0   ,1          ,2,20170104,1953, -34.3448,  17.6586,      644,    633.5,   5.1871,  34.3569,    212.6,2,    211.8,2,    25.88,2,    29.50,2,     0.02,2,     2.26,2,     -999,9,     -999,9,     -999,9,     -999,9,20170104,1953
06M220170104  ,A10.5      ,3       ,  1,3102.0     ,240046.0   ,2          ,2,20170104,1953, -34.3448,  17.6586,      644,    634.5,   5.1731,  34.3567,    212.6,2,     -999,9,    25.52,2,    29.57,2,     0.01,2,     2.14,2,     -999,9,     -999,9,   2191.2,2,   2290.9,2,20170104,1953
06M220170104  ,A10.5      ,4       ,  1,4116.0     ,240082.0   ,16         ,2,20170104,2134, -34.3594,  17.6294,      811,      9.2,  21.2533,  35.5169,    228.5,2,    227.4,2,     -999,9,     -999,9,     -999,9,     -999,9,     -999,9,     -999,9,   2036.0,2,   2334.8,2,20170104,2151
06M220170104  ,A10.5      ,4       ,  1,4115.0     ,240081.0   ,15         ,2,20170104,2134, -34.3594,  17.6294,      811,     23.8,  21.2461,  35.5159,    228.6,2,    191.2,4,     -999,9,     -999,9,     -999,9,     -999,9,     -999,9,     -999,9,   2033.3,2,   2335.3,2,20170104,2151
06M220170104  ,A10.5      ,4       ,  1,4114.0     ,240080.0   ,14         ,2,20170104,2134, -34.3594,  17.6294,      811,     48.4,  18.4407,  35.5201,    218.1,2,    197.6,4,     -999,9,     -999,9,     -999,9,     -999,9,    1.318,2,   1.5450,2,   2093.8,2,   2327.8,2,20170104,2150
06M220170104  ,A10.5      ,4       ,  1,4113.0     ,240079.0   ,13         ,2,20170104,2134, -34.3594,  17.6294,      811,     76.3,  15.3297,  35.3493,    201.1,2,    217.1,4,     -999,9,     -999,9,     -999,9,     -999,9,     -999,9,     -999,9,   2105.5,2,   2320.5,2,20170104,2149
06M220170104  ,A10.5      ,4       ,  1,4112.0     ,240078.0   ,12         ,2,20170104,2134, -34.3594,  17.6294,      811,    115.3,  13.2393,  34.9558,    239.7,2,    229.4,4,     -999,9,     -999,9,     -999,9,     -999,9,    1.625,2,   1.9180,2,   2106.6,2,   2311.1,2,20170104,2148
06M220170104  ,A10.5      ,4       ,  1,4111.0     ,240077.0   ,11         ,2,20170104,2134, -34.3594,  17.6294,      811,    158.0,  12.7244,  35.1154,    206.4,2,    205.4,2,     -999,9,     -999,9,     -999,9,     -999,9,     -999,9,     -999,9,   2133.3,2,   2315.0,2,20170104,2147
06M220170104  ,A10.5      ,4       ,  1,4110.0     ,240076.0   ,10         ,2,20170104,2134, -34.3594,  17.6294,      811,    236.4,  10.6924,  34.8886,    207.4,2,    208.0,2,     -999,9,     -999,9,     -999,9,     -999,9,    1.639,2,   1.2940,2,   2163.0,2,   2305.4,2,20170104,2146
06M220170104  ,A10.5      ,4       ,  1,4109.0     ,240075.0   ,9          ,2,20170104,2134, -34.3594,  17.6294,      811,    314.1,   9.1929,  34.7186,    198.1,2,    199.4,2,     -999,9,     -999,9,     -999,9,     -999,9,    1.609,2,   1.1490,2,   2157.7,2,   2301.3,2,20170104,2145
06M220170104  ,A10.5      ,4       ,  1,4108.0     ,240074.0   ,8          ,2,20170104,2134, -34.3594,  17.6294,      811,    316.3,   9.1698,  34.7166,    198.6,2,     -999,9,     -999,9,     -999,9,     -999,9,     -999,9,     -999,9,     -999,9,     -999,9,     -999,9,20170104,2145
06M220170104  ,A10.5      ,4       ,  1,4107.0     ,240073.0   ,7          ,2,20170104,2134, -34.3594,  17.6294,      811,    378.5,   7.6712,  34.5495,    201.6,2,    206.6,3,     -999,9,     -999,9,     -999,9,     -999,9,    1.614,2,   1.1190,2,   2174.3,2,   2294.8,2,20170104,2144
06M220170104  ,A10.5      ,4       ,  1,4106.0     ,240072.0   ,6          ,2,20170104,2134, -34.3594,  17.6294,      811,    402.2,   7.2807,  34.5022,    207.3,2,    206.9,2,     -999,9,     -999,9,     -999,9,     -999,9,    1.667,2,   1.1770,2,   2160.7,2,   2291.4,2,20170104,2143
06M220170104  ,A10.5      ,4       ,  1,4105.0     ,240071.0   ,5          ,2,20170104,2134, -34.3594,  17.6294,      811,    466.6,   5.9089,  34.3546,    221.7,2,    221.9,2,     -999,9,     -999,9,     -999,9,     -999,9,    1.799,2,   1.2850,2,   2180.4,2,   2286.0,2,20170104,2142
06M220170104  ,A10.5      ,4       ,  1,4104.0     ,240070.0   ,4          ,2,20170104,2134, -34.3594,  17.6294,      811,    563.8,   5.2910,  34.3548,    215.4,2,    213.5,2,     -999,9,     -999,9,     -999,9,     -999,9,    1.519,2,   0.9810,2,   2175.3,2,   2291.1,2,20170104,2141
06M220170104  ,A10.5      ,4       ,  1,4103.0     ,240069.0   ,3          ,2,20170104,2134, -34.3594,  17.6294,      811,    652.8,   4.8327,  34.3500,    210.8,2,    209.0,2,     -999,9,     -999,9,     -999,9,     -999,9,    1.353,2,   0.8320,2,   2181.6,2,   2296.3,2,20170104,2137
06M220170104  ,A10.5      ,4       ,  1,4102.0     ,240068.0   ,2          ,2,20170104,2134, -34.3594,  17.6294,      811,    800.4,   4.0131,  34.3772,    199.2,2,    200.3,2,     -999,9,     -999,9,     -999,9,     -999,9,     -999,9,     -999,9,     -999,9,     -999,9,20170104,2134
06M220170104  ,A10.5      ,4       ,  1,4101.0     ,240067.0   ,1          ,2,20170104,2134, -34.3594,  17.6294,      811,    800.7,   4.0188,  34.3768,    199.2,2,    195.9,3,     -999,9,     -999,9,     -999,9,     -999,9,    0.089,4,   0.5280,2,   2196.5,2,   2304.6,2,20170104,2134
06M220170104  ,A10.5      ,5       ,  1,5120.0     ,240108.0   ,20         ,2,20170104,2350, -34.3772,  17.5996,     1024,     10.6,  21.2477,  35.5158,    228.5,2,     -999,9,     -999,9,     -999,9,     -999,9,     -999,9,     -999,9,     -999,9,   2029.5,3,   2343.2,2,20170105,0010
06M220170104  ,A10.5      ,5       ,  1,5119.0     ,240107.0   ,19         ,2,20170104,2350, -34.3772,  17.5996,     1024,     20.6,  21.2514,  35.5143,    228.5,2,     -999,9,     -999,9,     -999,9,     -999,9,     -999,9,     -999,9,     -999,9,     -999,9,     -999,9,20170105,0009
06M220170104  ,A10.5      ,5       ,  1,5118.0     ,240106.0   ,18         ,2,20170104,2350, -34.3772,  17.5996,     1024,     46.6,  17.3420,  35.4542,    221.0,2,     -999,9,     -999,9,     -999,9,     -999,9,     -999,9,     -999,9,     -999,9,   1704.2,3,   2328.2,2,20170105,0008
06M220170104  ,A10.5      ,5       ,  1,5117.0     ,240105.0   ,17         ,2,20170104,2350, -34.3772,  17.5996,     1024,     67.4,  15.6525,  35.3406,    196.6,2,     -999,9,     -999,9,     -999,9,     -999,9,     -999,9,     -999,9,     -999,9,   1955.0,3,   2328.9,2,20170105,0008
06M220170104  ,A10.5      ,5       ,  1,5116.0     ,240104.0   ,16         ,2,20170104,2350, -34.3772,  17.5996,     1024,     97.0,  13.2294,  34.9623,    238.5,2,     -999,9,     -999,9,     -999,9,     -999,9,     -999,9,     -999,9,     -999,9,   2021.5,3,   2311.0,2,20170105,0006
06M220170104  ,A10.5      ,5       ,  1,5114.0     ,240102.0   ,14         ,2,20170104,2350, -34.3772,  17.5996,     1024,    185.5,  11.8128,  35.0285,    219.4,2,    207.4,4,     1.19,2,     0.06,2,     0.02,2,     0.13,3,     -999,9,     -999,9,   1771.4,3,   2313.0,2,20170105,0004
06M220170104  ,A10.5      ,5       ,  1,5115.0     ,240103.0   ,15         ,2,20170104,2350, -34.3772,  17.5996,     1024,    185.7,  11.8604,  35.0349,    219.0,2,     -999,9,     -999,9,     -999,9,     -999,9,     -999,9,     -999,9,     -999,9,   1812.6,3,   2309.7,2,20170105,0004
06M220170104  ,A10.5      ,5       ,  1,5113.0     ,240101.0   ,13         ,2,20170104,2350, -34.3772,  17.5996,     1024,    300.5,   9.5417,  34.7507,    205.3,2,    197.8,3,     4.79,2,     4.67,2,     0.47,2,     0.48,3,     -999,9,     -999,9,   1885.4,3,   2301.6,2,20170105,0003
06M220170104  ,A10.5      ,5       ,  1,5112.0     ,240100.0   ,12         ,2,20170104,2350, -34.3772,  17.5996,     1024,    358.4,   8.2309,  34.6105,    193.6,2,    195.1,2,     7.10,3,     9.97,3,     0.26,3,     0.88,3,     -999,9,     -999,9,   1798.9,3,   2297.1,2,20170105,0002
06M220170104  ,A10.5      ,5       ,  1,5111.0     ,240099.0   ,11         ,2,20170104,2350, -34.3772,  17.5996,     1024,    425.2,   7.1795,  34.5220,    200.7,2,    237.3,4,     3.18,2,     8.70,2,     0.04,2,     0.90,3,     -999,9,     -999,9,   1831.1,3,   2297.2,2,20170105,0000
06M220170104  ,A10.5      ,5       ,  1,5110.0     ,240098.0   ,10         ,2,20170104,2350, -34.3772,  17.5996,     1024,    549.1,   4.9463,  34.2899,    229.4,2,    219.0,4,     5.27,2,    12.92,2,     0.02,2,     0.99,3,     -999,9,     -999,9,   1934.2,3,   2295.1,2,20170104,2358
06M220170104  ,A10.5      ,5       ,  1,5109.0     ,240097.0   ,9          ,2,20170104,2350, -34.3772,  17.5996,     1024,    695.7,   4.4843,  34.3826,    198.0,2,    216.1,4,     6.03,3,    14.83,3,     0.03,3,     1.16,3,     -999,9,     -999,9,   2173.9,2,   2297.5,2,20170104,2356
06M220170104  ,A10.5      ,5       ,  1,5108.0     ,240096.0   ,8          ,2,20170104,2350, -34.3772,  17.5996,     1024,    805.7,   3.7512,  34.3933,    194.6,2,    193.8,2,     9.93,3,    19.12,3,     0.03,3,     1.43,3,     -999,9,     -999,9,     -999,9,     -999,9,20170104,2354
06M220170104  ,A10.5      ,5       ,  1,5107.0     ,240095.0   ,7          ,2,20170104,2350, -34.3772,  17.5996,     1024,    806.8,   3.7507,  34.3934,    194.5,2,    127.2,4,    14.11,2,    23.68,2,     0.01,2,     1.68,3,     -999,9,     -999,9,   2189.2,2,   2308.0,2,20170104,2354
06M220170104  ,A10.5      ,5       ,  1,5106.0     ,240094.0   ,6          ,2,20170104,2350, -34.3772,  17.5996,     1024,    897.6,   3.4332,  34.4812,    180.3,2,    201.2,4,    21.61,3,    30.92,2,     0.03,3,     2.39,3,     -999,9,     -999,9,   2205.5,2,   2320.4,2,20170104,2353
06M220170104  ,A10.5      ,5       ,  1,5103.0     ,240091.0   ,3          ,2,20170104,2350, -34.3772,  17.5996,     1024,   1010.7,   3.3879,  34.4947,    179.3,2,    194.2,4,    47.43,4,    36.52,2,     0.01,3,     2.85,3,     -999,9,     -999,9,     -999,9,     -999,9,20170104,2350
06M220170104  ,A10.5      ,5       ,  1,5102.0     ,240090.0   ,2          ,2,20170104,2350, -34.3772,  17.5996,     1024,   1011.1,   3.3881,  34.4946,    179.4,2,    172.7,3,    67.82,4,    42.86,4,     0.01,4,     2.98,3,     -999,9,     -999,9,     -999,9,     -999,9,20170104,2350
06M220170104  ,A10.5      ,5       ,  1,5101.0     ,240089.0   ,1          ,2,20170104,2350, -34.3772,  17.5996,     1024,   1012.2,   3.3881,  34.4947,    179.4,2,    179.1,2,    59.72,4,    38.17,2,     0.01,3,     2.60,3,     -999,9,     -999,9,     -999,9,     -999,9,20170104,2350
06M220170104  ,A10.5      ,5       ,  1,5104.0     ,240092.0   ,4          ,2,20170104,2350, -34.3772,  17.5996,     1024,   1012.8,   3.3855,  34.4953,    179.1,2,    198.2,4,    34.72,4,    31.47,4,     0.00,4,     2.27,3,     -999,9,     -999,9,     -999,9,     -999,9,20170104,2350
06M220170104  ,A10.5      ,5       ,  1,5105.0     ,240093.0   ,5          ,2,20170104,2350, -34.3772,  17.5996,     1024,   1014.3,   3.3853,  34.4953,    179.2,2,    216.5,4,    23.82,4,    37.11,2,     0.02,3,     2.77,3,     -999,9,     -999,9,   2198.5,2,   2323.4,2,20170104,2350