BOTTLE,20240228CCHSIOADS
EXPOCODE,SECT_ID,STNNBR,CASTNO,SAMPNO,BIONBR,BTLNBR,BTLNBR_FLAG_W,DATE,TIME,LATITUDE,LONGITUDE,DEPTH,CTDPRS,CTDTMP,CTDSAL,CTDOXY,CTDOXY_FLAG_W,OXYGEN,OXYGEN_FLAG_W,SILCAT,SILCAT_FLAG_W,NITRAT,NITRAT_FLAG_W,NITRIT,NITRIT_FLAG_W,PHSPHT,PHSPHT_FLAG_W,CFC-12,CFC-12_FLAG_W,SF6,SF6_FLAG_W,TCARBN,TCARBN_FLAG_W,ALKALI,ALKALI_FLAG_W,BTL_DATE,BTL_TIME
,,,,,,,,,,,,METERS,DBAR,ITS-90,PSS-78,UMOL/KG,,UMOL/KG,,UMOL/KG,,UMOL/KG,,UMOL/KG,,UMOL/KG,,PMOL/KG,,FMOL/KG,,UMOL/KG,,UMOL/KG,,,
06M220170104  ,A10.5      ,49      ,  1,49122.0    ,241545.0   ,22         ,2,20170114,0759, -34.4996,  -5.7215,     4209,      8.3,  20.4121,  35.4053,    233.1,2,    231.8,2,     1.33,2,     0.01,2,     0.01,2,     0.21,3,    1.341,2,   1.7220,2,   2076.5,2,   2332.2,2,20170114,0908
06M220170104  ,A10.5      ,49      ,  1,49121.0    ,241544.0   ,21         ,2,20170114,0759, -34.4996,  -5.7215,     4209,     22.5,  19.6904,  35.3826,    237.2,2,    239.7,2,     1.48,2,     0.02,2,     0.01,2,     0.25,3,    1.402,2,   1.8040,2,   2071.2,2,   2331.8,2,20170114,0907
06M220170104  ,A10.5      ,49      ,  1,49120.0    ,241543.0   ,20         ,2,20170114,0759, -34.4996,  -5.7215,     4209,     47.7,  17.5944,  35.3816,    249.3,2,    252.7,2,     1.45,2,     0.06,2,     0.01,2,     0.24,3,    1.517,2,   1.9010,2,   2098.0,2,   2331.2,2,20170114,0906
06M220170104  ,A10.5      ,49      ,  1,49119.0    ,241542.0   ,19         ,2,20170114,0759, -34.4996,  -5.7215,     4209,     98.6,  14.9044,  35.3174,    240.2,2,    235.6,2,     1.74,2,     2.93,2,     0.09,2,     0.40,3,    1.619,2,   1.8640,2,   2105.0,2,   2326.8,2,20170114,0904
06M220170104  ,A10.5      ,49      ,  1,49118.0    ,241541.0   ,18         ,2,20170114,0759, -34.4996,  -5.7215,     4209,    196.7,  13.7481,  35.2459,    224.2,2,    222.6,2,     2.72,2,     7.75,2,     0.02,2,     0.71,3,     -999,9,     -999,9,     -999,9,     -999,9,20170114,0903
06M220170104  ,A10.5      ,49      ,  1,49117.0    ,241540.0   ,17         ,2,20170114,0759, -34.4996,  -5.7215,     4209,    296.9,  12.9175,  35.2097,    219.7,2,    216.8,2,     3.88,2,    12.29,2,     0.01,2,     0.99,3,    1.720,2,   1.9100,2,   2127.4,2,   2319.9,2,20170114,0901
06M220170104  ,A10.5      ,49      ,  1,49116.0    ,241539.0   ,16         ,2,20170114,0759, -34.4996,  -5.7215,     4209,    397.2,  11.3923,  34.9867,    213.3,2,    212.0,2,     5.43,2,    16.89,2,     0.01,2,     1.38,3,    1.830,2,   1.6300,2,   2136.6,2,   2309.4,2,20170114,0859
06M220170104  ,A10.5      ,49      ,  1,49115.0    ,241538.0   ,15         ,2,20170114,0759, -34.4996,  -5.7215,     4209,    497.2,   9.9398,  34.7906,    210.1,2,    208.9,2,     7.19,2,    19.51,2,     0.01,2,     1.64,3,    1.857,2,   1.4800,2,   2156.0,2,   2298.4,2,20170114,0858
06M220170104  ,A10.5      ,49      ,  1,49114.0    ,241537.0   ,14         ,2,20170114,0759, -34.4996,  -5.7215,     4209,    596.9,   8.1898,  34.5807,    211.7,2,    211.8,2,     9.69,2,    25.57,2,     0.03,2,     1.65,3,    1.907,2,   0.3450,4,     -999,9,     -999,9,20170114,0856
06M220170104  ,A10.5      ,49      ,  1,49113.0    ,241536.0   ,13         ,2,20170114,0759, -34.4996,  -5.7215,     4209,    696.8,   6.5366,  34.4151,    217.5,2,    215.9,2,    14.95,2,    28.81,2,     0.01,2,     2.11,3,    1.869,2,   1.1770,2,   2169.2,2,   2288.0,2,20170114,0854
06M220170104  ,A10.5      ,49      ,  1,49112.0    ,241535.0   ,12         ,2,20170114,0759, -34.4996,  -5.7215,     4209,    847.2,   4.8108,  34.2917,    224.4,2,    223.4,2,    22.28,4,    24.81,4,     0.01,4,     2.30,3,    1.689,2,   0.9350,2,   2176.7,2,   2289.3,2,20170114,0852
06M220170104  ,A10.5      ,49      ,  1,49111.0    ,241534.0   ,11         ,2,20170114,0759, -34.4996,  -5.7215,     4209,    997.8,   3.8459,  34.3139,    214.8,2,    213.0,2,    37.22,2,    38.28,2,     0.01,2,     2.85,3,    1.213,2,   0.5990,2,   2198.8,2,   2299.0,2,20170114,0849
06M220170104  ,A10.5      ,49      ,  1,49110.0    ,241533.0   ,10         ,2,20170114,0759, -34.4996,  -5.7215,     4209,   1497.1,   2.9619,  34.5440,    191.2,2,    189.7,2,    42.35,3,    28.46,3,     0.01,3,     2.51,3,    0.339,2,   0.1820,2,   2225.0,2,   2324.0,2,20170114,0841
06M220170104  ,A10.5      ,49      ,  1,49109.0    ,241532.0   ,9          ,2,20170114,0759, -34.4996,  -5.7215,     4209,   1995.6,   2.7086,  34.7568,    208.4,2,    206.8,2,    50.62,3,    30.14,3,     0.01,3,     1.77,3,    0.069,2,   0.0000,2,   2234.0,2,   2334.6,2,20170114,0833
06M220170104  ,A10.5      ,49      ,  1,49108.0    ,241531.0   ,8          ,2,20170114,0759, -34.4996,  -5.7215,     4209,   2497.7,   2.5934,  34.8394,    227.6,2,    226.2,2,    50.34,3,    24.25,3,     0.00,3,     1.78,3,    0.028,2,   0.0000,2,   2217.5,2,   2336.1,2,20170114,0825
06M220170104  ,A10.5      ,49      ,  1,49107.0    ,241530.0   ,7          ,2,20170114,0759, -34.4996,  -5.7215,     4209,   2746.2,   2.4934,  34.8528,    233.5,2,    232.0,2,    59.01,3,    30.57,3,     0.03,3,     2.22,3,    0.020,2,   0.0000,2,     -999,9,     -999,9,20170114,0821
06M220170104  ,A10.5      ,49      ,  1,49106.0    ,241529.0   ,6          ,2,20170114,0759, -34.4996,  -5.7215,     4209,   2994.9,   2.4014,  34.8580,    236.5,2,    235.8,2,    45.03,3,    24.81,3,     0.02,3,     2.11,3,    0.018,2,   0.0000,2,   2213.1,2,   2341.0,2,20170114,0817
06M220170104  ,A10.5      ,49      ,  1,49105.0    ,241528.0   ,5          ,2,20170114,0759, -34.4996,  -5.7215,     4209,   3246.4,   2.3391,  34.8608,    237.3,2,    236.0,2,    24.01,4,    11.94,4,     0.00,4,     1.03,3,    0.013,2,   0.0000,2,     -999,9,     -999,9,20170114,0813
06M220170104  ,A10.5      ,49      ,  1,49104.0    ,241527.0   ,4          ,2,20170114,0759, -34.4996,  -5.7215,     4209,   3491.0,   2.3008,  34.8618,    236.3,2,    234.9,2,    57.81,3,    26.82,3,     0.01,3,     1.92,3,    0.010,2,   0.0000,2,   2221.9,2,   2350.3,2,20170114,0809
06M220170104  ,A10.5      ,49      ,  1,49103.0    ,241526.0   ,3          ,2,20170114,0759, -34.4996,  -5.7215,     4209,   3797.5,   2.1462,  34.8444,    232.6,2,    232.4,2,    58.07,3,    27.04,3,     0.01,3,     1.98,3,    0.016,2,   0.0000,2,     -999,9,     -999,9,20170114,0804
06M220170104  ,A10.5      ,49      ,  1,49102.0    ,241525.0   ,2          ,2,20170114,0759, -34.4996,  -5.7215,     4209,   4059.6,   2.0407,  34.8312,    230.1,2,    229.5,2,    57.94,3,    27.55,3,     0.03,3,     1.63,3,    0.017,2,   0.0000,2,     -999,9,     -999,9,20170114,0759
06M220170104  ,A10.5      ,49      ,  1,49101.0    ,241524.0   ,1          ,2,20170114,0759, -34.4996,  -5.7215,     4209,   4059.7,   2.0410,  34.8312,    230.2,2,    228.7,2,    56.52,3,    23.98,3,     0.02,3,     1.60,3,    0.022,2,   0.0000,2,   2232.5,2,   2360.4,2,20170114,0759
06M220170104  ,A10.5      ,50      ,  1,50122.0    ,241567.0   ,22         ,2,20170114,1319, -34.4996,  -6.3767,     4232,      9.1,  19.4068,  35.4095,    238.0,2,    235.5,2,     1.34,3,     0.42,3,     0.01,3,     0.92,3,    1.363,2,   1.7990,2,   2082.5,2,   2331.9,2,20170114,1432
06M220170104  ,A10.5      ,50      ,  1,50121.0    ,241566.0   ,21         ,2,20170114,1319, -34.4996,  -6.3767,     4232,     22.4,  18.6712,  35.3586,    241.6,2,    238.4,2,     2.13,3,     1.18,3,     0.02,3,     1.20,3,    1.416,2,   1.8140,2,   2077.1,2,   2329.5,2,20170114,1431
06M220170104  ,A10.5      ,50      ,  1,50120.0    ,241565.0   ,20         ,2,20170114,1319, -34.4996,  -6.3767,     4232,     49.3,  17.3978,  35.4599,    249.7,2,    245.5,2,     2.10,3,     0.64,3,     0.05,3,     1.36,3,    1.482,2,   1.8840,2,   2082.2,2,   2333.2,2,20170114,1430
06M220170104  ,A10.5      ,50      ,  1,50119.0    ,241564.0   ,19         ,2,20170114,1319, -34.4996,  -6.3767,     4232,     99.0,  14.8081,  35.3146,    244.9,2,    242.4,2,     2.02,3,     3.00,3,     0.26,3,     1.55,3,    1.561,3,   1.9290,2,     -999,9,     -999,9,20170114,1428
06M220170104  ,A10.5      ,50      ,  1,50118.0    ,241563.0   ,18         ,2,20170114,1319, -34.4996,  -6.3767,     4232,    145.8,  14.4325,  35.2861,    242.2,2,    240.1,2,     4.30,3,    10.14,3,     0.05,3,     1.28,3,    1.625,3,   1.9680,2,   2102.3,2,   2324.6,2,20170114,1427
06M220170104  ,A10.5      ,50      ,  1,50117.0    ,241562.0   ,17         ,2,20170114,1319, -34.4996,  -6.3767,     4232,    297.1,  13.5231,  35.2904,    224.1,2,    221.9,2,     3.60,3,     9.75,3,     0.02,3,     1.15,3,    1.719,2,   1.8110,2,   2127.5,2,   2324.9,2,20170114,1425
06M220170104  ,A10.5      ,50      ,  1,50116.0    ,241561.0   ,16         ,2,20170114,1319, -34.4996,  -6.3767,     4232,    447.8,  11.0093,  34.9363,    213.8,2,    210.3,2,     3.67,3,    11.40,3,     0.00,3,     1.42,3,    1.848,2,   1.5700,2,   2142.2,2,   2309.5,2,20170114,1422
06M220170104  ,A10.5      ,50      ,  1,50115.0    ,241560.0   ,15         ,2,20170114,1319, -34.4996,  -6.3767,     4232,    557.9,   8.5145,  34.6137,    214.2,2,    213.9,2,    21.03,3,    28.38,3,     0.01,3,     3.40,3,    1.861,3,   1.3100,2,   2158.8,2,   2290.4,2,20170114,1420
06M220170104  ,A10.5      ,50      ,  1,50114.0    ,241559.0   ,14         ,2,20170114,1319, -34.4996,  -6.3767,     4232,    627.7,   7.2202,  34.4672,    220.5,2,    217.8,2,    14.22,3,    28.07,3,     0.02,3,     2.97,3,    1.984,2,   1.3870,2,     -999,9,     -999,9,20170114,1419
06M220170104  ,A10.5      ,50      ,  1,50113.0    ,241558.0   ,13         ,2,20170114,1319, -34.4996,  -6.3767,     4232,    758.1,   5.4328,  34.2962,    233.9,2,    231.4,2,    21.67,3,    32.97,3,     0.01,3,     3.63,3,     -999,9,     -999,9,     -999,9,     -999,9,20170114,1417
06M220170104  ,A10.5      ,50      ,  1,50112.0    ,241557.0   ,12         ,2,20170114,1319, -34.4996,  -6.3767,     4232,    856.8,   4.5874,  34.2595,    232.8,2,    231.3,2,    32.18,3,    36.87,3,     0.03,3,     5.12,3,     -999,9,     -999,9,   2187.6,2,   2285.4,2,20170114,1415
06M220170104  ,A10.5      ,50      ,  1,50111.0    ,241556.0   ,11         ,2,20170114,1319, -34.4996,  -6.3767,     4232,    937.5,   4.1294,  34.2629,    228.3,2,    226.5,2,    41.50,3,    42.95,3,     0.01,3,     1.73,3,     -999,9,     -999,9,   2187.7,2,   2293.3,2,20170114,1414
06M220170104  ,A10.5      ,50      ,  1,50110.0    ,241555.0   ,10         ,2,20170114,1319, -34.4996,  -6.3767,     4232,   1226.7,   3.2729,  34.3912,    201.2,2,    198.6,2,    67.26,3,    42.46,3,     0.03,3,     5.68,3,     -999,9,     -999,9,   2222.7,2,   2308.2,2,20170114,1409
06M220170104  ,A10.5      ,50      ,  1,50109.0    ,241554.0   ,9          ,2,20170114,1319, -34.4996,  -6.3767,     4232,   1527.2,   2.9089,  34.5490,    190.5,2,    189.4,2,    79.44,3,    41.79,3,     0.02,3,     0.65,3,     -999,9,     -999,9,   2241.4,2,   2322.2,2,20170114,1404
06M220170104  ,A10.5      ,50      ,  1,50108.0    ,241553.0   ,8          ,2,20170114,1319, -34.4996,  -6.3767,     4232,   1748.8,   2.8117,  34.6562,    195.0,2,     -999,9,     -999,9,     -999,9,     -999,9,     -999,9,     -999,9,     -999,9,     -999,9,     -999,9,20170114,1400
06M220170104  ,A10.5      ,50      ,  1,50107.0    ,241552.0   ,7          ,2,20170114,1319, -34.4996,  -6.3767,     4232,   1997.2,   2.7429,  34.7364,    204.7,2,    203.8,2,    69.30,3,    30.04,3,     0.01,3,     3.39,3,     -999,9,     -999,9,   2221.2,2,   2334.5,2,20170114,1356
06M220170104  ,A10.5      ,50      ,  1,50106.0    ,241551.0   ,6          ,2,20170114,1319, -34.4996,  -6.3767,     4232,   2246.3,   2.6807,  34.7959,    215.4,2,    214.4,2,    89.91,3,    41.26,3,     0.02,3,     4.95,3,     -999,9,     -999,9,   2225.7,2,   2333.4,2,20170114,1352
06M220170104  ,A10.5      ,50      ,  1,50105.0    ,241550.0   ,5          ,2,20170114,1319, -34.4996,  -6.3767,     4232,   2496.5,   2.5943,  34.8269,    223.6,2,    222.8,2,    98.69,3,    39.09,3,     0.02,3,     3.56,3,     -999,9,     -999,9,     -999,9,     -999,9,20170114,1348
06M220170104  ,A10.5      ,50      ,  1,50104.0    ,241549.0   ,4          ,2,20170114,1319, -34.4996,  -6.3767,     4232,   2996.9,   2.4032,  34.8506,    233.3,2,    232.2,2,    74.65,3,    29.35,3,     0.08,3,     3.23,3,     -999,9,     -999,9,   2210.0,2,   2336.4,2,20170114,1339
06M220170104  ,A10.5      ,50      ,  1,50103.0    ,241548.0   ,3          ,2,20170114,1319, -34.4996,  -6.3767,     4232,   3497.6,   2.2591,  34.8538,    234.9,2,    233.1,2,    86.58,3,    29.52,3,     0.00,3,     3.40,3,     -999,9,     -999,9,   2213.1,2,   2349.3,2,20170114,1331
06M220170104  ,A10.5      ,50      ,  1,50102.0    ,241547.0   ,2          ,2,20170114,1319, -34.4996,  -6.3767,     4232,   3996.3,   2.0424,  34.8326,    230.3,2,    229.1,2,    46.95,4,    21.64,3,     0.01,3,     1.21,3,     -999,9,     -999,9,   2230.3,2,   2352.5,2,20170114,1323
06M220170104  ,A10.5      ,50      ,  1,50101.0    ,241546.0   ,1          ,2,20170114,1319, -34.4996,  -6.3767,     4232,   4192.7,   1.8636,  34.8093,    227.3,2,    226.3,2,   102.95,3,    31.98,3,     0.02,3,     0.16,3,     -999,9,     -999,9,   2234.8,2,   2355.8,2,20170114,1319
06M220170104  ,A10.5      ,51      ,  1,51122.0    ,241589.0   ,22         ,2,20170114,1852, -34.4998,  -7.0314,     4346,      7.7,  20.4706,  35.4450,    233.8,2,    237.2,2,     1.11,2,    -0.09,3,     0.01,3,     0.07,3,    1.351,2,   1.7820,2,   2082.8,2,   2334.9,2,20170114,2008
06M220170104  ,A10.5      ,51      ,  1,51121.0    ,241588.0   ,21         ,2,20170114,1852, -34.4998,  -7.0314,     4346,     21.6,  18.5302,  35.4327,    242.8,2,    243.5,2,     1.02,2,    -0.12,3,     0.01,3,     0.08,3,    1.442,2,   1.9210,2,   2080.4,2,   2335.2,2,20170114,2008
06M220170104  ,A10.5      ,51      ,  1,51120.0    ,241587.0   ,20         ,2,20170114,1852, -34.4998,  -7.0314,     4346,     48.2,  16.8765,  35.4299,    252.9,2,    251.6,2,     1.08,2,    -0.09,3,     0.01,3,     0.08,3,    1.513,2,   1.8920,2,   2084.0,2,   2333.8,2,20170114,2007
06M220170104  ,A10.5      ,51      ,  1,51119.0    ,241586.0   ,19         ,2,20170114,1852, -34.4998,  -7.0314,     4346,     72.3,  15.9067,  35.4147,    253.1,2,     -999,9,     -999,9,     -999,9,     -999,9,     -999,9,     -999,9,     -999,9,     -999,9,     -999,9,20170114,2006
06M220170104  ,A10.5      ,51      ,  1,51118.0    ,241585.0   ,18         ,2,20170114,1852, -34.4998,  -7.0314,     4346,     98.2,  15.1505,  35.3565,    240.4,2,    240.0,2,     1.37,2,     1.38,3,     0.10,3,     0.18,3,    1.587,2,   1.9250,2,   2101.4,2,   2330.2,2,20170114,2005
06M220170104  ,A10.5      ,51      ,  1,51117.0    ,241584.0   ,17         ,2,20170114,1852, -34.4998,  -7.0314,     4346,    256.0,  13.2183,  35.2146,    216.8,2,    216.3,2,     2.95,2,     8.52,3,     0.01,3,     0.58,3,    1.710,2,   1.7120,2,   2132.1,2,   2320.9,2,20170114,2002
06M220170104  ,A10.5      ,51      ,  1,51116.0    ,241583.0   ,16         ,2,20170114,1852, -34.4998,  -7.0314,     4346,    406.0,  11.0907,  34.9484,    213.0,2,    212.3,2,     3.18,2,     9.14,3,     0.01,3,     0.73,3,    1.844,2,   1.5590,2,   2148.6,2,   2302.1,2,20170114,2000
06M220170104  ,A10.5      ,51      ,  1,51115.0    ,241582.0   ,15         ,2,20170114,1852, -34.4998,  -7.0314,     4346,    588.3,   7.9067,  34.5548,    208.7,2,    209.0,2,     9.30,2,    18.85,3,     0.02,3,     1.35,3,    1.859,2,   1.3000,2,   2171.0,2,   2289.4,2,20170114,1957
06M220170104  ,A10.5      ,51      ,  1,51114.0    ,241581.0   ,14         ,2,20170114,1852, -34.4998,  -7.0314,     4346,    623.1,   7.1842,  34.4743,    214.4,2,    215.3,2,    12.51,2,    25.48,3,     0.02,3,     1.71,3,    1.916,2,   1.3390,2,     -999,9,     -999,9,20170114,1956
06M220170104  ,A10.5      ,51      ,  1,51113.0    ,241580.0   ,13         ,2,20170114,1852, -34.4998,  -7.0314,     4346,    695.4,   5.9356,  34.3449,    227.2,2,    225.8,2,    14.29,2,    26.42,3,     0.02,3,     1.44,3,    1.986,2,   1.2980,2,   2173.6,2,   2284.4,2,20170114,1955
06M220170104  ,A10.5      ,51      ,  1,51112.0    ,241579.0   ,12         ,2,20170114,1852, -34.4998,  -7.0314,     4346,    854.9,   4.4824,  34.2472,    235.6,2,    232.6,2,    20.55,2,    29.32,3,     0.01,3,     1.85,3,    1.809,2,   1.1170,2,   2176.3,2,   2288.9,2,20170114,1952
06M220170104  ,A10.5      ,51      ,  1,51111.0    ,241578.0   ,11         ,2,20170114,1852, -34.4998,  -7.0314,     4346,   1006.9,   3.8085,  34.2743,    223.4,2,    222.3,2,    30.27,2,    28.34,3,     0.03,3,     1.98,3,    1.397,2,   0.7890,2,     -999,9,     -999,9,20170114,1949
06M220170104  ,A10.5      ,51      ,  1,51110.0    ,241577.0   ,10         ,2,20170114,1852, -34.4998,  -7.0314,     4346,   1308.4,   3.0821,  34.4383,    195.0,2,    191.1,2,    52.30,2,    33.22,2,     0.00,2,     2.07,2,    0.607,2,   0.2250,2,   2219.2,2,   2314.8,2,20170114,1944
06M220170104  ,A10.5      ,51      ,  1,51109.0    ,241576.0   ,9          ,2,20170114,1852, -34.4998,  -7.0314,     4346,   1515.2,   2.9193,  34.5509,    189.8,2,    190.6,2,    60.30,2,    33.48,2,     0.01,2,     2.26,2,    0.310,2,   0.0730,2,   2220.8,2,   2324.5,2,20170114,1941
06M220170104  ,A10.5      ,51      ,  1,51108.0    ,241575.0   ,8          ,2,20170114,1852, -34.4998,  -7.0314,     4346,   1712.5,   2.8208,  34.6532,    194.0,2,     -999,9,     0.90,4,     0.47,4,     0.02,4,    -0.03,4,     -999,9,     -999,9,     -999,9,     -999,9,20170114,1937
06M220170104  ,A10.5      ,51      ,  1,51107.0    ,241574.0   ,7          ,2,20170114,1852, -34.4998,  -7.0314,     4346,   1819.4,   2.7889,  34.6920,    197.8,2,    194.4,2,    58.90,2,    30.25,2,     0.01,2,     1.87,2,    0.118,2,   0.0000,2,     -999,9,     -999,9,20170114,1936
06M220170104  ,A10.5      ,51      ,  1,51106.0    ,241573.0   ,6          ,2,20170114,1852, -34.4998,  -7.0314,     4346,   2024.0,   2.7480,  34.7545,    206.8,2,    207.0,2,    50.05,2,    28.63,2,     0.01,2,     1.83,2,    0.068,2,   0.0000,2,   2214.7,2,   2333.8,2,20170114,1932
06M220170104  ,A10.5      ,51      ,  1,51105.0    ,241572.0   ,5          ,2,20170114,1852, -34.4998,  -7.0314,     4346,   2529.4,   2.6116,  34.8329,    225.0,2,    223.8,2,    53.46,2,    25.81,2,     0.00,2,     1.45,2,    0.034,2,   0.0000,2,     -999,9,     -999,9,20170114,1923
06M220170104  ,A10.5      ,51      ,  1,51104.0    ,241571.0   ,4          ,2,20170114,1852, -34.4998,  -7.0314,     4346,   3040.1,   2.4035,  34.8522,    234.2,2,    232.9,2,    53.49,2,    25.12,2,     0.02,2,     1.56,2,    0.022,2,   0.0000,2,   2195.6,2,   2341.7,2,20170114,1915
06M220170104  ,A10.5      ,51      ,  1,51103.0    ,241570.0   ,3          ,2,20170114,1852, -34.4998,  -7.0314,     4346,   3554.2,   2.1852,  34.8463,    233.3,2,    231.9,2,    64.02,2,    25.62,2,     0.02,2,     1.68,2,    0.021,2,   0.0000,2,   2208.4,2,   2349.7,2,20170114,1906
06M220170104  ,A10.5      ,51      ,  1,51101.0    ,241568.0   ,1          ,2,20170114,1852, -34.4998,  -7.0314,     4346,   4335.3,   1.4218,  34.7637,    220.9,2,    220.1,2,    84.29,3,    29.77,2,     0.01,2,     1.77,2,    0.047,2,   0.0000,2,   2235.6,2,   2364.1,2,20170114,1852
06M220170104  ,A10.5      ,51      ,  1,51102.0    ,241569.0   ,2          ,2,20170114,1852, -34.4998,  -7.0314,     4346,   4335.5,   1.4218,  34.7637,    221.0,2,    219.0,2,    90.88,2,    27.71,3,     0.02,3,     1.75,3,    0.046,2,   0.0000,2,     -999,9,     -999,9,20170114,1852