BOTTLE,20240228CCHSIOADS
EXPOCODE,SECT_ID,STNNBR,CASTNO,SAMPNO,BIONBR,BTLNBR,BTLNBR_FLAG_W,DATE,TIME,LATITUDE,LONGITUDE,DEPTH,CTDPRS,CTDTMP,CTDSAL,CTDOXY,CTDOXY_FLAG_W,OXYGEN,OXYGEN_FLAG_W,SILCAT,SILCAT_FLAG_W,NITRAT,NITRAT_FLAG_W,NITRIT,NITRIT_FLAG_W,PHSPHT,PHSPHT_FLAG_W,CFC-12,CFC-12_FLAG_W,SF6,SF6_FLAG_W,TCARBN,TCARBN_FLAG_W,ALKALI,ALKALI_FLAG_W,BTL_DATE,BTL_TIME
,,,,,,,,,,,,METERS,DBAR,ITS-90,PSS-78,UMOL/KG,,UMOL/KG,,UMOL/KG,,UMOL/KG,,UMOL/KG,,UMOL/KG,,PMOL/KG,,FMOL/KG,,UMOL/KG,,UMOL/KG,,,
06M220170104  ,A10.5      ,9       ,  1,9122.0     ,240198.0   ,22         ,2,20170105,1006, -34.4969,  17.3007,     2140,     10.9,  21.2393,  35.5453,    228.8,2,    228.4,2,     2.06,3,     0.59,3,     0.02,3,     0.18,3,     -999,9,     -999,9,     -999,9,     -999,9,20170105,1044
06M220170104  ,A10.5      ,9       ,  1,9121.0     ,240197.0   ,21         ,2,20170105,1006, -34.4969,  17.3007,     2140,     12.2,  21.2127,  35.5447,    229.1,2,     -999,9,     1.94,3,     1.30,3,     0.02,3,     0.10,3,    1.125,3,   1.5310,2,   2018.4,2,   2334.4,2,20170105,1044
06M220170104  ,A10.5      ,9       ,  1,9120.0     ,240196.0   ,20         ,2,20170105,1006, -34.4969,  17.3007,     2140,     24.2,  21.0986,  35.5451,    230.2,2,     -999,9,     1.91,3,     1.21,3,     0.02,3,     0.40,3,     -999,9,     -999,9,   2052.4,2,   2334.4,2,20170105,1044
06M220170104  ,A10.5      ,9       ,  1,9119.0     ,240195.0   ,19         ,2,20170105,1006, -34.4969,  17.3007,     2140,     49.4,  17.9484,  35.5289,    215.2,2,    217.0,2,     6.36,3,     5.24,3,     0.18,3,     0.88,3,    1.332,2,   1.6330,2,   2058.0,2,   2333.1,2,20170105,1043
06M220170104  ,A10.5      ,9       ,  1,9118.0     ,240194.0   ,18         ,2,20170105,1006, -34.4969,  17.3007,     2140,    100.0,  16.3019,  35.4533,    206.1,2,    203.0,2,     6.87,3,    10.56,3,     0.08,3,     1.29,3,    1.434,2,   1.6730,2,   2082.0,2,   2328.4,2,20170105,1041
06M220170104  ,A10.5      ,9       ,  1,9117.0     ,240193.0   ,17         ,2,20170105,1006, -34.4969,  17.3007,     2140,    188.3,  13.1712,  35.1962,    211.7,2,    212.6,2,    10.35,3,    19.74,3,     0.07,3,     1.64,3,    1.645,2,   1.6050,2,   2102.4,2,   2320.6,2,20170105,1039
06M220170104  ,A10.5      ,9       ,  1,9116.0     ,240192.0   ,16         ,2,20170105,1006, -34.4969,  17.3007,     2140,    247.7,  12.2688,  35.0959,    217.8,2,    220.4,2,     8.54,3,    18.62,3,     0.04,3,     1.71,3,    1.705,2,   1.5650,2,   2123.1,2,   2329.9,3,20170105,1038
06M220170104  ,A10.5      ,9       ,  1,9115.0     ,240191.0   ,15         ,2,20170105,1006, -34.4969,  17.3007,     2140,    348.7,  10.1264,  34.7865,    217.9,2,    216.8,2,     9.82,3,    25.69,3,     0.03,3,     2.51,3,    1.833,2,   1.5320,2,   2139.0,2,   2299.0,2,20170105,1037
06M220170104  ,A10.5      ,9       ,  1,9114.0     ,240190.0   ,14         ,2,20170105,1006, -34.4969,  17.3007,     2140,    447.9,   8.4849,  34.6415,    204.7,2,    203.0,2,    24.29,3,    38.20,3,     0.07,3,     2.86,3,    1.558,4,   1.0140,2,   2157.6,2,   2298.6,2,20170105,1035
06M220170104  ,A10.5      ,9       ,  1,9113.0     ,240189.0   ,13         ,2,20170105,1006, -34.4969,  17.3007,     2140,    547.1,   6.4983,  34.4245,    214.0,2,    209.5,3,     5.20,4,    12.64,4,     0.00,4,     0.65,4,    1.751,2,   1.2140,2,   2168.5,2,   2289.8,2,20170105,1033
06M220170104  ,A10.5      ,9       ,  1,9112.0     ,240188.0   ,12         ,2,20170105,1006, -34.4969,  17.3007,     2140,    752.4,   4.6316,  34.3549,    207.9,2,    251.1,4,    46.30,3,    47.29,3,     0.04,3,     4.04,3,    1.305,2,   0.7690,2,   2190.0,2,   2300.9,2,20170105,1030
06M220170104  ,A10.5      ,9       ,  1,9111.0     ,240187.0   ,11         ,2,20170105,1006, -34.4969,  17.3007,     2140,    850.2,   4.0139,  34.3731,    199.1,2,    199.6,2,    61.15,3,    52.20,3,     0.04,3,     4.68,3,    1.010,2,   0.4790,2,   2201.2,2,   2306.8,2,20170105,1028
06M220170104  ,A10.5      ,9       ,  1,9110.0     ,240186.0   ,10         ,2,20170105,1006, -34.4969,  17.3007,     2140,    998.8,   3.5571,  34.4682,    180.8,2,    181.6,2,    61.67,3,    45.58,3,     0.04,3,     3.14,3,    0.546,2,   0.2120,2,   2219.9,2,   2322.0,2,20170105,1026
06M220170104  ,A10.5      ,9       ,  1,9109.0     ,240185.0   ,9          ,2,20170105,1006, -34.4969,  17.3007,     2140,   1173.5,   3.1826,  34.5649,    176.2,2,    176.7,2,    90.25,3,    55.26,3,     0.04,3,     4.91,3,    0.279,2,   0.1460,2,   2247.5,2,   2327.1,2,20170105,1023
06M220170104  ,A10.5      ,9       ,  1,9108.0     ,240184.0   ,8          ,2,20170105,1006, -34.4969,  17.3007,     2140,   1176.9,   3.1643,  34.5673,    176.8,2,    177.6,2,     -999,9,     -999,9,     -999,9,     -999,9,     -999,9,     -999,9,     -999,9,     -999,9,20170105,1023
06M220170104  ,A10.5      ,9       ,  1,9107.0     ,240183.0   ,7          ,2,20170105,1006, -34.4969,  17.3007,     2140,   1247.6,   2.9967,  34.5840,    178.6,2,    180.6,2,    71.71,3,    44.76,3,     0.04,3,     3.28,3,    0.241,2,   0.1140,2,   2247.1,2,   2322.1,3,20170105,1021
06M220170104  ,A10.5      ,9       ,  1,9106.0     ,240182.0   ,6          ,2,20170105,1006, -34.4969,  17.3007,     2140,   1494.3,   2.8380,  34.7018,    190.5,2,    193.4,2,    79.28,3,    45.51,3,     0.05,3,     4.00,3,    0.096,2,   0.0370,2,   2221.6,2,   2323.4,3,20170105,1017
06M220170104  ,A10.5      ,9       ,  1,9105.0     ,240181.0   ,5          ,2,20170105,1006, -34.4969,  17.3007,     2140,   1747.2,   2.8113,  34.7939,    209.1,2,    209.4,2,    65.61,3,    34.12,3,     0.04,3,     2.78,3,    0.041,2,   0.0490,2,   2216.5,2,   2333.9,2,20170105,1012
06M220170104  ,A10.5      ,9       ,  1,9104.0     ,240180.0   ,4          ,2,20170105,1006, -34.4969,  17.3007,     2140,   1896.8,   2.8896,  34.8416,    221.1,2,    217.8,2,    45.00,3,    26.27,3,     0.05,3,     1.93,3,    0.020,2,   0.0340,2,   2203.7,2,   2330.7,2,20170105,1010
06M220170104  ,A10.5      ,9       ,  1,9103.0     ,240179.0   ,3          ,2,20170105,1006, -34.4969,  17.3007,     2140,   1997.1,   2.8320,  34.8450,    223.1,2,    223.5,2,    45.31,3,    26.45,3,     0.05,3,     1.78,3,    0.017,2,   0.0000,2,   2204.8,2,     -999,9,20170105,1008
06M220170104  ,A10.5      ,9       ,  1,9101.0     ,240177.0   ,1          ,2,20170105,1006, -34.4969,  17.3007,     2140,   2128.1,   2.7708,  34.8507,    225.5,2,    223.3,2,    38.86,3,    21.85,3,     0.05,3,     1.54,3,     -999,9,     -999,9,   2206.1,2,   2334.5,2,20170105,1006
06M220170104  ,A10.5      ,9       ,  1,9102.0     ,240178.0   ,2          ,2,20170105,1006, -34.4969,  17.3007,     2140,   2129.6,   2.7714,  34.8505,    225.8,2,    225.4,2,    51.30,3,    28.05,3,     0.05,3,     2.30,3,    0.021,2,   0.0000,2,     -999,9,     -999,9,20170105,1006
06M220170104  ,A10.5      ,10      ,  1,10116.0    ,240214.0   ,16         ,2,20170105,1247, -34.4982,  17.2201,     2464,      6.5,  21.2816,  35.5676,    229.6,2,     -999,9,     -999,9,     -999,9,     -999,9,     -999,9,     -999,9,     -999,9,     -999,9,     -999,9,20170105,1331
06M220170104  ,A10.5      ,10      ,  1,10115.0    ,240213.0   ,15         ,2,20170105,1247, -34.4982,  17.2201,     2464,     22.8,  21.2424,  35.5661,    229.3,2,     -999,9,     1.61,3,     0.52,3,     0.02,3,     0.15,3,     -999,9,     -999,9,   2039.4,2,   2329.6,2,20170105,1330
06M220170104  ,A10.5      ,10      ,  1,10114.0    ,240212.0   ,14         ,2,20170105,1247, -34.4982,  17.2201,     2464,     49.0,  18.4275,  35.5760,    237.6,2,     -999,9,     2.69,3,     0.98,3,     0.05,3,     0.16,3,     -999,9,     -999,9,   1881.3,3,   2329.7,2,20170105,1329
06M220170104  ,A10.5      ,10      ,  1,10113.0    ,240211.0   ,13         ,2,20170105,1247, -34.4982,  17.2201,     2464,    100.2,  16.1004,  35.4459,    202.0,2,     -999,9,     6.03,3,     8.77,3,     0.05,3,     0.82,3,     -999,9,     -999,9,   1828.0,3,   2324.4,2,20170105,1328
06M220170104  ,A10.5      ,10      ,  1,10112.0    ,240210.0   ,12         ,2,20170105,1247, -34.4982,  17.2201,     2464,    148.7,  14.4861,  35.3146,    198.1,2,     -999,9,     6.72,3,    10.68,3,     0.02,3,     0.81,3,     -999,9,     -999,9,   1869.4,3,   2315.4,2,20170105,1327
06M220170104  ,A10.5      ,10      ,  1,10111.0    ,240209.0   ,11         ,2,20170105,1247, -34.4982,  17.2201,     2464,    327.5,  10.6631,  34.8483,    227.2,2,     -999,9,     6.34,3,    16.42,3,     0.01,3,     1.11,3,     -999,9,     -999,9,   2130.2,2,   2300.3,2,20170105,1324
06M220170104  ,A10.5      ,10      ,  1,10110.0    ,240208.0   ,10         ,2,20170105,1247, -34.4982,  17.2201,     2464,    448.2,   8.4865,  34.6044,    211.3,2,     -999,9,     9.36,3,    21.57,3,     0.02,3,     2.05,3,     -999,9,     -999,9,   2157.3,2,   2294.3,2,20170105,1322
06M220170104  ,A10.5      ,10      ,  1,10109.0    ,240207.0   ,9          ,2,20170105,1247, -34.4982,  17.2201,     2464,    557.7,   6.6836,  34.4471,    210.3,2,     -999,9,    18.85,3,    31.38,3,     0.01,3,     2.14,3,     -999,9,     -999,9,   2172.7,2,   2288.8,2,20170105,1320
06M220170104  ,A10.5      ,10      ,  1,10108.0    ,240206.0   ,8          ,2,20170105,1247, -34.4982,  17.2201,     2464,    706.5,   5.1579,  34.3529,    214.8,2,     -999,9,    38.79,3,    43.24,3,     0.03,3,     3.85,3,     -999,9,     -999,9,   2195.2,2,   2292.7,2,20170105,1317
06M220170104  ,A10.5      ,10      ,  1,10107.0    ,240205.0   ,7          ,2,20170105,1247, -34.4982,  17.2201,     2464,    865.4,   4.2047,  34.3931,    196.2,2,     -999,9,    44.91,3,    36.85,3,     0.01,3,     2.70,3,     -999,9,     -999,9,   2215.2,2,   2306.7,2,20170105,1315
06M220170104  ,A10.5      ,10      ,  1,10106.0    ,240204.0   ,6          ,2,20170105,1247, -34.4982,  17.2201,     2464,    997.1,   3.6493,  34.4445,    185.0,2,     -999,9,    40.63,3,    28.53,3,     0.00,3,     2.25,3,     -999,9,     -999,9,   2231.6,2,   2318.4,2,20170105,1313
06M220170104  ,A10.5      ,10      ,  1,10105.0    ,240203.0   ,5          ,2,20170105,1247, -34.4982,  17.2201,     2464,   1256.8,   3.0957,  34.5915,    176.5,2,     -999,9,    72.11,3,    38.69,3,     0.01,3,     3.32,3,     -999,9,     -999,9,   2239.6,2,   2332.0,2,20170105,1308
06M220170104  ,A10.5      ,10      ,  1,10104.0    ,240202.0   ,4          ,2,20170105,1247, -34.4982,  17.2201,     2464,   1566.8,   2.8272,  34.7234,    194.2,2,     -999,9,    67.51,3,    34.86,3,     0.02,3,     2.92,3,     -999,9,     -999,9,   2235.6,2,   2334.7,2,20170105,1303
06M220170104  ,A10.5      ,10      ,  1,10103.0    ,240201.0   ,3          ,2,20170105,1247, -34.4982,  17.2201,     2464,   1737.1,   2.7871,  34.7782,    206.0,2,     -999,9,    65.79,3,    34.93,3,     0.00,3,     2.83,3,     -999,9,     -999,9,   2223.0,2,   2335.8,2,20170105,1300
06M220170104  ,A10.5      ,10      ,  1,10102.0    ,240200.0   ,2          ,2,20170105,1247, -34.4982,  17.2201,     2464,   1996.7,   2.7476,  34.8387,    222.9,2,     -999,9,    54.14,3,    28.85,3,     0.01,3,     2.03,3,     -999,9,     -999,9,   2206.0,2,   2333.5,2,20170105,1256
06M220170104  ,A10.5      ,10      ,  1,10101.0    ,240199.0   ,1          ,2,20170105,1247, -34.4982,  17.2201,     2464,   2454.4,   2.5826,  34.8598,    230.8,2,     -999,9,    53.79,3,    30.87,3,     0.01,3,     2.33,3,     -999,9,     -999,9,     -999,9,     -999,9,20170105,1247
06M220170104  ,A10.5      ,11      ,  1,11120.0    ,240240.0   ,20         ,2,20170105,1517, -34.4997,  17.1382,     2872,      9.1,  21.2642,  35.5846,    229.3,2,    228.5,2,     -999,9,     -999,9,     -999,9,     -999,9,     -999,9,     -999,9,   2035.3,2,   2336.1,2,20170105,1606
06M220170104  ,A10.5      ,11      ,  1,11119.0    ,240239.0   ,19         ,2,20170105,1517, -34.4997,  17.1382,     2872,     15.9,  21.2289,  35.5823,    229.4,2,    228.4,2,     -999,9,     -999,9,     -999,9,     -999,9,     -999,9,     -999,9,     -999,9,     -999,9,20170105,1605
06M220170104  ,A10.5      ,11      ,  1,11118.0    ,240238.0   ,18         ,2,20170105,1517, -34.4997,  17.1382,     2872,     33.9,  20.1461,  35.6007,    237.7,2,    145.6,4,     -999,9,     -999,9,     -999,9,     -999,9,     -999,9,     -999,9,   2053.4,2,   2347.2,2,20170105,1604
06M220170104  ,A10.5      ,11      ,  1,11117.0    ,240237.0   ,17         ,2,20170105,1517, -34.4997,  17.1382,     2872,     49.6,  17.8248,  35.4914,    253.0,2,    254.5,2,     -999,9,     -999,9,     -999,9,     -999,9,     -999,9,     -999,9,     -999,9,     -999,9,20170105,1604
06M220170104  ,A10.5      ,11      ,  1,11116.0    ,240236.0   ,16         ,2,20170105,1517, -34.4997,  17.1382,     2872,     77.8,  16.3061,  35.4071,    235.2,2,    235.4,2,     -999,9,     -999,9,     -999,9,     -999,9,     -999,9,     -999,9,   2085.6,2,   2320.9,2,20170105,1603
06M220170104  ,A10.5      ,11      ,  1,11115.0    ,240235.0   ,15         ,2,20170105,1517, -34.4997,  17.1382,     2872,    141.4,  13.5415,  35.0511,    233.3,2,    231.3,2,     -999,9,     -999,9,     -999,9,     -999,9,     -999,9,     -999,9,   2106.3,2,   2303.2,2,20170105,1601
06M220170104  ,A10.5      ,11      ,  1,11114.0    ,240234.0   ,14         ,2,20170105,1517, -34.4997,  17.1382,     2872,    205.0,  12.9752,  35.1887,    213.8,2,    215.2,2,     -999,9,     -999,9,     -999,9,     -999,9,     -999,9,     -999,9,     -999,9,     -999,9,20170105,1600
06M220170104  ,A10.5      ,11      ,  1,11113.0    ,240233.0   ,13         ,2,20170105,1517, -34.4997,  17.1382,     2872,    297.4,  10.9325,  34.8804,    221.7,2,    220.1,2,     -999,9,     -999,9,     -999,9,     -999,9,     -999,9,     -999,9,   2137.3,2,   2291.4,4,20170105,1559
06M220170104  ,A10.5      ,11      ,  1,11112.0    ,240232.0   ,12         ,2,20170105,1517, -34.4997,  17.1382,     2872,    553.0,   6.7320,  34.4261,    216.2,2,    216.9,2,     -999,9,     -999,9,     -999,9,     -999,9,     -999,9,     -999,9,     -999,9,     -999,9,20170105,1555
06M220170104  ,A10.5      ,11      ,  1,11111.0    ,240231.0   ,11         ,2,20170105,1517, -34.4997,  17.1382,     2872,    697.5,   5.2741,  34.3860,    208.4,2,    209.4,2,     -999,9,     -999,9,     -999,9,     -999,9,     -999,9,     -999,9,   2189.4,2,   2300.6,2,20170105,1552
06M220170104  ,A10.5      ,11      ,  1,11110.0    ,240230.0   ,10         ,2,20170105,1517, -34.4997,  17.1382,     2872,    847.1,   3.7630,  34.3166,    212.9,2,    213.4,2,     -999,9,     -999,9,     -999,9,     -999,9,     -999,9,     -999,9,   2201.0,2,   2303.6,2,20170105,1550
06M220170104  ,A10.5      ,11      ,  1,11109.0    ,240229.0   ,9          ,2,20170105,1517, -34.4997,  17.1382,     2872,   1242.2,   3.1107,  34.5880,    175.7,2,    176.1,2,     -999,9,     -999,9,     -999,9,     -999,9,     -999,9,     -999,9,   2245.4,2,   2339.1,2,20170105,1544
06M220170104  ,A10.5      ,11      ,  1,11108.0    ,240228.0   ,8          ,2,20170105,1517, -34.4997,  17.1382,     2872,   1632.9,   2.8078,  34.7505,    199.4,2,    199.9,2,     -999,9,     -999,9,     -999,9,     -999,9,     -999,9,     -999,9,     -999,9,     -999,9,20170105,1537
06M220170104  ,A10.5      ,11      ,  1,11107.0    ,240227.0   ,7          ,2,20170105,1517, -34.4997,  17.1382,     2872,   1633.6,   2.8077,  34.7505,    199.4,2,    198.6,2,     -999,9,     -999,9,     -999,9,     -999,9,     -999,9,     -999,9,   2226.2,2,   2342.0,2,20170105,1537
06M220170104  ,A10.5      ,11      ,  1,11106.0    ,240226.0   ,6          ,2,20170105,1517, -34.4997,  17.1382,     2872,   2019.9,   2.8118,  34.8501,    224.5,2,    210.6,4,     -999,9,     -999,9,     -999,9,     -999,9,     -999,9,     -999,9,   2086.3,3,   2331.6,2,20170105,1531
06M220170104  ,A10.5      ,11      ,  1,11105.0    ,240225.0   ,5          ,2,20170105,1517, -34.4997,  17.1382,     2872,   2183.6,   2.5914,  34.8326,    222.7,2,    223.0,2,     -999,9,     -999,9,     -999,9,     -999,9,     -999,9,     -999,9,   1954.0,3,   2334.1,2,20170105,1528
06M220170104  ,A10.5      ,11      ,  1,11104.0    ,240224.0   ,4          ,2,20170105,1517, -34.4997,  17.1382,     2872,   2342.3,   2.5582,  34.8447,    227.4,2,    227.4,2,     -999,9,     -999,9,     -999,9,     -999,9,     -999,9,     -999,9,     -999,9,     -999,9,20170105,1526
06M220170104  ,A10.5      ,11      ,  1,11103.0    ,240223.0   ,3          ,2,20170105,1517, -34.4997,  17.1382,     2872,   2529.7,   2.5177,  34.8528,    230.8,2,    210.9,4,     -999,9,     -999,9,     -999,9,     -999,9,     -999,9,     -999,9,   1969.0,3,   2339.5,2,20170105,1523
06M220170104  ,A10.5      ,11      ,  1,11102.0    ,240222.0   ,2          ,2,20170105,1517, -34.4997,  17.1382,     2872,   2861.6,   2.4676,  34.8589,    232.5,2,    212.7,4,     -999,9,     -999,9,     -999,9,     -999,9,     -999,9,     -999,9,     -999,9,     -999,9,20170105,1517
06M220170104  ,A10.5      ,11      ,  1,11101.0    ,240221.0   ,1          ,2,20170105,1517, -34.4997,  17.1382,     2872,   2862.1,   2.4669,  34.8589,    232.4,2,    235.3,2,     -999,9,     -999,9,     -999,9,     -999,9,     -999,9,     -999,9,   2090.8,3,   2340.4,2,20170105,1517