BOTTLE,20240228CCHSIOADS
EXPOCODE,SECT_ID,STNNBR,CASTNO,SAMPNO,BIONBR,BTLNBR,BTLNBR_FLAG_W,DATE,TIME,LATITUDE,LONGITUDE,DEPTH,CTDPRS,CTDTMP,CTDSAL,CTDOXY,CTDOXY_FLAG_W,OXYGEN,OXYGEN_FLAG_W,SILCAT,SILCAT_FLAG_W,NITRAT,NITRAT_FLAG_W,NITRIT,NITRIT_FLAG_W,PHSPHT,PHSPHT_FLAG_W,CFC-12,CFC-12_FLAG_W,SF6,SF6_FLAG_W,TCARBN,TCARBN_FLAG_W,ALKALI,ALKALI_FLAG_W,BTL_DATE,BTL_TIME
,,,,,,,,,,,,METERS,DBAR,ITS-90,PSS-78,UMOL/KG,,UMOL/KG,,UMOL/KG,,UMOL/KG,,UMOL/KG,,UMOL/KG,,PMOL/KG,,FMOL/KG,,UMOL/KG,,UMOL/KG,,,
06M220170104  ,A10.5      ,18      ,  1,18120.0    ,241394.0   ,20         ,2,20170107,0809, -34.4886,  12.6095,     4832,     49.3,  18.9871,  35.5275,    225.4,2,    212.0,3,     3.55,2,     3.53,3,     0.23,3,     0.38,3,    1.258,2,   1.5760,2,   2059.2,2,   2331.7,2,20170107,0931
06M220170104  ,A10.5      ,18      ,  1,18119.0    ,241393.0   ,19         ,2,20170107,0809, -34.4886,  12.6095,     4832,     96.8,  17.5417,  35.5227,    220.6,2,    210.7,3,     1.95,2,     0.97,3,     0.07,3,     0.18,3,    1.355,2,   1.7380,2,   2099.3,2,   2332.3,2,20170107,0930
06M220170104  ,A10.5      ,18      ,  1,18118.0    ,241392.0   ,18         ,2,20170107,0809, -34.4886,  12.6095,     4832,    146.4,  16.5598,  35.5237,    198.9,2,    195.5,3,     4.82,2,    10.59,3,     0.03,3,     0.78,3,    1.384,2,   1.5830,2,     -999,9,     -999,9,20170107,0929
06M220170104  ,A10.5      ,18      ,  1,18117.0    ,241391.0   ,17         ,2,20170107,0809, -34.4886,  12.6095,     4832,    247.7,  13.6515,  35.2095,    217.6,2,    202.7,4,     4.49,2,     6.74,3,     0.02,3,     0.52,3,    1.583,2,   1.6820,2,   2112.3,2,   2319.4,2,20170107,0927
06M220170104  ,A10.5      ,18      ,  1,18116.0    ,241390.0   ,16         ,2,20170107,0809, -34.4886,  12.6095,     4832,    345.4,  12.2999,  35.1158,    210.4,2,    216.8,3,     6.44,2,    14.14,3,     0.02,3,     1.02,3,    1.629,2,   1.3470,2,     -999,9,     -999,9,20170107,0925
06M220170104  ,A10.5      ,18      ,  1,18115.0    ,241389.0   ,15         ,2,20170107,0809, -34.4886,  12.6095,     4832,    445.3,  10.4253,  34.8589,    214.0,2,    225.0,4,     4.96,2,    11.06,3,     0.00,3,     0.88,3,    1.670,2,   1.1630,2,   2139.7,2,   2301.7,2,20170107,0924
06M220170104  ,A10.5      ,18      ,  1,18114.0    ,241388.0   ,14         ,2,20170107,0809, -34.4886,  12.6095,     4832,    547.1,   8.6904,  34.6529,    207.9,2,    207.5,2,    11.80,2,    21.69,3,     0.01,3,     1.48,3,    1.573,2,   1.0300,2,     -999,9,     -999,9,20170107,0922
06M220170104  ,A10.5      ,18      ,  1,18113.0    ,241387.0   ,13         ,2,20170107,0809, -34.4886,  12.6095,     4832,    736.8,   6.0582,  34.4645,    197.7,2,    221.9,4,    26.52,2,    30.08,3,     0.02,3,     2.03,3,    1.264,2,   0.7460,2,   2180.6,2,   2297.7,2,20170107,0919
06M220170104  ,A10.5      ,18      ,  1,18112.0    ,241386.0   ,12         ,2,20170107,0809, -34.4886,  12.6095,     4832,    796.3,   5.0217,  34.3590,    211.6,2,    228.4,4,    25.76,3,    28.77,3,     0.02,3,     2.06,3,    1.354,2,   0.8150,2,   2185.7,2,   2296.6,2,20170107,0918
06M220170104  ,A10.5      ,18      ,  1,18111.0    ,241385.0   ,11         ,2,20170107,0809, -34.4886,  12.6095,     4832,   1055.6,   4.0123,  34.4877,    175.8,2,    245.3,4,    53.41,2,    37.34,2,     0.01,2,     2.64,2,    0.596,2,   0.2890,2,   2221.6,2,   2320.2,2,20170107,0913
06M220170104  ,A10.5      ,18      ,  1,18110.0    ,241384.0   ,10         ,2,20170107,0809, -34.4886,  12.6095,     4832,   1246.6,   3.0272,  34.5148,    181.1,2,    184.3,3,    59.76,2,    36.22,3,     0.02,3,     2.30,3,    0.355,2,   0.1720,2,   2264.1,2,   2327.9,2,20170107,0910
06M220170104  ,A10.5      ,18      ,  1,18109.0    ,241383.0   ,9          ,2,20170107,0809, -34.4886,  12.6095,     4832,   1495.6,   2.9050,  34.6580,    183.7,2,    183.6,2,    57.07,2,    33.92,2,     0.03,2,     2.32,2,    0.128,2,   0.1280,2,     -999,9,     -999,9,20170107,0906
06M220170104  ,A10.5      ,18      ,  1,18108.0    ,241382.0   ,8          ,2,20170107,0809, -34.4886,  12.6095,     4832,   1745.5,   2.7770,  34.7461,    199.2,2,    194.0,3,     -999,9,     -999,9,     -999,9,     -999,9,     -999,9,     -999,9,     -999,9,     -999,9,20170107,0902
06M220170104  ,A10.5      ,18      ,  1,18107.0    ,241381.0   ,7          ,2,20170107,0809, -34.4886,  12.6095,     4832,   1994.3,   2.6659,  34.7983,    210.6,2,    209.7,2,    49.49,2,    27.92,2,     0.01,2,     1.85,2,    0.035,2,   0.0000,2,   2220.0,2,   2337.6,2,20170107,0857
06M220170104  ,A10.5      ,18      ,  1,18106.0    ,241380.0   ,6          ,2,20170107,0809, -34.4886,  12.6095,     4832,   2494.5,   2.4526,  34.8374,    224.9,2,    224.9,2,    62.28,3,    33.42,3,     0.01,3,     2.43,3,    0.016,2,   0.0000,2,   2207.4,2,   2340.6,2,20170107,0849
06M220170104  ,A10.5      ,18      ,  1,18105.0    ,241379.0   ,5          ,2,20170107,0809, -34.4886,  12.6095,     4832,   3036.4,   2.2603,  34.8475,    230.4,2,    230.4,2,    54.94,2,    25.64,2,     0.00,2,     1.76,2,    0.012,2,   0.0000,2,   2216.3,2,   2347.3,2,20170107,0840
06M220170104  ,A10.5      ,18      ,  1,18104.0    ,241378.0   ,4          ,2,20170107,0809, -34.4886,  12.6095,     4832,   3496.7,   1.8619,  34.8114,    225.3,2,    225.7,2,    69.02,2,    28.02,2,     0.01,2,     1.94,2,    0.022,2,   0.0000,2,   2238.0,2,   2355.5,2,20170107,0832
06M220170104  ,A10.5      ,18      ,  1,18103.0    ,241377.0   ,3          ,2,20170107,0809, -34.4886,  12.6095,     4832,   3996.6,   1.2592,  34.7529,    220.4,2,    222.0,2,    87.70,2,    29.09,2,     0.01,2,     2.08,2,    0.052,2,   0.0000,2,   2239.6,2,   2368.8,2,20170107,0824
06M220170104  ,A10.5      ,18      ,  1,18102.0    ,241376.0   ,2          ,2,20170107,0809, -34.4886,  12.6095,     4832,   4495.8,   1.1183,  34.7356,    219.4,2,    220.2,2,    97.95,2,    31.05,2,     0.00,2,     2.20,2,    0.057,2,   0.0000,2,   2263.7,2,   2371.4,2,20170107,0815
06M220170104  ,A10.5      ,18      ,  1,18101.0    ,241375.0   ,1          ,2,20170107,0809, -34.4886,  12.6095,     4832,   4821.8,   1.1010,  34.7304,    219.5,2,    220.0,2,    72.53,3,    22.91,3,     0.03,3,     2.11,3,    0.074,2,   0.0000,2,   2263.0,2,   2370.0,2,20170107,0809
06M220170104  ,A10.5      ,19      ,  1,19122.0    ,241418.0   ,22         ,2,20170107,1406, -34.4987,  11.9595,     4928,      8.9,  22.2280,  35.5346,    224.2,2,    230.6,4,     2.07,2,     0.03,3,     0.00,2,     0.08,3,    1.113,2,   1.5620,2,   2029.6,2,   2330.6,2,20170107,1531
06M220170104  ,A10.5      ,19      ,  1,19121.0    ,241417.0   ,21         ,2,20170107,1406, -34.4987,  11.9595,     4928,     23.7,  21.8097,  35.5607,    225.5,2,    239.1,4,     1.94,2,     0.03,3,     0.00,2,     0.04,3,    1.109,2,   1.5050,2,   2030.2,2,   2333.5,2,20170107,1531
06M220170104  ,A10.5      ,19      ,  1,19120.0    ,241416.0   ,20         ,2,20170107,1406, -34.4987,  11.9595,     4928,     49.0,  21.1067,  35.5514,    212.5,2,    256.5,4,     2.68,2,     0.85,3,     0.25,2,     0.36,3,    1.156,2,   1.5250,2,   2052.8,2,   2333.4,2,20170107,1530
06M220170104  ,A10.5      ,19      ,  1,19119.0    ,241415.0   ,19         ,2,20170107,1406, -34.4987,  11.9595,     4928,     99.6,  17.8542,  35.5537,    208.3,2,    243.7,3,     3.84,2,     3.17,3,     0.12,2,     0.51,3,    1.298,2,   1.5820,2,     -999,9,     -999,9,20170107,1529
06M220170104  ,A10.5      ,19      ,  1,19118.0    ,241414.0   ,18         ,2,20170107,1406, -34.4987,  11.9595,     4928,    148.5,  16.7629,  35.5268,    195.9,2,    238.0,4,     5.22,2,     5.63,3,     0.02,2,     0.39,3,    1.358,2,   1.5300,2,   2112.0,2,   2332.7,2,20170107,1528
06M220170104  ,A10.5      ,19      ,  1,19117.0    ,241413.0   ,17         ,2,20170107,1406, -34.4987,  11.9595,     4928,    246.0,  14.7292,  35.3700,    202.8,2,    230.6,4,     4.96,2,     5.58,3,     0.01,2,     0.80,3,    1.473,2,   1.4440,2,     -999,9,     -999,9,20170107,1526
06M220170104  ,A10.5      ,19      ,  1,19116.0    ,241412.0   ,16         ,2,20170107,1406, -34.4987,  11.9595,     4928,    319.4,  13.4600,  35.2439,    215.4,2,    215.3,2,     5.16,2,     9.40,3,     0.01,2,     0.93,3,    1.628,2,   1.6240,2,     -999,9,     -999,9,20170107,1525
06M220170104  ,A10.5      ,19      ,  1,19115.0    ,241411.0   ,15         ,2,20170107,1406, -34.4987,  11.9595,     4928,    451.3,  11.4487,  34.9603,    225.2,2,    217.0,4,     5.94,2,    12.73,3,     0.01,2,     1.46,3,    1.727,2,   1.5890,2,   2135.8,2,   2308.0,2,20170107,1522
06M220170104  ,A10.5      ,19      ,  1,19114.0    ,241410.0   ,14         ,2,20170107,1406, -34.4987,  11.9595,     4928,    591.7,   8.9722,  34.6796,    207.0,2,    211.3,2,    12.91,2,    21.50,3,     0.01,2,     2.12,3,    1.646,2,   1.2350,2,     -999,9,     -999,9,20170107,1520
06M220170104  ,A10.5      ,19      ,  1,19113.0    ,241409.0   ,13         ,2,20170107,1406, -34.4987,  11.9595,     4928,    724.1,   6.3090,  34.3888,    219.2,2,    230.9,3,    15.18,2,    24.55,3,     0.00,2,     2.08,3,    1.814,2,   1.2950,2,   2177.7,2,   2287.8,2,20170107,1518
06M220170104  ,A10.5      ,19      ,  1,19112.0    ,241408.0   ,12         ,2,20170107,1406, -34.4987,  11.9595,     4928,    835.4,   4.9370,  34.2891,    228.0,2,    231.9,2,    18.78,2,    24.07,3,     0.00,3,     2.48,3,    1.691,2,   1.0830,2,     -999,9,     -999,9,20170107,1516
06M220170104  ,A10.5      ,19      ,  1,19111.0    ,241407.0   ,11         ,2,20170107,1406, -34.4987,  11.9595,     4928,    905.0,   4.1845,  34.2515,    231.2,2,    219.2,4,    27.10,2,    31.88,3,     0.01,2,     2.73,3,    1.590,2,   1.0240,2,   2188.5,2,   2291.9,2,20170107,1515
06M220170104  ,A10.5      ,19      ,  1,19110.0    ,241406.0   ,10         ,2,20170107,1406, -34.4987,  11.9595,     4928,   1248.2,   3.4213,  34.4581,    183.4,2,    183.2,2,    57.86,2,    34.06,3,     0.01,2,     1.81,3,    0.561,2,   0.2520,2,   2231.0,2,   2322.3,2,20170107,1509
06M220170104  ,A10.5      ,19      ,  1,19109.0    ,241405.0   ,9          ,2,20170107,1406, -34.4987,  11.9595,     4928,   1537.1,   2.9686,  34.6295,    182.1,2,    179.5,2,    49.70,2,    24.76,3,     0.00,2,     1.79,3,    0.157,2,   0.0920,2,   2244.6,2,   2334.2,2,20170107,1504
06M220170104  ,A10.5      ,19      ,  1,19108.0    ,241404.0   ,8          ,2,20170107,1406, -34.4987,  11.9595,     4928,   1733.3,   2.8702,  34.7179,    192.2,2,    195.3,2,    47.46,2,    22.42,3,     0.00,2,     1.55,3,    0.079,2,   0.0000,2,     -999,9,     -999,9,20170107,1501
06M220170104  ,A10.5      ,19      ,  1,19107.0    ,241403.0   ,7          ,2,20170107,1406, -34.4987,  11.9595,     4928,   1998.5,   2.7925,  34.7935,    207.8,2,    209.0,2,    45.65,2,    23.07,3,     0.00,2,     1.44,3,    0.037,2,   0.0000,2,   2218.4,2,   2336.3,2,20170107,1457
06M220170104  ,A10.5      ,19      ,  1,19106.0    ,241402.0   ,6          ,2,20170107,1406, -34.4987,  11.9595,     4928,   2498.1,   2.5044,  34.8342,    222.8,2,    226.1,3,    39.53,2,    19.73,3,     0.01,2,     1.41,3,    0.018,2,   0.0000,2,   2214.9,2,   2339.9,2,20170107,1449
06M220170104  ,A10.5      ,19      ,  1,19105.0    ,241401.0   ,5          ,2,20170107,1406, -34.4987,  11.9595,     4928,   2998.1,   2.2825,  34.8418,    228.5,2,    231.0,2,    43.07,2,    18.85,3,     0.01,2,     2.64,3,    0.013,2,   0.0000,2,   2218.3,2,   2345.8,2,20170107,1440
06M220170104  ,A10.5      ,19      ,  1,19104.0    ,241400.0   ,4          ,2,20170107,1406, -34.4987,  11.9595,     4928,   3568.2,   1.7784,  34.8030,    224.2,2,    232.8,4,    93.77,2,    30.91,3,     0.00,2,     2.79,3,     -999,9,     -999,9,   2229.8,2,   2359.2,2,20170107,1431
06M220170104  ,A10.5      ,19      ,  1,19103.0    ,241399.0   ,3          ,2,20170107,1406, -34.4987,  11.9595,     4928,   3997.3,   1.2834,  34.7549,    220.2,2,    220.8,2,   106.98,2,    33.55,3,     0.00,2,     2.32,3,    0.046,2,   0.0000,2,   2254.9,2,   2366.5,2,20170107,1423
06M220170104  ,A10.5      ,19      ,  1,19102.0    ,241398.0   ,2          ,2,20170107,1406, -34.4987,  11.9595,     4928,   4498.2,   1.1236,  34.7361,    219.2,2,    221.2,2,   111.99,2,    29.32,3,     0.00,2,     2.14,3,    0.059,2,   0.0000,2,     -999,9,     -999,9,20170107,1415
06M220170104  ,A10.5      ,19      ,  1,19101.0    ,241397.0   ,1          ,2,20170107,1406, -34.4987,  11.9595,     4928,   4918.4,   1.1022,  34.7294,    219.0,2,    219.4,2,   107.17,2,    30.20,3,     0.01,2,     1.15,3,    0.077,2,   0.0000,2,   2260.8,2,   2370.9,2,20170107,1406
06M220170104  ,A10.5      ,20      ,  1,20122.0    ,241440.0   ,22         ,2,20170107,2014, -34.5036,  11.1991,     5074,      8.1,  20.6476,  35.6487,    230.7,2,    230.4,2,     1.28,2,     0.06,2,     0.01,2,     0.11,2,    1.172,2,   1.6390,2,   2047.5,2,   2346.0,2,20170107,2140
06M220170104  ,A10.5      ,20      ,  1,20121.0    ,241439.0   ,21         ,2,20170107,2014, -34.5036,  11.1991,     5074,     23.1,  20.3528,  35.6609,    233.3,2,    239.0,2,     1.01,2,    -0.01,2,     0.01,2,     0.12,2,    1.258,2,   1.7090,2,   2064.6,2,   2340.8,2,20170107,2139
06M220170104  ,A10.5      ,20      ,  1,20120.0    ,241438.0   ,20         ,2,20170107,2014, -34.5036,  11.1991,     5074,     48.7,  17.7251,  35.5905,    256.2,2,    256.3,2,     1.42,2,     0.16,2,     0.01,2,     0.11,2,    1.365,2,   1.8600,2,   2067.9,2,   2339.1,2,20170107,2138
06M220170104  ,A10.5      ,20      ,  1,20119.0    ,241437.0   ,19         ,2,20170107,2014, -34.5036,  11.1991,     5074,     74.8,  16.4489,  35.5006,    244.2,2,    243.6,2,     1.79,2,     1.47,2,     0.13,2,     0.22,2,    1.376,2,   1.7780,2,     -999,9,     -999,9,20170107,2138
06M220170104  ,A10.5      ,20      ,  1,20118.0    ,241436.0   ,18         ,2,20170107,2014, -34.5036,  11.1991,     5074,    146.6,  15.3182,  35.3750,    236.8,2,    238.0,2,     2.22,2,     4.37,2,     0.02,2,     0.50,2,    1.468,2,   1.9420,2,     -999,9,     -999,9,20170107,2136
06M220170104  ,A10.5      ,20      ,  1,20117.0    ,241435.0   ,17         ,2,20170107,2014, -34.5036,  11.1991,     5074,    197.0,  14.4177,  35.2227,    233.7,2,    230.6,2,     2.59,2,     6.66,2,     0.02,2,     0.60,2,    1.511,2,   1.9040,2,   2104.5,2,   2321.5,2,20170107,2135
06M220170104  ,A10.5      ,20      ,  1,20116.0    ,241434.0   ,16         ,2,20170107,2014, -34.5036,  11.1991,     5074,    297.1,  12.8495,  35.1303,    212.9,2,    215.3,2,     4.62,2,    13.96,2,     0.02,2,     0.98,2,    1.610,2,   1.6670,2,   2133.1,2,   2315.0,2,20170107,2133
06M220170104  ,A10.5      ,20      ,  1,20115.0    ,241433.0   ,15         ,2,20170107,2014, -34.5036,  11.1991,     5074,    399.6,  11.1835,  34.9300,    215.9,2,    217.0,2,     6.18,2,    16.86,2,     0.02,2,     1.03,2,    1.665,2,   1.5130,2,   2136.2,2,   2306.7,2,20170107,2131
06M220170104  ,A10.5      ,20      ,  1,20114.0    ,241432.0   ,14         ,2,20170107,2014, -34.5036,  11.1991,     5074,    648.0,   7.2523,  34.4917,    208.5,2,    211.3,2,    13.88,2,    29.05,2,     0.00,2,     1.74,2,    1.474,2,   1.1430,2,   2174.4,2,   2290.7,2,20170107,2127
06M220170104  ,A10.5      ,20      ,  1,20113.0    ,241431.0   ,13         ,2,20170107,2014, -34.5036,  11.1991,     5074,    862.5,   4.4178,  34.2677,    228.7,2,    230.9,2,    23.05,2,    35.15,2,     0.01,2,     2.09,2,    1.602,2,   1.0470,2,     -999,9,     -999,9,20170107,2124
06M220170104  ,A10.5      ,20      ,  1,20112.0    ,241430.0   ,12         ,2,20170107,2014, -34.5036,  11.1991,     5074,    886.5,   4.2139,  34.2552,    230.4,2,    231.9,2,    24.73,2,    35.82,2,     0.01,2,     2.16,2,    1.565,2,   1.0560,2,   2190.9,2,   2290.3,2,20170107,2123
06M220170104  ,A10.5      ,20      ,  1,20111.0    ,241429.0   ,11         ,2,20170107,2014, -34.5036,  11.1991,     5074,    997.0,   4.0538,  34.3368,    207.8,2,    219.1,4,     2.55,4,     9.13,4,     0.02,4,     0.57,4,    1.527,2,   1.7640,4,     -999,9,     -999,9,20170107,2121
06M220170104  ,A10.5      ,20      ,  1,20110.0    ,241428.0   ,10         ,2,20170107,2014, -34.5036,  11.1991,     5074,   1246.6,   3.4129,  34.4715,    181.4,2,    183.2,2,    57.40,2,    41.88,2,     0.01,2,     2.58,2,    0.512,2,   0.1870,2,   2233.3,2,   2321.5,2,20170107,2117
06M220170104  ,A10.5      ,20      ,  1,20109.0    ,241427.0   ,9          ,2,20170107,2014, -34.5036,  11.1991,     5074,   1437.4,   3.0549,  34.5754,    177.7,2,    179.5,2,    68.65,2,    43.47,2,     0.02,2,     2.89,2,    0.239,2,   0.1080,2,   2242.8,2,   2332.7,2,20170107,2114
06M220170104  ,A10.5      ,20      ,  1,20108.0    ,241426.0   ,8          ,2,20170107,2014, -34.5036,  11.1991,     5074,   1767.3,   2.8431,  34.7188,    192.8,2,    195.3,2,    59.60,2,    35.66,2,     0.00,2,     2.15,2,    0.078,2,   0.0000,2,     -999,9,     -999,9,20170107,2109
06M220170104  ,A10.5      ,20      ,  1,20107.0    ,241425.0   ,7          ,2,20170107,2014, -34.5036,  11.1991,     5074,   1996.3,   2.8629,  34.8052,    210.9,2,    209.0,2,    48.28,2,    31.93,2,     0.01,2,     1.88,2,    0.030,2,   0.0000,2,   2213.4,2,   2334.0,2,20170107,2105
06M220170104  ,A10.5      ,20      ,  1,20106.0    ,241424.0   ,6          ,2,20170107,2014, -34.5036,  11.1991,     5074,   2496.8,   2.5838,  34.8408,    223.7,2,    226.1,2,    51.56,2,    30.23,2,     0.02,2,     1.73,2,    0.017,2,   0.0000,2,     -999,9,     -999,9,20170107,2056
06M220170104  ,A10.5      ,20      ,  1,20105.0    ,241423.0   ,5          ,2,20170107,2014, -34.5036,  11.1991,     5074,   3021.1,   2.3420,  34.8458,    229.0,2,    231.0,2,    53.82,2,    28.85,2,     0.01,2,     1.73,2,    0.012,2,   0.0000,2,   2217.2,2,   2344.2,2,20170107,2048
06M220170104  ,A10.5      ,20      ,  1,20104.0    ,241422.0   ,4          ,2,20170107,2014, -34.5036,  11.1991,     5074,   3496.9,   2.0816,  34.8318,    228.1,2,    232.8,3,    64.73,2,    30.97,2,     0.01,2,     1.88,2,    0.017,2,   0.0000,2,     -999,9,     -999,9,20170107,2040
06M220170104  ,A10.5      ,20      ,  1,20103.0    ,241421.0   ,3          ,2,20170107,2014, -34.5036,  11.1991,     5074,   3997.1,   1.4631,  34.7701,    221.3,2,    220.8,2,    60.51,4,    25.21,4,     0.01,4,     1.48,4,    0.039,2,   0.0000,2,   2232.0,2,   2361.7,2,20170107,2032
06M220170104  ,A10.5      ,20      ,  1,20102.0    ,241420.0   ,2          ,2,20170107,2014, -34.5036,  11.1991,     5074,   4495.0,   1.1718,  34.7401,    219.0,2,    221.2,2,    98.87,2,    38.51,2,     0.02,2,     2.19,2,    0.047,2,   0.0000,2,   2247.9,2,   2368.0,2,20170107,2023
06M220170104  ,A10.5      ,20      ,  1,20101.0    ,241419.0   ,1          ,2,20170107,2014, -34.5036,  11.1991,     5074,   5063.5,   1.1145,  34.7284,    218.7,2,    219.4,2,   104.43,2,    36.78,2,     0.01,2,     2.21,2,    0.078,2,   0.0000,2,   2253.5,2,   2370.0,2,20170107,2014