BOTTLE,20240228CCHSIOADS
EXPOCODE,SECT_ID,STNNBR,CASTNO,SAMPNO,BIONBR,BTLNBR,BTLNBR_FLAG_W,DATE,TIME,LATITUDE,LONGITUDE,DEPTH,CTDPRS,CTDTMP,CTDSAL,CTDOXY,CTDOXY_FLAG_W,OXYGEN,OXYGEN_FLAG_W,SILCAT,SILCAT_FLAG_W,NITRAT,NITRAT_FLAG_W,NITRIT,NITRIT_FLAG_W,PHSPHT,PHSPHT_FLAG_W,CFC-12,CFC-12_FLAG_W,SF6,SF6_FLAG_W,TCARBN,TCARBN_FLAG_W,ALKALI,ALKALI_FLAG_W,BTL_DATE,BTL_TIME
,,,,,,,,,,,,METERS,DBAR,ITS-90,PSS-78,UMOL/KG,,UMOL/KG,,UMOL/KG,,UMOL/KG,,UMOL/KG,,UMOL/KG,,PMOL/KG,,FMOL/KG,,UMOL/KG,,UMOL/KG,,,
06M220170104  ,A10.5      ,67      ,  1,67122.0    ,240448.0   ,22         ,2,20170118,0831, -34.4997, -17.5095,     3819,      8.9,  20.7141,  35.4203,    230.0,2,    231.0,2,     0.37,2,    -0.05,3,     0.00,2,     0.12,2,    1.293,2,   1.7330,2,   2071.4,2,   2333.3,2,20170118,0933
06M220170104  ,A10.5      ,67      ,  1,67121.0    ,240447.0   ,21         ,2,20170118,0831, -34.4997, -17.5095,     3819,     19.7,  20.0516,  35.4901,    233.3,2,    238.5,2,     0.50,2,    -0.04,3,     0.02,2,     0.17,2,    1.388,2,   1.8250,2,   2075.3,2,   2339.9,2,20170118,0932
06M220170104  ,A10.5      ,67      ,  1,67120.0    ,240446.0   ,20         ,2,20170118,0831, -34.4997, -17.5095,     3819,     51.9,  16.5206,  35.5589,    248.7,2,    242.5,3,     0.84,2,     0.64,3,     0.05,2,     0.24,2,    1.532,2,   1.9370,2,   2090.8,2,   2343.3,2,20170118,0931
06M220170104  ,A10.5      ,67      ,  1,67119.0    ,240445.0   ,19         ,2,20170118,0831, -34.4997, -17.5095,     3819,    146.3,  14.6349,  35.4944,    226.8,2,    225.4,2,     1.87,2,     5.75,3,     0.02,2,     0.53,2,    1.607,2,   1.8630,2,   2112.4,2,   2337.6,2,20170118,0929
06M220170104  ,A10.5      ,67      ,  1,67118.0    ,240444.0   ,18         ,2,20170118,0831, -34.4997, -17.5095,     3819,    226.0,  14.2693,  35.5002,    231.3,2,    230.0,2,     2.18,2,     6.94,3,     0.03,2,     0.46,2,    1.621,2,   1.8930,2,     -999,9,     -999,9,20170118,0927
06M220170104  ,A10.5      ,67      ,  1,67117.0    ,240443.0   ,17         ,2,20170118,0831, -34.4997, -17.5095,     3819,    395.6,  12.0257,  35.0947,    212.4,2,    212.8,2,     3.41,2,    11.66,3,     0.02,2,     1.08,2,    1.771,2,   1.6200,2,   2163.1,2,   2315.6,2,20170118,0924
06M220170104  ,A10.5      ,67      ,  1,67116.0    ,240442.0   ,16         ,2,20170118,0831, -34.4997, -17.5095,     3819,    524.3,   9.2678,  34.7118,    210.0,2,    214.6,3,     8.10,2,    23.11,3,     0.01,2,     1.54,2,    1.877,2,   1.3720,2,   2154.6,2,   2297.6,2,20170118,0922
06M220170104  ,A10.5      ,67      ,  1,67115.0    ,240441.0   ,15         ,2,20170118,0831, -34.4997, -17.5095,     3819,    696.4,   5.5117,  34.2929,    238.0,2,    237.2,2,    18.29,3,    41.75,3,     0.02,3,     2.85,3,    2.001,2,   1.4670,2,   2162.6,2,   2283.1,2,20170118,0919
06M220170104  ,A10.5      ,67      ,  1,67114.0    ,240440.0   ,14         ,2,20170118,0831, -34.4997, -17.5095,     3819,    849.6,   4.4547,  34.2274,    243.2,2,    241.5,2,    22.81,2,    33.67,3,     0.01,2,     2.52,3,    1.934,2,   1.2980,2,   2173.6,2,   2285.3,2,20170118,0917
06M220170104  ,A10.5      ,67      ,  1,67113.0    ,240439.0   ,13         ,2,20170118,0831, -34.4997, -17.5095,     3819,   1046.4,   3.5977,  34.2844,    220.4,2,    224.7,2,    36.89,2,    36.01,3,     0.00,2,     2.46,2,    1.272,2,   0.7320,2,   2194.7,2,   2298.1,2,20170118,0914
06M220170104  ,A10.5      ,67      ,  1,67112.0    ,240438.0   ,12         ,2,20170118,0831, -34.4997, -17.5095,     3819,   1296.2,   3.0507,  34.4246,    194.1,2,    194.2,2,    57.78,2,    36.79,3,     0.00,2,     2.67,2,    0.574,2,   0.1240,2,   2217.0,2,   2316.1,2,20170118,0910
06M220170104  ,A10.5      ,67      ,  1,67111.0    ,240437.0   ,11         ,2,20170118,0831, -34.4997, -17.5095,     3819,   1562.0,   2.8633,  34.5930,    187.7,2,    186.4,2,    70.52,2,    40.92,3,     0.01,2,     2.85,2,    0.212,2,   0.0000,2,   2234.9,2,   2328.8,2,20170118,0905
06M220170104  ,A10.5      ,67      ,  1,67110.0    ,240436.0   ,10         ,2,20170118,0831, -34.4997, -17.5095,     3819,   1694.6,   2.8551,  34.6535,    190.2,2,    189.2,2,    70.51,2,    44.48,3,     0.02,3,     3.18,3,    0.148,2,   0.0000,2,     -999,9,     -999,9,20170118,0903
06M220170104  ,A10.5      ,67      ,  1,67109.0    ,240435.0   ,9          ,2,20170118,0831, -34.4997, -17.5095,     3819,   1895.2,   2.9021,  34.7355,    199.4,2,    199.5,2,    67.39,2,    36.93,3,     0.01,2,     2.52,2,    0.084,2,   0.0000,2,   2218.4,2,   2334.6,2,20170118,0900
06M220170104  ,A10.5      ,67      ,  1,67108.0    ,240434.0   ,8          ,2,20170118,0831, -34.4997, -17.5095,     3819,   1897.6,   2.9025,  34.7358,    199.4,2,     -999,9,     -999,9,     -999,9,     -999,9,     -999,9,     -999,9,     -999,9,     -999,9,     -999,9,20170118,0900
06M220170104  ,A10.5      ,67      ,  1,67107.0    ,240433.0   ,7          ,2,20170118,0831, -34.4997, -17.5095,     3819,   2195.8,   2.9537,  34.8442,    222.7,2,    222.8,2,    54.80,2,    33.08,3,     0.01,2,     2.23,2,    0.061,2,   0.0000,2,   2204.6,2,   2331.4,2,20170118,0855
06M220170104  ,A10.5      ,67      ,  1,67106.0    ,240432.0   ,6          ,2,20170118,0831, -34.4997, -17.5095,     3819,   2497.3,   2.8516,  34.8816,    236.2,2,    236.4,2,    46.70,2,    27.52,3,     0.00,2,     1.81,2,    0.044,2,   0.0000,2,     -999,9,     -999,9,20170118,0850
06M220170104  ,A10.5      ,67      ,  1,67105.0    ,240431.0   ,5          ,2,20170118,0831, -34.4997, -17.5095,     3819,   2796.7,   2.7003,  34.8886,    241.4,2,    251.2,4,    39.30,2,    24.08,3,     0.01,2,     1.76,2,    0.037,2,   0.0000,2,   2198.1,2,   2333.6,2,20170118,0845
06M220170104  ,A10.5      ,67      ,  1,67104.0    ,240430.0   ,4          ,2,20170118,0831, -34.4997, -17.5095,     3819,   3096.1,   2.3103,  34.8603,    238.8,2,    237.4,2,    56.29,3,    25.67,3,     0.00,2,     1.89,2,    0.032,2,   0.0000,2,   2206.6,2,   2340.2,2,20170118,0840
06M220170104  ,A10.5      ,67      ,  1,67103.0    ,240429.0   ,3          ,2,20170118,0831, -34.4997, -17.5095,     3819,   3397.2,   2.0532,  34.8391,    237.2,2,    237.9,2,    53.25,2,    21.00,3,     0.00,2,     1.78,2,    0.027,2,   0.0000,2,     -999,9,     -999,9,20170118,0836
06M220170104  ,A10.5      ,67      ,  1,67102.0    ,240428.0   ,2          ,2,20170118,0831, -34.4997, -17.5095,     3819,   3634.7,   1.9877,  34.8304,    235.8,2,    235.0,2,    62.33,2,    25.87,3,     0.00,2,     1.74,2,    0.030,2,   0.0000,2,     -999,9,     -999,9,20170118,0831
06M220170104  ,A10.5      ,67      ,  1,67101.0    ,240427.0   ,1          ,2,20170118,0831, -34.4997, -17.5095,     3819,   3635.4,   1.9871,  34.8304,    236.0,2,    234.5,2,    62.34,2,    25.04,3,     0.03,2,     2.20,3,    0.034,2,   0.0000,2,   2212.2,2,   2347.8,2,20170118,0831
06M220170104  ,A10.5      ,68      ,  1,68122.0    ,240470.0   ,22         ,2,20170118,1333, -34.4998, -18.1644,     3682,      9.2,  20.7459,  35.4473,    231.9,2,    231.9,2,    -0.21,2,     0.20,2,     0.02,2,     0.16,2,     -999,9,     -999,9,   2073.8,2,   2331.6,2,20170118,1431
06M220170104  ,A10.5      ,68      ,  1,68121.0    ,240469.0   ,21         ,2,20170118,1333, -34.4998, -18.1644,     3682,     24.0,  20.5813,  35.4502,    231.8,2,    236.0,2,    -0.32,2,     0.19,2,     0.01,2,     0.22,2,     -999,9,     -999,9,   2040.4,2,   2325.5,3,20170118,1430
06M220170104  ,A10.5      ,68      ,  1,68120.0    ,240468.0   ,20         ,2,20170118,1333, -34.4998, -18.1644,     3682,     88.5,  15.9546,  35.5609,    247.4,2,    245.2,2,     0.08,2,     0.54,2,     0.13,2,     0.50,2,    1.522,2,   1.8840,2,   2009.4,3,   2334.3,2,20170118,1428
06M220170104  ,A10.5      ,68      ,  1,68119.0    ,240467.0   ,19         ,2,20170118,1333, -34.4998, -18.1644,     3682,    147.9,  14.8065,  35.5456,    228.9,2,     -999,9,     -999,9,     -999,9,     -999,9,     -999,9,     -999,9,     -999,9,     -999,9,     -999,9,20170118,1427
06M220170104  ,A10.5      ,68      ,  1,68118.0    ,240466.0   ,18         ,2,20170118,1333, -34.4998, -18.1644,     3682,    277.2,  14.0182,  35.4754,    233.3,2,    232.7,2,     1.34,2,     6.87,2,     0.01,2,     0.90,2,    1.651,2,   1.9250,2,   2120.6,2,   2338.2,2,20170118,1424
06M220170104  ,A10.5      ,68      ,  1,68117.0    ,240465.0   ,17         ,2,20170118,1333, -34.4998, -18.1644,     3682,    407.9,  11.3066,  34.9816,    212.7,2,    213.5,2,     2.76,2,    12.01,2,     0.02,2,     1.63,2,    1.825,2,   1.6320,2,   2104.3,3,   2301.4,2,20170118,1422
06M220170104  ,A10.5      ,68      ,  1,68116.0    ,240464.0   ,16         ,2,20170118,1333, -34.4998, -18.1644,     3682,    551.0,   7.9276,  34.5519,    214.6,2,    215.6,2,    11.05,3,    25.96,3,     0.01,3,     1.55,3,    1.898,2,   1.2620,2,   2163.7,2,   2285.5,2,20170118,1420
06M220170104  ,A10.5      ,68      ,  1,68115.0    ,240463.0   ,15         ,2,20170118,1333, -34.4998, -18.1644,     3682,    648.0,   6.1036,  34.3412,    234.3,2,    234.7,2,    11.12,3,    25.59,3,     0.01,3,     1.75,3,    2.054,2,   1.4900,2,     -999,9,     -999,9,20170118,1418
06M220170104  ,A10.5      ,68      ,  1,68114.0    ,240462.0   ,14         ,2,20170118,1333, -34.4998, -18.1644,     3682,    717.2,   5.0698,  34.2318,    251.2,2,    249.6,2,    13.66,3,    29.25,3,     0.00,3,     1.69,3,    2.176,2,   1.7360,2,     -999,9,     -999,9,20170118,1417
06M220170104  ,A10.5      ,68      ,  1,68113.0    ,240461.0   ,13         ,2,20170118,1333, -34.4998, -18.1644,     3682,    836.4,   4.3368,  34.2010,    251.8,2,    249.6,2,    17.71,2,    29.06,2,     0.00,2,     1.75,2,    2.033,2,   1.5600,2,   2173.9,2,   2279.5,2,20170118,1415
06M220170104  ,A10.5      ,68      ,  1,68112.0    ,240460.0   ,12         ,2,20170118,1333, -34.4998, -18.1644,     3682,    973.9,   3.8268,  34.2268,    237.3,2,    238.1,2,    26.74,2,    32.61,2,     0.02,2,     2.07,2,    1.704,2,   1.1080,2,     -999,9,     -999,9,20170118,1413
06M220170104  ,A10.5      ,68      ,  1,68111.0    ,240459.0   ,11         ,2,20170118,1333, -34.4998, -18.1644,     3682,   1246.5,   3.1600,  34.3788,    200.5,2,    200.2,2,    48.31,2,    35.86,2,     0.01,2,     1.94,3,     -999,9,     -999,9,   2222.4,2,   2307.6,2,20170118,1409
06M220170104  ,A10.5      ,68      ,  1,68110.0    ,240458.0   ,10         ,2,20170118,1333, -34.4998, -18.1644,     3682,   1516.7,   2.8657,  34.5600,    185.8,2,    186.3,2,    56.24,2,    33.90,2,     0.01,2,     2.42,2,     -999,9,     -999,9,   2225.0,2,   2325.2,2,20170118,1404
06M220170104  ,A10.5      ,68      ,  1,68109.0    ,240457.0   ,9          ,2,20170118,1333, -34.4998, -18.1644,     3682,   1747.0,   2.8720,  34.6848,    192.3,2,    204.8,4,    49.49,2,    27.87,2,     0.01,2,     1.73,3,     -999,9,     -999,9,   2234.9,2,   2335.7,2,20170118,1401
06M220170104  ,A10.5      ,68      ,  1,68108.0    ,240456.0   ,8          ,2,20170118,1333, -34.4998, -18.1644,     3682,   1962.2,   2.9093,  34.7655,    205.5,2,     -999,9,     -999,9,     -999,9,     -999,9,     -999,9,     -999,9,     -999,9,     -999,9,     -999,9,20170118,1357
06M220170104  ,A10.5      ,68      ,  1,68107.0    ,240455.0   ,7          ,2,20170118,1333, -34.4998, -18.1644,     3682,   2016.5,   2.9162,  34.7791,    208.3,2,    210.3,2,    44.75,2,    25.12,2,     0.02,2,     1.57,2,     -999,9,     -999,9,   2219.9,2,   2328.8,2,20170118,1356
06M220170104  ,A10.5      ,68      ,  1,68106.0    ,240454.0   ,6          ,2,20170118,1333, -34.4998, -18.1644,     3682,   2336.6,   2.9065,  34.8595,    228.9,2,    229.8,2,    41.10,2,    23.68,2,     0.00,2,     1.48,2,     -999,9,     -999,9,     -999,9,     -999,9,20170118,1351
06M220170104  ,A10.5      ,68      ,  1,68105.0    ,240453.0   ,5          ,2,20170118,1333, -34.4998, -18.1644,     3682,   2497.1,   2.8816,  34.8737,    234.0,2,    234.2,2,    40.29,2,    23.39,2,     0.02,2,     1.54,2,     -999,9,     -999,9,   2195.3,2,   2325.0,2,20170118,1349
06M220170104  ,A10.5      ,68      ,  1,68104.0    ,240452.0   ,4          ,2,20170118,1333, -34.4998, -18.1644,     3682,   2745.6,   2.7912,  34.8904,    240.6,2,    241.0,2,    36.15,2,    20.89,2,     0.02,2,     1.32,2,     -999,9,     -999,9,     -999,9,     -999,9,20170118,1345
06M220170104  ,A10.5      ,68      ,  1,68103.0    ,240451.0   ,3          ,2,20170118,1333, -34.4998, -18.1644,     3682,   2997.7,   2.5626,  34.8822,    241.8,2,    242.9,2,    39.16,2,    22.25,2,     0.03,2,     1.45,2,     -999,9,     -999,9,   2196.8,2,   2330.0,2,20170118,1341
06M220170104  ,A10.5      ,68      ,  1,68102.0    ,240450.0   ,2          ,2,20170118,1333, -34.4998, -18.1644,     3682,   3243.6,   2.2250,  34.8549,    239.2,2,    240.8,2,    52.46,3,    22.84,2,     0.01,2,     1.48,2,     -999,9,     -999,9,   2206.4,2,   2336.6,2,20170118,1337
06M220170104  ,A10.5      ,68      ,  1,68101.0    ,240449.0   ,1          ,2,20170118,1333, -34.4998, -18.1644,     3682,   3451.0,   2.1148,  34.8443,    237.8,2,    238.2,2,    42.73,2,    18.82,3,     0.01,2,     1.33,2,     -999,9,     -999,9,   2209.6,2,   2338.9,2,20170118,1333
06M220170104  ,A10.5      ,69      ,  1,69122.0    ,240492.0   ,22         ,2,20170118,1828, -34.4997, -18.8194,     3828,      5.0,  21.2847,  35.6016,    228.6,2,    228.9,2,     0.62,2,     0.30,2,     0.00,2,     0.11,2,    1.264,2,   1.6530,2,   2062.7,2,   2344.2,2,20170118,1926
06M220170104  ,A10.5      ,69      ,  1,69121.0    ,240491.0   ,21         ,2,20170118,1828, -34.4997, -18.8194,     3828,     23.1,  20.8673,  35.6109,    229.7,2,    235.7,2,     0.43,2,     0.28,2,     0.00,2,     0.14,2,    1.332,2,   1.7470,2,   2065.8,2,   2345.5,2,20170118,1925
06M220170104  ,A10.5      ,69      ,  1,69120.0    ,240490.0   ,20         ,2,20170118,1828, -34.4997, -18.8194,     3828,     48.8,  19.2179,  35.7827,    242.3,2,    243.7,2,     0.76,2,     0.31,2,     0.00,2,     0.20,2,    1.397,2,   1.8570,2,   2074.4,2,   2356.5,2,20170118,1924
06M220170104  ,A10.5      ,69      ,  1,69119.0    ,240489.0   ,19         ,2,20170118,1828, -34.4997, -18.8194,     3828,     73.5,  18.1484,  35.8070,    242.4,2,     -999,9,     -999,9,     -999,9,     -999,9,     -999,9,     -999,9,     -999,9,     -999,9,     -999,9,20170118,1924
06M220170104  ,A10.5      ,69      ,  1,69118.0    ,240488.0   ,18         ,2,20170118,1828, -34.4997, -18.8194,     3828,     91.7,  17.5669,  35.7473,    240.6,2,    239.9,2,     0.83,2,     0.33,2,     0.01,2,     0.07,2,    1.433,2,   1.7050,2,   2083.2,2,   2354.5,2,20170118,1923
06M220170104  ,A10.5      ,69      ,  1,69117.0    ,240487.0   ,17         ,2,20170118,1828, -34.4997, -18.8194,     3828,    296.6,  13.8144,  35.3653,    222.2,2,    223.4,2,     2.20,2,     8.10,2,     0.01,2,     0.61,2,    1.682,2,   1.7560,2,   2117.0,2,   2331.3,2,20170118,1919
06M220170104  ,A10.5      ,69      ,  1,69116.0    ,240486.0   ,16         ,2,20170118,1828, -34.4997, -18.8194,     3828,    397.0,  12.3821,  35.1481,    212.4,2,    213.2,2,     3.43,2,    12.57,2,     0.01,2,     0.88,2,    1.759,2,   1.6070,2,   2135.6,2,   2318.4,2,20170118,1918
06M220170104  ,A10.5      ,69      ,  1,69115.0    ,240485.0   ,15         ,2,20170118,1828, -34.4997, -18.8194,     3828,    497.1,  10.5404,  34.8755,    210.7,2,    212.6,2,     5.37,2,    17.74,2,     0.01,2,     1.12,2,    1.851,2,   1.4610,2,   2150.8,2,   2303.0,2,20170118,1916
06M220170104  ,A10.5      ,69      ,  1,69114.0    ,240484.0   ,14         ,2,20170118,1828, -34.4997, -18.8194,     3828,    745.5,   5.7103,  34.3076,    236.6,2,    249.5,4,    13.33,2,    28.52,2,     0.01,2,     1.81,2,    2.051,2,   1.4700,2,   2162.0,2,   2284.8,2,20170118,1912
06M220170104  ,A10.5      ,69      ,  1,69113.0    ,240483.0   ,13         ,2,20170118,1828, -34.4997, -18.8194,     3828,    956.8,   4.1631,  34.2597,    229.9,2,    230.0,2,    25.38,2,    31.78,2,     0.00,2,     2.00,2,    1.574,2,   0.9460,2,   2188.4,2,   2292.2,2,20170118,1908
06M220170104  ,A10.5      ,69      ,  1,69112.0    ,240482.0   ,12         ,2,20170118,1828, -34.4997, -18.8194,     3828,   1203.7,   3.1956,  34.3309,    207.3,2,    208.0,2,    43.21,2,    35.81,2,     0.01,2,     2.26,2,    0.994,2,   0.5550,2,   2217.5,2,   2306.4,2,20170118,1904
06M220170104  ,A10.5      ,69      ,  1,69111.0    ,240481.0   ,11         ,2,20170118,1828, -34.4997, -18.8194,     3828,   1494.8,   2.8942,  34.5076,    184.4,2,    185.1,2,    54.70,2,    35.33,2,     0.00,2,     2.20,2,    0.368,2,   0.1510,2,     -999,9,     -999,9,20170118,1900
06M220170104  ,A10.5      ,69      ,  1,69110.0    ,240480.0   ,10         ,2,20170118,1828, -34.4997, -18.8194,     3828,   1495.7,   2.8947,  34.5074,    184.4,2,    185.4,2,    55.43,2,    35.67,2,     0.01,2,     2.24,2,    0.372,2,   0.1740,2,   2236.3,2,   2325.9,2,20170118,1859
06M220170104  ,A10.5      ,69      ,  1,69109.0    ,240479.0   ,9          ,2,20170118,1828, -34.4997, -18.8194,     3828,   1747.3,   2.8601,  34.6704,    191.5,2,    192.3,2,    58.29,2,    33.23,2,     0.01,2,     2.10,2,    0.128,2,   0.0000,2,   2226.6,2,   2332.4,2,20170118,1855
06M220170104  ,A10.5      ,69      ,  1,69108.0    ,240478.0   ,8          ,2,20170118,1828, -34.4997, -18.8194,     3828,   1994.4,   2.8910,  34.7817,    209.8,2,     -999,9,     -999,9,     -999,9,     -999,9,     -999,9,     -999,9,     -999,9,     -999,9,     -999,9,20170118,1851
06M220170104  ,A10.5      ,69      ,  1,69107.0    ,240477.0   ,7          ,2,20170118,1828, -34.4997, -18.8194,     3828,   2296.7,   2.8795,  34.8457,    225.9,2,    226.9,2,    45.98,2,    27.14,2,     0.01,2,     1.69,2,     -999,9,     -999,9,   2202.6,2,   2334.3,2,20170118,1846
06M220170104  ,A10.5      ,69      ,  1,69106.0    ,240476.0   ,6          ,2,20170118,1828, -34.4997, -18.8194,     3828,   2491.5,   2.8321,  34.8701,    233.9,2,    234.5,2,    42.45,2,    25.31,2,     0.01,2,     1.57,2,    0.036,2,   0.0000,2,   2199.4,2,   2331.4,2,20170118,1843
06M220170104  ,A10.5      ,69      ,  1,69105.0    ,240475.0   ,5          ,2,20170118,1828, -34.4997, -18.8194,     3828,   3046.6,   2.4909,  34.8764,    241.4,2,    243.6,2,    45.10,3,    24.62,2,     0.01,2,     1.55,2,    0.027,2,   0.0000,2,     -999,9,     -999,9,20170118,1834
06M220170104  ,A10.5      ,69      ,  1,69104.0    ,240474.0   ,4          ,2,20170118,1828, -34.4997, -18.8194,     3828,   3048.3,   2.4910,  34.8763,    241.4,2,    243.4,2,    48.53,2,    25.38,2,     0.01,2,     1.58,2,    0.027,2,   0.0000,2,   2197.7,2,   2336.8,2,20170118,1834
06M220170104  ,A10.5      ,69      ,  1,69103.0    ,240473.0   ,3          ,2,20170118,1828, -34.4997, -18.8194,     3828,   3254.3,   2.2611,  34.8579,    240.1,2,    240.6,2,    54.37,2,    25.89,2,     0.01,2,     1.64,2,    0.023,2,   0.0000,2,   2202.5,2,   2340.9,2,20170118,1830
06M220170104  ,A10.5      ,69      ,  1,69101.0    ,240471.0   ,1          ,2,20170118,1828, -34.4997, -18.8194,     3828,   3356.4,   2.1814,  34.8518,    239.6,2,    240.4,2,    54.93,2,    25.73,2,     0.01,2,     1.63,2,    0.027,2,   0.0000,2,   2203.7,2,   2341.9,2,20170118,1828
06M220170104  ,A10.5      ,69      ,  1,69102.0    ,240472.0   ,2          ,2,20170118,1828, -34.4997, -18.8194,     3828,   3357.1,   2.1814,  34.8520,    239.6,2,    240.9,2,    53.83,2,    25.88,2,     0.01,2,     1.61,2,    0.030,2,   0.0000,2,     -999,9,     -999,9,20170118,1828