BOTTLE,20240228CCHSIOADS
EXPOCODE,SECT_ID,STNNBR,CASTNO,SAMPNO,BIONBR,BTLNBR,BTLNBR_FLAG_W,DATE,TIME,LATITUDE,LONGITUDE,DEPTH,CTDPRS,CTDTMP,CTDSAL,CTDOXY,CTDOXY_FLAG_W,OXYGEN,OXYGEN_FLAG_W,SILCAT,SILCAT_FLAG_W,NITRAT,NITRAT_FLAG_W,NITRIT,NITRIT_FLAG_W,PHSPHT,PHSPHT_FLAG_W,CFC-12,CFC-12_FLAG_W,SF6,SF6_FLAG_W,TCARBN,TCARBN_FLAG_W,ALKALI,ALKALI_FLAG_W,BTL_DATE,BTL_TIME
,,,,,,,,,,,,METERS,DBAR,ITS-90,PSS-78,UMOL/KG,,UMOL/KG,,UMOL/KG,,UMOL/KG,,UMOL/KG,,UMOL/KG,,PMOL/KG,,FMOL/KG,,UMOL/KG,,UMOL/KG,,,
06M220170104  ,A10.5      ,38      ,  1,38122.0    ,240814.0   ,22         ,2,20170112,0622, -34.4997,   0.1723,     4683,      8.8,  19.7843,  35.1962,    236.2,2,    235.6,2,     1.38,2,     0.51,3,     0.03,3,     0.27,3,    1.275,2,   1.6930,2,   2070.4,2,   2327.0,2,20170112,0743
06M220170104  ,A10.5      ,38      ,  1,38121.0    ,240813.0   ,21         ,2,20170112,0622, -34.4997,   0.1723,     4683,     23.4,  19.3451,  35.1952,    237.9,2,    240.9,2,     1.27,2,     0.60,3,     0.02,3,     0.64,3,    1.267,2,   1.6810,2,   2069.2,2,   2327.4,2,20170112,0741
06M220170104  ,A10.5      ,38      ,  1,38120.0    ,240812.0   ,20         ,2,20170112,0622, -34.4997,   0.1723,     4683,     57.6,  16.1330,  35.2183,    261.8,2,    259.0,2,     1.17,2,     0.33,3,     0.02,3,     0.93,3,    1.434,2,   1.8740,2,   2072.5,2,   2326.6,2,20170112,0740
06M220170104  ,A10.5      ,38      ,  1,38119.0    ,240811.0   ,19         ,2,20170112,0622, -34.4997,   0.1723,     4683,    111.0,  13.7513,  35.1042,    242.7,2,    241.6,2,     1.87,2,     4.98,3,     0.09,3,     0.90,3,    1.563,2,   1.8320,2,     -999,9,     -999,9,20170112,0739
06M220170104  ,A10.5      ,38      ,  1,38118.0    ,240810.0   ,18         ,2,20170112,0622, -34.4997,   0.1723,     4683,    137.6,  13.2619,  35.0651,    237.4,2,    235.8,2,     2.44,2,     7.44,3,     0.04,3,     1.29,3,    1.577,2,   1.8390,2,   2111.3,2,   2316.2,2,20170112,0738
06M220170104  ,A10.5      ,38      ,  1,38117.0    ,240809.0   ,17         ,2,20170112,0622, -34.4997,   0.1723,     4683,    211.3,  13.0759,  35.1821,    228.5,2,    227.1,2,     3.52,2,     9.35,3,     0.04,3,     1.63,3,    1.611,2,   1.7190,2,   2129.2,2,   2322.7,2,20170112,0737
06M220170104  ,A10.5      ,38      ,  1,38116.0    ,240808.0   ,16         ,2,20170112,0622, -34.4997,   0.1723,     4683,    518.0,   7.7988,  34.5274,    217.2,2,    217.6,2,    14.04,2,    27.07,3,     0.04,3,     4.04,3,    1.787,2,   1.3350,2,     -999,9,     -999,9,20170112,0732
06M220170104  ,A10.5      ,38      ,  1,38115.0    ,240807.0   ,15         ,2,20170112,0622, -34.4997,   0.1723,     4683,    667.4,   5.5814,  34.3062,    232.9,2,    230.6,2,    19.80,2,    31.67,3,     0.02,3,     4.43,3,    1.840,2,   1.2470,2,   2175.6,2,   2284.3,2,20170112,0729
06M220170104  ,A10.5      ,38      ,  1,38114.0    ,240806.0   ,14         ,2,20170112,0622, -34.4997,   0.1723,     4683,    722.9,   4.9364,  34.2548,    238.8,2,    237.9,2,    22.40,2,    32.26,3,     0.02,3,     4.89,3,    1.790,2,   1.1140,2,     -999,9,     -999,9,20170112,0728
06M220170104  ,A10.5      ,38      ,  1,38113.0    ,240805.0   ,13         ,2,20170112,0622, -34.4997,   0.1723,     4683,    836.3,   4.3034,  34.2364,    236.4,2,    236.0,2,    28.45,2,    35.64,3,     0.02,3,     4.74,3,    1.660,2,   0.9960,2,   2182.8,2,   2288.3,2,20170112,0726
06M220170104  ,A10.5      ,38      ,  1,38112.0    ,240804.0   ,12         ,2,20170112,0622, -34.4997,   0.1723,     4683,    896.0,   4.0254,  34.2496,    230.6,2,    229.4,2,    34.14,2,    35.09,3,     0.01,3,     4.58,3,    1.468,2,   0.8800,2,     -999,9,     -999,9,20170112,0725
06M220170104  ,A10.5      ,38      ,  1,38111.0    ,240803.0   ,11         ,2,20170112,0622, -34.4997,   0.1723,     4683,    998.3,   3.5928,  34.2836,    220.1,2,    218.0,2,    41.86,2,    35.02,3,     0.01,3,     4.68,3,    1.156,2,   0.5930,2,   2203.0,2,   2300.3,2,20170112,0724
06M220170104  ,A10.5      ,38      ,  1,38110.0    ,240802.0   ,10         ,2,20170112,0622, -34.4997,   0.1723,     4683,   1097.0,   3.3319,  34.3314,    209.5,2,    207.8,2,    60.98,3,    39.62,3,     0.01,3,     6.21,3,    0.919,2,   0.3330,2,   2228.7,2,   2304.8,2,20170112,0722
06M220170104  ,A10.5      ,38      ,  1,38109.0    ,240801.0   ,9          ,2,20170112,0622, -34.4997,   0.1723,     4683,   1396.5,   3.1227,  34.5399,    182.5,2,    182.7,2,    59.25,2,    36.49,3,     0.01,3,     4.46,3,    0.292,2,   0.1490,2,   2242.7,2,   2329.0,2,20170112,0717
06M220170104  ,A10.5      ,38      ,  1,38108.0    ,240800.0   ,8          ,2,20170112,0622, -34.4997,   0.1723,     4683,   1594.3,   2.9765,  34.6295,    186.8,2,    198.8,4,    61.71,2,    29.30,3,     0.00,3,     3.50,3,    0.154,2,   0.0930,2,   2242.9,2,   2332.1,2,20170112,0714
06M220170104  ,A10.5      ,38      ,  1,38107.0    ,240799.0   ,7          ,2,20170112,0622, -34.4997,   0.1723,     4683,   2097.0,   2.7175,  34.7834,    209.8,2,    208.4,2,    78.63,3,    36.01,3,     0.03,3,     0.66,3,    0.045,2,   0.0000,2,   2222.0,2,   2338.2,2,20170112,0705
06M220170104  ,A10.5      ,38      ,  1,38106.0    ,240798.0   ,6          ,2,20170112,0622, -34.4997,   0.1723,     4683,   2532.1,   2.4982,  34.8284,    222.4,2,    222.1,2,    84.20,3,    30.75,2,     0.03,2,     4.66,3,    0.022,2,   0.0000,2,     -999,9,     -999,9,20170112,0658
06M220170104  ,A10.5      ,38      ,  1,38105.0    ,240797.0   ,5          ,2,20170112,0622, -34.4997,   0.1723,     4683,   3040.4,   2.2748,  34.8434,    231.0,2,    230.0,2,    78.21,3,    29.23,2,     0.02,2,     3.55,3,    0.019,2,   0.0000,2,   2214.9,2,   2345.1,2,20170112,0650
06M220170104  ,A10.5      ,38      ,  1,38104.0    ,240796.0   ,4          ,2,20170112,0622, -34.4997,   0.1723,     4683,   3552.7,   2.0213,  34.8336,    229.4,2,    228.6,2,    85.40,3,    30.08,2,     0.00,2,     4.13,3,    0.017,2,   0.0000,2,   2223.6,2,   2358.8,2,20170112,0641
06M220170104  ,A10.5      ,38      ,  1,38103.0    ,240795.0   ,3          ,2,20170112,0622, -34.4997,   0.1723,     4683,   4061.0,   1.3396,  34.7609,    220.8,2,    220.0,2,   128.30,3,    30.47,2,     0.00,2,     3.96,3,    0.038,2,   0.0000,2,   2249.3,2,   2368.8,2,20170112,0633
06M220170104  ,A10.5      ,38      ,  1,38102.0    ,240794.0   ,2          ,2,20170112,0622, -34.4997,   0.1723,     4683,   4672.3,   1.1482,  34.7358,    218.5,2,    217.7,2,   125.64,3,    32.77,2,     0.00,2,     0.90,3,    0.054,2,   0.0000,2,     -999,9,     -999,9,20170112,0622
06M220170104  ,A10.5      ,38      ,  1,38101.0    ,240793.0   ,1          ,2,20170112,0622, -34.4997,   0.1723,     4683,   4673.3,   1.1484,  34.7358,    218.2,2,    216.3,2,   112.05,3,    31.79,2,     0.00,2,     3.22,3,    0.060,2,   0.0000,2,   2255.3,2,   2372.9,2,20170112,0622
06M220170104  ,A10.5      ,39      ,  1,39122.0    ,240836.0   ,22         ,2,20170112,1208, -34.4999,  -0.4826,     4615,      8.9,  18.8609,  35.2258,    239.4,2,    230.1,4,     0.63,3,     0.02,3,     0.01,3,     0.15,3,    1.371,2,   0.9260,4,   2066.1,2,   2321.8,2,20170112,1327
06M220170104  ,A10.5      ,39      ,  1,39121.0    ,240835.0   ,21         ,2,20170112,1208, -34.4999,  -0.4826,     4615,     23.3,  18.4184,  35.2065,    241.4,2,    240.7,2,     0.53,3,     0.04,3,     0.01,3,     0.13,3,     -999,9,     -999,9,   2069.6,2,   2319.3,2,20170112,1326
06M220170104  ,A10.5      ,39      ,  1,39120.0    ,240834.0   ,20         ,2,20170112,1208, -34.4999,  -0.4826,     4615,     48.7,  17.1805,  35.2768,    249.8,2,    249.4,2,     0.63,3,     0.21,3,     0.03,3,     0.13,3,     -999,9,     -999,9,   2075.4,2,   2324.1,2,20170112,1325
06M220170104  ,A10.5      ,39      ,  1,39119.0    ,240833.0   ,19         ,2,20170112,1208, -34.4999,  -0.4826,     4615,     98.7,  13.7814,  35.0196,    248.9,2,    245.7,2,     0.77,3,     4.62,3,     0.59,3,     0.36,3,     -999,9,     -999,9,   2099.0,2,   2312.3,2,20170112,1323
06M220170104  ,A10.5      ,39      ,  1,39118.0    ,240832.0   ,18         ,2,20170112,1208, -34.4999,  -0.4826,     4615,    146.9,  13.4277,  35.0689,    238.6,2,    235.9,3,     1.51,3,     7.56,3,     0.02,3,     0.56,3,    1.612,2,   1.9440,2,   2100.0,2,   2310.9,2,20170112,1323
06M220170104  ,A10.5      ,39      ,  1,39117.0    ,240831.0   ,17         ,2,20170112,1208, -34.4999,  -0.4826,     4615,    267.6,  12.4732,  35.1132,    220.1,2,    218.6,2,     3.33,3,    14.61,3,     0.03,3,     0.97,3,    1.736,2,   1.7700,2,     -999,9,     -999,9,20170112,1321
06M220170104  ,A10.5      ,39      ,  1,39116.0    ,240830.0   ,16         ,2,20170112,1208, -34.4999,  -0.4826,     4615,    341.9,  11.1412,  34.9271,    219.4,2,    216.1,3,     3.75,3,    17.93,3,     0.01,3,     1.04,3,    1.813,2,   1.7940,2,   2138.6,2,   2301.1,2,20170112,1319
06M220170104  ,A10.5      ,39      ,  1,39115.0    ,240829.0   ,15         ,2,20170112,1208, -34.4999,  -0.4826,     4615,    516.0,   8.3563,  34.5870,    214.7,2,    212.7,2,     9.82,3,    31.07,3,     0.03,3,     1.97,3,    1.927,2,   1.4630,2,   2165.6,2,   2287.0,2,20170112,1316
06M220170104  ,A10.5      ,39      ,  1,39114.0    ,240828.0   ,14         ,2,20170112,1208, -34.4999,  -0.4826,     4615,    692.0,   5.2181,  34.2637,    239.7,2,    237.8,2,    15.80,3,    37.19,3,     0.01,3,     2.42,3,     -999,9,     -999,9,     -999,9,     -999,9,20170112,1313
06M220170104  ,A10.5      ,39      ,  1,39113.0    ,240827.0   ,13         ,2,20170112,1208, -34.4999,  -0.4826,     4615,    797.0,   4.4203,  34.2387,    236.3,2,    234.9,2,    22.23,3,    39.49,3,     0.00,3,     2.19,3,    1.786,2,   1.1830,2,     -999,9,     -999,9,20170112,1312
06M220170104  ,A10.5      ,39      ,  1,39112.0    ,240826.0   ,12         ,2,20170112,1208, -34.4999,  -0.4826,     4615,    842.5,   4.1975,  34.2447,    232.9,2,    230.1,2,    35.50,3,    48.66,3,     0.01,3,     3.40,3,    1.694,2,   1.0180,2,   2182.0,2,   2283.0,2,20170112,1311
06M220170104  ,A10.5      ,39      ,  1,39111.0    ,240825.0   ,11         ,2,20170112,1208, -34.4999,  -0.4826,     4615,   1058.5,   3.4686,  34.3170,    212.3,2,    211.4,2,    44.02,3,    45.16,3,     0.02,3,     2.98,3,     -999,9,     -999,9,   2198.4,2,   2297.8,2,20170112,1307
06M220170104  ,A10.5      ,39      ,  1,39110.0    ,240824.0   ,10         ,2,20170112,1208, -34.4999,  -0.4826,     4615,   1398.2,   2.9219,  34.5103,    189.3,2,    187.9,2,    64.76,3,    47.45,3,     0.02,3,     2.88,3,    0.085,3,   0.0000,2,   2220.2,2,   2322.2,2,20170112,1302
06M220170104  ,A10.5      ,39      ,  1,39109.0    ,240823.0   ,9          ,2,20170112,1208, -34.4999,  -0.4826,     4615,   1514.7,   2.8421,  34.5807,    188.3,2,    186.8,2,    71.91,3,    44.82,3,     0.01,3,     3.60,3,     -999,9,     -999,9,   2222.4,2,   2326.3,2,20170112,1300
06M220170104  ,A10.5      ,39      ,  1,39108.0    ,240822.0   ,8          ,2,20170112,1208, -34.4999,  -0.4826,     4615,   2016.6,   2.7033,  34.7630,    207.9,2,    206.8,2,    57.26,3,    37.73,3,     0.01,3,     2.17,3,     -999,9,     -999,9,   2210.2,2,   2335.2,2,20170112,1251
06M220170104  ,A10.5      ,39      ,  1,39107.0    ,240821.0   ,7          ,2,20170112,1208, -34.4999,  -0.4826,     4615,   2506.9,   2.5380,  34.8281,    222.5,2,    221.1,2,    64.57,3,    36.58,3,     0.01,3,     2.52,3,     -999,9,     -999,9,   2201.4,2,   2334.9,2,20170112,1243
06M220170104  ,A10.5      ,39      ,  1,39106.0    ,240820.0   ,6          ,2,20170112,1208, -34.4999,  -0.4826,     4615,   2696.4,   2.4597,  34.8397,    226.9,2,    225.8,2,    76.97,3,    39.85,3,     0.01,3,     2.85,3,     -999,9,     -999,9,     -999,9,     -999,9,20170112,1240
06M220170104  ,A10.5      ,39      ,  1,39105.0    ,240819.0   ,5          ,2,20170112,1208, -34.4999,  -0.4826,     4615,   2996.8,   2.3352,  34.8491,    232.5,2,    231.8,2,    66.76,3,    34.68,3,     0.01,3,     2.46,3,     -999,9,     -999,9,   2200.2,2,   2338.7,2,20170112,1235
06M220170104  ,A10.5      ,39      ,  1,39104.0    ,240818.0   ,4          ,2,20170112,1208, -34.4999,  -0.4826,     4615,   3285.9,   2.2483,  34.8510,    233.2,2,    232.9,2,    78.25,3,    37.61,3,     0.01,3,     2.66,3,     -999,9,     -999,9,     -999,9,     -999,9,20170112,1230
06M220170104  ,A10.5      ,39      ,  1,39103.0    ,240817.0   ,3          ,2,20170112,1208, -34.4999,  -0.4826,     4615,   3574.1,   2.1387,  34.8438,    231.1,2,    231.2,2,    84.89,3,    39.80,3,     0.01,3,     3.00,3,     -999,9,     -999,9,   2215.1,2,   2348.0,2,20170112,1225
06M220170104  ,A10.5      ,39      ,  1,39102.0    ,240816.0   ,2          ,2,20170112,1208, -34.4999,  -0.4826,     4615,   4186.6,   1.2530,  34.7506,    219.6,2,    218.1,2,   114.60,3,    47.00,3,     0.02,3,     3.08,3,     -999,9,     -999,9,   2247.0,2,   2365.7,2,20170112,1215
06M220170104  ,A10.5      ,39      ,  1,39101.0    ,240815.0   ,1          ,2,20170112,1208, -34.4999,  -0.4826,     4615,   4605.1,   1.1183,  34.7338,    218.4,2,    216.6,2,   141.09,3,    47.38,3,     0.02,3,     3.68,3,     -999,9,     -999,9,   2245.6,2,   2370.8,2,20170112,1208
06M220170104  ,A10.5      ,40      ,  1,40122.0    ,240858.0   ,22         ,2,20170112,1724, -34.4996,  -1.1373,     3490,      7.2,  19.9062,  35.4313,    234.2,2,    233.3,2,     0.46,2,    -0.13,2,     0.01,2,     0.10,2,    1.322,2,   1.7960,2,   2077.5,2,   2335.0,2,20170112,1828
06M220170104  ,A10.5      ,40      ,  1,40121.0    ,240857.0   ,21         ,2,20170112,1724, -34.4996,  -1.1373,     3490,     47.0,  18.4041,  35.4543,    243.4,2,    273.3,4,     0.36,2,    -0.12,2,     0.01,2,     0.08,2,    1.411,2,   1.8710,2,   2077.7,2,   2335.8,2,20170112,1826
06M220170104  ,A10.5      ,40      ,  1,40120.0    ,240856.0   ,20         ,2,20170112,1724, -34.4996,  -1.1373,     3490,     72.4,  16.2019,  35.4329,    253.0,2,    252.0,2,     0.53,2,    -0.13,2,     0.02,2,     0.09,2,    1.515,2,   1.9650,2,   2081.3,2,   2334.9,2,20170112,1825
06M220170104  ,A10.5      ,40      ,  1,40119.0    ,240855.0   ,19         ,2,20170112,1724, -34.4996,  -1.1373,     3490,     96.8,  15.3969,  35.3616,    245.6,2,    241.5,2,     0.70,2,     0.75,2,     0.12,2,     0.19,2,    1.569,2,   1.9520,2,   2092.3,2,   2330.0,2,20170112,1824
06M220170104  ,A10.5      ,40      ,  1,40118.0    ,240854.0   ,18         ,2,20170112,1724, -34.4996,  -1.1373,     3490,    297.1,  12.6059,  35.1501,    217.0,2,    215.7,2,     2.65,2,     8.48,2,     0.02,2,     0.64,2,    1.729,2,   1.7430,2,   2131.6,2,   2318.6,2,20170112,1821
06M220170104  ,A10.5      ,40      ,  1,40117.0    ,240853.0   ,17         ,2,20170112,1724, -34.4996,  -1.1373,     3490,    399.8,  11.1894,  34.9544,    214.7,2,    215.6,2,     1.75,4,     6.15,4,     0.01,4,     0.38,4,    1.824,2,   1.6200,2,   2142.2,2,   2306.8,2,20170112,1819
06M220170104  ,A10.5      ,40      ,  1,40116.0    ,240852.0   ,16         ,2,20170112,1724, -34.4996,  -1.1373,     3490,    545.7,   7.9843,  34.5383,    217.8,2,    216.8,2,     7.85,2,    18.60,2,     0.01,2,     1.40,2,    1.952,2,   1.6170,2,   2158.8,2,   2287.3,2,20170112,1817
06M220170104  ,A10.5      ,40      ,  1,40115.0    ,240851.0   ,15         ,2,20170112,1724, -34.4996,  -1.1373,     3490,    603.6,   6.9360,  34.4285,    223.0,2,     -999,9,     -999,9,     -999,9,     -999,9,     -999,9,     -999,9,     -999,9,     -999,9,     -999,9,20170112,1816
06M220170104  ,A10.5      ,40      ,  1,40114.0    ,240850.0   ,14         ,2,20170112,1724, -34.4996,  -1.1373,     3490,    802.3,   4.4788,  34.2333,    239.8,2,    238.4,2,    17.31,2,    23.84,2,     0.01,2,     1.82,2,    1.893,2,   1.2260,2,   2175.2,2,   2285.8,2,20170112,1812
06M220170104  ,A10.5      ,40      ,  1,40113.0    ,240849.0   ,13         ,2,20170112,1724, -34.4996,  -1.1373,     3490,    904.3,   3.9156,  34.2403,    232.6,2,    231.7,2,    24.85,2,    25.46,2,     0.00,2,     1.82,2,    1.624,2,   0.9610,2,     -999,9,     -999,9,20170112,1811
06M220170104  ,A10.5      ,40      ,  1,40112.0    ,240848.0   ,12         ,2,20170112,1724, -34.4996,  -1.1373,     3490,   1005.6,   3.6669,  34.2816,    221.3,2,    220.2,2,    31.06,2,    26.50,2,     0.00,2,     2.00,2,    1.302,2,   0.6890,2,   2198.5,2,   2293.2,2,20170112,1809
06M220170104  ,A10.5      ,40      ,  1,40111.0    ,240847.0   ,11         ,2,20170112,1724, -34.4996,  -1.1373,     3490,   1310.5,   3.0796,  34.4438,    194.6,2,    193.4,2,    47.34,2,    29.08,2,     0.00,2,     1.88,2,    0.587,2,   0.2330,2,   2206.5,2,   2316.5,2,20170112,1804
06M220170104  ,A10.5      ,40      ,  1,40110.0    ,240846.0   ,10         ,2,20170112,1724, -34.4996,  -1.1373,     3490,   1616.1,   2.8370,  34.6145,    189.6,2,    189.2,2,    55.95,2,    27.18,2,     0.00,2,     2.04,2,    0.216,2,   0.1180,2,   2239.3,2,   2329.5,2,20170112,1759
06M220170104  ,A10.5      ,40      ,  1,40109.0    ,240845.0   ,9          ,2,20170112,1724, -34.4996,  -1.1373,     3490,   1779.2,   2.7874,  34.6882,    197.8,2,    196.7,2,    54.53,2,    26.05,2,     0.00,2,     1.92,2,    0.130,2,   0.0000,2,   2227.6,2,   2329.2,2,20170112,1756
06M220170104  ,A10.5      ,40      ,  1,40108.0    ,240844.0   ,8          ,2,20170112,1724, -34.4996,  -1.1373,     3490,   2018.9,   2.7101,  34.7534,    208.0,2,    206.3,2,    54.11,2,    24.43,2,     0.00,2,     1.77,2,    0.078,2,   0.0000,2,   2224.3,2,   2336.0,2,20170112,1752
06M220170104  ,A10.5      ,40      ,  1,40107.0    ,240843.0   ,7          ,2,20170112,1724, -34.4996,  -1.1373,     3490,   2324.8,   2.6149,  34.8109,    219.4,2,    218.1,2,    51.41,2,    22.80,2,     0.00,2,     1.71,2,    0.040,2,   0.0000,2,   2212.7,2,   2332.4,2,20170112,1747
06M220170104  ,A10.5      ,40      ,  1,40106.0    ,240842.0   ,6          ,2,20170112,1724, -34.4996,  -1.1373,     3490,   2742.5,   2.4364,  34.8390,    228.9,2,    229.1,2,    51.51,2,    21.59,2,     0.01,2,     1.53,2,    0.026,2,   0.0000,2,   2213.2,2,   2341.5,2,20170112,1740
06M220170104  ,A10.5      ,40      ,  1,40105.0    ,240841.0   ,5          ,2,20170112,1724, -34.4996,  -1.1373,     3490,   2844.9,   2.3950,  34.8445,    231.3,2,    230.3,2,     -999,9,     -999,9,     -999,9,     -999,9,    0.023,2,   0.0000,2,     -999,9,     -999,9,20170112,1738
06M220170104  ,A10.5      ,40      ,  1,40104.0    ,240840.0   ,4          ,2,20170112,1724, -34.4996,  -1.1373,     3490,   3050.2,   2.2991,  34.8457,    232.8,2,    247.2,4,    50.84,2,    21.43,2,     0.00,2,     1.51,2,    0.020,2,   0.0000,2,     -999,9,     -999,9,20170112,1735
06M220170104  ,A10.5      ,40      ,  1,40103.0    ,240839.0   ,3          ,2,20170112,1724, -34.4996,  -1.1373,     3490,   3254.0,   2.2001,  34.8425,    232.9,2,    231.5,2,    56.69,2,    22.59,2,     0.00,2,     1.68,2,    0.020,2,   0.0000,2,   2217.5,2,   2345.3,2,20170112,1731
06M220170104  ,A10.5      ,40      ,  1,40102.0    ,240838.0   ,2          ,2,20170112,1724, -34.4996,  -1.1373,     3490,   3479.1,   2.0740,  34.8339,    231.0,2,    229.4,2,    61.91,2,    22.63,2,     0.00,2,     1.61,2,    0.024,2,   0.0000,2,     -999,9,     -999,9,20170112,1724
06M220170104  ,A10.5      ,40      ,  1,40101.0    ,240837.0   ,1          ,2,20170112,1724, -34.4996,  -1.1373,     3490,   3480.3,   2.0729,  34.8339,    231.2,2,    229.5,2,    59.16,2,    22.15,2,     0.01,2,     1.50,2,    0.023,2,   0.0000,2,   2219.3,2,   2350.3,2,20170112,1724