BOTTLE,20240228CCHSIOADS
EXPOCODE,SECT_ID,STNNBR,CASTNO,SAMPNO,BIONBR,BTLNBR,BTLNBR_FLAG_W,DATE,TIME,LATITUDE,LONGITUDE,DEPTH,CTDPRS,CTDTMP,CTDSAL,CTDOXY,CTDOXY_FLAG_W,OXYGEN,OXYGEN_FLAG_W,SILCAT,SILCAT_FLAG_W,NITRAT,NITRAT_FLAG_W,NITRIT,NITRIT_FLAG_W,PHSPHT,PHSPHT_FLAG_W,CFC-12,CFC-12_FLAG_W,SF6,SF6_FLAG_W,TCARBN,TCARBN_FLAG_W,ALKALI,ALKALI_FLAG_W,BTL_DATE,BTL_TIME
,,,,,,,,,,,,METERS,DBAR,ITS-90,PSS-78,UMOL/KG,,UMOL/KG,,UMOL/KG,,UMOL/KG,,UMOL/KG,,UMOL/KG,,PMOL/KG,,FMOL/KG,,UMOL/KG,,UMOL/KG,,,
06M220170104  ,A10.5      ,85      ,  1,85122.0    ,241852.0   ,22         ,2,20170122,0724, -34.4994, -29.2979,     5467,      8.5,  21.8142,  35.5708,    225.3,2,     -999,9,    -0.84,2,     0.45,2,     0.01,2,     0.06,2,    1.238,2,   1.6220,2,   2061.4,2,   2343.8,2,20170122,0855
06M220170104  ,A10.5      ,85      ,  1,85121.0    ,241851.0   ,21         ,2,20170122,0724, -34.4994, -29.2979,     5467,     22.3,  21.6392,  35.5890,    225.5,2,    226.8,2,    -1.01,2,     0.41,2,     0.00,2,     0.06,2,    1.255,2,   1.6880,2,   2062.6,2,   2344.1,2,20170122,0854
06M220170104  ,A10.5      ,85      ,  1,85120.0    ,241850.0   ,20         ,2,20170122,0724, -34.4994, -29.2979,     5467,     49.1,  17.7299,  35.6896,    246.0,2,    223.7,3,    -0.85,2,     0.52,2,     0.01,2,     0.10,2,    1.456,2,   1.5190,4,   2077.7,2,   2357.5,2,20170122,0853
06M220170104  ,A10.5      ,85      ,  1,85119.0    ,241849.0   ,19         ,2,20170122,0724, -34.4994, -29.2979,     5467,     80.6,  16.4298,  35.6260,    248.5,2,    248.6,2,    -0.85,2,     0.57,2,     0.01,2,     0.13,2,    1.516,2,   1.8070,2,   2076.5,2,   2349.6,2,20170122,0852
06M220170104  ,A10.5      ,85      ,  1,85118.0    ,241848.0   ,18         ,2,20170122,0724, -34.4994, -29.2979,     5467,    247.5,  14.8152,  35.6388,    230.9,2,    232.1,2,     0.06,2,     5.69,2,     0.05,2,     0.49,2,    1.594,2,   1.7540,2,   2108.0,2,   2350.7,2,20170122,0849
06M220170104  ,A10.5      ,85      ,  1,85117.0    ,241847.0   ,17         ,2,20170122,0724, -34.4994, -29.2979,     5467,    396.6,  12.7993,  35.2292,    216.2,2,    218.5,2,     2.22,2,    11.46,2,     0.01,2,     0.81,2,    1.760,2,   1.6890,2,   2137.9,2,   2325.9,2,20170122,0847
06M220170104  ,A10.5      ,85      ,  1,85116.0    ,241846.0   ,16         ,2,20170122,0724, -34.4994, -29.2979,     5467,    636.2,   7.3683,  34.4938,    218.2,2,    221.1,2,    11.37,2,    26.86,2,     0.02,2,     1.80,2,    1.937,2,   1.2330,2,   2152.6,2,   2290.9,2,20170122,0843
06M220170104  ,A10.5      ,85      ,  1,85115.0    ,241845.0   ,15         ,2,20170122,0724, -34.4994, -29.2979,     5467,    757.9,   5.7820,  34.3340,    229.6,2,    232.5,2,    14.50,2,    28.23,2,     0.01,2,     1.87,2,    1.972,2,   1.1830,2,     -999,9,     -999,9,20170122,0841
06M220170104  ,A10.5      ,85      ,  1,85114.0    ,241844.0   ,14         ,2,20170122,0724, -34.4994, -29.2979,     5467,    855.8,   4.6464,  34.2605,    234.8,2,    236.4,2,    19.99,2,    30.40,2,     0.00,2,     1.94,2,    1.810,2,   1.0070,2,   2166.7,2,   2293.1,2,20170122,0839
06M220170104  ,A10.5      ,85      ,  1,85113.0    ,241843.0   ,13         ,2,20170122,0724, -34.4994, -29.2979,     5467,    997.2,   3.9468,  34.2927,    219.0,2,    221.1,2,    25.41,2,    28.05,2,     0.00,2,     1.93,2,    1.312,2,   0.6050,2,     -999,9,     -999,9,20170122,0837
06M220170104  ,A10.5      ,85      ,  1,85112.0    ,241842.0   ,12         ,2,20170122,0724, -34.4994, -29.2979,     5467,   1196.3,   3.2172,  34.3436,    204.9,2,    207.4,2,    42.82,2,    31.92,2,     0.01,2,     2.15,2,    0.924,2,   0.4740,2,   2223.7,2,   2308.1,2,20170122,0834
06M220170104  ,A10.5      ,85      ,  1,85111.0    ,241841.0   ,11         ,2,20170122,0724, -34.4994, -29.2979,     5467,   1597.2,   2.8682,  34.5905,    187.1,2,    188.0,2,    60.92,2,    36.49,2,     0.01,2,     2.32,2,    0.199,2,   0.0990,2,   2232.4,2,   2332.1,2,20170122,0827
06M220170104  ,A10.5      ,85      ,  1,85110.0    ,241840.0   ,10         ,2,20170122,0724, -34.4994, -29.2979,     5467,   1993.1,   2.8869,  34.7718,    207.2,2,     -999,9,     -999,9,     -999,9,     -999,9,     -999,9,     -999,9,     -999,9,     -999,9,     -999,9,20170122,0821
06M220170104  ,A10.5      ,85      ,  1,85109.0    ,241839.0   ,9          ,2,20170122,0724, -34.4994, -29.2979,     5467,   2498.8,   2.8371,  34.8741,    233.8,2,    236.8,2,    46.80,2,    26.48,2,     0.00,2,     1.72,2,    0.033,2,   0.0000,2,   2192.5,2,   2335.0,2,20170122,0812
06M220170104  ,A10.5      ,85      ,  1,85108.0    ,241838.0   ,8          ,2,20170122,0724, -34.4994, -29.2979,     5467,   2997.5,   2.6147,  34.8893,    242.2,2,    245.9,2,    46.65,2,    24.56,2,     0.00,2,     1.54,2,    0.035,2,   0.0000,2,   2188.4,2,   2335.4,2,20170122,0804
06M220170104  ,A10.5      ,85      ,  1,85107.0    ,241837.0   ,7          ,2,20170122,0724, -34.4994, -29.2979,     5467,   3490.4,   2.0533,  34.8355,    233.8,2,    237.4,2,    64.28,2,    26.61,2,     0.01,2,     1.71,2,    0.048,2,   0.0000,2,   2218.6,2,   2344.7,2,20170122,0756
06M220170104  ,A10.5      ,85      ,  1,85106.0    ,241836.0   ,6          ,2,20170122,0724, -34.4994, -29.2979,     5467,   3996.5,   1.1169,  34.7387,    219.8,2,    237.8,4,   109.21,2,    34.38,2,     0.01,2,     2.31,2,    0.105,2,   0.0000,2,   2244.0,2,   2362.2,2,20170122,0748
06M220170104  ,A10.5      ,85      ,  1,85105.0    ,241835.0   ,5          ,2,20170122,0724, -34.4994, -29.2979,     5467,   4497.2,   0.7547,  34.7054,    219.4,2,    219.0,2,   126.91,2,    35.65,2,     0.00,2,     2.37,2,    0.164,2,   0.0000,2,   2255.5,2,   2367.1,2,20170122,0740
06M220170104  ,A10.5      ,85      ,  1,85104.0    ,241834.0   ,4          ,2,20170122,0724, -34.4994, -29.2979,     5467,   4796.6,   0.7240,  34.6999,    218.9,2,    221.3,2,   131.46,2,    35.96,2,     0.01,2,     2.40,2,    0.171,2,   0.0000,2,   2253.7,2,   2368.6,2,20170122,0735
06M220170104  ,A10.5      ,85      ,  1,85103.0    ,241833.0   ,3          ,2,20170122,0724, -34.4994, -29.2979,     5467,   4995.8,   0.7261,  34.6981,    219.0,2,    221.0,2,   129.74,2,    33.75,2,     0.00,2,     2.32,2,    0.173,2,   0.0000,2,   2256.9,2,   2371.4,2,20170122,0732
06M220170104  ,A10.5      ,85      ,  1,85102.0    ,241832.0   ,2          ,2,20170122,0724, -34.4994, -29.2979,     5467,   5456.8,   0.7558,  34.6949,    219.1,2,    221.1,2,   121.95,2,    34.31,2,     0.00,2,     2.20,2,    0.177,2,   0.0000,2,     -999,9,     -999,9,20170122,0724
06M220170104  ,A10.5      ,85      ,  1,85101.0    ,241831.0   ,1          ,2,20170122,0724, -34.4994, -29.2979,     5467,   5457.1,   0.7558,  34.6948,    218.7,2,    220.0,2,   122.20,2,    35.34,2,     0.01,2,     2.26,2,    0.181,2,   0.0000,2,   2257.6,2,   2369.9,2,20170122,0724
06M220170104  ,A10.5      ,86      ,  1,86122.0    ,241874.0   ,22         ,2,20170122,1310, -34.5248, -29.9529,     4058,      7.8,  20.5255,  35.3053,    230.6,2,     -999,9,     0.91,2,     0.20,2,     0.00,3,     0.08,2,    1.287,2,   1.6990,2,   2060.9,2,   2326.4,2,20170122,1418
06M220170104  ,A10.5      ,86      ,  1,86121.0    ,241873.0   ,21         ,2,20170122,1310, -34.5248, -29.9529,     4058,     22.3,  19.8852,  35.3869,    236.4,2,    231.7,2,     0.95,2,     0.28,2,     0.01,3,     0.09,2,    1.368,2,   1.7880,2,   2073.7,2,   2333.6,2,20170122,1417
06M220170104  ,A10.5      ,86      ,  1,86120.0    ,241872.0   ,20         ,2,20170122,1310, -34.5248, -29.9529,     4058,     72.3,  16.2196,  35.5728,    251.8,2,    239.6,3,     2.23,2,     1.03,2,     0.02,3,     0.17,2,    1.537,2,   1.9390,2,   2087.9,2,   2344.7,2,20170122,1416
06M220170104  ,A10.5      ,86      ,  1,86119.0    ,241871.0   ,19         ,2,20170122,1310, -34.5248, -29.9529,     4058,     98.6,  15.0540,  35.5591,    235.9,2,    254.0,3,     1.24,2,     0.15,2,     0.03,3,     0.17,2,     -999,9,     -999,9,   2094.5,2,   2344.0,2,20170122,1415
06M220170104  ,A10.5      ,86      ,  1,86118.0    ,241870.0   ,18         ,2,20170122,1310, -34.5248, -29.9529,     4058,    147.2,  14.7189,  35.5611,    230.4,2,    231.0,2,     1.75,2,     4.31,2,     0.01,3,     0.35,2,    1.641,2,   1.9070,2,     -999,9,     -999,9,20170122,1414
06M220170104  ,A10.5      ,86      ,  1,86117.0    ,241869.0   ,17         ,2,20170122,1310, -34.5248, -29.9529,     4058,    313.7,  12.6385,  35.1952,    213.6,2,    215.6,2,     3.88,2,    11.32,2,     0.01,3,     0.71,2,    1.773,2,   1.6730,2,     -999,9,     -999,9,20170122,1411
06M220170104  ,A10.5      ,86      ,  1,86116.0    ,241868.0   ,16         ,2,20170122,1310, -34.5248, -29.9529,     4058,    417.3,   9.9325,  34.7805,    212.1,2,    215.2,2,     5.43,2,    16.73,2,     0.01,3,     1.15,2,    1.934,2,   1.5960,2,   2140.2,2,   2300.6,2,20170122,1409
06M220170104  ,A10.5      ,86      ,  1,86115.0    ,241867.0   ,15         ,2,20170122,1310, -34.5248, -29.9529,     4058,    546.3,   6.6990,  34.3938,    231.1,2,    239.4,4,     8.58,2,    23.82,2,     0.01,3,     1.53,2,    2.120,2,   1.5520,2,   2158.2,2,   2285.4,2,20170122,1407
06M220170104  ,A10.5      ,86      ,  1,86114.0    ,241866.0   ,14         ,2,20170122,1310, -34.5248, -29.9529,     4058,    646.4,   5.6025,  34.3080,    236.3,2,    237.6,2,    14.20,2,    27.87,2,     0.00,3,     1.78,2,    2.031,2,   1.3690,2,     -999,9,     -999,9,20170122,1406
06M220170104  ,A10.5      ,86      ,  1,86113.0    ,241865.0   ,13         ,2,20170122,1310, -34.5248, -29.9529,     4058,    753.5,   4.6443,  34.2431,    241.4,2,    241.1,2,    16.52,2,    27.29,3,     0.02,3,     1.78,2,    1.962,2,   1.2390,2,   2176.6,2,   2286.1,2,20170122,1404
06M220170104  ,A10.5      ,86      ,  1,86112.0    ,241864.0   ,12         ,2,20170122,1310, -34.5248, -29.9529,     4058,    851.3,   4.0531,  34.2189,    241.7,2,    245.1,2,    22.41,2,    30.38,3,     0.01,3,     1.92,2,     -999,9,     -999,9,     -999,9,     -999,9,20170122,1402
06M220170104  ,A10.5      ,86      ,  1,86111.0    ,241863.0   ,11         ,2,20170122,1310, -34.5248, -29.9529,     4058,    994.5,   3.4911,  34.2578,    225.6,2,    226.1,2,    28.90,2,    29.95,3,     0.00,3,     1.94,2,    1.456,2,   0.8670,2,   2203.5,2,   2296.9,2,20170122,1400
06M220170104  ,A10.5      ,86      ,  1,86110.0    ,241862.0   ,10         ,2,20170122,1310, -34.5248, -29.9529,     4058,   1215.7,   3.0694,  34.3862,    196.8,2,    198.0,2,    44.96,2,    33.09,3,     0.01,3,     2.08,2,    0.743,2,   0.3950,2,   2215.7,2,   2313.5,2,20170122,1356
06M220170104  ,A10.5      ,86      ,  1,86109.0    ,241861.0   ,9          ,2,20170122,1310, -34.5248, -29.9529,     4058,   1505.3,   2.8627,  34.5745,    183.2,2,    184.5,2,    54.01,2,    31.16,3,     0.00,3,     1.98,2,     -999,9,     -999,9,   2242.8,2,   2332.6,2,20170122,1351
06M220170104  ,A10.5      ,86      ,  1,86108.0    ,241860.0   ,8          ,2,20170122,1310, -34.5248, -29.9529,     4058,   1738.2,   2.8967,  34.7017,    192.6,2,     -999,9,     -999,9,     -999,9,     -999,9,     -999,9,     -999,9,     -999,9,     -999,9,     -999,9,20170122,1348
06M220170104  ,A10.5      ,86      ,  1,86107.0    ,241859.0   ,7          ,2,20170122,1310, -34.5248, -29.9529,     4058,   1739.2,   2.8975,  34.7033,    192.8,2,     -999,9,     -999,9,     -999,9,     -999,9,     -999,9,     -999,9,     -999,9,     -999,9,     -999,9,20170122,1348
06M220170104  ,A10.5      ,86      ,  1,86106.0    ,241858.0   ,6          ,2,20170122,1310, -34.5248, -29.9529,     4058,   2132.1,   3.0140,  34.8448,    221.2,2,    224.5,3,    41.58,2,    25.83,3,     0.00,3,     1.64,2,     -999,9,     -999,9,     -999,9,     -999,9,20170122,1341
06M220170104  ,A10.5      ,86      ,  1,86105.0    ,241857.0   ,5          ,2,20170122,1310, -34.5248, -29.9529,     4058,   2398.1,   2.8933,  34.8709,    233.3,2,    234.1,2,    40.91,2,    25.50,3,     0.00,3,     1.57,2,     -999,9,     -999,9,   2201.2,2,   2331.4,2,20170122,1337
06M220170104  ,A10.5      ,86      ,  1,86104.0    ,241856.0   ,4          ,2,20170122,1310, -34.5248, -29.9529,     4058,   2716.0,   2.8190,  34.8981,    242.0,2,    243.6,2,    39.41,2,    22.56,3,     0.00,3,     1.47,2,     -999,9,     -999,9,     -999,9,     -999,9,20170122,1332
06M220170104  ,A10.5      ,86      ,  1,86103.0    ,241855.0   ,3          ,2,20170122,1310, -34.5248, -29.9529,     4058,   2997.8,   2.5974,  34.8866,    241.9,2,    242.8,2,    43.81,2,    24.30,2,     0.00,3,     1.50,2,     -999,9,     -999,9,   2199.6,2,   2335.4,2,20170122,1327
06M220170104  ,A10.5      ,86      ,  1,86102.0    ,241854.0   ,2          ,2,20170122,1310, -34.5248, -29.9529,     4058,   3497.1,   1.9836,  34.8331,    236.0,2,    235.3,2,    59.44,2,    26.02,2,     0.00,3,     1.61,2,     -999,9,     -999,9,   2208.6,2,   2348.0,2,20170122,1319
06M220170104  ,A10.5      ,86      ,  1,86101.0    ,241853.0   ,1          ,2,20170122,1310, -34.5248, -29.9529,     4058,   4048.4,   0.9959,  34.7297,    220.8,2,    221.7,2,    87.29,2,    22.44,3,     0.00,3,     1.42,3,     -999,9,     -999,9,   2249.1,2,   2364.9,2,20170122,1310
06M220170104  ,A10.5      ,87      ,  1,87122.0    ,241896.0   ,22         ,2,20170122,1705, -34.3870, -29.9532,     5379,     14.1,  20.5095,  35.3093,    230.8,2,     -999,9,     0.63,2,    -0.03,3,     0.01,3,     0.10,2,    1.291,2,   1.6480,2,   2059.3,2,   2322.2,2,20170122,1834
06M220170104  ,A10.5      ,87      ,  1,87121.0    ,241895.0   ,21         ,2,20170122,1705, -34.3870, -29.9532,     5379,     29.4,  19.7336,  35.4139,    237.1,2,    234.0,2,     0.32,2,    -0.05,3,     0.00,3,     0.07,2,    1.421,2,   1.8710,2,   2068.2,2,   2338.4,2,20170122,1834
06M220170104  ,A10.5      ,87      ,  1,87120.0    ,241894.0   ,20         ,2,20170122,1705, -34.3870, -29.9532,     5379,     74.6,  15.7188,  35.5835,    242.1,2,    243.4,2,     1.06,2,     1.44,3,     0.23,3,     0.25,2,    1.548,2,   1.8870,2,   2099.4,2,   2342.8,2,20170122,1832
06M220170104  ,A10.5      ,87      ,  1,87119.0    ,241893.0   ,19         ,2,20170122,1705, -34.3870, -29.9532,     5379,    103.7,  15.0034,  35.5778,    231.6,2,    246.4,4,     -999,9,     -999,9,     -999,9,     -999,9,     -999,9,     -999,9,     -999,9,     -999,9,20170122,1831
06M220170104  ,A10.5      ,87      ,  1,87118.0    ,241892.0   ,18         ,2,20170122,1705, -34.3870, -29.9532,     5379,    152.3,  14.7207,  35.5690,    228.8,2,    240.3,4,     1.55,2,     4.78,3,     0.01,3,     0.42,2,    1.597,2,   1.8420,2,   2114.9,2,   2340.3,2,20170122,1830
06M220170104  ,A10.5      ,87      ,  1,87117.0    ,241891.0   ,17         ,2,20170122,1705, -34.3870, -29.9532,     5379,    293.8,  13.1213,  35.2886,    217.0,2,     -999,9,     0.66,2,     2.15,3,     0.00,3,     0.27,3,     -999,9,     -999,9,     -999,9,     -999,9,20170122,1828
06M220170104  ,A10.5      ,87      ,  1,87116.0    ,241890.0   ,16         ,2,20170122,1705, -34.3870, -29.9532,     5379,    394.1,  10.8622,  34.9177,    209.6,2,    212.2,2,     4.48,2,    16.21,3,     0.01,3,     1.08,2,    1.843,2,   1.4910,2,   2141.9,2,   2303.7,2,20170122,1826
06M220170104  ,A10.5      ,87      ,  1,87115.0    ,241889.0   ,15         ,2,20170122,1705, -34.3870, -29.9532,     5379,    495.5,   8.1004,  34.5444,    220.5,2,    224.0,2,     7.22,2,    20.75,3,     0.01,3,     1.44,2,    2.022,2,   1.5470,2,     -999,9,     -999,9,20170122,1824
06M220170104  ,A10.5      ,87      ,  1,87114.0    ,241888.0   ,14         ,2,20170122,1705, -34.3870, -29.9532,     5379,    594.6,   6.5105,  34.3755,    231.8,2,    234.3,2,    10.48,2,    25.21,3,     0.01,3,     1.65,2,    2.085,2,   1.5190,2,   2159.7,2,   2282.4,2,20170122,1823
06M220170104  ,A10.5      ,87      ,  1,87113.0    ,241887.0   ,13         ,2,20170122,1705, -34.3870, -29.9532,     5379,    713.6,   5.1297,  34.2756,    237.3,2,    239.9,2,    14.89,2,    26.87,3,     0.01,3,     1.78,2,    1.971,2,   1.2200,2,     -999,9,     -999,9,20170122,1821
06M220170104  ,A10.5      ,87      ,  1,87112.0    ,241886.0   ,12         ,2,20170122,1705, -34.3870, -29.9532,     5379,    840.0,   4.2323,  34.2310,    239.2,2,    217.8,4,    20.68,2,    30.08,3,     0.00,3,     1.99,2,    1.809,2,   1.1140,2,   2176.7,2,   2286.2,2,20170122,1819
06M220170104  ,A10.5      ,87      ,  1,87111.0    ,241885.0   ,11         ,2,20170122,1705, -34.3870, -29.9532,     5379,    963.4,   3.6558,  34.2444,    229.9,2,    230.9,2,    27.00,2,    30.21,3,     0.01,3,     2.04,2,    1.533,2,   0.9480,2,     -999,9,     -999,9,20170122,1817
06M220170104  ,A10.5      ,87      ,  1,87110.0    ,241884.0   ,10         ,2,20170122,1705, -34.3870, -29.9532,     5379,   1224.6,   3.0708,  34.3850,    196.6,2,    196.2,2,    46.67,2,    32.15,3,     0.01,3,     2.26,2,    0.746,2,   0.3100,2,   2227.4,2,   2311.6,2,20170122,1812
06M220170104  ,A10.5      ,87      ,  1,87109.0    ,241883.0   ,9          ,2,20170122,1705, -34.3870, -29.9532,     5379,   1995.0,   2.9579,  34.7885,    208.5,2,    211.7,2,    35.70,3,    21.35,3,     0.01,3,     1.59,3,    0.295,3,   0.1970,3,   2211.8,2,   2328.4,2,20170122,1800
06M220170104  ,A10.5      ,87      ,  1,87108.0    ,241882.0   ,8          ,2,20170122,1705, -34.3870, -29.9532,     5379,   1996.9,   2.9572,  34.7892,    208.5,2,     -999,9,     -999,9,     -999,9,     -999,9,     -999,9,     -999,9,     -999,9,     -999,9,     -999,9,20170122,1800
06M220170104  ,A10.5      ,87      ,  1,87107.0    ,241881.0   ,7          ,2,20170122,1705, -34.3870, -29.9532,     5379,   2640.8,   2.8566,  34.8904,    237.1,2,    240.6,2,    41.72,2,    21.89,3,     0.01,3,     1.61,3,    0.062,2,   0.0440,2,   2196.0,2,   2329.8,2,20170122,1749
06M220170104  ,A10.5      ,87      ,  1,87106.0    ,241880.0   ,6          ,2,20170122,1705, -34.3870, -29.9532,     5379,   3052.7,   2.6361,  34.8888,    240.8,2,    243.5,2,    36.39,3,    20.47,3,     0.02,3,     1.44,3,    0.048,2,   0.0000,2,     -999,9,     -999,9,20170122,1742
06M220170104  ,A10.5      ,87      ,  1,87105.0    ,241879.0   ,5          ,2,20170122,1705, -34.3870, -29.9532,     5379,   3562.4,   1.6630,  34.8012,    229.9,2,    232.9,2,    72.28,2,    31.69,3,     0.02,3,     2.11,3,    0.062,2,   0.0000,2,   2232.0,2,   2351.2,2,20170122,1734
06M220170104  ,A10.5      ,87      ,  1,87104.0    ,241878.0   ,4          ,2,20170122,1705, -34.3870, -29.9532,     5379,   4045.6,   0.9564,  34.7270,    219.9,2,    222.0,2,   102.31,2,    39.73,3,     0.03,3,     2.83,3,    0.127,2,   0.0690,2,   2254.4,2,   2361.8,2,20170122,1726
06M220170104  ,A10.5      ,87      ,  1,87103.0    ,241877.0   ,3          ,2,20170122,1705, -34.3870, -29.9532,     5379,   4592.4,   0.7367,  34.7029,    219.0,2,    220.8,2,   116.37,2,    34.13,3,     0.01,3,     2.36,3,    0.164,2,   0.0940,2,   2260.6,2,   2364.5,2,20170122,1717
06M220170104  ,A10.5      ,87      ,  1,87101.0    ,241875.0   ,1          ,2,20170122,1705, -34.3870, -29.9532,     5379,   5368.6,   0.7748,  34.6973,    218.8,2,    221.7,2,   105.79,3,    32.95,3,     0.02,3,     2.32,3,    0.177,2,   0.1090,2,   2262.2,2,   2365.0,2,20170122,1705
06M220170104  ,A10.5      ,87      ,  1,87102.0    ,241876.0   ,2          ,2,20170122,1705, -34.3870, -29.9532,     5379,   5368.9,   0.7749,  34.6973,    218.5,2,    221.9,2,   101.27,3,    32.00,3,     0.03,3,     2.12,3,    0.173,2,   0.0520,2,     -999,9,     -999,9,20170122,1705