BOTTLE,20240228CCHSIOADS
EXPOCODE,SECT_ID,STNNBR,CASTNO,SAMPNO,BIONBR,BTLNBR,BTLNBR_FLAG_W,DATE,TIME,LATITUDE,LONGITUDE,DEPTH,CTDPRS,CTDTMP,CTDSAL,CTDOXY,CTDOXY_FLAG_W,OXYGEN,OXYGEN_FLAG_W,SILCAT,SILCAT_FLAG_W,NITRAT,NITRAT_FLAG_W,NITRIT,NITRIT_FLAG_W,PHSPHT,PHSPHT_FLAG_W,CFC-12,CFC-12_FLAG_W,SF6,SF6_FLAG_W,TCARBN,TCARBN_FLAG_W,ALKALI,ALKALI_FLAG_W,BTL_DATE,BTL_TIME
,,,,,,,,,,,,METERS,DBAR,ITS-90,PSS-78,UMOL/KG,,UMOL/KG,,UMOL/KG,,UMOL/KG,,UMOL/KG,,UMOL/KG,,PMOL/KG,,FMOL/KG,,UMOL/KG,,UMOL/KG,,,
06M220170104  ,A10.5      ,91      ,  1,91122.0    ,241984.0   ,22         ,2,20170123,2109, -34.4993, -32.5729,     4546,      6.7,  20.7054,  35.6490,    230.7,2,    229.5,2,     0.56,2,     0.01,2,     0.00,2,     0.16,3,    1.285,2,   1.6910,2,   2073.4,2,   2333.6,3,20170123,2229
06M220170104  ,A10.5      ,91      ,  1,91121.0    ,241983.0   ,21         ,2,20170123,2109, -34.4993, -32.5729,     4546,     42.9,  18.0175,  35.7193,    246.0,2,    230.6,3,     0.81,2,     0.01,2,     0.00,2,     0.21,3,    1.438,2,   1.8050,2,   2082.6,2,   2336.7,3,20170123,2228
06M220170104  ,A10.5      ,91      ,  1,91120.0    ,241982.0   ,20         ,2,20170123,2109, -34.4993, -32.5729,     4546,     98.0,  16.2997,  35.7118,    231.0,2,    248.0,3,     1.21,2,     2.26,2,     0.07,2,     0.59,3,    1.540,2,   1.7980,2,   2109.9,2,   2336.6,3,20170123,2226
06M220170104  ,A10.5      ,91      ,  1,91119.0    ,241981.0   ,19         ,2,20170123,2109, -34.4993, -32.5729,     4546,    167.6,  15.1391,  35.6325,    233.4,2,    196.9,4,     1.62,2,     4.06,2,     0.01,2,     0.85,3,    1.594,2,   1.9160,2,     -999,9,     -999,9,20170123,2225
06M220170104  ,A10.5      ,91      ,  1,91118.0    ,241980.0   ,18         ,2,20170123,2109, -34.4993, -32.5729,     4546,    297.7,  14.6143,  35.5897,    228.8,2,    233.6,3,     2.07,2,     5.70,2,     0.01,2,     0.93,3,    1.618,2,   1.7260,2,   2120.4,2,   2330.1,3,20170123,2222
06M220170104  ,A10.5      ,91      ,  1,91117.0    ,241979.0   ,17         ,2,20170123,2109, -34.4993, -32.5729,     4546,    397.5,  12.7522,  35.2168,    213.2,2,     -999,9,     -999,9,     -999,9,     -999,9,     -999,9,     -999,9,     -999,9,     -999,9,     -999,9,20170123,2219
06M220170104  ,A10.5      ,91      ,  1,91116.0    ,241978.0   ,16         ,2,20170123,2109, -34.4993, -32.5729,     4546,    557.4,   9.0170,  34.6646,    215.4,2,    228.1,4,     7.31,2,    19.28,2,     0.00,2,     2.46,3,    1.965,2,   1.4160,2,   2152.0,2,   2281.3,3,20170123,2217
06M220170104  ,A10.5      ,91      ,  1,91115.0    ,241977.0   ,15         ,2,20170123,2109, -34.4993, -32.5729,     4546,    696.7,   5.8838,  34.3028,    241.8,2,     -999,9,     -999,9,     -999,9,     -999,9,     -999,9,     -999,9,     -999,9,     -999,9,     -999,9,20170123,2214
06M220170104  ,A10.5      ,91      ,  1,91114.0    ,241976.0   ,14         ,2,20170123,2109, -34.4993, -32.5729,     4546,    837.2,   4.5875,  34.2063,    252.4,2,    250.5,2,    16.44,2,    27.00,2,     0.00,2,     3.38,3,    2.126,2,   1.5940,2,   2172.4,2,   2274.3,3,20170123,2211
06M220170104  ,A10.5      ,91      ,  1,91113.0    ,241975.0   ,13         ,2,20170123,2109, -34.4993, -32.5729,     4546,   1042.9,   3.6684,  34.2426,    231.1,2,    229.8,2,    28.94,2,    30.41,2,     0.01,2,     3.87,3,    1.543,2,   0.9350,2,     -999,9,     -999,9,20170123,2208
06M220170104  ,A10.5      ,91      ,  1,91112.0    ,241974.0   ,12         ,2,20170123,2109, -34.4993, -32.5729,     4546,   1296.4,   3.1203,  34.3770,    199.0,2,    197.7,2,    40.03,2,    26.57,3,     0.00,3,     3.53,3,    0.757,2,   0.3930,2,   2225.2,2,     -999,9,20170123,2203
06M220170104  ,A10.5      ,91      ,  1,91111.0    ,241973.0   ,11         ,2,20170123,2109, -34.4993, -32.5729,     4546,   1567.7,   2.8906,  34.5593,    185.0,2,    184.3,2,    55.91,2,    33.22,2,     0.00,2,     4.14,3,    0.244,2,   0.0750,2,   2238.7,2,   2326.7,2,20170123,2159
06M220170104  ,A10.5      ,91      ,  1,91110.0    ,241972.0   ,10         ,2,20170123,2109, -34.4993, -32.5729,     4546,   1845.8,   2.9282,  34.7157,    195.6,2,    194.6,2,    55.06,2,    27.74,2,     0.00,2,     3.49,3,    0.105,2,   0.0000,2,     -999,9,     -999,9,20170123,2154
06M220170104  ,A10.5      ,91      ,  1,91109.0    ,241971.0   ,9          ,2,20170123,2109, -34.4993, -32.5729,     4546,   2193.8,   2.9795,  34.8313,    219.9,2,    220.2,2,    49.52,2,    26.04,3,     0.00,3,     3.18,3,    0.063,2,   0.0000,2,   2208.5,2,   2330.9,2,20170123,2148
06M220170104  ,A10.5      ,91      ,  1,91108.0    ,241970.0   ,8          ,2,20170123,2109, -34.4993, -32.5729,     4546,   2195.6,   2.9793,  34.8316,    220.0,2,     -999,9,    40.05,3,    22.05,2,     0.00,2,     2.84,3,     -999,9,     -999,9,     -999,9,     -999,9,20170123,2148
06M220170104  ,A10.5      ,91      ,  1,91107.0    ,241969.0   ,7          ,2,20170123,2109, -34.4993, -32.5729,     4546,   2596.0,   2.9484,  34.8951,    239.0,2,    239.7,2,    37.88,2,    22.59,2,     0.00,2,     2.66,3,    0.056,2,   0.0000,2,     -999,9,     -999,9,20170123,2142
06M220170104  ,A10.5      ,91      ,  1,91106.0    ,241968.0   ,6          ,2,20170123,2109, -34.4993, -32.5729,     4546,   2995.6,   2.7168,  34.9004,    245.1,2,    245.1,2,    37.65,2,    20.94,2,     0.01,2,     2.59,3,    0.044,2,   0.0000,2,   2187.7,2,   2329.5,2,20170123,2135
06M220170104  ,A10.5      ,91      ,  1,91105.0    ,241967.0   ,5          ,2,20170123,2109, -34.4993, -32.5729,     4546,   3396.6,   2.1529,  34.8428,    233.7,2,    234.9,2,    60.74,2,    24.50,2,     0.00,2,     2.83,3,    0.056,2,   0.0790,2,   2213.5,2,   2341.2,2,20170123,2129
06M220170104  ,A10.5      ,91      ,  1,91104.0    ,241966.0   ,4          ,2,20170123,2109, -34.4993, -32.5729,     4546,   3804.1,   1.3002,  34.7519,    219.3,2,    219.3,2,    90.68,2,    30.55,2,     0.01,2,     3.62,3,    0.086,2,   0.0650,2,     -999,9,     -999,9,20170123,2122
06M220170104  ,A10.5      ,91      ,  1,91103.0    ,241965.0   ,3          ,2,20170123,2109, -34.4993, -32.5729,     4546,   4197.0,   0.6124,  34.6962,    218.3,2,    249.2,4,   107.30,2,    33.58,2,     0.01,2,     3.94,3,    0.173,2,   0.0730,2,   2263.9,2,   2366.7,2,20170123,2115
06M220170104  ,A10.5      ,91      ,  1,91102.0    ,241964.0   ,2          ,2,20170123,2109, -34.4993, -32.5729,     4546,   4536.3,   0.3500,  34.6777,    220.4,2,    218.2,2,    16.87,4,    28.71,3,     0.00,3,     3.12,3,    2.188,4,   1.5430,4,     -999,9,     -999,9,20170123,2110
06M220170104  ,A10.5      ,91      ,  1,91101.0    ,241963.0   ,1          ,2,20170123,2109, -34.4993, -32.5729,     4546,   4536.5,   0.3485,  34.6777,    220.3,2,    219.4,2,   114.82,2,    32.60,2,     0.01,2,     3.72,3,    0.223,2,   0.0620,2,   2268.4,2,   2366.0,2,20170123,2109
06M220170104  ,A10.5      ,92      ,  1,92122.0    ,242006.0   ,22         ,2,20170124,0237, -34.4997, -33.2277,     4573,      8.4,  20.7143,  35.5743,    229.9,2,    229.8,2,     0.94,3,    -0.03,3,     0.02,3,     0.11,3,    1.278,2,   1.6620,2,   2084.3,2,   2341.6,2,20170124,0355
06M220170104  ,A10.5      ,92      ,  1,92121.0    ,242005.0   ,21         ,2,20170124,0237, -34.4997, -33.2277,     4573,     23.1,  20.4761,  35.5696,    231.4,2,    230.6,2,     0.72,3,    -0.08,3,     0.00,3,     0.40,3,    1.367,2,   1.8290,2,   2090.4,2,   2343.4,2,20170124,0355
06M220170104  ,A10.5      ,92      ,  1,92120.0    ,242004.0   ,20         ,2,20170124,0237, -34.4997, -33.2277,     4573,     48.0,  17.5160,  35.6541,    248.6,2,    236.8,3,     1.00,3,     0.12,3,     0.01,3,     0.21,3,    1.495,2,   1.8810,2,   2093.0,2,   2346.7,2,20170124,0354
06M220170104  ,A10.5      ,92      ,  1,92119.0    ,242003.0   ,19         ,2,20170124,0237, -34.4997, -33.2277,     4573,     83.5,  15.4111,  35.6356,    233.3,2,    250.2,3,     1.11,3,     2.39,3,     0.17,3,     0.27,3,    1.575,2,   1.8540,2,   2115.4,2,   2345.8,2,20170124,0353
06M220170104  ,A10.5      ,92      ,  1,92118.0    ,242002.0   ,18         ,2,20170124,0237, -34.4997, -33.2277,     4573,    106.6,  15.1309,  35.6252,    232.7,2,    234.1,2,     1.31,3,     3.83,3,     0.02,3,     0.35,3,    1.605,2,   1.9220,2,   2125.9,2,   2344.2,2,20170124,0352
06M220170104  ,A10.5      ,92      ,  1,92117.0    ,242001.0   ,17         ,2,20170124,0237, -34.4997, -33.2277,     4573,    217.8,  14.6971,  35.5948,    236.8,2,      0.0,4,     -999,9,     -999,9,     -999,9,     -999,9,     -999,9,     -999,9,     -999,9,     -999,9,20170124,0350
06M220170104  ,A10.5      ,92      ,  1,92116.0    ,242000.0   ,16         ,2,20170124,0237, -34.4997, -33.2277,     4573,    337.9,  14.2660,  35.5276,    234.0,2,    232.4,2,     1.79,3,     5.83,3,     0.02,3,     0.48,3,    1.644,2,   1.8750,2,   2025.6,3,   2338.4,2,20170124,0348
06M220170104  ,A10.5      ,92      ,  1,92115.0    ,241999.0   ,15         ,2,20170124,0237, -34.4997, -33.2277,     4573,    458.0,  12.3864,  35.1613,    215.3,2,     -999,9,     -999,9,     -999,9,     -999,9,     -999,9,     -999,9,     -999,9,     -999,9,     -999,9,20170124,0346
06M220170104  ,A10.5      ,92      ,  1,92114.0    ,241998.0   ,14         ,2,20170124,0237, -34.4997, -33.2277,     4573,    558.0,   9.4656,  34.7288,    214.1,2,    213.5,2,     6.78,3,    21.08,3,     0.02,3,     1.44,3,     -999,9,     -999,9,   2151.2,2,   2299.0,2,20170124,0344
06M220170104  ,A10.5      ,92      ,  1,92113.0    ,241997.0   ,13         ,2,20170124,0237, -34.4997, -33.2277,     4573,    677.8,   6.1270,  34.3132,    244.1,2,    248.1,2,    11.28,3,    29.17,3,     0.01,3,     1.96,3,    1.953,2,   1.4760,2,   2162.2,2,     -999,9,20170124,0342
06M220170104  ,A10.5      ,92      ,  1,92112.0    ,241996.0   ,12         ,2,20170124,0237, -34.4997, -33.2277,     4573,    783.5,   4.8080,  34.1657,    264.6,2,    265.6,2,    11.19,3,    26.28,3,     0.00,3,     1.86,3,    2.493,4,   1.9950,2,   2173.9,2,   2278.3,2,20170124,0341
06M220170104  ,A10.5      ,92      ,  1,92111.0    ,241995.0   ,11         ,2,20170124,0237, -34.4997, -33.2277,     4573,    843.3,   4.5491,  34.1499,    267.1,2,    266.1,2,    14.78,3,    31.89,3,     0.01,3,     2.15,3,    2.438,4,   1.9650,2,     -999,9,     -999,9,20170124,0340
06M220170104  ,A10.5      ,92      ,  1,92110.0    ,241994.0   ,10         ,2,20170124,0237, -34.4997, -33.2277,     4573,   1097.4,   3.6624,  34.2439,    230.5,2,    228.5,2,    40.39,3,    44.34,3,     0.01,3,     3.14,3,    1.550,3,   0.9680,2,   2206.0,2,   2294.7,2,20170124,0335
06M220170104  ,A10.5      ,92      ,  1,92109.0    ,241993.0   ,9          ,2,20170124,0237, -34.4997, -33.2277,     4573,   1282.3,   3.1419,  34.3708,    200.1,2,    199.8,2,    54.53,3,    41.67,3,     0.00,3,     2.78,3,     -999,9,     -999,9,     -999,9,     -999,9,20170124,0332
06M220170104  ,A10.5      ,92      ,  1,92108.0    ,241992.0   ,8          ,2,20170124,0237, -34.4997, -33.2277,     4573,   1647.6,   2.8942,  34.6041,    186.6,2,     -999,9,     -999,9,     -999,9,     -999,9,     -999,9,     -999,9,     -999,9,     -999,9,     -999,9,20170124,0326
06M220170104  ,A10.5      ,92      ,  1,92107.0    ,241991.0   ,7          ,2,20170124,0237, -34.4997, -33.2277,     4573,   1648.9,   2.8938,  34.6055,    186.8,2,    186.1,2,    75.43,3,    43.09,3,     0.01,3,     3.24,3,     -999,9,     -999,9,   2248.8,2,   2330.8,2,20170124,0326
06M220170104  ,A10.5      ,92      ,  1,92106.0    ,241990.0   ,6          ,2,20170124,0237, -34.4997, -33.2277,     4573,   1998.7,   2.9492,  34.7571,    204.3,2,    203.3,2,    48.88,3,    28.38,3,     0.00,3,     2.01,3,     -999,9,     -999,9,   2230.0,2,   2332.8,2,20170124,0320
06M220170104  ,A10.5      ,92      ,  1,92105.0    ,241989.0   ,5          ,2,20170124,0237, -34.4997, -33.2277,     4573,   2228.0,   2.9445,  34.8233,    219.4,2,    218.6,2,    51.00,3,    29.72,3,     0.01,3,     1.92,3,     -999,9,     -999,9,     -999,9,     -999,9,20170124,0316
06M220170104  ,A10.5      ,92      ,  1,92104.0    ,241988.0   ,4          ,2,20170124,0237, -34.4997, -33.2277,     4573,   2897.1,   2.7856,  34.9022,    244.5,2,    244.6,2,    40.17,3,    25.23,3,     0.00,3,     1.76,3,     -999,9,     -999,9,   2206.9,2,   2331.3,2,20170124,0305
06M220170104  ,A10.5      ,92      ,  1,92103.0    ,241987.0   ,3          ,2,20170124,0237, -34.4997, -33.2277,     4573,   3590.3,   1.9877,  34.8291,    233.4,2,    235.6,2,    69.94,3,    29.21,3,     0.01,3,     1.97,3,     -999,9,     -999,9,   2216.9,2,   2346.4,2,20170124,0253
06M220170104  ,A10.5      ,92      ,  1,92102.0    ,241986.0   ,2          ,2,20170124,0237, -34.4997, -33.2277,     4573,   4097.5,   0.8269,  34.7122,    217.8,2,    217.7,2,   143.12,3,    40.16,3,     0.01,3,     3.04,3,     -999,9,     -999,9,   2271.0,2,   2365.9,2,20170124,0245
06M220170104  ,A10.5      ,92      ,  1,92101.0    ,241985.0   ,1          ,2,20170124,0237, -34.4997, -33.2277,     4573,   4563.1,   0.3618,  34.6780,    220.0,2,    234.0,4,   133.81,3,    37.37,3,     0.00,3,     2.68,3,     -999,9,     -999,9,   2270.7,2,   2369.6,2,20170124,0237
06M220170104  ,A10.5      ,93      ,  1,93122.0    ,242028.0   ,22         ,2,20170124,0749, -34.5000, -33.8820,     4277,      8.7,  21.7148,  35.4938,    226.1,2,    224.2,2,     1.14,2,    -0.04,2,     0.00,2,     0.03,2,    1.241,2,   1.5980,2,   2059.0,2,   2337.2,2,20170124,0832
06M220170104  ,A10.5      ,93      ,  1,93121.0    ,242027.0   ,21         ,2,20170124,0749, -34.5000, -33.8820,     4277,     22.5,  20.1752,  35.7016,    236.1,2,    224.4,3,     1.10,2,     0.20,2,     0.00,2,     0.04,2,    1.375,2,   1.7650,2,   2074.4,2,   2353.5,2,20170124,0832
06M220170104  ,A10.5      ,93      ,  1,93120.0    ,242026.0   ,20         ,2,20170124,0749, -34.5000, -33.8820,     4277,     47.7,  18.1727,  35.7404,    242.7,2,    241.5,2,     1.17,2,     0.20,2,     0.00,2,     0.07,2,    1.432,2,   1.8020,2,   2080.6,2,   2357.1,2,20170124,0831
06M220170104  ,A10.5      ,93      ,  1,93119.0    ,242025.0   ,19         ,2,20170124,0749, -34.5000, -33.8820,     4277,     66.7,  17.5394,  35.7286,    242.5,2,    241.2,2,     1.00,2,     0.21,2,     0.01,2,     0.08,2,    1.470,2,   1.8690,2,   2082.3,2,   2355.1,2,20170124,0830
06M220170104  ,A10.5      ,93      ,  1,93118.0    ,242024.0   ,18         ,2,20170124,0749, -34.5000, -33.8820,     4277,     87.5,  16.8839,  35.7354,    236.7,2,    232.9,2,     1.11,2,     0.46,2,     0.06,2,     0.15,2,    1.508,2,   1.7980,2,   2087.4,2,   2356.3,2,20170124,0829
06M220170104  ,A10.5      ,93      ,  1,93117.0    ,242023.0   ,17         ,2,20170124,0749, -34.5000, -33.8820,     4277,    178.0,  15.0395,  35.5451,    215.9,2,    216.7,2,     2.16,2,     5.60,2,     0.01,2,     0.44,2,    1.636,2,   1.7510,2,     -999,9,     -999,9,20170124,0827
06M220170104  ,A10.5      ,93      ,  1,93116.0    ,242022.0   ,16         ,2,20170124,0749, -34.5000, -33.8820,     4277,    246.8,  14.2705,  35.4463,    218.5,2,    218.1,2,     2.44,2,     7.00,2,     0.01,2,     0.52,2,    1.672,2,   1.7480,2,   2120.7,2,   2341.0,2,20170124,0826
06M220170104  ,A10.5      ,93      ,  1,93115.0    ,242021.0   ,15         ,2,20170124,0749, -34.5000, -33.8820,     4277,    397.0,  12.1840,  35.1192,    210.5,2,    210.8,2,     4.08,2,    12.50,2,     0.01,2,     0.85,2,    1.792,2,   1.5460,2,     -999,9,     -999,9,20170124,0824
06M220170104  ,A10.5      ,93      ,  1,93114.0    ,242020.0   ,14         ,2,20170124,0749, -34.5000, -33.8820,     4277,    496.1,   9.9341,  34.7932,    209.9,2,    209.5,2,     6.53,2,    18.27,2,     0.00,2,     1.19,2,    1.887,2,   1.3260,2,   2150.5,2,   2303.9,2,20170124,0822
06M220170104  ,A10.5      ,93      ,  1,93113.0    ,242019.0   ,13         ,2,20170124,0749, -34.5000, -33.8820,     4277,    595.8,   7.6545,  34.5122,    218.7,2,    218.2,2,     9.83,2,    23.66,2,     0.00,2,     1.48,2,    2.013,2,   1.3480,2,     -999,9,     -999,9,20170124,0820
06M220170104  ,A10.5      ,93      ,  1,93112.0    ,242018.0   ,12         ,2,20170124,0749, -34.5000, -33.8820,     4277,    697.1,   6.1062,  34.3534,    231.9,2,    232.6,2,    12.26,2,    24.88,2,     0.01,2,     1.66,2,    1.990,2,   1.3610,2,   2162.8,2,   2288.3,2,20170124,0819
06M220170104  ,A10.5      ,93      ,  1,93111.0    ,242017.0   ,11         ,2,20170124,0749, -34.5000, -33.8820,     4277,    796.6,   5.0619,  34.2853,    232.8,2,    232.5,2,    17.71,2,    28.38,2,     0.00,2,     1.83,2,    1.842,2,   1.0990,2,     -999,9,     -999,9,20170124,0817
06M220170104  ,A10.5      ,93      ,  1,93110.0    ,242016.0   ,10         ,2,20170124,0749, -34.5000, -33.8820,     4277,    895.3,   4.2603,  34.2495,    235.1,2,    232.4,2,    22.65,2,    29.81,2,     0.00,2,     1.86,2,    1.721,2,   0.9930,2,     -999,9,     -999,9,20170124,0815
06M220170104  ,A10.5      ,93      ,  1,93109.0    ,242015.0   ,9          ,2,20170124,0749, -34.5000, -33.8820,     4277,   1099.6,   3.4515,  34.2993,    216.5,2,    214.6,2,    35.68,2,    32.33,2,     0.00,2,     2.11,2,    1.150,2,   0.5990,2,   2206.8,2,   2295.5,2,20170124,0812
06M220170104  ,A10.5      ,93      ,  1,93108.0    ,242014.0   ,8          ,2,20170124,0749, -34.5000, -33.8820,     4277,   1297.2,   3.0895,  34.4143,    195.1,2,     -999,9,     -999,9,     -999,9,     -999,9,     -999,9,     -999,9,     -999,9,     -999,9,     -999,9,20170124,0809
06M220170104  ,A10.5      ,93      ,  1,93107.0    ,242013.0   ,7          ,2,20170124,0749, -34.5000, -33.8820,     4277,   1399.1,   3.0173,  34.4757,    190.2,2,    188.9,2,    51.04,2,    33.62,2,     0.00,2,     2.17,2,    0.412,2,   0.1470,2,     -999,9,     -999,9,20170124,0807
06M220170104  ,A10.5      ,93      ,  1,93106.0    ,242012.0   ,6          ,2,20170124,0749, -34.5000, -33.8820,     4277,   1468.9,   2.9158,  34.5104,    186.2,2,    185.3,2,    53.86,2,    33.94,2,     0.00,2,     2.18,2,    0.340,2,   0.1260,2,   2236.7,2,   2319.3,2,20170124,0806
06M220170104  ,A10.5      ,93      ,  1,93105.0    ,242011.0   ,5          ,2,20170124,0749, -34.5000, -33.8820,     4277,   1697.3,   2.8755,  34.6348,    189.7,2,    184.7,2,    56.58,2,    31.78,2,     0.00,2,     2.06,2,    0.148,2,   0.0540,2,   2233.3,2,   2324.5,2,20170124,0802
06M220170104  ,A10.5      ,93      ,  1,93104.0    ,242010.0   ,4          ,2,20170124,0749, -34.5000, -33.8820,     4277,   1805.5,   2.8816,  34.6973,    197.4,2,    195.7,2,    56.41,2,    30.26,2,     0.00,2,     1.96,2,    0.096,2,   0.0000,2,     -999,9,     -999,9,20170124,0800
06M220170104  ,A10.5      ,93      ,  1,93103.0    ,242009.0   ,3          ,2,20170124,0749, -34.5000, -33.8820,     4277,   1989.5,   2.9075,  34.7578,    206.0,2,    205.2,2,    50.82,2,    28.73,2,     0.00,2,     1.83,2,    0.064,2,   0.0000,2,   2220.3,2,   2326.5,2,20170124,0757
06M220170104  ,A10.5      ,93      ,  1,93101.0    ,242007.0   ,1          ,2,20170124,0749, -34.5000, -33.8820,     4277,   2460.7,   3.0059,  34.8840,    235.4,2,    234.3,2,    39.85,2,    23.84,2,     0.00,2,     1.52,2,    0.069,2,   0.0000,2,   2195.7,2,   2320.8,3,20170124,0749
06M220170104  ,A10.5      ,93      ,  1,93102.0    ,242008.0   ,2          ,2,20170124,0749, -34.5000, -33.8820,     4277,   2460.8,   3.0060,  34.8837,    235.4,2,    233.5,2,    37.38,2,    23.86,2,     0.00,2,     1.50,2,    0.070,2,   0.0000,2,     -999,9,     -999,9,20170124,0749