BOTTLE,20240228CCHSIOADS
EXPOCODE,SECT_ID,STNNBR,CASTNO,SAMPNO,BIONBR,BTLNBR,BTLNBR_FLAG_W,DATE,TIME,LATITUDE,LONGITUDE,DEPTH,CTDPRS,CTDTMP,CTDSAL,CTDOXY,CTDOXY_FLAG_W,OXYGEN,OXYGEN_FLAG_W,SILCAT,SILCAT_FLAG_W,NITRAT,NITRAT_FLAG_W,NITRIT,NITRIT_FLAG_W,PHSPHT,PHSPHT_FLAG_W,CFC-12,CFC-12_FLAG_W,SF6,SF6_FLAG_W,TCARBN,TCARBN_FLAG_W,ALKALI,ALKALI_FLAG_W,BTL_DATE,BTL_TIME
,,,,,,,,,,,,METERS,DBAR,ITS-90,PSS-78,UMOL/KG,,UMOL/KG,,UMOL/KG,,UMOL/KG,,UMOL/KG,,UMOL/KG,,PMOL/KG,,FMOL/KG,,UMOL/KG,,UMOL/KG,,,
06M220170104  ,A10.5      ,82      ,  1,82122.0    ,241786.0   ,22         ,2,20170121,1417, -34.4995, -27.3346,     4404,      9.1,  20.6147,  35.4721,    230.4,2,    230.7,2,     0.74,2,    -0.11,2,     0.00,2,     0.11,2,    1.325,2,   1.7130,2,   2064.3,2,   2331.8,2,20170121,1539
06M220170104  ,A10.5      ,82      ,  1,82121.0    ,241785.0   ,21         ,2,20170121,1417, -34.4995, -27.3346,     4404,     24.8,  19.9452,  35.5260,    234.7,2,    232.0,2,     0.96,2,    -0.14,2,     0.02,2,     0.12,2,     -999,9,     -999,9,   2065.8,2,   2336.7,2,20170121,1537
06M220170104  ,A10.5      ,82      ,  1,82120.0    ,241784.0   ,20         ,2,20170121,1417, -34.4995, -27.3346,     4404,     50.1,  18.1031,  35.6016,    245.2,2,    246.3,2,     1.09,2,    -0.11,2,     0.02,2,     0.21,2,    1.461,2,   1.8840,2,   2072.0,2,   2342.2,2,20170121,1536
06M220170104  ,A10.5      ,82      ,  1,82119.0    ,241783.0   ,19         ,2,20170121,1417, -34.4995, -27.3346,     4404,    111.0,  15.7402,  35.5861,    218.6,2,    217.0,2,     1.87,2,     4.39,2,     0.08,2,     0.48,2,    1.556,2,   1.7640,2,   2101.8,2,   2340.2,2,20170121,1531
06M220170104  ,A10.5      ,82      ,  1,82118.0    ,241782.0   ,18         ,2,20170121,1417, -34.4995, -27.3346,     4404,    257.7,  14.2478,  35.4749,    224.4,2,    223.2,3,     2.24,3,     6.92,2,     0.03,3,     0.59,2,    1.631,2,   1.7550,2,   2108.1,2,   2337.6,2,20170121,1526
06M220170104  ,A10.5      ,82      ,  1,82117.0    ,241781.0   ,17         ,2,20170121,1417, -34.4995, -27.3346,     4404,    297.1,  14.3932,  35.5469,    229.7,2,    229.1,2,     2.08,2,     6.25,2,     0.01,2,     0.56,2,    1.631,2,   1.7580,2,   2113.7,2,   2340.7,2,20170121,1525
06M220170104  ,A10.5      ,82      ,  1,82116.0    ,241780.0   ,16         ,2,20170121,1417, -34.4995, -27.3346,     4404,    348.3,  13.5599,  35.3720,    221.0,2,    221.2,2,     2.34,2,     7.79,2,     0.01,2,     0.70,2,    1.696,2,   1.7540,2,     -999,9,     -999,9,20170121,1525
06M220170104  ,A10.5      ,82      ,  1,82115.0    ,241779.0   ,15         ,2,20170121,1417, -34.4995, -27.3346,     4404,    495.4,  10.3483,  34.8438,    210.4,2,    212.0,2,     4.18,2,    13.70,2,     0.01,2,     1.10,2,    1.880,2,   1.4460,2,   2143.0,2,   2300.9,2,20170121,1522
06M220170104  ,A10.5      ,82      ,  1,82114.0    ,241778.0   ,14         ,2,20170121,1417, -34.4995, -27.3346,     4404,    615.2,   7.4606,  34.4844,    221.6,2,    222.4,2,    10.03,2,    23.67,2,     0.01,2,     1.61,2,    1.982,2,   1.4280,2,     -999,9,     -999,9,20170121,1520
06M220170104  ,A10.5      ,82      ,  1,82113.0    ,241777.0   ,13         ,2,20170121,1417, -34.4995, -27.3346,     4404,    776.1,   5.0242,  34.2296,    250.9,2,     -999,9,     -999,9,     -999,9,     -999,9,     -999,9,     -999,9,     -999,9,     -999,9,     -999,9,20170121,1517
06M220170104  ,A10.5      ,82      ,  1,82112.0    ,241776.0   ,12         ,2,20170121,1417, -34.4995, -27.3346,     4404,    938.5,   4.1629,  34.2316,    238.7,2,    239.7,2,    27.80,2,    38.05,3,     0.00,2,     3.02,3,     -999,9,     -999,9,   2169.5,2,   2287.1,2,20170121,1515
06M220170104  ,A10.5      ,82      ,  1,82111.0    ,241775.0   ,11         ,2,20170121,1417, -34.4995, -27.3346,     4404,   1177.6,   3.3448,  34.3229,    210.4,2,    211.6,2,     -999,9,     -999,9,     -999,9,     -999,9,    1.040,2,   0.5640,2,   2206.4,2,   2303.5,2,20170121,1511
06M220170104  ,A10.5      ,82      ,  1,82110.0    ,241774.0   ,10         ,2,20170121,1417, -34.4995, -27.3346,     4404,   1497.6,   2.9061,  34.5265,    187.0,2,    187.4,2,    64.51,2,    46.11,4,     0.02,2,     3.54,3,     -999,9,     -999,9,   2224.3,2,   2324.9,2,20170121,1505
06M220170104  ,A10.5      ,82      ,  1,82109.0    ,241773.0   ,9          ,2,20170121,1417, -34.4995, -27.3346,     4404,   1746.3,   2.8602,  34.6712,    192.7,2,    191.6,2,    62.70,2,    33.60,2,     0.00,2,     2.41,3,     -999,9,     -999,9,   2219.6,2,   2330.8,2,20170121,1501
06M220170104  ,A10.5      ,82      ,  1,82108.0    ,241772.0   ,8          ,2,20170121,1417, -34.4995, -27.3346,     4404,   1997.7,   2.8693,  34.7650,    207.4,2,     -999,9,     -999,9,     -999,9,     -999,9,     -999,9,     -999,9,     -999,9,     -999,9,     -999,9,20170121,1457
06M220170104  ,A10.5      ,82      ,  1,82107.0    ,241771.0   ,7          ,2,20170121,1417, -34.4995, -27.3346,     4404,   2247.5,   2.8837,  34.8295,    221.4,2,    222.1,2,    52.71,3,    29.46,3,     0.01,3,     2.22,3,     -999,9,     -999,9,     -999,9,     -999,9,20170121,1453
06M220170104  ,A10.5      ,82      ,  1,82106.0    ,241770.0   ,6          ,2,20170121,1417, -34.4995, -27.3346,     4404,   2498.6,   2.8219,  34.8661,    232.7,2,    229.2,3,     -999,9,     -999,9,     -999,9,     -999,9,     -999,9,     -999,9,   2180.4,2,   2330.1,2,20170121,1449
06M220170104  ,A10.5      ,82      ,  1,82105.0    ,241769.0   ,5          ,2,20170121,1417, -34.4995, -27.3346,     4404,   2659.8,   2.7918,  34.8782,    237.1,2,    238.4,2,    42.10,2,    23.60,2,     0.00,2,     1.88,3,     -999,9,     -999,9,     -999,9,     -999,9,20170121,1446
06M220170104  ,A10.5      ,82      ,  1,82104.0    ,241768.0   ,4          ,2,20170121,1417, -34.4995, -27.3346,     4404,   2819.4,   2.7502,  34.8855,    240.2,2,    241.0,2,    45.50,3,    24.79,3,     0.00,3,     1.85,3,     -999,9,     -999,9,   2187.2,2,   2331.3,2,20170121,1444
06M220170104  ,A10.5      ,82      ,  1,82103.0    ,241767.0   ,3          ,2,20170121,1417, -34.4995, -27.3346,     4404,   3495.3,   2.1915,  34.8542,    239.8,2,    236.0,3,    58.99,2,    25.33,2,     0.00,2,     1.91,2,     -999,9,     -999,9,   2211.5,2,   2340.7,2,20170121,1432
06M220170104  ,A10.5      ,82      ,  1,82102.0    ,241766.0   ,2          ,2,20170121,1417, -34.4995, -27.3346,     4404,   3925.3,   1.4756,  34.7809,    229.2,2,    230.6,2,    81.84,2,    27.66,2,     0.01,2,     2.11,2,     -999,9,     -999,9,   2238.4,2,   2353.5,2,20170121,1425
06M220170104  ,A10.5      ,82      ,  1,82101.0    ,241765.0   ,1          ,2,20170121,1417, -34.4995, -27.3346,     4404,   4386.9,   0.6903,  34.7020,    219.6,2,    220.9,2,   124.48,2,    35.01,2,     0.02,2,     2.63,3,     -999,9,     -999,9,   2269.6,2,   2365.2,2,20170121,1417
06M220170104  ,A10.5      ,83      ,  1,83122.0    ,241808.0   ,22         ,2,20170121,1958, -34.4997, -27.9884,     4504,      6.8,  21.2632,  35.5035,    228.1,2,    229.9,2,     0.62,2,     0.01,2,     0.01,2,     0.22,3,    1.253,2,   1.6440,2,   2057.7,2,   2335.4,2,20170121,2114
06M220170104  ,A10.5      ,83      ,  1,83121.0    ,241807.0   ,21         ,2,20170121,1958, -34.4997, -27.9884,     4504,     22.5,  19.9381,  35.5112,    236.2,2,    238.8,2,     0.61,2,     0.12,2,     0.00,2,     0.20,3,    1.377,2,   1.8330,2,   2061.9,2,   2338.8,2,20170121,2113
06M220170104  ,A10.5      ,83      ,  1,83120.0    ,241806.0   ,20         ,2,20170121,1958, -34.4997, -27.9884,     4504,     47.6,  18.2174,  35.7293,    243.2,2,    244.2,2,     0.61,2,     0.05,2,     0.00,2,     0.13,3,    1.447,2,   1.7750,2,   2070.5,2,   2347.3,2,20170121,2112
06M220170104  ,A10.5      ,83      ,  1,83119.0    ,241805.0   ,19         ,2,20170121,1958, -34.4997, -27.9884,     4504,     82.4,  16.4964,  35.6275,    238.5,2,    237.0,2,     0.88,2,     0.53,2,     0.06,2,     0.41,3,    1.537,2,   1.7740,2,   2094.2,2,   2342.7,2,20170121,2111
06M220170104  ,A10.5      ,83      ,  1,83118.0    ,241804.0   ,18         ,2,20170121,1958, -34.4997, -27.9884,     4504,    199.0,  14.7884,  35.5409,    226.3,2,    228.1,2,     1.74,2,     4.91,2,     0.01,2,     1.04,3,    1.603,2,   1.7730,2,   2118.5,2,   2338.4,2,20170121,2109
06M220170104  ,A10.5      ,83      ,  1,83117.0    ,241803.0   ,17         ,2,20170121,1958, -34.4997, -27.9884,     4504,    295.6,  14.0663,  35.4442,    222.2,2,     -999,9,     -999,9,     -999,9,     -999,9,     -999,9,     -999,9,     -999,9,     -999,9,     -999,9,20170121,2107
06M220170104  ,A10.5      ,83      ,  1,83116.0    ,241802.0   ,16         ,2,20170121,1958, -34.4997, -27.9884,     4504,    395.8,  12.4569,  35.1612,    212.0,2,    212.9,2,     3.90,2,    12.59,2,     0.01,2,     2.06,3,    1.803,2,   1.5720,2,   2143.5,2,   2318.0,2,20170121,2106
06M220170104  ,A10.5      ,83      ,  1,83115.0    ,241801.0   ,15         ,2,20170121,1958, -34.4997, -27.9884,     4504,    495.7,  10.2832,  34.8358,    211.2,2,    213.7,2,     5.74,2,    16.66,2,     0.00,2,     2.72,3,    1.908,2,   1.4730,2,   2150.0,2,   2298.3,2,20170121,2104
06M220170104  ,A10.5      ,83      ,  1,83114.0    ,241800.0   ,14         ,2,20170121,1958, -34.4997, -27.9884,     4504,    646.9,   7.1713,  34.4770,    215.4,2,    217.1,2,    12.38,2,    24.03,2,     0.00,2,     3.86,3,    1.891,2,   1.1410,2,     -999,9,     -999,9,20170121,2102
06M220170104  ,A10.5      ,83      ,  1,83113.0    ,241799.0   ,13         ,2,20170121,1958, -34.4997, -27.9884,     4504,    698.3,   5.9907,  34.3296,    235.8,2,    236.7,2,    12.12,2,    24.50,2,     0.00,2,     3.99,3,    2.054,2,   1.4570,2,     -999,9,     -999,9,20170121,2101
06M220170104  ,A10.5      ,83      ,  1,83112.0    ,241798.0   ,12         ,2,20170121,1958, -34.4997, -27.9884,     4504,    794.2,   4.8568,  34.2249,    249.7,2,    252.2,2,    14.36,2,    24.78,2,     0.01,2,     3.97,3,    2.142,2,   1.5460,2,   2170.8,2,   2281.8,2,20170121,2059
06M220170104  ,A10.5      ,83      ,  1,83111.0    ,241797.0   ,11         ,2,20170121,1958, -34.4997, -27.9884,     4504,    998.3,   3.9137,  34.2471,    231.8,2,    233.5,2,    27.14,2,    29.46,2,     0.00,2,     4.46,3,    1.492,2,   0.8380,2,   2192.0,2,   2291.2,2,20170121,2056
06M220170104  ,A10.5      ,83      ,  1,83110.0    ,241796.0   ,10         ,2,20170121,1958, -34.4997, -27.9884,     4504,   1541.1,   2.8876,  34.5468,    186.6,2,    187.8,2,    57.67,2,    31.93,2,     0.00,2,     4.62,3,    0.265,2,   0.1350,2,   2238.9,2,   2324.9,2,20170121,2047
06M220170104  ,A10.5      ,83      ,  1,83109.0    ,241795.0   ,9          ,2,20170121,1958, -34.4997, -27.9884,     4504,   1996.9,   2.8834,  34.7671,    207.1,2,    208.7,2,    52.20,2,    26.40,2,     0.01,2,     4.01,3,    0.059,2,   0.0000,2,   2221.6,2,   2331.3,2,20170121,2039
06M220170104  ,A10.5      ,83      ,  1,83108.0    ,241794.0   ,8          ,2,20170121,1958, -34.4997, -27.9884,     4504,   2246.1,   2.8643,  34.8279,    221.6,2,     -999,9,     -999,9,     -999,9,     -999,9,     -999,9,     -999,9,     -999,9,     -999,9,     -999,9,20170121,2035
06M220170104  ,A10.5      ,83      ,  1,83107.0    ,241793.0   ,7          ,2,20170121,1958, -34.4997, -27.9884,     4504,   2495.0,   2.8293,  34.8665,    233.1,2,    234.6,2,    43.34,2,    23.15,2,     0.00,2,     3.43,3,    0.026,2,   0.0000,2,   2199.8,2,   2330.4,2,20170121,2031
06M220170104  ,A10.5      ,83      ,  1,83106.0    ,241792.0   ,6          ,2,20170121,1958, -34.4997, -27.9884,     4504,   2747.7,   2.7685,  34.8861,    239.9,2,    242.6,2,    41.00,2,    21.64,2,     0.01,2,     3.28,3,    0.031,2,   0.0000,2,     -999,9,     -999,9,20170121,2027
06M220170104  ,A10.5      ,83      ,  1,83105.0    ,241791.0   ,5          ,2,20170121,1958, -34.4997, -27.9884,     4504,   2998.2,   2.6473,  34.8887,    243.1,2,    244.8,2,    46.01,2,    22.97,2,     0.00,2,     3.43,3,    0.023,2,   0.0000,2,   2194.4,2,   2330.7,2,20170121,2023
06M220170104  ,A10.5      ,83      ,  1,83104.0    ,241790.0   ,4          ,2,20170121,1958, -34.4997, -27.9884,     4504,   3499.3,   2.1263,  34.8449,    237.3,2,    239.6,2,    63.54,2,    25.42,2,     0.02,2,     4.06,3,    0.060,2,   0.0000,2,   2213.8,2,   2342.9,2,20170121,2015
06M220170104  ,A10.5      ,83      ,  1,83103.0    ,241789.0   ,3          ,2,20170121,1958, -34.4997, -27.9884,     4504,   4000.0,   1.3077,  34.7601,    224.7,2,    227.0,2,    89.23,2,    28.06,2,     0.02,2,     4.04,3,    0.085,2,   0.0000,2,   2243.7,2,   2355.3,2,20170121,2007
06M220170104  ,A10.5      ,83      ,  1,83101.0    ,241787.0   ,1          ,2,20170121,1958, -34.4997, -27.9884,     4504,   4493.9,   0.7584,  34.7056,    219.3,2,    229.6,4,   116.41,2,    31.91,2,     0.02,2,     4.37,3,    0.172,2,   0.0000,2,   2263.6,2,   2363.0,2,20170121,1958
06M220170104  ,A10.5      ,83      ,  1,83102.0    ,241788.0   ,2          ,2,20170121,1958, -34.4997, -27.9884,     4504,   4494.3,   0.7586,  34.7056,    219.2,2,     -999,9,     -999,9,     -999,9,     -999,9,     -999,9,     -999,9,     -999,9,     -999,9,     -999,9,20170121,1958
06M220170104  ,A10.5      ,84      ,  1,84122.0    ,241830.0   ,22         ,2,20170122,0135, -34.4994, -28.6437,     4985,      7.9,  21.7726,  35.5559,    225.4,2,     -999,9,     1.12,2,     0.22,2,     0.00,2,    -0.01,2,     -999,9,     -999,9,   2057.5,2,   2341.2,2,20170122,0258
06M220170104  ,A10.5      ,84      ,  1,84121.0    ,241829.0   ,21         ,2,20170122,0135, -34.4994, -28.6437,     4985,     24.4,  20.6782,  35.6422,    232.3,2,    228.8,2,     1.21,2,     0.21,2,     0.00,2,    -0.01,2,     -999,9,     -999,9,   2057.4,2,   2343.6,2,20170122,0257
06M220170104  ,A10.5      ,84      ,  1,84120.0    ,241828.0   ,20         ,2,20170122,0135, -34.4994, -28.6437,     4985,     48.0,  18.8050,  35.7269,    241.4,2,    233.2,3,     1.40,2,     0.28,2,     0.01,2,     0.03,2,     -999,9,     -999,9,   2068.2,2,   2351.8,2,20170122,0256
06M220170104  ,A10.5      ,84      ,  1,84119.0    ,241827.0   ,19         ,2,20170122,0135, -34.4994, -28.6437,     4985,    102.9,  16.5316,  35.6350,    228.5,2,    240.4,3,     -999,9,     -999,9,     -999,9,     -999,9,     -999,9,     -999,9,     -999,9,     -999,9,20170122,0255
06M220170104  ,A10.5      ,84      ,  1,84118.0    ,241826.0   ,18         ,2,20170122,0135, -34.4994, -28.6437,     4985,    161.6,  15.3011,  35.5646,    221.9,2,    271.7,4,     2.19,2,     5.05,2,     0.02,2,     0.40,2,     -999,9,     -999,9,   2114.8,2,   2341.1,2,20170122,0254
06M220170104  ,A10.5      ,84      ,  1,84117.0    ,241825.0   ,17         ,2,20170122,0135, -34.4994, -28.6437,     4985,    276.8,  14.8330,  35.6366,    231.6,2,    232.8,2,     2.29,2,     5.84,2,     0.03,2,     0.40,2,     -999,9,     -999,9,     -999,9,     -999,9,20170122,0252
06M220170104  ,A10.5      ,84      ,  1,84116.0    ,241824.0   ,16         ,2,20170122,0135, -34.4994, -28.6437,     4985,    366.5,  13.9322,  35.4405,    222.8,2,     -999,9,     2.74,2,     8.13,2,     0.01,2,     0.52,2,     -999,9,     -999,9,   2128.4,2,   2335.0,2,20170122,0250
06M220170104  ,A10.5      ,84      ,  1,84115.0    ,241823.0   ,15         ,2,20170122,0135, -34.4994, -28.6437,     4985,    486.9,  11.1042,  34.9588,    210.4,2,    212.8,2,     5.15,2,    14.90,2,     0.01,2,     0.90,2,     -999,9,     -999,9,     -999,9,     -999,9,20170122,0248
06M220170104  ,A10.5      ,84      ,  1,84114.0    ,241822.0   ,14         ,2,20170122,0135, -34.4994, -28.6437,     4985,    576.6,   9.3608,  34.7301,    209.1,2,    211.7,2,     9.22,2,    24.18,2,     0.01,2,     1.54,2,     -999,9,     -999,9,   2157.4,2,   2298.6,2,20170122,0247
06M220170104  ,A10.5      ,84      ,  1,84113.0    ,241821.0   ,13         ,2,20170122,0135, -34.4994, -28.6437,     4985,    676.9,   6.9115,  34.4353,    223.8,2,    226.2,2,    11.72,2,    25.51,2,     0.00,2,     1.58,2,     -999,9,     -999,9,     -999,9,     -999,9,20170122,0245
06M220170104  ,A10.5      ,84      ,  1,84112.0    ,241820.0   ,12         ,2,20170122,0135, -34.4994, -28.6437,     4985,    727.0,   5.8305,  34.2961,    237.9,2,    240.0,2,    12.85,2,    27.56,2,     0.02,2,     1.72,2,     -999,9,     -999,9,     -999,9,     -999,9,20170122,0244
06M220170104  ,A10.5      ,84      ,  1,84111.0    ,241819.0   ,11         ,2,20170122,0135, -34.4994, -28.6437,     4985,    877.2,   4.4519,  34.2197,    246.0,2,    247.3,2,    20.30,2,    32.76,2,     0.02,2,     2.05,2,     -999,9,     -999,9,   2176.0,2,   2285.0,2,20170122,0242
06M220170104  ,A10.5      ,84      ,  1,84110.0    ,241818.0   ,10         ,2,20170122,0135, -34.4994, -28.6437,     4985,    997.5,   3.9203,  34.2305,    236.5,2,     -999,9,     -999,9,     -999,9,     -999,9,     -999,9,     -999,9,     -999,9,     -999,9,     -999,9,20170122,0240
06M220170104  ,A10.5      ,84      ,  1,84109.0    ,241817.0   ,9          ,2,20170122,0135, -34.4994, -28.6437,     4985,   1158.8,   3.4109,  34.2989,    215.5,2,    216.8,2,    37.44,2,    34.11,2,     0.00,2,     2.15,2,     -999,9,     -999,9,   2203.6,2,   2301.2,2,20170122,0237
06M220170104  ,A10.5      ,84      ,  1,84108.0    ,241816.0   ,8          ,2,20170122,0135, -34.4994, -28.6437,     4985,   1567.8,   2.8878,  34.5564,    186.6,2,     -999,9,    56.44,2,    35.30,2,     0.01,2,     2.25,2,     -999,9,     -999,9,   2236.2,2,   2327.5,2,20170122,0230
06M220170104  ,A10.5      ,84      ,  1,84107.0    ,241815.0   ,7          ,2,20170122,0135, -34.4994, -28.6437,     4985,   1569.0,   2.8874,  34.5570,    186.7,2,     -999,9,    55.79,2,    34.87,2,     0.00,2,     2.22,2,     -999,9,     -999,9,     -999,9,     -999,9,20170122,0230
06M220170104  ,A10.5      ,84      ,  1,84106.0    ,241814.0   ,6          ,2,20170122,0135, -34.4994, -28.6437,     4985,   2196.5,   2.9364,  34.8207,    218.1,2,    219.6,2,    50.06,2,    28.47,2,     0.01,2,     1.79,2,     -999,9,     -999,9,   2200.9,2,   2333.2,2,20170122,0220
06M220170104  ,A10.5      ,84      ,  1,84105.0    ,241813.0   ,5          ,2,20170122,0135, -34.4994, -28.6437,     4985,   2796.8,   2.8083,  34.8930,    240.8,2,    243.4,2,    39.42,2,    23.46,2,     0.00,2,     1.44,2,     -999,9,     -999,9,   2191.4,2,   2331.0,2,20170122,0210
06M220170104  ,A10.5      ,84      ,  1,84104.0    ,241812.0   ,4          ,2,20170122,0135, -34.4994, -28.6437,     4985,   3297.3,   2.3453,  34.8626,    237.6,2,    240.3,2,    49.00,2,    23.96,2,     0.02,2,     1.57,2,     -999,9,     -999,9,     -999,9,     -999,9,20170122,0202
06M220170104  ,A10.5      ,84      ,  1,84103.0    ,241811.0   ,3          ,2,20170122,0135, -34.4994, -28.6437,     4985,   3797.6,   1.4102,  34.7659,    222.7,2,    224.2,2,    95.03,2,    32.14,2,     0.01,2,     2.04,2,     -999,9,     -999,9,   2236.5,2,   2355.6,2,20170122,0154
06M220170104  ,A10.5      ,84      ,  1,84102.0    ,241810.0   ,2          ,2,20170122,0135, -34.4994, -28.6437,     4985,   4396.3,   0.8003,  34.7099,    219.4,2,    220.4,2,   128.65,2,    37.64,2,     0.01,2,     2.52,2,     -999,9,     -999,9,   2255.2,2,   2368.4,2,20170122,0144
06M220170104  ,A10.5      ,84      ,  1,84101.0    ,241809.0   ,1          ,2,20170122,0135, -34.4994, -28.6437,     4985,   4975.1,   0.7371,  34.6990,    218.7,2,    220.2,2,   120.84,2,    34.80,2,     0.02,2,     2.35,2,     -999,9,     -999,9,   2256.8,2,   2365.4,2,20170122,0135