BOTTLE,20240228CCHSIOADS
EXPOCODE,SECT_ID,STNNBR,CASTNO,SAMPNO,BIONBR,BTLNBR,BTLNBR_FLAG_W,DATE,TIME,LATITUDE,LONGITUDE,DEPTH,CTDPRS,CTDTMP,CTDSAL,CTDOXY,CTDOXY_FLAG_W,OXYGEN,OXYGEN_FLAG_W,SILCAT,SILCAT_FLAG_W,NITRAT,NITRAT_FLAG_W,NITRIT,NITRIT_FLAG_W,PHSPHT,PHSPHT_FLAG_W,CFC-12,CFC-12_FLAG_W,SF6,SF6_FLAG_W,TCARBN,TCARBN_FLAG_W,ALKALI,ALKALI_FLAG_W,BTL_DATE,BTL_TIME
,,,,,,,,,,,,METERS,DBAR,ITS-90,PSS-78,UMOL/KG,,UMOL/KG,,UMOL/KG,,UMOL/KG,,UMOL/KG,,UMOL/KG,,PMOL/KG,,FMOL/KG,,UMOL/KG,,UMOL/KG,,,
06M220170104  ,A10.5      ,35      ,  1,35122.0    ,240748.0   ,22         ,2,20170111,1254, -34.5001,   2.1374,     5007,      9.4,  20.5577,  35.6416,    232.4,2,     -999,9,     0.95,3,    -0.12,3,     0.02,3,     0.05,3,    1.250,2,   1.6910,2,   2093.1,2,   2355.2,2,20170111,1418
06M220170104  ,A10.5      ,35      ,  1,35121.0    ,240747.0   ,21         ,2,20170111,1254, -34.5001,   2.1374,     5007,     48.9,  18.1249,  35.6779,    251.0,2,     -999,9,     3.23,3,     0.44,3,     0.04,3,     0.32,3,    1.397,2,   1.7660,2,   2088.4,2,   2357.0,2,20170111,1415
06M220170104  ,A10.5      ,35      ,  1,35120.0    ,240746.0   ,20         ,2,20170111,1254, -34.5001,   2.1374,     5007,     89.9,  16.4278,  35.5528,    241.0,2,     -999,9,     2.03,3,     1.16,3,     0.08,3,     0.17,3,    1.440,2,   1.8370,2,   2087.9,2,   2344.6,2,20170111,1414
06M220170104  ,A10.5      ,35      ,  1,35119.0    ,240745.0   ,19         ,2,20170111,1254, -34.5001,   2.1374,     5007,    147.2,  15.4074,  35.3939,    231.6,2,     -999,9,     2.48,3,     4.26,3,     0.03,3,     0.41,3,    1.485,2,   1.7680,2,     -999,9,     -999,9,20170111,1412
06M220170104  ,A10.5      ,35      ,  1,35118.0    ,240744.0   ,18         ,2,20170111,1254, -34.5001,   2.1374,     5007,    287.8,  13.1148,  35.1948,    218.1,2,     -999,9,     3.30,3,    10.62,3,     0.01,3,     0.64,3,    1.652,2,   1.7330,2,   2129.5,2,   2324.7,2,20170111,1410
06M220170104  ,A10.5      ,35      ,  1,35117.0    ,240743.0   ,17         ,2,20170111,1254, -34.5001,   2.1374,     5007,    386.6,  11.9086,  35.0531,    216.0,2,     -999,9,     7.49,3,    24.31,3,     0.06,3,     1.75,3,    1.700,2,   1.6520,2,     -999,9,     -999,9,20170111,1408
06M220170104  ,A10.5      ,35      ,  1,35116.0    ,240742.0   ,16         ,2,20170111,1254, -34.5001,   2.1374,     5007,    447.3,  11.0078,  34.9273,    214.7,2,     -999,9,     4.84,3,    17.31,3,     0.03,3,     1.06,3,    1.785,2,   1.6400,2,   2144.3,2,   2311.2,2,20170111,1407
06M220170104  ,A10.5      ,35      ,  1,35115.0    ,240741.0   ,15         ,2,20170111,1254, -34.5001,   2.1374,     5007,    547.5,   8.8717,  34.6507,    214.1,2,     -999,9,     6.56,3,    15.44,3,     0.03,3,     1.18,3,    1.793,2,   1.1320,3,     -999,9,     -999,9,20170111,1406
06M220170104  ,A10.5      ,35      ,  1,35114.0    ,240740.0   ,14         ,2,20170111,1254, -34.5001,   2.1374,     5007,    606.9,   7.8993,  34.5570,    201.7,2,    200.8,2,    11.80,3,    24.42,3,     0.01,3,     1.42,3,    1.695,2,   1.1790,2,     -999,9,     -999,9,20170111,1405
06M220170104  ,A10.5      ,35      ,  1,35113.0    ,240739.0   ,13         ,2,20170111,1254, -34.5001,   2.1374,     5007,    748.3,   5.7695,  34.3700,    210.2,2,    209.8,2,    19.73,3,    29.34,3,     0.03,3,     1.89,3,    1.603,2,   0.9840,2,   2185.3,2,   2296.3,2,20170111,1403
06M220170104  ,A10.5      ,35      ,  1,35112.0    ,240738.0   ,12         ,2,20170111,1254, -34.5001,   2.1374,     5007,    866.6,   4.7281,  34.3327,    208.6,2,    208.0,2,    23.54,3,    27.31,3,     0.02,3,     1.72,3,    1.318,2,   0.7080,2,     -999,9,     -999,9,20170111,1401
06M220170104  ,A10.5      ,35      ,  1,35111.0    ,240737.0   ,11         ,2,20170111,1254, -34.5001,   2.1374,     5007,    977.4,   4.2554,  34.3404,    204.2,2,    203.9,2,    35.33,3,    34.72,3,     0.01,3,     2.26,3,    1.108,2,   0.5480,2,   2207.4,2,   2305.0,2,20170111,1359
06M220170104  ,A10.5      ,35      ,  1,35110.0    ,240736.0   ,10         ,2,20170111,1254, -34.5001,   2.1374,     5007,   1311.9,   3.1051,  34.4893,    186.6,2,    182.9,3,    58.93,3,    41.77,3,     0.02,3,     2.70,3,     -999,9,     -999,9,   2231.2,2,   2320.0,2,20170111,1353
06M220170104  ,A10.5      ,35      ,  1,35109.0    ,240735.0   ,9          ,2,20170111,1254, -34.5001,   2.1374,     5007,   1497.6,   2.9695,  34.6030,    184.5,2,    180.7,3,    72.93,3,    43.49,3,     0.00,3,     2.52,3,     -999,9,     -999,9,   2243.4,2,   2334.3,2,20170111,1350
06M220170104  ,A10.5      ,35      ,  1,35108.0    ,240734.0   ,8          ,2,20170111,1254, -34.5001,   2.1374,     5007,   1740.7,   2.9513,  34.7075,    194.5,2,    194.4,2,    52.48,3,    31.17,3,     0.01,3,     1.84,3,     -999,9,     -999,9,     -999,9,     -999,9,20170111,1347
06M220170104  ,A10.5      ,35      ,  1,35107.0    ,240733.0   ,7          ,2,20170111,1254, -34.5001,   2.1374,     5007,   1997.2,   2.7742,  34.7788,    207.4,2,    206.6,2,    60.46,3,    33.81,3,     0.01,3,     2.36,3,     -999,9,     -999,9,   2225.8,2,   2341.0,2,20170111,1342
06M220170104  ,A10.5      ,35      ,  1,35106.0    ,240732.0   ,6          ,2,20170111,1254, -34.5001,   2.1374,     5007,   2498.2,   2.5109,  34.8357,    225.6,2,    225.7,2,    69.26,3,    34.06,3,     0.01,3,     2.34,3,     -999,9,     -999,9,     -999,9,     -999,9,20170111,1334
06M220170104  ,A10.5      ,35      ,  1,35105.0    ,240731.0   ,5          ,2,20170111,1254, -34.5001,   2.1374,     5007,   2996.7,   2.3423,  34.8555,    233.2,2,    248.1,4,    80.95,3,    40.92,3,     0.01,3,     2.64,3,     -999,9,     -999,9,   2214.0,2,   2348.2,2,20170111,1326
06M220170104  ,A10.5      ,35      ,  1,35104.0    ,240730.0   ,4          ,2,20170111,1254, -34.5001,   2.1374,     5007,   3497.8,   2.2557,  34.8637,    233.6,2,    232.2,2,    91.73,3,    43.50,3,     0.01,3,     3.36,3,     -999,9,     -999,9,   2213.5,2,   2351.4,2,20170111,1318
06M220170104  ,A10.5      ,35      ,  1,35103.0    ,240729.0   ,3          ,2,20170111,1254, -34.5001,   2.1374,     5007,   4247.2,   1.3547,  34.7587,    220.2,2,    216.8,3,   139.79,3,    58.11,3,     0.04,3,     4.03,3,     -999,9,     -999,9,   2254.4,2,   2369.6,2,20170111,1306
06M220170104  ,A10.5      ,35      ,  1,35102.0    ,240728.0   ,2          ,2,20170111,1254, -34.5001,   2.1374,     5007,   4694.5,   1.1541,  34.7362,    218.6,2,    217.9,2,   144.91,3,    54.79,3,     0.02,3,     3.86,3,     -999,9,     -999,9,   2263.3,2,   2369.6,2,20170111,1259
06M220170104  ,A10.5      ,35      ,  1,35101.0    ,240727.0   ,1          ,2,20170111,1254, -34.5001,   2.1374,     5007,   4996.9,   1.1322,  34.7307,    218.2,2,    218.2,2,   159.35,3,    58.97,3,     0.04,3,     3.64,3,     -999,9,     -999,9,   2263.7,2,   2371.8,2,20170111,1254
06M220170104  ,A10.5      ,36      ,  1,36122.0    ,240770.0   ,22         ,2,20170111,1900, -34.4997,   1.4827,     4949,      5.2,  19.8313,  35.3062,    235.5,2,    237.4,2,     1.89,3,    -0.14,3,     0.02,3,     0.31,3,    1.281,2,   1.7490,2,   2080.1,2,   2331.2,2,20170111,2021
06M220170104  ,A10.5      ,36      ,  1,36121.0    ,240769.0   ,21         ,2,20170111,1900, -34.4997,   1.4827,     4949,     38.3,  18.7403,  35.3942,    240.8,2,    244.7,2,     2.14,3,     0.03,3,     0.02,3,     0.31,3,    1.404,2,   1.8730,2,   2080.6,2,   2333.2,2,20170111,2020
06M220170104  ,A10.5      ,36      ,  1,36120.0    ,240768.0   ,20         ,2,20170111,1900, -34.4997,   1.4827,     4949,     87.1,  15.1137,  35.2719,    251.5,2,    251.1,2,     2.52,3,     0.94,3,     0.29,3,     0.47,3,    1.522,2,   1.9310,2,   2089.0,2,   2329.9,2,20170111,2019
06M220170104  ,A10.5      ,36      ,  1,36119.0    ,240767.0   ,19         ,2,20170111,1900, -34.4997,   1.4827,     4949,    106.4,  14.6326,  35.1996,    246.7,2,    246.3,2,     2.22,3,     4.09,3,     0.86,3,     0.64,3,    1.562,2,   1.9670,2,     -999,9,     -999,9,20170111,2018
06M220170104  ,A10.5      ,36      ,  1,36118.0    ,240766.0   ,18         ,2,20170111,1900, -34.4997,   1.4827,     4949,    146.1,  14.0455,  35.1593,    241.2,2,    239.7,2,     2.39,3,     6.88,3,     0.06,3,     0.68,3,    1.582,2,   1.9630,2,   2111.3,2,   2323.4,2,20170111,2017
06M220170104  ,A10.5      ,36      ,  1,36117.0    ,240765.0   ,17         ,2,20170111,1900, -34.4997,   1.4827,     4949,    196.3,  13.5248,  35.1271,    243.7,2,    239.1,2,     2.46,3,     7.32,3,     0.02,3,     0.60,3,    1.637,2,   1.9840,2,   2114.6,2,   2319.9,2,20170111,2017
06M220170104  ,A10.5      ,36      ,  1,36116.0    ,240764.0   ,16         ,2,20170111,1900, -34.4997,   1.4827,     4949,    250.6,  13.2541,  35.1985,    225.1,2,    223.7,2,     4.50,3,    15.45,3,     0.02,3,     1.18,3,    1.657,2,   1.7540,2,     -999,9,     -999,9,20170111,2016
06M220170104  ,A10.5      ,36      ,  1,36115.0    ,240763.0   ,15         ,2,20170111,1900, -34.4997,   1.4827,     4949,    328.1,  12.4321,  35.1242,    219.8,2,    219.4,2,     5.60,3,    20.10,3,     0.02,3,     1.29,3,    1.709,2,   1.7250,2,     -999,9,     -999,9,20170111,2014
06M220170104  ,A10.5      ,36      ,  1,36114.0    ,240762.0   ,14         ,2,20170111,1900, -34.4997,   1.4827,     4949,    436.6,  10.4762,  34.8459,    206.4,2,    207.2,2,     8.16,3,    21.65,3,     0.00,3,     1.28,3,    1.715,2,   1.3590,2,   2155.4,2,   2302.9,2,20170111,2013
06M220170104  ,A10.5      ,36      ,  1,36113.0    ,240761.0   ,13         ,2,20170111,1900, -34.4997,   1.4827,     4949,    536.7,   8.9956,  34.6775,    196.3,2,    197.0,2,    18.43,3,    41.64,3,     0.02,3,     2.75,3,    1.709,2,   1.1980,2,   2164.8,2,   2298.5,2,20170111,2011
06M220170104  ,A10.5      ,36      ,  1,36112.0    ,240760.0   ,12         ,2,20170111,1900, -34.4997,   1.4827,     4949,    695.9,   6.3137,  34.4116,    207.7,2,    208.6,2,    28.99,3,    49.84,3,     0.01,3,     3.69,3,    1.651,2,   1.0230,2,     -999,9,     -999,9,20170111,2008
06M220170104  ,A10.5      ,36      ,  1,36111.0    ,240759.0   ,11         ,2,20170111,1900, -34.4997,   1.4827,     4949,    843.5,   4.7003,  34.2995,    220.5,2,    220.4,2,    33.77,3,    48.92,3,     0.01,3,     3.27,3,    1.543,2,   0.9940,2,   2183.8,2,   2293.5,2,20170111,2006
06M220170104  ,A10.5      ,36      ,  1,36110.0    ,240758.0   ,10         ,2,20170111,1900, -34.4997,   1.4827,     4949,   1036.8,   3.8814,  34.3655,    197.6,2,    197.3,2,    65.78,3,    65.51,3,     0.05,3,     4.29,3,    0.912,2,   0.4600,2,   2207.2,2,   2305.3,2,20170111,2003
06M220170104  ,A10.5      ,36      ,  1,36109.0    ,240757.0   ,9          ,2,20170111,1900, -34.4997,   1.4827,     4949,   1477.7,   2.8811,  34.5666,    188.0,2,    187.7,2,    84.04,3,    64.52,3,     0.04,4,     4.36,3,    0.280,2,   0.1290,2,   2227.5,2,   2326.6,2,20170111,1956
06M220170104  ,A10.5      ,36      ,  1,36108.0    ,240756.0   ,8          ,2,20170111,1900, -34.4997,   1.4827,     4949,   1946.6,   2.8038,  34.7595,    204.3,2,    205.5,2,    56.72,3,    28.51,3,     0.01,3,     1.95,3,    0.063,2,   0.0000,2,   2220.6,2,   2332.6,2,20170111,1948
06M220170104  ,A10.5      ,36      ,  1,36107.0    ,240755.0   ,7          ,2,20170111,1900, -34.4997,   1.4827,     4949,   2494.4,   2.5474,  34.8314,    223.0,2,    222.4,2,    77.09,3,    43.77,3,     0.02,3,     2.56,3,    0.022,2,   0.0000,2,   2205.2,2,   2337.5,2,20170111,1939
06M220170104  ,A10.5      ,36      ,  1,36106.0    ,240754.0   ,6          ,2,20170111,1900, -34.4997,   1.4827,     4949,   2997.8,   2.3524,  34.8476,    231.8,2,    231.2,2,    77.04,3,    37.77,3,     0.01,3,     2.53,3,    0.018,2,   0.0000,2,   2209.4,2,   2342.0,2,20170111,1931
06M220170104  ,A10.5      ,36      ,  1,36105.0    ,240753.0   ,5          ,2,20170111,1900, -34.4997,   1.4827,     4949,   3497.5,   2.1315,  34.8390,    230.9,2,    231.0,2,    94.31,3,    46.20,3,     0.02,3,     2.73,3,    0.017,2,   0.0000,2,     -999,9,     -999,9,20170111,1923
06M220170104  ,A10.5      ,36      ,  1,36104.0    ,240752.0   ,4          ,2,20170111,1900, -34.4997,   1.4827,     4949,   3997.3,   1.4339,  34.7678,    221.0,2,    221.3,2,   114.38,3,    45.80,3,     0.01,3,     3.07,3,    0.035,2,   0.0000,2,   2233.3,2,   2363.3,2,20170111,1915
06M220170104  ,A10.5      ,36      ,  1,36103.0    ,240751.0   ,3          ,2,20170111,1900, -34.4997,   1.4827,     4949,   4424.0,   1.1456,  34.7384,    218.7,2,    218.1,2,   113.37,3,    43.24,3,     0.01,3,     2.62,3,    0.053,2,   0.0000,2,   2245.2,2,   2368.2,2,20170111,1908
06M220170104  ,A10.5      ,36      ,  1,36102.0    ,240750.0   ,2          ,2,20170111,1900, -34.4997,   1.4827,     4949,   4938.6,   1.1206,  34.7305,    218.3,2,    219.4,2,   144.89,3,    51.03,3,     0.01,3,     3.46,3,    0.064,2,   0.0000,2,     -999,9,     -999,9,20170111,1900
06M220170104  ,A10.5      ,36      ,  1,36101.0    ,240749.0   ,1          ,2,20170111,1900, -34.4997,   1.4827,     4949,   4938.8,   1.1205,  34.7305,    218.1,2,    216.4,2,   175.34,3,    59.40,3,     0.02,3,     3.92,3,    0.074,2,   0.0000,2,   2252.8,2,   2372.3,2,20170111,1900
06M220170104  ,A10.5      ,37      ,  1,37122.0    ,240792.0   ,22         ,2,20170112,0050, -34.4998,   0.8281,     4703,      8.2,  21.3566,  35.8207,    227.8,2,    226.1,2,     1.73,2,     0.15,2,     0.01,2,     0.19,2,    1.205,2,   1.6410,2,   2087.3,2,   2352.5,2,20170112,0204
06M220170104  ,A10.5      ,37      ,  1,37121.0    ,240791.0   ,21         ,2,20170112,0050, -34.4998,   0.8281,     4703,     49.0,  17.9711,  35.6688,    250.9,2,    250.7,2,     1.87,2,     0.12,2,     0.01,2,     0.17,2,     -999,9,     -999,9,   2080.0,2,   2340.7,2,20170112,0203
06M220170104  ,A10.5      ,37      ,  1,37120.0    ,240790.0   ,20         ,2,20170112,0050, -34.4998,   0.8281,     4703,     81.9,  16.5399,  35.5630,    242.7,2,    239.4,2,     2.36,2,     1.10,2,     0.07,2,     0.28,2,    1.438,2,   1.8000,2,   2088.7,2,   2334.0,2,20170112,0202
06M220170104  ,A10.5      ,37      ,  1,37119.0    ,240789.0   ,19         ,2,20170112,0050, -34.4998,   0.8281,     4703,    117.5,  15.9472,  35.4840,    233.1,2,    231.3,2,     2.46,2,     2.82,2,     0.06,2,     0.32,2,     -999,9,     -999,9,     -999,9,     -999,9,20170112,0201
06M220170104  ,A10.5      ,37      ,  1,37118.0    ,240788.0   ,18         ,2,20170112,0050, -34.4998,   0.8281,     4703,    177.1,  14.5308,  35.2803,    222.3,2,    218.8,2,     3.79,2,     6.87,2,     0.02,2,     0.71,2,    1.579,2,   1.8450,2,   2114.9,2,   2317.3,2,20170112,0200
06M220170104  ,A10.5      ,37      ,  1,37117.0    ,240787.0   ,17         ,2,20170112,0050, -34.4998,   0.8281,     4703,    227.4,  13.4972,  35.1951,    217.5,2,    217.8,2,     3.37,2,     7.35,2,     0.01,2,     0.62,2,     -999,9,     -999,9,     -999,9,     -999,9,20170112,0159
06M220170104  ,A10.5      ,37      ,  1,37116.0    ,240786.0   ,16         ,2,20170112,0050, -34.4998,   0.8281,     4703,    276.8,  12.9243,  35.1733,    216.8,2,    229.8,4,     2.67,2,     8.07,2,     0.01,2,     0.66,2,     -999,9,     -999,9,   2126.2,2,   2315.6,2,20170112,0158
06M220170104  ,A10.5      ,37      ,  1,37115.0    ,240785.0   ,15         ,2,20170112,0050, -34.4998,   0.8281,     4703,    346.8,  12.1044,  35.0778,    215.8,2,    214.8,2,     3.76,2,    11.27,2,     0.00,2,     0.85,2,    1.733,2,   1.6520,2,   2138.7,2,   2319.0,2,20170112,0157
06M220170104  ,A10.5      ,37      ,  1,37114.0    ,240784.0   ,14         ,2,20170112,0050, -34.4998,   0.8281,     4703,    436.9,  10.2991,  34.8318,    214.2,2,    213.2,2,     4.90,2,    15.46,2,     0.00,2,     1.11,2,    1.807,2,   1.5460,2,     -999,9,     -999,9,20170112,0156
06M220170104  ,A10.5      ,37      ,  1,37113.0    ,240783.0   ,13         ,2,20170112,0050, -34.4998,   0.8281,     4703,    498.6,   8.8658,  34.6546,    213.4,2,    212.5,2,     4.52,2,    15.83,2,     0.00,2,     1.10,2,    1.831,2,   1.3790,2,   2158.4,2,   2290.6,2,20170112,0155
06M220170104  ,A10.5      ,37      ,  1,37112.0    ,240782.0   ,12         ,2,20170112,0050, -34.4998,   0.8281,     4703,    575.8,   7.1364,  34.4581,    220.0,2,    219.6,2,    11.62,2,    22.29,2,     0.01,2,     1.66,2,     -999,9,     -999,9,     -999,9,     -999,9,20170112,0153
06M220170104  ,A10.5      ,37      ,  1,37111.0    ,240781.0   ,11         ,2,20170112,0050, -34.4998,   0.8281,     4703,    698.4,   5.3652,  34.2889,    233.6,2,    233.6,2,    13.79,2,    23.38,2,     0.00,2,     1.62,2,    1.906,2,   1.2870,2,   2172.9,2,   2286.9,2,20170112,0151
06M220170104  ,A10.5      ,37      ,  1,37110.0    ,240780.0   ,10         ,2,20170112,0050, -34.4998,   0.8281,     4703,    817.2,   4.5135,  34.2641,    230.4,2,    230.3,2,    22.02,2,    26.78,2,     0.00,2,     1.76,2,    1.684,2,   1.0540,2,   2184.2,2,   2281.0,2,20170112,0149
06M220170104  ,A10.5      ,37      ,  1,37109.0    ,240779.0   ,9          ,2,20170112,0050, -34.4998,   0.8281,     4703,    885.5,   4.1148,  34.2609,    228.3,2,    228.2,2,    23.75,2,    27.73,2,     0.00,2,     1.97,2,    1.518,2,   0.8570,2,   2192.4,2,   2301.5,2,20170112,0148
06M220170104  ,A10.5      ,37      ,  1,37108.0    ,240778.0   ,8          ,2,20170112,0050, -34.4998,   0.8281,     4703,   1498.6,   2.8838,  34.5840,    186.6,2,    185.7,2,    67.35,2,    33.11,2,     0.02,2,     2.40,2,    0.237,2,   0.0990,2,   2239.3,2,   2323.7,2,20170112,0139
06M220170104  ,A10.5      ,37      ,  1,37107.0    ,240777.0   ,7          ,2,20170112,0050, -34.4998,   0.8281,     4703,   2298.5,   2.5859,  34.8192,    220.0,2,    219.3,2,    52.65,2,    24.15,2,     0.01,2,     1.87,2,     -999,9,     -999,9,   2219.4,2,   2339.4,2,20170112,0126
06M220170104  ,A10.5      ,37      ,  1,37106.0    ,240776.0   ,6          ,2,20170112,0050, -34.4998,   0.8281,     4703,   2546.6,   2.4955,  34.8366,    226.6,2,    225.4,2,    53.91,2,    22.86,2,     0.00,2,     1.66,2,     -999,9,     -999,9,   2215.8,2,   2332.3,2,20170112,0122
06M220170104  ,A10.5      ,37      ,  1,37105.0    ,240775.0   ,5          ,2,20170112,0050, -34.4998,   0.8281,     4703,   2977.4,   2.3562,  34.8514,    232.6,2,    232.3,2,    53.07,2,    22.04,2,     0.02,2,     1.50,2,     -999,9,     -999,9,     -999,9,     -999,9,20170112,0115
06M220170104  ,A10.5      ,37      ,  1,37104.0    ,240774.0   ,4          ,2,20170112,0050, -34.4998,   0.8281,     4703,   3198.8,   2.2765,  34.8487,    232.3,2,    231.6,2,    56.80,2,    22.95,2,     0.00,2,     1.58,2,     -999,9,     -999,9,   2211.8,2,   2338.2,2,20170112,0112
06M220170104  ,A10.5      ,37      ,  1,37103.0    ,240773.0   ,3          ,2,20170112,0050, -34.4998,   0.8281,     4703,   3496.3,   2.1665,  34.8462,    232.0,2,    231.8,2,    61.09,2,    22.75,2,     0.00,2,     1.41,2,     -999,9,     -999,9,   2223.6,2,   2349.6,2,20170112,0107
06M220170104  ,A10.5      ,37      ,  1,37102.0    ,240772.0   ,2          ,2,20170112,0050, -34.4998,   0.8281,     4703,   3999.2,   1.3919,  34.7652,    221.1,2,    221.0,2,    88.53,2,    26.56,2,     0.02,2,     1.77,2,     -999,9,     -999,9,   2263.8,2,   2370.6,2,20170112,0059
06M220170104  ,A10.5      ,37      ,  1,37101.0    ,240771.0   ,1          ,2,20170112,0050, -34.4998,   0.8281,     4703,   4562.6,   1.1108,  34.7338,    218.6,2,    216.8,2,   102.72,2,    28.55,2,     0.01,2,     2.13,2,     -999,9,     -999,9,   2271.6,2,   2377.7,2,20170112,0050