BOTTLE,20240228CCHSIOADS
EXPOCODE,SECT_ID,STNNBR,CASTNO,SAMPNO,BIONBR,BTLNBR,BTLNBR_FLAG_W,DATE,TIME,LATITUDE,LONGITUDE,DEPTH,CTDPRS,CTDTMP,CTDSAL,CTDOXY,CTDOXY_FLAG_W,OXYGEN,OXYGEN_FLAG_W,SILCAT,SILCAT_FLAG_W,NITRAT,NITRAT_FLAG_W,NITRIT,NITRIT_FLAG_W,PHSPHT,PHSPHT_FLAG_W,CFC-12,CFC-12_FLAG_W,SF6,SF6_FLAG_W,TCARBN,TCARBN_FLAG_W,ALKALI,ALKALI_FLAG_W,BTL_DATE,BTL_TIME
,,,,,,,,,,,,METERS,DBAR,ITS-90,PSS-78,UMOL/KG,,UMOL/KG,,UMOL/KG,,UMOL/KG,,UMOL/KG,,UMOL/KG,,PMOL/KG,,FMOL/KG,,UMOL/KG,,UMOL/KG,,,
06M220170104  ,A10.5      ,24      ,  1,24122.0    ,240528.0   ,22         ,2,20170108,2007, -34.4996,   8.6865,     5181,      8.9,  20.6321,  35.6883,    231.8,2,    233.1,2,     1.55,2,     0.41,2,     0.00,2,     0.18,2,    1.218,2,   1.6310,2,   2079.2,2,   2352.2,2,20170108,2133
06M220170104  ,A10.5      ,24      ,  1,24121.0    ,240527.0   ,21         ,2,20170108,2007, -34.4996,   8.6865,     5181,     22.0,  20.2964,  35.6969,    234.4,2,    238.2,2,     2.03,2,     0.41,2,     0.01,2,     0.16,2,    1.274,2,   1.6970,2,   2078.5,2,   2346.8,2,20170108,2133
06M220170104  ,A10.5      ,24      ,  1,24120.0    ,240526.0   ,20         ,2,20170108,2007, -34.4996,   8.6865,     5181,     47.1,  16.8555,  35.4663,    258.2,2,    258.0,2,     1.98,2,     0.42,2,     0.01,2,     0.21,2,    1.426,2,   1.8320,2,   2076.1,2,   2339.3,2,20170108,2132
06M220170104  ,A10.5      ,24      ,  1,24119.0    ,240525.0   ,19         ,2,20170108,2007, -34.4996,   8.6865,     5181,     80.3,  15.7848,  35.4074,    247.5,2,    247.4,2,     2.11,2,     1.20,2,     0.10,2,     0.27,2,    1.450,2,   1.8980,2,     -999,9,     -999,9,20170108,2131
06M220170104  ,A10.5      ,24      ,  1,24118.0    ,240524.0   ,18         ,2,20170108,2007, -34.4996,   8.6865,     5181,    146.3,  14.5360,  35.2234,    226.2,2,    225.5,2,     2.50,2,     4.60,2,     0.02,2,     0.45,2,    1.531,2,   1.8480,2,   2112.6,2,   2318.8,2,20170108,2129
06M220170104  ,A10.5      ,24      ,  1,24117.0    ,240523.0   ,17         ,2,20170108,2007, -34.4996,   8.6865,     5181,    225.7,  13.2503,  35.1534,    216.8,2,    218.0,2,     3.28,2,     8.10,2,     0.01,2,     0.67,2,    1.610,2,   1.7400,2,     -999,9,     -999,9,20170108,2128
06M220170104  ,A10.5      ,24      ,  1,24116.0    ,240522.0   ,16         ,2,20170108,2007, -34.4996,   8.6865,     5181,    297.2,  12.2627,  35.0731,    214.2,2,    217.8,2,     4.74,2,    11.82,2,     0.01,2,     0.78,2,    1.660,2,   1.5650,2,   2137.5,2,   2313.6,2,20170108,2127
06M220170104  ,A10.5      ,24      ,  1,24115.0    ,240521.0   ,15         ,2,20170108,2007, -34.4996,   8.6865,     5181,    377.2,  10.9832,  34.9064,    214.8,2,    215.1,2,     6.67,2,    16.13,2,     0.00,2,     1.10,2,    1.704,2,   1.5350,2,     -999,9,     -999,9,20170108,2126
06M220170104  ,A10.5      ,24      ,  1,24114.0    ,240520.0   ,14         ,2,20170108,2007, -34.4996,   8.6865,     5181,    456.4,   9.8336,  34.7635,    209.5,2,    212.8,2,     9.08,2,    20.15,2,     0.00,2,     1.33,2,    1.723,2,   1.3870,2,     -999,9,     -999,9,20170108,2124
06M220170104  ,A10.5      ,24      ,  1,24113.0    ,240519.0   ,13         ,2,20170108,2007, -34.4996,   8.6865,     5181,    526.8,   8.6005,  34.6261,    205.4,2,    206.5,2,    12.42,2,    23.50,2,     0.00,2,     1.64,2,    1.736,2,   1.2450,2,   2165.4,2,   2294.0,2,20170108,2123
06M220170104  ,A10.5      ,24      ,  1,24112.0    ,240518.0   ,12         ,2,20170108,2007, -34.4996,   8.6865,     5181,    597.5,   7.2431,  34.4850,    208.3,2,    212.5,2,    11.89,3,    26.97,2,     0.01,2,     1.52,3,    1.739,2,   1.2250,2,     -999,9,     -999,9,20170108,2122
06M220170104  ,A10.5      ,24      ,  1,24111.0    ,240517.0   ,11         ,2,20170108,2007, -34.4996,   8.6865,     5181,    755.7,   4.5593,  34.2251,    241.8,2,    242.9,2,    22.65,2,    33.40,2,     0.00,2,     2.44,2,    1.851,2,   1.3300,2,   2180.8,2,   2285.0,2,20170108,2119
06M220170104  ,A10.5      ,24      ,  1,24110.0    ,240516.0   ,10         ,2,20170108,2007, -34.4996,   8.6865,     5181,   1107.8,   3.4733,  34.3933,    194.7,2,    197.0,2,    46.95,2,    32.92,3,     0.01,2,     2.52,2,    0.747,2,   0.3920,2,   2224.0,2,   2312.0,2,20170108,2114
06M220170104  ,A10.5      ,24      ,  1,24109.0    ,240515.0   ,9          ,2,20170108,2007, -34.4996,   8.6865,     5181,   1483.4,   2.9219,  34.6040,    184.1,2,    188.0,2,    85.83,3,    42.09,4,     0.00,4,     3.29,4,    0.197,2,   0.1190,2,     -999,9,     -999,9,20170108,2107
06M220170104  ,A10.5      ,24      ,  1,24108.0    ,240514.0   ,8          ,2,20170108,2007, -34.4996,   8.6865,     5181,   1485.8,   2.9222,  34.6040,    184.1,2,    185.7,2,    76.85,2,    38.93,3,     0.01,4,     3.16,4,    0.196,2,   0.0740,2,   2239.8,2,   2330.8,2,20170108,2107
06M220170104  ,A10.5      ,24      ,  1,24107.0    ,240513.0   ,7          ,2,20170108,2007, -34.4996,   8.6865,     5181,   1997.6,   2.8232,  34.7908,    207.9,2,    211.4,2,    57.27,2,    28.98,2,     0.02,2,     1.94,2,     -999,9,     -999,9,   2223.2,2,   2336.9,2,20170108,2059
06M220170104  ,A10.5      ,24      ,  1,24106.0    ,240512.0   ,6          ,2,20170108,2007, -34.4996,   8.6865,     5181,   2596.1,   2.5123,  34.8423,    226.2,2,    229.3,2,    54.43,2,    25.17,2,     0.00,2,     1.73,2,    0.016,2,   0.0000,2,   2213.5,2,   2336.0,2,20170108,2049
06M220170104  ,A10.5      ,24      ,  1,24105.0    ,240511.0   ,5          ,2,20170108,2007, -34.4996,   8.6865,     5181,   3197.0,   2.2892,  34.8510,    231.2,2,    234.8,2,    60.35,2,    25.40,2,     0.00,2,     1.72,2,    0.011,2,   0.0000,2,   2215.6,2,   2347.2,2,20170108,2039
06M220170104  ,A10.5      ,24      ,  1,24104.0    ,240510.0   ,4          ,2,20170108,2007, -34.4996,   8.6865,     5181,   3596.4,   2.0544,  34.8312,    228.0,2,    231.1,2,    63.34,2,    25.88,2,     0.01,2,     1.37,3,    0.016,2,   0.0000,2,     -999,9,     -999,9,20170108,2033
06M220170104  ,A10.5      ,24      ,  1,24103.0    ,240509.0   ,3          ,2,20170108,2007, -34.4996,   8.6865,     5181,   4095.3,   1.3690,  34.7611,    220.6,2,    222.2,2,   112.13,3,    30.79,2,     0.00,2,     2.49,3,    0.038,2,   0.0000,2,   2251.3,2,   2363.1,2,20170108,2025
06M220170104  ,A10.5      ,24      ,  1,24102.0    ,240508.0   ,2          ,2,20170108,2007, -34.4996,   8.6865,     5181,   4597.2,   1.1666,  34.7386,    218.8,2,    223.4,2,   104.16,2,    30.95,3,     0.01,2,     1.88,3,    0.061,2,   0.0000,2,   2260.1,2,   2368.0,2,20170108,2017
06M220170104  ,A10.5      ,24      ,  1,24101.0    ,240507.0   ,1          ,2,20170108,2007, -34.4996,   8.6865,     5181,   5170.7,   1.1474,  34.7297,    218.5,2,     -999,9,     -999,9,     -999,9,     -999,9,     -999,9,     -999,9,     -999,9,     -999,9,     -999,9,20170108,2007
06M220170104  ,A10.5      ,25      ,  1,25122.0    ,240550.0   ,22         ,2,20170109,0203, -34.4984,   8.0296,     5265,      6.2,  19.2088,  35.0072,    243.8,2,    245.0,2,     1.31,2,     0.43,3,     0.02,2,     0.20,2,    1.305,2,   1.7190,2,   2041.5,2,   2317.5,2,20170109,0333
06M220170104  ,A10.5      ,25      ,  1,25121.0    ,240549.0   ,21         ,2,20170109,0203, -34.4984,   8.0296,     5265,     23.2,  18.3658,  34.9596,    248.5,2,    258.0,3,     1.17,2,     0.53,3,     0.03,2,     0.16,2,     -999,9,     -999,9,   2050.1,2,   2313.6,2,20170109,0332
06M220170104  ,A10.5      ,25      ,  1,25120.0    ,240548.0   ,20         ,2,20170109,0203, -34.4984,   8.0296,     5265,     48.5,  14.0903,  34.9894,    258.5,2,    255.6,2,     1.49,2,     1.87,3,     0.31,2,     0.28,2,    1.576,2,   2.0280,2,   2071.7,2,   2312.8,2,20170109,0332
06M220170104  ,A10.5      ,25      ,  1,25119.0    ,240547.0   ,19         ,2,20170109,0203, -34.4984,   8.0296,     5265,     98.4,  13.7556,  35.0415,    245.3,2,    247.7,2,     1.71,2,     4.12,3,     0.04,2,     0.36,2,    1.583,2,   2.0030,2,   2083.0,2,   2315.7,2,20170109,0330
06M220170104  ,A10.5      ,25      ,  1,25118.0    ,240546.0   ,18         ,2,20170109,0203, -34.4984,   8.0296,     5265,    176.4,  13.0113,  35.0600,    233.3,2,    233.0,2,     2.30,2,     7.88,3,     0.02,2,     0.43,2,     -999,9,     -999,9,     -999,9,     -999,9,20170109,0329
06M220170104  ,A10.5      ,25      ,  1,25117.0    ,240545.0   ,17         ,2,20170109,0203, -34.4984,   8.0296,     5265,    248.1,  12.3586,  35.0823,    223.2,2,    223.4,2,     3.17,2,    10.97,3,     0.01,2,     0.65,2,    1.709,2,   1.8420,2,   2113.5,2,   2318.5,2,20170109,0327
06M220170104  ,A10.5      ,25      ,  1,25116.0    ,240544.0   ,16         ,2,20170109,0203, -34.4984,   8.0296,     5265,    369.3,  10.2445,  34.8048,    219.9,2,    221.1,2,     5.54,2,    18.78,3,     0.02,2,     1.09,2,     -999,9,     -999,9,   2133.3,2,   2307.0,2,20170109,0325
06M220170104  ,A10.5      ,25      ,  1,25115.0    ,240543.0   ,15         ,2,20170109,0203, -34.4984,   8.0296,     5265,    551.9,   6.8876,  34.4128,    225.2,2,    222.3,2,     8.26,2,    25.52,3,     0.02,2,     1.47,2,    1.894,2,   1.4680,2,   2147.1,2,   2284.6,2,20170109,0322
06M220170104  ,A10.5      ,25      ,  1,25114.0    ,240542.0   ,14         ,2,20170109,0203, -34.4984,   8.0296,     5265,    652.3,   5.4836,  34.2994,    232.1,2,    232.5,2,    11.78,2,    28.08,3,     0.01,2,     1.59,2,     -999,9,     -999,9,     -999,9,     -999,9,20170109,0320
06M220170104  ,A10.5      ,25      ,  1,25113.0    ,240541.0   ,13         ,2,20170109,0203, -34.4984,   8.0296,     5265,    741.9,   4.5077,  34.2208,    241.9,2,    239.5,2,    15.94,2,    33.48,3,     0.03,2,     1.76,2,    1.906,2,   1.3640,2,     -999,9,     -999,9,20170109,0319
06M220170104  ,A10.5      ,25      ,  1,25112.0    ,240540.0   ,12         ,2,20170109,0203, -34.4984,   8.0296,     5265,    884.2,   3.8653,  34.2475,    230.0,2,    231.5,2,    22.44,2,    28.24,3,     0.02,4,     1.95,2,    1.502,2,   0.9220,2,   2177.3,2,   2293.0,2,20170109,0316
06M220170104  ,A10.5      ,25      ,  1,25111.0    ,240539.0   ,11         ,2,20170109,0203, -34.4984,   8.0296,     5265,   1038.3,   3.3787,  34.3232,    210.0,2,    211.3,2,    68.71,3,    52.44,3,     0.05,2,     3.70,3,    0.999,2,   0.4920,2,   2211.8,2,   2308.6,2,20170109,0314
06M220170104  ,A10.5      ,25      ,  1,25110.0    ,240538.0   ,10         ,2,20170109,0203, -34.4984,   8.0296,     5265,   1268.8,   3.0004,  34.4524,    190.1,2,    192.3,2,    91.34,3,    57.35,3,     0.03,2,     4.11,3,    0.510,2,   0.2170,2,   2214.7,2,   2321.4,2,20170109,0310
06M220170104  ,A10.5      ,25      ,  1,25109.0    ,240537.0   ,9          ,2,20170109,0203, -34.4984,   8.0296,     5265,   1511.3,   2.8969,  34.6231,    185.8,2,    190.0,2,    84.51,3,    51.00,3,     0.02,2,     3.79,3,     -999,9,     -999,9,   2215.9,2,   2331.9,2,20170109,0306
06M220170104  ,A10.5      ,25      ,  1,25108.0    ,240536.0   ,8          ,2,20170109,0203, -34.4984,   8.0296,     5265,   1736.1,   2.8933,  34.7340,    195.5,2,    199.0,2,    91.16,3,    43.08,3,     0.03,2,     3.25,3,     -999,9,     -999,9,     -999,9,     -999,9,20170109,0302
06M220170104  ,A10.5      ,25      ,  1,25107.0    ,240535.0   ,7          ,2,20170109,0203, -34.4984,   8.0296,     5265,   1996.6,   2.7983,  34.7931,    209.2,2,    211.6,2,    79.05,3,    36.57,3,     0.01,2,     2.78,3,     -999,9,     -999,9,   2221.7,2,   2335.0,2,20170109,0258
06M220170104  ,A10.5      ,25      ,  1,25106.0    ,240534.0   ,6          ,2,20170109,0203, -34.4984,   8.0296,     5265,   2497.5,   2.5940,  34.8442,    225.4,2,    228.4,2,    74.35,3,    35.51,3,     0.02,2,     2.59,3,     -999,9,     -999,9,   2211.5,2,   2339.0,2,20170109,0249
06M220170104  ,A10.5      ,25      ,  1,25105.0    ,240533.0   ,5          ,2,20170109,0203, -34.4984,   8.0296,     5265,   2997.1,   2.3736,  34.8488,    229.8,2,    235.8,2,    88.22,3,    39.96,3,     0.02,2,     2.90,3,     -999,9,     -999,9,   2210.7,2,   2348.8,2,20170109,0241
06M220170104  ,A10.5      ,25      ,  1,25104.0    ,240532.0   ,4          ,2,20170109,0203, -34.4984,   8.0296,     5265,   3497.1,   2.2068,  34.8465,    230.6,2,    233.6,2,    91.33,3,    38.15,3,     0.01,2,     2.63,3,     -999,9,     -999,9,   2224.1,2,   2352.0,2,20170109,0232
06M220170104  ,A10.5      ,25      ,  1,25103.0    ,240531.0   ,3          ,2,20170109,0203, -34.4984,   8.0296,     5265,   3996.4,   1.6988,  34.7922,    223.1,2,    226.3,2,   113.21,3,    38.68,3,     0.01,2,     2.70,3,     -999,9,     -999,9,     -999,9,     -999,9,20170109,0224
06M220170104  ,A10.5      ,25      ,  1,25102.0    ,240530.0   ,2          ,2,20170109,0203, -34.4984,   8.0296,     5265,   4498.3,   1.2174,  34.7441,    219.2,2,    221.9,2,   165.59,3,    43.03,3,     0.02,2,     3.64,3,     -999,9,     -999,9,   2256.0,2,   2368.8,2,20170109,0215
06M220170104  ,A10.5      ,25      ,  1,25101.0    ,240529.0   ,1          ,2,20170109,0203, -34.4984,   8.0296,     5265,   5254.6,   1.1736,  34.7309,    218.7,2,     -999,9,     -999,9,     -999,9,     -999,9,     -999,9,     -999,9,     -999,9,     -999,9,     -999,9,20170109,0203
06M220170104  ,A10.5      ,26      ,  1,26122.0    ,240572.0   ,22         ,2,20170109,0742, -34.5080,   7.4482,     5302,      8.4,  18.8054,  34.8551,    246.3,2,    245.8,2,     0.32,2,    -0.16,2,     0.03,2,     0.11,2,    1.385,2,   1.8180,2,   2052.2,2,   2310.2,2,20170109,0915
06M220170104  ,A10.5      ,26      ,  1,26121.0    ,240571.0   ,21         ,2,20170109,0742, -34.5080,   7.4482,     5302,     52.3,  14.7130,  35.1233,    258.5,2,    256.4,2,     0.59,2,     0.36,2,     0.19,2,     0.16,2,    1.568,2,   2.0400,2,   2087.8,2,   2321.1,2,20170109,0913
06M220170104  ,A10.5      ,26      ,  1,26120.0    ,240570.0   ,20         ,2,20170109,0742, -34.5080,   7.4482,     5302,     97.9,  13.9619,  35.0615,    245.4,2,    246.1,2,     0.70,2,     2.81,2,     0.21,2,     0.27,2,    1.612,2,   1.9970,2,   2098.3,2,   2315.4,2,20170109,0911
06M220170104  ,A10.5      ,26      ,  1,26119.0    ,240569.0   ,19         ,2,20170109,0742, -34.5080,   7.4482,     5302,    138.2,  13.3253,  35.0167,    242.2,2,    244.5,2,     1.15,2,     5.32,2,     0.04,2,     0.43,2,    1.677,2,   2.1340,2,   2105.4,2,   2308.7,2,20170109,0910
06M220170104  ,A10.5      ,26      ,  1,26118.0    ,240568.0   ,18         ,2,20170109,0742, -34.5080,   7.4482,     5302,    175.6,  12.7692,  34.9603,    241.1,2,    241.6,2,     1.63,2,     7.92,2,     0.03,2,     0.57,2,    1.707,2,   2.0510,2,   2112.5,2,   2318.4,3,20170109,0909
06M220170104  ,A10.5      ,26      ,  1,26117.0    ,240567.0   ,17         ,2,20170109,0742, -34.5080,   7.4482,     5302,    266.6,  12.4572,  35.1046,    221.6,2,    223.7,2,     3.18,2,    12.66,2,     0.03,2,     0.96,2,    1.730,2,   1.8100,2,   2132.0,2,   2315.6,2,20170109,0908
06M220170104  ,A10.5      ,26      ,  1,26116.0    ,240566.0   ,16         ,2,20170109,0742, -34.5080,   7.4482,     5302,    396.7,  10.2389,  34.8194,    215.6,2,    218.0,2,     6.27,2,    20.44,2,     0.03,2,     1.43,2,    1.802,2,   1.6840,2,   2148.2,2,   2297.4,2,20170109,0906
06M220170104  ,A10.5      ,26      ,  1,26115.0    ,240565.0   ,15         ,2,20170109,0742, -34.5080,   7.4482,     5302,    527.0,   7.7166,  34.5180,    215.8,2,    219.5,2,    10.88,2,    24.28,2,     0.02,2,     1.62,2,    1.843,2,   1.3360,2,   2165.7,2,   2287.5,2,20170109,0903
06M220170104  ,A10.5      ,26      ,  1,26114.0    ,240564.0   ,14         ,2,20170109,0742, -34.5080,   7.4482,     5302,    766.5,   4.8033,  34.2984,    222.8,2,    222.0,2,    24.26,2,    31.97,2,     0.01,2,     2.22,2,    1.539,2,   1.0280,2,   2188.4,2,   2302.2,2,20170109,0859
06M220170104  ,A10.5      ,26      ,  1,26113.0    ,240563.0   ,13         ,2,20170109,0742, -34.5080,   7.4482,     5302,    896.4,   4.0571,  34.3213,    210.9,2,    199.2,4,    31.75,3,    31.67,3,     0.01,3,     1.98,3,    1.194,2,   0.7080,2,     -999,9,     -999,9,20170109,0857
06M220170104  ,A10.5      ,26      ,  1,26112.0    ,240562.0   ,12         ,2,20170109,0742, -34.5080,   7.4482,     5302,   1006.4,   3.7154,  34.3746,    196.5,2,    198.8,2,    36.99,3,    30.56,3,     0.01,3,     2.25,3,    0.857,2,   0.4890,2,   2216.4,2,   2313.6,2,20170109,0855
06M220170104  ,A10.5      ,26      ,  1,26111.0    ,240561.0   ,11         ,2,20170109,0742, -34.5080,   7.4482,     5302,   1175.6,   3.3678,  34.4690,    182.5,2,    184.7,2,    56.76,3,    37.53,3,     0.01,3,     2.54,3,    0.462,2,   0.1700,2,   2232.0,2,   2315.5,2,20170109,0852
06M220170104  ,A10.5      ,26      ,  1,26110.0    ,240560.0   ,10         ,2,20170109,0742, -34.5080,   7.4482,     5302,   1407.2,   3.0361,  34.6005,    181.6,2,    185.4,2,    63.90,3,    37.13,3,     0.02,3,     2.65,3,    0.187,2,   0.0000,2,   2240.6,2,   2331.2,2,20170109,0848
06M220170104  ,A10.5      ,26      ,  1,26109.0    ,240559.0   ,9          ,2,20170109,0742, -34.5080,   7.4482,     5302,   1745.6,   2.9487,  34.7431,    197.7,2,    202.9,2,    56.54,3,    31.69,3,     0.00,3,     1.95,3,    0.055,2,   0.0000,2,   2225.6,2,   2330.8,2,20170109,0842
06M220170104  ,A10.5      ,26      ,  1,26108.0    ,240558.0   ,8          ,2,20170109,0742, -34.5080,   7.4482,     5302,   2047.7,   2.9096,  34.8235,    215.0,2,    219.5,2,    48.17,3,    28.53,3,     0.02,3,     2.06,3,    0.023,2,   0.0000,2,     -999,9,     -999,9,20170109,0837
06M220170104  ,A10.5      ,26      ,  1,26107.0    ,240557.0   ,7          ,2,20170109,0742, -34.5080,   7.4482,     5302,   2596.4,   2.5625,  34.8465,    226.4,2,    229.5,2,    28.72,3,    12.74,3,     0.00,3,     1.24,3,    0.014,2,   0.0000,2,   2209.6,2,   2335.0,2,20170109,0827
06M220170104  ,A10.5      ,26      ,  1,26106.0    ,240556.0   ,6          ,2,20170109,0742, -34.5080,   7.4482,     5302,   3093.9,   2.3641,  34.8516,    230.5,2,    237.3,3,    32.64,3,    17.58,3,     0.00,3,     1.53,3,    0.014,2,   0.0000,2,   2212.9,2,   2343.2,2,20170109,0819
06M220170104  ,A10.5      ,26      ,  1,26105.0    ,240555.0   ,5          ,2,20170109,0742, -34.5080,   7.4482,     5302,   3605.5,   2.2145,  34.8487,    231.3,2,    235.4,2,    67.73,3,    28.50,3,     0.01,3,     2.05,3,    0.014,2,   0.0000,2,   2217.7,2,   2348.3,2,20170109,0810
06M220170104  ,A10.5      ,26      ,  1,26104.0    ,240554.0   ,4          ,2,20170109,0742, -34.5080,   7.4482,     5302,   4096.2,   1.7212,  34.7943,    223.9,2,    227.4,2,    70.53,3,    28.40,3,     0.02,3,     1.98,3,    0.024,2,   0.0000,2,   2239.3,2,   2361.3,2,20170109,0802
06M220170104  ,A10.5      ,26      ,  1,26103.0    ,240553.0   ,3          ,2,20170109,0742, -34.5080,   7.4482,     5302,   4596.9,   1.2153,  34.7427,    219.1,2,    222.3,2,    87.50,3,    28.15,3,     0.00,3,     1.87,3,    0.046,2,   0.0000,2,     -999,9,     -999,9,20170109,0754
06M220170104  ,A10.5      ,26      ,  1,26101.0    ,240551.0   ,1          ,2,20170109,0742, -34.5080,   7.4482,     5302,   5291.3,   1.1955,  34.7325,    218.2,2,     -999,9,     -999,9,     -999,9,     -999,9,     -999,9,     -999,9,     -999,9,     -999,9,     -999,9,20170109,0742
06M220170104  ,A10.5      ,26      ,  1,26102.0    ,240552.0   ,2          ,2,20170109,0742, -34.5080,   7.4482,     5302,   5291.7,   1.1956,  34.7324,    218.5,2,    221.2,2,    92.74,3,    28.38,3,     0.01,3,     1.97,3,    0.064,2,   0.0000,2,   2259.6,2,   2369.3,2,20170109,0742