BOTTLE,20240228CCHSIOADS
EXPOCODE,SECT_ID,STNNBR,CASTNO,SAMPNO,BIONBR,BTLNBR,BTLNBR_FLAG_W,DATE,TIME,LATITUDE,LONGITUDE,DEPTH,CTDPRS,CTDTMP,CTDSAL,CTDOXY,CTDOXY_FLAG_W,OXYGEN,OXYGEN_FLAG_W,SILCAT,SILCAT_FLAG_W,NITRAT,NITRAT_FLAG_W,NITRIT,NITRIT_FLAG_W,PHSPHT,PHSPHT_FLAG_W,CFC-12,CFC-12_FLAG_W,SF6,SF6_FLAG_W,TCARBN,TCARBN_FLAG_W,ALKALI,ALKALI_FLAG_W,BTL_DATE,BTL_TIME
,,,,,,,,,,,,METERS,DBAR,ITS-90,PSS-78,UMOL/KG,,UMOL/KG,,UMOL/KG,,UMOL/KG,,UMOL/KG,,UMOL/KG,,PMOL/KG,,FMOL/KG,,UMOL/KG,,UMOL/KG,,,
06M220170104  ,A10.5      ,88      ,  1,88122.0    ,241918.0   ,22         ,2,20170123,0550, -34.4996, -30.6078,     3300,      7.1,  20.4763,  35.2847,    230.4,2,     -999,9,     0.31,2,     0.34,2,     0.00,2,     0.04,2,     -999,9,     -999,9,   2048.5,2,   2325.6,2,20170123,0631
06M220170104  ,A10.5      ,88      ,  1,88121.0    ,241917.0   ,21         ,2,20170123,0550, -34.4996, -30.6078,     3300,      8.0,  20.4726,  35.2845,    230.9,2,    233.2,2,     0.35,2,     0.34,2,     0.00,2,     0.04,2,    1.278,2,   1.6310,2,     -999,9,     -999,9,20170123,0631
06M220170104  ,A10.5      ,88      ,  1,88120.0    ,241916.0   ,20         ,2,20170123,0550, -34.4996, -30.6078,     3300,     23.0,  19.6051,  35.4214,    236.7,2,    230.5,3,     0.43,2,     0.36,2,     0.00,2,     0.05,2,     -999,9,     -999,9,   2057.3,2,   2332.8,2,20170123,0631
06M220170104  ,A10.5      ,88      ,  1,88119.0    ,241915.0   ,19         ,2,20170123,0550, -34.4996, -30.6078,     3300,     48.3,  16.8048,  35.5943,    250.1,2,     -999,9,     -999,9,     -999,9,     -999,9,     -999,9,     -999,9,     -999,9,     -999,9,     -999,9,20170123,0630
06M220170104  ,A10.5      ,88      ,  1,88118.0    ,241914.0   ,18         ,2,20170123,0550, -34.4996, -30.6078,     3300,     73.5,  15.7387,  35.5779,    246.0,2,    245.3,2,     0.80,2,     1.42,2,     0.17,2,     0.18,2,    1.577,2,   1.8400,2,   2085.0,2,   2345.0,2,20170123,0629
06M220170104  ,A10.5      ,88      ,  1,88117.0    ,241913.0   ,17         ,2,20170123,0550, -34.4996, -30.6078,     3300,     99.2,  14.9914,  35.5842,    234.8,2,    245.6,4,     0.81,2,     1.52,2,     0.18,2,     0.18,2,    1.572,2,   1.8980,2,   2091.2,2,   2345.3,2,20170123,0628
06M220170104  ,A10.5      ,88      ,  1,88116.0    ,241912.0   ,16         ,2,20170123,0550, -34.4996, -30.6078,     3300,    198.0,  14.2387,  35.4956,    227.2,2,    229.3,2,     1.78,2,     7.19,2,     0.01,2,     0.47,2,    1.665,2,   1.8350,2,     -999,9,     -999,9,20170123,0626
06M220170104  ,A10.5      ,88      ,  1,88115.0    ,241911.0   ,15         ,2,20170123,0550, -34.4996, -30.6078,     3300,    298.3,  12.7065,  35.2091,    214.2,2,    228.9,4,     2.60,2,    11.41,2,     0.02,2,     0.72,2,     -999,9,     -999,9,     -999,9,     -999,9,20170123,0625
06M220170104  ,A10.5      ,88      ,  1,88114.0    ,241910.0   ,14         ,2,20170123,0550, -34.4996, -30.6078,     3300,    405.6,  10.0475,  34.8004,    211.8,2,    214.6,2,     5.54,2,    19.91,3,     0.00,2,     1.21,2,    1.902,2,   1.5000,2,   2145.7,2,   2301.1,2,20170123,0623
06M220170104  ,A10.5      ,88      ,  1,88113.0    ,241909.0   ,13         ,2,20170123,0550, -34.4996, -30.6078,     3300,    497.3,   7.6930,  34.5030,    222.4,2,    214.6,4,     8.59,2,    25.86,3,     0.00,2,     1.58,2,     -999,9,     -999,9,     -999,9,     -999,9,20170123,0621
06M220170104  ,A10.5      ,88      ,  1,88112.0    ,241908.0   ,12         ,2,20170123,0550, -34.4996, -30.6078,     3300,    597.2,   6.2635,  34.3743,    228.5,2,     19.4,4,    14.06,2,    32.74,3,     0.01,2,     2.06,2,    1.989,2,   1.3020,2,   2158.6,2,   2287.8,2,20170123,0620
06M220170104  ,A10.5      ,88      ,  1,88111.0    ,241907.0   ,11         ,2,20170123,0550, -34.4996, -30.6078,     3300,    747.5,   4.9278,  34.2652,    238.2,2,    243.1,3,    16.32,2,    29.98,2,     0.00,3,     1.81,3,     -999,9,     -999,9,     -999,9,     -999,9,20170123,0617
06M220170104  ,A10.5      ,88      ,  1,88110.0    ,241906.0   ,10         ,2,20170123,0550, -34.4996, -30.6078,     3300,    828.0,   4.2550,  34.2284,    241.4,2,    241.9,2,    20.76,2,    32.43,2,     0.00,2,     2.02,2,    1.844,2,   1.1300,2,   2178.2,2,   2288.4,2,20170123,0616
06M220170104  ,A10.5      ,88      ,  1,88109.0    ,241905.0   ,9          ,2,20170123,0550, -34.4996, -30.6078,     3300,    996.0,   3.4940,  34.2660,    224.0,2,    224.6,2,    31.56,2,    33.55,2,     0.00,2,     2.05,2,    1.342,2,   0.7060,2,     -999,9,     -999,9,20170123,0613
06M220170104  ,A10.5      ,88      ,  1,88108.0    ,241904.0   ,8          ,2,20170123,0550, -34.4996, -30.6078,     3300,    997.3,   3.4882,  34.2671,    223.7,2,     -999,9,     -999,9,     -999,9,     -999,9,     -999,9,     -999,9,     -999,9,     -999,9,     -999,9,20170123,0613
06M220170104  ,A10.5      ,88      ,  1,88107.0    ,241903.0   ,7          ,2,20170123,0550, -34.4996, -30.6078,     3300,   1196.3,   3.0810,  34.3815,    197.9,2,    200.1,2,    46.51,2,    35.18,2,     0.00,2,     2.30,2,    0.736,2,   0.3800,2,   2223.1,2,   2314.3,2,20170123,0610
06M220170104  ,A10.5      ,88      ,  1,88106.0    ,241902.0   ,6          ,2,20170123,0550, -34.4996, -30.6078,     3300,   1498.0,   2.8677,  34.5706,    183.6,2,    184.2,2,    60.90,2,    36.24,2,     0.00,2,     2.35,2,    0.229,2,   0.1200,2,   2238.4,2,   2330.1,2,20170123,0605
06M220170104  ,A10.5      ,88      ,  1,88105.0    ,241901.0   ,5          ,2,20170123,0550, -34.4996, -30.6078,     3300,   1797.7,   2.9164,  34.7105,    194.6,2,    196.0,2,    57.17,2,    33.17,2,     0.00,2,     2.06,2,     -999,9,     -999,9,   2232.9,2,   2334.5,2,20170123,0600
06M220170104  ,A10.5      ,88      ,  1,88104.0    ,241900.0   ,4          ,2,20170123,0550, -34.4996, -30.6078,     3300,   1998.7,   2.9926,  34.8044,    212.2,2,    214.6,2,    49.97,2,    30.36,2,     0.00,2,     1.84,2,     -999,9,     -999,9,   2208.6,2,   2332.4,2,20170123,0557
06M220170104  ,A10.5      ,88      ,  1,88103.0    ,241899.0   ,3          ,2,20170123,0550, -34.4996, -30.6078,     3300,   2197.3,   2.9611,  34.8583,    227.7,2,    228.4,2,    44.09,2,    27.96,2,     0.01,2,     1.74,2,     -999,9,     -999,9,   2196.9,2,   2331.3,2,20170123,0554
06M220170104  ,A10.5      ,88      ,  1,88101.0    ,241897.0   ,1          ,2,20170123,0550, -34.4996, -30.6078,     3300,   2413.8,   2.8720,  34.8832,    236.9,2,    239.0,2,    38.88,2,    24.97,2,     0.01,3,     1.48,3,     -999,9,     -999,9,   2189.0,2,   2331.1,2,20170123,0550
06M220170104  ,A10.5      ,88      ,  1,88102.0    ,241898.0   ,2          ,2,20170123,0550, -34.4996, -30.6078,     3300,   2414.5,   2.8716,  34.8834,    236.8,2,    238.1,2,    35.78,2,    22.16,3,     0.00,2,     1.40,2,     -999,9,     -999,9,     -999,9,     -999,9,20170123,0550
06M220170104  ,A10.5      ,89      ,  1,89122.0    ,241940.0   ,22         ,2,20170123,1031, -34.4995, -31.2632,     4179,      7.2,  20.4725,  35.2752,    231.1,2,     -999,9,     0.66,2,     0.48,2,     0.01,2,     0.14,3,    1.324,2,   1.7580,2,   2058.6,2,   2321.0,2,20170123,1140
06M220170104  ,A10.5      ,89      ,  1,89121.0    ,241939.0   ,21         ,2,20170123,1031, -34.4995, -31.2632,     4179,     41.8,  18.3970,  35.4993,    246.9,2,    233.4,3,     0.60,2,     0.56,2,     0.01,2,     0.17,3,    1.446,2,   1.8130,2,   2072.6,2,   2337.8,2,20170123,1139
06M220170104  ,A10.5      ,89      ,  1,89120.0    ,241938.0   ,20         ,2,20170123,1031, -34.4995, -31.2632,     4179,     70.5,  15.9999,  35.5652,    254.7,2,    250.0,2,     0.66,2,     0.59,2,     0.02,2,     0.40,3,    1.554,2,   1.8390,2,   2081.9,2,   2341.2,2,20170123,1138
06M220170104  ,A10.5      ,89      ,  1,89119.0    ,241937.0   ,19         ,2,20170123,1031, -34.4995, -31.2632,     4179,    106.3,  14.9022,  35.5670,    232.4,2,    254.2,3,     1.44,2,     4.54,2,     0.04,2,     0.47,3,    1.626,2,   1.9980,2,   2111.4,2,   2342.4,2,20170123,1137
06M220170104  ,A10.5      ,89      ,  1,89118.0    ,241936.0   ,18         ,2,20170123,1031, -34.4995, -31.2632,     4179,    146.9,  14.6612,  35.5544,    229.1,2,    229.7,2,     1.70,2,     5.81,2,     0.02,2,     1.45,3,    1.626,2,   1.7640,2,   2116.5,2,   2339.9,2,20170123,1136
06M220170104  ,A10.5      ,89      ,  1,89117.0    ,241935.0   ,17         ,2,20170123,1031, -34.4995, -31.2632,     4179,    297.4,  12.8245,  35.2261,    213.0,2,     -999,9,     -999,9,     -999,9,     -999,9,     -999,9,     -999,9,     -999,9,     -999,9,     -999,9,20170123,1134
06M220170104  ,A10.5      ,89      ,  1,89116.0    ,241934.0   ,16         ,2,20170123,1031, -34.4995, -31.2632,     4179,    496.7,   7.9596,  34.5367,    220.1,2,    221.8,2,     8.58,2,    23.73,2,     0.02,2,     1.71,3,    2.041,2,   1.3880,2,   2157.7,2,   2288.4,2,20170123,1130
06M220170104  ,A10.5      ,89      ,  1,89115.0    ,241933.0   ,15         ,2,20170123,1031, -34.4995, -31.2632,     4179,    767.2,   4.4598,  34.2069,    251.7,2,    252.2,2,    15.72,2,    26.93,2,     0.01,2,     2.00,3,    2.116,2,   1.4350,2,   2167.9,2,   2283.5,2,20170123,1126
06M220170104  ,A10.5      ,89      ,  1,89114.0    ,241932.0   ,14         ,2,20170123,1031, -34.4995, -31.2632,     4179,    897.6,   3.8994,  34.2339,    236.1,2,    236.2,2,    23.15,2,    28.85,2,     0.01,2,     2.28,3,    1.692,2,   0.9960,2,     -999,9,     -999,9,20170123,1124
06M220170104  ,A10.5      ,89      ,  1,89113.0    ,241931.0   ,13         ,2,20170123,1031, -34.4995, -31.2632,     4179,   1047.1,   3.4249,  34.2868,    218.6,2,    219.4,2,    37.23,2,    35.15,2,     0.01,2,     2.17,3,    1.223,2,   0.6080,2,   2200.1,2,   2297.4,2,20170123,1122
06M220170104  ,A10.5      ,89      ,  1,89112.0    ,241930.0   ,12         ,2,20170123,1031, -34.4995, -31.2632,     4179,   1196.8,   3.1324,  34.3780,    199.8,2,    200.2,2,    45.93,2,    34.05,2,     0.01,2,     2.16,3,    0.739,2,   0.2990,2,     -999,9,     -999,9,20170123,1119
06M220170104  ,A10.5      ,89      ,  1,89111.0    ,241929.0   ,11         ,2,20170123,1031, -34.4995, -31.2632,     4179,   1335.5,   2.9682,  34.4553,    189.5,2,    190.6,2,    52.63,2,    33.98,2,     0.01,2,     1.99,3,    0.461,2,   0.1570,2,   2230.5,2,   2322.2,2,20170123,1117
06M220170104  ,A10.5      ,89      ,  1,89110.0    ,241928.0   ,10         ,2,20170123,1031, -34.4995, -31.2632,     4179,   1564.0,   2.8857,  34.6080,    185.4,2,    185.5,2,    58.47,2,    33.44,2,     0.00,2,     1.30,4,    0.196,2,   0.0460,2,   2237.2,2,   2328.6,2,20170123,1114
06M220170104  ,A10.5      ,89      ,  1,89109.0    ,241927.0   ,9          ,2,20170123,1031, -34.4995, -31.2632,     4179,   1990.6,   3.0080,  34.8069,    212.4,2,    214.6,2,    43.63,2,    25.86,2,     0.01,2,     1.77,2,    0.080,2,   0.0000,2,   2214.0,2,   2329.5,2,20170123,1107
06M220170104  ,A10.5      ,89      ,  1,89108.0    ,241926.0   ,8          ,2,20170123,1031, -34.4995, -31.2632,     4179,   1994.0,   3.0089,  34.8086,    212.7,2,     -999,9,     -999,9,     -999,9,     -999,9,     -999,9,     -999,9,     -999,9,     -999,9,     -999,9,20170123,1107
06M220170104  ,A10.5      ,89      ,  1,89107.0    ,241925.0   ,7          ,2,20170123,1031, -34.4995, -31.2632,     4179,   2396.7,   2.9768,  34.8885,    236.2,2,    237.7,2,    38.12,2,    23.54,2,     0.00,2,     1.30,2,    0.068,2,   0.0000,2,     -999,9,     -999,9,20170123,1101
06M220170104  ,A10.5      ,89      ,  1,89106.0    ,241924.0   ,6          ,2,20170123,1031, -34.4995, -31.2632,     4179,   2797.9,   2.7752,  34.9035,    244.8,2,    247.1,2,    33.89,2,    20.88,2,     0.00,2,     1.38,2,    0.052,2,   0.0000,2,   2185.0,2,   2328.3,2,20170123,1054
06M220170104  ,A10.5      ,89      ,  1,89105.0    ,241923.0   ,5          ,2,20170123,1031, -34.4995, -31.2632,     4179,   3196.7,   2.4101,  34.8765,    242.6,2,    244.6,2,    47.23,2,    23.26,2,     0.00,2,     1.66,2,    0.047,2,   0.0730,2,   2198.2,2,   2336.1,2,20170123,1048
06M220170104  ,A10.5      ,89      ,  1,89104.0    ,241922.0   ,4          ,2,20170123,1031, -34.4995, -31.2632,     4179,   3597.9,   1.6420,  34.7926,    226.9,2,    226.9,2,    72.23,2,    27.03,2,     0.01,2,     1.09,4,    0.060,2,   0.0930,2,   2226.7,2,   2352.1,2,20170123,1042
06M220170104  ,A10.5      ,89      ,  1,89103.0    ,241921.0   ,3          ,2,20170123,1031, -34.4995, -31.2632,     4179,   3997.6,   0.9658,  34.7261,    219.3,2,    221.4,2,   100.64,2,    31.94,2,     0.00,2,     2.07,2,    0.118,2,   0.0560,2,   2254.4,2,   2359.2,2,20170123,1035
06M220170104  ,A10.5      ,89      ,  1,89102.0    ,241920.0   ,2          ,2,20170123,1031, -34.4995, -31.2632,     4179,   4168.7,   0.5150,  34.6903,    218.0,2,    220.0,2,   114.27,2,    33.16,2,     0.01,2,     2.18,2,    0.221,2,   0.0590,2,     -999,9,     -999,9,20170123,1031
06M220170104  ,A10.5      ,89      ,  1,89101.0    ,241919.0   ,1          ,2,20170123,1031, -34.4995, -31.2632,     4179,   4168.8,   0.5090,  34.6899,    218.8,2,    220.5,2,   115.50,2,    33.30,2,     0.01,2,     2.20,2,    0.180,2,   0.0450,2,   2265.0,2,   2366.1,2,20170123,1031
06M220170104  ,A10.5      ,90      ,  1,90122.0    ,241962.0   ,22         ,2,20170123,1548, -34.4998, -31.9176,     4463,      6.7,  20.5832,  35.4970,    231.4,2,     -999,9,     0.86,2,    -0.01,2,     0.01,2,     0.07,2,    1.317,2,   1.6950,2,   2086.4,2,   2341.0,2,20170123,1706
06M220170104  ,A10.5      ,90      ,  1,90121.0    ,241961.0   ,21         ,2,20170123,1548, -34.4998, -31.9176,     4463,     48.5,  16.4025,  35.6340,    255.5,2,    229.8,3,     0.86,2,     0.17,2,     0.01,2,     0.08,2,     -999,9,     -999,9,   2094.8,2,   2350.4,2,20170123,1704
06M220170104  ,A10.5      ,90      ,  1,90120.0    ,241960.0   ,20         ,2,20170123,1548, -34.4998, -31.9176,     4463,     82.5,  15.6969,  35.6326,    239.5,2,    254.6,3,     1.58,2,     1.79,2,     0.28,2,     0.20,2,    1.577,2,   1.9370,2,   2100.1,2,   2349.9,2,20170123,1703
06M220170104  ,A10.5      ,90      ,  1,90119.0    ,241959.0   ,19         ,2,20170123,1548, -34.4998, -31.9176,     4463,     99.5,  15.1258,  35.6078,    233.5,2,    235.0,2,     -999,9,     -999,9,     -999,9,     -999,9,     -999,9,     -999,9,     -999,9,     -999,9,20170123,1702
06M220170104  ,A10.5      ,90      ,  1,90118.0    ,241958.0   ,18         ,2,20170123,1548, -34.4998, -31.9176,     4463,    236.2,  14.6169,  35.6001,    229.0,2,    228.2,2,     2.34,2,     5.94,2,     0.01,2,     0.41,2,    1.636,2,   1.8420,2,     -999,9,     -999,9,20170123,1700
06M220170104  ,A10.5      ,90      ,  1,90117.0    ,241957.0   ,17         ,2,20170123,1548, -34.4998, -31.9176,     4463,    345.9,  13.0459,  35.2892,    223.4,2,    222.9,2,     3.12,2,     9.90,2,     0.00,2,     0.64,2,    1.769,2,   1.7910,2,   2127.6,2,   2328.0,2,20170123,1658
06M220170104  ,A10.5      ,90      ,  1,90116.0    ,241956.0   ,16         ,2,20170123,1548, -34.4998, -31.9176,     4463,    457.7,   9.8153,  34.7616,    215.6,2,    216.2,2,     5.91,2,    17.34,2,     0.01,2,     1.10,2,    1.969,2,   1.5370,2,     -999,9,     -999,9,20170123,1656
06M220170104  ,A10.5      ,90      ,  1,90115.0    ,241955.0   ,15         ,2,20170123,1548, -34.4998, -31.9176,     4463,    547.7,   7.4696,  34.4730,    225.7,2,    226.3,2,     7.70,2,    20.29,2,     0.00,2,     1.54,2,    2.101,2,   1.5620,2,   2156.0,2,   2288.7,2,20170123,1654
06M220170104  ,A10.5      ,90      ,  1,90114.0    ,241954.0   ,14         ,2,20170123,1548, -34.4998, -31.9176,     4463,    617.5,   6.2755,  34.3656,    230.5,2,    232.3,2,    12.58,3,    28.24,3,     0.02,3,     1.78,2,    2.062,2,   1.3480,2,     -999,9,     -999,9,20170123,1653
06M220170104  ,A10.5      ,90      ,  1,90113.0    ,241953.0   ,13         ,2,20170123,1548, -34.4998, -31.9176,     4463,    708.3,   5.2517,  34.2767,    239.7,2,    240.7,2,    15.83,2,    29.52,2,     0.00,2,     1.88,2,     -999,9,     -999,9,     -999,9,     -999,9,20170123,1652
06M220170104  ,A10.5      ,90      ,  1,90112.0    ,241952.0   ,12         ,2,20170123,1548, -34.4998, -31.9176,     4463,    837.6,   4.2630,  34.2082,    247.2,2,    246.9,2,    26.93,2,    31.92,2,     0.00,2,     1.97,2,    2.035,2,   1.3470,2,   2174.6,2,   2287.7,2,20170123,1649
06M220170104  ,A10.5      ,90      ,  1,90111.0    ,241951.0   ,11         ,2,20170123,1548, -34.4998, -31.9176,     4463,    948.7,   3.7869,  34.2271,    236.5,2,    234.9,2,    24.87,3,    29.67,3,     0.00,3,     1.98,3,    1.702,2,   1.1010,2,     -999,9,     -999,9,20170123,1647
06M220170104  ,A10.5      ,90      ,  1,90110.0    ,241950.0   ,10         ,2,20170123,1548, -34.4998, -31.9176,     4463,   1220.8,   3.1795,  34.3649,    201.8,2,    201.2,2,     -999,9,     -999,9,     -999,9,     -999,9,    0.810,2,   0.3630,2,   2222.0,2,   2315.1,2,20170123,1643
06M220170104  ,A10.5      ,90      ,  1,90109.0    ,241949.0   ,9          ,2,20170123,1548, -34.4998, -31.9176,     4463,   1480.4,   2.8985,  34.5346,    183.9,2,    182.4,2,    58.31,2,    36.36,2,     0.00,2,     2.27,2,    0.297,2,   0.1240,2,   2237.7,2,   2328.2,2,20170123,1638
06M220170104  ,A10.5      ,90      ,  1,90108.0    ,241948.0   ,8          ,2,20170123,1548, -34.4998, -31.9176,     4463,   1737.5,   2.9058,  34.6876,    192.0,2,     -999,9,     -999,9,     -999,9,     -999,9,     -999,9,     -999,9,     -999,9,     -999,9,     -999,9,20170123,1634
06M220170104  ,A10.5      ,90      ,  1,90107.0    ,241947.0   ,7          ,2,20170123,1548, -34.4998, -31.9176,     4463,   1738.8,   2.9061,  34.6879,    192.1,2,    190.4,2,    59.36,2,    33.68,2,     0.00,2,     2.08,2,     -999,9,     -999,9,   2226.9,2,   2333.4,2,20170123,1634
06M220170104  ,A10.5      ,90      ,  1,90106.0    ,241946.0   ,6          ,2,20170123,1548, -34.4998, -31.9176,     4463,   1998.0,   3.0182,  34.8004,    209.8,2,    205.2,3,    51.16,2,    29.03,2,     0.00,2,     1.77,2,     -999,9,     -999,9,     -999,9,     -999,9,20170123,1629
06M220170104  ,A10.5      ,90      ,  1,90105.0    ,241945.0   ,5          ,2,20170123,1548, -34.4998, -31.9176,     4463,   2260.6,   3.0059,  34.8609,    226.8,2,    226.2,2,    42.55,2,    25.38,2,     0.00,2,     1.52,2,     -999,9,     -999,9,   2196.1,2,   2331.8,2,20170123,1625
06M220170104  ,A10.5      ,90      ,  1,90104.0    ,241944.0   ,4          ,2,20170123,1548, -34.4998, -31.9176,     4463,   2998.0,   2.6758,  34.8974,    244.3,2,    239.7,3,    37.13,2,    21.52,2,     0.01,2,     1.29,3,     -999,9,     -999,9,   2185.4,2,   2335.7,2,20170123,1612
06M220170104  ,A10.5      ,90      ,  1,90103.0    ,241943.0   ,3          ,2,20170123,1548, -34.4998, -31.9176,     4463,   3497.3,   1.8140,  34.8014,    225.2,2,    222.2,3,    70.53,2,    28.33,2,     0.01,2,     1.72,2,     -999,9,     -999,9,   2217.9,2,   2351.1,2,20170123,1604
06M220170104  ,A10.5      ,90      ,  1,90102.0    ,241942.0   ,2          ,2,20170123,1548, -34.4998, -31.9176,     4463,   3997.0,   0.8518,  34.7140,    217.4,2,    216.7,2,   106.71,2,    34.23,2,     0.00,2,     1.90,2,     -999,9,     -999,9,   2247.6,2,   2366.6,2,20170123,1555
06M220170104  ,A10.5      ,90      ,  1,90101.0    ,241941.0   ,1          ,2,20170123,1548, -34.4998, -31.9176,     4463,   4453.0,   0.3540,  34.6784,    220.1,2,    233.4,4,   116.70,2,    35.03,2,     0.01,2,     2.19,2,     -999,9,     -999,9,   2253.1,2,   2370.5,2,20170123,1548