BOTTLE,20240228CCHSIOADS
EXPOCODE,SECT_ID,STNNBR,CASTNO,SAMPNO,BIONBR,BTLNBR,BTLNBR_FLAG_W,DATE,TIME,LATITUDE,LONGITUDE,DEPTH,CTDPRS,CTDTMP,CTDSAL,CTDOXY,CTDOXY_FLAG_W,OXYGEN,OXYGEN_FLAG_W,SILCAT,SILCAT_FLAG_W,NITRAT,NITRAT_FLAG_W,NITRIT,NITRIT_FLAG_W,PHSPHT,PHSPHT_FLAG_W,CFC-12,CFC-12_FLAG_W,SF6,SF6_FLAG_W,TCARBN,TCARBN_FLAG_W,ALKALI,ALKALI_FLAG_W,BTL_DATE,BTL_TIME
,,,,,,,,,,,,METERS,DBAR,ITS-90,PSS-78,UMOL/KG,,UMOL/KG,,UMOL/KG,,UMOL/KG,,UMOL/KG,,UMOL/KG,,PMOL/KG,,FMOL/KG,,UMOL/KG,,UMOL/KG,,,
06M220170104  ,A10.5      ,106     ,  1,106122.0   ,242314.0   ,22         ,2,20170127,0945, -34.4999, -42.3959,     4747,     10.1,  22.8342,  36.0483,    219.5,2,    220.4,2,     0.28,3,     0.00,2,     0.01,2,     0.05,3,     -999,9,     -999,9,   2077.1,2,   2374.4,2,20170127,1105
06M220170104  ,A10.5      ,106     ,  1,106121.0   ,242313.0   ,21         ,2,20170127,0945, -34.4999, -42.3959,     4747,     27.1,  21.2792,  36.2024,    229.3,2,    230.4,2,     0.30,3,     0.02,2,     0.02,2,     0.06,3,    1.211,2,   1.7100,2,   2079.0,2,   2383.5,2,20170127,1105
06M220170104  ,A10.5      ,106     ,  1,106120.0   ,242312.0   ,20         ,2,20170127,0945, -34.4999, -42.3959,     4747,     57.6,  19.2817,  36.1779,    232.4,2,    232.2,2,     0.35,3,    -0.01,2,     0.01,2,     0.10,3,    1.299,2,   1.8040,2,   2090.2,2,   2379.8,2,20170127,1103
06M220170104  ,A10.5      ,106     ,  1,106119.0   ,242311.0   ,19         ,2,20170127,0945, -34.4999, -42.3959,     4747,     91.8,  17.6944,  36.0372,    229.1,2,    225.8,2,     0.99,3,     0.87,2,     0.15,2,     0.23,3,    1.352,2,   1.8340,2,     -999,9,     -999,9,20170127,1102
06M220170104  ,A10.5      ,106     ,  1,106118.0   ,242310.0   ,18         ,2,20170127,0945, -34.4999, -42.3959,     4747,     92.6,  17.6678,  36.0388,    225.7,2,    224.5,2,     0.92,3,     0.86,2,     0.17,2,     0.25,3,     -999,9,     -999,9,   2103.3,2,   2369.4,2,20170127,1102
06M220170104  ,A10.5      ,106     ,  1,106117.0   ,242309.0   ,17         ,2,20170127,0945, -34.4999, -42.3959,     4747,    147.8,  16.6939,  35.9329,    216.4,2,    217.0,2,     1.55,3,     3.76,2,     0.02,2,     0.41,3,    1.433,2,   1.7930,2,     -999,9,     -999,9,20170127,1101
06M220170104  ,A10.5      ,106     ,  1,106116.0   ,242308.0   ,16         ,2,20170127,0945, -34.4999, -42.3959,     4747,    299.2,  14.5035,  35.5173,    210.4,2,    210.7,2,     2.63,3,     8.69,2,     0.01,2,     0.71,3,    1.634,2,   1.6280,2,   2123.7,2,   2339.0,2,20170127,1058
06M220170104  ,A10.5      ,106     ,  1,106115.0   ,242307.0   ,15         ,2,20170127,0945, -34.4999, -42.3959,     4747,    495.5,  10.4023,  34.8545,    208.1,2,    208.9,2,     5.85,3,    17.30,2,     0.00,2,     1.24,3,    1.788,2,   1.4580,2,   2147.7,2,   2302.8,2,20170127,1055
06M220170104  ,A10.5      ,106     ,  1,106114.0   ,242306.0   ,14         ,2,20170127,0945, -34.4999, -42.3959,     4747,    644.9,   6.9274,  34.4352,    223.2,2,    225.0,2,    11.94,3,    26.62,2,     0.00,2,     2.01,3,    1.904,2,   1.3770,2,     -999,9,     -999,9,20170127,1052
06M220170104  ,A10.5      ,106     ,  1,106113.0   ,242305.0   ,13         ,2,20170127,0945, -34.4999, -42.3959,     4747,    799.1,   4.7095,  34.2096,    257.4,2,    255.6,2,    13.56,3,    25.64,2,     0.00,2,     1.92,3,    2.148,2,   1.7940,2,   2165.3,2,   2281.3,2,20170127,1049
06M220170104  ,A10.5      ,106     ,  1,106112.0   ,242304.0   ,12         ,2,20170127,0945, -34.4999, -42.3959,     4747,    897.9,   4.1344,  34.2001,    252.9,2,    253.0,2,    20.68,3,    30.79,2,     0.00,2,     2.28,3,     -999,9,     -999,9,     -999,9,     -999,9,20170127,1048
06M220170104  ,A10.5      ,106     ,  1,106111.0   ,242303.0   ,11         ,2,20170127,0945, -34.4999, -42.3959,     4747,    997.3,   3.9452,  34.2534,    230.4,2,    230.3,2,    30.09,3,    34.72,2,     0.01,2,     2.53,3,    1.511,2,   1.0510,2,   2189.9,2,   2291.8,2,20170127,1046
06M220170104  ,A10.5      ,106     ,  1,106110.0   ,242302.0   ,10         ,2,20170127,0945, -34.4999, -42.3959,     4747,   1539.5,   3.0056,  34.5540,    185.4,2,    185.4,2,    60.02,3,    35.28,2,     0.00,2,     2.53,3,    0.268,2,   0.2390,2,   2242.5,3,   2324.9,2,20170127,1037
06M220170104  ,A10.5      ,106     ,  1,106109.0   ,242301.0   ,9          ,2,20170127,0945, -34.4999, -42.3959,     4747,   1798.4,   3.1774,  34.7239,    197.8,2,    209.1,4,    38.60,3,    26.72,2,     0.01,2,     1.95,3,     -999,9,     -999,9,   2195.8,3,   2326.6,2,20170127,1033
06M220170104  ,A10.5      ,106     ,  1,106108.0   ,242300.0   ,8          ,2,20170127,0945, -34.4999, -42.3959,     4747,   2295.2,   3.3854,  34.9082,    236.6,2,     -999,9,     -999,9,     -999,9,     -999,9,     -999,9,     -999,9,     -999,9,     -999,9,     -999,9,20170127,1025
06M220170104  ,A10.5      ,106     ,  1,106107.0   ,242299.0   ,7          ,2,20170127,0945, -34.4999, -42.3959,     4747,   2295.4,   3.3854,  34.9082,    236.5,2,    193.9,4,    34.50,3,    25.27,2,     0.01,2,     1.79,3,     -999,9,     -999,9,   2191.0,2,     -999,9,20170127,1025
06M220170104  ,A10.5      ,106     ,  1,106106.0   ,242298.0   ,6          ,2,20170127,0945, -34.4999, -42.3959,     4747,   2696.9,   3.2105,  34.9371,    249.2,2,    250.4,2,    26.86,3,    21.17,2,     0.00,2,     1.42,3,     -999,9,     -999,9,   2184.6,2,   2323.2,2,20170127,1018
06M220170104  ,A10.5      ,106     ,  1,106105.0   ,242297.0   ,5          ,2,20170127,0945, -34.4999, -42.3959,     4747,   2998.2,   2.9448,  34.9218,    248.3,2,    249.4,2,    35.45,3,    23.43,2,     0.00,2,     1.64,3,     -999,9,     -999,9,     -999,9,     -999,9,20170127,1013
06M220170104  ,A10.5      ,106     ,  1,106104.0   ,242296.0   ,4          ,2,20170127,0945, -34.4999, -42.3959,     4747,   3496.3,   2.1162,  34.8437,    235.3,2,    238.2,2,   166.38,3,    35.34,2,     0.00,2,     2.64,3,     -999,9,     -999,9,   2218.9,2,   2343.0,2,20170127,1005
06M220170104  ,A10.5      ,106     ,  1,106103.0   ,242295.0   ,3          ,2,20170127,0945, -34.4999, -42.3959,     4747,   3995.9,   0.5926,  34.6923,    216.4,2,    216.6,2,   165.17,3,    38.36,2,     0.01,2,     2.97,3,     -999,9,     -999,9,   2266.8,2,   2363.7,2,20170127,0957
06M220170104  ,A10.5      ,106     ,  1,106102.0   ,242294.0   ,2          ,2,20170127,0945, -34.4999, -42.3959,     4747,   4496.2,   0.2413,  34.6725,    222.5,2,    222.1,2,   127.55,3,    33.98,2,     0.01,2,     2.44,3,     -999,9,     -999,9,   2277.9,2,   2370.5,2,20170127,0949
06M220170104  ,A10.5      ,106     ,  1,106101.0   ,242293.0   ,1          ,2,20170127,0945, -34.4999, -42.3959,     4747,   4736.9,   0.2411,  34.6709,    222.2,2,    222.0,2,   108.04,3,    32.02,2,     0.01,2,     2.56,3,     -999,9,     -999,9,   2273.7,2,   2369.4,2,20170127,0945
06M220170104  ,A10.5      ,107     ,  1,107122.0   ,242336.0   ,22         ,2,20170127,1540, -34.5004, -43.0507,     4761,      8.4,  23.1825,  36.0739,    217.1,2,    218.6,2,    -0.24,3,     0.54,3,     0.00,3,     0.04,3,    1.116,2,   1.5680,2,   2075.5,2,   2373.9,2,20170127,1708
06M220170104  ,A10.5      ,107     ,  1,107121.0   ,242335.0   ,21         ,2,20170127,1540, -34.5004, -43.0507,     4761,     24.0,  21.8095,  36.1020,    224.8,2,    225.1,2,    -0.24,3,     0.69,3,     0.01,3,     0.06,3,    1.199,2,   1.6590,2,   2081.5,2,   2377.3,2,20170127,1707
06M220170104  ,A10.5      ,107     ,  1,107120.0   ,242334.0   ,20         ,2,20170127,1540, -34.5004, -43.0507,     4761,     69.9,  17.9852,  35.9902,    242.2,2,    242.6,2,    -0.04,3,     0.53,3,     0.00,3,     0.12,3,    1.367,2,   1.8110,2,   2086.1,2,   2370.0,2,20170127,1705
06M220170104  ,A10.5      ,107     ,  1,107119.0   ,242333.0   ,19         ,2,20170127,1540, -34.5004, -43.0507,     4761,    102.4,  16.9646,  35.9481,    226.2,2,     -999,9,     -999,9,     -999,9,     -999,9,     -999,9,     -999,9,     -999,9,     -999,9,     -999,9,20170127,1704
06M220170104  ,A10.5      ,107     ,  1,107118.0   ,242332.0   ,18         ,2,20170127,1540, -34.5004, -43.0507,     4761,    156.6,  16.3894,  35.8868,    215.4,2,    210.9,3,     1.14,3,     5.31,3,     0.02,3,     0.48,3,    1.466,2,   1.7390,2,   2113.6,2,   2361.3,2,20170127,1703
06M220170104  ,A10.5      ,107     ,  1,107117.0   ,242331.0   ,17         ,2,20170127,1540, -34.5004, -43.0507,     4761,    246.2,  14.6368,  35.5287,    207.9,2,    208.6,2,     2.42,3,     9.95,3,     0.02,3,     0.82,3,    1.593,2,   1.6500,2,     -999,9,     -999,9,20170127,1702
06M220170104  ,A10.5      ,107     ,  1,107116.0   ,242330.0   ,16         ,2,20170127,1540, -34.5004, -43.0507,     4761,    359.6,  12.7974,  35.2140,    207.9,2,    209.6,2,     3.50,3,    14.00,3,     0.01,3,     1.07,3,    1.703,2,   1.5530,2,   2133.4,2,   2323.8,2,20170127,1659
06M220170104  ,A10.5      ,107     ,  1,107115.0   ,242329.0   ,15         ,2,20170127,1540, -34.5004, -43.0507,     4761,    467.8,  10.3262,  34.8410,    208.2,2,    212.9,2,     5.33,3,    17.44,3,     0.00,3,     1.19,3,    1.801,2,   1.4260,2,     -999,9,     -999,9,20170127,1656
06M220170104  ,A10.5      ,107     ,  1,107114.0   ,242328.0   ,14         ,2,20170127,1540, -34.5004, -43.0507,     4761,    687.3,   5.5394,  34.2738,    246.2,2,    249.3,2,    13.10,3,    29.84,3,     0.01,3,     2.07,3,    2.151,2,   1.7380,2,   2157.6,2,   2285.6,2,20170127,1653
06M220170104  ,A10.5      ,107     ,  1,107113.0   ,242327.0   ,13         ,2,20170127,1540, -34.5004, -43.0507,     4761,    807.9,   4.7093,  34.2349,    246.5,2,    246.4,2,    17.04,3,    30.68,3,     0.01,3,     2.16,3,    1.972,2,   1.4930,2,     -999,9,     -999,9,20170127,1651
06M220170104  ,A10.5      ,107     ,  1,107112.0   ,242326.0   ,12         ,2,20170127,1540, -34.5004, -43.0507,     4761,    926.9,   3.9796,  34.2178,    243.0,2,    243.4,2,    19.86,3,    27.77,3,     0.00,3,     1.95,3,    1.823,2,   1.3890,2,   2176.2,2,   2291.0,2,20170127,1649
06M220170104  ,A10.5      ,107     ,  1,107111.0   ,242325.0   ,11         ,2,20170127,1540, -34.5004, -43.0507,     4761,   1126.5,   3.3971,  34.3039,    214.2,2,    215.0,2,    36.94,3,    34.99,3,     0.00,3,     2.48,3,    1.139,2,   0.8040,2,   2206.4,2,   2304.1,2,20170127,1642
06M220170104  ,A10.5      ,107     ,  1,107110.0   ,242324.0   ,10         ,2,20170127,1540, -34.5004, -43.0507,     4761,   1368.3,   3.0623,  34.4677,    188.8,2,    189.0,2,    45.58,3,    32.92,3,     0.00,3,     2.35,3,    0.467,2,   0.2560,2,   2232.8,2,   2321.1,2,20170127,1638
06M220170104  ,A10.5      ,107     ,  1,107109.0   ,242323.0   ,9          ,2,20170127,1540, -34.5004, -43.0507,     4761,   1596.1,   3.1293,  34.5838,    187.0,2,    190.4,3,    43.59,3,    29.99,3,     0.00,3,     2.04,3,    0.336,3,   0.2800,3,     -999,9,     -999,9,20170127,1634
06M220170104  ,A10.5      ,107     ,  1,107108.0   ,242322.0   ,8          ,2,20170127,1540, -34.5004, -43.0507,     4761,   1597.5,   3.1294,  34.5837,    186.9,2,    186.6,2,    73.42,3,    50.82,3,     0.02,3,     3.92,4,    0.213,2,   0.1470,2,   2234.3,2,   2328.0,2,20170127,1634
06M220170104  ,A10.5      ,107     ,  1,107107.0   ,242321.0   ,7          ,2,20170127,1540, -34.5004, -43.0507,     4761,   1979.0,   3.3148,  34.7959,    208.6,2,    207.9,2,    49.08,3,    32.11,3,     0.01,3,     2.34,3,    0.101,2,   0.0000,2,     -999,9,     -999,9,20170127,1627
06M220170104  ,A10.5      ,107     ,  1,107106.0   ,242320.0   ,6          ,2,20170127,1540, -34.5004, -43.0507,     4761,   2497.5,   3.3905,  34.9368,    245.9,2,    247.2,2,    37.87,3,    32.26,3,     0.02,3,     2.37,3,    0.137,2,   0.1460,3,   2178.1,2,   2323.3,2,20170127,1618
06M220170104  ,A10.5      ,107     ,  1,107105.0   ,242319.0   ,5          ,2,20170127,1540, -34.5004, -43.0507,     4761,   2938.3,   3.0856,  34.9322,    249.6,2,    242.7,4,    29.87,3,    23.26,3,     0.00,3,     1.59,3,    0.105,2,   0.0000,2,   2177.9,2,   2327.6,2,20170127,1611
06M220170104  ,A10.5      ,107     ,  1,107104.0   ,242318.0   ,4          ,2,20170127,1540, -34.5004, -43.0507,     4761,   3507.2,   1.9745,  34.8253,    231.0,2,    217.8,4,     3.32,3,    10.95,3,     0.02,3,     0.82,4,    1.634,4,   1.5650,4,   2132.4,3,   2320.3,3,20170127,1601
06M220170104  ,A10.5      ,107     ,  1,107103.0   ,242317.0   ,3          ,2,20170127,1540, -34.5004, -43.0507,     4761,   3976.6,   0.5411,  34.6911,    217.7,2,    218.0,2,   111.69,3,    35.92,3,     0.01,3,     2.56,3,     -999,9,     -999,9,   2262.2,2,   2364.7,2,20170127,1553
06M220170104  ,A10.5      ,107     ,  1,107102.0   ,242316.0   ,2          ,2,20170127,1540, -34.5004, -43.0507,     4761,   4499.0,   0.2389,  34.6725,    222.1,2,    223.1,2,   150.16,3,    41.44,3,     0.01,3,     3.02,3,    0.235,2,   0.0000,2,   2267.6,2,   2369.0,2,20170127,1544
06M220170104  ,A10.5      ,107     ,  1,107101.0   ,242315.0   ,1          ,2,20170127,1540, -34.5004, -43.0507,     4761,   4751.2,   0.2341,  34.6706,    221.6,2,    223.7,2,   129.89,3,    36.98,3,     0.01,3,     2.71,3,    0.273,2,   0.2200,2,   2269.2,2,   2369.4,2,20170127,1540
06M220170104  ,A10.5      ,108     ,  1,108122.0   ,242358.0   ,22         ,2,20170127,2135, -34.4997, -43.7054,     4810,      7.9,  23.3001,  36.1834,    217.3,2,    219.2,2,     0.54,3,    -0.02,3,     0.01,3,    -0.01,3,     -999,9,     -999,9,   2075.6,2,   2380.8,2,20170127,2302
06M220170104  ,A10.5      ,108     ,  1,108121.0   ,242357.0   ,21         ,2,20170127,2135, -34.4997, -43.7054,     4810,     46.1,  19.7127,  36.1459,    236.6,2,    234.0,2,     0.46,3,    -0.06,3,     0.00,3,     0.02,3,    1.078,4,   1.5020,4,   2078.8,2,   2379.8,2,20170127,2300
06M220170104  ,A10.5      ,108     ,  1,108120.0   ,242356.0   ,20         ,2,20170127,2135, -34.4997, -43.7054,     4810,     89.4,  17.5746,  35.9974,    211.8,2,    212.0,2,     1.51,3,     2.14,3,     0.06,3,     0.23,3,    1.340,2,   1.7450,2,   2109.8,2,   2367.8,2,20170127,2259
06M220170104  ,A10.5      ,108     ,  1,108119.0   ,242355.0   ,19         ,2,20170127,2135, -34.4997, -43.7054,     4810,    117.6,  17.0199,  35.9601,    213.1,2,     -999,9,     -999,9,     -999,9,     -999,9,     -999,9,     -999,9,     -999,9,     -999,9,     -999,9,20170127,2258
06M220170104  ,A10.5      ,108     ,  1,108118.0   ,242354.0   ,18         ,2,20170127,2135, -34.4997, -43.7054,     4810,    197.3,  15.6037,  35.7383,    220.1,2,    219.9,2,     1.82,3,     4.56,3,     0.02,3,     0.36,3,    1.484,2,   1.8300,2,     -999,9,     -999,9,20170127,2257
06M220170104  ,A10.5      ,108     ,  1,108117.0   ,242353.0   ,17         ,2,20170127,2135, -34.4997, -43.7054,     4810,    388.1,  12.5177,  35.1740,    208.9,2,    209.0,2,     3.62,3,    12.30,3,     0.01,3,     0.83,3,    1.682,2,   1.5750,2,   2134.8,2,   2319.5,2,20170127,2253
06M220170104  ,A10.5      ,108     ,  1,108116.0   ,242352.0   ,16         ,2,20170127,2135, -34.4997, -43.7054,     4810,    497.7,   9.6619,  34.7383,    213.6,2,    213.4,2,     6.14,3,    19.14,3,     0.01,3,     1.23,3,    1.881,2,   1.5420,2,     -999,9,     -999,9,20170127,2251
06M220170104  ,A10.5      ,108     ,  1,108115.0   ,242351.0   ,15         ,2,20170127,2135, -34.4997, -43.7054,     4810,    635.9,   6.5419,  34.3780,    232.0,2,    231.4,2,    14.29,3,    38.23,3,     0.02,3,     2.53,3,    1.980,2,   1.5210,2,   2159.4,2,   2285.7,2,20170127,2249
06M220170104  ,A10.5      ,108     ,  1,108114.0   ,242350.0   ,14         ,2,20170127,2135, -34.4997, -43.7054,     4810,    825.9,   4.5689,  34.2216,    249.6,2,    251.3,2,    17.22,3,    29.89,3,     0.00,3,     1.93,3,    1.993,2,   1.5400,2,     -999,9,     -999,9,20170127,2245
06M220170104  ,A10.5      ,108     ,  1,108113.0   ,242349.0   ,13         ,2,20170127,2135, -34.4997, -43.7054,     4810,   1195.4,   3.2370,  34.3413,    205.5,2,    205.6,2,    45.02,3,    35.84,3,     0.00,3,     2.37,3,    0.916,2,   0.6760,2,   2216.8,2,   2307.0,2,20170127,2238
06M220170104  ,A10.5      ,108     ,  1,108112.0   ,242348.0   ,12         ,2,20170127,2135, -34.4997, -43.7054,     4810,   1484.6,   2.9743,  34.5197,    184.3,2,    183.8,2,    46.08,3,    26.66,3,     0.00,3,     1.98,3,    0.325,2,   0.1650,2,   2237.6,2,   2325.3,2,20170127,2233
06M220170104  ,A10.5      ,108     ,  1,108111.0   ,242347.0   ,11         ,2,20170127,2135, -34.4997, -43.7054,     4810,   1796.0,   3.2157,  34.7336,    197.6,2,    202.0,3,    50.76,3,    32.04,3,     0.01,3,     2.06,3,    0.116,2,   0.0000,2,     -999,9,     -999,9,20170127,2227
06M220170104  ,A10.5      ,108     ,  1,108110.0   ,242346.0   ,10         ,2,20170127,2135, -34.4997, -43.7054,     4810,   2203.3,   3.1348,  34.8494,    220.4,2,    220.1,2,    37.72,3,    21.98,3,     0.00,3,     1.54,3,    0.115,2,   0.0930,2,   2205.9,2,   2330.3,2,20170127,2221
06M220170104  ,A10.5      ,108     ,  1,108109.0   ,242345.0   ,9          ,2,20170127,2135, -34.4997, -43.7054,     4810,   2552.7,   3.1420,  34.9127,    240.5,2,    231.5,4,    26.34,3,    19.55,3,     0.00,3,     1.38,3,    0.654,4,   0.6580,4,     -999,9,     -999,9,20170127,2215
06M220170104  ,A10.5      ,108     ,  1,108108.0   ,242344.0   ,8          ,2,20170127,2135, -34.4997, -43.7054,     4810,   2556.7,   3.1409,  34.9127,    240.0,2,    258.2,4,    34.90,3,    24.22,3,     0.00,3,     1.53,3,     -999,9,     -999,9,   2188.5,2,   2329.2,2,20170127,2215
06M220170104  ,A10.5      ,108     ,  1,108107.0   ,242343.0   ,7          ,2,20170127,2135, -34.4997, -43.7054,     4810,   2795.7,   2.6409,  34.8499,    224.4,2,    223.7,2,    55.30,3,    26.86,3,     0.00,3,     1.76,3,     -999,9,     -999,9,     -999,9,     -999,9,20170127,2211
06M220170104  ,A10.5      ,108     ,  1,108106.0   ,242342.0   ,6          ,2,20170127,2135, -34.4997, -43.7054,     4810,   3197.4,   2.5108,  34.8913,    245.5,2,    245.7,2,    42.99,3,    22.40,3,     0.01,3,     1.49,3,     -999,9,     -999,9,   2190.9,2,   2335.9,2,20170127,2204
06M220170104  ,A10.5      ,108     ,  1,108105.0   ,242341.0   ,5          ,2,20170127,2135, -34.4997, -43.7054,     4810,   3796.7,   0.8732,  34.7088,    213.0,2,    212.4,2,   110.60,3,    33.74,3,     0.00,3,     2.19,3,     -999,9,     -999,9,   2259.9,2,   2365.3,2,20170127,2153
06M220170104  ,A10.5      ,108     ,  1,108104.0   ,242340.0   ,4          ,2,20170127,2135, -34.4997, -43.7054,     4810,   4067.4,   0.4759,  34.6861,    218.1,2,    217.0,2,   125.53,3,    36.52,3,     0.00,3,     2.40,3,     -999,9,     -999,9,     -999,9,     -999,9,20170127,2149
06M220170104  ,A10.5      ,108     ,  1,108103.0   ,242339.0   ,3          ,2,20170127,2135, -34.4997, -43.7054,     4810,   4496.2,   0.2672,  34.6736,    222.2,2,    221.6,2,   133.01,3,    34.72,3,     0.00,3,     2.34,3,     -999,9,     -999,9,   2268.9,2,   2368.5,2,20170127,2140
06M220170104  ,A10.5      ,108     ,  1,108102.0   ,242338.0   ,2          ,2,20170127,2135, -34.4997, -43.7054,     4810,   4593.3,   0.2482,  34.6722,    222.9,2,    221.4,2,   127.55,3,    35.11,3,     0.00,3,     2.36,3,     -999,9,     -999,9,   2266.1,2,   2368.6,2,20170127,2139
06M220170104  ,A10.5      ,108     ,  1,108101.0   ,242337.0   ,1          ,2,20170127,2135, -34.4997, -43.7054,     4810,   4800.4,   0.2374,  34.6703,    221.6,2,    220.8,2,   117.22,3,    33.54,3,     0.01,3,     2.28,3,     -999,9,     -999,9,   2268.2,2,   2370.3,2,20170127,2135