BOTTLE,20240221CCHSIOADS
EXPOCODE,SECT_ID,STNNBR,CASTNO,SAMPNO,BTLNBR,BTLNBR_FLAG_W,DATE,TIME,LATITUDE,LONGITUDE,DEPTH,CTDPRS,CTDTMP,CTDSAL,CTDSAL_FLAG_W,SALNTY,SALNTY_FLAG_W,CTDOXY,CTDOXY_FLAG_W,OXYGEN,OXYGEN_FLAG_W,CFC-11,CFC-11_FLAG_W,CFC-12,CFC-12_FLAG_W
,,,,,,,,,,,METERS,DBAR,ITS-90,PSS-78,,PSS-78,,UMOL/KG,,UMOL/KG,,PMOL/KG,,PMOL/KG,
35TH20050604  ,AR07       ,125     ,  1,22         ,22         ,2,20050709,0415,  49.6258, -39.8872,     4426,     10.7,  13.7422,  35.3080,2,     -999,9,    278.1,2,     -999,9,     -999,9,     -999,9
35TH20050604  ,AR07       ,125     ,  1,21         ,21         ,2,20050709,0415,  49.6258, -39.8872,     4426,     11.0,  13.7788,  35.3400,2,     -999,9,    277.8,2,    274.7,2,    2.928,2,    1.672,2
35TH20050604  ,AR07       ,125     ,  1,20         ,20         ,2,20050709,0415,  49.6258, -39.8872,     4426,    319.0,   9.8106,  35.1960,2,     -999,9,    198.9,2,     -999,9,    2.435,2,    1.295,2
35TH20050604  ,AR07       ,125     ,  1,19         ,19         ,2,20050709,0415,  49.6258, -39.8872,     4426,    486.0,   7.0406,  34.9884,2,     -999,9,    193.7,2,     -999,9,    2.358,2,    1.211,2
35TH20050604  ,AR07       ,125     ,  1,18         ,18         ,2,20050709,0415,  49.6258, -39.8872,     4426,    700.0,   4.5588,  34.9102,2,     -999,9,    264.9,2,    267.7,6,    3.733,2,    1.922,2
35TH20050604  ,AR07       ,125     ,  1,17         ,17         ,2,20050709,0415,  49.6258, -39.8872,     4426,    768.9,   4.3509,  34.9074,2,     -999,9,    268.9,2,     -999,9,    3.644,2,    1.862,2
35TH20050604  ,AR07       ,125     ,  1,16         ,16         ,2,20050709,0415,  49.6258, -39.8872,     4426,   1008.3,   3.9308,  34.8958,2,     -999,9,    282.6,2,    282.9,2,    3.993,2,    2.022,2
35TH20050604  ,AR07       ,125     ,  1,15         ,15         ,2,20050709,0415,  49.6258, -39.8872,     4426,   1110.5,   3.8344,  34.8935,2,     -999,9,    282.9,2,     -999,9,    3.918,2,    1.983,2
35TH20050604  ,AR07       ,125     ,  1,14         ,14         ,2,20050709,0415,  49.6258, -39.8872,     4426,   1199.6,   3.7262,  34.8861,2,     -999,9,    285.0,2,     -999,9,    3.942,2,    1.981,2
35TH20050604  ,AR07       ,125     ,  1,13         ,13         ,2,20050709,0415,  49.6258, -39.8872,     4426,   1298.7,   3.6622,  34.8858,2,     -999,9,    285.7,2,     -999,9,    3.873,2,    1.949,2
35TH20050604  ,AR07       ,125     ,  1,12         ,12         ,2,20050709,0415,  49.6258, -39.8872,     4426,   1368.9,   3.6337,  34.8878,2,     -999,9,    285.4,2,     -999,9,    3.792,2,    1.911,2
35TH20050604  ,AR07       ,125     ,  1,11         ,11         ,2,20050709,0415,  49.6258, -39.8872,     4426,   1568.8,   3.5693,  34.8956,2,     -999,9,    282.8,2,    284.1,2,    3.481,2,    1.719,2
35TH20050604  ,AR07       ,125     ,  1,10         ,10         ,2,20050709,0415,  49.6258, -39.8872,     4426,   1782.3,   3.4974,  34.9010,2,     -999,9,    281.5,2,     -999,9,    3.125,2,    1.516,2
35TH20050604  ,AR07       ,125     ,  1,9          ,9          ,2,20050709,0415,  49.6258, -39.8872,     4426,   2199.8,   3.2300,  34.8951,2,  34.8941,2,    285.2,2,     -999,9,    2.920,2,    1.392,2
35TH20050604  ,AR07       ,125     ,  1,8          ,8          ,2,20050709,0415,  49.6258, -39.8872,     4426,   2398.0,   3.1615,  34.9001,2,     -999,9,    284.6,2,    283.7,2,    2.728,2,    1.291,2
35TH20050604  ,AR07       ,125     ,  1,7          ,7          ,2,20050709,0415,  49.6258, -39.8872,     4426,   2698.0,   3.0458,  34.9096,2,     -999,9,    282.6,2,     -999,9,    2.277,2,    1.065,2
35TH20050604  ,AR07       ,125     ,  1,6          ,6          ,2,20050709,0415,  49.6258, -39.8872,     4426,   2994.2,   2.8408,  34.9152,2,  34.9185,2,    281.0,2,     -999,9,    1.992,2,    0.958,2
35TH20050604  ,AR07       ,125     ,  1,5          ,5          ,2,20050709,0415,  49.6258, -39.8872,     4426,   3301.3,   2.6653,  34.9185,2,     -999,9,    280.9,2,     -999,9,    1.960,2,    0.945,2
35TH20050604  ,AR07       ,125     ,  1,4          ,4          ,2,20050709,0415,  49.6258, -39.8872,     4426,   3604.1,   2.3771,  34.9017,2,     -999,9,    283.4,2,    282.3,2,    2.062,2,    0.989,2
35TH20050604  ,AR07       ,125     ,  1,3          ,3          ,2,20050709,0415,  49.6258, -39.8872,     4426,   3900.0,   2.2006,  34.8940,2,     -999,9,    285.2,2,     -999,9,    2.441,2,    1.190,2
35TH20050604  ,AR07       ,125     ,  1,2          ,2          ,2,20050709,0415,  49.6258, -39.8872,     4426,   4196.5,   2.0282,  34.8883,2,     -999,9,    291.8,2,     -999,9,    3.144,2,    1.552,2
35TH20050604  ,AR07       ,125     ,  1,1          ,1          ,2,20050709,0415,  49.6258, -39.8872,     4426,   4492.9,   1.9388,  34.8867,2,  34.8877,2,    294.0,2,    293.6,2,    3.350,2,    1.635,2
35TH20050604  ,AR07       ,126     ,  1,22         ,22         ,2,20050709,1041,  49.6219, -40.8838,     4408,     11.7,  14.3102,  35.6301,2,     -999,9,    265.4,2,     -999,9,     -999,9,     -999,9
35TH20050604  ,AR07       ,126     ,  1,21         ,21         ,2,20050709,1041,  49.6219, -40.8838,     4408,     12.3,  14.2860,  35.6257,2,     -999,9,    265.4,2,    268.3,2,     -999,9,     -999,9
35TH20050604  ,AR07       ,126     ,  1,20         ,20         ,2,20050709,1041,  49.6219, -40.8838,     4408,    175.7,  13.3851,  35.7259,2,     -999,9,    248.5,2,     -999,9,    2.737,2,    1.552,2
35TH20050604  ,AR07       ,126     ,  1,19         ,19         ,2,20050709,1041,  49.6219, -40.8838,     4408,    499.3,   9.7587,  35.2253,2,     -999,9,    175.5,2,    173.7,2,    1.862,2,    0.979,2
35TH20050604  ,AR07       ,126     ,  1,18         ,18         ,2,20050709,1041,  49.6219, -40.8838,     4408,    718.0,   5.8156,  34.9132,2,     -999,9,    217.2,2,     -999,9,    2.605,3,    1.354,3
35TH20050604  ,AR07       ,126     ,  1,17         ,17         ,2,20050709,1041,  49.6219, -40.8838,     4408,    815.7,   5.3177,  34.9691,2,     -999,9,    238.2,2,     -999,9,    2.653,2,    1.326,2
35TH20050604  ,AR07       ,126     ,  1,16         ,16         ,2,20050709,1041,  49.6219, -40.8838,     4408,    882.6,   4.8451,  34.9396,2,     -999,9,    254.1,2,     -999,9,    2.993,2,    1.510,2
35TH20050604  ,AR07       ,126     ,  1,15         ,15         ,2,20050709,1041,  49.6219, -40.8838,     4408,    975.7,   4.5401,  34.9368,2,     -999,9,    262.5,2,     -999,9,    3.082,2,    1.550,2
35TH20050604  ,AR07       ,126     ,  1,14         ,14         ,2,20050709,1041,  49.6219, -40.8838,     4408,   1208.9,   4.0240,  34.9182,2,     -999,9,    277.2,2,    279.2,2,    3.630,2,    1.842,2
35TH20050604  ,AR07       ,126     ,  1,13         ,13         ,2,20050709,1041,  49.6219, -40.8838,     4408,   1395.8,   3.8193,  34.9005,2,     -999,9,    282.4,2,     -999,9,    3.467,2,    1.748,2
35TH20050604  ,AR07       ,126     ,  1,12         ,12         ,2,20050709,1041,  49.6219, -40.8838,     4408,   1519.6,   3.6690,  34.8874,2,     -999,9,    285.8,2,     -999,9,    3.685,2,    1.860,2
35TH20050604  ,AR07       ,126     ,  1,11         ,11         ,2,20050709,1041,  49.6219, -40.8838,     4408,   1706.4,   3.6009,  34.8946,2,  34.9000,2,    283.8,2,     -999,9,    3.352,2,    1.663,2
35TH20050604  ,AR07       ,126     ,  1,10         ,10         ,2,20050709,1041,  49.6219, -40.8838,     4408,   1889.2,   3.5447,  34.9041,2,     -999,9,    281.1,2,    279.9,2,    3.023,2,    1.478,2
35TH20050604  ,AR07       ,126     ,  1,9          ,9          ,2,20050709,1041,  49.6219, -40.8838,     4408,   2198.5,   3.3393,  34.8971,2,     -999,9,    284.1,2,     -999,9,    2.866,2,    1.365,2
35TH20050604  ,AR07       ,126     ,  1,8          ,8          ,2,20050709,1041,  49.6219, -40.8838,     4408,   2497.8,   3.1981,  34.8987,2,     -999,9,    285.0,2,     -999,9,    2.664,2,    1.278,2
35TH20050604  ,AR07       ,126     ,  1,7          ,7          ,2,20050709,1041,  49.6219, -40.8838,     4408,   2797.8,   3.0682,  34.9084,2,     -999,9,    283.3,2,    280.9,2,    2.358,2,    1.129,2
35TH20050604  ,AR07       ,126     ,  1,6          ,6          ,2,20050709,1041,  49.6219, -40.8838,     4408,   3114.5,   2.9216,  34.9173,2,     -999,9,    281.6,2,     -999,9,    2.091,2,    1.007,2
35TH20050604  ,AR07       ,126     ,  1,5          ,5          ,2,20050709,1041,  49.6219, -40.8838,     4408,   3393.3,   2.7421,  34.9162,2,     -999,9,    281.6,2,     -999,9,    2.065,2,    0.989,2
35TH20050604  ,AR07       ,126     ,  1,4          ,4          ,2,20050709,1041,  49.6219, -40.8838,     4408,   3694.2,   2.5038,  34.9074,2,     -999,9,    281.5,2,    284.6,2,    2.019,2,    0.971,2
35TH20050604  ,AR07       ,126     ,  1,3          ,3          ,2,20050709,1041,  49.6219, -40.8838,     4408,   3994.8,   2.3332,  34.8981,2,  34.8991,2,    283.4,2,     -999,9,    2.142,2,    1.027,2
35TH20050604  ,AR07       ,126     ,  1,2          ,2          ,2,20050709,1041,  49.6219, -40.8838,     4408,   4296.8,   2.1640,  34.8907,2,     -999,9,    287.4,2,     -999,9,    2.719,2,    1.317,2
35TH20050604  ,AR07       ,126     ,  1,1          ,1          ,2,20050709,1041,  49.6219, -40.8838,     4408,   4477.9,   1.9710,  34.8864,2,  34.8898,2,    292.8,2,    289.7,2,    3.470,2,    1.716,2
35TH20050604  ,AR07       ,127     ,  1,22         ,22         ,2,20050709,1737,  49.4336, -41.8703,     4423,     18.4,  15.3812,  35.8441,2,     -999,9,    272.1,2,     -999,9,     -999,9,     -999,9
35TH20050604  ,AR07       ,127     ,  1,21         ,21         ,2,20050709,1737,  49.4336, -41.8703,     4423,     18.4,  15.3812,  35.8441,2,     -999,9,    272.1,2,    271.6,2,    2.633,2,    1.520,2
35TH20050604  ,AR07       ,127     ,  1,20         ,20         ,2,20050709,1737,  49.4336, -41.8703,     4423,    277.0,  13.8721,  35.8480,2,  35.8536,2,    245.7,2,     -999,9,    2.606,2,    1.486,2
35TH20050604  ,AR07       ,127     ,  1,19         ,19         ,2,20050709,1737,  49.4336, -41.8703,     4423,    568.9,   9.0793,  35.1388,2,     -999,9,    168.5,2,    168.7,2,    1.699,2,    0.901,2
35TH20050604  ,AR07       ,127     ,  1,18         ,18         ,2,20050709,1737,  49.4336, -41.8703,     4423,    699.4,   6.8128,  35.0086,2,     -999,9,    194.9,2,     -999,9,    1.961,2,    1.022,2
35TH20050604  ,AR07       ,127     ,  1,17         ,17         ,2,20050709,1737,  49.4336, -41.8703,     4423,    899.3,   4.8782,  34.9488,2,     -999,9,    251.2,2,     -999,9,    2.951,2,    1.537,2
35TH20050604  ,AR07       ,127     ,  1,16         ,16         ,2,20050709,1737,  49.4336, -41.8703,     4423,   1103.8,   4.1918,  34.9177,2,     -999,9,    274.9,2,     -999,9,    3.571,2,    1.862,2
35TH20050604  ,AR07       ,127     ,  1,15         ,15         ,2,20050709,1737,  49.4336, -41.8703,     4423,   1316.2,   3.9876,  34.9215,2,     -999,9,    275.0,2,     -999,9,    3.166,2,    1.612,2
35TH20050604  ,AR07       ,127     ,  1,14         ,14         ,2,20050709,1737,  49.4336, -41.8703,     4423,   1375.5,   3.8524,  34.9089,2,     -999,9,    277.4,2,    277.3,6,    3.260,2,    1.669,2
35TH20050604  ,AR07       ,127     ,  1,13         ,13         ,2,20050709,1737,  49.4336, -41.8703,     4423,   1468.4,   3.6798,  34.8866,2,     -999,9,    284.1,2,     -999,9,    3.533,2,    1.796,2
35TH20050604  ,AR07       ,127     ,  1,12         ,12         ,2,20050709,1737,  49.4336, -41.8703,     4423,   1589.7,   3.6315,  34.8946,2,     -999,9,    282.9,2,     -999,9,    3.486,2,    1.758,2
35TH20050604  ,AR07       ,127     ,  1,11         ,11         ,2,20050709,1737,  49.4336, -41.8703,     4423,   1712.0,   3.6426,  34.9064,2,     -999,9,    280.1,2,     -999,9,    3.052,2,    1.528,2
35TH20050604  ,AR07       ,127     ,  1,10         ,10         ,2,20050709,1737,  49.4336, -41.8703,     4423,   1899.4,   3.5198,  34.9053,2,     -999,9,    280.5,2,     -999,9,    2.954,2,    1.437,2
35TH20050604  ,AR07       ,127     ,  1,9          ,9          ,2,20050709,1737,  49.4336, -41.8703,     4423,   2120.6,   3.3840,  34.9010,2,     -999,9,    282.2,2,    281.4,2,    2.819,2,    1.346,2
35TH20050604  ,AR07       ,127     ,  1,8          ,8          ,2,20050709,1737,  49.4336, -41.8703,     4423,   2403.1,   3.2128,  34.9000,2,  34.9071,2,    283.6,2,     -999,9,    2.617,2,    1.257,2
35TH20050604  ,AR07       ,127     ,  1,7          ,7          ,2,20050709,1737,  49.4336, -41.8703,     4423,   2697.2,   3.0664,  34.9085,2,     -999,9,    282.1,2,     -999,9,    2.314,2,    1.106,2
35TH20050604  ,AR07       ,127     ,  1,6          ,6          ,2,20050709,1737,  49.4336, -41.8703,     4423,   2966.0,   2.8926,  34.9135,2,     -999,9,    280.9,2,    279.8,2,    2.065,2,    0.998,2
35TH20050604  ,AR07       ,127     ,  1,5          ,5          ,2,20050709,1737,  49.4336, -41.8703,     4423,   3285.2,   2.6299,  34.9094,2,     -999,9,    280.9,2,     -999,9,    2.117,2,    1.013,2
35TH20050604  ,AR07       ,127     ,  1,4          ,4          ,2,20050709,1737,  49.4336, -41.8703,     4423,   3596.2,   2.3877,  34.9010,2,  34.9026,2,    284.2,2,     -999,9,    2.272,2,    1.101,2
35TH20050604  ,AR07       ,127     ,  1,3          ,3          ,2,20050709,1737,  49.4336, -41.8703,     4423,   3886.9,   2.2309,  34.8941,2,     -999,9,    285.0,2,    285.4,2,    2.303,2,    1.093,2
35TH20050604  ,AR07       ,127     ,  1,2          ,2          ,2,20050709,1737,  49.4336, -41.8703,     4423,   4197.0,   2.0743,  34.8887,2,     -999,9,    289.8,2,     -999,9,    2.947,2,    1.436,2
35TH20050604  ,AR07       ,127     ,  1,1          ,1          ,2,20050709,1737,  49.4336, -41.8703,     4423,   4477.5,   1.9107,  34.8848,2,  34.8859,2,    293.7,2,    295.2,2,    3.484,2,    1.717,2
35TH20050604  ,AR07       ,128     ,  1,22         ,22         ,2,20050710,0119,  49.1845, -42.8483,     4079,     15.8,  12.7163,  34.3098,2,     -999,9,    280.8,2,     -999,9,     -999,9,     -999,9
35TH20050604  ,AR07       ,128     ,  1,21         ,21         ,2,20050710,0119,  49.1845, -42.8483,     4079,     15.8,  12.7163,  34.3098,2,     -999,9,    280.8,2,    281.3,2,    3.344,2,    1.895,2
35TH20050604  ,AR07       ,128     ,  1,20         ,20         ,2,20050710,0119,  49.1845, -42.8483,     4079,    303.3,   6.0154,  34.9749,2,     -999,9,    212.7,2,    214.3,2,    2.223,2,    1.187,2
35TH20050604  ,AR07       ,128     ,  1,19         ,19         ,2,20050710,0119,  49.1845, -42.8483,     4079,    489.9,   4.4429,  34.9067,2,     -999,9,    267.0,2,     -999,9,    3.528,2,    1.866,2
35TH20050604  ,AR07       ,128     ,  1,18         ,18         ,2,20050710,0119,  49.1845, -42.8483,     4079,    728.7,   4.0005,  34.8952,2,     -999,9,    284.5,2,     -999,9,    3.630,2,    1.923,2
35TH20050604  ,AR07       ,128     ,  1,17         ,17         ,2,20050710,0119,  49.1845, -42.8483,     4079,    827.3,   3.9041,  34.8947,2,     -999,9,    284.7,2,     -999,9,    3.620,2,    1.907,2
35TH20050604  ,AR07       ,128     ,  1,16         ,16         ,2,20050710,0119,  49.1845, -42.8483,     4079,    910.4,   3.8466,  34.8975,2,     -999,9,    282.8,2,     -999,9,    3.429,2,    1.774,2
35TH20050604  ,AR07       ,128     ,  1,15         ,15         ,2,20050710,0119,  49.1845, -42.8483,     4079,   1091.5,   3.7654,  34.9029,2,     -999,9,    280.4,2,    281.9,2,    3.414,2,    1.766,2
35TH20050604  ,AR07       ,128     ,  1,14         ,14         ,2,20050710,0119,  49.1845, -42.8483,     4079,   1287.0,   3.6592,  34.9027,2,     -999,9,    281.3,2,     -999,9,    3.194,2,    1.655,2
35TH20050604  ,AR07       ,128     ,  1,13         ,13         ,2,20050710,0119,  49.1845, -42.8483,     4079,   1428.1,   3.6129,  34.9082,2,     -999,9,    279.9,2,     -999,9,    3.388,2,    1.738,2
35TH20050604  ,AR07       ,128     ,  1,12         ,12         ,2,20050710,0119,  49.1845, -42.8483,     4079,   1510.9,   3.5015,  34.8968,2,     -999,9,    282.8,2,     -999,9,    3.163,2,    1.582,2
35TH20050604  ,AR07       ,128     ,  1,11         ,11         ,2,20050710,0119,  49.1845, -42.8483,     4079,   1602.5,   3.4394,  34.8967,2,     -999,9,    282.7,2,    283.5,6,    3.075,2,    1.524,2
35TH20050604  ,AR07       ,128     ,  1,10         ,10         ,2,20050710,0119,  49.1845, -42.8483,     4079,   1796.6,   3.3058,  34.8931,2,     -999,9,    284.5,2,     -999,9,    2.978,2,    1.452,2
35TH20050604  ,AR07       ,128     ,  1,9          ,9          ,2,20050710,0119,  49.1845, -42.8483,     4079,   2000.7,   3.1841,  34.8928,2,     -999,9,    285.9,2,     -999,9,    2.920,2,    1.435,2
35TH20050604  ,AR07       ,128     ,  1,8          ,8          ,2,20050710,0119,  49.1845, -42.8483,     4079,   2196.0,   3.0953,  34.8982,2,     -999,9,    285.6,2,     -999,9,    2.834,2,    1.415,2
35TH20050604  ,AR07       ,128     ,  1,7          ,7          ,2,20050710,0119,  49.1845, -42.8483,     4079,   2491.8,   2.9222,  34.9055,2,     -999,9,    284.6,2,    285.3,2,    2.630,2,    1.305,2
35TH20050604  ,AR07       ,128     ,  1,6          ,6          ,2,20050710,0119,  49.1845, -42.8483,     4079,   2786.7,   2.7272,  34.9070,2,     -999,9,    284.6,2,     -999,9,    2.559,2,    1.265,2
35TH20050604  ,AR07       ,128     ,  1,5          ,5          ,2,20050710,0119,  49.1845, -42.8483,     4079,   2987.5,   2.5479,  34.9049,2,     -999,9,    284.3,2,     -999,9,    2.136,2,    1.048,2
35TH20050604  ,AR07       ,128     ,  1,4          ,4          ,2,20050710,0119,  49.1845, -42.8483,     4079,   3193.8,   2.3923,  34.9012,2,     -999,9,    284.8,2,     -999,9,    2.246,2,    1.096,2
35TH20050604  ,AR07       ,128     ,  1,3          ,3          ,2,20050710,0119,  49.1845, -42.8483,     4079,   3498.2,   2.2275,  34.8957,2,     -999,9,    284.5,2,    283.9,2,    2.220,2,    1.082,2
35TH20050604  ,AR07       ,128     ,  1,2          ,2          ,2,20050710,0119,  49.1845, -42.8483,     4079,   3801.4,   2.0777,  34.8901,2,     -999,9,    288.1,2,     -999,9,    2.751,2,    1.366,2
35TH20050604  ,AR07       ,128     ,  1,1          ,1          ,2,20050710,0119,  49.1845, -42.8483,     4079,   4121.8,   1.8689,  34.8842,2,     -999,9,    294.4,2,    298.8,3,    3.440,2,    1.720,2