BOTTLE,20240221CCHSIOADS
EXPOCODE,SECT_ID,STNNBR,CASTNO,SAMPNO,BTLNBR,BTLNBR_FLAG_W,DATE,TIME,LATITUDE,LONGITUDE,DEPTH,CTDPRS,CTDTMP,CTDSAL,CTDSAL_FLAG_W,SALNTY,SALNTY_FLAG_W,CTDOXY,CTDOXY_FLAG_W,OXYGEN,OXYGEN_FLAG_W,CFC-11,CFC-11_FLAG_W,CFC-12,CFC-12_FLAG_W
,,,,,,,,,,,METERS,DBAR,ITS-90,PSS-78,,PSS-78,,UMOL/KG,,UMOL/KG,,PMOL/KG,,PMOL/KG,
35TH20050604  ,AR07       ,55      ,  1,22         ,22         ,2,20050623,0441,  60.0002, -56.1923,     3125,     12.8,   6.1198,  34.4815,2,     -999,9,    321.0,2,     -999,9,     -999,9,     -999,9
35TH20050604  ,AR07       ,55      ,  1,21         ,21         ,2,20050623,0441,  60.0002, -56.1923,     3125,     12.8,   6.1198,  34.4815,2,     -999,9,    321.0,2,    323.8,2,    5.019,2,    2.643,2
35TH20050604  ,AR07       ,55      ,  1,20         ,20         ,2,20050623,0441,  60.0002, -56.1923,     3125,    103.4,   4.4488,  34.8571,2,     -999,9,    299.5,2,    298.9,2,     -999,9,     -999,9
35TH20050604  ,AR07       ,55      ,  1,19         ,19         ,2,20050623,0441,  60.0002, -56.1923,     3125,    299.9,   4.1571,  34.8849,2,     -999,9,    295.0,2,     -999,9,     -999,9,     -999,9
35TH20050604  ,AR07       ,55      ,  1,18         ,18         ,2,20050623,0441,  60.0002, -56.1923,     3125,    520.7,   3.9101,  34.8801,2,     -999,9,    292.6,2,    292.8,2,    4.460,2,    2.309,2
35TH20050604  ,AR07       ,55      ,  1,17         ,17         ,2,20050623,0441,  60.0002, -56.1923,     3125,    618.1,   3.8225,  34.8807,2,     -999,9,    292.7,2,     -999,9,    4.457,2,    2.252,2
35TH20050604  ,AR07       ,55      ,  1,16         ,16         ,2,20050623,0441,  60.0002, -56.1923,     3125,    719.1,   3.7786,  34.8847,2,     -999,9,    290.4,2,     -999,9,    4.436,2,    2.278,2
35TH20050604  ,AR07       ,55      ,  1,15         ,15         ,2,20050623,0441,  60.0002, -56.1923,     3125,    818.8,   3.6840,  34.8782,2,     -999,9,    293.2,2,     -999,9,     -999,9,     -999,9
35TH20050604  ,AR07       ,55      ,  1,14         ,14         ,2,20050623,0441,  60.0002, -56.1923,     3125,    916.7,   3.6207,  34.8750,2,     -999,9,    292.5,2,    293.7,2,    4.440,2,    2.281,2
35TH20050604  ,AR07       ,55      ,  1,13         ,13         ,2,20050623,0441,  60.0002, -56.1923,     3125,   1000.0,   3.5347,  34.8681,2,     -999,9,    294.1,2,     -999,9,    4.428,2,    2.277,2
35TH20050604  ,AR07       ,55      ,  1,12         ,12         ,2,20050623,0441,  60.0002, -56.1923,     3125,   1129.0,   3.5511,  34.8803,2,     -999,9,    286.1,2,     -999,9,    4.288,2,    2.158,2
35TH20050604  ,AR07       ,55      ,  1,11         ,11         ,2,20050623,0441,  60.0002, -56.1923,     3125,   1196.4,   3.5279,  34.8806,2,     -999,9,    285.7,2,     -999,9,     -999,9,     -999,9
35TH20050604  ,AR07       ,55      ,  1,10         ,10         ,2,20050623,0441,  60.0002, -56.1923,     3125,   1297.9,   3.5504,  34.8943,2,     -999,9,    281.6,2,    281.6,2,    3.788,2,    1.861,2
35TH20050604  ,AR07       ,55      ,  1,9          ,9          ,2,20050623,0441,  60.0002, -56.1923,     3125,   1397.7,   3.5066,  34.9010,2,     -999,9,    279.7,2,     -999,9,     -999,9,     -999,9
35TH20050604  ,AR07       ,55      ,  1,8          ,8          ,2,20050623,0441,  60.0002, -56.1923,     3125,   1510.9,   3.4374,  34.9046,2,  34.9051,2,    279.8,2,     -999,9,    3.516,2,    1.702,2
35TH20050604  ,AR07       ,55      ,  1,7          ,7          ,2,20050623,0441,  60.0002, -56.1923,     3125,   1699.3,   3.2858,  34.8980,2,     -999,9,    282.6,2,    281.3,6,    3.498,2,    1.691,2
35TH20050604  ,AR07       ,55      ,  1,6          ,6          ,2,20050623,0441,  60.0002, -56.1923,     3125,   1796.8,   3.2060,  34.8975,2,     -999,9,    283.2,2,     -999,9,    3.452,2,    1.650,2
35TH20050604  ,AR07       ,55      ,  1,5          ,5          ,2,20050623,0441,  60.0002, -56.1923,     3125,   1998.2,   3.0865,  34.8998,2,     -999,9,    283.7,2,    283.2,2,    3.226,2,    1.564,2
35TH20050604  ,AR07       ,55      ,  1,4          ,4          ,2,20050623,0441,  60.0002, -56.1923,     3125,   2197.4,   2.9698,  34.9051,2,     -999,9,    283.5,2,     -999,9,     -999,9,     -999,9
35TH20050604  ,AR07       ,55      ,  1,3          ,3          ,2,20050623,0441,  60.0002, -56.1923,     3125,   2397.8,   2.8088,  34.9059,2,  34.9088,2,    283.5,2,     -999,9,    2.987,2,    1.450,2
35TH20050604  ,AR07       ,55      ,  1,2          ,2          ,2,20050623,0441,  60.0002, -56.1923,     3125,   2601.8,   2.6332,  34.9065,2,     -999,9,    283.9,2,     -999,9,     -999,9,     -999,9
35TH20050604  ,AR07       ,55      ,  1,1          ,1          ,2,20050623,0441,  60.0002, -56.1923,     3125,   3185.9,   1.4656,  34.8729,2,     -999,9,    299.9,2,    300.3,2,     -999,9,     -999,9
35TH20050604  ,AR07       ,56      ,  1,21         ,21         ,2,20050623,1026,  60.3989, -56.7930,     2984,     23.1,   5.8309,  34.4372,2,     -999,9,    319.9,2,    322.6,2,    5.126,2,    2.710,2
35TH20050604  ,AR07       ,56      ,  1,22         ,22         ,2,20050623,1026,  60.3989, -56.7930,     2984,     24.7,   5.8196,  34.4368,2,     -999,9,    319.9,2,     -999,9,     -999,9,     -999,9
35TH20050604  ,AR07       ,56      ,  1,20         ,20         ,2,20050623,1026,  60.3989, -56.7930,     2984,     91.0,   4.1141,  34.7933,2,     -999,9,    297.8,2,     -999,9,     -999,9,     -999,9
35TH20050604  ,AR07       ,56      ,  1,19         ,19         ,2,20050623,1026,  60.3989, -56.7930,     2984,    281.1,   4.5120,  34.9155,2,     -999,9,    294.3,2,    295.4,2,     -999,9,     -999,9
35TH20050604  ,AR07       ,56      ,  1,18         ,18         ,2,20050623,1026,  60.3989, -56.7930,     2984,    481.8,   4.0828,  34.8797,2,     -999,9,    292.6,2,     -999,9,     -999,9,     -999,9
35TH20050604  ,AR07       ,56      ,  1,17         ,17         ,2,20050623,1026,  60.3989, -56.7930,     2984,    611.7,   4.0806,  34.9011,2,     -999,9,    287.5,2,    290.2,2,    4.419,2,    2.293,2
35TH20050604  ,AR07       ,56      ,  1,16         ,16         ,2,20050623,1026,  60.3989, -56.7930,     2984,    717.5,   3.9782,  34.9029,2,     -999,9,    285.4,2,     -999,9,     -999,9,     -999,9
35TH20050604  ,AR07       ,56      ,  1,15         ,15         ,2,20050623,1026,  60.3989, -56.7930,     2984,    811.9,   3.8280,  34.8917,2,     -999,9,    285.5,2,     -999,9,    4.379,2,    2.242,2
35TH20050604  ,AR07       ,56      ,  1,14         ,14         ,2,20050623,1026,  60.3989, -56.7930,     2984,    949.3,   3.6284,  34.8760,2,     -999,9,    289.5,2,    292.5,2,    4.524,2,    2.310,2
35TH20050604  ,AR07       ,56      ,  1,13         ,13         ,2,20050623,1026,  60.3989, -56.7930,     2984,   1075.5,   3.6396,  34.8895,2,  34.8910,2,    281.6,2,     -999,9,     -999,9,     -999,9
35TH20050604  ,AR07       ,56      ,  1,12         ,12         ,2,20050623,1026,  60.3989, -56.7930,     2984,   1300.3,   3.5465,  34.8987,2,     -999,9,    279.1,2,     -999,9,    3.737,2,    1.807,2
35TH20050604  ,AR07       ,56      ,  1,11         ,11         ,2,20050623,1026,  60.3989, -56.7930,     2984,   1397.3,   3.4970,  34.9024,2,     -999,9,    277.8,2,     -999,9,    3.657,2,    1.779,2
35TH20050604  ,AR07       ,56      ,  1,10         ,10         ,2,20050623,1026,  60.3989, -56.7930,     2984,   1504.0,   3.4264,  34.9024,2,     -999,9,    278.6,2,     -999,9,    3.534,2,    1.708,2
35TH20050604  ,AR07       ,56      ,  1,9          ,9          ,2,20050623,1026,  60.3989, -56.7930,     2984,   1593.9,   3.3412,  34.8986,2,     -999,9,    279.7,2,    282.3,6,     -999,9,     -999,9
35TH20050604  ,AR07       ,56      ,  1,8          ,8          ,2,20050623,1026,  60.3989, -56.7930,     2984,   1698.8,   3.2617,  34.8990,2,     -999,9,    281.0,2,     -999,9,     -999,9,     -999,9
35TH20050604  ,AR07       ,56      ,  1,7          ,7          ,2,20050623,1026,  60.3989, -56.7930,     2984,   1796.6,   3.1845,  34.8986,2,     -999,9,    281.6,2,     -999,9,    3.426,2,    1.642,2
35TH20050604  ,AR07       ,56      ,  1,6          ,6          ,2,20050623,1026,  60.3989, -56.7930,     2984,   1998.5,   3.0559,  34.9023,2,     -999,9,    282.0,2,    284.6,2,    3.213,2,    1.555,2
35TH20050604  ,AR07       ,56      ,  1,5          ,5          ,2,20050623,1026,  60.3989, -56.7930,     2984,   2196.1,   2.9157,  34.9050,2,  34.9051,2,    282.2,2,     -999,9,     -999,9,     -999,9
35TH20050604  ,AR07       ,56      ,  1,4          ,4          ,2,20050623,1026,  60.3989, -56.7930,     2984,   2395.4,   2.7416,  34.9073,2,     -999,9,    282.2,2,    286.3,3,    2.915,2,    1.405,2
35TH20050604  ,AR07       ,56      ,  1,3          ,3          ,2,20050623,1026,  60.3989, -56.7930,     2984,   2594.2,   2.5180,  34.9028,2,     -999,9,    284.0,2,     -999,9,     -999,9,     -999,9
35TH20050604  ,AR07       ,56      ,  1,2          ,2          ,2,20050623,1026,  60.3989, -56.7930,     2984,   2808.2,   2.1902,  34.8915,2,     -999,9,    287.6,2,     -999,9,     -999,9,     -999,9
35TH20050604  ,AR07       ,56      ,  1,1          ,1          ,2,20050623,1026,  60.3989, -56.7930,     2984,   3057.2,   1.5136,  34.8757,2,  34.8768,2,    297.7,2,    299.3,2,    4.158,2,    2.032,2
35TH20050604  ,AR07       ,57      ,  1,22         ,22         ,2,20050623,1600,  60.7987, -57.3890,     2870,     20.9,   5.5352,  34.4407,2,     -999,9,    324.7,2,     -999,9,     -999,9,     -999,9
35TH20050604  ,AR07       ,57      ,  1,21         ,21         ,2,20050623,1600,  60.7987, -57.3890,     2870,     21.6,   5.5170,  34.4408,2,     -999,9,    324.7,2,    325.2,2,    5.228,2,    2.735,2
35TH20050604  ,AR07       ,57      ,  1,20         ,20         ,2,20050623,1600,  60.7987, -57.3890,     2870,    109.4,   4.1354,  34.8126,2,     -999,9,    297.2,2,     -999,9,     -999,9,     -999,9
35TH20050604  ,AR07       ,57      ,  1,19         ,19         ,2,20050623,1600,  60.7987, -57.3890,     2870,    192.4,   4.4517,  34.8949,2,  34.8966,2,    294.5,2,     -999,9,    4.870,2,    2.689,2
35TH20050604  ,AR07       ,57      ,  1,18         ,18         ,2,20050623,1600,  60.7987, -57.3890,     2870,    470.0,   4.0725,  34.8830,2,     -999,9,    292.1,2,    292.6,2,    4.474,2,    2.342,2
35TH20050604  ,AR07       ,57      ,  1,17         ,17         ,2,20050623,1600,  60.7987, -57.3890,     2870,    605.0,   3.9422,  34.8863,2,     -999,9,    288.7,2,     -999,9,    4.438,2,    2.260,2
35TH20050604  ,AR07       ,57      ,  1,16         ,16         ,2,20050623,1600,  60.7987, -57.3890,     2870,    723.3,   3.8539,  34.8899,2,     -999,9,    285.8,2,    288.8,2,     -999,9,     -999,9
35TH20050604  ,AR07       ,57      ,  1,15         ,15         ,2,20050623,1600,  60.7987, -57.3890,     2870,    927.0,   3.6745,  34.8833,2,     -999,9,    287.5,2,     -999,9,    4.516,2,    2.272,2
35TH20050604  ,AR07       ,57      ,  1,14         ,14         ,2,20050623,1600,  60.7987, -57.3890,     2870,   1025.5,   3.6007,  34.8800,2,     -999,9,    287.2,2,     -999,9,     -999,9,     -999,9
35TH20050604  ,AR07       ,57      ,  1,13         ,13         ,2,20050623,1600,  60.7987, -57.3890,     2870,   1127.2,   3.5358,  34.8787,2,     -999,9,    285.5,2,    289.0,3,    4.383,2,    2.170,2
35TH20050604  ,AR07       ,57      ,  1,12         ,12         ,2,20050623,1600,  60.7987, -57.3890,     2870,   1170.1,   3.5214,  34.8804,2,     -999,9,    284.7,2,     -999,9,    4.224,2,    2.097,2
35TH20050604  ,AR07       ,57      ,  1,11         ,11         ,2,20050623,1600,  60.7987, -57.3890,     2870,   1398.1,   3.5110,  34.9045,2,     -999,9,    278.3,2,    278.1,2,    3.709,2,    1.786,2
35TH20050604  ,AR07       ,57      ,  1,10         ,10         ,2,20050623,1600,  60.7987, -57.3890,     2870,   1594.9,   3.3262,  34.9011,2,  34.9023,2,    280.4,2,     -999,9,    3.520,2,    1.666,2
35TH20050604  ,AR07       ,57      ,  1,9          ,9          ,2,20050623,1600,  60.7987, -57.3890,     2870,   1684.2,   3.2256,  34.8961,2,     -999,9,    282.0,2,     -999,9,    3.520,2,    1.671,2
35TH20050604  ,AR07       ,57      ,  1,8          ,8          ,2,20050623,1600,  60.7987, -57.3890,     2870,   1781.4,   3.1595,  34.8971,2,     -999,9,    283.0,2,    284.1,6,     -999,9,     -999,9
35TH20050604  ,AR07       ,57      ,  1,7          ,7          ,2,20050623,1600,  60.7987, -57.3890,     2870,   1897.7,   3.0972,  34.9004,2,     -999,9,    282.6,2,     -999,9,    3.304,2,    1.594,2
35TH20050604  ,AR07       ,57      ,  1,6          ,6          ,2,20050623,1600,  60.7987, -57.3890,     2870,   1997.2,   3.0299,  34.9023,2,     -999,9,    282.4,2,     -999,9,     -999,9,     -999,9
35TH20050604  ,AR07       ,57      ,  1,5          ,5          ,2,20050623,1600,  60.7987, -57.3890,     2870,   2097.3,   2.9517,  34.9046,2,     -999,9,    282.2,2,     -999,9,    3.069,2,    1.456,2
35TH20050604  ,AR07       ,57      ,  1,4          ,4          ,2,20050623,1600,  60.7987, -57.3890,     2870,   2300.6,   2.7759,  34.9057,2,     -999,9,    283.2,2,    282.8,2,     -999,9,     -999,9
35TH20050604  ,AR07       ,57      ,  1,3          ,3          ,2,20050623,1600,  60.7987, -57.3890,     2870,   2596.1,   2.4591,  34.9016,2,     -999,9,    284.5,2,     -999,9,     -999,9,     -999,9
35TH20050604  ,AR07       ,57      ,  1,2          ,2          ,2,20050623,1600,  60.7987, -57.3890,     2870,   2696.6,   2.2913,  34.8953,2,  34.8955,2,    286.5,2,     -999,9,    3.118,2,    1.475,2
35TH20050604  ,AR07       ,57      ,  1,1          ,1          ,2,20050623,1600,  60.7987, -57.3890,     2870,   2880.1,   1.8013,  34.8800,2,     -999,9,    295.2,2,    296.3,2,    3.820,2,    1.854,2
35TH20050604  ,AR07       ,58      ,  1,22         ,22         ,2,20050623,2038,  61.2003, -57.9952,     2687,     11.2,   5.6600,  34.5159,2,     -999,9,    325.0,2,     -999,9,     -999,9,     -999,9
35TH20050604  ,AR07       ,58      ,  1,21         ,21         ,2,20050623,2038,  61.2003, -57.9952,     2687,     11.7,   5.6600,  34.5149,2,  34.5256,2,    325.0,2,    324.6,2,    4.972,2,    2.667,2
35TH20050604  ,AR07       ,58      ,  1,20         ,20         ,2,20050623,2038,  61.2003, -57.9952,     2687,    111.7,   3.9254,  34.7949,2,     -999,9,    301.1,2,     -999,9,     -999,9,     -999,9
35TH20050604  ,AR07       ,58      ,  1,19         ,19         ,2,20050623,2038,  61.2003, -57.9952,     2687,    200.3,   4.2196,  34.8687,2,     -999,9,    295.7,2,     -999,9,     -999,9,     -999,9
35TH20050604  ,AR07       ,58      ,  1,18         ,18         ,2,20050623,2038,  61.2003, -57.9952,     2687,    298.6,   4.0319,  34.8588,2,     -999,9,    296.2,2,    295.3,2,    4.508,2,    2.379,2
35TH20050604  ,AR07       ,58      ,  1,17         ,17         ,2,20050623,2038,  61.2003, -57.9952,     2687,    468.2,   3.8903,  34.8563,2,     -999,9,    296.1,2,     -999,9,    4.529,2,    2.403,2
35TH20050604  ,AR07       ,58      ,  1,16         ,16         ,2,20050623,2038,  61.2003, -57.9952,     2687,    632.3,   3.8998,  34.8700,2,     -999,9,    292.8,2,     -999,9,    4.505,2,    2.368,2
35TH20050604  ,AR07       ,58      ,  1,15         ,15         ,2,20050623,2038,  61.2003, -57.9952,     2687,    793.8,   3.9380,  34.8927,2,     -999,9,    286.6,2,    287.2,2,    4.334,4,    2.217,4
35TH20050604  ,AR07       ,58      ,  1,14         ,14         ,2,20050623,2038,  61.2003, -57.9952,     2687,    948.7,   3.7330,  34.8813,2,     -999,9,    290.7,2,     -999,9,    4.465,2,    2.291,2
35TH20050604  ,AR07       ,58      ,  1,13         ,13         ,2,20050623,2038,  61.2003, -57.9952,     2687,   1069.4,   3.6532,  34.8819,2,     -999,9,    288.3,2,     -999,9,    4.224,2,    2.108,2
35TH20050604  ,AR07       ,58      ,  1,12         ,12         ,2,20050623,2038,  61.2003, -57.9952,     2687,   1198.5,   3.5671,  34.8804,2,     -999,9,    285.2,2,    285.5,6,     -999,9,     -999,9
35TH20050604  ,AR07       ,58      ,  1,11         ,11         ,2,20050623,2038,  61.2003, -57.9952,     2687,   1300.7,   3.5584,  34.8901,2,     -999,9,    282.1,2,     -999,9,    3.939,2,    1.924,2
35TH20050604  ,AR07       ,58      ,  1,10         ,10         ,2,20050623,2038,  61.2003, -57.9952,     2687,   1395.6,   3.5396,  34.8989,2,     -999,9,    279.7,2,     -999,9,     -999,9,     -999,9
35TH20050604  ,AR07       ,58      ,  1,9          ,9          ,2,20050623,2038,  61.2003, -57.9952,     2687,   1646.4,   3.3339,  34.9009,2,     -999,9,    280.8,2,    279.8,2,    3.572,2,    1.694,2
35TH20050604  ,AR07       ,58      ,  1,8          ,8          ,2,20050623,2038,  61.2003, -57.9952,     2687,   1791.3,   3.2004,  34.8983,2,  34.9028,2,    282.7,2,     -999,9,     -999,9,     -999,9
35TH20050604  ,AR07       ,58      ,  1,7          ,7          ,2,20050623,2038,  61.2003, -57.9952,     2687,   1898.3,   3.1234,  34.9009,2,     -999,9,    282.8,2,     -999,9,     -999,9,     -999,9
35TH20050604  ,AR07       ,58      ,  1,6          ,6          ,2,20050623,2038,  61.2003, -57.9952,     2687,   2097.3,   2.9465,  34.9022,2,     -999,9,    282.9,2,    284.4,2,    3.184,2,    1.520,2
35TH20050604  ,AR07       ,58      ,  1,5          ,5          ,2,20050623,2038,  61.2003, -57.9952,     2687,   2197.6,   2.8578,  34.9052,2,     -999,9,    282.9,2,     -999,9,    3.036,2,    1.479,2
35TH20050604  ,AR07       ,58      ,  1,4          ,4          ,2,20050623,2038,  61.2003, -57.9952,     2687,   2296.4,   2.7587,  34.9057,2,     -999,9,    283.1,2,     -999,9,     -999,9,     -999,9
35TH20050604  ,AR07       ,58      ,  1,3          ,3          ,2,20050623,2038,  61.2003, -57.9952,     2687,   2403.5,   2.6509,  34.9073,2,     -999,9,    283.1,2,     -999,9,    5.135,4,    2.699,4
35TH20050604  ,AR07       ,58      ,  1,2          ,2          ,2,20050623,2038,  61.2003, -57.9952,     2687,   2496.7,   2.4991,  34.9027,2,     -999,9,    284.5,2,     -999,9,     -999,9,     -999,9
35TH20050604  ,AR07       ,58      ,  1,1          ,1          ,2,20050623,2038,  61.2003, -57.9952,     2687,   2745.2,   1.7655,  34.8771,2,  34.8855,2,    294.5,2,    294.7,2,    3.836,2,    1.860,2