BOTTLE,20240221CCHSIOADS
EXPOCODE,SECT_ID,STNNBR,CASTNO,SAMPNO,BTLNBR,BTLNBR_FLAG_W,DATE,TIME,LATITUDE,LONGITUDE,DEPTH,CTDPRS,CTDTMP,CTDSAL,CTDSAL_FLAG_W,SALNTY,SALNTY_FLAG_W,CTDOXY,CTDOXY_FLAG_W,OXYGEN,OXYGEN_FLAG_W,CFC-11,CFC-11_FLAG_W,CFC-12,CFC-12_FLAG_W
,,,,,,,,,,,METERS,DBAR,ITS-90,PSS-78,,PSS-78,,UMOL/KG,,UMOL/KG,,PMOL/KG,,PMOL/KG,
35TH20050604  ,AR07       ,13      ,  1,22         ,22         ,2,20050608,1301,  47.8333, -21.1817,     4476,     21.4,  14.1481,  35.6594,2,     -999,9,    267.7,2,    286.7,4,    3.131,4,    1.950,4
35TH20050604  ,AR07       ,13      ,  1,21         ,21         ,2,20050608,1301,  47.8333, -21.1817,     4476,    203.8,  11.9708,  35.5872,2,     -999,9,    243.7,2,     -999,9,    2.873,2,    1.629,2
35TH20050604  ,AR07       ,13      ,  1,20         ,20         ,2,20050608,1301,  47.8333, -21.1817,     4476,    522.4,   9.7583,  35.3284,2,     -999,9,    207.6,2,    229.5,3,    2.455,2,    1.321,2
35TH20050604  ,AR07       ,13      ,  1,19         ,19         ,2,20050608,1301,  47.8333, -21.1817,     4476,    812.3,   7.0045,  35.1632,2,     -999,9,    209.3,2,     -999,9,    2.251,2,    1.156,2
35TH20050604  ,AR07       ,13      ,  1,18         ,18         ,2,20050608,1301,  47.8333, -21.1817,     4476,   1011.8,   5.2402,  35.0105,2,     -999,9,    237.8,2,     -999,9,    2.737,2,    1.398,2
35TH20050604  ,AR07       ,13      ,  1,17         ,17         ,2,20050608,1301,  47.8333, -21.1817,     4476,   1080.8,   5.3392,  35.0753,2,     -999,9,    240.7,2,     -999,9,    2.374,3,    1.188,3
35TH20050604  ,AR07       ,13      ,  1,16         ,16         ,2,20050608,1301,  47.8333, -21.1817,     4476,   1199.5,   4.8485,  35.0330,2,     -999,9,    245.7,2,     -999,9,     -999,9,     -999,9
35TH20050604  ,AR07       ,13      ,  1,15         ,15         ,2,20050608,1301,  47.8333, -21.1817,     4476,   1298.3,   4.4454,  34.9850,2,     -999,9,    254.2,2,     -999,9,    3.008,4,    1.723,4
35TH20050604  ,AR07       ,13      ,  1,14         ,14         ,2,20050608,1301,  47.8333, -21.1817,     4476,   1396.5,   4.0964,  34.9451,2,     -999,9,    261.9,2,     -999,9,     -999,9,     -999,9
35TH20050604  ,AR07       ,13      ,  1,13         ,13         ,2,20050608,1301,  47.8333, -21.1817,     4476,   1497.4,   3.9537,  34.9363,2,  34.9415,2,    264.5,2,    285.3,3,    2.739,2,    1.361,2
35TH20050604  ,AR07       ,13      ,  1,12         ,12         ,2,20050608,1301,  47.8333, -21.1817,     4476,   1648.8,   3.7216,  34.9201,2,     -999,9,    268.4,2,     -999,9,    2.634,2,    1.280,2
35TH20050604  ,AR07       ,13      ,  1,11         ,11         ,2,20050608,1301,  47.8333, -21.1817,     4476,   1807.3,   3.5170,  34.9060,2,     -999,9,    272.9,2,     -999,9,    2.634,2,    1.276,2
35TH20050604  ,AR07       ,13      ,  1,10         ,10         ,2,20050608,1301,  47.8333, -21.1817,     4476,   1947.7,   3.3739,  34.8997,2,     -999,9,    275.6,2,     -999,9,    2.629,2,    1.281,2
35TH20050604  ,AR07       ,13      ,  1,9          ,9          ,2,20050608,1301,  47.8333, -21.1817,     4476,   2098.3,   3.2842,  34.9010,2,     -999,9,    277.0,2,    273.7,2,    2.545,2,    1.230,2
35TH20050604  ,AR07       ,13      ,  1,8          ,8          ,2,20050608,1301,  47.8333, -21.1817,     4476,   2297.1,   3.2138,  34.9137,2,     -999,9,    274.6,2,     -999,9,    2.191,2,    1.063,2
35TH20050604  ,AR07       ,13      ,  1,7          ,7          ,2,20050608,1301,  47.8333, -21.1817,     4476,   2657.9,   3.0756,  34.9426,2,  34.9456,2,    264.9,2,     -999,9,    1.647,2,    1.066,4
35TH20050604  ,AR07       ,13      ,  1,6          ,6          ,2,20050608,1301,  47.8333, -21.1817,     4476,   3014.8,   2.8695,  34.9444,2,     -999,9,    257.7,2,     -999,9,    0.846,2,    0.407,2
35TH20050604  ,AR07       ,13      ,  1,5          ,5          ,2,20050608,1301,  47.8333, -21.1817,     4476,   3318.5,   2.7313,  34.9358,2,  34.9379,2,    252.1,2,    265.9,3,    0.653,2,    0.325,2
35TH20050604  ,AR07       ,13      ,  1,4          ,4          ,2,20050608,1301,  47.8333, -21.1817,     4476,   3606.4,   2.6217,  34.9237,2,     -999,9,    245.7,2,     -999,9,    0.346,2,    0.174,2
35TH20050604  ,AR07       ,13      ,  1,3          ,3          ,2,20050608,1301,  47.8333, -21.1817,     4476,   3896.7,   2.5740,  34.9163,2,     -999,9,    242.8,2,     -999,9,    0.129,2,    0.064,2
35TH20050604  ,AR07       ,13      ,  1,2          ,2          ,2,20050608,1301,  47.8333, -21.1817,     4476,   4246.9,   2.5622,  34.9112,2,     -999,9,    241.3,2,     -999,9,    0.067,2,    0.032,2
35TH20050604  ,AR07       ,13      ,  1,1          ,1          ,2,20050608,1301,  47.8333, -21.1817,     4476,   4530.5,   2.5620,  34.9082,2,  34.9104,2,    240.4,2,    238.3,3,    0.046,2,    0.022,2
35TH20050604  ,AR07       ,14      ,  1,22         ,22         ,2,20050608,1934,  47.7083, -22.0583,     4438,     25.5,  14.5775,  35.7754,2,     -999,9,    265.7,2,    267.4,2,    2.766,2,    1.608,2
35TH20050604  ,AR07       ,14      ,  1,21         ,21         ,2,20050608,1934,  47.7083, -22.0583,     4438,    187.4,  13.1454,  35.7137,2,     -999,9,    217.3,2,     -999,9,    2.770,2,    1.613,2
35TH20050604  ,AR07       ,14      ,  1,20         ,20         ,2,20050608,1934,  47.7083, -22.0583,     4438,    494.5,  10.0514,  35.3096,2,     -999,9,    211.4,2,     -999,9,     -999,9,     -999,9
35TH20050604  ,AR07       ,14      ,  1,19         ,19         ,2,20050608,1934,  47.7083, -22.0583,     4438,    680.9,   7.8195,  35.1156,2,     -999,9,    195.9,2,     -999,9,    2.073,2,    1.078,2
35TH20050604  ,AR07       ,14      ,  1,18         ,18         ,2,20050608,1934,  47.7083, -22.0583,     4438,    899.3,   6.3399,  35.1327,2,     -999,9,    220.6,2,     -999,9,     -999,9,     -999,9
35TH20050604  ,AR07       ,14      ,  1,17         ,17         ,2,20050608,1934,  47.7083, -22.0583,     4438,    998.8,   5.7918,  35.1053,2,  35.1160,2,    227.8,2,     -999,9,    2.407,2,    1.213,2
35TH20050604  ,AR07       ,14      ,  1,16         ,16         ,2,20050608,1934,  47.7083, -22.0583,     4438,   1106.6,   5.2809,  35.0762,2,     -999,9,    237.5,2,     -999,9,     -999,9,     -999,9
35TH20050604  ,AR07       ,14      ,  1,15         ,15         ,2,20050608,1934,  47.7083, -22.0583,     4438,   1221.0,   4.6681,  35.0040,2,     -999,9,    249.8,2,     -999,9,    2.765,2,    1.398,2
35TH20050604  ,AR07       ,14      ,  1,14         ,14         ,2,20050608,1934,  47.7083, -22.0583,     4438,   1287.9,   4.4088,  34.9794,2,     -999,9,    254.9,2,     -999,9,    2.707,2,    1.358,2
35TH20050604  ,AR07       ,14      ,  1,13         ,13         ,2,20050608,1934,  47.7083, -22.0583,     4438,   1407.0,   4.1196,  34.9548,2,     -999,9,    260.7,2,    261.3,2,    2.731,2,    1.367,2
35TH20050604  ,AR07       ,14      ,  1,12         ,12         ,2,20050608,1934,  47.7083, -22.0583,     4438,   1612.3,   3.7165,  34.9199,2,     -999,9,    268.2,2,     -999,9,    2.915,2,    1.556,2
35TH20050604  ,AR07       ,14      ,  1,11         ,11         ,2,20050608,1934,  47.7083, -22.0583,     4438,   1759.6,   3.5339,  34.9087,2,     -999,9,    272.0,2,     -999,9,    2.689,2,    1.311,2
35TH20050604  ,AR07       ,14      ,  1,10         ,10         ,2,20050608,1934,  47.7083, -22.0583,     4438,   1899.7,   3.3911,  34.8989,2,     -999,9,    275.5,2,     -999,9,    2.711,2,    1.316,2
35TH20050604  ,AR07       ,14      ,  1,9          ,9          ,2,20050608,1934,  47.7083, -22.0583,     4438,   2116.3,   3.2600,  34.8977,2,  34.9000,2,    277.5,2,     -999,9,    2.668,2,    1.302,2
35TH20050604  ,AR07       ,14      ,  1,8          ,8          ,2,20050608,1934,  47.7083, -22.0583,     4438,   2319.1,   3.1855,  34.9096,2,     -999,9,    276.1,2,    274.5,2,    2.383,2,    1.156,2
35TH20050604  ,AR07       ,14      ,  1,7          ,7          ,2,20050608,1934,  47.7083, -22.0583,     4438,   2610.9,   3.0957,  34.9317,2,     -999,9,    270.4,2,     -999,9,     -999,9,     -999,9
35TH20050604  ,AR07       ,14      ,  1,6          ,6          ,2,20050608,1934,  47.7083, -22.0583,     4438,   2900.1,   2.9640,  34.9436,2,     -999,9,    263.0,2,     -999,9,    1.162,2,    0.567,2
35TH20050604  ,AR07       ,14      ,  1,5          ,5          ,2,20050608,1934,  47.7083, -22.0583,     4438,   3197.3,   2.8298,  34.9412,2,     -999,9,    255.9,2,    253.5,2,     -999,9,     -999,9
35TH20050604  ,AR07       ,14      ,  1,4          ,4          ,2,20050608,1934,  47.7083, -22.0583,     4438,   3496.4,   2.6789,  34.9299,2,  34.9291,2,    248.4,2,     -999,9,    0.426,2,    0.204,2
35TH20050604  ,AR07       ,14      ,  1,3          ,3          ,2,20050608,1934,  47.7083, -22.0583,     4438,   3797.3,   2.5996,  34.9200,2,     -999,9,    244.0,2,     -999,9,     -999,9,     -999,9
35TH20050604  ,AR07       ,14      ,  1,2          ,2          ,2,20050608,1934,  47.7083, -22.0583,     4438,   4096.1,   2.5804,  34.9150,2,     -999,9,    242.4,2,    242.4,2,     -999,9,     -999,9
35TH20050604  ,AR07       ,14      ,  1,1          ,1          ,2,20050608,1934,  47.7083, -22.0583,     4438,   4524.4,   2.5913,  34.9111,2,  34.9134,2,    240.5,2,     -999,9,     -999,9,     -999,9
35TH20050604  ,AR07       ,15      ,  1,20         ,20         ,2,20050609,0157,  47.6000, -22.8667,     4165,    422.6,   9.8133,  35.2770,2,     -999,9,    211.5,2,     -999,9,     -999,9,     -999,9
35TH20050604  ,AR07       ,15      ,  1,19         ,19         ,2,20050609,0157,  47.6000, -22.8667,     4165,    707.8,   7.3350,  35.1553,2,     -999,9,    203.5,2,     -999,9,    2.217,6,    1.144,6
35TH20050604  ,AR07       ,15      ,  1,18         ,18         ,2,20050609,0157,  47.6000, -22.8667,     4165,    905.1,   6.0244,  35.1424,2,  35.1392,2,    224.8,2,    221.9,2,     -999,9,     -999,9
35TH20050604  ,AR07       ,15      ,  1,17         ,17         ,2,20050609,0157,  47.6000, -22.8667,     4165,    993.3,   5.1923,  35.0505,2,     -999,9,    238.8,2,     -999,9,    2.597,2,    1.323,2
35TH20050604  ,AR07       ,15      ,  1,16         ,16         ,2,20050609,0157,  47.6000, -22.8667,     4165,   1046.7,   5.1094,  35.0551,2,     -999,9,    243.6,2,     -999,9,    2.555,2,    1.296,2
35TH20050604  ,AR07       ,15      ,  1,15         ,15         ,2,20050609,0157,  47.6000, -22.8667,     4165,   1081.3,   4.8395,  35.0208,2,     -999,9,    245.7,2,     -999,9,    2.816,2,    1.444,2
35TH20050604  ,AR07       ,15      ,  1,14         ,14         ,2,20050609,0157,  47.6000, -22.8667,     4165,   1227.8,   4.2653,  34.9606,2,     -999,9,    258.3,2,     -999,9,     -999,9,     -999,9
35TH20050604  ,AR07       ,15      ,  1,13         ,13         ,2,20050609,0157,  47.6000, -22.8667,     4165,   1276.4,   4.0832,  34.9393,2,     -999,9,    261.8,2,     -999,9,    2.911,2,    1.468,2
35TH20050604  ,AR07       ,15      ,  1,12         ,12         ,2,20050609,0157,  47.6000, -22.8667,     4165,   1568.0,   3.7303,  34.9218,2,     -999,9,    268.1,2,     -999,9,    2.719,2,    1.346,2
35TH20050604  ,AR07       ,15      ,  1,11         ,11         ,2,20050609,0157,  47.6000, -22.8667,     4165,   1691.8,   3.5663,  34.9093,2,     -999,9,    271.8,2,     -999,9,    2.597,2,    1.264,2
35TH20050604  ,AR07       ,15      ,  1,10         ,10         ,2,20050609,0157,  47.6000, -22.8667,     4165,   1831.3,   3.4200,  34.8997,2,  34.9053,2,    275.0,2,    271.4,2,    2.593,2,    1.269,2
35TH20050604  ,AR07       ,15      ,  1,9          ,9          ,2,20050609,0157,  47.6000, -22.8667,     4165,   2003.3,   3.2891,  34.8982,2,     -999,9,    277.1,2,     -999,9,    2.637,2,    1.295,2
35TH20050604  ,AR07       ,15      ,  1,8          ,8          ,2,20050609,0157,  47.6000, -22.8667,     4165,   2120.6,   3.2214,  34.9017,2,     -999,9,    277.1,2,     -999,9,    2.432,2,    1.181,2
35TH20050604  ,AR07       ,15      ,  1,7          ,7          ,2,20050609,0157,  47.6000, -22.8667,     4165,   2396.8,   3.1398,  34.9217,2,     -999,9,    272.9,2,     -999,9,    2.304,2,    1.312,4
35TH20050604  ,AR07       ,15      ,  1,6          ,6          ,2,20050609,0157,  47.6000, -22.8667,     4165,   2707.5,   3.0038,  34.9418,2,     -999,9,    265.6,2,    264.1,2,    1.476,2,    0.723,2
35TH20050604  ,AR07       ,15      ,  1,5          ,5          ,2,20050609,0157,  47.6000, -22.8667,     4165,   2995.0,   2.8466,  34.9426,2,  34.9436,2,    260.4,2,     -999,9,    1.150,2,    0.558,2
35TH20050604  ,AR07       ,15      ,  1,4          ,4          ,2,20050609,0157,  47.6000, -22.8667,     4165,   3295.7,   2.7213,  34.9346,2,     -999,9,    253.5,2,     -999,9,    0.793,2,    0.388,2
35TH20050604  ,AR07       ,15      ,  1,3          ,3          ,2,20050609,0157,  47.6000, -22.8667,     4165,   3595.8,   2.6242,  34.9245,2,     -999,9,    246.4,2,     -999,9,    0.368,2,    0.178,2
35TH20050604  ,AR07       ,15      ,  1,2          ,2          ,2,20050609,0157,  47.6000, -22.8667,     4165,   3896.1,   2.5868,  34.9177,2,     -999,9,    243.1,2,     -999,9,    0.168,2,    0.083,2
35TH20050604  ,AR07       ,15      ,  1,1          ,1          ,2,20050609,0157,  47.6000, -22.8667,     4165,   4192.7,   2.5761,  34.9136,2,  34.9155,2,    241.1,2,    244.4,2,    0.098,2,    0.047,2
35TH20050604  ,AR07       ,16      ,  1,22         ,22         ,2,20050609,0818,  47.4855, -23.6924,     3893,     23.9,  14.3688,  35.4678,2,     -999,9,    265.0,2,    257.3,3,    2.845,2,    1.653,2
35TH20050604  ,AR07       ,16      ,  1,21         ,21         ,2,20050609,0818,  47.4855, -23.6924,     3893,     24.1,  14.3661,  35.4646,2,     -999,9,    265.7,2,     -999,9,    3.023,4,    1.773,4
35TH20050604  ,AR07       ,16      ,  1,20         ,20         ,2,20050609,0818,  47.4855, -23.6924,     3893,    203.2,  12.1435,  35.5470,2,     -999,9,    247.3,2,     -999,9,    2.916,2,    1.684,2
35TH20050604  ,AR07       ,16      ,  1,19         ,19         ,2,20050609,0818,  47.4855, -23.6924,     3893,    502.2,  10.1742,  35.3432,2,     -999,9,    216.7,2,     -999,9,    2.568,2,    1.392,2
35TH20050604  ,AR07       ,16      ,  1,18         ,18         ,2,20050609,0818,  47.4855, -23.6924,     3893,    656.0,   8.6892,  35.2602,2,     -999,9,    195.3,2,    201.3,3,     -999,9,     -999,9
35TH20050604  ,AR07       ,16      ,  1,17         ,17         ,2,20050609,0818,  47.4855, -23.6924,     3893,    788.8,   7.2346,  35.1834,2,     -999,9,    204.8,2,     -999,9,    2.112,2,    1.065,2
35TH20050604  ,AR07       ,16      ,  1,16         ,16         ,2,20050609,0818,  47.4855, -23.6924,     3893,    904.0,   7.1118,  35.2811,2,     -999,9,    210.5,2,     -999,9,    2.035,2,    1.023,2
35TH20050604  ,AR07       ,16      ,  1,15         ,15         ,2,20050609,0818,  47.4855, -23.6924,     3893,   1015.5,   5.6389,  35.0953,2,     -999,9,    230.9,2,     -999,9,    2.472,2,    1.264,2
35TH20050604  ,AR07       ,16      ,  1,14         ,14         ,2,20050609,0818,  47.4855, -23.6924,     3893,   1210.2,   4.7926,  35.0266,2,     -999,9,    246.4,2,     -999,9,     -999,9,     -999,9
35TH20050604  ,AR07       ,16      ,  1,13         ,13         ,2,20050609,0818,  47.4855, -23.6924,     3893,   1294.4,   4.4365,  34.9881,2,     -999,9,    253.4,2,     -999,9,    2.659,2,    1.334,2
35TH20050604  ,AR07       ,16      ,  1,12         ,12         ,2,20050609,0818,  47.4855, -23.6924,     3893,   1370.8,   4.1147,  34.9480,2,     -999,9,    260.4,2,    265.6,2,    2.883,2,    1.464,2
35TH20050604  ,AR07       ,16      ,  1,11         ,11         ,2,20050609,0818,  47.4855, -23.6924,     3893,   1671.8,   3.6299,  34.9112,2,     -999,9,    270.1,2,     -999,9,    2.732,2,    1.350,2
35TH20050604  ,AR07       ,16      ,  1,10         ,10         ,2,20050609,0818,  47.4855, -23.6924,     3893,   1813.0,   3.4749,  34.9034,2,     -999,9,    273.6,2,     -999,9,    2.599,2,    1.271,2
35TH20050604  ,AR07       ,16      ,  1,9          ,9          ,2,20050609,0818,  47.4855, -23.6924,     3893,   2046.5,   3.2989,  34.8996,2,     -999,9,    276.7,2,     -999,9,    2.568,2,    1.249,2
35TH20050604  ,AR07       ,16      ,  1,8          ,8          ,2,20050609,0818,  47.4855, -23.6924,     3893,   2246.6,   3.2146,  34.9112,2,     -999,9,    275.0,2,    281.0,3,    2.245,2,    1.084,2
35TH20050604  ,AR07       ,16      ,  1,7          ,7          ,2,20050609,0818,  47.4855, -23.6924,     3893,   2497.4,   3.0966,  34.9262,2,     -999,9,    272.4,2,     -999,9,    1.937,2,    0.942,2
35TH20050604  ,AR07       ,16      ,  1,6          ,6          ,2,20050609,0818,  47.4855, -23.6924,     3893,   2745.7,   2.9887,  34.9389,2,     -999,9,    266.7,2,     -999,9,    1.615,2,    0.788,2
35TH20050604  ,AR07       ,16      ,  1,5          ,5          ,2,20050609,0818,  47.4855, -23.6924,     3893,   2948.6,   2.8755,  34.9415,2,     -999,9,    261.9,2,    264.3,2,    1.496,2,    0.775,3
35TH20050604  ,AR07       ,16      ,  1,4          ,4          ,2,20050609,0818,  47.4855, -23.6924,     3893,   3197.4,   2.7695,  34.9355,2,     -999,9,    255.3,2,     -999,9,    0.938,2,    0.460,2
35TH20050604  ,AR07       ,16      ,  1,3          ,3          ,2,20050609,0818,  47.4855, -23.6924,     3893,   3496.4,   2.6906,  34.9304,2,     -999,9,    250.9,2,     -999,9,     -999,9,     -999,9
35TH20050604  ,AR07       ,16      ,  1,2          ,2          ,2,20050609,0818,  47.4855, -23.6924,     3893,   3697.5,   2.6620,  34.9264,2,     -999,9,    248.0,2,     -999,9,    0.492,2,    0.239,2
35TH20050604  ,AR07       ,16      ,  1,1          ,1          ,2,20050609,0818,  47.4855, -23.6924,     3893,   3952.3,   2.6119,  34.9195,2,  34.9224,2,    243.7,2,    242.0,2,     -999,9,     -999,9