BOTTLE,20240221CCHSIOADS
EXPOCODE,SECT_ID,STNNBR,CASTNO,SAMPNO,BTLNBR,BTLNBR_FLAG_W,DATE,TIME,LATITUDE,LONGITUDE,DEPTH,CTDPRS,CTDTMP,CTDSAL,CTDSAL_FLAG_W,SALNTY,SALNTY_FLAG_W,CTDOXY,CTDOXY_FLAG_W,OXYGEN,OXYGEN_FLAG_W,CFC-11,CFC-11_FLAG_W,CFC-12,CFC-12_FLAG_W
,,,,,,,,,,,METERS,DBAR,ITS-90,PSS-78,,PSS-78,,UMOL/KG,,UMOL/KG,,PMOL/KG,,PMOL/KG,
35TH20050604  ,AR07       ,129     ,  1,22         ,22         ,2,20050710,0636,  49.0159, -43.3987,     3827,     22.7,  11.1191,  34.1988,2,     -999,9,    289.3,2,     -999,9,     -999,9,     -999,9
35TH20050604  ,AR07       ,129     ,  1,21         ,21         ,2,20050710,0636,  49.0159, -43.3987,     3827,     22.8,  11.0917,  34.1702,2,     -999,9,    289.7,2,    292.8,2,    3.690,2,    2.068,2
35TH20050604  ,AR07       ,129     ,  1,20         ,20         ,2,20050710,0636,  49.0159, -43.3987,     3827,    201.6,   5.5444,  34.9558,2,     -999,9,    230.3,2,     -999,9,     -999,9,     -999,9
35TH20050604  ,AR07       ,129     ,  1,19         ,19         ,2,20050710,0636,  49.0159, -43.3987,     3827,    400.5,   4.2169,  34.8893,2,     -999,9,    278.6,2,    274.9,2,    3.766,2,    1.967,2
35TH20050604  ,AR07       ,129     ,  1,18         ,18         ,2,20050710,0636,  49.0159, -43.3987,     3827,    602.9,   3.9875,  34.9011,2,     -999,9,    281.8,2,     -999,9,     -999,9,     -999,9
35TH20050604  ,AR07       ,129     ,  1,17         ,17         ,2,20050710,0636,  49.0159, -43.3987,     3827,    790.0,   3.7734,  34.8950,2,     -999,9,    282.9,2,    282.3,2,    3.800,2,    1.947,2
35TH20050604  ,AR07       ,129     ,  1,16         ,16         ,2,20050710,0636,  49.0159, -43.3987,     3827,    999.4,   3.5490,  34.8789,2,     -999,9,    287.9,2,     -999,9,    3.925,2,    2.006,2
35TH20050604  ,AR07       ,129     ,  1,15         ,15         ,2,20050710,0636,  49.0159, -43.3987,     3827,   1188.2,   3.5306,  34.8949,2,     -999,9,    282.9,2,    281.2,6,    3.401,2,    1.711,2
35TH20050604  ,AR07       ,129     ,  1,14         ,14         ,2,20050710,0636,  49.0159, -43.3987,     3827,   1398.1,   3.4354,  34.9022,2,     -999,9,    280.9,2,     -999,9,    3.070,2,    1.522,2
35TH20050604  ,AR07       ,129     ,  1,13         ,13         ,2,20050710,0636,  49.0159, -43.3987,     3827,   1584.6,   3.2920,  34.8970,2,     -999,9,    282.8,2,     -999,9,    2.904,2,    1.429,2
35TH20050604  ,AR07       ,129     ,  1,12         ,12         ,2,20050710,0636,  49.0159, -43.3987,     3827,   1797.1,   3.1725,  34.8968,2,     -999,9,    284.1,2,     -999,9,     -999,9,     -999,9
35TH20050604  ,AR07       ,129     ,  1,11         ,11         ,2,20050710,0636,  49.0159, -43.3987,     3827,   1997.3,   3.0719,  34.9018,2,     -999,9,    283.2,2,     -999,9,    2.640,2,    1.294,2
35TH20050604  ,AR07       ,129     ,  1,10         ,10         ,2,20050710,0636,  49.0159, -43.3987,     3827,   2198.2,   2.9608,  34.9079,2,     -999,9,    282.1,2,    279.6,2,     -999,9,     -999,9
35TH20050604  ,AR07       ,129     ,  1,9          ,9          ,2,20050710,0636,  49.0159, -43.3987,     3827,   2398.6,   2.8569,  34.9112,2,     -999,9,    282.0,2,     -999,9,    2.290,2,    1.132,2
35TH20050604  ,AR07       ,129     ,  1,8          ,8          ,2,20050710,0636,  49.0159, -43.3987,     3827,   2597.5,   2.6990,  34.9123,2,     -999,9,    281.6,2,     -999,9,    2.227,2,    1.090,2
35TH20050604  ,AR07       ,129     ,  1,7          ,7          ,2,20050710,0636,  49.0159, -43.3987,     3827,   2796.8,   2.5201,  34.9084,2,     -999,9,    282.1,2,     -999,9,    2.124,2,    1.055,2
35TH20050604  ,AR07       ,129     ,  1,6          ,6          ,2,20050710,0636,  49.0159, -43.3987,     3827,   3008.4,   2.3542,  34.9027,2,     -999,9,    282.4,2,    282.9,2,    2.111,2,    1.059,2
35TH20050604  ,AR07       ,129     ,  1,5          ,5          ,2,20050710,0636,  49.0159, -43.3987,     3827,   3196.9,   2.2224,  34.8965,2,     -999,9,    283.5,2,     -999,9,    2.239,2,    1.129,2
35TH20050604  ,AR07       ,129     ,  1,4          ,4          ,2,20050710,0636,  49.0159, -43.3987,     3827,   3397.9,   2.1156,  34.8914,2,     -999,9,    287.2,2,     -999,9,     -999,9,     -999,9
35TH20050604  ,AR07       ,129     ,  1,3          ,3          ,2,20050710,0636,  49.0159, -43.3987,     3827,   3596.9,   2.0130,  34.8888,2,     -999,9,    290.0,2,     -999,9,    3.069,2,    1.532,2
35TH20050604  ,AR07       ,129     ,  1,2          ,2          ,2,20050710,0636,  49.0159, -43.3987,     3827,   3796.7,   1.8982,  34.8857,2,     -999,9,    292.8,2,     -999,9,     -999,9,     -999,9
35TH20050604  ,AR07       ,129     ,  1,1          ,1          ,2,20050710,0636,  49.0159, -43.3987,     3827,   3844.8,   1.8758,  34.8850,2,     -999,9,    293.5,2,    294.3,2,    3.416,2,    1.739,2