BOTTLE,20240221CCHSIOADS
EXPOCODE,SECT_ID,STNNBR,CASTNO,SAMPNO,BTLNBR,BTLNBR_FLAG_W,DATE,TIME,LATITUDE,LONGITUDE,DEPTH,CTDPRS,CTDTMP,CTDSAL,CTDSAL_FLAG_W,SALNTY,SALNTY_FLAG_W,CTDOXY,CTDOXY_FLAG_W,OXYGEN,OXYGEN_FLAG_W,CFC-11,CFC-11_FLAG_W,CFC-12,CFC-12_FLAG_W
,,,,,,,,,,,METERS,DBAR,ITS-90,PSS-78,,PSS-78,,UMOL/KG,,UMOL/KG,,PMOL/KG,,PMOL/KG,
35TH20050604  ,AR07       ,80      ,  1,22         ,22         ,2,20050628,0701,  57.6667, -50.0852,     3528,     18.1,   6.9978,  34.7079,2,     -999,9,    312.4,2,     -999,9,     -999,9,     -999,9
35TH20050604  ,AR07       ,80      ,  1,21         ,21         ,2,20050628,0701,  57.6667, -50.0852,     3528,     18.1,   6.9978,  34.7079,2,  34.7157,2,    312.4,2,    313.3,2,    4.233,2,    2.322,2
35TH20050604  ,AR07       ,80      ,  1,20         ,20         ,2,20050628,0701,  57.6667, -50.0852,     3528,    382.1,   3.5164,  34.8481,2,     -999,9,    302.3,2,     -999,9,     -999,9,     -999,9
35TH20050604  ,AR07       ,80      ,  1,19         ,19         ,2,20050628,0701,  57.6667, -50.0852,     3528,    622.5,   3.4743,  34.8513,2,     -999,9,    301.3,2,    303.8,2,    4.553,2,    2.442,2
35TH20050604  ,AR07       ,80      ,  1,18         ,18         ,2,20050628,0701,  57.6667, -50.0852,     3528,    827.6,   3.4728,  34.8548,2,     -999,9,    299.1,2,     -999,9,    4.514,2,    2.423,2
35TH20050604  ,AR07       ,80      ,  1,17         ,17         ,2,20050628,0701,  57.6667, -50.0852,     3528,    975.7,   3.4562,  34.8558,2,     -999,9,    296.3,2,    302.4,2,    4.461,2,    2.362,2
35TH20050604  ,AR07       ,80      ,  1,16         ,16         ,2,20050628,0701,  57.6667, -50.0852,     3528,   1194.9,   3.4200,  34.8572,2,     -999,9,    293.0,2,     -999,9,     -999,9,     -999,9
35TH20050604  ,AR07       ,80      ,  1,15         ,15         ,2,20050628,0701,  57.6667, -50.0852,     3528,   1377.0,   3.4561,  34.8703,2,     -999,9,    288.6,2,     -999,9,    4.096,2,    2.110,2
35TH20050604  ,AR07       ,80      ,  1,14         ,14         ,2,20050628,0701,  57.6667, -50.0852,     3528,   1526.4,   3.4970,  34.8876,2,     -999,9,    284.3,2,    284.2,2,    3.697,2,    1.890,2
35TH20050604  ,AR07       ,80      ,  1,13         ,13         ,2,20050628,0701,  57.6667, -50.0852,     3528,   1597.1,   3.4801,  34.8899,2,  34.8920,2,    283.6,2,     -999,9,    3.322,2,    1.656,2
35TH20050604  ,AR07       ,80      ,  1,12         ,12         ,2,20050628,0701,  57.6667, -50.0852,     3528,   1798.9,   3.3983,  34.8927,2,     -999,9,    282.9,2,     -999,9,    3.174,2,    1.577,2
35TH20050604  ,AR07       ,80      ,  1,11         ,11         ,2,20050628,0701,  57.6667, -50.0852,     3528,   1933.7,   3.2873,  34.8877,2,     -999,9,    285.4,2,    283.6,6,     -999,9,     -999,9
35TH20050604  ,AR07       ,80      ,  1,10         ,10         ,2,20050628,0701,  57.6667, -50.0852,     3528,   2096.7,   3.2169,  34.8872,2,     -999,9,    286.7,2,     -999,9,    3.043,6,    1.511,6
35TH20050604  ,AR07       ,80      ,  1,9          ,9          ,2,20050628,0701,  57.6667, -50.0852,     3528,   2243.7,   3.1523,  34.8914,2,     -999,9,    286.4,2,     -999,9,     -999,9,     -999,9
35TH20050604  ,AR07       ,80      ,  1,8          ,8          ,2,20050628,0701,  57.6667, -50.0852,     3528,   2375.6,   3.1084,  34.8981,2,     -999,9,    285.8,2,    283.3,2,    2.737,2,    1.372,2
35TH20050604  ,AR07       ,80      ,  1,7          ,7          ,2,20050628,0701,  57.6667, -50.0852,     3528,   2523.0,   3.0504,  34.9032,2,     -999,9,    284.9,2,     -999,9,     -999,9,     -999,9
35TH20050604  ,AR07       ,80      ,  1,6          ,6          ,2,20050628,0701,  57.6667, -50.0852,     3528,   2719.8,   2.9553,  34.9109,2,     -999,9,    283.9,2,     -999,9,    2.658,2,    1.330,2
35TH20050604  ,AR07       ,80      ,  1,5          ,5          ,2,20050628,0701,  57.6667, -50.0852,     3528,   2837.0,   2.8504,  34.9088,2,     -999,9,    284.9,2,     -999,9,     -999,9,     -999,9
35TH20050604  ,AR07       ,80      ,  1,4          ,4          ,2,20050628,0701,  57.6667, -50.0852,     3528,   3000.6,   2.7058,  34.9122,2,     -999,9,    285.2,2,    282.1,2,    2.514,2,    1.258,2
35TH20050604  ,AR07       ,80      ,  1,3          ,3          ,2,20050628,0701,  57.6667, -50.0852,     3528,   3149.0,   2.5389,  34.9064,2,     -999,9,    286.1,2,     -999,9,     -999,9,     -999,9
35TH20050604  ,AR07       ,80      ,  1,2          ,2          ,2,20050628,0701,  57.6667, -50.0852,     3528,   3298.3,   2.3182,  34.8964,2,     -999,9,    289.5,2,     -999,9,    2.767,2,    1.393,2
35TH20050604  ,AR07       ,80      ,  1,1          ,1          ,2,20050628,0701,  57.6667, -50.0852,     3528,   3620.5,   1.5992,  34.8762,2,  34.8788,2,    302.0,2,    299.7,2,    3.816,2,    1.944,2
35TH20050604  ,AR07       ,81      ,  1,21         ,21         ,2,20050628,1252,  57.1511, -49.3927,     3565,     10.7,   7.0312,  34.6636,2,     -999,9,    312.6,2,    320.1,3,    4.404,2,    2.430,2
35TH20050604  ,AR07       ,81      ,  1,22         ,22         ,2,20050628,1252,  57.1511, -49.3927,     3565,     10.8,   7.0292,  34.6639,2,     -999,9,    312.6,2,     -999,9,     -999,9,     -999,9
35TH20050604  ,AR07       ,81      ,  1,20         ,20         ,2,20050628,1252,  57.1511, -49.3927,     3565,    200.6,   3.5153,  34.8164,2,     -999,9,    303.5,2,    305.0,2,    4.646,2,    2.516,2
35TH20050604  ,AR07       ,81      ,  1,19         ,19         ,2,20050628,1252,  57.1511, -49.3927,     3565,    411.3,   3.5255,  34.8464,2,     -999,9,    299.6,2,     -999,9,     -999,9,     -999,9
35TH20050604  ,AR07       ,81      ,  1,18         ,18         ,2,20050628,1252,  57.1511, -49.3927,     3565,    606.3,   3.4888,  34.8496,2,     -999,9,    301.3,2,     -999,9,     -999,9,     -999,9
35TH20050604  ,AR07       ,81      ,  1,17         ,17         ,2,20050628,1252,  57.1511, -49.3927,     3565,    799.0,   3.4583,  34.8499,2,  34.8539,2,    302.1,2,    303.7,2,    4.550,2,    2.452,2
35TH20050604  ,AR07       ,81      ,  1,16         ,16         ,2,20050628,1252,  57.1511, -49.3927,     3565,   1001.9,   3.4425,  34.8534,2,     -999,9,    298.3,2,     -999,9,    4.499,2,    2.401,2
35TH20050604  ,AR07       ,81      ,  1,15         ,15         ,2,20050628,1252,  57.1511, -49.3927,     3565,   1098.0,   3.4341,  34.8550,2,     -999,9,    294.7,2,    295.5,2,    4.249,2,    2.245,2
35TH20050604  ,AR07       ,81      ,  1,14         ,14         ,2,20050628,1252,  57.1511, -49.3927,     3565,   1202.7,   3.3935,  34.8527,2,     -999,9,    293.4,2,     -999,9,    4.220,2,    2.204,2
35TH20050604  ,AR07       ,81      ,  1,13         ,13         ,2,20050628,1252,  57.1511, -49.3927,     3565,   1385.8,   3.4580,  34.8730,2,     -999,9,    286.0,2,     -999,9,    3.909,2,    2.033,2
35TH20050604  ,AR07       ,81      ,  1,12         ,12         ,2,20050628,1252,  57.1511, -49.3927,     3565,   1599.0,   3.4799,  34.8917,2,     -999,9,    281.0,2,    280.3,2,    3.280,2,    1.660,2
35TH20050604  ,AR07       ,81      ,  1,11         ,11         ,2,20050628,1252,  57.1511, -49.3927,     3565,   1799.1,   3.3754,  34.8918,2,     -999,9,    281.8,2,     -999,9,    3.116,2,    1.558,2
35TH20050604  ,AR07       ,81      ,  1,10         ,10         ,2,20050628,1252,  57.1511, -49.3927,     3565,   1997.3,   3.2538,  34.8894,2,     -999,9,    284.4,2,     -999,9,     -999,9,     -999,9
35TH20050604  ,AR07       ,81      ,  1,9          ,9          ,2,20050628,1252,  57.1511, -49.3927,     3565,   2144.8,   3.1784,  34.8900,2,     -999,9,    285.6,2,    286.5,6,    3.074,2,    1.529,2
35TH20050604  ,AR07       ,81      ,  1,8          ,8          ,2,20050628,1252,  57.1511, -49.3927,     3565,   2295.9,   3.1212,  34.8956,2,     -999,9,    285.1,2,     -999,9,    2.972,2,    1.454,2
35TH20050604  ,AR07       ,81      ,  1,7          ,7          ,2,20050628,1252,  57.1511, -49.3927,     3565,   2448.9,   3.0586,  34.9008,2,     -999,9,    284.2,2,     -999,9,     -999,9,     -999,9
35TH20050604  ,AR07       ,81      ,  1,6          ,6          ,2,20050628,1252,  57.1511, -49.3927,     3565,   2596.8,   2.9863,  34.9058,2,  34.9071,2,    283.9,2,     -999,9,    2.643,2,    1.277,2
35TH20050604  ,AR07       ,81      ,  1,5          ,5          ,2,20050628,1252,  57.1511, -49.3927,     3565,   2741.0,   2.8815,  34.9086,2,     -999,9,    283.8,2,     -999,9,    2.567,2,    1.249,2
35TH20050604  ,AR07       ,81      ,  1,4          ,4          ,2,20050628,1252,  57.1511, -49.3927,     3565,   2894.9,   2.7663,  34.9109,2,     -999,9,    283.9,2,    282.0,2,    2.537,2,    1.251,2
35TH20050604  ,AR07       ,81      ,  1,3          ,3          ,2,20050628,1252,  57.1511, -49.3927,     3565,   3047.6,   2.6328,  34.9083,2,     -999,9,    284.5,2,     -999,9,    2.483,2,    1.211,2
35TH20050604  ,AR07       ,81      ,  1,2          ,2          ,2,20050628,1252,  57.1511, -49.3927,     3565,   3197.6,   2.4743,  34.9027,2,     -999,9,    285.5,2,     -999,9,    2.543,2,    1.275,2
35TH20050604  ,AR07       ,81      ,  1,1          ,1          ,2,20050628,1252,  57.1511, -49.3927,     3565,   3660.3,   1.4747,  34.8755,2,  34.8770,2,    303.9,2,    303.9,2,    3.853,2,    1.970,2
35TH20050604  ,AR07       ,82      ,  1,22         ,22         ,2,20050628,1842,  56.6497, -48.6915,     3593,     14.0,   7.1715,  34.7404,2,     -999,9,    318.4,2,     -999,9,     -999,9,     -999,9
35TH20050604  ,AR07       ,82      ,  1,21         ,21         ,2,20050628,1842,  56.6497, -48.6915,     3593,     22.1,   7.1194,  34.7311,2,     -999,9,    316.2,2,    316.8,2,     -999,9,     -999,9
35TH20050604  ,AR07       ,82      ,  1,20         ,20         ,2,20050628,1842,  56.6497, -48.6915,     3593,    197.7,   3.7356,  34.8492,2,     -999,9,    302.7,2,     -999,9,     -999,9,     -999,9
35TH20050604  ,AR07       ,82      ,  1,19         ,19         ,2,20050628,1842,  56.6497, -48.6915,     3593,    396.6,   3.5446,  34.8508,2,     -999,9,    297.7,2,     -999,9,    4.597,2,    2.469,2
35TH20050604  ,AR07       ,82      ,  1,18         ,18         ,2,20050628,1842,  56.6497, -48.6915,     3593,    600.1,   3.4975,  34.8526,2,     -999,9,    298.9,2,    302.1,2,     -999,9,     -999,9
35TH20050604  ,AR07       ,82      ,  1,17         ,17         ,2,20050628,1842,  56.6497, -48.6915,     3593,    699.1,   3.4670,  34.8505,2,     -999,9,    302.3,2,     -999,9,    4.568,2,    2.474,2
35TH20050604  ,AR07       ,82      ,  1,16         ,16         ,2,20050628,1842,  56.6497, -48.6915,     3593,    801.2,   3.4633,  34.8511,2,     -999,9,    301.4,2,     -999,9,    4.631,2,    2.493,2
35TH20050604  ,AR07       ,82      ,  1,15         ,15         ,2,20050628,1842,  56.6497, -48.6915,     3593,    904.9,   3.4554,  34.8519,2,     -999,9,    299.0,2,    304.3,3,     -999,9,     -999,9
35TH20050604  ,AR07       ,82      ,  1,14         ,14         ,2,20050628,1842,  56.6497, -48.6915,     3593,   1000.1,   3.4473,  34.8518,2,     -999,9,    298.4,2,     -999,9,     -999,9,     -999,9
35TH20050604  ,AR07       ,82      ,  1,13         ,13         ,2,20050628,1842,  56.6497, -48.6915,     3593,   1191.2,   3.4278,  34.8537,2,  34.8568,2,    294.7,2,     -999,9,    4.118,2,    2.141,2
35TH20050604  ,AR07       ,82      ,  1,12         ,12         ,2,20050628,1842,  56.6497, -48.6915,     3593,   1398.2,   3.3980,  34.8565,2,     -999,9,    291.4,2,    293.7,2,    4.189,2,    2.200,2
35TH20050604  ,AR07       ,82      ,  1,11         ,11         ,2,20050628,1842,  56.6497, -48.6915,     3593,   1599.0,   3.4914,  34.8864,2,     -999,9,    283.0,2,     -999,9,    3.566,2,    1.833,2
35TH20050604  ,AR07       ,82      ,  1,10         ,10         ,2,20050628,1842,  56.6497, -48.6915,     3593,   1794.2,   3.4131,  34.8931,2,     -999,9,    281.6,2,     -999,9,    3.220,2,    1.582,2
35TH20050604  ,AR07       ,82      ,  1,9          ,9          ,2,20050628,1842,  56.6497, -48.6915,     3593,   1998.2,   3.2733,  34.8880,2,     -999,9,    284.0,2,    287.1,3,    3.171,2,    1.561,2
35TH20050604  ,AR07       ,82      ,  1,8          ,8          ,2,20050628,1842,  56.6497, -48.6915,     3593,   2298.1,   3.1496,  34.8938,2,     -999,9,    283.8,2,     -999,9,    2.793,2,    1.368,2
35TH20050604  ,AR07       ,82      ,  1,7          ,7          ,2,20050628,1842,  56.6497, -48.6915,     3593,   2546.4,   3.0515,  34.9040,2,     -999,9,    282.6,2,    283.0,6,     -999,9,     -999,9
35TH20050604  ,AR07       ,82      ,  1,6          ,6          ,2,20050628,1842,  56.6497, -48.6915,     3593,   2713.1,   2.9684,  34.9105,2,     -999,9,    282.2,2,     -999,9,     -999,9,     -999,9
35TH20050604  ,AR07       ,82      ,  1,5          ,5          ,2,20050628,1842,  56.6497, -48.6915,     3593,   2839.0,   2.8772,  34.9121,2,  34.9163,2,    281.7,2,     -999,9,    2.347,2,    1.154,2
35TH20050604  ,AR07       ,82      ,  1,4          ,4          ,2,20050628,1842,  56.6497, -48.6915,     3593,   2990.5,   2.7866,  34.9163,2,     -999,9,    281.3,2,     -999,9,    2.309,2,    1.135,2
35TH20050604  ,AR07       ,82      ,  1,3          ,3          ,2,20050628,1842,  56.6497, -48.6915,     3593,   3153.5,   2.6482,  34.9147,2,     -999,9,    281.5,2,    282.8,2,     -999,9,     -999,9
35TH20050604  ,AR07       ,82      ,  1,2          ,2          ,2,20050628,1842,  56.6497, -48.6915,     3593,   3301.4,   2.4847,  34.9067,2,     -999,9,    282.5,2,     -999,9,    2.355,2,    1.165,2
35TH20050604  ,AR07       ,82      ,  1,1          ,1          ,2,20050628,1842,  56.6497, -48.6915,     3593,   3690.1,   1.5473,  34.8775,2,  34.8806,2,    297.8,2,    302.6,3,    3.894,2,    1.998,2
35TH20050604  ,AR07       ,83      ,  1,9          ,9          ,2,20050629,0037,  56.1338, -47.9984,     3564,      8.4,   7.9478,  34.6243,2,     -999,9,    308.6,2,    308.8,2,     -999,9,     -999,9
35TH20050604  ,AR07       ,83      ,  1,8          ,8          ,2,20050629,0037,  56.1338, -47.9984,     3564,    470.7,   3.7076,  34.8618,2,     -999,9,    288.3,2,    287.6,2,     -999,9,     -999,9
35TH20050604  ,AR07       ,83      ,  1,7          ,7          ,2,20050629,0037,  56.1338, -47.9984,     3564,    997.2,   3.4153,  34.8596,2,     -999,9,    289.5,2,    293.6,3,     -999,9,     -999,9
35TH20050604  ,AR07       ,83      ,  1,6          ,6          ,2,20050629,0037,  56.1338, -47.9984,     3564,   1697.6,   3.2650,  34.8894,2,     -999,9,    283.8,2,     -999,9,     -999,9,     -999,9
35TH20050604  ,AR07       ,83      ,  1,5          ,5          ,2,20050629,0037,  56.1338, -47.9984,     3564,   1700.1,   3.2633,  34.8894,2,     -999,9,    283.7,2,    286.8,6,     -999,9,     -999,9
35TH20050604  ,AR07       ,83      ,  1,4          ,4          ,2,20050629,0037,  56.1338, -47.9984,     3564,   2298.1,   3.0466,  34.9075,2,  34.9094,2,    282.6,2,    282.9,2,     -999,9,     -999,9
35TH20050604  ,AR07       ,83      ,  1,3          ,3          ,2,20050629,0037,  56.1338, -47.9984,     3564,   2724.6,   2.8823,  34.9223,2,     -999,9,    280.8,2,    284.0,2,     -999,9,     -999,9
35TH20050604  ,AR07       ,83      ,  1,2          ,2          ,2,20050629,0037,  56.1338, -47.9984,     3564,   2971.2,   2.7950,  34.9305,2,     -999,9,    279.6,2,    277.0,2,     -999,9,     -999,9
35TH20050604  ,AR07       ,83      ,  1,1          ,1          ,2,20050629,0037,  56.1338, -47.9984,     3564,   3671.2,   2.1448,  34.8940,2,  34.8978,2,    286.1,2,    287.0,2,     -999,9,     -999,9
35TH20050604  ,AR07       ,84      ,  1,21         ,21         ,2,20050629,0634,  55.6322, -47.3008,     3338,     27.4,   8.0821,  34.6720,2,  34.6762,2,    305.4,2,    305.9,2,    4.159,2,    2.283,2
35TH20050604  ,AR07       ,84      ,  1,20         ,20         ,2,20050629,0634,  55.6322, -47.3008,     3338,    107.8,   3.9359,  34.7347,2,     -999,9,    305.8,2,     -999,9,    4.594,2,    2.461,2
35TH20050604  ,AR07       ,84      ,  1,19         ,19         ,2,20050629,0634,  55.6322, -47.3008,     3338,    322.7,   3.8045,  34.8505,2,     -999,9,    287.2,2,    288.1,2,    4.252,2,    2.258,2
35TH20050604  ,AR07       ,84      ,  1,18         ,18         ,2,20050629,0634,  55.6322, -47.3008,     3338,    500.8,   3.7083,  34.8695,2,     -999,9,    285.0,2,     -999,9,    3.999,2,    2.091,2
35TH20050604  ,AR07       ,84      ,  1,17         ,17         ,2,20050629,0634,  55.6322, -47.3008,     3338,    699.8,   3.5333,  34.8618,2,     -999,9,    288.3,2,    289.1,6,    4.114,2,    2.124,2
35TH20050604  ,AR07       ,84      ,  1,16         ,16         ,2,20050629,0634,  55.6322, -47.3008,     3338,    858.4,   3.4469,  34.8599,2,     -999,9,    289.7,2,     -999,9,    4.031,2,    2.102,2
35TH20050604  ,AR07       ,84      ,  1,15         ,15         ,2,20050629,0634,  55.6322, -47.3008,     3338,    998.4,   3.4041,  34.8622,2,     -999,9,    289.7,2,     -999,9,    3.894,2,    2.035,2
35TH20050604  ,AR07       ,84      ,  1,14         ,14         ,2,20050629,0634,  55.6322, -47.3008,     3338,   1111.8,   3.4512,  34.8766,2,     -999,9,    286.0,2,     -999,9,     -999,9,     -999,9
35TH20050604  ,AR07       ,84      ,  1,13         ,13         ,2,20050629,0634,  55.6322, -47.3008,     3338,   1247.8,   3.4587,  34.8907,2,     -999,9,    282.3,2,    283.4,2,    3.274,2,    1.657,2
35TH20050604  ,AR07       ,84      ,  1,12         ,12         ,2,20050629,0634,  55.6322, -47.3008,     3338,   1399.8,   3.3801,  34.8923,2,  34.8967,2,    282.3,2,     -999,9,    3.136,2,    1.558,2
35TH20050604  ,AR07       ,84      ,  1,11         ,11         ,2,20050629,0634,  55.6322, -47.3008,     3338,   1556.5,   3.2708,  34.8888,2,     -999,9,    284.3,2,     -999,9,    3.198,2,    1.559,2
35TH20050604  ,AR07       ,84      ,  1,10         ,10         ,2,20050629,0634,  55.6322, -47.3008,     3338,   1747.8,   3.1661,  34.8855,2,     -999,9,    286.4,2,     -999,9,    3.058,2,    1.498,2
35TH20050604  ,AR07       ,84      ,  1,9          ,9          ,2,20050629,0634,  55.6322, -47.3008,     3338,   1948.9,   3.1150,  34.8936,2,     -999,9,    285.7,2,    284.7,2,    2.945,2,    1.456,2
35TH20050604  ,AR07       ,84      ,  1,8          ,8          ,2,20050629,0634,  55.6322, -47.3008,     3338,   2198.4,   3.0465,  34.9060,2,     -999,9,    283.4,2,     -999,9,    2.546,2,    1.256,2
35TH20050604  ,AR07       ,84      ,  1,7          ,7          ,2,20050629,0634,  55.6322, -47.3008,     3338,   2497.6,   2.9208,  34.9184,2,     -999,9,    281.6,2,    280.4,2,    2.225,2,    1.101,2
35TH20050604  ,AR07       ,84      ,  1,6          ,6          ,2,20050629,0634,  55.6322, -47.3008,     3338,   2648.6,   2.8772,  34.9270,2,     -999,9,    280.8,2,     -999,9,     -999,9,     -999,9
35TH20050604  ,AR07       ,84      ,  1,5          ,5          ,2,20050629,0634,  55.6322, -47.3008,     3338,   2797.2,   2.7826,  34.9232,2,     -999,9,    280.8,2,     -999,9,    2.194,2,    1.088,2
35TH20050604  ,AR07       ,84      ,  1,4          ,4          ,2,20050629,0634,  55.6322, -47.3008,     3338,   2947.1,   2.7330,  34.9310,2,  34.9328,2,    279.8,2,     -999,9,    2.105,2,    1.041,2
35TH20050604  ,AR07       ,84      ,  1,3          ,3          ,2,20050629,0634,  55.6322, -47.3008,     3338,   3095.7,   2.6184,  34.9218,2,     -999,9,    280.3,2,    281.0,2,     -999,9,     -999,9
35TH20050604  ,AR07       ,84      ,  1,2          ,2          ,2,20050629,0634,  55.6322, -47.3008,     3338,   3248.4,   2.4764,  34.9114,2,     -999,9,    281.9,2,     -999,9,    2.132,2,    1.060,2
35TH20050604  ,AR07       ,84      ,  1,1          ,1          ,2,20050629,0634,  55.6322, -47.3008,     3338,   3418.4,   2.3553,  34.9034,2,  34.9055,2,    283.3,2,    283.7,2,    2.315,2,    1.152,2