BOTTLE,20240221CCHSIOADS
EXPOCODE,SECT_ID,STNNBR,CASTNO,SAMPNO,BTLNBR,BTLNBR_FLAG_W,DATE,TIME,LATITUDE,LONGITUDE,DEPTH,CTDPRS,CTDTMP,CTDSAL,CTDSAL_FLAG_W,SALNTY,SALNTY_FLAG_W,CTDOXY,CTDOXY_FLAG_W,OXYGEN,OXYGEN_FLAG_W,CFC-11,CFC-11_FLAG_W,CFC-12,CFC-12_FLAG_W
,,,,,,,,,,,METERS,DBAR,ITS-90,PSS-78,,PSS-78,,UMOL/KG,,UMOL/KG,,PMOL/KG,,PMOL/KG,
35TH20050604  ,AR07       ,116     ,  1,22         ,22         ,2,20050706,1818,  50.9991, -33.8828,     4000,      5.4,  13.6822,  35.3304,2,     -999,9,    273.0,2,     -999,9,     -999,9,     -999,9
35TH20050604  ,AR07       ,116     ,  1,21         ,21         ,2,20050706,1818,  50.9991, -33.8828,     4000,      5.4,  13.6822,  35.3304,2,     -999,9,    273.0,2,    271.3,2,    2.958,6,    1.720,6
35TH20050604  ,AR07       ,116     ,  1,20         ,20         ,2,20050706,1818,  50.9991, -33.8828,     4000,    205.4,  10.9561,  35.3417,2,     -999,9,    233.7,2,    222.9,2,     -999,9,     -999,9
35TH20050604  ,AR07       ,116     ,  1,19         ,19         ,2,20050706,1818,  50.9991, -33.8828,     4000,    387.2,   6.9187,  34.9039,2,  34.9109,2,    210.1,2,     -999,9,    2.621,2,    1.386,2
35TH20050604  ,AR07       ,116     ,  1,18         ,18         ,2,20050706,1818,  50.9991, -33.8828,     4000,    588.1,   5.4559,  34.9845,2,     -999,9,    236.3,2,    233.6,2,    2.744,2,    1.433,2
35TH20050604  ,AR07       ,116     ,  1,17         ,17         ,2,20050706,1818,  50.9991, -33.8828,     4000,    691.9,   4.6056,  34.9244,2,     -999,9,    256.3,2,     -999,9,    3.321,2,    1.713,2
35TH20050604  ,AR07       ,116     ,  1,16         ,16         ,2,20050706,1818,  50.9991, -33.8828,     4000,    816.3,   4.1749,  34.9028,2,     -999,9,    268.7,2,     -999,9,     -999,9,     -999,9
35TH20050604  ,AR07       ,116     ,  1,15         ,15         ,2,20050706,1818,  50.9991, -33.8828,     4000,    925.0,   3.9881,  34.8978,2,     -999,9,    274.5,2,     -999,9,     -999,9,     -999,9
35TH20050604  ,AR07       ,116     ,  1,14         ,14         ,2,20050706,1818,  50.9991, -33.8828,     4000,    996.6,   3.8629,  34.8920,2,  34.8977,2,    278.1,2,     -999,9,    3.798,2,    1.958,2
35TH20050604  ,AR07       ,116     ,  1,13         ,13         ,2,20050706,1818,  50.9991, -33.8828,     4000,   1094.6,   3.7655,  34.8910,2,     -999,9,    279.9,2,     -999,9,     -999,9,     -999,9
35TH20050604  ,AR07       ,116     ,  1,12         ,12         ,2,20050706,1818,  50.9991, -33.8828,     4000,   1188.6,   3.7164,  34.8928,2,     -999,9,    280.5,2,    280.5,2,    3.678,2,    1.890,2
35TH20050604  ,AR07       ,116     ,  1,11         ,11         ,2,20050706,1818,  50.9991, -33.8828,     4000,   1412.5,   3.6043,  34.8955,2,     -999,9,    279.8,2,     -999,9,    3.454,2,    1.783,2
35TH20050604  ,AR07       ,116     ,  1,10         ,10         ,2,20050706,1818,  50.9991, -33.8828,     4000,   1590.5,   3.5343,  34.9029,2,     -999,9,    277.5,2,     -999,9,    2.946,2,    1.460,2
35TH20050604  ,AR07       ,116     ,  1,9          ,9          ,2,20050706,1818,  50.9991, -33.8828,     4000,   1823.0,   3.4183,  34.9028,2,     -999,9,    278.1,2,     -999,9,    2.834,2,    1.390,2
35TH20050604  ,AR07       ,116     ,  1,8          ,8          ,2,20050706,1818,  50.9991, -33.8828,     4000,   2098.5,   3.2435,  34.8940,2,     -999,9,    281.8,2,    283.2,6,    2.823,2,    1.390,2
35TH20050604  ,AR07       ,116     ,  1,7          ,7          ,2,20050706,1818,  50.9991, -33.8828,     4000,   2396.7,   3.1436,  34.9012,2,     -999,9,    280.9,2,     -999,9,    2.429,2,    1.188,2
35TH20050604  ,AR07       ,116     ,  1,6          ,6          ,2,20050706,1818,  50.9991, -33.8828,     4000,   2695.5,   3.0251,  34.9116,2,     -999,9,    278.9,2,     -999,9,    2.101,2,    1.030,2
35TH20050604  ,AR07       ,116     ,  1,5          ,5          ,2,20050706,1818,  50.9991, -33.8828,     4000,   2996.4,   2.8725,  34.9170,2,     -999,9,    278.2,2,    278.4,2,    1.973,2,    0.978,2
35TH20050604  ,AR07       ,116     ,  1,4          ,4          ,2,20050706,1818,  50.9991, -33.8828,     4000,   3286.2,   2.6806,  34.9174,2,  34.9189,2,    276.9,2,     -999,9,    1.731,2,    0.852,2
35TH20050604  ,AR07       ,116     ,  1,3          ,3          ,2,20050706,1818,  50.9991, -33.8828,     4000,   3598.4,   2.4967,  34.9099,2,     -999,9,    276.9,2,    277.5,2,    1.759,2,    0.876,2
35TH20050604  ,AR07       ,116     ,  1,2          ,2          ,2,20050706,1818,  50.9991, -33.8828,     4000,   3836.4,   2.3912,  34.9028,2,     -999,9,    278.0,2,     -999,9,    2.881,4,    1.426,4
35TH20050604  ,AR07       ,116     ,  1,1          ,1          ,2,20050706,1818,  50.9991, -33.8828,     4000,   4314.7,   2.3430,  34.8972,2,  34.9028,2,    278.9,2,    281.2,2,    1.907,2,    0.955,2
35TH20050604  ,AR07       ,117     ,  1,9          ,9          ,2,20050707,0104,  50.4690, -33.2179,     4069,      9.1,  13.5277,  35.1632,2,     -999,9,    268.7,2,    271.0,2,     -999,9,     -999,9
35TH20050604  ,AR07       ,117     ,  1,8          ,8          ,2,20050707,0104,  50.4690, -33.2179,     4069,    522.8,   5.4620,  34.9161,2,     -999,9,    233.5,2,    232.4,6,     -999,9,     -999,9
35TH20050604  ,AR07       ,117     ,  1,7          ,7          ,2,20050707,0104,  50.4690, -33.2179,     4069,    999.1,   3.8728,  34.9006,2,     -999,9,    275.3,2,     -999,9,     -999,9,     -999,9
35TH20050604  ,AR07       ,117     ,  1,6          ,6          ,2,20050707,0104,  50.4690, -33.2179,     4069,   1498.6,   3.5606,  34.8991,2,     -999,9,    278.8,2,    279.1,2,     -999,9,     -999,9
35TH20050604  ,AR07       ,117     ,  1,5          ,5          ,2,20050707,0104,  50.4690, -33.2179,     4069,   1998.1,   3.2861,  34.8947,2,     -999,9,    281.6,2,     -999,9,     -999,9,     -999,9
35TH20050604  ,AR07       ,117     ,  1,4          ,4          ,2,20050707,0104,  50.4690, -33.2179,     4069,   2497.3,   3.0931,  34.9100,2,     -999,9,    279.7,2,    279.0,2,     -999,9,     -999,9
35TH20050604  ,AR07       ,117     ,  1,3          ,3          ,2,20050707,0104,  50.4690, -33.2179,     4069,   2995.7,   2.9061,  34.9295,2,  34.9307,2,    276.9,2,    275.6,2,     -999,9,     -999,9
35TH20050604  ,AR07       ,117     ,  1,2          ,2          ,2,20050707,0104,  50.4690, -33.2179,     4069,   3496.1,   2.6067,  34.9205,2,  34.9193,2,    276.2,2,    277.0,2,     -999,9,     -999,9
35TH20050604  ,AR07       ,117     ,  1,1          ,1          ,2,20050707,0104,  50.4690, -33.2179,     4069,   4112.8,   2.3288,  34.8979,2,  34.9026,2,    278.4,2,    279.1,2,     -999,9,     -999,9
35TH20050604  ,AR07       ,118     ,  1,22         ,22         ,2,20050707,0753,  49.8021, -32.8893,     3570,     14.0,  14.3857,  35.4026,2,     -999,9,    267.2,2,     -999,9,     -999,9,     -999,9
35TH20050604  ,AR07       ,118     ,  1,21         ,21         ,2,20050707,0753,  49.8021, -32.8893,     3570,     14.0,  14.3857,  35.4026,2,  35.4184,2,    267.2,2,    269.0,2,    2.943,2,    1.713,2
35TH20050604  ,AR07       ,118     ,  1,20         ,20         ,2,20050707,0753,  49.8021, -32.8893,     3570,    103.5,  12.7061,  35.5958,2,     -999,9,    242.4,2,     -999,9,    2.812,2,    1.618,2
35TH20050604  ,AR07       ,118     ,  1,19         ,19         ,2,20050707,0753,  49.8021, -32.8893,     3570,    312.2,  10.8689,  35.3228,2,     -999,9,    219.1,2,    212.5,3,    2.676,2,    1.508,2
35TH20050604  ,AR07       ,118     ,  1,18         ,18         ,2,20050707,0753,  49.8021, -32.8893,     3570,    497.0,   7.5620,  34.9988,2,     -999,9,    191.4,2,     -999,9,    2.255,2,    1.206,2
35TH20050604  ,AR07       ,118     ,  1,17         ,17         ,2,20050707,0753,  49.8021, -32.8893,     3570,    703.3,   5.1876,  34.9375,2,     -999,9,    239.6,2,     -999,9,    3.032,2,    1.592,2
35TH20050604  ,AR07       ,118     ,  1,16         ,16         ,2,20050707,0753,  49.8021, -32.8893,     3570,    821.0,   4.6526,  34.9385,2,     -999,9,    255.5,2,     -999,9,    3.284,2,    1.703,2
35TH20050604  ,AR07       ,118     ,  1,15         ,15         ,2,20050707,0753,  49.8021, -32.8893,     3570,    918.0,   4.3082,  34.9219,2,     -999,9,    265.0,2,    264.7,6,    3.447,2,    1.806,2
35TH20050604  ,AR07       ,118     ,  1,14         ,14         ,2,20050707,0753,  49.8021, -32.8893,     3570,   1010.0,   4.0810,  34.9110,2,     -999,9,    270.8,2,     -999,9,    3.566,2,    1.855,2
35TH20050604  ,AR07       ,118     ,  1,13         ,13         ,2,20050707,0753,  49.8021, -32.8893,     3570,   1114.1,   3.9309,  34.9035,2,     -999,9,    274.3,2,     -999,9,    3.629,2,    1.867,2
35TH20050604  ,AR07       ,118     ,  1,12         ,12         ,2,20050707,0753,  49.8021, -32.8893,     3570,   1306.7,   3.7596,  34.8982,2,     -999,9,    278.2,2,     -999,9,    3.578,2,    1.831,2
35TH20050604  ,AR07       ,118     ,  1,11         ,11         ,2,20050707,0753,  49.8021, -32.8893,     3570,   1516.4,   3.6320,  34.8965,2,  34.9002,2,    279.5,2,     -999,9,    3.380,2,    1.718,2
35TH20050604  ,AR07       ,118     ,  1,10         ,10         ,2,20050707,0753,  49.8021, -32.8893,     3570,   1713.9,   3.5647,  34.9031,2,     -999,9,    278.2,2,    277.1,2,    3.011,2,    1.515,2
35TH20050604  ,AR07       ,118     ,  1,9          ,9          ,2,20050707,0753,  49.8021, -32.8893,     3570,   1906.3,   3.4117,  34.8978,2,     -999,9,    279.5,2,     -999,9,    2.973,2,    1.459,2
35TH20050604  ,AR07       ,118     ,  1,8          ,8          ,2,20050707,0753,  49.8021, -32.8893,     3570,   2124.9,   3.2738,  34.8933,2,     -999,9,    282.1,2,     -999,9,    2.921,2,    1.435,2
35TH20050604  ,AR07       ,118     ,  1,7          ,7          ,2,20050707,0753,  49.8021, -32.8893,     3570,   2295.8,   3.1918,  34.8981,2,     -999,9,    281.3,2,    280.3,2,    2.661,2,    1.294,2
35TH20050604  ,AR07       ,118     ,  1,6          ,6          ,2,20050707,0753,  49.8021, -32.8893,     3570,   2498.1,   3.1359,  34.9064,2,     -999,9,    279.9,2,     -999,9,    2.384,2,    1.167,2
35TH20050604  ,AR07       ,118     ,  1,5          ,5          ,2,20050707,0753,  49.8021, -32.8893,     3570,   2696.1,   3.0597,  34.9137,2,  34.9142,2,    278.5,2,     -999,9,    2.197,2,    1.086,2
35TH20050604  ,AR07       ,118     ,  1,4          ,4          ,2,20050707,0753,  49.8021, -32.8893,     3570,   2894.2,   2.9553,  34.9187,2,     -999,9,    277.5,2,    276.7,2,    2.029,2,    0.980,2
35TH20050604  ,AR07       ,118     ,  1,3          ,3          ,2,20050707,0753,  49.8021, -32.8893,     3570,   3097.3,   2.8596,  34.9234,2,     -999,9,    276.9,2,     -999,9,    1.887,2,    0.922,2
35TH20050604  ,AR07       ,118     ,  1,2          ,2          ,2,20050707,0753,  49.8021, -32.8893,     3570,   3291.0,   2.7269,  34.9239,2,     -999,9,    276.3,2,     -999,9,    1.831,2,    0.898,2
35TH20050604  ,AR07       ,118     ,  1,1          ,1          ,2,20050707,0753,  49.8021, -32.8893,     3570,   3572.4,   2.5052,  34.9117,2,  34.9124,2,    276.5,2,    276.2,2,    1.796,2,    0.883,2
35TH20050604  ,AR07       ,119     ,  1,22         ,22         ,2,20050707,1501,  49.4677, -34.0641,     3769,      9.5,  14.6413,  35.5626,2,     -999,9,    270.0,2,     -999,9,     -999,9,     -999,9
35TH20050604  ,AR07       ,119     ,  1,21         ,21         ,2,20050707,1501,  49.4677, -34.0641,     3769,     11.2,  14.6352,  35.5508,2,     -999,9,    269.4,2,    272.6,2,    2.910,2,    1.716,2
35TH20050604  ,AR07       ,119     ,  1,20         ,20         ,2,20050707,1501,  49.4677, -34.0641,     3769,     80.8,  13.0332,  35.6071,2,     -999,9,    243.6,2,     -999,9,    2.771,2,    1.620,2
35TH20050604  ,AR07       ,119     ,  1,19         ,19         ,2,20050707,1501,  49.4677, -34.0641,     3769,    292.1,  10.6032,  35.2997,2,     -999,9,    210.8,2,     -999,9,    2.482,2,    1.404,2
35TH20050604  ,AR07       ,119     ,  1,18         ,18         ,2,20050707,1501,  49.4677, -34.0641,     3769,    499.3,   7.4650,  35.0097,2,     -999,9,    192.5,2,    192.8,6,    2.147,2,    1.132,2
35TH20050604  ,AR07       ,119     ,  1,17         ,17         ,2,20050707,1501,  49.4677, -34.0641,     3769,    703.6,   5.1274,  34.9207,2,     -999,9,    242.3,2,     -999,9,    3.082,2,    1.603,2
35TH20050604  ,AR07       ,119     ,  1,16         ,16         ,2,20050707,1501,  49.4677, -34.0641,     3769,    785.2,   4.6921,  34.9178,2,     -999,9,    255.0,2,     -999,9,    3.261,2,    1.714,2
35TH20050604  ,AR07       ,119     ,  1,15         ,15         ,2,20050707,1501,  49.4677, -34.0641,     3769,    876.9,   4.4961,  34.9331,2,     -999,9,    258.1,2,     -999,9,    3.189,2,    1.646,2
35TH20050604  ,AR07       ,119     ,  1,14         ,14         ,2,20050707,1501,  49.4677, -34.0641,     3769,   1016.1,   4.2464,  34.9336,2,     -999,9,    265.2,2,     -999,9,    3.276,2,    1.692,2
35TH20050604  ,AR07       ,119     ,  1,13         ,13         ,2,20050707,1501,  49.4677, -34.0641,     3769,   1187.9,   3.8763,  34.9049,2,     -999,9,    274.3,2,    274.6,2,    3.413,2,    1.741,2
35TH20050604  ,AR07       ,119     ,  1,12         ,12         ,2,20050707,1501,  49.4677, -34.0641,     3769,   1416.8,   3.6476,  34.8927,2,     -999,9,    279.5,2,     -999,9,    3.618,2,    1.856,2
35TH20050604  ,AR07       ,119     ,  1,11         ,11         ,2,20050707,1501,  49.4677, -34.0641,     3769,   1467.6,   3.6471,  34.8966,2,     -999,9,    278.8,2,     -999,9,    3.253,2,    1.608,2
35TH20050604  ,AR07       ,119     ,  1,10         ,10         ,2,20050707,1501,  49.4677, -34.0641,     3769,   1598.4,   3.6204,  34.9054,2,     -999,9,    276.4,2,     -999,9,    2.905,2,    1.449,2
35TH20050604  ,AR07       ,119     ,  1,9          ,9          ,2,20050707,1501,  49.4677, -34.0641,     3769,   1810.0,   3.4759,  34.9026,2,  34.9034,2,    277.7,2,     -999,9,    2.899,2,    1.418,2
35TH20050604  ,AR07       ,119     ,  1,8          ,8          ,2,20050707,1501,  49.4677, -34.0641,     3769,   2024.9,   3.3245,  34.8959,2,     -999,9,    280.5,2,     -999,9,    2.879,2,    1.422,2
35TH20050604  ,AR07       ,119     ,  1,7          ,7          ,2,20050707,1501,  49.4677, -34.0641,     3769,   2214.1,   3.2378,  34.8958,2,     -999,9,    281.0,2,     -999,9,    2.667,2,    1.292,2
35TH20050604  ,AR07       ,119     ,  1,6          ,6          ,2,20050707,1501,  49.4677, -34.0641,     3769,   2497.8,   3.1309,  34.9048,2,     -999,9,    279.8,2,    281.0,2,    2.356,6,    1.154,6
35TH20050604  ,AR07       ,119     ,  1,5          ,5          ,2,20050707,1501,  49.4677, -34.0641,     3769,   2696.9,   3.0641,  34.9128,2,     -999,9,    278.6,2,     -999,9,    2.101,2,    1.016,2
35TH20050604  ,AR07       ,119     ,  1,4          ,4          ,2,20050707,1501,  49.4677, -34.0641,     3769,   2997.6,   2.8884,  34.9245,2,     -999,9,    277.2,2,     -999,9,    1.938,2,    0.958,2
35TH20050604  ,AR07       ,119     ,  1,3          ,3          ,2,20050707,1501,  49.4677, -34.0641,     3769,   3304.7,   2.7132,  34.9212,2,     -999,9,    276.1,2,    277.2,2,    1.701,2,    0.836,2
35TH20050604  ,AR07       ,119     ,  1,2          ,2          ,2,20050707,1501,  49.4677, -34.0641,     3769,   3596.9,   2.5351,  34.9128,2,     -999,9,    276.5,2,     -999,9,    1.747,2,    0.854,2
35TH20050604  ,AR07       ,119     ,  1,1          ,1          ,2,20050707,1501,  49.4677, -34.0641,     3769,   3796.4,   2.4138,  34.9038,2,  34.9069,2,    277.0,2,    278.4,2,    1.796,2,    0.896,2
35TH20050604  ,AR07       ,120     ,  1,22         ,22         ,2,20050707,2125,  49.5026, -34.8827,     4220,     15.6,  13.5307,  35.3000,2,     -999,9,    273.3,2,     -999,9,     -999,9,     -999,9
35TH20050604  ,AR07       ,120     ,  1,21         ,21         ,2,20050707,2125,  49.5026, -34.8827,     4220,     15.6,  13.5307,  35.3000,2,  35.3177,2,    273.3,2,    269.2,6,    3.038,2,    1.753,2
35TH20050604  ,AR07       ,120     ,  1,20         ,20         ,2,20050707,2125,  49.5026, -34.8827,     4220,    213.2,   8.6734,  34.9678,2,     -999,9,    239.6,2,     -999,9,    2.914,2,    1.616,2
35TH20050604  ,AR07       ,120     ,  1,19         ,19         ,2,20050707,2125,  49.5026, -34.8827,     4220,    379.7,   6.2807,  34.8868,2,     -999,9,    216.0,2,     -999,9,    2.270,2,    1.190,2
35TH20050604  ,AR07       ,120     ,  1,18         ,18         ,2,20050707,2125,  49.5026, -34.8827,     4220,    591.2,   4.7817,  34.9247,2,     -999,9,    253.0,2,    253.7,2,    3.289,2,    1.700,2
35TH20050604  ,AR07       ,120     ,  1,17         ,17         ,2,20050707,2125,  49.5026, -34.8827,     4220,    788.5,   4.2388,  34.9225,2,     -999,9,    269.6,2,     -999,9,    3.546,2,    1.844,2
35TH20050604  ,AR07       ,120     ,  1,16         ,16         ,2,20050707,2125,  49.5026, -34.8827,     4220,    909.8,   3.9675,  34.9013,2,     -999,9,    277.0,2,     -999,9,    3.830,2,    1.999,2
35TH20050604  ,AR07       ,120     ,  1,15         ,15         ,2,20050707,2125,  49.5026, -34.8827,     4220,    990.9,   4.0285,  34.9243,2,     -999,9,    271.6,2,     -999,9,    3.468,2,    1.766,2
35TH20050604  ,AR07       ,120     ,  1,14         ,14         ,2,20050707,2125,  49.5026, -34.8827,     4220,   1196.4,   3.6697,  34.8890,2,     -999,9,    282.2,2,     -999,9,    3.779,2,    1.940,2
35TH20050604  ,AR07       ,120     ,  1,13         ,13         ,2,20050707,2125,  49.5026, -34.8827,     4220,   1373.9,   3.6031,  34.8949,2,     -999,9,    280.5,2,    279.7,2,    3.322,2,    1.688,2
35TH20050604  ,AR07       ,120     ,  1,12         ,12         ,2,20050707,2125,  49.5026, -34.8827,     4220,   1497.4,   3.5628,  34.9002,2,     -999,9,    278.4,2,     -999,9,    3.096,2,    1.549,2
35TH20050604  ,AR07       ,120     ,  1,11         ,11         ,2,20050707,2125,  49.5026, -34.8827,     4220,   1597.9,   3.5239,  34.9025,2,     -999,9,    277.8,2,     -999,9,    2.989,2,    1.493,2
35TH20050604  ,AR07       ,120     ,  1,10         ,10         ,2,20050707,2125,  49.5026, -34.8827,     4220,   1788.6,   3.3892,  34.8979,2,     -999,9,    279.5,2,     -999,9,    2.866,2,    1.411,2
35TH20050604  ,AR07       ,120     ,  1,9          ,9          ,2,20050707,2125,  49.5026, -34.8827,     4220,   1996.8,   3.2898,  34.8963,2,     -999,9,    280.8,2,    279.9,2,    2.806,2,    1.378,2
35TH20050604  ,AR07       ,120     ,  1,8          ,8          ,2,20050707,2125,  49.5026, -34.8827,     4220,   2196.6,   3.1890,  34.8957,2,  34.9028,2,    281.9,2,     -999,9,    2.643,2,    1.298,2
35TH20050604  ,AR07       ,120     ,  1,7          ,7          ,2,20050707,2125,  49.5026, -34.8827,     4220,   2494.3,   3.0920,  34.9066,2,     -999,9,    279.8,2,     -999,9,    2.282,2,    1.121,2
35TH20050604  ,AR07       ,120     ,  1,6          ,6          ,2,20050707,2125,  49.5026, -34.8827,     4220,   2795.1,   2.9642,  34.9142,2,     -999,9,    278.2,2,    278.9,2,    1.974,2,    0.960,2
35TH20050604  ,AR07       ,120     ,  1,5          ,5          ,2,20050707,2125,  49.5026, -34.8827,     4220,   3101.8,   2.8261,  34.9166,2,     -999,9,    277.3,2,     -999,9,    1.794,2,    0.884,2
35TH20050604  ,AR07       ,120     ,  1,4          ,4          ,2,20050707,2125,  49.5026, -34.8827,     4220,   3395.8,   2.6163,  34.9132,2,     -999,9,    276.5,2,     -999,9,    1.623,2,    0.795,2
35TH20050604  ,AR07       ,120     ,  1,3          ,3          ,2,20050707,2125,  49.5026, -34.8827,     4220,   3701.9,   2.4264,  34.9050,2,  34.9071,2,    277.0,2,    277.7,2,    1.675,2,    0.832,2
35TH20050604  ,AR07       ,120     ,  1,2          ,2          ,2,20050707,2125,  49.5026, -34.8827,     4220,   4000.5,   2.3205,  34.8981,2,     -999,9,    278.2,2,     -999,9,     -999,9,     -999,9
35TH20050604  ,AR07       ,120     ,  1,1          ,1          ,2,20050707,2125,  49.5026, -34.8827,     4220,   4271.1,   2.2757,  34.8941,2,  34.8989,2,    279.3,2,    281.8,2,    2.095,2,    1.052,2