BOTTLE,20240221CCHSIOADS
EXPOCODE,SECT_ID,STNNBR,CASTNO,SAMPNO,BTLNBR,BTLNBR_FLAG_W,DATE,TIME,LATITUDE,LONGITUDE,DEPTH,CTDPRS,CTDTMP,CTDSAL,CTDSAL_FLAG_W,SALNTY,SALNTY_FLAG_W,CTDOXY,CTDOXY_FLAG_W,OXYGEN,OXYGEN_FLAG_W,CFC-11,CFC-11_FLAG_W,CFC-12,CFC-12_FLAG_W
,,,,,,,,,,,METERS,DBAR,ITS-90,PSS-78,,PSS-78,,UMOL/KG,,UMOL/KG,,PMOL/KG,,PMOL/KG,
35TH20050604  ,AR07       ,89      ,  1,21         ,21         ,2,20050630,1141,  53.0994, -43.8352,     3683,     10.0,  10.1924,  34.5984,2,     -999,9,    282.1,2,    284.3,2,    3.673,2,    2.081,2
35TH20050604  ,AR07       ,89      ,  1,22         ,22         ,2,20050630,1141,  53.0994, -43.8352,     3683,     10.1,  10.1919,  34.5977,2,     -999,9,    282.2,2,     -999,9,     -999,9,     -999,9
35TH20050604  ,AR07       ,89      ,  1,20         ,20         ,2,20050630,1141,  53.0994, -43.8352,     3683,    213.9,   4.9824,  34.8076,2,     -999,9,    261.1,2,     -999,9,    3.758,2,    2.002,2
35TH20050604  ,AR07       ,89      ,  1,19         ,19         ,2,20050630,1141,  53.0994, -43.8352,     3683,    447.3,   4.1954,  34.8930,2,     -999,9,    273.6,2,    275.6,6,    3.684,2,    1.911,2
35TH20050604  ,AR07       ,89      ,  1,18         ,18         ,2,20050630,1141,  53.0994, -43.8352,     3683,    598.1,   3.9556,  34.8931,2,     -999,9,    279.6,2,     -999,9,    3.740,2,    1.962,2
35TH20050604  ,AR07       ,89      ,  1,17         ,17         ,2,20050630,1141,  53.0994, -43.8352,     3683,    805.7,   3.7106,  34.8799,2,  34.8833,2,    284.8,2,    286.5,2,    3.931,2,    2.042,2
35TH20050604  ,AR07       ,89      ,  1,16         ,16         ,2,20050630,1141,  53.0994, -43.8352,     3683,    997.9,   3.5847,  34.8785,2,     -999,9,    286.1,2,     -999,9,     -999,9,     -999,9
35TH20050604  ,AR07       ,89      ,  1,15         ,15         ,2,20050630,1141,  53.0994, -43.8352,     3683,   1198.6,   3.5149,  34.8830,2,     -999,9,    284.7,2,    286.3,2,    3.483,2,    1.689,2
35TH20050604  ,AR07       ,89      ,  1,14         ,14         ,2,20050630,1141,  53.0994, -43.8352,     3683,   1398.5,   3.4978,  34.8964,2,     -999,9,    281.0,2,     -999,9,    3.142,2,    1.515,2
35TH20050604  ,AR07       ,89      ,  1,13         ,13         ,2,20050630,1141,  53.0994, -43.8352,     3683,   1595.7,   3.4027,  34.9012,2,     -999,9,    280.7,2,     -999,9,    2.841,2,    1.382,2
35TH20050604  ,AR07       ,89      ,  1,12         ,12         ,2,20050630,1141,  53.0994, -43.8352,     3683,   1798.7,   3.2714,  34.8965,2,     -999,9,    282.4,2,    284.7,2,    2.839,2,    1.384,2
35TH20050604  ,AR07       ,89      ,  1,11         ,11         ,2,20050630,1141,  53.0994, -43.8352,     3683,   1947.0,   3.1957,  34.8968,2,  34.8990,2,    283.3,2,     -999,9,    2.758,2,    1.335,2
35TH20050604  ,AR07       ,89      ,  1,10         ,10         ,2,20050630,1141,  53.0994, -43.8352,     3683,   2096.9,   3.1223,  34.8976,2,     -999,9,    283.9,2,     -999,9,     -999,9,     -999,9
35TH20050604  ,AR07       ,89      ,  1,9          ,9          ,2,20050630,1141,  53.0994, -43.8352,     3683,   2398.4,   2.9865,  34.9098,2,     -999,9,    281.7,2,    282.0,2,    2.298,2,    1.124,2
35TH20050604  ,AR07       ,89      ,  1,8          ,8          ,2,20050630,1141,  53.0994, -43.8352,     3683,   2547.5,   2.9115,  34.9111,2,     -999,9,    281.0,2,     -999,9,     -999,9,     -999,9
35TH20050604  ,AR07       ,89      ,  1,7          ,7          ,2,20050630,1141,  53.0994, -43.8352,     3683,   2696.4,   2.8346,  34.9128,2,     -999,9,    280.5,2,     -999,9,    2.014,2,    0.983,2
35TH20050604  ,AR07       ,89      ,  1,6          ,6          ,2,20050630,1141,  53.0994, -43.8352,     3683,   2847.1,   2.7302,  34.9135,2,     -999,9,    280.9,2,     -999,9,     -999,9,     -999,9
35TH20050604  ,AR07       ,89      ,  1,5          ,5          ,2,20050630,1141,  53.0994, -43.8352,     3683,   3001.6,   2.6013,  34.9105,2,  34.9114,2,    281.8,2,    282.8,2,    2.042,2,    0.997,2
35TH20050604  ,AR07       ,89      ,  1,4          ,4          ,2,20050630,1141,  53.0994, -43.8352,     3683,   3156.4,   2.4880,  34.9074,2,     -999,9,    281.6,2,     -999,9,    2.090,2,    1.029,2
35TH20050604  ,AR07       ,89      ,  1,3          ,3          ,2,20050630,1141,  53.0994, -43.8352,     3683,   3297.5,   2.3926,  34.9039,2,     -999,9,    281.9,2,     -999,9,     -999,9,     -999,9
35TH20050604  ,AR07       ,89      ,  1,2          ,2          ,2,20050630,1141,  53.0994, -43.8352,     3683,   3446.3,   2.3117,  34.8997,2,     -999,9,    282.5,2,     -999,9,    2.152,2,    1.066,2
35TH20050604  ,AR07       ,89      ,  1,1          ,1          ,2,20050630,1141,  53.0994, -43.8352,     3683,   3756.9,   2.0934,  34.8908,2,  34.8941,2,    287.3,2,    290.2,2,    2.727,2,    1.351,2
35TH20050604  ,AR07       ,90      ,  1,21         ,21         ,2,20050630,1738,  53.7326, -43.8257,     3610,     16.4,   9.4631,  34.6697,2,  34.6703,2,    294.2,2,    296.2,2,    3.854,2,    2.181,2
35TH20050604  ,AR07       ,90      ,  1,22         ,22         ,2,20050630,1738,  53.7326, -43.8257,     3610,     18.5,   9.4421,  34.6692,2,     -999,9,    292.8,2,     -999,9,     -999,9,     -999,9
35TH20050604  ,AR07       ,90      ,  1,20         ,20         ,2,20050630,1738,  53.7326, -43.8257,     3610,    110.7,   4.9211,  34.6771,2,     -999,9,    290.1,2,     -999,9,     -999,9,     -999,9
35TH20050604  ,AR07       ,90      ,  1,19         ,19         ,2,20050630,1738,  53.7326, -43.8257,     3610,    191.1,   4.5313,  34.7458,2,     -999,9,    288.5,2,    278.5,2,    4.011,2,    2.161,2
35TH20050604  ,AR07       ,90      ,  1,18         ,18         ,2,20050630,1738,  53.7326, -43.8257,     3610,    397.9,   4.1357,  34.8675,2,     -999,9,    276.0,2,     -999,9,    3.849,2,    2.029,2
35TH20050604  ,AR07       ,90      ,  1,17         ,17         ,2,20050630,1738,  53.7326, -43.8257,     3610,    598.7,   3.8653,  34.8806,2,     -999,9,    283.8,2,    286.1,2,    3.932,2,    2.069,2
35TH20050604  ,AR07       ,90      ,  1,16         ,16         ,2,20050630,1738,  53.7326, -43.8257,     3610,    799.2,   3.6899,  34.8802,2,     -999,9,    285.4,2,     -999,9,    3.977,2,    2.088,2
35TH20050604  ,AR07       ,90      ,  1,15         ,15         ,2,20050630,1738,  53.7326, -43.8257,     3610,   1020.7,   3.5303,  34.8735,2,     -999,9,    287.7,2,     -999,9,    3.836,2,    1.976,2
35TH20050604  ,AR07       ,90      ,  1,14         ,14         ,2,20050630,1738,  53.7326, -43.8257,     3610,   1189.4,   3.5094,  34.8817,2,     -999,9,    285.4,2,     -999,9,    3.606,2,    1.833,2
35TH20050604  ,AR07       ,90      ,  1,13         ,13         ,2,20050630,1738,  53.7326, -43.8257,     3610,   1398.3,   3.4690,  34.8935,2,     -999,9,    281.2,2,    283.7,2,    3.208,2,    1.589,2
35TH20050604  ,AR07       ,90      ,  1,12         ,12         ,2,20050630,1738,  53.7326, -43.8257,     3610,   1601.5,   3.3372,  34.8924,2,  34.8953,2,    282.7,2,     -999,9,    3.069,2,    1.504,2
35TH20050604  ,AR07       ,90      ,  1,11         ,11         ,2,20050630,1738,  53.7326, -43.8257,     3610,   1803.1,   3.2106,  34.8883,2,     -999,9,    285.3,2,     -999,9,    3.055,6,    1.470,6
35TH20050604  ,AR07       ,90      ,  1,10         ,10         ,2,20050630,1738,  53.7326, -43.8257,     3610,   1948.9,   3.1733,  34.8944,2,     -999,9,    284.7,2,    285.3,2,    2.884,2,    1.407,3
35TH20050604  ,AR07       ,90      ,  1,9          ,9          ,2,20050630,1738,  53.7326, -43.8257,     3610,   2202.9,   3.0768,  34.9045,2,     -999,9,    283.0,2,     -999,9,    2.501,2,    1.207,2
35TH20050604  ,AR07       ,90      ,  1,8          ,8          ,2,20050630,1738,  53.7326, -43.8257,     3610,   2346.9,   3.0208,  34.9104,2,     -999,9,    282.2,2,     -999,9,     -999,9,     -999,9
35TH20050604  ,AR07       ,90      ,  1,7          ,7          ,2,20050630,1738,  53.7326, -43.8257,     3610,   2494.5,   2.9754,  34.9181,2,     -999,9,    281.3,2,     -999,9,    2.319,2,    1.126,2
35TH20050604  ,AR07       ,90      ,  1,6          ,6          ,2,20050630,1738,  53.7326, -43.8257,     3610,   2645.9,   2.9072,  34.9276,2,     -999,9,    280.3,2,    281.6,2,     -999,9,     -999,9
35TH20050604  ,AR07       ,90      ,  1,5          ,5          ,2,20050630,1738,  53.7326, -43.8257,     3610,   2798.4,   2.8122,  34.9248,2,     -999,9,    280.5,2,     -999,9,    2.202,2,    1.088,2
35TH20050604  ,AR07       ,90      ,  1,4          ,4          ,2,20050630,1738,  53.7326, -43.8257,     3610,   2944.2,   2.7345,  34.9250,2,     -999,9,    280.6,2,     -999,9,    2.154,2,    1.061,2
35TH20050604  ,AR07       ,90      ,  1,3          ,3          ,2,20050630,1738,  53.7326, -43.8257,     3610,   3089.2,   2.6237,  34.9184,2,     -999,9,    280.2,2,    279.9,2,     -999,9,     -999,9
35TH20050604  ,AR07       ,90      ,  1,2          ,2          ,2,20050630,1738,  53.7326, -43.8257,     3610,   3398.1,   2.3870,  34.9045,2,     -999,9,    282.0,2,     -999,9,    2.108,2,    1.018,2
35TH20050604  ,AR07       ,90      ,  1,1          ,1          ,2,20050630,1738,  53.7326, -43.8257,     3610,   3676.9,   2.1640,  34.8932,2,  34.8943,2,    285.4,2,    292.3,3,    2.434,2,    1.182,2
35TH20050604  ,AR07       ,91      ,  1,11         ,11         ,2,20050701,0006,  54.3657, -43.7980,     3500,     23.5,   9.4763,  34.6986,2,     -999,9,    292.4,2,    292.9,2,     -999,9,     -999,9
35TH20050604  ,AR07       ,91      ,  1,10         ,10         ,2,20050701,0006,  54.3657, -43.7980,     3500,     96.7,   5.7324,  34.7273,2,     -999,9,    269.0,2,    271.2,2,     -999,9,     -999,9
35TH20050604  ,AR07       ,91      ,  1,9          ,9          ,2,20050701,0006,  54.3657, -43.7980,     3500,    495.8,   3.9594,  34.8820,2,  34.8853,2,    278.3,2,    281.0,6,     -999,9,     -999,9
35TH20050604  ,AR07       ,91      ,  1,8          ,8          ,2,20050701,0006,  54.3657, -43.7980,     3500,    989.2,   3.5059,  34.8700,2,     -999,9,    286.8,2,     -999,9,     -999,9,     -999,9
35TH20050604  ,AR07       ,91      ,  1,7          ,7          ,2,20050701,0006,  54.3657, -43.7980,     3500,   1495.4,   3.3604,  34.8913,2,     -999,9,    282.3,2,    285.5,2,     -999,9,     -999,9
35TH20050604  ,AR07       ,91      ,  1,6          ,6          ,2,20050701,0006,  54.3657, -43.7980,     3500,   1997.6,   3.1210,  34.8988,2,     -999,9,    283.8,2,    282.6,2,     -999,9,     -999,9
35TH20050604  ,AR07       ,91      ,  1,5          ,5          ,2,20050701,0006,  54.3657, -43.7980,     3500,   2498.7,   2.9553,  34.9221,2,     -999,9,    280.9,2,     -999,9,     -999,9,     -999,9
35TH20050604  ,AR07       ,91      ,  1,4          ,4          ,2,20050701,0006,  54.3657, -43.7980,     3500,   2500.1,   2.9566,  34.9227,2,  34.9267,2,    281.0,2,    277.6,2,     -999,9,     -999,9
35TH20050604  ,AR07       ,91      ,  1,3          ,3          ,2,20050701,0006,  54.3657, -43.7980,     3500,   2993.8,   2.8220,  34.9398,2,     -999,9,    278.4,2,     -999,9,     -999,9,     -999,9
35TH20050604  ,AR07       ,91      ,  1,2          ,2          ,2,20050701,0006,  54.3657, -43.7980,     3500,   2995.9,   2.8200,  34.9392,2,     -999,9,    279.1,2,    277.9,2,     -999,9,     -999,9
35TH20050604  ,AR07       ,91      ,  1,1          ,1          ,2,20050701,0006,  54.3657, -43.7980,     3500,   3556.0,   2.3873,  34.9053,2,  34.9071,2,    281.9,2,    284.1,2,     -999,9,     -999,9
35TH20050604  ,AR07       ,92      ,  1,21         ,21         ,2,20050701,0611,  55.0007, -43.7934,     3358,     30.5,   8.4343,  34.6976,2,     -999,9,    302.9,2,    303.5,6,    4.115,6,    2.279,6
35TH20050604  ,AR07       ,92      ,  1,22         ,22         ,2,20050701,0611,  55.0007, -43.7934,     3358,     30.6,   8.4312,  34.6966,2,     -999,9,    302.9,2,     -999,9,     -999,9,     -999,9
35TH20050604  ,AR07       ,92      ,  1,20         ,20         ,2,20050701,0611,  55.0007, -43.7934,     3358,     98.0,   4.8606,  34.7592,2,     -999,9,    290.0,2,     -999,9,    4.493,2,    2.431,2
35TH20050604  ,AR07       ,92      ,  1,19         ,19         ,2,20050701,0611,  55.0007, -43.7934,     3358,    319.5,   4.2915,  34.8854,2,     -999,9,    271.2,2,     -999,9,    4.024,2,    2.130,2
35TH20050604  ,AR07       ,92      ,  1,18         ,18         ,2,20050701,0611,  55.0007, -43.7934,     3358,    475.9,   3.7634,  34.8635,2,     -999,9,    294.5,2,    295.0,2,    4.362,2,    2.324,2
35TH20050604  ,AR07       ,92      ,  1,17         ,17         ,2,20050701,0611,  55.0007, -43.7934,     3358,    698.4,   3.6277,  34.8663,2,  34.8676,2,    291.0,2,     -999,9,    4.216,2,    2.194,2
35TH20050604  ,AR07       ,92      ,  1,16         ,16         ,2,20050701,0611,  55.0007, -43.7934,     3358,    897.2,   3.4560,  34.8564,2,     -999,9,    291.7,2,    295.8,2,    4.337,2,    2.253,2
35TH20050604  ,AR07       ,92      ,  1,15         ,15         ,2,20050701,0611,  55.0007, -43.7934,     3358,    999.6,   3.3965,  34.8540,2,     -999,9,    293.1,2,     -999,9,    4.305,2,    2.237,2
35TH20050604  ,AR07       ,92      ,  1,14         ,14         ,2,20050701,0611,  55.0007, -43.7934,     3358,   1093.3,   3.3821,  34.8559,2,     -999,9,    292.1,2,     -999,9,    4.235,2,    2.208,2
35TH20050604  ,AR07       ,92      ,  1,13         ,13         ,2,20050701,0611,  55.0007, -43.7934,     3358,   1277.9,   3.4689,  34.8860,2,     -999,9,    283.8,2,    282.3,2,    3.529,2,    1.764,2
35TH20050604  ,AR07       ,92      ,  1,12         ,12         ,2,20050701,0611,  55.0007, -43.7934,     3358,   1480.0,   3.3923,  34.8955,2,     -999,9,    281.7,2,     -999,9,    3.222,2,    1.588,2
35TH20050604  ,AR07       ,92      ,  1,11         ,11         ,2,20050701,0611,  55.0007, -43.7934,     3358,   1725.9,   3.2123,  34.8880,2,     -999,9,    284.9,2,    285.4,2,    3.251,2,    1.586,2
35TH20050604  ,AR07       ,92      ,  1,10         ,10         ,2,20050701,0611,  55.0007, -43.7934,     3358,   1897.5,   3.1488,  34.8931,2,  34.8959,2,    285.2,2,     -999,9,    2.955,2,    1.450,2
35TH20050604  ,AR07       ,92      ,  1,9          ,9          ,2,20050701,0611,  55.0007, -43.7934,     3358,   2096.8,   3.1179,  34.9085,2,     -999,9,    283.0,2,    283.0,2,    2.648,2,    1.285,2
35TH20050604  ,AR07       ,92      ,  1,8          ,8          ,2,20050701,0611,  55.0007, -43.7934,     3358,   2278.1,   3.0630,  34.9181,2,     -999,9,    281.6,2,     -999,9,     -999,9,     -999,9
35TH20050604  ,AR07       ,92      ,  1,7          ,7          ,2,20050701,0611,  55.0007, -43.7934,     3358,   2447.8,   2.9865,  34.9241,2,     -999,9,    281.0,2,     -999,9,    2.317,2,    1.136,2
35TH20050604  ,AR07       ,92      ,  1,6          ,6          ,2,20050701,0611,  55.0007, -43.7934,     3358,   2583.4,   2.8813,  34.9207,2,     -999,9,    281.6,2,     -999,9,    2.284,2,    1.125,2
35TH20050604  ,AR07       ,92      ,  1,5          ,5          ,2,20050701,0611,  55.0007, -43.7934,     3358,   2770.9,   2.8276,  34.9279,2,     -999,9,    280.6,2,    279.0,2,    2.191,2,    1.080,2
35TH20050604  ,AR07       ,92      ,  1,4          ,4          ,2,20050701,0611,  55.0007, -43.7934,     3358,   2895.2,   2.7907,  34.9341,2,     -999,9,    279.6,2,     -999,9,    2.157,2,    1.062,2
35TH20050604  ,AR07       ,92      ,  1,3          ,3          ,2,20050701,0611,  55.0007, -43.7934,     3358,   3045.1,   2.6504,  34.9229,2,     -999,9,    280.3,2,     -999,9,    2.072,2,    1.015,2
35TH20050604  ,AR07       ,92      ,  1,2          ,2          ,2,20050701,0611,  55.0007, -43.7934,     3358,   3196.4,   2.5441,  34.9180,2,     -999,9,    280.8,2,     -999,9,    2.104,2,    1.031,2
35TH20050604  ,AR07       ,92      ,  1,1          ,1          ,2,20050701,0611,  55.0007, -43.7934,     3358,   3409.4,   2.3629,  34.9044,2,  34.9049,2,    282.6,2,    279.7,2,    2.353,2,    1.176,2