BOTTLE,20240221CCHSIOADS
EXPOCODE,SECT_ID,STNNBR,CASTNO,SAMPNO,BTLNBR,BTLNBR_FLAG_W,DATE,TIME,LATITUDE,LONGITUDE,DEPTH,CTDPRS,CTDTMP,CTDSAL,CTDSAL_FLAG_W,SALNTY,SALNTY_FLAG_W,CTDOXY,CTDOXY_FLAG_W,OXYGEN,OXYGEN_FLAG_W,CFC-11,CFC-11_FLAG_W,CFC-12,CFC-12_FLAG_W
,,,,,,,,,,,METERS,DBAR,ITS-90,PSS-78,,PSS-78,,UMOL/KG,,UMOL/KG,,PMOL/KG,,PMOL/KG,
35TH20050604  ,AR07       ,104     ,  1,22         ,22         ,2,20050703,2000,  57.4181, -41.8346,     3300,     15.8,   8.4043,  34.7491,2,     -999,9,    299.6,2,     -999,9,     -999,9,     -999,9
35TH20050604  ,AR07       ,104     ,  1,21         ,21         ,2,20050703,2000,  57.4181, -41.8346,     3300,     15.8,   8.4043,  34.7491,2,     -999,9,    299.6,2,    297.5,2,    3.997,2,    2.239,2
35TH20050604  ,AR07       ,104     ,  1,20         ,20         ,2,20050703,2000,  57.4181, -41.8346,     3300,    196.1,   4.4940,  34.8564,2,  34.8757,2,    293.4,2,    294.0,2,    4.328,2,    2.353,2
35TH20050604  ,AR07       ,104     ,  1,19         ,19         ,2,20050703,2000,  57.4181, -41.8346,     3300,    395.1,   4.1233,  34.8887,2,     -999,9,    297.0,2,     -999,9,    4.269,2,    2.244,2
35TH20050604  ,AR07       ,104     ,  1,18         ,18         ,2,20050703,2000,  57.4181, -41.8346,     3300,    605.2,   3.7780,  34.8698,2,     -999,9,    298.8,2,    305.6,3,    4.492,2,    2.431,2
35TH20050604  ,AR07       ,104     ,  1,17         ,17         ,2,20050703,2000,  57.4181, -41.8346,     3300,    765.6,   3.6403,  34.8599,2,     -999,9,    301.2,2,     -999,9,    4.465,2,    2.402,2
35TH20050604  ,AR07       ,104     ,  1,16         ,16         ,2,20050703,2000,  57.4181, -41.8346,     3300,    925.3,   3.5928,  34.8615,2,     -999,9,    297.0,2,     -999,9,    4.466,2,    2.411,2
35TH20050604  ,AR07       ,104     ,  1,15         ,15         ,2,20050703,2000,  57.4181, -41.8346,     3300,    992.3,   3.5517,  34.8599,2,     -999,9,    295.3,2,    294.6,2,    4.316,2,    2.284,2
35TH20050604  ,AR07       ,104     ,  1,14         ,14         ,2,20050703,2000,  57.4181, -41.8346,     3300,   1083.3,   3.5176,  34.8602,2,     -999,9,    293.2,2,     -999,9,    4.254,2,    2.235,2
35TH20050604  ,AR07       ,104     ,  1,13         ,13         ,2,20050703,2000,  57.4181, -41.8346,     3300,   1189.4,   3.4482,  34.8564,2,     -999,9,    292.6,2,     -999,9,    4.256,2,    2.225,2
35TH20050604  ,AR07       ,104     ,  1,12         ,12         ,2,20050703,2000,  57.4181, -41.8346,     3300,   1297.3,   3.4025,  34.8553,2,     -999,9,    293.1,2,     -999,9,    4.186,2,    2.187,2
35TH20050604  ,AR07       ,104     ,  1,11         ,11         ,2,20050703,2000,  57.4181, -41.8346,     3300,   1398.1,   3.4449,  34.8692,2,     -999,9,    288.7,2,    288.2,6,    3.940,2,    2.020,2
35TH20050604  ,AR07       ,104     ,  1,10         ,10         ,2,20050703,2000,  57.4181, -41.8346,     3300,   1594.5,   3.4822,  34.8969,2,  34.9006,2,    281.1,2,     -999,9,    3.366,2,    1.668,2
35TH20050604  ,AR07       ,104     ,  1,9          ,9          ,2,20050703,2000,  57.4181, -41.8346,     3300,   1797.2,   3.3561,  34.9002,2,     -999,9,    282.4,2,     -999,9,    3.185,2,    1.526,2
35TH20050604  ,AR07       ,104     ,  1,8          ,8          ,2,20050703,2000,  57.4181, -41.8346,     3300,   1996.5,   3.1916,  34.8901,2,     -999,9,    285.4,2,    286.8,2,    3.065,2,    1.466,2
35TH20050604  ,AR07       ,104     ,  1,7          ,7          ,2,20050703,2000,  57.4181, -41.8346,     3300,   2171.7,   3.1439,  34.8983,2,     -999,9,    284.7,2,     -999,9,    2.811,2,    1.358,2
35TH20050604  ,AR07       ,104     ,  1,6          ,6          ,2,20050703,2000,  57.4181, -41.8346,     3300,   2397.4,   3.0896,  34.9138,2,     -999,9,    282.5,2,     -999,9,    2.612,2,    1.266,2
35TH20050604  ,AR07       ,104     ,  1,5          ,5          ,2,20050703,2000,  57.4181, -41.8346,     3300,   2595.9,   2.9671,  34.9162,2,     -999,9,    281.5,2,     -999,9,    2.407,2,    1.172,2
35TH20050604  ,AR07       ,104     ,  1,4          ,4          ,2,20050703,2000,  57.4181, -41.8346,     3300,   2797.4,   2.8902,  34.9236,2,     -999,9,    280.9,2,    280.0,2,    2.285,2,    1.113,2
35TH20050604  ,AR07       ,104     ,  1,3          ,3          ,2,20050703,2000,  57.4181, -41.8346,     3300,   2996.4,   2.7326,  34.9211,2,     -999,9,    281.9,2,     -999,9,    2.399,2,    1.182,2
35TH20050604  ,AR07       ,104     ,  1,2          ,2          ,2,20050703,2000,  57.4181, -41.8346,     3300,   3194.9,   2.4200,  34.9062,2,     -999,9,    285.3,2,     -999,9,    2.408,2,    1.176,2
35TH20050604  ,AR07       ,104     ,  1,1          ,1          ,2,20050703,2000,  57.4181, -41.8346,     3300,   3359.8,   1.5374,  34.8783,2,  34.8810,2,    299.7,2,    304.4,3,    4.013,2,    2.042,2
35TH20050604  ,AR07       ,105     ,  1,22         ,22         ,2,20050704,0156,  56.8816, -41.1754,     3367,     21.8,   8.7159,  34.6899,2,     -999,9,    298.1,2,     -999,9,     -999,9,     -999,9
35TH20050604  ,AR07       ,105     ,  1,21         ,21         ,2,20050704,0156,  56.8816, -41.1754,     3367,     30.7,   8.5679,  34.7165,2,  34.7131,2,    298.0,2,    297.9,2,    4.020,2,    2.252,2
35TH20050604  ,AR07       ,105     ,  1,20         ,20         ,2,20050704,0156,  56.8816, -41.1754,     3367,     84.3,   4.8344,  34.7907,2,     -999,9,    300.5,2,     -999,9,    4.537,2,    2.478,2
35TH20050604  ,AR07       ,105     ,  1,19         ,19         ,2,20050704,0156,  56.8816, -41.1754,     3367,    269.1,   4.1016,  34.8496,2,     -999,9,    295.3,2,     -999,9,    4.438,2,    2.377,2
35TH20050604  ,AR07       ,105     ,  1,18         ,18         ,2,20050704,0156,  56.8816, -41.1754,     3367,    498.4,   3.9557,  34.8899,2,     -999,9,    288.5,2,    288.9,2,    4.167,2,    2.194,2
35TH20050604  ,AR07       ,105     ,  1,17         ,17         ,2,20050704,0156,  56.8816, -41.1754,     3367,    709.7,   3.6915,  34.8778,2,     -999,9,    285.4,2,     -999,9,     -999,9,     -999,9
35TH20050604  ,AR07       ,105     ,  1,16         ,16         ,2,20050704,0156,  56.8816, -41.1754,     3367,    809.6,   3.5547,  34.8704,2,     -999,9,    286.8,2,     -999,9,    4.148,2,    2.144,2
35TH20050604  ,AR07       ,105     ,  1,15         ,15         ,2,20050704,0156,  56.8816, -41.1754,     3367,    899.0,   3.4643,  34.8629,2,     -999,9,    289.0,2,    290.8,6,    4.174,2,    2.162,2
35TH20050604  ,AR07       ,105     ,  1,14         ,14         ,2,20050704,0156,  56.8816, -41.1754,     3367,    993.3,   3.4278,  34.8610,2,     -999,9,    289.6,2,     -999,9,    4.109,2,    2.132,2
35TH20050604  ,AR07       ,105     ,  1,13         ,13         ,2,20050704,0156,  56.8816, -41.1754,     3367,   1071.2,   3.4359,  34.8684,2,     -999,9,    287.4,2,     -999,9,    3.893,2,    1.985,2
35TH20050604  ,AR07       ,105     ,  1,12         ,12         ,2,20050704,0156,  56.8816, -41.1754,     3367,   1197.5,   3.4649,  34.8826,2,  34.8847,2,    284.1,2,     -999,9,    3.562,2,    1.787,2
35TH20050604  ,AR07       ,105     ,  1,11         ,11         ,2,20050704,0156,  56.8816, -41.1754,     3367,   1299.7,   3.4874,  34.8943,2,     -999,9,    281.1,2,     -999,9,    3.277,2,    1.641,2
35TH20050604  ,AR07       ,105     ,  1,10         ,10         ,2,20050704,0156,  56.8816, -41.1754,     3367,   1506.5,   3.3822,  34.8990,2,     -999,9,    281.4,2,    280.8,2,    3.152,2,    1.565,2
35TH20050604  ,AR07       ,105     ,  1,9          ,9          ,2,20050704,0156,  56.8816, -41.1754,     3367,   1705.8,   3.1954,  34.8897,2,     -999,9,    285.2,2,     -999,9,    3.075,2,    1.499,2
35TH20050604  ,AR07       ,105     ,  1,8          ,8          ,2,20050704,0156,  56.8816, -41.1754,     3367,   1929.4,   3.1267,  34.8969,2,     -999,9,    284.7,2,     -999,9,    2.888,2,    1.410,2
35TH20050604  ,AR07       ,105     ,  1,7          ,7          ,2,20050704,0156,  56.8816, -41.1754,     3367,   2097.2,   3.0783,  34.9069,2,     -999,9,    283.0,2,    280.3,2,    2.649,2,    1.288,2
35TH20050604  ,AR07       ,105     ,  1,6          ,6          ,2,20050704,0156,  56.8816, -41.1754,     3367,   2297.7,   3.0042,  34.9149,2,     -999,9,    281.6,2,     -999,9,     -999,9,     -999,9
35TH20050604  ,AR07       ,105     ,  1,5          ,5          ,2,20050704,0156,  56.8816, -41.1754,     3367,   2497.7,   2.9153,  34.9224,2,     -999,9,    280.6,2,     -999,9,    2.298,2,    1.082,4
35TH20050604  ,AR07       ,105     ,  1,4          ,4          ,2,20050704,0156,  56.8816, -41.1754,     3367,   2689.6,   2.8760,  34.9367,2,     -999,9,    279.2,2,    278.9,2,    2.217,2,    1.076,2
35TH20050604  ,AR07       ,105     ,  1,3          ,3          ,2,20050704,0156,  56.8816, -41.1754,     3367,   2898.1,   2.7437,  34.9294,2,     -999,9,    279.9,2,     -999,9,    2.172,2,    1.052,2
35TH20050604  ,AR07       ,105     ,  1,2          ,2          ,2,20050704,0156,  56.8816, -41.1754,     3367,   3101.3,   2.6051,  34.9223,2,  34.9256,2,    280.2,2,     -999,9,    2.117,2,    1.027,2
35TH20050604  ,AR07       ,105     ,  1,1          ,1          ,2,20050704,0156,  56.8816, -41.1754,     3367,   3432.1,   1.5905,  34.8803,2,     -999,9,    298.4,2,    301.9,3,    3.713,2,    1.887,2
35TH20050604  ,AR07       ,106     ,  1,22         ,22         ,2,20050704,0729,  56.3486, -40.5169,     3203,     22.2,   8.6125,  34.8985,2,     -999,9,    295.5,2,     -999,9,     -999,9,     -999,9
35TH20050604  ,AR07       ,106     ,  1,21         ,21         ,2,20050704,0729,  56.3486, -40.5169,     3203,     22.2,   8.6125,  34.8985,2,     -999,9,    295.5,2,    295.2,2,    4.010,2,    2.243,2
35TH20050604  ,AR07       ,106     ,  1,20         ,20         ,2,20050704,0729,  56.3486, -40.5169,     3203,    192.3,   5.5149,  34.9124,2,     -999,9,    292.6,2,     -999,9,    4.318,2,    2.393,2
35TH20050604  ,AR07       ,106     ,  1,19         ,19         ,2,20050704,0729,  56.3486, -40.5169,     3203,    406.1,   4.8038,  34.8934,2,     -999,9,    299.0,2,    297.4,2,    4.317,2,    2.373,2
35TH20050604  ,AR07       ,106     ,  1,18         ,18         ,2,20050704,0729,  56.3486, -40.5169,     3203,    599.4,   4.5580,  34.8907,2,     -999,9,    297.3,2,     -999,9,    4.353,2,    2.384,2
35TH20050604  ,AR07       ,106     ,  1,17         ,17         ,2,20050704,0729,  56.3486, -40.5169,     3203,    829.5,   3.9905,  34.8848,2,  34.8934,2,    300.3,2,     -999,9,    4.529,2,    2.458,2
35TH20050604  ,AR07       ,106     ,  1,16         ,16         ,2,20050704,0729,  56.3486, -40.5169,     3203,    913.6,   3.9410,  34.8840,2,     -999,9,    298.0,2,     -999,9,    4.661,2,    2.550,2
35TH20050604  ,AR07       ,106     ,  1,15         ,15         ,2,20050704,0729,  56.3486, -40.5169,     3203,   1028.2,   3.6595,  34.8565,2,     -999,9,    303.3,2,    304.4,6,    4.531,2,    2.427,2
35TH20050604  ,AR07       ,106     ,  1,14         ,14         ,2,20050704,0729,  56.3486, -40.5169,     3203,   1092.9,   3.6223,  34.8556,2,     -999,9,    302.8,2,     -999,9,    4.610,2,    2.464,2
35TH20050604  ,AR07       ,106     ,  1,13         ,13         ,2,20050704,0729,  56.3486, -40.5169,     3203,   1186.1,   3.5679,  34.8579,2,     -999,9,    297.4,2,     -999,9,    4.412,2,    2.359,2
35TH20050604  ,AR07       ,106     ,  1,12         ,12         ,2,20050704,0729,  56.3486, -40.5169,     3203,   1289.7,   3.5054,  34.8569,2,     -999,9,    294.5,2,     -999,9,    4.345,2,    2.298,2
35TH20050604  ,AR07       ,106     ,  1,11         ,11         ,2,20050704,0729,  56.3486, -40.5169,     3203,   1400.0,   3.4813,  34.8617,2,     -999,9,    291.2,2,     -999,9,    4.226,2,    2.209,2
35TH20050604  ,AR07       ,106     ,  1,10         ,10         ,2,20050704,0729,  56.3486, -40.5169,     3203,   1521.1,   3.5070,  34.8773,2,     -999,9,    285.9,2,     -999,9,    3.928,2,    2.024,2
35TH20050604  ,AR07       ,106     ,  1,9          ,9          ,2,20050704,0729,  56.3486, -40.5169,     3203,   1612.5,   3.5438,  34.8905,2,     -999,9,    283.1,2,    281.2,2,    3.594,2,    1.835,2
35TH20050604  ,AR07       ,106     ,  1,8          ,8          ,2,20050704,0729,  56.3486, -40.5169,     3203,   1697.8,   3.4996,  34.8999,2,     -999,9,    280.7,2,     -999,9,    3.359,2,    1.663,2
35TH20050604  ,AR07       ,106     ,  1,7          ,7          ,2,20050704,0729,  56.3486, -40.5169,     3203,   1806.6,   3.4105,  34.8998,2,     -999,9,    281.7,2,     -999,9,    3.211,2,    1.575,2
35TH20050604  ,AR07       ,106     ,  1,6          ,6          ,2,20050704,0729,  56.3486, -40.5169,     3203,   2004.3,   3.2586,  34.8990,2,     -999,9,    284.3,2,    280.7,2,    3.116,2,    1.533,2
35TH20050604  ,AR07       ,106     ,  1,5          ,5          ,2,20050704,0729,  56.3486, -40.5169,     3203,   2228.9,   3.2293,  34.9148,2,  34.9227,2,    282.7,2,     -999,9,    2.869,2,    1.402,2
35TH20050604  ,AR07       ,106     ,  1,4          ,4          ,2,20050704,0729,  56.3486, -40.5169,     3203,   2413.9,   3.1077,  34.9220,2,     -999,9,    281.4,2,    279.8,2,    2.550,2,    1.234,2
35TH20050604  ,AR07       ,106     ,  1,3          ,3          ,2,20050704,0729,  56.3486, -40.5169,     3203,   2597.1,   3.0334,  34.9263,2,     -999,9,    280.6,2,     -999,9,    2.409,2,    1.177,2
35TH20050604  ,AR07       ,106     ,  1,2          ,2          ,2,20050704,0729,  56.3486, -40.5169,     3203,   2810.0,   2.9380,  34.9330,2,     -999,9,    279.4,2,     -999,9,    2.267,2,    1.096,2
35TH20050604  ,AR07       ,106     ,  1,1          ,1          ,2,20050704,0729,  56.3486, -40.5169,     3203,   3264.9,   2.7264,  34.9290,2,  34.9353,2,    279.5,2,    276.9,2,    2.213,2,    1.084,2
35TH20050604  ,AR07       ,107     ,  1,22         ,22         ,2,20050704,1345,  55.8151, -39.8495,     3024,     22.0,   9.3197,  34.8294,2,     -999,9,    289.4,2,     -999,9,     -999,9,     -999,9
35TH20050604  ,AR07       ,107     ,  1,21         ,21         ,2,20050704,1345,  55.8151, -39.8495,     3024,     22.0,   9.3197,  34.8294,2,     -999,9,    289.4,2,    293.6,2,    3.812,2,    2.137,2
35TH20050604  ,AR07       ,107     ,  1,20         ,20         ,2,20050704,1345,  55.8151, -39.8495,     3024,     94.3,   5.4320,  34.8736,2,     -999,9,    293.5,2,    294.1,6,     -999,9,     -999,9
35TH20050604  ,AR07       ,107     ,  1,19         ,19         ,2,20050704,1345,  55.8151, -39.8495,     3024,    309.8,   4.5565,  34.9143,2,     -999,9,    277.0,2,     -999,9,    3.732,2,    1.971,2
35TH20050604  ,AR07       ,107     ,  1,18         ,18         ,2,20050704,1345,  55.8151, -39.8495,     3024,    505.9,   4.0913,  34.9074,2,     -999,9,    280.0,2,    280.7,2,    3.796,2,    1.970,2
35TH20050604  ,AR07       ,107     ,  1,17         ,17         ,2,20050704,1345,  55.8151, -39.8495,     3024,    711.3,   3.8483,  34.9068,2,     -999,9,    275.2,2,     -999,9,    3.560,2,    1.811,2
35TH20050604  ,AR07       ,107     ,  1,16         ,16         ,2,20050704,1345,  55.8151, -39.8495,     3024,    904.2,   3.6309,  34.9001,2,     -999,9,    278.9,2,    278.1,2,    3.356,2,    1.683,2
35TH20050604  ,AR07       ,107     ,  1,15         ,15         ,2,20050704,1345,  55.8151, -39.8495,     3024,   1011.5,   3.5731,  34.9036,2,     -999,9,    278.3,2,     -999,9,     -999,9,     -999,9
35TH20050604  ,AR07       ,107     ,  1,14         ,14         ,2,20050704,1345,  55.8151, -39.8495,     3024,   1101.6,   3.5270,  34.9065,2,     -999,9,    277.8,2,     -999,9,    3.125,3,    1.481,3
35TH20050604  ,AR07       ,107     ,  1,13         ,13         ,2,20050704,1345,  55.8151, -39.8495,     3024,   1191.8,   3.4327,  34.9025,2,     -999,9,    280.0,2,     -999,9,     -999,9,     -999,9
35TH20050604  ,AR07       ,107     ,  1,12         ,12         ,2,20050704,1345,  55.8151, -39.8495,     3024,   1284.9,   3.3815,  34.9038,2,     -999,9,    280.7,2,    280.4,2,    3.112,2,    1.522,2
35TH20050604  ,AR07       ,107     ,  1,11         ,11         ,2,20050704,1345,  55.8151, -39.8495,     3024,   1416.4,   3.2885,  34.9028,2,  34.9067,2,    282.2,2,     -999,9,     -999,9,     -999,9
35TH20050604  ,AR07       ,107     ,  1,10         ,10         ,2,20050704,1345,  55.8151, -39.8495,     3024,   1499.4,   3.2188,  34.8996,2,     -999,9,    283.6,2,     -999,9,    3.036,2,    1.461,2
35TH20050604  ,AR07       ,107     ,  1,9          ,9          ,2,20050704,1345,  55.8151, -39.8495,     3024,   1597.4,   3.1595,  34.8984,2,     -999,9,    284.3,2,     -999,9,     -999,9,     -999,9
35TH20050604  ,AR07       ,107     ,  1,8          ,8          ,2,20050704,1345,  55.8151, -39.8495,     3024,   1695.4,   3.1682,  34.9076,2,     -999,9,    283.0,2,    282.6,2,    2.873,2,    1.391,2
35TH20050604  ,AR07       ,107     ,  1,7          ,7          ,2,20050704,1345,  55.8151, -39.8495,     3024,   1877.5,   3.1045,  34.9180,2,     -999,9,    281.6,2,     -999,9,    2.632,2,    1.281,2
35TH20050604  ,AR07       ,107     ,  1,6          ,6          ,2,20050704,1345,  55.8151, -39.8495,     3024,   2196.2,   2.9912,  34.9327,2,     -999,9,    279.0,2,     -999,9,    2.274,2,    1.104,2
35TH20050604  ,AR07       ,107     ,  1,5          ,5          ,2,20050704,1345,  55.8151, -39.8495,     3024,   2296.3,   2.9642,  34.9367,2,     -999,9,    278.6,2,    279.1,2,     -999,9,     -999,9
35TH20050604  ,AR07       ,107     ,  1,4          ,4          ,2,20050704,1345,  55.8151, -39.8495,     3024,   2503.6,   2.8996,  34.9414,2,     -999,9,    278.1,2,     -999,9,    2.191,2,    1.070,2
35TH20050604  ,AR07       ,107     ,  1,3          ,3          ,2,20050704,1345,  55.8151, -39.8495,     3024,   2748.2,   2.8168,  34.9402,2,  34.9435,2,    277.7,2,     -999,9,    2.122,2,    1.034,2
35TH20050604  ,AR07       ,107     ,  1,2          ,2          ,2,20050704,1345,  55.8151, -39.8495,     3024,   2897.1,   2.7417,  34.9347,2,     -999,9,    278.4,2,     -999,9,     -999,9,     -999,9
35TH20050604  ,AR07       ,107     ,  1,1          ,1          ,2,20050704,1345,  55.8151, -39.8495,     3024,   3095.7,   2.6871,  34.9291,2,     -999,9,    279.2,2,    279.7,2,    2.198,2,    1.067,2