BOTTLE,20240221CCHSIOADS
EXPOCODE,SECT_ID,STNNBR,CASTNO,SAMPNO,BTLNBR,BTLNBR_FLAG_W,DATE,TIME,LATITUDE,LONGITUDE,DEPTH,CTDPRS,CTDTMP,CTDSAL,CTDSAL_FLAG_W,SALNTY,SALNTY_FLAG_W,CTDOXY,CTDOXY_FLAG_W,OXYGEN,OXYGEN_FLAG_W,CFC-11,CFC-11_FLAG_W,CFC-12,CFC-12_FLAG_W
,,,,,,,,,,,METERS,DBAR,ITS-90,PSS-78,,PSS-78,,UMOL/KG,,UMOL/KG,,PMOL/KG,,PMOL/KG,
35TH20050604  ,AR07       ,51      ,  1,22         ,22         ,2,20050622,0905,  58.4004, -53.7926,     3382,      3.7,   6.2234,  34.6890,2,     -999,9,    321.8,2,    320.1,2,    4.600,6,    2.509,6
35TH20050604  ,AR07       ,51      ,  1,21         ,21         ,2,20050622,0905,  58.4004, -53.7926,     3382,    108.8,   4.2403,  34.8666,2,     -999,9,    300.4,2,     -999,9,     -999,9,     -999,9
35TH20050604  ,AR07       ,51      ,  1,20         ,20         ,2,20050622,0905,  58.4004, -53.7926,     3382,    284.2,   3.8502,  34.8703,2,     -999,9,    298.2,2,     -999,9,    4.394,2,    2.375,2
35TH20050604  ,AR07       ,51      ,  1,19         ,19         ,2,20050622,0905,  58.4004, -53.7926,     3382,    398.9,   3.6865,  34.8658,2,     -999,9,    299.8,2,    297.4,2,    4.494,2,    2.432,2
35TH20050604  ,AR07       ,51      ,  1,18         ,18         ,2,20050622,0905,  58.4004, -53.7926,     3382,    502.4,   3.6112,  34.8657,2,     -999,9,    300.3,2,     -999,9,     -999,9,     -999,9
35TH20050604  ,AR07       ,51      ,  1,17         ,17         ,2,20050622,0905,  58.4004, -53.7926,     3382,    599.7,   3.5907,  34.8670,2,     -999,9,    300.2,2,     -999,9,    4.484,2,    2.408,2
35TH20050604  ,AR07       ,51      ,  1,16         ,16         ,2,20050622,0905,  58.4004, -53.7926,     3382,    737.0,   3.5092,  34.8600,2,     -999,9,    302.7,2,     -999,9,    4.538,2,    2.439,2
35TH20050604  ,AR07       ,51      ,  1,15         ,15         ,2,20050622,0905,  58.4004, -53.7926,     3382,    900.7,   3.4818,  34.8597,2,     -999,9,    300.8,2,    299.5,2,     -999,9,     -999,9
35TH20050604  ,AR07       ,51      ,  1,14         ,14         ,2,20050622,0905,  58.4004, -53.7926,     3382,   1118.5,   3.4644,  34.8623,2,     -999,9,    295.4,2,     -999,9,    4.685,4,    3.007,4
35TH20050604  ,AR07       ,51      ,  1,13         ,13         ,2,20050622,0905,  58.4004, -53.7926,     3382,   1198.5,   3.4245,  34.8592,2,     -999,9,    293.6,2,     -999,9,     -999,9,     -999,9
35TH20050604  ,AR07       ,51      ,  1,12         ,12         ,2,20050622,0905,  58.4004, -53.7926,     3382,   1397.8,   3.4896,  34.8813,2,  34.8878,2,    286.6,2,    283.9,6,     -999,9,     -999,9
35TH20050604  ,AR07       ,51      ,  1,11         ,11         ,2,20050622,0905,  58.4004, -53.7926,     3382,   1488.3,   3.5013,  34.8925,2,     -999,9,    283.0,2,     -999,9,     -999,9,     -999,9
35TH20050604  ,AR07       ,51      ,  1,10         ,10         ,2,20050622,0905,  58.4004, -53.7926,     3382,   1596.2,   3.4565,  34.8986,2,     -999,9,    281.6,2,     -999,9,     -999,9,     -999,9
35TH20050604  ,AR07       ,51      ,  1,9          ,9          ,2,20050622,0905,  58.4004, -53.7926,     3382,   1702.6,   3.3982,  34.8999,2,     -999,9,    282.4,2,     -999,9,     -999,9,     -999,9
35TH20050604  ,AR07       ,51      ,  1,8          ,8          ,2,20050622,0905,  58.4004, -53.7926,     3382,   1897.5,   3.2433,  34.8931,2,     -999,9,    285.0,2,    283.4,2,     -999,9,     -999,9
35TH20050604  ,AR07       ,51      ,  1,7          ,7          ,2,20050622,0905,  58.4004, -53.7926,     3382,   1998.1,   3.1803,  34.8941,2,     -999,9,    285.8,2,     -999,9,     -999,9,     -999,9
35TH20050604  ,AR07       ,51      ,  1,6          ,6          ,2,20050622,0905,  58.4004, -53.7926,     3382,   2097.8,   3.1321,  34.8953,2,     -999,9,    285.6,2,     -999,9,     -999,9,     -999,9
35TH20050604  ,AR07       ,51      ,  1,5          ,5          ,2,20050622,0905,  58.4004, -53.7926,     3382,   2399.1,   2.9782,  34.9043,2,     -999,9,    285.0,2,    283.5,2,     -999,9,     -999,9
35TH20050604  ,AR07       ,51      ,  1,4          ,4          ,2,20050622,0905,  58.4004, -53.7926,     3382,   2700.5,   2.7514,  34.9079,2,  34.9084,2,    285.1,2,     -999,9,     -999,9,     -999,9
35TH20050604  ,AR07       ,51      ,  1,3          ,3          ,2,20050622,0905,  58.4004, -53.7926,     3382,   2908.1,   2.5458,  34.9036,2,     -999,9,    286.0,2,    293.5,3,     -999,9,     -999,9
35TH20050604  ,AR07       ,51      ,  1,2          ,2          ,2,20050622,0905,  58.4004, -53.7926,     3382,   3202.1,   2.0206,  34.8841,2,     -999,9,    293.7,2,     -999,9,     -999,9,     -999,9
35TH20050604  ,AR07       ,51      ,  1,1          ,1          ,2,20050622,0905,  58.4004, -53.7926,     3382,   3463.1,   1.4696,  34.8719,2,  34.8735,2,    301.2,2,    300.7,2,     -999,9,     -999,9
35TH20050604  ,AR07       ,52      ,  1,22         ,22         ,2,20050622,1403,  58.8003, -54.3918,     3351,     18.7,   6.4229,  34.6579,2,     -999,9,    322.0,2,    320.4,6,     -999,9,     -999,9
35TH20050604  ,AR07       ,52      ,  1,21         ,21         ,2,20050622,1403,  58.8003, -54.3918,     3351,     18.7,   6.4229,  34.6579,2,     -999,9,    322.0,2,     -999,9,    4.579,6,    2.488,6
35TH20050604  ,AR07       ,52      ,  1,20         ,20         ,2,20050622,1403,  58.8003, -54.3918,     3351,    122.6,   4.3248,  34.9008,2,     -999,9,    298.6,2,     -999,9,    4.437,2,    2.416,2
35TH20050604  ,AR07       ,52      ,  1,19         ,19         ,2,20050622,1403,  58.8003, -54.3918,     3351,    198.2,   4.2127,  34.8913,2,     -999,9,    300.8,2,     -999,9,     -999,9,     -999,9
35TH20050604  ,AR07       ,52      ,  1,18         ,18         ,2,20050622,1403,  58.8003, -54.3918,     3351,    290.0,   3.9943,  34.8839,2,     -999,9,    294.8,2,    293.6,2,    4.397,2,    2.695,4
35TH20050604  ,AR07       ,52      ,  1,17         ,17         ,2,20050622,1403,  58.8003, -54.3918,     3351,    409.7,   3.8164,  34.8816,2,     -999,9,    294.4,2,     -999,9,     -999,9,     -999,9
35TH20050604  ,AR07       ,52      ,  1,16         ,16         ,2,20050622,1403,  58.8003, -54.3918,     3351,    515.9,   3.6544,  34.8684,2,     -999,9,    298.8,2,     -999,9,     -999,9,     -999,9
35TH20050604  ,AR07       ,52      ,  1,15         ,15         ,2,20050622,1403,  58.8003, -54.3918,     3351,    610.3,   3.5793,  34.8621,2,     -999,9,    301.8,2,     -999,9,    4.433,2,    2.386,2
35TH20050604  ,AR07       ,52      ,  1,14         ,14         ,2,20050622,1403,  58.8003, -54.3918,     3351,    801.6,   3.5232,  34.8597,2,  34.8621,2,    300.8,2,     -999,9,    4.388,2,    2.334,2
35TH20050604  ,AR07       ,52      ,  1,13         ,13         ,2,20050622,1403,  58.8003, -54.3918,     3351,    928.9,   3.4910,  34.8580,2,     -999,9,    301.7,2,    301.8,2,    4.579,4,    2.453,4
35TH20050604  ,AR07       ,52      ,  1,12         ,12         ,2,20050622,1403,  58.8003, -54.3918,     3351,    989.6,   3.4808,  34.8568,2,     -999,9,    302.1,2,     -999,9,    4.394,2,    2.340,2
35TH20050604  ,AR07       ,52      ,  1,11         ,11         ,2,20050622,1403,  58.8003, -54.3918,     3351,   1115.2,   3.4708,  34.8575,2,     -999,9,    300.4,2,     -999,9,     -999,9,     -999,9
35TH20050604  ,AR07       ,52      ,  1,10         ,10         ,2,20050622,1403,  58.8003, -54.3918,     3351,   1326.7,   3.4170,  34.8555,2,     -999,9,    293.9,2,    296.1,2,    4.307,2,    2.244,2
35TH20050604  ,AR07       ,52      ,  1,9          ,9          ,2,20050622,1403,  58.8003, -54.3918,     3351,   1483.1,   3.4678,  34.8719,2,     -999,9,    287.8,2,     -999,9,    3.907,2,    1.992,2
35TH20050604  ,AR07       ,52      ,  1,8          ,8          ,2,20050622,1403,  58.8003, -54.3918,     3351,   1698.1,   3.4902,  34.8976,2,  34.9015,2,    280.2,2,     -999,9,     -999,9,     -999,9
35TH20050604  ,AR07       ,52      ,  1,7          ,7          ,2,20050622,1403,  58.8003, -54.3918,     3351,   1807.0,   3.4254,  34.8986,2,     -999,9,    280.7,2,    281.1,2,    3.285,2,    1.633,2
35TH20050604  ,AR07       ,52      ,  1,6          ,6          ,2,20050622,1403,  58.8003, -54.3918,     3351,   1999.0,   3.2489,  34.8915,2,     -999,9,    283.9,2,     -999,9,    3.341,2,    1.651,2
35TH20050604  ,AR07       ,52      ,  1,5          ,5          ,2,20050622,1403,  58.8003, -54.3918,     3351,   2200.0,   3.1420,  34.8965,2,  34.8963,2,    284.1,2,     -999,9,     -999,9,     -999,9
35TH20050604  ,AR07       ,52      ,  1,4          ,4          ,2,20050622,1403,  58.8003, -54.3918,     3351,   2399.6,   3.0261,  34.9025,2,     -999,9,    283.4,2,    283.6,2,     -999,9,     -999,9
35TH20050604  ,AR07       ,52      ,  1,3          ,3          ,2,20050622,1403,  58.8003, -54.3918,     3351,   2597.1,   2.8855,  34.9065,2,     -999,9,    282.9,2,     -999,9,     -999,9,     -999,9
35TH20050604  ,AR07       ,52      ,  1,2          ,2          ,2,20050622,1403,  58.8003, -54.3918,     3351,   2702.9,   2.8103,  34.9116,2,     -999,9,    282.9,2,     -999,9,     -999,9,     -999,9
35TH20050604  ,AR07       ,52      ,  1,1          ,1          ,2,20050622,1403,  58.8003, -54.3918,     3351,   3426.8,   1.4662,  34.8722,2,  34.8757,2,    300.2,2,    301.4,2,    4.350,4,    2.759,4
35TH20050604  ,AR07       ,53      ,  1,21         ,21         ,2,20050622,1853,  59.1990, -54.9952,     3272,     27.1,   5.9787,  34.5650,2,     -999,9,    325.6,2,    322.5,2,    4.779,2,    2.604,2
35TH20050604  ,AR07       ,53      ,  1,22         ,22         ,2,20050622,1853,  59.1990, -54.9952,     3272,     29.0,   5.9330,  34.5758,2,     -999,9,    325.7,2,     -999,9,     -999,9,     -999,9
35TH20050604  ,AR07       ,53      ,  1,20         ,20         ,2,20050622,1853,  59.1990, -54.9952,     3272,    104.1,   4.0819,  34.8247,2,     -999,9,    300.9,2,     -999,9,     -999,9,     -999,9
35TH20050604  ,AR07       ,53      ,  1,19         ,19         ,2,20050622,1853,  59.1990, -54.9952,     3272,    191.1,   4.1274,  34.8721,2,     -999,9,    296.1,2,    298.2,2,     -999,9,     -999,9
35TH20050604  ,AR07       ,53      ,  1,18         ,18         ,2,20050622,1853,  59.1990, -54.9952,     3272,    292.0,   3.9822,  34.8783,2,     -999,9,    294.4,2,     -999,9,    4.298,2,    2.295,2
35TH20050604  ,AR07       ,53      ,  1,17         ,17         ,2,20050622,1853,  59.1990, -54.9952,     3272,    368.4,   3.8035,  34.8680,2,  34.8753,2,    294.0,2,     -999,9,     -999,9,     -999,9
35TH20050604  ,AR07       ,53      ,  1,16         ,16         ,2,20050622,1853,  59.1990, -54.9952,     3272,    470.5,   3.7125,  34.8706,2,     -999,9,    296.0,2,    294.8,2,    4.373,2,    2.339,2
35TH20050604  ,AR07       ,53      ,  1,15         ,15         ,2,20050622,1853,  59.1990, -54.9952,     3272,    590.9,   3.5850,  34.8639,2,     -999,9,    298.8,2,     -999,9,     -999,9,     -999,9
35TH20050604  ,AR07       ,53      ,  1,14         ,14         ,2,20050622,1853,  59.1990, -54.9952,     3272,    701.6,   3.4893,  34.8561,2,     -999,9,    301.2,2,    303.2,2,    4.608,2,    2.494,2
35TH20050604  ,AR07       ,53      ,  1,13         ,13         ,2,20050622,1853,  59.1990, -54.9952,     3272,    849.4,   3.4531,  34.8539,2,     -999,9,    302.6,2,     -999,9,    4.646,2,    2.505,2
35TH20050604  ,AR07       ,53      ,  1,12         ,12         ,2,20050622,1853,  59.1990, -54.9952,     3272,    999.5,   3.4475,  34.8545,2,     -999,9,    304.2,2,     -999,9,    4.637,2,    2.506,2
35TH20050604  ,AR07       ,53      ,  1,11         ,11         ,2,20050622,1853,  59.1990, -54.9952,     3272,   1196.4,   3.4524,  34.8549,2,     -999,9,    304.3,2,    304.5,2,    4.992,4,    3.212,4
35TH20050604  ,AR07       ,53      ,  1,10         ,10         ,2,20050622,1853,  59.1990, -54.9952,     3272,   1394.1,   3.4467,  34.8548,2,  34.8551,2,    298.9,2,     -999,9,    4.555,2,    2.421,2
35TH20050604  ,AR07       ,53      ,  1,9          ,9          ,2,20050622,1853,  59.1990, -54.9952,     3272,   1575.9,   3.5148,  34.8809,2,     -999,9,    284.8,2,    285.5,2,    3.873,2,    2.025,2
35TH20050604  ,AR07       ,53      ,  1,8          ,8          ,2,20050622,1853,  59.1990, -54.9952,     3272,   1798.4,   3.4420,  34.8999,2,     -999,9,    280.0,2,     -999,9,    3.366,2,    1.678,2
35TH20050604  ,AR07       ,53      ,  1,7          ,7          ,2,20050622,1853,  59.1990, -54.9952,     3272,   2117.7,   3.1829,  34.8924,2,     -999,9,    284.0,2,     -999,9,    3.240,2,    1.615,2
35TH20050604  ,AR07       ,53      ,  1,6          ,6          ,2,20050622,1853,  59.1990, -54.9952,     3272,   2199.9,   3.1376,  34.8958,2,     -999,9,    283.7,2,     -999,9,     -999,9,     -999,9
35TH20050604  ,AR07       ,53      ,  1,5          ,5          ,2,20050622,1853,  59.1990, -54.9952,     3272,   2299.9,   3.0839,  34.9005,2,     -999,9,    283.2,2,    283.2,6,    3.060,2,    1.504,2
35TH20050604  ,AR07       ,53      ,  1,4          ,4          ,2,20050622,1853,  59.1990, -54.9952,     3272,   2500.4,   2.9431,  34.9046,2,  34.9084,2,    282.8,2,     -999,9,     -999,9,     -999,9
35TH20050604  ,AR07       ,53      ,  1,3          ,3          ,2,20050622,1853,  59.1990, -54.9952,     3272,   2699.0,   2.7972,  34.9070,2,     -999,9,    283.1,2,     -999,9,     -999,9,     -999,9
35TH20050604  ,AR07       ,53      ,  1,2          ,2          ,2,20050622,1853,  59.1990, -54.9952,     3272,   2885.3,   2.6256,  34.9076,2,     -999,9,    283.4,2,     -999,9,    2.746,2,    1.368,2
35TH20050604  ,AR07       ,53      ,  1,1          ,1          ,2,20050622,1853,  59.1990, -54.9952,     3272,   3342.5,   1.5946,  34.8763,2,     -999,9,    297.6,2,    300.4,2,    4.253,4,    2.701,4
35TH20050604  ,AR07       ,54      ,  1,22         ,22         ,2,20050622,2344,  59.5984, -55.5943,     3112,     18.6,   6.4467,  34.6834,2,     -999,9,    324.8,2,     -999,9,     -999,9,     -999,9
35TH20050604  ,AR07       ,54      ,  1,21         ,21         ,2,20050622,2344,  59.5984, -55.5943,     3112,     20.8,   6.3357,  34.6983,2,     -999,9,    325.8,2,    323.5,2,    4.573,6,    2.496,6
35TH20050604  ,AR07       ,54      ,  1,20         ,20         ,2,20050622,2344,  59.5984, -55.5943,     3112,    128.3,   3.9723,  34.8495,2,     -999,9,    300.5,2,     -999,9,    4.499,2,    2.412,2
35TH20050604  ,AR07       ,54      ,  1,19         ,19         ,2,20050622,2344,  59.5984, -55.5943,     3112,    205.6,   3.8279,  34.8533,2,     -999,9,    298.3,2,     -999,9,     -999,9,     -999,9
35TH20050604  ,AR07       ,54      ,  1,18         ,18         ,2,20050622,2344,  59.5984, -55.5943,     3112,    421.0,   3.7440,  34.8746,2,     -999,9,    294.3,2,    297.0,2,    4.295,2,    2.330,2
35TH20050604  ,AR07       ,54      ,  1,17         ,17         ,2,20050622,2344,  59.5984, -55.5943,     3112,    480.6,   3.6526,  34.8683,2,     -999,9,    297.5,2,     -999,9,     -999,9,     -999,9
35TH20050604  ,AR07       ,54      ,  1,16         ,16         ,2,20050622,2344,  59.5984, -55.5943,     3112,    598.0,   3.5656,  34.8638,2,     -999,9,    299.7,2,     -999,9,     -999,9,     -999,9
35TH20050604  ,AR07       ,54      ,  1,15         ,15         ,2,20050622,2344,  59.5984, -55.5943,     3112,    697.4,   3.5212,  34.8604,2,  34.8631,2,    301.1,2,     -999,9,    4.528,2,    2.388,2
35TH20050604  ,AR07       ,54      ,  1,14         ,14         ,2,20050622,2344,  59.5984, -55.5943,     3112,    805.6,   3.4837,  34.8577,2,     -999,9,    301.1,2,    302.1,2,    4.592,2,    2.459,2
35TH20050604  ,AR07       ,54      ,  1,13         ,13         ,2,20050622,2344,  59.5984, -55.5943,     3112,    899.6,   3.4739,  34.8581,2,     -999,9,    300.4,2,     -999,9,    4.860,4,    2.954,4
35TH20050604  ,AR07       ,54      ,  1,12         ,12         ,2,20050622,2344,  59.5984, -55.5943,     3112,    974.1,   3.4662,  34.8571,2,     -999,9,    301.5,2,     -999,9,     -999,9,     -999,9
35TH20050604  ,AR07       ,54      ,  1,11         ,11         ,2,20050622,2344,  59.5984, -55.5943,     3112,   1118.6,   3.4706,  34.8604,2,     -999,9,    297.9,2,     -999,9,    4.495,2,    2.416,2
35TH20050604  ,AR07       ,54      ,  1,10         ,10         ,2,20050622,2344,  59.5984, -55.5943,     3112,   1227.3,   3.4544,  34.8624,2,     -999,9,    291.6,2,     -999,9,     -999,9,     -999,9
35TH20050604  ,AR07       ,54      ,  1,9          ,9          ,2,20050622,2344,  59.5984, -55.5943,     3112,   1388.3,   3.5089,  34.8837,2,     -999,9,    284.8,2,    282.0,2,    3.866,2,    2.005,2
35TH20050604  ,AR07       ,54      ,  1,8          ,8          ,2,20050622,2344,  59.5984, -55.5943,     3112,   1598.2,   3.4690,  34.8990,2,     -999,9,    280.0,2,     -999,9,    3.453,2,    1.747,2
35TH20050604  ,AR07       ,54      ,  1,7          ,7          ,2,20050622,2344,  59.5984, -55.5943,     3112,   1805.4,   3.3104,  34.8963,2,     -999,9,    282.5,2,    282.8,6,     -999,9,     -999,9
35TH20050604  ,AR07       ,54      ,  1,6          ,6          ,2,20050622,2344,  59.5984, -55.5943,     3112,   1896.3,   3.2177,  34.8907,2,  34.8947,2,    283.7,2,     -999,9,    3.319,2,    1.645,2
35TH20050604  ,AR07       ,54      ,  1,5          ,5          ,2,20050622,2344,  59.5984, -55.5943,     3112,   2097.1,   3.1123,  34.8972,2,     -999,9,    284.0,2,    283.0,2,     -999,9,     -999,9
35TH20050604  ,AR07       ,54      ,  1,4          ,4          ,2,20050622,2344,  59.5984, -55.5943,     3112,   2296.7,   2.9998,  34.9028,2,     -999,9,    283.1,2,     -999,9,    2.889,2,    1.430,2
35TH20050604  ,AR07       ,54      ,  1,3          ,3          ,2,20050622,2344,  59.5984, -55.5943,     3112,   2506.4,   2.8464,  34.9069,2,     -999,9,    283.2,2,    283.6,2,     -999,9,     -999,9
35TH20050604  ,AR07       ,54      ,  1,2          ,2          ,2,20050622,2344,  59.5984, -55.5943,     3112,   2597.2,   2.7527,  34.9056,2,     -999,9,    283.8,2,     -999,9,    2.900,2,    1.446,2
35TH20050604  ,AR07       ,54      ,  1,1          ,1          ,2,20050622,2344,  59.5984, -55.5943,     3112,   3178.1,   1.5996,  34.8764,2,  34.8774,2,    298.2,2,    298.7,2,    4.258,4,    2.644,4