BOTTLE,20240221CCHSIOADS
EXPOCODE,SECT_ID,STNNBR,CASTNO,SAMPNO,BTLNBR,BTLNBR_FLAG_W,DATE,TIME,LATITUDE,LONGITUDE,DEPTH,CTDPRS,CTDTMP,CTDSAL,CTDSAL_FLAG_W,SALNTY,SALNTY_FLAG_W,CTDOXY,CTDOXY_FLAG_W,OXYGEN,OXYGEN_FLAG_W,CFC-11,CFC-11_FLAG_W,CFC-12,CFC-12_FLAG_W
,,,,,,,,,,,METERS,DBAR,ITS-90,PSS-78,,PSS-78,,UMOL/KG,,UMOL/KG,,PMOL/KG,,PMOL/KG,
35TH20050604  ,AR07       ,63      ,  1,22         ,22         ,2,20050624,2041,  61.9851, -57.5114,     2531,      7.6,   4.7518,  34.1581,2,     -999,9,    332.3,2,     -999,9,     -999,9,     -999,9
35TH20050604  ,AR07       ,63      ,  1,21         ,21         ,2,20050624,2041,  61.9851, -57.5114,     2531,      7.9,   4.7466,  34.1621,2,     -999,9,    332.1,2,    336.8,2,    5.088,2,    2.770,2
35TH20050604  ,AR07       ,63      ,  1,20         ,20         ,2,20050624,2041,  61.9851, -57.5114,     2531,    101.2,   3.8711,  34.6935,2,     -999,9,    300.2,2,     -999,9,     -999,9,     -999,9
35TH20050604  ,AR07       ,63      ,  1,19         ,19         ,2,20050624,2041,  61.9851, -57.5114,     2531,    278.0,   4.2669,  34.8369,2,     -999,9,    294.6,2,    295.4,2,     -999,9,     -999,9
35TH20050604  ,AR07       ,63      ,  1,18         ,18         ,2,20050624,2041,  61.9851, -57.5114,     2531,    490.5,   4.0415,  34.8567,2,     -999,9,    296.9,2,     -999,9,    4.376,2,    2.413,2
35TH20050604  ,AR07       ,63      ,  1,17         ,17         ,2,20050624,2041,  61.9851, -57.5114,     2531,    601.9,   3.8903,  34.8507,2,     -999,9,    297.8,2,     -999,9,     -999,9,     -999,9
35TH20050604  ,AR07       ,63      ,  1,16         ,16         ,2,20050624,2041,  61.9851, -57.5114,     2531,    673.3,   3.9319,  34.8658,2,     -999,9,    294.7,2,    294.6,2,    4.333,2,    2.361,2
35TH20050604  ,AR07       ,63      ,  1,15         ,15         ,2,20050624,2041,  61.9851, -57.5114,     2531,    809.9,   3.9692,  34.8881,2,     -999,9,    287.3,2,     -999,9,    4.171,2,    2.217,2
35TH20050604  ,AR07       ,63      ,  1,14         ,14         ,2,20050624,2041,  61.9851, -57.5114,     2531,    945.5,   3.8715,  34.8957,2,     -999,9,    284.1,2,     -999,9,    4.055,2,    2.150,2
35TH20050604  ,AR07       ,63      ,  1,13         ,13         ,2,20050624,2041,  61.9851, -57.5114,     2531,   1101.0,   3.6615,  34.8876,2,     -999,9,    285.9,2,    286.3,2,    4.029,2,    2.117,2
35TH20050604  ,AR07       ,63      ,  1,12         ,12         ,2,20050624,2041,  61.9851, -57.5114,     2531,   1298.6,   3.5536,  34.8995,2,     -999,9,    281.0,2,     -999,9,    3.626,2,    1.846,2
35TH20050604  ,AR07       ,63      ,  1,11         ,11         ,2,20050624,2041,  61.9851, -57.5114,     2531,   1498.2,   3.3883,  34.9024,2,     -999,9,    281.1,2,     -999,9,    3.415,2,    1.723,2
35TH20050604  ,AR07       ,63      ,  1,10         ,10         ,2,20050624,2041,  61.9851, -57.5114,     2531,   1696.6,   3.1948,  34.8987,2,     -999,9,    283.5,2,    282.7,2,    3.288,2,    1.593,2
35TH20050604  ,AR07       ,63      ,  1,9          ,9          ,2,20050624,2041,  61.9851, -57.5114,     2531,   1892.8,   3.0386,  34.9008,2,  34.9051,2,    284.2,2,     -999,9,    3.110,2,    1.515,2
35TH20050604  ,AR07       ,63      ,  1,8          ,8          ,2,20050624,2041,  61.9851, -57.5114,     2531,   1997.7,   2.9344,  34.9023,2,     -999,9,    284.3,2,     -999,9,     -999,9,     -999,9
35TH20050604  ,AR07       ,63      ,  1,7          ,7          ,2,20050624,2041,  61.9851, -57.5114,     2531,   2103.3,   2.8120,  34.9024,2,     -999,9,    284.8,2,     -999,9,    2.994,2,    1.480,2
35TH20050604  ,AR07       ,63      ,  1,6          ,6          ,2,20050624,2041,  61.9851, -57.5114,     2531,   2197.0,   2.7067,  34.9019,2,     -999,9,    285.2,2,    286.0,6,     -999,9,     -999,9
35TH20050604  ,AR07       ,63      ,  1,5          ,5          ,2,20050624,2041,  61.9851, -57.5114,     2531,   2300.1,   2.5471,  34.8996,2,     -999,9,    286.1,2,     -999,9,    2.962,2,    1.451,2
35TH20050604  ,AR07       ,63      ,  1,4          ,4          ,2,20050624,2041,  61.9851, -57.5114,     2531,   2399.0,   2.3418,  34.8935,2,     -999,9,    288.2,2,     -999,9,    3.061,2,    1.526,2
35TH20050604  ,AR07       ,63      ,  1,3          ,3          ,2,20050624,2041,  61.9851, -57.5114,     2531,   2499.6,   1.9936,  34.8876,2,     -999,9,    292.5,2,     -999,9,     -999,9,     -999,9
35TH20050604  ,AR07       ,63      ,  1,2          ,2          ,2,20050624,2041,  61.9851, -57.5114,     2531,   2585.0,   1.6417,  34.8778,2,     -999,9,    298.0,2,     -999,9,     -999,9,     -999,9
35TH20050604  ,AR07       ,63      ,  1,1          ,1          ,2,20050624,2041,  61.9851, -57.5114,     2531,   2585.3,   1.6417,  34.8779,2,  34.8810,2,    298.3,2,    297.9,2,    3.821,2,    1.940,2
35TH20050604  ,AR07       ,64      ,  1,22         ,22         ,2,20050625,0207,  61.7908, -56.3638,     2658,     20.4,   5.7581,  34.3724,2,     -999,9,    322.2,2,     -999,9,     -999,9,     -999,9
35TH20050604  ,AR07       ,64      ,  1,21         ,21         ,2,20050625,0207,  61.7908, -56.3638,     2658,     20.4,   5.7581,  34.3724,2,     -999,9,    322.2,2,    323.3,2,    4.839,2,    2.610,2
35TH20050604  ,AR07       ,64      ,  1,20         ,20         ,2,20050625,0207,  61.7908, -56.3638,     2658,    218.4,   4.3367,  34.8807,2,     -999,9,    294.3,2,     -999,9,     -999,9,     -999,9
35TH20050604  ,AR07       ,64      ,  1,19         ,19         ,2,20050625,0207,  61.7908, -56.3638,     2658,    403.7,   4.0615,  34.8733,2,     -999,9,    292.8,2,    292.2,2,    4.214,2,    2.256,2
35TH20050604  ,AR07       ,64      ,  1,18         ,18         ,2,20050625,0207,  61.7908, -56.3638,     2658,    579.8,   3.9507,  34.8742,2,  34.8758,2,    292.2,2,     -999,9,    4.316,2,    2.343,2
35TH20050604  ,AR07       ,64      ,  1,17         ,17         ,2,20050625,0207,  61.7908, -56.3638,     2658,    694.1,   3.9510,  34.8852,2,     -999,9,    289.6,2,     -999,9,     -999,9,     -999,9
35TH20050604  ,AR07       ,64      ,  1,16         ,16         ,2,20050625,0207,  61.7908, -56.3638,     2658,    818.5,   3.9103,  34.8975,2,     -999,9,    283.6,2,     -999,9,    3.995,2,    2.145,2
35TH20050604  ,AR07       ,64      ,  1,15         ,15         ,2,20050625,0207,  61.7908, -56.3638,     2658,    905.7,   3.7844,  34.8919,2,     -999,9,    284.0,2,    282.8,2,     -999,9,     -999,9
35TH20050604  ,AR07       ,64      ,  1,14         ,14         ,2,20050625,0207,  61.7908, -56.3638,     2658,   1005.5,   3.6692,  34.8880,2,     -999,9,    284.2,2,     -999,9,    3.938,2,    2.039,2
35TH20050604  ,AR07       ,64      ,  1,13         ,13         ,2,20050625,0207,  61.7908, -56.3638,     2658,   1096.9,   3.5817,  34.8858,2,     -999,9,    284.1,2,     -999,9,     -999,9,     -999,9
35TH20050604  ,AR07       ,64      ,  1,12         ,12         ,2,20050625,0207,  61.7908, -56.3638,     2658,   1197.7,   3.5549,  34.8938,2,     -999,9,    281.9,2,     -999,9,    3.700,2,    1.889,2
35TH20050604  ,AR07       ,64      ,  1,11         ,11         ,2,20050625,0207,  61.7908, -56.3638,     2658,   1411.1,   3.4595,  34.9038,2,     -999,9,    279.8,2,     -999,9,    3.411,2,    1.734,2
35TH20050604  ,AR07       ,64      ,  1,10         ,10         ,2,20050625,0207,  61.7908, -56.3638,     2658,   1519.9,   3.3578,  34.9018,2,     -999,9,    281.1,2,    279.1,6,    3.374,2,    1.690,2
35TH20050604  ,AR07       ,64      ,  1,9          ,9          ,2,20050625,0207,  61.7908, -56.3638,     2658,   1613.5,   3.2636,  34.8978,2,  34.9031,2,    282.8,2,     -999,9,    3.362,2,    1.683,2
35TH20050604  ,AR07       ,64      ,  1,8          ,8          ,2,20050625,0207,  61.7908, -56.3638,     2658,   1799.1,   3.1323,  34.8983,2,     -999,9,    284.0,2,     -999,9,    3.250,2,    1.623,2
35TH20050604  ,AR07       ,64      ,  1,7          ,7          ,2,20050625,0207,  61.7908, -56.3638,     2658,   1888.9,   3.0722,  34.9000,2,     -999,9,    284.0,2,     -999,9,    3.100,2,    1.540,2
35TH20050604  ,AR07       ,64      ,  1,6          ,6          ,2,20050625,0207,  61.7908, -56.3638,     2658,   2101.8,   2.8870,  34.9024,2,     -999,9,    284.2,2,    283.1,2,    2.988,2,    1.491,2
35TH20050604  ,AR07       ,64      ,  1,5          ,5          ,2,20050625,0207,  61.7908, -56.3638,     2658,   2201.9,   2.7873,  34.9028,2,     -999,9,    284.2,2,     -999,9,    2.929,2,    1.477,2
35TH20050604  ,AR07       ,64      ,  1,4          ,4          ,2,20050625,0207,  61.7908, -56.3638,     2658,   2397.5,   2.5392,  34.9016,2,     -999,9,    286.0,2,     -999,9,    2.878,2,    1.438,2
35TH20050604  ,AR07       ,64      ,  1,3          ,3          ,2,20050625,0207,  61.7908, -56.3638,     2658,   2498.7,   2.3615,  34.8954,2,     -999,9,    287.7,2,     -999,9,     -999,9,     -999,9
35TH20050604  ,AR07       ,64      ,  1,2          ,2          ,2,20050625,0207,  61.7908, -56.3638,     2658,   2597.7,   2.0456,  34.8847,2,     -999,9,    292.1,2,     -999,9,    3.378,2,    1.719,2
35TH20050604  ,AR07       ,64      ,  1,1          ,1          ,2,20050625,0207,  61.7908, -56.3638,     2658,   2737.0,   1.5618,  34.8765,2,  34.8812,2,    298.2,2,    292.7,3,    3.883,2,    2.031,2
35TH20050604  ,AR07       ,65      ,  1,22         ,22         ,2,20050625,0720,  61.5930, -55.2297,     2738,     15.0,   5.9152,  34.4442,2,     -999,9,    317.5,2,     -999,9,     -999,9,     -999,9
35TH20050604  ,AR07       ,65      ,  1,21         ,21         ,2,20050625,0720,  61.5930, -55.2297,     2738,     15.0,   5.9152,  34.4442,2,     -999,9,    317.5,2,    316.9,2,    4.656,2,    2.568,2
35TH20050604  ,AR07       ,65      ,  1,20         ,20         ,2,20050625,0720,  61.5930, -55.2297,     2738,    287.0,   4.3838,  34.9035,2,     -999,9,    297.1,2,     -999,9,    4.336,2,    2.378,2
35TH20050604  ,AR07       ,65      ,  1,19         ,19         ,2,20050625,0720,  61.5930, -55.2297,     2738,    536.7,   4.1505,  34.9036,2,     -999,9,    290.9,2,    290.5,2,     -999,9,     -999,9
35TH20050604  ,AR07       ,65      ,  1,18         ,18         ,2,20050625,0720,  61.5930, -55.2297,     2738,    697.7,   3.9459,  34.8972,2,     -999,9,    286.7,2,     -999,9,    4.100,2,    2.176,2
35TH20050604  ,AR07       ,65      ,  1,17         ,17         ,2,20050625,0720,  61.5930, -55.2297,     2738,    818.5,   3.8150,  34.8949,2,  34.8937,2,    284.8,2,     -999,9,     -999,9,     -999,9
35TH20050604  ,AR07       ,65      ,  1,16         ,16         ,2,20050625,0720,  61.5930, -55.2297,     2738,    905.0,   3.7153,  34.8902,2,     -999,9,    285.2,2,     -999,9,    4.017,2,    2.088,2
35TH20050604  ,AR07       ,65      ,  1,15         ,15         ,2,20050625,0720,  61.5930, -55.2297,     2738,   1000.3,   3.6153,  34.8854,2,     -999,9,    285.1,2,    284.0,2,     -999,9,     -999,9
35TH20050604  ,AR07       ,65      ,  1,14         ,14         ,2,20050625,0720,  61.5930, -55.2297,     2738,   1097.1,   3.5544,  34.8841,2,     -999,9,    285.0,2,     -999,9,    3.906,2,    1.993,2
35TH20050604  ,AR07       ,65      ,  1,13         ,13         ,2,20050625,0720,  61.5930, -55.2297,     2738,   1200.3,   3.5514,  34.8933,2,     -999,9,    282.0,2,     -999,9,     -999,9,     -999,9
35TH20050604  ,AR07       ,65      ,  1,12         ,12         ,2,20050625,0720,  61.5930, -55.2297,     2738,   1298.7,   3.5330,  34.9025,2,     -999,9,    280.0,2,     -999,9,    3.516,2,    1.790,2
35TH20050604  ,AR07       ,65      ,  1,11         ,11         ,2,20050625,0720,  61.5930, -55.2297,     2738,   1397.9,   3.4690,  34.9049,2,  34.9069,2,    279.8,2,     -999,9,     -999,9,     -999,9
35TH20050604  ,AR07       ,65      ,  1,10         ,10         ,2,20050625,0720,  61.5930, -55.2297,     2738,   1498.4,   3.3741,  34.9029,2,     -999,9,    280.9,2,     -999,9,    3.365,2,    1.684,2
35TH20050604  ,AR07       ,65      ,  1,9          ,9          ,2,20050625,0720,  61.5930, -55.2297,     2738,   1597.8,   3.2891,  34.8990,2,     -999,9,    282.4,2,    281.1,6,     -999,9,     -999,9
35TH20050604  ,AR07       ,65      ,  1,8          ,8          ,2,20050625,0720,  61.5930, -55.2297,     2738,   1699.3,   3.2129,  34.8986,2,     -999,9,    283.5,2,     -999,9,    3.303,2,    1.643,2
35TH20050604  ,AR07       ,65      ,  1,7          ,7          ,2,20050625,0720,  61.5930, -55.2297,     2738,   1897.6,   3.0627,  34.9008,2,     -999,9,    284.1,2,     -999,9,    3.156,2,    1.571,2
35TH20050604  ,AR07       ,65      ,  1,6          ,6          ,2,20050625,0720,  61.5930, -55.2297,     2738,   1999.1,   2.9830,  34.9020,2,     -999,9,    284.0,2,    281.6,2,     -999,9,     -999,9
35TH20050604  ,AR07       ,65      ,  1,5          ,5          ,2,20050625,0720,  61.5930, -55.2297,     2738,   2097.5,   2.8930,  34.9048,2,     -999,9,    284.2,2,     -999,9,    2.999,2,    1.486,2
35TH20050604  ,AR07       ,65      ,  1,4          ,4          ,2,20050625,0720,  61.5930, -55.2297,     2738,   2297.9,   2.7214,  34.9057,2,     -999,9,    284.6,2,    283.8,2,     -999,9,     -999,9
35TH20050604  ,AR07       ,65      ,  1,3          ,3          ,2,20050625,0720,  61.5930, -55.2297,     2738,   2501.7,   2.4871,  34.9027,2,     -999,9,    285.9,2,     -999,9,     -999,9,     -999,9
35TH20050604  ,AR07       ,65      ,  1,2          ,2          ,2,20050625,0720,  61.5930, -55.2297,     2738,   2696.0,   2.0577,  34.8847,2,     -999,9,    293.0,2,     -999,9,    3.518,2,    1.794,2
35TH20050604  ,AR07       ,65      ,  1,1          ,1          ,2,20050625,0720,  61.5930, -55.2297,     2738,   2794.4,   1.6681,  34.8789,2,  34.8788,2,    298.1,2,    297.1,2,    3.890,2,    2.002,2
35TH20050604  ,AR07       ,66      ,  1,21         ,21         ,2,20050625,1239,  61.3935, -54.0923,     2919,     15.3,   6.1195,  34.4522,2,     -999,9,    318.2,2,    319.8,2,    4.676,2,    2.597,2
35TH20050604  ,AR07       ,66      ,  1,22         ,22         ,2,20050625,1239,  61.3935, -54.0923,     2919,     15.5,   6.1129,  34.4489,2,     -999,9,    318.2,2,     -999,9,     -999,9,     -999,9
35TH20050604  ,AR07       ,66      ,  1,20         ,20         ,2,20050625,1239,  61.3935, -54.0923,     2919,    102.7,   4.4800,  34.8515,2,     -999,9,    299.6,2,     -999,9,     -999,9,     -999,9
35TH20050604  ,AR07       ,66      ,  1,19         ,19         ,2,20050625,1239,  61.3935, -54.0923,     2919,    403.6,   4.4045,  34.9112,2,     -999,9,    295.7,2,    296.2,2,     -999,9,     -999,9
35TH20050604  ,AR07       ,66      ,  1,18         ,18         ,2,20050625,1239,  61.3935, -54.0923,     2919,    624.8,   4.0686,  34.9051,2,     -999,9,    286.6,2,     -999,9,    4.077,2,    2.191,2
35TH20050604  ,AR07       ,66      ,  1,17         ,17         ,2,20050625,1239,  61.3935, -54.0923,     2919,    765.9,   3.8906,  34.9023,2,     -999,9,    283.3,2,     -999,9,    3.979,2,    2.102,2
35TH20050604  ,AR07       ,66      ,  1,16         ,16         ,2,20050625,1239,  61.3935, -54.0923,     2919,    898.3,   3.6902,  34.8814,2,     -999,9,    292.7,2,    290.2,2,    4.156,3,    2.234,3
35TH20050604  ,AR07       ,66      ,  1,15         ,15         ,2,20050625,1239,  61.3935, -54.0923,     2919,   1002.9,   3.6773,  34.8893,2,     -999,9,    286.1,2,     -999,9,    3.890,2,    2.016,2
35TH20050604  ,AR07       ,66      ,  1,14         ,14         ,2,20050625,1239,  61.3935, -54.0923,     2919,   1095.6,   3.6573,  34.8934,2,  34.8988,2,    284.4,2,     -999,9,    3.784,2,    1.964,2
35TH20050604  ,AR07       ,66      ,  1,13         ,13         ,2,20050625,1239,  61.3935, -54.0923,     2919,   1197.2,   3.6021,  34.8925,2,     -999,9,    283.4,2,     -999,9,     -999,9,     -999,9
35TH20050604  ,AR07       ,66      ,  1,12         ,12         ,2,20050625,1239,  61.3935, -54.0923,     2919,   1297.6,   3.5409,  34.8931,2,     -999,9,    282.8,2,     -999,9,    3.655,2,    1.853,2
35TH20050604  ,AR07       ,66      ,  1,11         ,11         ,2,20050625,1239,  61.3935, -54.0923,     2919,   1398.3,   3.5198,  34.9014,2,     -999,9,    280.6,2,    281.4,6,     -999,9,     -999,9
35TH20050604  ,AR07       ,66      ,  1,10         ,10         ,2,20050625,1239,  61.3935, -54.0923,     2919,   1509.8,   3.4480,  34.9034,2,     -999,9,    280.8,2,     -999,9,    3.380,2,    1.703,2
35TH20050604  ,AR07       ,66      ,  1,9          ,9          ,2,20050625,1239,  61.3935, -54.0923,     2919,   1598.9,   3.3688,  34.9018,2,     -999,9,    281.7,2,     -999,9,     -999,9,     -999,9
35TH20050604  ,AR07       ,66      ,  1,8          ,8          ,2,20050625,1239,  61.3935, -54.0923,     2919,   1704.4,   3.2669,  34.8990,2,     -999,9,    283.3,2,     -999,9,    3.365,2,    1.687,2
35TH20050604  ,AR07       ,66      ,  1,7          ,7          ,2,20050625,1239,  61.3935, -54.0923,     2919,   1898.0,   3.1217,  34.8984,2,     -999,9,    284.2,2,    285.8,2,    3.115,2,    1.544,2
35TH20050604  ,AR07       ,66      ,  1,6          ,6          ,2,20050625,1239,  61.3935, -54.0923,     2919,   2098.1,   2.9716,  34.9027,2,     -999,9,    284.7,2,     -999,9,    3.002,6,    1.487,6
35TH20050604  ,AR07       ,66      ,  1,5          ,5          ,2,20050625,1239,  61.3935, -54.0923,     2919,   2291.7,   2.8127,  34.9041,2,  34.9065,2,    285.3,2,     -999,9,    2.948,2,    1.478,2
35TH20050604  ,AR07       ,66      ,  1,4          ,4          ,2,20050625,1239,  61.3935, -54.0923,     2919,   2498.1,   2.6422,  34.9044,2,     -999,9,    284.8,2,    285.2,2,    2.879,2,    1.445,2
35TH20050604  ,AR07       ,66      ,  1,3          ,3          ,2,20050625,1239,  61.3935, -54.0923,     2919,   2700.7,   2.3692,  34.8985,2,     -999,9,    287.2,2,     -999,9,     -999,9,     -999,9
35TH20050604  ,AR07       ,66      ,  1,2          ,2          ,2,20050625,1239,  61.3935, -54.0923,     2919,   2800.9,   2.1844,  34.8912,2,     -999,9,    289.4,2,     -999,9,    3.107,2,    1.564,2
35TH20050604  ,AR07       ,66      ,  1,1          ,1          ,2,20050625,1239,  61.3935, -54.0923,     2919,   2993.5,   1.5835,  34.8766,2,  34.8790,2,    299.3,2,    299.3,2,    3.907,2,    2.037,2