BOTTLE,20240221CCHSIOADS
EXPOCODE,SECT_ID,STNNBR,CASTNO,SAMPNO,BTLNBR,BTLNBR_FLAG_W,DATE,TIME,LATITUDE,LONGITUDE,DEPTH,CTDPRS,CTDTMP,CTDSAL,CTDSAL_FLAG_W,SALNTY,SALNTY_FLAG_W,CTDOXY,CTDOXY_FLAG_W,OXYGEN,OXYGEN_FLAG_W,CFC-11,CFC-11_FLAG_W,CFC-12,CFC-12_FLAG_W
,,,,,,,,,,,METERS,DBAR,ITS-90,PSS-78,,PSS-78,,UMOL/KG,,UMOL/KG,,PMOL/KG,,PMOL/KG,
35TH20050604  ,AR07       ,67      ,  1,22         ,22         ,2,20050625,1740,  61.2001, -52.9507,     3070,      8.0,   6.2455,  34.4828,2,     -999,9,    315.1,2,     -999,9,     -999,9,     -999,9
35TH20050604  ,AR07       ,67      ,  1,21         ,21         ,2,20050625,1740,  61.2001, -52.9507,     3070,     13.1,   6.2090,  34.4785,2,     -999,9,    316.8,2,    318.0,2,    7.089,4,    2.456,2
35TH20050604  ,AR07       ,67      ,  1,20         ,20         ,2,20050625,1740,  61.2001, -52.9507,     3070,    104.9,   4.0382,  34.7862,2,     -999,9,    306.1,2,     -999,9,     -999,9,     -999,9
35TH20050604  ,AR07       ,67      ,  1,19         ,19         ,2,20050625,1740,  61.2001, -52.9507,     3070,    297.3,   4.5570,  34.9240,2,     -999,9,    295.3,2,    295.6,2,     -999,9,     -999,9
35TH20050604  ,AR07       ,67      ,  1,18         ,18         ,2,20050625,1740,  61.2001, -52.9507,     3070,    427.4,   4.3947,  34.9157,2,     -999,9,    294.7,2,     -999,9,     -999,9,     -999,9
35TH20050604  ,AR07       ,67      ,  1,17         ,17         ,2,20050625,1740,  61.2001, -52.9507,     3070,    501.3,   4.3733,  34.9212,2,  34.9257,2,    291.7,2,     -999,9,    4.120,2,    2.186,2
35TH20050604  ,AR07       ,67      ,  1,16         ,16         ,2,20050625,1740,  61.2001, -52.9507,     3070,    699.2,   4.0735,  34.9080,2,     -999,9,    285.4,2,     -999,9,    3.844,2,    2.046,2
35TH20050604  ,AR07       ,67      ,  1,15         ,15         ,2,20050625,1740,  61.2001, -52.9507,     3070,    797.9,   3.9606,  34.9063,2,     -999,9,    282.0,2,     -999,9,     -999,9,     -999,9
35TH20050604  ,AR07       ,67      ,  1,14         ,14         ,2,20050625,1740,  61.2001, -52.9507,     3070,    903.0,   3.8255,  34.9003,2,     -999,9,    282.4,2,    282.2,6,    3.908,2,    2.042,2
35TH20050604  ,AR07       ,67      ,  1,13         ,13         ,2,20050625,1740,  61.2001, -52.9507,     3070,   1101.6,   3.6359,  34.8945,2,     -999,9,    282.9,2,     -999,9,     -999,9,     -999,9
35TH20050604  ,AR07       ,67      ,  1,12         ,12         ,2,20050625,1740,  61.2001, -52.9507,     3070,   1301.1,   3.5469,  34.9043,2,     -999,9,    280.7,2,     -999,9,    3.496,2,    1.734,2
35TH20050604  ,AR07       ,67      ,  1,11         ,11         ,2,20050625,1740,  61.2001, -52.9507,     3070,   1447.8,   3.4346,  34.9040,2,     -999,9,    281.0,2,     -999,9,    3.381,2,    1.676,2
35TH20050604  ,AR07       ,67      ,  1,10         ,10         ,2,20050625,1740,  61.2001, -52.9507,     3070,   1597.4,   3.3098,  34.8998,2,     -999,9,    282.5,2,    283.6,2,    3.382,2,    1.668,2
35TH20050604  ,AR07       ,67      ,  1,9          ,9          ,2,20050625,1740,  61.2001, -52.9507,     3070,   1697.7,   3.2245,  34.8986,2,     -999,9,    283.9,2,     -999,9,    3.244,2,    1.599,2
35TH20050604  ,AR07       ,67      ,  1,8          ,8          ,2,20050625,1740,  61.2001, -52.9507,     3070,   1829.4,   3.1358,  34.9000,2,  34.9016,2,    284.6,2,     -999,9,     -999,9,     -999,9
35TH20050604  ,AR07       ,67      ,  1,7          ,7          ,2,20050625,1740,  61.2001, -52.9507,     3070,   2097.7,   2.9447,  34.9027,2,     -999,9,    284.8,2,    284.9,2,    2.970,2,    1.479,2
35TH20050604  ,AR07       ,67      ,  1,6          ,6          ,2,20050625,1740,  61.2001, -52.9507,     3070,   2297.1,   2.8062,  34.9018,2,     -999,9,    286.1,2,     -999,9,    2.939,2,    1.455,2
35TH20050604  ,AR07       ,67      ,  1,5          ,5          ,2,20050625,1740,  61.2001, -52.9507,     3070,   2462.1,   2.6684,  34.9045,2,     -999,9,    285.4,2,     -999,9,     -999,9,     -999,9
35TH20050604  ,AR07       ,67      ,  1,4          ,4          ,2,20050625,1740,  61.2001, -52.9507,     3070,   2604.9,   2.4952,  34.8993,2,     -999,9,    287.8,2,    290.0,2,     -999,9,     -999,9
35TH20050604  ,AR07       ,67      ,  1,3          ,3          ,2,20050625,1740,  61.2001, -52.9507,     3070,   2689.5,   2.3681,  34.8945,2,     -999,9,    288.9,2,     -999,9,    3.083,2,    1.554,2
35TH20050604  ,AR07       ,67      ,  1,2          ,2          ,2,20050625,1740,  61.2001, -52.9507,     3070,   2897.7,   2.1092,  34.8838,2,     -999,9,    293.9,2,     -999,9,     -999,9,     -999,9
35TH20050604  ,AR07       ,67      ,  1,1          ,1          ,2,20050625,1740,  61.2001, -52.9507,     3070,   3138.9,   1.5084,  34.8777,2,  34.8784,2,    300.8,2,    303.1,2,    3.924,2,    2.010,2
35TH20050604  ,AR07       ,68      ,  1,22         ,22         ,2,20050625,2256,  61.0000, -51.8207,     3034,     20.3,   6.0035,  34.4997,2,     -999,9,    314.1,2,     -999,9,     -999,9,     -999,9
35TH20050604  ,AR07       ,68      ,  1,21         ,21         ,2,20050625,2256,  61.0000, -51.8207,     3034,     20.9,   5.7027,  34.5132,2,     -999,9,    315.6,2,    315.6,2,    4.699,2,    2.505,2
35TH20050604  ,AR07       ,68      ,  1,20         ,20         ,2,20050625,2256,  61.0000, -51.8207,     3034,    216.0,   4.6939,  34.8875,2,     -999,9,    298.8,2,     -999,9,     -999,9,     -999,9
35TH20050604  ,AR07       ,68      ,  1,19         ,19         ,2,20050625,2256,  61.0000, -51.8207,     3034,    301.1,   4.7714,  34.9275,2,     -999,9,    295.3,2,     -999,9,     -999,9,     -999,9
35TH20050604  ,AR07       ,68      ,  1,18         ,18         ,2,20050625,2256,  61.0000, -51.8207,     3034,    423.5,   4.5543,  34.9227,2,     -999,9,    295.6,2,     -999,9,    4.357,2,    2.296,2
35TH20050604  ,AR07       ,68      ,  1,17         ,17         ,2,20050625,2256,  61.0000, -51.8207,     3034,    528.8,   4.4156,  34.9208,2,     -999,9,    292.2,2,    292.3,2,     -999,9,     -999,9
35TH20050604  ,AR07       ,68      ,  1,16         ,16         ,2,20050625,2256,  61.0000, -51.8207,     3034,    627.6,   4.1991,  34.9069,2,     -999,9,    290.1,2,     -999,9,    4.393,2,    2.277,2
35TH20050604  ,AR07       ,68      ,  1,15         ,15         ,2,20050625,2256,  61.0000, -51.8207,     3034,    687.7,   4.1223,  34.9057,2,     -999,9,    289.5,2,     -999,9,     -999,9,     -999,9
35TH20050604  ,AR07       ,68      ,  1,14         ,14         ,2,20050625,2256,  61.0000, -51.8207,     3034,    822.9,   3.9362,  34.8998,2,     -999,9,    286.6,2,     -999,9,    4.459,2,    2.320,2
35TH20050604  ,AR07       ,68      ,  1,13         ,13         ,2,20050625,2256,  61.0000, -51.8207,     3034,    910.2,   3.6711,  34.8713,2,     -999,9,    297.0,2,     -999,9,    4.063,3,    2.103,3
35TH20050604  ,AR07       ,68      ,  1,12         ,12         ,2,20050625,2256,  61.0000, -51.8207,     3034,   1010.6,   3.6272,  34.8743,2,     -999,9,    294.8,2,    294.2,2,    4.232,2,    2.222,2
35TH20050604  ,AR07       ,68      ,  1,11         ,11         ,2,20050625,2256,  61.0000, -51.8207,     3034,   1248.7,   3.5279,  34.8741,2,  34.8798,2,    289.9,2,     -999,9,    4.140,2,    2.051,2
35TH20050604  ,AR07       ,68      ,  1,10         ,10         ,2,20050625,2256,  61.0000, -51.8207,     3034,   1379.2,   3.5704,  34.8950,2,     -999,9,    283.1,2,     -999,9,    3.661,2,    1.788,2
35TH20050604  ,AR07       ,68      ,  1,9          ,9          ,2,20050625,2256,  61.0000, -51.8207,     3034,   1555.6,   3.4902,  34.9050,2,     -999,9,    281.0,2,    278.1,3,    3.504,2,    1.711,2
35TH20050604  ,AR07       ,68      ,  1,8          ,8          ,2,20050625,2256,  61.0000, -51.8207,     3034,   1698.6,   3.3887,  34.9042,2,     -999,9,    281.8,2,     -999,9,    3.389,2,    1.656,2
35TH20050604  ,AR07       ,68      ,  1,7          ,7          ,2,20050625,2256,  61.0000, -51.8207,     3034,   1862.2,   3.2850,  34.9023,2,     -999,9,    283.6,2,     -999,9,     -999,9,     -999,9
35TH20050604  ,AR07       ,68      ,  1,6          ,6          ,2,20050625,2256,  61.0000, -51.8207,     3034,   2013.9,   3.1967,  34.9000,2,     -999,9,    284.4,2,    283.2,6,    3.279,2,    1.597,2
35TH20050604  ,AR07       ,68      ,  1,5          ,5          ,2,20050625,2256,  61.0000, -51.8207,     3034,   2247.8,   3.0344,  34.9013,2,     -999,9,    285.3,2,     -999,9,    3.166,2,    1.573,2
35TH20050604  ,AR07       ,68      ,  1,4          ,4          ,2,20050625,2256,  61.0000, -51.8207,     3034,   2495.0,   2.8329,  34.9018,2,     -999,9,    285.4,2,    284.4,2,    2.980,2,    1.452,2
35TH20050604  ,AR07       ,68      ,  1,3          ,3          ,2,20050625,2256,  61.0000, -51.8207,     3034,   2648.2,   2.6846,  34.9050,2,     -999,9,    285.9,2,     -999,9,     -999,9,     -999,9
35TH20050604  ,AR07       ,68      ,  1,2          ,2          ,2,20050625,2256,  61.0000, -51.8207,     3034,   2798.0,   2.4474,  34.8997,2,     -999,9,    288.6,2,     -999,9,     -999,9,     -999,9
35TH20050604  ,AR07       ,68      ,  1,1          ,1          ,2,20050625,2256,  61.0000, -51.8207,     3034,   3102.8,   1.6037,  34.8778,2,  34.8788,2,    299.7,2,    299.6,2,    3.848,2,    1.891,2
35TH20050604  ,AR07       ,69      ,  1,21         ,21         ,2,20050626,0524,  60.8086, -50.6752,     2988,     34.0,   5.2111,  34.3635,2,     -999,9,    318.9,2,    318.8,2,    4.819,6,    2.614,6
35TH20050604  ,AR07       ,69      ,  1,22         ,22         ,2,20050626,0524,  60.8086, -50.6752,     2988,     34.1,   5.2139,  34.3643,2,     -999,9,    318.7,2,     -999,9,     -999,9,     -999,9
35TH20050604  ,AR07       ,69      ,  1,20         ,20         ,2,20050626,0524,  60.8086, -50.6752,     2988,    192.8,   5.0320,  34.9592,2,     -999,9,    294.5,2,     -999,9,    4.132,2,    2.266,2
35TH20050604  ,AR07       ,69      ,  1,19         ,19         ,2,20050626,0524,  60.8086, -50.6752,     2988,    303.7,   4.8373,  34.9599,2,     -999,9,    290.6,2,     -999,9,     -999,9,     -999,9
35TH20050604  ,AR07       ,69      ,  1,18         ,18         ,2,20050626,0524,  60.8086, -50.6752,     2988,    399.3,   4.6129,  34.9413,2,     -999,9,    291.3,2,    287.6,2,    4.120,2,    2.214,2
35TH20050604  ,AR07       ,69      ,  1,17         ,17         ,2,20050626,0524,  60.8086, -50.6752,     2988,    501.8,   4.3507,  34.9221,2,     -999,9,    291.0,2,     -999,9,     -999,9,     -999,9
35TH20050604  ,AR07       ,69      ,  1,16         ,16         ,2,20050626,0524,  60.8086, -50.6752,     2988,    568.0,   4.2293,  34.9169,2,     -999,9,    287.2,2,     -999,9,    3.952,2,    2.068,2
35TH20050604  ,AR07       ,69      ,  1,15         ,15         ,2,20050626,0524,  60.8086, -50.6752,     2988,    706.4,   4.1074,  34.9242,2,     -999,9,    278.9,2,     -999,9,     -999,9,     -999,9
35TH20050604  ,AR07       ,69      ,  1,14         ,14         ,2,20050626,0524,  60.8086, -50.6752,     2988,    771.7,   3.9543,  34.9136,2,  34.9163,2,    280.0,2,     -999,9,    3.711,2,    1.850,2
35TH20050604  ,AR07       ,69      ,  1,13         ,13         ,2,20050626,0524,  60.8086, -50.6752,     2988,    887.3,   3.8021,  34.9074,2,     -999,9,    281.2,2,    279.6,6,    3.832,2,    1.943,2
35TH20050604  ,AR07       ,69      ,  1,12         ,12         ,2,20050626,0524,  60.8086, -50.6752,     2988,    985.6,   3.5848,  34.8884,2,     -999,9,    286.3,2,     -999,9,    3.856,2,    1.931,2
35TH20050604  ,AR07       ,69      ,  1,11         ,11         ,2,20050626,0524,  60.8086, -50.6752,     2988,   1152.4,   3.5398,  34.8950,2,     -999,9,    283.4,2,     -999,9,    3.606,2,    1.783,2
35TH20050604  ,AR07       ,69      ,  1,10         ,10         ,2,20050626,0524,  60.8086, -50.6752,     2988,   1294.2,   3.4879,  34.9024,2,     -999,9,    281.7,2,    280.4,2,    3.497,2,    1.737,2
35TH20050604  ,AR07       ,69      ,  1,9          ,9          ,2,20050626,0524,  60.8086, -50.6752,     2988,   1396.7,   3.3989,  34.9007,2,     -999,9,    282.3,2,    279.9,2,    3.431,2,    1.683,2
35TH20050604  ,AR07       ,69      ,  1,8          ,8          ,2,20050626,0524,  60.8086, -50.6752,     2988,   1655.0,   3.1913,  34.8971,2,     -999,9,    285.3,2,     -999,9,     -999,9,     -999,9
35TH20050604  ,AR07       ,69      ,  1,7          ,7          ,2,20050626,0524,  60.8086, -50.6752,     2988,   1903.0,   3.0416,  34.9012,2,     -999,9,    285.8,2,     -999,9,     -999,9,     -999,9
35TH20050604  ,AR07       ,69      ,  1,6          ,6          ,2,20050626,0524,  60.8086, -50.6752,     2988,   1996.8,   2.9778,  34.9044,2,  34.9102,2,    285.2,2,     -999,9,    3.024,2,    1.484,2
35TH20050604  ,AR07       ,69      ,  1,5          ,5          ,2,20050626,0524,  60.8086, -50.6752,     2988,   2098.1,   2.8754,  34.9023,2,     -999,9,    286.5,2,    283.2,3,    3.151,3,    1.549,3
35TH20050604  ,AR07       ,69      ,  1,4          ,4          ,2,20050626,0524,  60.8086, -50.6752,     2988,   2377.9,   2.6891,  34.9036,2,     -999,9,    286.8,2,     -999,9,    2.853,2,    1.405,2
35TH20050604  ,AR07       ,69      ,  1,3          ,3          ,2,20050626,0524,  60.8086, -50.6752,     2988,   2498.5,   2.5882,  34.9023,2,     -999,9,    287.8,2,     -999,9,    2.988,2,    1.458,2
35TH20050604  ,AR07       ,69      ,  1,2          ,2          ,2,20050626,0524,  60.8086, -50.6752,     2988,   2693.5,   2.3425,  34.8982,2,     -999,9,    288.3,2,     -999,9,     -999,9,     -999,9
35TH20050604  ,AR07       ,69      ,  1,1          ,1          ,2,20050626,0524,  60.8086, -50.6752,     2988,   3034.0,   1.5524,  34.8773,2,  34.8796,2,    301.8,2,    300.9,2,    4.055,2,    2.045,2
35TH20050604  ,AR07       ,70      ,  1,22         ,22         ,2,20050626,1201,  60.6093, -49.5350,     2817,      9.0,   6.5902,  34.7906,2,     -999,9,    303.5,2,     -999,9,     -999,9,     -999,9
35TH20050604  ,AR07       ,70      ,  1,21         ,21         ,2,20050626,1201,  60.6093, -49.5350,     2817,      9.9,   6.5905,  34.7896,2,     -999,9,    303.6,2,    308.8,2,    4.291,2,    2.425,2
35TH20050604  ,AR07       ,70      ,  1,20         ,20         ,2,20050626,1201,  60.6093, -49.5350,     2817,    193.4,   5.1937,  34.9814,2,     -999,9,    290.3,2,    293.0,2,     -999,9,     -999,9
35TH20050604  ,AR07       ,70      ,  1,19         ,19         ,2,20050626,1201,  60.6093, -49.5350,     2817,    299.1,   4.9228,  34.9684,2,     -999,9,    289.4,2,     -999,9,    4.137,2,    2.268,2
35TH20050604  ,AR07       ,70      ,  1,18         ,18         ,2,20050626,1201,  60.6093, -49.5350,     2817,    399.1,   4.7233,  34.9504,2,     -999,9,    289.9,2,     -999,9,    4.048,2,    2.238,2
35TH20050604  ,AR07       ,70      ,  1,17         ,17         ,2,20050626,1201,  60.6093, -49.5350,     2817,    493.4,   4.5236,  34.9406,2,     -999,9,    282.2,2,     -999,9,     -999,9,     -999,9
35TH20050604  ,AR07       ,70      ,  1,16         ,16         ,2,20050626,1201,  60.6093, -49.5350,     2817,    569.7,   4.3059,  34.9289,2,     -999,9,    278.2,2,     -999,9,    3.787,2,    2.049,2
35TH20050604  ,AR07       ,70      ,  1,15         ,15         ,2,20050626,1201,  60.6093, -49.5350,     2817,    668.9,   4.1454,  34.9220,2,     -999,9,    276.8,2,    276.9,2,     -999,9,     -999,9
35TH20050604  ,AR07       ,70      ,  1,14         ,14         ,2,20050626,1201,  60.6093, -49.5350,     2817,    800.0,   3.9969,  34.9185,2,     -999,9,    276.8,2,     -999,9,    3.656,2,    1.924,2
35TH20050604  ,AR07       ,70      ,  1,13         ,13         ,2,20050626,1201,  60.6093, -49.5350,     2817,    925.6,   3.8477,  34.9134,2,     -999,9,    277.8,2,     -999,9,    3.785,2,    2.018,2
35TH20050604  ,AR07       ,70      ,  1,12         ,12         ,2,20050626,1201,  60.6093, -49.5350,     2817,    997.4,   3.7168,  34.9119,2,     -999,9,    278.6,2,     -999,9,    3.653,2,    1.891,2
35TH20050604  ,AR07       ,70      ,  1,11         ,11         ,2,20050626,1201,  60.6093, -49.5350,     2817,   1124.6,   3.6341,  34.9111,2,     -999,9,    278.1,2,    278.6,6,    3.448,2,    1.740,2
35TH20050604  ,AR07       ,70      ,  1,10         ,10         ,2,20050626,1201,  60.6093, -49.5350,     2817,   1219.1,   3.5671,  34.9117,2,     -999,9,    278.2,2,     -999,9,    3.457,2,    1.746,2
35TH20050604  ,AR07       ,70      ,  1,9          ,9          ,2,20050626,1201,  60.6093, -49.5350,     2817,   1330.1,   3.4583,  34.9088,2,     -999,9,    278.8,2,     -999,9,    3.244,2,    1.579,2
35TH20050604  ,AR07       ,70      ,  1,8          ,8          ,2,20050626,1201,  60.6093, -49.5350,     2817,   1461.9,   3.2996,  34.9036,2,  34.9128,2,    281.1,2,     -999,9,    3.154,2,    1.545,2
35TH20050604  ,AR07       ,70      ,  1,7          ,7          ,2,20050626,1201,  60.6093, -49.5350,     2817,   1727.2,   3.0988,  34.9032,2,     -999,9,    283.7,2,    284.3,2,    3.110,2,    1.560,2
35TH20050604  ,AR07       ,70      ,  1,6          ,6          ,2,20050626,1201,  60.6093, -49.5350,     2817,   1997.7,   2.9128,  34.9013,2,     -999,9,    285.0,2,     -999,9,     -999,9,     -999,9
35TH20050604  ,AR07       ,70      ,  1,5          ,5          ,2,20050626,1201,  60.6093, -49.5350,     2817,   2198.4,   2.7871,  34.8978,2,     -999,9,    286.5,2,     -999,9,    3.226,2,    1.590,2
35TH20050604  ,AR07       ,70      ,  1,4          ,4          ,2,20050626,1201,  60.6093, -49.5350,     2817,   2393.8,   2.7296,  34.8960,2,  34.9045,2,    287.4,2,    287.6,2,     -999,9,     -999,9
35TH20050604  ,AR07       ,70      ,  1,3          ,3          ,2,20050626,1201,  60.6093, -49.5350,     2817,   2601.4,   2.6623,  34.8924,2,     -999,9,    288.7,2,     -999,9,     -999,9,     -999,9
35TH20050604  ,AR07       ,70      ,  1,2          ,2          ,2,20050626,1201,  60.6093, -49.5350,     2817,   2697.5,   2.6233,  34.8932,2,     -999,9,    288.9,2,     -999,9,     -999,9,     -999,9
35TH20050604  ,AR07       ,70      ,  1,1          ,1          ,2,20050626,1201,  60.6093, -49.5350,     2817,   2865.8,   2.1731,  34.8846,2,     -999,9,    292.0,2,    292.3,2,    3.358,2,    1.694,2