BOTTLE,20240221CCHSIOADS
EXPOCODE,SECT_ID,STNNBR,CASTNO,SAMPNO,BTLNBR,BTLNBR_FLAG_W,DATE,TIME,LATITUDE,LONGITUDE,DEPTH,CTDPRS,CTDTMP,CTDSAL,CTDSAL_FLAG_W,SALNTY,SALNTY_FLAG_W,CTDOXY,CTDOXY_FLAG_W,OXYGEN,OXYGEN_FLAG_W,CFC-11,CFC-11_FLAG_W,CFC-12,CFC-12_FLAG_W
,,,,,,,,,,,METERS,DBAR,ITS-90,PSS-78,,PSS-78,,UMOL/KG,,UMOL/KG,,PMOL/KG,,PMOL/KG,
35TH20050604  ,AR07       ,29      ,  1,21         ,21         ,2,20050612,0900,  46.5562, -34.1605,     4267,     42.0,  14.3248,  35.7633,2,     -999,9,    263.7,2,    272.8,3,    2.642,6,    1.578,6
35TH20050604  ,AR07       ,29      ,  1,22         ,22         ,2,20050612,0900,  46.5562, -34.1605,     4267,     42.1,  14.3244,  35.7628,2,     -999,9,    263.7,2,     -999,9,     -999,9,     -999,9
35TH20050604  ,AR07       ,29      ,  1,20         ,20         ,2,20050612,0900,  46.5562, -34.1605,     4267,    324.8,  12.0122,  35.4977,2,     -999,9,    220.0,2,     -999,9,    2.571,2,    1.517,2
35TH20050604  ,AR07       ,29      ,  1,19         ,19         ,2,20050612,0900,  46.5562, -34.1605,     4267,    607.1,   7.8473,  35.0531,2,     -999,9,    187.8,2,     -999,9,    2.029,2,    1.104,2
35TH20050604  ,AR07       ,29      ,  1,18         ,18         ,2,20050612,0900,  46.5562, -34.1605,     4267,    905.7,   4.8937,  34.9604,2,     -999,9,    245.7,2,     -999,9,     -999,9,     -999,9
35TH20050604  ,AR07       ,29      ,  1,17         ,17         ,2,20050612,0900,  46.5562, -34.1605,     4267,    993.3,   4.3753,  34.9178,2,     -999,9,    261.3,2,    277.5,3,    3.200,2,    1.754,2
35TH20050604  ,AR07       ,29      ,  1,16         ,16         ,2,20050612,0900,  46.5562, -34.1605,     4267,   1120.6,   4.2454,  34.9335,2,     -999,9,    264.9,2,     -999,9,    2.945,2,    1.589,2
35TH20050604  ,AR07       ,29      ,  1,15         ,15         ,2,20050612,0900,  46.5562, -34.1605,     4267,   1178.6,   4.2031,  34.9405,2,     -999,9,    264.0,2,     -999,9,    2.870,2,    1.524,2
35TH20050604  ,AR07       ,29      ,  1,14         ,14         ,2,20050612,0900,  46.5562, -34.1605,     4267,   1289.6,   4.0622,  34.9367,2,     -999,9,    266.0,2,    279.5,3,    2.838,2,    1.499,2
35TH20050604  ,AR07       ,29      ,  1,13         ,13         ,2,20050612,0900,  46.5562, -34.1605,     4267,   1398.9,   3.9405,  34.9307,2,     -999,9,    267.7,2,     -999,9,    2.738,2,    1.438,2
35TH20050604  ,AR07       ,29      ,  1,12         ,12         ,2,20050612,0900,  46.5562, -34.1605,     4267,   1501.9,   3.8169,  34.9244,2,     -999,9,    269.3,2,     -999,9,    2.750,2,    1.436,2
35TH20050604  ,AR07       ,29      ,  1,11         ,11         ,2,20050612,0900,  46.5562, -34.1605,     4267,   1621.5,   3.7442,  34.9258,2,     -999,9,    269.6,2,     -999,9,    2.722,2,    1.406,2
35TH20050604  ,AR07       ,29      ,  1,10         ,10         ,2,20050612,0900,  46.5562, -34.1605,     4267,   1704.0,   3.6407,  34.9164,2,     -999,9,    271.5,2,     -999,9,    2.572,2,    1.304,2
35TH20050604  ,AR07       ,29      ,  1,9          ,9          ,2,20050612,0900,  46.5562, -34.1605,     4267,   1928.6,   3.4768,  34.9097,2,     -999,9,    274.4,2,     -999,9,    2.635,2,    1.308,2
35TH20050604  ,AR07       ,29      ,  1,8          ,8          ,2,20050612,0900,  46.5562, -34.1605,     4267,   2103.1,   3.3608,  34.9052,2,     -999,9,    276.4,2,    288.3,6,     -999,9,     -999,9
35TH20050604  ,AR07       ,29      ,  1,7          ,7          ,2,20050612,0900,  46.5562, -34.1605,     4267,   2374.0,   3.1977,  34.8990,2,     -999,9,    279.2,2,     -999,9,    2.267,6,    1.136,6
35TH20050604  ,AR07       ,29      ,  1,6          ,6          ,2,20050612,0900,  46.5562, -34.1605,     4267,   2688.3,   3.0641,  34.9094,2,     -999,9,    277.9,2,     -999,9,     -999,9,     -999,9
35TH20050604  ,AR07       ,29      ,  1,5          ,5          ,2,20050612,0900,  46.5562, -34.1605,     4267,   3001.8,   2.8968,  34.9183,2,     -999,9,    275.5,2,     -999,9,    1.654,2,    0.794,2
35TH20050604  ,AR07       ,29      ,  1,4          ,4          ,2,20050612,0900,  46.5562, -34.1605,     4267,   3296.3,   2.6949,  34.9158,2,     -999,9,    274.9,2,     -999,9,    1.503,2,    0.725,2
35TH20050604  ,AR07       ,29      ,  1,3          ,3          ,2,20050612,0900,  46.5562, -34.1605,     4267,   3645.9,   2.4214,  34.9041,2,     -999,9,    275.7,2,     -999,9,    1.616,2,    0.796,2
35TH20050604  ,AR07       ,29      ,  1,2          ,2          ,2,20050612,0900,  46.5562, -34.1605,     4267,   3995.5,   2.2736,  34.8955,2,  34.9008,2,    277.9,2,     -999,9,    1.880,2,    0.942,2
35TH20050604  ,AR07       ,29      ,  1,1          ,1          ,2,20050612,0900,  46.5562, -34.1605,     4267,   4338.5,   2.2488,  34.8918,2,     -999,9,    279.7,2,    294.1,3,    2.025,6,    1.022,3
35TH20050604  ,AR07       ,30      ,  1,22         ,22         ,2,20050612,1634,  46.6063, -35.1373,     4390,      9.5,  14.4341,  35.7999,2,     -999,9,    260.0,2,     -999,9,    2.618,2,    1.531,2
35TH20050604  ,AR07       ,30      ,  1,21         ,21         ,2,20050612,1634,  46.6063, -35.1373,     4390,      9.5,  14.4341,  35.7999,2,     -999,9,    260.0,2,    271.4,3,     -999,9,     -999,9
35TH20050604  ,AR07       ,30      ,  1,20         ,20         ,2,20050612,1634,  46.6063, -35.1373,     4390,    415.5,  12.0309,  35.5414,2,     -999,9,    221.5,2,     -999,9,    2.530,2,    1.481,2
35TH20050604  ,AR07       ,30      ,  1,19         ,19         ,2,20050612,1634,  46.6063, -35.1373,     4390,    704.1,   8.4601,  35.1416,2,     -999,9,    201.1,2,     -999,9,     -999,9,     -999,9
35TH20050604  ,AR07       ,30      ,  1,18         ,18         ,2,20050612,1634,  46.6063, -35.1373,     4390,    795.9,   7.0354,  35.0254,2,     -999,9,    206.6,2,     -999,9,     -999,9,     -999,9
35TH20050604  ,AR07       ,30      ,  1,17         ,17         ,2,20050612,1634,  46.6063, -35.1373,     4390,    893.5,   5.9358,  34.9801,2,  34.9882,2,    221.8,2,     -999,9,    2.390,2,    1.276,2
35TH20050604  ,AR07       ,30      ,  1,16         ,16         ,2,20050612,1634,  46.6063, -35.1373,     4390,   1113.4,   4.5733,  34.9418,2,     -999,9,    255.4,2,     -999,9,    2.939,2,    1.570,2
35TH20050604  ,AR07       ,30      ,  1,15         ,15         ,2,20050612,1634,  46.6063, -35.1373,     4390,   1204.5,   4.2059,  34.9159,2,     -999,9,    265.3,2,     -999,9,    3.023,2,    1.619,2
35TH20050604  ,AR07       ,30      ,  1,14         ,14         ,2,20050612,1634,  46.6063, -35.1373,     4390,   1303.6,   4.1028,  34.9240,2,     -999,9,    267.2,2,     -999,9,    2.955,2,    1.587,2
35TH20050604  ,AR07       ,30      ,  1,13         ,13         ,2,20050612,1634,  46.6063, -35.1373,     4390,   1418.0,   3.9437,  34.9147,2,     -999,9,    270.9,2,     -999,9,     -999,9,     -999,9
35TH20050604  ,AR07       ,30      ,  1,12         ,12         ,2,20050612,1634,  46.6063, -35.1373,     4390,   1540.8,   3.7904,  34.9059,2,     -999,9,    274.3,2,    287.2,3,    2.979,2,    1.644,2
35TH20050604  ,AR07       ,30      ,  1,11         ,11         ,2,20050612,1634,  46.6063, -35.1373,     4390,   1716.2,   3.7083,  34.9142,2,     -999,9,    273.1,2,     -999,9,    2.785,2,    1.448,2
35TH20050604  ,AR07       ,30      ,  1,10         ,10         ,2,20050612,1634,  46.6063, -35.1373,     4390,   1792.8,   3.6523,  34.9120,2,  34.9181,2,    273.5,2,     -999,9,     -999,9,     -999,9
35TH20050604  ,AR07       ,30      ,  1,9          ,9          ,2,20050612,1634,  46.6063, -35.1373,     4390,   2019.2,   3.5223,  34.9090,2,     -999,9,    275.1,2,    284.8,3,    2.518,2,    1.285,2
35TH20050604  ,AR07       ,30      ,  1,8          ,8          ,2,20050612,1634,  46.6063, -35.1373,     4390,   2313.6,   3.3226,  34.9013,2,     -999,9,    277.9,2,     -999,9,    2.392,2,    1.198,2
35TH20050604  ,AR07       ,30      ,  1,7          ,7          ,2,20050612,1634,  46.6063, -35.1373,     4390,   2618.3,   3.1690,  34.9039,2,     -999,9,    279.2,2,     -999,9,    2.358,2,    1.201,2
35TH20050604  ,AR07       ,30      ,  1,6          ,6          ,2,20050612,1634,  46.6063, -35.1373,     4390,   2907.9,   3.0518,  34.9142,2,     -999,9,    276.9,2,    287.3,6,    1.864,2,    0.916,2
35TH20050604  ,AR07       ,30      ,  1,5          ,5          ,2,20050612,1634,  46.6063, -35.1373,     4390,   3198.2,   2.8552,  34.9180,2,     -999,9,    275.9,2,     -999,9,     -999,9,     -999,9
35TH20050604  ,AR07       ,30      ,  1,4          ,4          ,2,20050612,1634,  46.6063, -35.1373,     4390,   3498.7,   2.6558,  34.9147,2,     -999,9,    275.5,2,     -999,9,    1.479,2,    0.718,2
35TH20050604  ,AR07       ,30      ,  1,3          ,3          ,2,20050612,1634,  46.6063, -35.1373,     4390,   3811.0,   2.4302,  34.9031,2,     -999,9,    276.7,2,     -999,9,    1.505,2,    0.718,2
35TH20050604  ,AR07       ,30      ,  1,2          ,2          ,2,20050612,1634,  46.6063, -35.1373,     4390,   4101.3,   2.2730,  34.8947,2,     -999,9,    278.5,2,     -999,9,    1.844,2,    0.910,2
35TH20050604  ,AR07       ,30      ,  1,1          ,1          ,2,20050612,1634,  46.6063, -35.1373,     4390,   4423.8,   2.2174,  34.8904,2,  34.8922,2,    280.9,2,    291.4,3,    2.193,2,    1.078,2
35TH20050604  ,AR07       ,31      ,  1,22         ,22         ,2,20050613,0058,  46.6844, -36.1155,     4133,     16.2,  14.3288,  35.7982,2,     -999,9,    260.6,2,     -999,9,     -999,9,     -999,9
35TH20050604  ,AR07       ,31      ,  1,21         ,21         ,2,20050613,0058,  46.6844, -36.1155,     4133,     16.2,  14.3288,  35.7982,2,     -999,9,    260.6,2,    274.9,3,     -999,9,     -999,9
35TH20050604  ,AR07       ,31      ,  1,20         ,20         ,2,20050613,0058,  46.6844, -36.1155,     4133,    403.5,  11.6768,  35.4926,2,     -999,9,    220.3,2,     -999,9,     -999,9,     -999,9
35TH20050604  ,AR07       ,31      ,  1,19         ,19         ,2,20050613,0058,  46.6844, -36.1155,     4133,    690.8,   8.9001,  35.1947,2,     -999,9,    209.9,2,     -999,9,     -999,9,     -999,9
35TH20050604  ,AR07       ,31      ,  1,18         ,18         ,2,20050613,0058,  46.6844, -36.1155,     4133,    801.2,   7.6854,  35.0735,2,     -999,9,    203.0,2,     -999,9,     -999,9,     -999,9
35TH20050604  ,AR07       ,31      ,  1,17         ,17         ,2,20050613,0058,  46.6844, -36.1155,     4133,    919.9,   6.4298,  35.0021,2,     -999,9,    215.4,2,     -999,9,     -999,9,     -999,9
35TH20050604  ,AR07       ,31      ,  1,16         ,16         ,2,20050613,0058,  46.6844, -36.1155,     4133,   1013.9,   5.5048,  34.9773,2,     -999,9,    233.4,2,     -999,9,     -999,9,     -999,9
35TH20050604  ,AR07       ,31      ,  1,15         ,15         ,2,20050613,0058,  46.6844, -36.1155,     4133,   1129.0,   4.9976,  34.9801,2,     -999,9,    245.9,2,     -999,9,     -999,9,     -999,9
35TH20050604  ,AR07       ,31      ,  1,14         ,14         ,2,20050613,0058,  46.6844, -36.1155,     4133,   1206.5,   4.5335,  34.9533,2,     -999,9,    257.1,2,    275.3,3,     -999,9,     -999,9
35TH20050604  ,AR07       ,31      ,  1,13         ,13         ,2,20050613,0058,  46.6844, -36.1155,     4133,   1303.4,   4.2641,  34.9314,2,     -999,9,    264.5,2,     -999,9,     -999,9,     -999,9
35TH20050604  ,AR07       ,31      ,  1,12         ,12         ,2,20050613,0058,  46.6844, -36.1155,     4133,   1399.6,   4.0685,  34.9220,2,     -999,9,    269.5,2,    284.8,3,    3.054,2,    1.611,2
35TH20050604  ,AR07       ,31      ,  1,11         ,11         ,2,20050613,0058,  46.6844, -36.1155,     4133,   1501.8,   4.0469,  34.9392,2,     -999,9,    268.0,2,     -999,9,    2.747,2,    1.447,2
35TH20050604  ,AR07       ,31      ,  1,10         ,10         ,2,20050613,0058,  46.6844, -36.1155,     4133,   1595.9,   3.9454,  34.9367,2,     -999,9,    268.9,2,     -999,9,    2.650,2,    1.371,2
35TH20050604  ,AR07       ,31      ,  1,9          ,9          ,2,20050613,0058,  46.6844, -36.1155,     4133,   1772.1,   3.7303,  34.9205,2,     -999,9,    271.9,2,    291.0,6,    2.438,2,    1.237,2
35TH20050604  ,AR07       ,31      ,  1,8          ,8          ,2,20050613,0058,  46.6844, -36.1155,     4133,   2099.4,   3.4321,  34.9007,2,     -999,9,    278.3,2,     -999,9,    2.549,2,    1.306,2
35TH20050604  ,AR07       ,31      ,  1,7          ,7          ,2,20050613,0058,  46.6844, -36.1155,     4133,   2435.2,   3.2704,  34.8964,2,  34.9031,2,    280.9,2,     -999,9,    2.344,2,    1.167,2
35TH20050604  ,AR07       ,31      ,  1,6          ,6          ,2,20050613,0058,  46.6844, -36.1155,     4133,   2703.7,   3.1461,  34.9055,2,     -999,9,    280.2,2,     -999,9,    2.147,2,    1.013,2
35TH20050604  ,AR07       ,31      ,  1,5          ,5          ,2,20050613,0058,  46.6844, -36.1155,     4133,   2995.4,   3.0150,  34.9164,2,     -999,9,    277.6,2,     -999,9,    1.883,2,    0.898,2
35TH20050604  ,AR07       ,31      ,  1,4          ,4          ,2,20050613,0058,  46.6844, -36.1155,     4133,   3294.8,   2.7982,  34.9172,2,     -999,9,    276.9,2,    278.9,2,    1.621,2,    0.796,2
35TH20050604  ,AR07       ,31      ,  1,3          ,3          ,2,20050613,0058,  46.6844, -36.1155,     4133,   3597.6,   2.5636,  34.9100,2,  34.9129,2,    277.0,2,     -999,9,    1.460,2,    0.703,2
35TH20050604  ,AR07       ,31      ,  1,2          ,2          ,2,20050613,0058,  46.6844, -36.1155,     4133,   3896.5,   2.3287,  34.8984,2,     -999,9,    278.2,2,     -999,9,    1.668,2,    0.828,2
35TH20050604  ,AR07       ,31      ,  1,1          ,1          ,2,20050613,0058,  46.6844, -36.1155,     4133,   4224.2,   2.2256,  34.8923,2,  34.8931,2,    281.1,2,    282.0,2,    2.041,2,    1.031,2
35TH20050604  ,AR07       ,32      ,  1,21         ,21         ,2,20050613,1126,  46.7400, -37.0962,     4562,     19.5,  14.3508,  35.8512,2,     -999,9,    258.5,2,    254.8,2,     -999,9,     -999,9
35TH20050604  ,AR07       ,32      ,  1,20         ,20         ,2,20050613,1126,  46.7400, -37.0962,     4562,    288.4,  12.7378,  35.6100,2,     -999,9,    227.8,2,     -999,9,     -999,9,     -999,9
35TH20050604  ,AR07       ,32      ,  1,19         ,19         ,2,20050613,1126,  46.7400, -37.0962,     4562,    647.7,   7.3336,  35.0453,2,     -999,9,    190.6,2,    190.3,2,     -999,9,     -999,9
35TH20050604  ,AR07       ,32      ,  1,18         ,18         ,2,20050613,1126,  46.7400, -37.0962,     4562,    798.9,   5.5731,  34.9738,2,     -999,9,    228.9,2,     -999,9,     -999,9,     -999,9
35TH20050604  ,AR07       ,32      ,  1,17         ,17         ,2,20050613,1126,  46.7400, -37.0962,     4562,    894.3,   4.8785,  34.9384,2,     -999,9,    248.9,2,     -999,9,     -999,9,     -999,9
35TH20050604  ,AR07       ,32      ,  1,16         ,16         ,2,20050613,1126,  46.7400, -37.0962,     4562,   1013.8,   4.4568,  34.9333,2,     -999,9,    260.0,2,    261.7,2,     -999,9,     -999,9
35TH20050604  ,AR07       ,32      ,  1,15         ,15         ,2,20050613,1126,  46.7400, -37.0962,     4562,   1114.9,   4.1770,  34.9184,2,     -999,9,    267.8,2,     -999,9,     -999,9,     -999,9
35TH20050604  ,AR07       ,32      ,  1,14         ,14         ,2,20050613,1126,  46.7400, -37.0962,     4562,   1225.2,   4.0086,  34.9123,2,     -999,9,    271.5,2,     -999,9,     -999,9,     -999,9
35TH20050604  ,AR07       ,32      ,  1,13         ,13         ,2,20050613,1126,  46.7400, -37.0962,     4562,   1329.2,   3.9128,  34.9114,2,     -999,9,    273.9,2,     -999,9,     -999,9,     -999,9
35TH20050604  ,AR07       ,32      ,  1,12         ,12         ,2,20050613,1126,  46.7400, -37.0962,     4562,   1497.3,   3.7294,  34.9000,2,     -999,9,    277.7,2,     -999,9,     -999,9,     -999,9
35TH20050604  ,AR07       ,32      ,  1,11         ,11         ,2,20050613,1126,  46.7400, -37.0962,     4562,   1697.9,   3.6247,  34.9021,2,     -999,9,    277.9,2,    276.6,2,     -999,9,     -999,9
35TH20050604  ,AR07       ,32      ,  1,10         ,10         ,2,20050613,1126,  46.7400, -37.0962,     4562,   1871.8,   3.5338,  34.9055,2,     -999,9,    277.3,2,     -999,9,     -999,9,     -999,9
35TH20050604  ,AR07       ,32      ,  1,9          ,9          ,2,20050613,1126,  46.7400, -37.0962,     4562,   2191.4,   3.3136,  34.8970,2,     -999,9,    280.9,2,     -999,9,     -999,9,     -999,9
35TH20050604  ,AR07       ,32      ,  1,8          ,8          ,2,20050613,1126,  46.7400, -37.0962,     4562,   2489.8,   3.1888,  34.9001,2,     -999,9,    281.4,2,    281.0,2,     -999,9,     -999,9
35TH20050604  ,AR07       ,32      ,  1,7          ,7          ,2,20050613,1126,  46.7400, -37.0962,     4562,   2796.7,   3.0630,  34.9099,2,     -999,9,    279.8,2,     -999,9,     -999,9,     -999,9
35TH20050604  ,AR07       ,32      ,  1,6          ,6          ,2,20050613,1126,  46.7400, -37.0962,     4562,   3106.7,   2.8922,  34.9138,2,  34.9189,2,    278.9,2,     -999,9,     -999,9,     -999,9
35TH20050604  ,AR07       ,32      ,  1,5          ,5          ,2,20050613,1126,  46.7400, -37.0962,     4562,   3401.2,   2.6608,  34.9110,2,     -999,9,    278.4,2,     -999,9,     -999,9,     -999,9
35TH20050604  ,AR07       ,32      ,  1,4          ,4          ,2,20050613,1126,  46.7400, -37.0962,     4562,   3748.3,   2.4121,  34.9016,2,     -999,9,    278.9,2,     -999,9,     -999,9,     -999,9
35TH20050604  ,AR07       ,32      ,  1,3          ,3          ,2,20050613,1126,  46.7400, -37.0962,     4562,   4093.8,   2.2577,  34.8929,2,     -999,9,    279.5,2,    279.8,2,     -999,9,     -999,9
35TH20050604  ,AR07       ,32      ,  1,2          ,2          ,2,20050613,1126,  46.7400, -37.0962,     4562,   4389.4,   2.1860,  34.8889,2,  34.8947,2,    283.5,2,     -999,9,     -999,9,     -999,9
35TH20050604  ,AR07       ,32      ,  1,1          ,1          ,2,20050613,1126,  46.7400, -37.0962,     4562,   4617.7,   2.1317,  34.8873,2,     -999,9,    286.4,2,     -999,9,     -999,9,     -999,9
35TH20050604  ,AR07       ,33      ,  1,6          ,6          ,2,20050613,2122,  46.8082, -38.0809,     4557,      7.7,  13.8649,  35.7874,2,  35.7864,2,    258.6,2,    254.3,2,     -999,9,     -999,9
35TH20050604  ,AR07       ,33      ,  1,5          ,5          ,2,20050613,2122,  46.8082, -38.0809,     4557,    629.8,   7.8195,  35.0519,2,  35.0459,2,    179.4,2,    180.6,2,     -999,9,     -999,9
35TH20050604  ,AR07       ,33      ,  1,4          ,4          ,2,20050613,2122,  46.8082, -38.0809,     4557,   1607.8,   3.6837,  34.8999,2,  34.9041,2,    278.3,2,    278.7,2,     -999,9,     -999,9
35TH20050604  ,AR07       ,33      ,  1,3          ,3          ,2,20050613,2122,  46.8082, -38.0809,     4557,   2199.0,   3.3651,  34.8982,2,  34.9043,2,    280.7,2,    279.5,2,     -999,9,     -999,9
35TH20050604  ,AR07       ,33      ,  1,2          ,2          ,2,20050613,2122,  46.8082, -38.0809,     4557,   3395.9,   2.7150,  34.9122,2,  34.9166,2,    279.7,2,    278.6,2,     -999,9,     -999,9
35TH20050604  ,AR07       ,33      ,  1,1          ,1          ,2,20050613,2122,  46.8082, -38.0809,     4557,   4317.4,   2.2045,  34.8909,2,  34.8947,2,    284.0,2,    283.7,6,     -999,9,     -999,9