BOTTLE,20240221CCHSIOADS
EXPOCODE,SECT_ID,STNNBR,CASTNO,SAMPNO,BTLNBR,BTLNBR_FLAG_W,DATE,TIME,LATITUDE,LONGITUDE,DEPTH,CTDPRS,CTDTMP,CTDSAL,CTDSAL_FLAG_W,SALNTY,SALNTY_FLAG_W,CTDOXY,CTDOXY_FLAG_W,OXYGEN,OXYGEN_FLAG_W,CFC-11,CFC-11_FLAG_W,CFC-12,CFC-12_FLAG_W
,,,,,,,,,,,METERS,DBAR,ITS-90,PSS-78,,PSS-78,,UMOL/KG,,UMOL/KG,,PMOL/KG,,PMOL/KG,
35TH20050604  ,AR07       ,25      ,  1,22         ,22         ,2,20050611,0828,  46.5917, -30.7917,     3420,     16.4,  14.9820,  35.5754,2,     -999,9,    272.8,2,    297.8,4,     -999,9,     -999,9
35TH20050604  ,AR07       ,25      ,  1,21         ,21         ,2,20050611,0828,  46.5917, -30.7917,     3420,    293.1,  11.6413,  35.4858,2,     -999,9,    220.3,2,     -999,9,    2.525,2,    1.420,2
35TH20050604  ,AR07       ,25      ,  1,20         ,20         ,2,20050611,0828,  46.5917, -30.7917,     3420,    502.7,   9.3656,  35.2068,2,     -999,9,    199.7,2,     -999,9,    2.263,2,    1.228,2
35TH20050604  ,AR07       ,25      ,  1,19         ,19         ,2,20050611,0828,  46.5917, -30.7917,     3420,    708.5,   7.0107,  35.0918,2,     -999,9,    206.0,2,     -999,9,    2.223,2,    1.173,2
35TH20050604  ,AR07       ,25      ,  1,18         ,18         ,2,20050611,0828,  46.5917, -30.7917,     3420,    817.1,   5.9577,  35.0644,2,     -999,9,    222.9,2,     -999,9,     -999,9,     -999,9
35TH20050604  ,AR07       ,25      ,  1,17         ,17         ,2,20050611,0828,  46.5917, -30.7917,     3420,    920.8,   5.3066,  35.0290,2,  35.0344,2,    236.7,2,    275.4,4,     -999,9,     -999,9
35TH20050604  ,AR07       ,25      ,  1,16         ,16         ,2,20050611,0828,  46.5917, -30.7917,     3420,   1017.0,   4.8225,  34.9887,2,     -999,9,    247.4,2,     -999,9,     -999,9,     -999,9
35TH20050604  ,AR07       ,25      ,  1,15         ,15         ,2,20050611,0828,  46.5917, -30.7917,     3420,   1111.3,   4.3894,  34.9549,2,     -999,9,    257.8,2,     -999,9,    2.974,2,    1.551,2
35TH20050604  ,AR07       ,25      ,  1,14         ,14         ,2,20050611,0828,  46.5917, -30.7917,     3420,   1212.8,   4.1538,  34.9383,2,     -999,9,    262.5,2,     -999,9,    3.030,2,    1.570,2
35TH20050604  ,AR07       ,25      ,  1,13         ,13         ,2,20050611,0828,  46.5917, -30.7917,     3420,   1307.2,   3.9890,  34.9278,2,     -999,9,    265.9,2,    292.2,4,     -999,9,     -999,9
35TH20050604  ,AR07       ,25      ,  1,12         ,12         ,2,20050611,0828,  46.5917, -30.7917,     3420,   1419.6,   3.8170,  34.9183,2,     -999,9,    268.9,2,     -999,9,    2.943,2,    1.513,2
35TH20050604  ,AR07       ,25      ,  1,11         ,11         ,2,20050611,0828,  46.5917, -30.7917,     3420,   1502.1,   3.7219,  34.9151,2,     -999,9,    270.6,2,    266.3,2,     -999,9,     -999,9
35TH20050604  ,AR07       ,25      ,  1,10         ,10         ,2,20050611,0828,  46.5917, -30.7917,     3420,   1598.2,   3.6466,  34.9134,2,  34.9202,2,    271.7,2,     -999,9,    2.800,2,    1.417,2
35TH20050604  ,AR07       ,25      ,  1,9          ,9          ,2,20050611,0828,  46.5917, -30.7917,     3420,   1712.4,   3.5686,  34.9113,2,     -999,9,    272.3,2,     -999,9,    2.585,2,    1.291,2
35TH20050604  ,AR07       ,25      ,  1,8          ,8          ,2,20050611,0828,  46.5917, -30.7917,     3420,   1847.8,   3.4572,  34.9083,2,     -999,9,    273.6,2,    280.0,2,    2.447,2,    1.193,2
35TH20050604  ,AR07       ,25      ,  1,7          ,7          ,2,20050611,0828,  46.5917, -30.7917,     3420,   2023.9,   3.3442,  34.9032,2,     -999,9,    276.0,2,     -999,9,    2.464,2,    1.209,2
35TH20050604  ,AR07       ,25      ,  1,6          ,6          ,2,20050611,0828,  46.5917, -30.7917,     3420,   2109.7,   3.2844,  34.8998,2,     -999,9,    277.2,2,     -999,9,    2.471,2,    1.224,2
35TH20050604  ,AR07       ,25      ,  1,5          ,5          ,2,20050611,0828,  46.5917, -30.7917,     3420,   2292.4,   3.2231,  34.9101,2,     -999,9,    274.8,2,     -999,9,     -999,9,     -999,9
35TH20050604  ,AR07       ,25      ,  1,4          ,4          ,2,20050611,0828,  46.5917, -30.7917,     3420,   2596.6,   3.0759,  34.9155,2,     -999,9,    274.3,2,    271.3,3,    1.991,2,    0.979,2
35TH20050604  ,AR07       ,25      ,  1,3          ,3          ,2,20050611,0828,  46.5917, -30.7917,     3420,   2892.6,   2.9262,  34.9196,2,     -999,9,    273.8,2,     -999,9,     -999,9,     -999,9
35TH20050604  ,AR07       ,25      ,  1,2          ,2          ,2,20050611,0828,  46.5917, -30.7917,     3420,   3195.9,   2.7704,  34.9186,2,     -999,9,    273.9,2,     -999,9,    1.709,2,    0.842,2
35TH20050604  ,AR07       ,25      ,  1,1          ,1          ,2,20050611,0828,  46.5917, -30.7917,     3420,   3485.4,   2.6009,  34.9124,2,     -999,9,    274.1,2,    274.6,2,    1.762,2,    0.867,2
35TH20050604  ,AR07       ,26      ,  1,21         ,21         ,2,20050611,1403,  46.5667, -31.5667,     3735,     21.6,  14.8191,  35.5729,2,     -999,9,    267.9,2,    272.9,2,    2.764,2,    1.640,2
35TH20050604  ,AR07       ,26      ,  1,22         ,22         ,2,20050611,1403,  46.5667, -31.5667,     3735,     21.9,  14.7994,  35.5827,2,     -999,9,    268.0,2,     -999,9,     -999,9,     -999,9
35TH20050604  ,AR07       ,26      ,  1,20         ,20         ,2,20050611,1403,  46.5667, -31.5667,     3735,    415.4,  11.5130,  35.4439,2,     -999,9,    220.7,2,     -999,9,    2.548,2,    1.465,2
35TH20050604  ,AR07       ,26      ,  1,19         ,19         ,2,20050611,1403,  46.5667, -31.5667,     3735,    609.2,   8.7642,  35.1473,2,     -999,9,    191.6,2,     -999,9,    2.098,2,    1.146,2
35TH20050604  ,AR07       ,26      ,  1,18         ,18         ,2,20050611,1403,  46.5667, -31.5667,     3735,    795.9,   5.5364,  34.9134,2,  34.9145,2,    229.2,2,     -999,9,    2.818,2,    1.509,2
35TH20050604  ,AR07       ,26      ,  1,17         ,17         ,2,20050611,1403,  46.5667, -31.5667,     3735,    915.4,   4.9172,  34.9293,2,     -999,9,    245.1,2,    255.9,2,    3.003,2,    1.609,2
35TH20050604  ,AR07       ,26      ,  1,16         ,16         ,2,20050611,1403,  46.5667, -31.5667,     3735,    974.0,   4.7010,  34.9430,2,     -999,9,    251.9,2,     -999,9,     -999,9,     -999,9
35TH20050604  ,AR07       ,26      ,  1,15         ,15         ,2,20050611,1403,  46.5667, -31.5667,     3735,   1098.3,   4.3658,  34.9343,2,     -999,9,    259.6,2,     -999,9,    3.102,2,    1.645,2
35TH20050604  ,AR07       ,26      ,  1,14         ,14         ,2,20050611,1403,  46.5667, -31.5667,     3735,   1170.2,   4.1912,  34.9275,2,     -999,9,    263.7,2,     -999,9,     -999,9,     -999,9
35TH20050604  ,AR07       ,26      ,  1,13         ,13         ,2,20050611,1403,  46.5667, -31.5667,     3735,   1290.6,   3.9341,  34.9094,2,     -999,9,    270.1,2,     -999,9,    3.327,2,    1.770,2
35TH20050604  ,AR07       ,26      ,  1,12         ,12         ,2,20050611,1403,  46.5667, -31.5667,     3735,   1386.0,   3.7854,  34.8997,2,     -999,9,    274.3,2,    281.8,2,     -999,9,     -999,9
35TH20050604  ,AR07       ,26      ,  1,11         ,11         ,2,20050611,1403,  46.5667, -31.5667,     3735,   1485.0,   3.7198,  34.9012,2,     -999,9,    275.1,2,     -999,9,    3.264,2,    1.716,2
35TH20050604  ,AR07       ,26      ,  1,10         ,10         ,2,20050611,1403,  46.5667, -31.5667,     3735,   1647.7,   3.6439,  34.9028,2,     -999,9,    274.6,2,     -999,9,    3.023,6,    1.565,6
35TH20050604  ,AR07       ,26      ,  1,9          ,9          ,2,20050611,1403,  46.5667, -31.5667,     3735,   1798.6,   3.5455,  34.9027,2,  34.9081,2,    275.3,2,     -999,9,    3.027,2,    1.579,2
35TH20050604  ,AR07       ,26      ,  1,8          ,8          ,2,20050611,1403,  46.5667, -31.5667,     3735,   1961.6,   3.4136,  34.8993,2,     -999,9,    276.8,2,     -999,9,    2.743,2,    1.380,2
35TH20050604  ,AR07       ,26      ,  1,7          ,7          ,2,20050611,1403,  46.5667, -31.5667,     3735,   2103.2,   3.3264,  34.8971,2,     -999,9,    278.4,2,    277.4,6,    2.683,2,    1.344,2
35TH20050604  ,AR07       ,26      ,  1,6          ,6          ,2,20050611,1403,  46.5667, -31.5667,     3735,   2298.4,   3.2424,  34.8982,2,     -999,9,    278.8,2,     -999,9,    2.592,2,    1.289,2
35TH20050604  ,AR07       ,26      ,  1,5          ,5          ,2,20050611,1403,  46.5667, -31.5667,     3735,   2596.0,   3.1304,  34.9088,2,     -999,9,    277.0,2,     -999,9,    2.156,2,    1.056,2
35TH20050604  ,AR07       ,26      ,  1,4          ,4          ,2,20050611,1403,  46.5667, -31.5667,     3735,   2794.6,   3.0245,  34.9150,2,     -999,9,    275.9,2,     -999,9,    1.909,2,    0.936,2
35TH20050604  ,AR07       ,26      ,  1,3          ,3          ,2,20050611,1403,  46.5667, -31.5667,     3735,   3096.5,   2.8542,  34.9196,2,     -999,9,    274.5,2,    277.7,2,     -999,9,     -999,9
35TH20050604  ,AR07       ,26      ,  1,2          ,2          ,2,20050611,1403,  46.5667, -31.5667,     3735,   3400.1,   2.6626,  34.9154,2,  34.9185,2,    274.6,2,     -999,9,    1.573,2,    0.761,2
35TH20050604  ,AR07       ,26      ,  1,1          ,1          ,2,20050611,1403,  46.5667, -31.5667,     3735,   3782.2,   2.3978,  34.9029,2,     -999,9,    275.7,2,    302.4,4,    1.737,2,    0.846,2
35TH20050604  ,AR07       ,27      ,  1,22         ,22         ,2,20050611,1957,  46.5423, -32.3450,     3981,     26.6,  14.7894,  35.6701,2,     -999,9,    276.6,2,    281.2,2,     -999,9,     -999,9
35TH20050604  ,AR07       ,27      ,  1,21         ,21         ,2,20050611,1957,  46.5423, -32.3450,     3981,     27.0,  14.7860,  35.6703,2,     -999,9,    276.5,2,     -999,9,    2.714,2,    1.637,2
35TH20050604  ,AR07       ,27      ,  1,20         ,20         ,2,20050611,1957,  46.5423, -32.3450,     3981,    395.9,  12.1240,  35.5627,2,     -999,9,    225.6,2,     -999,9,    2.586,2,    1.479,2
35TH20050604  ,AR07       ,27      ,  1,19         ,19         ,2,20050611,1957,  46.5423, -32.3450,     3981,    698.3,   8.7981,  35.2067,2,  35.2074,2,    191.9,2,     -999,9,    1.976,2,    1.060,2
35TH20050604  ,AR07       ,27      ,  1,18         ,18         ,2,20050611,1957,  46.5423, -32.3450,     3981,    901.5,   6.4786,  35.0857,2,     -999,9,    213.4,2,     -999,9,     -999,9,     -999,9
35TH20050604  ,AR07       ,27      ,  1,17         ,17         ,2,20050611,1957,  46.5423, -32.3450,     3981,   1104.5,   4.7587,  34.9637,2,     -999,9,    249.8,2,    259.1,2,    2.872,2,    1.512,2
35TH20050604  ,AR07       ,27      ,  1,16         ,16         ,2,20050611,1957,  46.5423, -32.3450,     3981,   1185.7,   4.4632,  34.9453,2,     -999,9,    257.2,2,     -999,9,    2.753,2,    1.443,2
35TH20050604  ,AR07       ,27      ,  1,15         ,15         ,2,20050611,1957,  46.5423, -32.3450,     3981,   1270.7,   4.1216,  34.9194,2,     -999,9,    266.2,2,     -999,9,    2.983,2,    1.578,2
35TH20050604  ,AR07       ,27      ,  1,14         ,14         ,2,20050611,1957,  46.5423, -32.3450,     3981,   1391.8,   4.0174,  34.9259,2,     -999,9,    267.1,2,    276.6,6,    3.036,2,    1.592,2
35TH20050604  ,AR07       ,27      ,  1,13         ,13         ,2,20050611,1957,  46.5423, -32.3450,     3981,   1492.2,   3.9038,  34.9222,2,     -999,9,    269.0,2,     -999,9,    2.930,2,    1.526,2
35TH20050604  ,AR07       ,27      ,  1,12         ,12         ,2,20050611,1957,  46.5423, -32.3450,     3981,   1599.7,   3.8164,  34.9229,2,     -999,9,    269.4,2,     -999,9,     -999,9,     -999,9
35TH20050604  ,AR07       ,27      ,  1,11         ,11         ,2,20050611,1957,  46.5423, -32.3450,     3981,   1700.2,   3.7329,  34.9195,2,     -999,9,    270.5,2,     -999,9,    2.647,2,    1.353,2
35TH20050604  ,AR07       ,27      ,  1,10         ,10         ,2,20050611,1957,  46.5423, -32.3450,     3981,   1780.8,   3.6554,  34.9146,2,     -999,9,    271.6,2,     -999,9,    2.482,2,    1.251,2
35TH20050604  ,AR07       ,27      ,  1,9          ,9          ,2,20050611,1957,  46.5423, -32.3450,     3981,   1896.1,   3.5842,  34.9155,2,  34.9183,2,    272.1,2,     -999,9,    2.486,2,    1.258,2
35TH20050604  ,AR07       ,27      ,  1,8          ,8          ,2,20050611,1957,  46.5423, -32.3450,     3981,   2137.3,   3.3763,  34.9061,2,     -999,9,    275.4,2,    279.4,2,     -999,9,     -999,9
35TH20050604  ,AR07       ,27      ,  1,7          ,7          ,2,20050611,1957,  46.5423, -32.3450,     3981,   2393.5,   3.2046,  34.8975,2,     -999,9,    279.3,2,     -999,9,    2.512,2,    1.253,2
35TH20050604  ,AR07       ,27      ,  1,6          ,6          ,2,20050611,1957,  46.5423, -32.3450,     3981,   2591.3,   3.1389,  34.9060,2,     -999,9,    278.3,2,     -999,9,    2.236,2,    1.120,2
35TH20050604  ,AR07       ,27      ,  1,5          ,5          ,2,20050611,1957,  46.5423, -32.3450,     3981,   2798.5,   3.0464,  34.9153,2,     -999,9,    275.8,2,     -999,9,    1.940,2,    0.957,2
35TH20050604  ,AR07       ,27      ,  1,4          ,4          ,2,20050611,1957,  46.5423, -32.3450,     3981,   3095.4,   2.8512,  34.9192,2,  34.9232,2,    274.6,2,     -999,9,    1.696,2,    0.826,2
35TH20050604  ,AR07       ,27      ,  1,3          ,3          ,2,20050611,1957,  46.5423, -32.3450,     3981,   3396.0,   2.6623,  34.9153,2,     -999,9,    274.6,2,    270.7,3,    1.495,2,    0.717,2
35TH20050604  ,AR07       ,27      ,  1,2          ,2          ,2,20050611,1957,  46.5423, -32.3450,     3981,   3696.3,   2.4462,  34.9059,2,     -999,9,    275.9,2,     -999,9,    1.594,2,    0.779,2
35TH20050604  ,AR07       ,27      ,  1,1          ,1          ,2,20050611,1957,  46.5423, -32.3450,     3981,   4037.4,   2.3197,  34.8977,2,  34.9028,2,    277.2,2,    278.1,2,    1.817,2,    0.892,2
35TH20050604  ,AR07       ,28      ,  1,22         ,22         ,2,20050612,0148,  46.5196, -33.0839,     3864,     10.1,  15.1257,  35.5974,2,     -999,9,    265.3,2,    270.7,2,     -999,9,     -999,9
35TH20050604  ,AR07       ,28      ,  1,21         ,21         ,2,20050612,0148,  46.5196, -33.0839,     3864,     10.1,  15.1257,  35.5974,2,     -999,9,    265.3,2,    272.2,2,    2.657,6,    1.588,6
35TH20050604  ,AR07       ,28      ,  1,20         ,20         ,2,20050612,0148,  46.5196, -33.0839,     3864,    185.8,  12.4696,  35.5561,2,     -999,9,    238.7,2,     -999,9,    2.639,2,    1.556,2
35TH20050604  ,AR07       ,28      ,  1,19         ,19         ,2,20050612,0148,  46.5196, -33.0839,     3864,    469.1,   9.1976,  35.1537,2,     -999,9,    191.9,2,     -999,9,    2.208,2,    1.225,2
35TH20050604  ,AR07       ,28      ,  1,18         ,18         ,2,20050612,0148,  46.5196, -33.0839,     3864,    790.2,   5.6703,  34.9990,2,     -999,9,    227.9,2,     -999,9,     -999,9,     -999,9
35TH20050604  ,AR07       ,28      ,  1,17         ,17         ,2,20050612,0148,  46.5196, -33.0839,     3864,    912.1,   5.1332,  35.0101,2,     -999,9,    239.4,2,     -999,9,    2.684,2,    1.439,2
35TH20050604  ,AR07       ,28      ,  1,16         ,16         ,2,20050612,0148,  46.5196, -33.0839,     3864,    989.2,   4.7565,  34.9829,2,     -999,9,    248.6,2,    247.6,2,    2.716,2,    1.435,2
35TH20050604  ,AR07       ,28      ,  1,15         ,15         ,2,20050612,0148,  46.5196, -33.0839,     3864,   1103.0,   4.2572,  34.9379,2,     -999,9,    261.6,2,     -999,9,    3.070,2,    1.666,2
35TH20050604  ,AR07       ,28      ,  1,14         ,14         ,2,20050612,0148,  46.5196, -33.0839,     3864,   1219.5,   4.1004,  34.9332,2,  34.9348,2,    264.2,2,     -999,9,     -999,9,     -999,9
35TH20050604  ,AR07       ,28      ,  1,13         ,13         ,2,20050612,0148,  46.5196, -33.0839,     3864,   1304.3,   3.9636,  34.9231,2,     -999,9,    268.2,2,     -999,9,    3.008,2,    1.605,2
35TH20050604  ,AR07       ,28      ,  1,12         ,12         ,2,20050612,0148,  46.5196, -33.0839,     3864,   1404.0,   3.8386,  34.9151,2,     -999,9,    270.8,2,     -999,9,     -999,9,     -999,9
35TH20050604  ,AR07       ,28      ,  1,11         ,11         ,2,20050612,0148,  46.5196, -33.0839,     3864,   1527.7,   3.7102,  34.9062,2,     -999,9,    273.6,2,    276.4,2,    3.058,2,    1.621,2
35TH20050604  ,AR07       ,28      ,  1,10         ,10         ,2,20050612,0148,  46.5196, -33.0839,     3864,   1599.1,   3.6609,  34.9060,2,     -999,9,    273.6,2,     -999,9,    2.922,2,    1.539,2
35TH20050604  ,AR07       ,28      ,  1,9          ,9          ,2,20050612,0148,  46.5196, -33.0839,     3864,   1868.2,   3.4971,  34.9051,2,     -999,9,    274.7,2,     -999,9,    2.714,2,    1.394,2
35TH20050604  ,AR07       ,28      ,  1,8          ,8          ,2,20050612,0148,  46.5196, -33.0839,     3864,   2006.9,   3.3824,  34.8991,2,  34.9018,2,    277.4,2,     -999,9,    2.698,2,    1.373,2
35TH20050604  ,AR07       ,28      ,  1,7          ,7          ,2,20050612,0148,  46.5196, -33.0839,     3864,   2154.7,   3.2790,  34.8960,2,     -999,9,    279.3,2,     -999,9,    2.593,2,    1.291,2
35TH20050604  ,AR07       ,28      ,  1,6          ,6          ,2,20050612,0148,  46.5196, -33.0839,     3864,   2396.8,   3.1716,  34.8990,2,     -999,9,    279.5,2,     -999,9,     -999,9,     -999,9
35TH20050604  ,AR07       ,28      ,  1,5          ,5          ,2,20050612,0148,  46.5196, -33.0839,     3864,   2598.4,   3.0988,  34.9100,2,     -999,9,    277.3,2,     -999,9,    2.082,2,    1.046,2
35TH20050604  ,AR07       ,28      ,  1,4          ,4          ,2,20050612,0148,  46.5196, -33.0839,     3864,   2896.9,   2.9589,  34.9185,2,  34.9200,2,    275.4,2,    276.7,2,    1.796,2,    0.886,2
35TH20050604  ,AR07       ,28      ,  1,3          ,3          ,2,20050612,0148,  46.5196, -33.0839,     3864,   3200.4,   2.7771,  34.9185,2,     -999,9,    274.8,2,     -999,9,    1.574,2,    0.774,2
35TH20050604  ,AR07       ,28      ,  1,2          ,2          ,2,20050612,0148,  46.5196, -33.0839,     3864,   3495.9,   2.5742,  34.9121,2,     -999,9,    275.1,2,     -999,9,    1.524,2,    0.743,2
35TH20050604  ,AR07       ,28      ,  1,1          ,1          ,2,20050612,0148,  46.5196, -33.0839,     3864,   3902.9,   2.3086,  34.8977,2,     -999,9,    276.9,2,    282.2,2,    1.766,2,    0.888,2