BOTTLE,20240221CCHSIOADS
EXPOCODE,SECT_ID,STNNBR,CASTNO,SAMPNO,BTLNBR,BTLNBR_FLAG_W,DATE,TIME,LATITUDE,LONGITUDE,DEPTH,CTDPRS,CTDTMP,CTDSAL,CTDSAL_FLAG_W,SALNTY,SALNTY_FLAG_W,CTDOXY,CTDOXY_FLAG_W,OXYGEN,OXYGEN_FLAG_W,CFC-11,CFC-11_FLAG_W,CFC-12,CFC-12_FLAG_W
,,,,,,,,,,,METERS,DBAR,ITS-90,PSS-78,,PSS-78,,UMOL/KG,,UMOL/KG,,PMOL/KG,,PMOL/KG,
35TH20050604  ,AR07       ,76      ,  1,20         ,20         ,2,20050627,0945,  59.4833, -49.5318,     3351,      6.9,   5.9832,  34.5695,2,     -999,9,    313.8,2,     -999,9,     -999,9,     -999,9
35TH20050604  ,AR07       ,76      ,  1,21         ,21         ,2,20050627,0945,  59.4833, -49.5318,     3351,      6.9,   5.9832,  34.5695,2,     -999,9,    313.8,2,    313.5,2,     -999,9,     -999,9
35TH20050604  ,AR07       ,76      ,  1,19         ,19         ,2,20050627,0945,  59.4833, -49.5318,     3351,    224.5,   4.2861,  34.8928,2,     -999,9,    299.8,2,    298.8,2,     -999,9,     -999,9
35TH20050604  ,AR07       ,76      ,  1,18         ,18         ,2,20050627,0945,  59.4833, -49.5318,     3351,    509.5,   3.7691,  34.8753,2,     -999,9,    295.6,2,     -999,9,     -999,9,     -999,9
35TH20050604  ,AR07       ,76      ,  1,17         ,17         ,2,20050627,0945,  59.4833, -49.5318,     3351,    621.1,   3.6498,  34.8695,2,  34.8674,2,    297.9,2,     -999,9,     -999,9,     -999,9
35TH20050604  ,AR07       ,76      ,  1,16         ,16         ,2,20050627,0945,  59.4833, -49.5318,     3351,    726.0,   3.5728,  34.8648,2,     -999,9,    300.7,2,     -999,9,     -999,9,     -999,9
35TH20050604  ,AR07       ,76      ,  1,15         ,15         ,2,20050627,0945,  59.4833, -49.5318,     3351,    818.5,   3.5140,  34.8583,2,     -999,9,    303.0,2,    302.5,2,     -999,9,     -999,9
35TH20050604  ,AR07       ,76      ,  1,14         ,14         ,2,20050627,0945,  59.4833, -49.5318,     3351,    903.2,   3.4794,  34.8555,2,     -999,9,    303.7,2,     -999,9,     -999,9,     -999,9
35TH20050604  ,AR07       ,76      ,  1,13         ,13         ,2,20050627,0945,  59.4833, -49.5318,     3351,    999.3,   3.4689,  34.8551,2,     -999,9,    303.2,2,     -999,9,     -999,9,     -999,9
35TH20050604  ,AR07       ,76      ,  1,12         ,12         ,2,20050627,0945,  59.4833, -49.5318,     3351,   1097.3,   3.4570,  34.8550,2,     -999,9,    303.4,2,     -999,9,     -999,9,     -999,9
35TH20050604  ,AR07       ,76      ,  1,11         ,11         ,2,20050627,0945,  59.4833, -49.5318,     3351,   1184.8,   3.4577,  34.8561,2,  34.8617,2,    300.4,2,    296.4,2,     -999,9,     -999,9
35TH20050604  ,AR07       ,76      ,  1,10         ,10         ,2,20050627,0945,  59.4833, -49.5318,     3351,   1307.7,   3.4291,  34.8571,2,     -999,9,    294.3,2,     -999,9,     -999,9,     -999,9
35TH20050604  ,AR07       ,76      ,  1,9          ,9          ,2,20050627,0945,  59.4833, -49.5318,     3351,   1512.7,   3.5542,  34.8935,2,     -999,9,    282.8,2,     -999,9,     -999,9,     -999,9
35TH20050604  ,AR07       ,76      ,  1,8          ,8          ,2,20050627,0945,  59.4833, -49.5318,     3351,   1595.8,   3.5091,  34.8960,2,     -999,9,    281.8,2,     -999,9,     -999,9,     -999,9
35TH20050604  ,AR07       ,76      ,  1,7          ,7          ,2,20050627,0945,  59.4833, -49.5318,     3351,   1797.5,   3.3654,  34.8985,2,     -999,9,    282.4,2,    283.7,2,     -999,9,     -999,9
35TH20050604  ,AR07       ,76      ,  1,6          ,6          ,2,20050627,0945,  59.4833, -49.5318,     3351,   1898.8,   3.2796,  34.8938,2,     -999,9,    284.1,2,     -999,9,     -999,9,     -999,9
35TH20050604  ,AR07       ,76      ,  1,5          ,5          ,2,20050627,0945,  59.4833, -49.5318,     3351,   2198.7,   3.1113,  34.8990,2,     -999,9,    285.0,2,    281.7,3,     -999,9,     -999,9
35TH20050604  ,AR07       ,76      ,  1,4          ,4          ,2,20050627,0945,  59.4833, -49.5318,     3351,   2508.2,   2.9162,  34.9079,2,  34.9090,2,    284.3,2,     -999,9,     -999,9,     -999,9
35TH20050604  ,AR07       ,76      ,  1,3          ,3          ,2,20050627,0945,  59.4833, -49.5318,     3351,   2802.1,   2.6490,  34.9095,2,     -999,9,    284.9,2,    284.4,2,     -999,9,     -999,9
35TH20050604  ,AR07       ,76      ,  1,2          ,2          ,2,20050627,0945,  59.4833, -49.5318,     3351,   3091.8,   2.2034,  34.8892,2,     -999,9,    292.5,2,     -999,9,     -999,9,     -999,9
35TH20050604  ,AR07       ,76      ,  1,1          ,1          ,2,20050627,0945,  59.4833, -49.5318,     3351,   3436.8,   1.4835,  34.8745,2,  34.8778,2,    301.9,2,    302.2,6,     -999,9,     -999,9
35TH20050604  ,AR07       ,77      ,  1,22         ,22         ,2,20050627,1450,  59.0507, -49.9684,     3420,      9.9,   6.2391,  34.6596,2,     -999,9,    312.5,2,     -999,9,     -999,9,     -999,9
35TH20050604  ,AR07       ,77      ,  1,21         ,21         ,2,20050627,1450,  59.0507, -49.9684,     3420,      9.9,   6.2391,  34.6596,2,     -999,9,    312.5,2,    314.1,2,    4.412,2,    2.427,2
35TH20050604  ,AR07       ,77      ,  1,20         ,20         ,2,20050627,1450,  59.0507, -49.9684,     3420,    318.1,   4.1102,  34.8880,2,     -999,9,    297.9,2,     -999,9,    4.315,2,    2.380,2
35TH20050604  ,AR07       ,77      ,  1,19         ,19         ,2,20050627,1450,  59.0507, -49.9684,     3420,    529.0,   3.6976,  34.8700,2,     -999,9,    300.6,2,    302.5,6,    4.491,2,    2.447,2
35TH20050604  ,AR07       ,77      ,  1,18         ,18         ,2,20050627,1450,  59.0507, -49.9684,     3420,    718.9,   3.5750,  34.8635,2,     -999,9,    300.8,2,     -999,9,    4.439,2,    2.400,2
35TH20050604  ,AR07       ,77      ,  1,17         ,17         ,2,20050627,1450,  59.0507, -49.9684,     3420,    801.7,   3.5241,  34.8589,2,     -999,9,    302.4,2,     -999,9,    4.535,2,    2.454,2
35TH20050604  ,AR07       ,77      ,  1,16         ,16         ,2,20050627,1450,  59.0507, -49.9684,     3420,    911.3,   3.4916,  34.8575,2,     -999,9,    302.1,2,     -999,9,    4.478,2,    2.364,2
35TH20050604  ,AR07       ,77      ,  1,15         ,15         ,2,20050627,1450,  59.0507, -49.9684,     3420,   1028.9,   3.4831,  34.8575,2,     -999,9,    301.7,2,     -999,9,    4.438,2,    2.375,2
35TH20050604  ,AR07       ,77      ,  1,14         ,14         ,2,20050627,1450,  59.0507, -49.9684,     3420,   1122.5,   3.4711,  34.8571,2,  34.8592,2,    300.5,2,    303.1,2,    4.308,2,    2.289,2
35TH20050604  ,AR07       ,77      ,  1,13         ,13         ,2,20050627,1450,  59.0507, -49.9684,     3420,   1189.7,   3.4649,  34.8585,2,     -999,9,    297.4,2,     -999,9,    4.317,2,    2.310,2
35TH20050604  ,AR07       ,77      ,  1,12         ,12         ,2,20050627,1450,  59.0507, -49.9684,     3420,   1376.9,   3.4146,  34.8593,2,     -999,9,    293.8,2,     -999,9,    4.178,2,    2.183,2
35TH20050604  ,AR07       ,77      ,  1,11         ,11         ,2,20050627,1450,  59.0507, -49.9684,     3420,   1605.6,   3.5226,  34.8950,2,     -999,9,    282.8,2,    280.4,2,    3.496,2,    1.760,2
35TH20050604  ,AR07       ,77      ,  1,10         ,10         ,2,20050627,1450,  59.0507, -49.9684,     3420,   1806.9,   3.3894,  34.8963,2,     -999,9,    283.1,2,     -999,9,     -999,9,     -999,9
35TH20050604  ,AR07       ,77      ,  1,9          ,9          ,2,20050627,1450,  59.0507, -49.9684,     3420,   2009.2,   3.2416,  34.8934,2,     -999,9,    285.5,2,     -999,9,    3.182,2,    1.565,2
35TH20050604  ,AR07       ,77      ,  1,8          ,8          ,2,20050627,1450,  59.0507, -49.9684,     3420,   2146.9,   3.1663,  34.8968,2,     -999,9,    285.6,2,     -999,9,     -999,9,     -999,9
35TH20050604  ,AR07       ,77      ,  1,7          ,7          ,2,20050627,1450,  59.0507, -49.9684,     3420,   2298.1,   3.0908,  34.9010,2,     -999,9,    285.4,2,    283.0,2,    2.947,2,    1.452,2
35TH20050604  ,AR07       ,77      ,  1,6          ,6          ,2,20050627,1450,  59.0507, -49.9684,     3420,   2446.3,   3.0068,  34.9044,2,  34.9098,2,    285.2,2,     -999,9,     -999,9,     -999,9
35TH20050604  ,AR07       ,77      ,  1,5          ,5          ,2,20050627,1450,  59.0507, -49.9684,     3420,   2596.1,   2.9071,  34.9073,2,     -999,9,    284.6,2,     -999,9,    2.686,2,    1.354,2
35TH20050604  ,AR07       ,77      ,  1,4          ,4          ,2,20050627,1450,  59.0507, -49.9684,     3420,   2747.2,   2.7979,  34.9092,2,     -999,9,    284.8,2,     -999,9,     -999,9,     -999,9
35TH20050604  ,AR07       ,77      ,  1,3          ,3          ,2,20050627,1450,  59.0507, -49.9684,     3420,   2886.7,   2.6701,  34.9094,2,     -999,9,    285.2,2,    282.9,2,    2.587,2,    1.306,2
35TH20050604  ,AR07       ,77      ,  1,2          ,2          ,2,20050627,1450,  59.0507, -49.9684,     3420,   3200.0,   2.2476,  34.8919,2,     -999,9,    290.6,2,     -999,9,    2.799,2,    1.347,3
35TH20050604  ,AR07       ,77      ,  1,1          ,1          ,2,20050627,1450,  59.0507, -49.9684,     3420,   3511.4,   1.5068,  34.8761,2,  34.8768,2,    302.7,2,    301.3,2,    3.934,2,    1.992,2
35TH20050604  ,AR07       ,78      ,  1,22         ,22         ,2,20050627,1941,  58.6310, -50.4120,     3469,     11.7,   6.4128,  34.6831,2,     -999,9,    309.5,2,     -999,9,     -999,9,     -999,9
35TH20050604  ,AR07       ,78      ,  1,21         ,21         ,2,20050627,1941,  58.6310, -50.4120,     3469,     12.8,   6.4003,  34.6817,2,     -999,9,    309.6,2,     -999,9,    4.501,2,    2.472,2
35TH20050604  ,AR07       ,78      ,  1,20         ,20         ,2,20050627,1941,  58.6310, -50.4120,     3469,    186.8,   4.2810,  34.8857,2,     -999,9,    301.0,2,    298.2,2,     -999,9,     -999,9
35TH20050604  ,AR07       ,78      ,  1,19         ,19         ,2,20050627,1941,  58.6310, -50.4120,     3469,    399.3,   3.9007,  34.8763,2,     -999,9,    298.3,2,     -999,9,     -999,9,     -999,9
35TH20050604  ,AR07       ,78      ,  1,18         ,18         ,2,20050627,1941,  58.6310, -50.4120,     3469,    571.5,   3.6355,  34.8657,2,  34.8700,2,    301.8,2,     -999,9,    4.420,2,    2.383,2
35TH20050604  ,AR07       ,78      ,  1,17         ,17         ,2,20050627,1941,  58.6310, -50.4120,     3469,    770.0,   3.5247,  34.8583,2,     -999,9,    303.9,2,    301.1,2,    4.464,2,    2.403,2
35TH20050604  ,AR07       ,78      ,  1,16         ,16         ,2,20050627,1941,  58.6310, -50.4120,     3469,    998.4,   3.4760,  34.8558,2,     -999,9,    302.6,2,     -999,9,     -999,9,     -999,9
35TH20050604  ,AR07       ,78      ,  1,15         ,15         ,2,20050627,1941,  58.6310, -50.4120,     3469,   1067.8,   3.4656,  34.8545,2,     -999,9,    303.1,2,     -999,9,    4.492,2,    2.431,2
35TH20050604  ,AR07       ,78      ,  1,14         ,14         ,2,20050627,1941,  58.6310, -50.4120,     3469,   1170.3,   3.4613,  34.8544,2,     -999,9,    302.1,2,     -999,9,    4.472,2,    2.399,2
35TH20050604  ,AR07       ,78      ,  1,13         ,13         ,2,20050627,1941,  58.6310, -50.4120,     3469,   1397.7,   3.4311,  34.8578,2,     -999,9,    295.1,2,    293.8,2,    4.219,2,    2.184,2
35TH20050604  ,AR07       ,78      ,  1,12         ,12         ,2,20050627,1941,  58.6310, -50.4120,     3469,   1601.6,   3.5012,  34.8816,2,     -999,9,    286.7,2,     -999,9,    3.808,2,    1.940,2
35TH20050604  ,AR07       ,78      ,  1,11         ,11         ,2,20050627,1941,  58.6310, -50.4120,     3469,   1892.1,   3.4025,  34.8984,2,     -999,9,    283.1,2,     -999,9,    3.340,2,    1.667,2
35TH20050604  ,AR07       ,78      ,  1,10         ,10         ,2,20050627,1941,  58.6310, -50.4120,     3469,   2051.2,   3.2968,  34.8961,2,     -999,9,    285.4,2,    282.1,3,     -999,9,     -999,9
35TH20050604  ,AR07       ,78      ,  1,9          ,9          ,2,20050627,1941,  58.6310, -50.4120,     3469,   2198.0,   3.1969,  34.8961,2,     -999,9,    286.2,2,     -999,9,    3.205,2,    1.594,2
35TH20050604  ,AR07       ,78      ,  1,8          ,8          ,2,20050627,1941,  58.6310, -50.4120,     3469,   2353.3,   3.1021,  34.8996,2,     -999,9,    286.1,2,     -999,9,     -999,9,     -999,9
35TH20050604  ,AR07       ,78      ,  1,7          ,7          ,2,20050627,1941,  58.6310, -50.4120,     3469,   2499.7,   3.0129,  34.9031,2,     -999,9,    285.7,2,     -999,9,     -999,9,     -999,9
35TH20050604  ,AR07       ,78      ,  1,6          ,6          ,2,20050627,1941,  58.6310, -50.4120,     3469,   2654.0,   2.9038,  34.9052,2,     -999,9,    285.6,2,     -999,9,    2.867,2,    1.443,2
35TH20050604  ,AR07       ,78      ,  1,5          ,5          ,2,20050627,1941,  58.6310, -50.4120,     3469,   2794.7,   2.7622,  34.9070,2,     -999,9,    286.6,2,    283.7,6,    2.611,2,    1.322,2
35TH20050604  ,AR07       ,78      ,  1,4          ,4          ,2,20050627,1941,  58.6310, -50.4120,     3469,   2947.8,   2.6519,  34.9111,2,     -999,9,    285.2,2,     -999,9,     -999,9,     -999,9
35TH20050604  ,AR07       ,78      ,  1,3          ,3          ,2,20050627,1941,  58.6310, -50.4120,     3469,   3106.6,   2.4622,  34.9040,2,     -999,9,    286.7,2,     -999,9,    2.567,2,    1.270,2
35TH20050604  ,AR07       ,78      ,  1,2          ,2          ,2,20050627,1941,  58.6310, -50.4120,     3469,   3246.6,   2.2195,  34.8906,2,     -999,9,    291.0,2,     -999,9,     -999,9,     -999,9
35TH20050604  ,AR07       ,78      ,  1,1          ,1          ,2,20050627,1941,  58.6310, -50.4120,     3469,   3565.6,   1.5308,  34.8765,2,  34.8784,2,    303.6,2,    302.8,2,    3.931,2,    2.015,2
35TH20050604  ,AR07       ,79      ,  1,22         ,22         ,2,20050628,0043,  58.2171, -50.8828,     3500,     28.9,   6.5997,  34.7236,2,     -999,9,    315.8,2,     -999,9,     -999,9,     -999,9
35TH20050604  ,AR07       ,79      ,  1,21         ,21         ,2,20050628,0043,  58.2171, -50.8828,     3500,     29.1,   6.5979,  34.7247,2,     -999,9,    315.8,2,    315.4,2,    4.453,2,    2.469,2
35TH20050604  ,AR07       ,79      ,  1,20         ,20         ,2,20050628,0043,  58.2171, -50.8828,     3500,    316.6,   3.7746,  34.8694,2,     -999,9,    301.8,2,    298.1,2,    4.475,2,    2.468,2
35TH20050604  ,AR07       ,79      ,  1,19         ,19         ,2,20050628,0043,  58.2171, -50.8828,     3500,    515.6,   3.5643,  34.8594,2,     -999,9,    304.8,2,     -999,9,     -999,9,     -999,9
35TH20050604  ,AR07       ,79      ,  1,18         ,18         ,2,20050628,0043,  58.2171, -50.8828,     3500,    697.7,   3.4755,  34.8516,2,     -999,9,    305.6,2,    305.6,2,    4.451,2,    2.444,2
35TH20050604  ,AR07       ,79      ,  1,17         ,17         ,2,20050628,0043,  58.2171, -50.8828,     3500,    824.4,   3.4969,  34.8557,2,  34.8615,2,    306.2,2,     -999,9,    4.432,2,    2.427,2
35TH20050604  ,AR07       ,79      ,  1,16         ,16         ,2,20050628,0043,  58.2171, -50.8828,     3500,   1047.7,   3.4485,  34.8503,2,     -999,9,    304.0,2,     -999,9,    4.505,2,    2.457,2
35TH20050604  ,AR07       ,79      ,  1,15         ,15         ,2,20050628,0043,  58.2171, -50.8828,     3500,   1220.1,   3.4560,  34.8545,2,     -999,9,    299.7,2,     -999,9,     -999,9,     -999,9
35TH20050604  ,AR07       ,79      ,  1,14         ,14         ,2,20050628,0043,  58.2171, -50.8828,     3500,   1298.1,   3.4380,  34.8538,2,     -999,9,    294.9,2,    295.5,2,    4.330,2,    2.330,2
35TH20050604  ,AR07       ,79      ,  1,13         ,13         ,2,20050628,0043,  58.2171, -50.8828,     3500,   1498.0,   3.4108,  34.8587,2,     -999,9,    292.8,2,     -999,9,    4.113,2,    2.175,2
35TH20050604  ,AR07       ,79      ,  1,12         ,12         ,2,20050628,0043,  58.2171, -50.8828,     3500,   1691.8,   3.4979,  34.8889,2,     -999,9,    283.9,2,     -999,9,    3.491,2,    1.806,2
35TH20050604  ,AR07       ,79      ,  1,11         ,11         ,2,20050628,0043,  58.2171, -50.8828,     3500,   1851.9,   3.4155,  34.8953,2,     -999,9,    283.0,2,    280.3,6,    3.266,2,    1.633,2
35TH20050604  ,AR07       ,79      ,  1,10         ,10         ,2,20050628,0043,  58.2171, -50.8828,     3500,   1998.1,   3.2974,  34.8907,2,     -999,9,    285.2,2,     -999,9,    3.151,2,    1.561,2
35TH20050604  ,AR07       ,79      ,  1,9          ,9          ,2,20050628,0043,  58.2171, -50.8828,     3500,   2147.2,   3.2008,  34.8897,2,     -999,9,    286.7,2,     -999,9,     -999,9,     -999,9
35TH20050604  ,AR07       ,79      ,  1,8          ,8          ,2,20050628,0043,  58.2171, -50.8828,     3500,   2297.1,   3.1301,  34.8949,2,  34.8988,2,    286.2,2,     -999,9,    2.979,2,    1.494,2
35TH20050604  ,AR07       ,79      ,  1,7          ,7          ,2,20050628,0043,  58.2171, -50.8828,     3500,   2448.1,   3.0589,  34.9010,2,     -999,9,    285.6,2,     -999,9,    2.794,2,    1.402,2
35TH20050604  ,AR07       ,79      ,  1,6          ,6          ,2,20050628,0043,  58.2171, -50.8828,     3500,   2599.5,   2.9619,  34.9050,2,     -999,9,    285.3,2,    282.7,2,    2.690,2,    1.353,2
35TH20050604  ,AR07       ,79      ,  1,5          ,5          ,2,20050628,0043,  58.2171, -50.8828,     3500,   2742.2,   2.8458,  34.9075,2,     -999,9,    285.0,2,     -999,9,     -999,9,     -999,9
35TH20050604  ,AR07       ,79      ,  1,4          ,4          ,2,20050628,0043,  58.2171, -50.8828,     3500,   2892.9,   2.7559,  34.9144,2,     -999,9,    284.3,2,     -999,9,    2.463,2,    1.228,2
35TH20050604  ,AR07       ,79      ,  1,3          ,3          ,2,20050628,0043,  58.2171, -50.8828,     3500,   2901.1,   2.7480,  34.9147,2,     -999,9,    284.1,2,     -999,9,     -999,9,     -999,9
35TH20050604  ,AR07       ,79      ,  1,2          ,2          ,2,20050628,0043,  58.2171, -50.8828,     3500,   3196.3,   2.3621,  34.8962,2,     -999,9,    289.3,2,     -999,9,    3.251,2,    1.622,2
35TH20050604  ,AR07       ,79      ,  1,1          ,1          ,2,20050628,0043,  58.2171, -50.8828,     3500,   3589.9,   1.4513,  34.8750,2,  34.8760,2,    305.2,2,    304.1,2,    3.983,2,    2.051,2