BOTTLE,20240221CCHSIOADS
EXPOCODE,SECT_ID,STNNBR,CASTNO,SAMPNO,BTLNBR,BTLNBR_FLAG_W,DATE,TIME,LATITUDE,LONGITUDE,DEPTH,CTDPRS,CTDTMP,CTDSAL,CTDSAL_FLAG_W,SALNTY,SALNTY_FLAG_W,CTDOXY,CTDOXY_FLAG_W,OXYGEN,OXYGEN_FLAG_W,CFC-11,CFC-11_FLAG_W,CFC-12,CFC-12_FLAG_W
,,,,,,,,,,,METERS,DBAR,ITS-90,PSS-78,,PSS-78,,UMOL/KG,,UMOL/KG,,PMOL/KG,,PMOL/KG,
35TH20050604  ,AR07       ,93      ,  1,22         ,22         ,2,20050701,1224,  55.6332, -43.7829,     3310,      6.3,   8.8146,  34.7042,2,     -999,9,    298.1,2,     -999,9,     -999,9,     -999,9
35TH20050604  ,AR07       ,93      ,  1,21         ,21         ,2,20050701,1224,  55.6332, -43.7829,     3310,      6.3,   8.8146,  34.7042,2,     -999,9,    298.1,2,    298.7,2,    3.960,2,    2.205,2
35TH20050604  ,AR07       ,93      ,  1,20         ,20         ,2,20050701,1224,  55.6332, -43.7829,     3310,     94.4,   4.4248,  34.7543,2,     -999,9,    301.5,2,     -999,9,     -999,9,     -999,9
35TH20050604  ,AR07       ,93      ,  1,19         ,19         ,2,20050701,1224,  55.6332, -43.7829,     3310,    304.3,   4.1481,  34.8804,2,     -999,9,    285.0,2,    287.3,2,    4.172,2,    2.248,2
35TH20050604  ,AR07       ,93      ,  1,18         ,18         ,2,20050701,1224,  55.6332, -43.7829,     3310,    517.9,   3.8999,  34.8866,2,     -999,9,    283.3,2,     -999,9,    4.062,2,    2.152,2
35TH20050604  ,AR07       ,93      ,  1,17         ,17         ,2,20050701,1224,  55.6332, -43.7829,     3310,    682.3,   3.6126,  34.8688,2,     -999,9,    289.1,2,    284.7,3,    4.036,2,    2.090,2
35TH20050604  ,AR07       ,93      ,  1,16         ,16         ,2,20050701,1224,  55.6332, -43.7829,     3310,    898.6,   3.4271,  34.8564,2,     -999,9,    291.6,2,     -999,9,    3.999,2,    2.062,2
35TH20050604  ,AR07       ,93      ,  1,15         ,15         ,2,20050701,1224,  55.6332, -43.7829,     3310,    999.6,   3.3818,  34.8542,2,     -999,9,    292.7,2,     -999,9,    4.209,2,    2.186,2
35TH20050604  ,AR07       ,93      ,  1,14         ,14         ,2,20050701,1224,  55.6332, -43.7829,     3310,   1076.8,   3.4009,  34.8630,2,     -999,9,    290.1,2,    289.6,6,    4.067,2,    2.099,2
35TH20050604  ,AR07       ,93      ,  1,13         ,13         ,2,20050701,1224,  55.6332, -43.7829,     3310,   1298.3,   3.4638,  34.8915,2,  34.8967,2,    281.9,2,     -999,9,    3.404,2,    1.699,2
35TH20050604  ,AR07       ,93      ,  1,12         ,12         ,2,20050701,1224,  55.6332, -43.7829,     3310,   1490.5,   3.3544,  34.8930,2,     -999,9,    282.4,2,     -999,9,    3.225,2,    1.594,2
35TH20050604  ,AR07       ,93      ,  1,11         ,11         ,2,20050701,1224,  55.6332, -43.7829,     3310,   1697.2,   3.2024,  34.8879,2,     -999,9,    285.3,2,     -999,9,    3.125,2,    1.520,2
35TH20050604  ,AR07       ,93      ,  1,10         ,10         ,2,20050701,1224,  55.6332, -43.7829,     3310,   1894.9,   3.1087,  34.8897,2,     -999,9,    285.7,2,    285.0,2,     -999,9,     -999,9
35TH20050604  ,AR07       ,93      ,  1,9          ,9          ,2,20050701,1224,  55.6332, -43.7829,     3310,   2297.3,   2.9732,  34.9068,2,     -999,9,    282.7,2,     -999,9,     -999,9,     -999,9
35TH20050604  ,AR07       ,93      ,  1,8          ,8          ,2,20050701,1224,  55.6332, -43.7829,     3310,   2497.4,   2.8835,  34.9153,2,     -999,9,    282.0,2,    280.6,2,    2.332,2,    1.149,2
35TH20050604  ,AR07       ,93      ,  1,7          ,7          ,2,20050701,1224,  55.6332, -43.7829,     3310,   2596.8,   2.8444,  34.9193,2,     -999,9,    281.4,2,     -999,9,    2.298,2,    1.123,2
35TH20050604  ,AR07       ,93      ,  1,6          ,6          ,2,20050701,1224,  55.6332, -43.7829,     3310,   2695.8,   2.8020,  34.9229,2,     -999,9,    280.8,2,     -999,9,     -999,9,     -999,9
35TH20050604  ,AR07       ,93      ,  1,5          ,5          ,2,20050701,1224,  55.6332, -43.7829,     3310,   2805.8,   2.7364,  34.9237,2,     -999,9,    280.6,2,     -999,9,    2.205,2,    1.075,2
35TH20050604  ,AR07       ,93      ,  1,4          ,4          ,2,20050701,1224,  55.6332, -43.7829,     3310,   2889.9,   2.6628,  34.9203,2,  34.9222,2,    281.0,2,    280.7,2,    2.143,2,    1.049,2
35TH20050604  ,AR07       ,93      ,  1,3          ,3          ,2,20050701,1224,  55.6332, -43.7829,     3310,   2997.4,   2.5751,  34.9163,2,     -999,9,    281.3,2,     -999,9,    2.276,3,    1.162,3
35TH20050604  ,AR07       ,93      ,  1,2          ,2          ,2,20050701,1224,  55.6332, -43.7829,     3310,   3096.4,   2.4831,  34.9105,2,     -999,9,    282.0,2,     -999,9,    2.201,2,    1.077,2
35TH20050604  ,AR07       ,93      ,  1,1          ,1          ,2,20050701,1224,  55.6332, -43.7829,     3310,   3318.9,   2.2454,  34.8989,2,  34.9012,2,    285.3,2,    285.4,2,    2.648,2,    1.310,2
35TH20050604  ,AR07       ,94      ,  1,22         ,22         ,2,20050701,1822,  56.2670, -43.7726,     3427,      9.0,   7.9870,  34.7318,2,     -999,9,    304.8,2,     -999,9,     -999,9,     -999,9
35TH20050604  ,AR07       ,94      ,  1,21         ,21         ,2,20050701,1822,  56.2670, -43.7726,     3427,      9.0,   7.9870,  34.7318,2,     -999,9,    304.8,2,    303.5,6,    4.136,2,    2.304,2
35TH20050604  ,AR07       ,94      ,  1,20         ,20         ,2,20050701,1822,  56.2670, -43.7726,     3427,    193.3,   4.1388,  34.8554,2,     -999,9,    289.2,2,     -999,9,    4.225,2,    2.190,2
35TH20050604  ,AR07       ,94      ,  1,19         ,19         ,2,20050701,1822,  56.2670, -43.7726,     3427,    397.5,   3.8882,  34.8744,2,     -999,9,    291.1,2,     -999,9,    4.087,2,    2.107,2
35TH20050604  ,AR07       ,94      ,  1,18         ,18         ,2,20050701,1822,  56.2670, -43.7726,     3427,    599.1,   3.6406,  34.8612,2,  34.8650,2,    296.5,2,    301.5,3,    4.367,2,    2.310,2
35TH20050604  ,AR07       ,94      ,  1,17         ,17         ,2,20050701,1822,  56.2670, -43.7726,     3427,    755.7,   3.5690,  34.8607,2,     -999,9,    293.9,2,     -999,9,    4.181,2,    2.178,2
35TH20050604  ,AR07       ,94      ,  1,16         ,16         ,2,20050701,1822,  56.2670, -43.7726,     3427,   1001.4,   3.4380,  34.8555,2,     -999,9,    291.8,2,    292.1,2,    4.321,2,    2.265,2
35TH20050604  ,AR07       ,94      ,  1,15         ,15         ,2,20050701,1822,  56.2670, -43.7726,     3427,   1124.4,   3.3833,  34.8533,2,     -999,9,    291.5,2,     -999,9,    4.250,2,    2.232,2
35TH20050604  ,AR07       ,94      ,  1,14         ,14         ,2,20050701,1822,  56.2670, -43.7726,     3427,   1270.7,   3.4293,  34.8694,2,     -999,9,    287.5,2,     -999,9,    3.953,2,    2.045,2
35TH20050604  ,AR07       ,94      ,  1,13         ,13         ,2,20050701,1822,  56.2670, -43.7726,     3427,   1504.0,   3.4549,  34.8934,2,     -999,9,    281.7,2,    281.1,2,    3.365,2,    1.683,2
35TH20050604  ,AR07       ,94      ,  1,12         ,12         ,2,20050701,1822,  56.2670, -43.7726,     3427,   1596.7,   3.3967,  34.8917,2,     -999,9,    282.1,2,     -999,9,    3.265,2,    1.632,2
35TH20050604  ,AR07       ,94      ,  1,11         ,11         ,2,20050701,1822,  56.2670, -43.7726,     3427,   1712.3,   3.3256,  34.8902,2,     -999,9,    283.2,2,     -999,9,    3.251,2,    1.626,2
35TH20050604  ,AR07       ,94      ,  1,10         ,10         ,2,20050701,1822,  56.2670, -43.7726,     3427,   1898.6,   3.2027,  34.8865,2,     -999,9,    285.7,2,     -999,9,    3.152,2,    1.541,2
35TH20050604  ,AR07       ,94      ,  1,9          ,9          ,2,20050701,1822,  56.2670, -43.7726,     3427,   2090.2,   3.1242,  34.8905,2,     -999,9,    285.9,2,     -999,9,    2.833,2,    1.371,2
35TH20050604  ,AR07       ,94      ,  1,8          ,8          ,2,20050701,1822,  56.2670, -43.7726,     3427,   2097.4,   3.1245,  34.8911,2,     -999,9,    285.7,2,    284.4,2,     -999,9,     -999,9
35TH20050604  ,AR07       ,94      ,  1,7          ,7          ,2,20050701,1822,  56.2670, -43.7726,     3427,   2298.4,   3.0697,  34.9027,2,  34.9040,2,    284.0,2,     -999,9,    2.612,2,    1.274,2
35TH20050604  ,AR07       ,94      ,  1,6          ,6          ,2,20050701,1822,  56.2670, -43.7726,     3427,   2496.8,   2.9692,  34.9091,2,     -999,9,    282.7,2,     -999,9,    2.439,2,    1.208,2
35TH20050604  ,AR07       ,94      ,  1,5          ,5          ,2,20050701,1822,  56.2670, -43.7726,     3427,   2696.5,   2.8739,  34.9143,2,     -999,9,    281.9,2,    280.6,2,    2.355,2,    1.170,2
35TH20050604  ,AR07       ,94      ,  1,4          ,4          ,2,20050701,1822,  56.2670, -43.7726,     3427,   2907.9,   2.7587,  34.9204,2,     -999,9,    281.5,2,     -999,9,    2.264,2,    1.117,2
35TH20050604  ,AR07       ,94      ,  1,3          ,3          ,2,20050701,1822,  56.2670, -43.7726,     3427,   3096.0,   2.6064,  34.9183,2,     -999,9,    280.8,2,     -999,9,    2.080,2,    1.035,2
35TH20050604  ,AR07       ,94      ,  1,1          ,1          ,2,20050701,1822,  56.2670, -43.7726,     3427,   3479.4,   2.1535,  34.8933,2,     -999,9,    287.6,2,    287.9,2,     -999,9,     -999,9
35TH20050604  ,AR07       ,94      ,  1,2          ,2          ,2,20050701,1822,  56.2670, -43.7726,     3427,   3479.5,   2.1529,  34.8944,2,  34.8961,2,    287.7,2,    287.6,2,    2.861,2,    1.449,2
35TH20050604  ,AR07       ,95      ,  1,22         ,22         ,2,20050702,0037,  56.8992, -43.7675,     3362,     21.0,   8.5639,  34.7618,2,     -999,9,    299.4,2,     -999,9,     -999,9,     -999,9
35TH20050604  ,AR07       ,95      ,  1,21         ,21         ,2,20050702,0037,  56.8992, -43.7675,     3362,     21.0,   8.5639,  34.7618,2,  34.7665,2,    299.4,2,    297.8,2,    4.112,2,    2.248,2
35TH20050604  ,AR07       ,95      ,  1,20         ,20         ,2,20050702,0037,  56.8992, -43.7675,     3362,    203.4,   3.8896,  34.8284,2,     -999,9,    296.8,2,    293.5,6,    4.525,2,    2.370,2
35TH20050604  ,AR07       ,95      ,  1,19         ,19         ,2,20050702,0037,  56.8992, -43.7675,     3362,    369.7,   3.8876,  34.8805,2,     -999,9,    288.1,2,     -999,9,    4.121,2,    2.136,2
35TH20050604  ,AR07       ,95      ,  1,18         ,18         ,2,20050702,0037,  56.8992, -43.7675,     3362,    598.7,   3.6423,  34.8675,2,     -999,9,    291.8,2,     -999,9,    4.385,2,    2.277,2
35TH20050604  ,AR07       ,95      ,  1,17         ,17         ,2,20050702,0037,  56.8992, -43.7675,     3362,    826.0,   3.4705,  34.8588,2,     -999,9,    291.1,2,    293.0,2,    4.376,2,    2.247,2
35TH20050604  ,AR07       ,95      ,  1,16         ,16         ,2,20050702,0037,  56.8992, -43.7675,     3362,    897.1,   3.4188,  34.8537,2,     -999,9,    293.5,2,     -999,9,    4.419,2,    2.260,2
35TH20050604  ,AR07       ,95      ,  1,15         ,15         ,2,20050702,0037,  56.8992, -43.7675,     3362,    994.1,   3.3847,  34.8524,2,     -999,9,    292.2,2,     -999,9,    4.328,2,    2.183,2
35TH20050604  ,AR07       ,95      ,  1,14         ,14         ,2,20050702,0037,  56.8992, -43.7675,     3362,   1097.7,   3.3777,  34.8557,2,     -999,9,    291.9,2,     -999,9,    4.231,2,    2.131,2
35TH20050604  ,AR07       ,95      ,  1,13         ,13         ,2,20050702,0037,  56.8992, -43.7675,     3362,   1298.2,   3.4670,  34.8831,2,     -999,9,    284.0,2,    282.0,2,    3.608,2,    1.773,2
35TH20050604  ,AR07       ,95      ,  1,12         ,12         ,2,20050702,0037,  56.8992, -43.7675,     3362,   1498.5,   3.4087,  34.8939,2,  34.8981,2,    281.6,2,     -999,9,    3.342,2,    1.619,2
35TH20050604  ,AR07       ,95      ,  1,11         ,11         ,2,20050702,0037,  56.8992, -43.7675,     3362,   1700.8,   3.2541,  34.8868,2,     -999,9,    284.6,2,     -999,9,    3.256,2,    1.555,2
35TH20050604  ,AR07       ,95      ,  1,10         ,10         ,2,20050702,0037,  56.8992, -43.7675,     3362,   1895.3,   3.1584,  34.8869,2,     -999,9,    285.7,2,     -999,9,     -999,9,     -999,9
35TH20050604  ,AR07       ,95      ,  1,9          ,9          ,2,20050702,0037,  56.8992, -43.7675,     3362,   1896.8,   3.1574,  34.8862,2,     -999,9,    286.0,2,    283.7,2,    3.192,2,    1.501,2
35TH20050604  ,AR07       ,95      ,  1,8          ,8          ,2,20050702,0037,  56.8992, -43.7675,     3362,   2124.0,   3.1127,  34.8983,2,     -999,9,    284.2,2,     -999,9,    2.919,2,    1.397,2
35TH20050604  ,AR07       ,95      ,  1,7          ,7          ,2,20050702,0037,  56.8992, -43.7675,     3362,   2296.3,   3.0470,  34.9055,2,     -999,9,    283.4,2,     -999,9,    2.678,2,    1.280,2
35TH20050604  ,AR07       ,95      ,  1,6          ,6          ,2,20050702,0037,  56.8992, -43.7675,     3362,   2498.0,   2.9346,  34.9131,2,     -999,9,    282.0,2,    280.2,2,    2.440,2,    1.158,2
35TH20050604  ,AR07       ,95      ,  1,5          ,5          ,2,20050702,0037,  56.8992, -43.7675,     3362,   2709.0,   2.8506,  34.9177,2,     -999,9,    281.6,2,     -999,9,    2.374,2,    1.146,2
35TH20050604  ,AR07       ,95      ,  1,4          ,4          ,2,20050702,0037,  56.8992, -43.7675,     3362,   2896.9,   2.7422,  34.9236,2,  34.9242,2,    280.8,2,     -999,9,    2.278,2,    1.098,2
35TH20050604  ,AR07       ,95      ,  1,3          ,3          ,2,20050702,0037,  56.8992, -43.7675,     3362,   3107.5,   2.5419,  34.9140,2,     -999,9,    281.5,2,     -999,9,    2.223,4,    1.050,4
35TH20050604  ,AR07       ,95      ,  1,1          ,1          ,2,20050702,0037,  56.8992, -43.7675,     3362,   3437.2,   1.7984,  34.8822,2,  34.8851,2,    296.0,2,    296.2,2,    3.548,2,    1.752,2
35TH20050604  ,AR07       ,95      ,  1,2          ,2          ,2,20050702,0037,  56.8992, -43.7675,     3362,   3438.0,   1.8004,  34.8819,2,     -999,9,    295.6,2,    295.8,2,     -999,9,     -999,9
35TH20050604  ,AR07       ,96      ,  1,22         ,22         ,2,20050702,0658,  57.5344, -43.7583,     3385,     33.5,   7.5629,  34.7888,2,     -999,9,    302.1,2,     -999,9,     -999,9,     -999,9
35TH20050604  ,AR07       ,96      ,  1,21         ,21         ,2,20050702,0658,  57.5344, -43.7583,     3385,     33.5,   7.5629,  34.7888,2,     -999,9,    302.1,2,    302.1,2,    4.304,2,    2.344,2
35TH20050604  ,AR07       ,96      ,  1,20         ,20         ,2,20050702,0658,  57.5344, -43.7583,     3385,    104.2,   4.0535,  34.8300,2,     -999,9,    300.6,2,     -999,9,     -999,9,     -999,9
35TH20050604  ,AR07       ,96      ,  1,19         ,19         ,2,20050702,0658,  57.5344, -43.7583,     3385,    298.7,   3.7757,  34.8630,2,     -999,9,    303.4,2,     -999,9,    4.606,2,    2.450,2
35TH20050604  ,AR07       ,96      ,  1,18         ,18         ,2,20050702,0658,  57.5344, -43.7583,     3385,    467.8,   3.6164,  34.8542,2,     -999,9,    304.5,2,    301.8,6,    4.654,2,    2.447,2
35TH20050604  ,AR07       ,96      ,  1,17         ,17         ,2,20050702,0658,  57.5344, -43.7583,     3385,    696.2,   3.5675,  34.8562,2,     -999,9,    301.8,2,     -999,9,    4.704,2,    2.478,2
35TH20050604  ,AR07       ,96      ,  1,16         ,16         ,2,20050702,0658,  57.5344, -43.7583,     3385,    768.8,   3.5466,  34.8555,2,     -999,9,    300.8,2,     -999,9,    4.506,3,    2.264,3
35TH20050604  ,AR07       ,96      ,  1,15         ,15         ,2,20050702,0658,  57.5344, -43.7583,     3385,    891.0,   3.5128,  34.8554,2,     -999,9,    296.5,2,    297.9,2,    4.554,2,    2.354,2
35TH20050604  ,AR07       ,96      ,  1,14         ,14         ,2,20050702,0658,  57.5344, -43.7583,     3385,    994.8,   3.4666,  34.8545,2,     -999,9,    294.2,2,     -999,9,     -999,9,     -999,9
35TH20050604  ,AR07       ,96      ,  1,13         ,13         ,2,20050702,0658,  57.5344, -43.7583,     3385,   1048.0,   3.4390,  34.8535,2,     -999,9,    293.8,2,     -999,9,    4.272,2,    2.158,2
35TH20050604  ,AR07       ,96      ,  1,12         ,12         ,2,20050702,0658,  57.5344, -43.7583,     3385,   1172.8,   3.3818,  34.8497,2,     -999,9,    294.2,2,     -999,9,    4.218,2,    2.109,2
35TH20050604  ,AR07       ,96      ,  1,11         ,11         ,2,20050702,0658,  57.5344, -43.7583,     3385,   1401.5,   3.4299,  34.8673,2,     -999,9,    289.2,2,    287.8,2,    4.066,2,    2.025,2
35TH20050604  ,AR07       ,96      ,  1,10         ,10         ,2,20050702,0658,  57.5344, -43.7583,     3385,   1597.0,   3.4605,  34.8915,2,     -999,9,    282.4,2,     -999,9,    3.467,2,    1.678,2
35TH20050604  ,AR07       ,96      ,  1,9          ,9          ,2,20050702,0658,  57.5344, -43.7583,     3385,   1827.9,   3.3467,  34.8953,2,  34.8983,2,    283.4,2,     -999,9,    3.409,2,    1.623,2
35TH20050604  ,AR07       ,96      ,  1,8          ,8          ,2,20050702,0658,  57.5344, -43.7583,     3385,   1995.8,   3.2013,  34.8868,2,     -999,9,    285.8,2,    284.4,2,    3.219,2,    1.507,2
35TH20050604  ,AR07       ,96      ,  1,7          ,7          ,2,20050702,0658,  57.5344, -43.7583,     3385,   2196.0,   3.1204,  34.8941,2,     -999,9,    285.4,2,     -999,9,    3.054,2,    1.444,2
35TH20050604  ,AR07       ,96      ,  1,6          ,6          ,2,20050702,0658,  57.5344, -43.7583,     3385,   2397.6,   3.0891,  34.9099,2,     -999,9,    283.2,2,    279.4,3,     -999,9,     -999,9
35TH20050604  ,AR07       ,96      ,  1,5          ,5          ,2,20050702,0658,  57.5344, -43.7583,     3385,   2598.4,   2.9955,  34.9153,2,     -999,9,    282.4,2,     -999,9,    2.509,2,    1.189,2
35TH20050604  ,AR07       ,96      ,  1,4          ,4          ,2,20050702,0658,  57.5344, -43.7583,     3385,   2799.4,   2.8973,  34.9197,2,     -999,9,    281.9,2,     -999,9,    2.399,2,    1.148,2
35TH20050604  ,AR07       ,96      ,  1,3          ,3          ,2,20050702,0658,  57.5344, -43.7583,     3385,   3001.0,   2.7694,  34.9214,2,     -999,9,    282.0,2,     -999,9,    2.502,2,    1.226,2
35TH20050604  ,AR07       ,96      ,  1,2          ,2          ,2,20050702,0658,  57.5344, -43.7583,     3385,   3454.3,   1.4517,  34.8764,2,  34.8778,2,    301.4,2,    302.6,2,     -999,9,     -999,9
35TH20050604  ,AR07       ,96      ,  1,1          ,1          ,2,20050702,0658,  57.5344, -43.7583,     3385,   3455.4,   1.4510,  34.8763,2,     -999,9,    301.4,2,    302.1,2,    4.144,2,    2.061,2