BOTTLE,20240221CCHSIOADS
EXPOCODE,SECT_ID,STNNBR,CASTNO,SAMPNO,BTLNBR,BTLNBR_FLAG_W,DATE,TIME,LATITUDE,LONGITUDE,DEPTH,CTDPRS,CTDTMP,CTDSAL,CTDSAL_FLAG_W,SALNTY,SALNTY_FLAG_W,CTDOXY,CTDOXY_FLAG_W,OXYGEN,OXYGEN_FLAG_W,CFC-11,CFC-11_FLAG_W,CFC-12,CFC-12_FLAG_W
,,,,,,,,,,,METERS,DBAR,ITS-90,PSS-78,,PSS-78,,UMOL/KG,,UMOL/KG,,PMOL/KG,,PMOL/KG,
35TH20050604  ,AR07       ,121     ,  1,21         ,21         ,2,20050708,0324,  49.5242, -35.8823,     4295,     22.8,  12.5565,  34.8293,2,     -999,9,    282.8,2,    281.3,2,    3.265,6,    1.875,6
35TH20050604  ,AR07       ,121     ,  1,22         ,22         ,2,20050708,0324,  49.5242, -35.8823,     4295,     23.5,  12.5331,  34.8305,2,     -999,9,    282.9,2,     -999,9,     -999,9,     -999,9
35TH20050604  ,AR07       ,121     ,  1,20         ,20         ,2,20050708,0324,  49.5242, -35.8823,     4295,    214.3,   7.2349,  34.8382,2,     -999,9,    230.9,2,     -999,9,    3.224,2,    1.746,2
35TH20050604  ,AR07       ,121     ,  1,19         ,19         ,2,20050708,0324,  49.5242, -35.8823,     4295,    394.7,   5.2581,  34.8928,2,  34.8991,2,    238.7,2,    239.9,2,    3.104,2,    1.614,2
35TH20050604  ,AR07       ,121     ,  1,18         ,18         ,2,20050708,0324,  49.5242, -35.8823,     4295,    569.7,   4.3874,  34.9034,2,     -999,9,    266.7,2,     -999,9,    3.534,2,    1.828,2
35TH20050604  ,AR07       ,121     ,  1,17         ,17         ,2,20050708,0324,  49.5242, -35.8823,     4295,    776.2,   4.0350,  34.9044,2,     -999,9,    275.2,2,     -999,9,    3.589,2,    1.856,2
35TH20050604  ,AR07       ,121     ,  1,16         ,16         ,2,20050708,0324,  49.5242, -35.8823,     4295,    926.6,   3.8707,  34.8988,2,     -999,9,    278.8,2,    277.7,6,    3.838,2,    1.960,2
35TH20050604  ,AR07       ,121     ,  1,15         ,15         ,2,20050708,0324,  49.5242, -35.8823,     4295,    990.8,   3.7652,  34.8911,2,     -999,9,    280.3,2,     -999,9,    3.774,2,    1.944,2
35TH20050604  ,AR07       ,121     ,  1,14         ,14         ,2,20050708,0324,  49.5242, -35.8823,     4295,   1197.0,   3.6525,  34.8902,2,     -999,9,    279.9,2,     -999,9,    3.655,2,    1.859,2
35TH20050604  ,AR07       ,121     ,  1,13         ,13         ,2,20050708,0324,  49.5242, -35.8823,     4295,   1418.5,   3.5807,  34.8993,2,     -999,9,    278.1,2,     -999,9,    3.309,2,    1.652,2
35TH20050604  ,AR07       ,121     ,  1,12         ,12         ,2,20050708,0324,  49.5242, -35.8823,     4295,   1599.3,   3.5067,  34.9037,2,     -999,9,    277.3,2,    278.0,2,    2.988,2,    1.464,2
35TH20050604  ,AR07       ,121     ,  1,11         ,11         ,2,20050708,0324,  49.5242, -35.8823,     4295,   1714.1,   3.4400,  34.9027,2,  34.9059,2,    278.1,2,     -999,9,    2.906,2,    1.432,2
35TH20050604  ,AR07       ,121     ,  1,10         ,10         ,2,20050708,0324,  49.5242, -35.8823,     4295,   1803.2,   3.3870,  34.9003,2,     -999,9,    279.0,2,     -999,9,    2.854,2,    1.407,2
35TH20050604  ,AR07       ,121     ,  1,9          ,9          ,2,20050708,0324,  49.5242, -35.8823,     4295,   2010.8,   3.2616,  34.8944,2,     -999,9,    280.9,2,     -999,9,    2.878,2,    1.405,2
35TH20050604  ,AR07       ,121     ,  1,8          ,8          ,2,20050708,0324,  49.5242, -35.8823,     4295,   2297.3,   3.1415,  34.9001,2,     -999,9,    280.7,2,    282.3,2,    2.636,2,    1.293,2
35TH20050604  ,AR07       ,121     ,  1,7          ,7          ,2,20050708,0324,  49.5242, -35.8823,     4295,   2598.2,   3.0243,  34.9096,2,     -999,9,    279.5,2,     -999,9,    2.324,6,    1.134,6
35TH20050604  ,AR07       ,121     ,  1,6          ,6          ,2,20050708,0324,  49.5242, -35.8823,     4295,   2899.1,   2.8791,  34.9189,2,  34.9187,2,    277.5,2,     -999,9,    1.990,2,    0.964,2
35TH20050604  ,AR07       ,121     ,  1,5          ,5          ,2,20050708,0324,  49.5242, -35.8823,     4295,   3213.4,   2.7053,  34.9208,2,     -999,9,    276.3,2,    278.1,2,    1.806,2,    0.882,2
35TH20050604  ,AR07       ,121     ,  1,4          ,4          ,2,20050708,0324,  49.5242, -35.8823,     4295,   3512.7,   2.5050,  34.9101,2,     -999,9,    276.9,2,     -999,9,    1.764,2,    0.866,2
35TH20050604  ,AR07       ,121     ,  1,3          ,3          ,2,20050708,0324,  49.5242, -35.8823,     4295,   3808.8,   2.3534,  34.9009,2,     -999,9,    278.2,2,     -999,9,    1.844,2,    0.910,2
35TH20050604  ,AR07       ,121     ,  1,2          ,2          ,2,20050708,0324,  49.5242, -35.8823,     4295,   3997.1,   2.3080,  34.8972,2,     -999,9,    278.7,2,     -999,9,    1.941,2,    0.959,2
35TH20050604  ,AR07       ,121     ,  1,1          ,1          ,2,20050708,0324,  49.5242, -35.8823,     4295,   4357.0,   2.2481,  34.8928,2,  34.8955,2,    280.7,2,    285.2,3,    2.224,2,    1.109,2
35TH20050604  ,AR07       ,122     ,  1,21         ,21         ,2,20050708,1003,  49.5576, -36.8816,     4479,     12.7,  14.7811,  35.6535,2,     -999,9,    267.4,2,    269.1,2,    2.831,6,    1.640,6
35TH20050604  ,AR07       ,122     ,  1,22         ,22         ,2,20050708,1003,  49.5576, -36.8816,     4479,     13.9,  14.7698,  35.6459,2,     -999,9,    267.3,2,     -999,9,     -999,9,     -999,9
35TH20050604  ,AR07       ,122     ,  1,20         ,20         ,2,20050708,1003,  49.5576, -36.8816,     4479,    197.0,  13.1017,  35.6638,2,     -999,9,    234.6,2,    235.8,2,    2.766,2,    1.581,2
35TH20050604  ,AR07       ,122     ,  1,19         ,19         ,2,20050708,1003,  49.5576, -36.8816,     4479,    401.5,  10.2431,  35.2586,2,     -999,9,    190.6,2,     -999,9,    2.129,2,    1.152,2
35TH20050604  ,AR07       ,122     ,  1,18         ,18         ,2,20050708,1003,  49.5576, -36.8816,     4479,    611.8,   6.5630,  34.9549,2,     -999,9,    204.8,2,     -999,9,    2.400,2,    1.227,2
35TH20050604  ,AR07       ,122     ,  1,17         ,17         ,2,20050708,1003,  49.5576, -36.8816,     4479,    801.6,   4.7353,  34.9152,2,     -999,9,    256.7,2,    258.5,2,    3.381,2,    1.754,2
35TH20050604  ,AR07       ,122     ,  1,16         ,16         ,2,20050708,1003,  49.5576, -36.8816,     4479,    912.3,   4.3006,  34.9029,2,     -999,9,    271.1,2,     -999,9,    3.756,2,    1.954,2
35TH20050604  ,AR07       ,122     ,  1,15         ,15         ,2,20050708,1003,  49.5576, -36.8816,     4479,   1014.2,   4.2102,  34.9190,2,     -999,9,    269.0,2,     -999,9,    3.486,2,    1.812,2
35TH20050604  ,AR07       ,122     ,  1,14         ,14         ,2,20050708,1003,  49.5576, -36.8816,     4479,   1185.0,   3.9069,  34.9000,2,     -999,9,    278.2,2,    280.5,2,    3.721,2,    1.925,2
35TH20050604  ,AR07       ,122     ,  1,13         ,13         ,2,20050708,1003,  49.5576, -36.8816,     4479,   1397.4,   3.7383,  34.8965,2,     -999,9,    280.0,2,     -999,9,    3.602,2,    1.857,2
35TH20050604  ,AR07       ,122     ,  1,12         ,12         ,2,20050708,1003,  49.5576, -36.8816,     4479,   1473.5,   3.6407,  34.8902,2,     -999,9,    281.5,2,     -999,9,    3.676,2,    1.868,2
35TH20050604  ,AR07       ,122     ,  1,11         ,11         ,2,20050708,1003,  49.5576, -36.8816,     4479,   1597.9,   3.5964,  34.8923,2,     -999,9,    280.2,2,     -999,9,    3.547,2,    1.808,2
35TH20050604  ,AR07       ,122     ,  1,10         ,10         ,2,20050708,1003,  49.5576, -36.8816,     4479,   1778.5,   3.5447,  34.9002,2,     -999,9,    278.2,2,    279.9,6,     -999,9,     -999,9
35TH20050604  ,AR07       ,122     ,  1,9          ,9          ,2,20050708,1003,  49.5576, -36.8816,     4479,   1998.5,   3.4281,  34.9003,2,  34.9024,2,    278.8,2,     -999,9,    2.945,2,    1.440,2
35TH20050604  ,AR07       ,122     ,  1,8          ,8          ,2,20050708,1003,  49.5576, -36.8816,     4479,   2297.2,   3.2548,  34.8952,2,     -999,9,    281.0,2,     -999,9,    2.791,2,    1.354,2
35TH20050604  ,AR07       ,122     ,  1,7          ,7          ,2,20050708,1003,  49.5576, -36.8816,     4479,   2596.5,   3.1456,  34.9036,2,     -999,9,    280.3,2,    281.3,2,    2.524,2,    1.237,2
35TH20050604  ,AR07       ,122     ,  1,6          ,6          ,2,20050708,1003,  49.5576, -36.8816,     4479,   2903.0,   2.9916,  34.9110,2,     -999,9,    279.1,2,     -999,9,    2.274,2,    1.108,2
35TH20050604  ,AR07       ,122     ,  1,5          ,5          ,2,20050708,1003,  49.5576, -36.8816,     4479,   3197.0,   2.8044,  34.9145,2,  34.9160,2,    278.3,2,     -999,9,    2.072,2,    1.001,2
35TH20050604  ,AR07       ,122     ,  1,4          ,4          ,2,20050708,1003,  49.5576, -36.8816,     4479,   3500.5,   2.5915,  34.9122,2,     -999,9,    277.4,2,    280.0,2,    1.828,2,    0.892,2
35TH20050604  ,AR07       ,122     ,  1,3          ,3          ,2,20050708,1003,  49.5576, -36.8816,     4479,   3796.2,   2.3726,  34.9013,2,     -999,9,    277.2,2,     -999,9,    1.854,2,    0.891,2
35TH20050604  ,AR07       ,122     ,  1,2          ,2          ,2,20050708,1003,  49.5576, -36.8816,     4479,   4096.0,   2.2847,  34.8955,2,     -999,9,    278.8,2,     -999,9,    2.884,4,    1.670,4
35TH20050604  ,AR07       ,122     ,  1,1          ,1          ,2,20050708,1003,  49.5576, -36.8816,     4479,   4558.9,   2.2405,  34.8920,2,  34.8936,2,    281.9,2,    285.1,2,    2.478,2,    1.221,2
35TH20050604  ,AR07       ,123     ,  1,22         ,22         ,2,20050708,1615,  49.5936, -37.8860,     3869,     16.3,  14.7004,  35.5445,2,     -999,9,    261.9,2,     -999,9,     -999,9,     -999,9
35TH20050604  ,AR07       ,123     ,  1,21         ,21         ,2,20050708,1615,  49.5936, -37.8860,     3869,     17.9,  14.5833,  35.5610,2,     -999,9,    263.3,2,    265.7,2,    2.852,2,    1.627,2
35TH20050604  ,AR07       ,123     ,  1,20         ,20         ,2,20050708,1615,  49.5936, -37.8860,     3869,    200.4,  12.5748,  35.5862,2,  35.5847,2,    202.3,2,    243.1,4,    2.895,2,    1.648,2
35TH20050604  ,AR07       ,123     ,  1,19         ,19         ,2,20050708,1615,  49.5936, -37.8860,     3869,    422.8,  10.7384,  35.3268,2,     -999,9,    198.1,2,     -999,9,    2.643,2,    1.448,2
35TH20050604  ,AR07       ,123     ,  1,18         ,18         ,2,20050708,1615,  49.5936, -37.8860,     3869,    613.8,   7.1961,  35.0155,2,     -999,9,    193.3,2,    195.3,2,    2.174,2,    1.130,2
35TH20050604  ,AR07       ,123     ,  1,17         ,17         ,2,20050708,1615,  49.5936, -37.8860,     3869,    709.3,   5.9330,  34.9663,2,     -999,9,    215.6,2,     -999,9,    2.615,2,    1.343,2
35TH20050604  ,AR07       ,123     ,  1,16         ,16         ,2,20050708,1615,  49.5936, -37.8860,     3869,    795.7,   4.9782,  34.9247,2,     -999,9,    243.2,2,     -999,9,    3.122,2,    1.619,2
35TH20050604  ,AR07       ,123     ,  1,15         ,15         ,2,20050708,1615,  49.5936, -37.8860,     3869,    891.0,   4.5597,  34.9290,2,     -999,9,    257.9,2,    261.0,2,    3.392,2,    1.765,2
35TH20050604  ,AR07       ,123     ,  1,14         ,14         ,2,20050708,1615,  49.5936, -37.8860,     3869,    951.1,   4.3661,  34.9262,2,     -999,9,    261.7,2,     -999,9,    3.402,2,    1.779,2
35TH20050604  ,AR07       ,123     ,  1,13         ,13         ,2,20050708,1615,  49.5936, -37.8860,     3869,    953.4,   4.3642,  34.9234,2,     -999,9,    262.3,2,     -999,9,     -999,9,     -999,9
35TH20050604  ,AR07       ,123     ,  1,12         ,12         ,2,20050708,1615,  49.5936, -37.8860,     3869,   1217.9,   3.9345,  34.9088,2,  34.9099,2,    274.1,2,     -999,9,    3.537,2,    1.811,2
35TH20050604  ,AR07       ,123     ,  1,11         ,11         ,2,20050708,1615,  49.5936, -37.8860,     3869,   1317.6,   3.7991,  34.9020,2,     -999,9,    279.2,2,     -999,9,    3.664,2,    1.898,2
35TH20050604  ,AR07       ,123     ,  1,10         ,10         ,2,20050708,1615,  49.5936, -37.8860,     3869,   1512.6,   3.6414,  34.8941,2,     -999,9,    281.9,2,    283.5,6,    3.630,2,    1.867,2
35TH20050604  ,AR07       ,123     ,  1,9          ,9          ,2,20050708,1615,  49.5936, -37.8860,     3869,   1697.7,   3.5988,  34.9039,2,     -999,9,    276.0,2,     -999,9,    3.174,2,    1.603,2
35TH20050604  ,AR07       ,123     ,  1,8          ,8          ,2,20050708,1615,  49.5936, -37.8860,     3869,   1880.2,   3.4781,  34.9032,2,     -999,9,    277.1,2,     -999,9,    2.944,2,    1.453,2
35TH20050604  ,AR07       ,123     ,  1,7          ,7          ,2,20050708,1615,  49.5936, -37.8860,     3869,   2097.6,   3.3494,  34.8999,2,     -999,9,    278.8,2,    282.3,2,    2.857,6,    1.399,6
35TH20050604  ,AR07       ,123     ,  1,6          ,6          ,2,20050708,1615,  49.5936, -37.8860,     3869,   2395.5,   3.1907,  34.8997,2,     -999,9,    280.1,2,     -999,9,    2.705,2,    1.316,2
35TH20050604  ,AR07       ,123     ,  1,5          ,5          ,2,20050708,1615,  49.5936, -37.8860,     3869,   2713.0,   3.0890,  34.9111,2,  34.9107,2,    276.7,2,     -999,9,    2.342,2,    1.144,2
35TH20050604  ,AR07       ,123     ,  1,4          ,4          ,2,20050708,1615,  49.5936, -37.8860,     3869,   2993.0,   2.9028,  34.9198,2,     -999,9,    274.6,2,    276.7,2,    1.912,2,    0.938,2
35TH20050604  ,AR07       ,123     ,  1,3          ,3          ,2,20050708,1615,  49.5936, -37.8860,     3869,   3274.8,   2.7161,  34.9184,2,     -999,9,    273.6,2,     -999,9,    1.718,2,    0.836,2
35TH20050604  ,AR07       ,123     ,  1,2          ,2          ,2,20050708,1615,  49.5936, -37.8860,     3869,   3602.7,   2.4357,  34.9095,2,     -999,9,    275.4,2,     -999,9,    1.863,2,    0.907,2
35TH20050604  ,AR07       ,123     ,  1,1          ,1          ,2,20050708,1615,  49.5936, -37.8860,     3869,   3918.2,   2.2804,  34.8984,2,  34.8977,2,    276.2,2,    278.5,2,    1.989,2,    0.967,2
35TH20050604  ,AR07       ,124     ,  1,22         ,22         ,2,20050708,2204,  49.6245, -38.8804,     4267,     16.4,  13.3503,  34.9590,2,     -999,9,    277.5,2,     -999,9,     -999,9,     -999,9
35TH20050604  ,AR07       ,124     ,  1,21         ,21         ,2,20050708,2204,  49.6245, -38.8804,     4267,     16.4,  13.3503,  34.9590,2,     -999,9,    277.5,2,    276.0,2,    3.093,2,    1.774,2
35TH20050604  ,AR07       ,124     ,  1,20         ,20         ,2,20050708,2204,  49.6245, -38.8804,     4267,    116.3,  11.0438,  35.2293,2,     -999,9,    232.1,2,     -999,9,     -999,9,     -999,9
35TH20050604  ,AR07       ,124     ,  1,19         ,19         ,2,20050708,2204,  49.6245, -38.8804,     4267,    308.4,   6.2562,  34.7503,2,     -999,9,    210.4,2,     -999,9,    3.086,2,    1.638,2
35TH20050604  ,AR07       ,124     ,  1,18         ,18         ,2,20050708,2204,  49.6245, -38.8804,     4267,    444.9,   5.7243,  34.9626,2,     -999,9,    224.3,2,     -999,9,     -999,9,     -999,9
35TH20050604  ,AR07       ,124     ,  1,17         ,17         ,2,20050708,2204,  49.6245, -38.8804,     4267,    598.7,   4.3975,  34.8938,2,     -999,9,    269.7,2,     -999,9,    3.717,2,    1.931,2
35TH20050604  ,AR07       ,124     ,  1,16         ,16         ,2,20050708,2204,  49.6245, -38.8804,     4267,    726.1,   4.2225,  34.9127,2,     -999,9,    271.8,2,    272.6,2,     -999,9,     -999,9
35TH20050604  ,AR07       ,124     ,  1,15         ,15         ,2,20050708,2204,  49.6245, -38.8804,     4267,    902.2,   3.9731,  34.9054,2,     -999,9,    279.6,2,     -999,9,    3.672,2,    1.876,2
35TH20050604  ,AR07       ,124     ,  1,14         ,14         ,2,20050708,2204,  49.6245, -38.8804,     4267,   1046.7,   3.8669,  34.9052,2,     -999,9,    280.3,2,     -999,9,     -999,9,     -999,9
35TH20050604  ,AR07       ,124     ,  1,13         ,13         ,2,20050708,2204,  49.6245, -38.8804,     4267,   1093.8,   3.7973,  34.8990,2,     -999,9,    282.3,2,     -999,9,    3.657,2,    1.848,2
35TH20050604  ,AR07       ,124     ,  1,12         ,12         ,2,20050708,2204,  49.6245, -38.8804,     4267,   1241.4,   3.6923,  34.8944,2,     -999,9,    283.5,2,    282.8,2,     -999,9,     -999,9
35TH20050604  ,AR07       ,124     ,  1,11         ,11         ,2,20050708,2204,  49.6245, -38.8804,     4267,   1405.1,   3.6052,  34.8963,2,     -999,9,    280.8,2,     -999,9,    3.349,2,    1.665,2
35TH20050604  ,AR07       ,124     ,  1,10         ,10         ,2,20050708,2204,  49.6245, -38.8804,     4267,   1496.9,   3.5921,  34.9019,2,     -999,9,    281.4,2,     -999,9,     -999,9,     -999,9
35TH20050604  ,AR07       ,124     ,  1,9          ,9          ,2,20050708,2204,  49.6245, -38.8804,     4267,   1717.6,   3.4792,  34.9030,2,  34.9085,2,    281.0,2,    280.0,2,    2.910,2,    1.417,2
35TH20050604  ,AR07       ,124     ,  1,8          ,8          ,2,20050708,2204,  49.6245, -38.8804,     4267,   1997.4,   3.2866,  34.8962,2,     -999,9,    283.5,2,     -999,9,    2.874,2,    1.392,2
35TH20050604  ,AR07       ,124     ,  1,7          ,7          ,2,20050708,2204,  49.6245, -38.8804,     4267,   2297.0,   3.1333,  34.9010,2,     -999,9,    284.3,2,    284.0,6,    2.758,2,    1.323,2
35TH20050604  ,AR07       ,124     ,  1,6          ,6          ,2,20050708,2204,  49.6245, -38.8804,     4267,   2596.8,   2.9867,  34.9093,2,     -999,9,    283.0,2,     -999,9,    2.414,2,    1.167,2
35TH20050604  ,AR07       ,124     ,  1,5          ,5          ,2,20050708,2204,  49.6245, -38.8804,     4267,   2894.8,   2.8145,  34.9138,2,     -999,9,    282.6,2,     -999,9,    2.263,2,    1.089,2
35TH20050604  ,AR07       ,124     ,  1,4          ,4          ,2,20050708,2204,  49.6245, -38.8804,     4267,   3196.6,   2.5778,  34.9107,2,  34.9113,2,    281.6,2,     -999,9,    2.080,2,    1.010,2
35TH20050604  ,AR07       ,124     ,  1,3          ,3          ,2,20050708,2204,  49.6245, -38.8804,     4267,   3496.2,   2.3195,  34.9008,2,     -999,9,    283.3,2,    285.7,2,    2.187,2,    1.058,2
35TH20050604  ,AR07       ,124     ,  1,2          ,2          ,2,20050708,2204,  49.6245, -38.8804,     4267,   3795.7,   2.1676,  34.8927,2,     -999,9,    284.5,2,     -999,9,    2.307,2,    1.126,2
35TH20050604  ,AR07       ,124     ,  1,1          ,1          ,2,20050708,2204,  49.6245, -38.8804,     4267,   4325.2,   1.9513,  34.8872,2,  34.8857,2,    293.3,2,    294.6,2,    3.347,2,    1.660,2