BOTTLE,20240221CCHSIOADS
EXPOCODE,SECT_ID,STNNBR,CASTNO,SAMPNO,BTLNBR,BTLNBR_FLAG_W,DATE,TIME,LATITUDE,LONGITUDE,DEPTH,CTDPRS,CTDTMP,CTDSAL,CTDSAL_FLAG_W,SALNTY,SALNTY_FLAG_W,CTDOXY,CTDOXY_FLAG_W,OXYGEN,OXYGEN_FLAG_W,CFC-11,CFC-11_FLAG_W,CFC-12,CFC-12_FLAG_W
,,,,,,,,,,,METERS,DBAR,ITS-90,PSS-78,,PSS-78,,UMOL/KG,,UMOL/KG,,PMOL/KG,,PMOL/KG,
35TH20050604  ,AR07       ,59      ,  1,20         ,20         ,2,20050624,0117,  61.5994, -58.5911,     2414,     74.9,   3.6646,  34.6512,2,     -999,9,    304.3,2,     -999,9,     -999,9,     -999,9
35TH20050604  ,AR07       ,59      ,  1,19         ,19         ,2,20050624,0117,  61.5994, -58.5911,     2414,    202.2,   4.1079,  34.8179,2,     -999,9,    295.2,2,     -999,9,    4.553,2,    2.461,2
35TH20050604  ,AR07       ,59      ,  1,18         ,18         ,2,20050624,0117,  61.5994, -58.5911,     2414,    284.8,   4.4178,  34.8857,2,     -999,9,    291.6,2,     -999,9,     -999,9,     -999,9
35TH20050604  ,AR07       ,59      ,  1,17         ,17         ,2,20050624,0117,  61.5994, -58.5911,     2414,    405.1,   4.0152,  34.8566,2,     -999,9,    293.2,2,    296.0,2,    4.458,2,    2.417,2
35TH20050604  ,AR07       ,59      ,  1,16         ,16         ,2,20050624,0117,  61.5994, -58.5911,     2414,    469.3,   4.0356,  34.8674,2,     -999,9,    293.5,2,     -999,9,     -999,9,     -999,9
35TH20050604  ,AR07       ,59      ,  1,15         ,15         ,2,20050624,0117,  61.5994, -58.5911,     2414,    572.3,   3.9095,  34.8641,2,     -999,9,    294.0,2,     -999,9,    4.169,2,    2.204,2
35TH20050604  ,AR07       ,59      ,  1,14         ,14         ,2,20050624,0117,  61.5994, -58.5911,     2414,    722.8,   3.8830,  34.8723,2,     -999,9,    292.5,2,    282.4,3,     -999,9,     -999,9
35TH20050604  ,AR07       ,59      ,  1,13         ,13         ,2,20050624,0117,  61.5994, -58.5911,     2414,    821.1,   3.9244,  34.8922,2,     -999,9,    286.7,2,     -999,9,    3.996,2,    2.046,2
35TH20050604  ,AR07       ,59      ,  1,12         ,12         ,2,20050624,0117,  61.5994, -58.5911,     2414,    929.3,   3.8401,  34.8956,2,     -999,9,    282.6,2,     -999,9,     -999,9,     -999,9
35TH20050604  ,AR07       ,59      ,  1,11         ,11         ,2,20050624,0117,  61.5994, -58.5911,     2414,   1027.7,   3.6808,  34.8910,2,     -999,9,    282.6,2,    283.7,2,    3.962,2,    1.977,2
35TH20050604  ,AR07       ,59      ,  1,10         ,10         ,2,20050624,0117,  61.5994, -58.5911,     2414,   1100.5,   3.6007,  34.8872,2,     -999,9,    283.6,2,     -999,9,     -999,9,     -999,9
35TH20050604  ,AR07       ,59      ,  1,9          ,9          ,2,20050624,0117,  61.5994, -58.5911,     2414,   1207.6,   3.5680,  34.8963,2,     -999,9,    281.0,2,     -999,9,    3.770,2,    1.896,2
35TH20050604  ,AR07       ,59      ,  1,8          ,8          ,2,20050624,0117,  61.5994, -58.5911,     2414,   1308.7,   3.5294,  34.9019,2,     -999,9,    279.5,2,     -999,9,     -999,9,     -999,9
35TH20050604  ,AR07       ,59      ,  1,7          ,7          ,2,20050624,0117,  61.5994, -58.5911,     2414,   1405.8,   3.4607,  34.9033,2,     -999,9,    279.4,2,     -999,9,    3.460,2,    1.724,2
35TH20050604  ,AR07       ,59      ,  1,6          ,6          ,2,20050624,0117,  61.5994, -58.5911,     2414,   1493.9,   3.3593,  34.9015,2,     -999,9,    280.4,2,    280.6,6,     -999,9,     -999,9
35TH20050604  ,AR07       ,59      ,  1,5          ,5          ,2,20050624,0117,  61.5994, -58.5911,     2414,   1593.8,   3.2684,  34.8994,2,  34.9067,2,    281.8,2,     -999,9,     -999,9,     -999,9
35TH20050604  ,AR07       ,59      ,  1,4          ,4          ,2,20050624,0117,  61.5994, -58.5911,     2414,   1799.1,   3.0775,  34.8991,2,     -999,9,    283.2,2,     -999,9,    3.231,2,    1.557,2
35TH20050604  ,AR07       ,59      ,  1,3          ,3          ,2,20050624,0117,  61.5994, -58.5911,     2414,   2001.1,   2.9085,  34.9020,2,     -999,9,    283.4,2,    283.6,2,    3.013,6,    1.464,6
35TH20050604  ,AR07       ,59      ,  1,2          ,2          ,2,20050624,0117,  61.5994, -58.5911,     2414,   2249.5,   2.5644,  34.9011,2,     -999,9,    284.7,2,     -999,9,    2.930,2,    1.433,2
35TH20050604  ,AR07       ,59      ,  1,1          ,1          ,2,20050624,0117,  61.5994, -58.5911,     2414,   2441.8,   1.9102,  34.8818,2,  34.8865,2,    292.0,2,    292.6,2,    3.565,2,    1.782,2
35TH20050604  ,AR07       ,60      ,  1,22         ,22         ,2,20050624,0639,  61.9999, -59.1874,     2128,     18.5,   4.8950,  34.2346,2,     -999,9,    331.7,2,     -999,9,     -999,9,     -999,9
35TH20050604  ,AR07       ,60      ,  1,21         ,21         ,2,20050624,0639,  61.9999, -59.1874,     2128,     18.5,   4.8964,  34.2394,2,     -999,9,    331.7,2,    329.7,2,    5.202,6,    2.786,6
35TH20050604  ,AR07       ,60      ,  1,20         ,20         ,2,20050624,0639,  61.9999, -59.1874,     2128,     90.8,   3.4791,  34.6311,2,     -999,9,    310.7,2,     -999,9,     -999,9,     -999,9
35TH20050604  ,AR07       ,60      ,  1,19         ,19         ,2,20050624,0639,  61.9999, -59.1874,     2128,    220.7,   4.2505,  34.8454,2,     -999,9,    294.7,2,    294.7,2,     -999,9,     -999,9
35TH20050604  ,AR07       ,60      ,  1,18         ,18         ,2,20050624,0639,  61.9999, -59.1874,     2128,    300.5,   4.3089,  34.8716,2,  34.8784,2,    292.6,2,     -999,9,    4.362,2,    2.273,2
35TH20050604  ,AR07       ,60      ,  1,17         ,17         ,2,20050624,0639,  61.9999, -59.1874,     2128,    406.3,   4.2974,  34.8906,2,     -999,9,    286.7,2,     -999,9,     -999,9,     -999,9
35TH20050604  ,AR07       ,60      ,  1,16         ,16         ,2,20050624,0639,  61.9999, -59.1874,     2128,    499.3,   4.1706,  34.8854,2,     -999,9,    287.2,2,     -999,9,    4.189,2,    2.226,2
35TH20050604  ,AR07       ,60      ,  1,15         ,15         ,2,20050624,0639,  61.9999, -59.1874,     2128,    587.7,   4.0134,  34.8750,2,     -999,9,    290.6,2,    291.2,2,     -999,9,     -999,9
35TH20050604  ,AR07       ,60      ,  1,14         ,14         ,2,20050624,0639,  61.9999, -59.1874,     2128,    719.5,   3.9621,  34.8781,2,     -999,9,    289.5,2,     -999,9,    4.346,2,    2.327,2
35TH20050604  ,AR07       ,60      ,  1,13         ,13         ,2,20050624,0639,  61.9999, -59.1874,     2128,    772.7,   3.9606,  34.8829,2,     -999,9,    288.8,2,     -999,9,     -999,9,     -999,9
35TH20050604  ,AR07       ,60      ,  1,12         ,12         ,2,20050624,0639,  61.9999, -59.1874,     2128,    883.0,   3.9408,  34.8958,2,     -999,9,    283.6,2,     -999,9,     -999,9,     -999,9
35TH20050604  ,AR07       ,60      ,  1,11         ,11         ,2,20050624,0639,  61.9999, -59.1874,     2128,    998.3,   3.8583,  34.8975,2,     -999,9,    282.2,2,     -999,9,     -999,9,     -999,9
35TH20050604  ,AR07       ,60      ,  1,10         ,10         ,2,20050624,0639,  61.9999, -59.1874,     2128,   1099.6,   3.7429,  34.8927,2,     -999,9,    282.5,2,    284.6,2,    3.913,2,    1.977,2
35TH20050604  ,AR07       ,60      ,  1,9          ,9          ,2,20050624,0639,  61.9999, -59.1874,     2128,   1181.1,   3.6507,  34.8884,2,  34.8947,2,    282.8,2,     -999,9,     -999,9,     -999,9
35TH20050604  ,AR07       ,60      ,  1,8          ,8          ,2,20050624,0639,  61.9999, -59.1874,     2128,   1278.1,   3.5831,  34.8883,2,     -999,9,    283.0,2,     -999,9,    3.919,2,    1.974,2
35TH20050604  ,AR07       ,60      ,  1,7          ,7          ,2,20050624,0639,  61.9999, -59.1874,     2128,   1397.7,   3.5582,  34.8988,2,     -999,9,    280.1,2,    283.8,6,     -999,9,     -999,9
35TH20050604  ,AR07       ,60      ,  1,6          ,6          ,2,20050624,0639,  61.9999, -59.1874,     2128,   1497.4,   3.4998,  34.9039,2,     -999,9,    279.2,2,     -999,9,    3.573,2,    1.773,2
35TH20050604  ,AR07       ,60      ,  1,5          ,5          ,2,20050624,0639,  61.9999, -59.1874,     2128,   1599.0,   3.4006,  34.9025,2,     -999,9,    280.2,2,     -999,9,     -999,9,     -999,9
35TH20050604  ,AR07       ,60      ,  1,4          ,4          ,2,20050624,0639,  61.9999, -59.1874,     2128,   1704.6,   3.3143,  34.9006,2,     -999,9,    281.7,2,     -999,9,    3.372,2,    1.657,2
35TH20050604  ,AR07       ,60      ,  1,3          ,3          ,2,20050624,0639,  61.9999, -59.1874,     2128,   1897.5,   3.1328,  34.8986,2,     -999,9,    283.2,2,    283.6,2,    3.231,2,    1.591,2
35TH20050604  ,AR07       ,60      ,  1,2          ,2          ,2,20050624,0639,  61.9999, -59.1874,     2128,   2097.2,   2.9442,  34.9005,2,     -999,9,    283.1,2,     -999,9,     -999,9,     -999,9
35TH20050604  ,AR07       ,60      ,  1,1          ,1          ,2,20050624,0639,  61.9999, -59.1874,     2128,   2152.9,   2.8017,  34.8995,2,  34.9067,2,    283.5,2,    283.7,2,    3.120,2,    1.537,2
35TH20050604  ,AR07       ,61      ,  1,22         ,22         ,2,20050624,1105,  62.3984, -59.7935,     1401,     16.4,   4.3427,  34.0853,2,     -999,9,    335.2,2,     -999,9,     -999,9,     -999,9
35TH20050604  ,AR07       ,61      ,  1,21         ,21         ,2,20050624,1105,  62.3984, -59.7935,     1401,     16.4,   4.3427,  34.0853,2,     -999,9,    335.2,2,    334.8,2,    5.395,2,    2.828,2
35TH20050604  ,AR07       ,61      ,  1,20         ,20         ,2,20050624,1105,  62.3984, -59.7935,     1401,     96.7,   2.8366,  34.4931,2,     -999,9,    312.8,2,    313.9,2,    5.154,2,    2.762,2
35TH20050604  ,AR07       ,61      ,  1,19         ,19         ,2,20050624,1105,  62.3984, -59.7935,     1401,    176.7,   4.0280,  34.7419,2,     -999,9,    297.6,2,     -999,9,    4.859,2,    2.588,2
35TH20050604  ,AR07       ,61      ,  1,18         ,18         ,2,20050624,1105,  62.3984, -59.7935,     1401,    176.7,   4.0275,  34.7420,2,  34.7451,2,    297.6,2,     -999,9,     -999,9,     -999,9
35TH20050604  ,AR07       ,61      ,  1,17         ,17         ,2,20050624,1105,  62.3984, -59.7935,     1401,    306.1,   3.8276,  34.7551,2,     -999,9,    298.4,2,     -999,9,     -999,9,     -999,9
35TH20050604  ,AR07       ,61      ,  1,16         ,16         ,2,20050624,1105,  62.3984, -59.7935,     1401,    306.1,   3.8276,  34.7551,2,     -999,9,    298.4,2,    300.3,2,    4.681,2,    2.530,2
35TH20050604  ,AR07       ,61      ,  1,14         ,14         ,2,20050624,1105,  62.3984, -59.7935,     1401,    393.3,   3.9265,  34.7800,2,     -999,9,    297.8,2,     -999,9,     -999,9,     -999,9
35TH20050604  ,AR07       ,61      ,  1,15         ,15         ,2,20050624,1105,  62.3984, -59.7935,     1401,    394.4,   3.9322,  34.7815,2,     -999,9,    297.8,2,     -999,9,     -999,9,     -999,9
35TH20050604  ,AR07       ,61      ,  1,13         ,13         ,2,20050624,1105,  62.3984, -59.7935,     1401,    486.6,   4.2195,  34.8381,2,     -999,9,    292.8,2,    294.1,6,     -999,9,     -999,9
35TH20050604  ,AR07       ,61      ,  1,12         ,12         ,2,20050624,1105,  62.3984, -59.7935,     1401,    487.4,   4.2001,  34.8343,2,     -999,9,    292.7,2,     -999,9,    4.236,2,    2.254,2
35TH20050604  ,AR07       ,61      ,  1,11         ,11         ,2,20050624,1105,  62.3984, -59.7935,     1401,    593.1,   4.3103,  34.8748,2,     -999,9,    289.9,2,     -999,9,     -999,9,     -999,9
35TH20050604  ,AR07       ,61      ,  1,10         ,10         ,2,20050624,1105,  62.3984, -59.7935,     1401,    696.8,   4.1727,  34.8741,2,  34.8768,2,    288.6,2,     -999,9,    4.362,2,    2.316,2
35TH20050604  ,AR07       ,61      ,  1,9          ,9          ,2,20050624,1105,  62.3984, -59.7935,     1401,    804.7,   4.1486,  34.8909,2,     -999,9,    283.4,2,    284.6,2,     -999,9,     -999,9
35TH20050604  ,AR07       ,61      ,  1,8          ,8          ,2,20050624,1105,  62.3984, -59.7935,     1401,    891.0,   4.0367,  34.8903,2,     -999,9,    285.0,2,     -999,9,    4.199,2,    2.197,2
35TH20050604  ,AR07       ,61      ,  1,7          ,7          ,2,20050624,1105,  62.3984, -59.7935,     1401,   1003.5,   3.9937,  34.9031,2,     -999,9,    279.7,2,     -999,9,     -999,9,     -999,9
35TH20050604  ,AR07       ,61      ,  1,6          ,6          ,2,20050624,1105,  62.3984, -59.7935,     1401,   1006.8,   3.9900,  34.9032,2,     -999,9,    279.9,2,     -999,9,    4.008,2,    2.079,2
35TH20050604  ,AR07       ,61      ,  1,5          ,5          ,2,20050624,1105,  62.3984, -59.7935,     1401,   1117.9,   3.8162,  34.8956,2,     -999,9,    281.2,2,    280.2,2,     -999,9,     -999,9
35TH20050604  ,AR07       ,61      ,  1,4          ,4          ,2,20050624,1105,  62.3984, -59.7935,     1401,   1199.1,   3.7093,  34.8930,2,     -999,9,    281.2,2,     -999,9,    3.973,2,    2.019,2
35TH20050604  ,AR07       ,61      ,  1,3          ,3          ,2,20050624,1105,  62.3984, -59.7935,     1401,   1299.8,   3.5682,  34.8950,2,     -999,9,    280.5,2,     -999,9,     -999,9,     -999,9
35TH20050604  ,AR07       ,61      ,  1,1          ,1          ,2,20050624,1105,  62.3984, -59.7935,     1401,   1419.4,   3.2755,  34.9003,2,  34.9067,2,    279.4,2,    281.4,2,     -999,9,     -999,9
35TH20050604  ,AR07       ,61      ,  1,2          ,2          ,2,20050624,1105,  62.3984, -59.7935,     1401,   1419.9,   3.2754,  34.8997,2,     -999,9,    279.4,2,     -999,9,    3.453,2,    1.698,2
35TH20050604  ,AR07       ,62      ,  1,13         ,13         ,2,20050624,1550,  62.1829, -58.6380,     2178,     27.3,   4.4475,  34.0846,2,     -999,9,    337.3,2,    338.5,2,     -999,9,     -999,9
35TH20050604  ,AR07       ,62      ,  1,12         ,12         ,2,20050624,1550,  62.1829, -58.6380,     2178,    122.3,   3.6962,  34.6958,2,     -999,9,    306.0,2,     -999,9,     -999,9,     -999,9
35TH20050604  ,AR07       ,62      ,  1,11         ,11         ,2,20050624,1550,  62.1829, -58.6380,     2178,    122.4,   3.7056,  34.6990,2,     -999,9,    305.9,2,    304.0,2,     -999,9,     -999,9
35TH20050604  ,AR07       ,62      ,  1,10         ,10         ,2,20050624,1550,  62.1829, -58.6380,     2178,    466.8,   4.0925,  34.8616,2,     -999,9,    294.7,2,     -999,9,     -999,9,     -999,9
35TH20050604  ,AR07       ,62      ,  1,9          ,9          ,2,20050624,1550,  62.1829, -58.6380,     2178,    470.2,   4.0927,  34.8622,2,     -999,9,    294.8,2,    293.4,2,     -999,9,     -999,9
35TH20050604  ,AR07       ,62      ,  1,8          ,8          ,2,20050624,1550,  62.1829, -58.6380,     2178,    996.8,   3.8463,  34.8979,2,     -999,9,    281.3,2,     -999,9,     -999,9,     -999,9
35TH20050604  ,AR07       ,62      ,  1,7          ,7          ,2,20050624,1550,  62.1829, -58.6380,     2178,    997.1,   3.8375,  34.8971,2,     -999,9,    281.6,2,    282.9,2,     -999,9,     -999,9
35TH20050604  ,AR07       ,62      ,  1,6          ,6          ,2,20050624,1550,  62.1829, -58.6380,     2178,   1487.6,   3.3955,  34.9019,2,  34.9071,2,    280.6,2,     -999,9,     -999,9,     -999,9
35TH20050604  ,AR07       ,62      ,  1,5          ,5          ,2,20050624,1550,  62.1829, -58.6380,     2178,   1493.5,   3.3902,  34.9027,2,     -999,9,    280.6,2,    281.3,6,     -999,9,     -999,9
35TH20050604  ,AR07       ,62      ,  1,3          ,3          ,2,20050624,1550,  62.1829, -58.6380,     2178,   2003.2,   2.8979,  34.9021,2,     -999,9,    284.0,2,    284.4,2,     -999,9,     -999,9
35TH20050604  ,AR07       ,62      ,  1,4          ,4          ,2,20050624,1550,  62.1829, -58.6380,     2178,   2004.3,   2.8976,  34.9024,2,     -999,9,    284.1,2,     -999,9,     -999,9,     -999,9
35TH20050604  ,AR07       ,62      ,  1,1          ,1          ,2,20050624,1550,  62.1829, -58.6380,     2178,   2230.2,   2.5176,  34.8976,2,  34.9035,2,    285.9,2,    287.2,2,     -999,9,     -999,9
35TH20050604  ,AR07       ,62      ,  1,2          ,2          ,2,20050624,1550,  62.1829, -58.6380,     2178,   2230.2,   2.5176,  34.8976,2,     -999,9,    285.9,2,     -999,9,     -999,9,     -999,9