BOTTLE,20240221CCHSIOADS
EXPOCODE,SECT_ID,STNNBR,CASTNO,SAMPNO,BTLNBR,BTLNBR_FLAG_W,DATE,TIME,LATITUDE,LONGITUDE,DEPTH,CTDPRS,CTDTMP,CTDSAL,CTDSAL_FLAG_W,SALNTY,SALNTY_FLAG_W,CTDOXY,CTDOXY_FLAG_W,OXYGEN,OXYGEN_FLAG_W,CFC-11,CFC-11_FLAG_W,CFC-12,CFC-12_FLAG_W
,,,,,,,,,,,METERS,DBAR,ITS-90,PSS-78,,PSS-78,,UMOL/KG,,UMOL/KG,,PMOL/KG,,PMOL/KG,
35TH20050604  ,AR07       ,85      ,  1,22         ,22         ,2,20050629,1224,  55.1347, -46.6087,     3116,      4.7,   8.2863,  34.7176,2,     -999,9,    305.5,2,     -999,9,     -999,9,     -999,9
35TH20050604  ,AR07       ,85      ,  1,21         ,21         ,2,20050629,1224,  55.1347, -46.6087,     3116,      4.7,   8.2863,  34.7176,2,     -999,9,    305.5,2,    305.5,2,    3.994,2,    2.228,2
35TH20050604  ,AR07       ,85      ,  1,20         ,20         ,2,20050629,1224,  55.1347, -46.6087,     3116,    201.9,   3.8528,  34.8059,2,  34.8150,2,    294.0,2,     -999,9,    4.205,2,    2.284,2
35TH20050604  ,AR07       ,85      ,  1,19         ,19         ,2,20050629,1224,  55.1347, -46.6087,     3116,    399.9,   3.8181,  34.8642,2,     -999,9,    284.3,2,    284.4,6,    4.123,2,    2.213,2
35TH20050604  ,AR07       ,85      ,  1,18         ,18         ,2,20050629,1224,  55.1347, -46.6087,     3116,    570.3,   3.6601,  34.8684,2,     -999,9,    287.1,2,     -999,9,    3.854,2,    2.001,2
35TH20050604  ,AR07       ,85      ,  1,17         ,17         ,2,20050629,1224,  55.1347, -46.6087,     3116,    799.4,   3.4603,  34.8577,2,     -999,9,    290.1,2,    291.5,2,    4.142,2,    2.126,2
35TH20050604  ,AR07       ,85      ,  1,16         ,16         ,2,20050629,1224,  55.1347, -46.6087,     3116,    896.7,   3.4122,  34.8549,2,     -999,9,    291.5,2,     -999,9,     -999,9,     -999,9
35TH20050604  ,AR07       ,85      ,  1,15         ,15         ,2,20050629,1224,  55.1347, -46.6087,     3116,   1004.2,   3.3896,  34.8586,2,     -999,9,    291.5,2,     -999,9,    4.154,2,    2.155,2
35TH20050604  ,AR07       ,85      ,  1,14         ,14         ,2,20050629,1224,  55.1347, -46.6087,     3116,   1115.6,   3.3927,  34.8626,2,     -999,9,    290.3,2,    292.8,2,    3.822,2,    1.950,2
35TH20050604  ,AR07       ,85      ,  1,13         ,13         ,2,20050629,1224,  55.1347, -46.6087,     3116,   1195.4,   3.4450,  34.8782,2,     -999,9,    286.3,2,     -999,9,     -999,9,     -999,9
35TH20050604  ,AR07       ,85      ,  1,12         ,12         ,2,20050629,1224,  55.1347, -46.6087,     3116,   1298.3,   3.4633,  34.8900,2,     -999,9,    282.8,2,     -999,9,    3.340,2,    1.674,2
35TH20050604  ,AR07       ,85      ,  1,11         ,11         ,2,20050629,1224,  55.1347, -46.6087,     3116,   1398.4,   3.4257,  34.8940,2,     -999,9,    282.4,2,     -999,9,    3.351,2,    1.663,2
35TH20050604  ,AR07       ,85      ,  1,10         ,10         ,2,20050629,1224,  55.1347, -46.6087,     3116,   1496.5,   3.3566,  34.8914,2,     -999,9,    283.4,2,     -999,9,     -999,9,     -999,9
35TH20050604  ,AR07       ,85      ,  1,9          ,9          ,2,20050629,1224,  55.1347, -46.6087,     3116,   1606.6,   3.2538,  34.8872,2,     -999,9,    284.9,2,    286.3,2,    3.040,3,    1.434,3
35TH20050604  ,AR07       ,85      ,  1,8          ,8          ,2,20050629,1224,  55.1347, -46.6087,     3116,   1802.4,   3.1458,  34.8869,2,     -999,9,    286.7,2,     -999,9,    3.087,2,    1.480,2
35TH20050604  ,AR07       ,85      ,  1,7          ,7          ,2,20050629,1224,  55.1347, -46.6087,     3116,   1948.6,   3.1063,  34.8911,2,     -999,9,    286.1,2,     -999,9,     -999,9,     -999,9
35TH20050604  ,AR07       ,85      ,  1,6          ,6          ,2,20050629,1224,  55.1347, -46.6087,     3116,   2098.6,   3.0729,  34.9006,2,  34.9035,2,    284.4,2,    285.3,2,    2.691,2,    1.311,2
35TH20050604  ,AR07       ,85      ,  1,5          ,5          ,2,20050629,1224,  55.1347, -46.6087,     3116,   2348.4,   2.9876,  34.9156,2,     -999,9,    282.2,2,     -999,9,     -999,9,     -999,9
35TH20050604  ,AR07       ,85      ,  1,4          ,4          ,2,20050629,1224,  55.1347, -46.6087,     3116,   2500.3,   2.9256,  34.9217,2,     -999,9,    281.6,2,     -999,9,    2.262,2,    1.105,2
35TH20050604  ,AR07       ,85      ,  1,3          ,3          ,2,20050629,1224,  55.1347, -46.6087,     3116,   2654.3,   2.8829,  34.9293,2,     -999,9,    280.8,2,    281.1,2,     -999,9,     -999,9
35TH20050604  ,AR07       ,85      ,  1,2          ,2          ,2,20050629,1224,  55.1347, -46.6087,     3116,   2797.7,   2.8294,  34.9336,2,     -999,9,    280.4,2,     -999,9,    2.162,2,    1.054,2
35TH20050604  ,AR07       ,85      ,  1,1          ,1          ,2,20050629,1224,  55.1347, -46.6087,     3116,   3192.6,   2.4121,  34.9093,2,  34.9102,2,    282.6,2,    279.6,2,    2.202,2,    1.088,2
35TH20050604  ,AR07       ,86      ,  1,22         ,22         ,2,20050629,1807,  54.6174, -45.9180,     3350,     13.0,   8.5142,  34.6795,2,     -999,9,    306.6,2,     -999,9,     -999,9,     -999,9
35TH20050604  ,AR07       ,86      ,  1,21         ,21         ,2,20050629,1807,  54.6174, -45.9180,     3350,     15.5,   8.4919,  34.6766,2,     -999,9,    305.5,2,    306.9,2,    4.057,2,    2.266,2
35TH20050604  ,AR07       ,86      ,  1,20         ,20         ,2,20050629,1807,  54.6174, -45.9180,     3350,    104.8,   4.0704,  34.7322,2,  34.7317,2,    302.1,2,     -999,9,    4.736,2,    2.607,2
35TH20050604  ,AR07       ,86      ,  1,19         ,19         ,2,20050629,1807,  54.6174, -45.9180,     3350,    177.1,   3.6737,  34.7520,2,     -999,9,    301.1,2,     -999,9,    4.581,2,    2.479,2
35TH20050604  ,AR07       ,86      ,  1,18         ,18         ,2,20050629,1807,  54.6174, -45.9180,     3350,    296.9,   3.7640,  34.8273,2,     -999,9,    293.3,2,    293.2,2,    4.417,2,    2.383,2
35TH20050604  ,AR07       ,86      ,  1,17         ,17         ,2,20050629,1807,  54.6174, -45.9180,     3350,    495.4,   3.8092,  34.8806,2,     -999,9,    283.9,2,     -999,9,    4.028,2,    2.126,2
35TH20050604  ,AR07       ,86      ,  1,16         ,16         ,2,20050629,1807,  54.6174, -45.9180,     3350,    690.5,   3.5789,  34.8653,2,     -999,9,    288.9,2,    289.1,2,    4.118,2,    2.143,2
35TH20050604  ,AR07       ,86      ,  1,15         ,15         ,2,20050629,1807,  54.6174, -45.9180,     3350,    898.4,   3.4426,  34.8602,2,     -999,9,    290.3,2,     -999,9,    4.133,2,    2.146,2
35TH20050604  ,AR07       ,86      ,  1,14         ,14         ,2,20050629,1807,  54.6174, -45.9180,     3350,   1098.8,   3.4135,  34.8661,2,     -999,9,    290.8,2,     -999,9,    3.964,2,    2.050,2
35TH20050604  ,AR07       ,86      ,  1,13         ,13         ,2,20050629,1807,  54.6174, -45.9180,     3350,   1196.7,   3.4480,  34.8777,2,     -999,9,    286.2,2,    286.1,2,    3.658,2,    1.858,2
35TH20050604  ,AR07       ,86      ,  1,12         ,12         ,2,20050629,1807,  54.6174, -45.9180,     3350,   1297.0,   3.4635,  34.8891,2,     -999,9,    283.2,2,     -999,9,    3.304,2,    1.672,2
35TH20050604  ,AR07       ,86      ,  1,11         ,11         ,2,20050629,1807,  54.6174, -45.9180,     3350,   1514.2,   3.3396,  34.8892,2,  34.8916,2,    284.0,2,     -999,9,    3.197,2,    1.586,2
35TH20050604  ,AR07       ,86      ,  1,10         ,10         ,2,20050629,1807,  54.6174, -45.9180,     3350,   1699.8,   3.2196,  34.8864,2,     -999,9,    285.8,2,    286.5,6,     -999,9,     -999,9
35TH20050604  ,AR07       ,86      ,  1,9          ,9          ,2,20050629,1807,  54.6174, -45.9180,     3350,   1797.6,   3.1654,  34.8845,2,     -999,9,    287.1,2,     -999,9,    3.176,2,    1.568,2
35TH20050604  ,AR07       ,86      ,  1,8          ,8          ,2,20050629,1807,  54.6174, -45.9180,     3350,   2001.5,   3.1038,  34.8922,2,     -999,9,    286.5,2,     -999,9,    2.872,2,    1.417,2
35TH20050604  ,AR07       ,86      ,  1,7          ,7          ,2,20050629,1807,  54.6174, -45.9180,     3350,   2299.7,   3.0079,  34.9074,2,     -999,9,    283.4,2,    282.1,2,    2.412,2,    1.175,2
35TH20050604  ,AR07       ,86      ,  1,6          ,6          ,2,20050629,1807,  54.6174, -45.9180,     3350,   2608.5,   2.8873,  34.9227,2,     -999,9,    281.8,2,     -999,9,    2.242,2,    1.102,2
35TH20050604  ,AR07       ,86      ,  1,5          ,5          ,2,20050629,1807,  54.6174, -45.9180,     3350,   2746.6,   2.8373,  34.9290,2,     -999,9,    280.9,2,     -999,9,     -999,9,     -999,9
35TH20050604  ,AR07       ,86      ,  1,4          ,4          ,2,20050629,1807,  54.6174, -45.9180,     3350,   2906.3,   2.7633,  34.9304,2,     -999,9,    280.9,2,    280.0,2,    2.051,2,    1.009,2
35TH20050604  ,AR07       ,86      ,  1,3          ,3          ,2,20050629,1807,  54.6174, -45.9180,     3350,   3146.4,   2.5714,  34.9186,2,     -999,9,    281.3,2,     -999,9,     -999,9,     -999,9
35TH20050604  ,AR07       ,86      ,  1,2          ,2          ,2,20050629,1807,  54.6174, -45.9180,     3350,   3195.5,   2.5318,  34.9155,2,     -999,9,    281.9,2,     -999,9,    1.972,2,    0.967,2
35TH20050604  ,AR07       ,86      ,  1,1          ,1          ,2,20050629,1807,  54.6174, -45.9180,     3350,   3410.9,   2.3623,  34.9036,2,  34.9047,2,    283.4,2,    279.9,2,    2.266,2,    1.125,2
35TH20050604  ,AR07       ,87      ,  1,22         ,22         ,2,20050629,2352,  54.1001, -45.2153,     3502,      9.4,   8.7800,  34.6900,2,     -999,9,    308.4,2,     -999,9,     -999,9,     -999,9
35TH20050604  ,AR07       ,87      ,  1,21         ,21         ,2,20050629,2352,  54.1001, -45.2153,     3502,     10.7,   8.7764,  34.6891,2,     -999,9,    308.3,2,    307.6,6,    4.031,2,    2.242,2
35TH20050604  ,AR07       ,87      ,  1,20         ,20         ,2,20050629,2352,  54.1001, -45.2153,     3502,    188.3,   4.0637,  34.7697,2,     -999,9,    295.9,2,     -999,9,     -999,9,     -999,9
35TH20050604  ,AR07       ,87      ,  1,19         ,19         ,2,20050629,2352,  54.1001, -45.2153,     3502,    436.0,   3.8404,  34.8671,2,     -999,9,    286.9,2,    283.2,2,    4.029,2,    2.142,2
35TH20050604  ,AR07       ,87      ,  1,18         ,18         ,2,20050629,2352,  54.1001, -45.2153,     3502,    597.4,   3.6519,  34.8629,2,     -999,9,    291.2,2,     -999,9,    4.354,2,    2.316,2
35TH20050604  ,AR07       ,87      ,  1,17         ,17         ,2,20050629,2352,  54.1001, -45.2153,     3502,    747.0,   3.5176,  34.8576,2,     -999,9,    291.4,2,     -999,9,    4.345,2,    2.280,2
35TH20050604  ,AR07       ,87      ,  1,16         ,16         ,2,20050629,2352,  54.1001, -45.2153,     3502,    897.7,   3.4222,  34.8548,2,     -999,9,    292.1,2,     -999,9,    4.283,2,    2.222,2
35TH20050604  ,AR07       ,87      ,  1,15         ,15         ,2,20050629,2352,  54.1001, -45.2153,     3502,    997.7,   3.3815,  34.8546,2,     -999,9,    292.8,2,    296.0,2,    4.216,2,    2.165,2
35TH20050604  ,AR07       ,87      ,  1,14         ,14         ,2,20050629,2352,  54.1001, -45.2153,     3502,   1097.8,   3.4032,  34.8632,2,     -999,9,    290.9,2,     -999,9,    4.026,2,    2.074,2
35TH20050604  ,AR07       ,87      ,  1,13         ,13         ,2,20050629,2352,  54.1001, -45.2153,     3502,   1198.6,   3.4592,  34.8818,2,     -999,9,    285.0,2,     -999,9,     -999,9,     -999,9
35TH20050604  ,AR07       ,87      ,  1,12         ,12         ,2,20050629,2352,  54.1001, -45.2153,     3502,   1284.5,   3.4713,  34.8885,2,     -999,9,    283.3,2,     -999,9,    3.401,2,    1.704,2
35TH20050604  ,AR07       ,87      ,  1,11         ,11         ,2,20050629,2352,  54.1001, -45.2153,     3502,   1403.9,   3.4140,  34.8943,2,     -999,9,    282.1,2,     -999,9,     -999,9,     -999,9
35TH20050604  ,AR07       ,87      ,  1,10         ,10         ,2,20050629,2352,  54.1001, -45.2153,     3502,   1545.1,   3.3229,  34.8924,2,     -999,9,    283.7,2,    283.1,2,    3.161,2,    1.549,2
35TH20050604  ,AR07       ,87      ,  1,9          ,9          ,2,20050629,2352,  54.1001, -45.2153,     3502,   1782.3,   3.1635,  34.8860,2,     -999,9,    286.4,2,     -999,9,    3.082,2,    1.509,2
35TH20050604  ,AR07       ,87      ,  1,8          ,8          ,2,20050629,2352,  54.1001, -45.2153,     3502,   2096.5,   3.0999,  34.9059,2,     -999,9,    284.5,2,    282.2,2,    2.619,2,    1.257,2
35TH20050604  ,AR07       ,87      ,  1,7          ,7          ,2,20050629,2352,  54.1001, -45.2153,     3502,   2396.7,   2.9881,  34.9166,2,  34.9200,2,    282.4,2,     -999,9,    2.321,6,    1.122,6
35TH20050604  ,AR07       ,87      ,  1,6          ,6          ,2,20050629,2352,  54.1001, -45.2153,     3502,   2698.6,   2.9103,  34.9355,2,     -999,9,    280.6,2,     -999,9,    2.197,2,    1.081,2
35TH20050604  ,AR07       ,87      ,  1,5          ,5          ,2,20050629,2352,  54.1001, -45.2153,     3502,   2850.1,   2.8780,  34.9411,2,     -999,9,    280.0,2,    278.6,2,    2.146,2,    1.047,2
35TH20050604  ,AR07       ,87      ,  1,4          ,4          ,2,20050629,2352,  54.1001, -45.2153,     3502,   2996.6,   2.7796,  34.9364,2,     -999,9,    280.1,2,     -999,9,    2.123,2,    1.036,2
35TH20050604  ,AR07       ,87      ,  1,3          ,3          ,2,20050629,2352,  54.1001, -45.2153,     3502,   3149.8,   2.6749,  34.9267,2,     -999,9,    280.7,2,     -999,9,     -999,9,     -999,9
35TH20050604  ,AR07       ,87      ,  1,2          ,2          ,2,20050629,2352,  54.1001, -45.2153,     3502,   3303.9,   2.5291,  34.9143,2,     -999,9,    281.7,2,     -999,9,    2.060,2,    1.011,2
35TH20050604  ,AR07       ,87      ,  1,1          ,1          ,2,20050629,2352,  54.1001, -45.2153,     3502,   3576.7,   2.3348,  34.9017,2,  34.9039,2,    283.2,2,    281.9,2,    2.236,2,    1.103,2
35TH20050604  ,AR07       ,88      ,  1,22         ,22         ,2,20050630,0538,  53.6066, -44.5251,     3687,     10.6,   9.1443,  34.6676,2,     -999,9,    298.2,2,     -999,9,     -999,9,     -999,9
35TH20050604  ,AR07       ,88      ,  1,21         ,21         ,2,20050630,0538,  53.6066, -44.5251,     3687,     11.6,   9.1379,  34.6677,2,     -999,9,    298.6,2,    296.2,2,    3.910,2,    2.192,2
35TH20050604  ,AR07       ,88      ,  1,20         ,20         ,2,20050630,0538,  53.6066, -44.5251,     3687,    202.7,   5.3032,  34.7125,2,     -999,9,    293.2,2,    290.1,2,     -999,9,     -999,9
35TH20050604  ,AR07       ,88      ,  1,19         ,19         ,2,20050630,0538,  53.6066, -44.5251,     3687,    378.2,   3.7087,  34.7809,2,     -999,9,    298.3,2,     -999,9,    4.509,2,    2.406,2
35TH20050604  ,AR07       ,88      ,  1,18         ,18         ,2,20050630,0538,  53.6066, -44.5251,     3687,    620.6,   3.5144,  34.8443,2,     -999,9,    298.1,2,    297.4,2,    4.577,2,    2.433,2
35TH20050604  ,AR07       ,88      ,  1,17         ,17         ,2,20050630,0538,  53.6066, -44.5251,     3687,    797.8,   3.4468,  34.8403,2,     -999,9,    302.3,2,     -999,9,    4.722,2,    2.494,2
35TH20050604  ,AR07       ,88      ,  1,16         ,16         ,2,20050630,0538,  53.6066, -44.5251,     3687,    922.3,   3.3763,  34.8315,2,     -999,9,    302.9,2,     -999,9,     -999,9,     -999,9
35TH20050604  ,AR07       ,88      ,  1,15         ,15         ,2,20050630,0538,  53.6066, -44.5251,     3687,   1010.6,   3.3421,  34.8276,2,     -999,9,    302.6,2,     -999,9,    4.643,2,    2.440,2
35TH20050604  ,AR07       ,88      ,  1,14         ,14         ,2,20050630,0538,  53.6066, -44.5251,     3687,   1098.7,   3.3407,  34.8295,2,     -999,9,    301.4,2,     -999,9,     -999,9,     -999,9
35TH20050604  ,AR07       ,88      ,  1,13         ,13         ,2,20050630,0538,  53.6066, -44.5251,     3687,   1196.9,   3.3577,  34.8350,2,  34.8415,2,    299.0,2,     -999,9,    4.476,2,    2.332,2
35TH20050604  ,AR07       ,88      ,  1,12         ,12         ,2,20050630,0538,  53.6066, -44.5251,     3687,   1302.9,   3.3715,  34.8442,2,     -999,9,    295.4,2,    294.2,6,     -999,9,     -999,9
35TH20050604  ,AR07       ,88      ,  1,11         ,11         ,2,20050630,0538,  53.6066, -44.5251,     3687,   1397.8,   3.3814,  34.8517,2,     -999,9,    293.7,2,     -999,9,    4.180,2,    2.155,2
35TH20050604  ,AR07       ,88      ,  1,10         ,10         ,2,20050630,0538,  53.6066, -44.5251,     3687,   1523.6,   3.4283,  34.8704,2,     -999,9,    288.6,2,     -999,9,     -999,9,     -999,9
35TH20050604  ,AR07       ,88      ,  1,9          ,9          ,2,20050630,0538,  53.6066, -44.5251,     3687,   1596.5,   3.4282,  34.8797,2,     -999,9,    286.3,2,     -999,9,    3.358,2,    1.646,2
35TH20050604  ,AR07       ,88      ,  1,8          ,8          ,2,20050630,0538,  53.6066, -44.5251,     3687,   1760.0,   3.3466,  34.8877,2,     -999,9,    284.8,2,     -999,9,    3.165,2,    1.532,2
35TH20050604  ,AR07       ,88      ,  1,7          ,7          ,2,20050630,0538,  53.6066, -44.5251,     3687,   1913.3,   3.2491,  34.8861,2,     -999,9,    286.4,2,    284.4,2,    3.130,2,    1.509,2
35TH20050604  ,AR07       ,88      ,  1,6          ,6          ,2,20050630,0538,  53.6066, -44.5251,     3687,   2216.6,   3.1289,  34.8963,2,     -999,9,    286.1,2,     -999,9,    2.810,2,    1.368,2
35TH20050604  ,AR07       ,88      ,  1,5          ,5          ,2,20050630,0538,  53.6066, -44.5251,     3687,   2499.1,   3.0309,  34.9147,2,     -999,9,    283.1,2,    280.9,2,    2.389,2,    1.158,2
35TH20050604  ,AR07       ,88      ,  1,4          ,4          ,2,20050630,0538,  53.6066, -44.5251,     3687,   2800.3,   2.9831,  34.9411,2,  34.9434,2,    280.3,2,     -999,9,    2.272,2,    1.110,2
35TH20050604  ,AR07       ,88      ,  1,3          ,3          ,2,20050630,0538,  53.6066, -44.5251,     3687,   3093.4,   2.7203,  34.9200,2,     -999,9,    281.6,2,    282.9,2,     -999,9,     -999,9
35TH20050604  ,AR07       ,88      ,  1,2          ,2          ,2,20050630,0538,  53.6066, -44.5251,     3687,   3398.6,   2.5187,  34.9126,2,     -999,9,    282.0,2,     -999,9,    2.049,2,    0.992,2
35TH20050604  ,AR07       ,88      ,  1,1          ,1          ,2,20050630,0538,  53.6066, -44.5251,     3687,   3757.6,   2.1594,  34.8934,2,  34.8955,2,    286.7,2,    286.5,2,    2.653,2,    1.304,2