BOTTLE,20240221CCHSIOADS
EXPOCODE,SECT_ID,STNNBR,CASTNO,SAMPNO,BTLNBR,BTLNBR_FLAG_W,DATE,TIME,LATITUDE,LONGITUDE,DEPTH,CTDPRS,CTDTMP,CTDSAL,CTDSAL_FLAG_W,SALNTY,SALNTY_FLAG_W,CTDOXY,CTDOXY_FLAG_W,OXYGEN,OXYGEN_FLAG_W,CFC-11,CFC-11_FLAG_W,CFC-12,CFC-12_FLAG_W
,,,,,,,,,,,METERS,DBAR,ITS-90,PSS-78,,PSS-78,,UMOL/KG,,UMOL/KG,,PMOL/KG,,PMOL/KG,
35TH20050604  ,AR07       ,21      ,  1,21         ,21         ,2,20050610,1128,  46.8167, -27.6333,     2349,      5.0,  15.6830,  35.8684,2,     -999,9,    260.7,2,    265.0,6,    2.648,2,    1.553,2
35TH20050604  ,AR07       ,21      ,  1,22         ,22         ,2,20050610,1128,  46.8167, -27.6333,     2349,      8.4,  15.6290,  35.8431,2,     -999,9,    261.5,2,     -999,9,     -999,9,     -999,9
35TH20050604  ,AR07       ,21      ,  1,20         ,20         ,2,20050610,1128,  46.8167, -27.6333,     2349,     84.9,  13.8218,  35.7774,2,  35.7899,2,    249.5,2,     -999,9,     -999,9,     -999,9
35TH20050604  ,AR07       ,21      ,  1,19         ,19         ,2,20050610,1128,  46.8167, -27.6333,     2349,    203.6,  12.6298,  35.6103,2,     -999,9,    223.6,2,     -999,9,     -999,9,     -999,9
35TH20050604  ,AR07       ,21      ,  1,18         ,18         ,2,20050610,1128,  46.8167, -27.6333,     2349,    399.4,  10.9172,  35.3979,2,     -999,9,    211.0,2,     -999,9,    2.692,2,    1.531,2
35TH20050604  ,AR07       ,21      ,  1,17         ,17         ,2,20050610,1128,  46.8167, -27.6333,     2349,    497.6,   9.5737,  35.2310,2,     -999,9,    199.6,2,     -999,9,     -999,9,     -999,9
35TH20050604  ,AR07       ,21      ,  1,16         ,16         ,2,20050610,1128,  46.8167, -27.6333,     2349,    604.9,   8.2189,  35.1566,2,     -999,9,    192.1,2,     -999,9,    2.072,2,    1.085,2
35TH20050604  ,AR07       ,21      ,  1,15         ,15         ,2,20050610,1128,  46.8167, -27.6333,     2349,    701.2,   7.0660,  35.0917,2,     -999,9,    203.0,2,     -999,9,     -999,9,     -999,9
35TH20050604  ,AR07       ,21      ,  1,14         ,14         ,2,20050610,1128,  46.8167, -27.6333,     2349,    810.1,   6.2938,  35.0848,2,     -999,9,    217.5,2,     -999,9,    2.319,2,    1.198,2
35TH20050604  ,AR07       ,21      ,  1,13         ,13         ,2,20050610,1128,  46.8167, -27.6333,     2349,    926.7,   5.4787,  35.0425,2,     -999,9,    231.7,2,     -999,9,    2.458,2,    1.255,2
35TH20050604  ,AR07       ,21      ,  1,12         ,12         ,2,20050610,1128,  46.8167, -27.6333,     2349,    999.1,   5.0190,  35.0222,2,  35.0244,2,    243.2,2,     -999,9,    2.718,2,    1.404,2
35TH20050604  ,AR07       ,21      ,  1,11         ,11         ,2,20050610,1128,  46.8167, -27.6333,     2349,   1090.3,   4.5094,  34.9730,2,     -999,9,    254.0,2,     -999,9,     -999,9,     -999,9
35TH20050604  ,AR07       ,21      ,  1,10         ,10         ,2,20050610,1128,  46.8167, -27.6333,     2349,   1189.1,   4.2437,  34.9478,2,     -999,9,    260.5,2,     -999,9,    3.024,2,    1.553,2
35TH20050604  ,AR07       ,21      ,  1,9          ,9          ,2,20050610,1128,  46.8167, -27.6333,     2349,   1331.0,   3.9416,  34.9296,2,     -999,9,    266.0,2,     -999,9,     -999,9,     -999,9
35TH20050604  ,AR07       ,21      ,  1,8          ,8          ,2,20050610,1128,  46.8167, -27.6333,     2349,   1370.6,   3.8993,  34.9262,2,     -999,9,    266.9,2,    277.8,3,    2.927,2,    1.485,2
35TH20050604  ,AR07       ,21      ,  1,7          ,7          ,2,20050610,1128,  46.8167, -27.6333,     2349,   1488.3,   3.7562,  34.9197,2,     -999,9,    269.1,2,     -999,9,     -999,9,     -999,9
35TH20050604  ,AR07       ,21      ,  1,6          ,6          ,2,20050610,1128,  46.8167, -27.6333,     2349,   1608.4,   3.6428,  34.9150,2,     -999,9,    270.8,2,     -999,9,    2.794,2,    1.398,2
35TH20050604  ,AR07       ,21      ,  1,5          ,5          ,2,20050610,1128,  46.8167, -27.6333,     2349,   1699.3,   3.5647,  34.9140,2,  34.9167,2,    271.5,2,     -999,9,     -999,9,     -999,9
35TH20050604  ,AR07       ,21      ,  1,4          ,4          ,2,20050610,1128,  46.8167, -27.6333,     2349,   1798.4,   3.4972,  34.9112,2,     -999,9,    272.4,2,    279.8,3,     -999,9,     -999,9
35TH20050604  ,AR07       ,21      ,  1,3          ,3          ,2,20050610,1128,  46.8167, -27.6333,     2349,   1896.9,   3.4404,  34.9124,2,     -999,9,    272.4,2,     -999,9,    2.337,2,    1.132,2
35TH20050604  ,AR07       ,21      ,  1,2          ,2          ,2,20050610,1128,  46.8167, -27.6333,     2349,   1998.6,   3.4118,  34.9144,2,     -999,9,    272.2,2,    270.9,3,    2.252,2,    1.082,2
35TH20050604  ,AR07       ,21      ,  1,1          ,1          ,2,20050610,1128,  46.8167, -27.6333,     2349,   2245.3,   3.3153,  34.9164,2,  34.9163,2,    271.9,2,    271.6,3,    2.204,2,    1.083,2
35TH20050604  ,AR07       ,22      ,  1,21         ,21         ,2,20050610,1632,  46.6687, -28.4707,     2805,      5.6,  15.5897,  35.6683,2,     -999,9,    261.7,2,    265.8,2,    2.711,2,    1.581,2
35TH20050604  ,AR07       ,22      ,  1,22         ,22         ,2,20050610,1632,  46.6687, -28.4707,     2805,      5.7,  15.5712,  35.6691,2,     -999,9,    261.7,2,    263.7,2,     -999,9,     -999,9
35TH20050604  ,AR07       ,22      ,  1,20         ,20         ,2,20050610,1632,  46.6687, -28.4707,     2805,    208.5,  12.3989,  35.5642,2,     -999,9,    229.1,2,     -999,9,     -999,9,     -999,9
35TH20050604  ,AR07       ,22      ,  1,19         ,19         ,2,20050610,1632,  46.6687, -28.4707,     2805,    511.4,   9.3216,  35.2022,2,     -999,9,    198.7,2,    200.9,2,    2.318,2,    1.245,2
35TH20050604  ,AR07       ,22      ,  1,18         ,18         ,2,20050610,1632,  46.6687, -28.4707,     2805,    708.3,   7.0901,  35.1106,2,     -999,9,    203.2,2,     -999,9,     -999,9,     -999,9
35TH20050604  ,AR07       ,22      ,  1,17         ,17         ,2,20050610,1632,  46.6687, -28.4707,     2805,    799.9,   6.3299,  35.0792,2,     -999,9,    215.4,2,     -999,9,     -999,9,     -999,9
35TH20050604  ,AR07       ,22      ,  1,16         ,16         ,2,20050610,1632,  46.6687, -28.4707,     2805,    883.7,   5.7072,  35.0632,2,     -999,9,    227.0,2,     -999,9,    2.349,2,    1.221,2
35TH20050604  ,AR07       ,22      ,  1,15         ,15         ,2,20050610,1632,  46.6687, -28.4707,     2805,    971.3,   5.2123,  35.0425,2,     -999,9,    238.9,2,     -999,9,    2.454,2,    1.264,2
35TH20050604  ,AR07       ,22      ,  1,14         ,14         ,2,20050610,1632,  46.6687, -28.4707,     2805,   1094.5,   4.6193,  34.9844,2,     -999,9,    251.3,2,     -999,9,     -999,9,     -999,9
35TH20050604  ,AR07       ,22      ,  1,13         ,13         ,2,20050610,1632,  46.6687, -28.4707,     2805,   1168.9,   4.3192,  34.9591,2,     -999,9,    258.3,2,     -999,9,    2.902,2,    1.492,2
35TH20050604  ,AR07       ,22      ,  1,12         ,12         ,2,20050610,1632,  46.6687, -28.4707,     2805,   1267.4,   4.0751,  34.9415,2,     -999,9,    263.2,2,     -999,9,    2.848,2,    1.449,2
35TH20050604  ,AR07       ,22      ,  1,11         ,11         ,2,20050610,1632,  46.6687, -28.4707,     2805,   1369.3,   3.9636,  34.9356,2,     -999,9,    265.5,2,     -999,9,     -999,9,     -999,9
35TH20050604  ,AR07       ,22      ,  1,10         ,10         ,2,20050610,1632,  46.6687, -28.4707,     2805,   1500.7,   3.8298,  34.9282,2,  34.9285,2,    267.8,2,     -999,9,    2.724,2,    1.363,2
35TH20050604  ,AR07       ,22      ,  1,9          ,9          ,2,20050610,1632,  46.6687, -28.4707,     2805,   1580.5,   3.7560,  34.9247,2,     -999,9,    268.8,2,    291.2,4,    2.712,2,    1.358,2
35TH20050604  ,AR07       ,22      ,  1,8          ,8          ,2,20050610,1632,  46.6687, -28.4707,     2805,   1674.9,   3.6689,  34.9218,2,     -999,9,    269.8,2,     -999,9,     -999,9,     -999,9
35TH20050604  ,AR07       ,22      ,  1,7          ,7          ,2,20050610,1632,  46.6687, -28.4707,     2805,   1789.5,   3.5697,  34.9194,2,     -999,9,    271.0,2,     -999,9,    2.530,2,    1.254,2
35TH20050604  ,AR07       ,22      ,  1,6          ,6          ,2,20050610,1632,  46.6687, -28.4707,     2805,   1991.0,   3.4295,  34.9145,2,  34.9179,2,    272.2,2,     -999,9,    2.292,2,    1.110,2
35TH20050604  ,AR07       ,22      ,  1,5          ,5          ,2,20050610,1632,  46.6687, -28.4707,     2805,   2197.5,   3.3435,  34.9138,2,     -999,9,    272.8,2,    279.7,2,     -999,9,     -999,9
35TH20050604  ,AR07       ,22      ,  1,4          ,4          ,2,20050610,1632,  46.6687, -28.4707,     2805,   2396.4,   3.2399,  34.9144,2,     -999,9,    273.3,2,     -999,9,    2.069,2,    0.980,2
35TH20050604  ,AR07       ,22      ,  1,3          ,3          ,2,20050610,1632,  46.6687, -28.4707,     2805,   2597.5,   3.1283,  34.9178,2,     -999,9,    272.6,2,     -999,9,    1.972,2,    0.951,2
35TH20050604  ,AR07       ,22      ,  1,2          ,2          ,2,20050610,1632,  46.6687, -28.4707,     2805,   2794.2,   3.0660,  34.9220,2,     -999,9,    271.9,2,     -999,9,    1.870,2,    0.907,2
35TH20050604  ,AR07       ,22      ,  1,1          ,1          ,2,20050610,1632,  46.6687, -28.4707,     2805,   2887.4,   3.0344,  34.9235,2,  34.9238,2,    271.4,2,    277.0,2,    1.781,2,    0.860,2
35TH20050604  ,AR07       ,23      ,  1,22         ,22         ,2,20050610,2134,  46.6417, -29.2417,     3277,     15.7,  15.3244,  35.6586,2,     -999,9,    258.9,2,    259.3,2,    2.637,2,    1.574,2
35TH20050604  ,AR07       ,23      ,  1,21         ,21         ,2,20050610,2134,  46.6417, -29.2417,     3277,    212.1,  12.2018,  35.5387,2,  35.5448,2,    232.7,2,    222.4,3,     -999,9,     -999,9
35TH20050604  ,AR07       ,23      ,  1,20         ,20         ,2,20050610,2134,  46.6417, -29.2417,     3277,    374.4,  10.9908,  35.4177,2,     -999,9,    220.3,2,     -999,9,    2.233,2,    1.264,2
35TH20050604  ,AR07       ,23      ,  1,19         ,19         ,2,20050610,2134,  46.6417, -29.2417,     3277,    480.8,   9.7290,  35.2633,2,     -999,9,    201.9,2,     -999,9,     -999,9,     -999,9
35TH20050604  ,AR07       ,23      ,  1,18         ,18         ,2,20050610,2134,  46.6417, -29.2417,     3277,    709.2,   6.8907,  35.0769,2,     -999,9,    205.8,2,     -999,9,    2.009,2,    1.055,2
35TH20050604  ,AR07       ,23      ,  1,17         ,17         ,2,20050610,2134,  46.6417, -29.2417,     3277,    798.0,   6.3449,  35.0905,2,     -999,9,    216.2,2,     -999,9,    2.111,2,    1.083,2
35TH20050604  ,AR07       ,23      ,  1,16         ,16         ,2,20050610,2134,  46.6417, -29.2417,     3277,    897.8,   5.4703,  35.0444,2,     -999,9,    232.7,2,     -999,9,     -999,9,     -999,9
35TH20050604  ,AR07       ,23      ,  1,15         ,15         ,2,20050610,2134,  46.6417, -29.2417,     3277,    998.4,   5.1195,  35.0403,2,     -999,9,    241.2,2,     -999,9,    2.417,2,    1.249,2
35TH20050604  ,AR07       ,23      ,  1,14         ,14         ,2,20050610,2134,  46.6417, -29.2417,     3277,   1127.6,   4.6604,  34.9956,2,     -999,9,    251.1,2,     -999,9,     -999,9,     -999,9
35TH20050604  ,AR07       ,23      ,  1,13         ,13         ,2,20050610,2134,  46.6417, -29.2417,     3277,   1198.0,   4.3836,  34.9706,2,     -999,9,    257.2,2,     -999,9,    2.719,2,    1.397,2
35TH20050604  ,AR07       ,23      ,  1,12         ,12         ,2,20050610,2134,  46.6417, -29.2417,     3277,   1308.1,   4.1517,  34.9557,2,     -999,9,    262.0,2,     -999,9,    2.717,2,    1.398,2
35TH20050604  ,AR07       ,23      ,  1,11         ,11         ,2,20050610,2134,  46.6417, -29.2417,     3277,   1425.1,   3.8484,  34.9263,2,     -999,9,    268.5,2,     -999,9,    2.803,2,    1.435,2
35TH20050604  ,AR07       ,23      ,  1,10         ,10         ,2,20050610,2134,  46.6417, -29.2417,     3277,   1506.1,   3.8039,  34.9293,2,     -999,9,    268.4,2,    262.7,6,     -999,9,     -999,9
35TH20050604  ,AR07       ,23      ,  1,9          ,9          ,2,20050610,2134,  46.6417, -29.2417,     3277,   1601.6,   3.7141,  34.9247,2,     -999,9,    269.5,2,     -999,9,    2.560,2,    1.288,2
35TH20050604  ,AR07       ,23      ,  1,8          ,8          ,2,20050610,2134,  46.6417, -29.2417,     3277,   1803.1,   3.5390,  34.9169,2,  34.9230,2,    271.6,2,     -999,9,    2.480,2,    1.235,2
35TH20050604  ,AR07       ,23      ,  1,7          ,7          ,2,20050610,2134,  46.6417, -29.2417,     3277,   1998.2,   3.4254,  34.9140,2,     -999,9,    272.9,2,     -999,9,    2.460,2,    1.218,2
35TH20050604  ,AR07       ,23      ,  1,6          ,6          ,2,20050610,2134,  46.6417, -29.2417,     3277,   2195.9,   3.3217,  34.9133,2,     -999,9,    273.3,2,     -999,9,    2.190,2,    1.043,2
35TH20050604  ,AR07       ,23      ,  1,5          ,5          ,2,20050610,2134,  46.6417, -29.2417,     3277,   2396.6,   3.2457,  34.9137,2,     -999,9,    273.4,2,     -999,9,    2.107,2,    1.029,2
35TH20050604  ,AR07       ,23      ,  1,4          ,4          ,2,20050610,2134,  46.6417, -29.2417,     3277,   2697.7,   3.1019,  34.9192,2,     -999,9,    272.6,2,     -999,9,    1.917,2,    0.932,2
35TH20050604  ,AR07       ,23      ,  1,3          ,3          ,2,20050610,2134,  46.6417, -29.2417,     3277,   2797.4,   3.0581,  34.9201,2,     -999,9,    272.5,2,     -999,9,     -999,9,     -999,9
35TH20050604  ,AR07       ,23      ,  1,2          ,2          ,2,20050610,2134,  46.6417, -29.2417,     3277,   2979.7,   2.9898,  34.9214,2,     -999,9,    272.5,2,     -999,9,    1.770,2,    0.848,2
35TH20050604  ,AR07       ,23      ,  1,1          ,1          ,2,20050610,2134,  46.6417, -29.2417,     3277,   3301.0,   2.8144,  34.9197,2,  34.9250,2,    273.5,2,    266.1,3,    1.686,2,    0.803,2
35TH20050604  ,AR07       ,24      ,  1,22         ,22         ,2,20050611,0252,  46.6167, -30.0167,     3547,     17.1,  15.8267,  35.6772,2,     -999,9,    261.7,2,    264.8,2,     -999,9,     -999,9
35TH20050604  ,AR07       ,24      ,  1,21         ,21         ,2,20050611,0252,  46.6167, -30.0167,     3547,    192.6,  12.7038,  35.5901,2,     -999,9,    242.2,2,     -999,9,     -999,9,     -999,9
35TH20050604  ,AR07       ,24      ,  1,20         ,20         ,2,20050611,0252,  46.6167, -30.0167,     3547,    406.5,  10.5082,  35.3158,2,     -999,9,    209.3,2,     -999,9,     -999,9,     -999,9
35TH20050604  ,AR07       ,24      ,  1,19         ,19         ,2,20050611,0252,  46.6167, -30.0167,     3547,    613.1,   7.5213,  35.0430,2,  35.0452,2,    193.7,2,     -999,9,     -999,9,     -999,9
35TH20050604  ,AR07       ,24      ,  1,18         ,18         ,2,20050611,0252,  46.6167, -30.0167,     3547,    816.0,   5.7821,  35.0478,2,     -999,9,    226.0,2,    230.1,2,     -999,9,     -999,9
35TH20050604  ,AR07       ,24      ,  1,17         ,17         ,2,20050611,0252,  46.6167, -30.0167,     3547,    904.5,   5.0340,  34.9913,2,     -999,9,    241.5,2,     -999,9,     -999,9,     -999,9
35TH20050604  ,AR07       ,24      ,  1,16         ,16         ,2,20050611,0252,  46.6167, -30.0167,     3547,    997.1,   4.6452,  34.9700,2,     -999,9,    251.6,2,     -999,9,     -999,9,     -999,9
35TH20050604  ,AR07       ,24      ,  1,15         ,15         ,2,20050611,0252,  46.6167, -30.0167,     3547,   1086.9,   4.3447,  34.9512,2,     -999,9,    258.0,2,     -999,9,     -999,9,     -999,9
35TH20050604  ,AR07       ,24      ,  1,14         ,14         ,2,20050611,0252,  46.6167, -30.0167,     3547,   1198.0,   4.1193,  34.9389,2,     -999,9,    263.8,2,     -999,9,     -999,9,     -999,9
35TH20050604  ,AR07       ,24      ,  1,13         ,13         ,2,20050611,0252,  46.6167, -30.0167,     3547,   1293.7,   3.9952,  34.9337,2,  34.9365,2,    265.9,2,     -999,9,     -999,9,     -999,9
35TH20050604  ,AR07       ,24      ,  1,12         ,12         ,2,20050611,0252,  46.6167, -30.0167,     3547,   1432.3,   3.8058,  34.9244,2,     -999,9,    268.4,2,    275.9,6,     -999,9,     -999,9
35TH20050604  ,AR07       ,24      ,  1,11         ,11         ,2,20050611,0252,  46.6167, -30.0167,     3547,   1598.7,   3.6429,  34.9177,2,     -999,9,    271.1,2,     -999,9,     -999,9,     -999,9
35TH20050604  ,AR07       ,24      ,  1,10         ,10         ,2,20050611,0252,  46.6167, -30.0167,     3547,   1697.7,   3.5741,  34.9170,2,     -999,9,    271.3,2,     -999,9,     -999,9,     -999,9
35TH20050604  ,AR07       ,24      ,  1,9          ,9          ,2,20050611,0252,  46.6167, -30.0167,     3547,   1801.6,   3.5075,  34.9144,2,     -999,9,    272.4,2,     -999,9,     -999,9,     -999,9
35TH20050604  ,AR07       ,24      ,  1,8          ,8          ,2,20050611,0252,  46.6167, -30.0167,     3547,   1905.1,   3.4342,  34.9106,2,     -999,9,    273.1,2,     -999,9,     -999,9,     -999,9
35TH20050604  ,AR07       ,24      ,  1,7          ,7          ,2,20050611,0252,  46.6167, -30.0167,     3547,   2015.9,   3.3782,  34.9088,2,     -999,9,    274.3,2,     -999,9,     -999,9,     -999,9
35TH20050604  ,AR07       ,24      ,  1,6          ,6          ,2,20050611,0252,  46.6167, -30.0167,     3547,   2149.4,   3.2801,  34.9057,2,     -999,9,    275.8,2,    272.5,3,     -999,9,     -999,9
35TH20050604  ,AR07       ,24      ,  1,5          ,5          ,2,20050611,0252,  46.6167, -30.0167,     3547,   2300.5,   3.2120,  34.9089,2,     -999,9,    275.3,2,     -999,9,     -999,9,     -999,9
35TH20050604  ,AR07       ,24      ,  1,4          ,4          ,2,20050611,0252,  46.6167, -30.0167,     3547,   2646.5,   3.0182,  34.9172,2,  34.9230,2,    273.7,2,     -999,9,     -999,9,     -999,9
35TH20050604  ,AR07       ,24      ,  1,3          ,3          ,2,20050611,0252,  46.6167, -30.0167,     3547,   2901.6,   2.8540,  34.9194,2,     -999,9,    273.6,2,     -999,9,     -999,9,     -999,9
35TH20050604  ,AR07       ,24      ,  1,2          ,2          ,2,20050611,0252,  46.6167, -30.0167,     3547,   3099.4,   2.7735,  34.9186,2,     -999,9,    273.5,2,     -999,9,     -999,9,     -999,9
35TH20050604  ,AR07       ,24      ,  1,1          ,1          ,2,20050611,0252,  46.6167, -30.0167,     3547,   3560.8,   2.6504,  34.9153,2,  34.9206,2,    274.3,2,    272.9,3,     -999,9,     -999,9