BOTTLE,20240221CCHSIOADS
EXPOCODE,SECT_ID,STNNBR,CASTNO,SAMPNO,BTLNBR,BTLNBR_FLAG_W,DATE,TIME,LATITUDE,LONGITUDE,DEPTH,CTDPRS,CTDTMP,CTDSAL,CTDSAL_FLAG_W,SALNTY,SALNTY_FLAG_W,CTDOXY,CTDOXY_FLAG_W,OXYGEN,OXYGEN_FLAG_W,CFC-11,CFC-11_FLAG_W,CFC-12,CFC-12_FLAG_W
,,,,,,,,,,,METERS,DBAR,ITS-90,PSS-78,,PSS-78,,UMOL/KG,,UMOL/KG,,PMOL/KG,,PMOL/KG,
35TH20050604  ,AR07       ,71      ,  1,22         ,22         ,2,20050626,1811,  60.3752, -48.4019,     1154,     11.1,   1.1836,  33.0384,2,     -999,9,    348.3,2,     -999,9,     -999,9,     -999,9
35TH20050604  ,AR07       ,71      ,  1,21         ,21         ,2,20050626,1811,  60.3752, -48.4019,     1154,     11.9,   1.1822,  33.0410,2,     -999,9,    348.5,2,    350.9,2,    6.016,2,    3.182,2
35TH20050604  ,AR07       ,71      ,  1,20         ,20         ,2,20050626,1811,  60.3752, -48.4019,     1154,    119.7,   5.3900,  34.5720,2,     -999,9,    313.2,2,     -999,9,     -999,9,     -999,9
35TH20050604  ,AR07       ,71      ,  1,19         ,19         ,2,20050626,1811,  60.3752, -48.4019,     1154,    120.0,   5.4095,  34.5788,2,     -999,9,    313.2,2,    309.6,2,     -999,9,     -999,9
35TH20050604  ,AR07       ,71      ,  1,18         ,18         ,2,20050626,1811,  60.3752, -48.4019,     1154,    227.3,   4.3133,  34.6779,2,     -999,9,    307.6,2,     -999,9,     -999,9,     -999,9
35TH20050604  ,AR07       ,71      ,  1,17         ,17         ,2,20050626,1811,  60.3752, -48.4019,     1154,    229.6,   4.3920,  34.7002,2,     -999,9,    306.8,2,     -999,9,    4.654,2,    2.529,2
35TH20050604  ,AR07       ,71      ,  1,16         ,16         ,2,20050626,1811,  60.3752, -48.4019,     1154,    311.3,   5.0079,  34.9230,2,     -999,9,    293.9,2,    293.3,2,     -999,9,     -999,9
35TH20050604  ,AR07       ,71      ,  1,15         ,15         ,2,20050626,1811,  60.3752, -48.4019,     1154,    314.5,   5.0105,  34.9237,2,     -999,9,    293.6,2,     -999,9,     -999,9,     -999,9
35TH20050604  ,AR07       ,71      ,  1,14         ,14         ,2,20050626,1811,  60.3752, -48.4019,     1154,    410.7,   4.9986,  34.9443,2,     -999,9,    291.8,2,     -999,9,     -999,9,     -999,9
35TH20050604  ,AR07       ,71      ,  1,13         ,13         ,2,20050626,1811,  60.3752, -48.4019,     1154,    417.4,   4.9858,  34.9452,2,     -999,9,    291.8,2,     -999,9,    4.186,2,    2.282,2
35TH20050604  ,AR07       ,71      ,  1,12         ,12         ,2,20050626,1811,  60.3752, -48.4019,     1154,    501.9,   4.8691,  34.9463,2,     -999,9,    289.0,2,    289.6,2,     -999,9,     -999,9
35TH20050604  ,AR07       ,71      ,  1,11         ,11         ,2,20050626,1811,  60.3752, -48.4019,     1154,    502.0,   4.8688,  34.9462,2,     -999,9,    289.0,2,     -999,9,    3.990,2,    2.194,2
35TH20050604  ,AR07       ,71      ,  1,9          ,9          ,2,20050626,1811,  60.3752, -48.4019,     1154,    618.9,   4.7397,  34.9439,2,     -999,9,    286.6,2,     -999,9,     -999,9,     -999,9
35TH20050604  ,AR07       ,71      ,  1,10         ,10         ,2,20050626,1811,  60.3752, -48.4019,     1154,    618.9,   4.7397,  34.9439,2,     -999,9,    286.6,2,     -999,9,    3.885,2,    2.134,2
35TH20050604  ,AR07       ,71      ,  1,8          ,8          ,2,20050626,1811,  60.3752, -48.4019,     1154,    719.9,   4.6903,  34.9434,2,     -999,9,    285.6,2,    285.6,6,    3.830,2,    2.082,2
35TH20050604  ,AR07       ,71      ,  1,7          ,7          ,2,20050626,1811,  60.3752, -48.4019,     1154,    719.9,   4.6903,  34.9434,2,     -999,9,    285.6,2,     -999,9,     -999,9,     -999,9
35TH20050604  ,AR07       ,71      ,  1,6          ,6          ,2,20050626,1811,  60.3752, -48.4019,     1154,    800.5,   4.6370,  34.9412,2,     -999,9,    284.8,2,     -999,9,     -999,9,     -999,9
35TH20050604  ,AR07       ,71      ,  1,5          ,5          ,2,20050626,1811,  60.3752, -48.4019,     1154,    800.5,   4.6370,  34.9412,2,     -999,9,    284.8,2,     -999,9,    3.784,2,    2.053,2
35TH20050604  ,AR07       ,71      ,  1,4          ,4          ,2,20050626,1811,  60.3752, -48.4019,     1154,    901.0,   4.4533,  34.9353,2,     -999,9,    283.1,2,     -999,9,    3.791,2,    2.038,2
35TH20050604  ,AR07       ,71      ,  1,3          ,3          ,2,20050626,1811,  60.3752, -48.4019,     1154,    901.1,   4.4501,  34.9360,2,     -999,9,    283.2,2,     -999,9,     -999,9,     -999,9
35TH20050604  ,AR07       ,71      ,  1,2          ,2          ,2,20050626,1811,  60.3752, -48.4019,     1154,   1217.8,   3.7868,  34.9163,2,     -999,9,    279.8,2,     -999,9,     -999,9,     -999,9
35TH20050604  ,AR07       ,71      ,  1,1          ,1          ,2,20050626,1811,  60.3752, -48.4019,     1154,   1222.2,   3.7861,  34.9138,2,  34.9181,2,    280.0,2,    280.7,2,    3.575,2,    1.896,2
35TH20050604  ,AR07       ,72      ,  1,13         ,13         ,2,20050626,1952,  60.3169, -48.5981,     2662,     37.3,   6.4824,  34.8530,2,     -999,9,    297.7,2,     -999,9,     -999,9,     -999,9
35TH20050604  ,AR07       ,72      ,  1,12         ,12         ,2,20050626,1952,  60.3169, -48.5981,     2662,     37.3,   6.4824,  34.8530,2,     -999,9,    297.7,2,    304.9,3,     -999,9,     -999,9
35TH20050604  ,AR07       ,72      ,  1,11         ,11         ,2,20050626,1952,  60.3169, -48.5981,     2662,    527.3,   4.5341,  34.9397,2,     -999,9,    278.9,2,     -999,9,     -999,9,     -999,9
35TH20050604  ,AR07       ,72      ,  1,10         ,10         ,2,20050626,1952,  60.3169, -48.5981,     2662,    528.2,   4.5302,  34.9400,2,     -999,9,    278.9,2,    284.8,3,     -999,9,     -999,9
35TH20050604  ,AR07       ,72      ,  1,9          ,9          ,2,20050626,1952,  60.3169, -48.5981,     2662,   1020.4,   3.7796,  34.9125,2,     -999,9,    276.2,2,     -999,9,     -999,9,     -999,9
35TH20050604  ,AR07       ,72      ,  1,8          ,8          ,2,20050626,1952,  60.3169, -48.5981,     2662,   1028.0,   3.7783,  34.9124,2,     -999,9,    275.8,2,    282.0,6,     -999,9,     -999,9
35TH20050604  ,AR07       ,72      ,  1,7          ,7          ,2,20050626,1952,  60.3169, -48.5981,     2662,   1526.5,   3.4415,  34.9102,2,     -999,9,    278.0,2,     -999,9,     -999,9,     -999,9
35TH20050604  ,AR07       ,72      ,  1,6          ,6          ,2,20050626,1952,  60.3169, -48.5981,     2662,   1527.6,   3.4412,  34.9101,2,  34.9092,2,    278.0,2,    280.7,2,     -999,9,     -999,9
35TH20050604  ,AR07       ,72      ,  1,5          ,5          ,2,20050626,1952,  60.3169, -48.5981,     2662,   1997.0,   2.9349,  34.9030,2,     -999,9,    282.5,2,     -999,9,     -999,9,     -999,9
35TH20050604  ,AR07       ,72      ,  1,4          ,4          ,2,20050626,1952,  60.3169, -48.5981,     2662,   1999.8,   2.9354,  34.9022,2,  34.9033,2,    282.6,2,    284.8,2,     -999,9,     -999,9
35TH20050604  ,AR07       ,72      ,  1,3          ,3          ,2,20050626,1952,  60.3169, -48.5981,     2662,   2498.8,   2.7435,  34.9006,2,     -999,9,    285.2,2,     -999,9,     -999,9,     -999,9
35TH20050604  ,AR07       ,72      ,  1,2          ,2          ,2,20050626,1952,  60.3169, -48.5981,     2662,   2500.4,   2.7434,  34.9003,2,     -999,9,    284.9,2,     -999,9,     -999,9,     -999,9
35TH20050604  ,AR07       ,72      ,  1,1          ,1          ,2,20050626,1952,  60.3169, -48.5981,     2662,   2774.0,   2.2443,  34.8896,2,  34.8894,2,    288.7,2,    292.4,2,     -999,9,     -999,9
35TH20050604  ,AR07       ,73      ,  1,22         ,22         ,2,20050626,2245,  60.1835, -48.6885,     2824,     28.0,   6.7114,  34.8186,2,     -999,9,    301.5,2,     -999,9,     -999,9,     -999,9
35TH20050604  ,AR07       ,73      ,  1,21         ,21         ,2,20050626,2245,  60.1835, -48.6885,     2824,     28.0,   6.7114,  34.8186,2,     -999,9,    301.5,2,    307.3,3,    4.314,2,    2.363,2
35TH20050604  ,AR07       ,73      ,  1,20         ,20         ,2,20050626,2245,  60.1835, -48.6885,     2824,    314.4,   4.6945,  34.9420,2,     -999,9,    292.6,2,    296.1,2,    4.202,2,    2.261,2
35TH20050604  ,AR07       ,73      ,  1,19         ,19         ,2,20050626,2245,  60.1835, -48.6885,     2824,    472.3,   4.2790,  34.9119,2,     -999,9,    292.5,2,     -999,9,    3.952,2,    2.117,2
35TH20050604  ,AR07       ,73      ,  1,18         ,18         ,2,20050626,2245,  60.1835, -48.6885,     2824,    693.3,   3.9907,  34.9057,2,     -999,9,    279.5,2,    282.0,2,    3.936,2,    2.071,2
35TH20050604  ,AR07       ,73      ,  1,17         ,17         ,2,20050626,2245,  60.1835, -48.6885,     2824,    905.5,   3.7284,  34.8962,2,     -999,9,    279.2,2,     -999,9,    3.894,2,    2.021,2
35TH20050604  ,AR07       ,73      ,  1,16         ,16         ,2,20050626,2245,  60.1835, -48.6885,     2824,   1025.0,   3.6473,  34.8956,2,     -999,9,    280.3,2,     -999,9,     -999,9,     -999,9
35TH20050604  ,AR07       ,73      ,  1,15         ,15         ,2,20050626,2245,  60.1835, -48.6885,     2824,   1068.6,   3.6530,  34.9007,2,     -999,9,    279.6,2,     -999,9,    3.598,2,    1.807,2
35TH20050604  ,AR07       ,73      ,  1,14         ,14         ,2,20050626,2245,  60.1835, -48.6885,     2824,   1198.4,   3.6062,  34.9063,2,     -999,9,    277.9,2,    279.2,6,     -999,9,     -999,9
35TH20050604  ,AR07       ,73      ,  1,13         ,13         ,2,20050626,2245,  60.1835, -48.6885,     2824,   1294.6,   3.5498,  34.9115,2,     -999,9,    277.4,2,     -999,9,    3.296,2,    1.634,2
35TH20050604  ,AR07       ,73      ,  1,12         ,12         ,2,20050626,2245,  60.1835, -48.6885,     2824,   1419.5,   3.4559,  34.9100,2,     -999,9,    278.1,2,     -999,9,     -999,9,     -999,9
35TH20050604  ,AR07       ,73      ,  1,11         ,11         ,2,20050626,2245,  60.1835, -48.6885,     2824,   1472.9,   3.3976,  34.9076,2,     -999,9,    279.1,2,     -999,9,    3.262,2,    1.627,2
35TH20050604  ,AR07       ,73      ,  1,10         ,10         ,2,20050626,2245,  60.1835, -48.6885,     2824,   1578.9,   3.2952,  34.9038,2,  34.9055,2,    281.0,2,     -999,9,     -999,9,     -999,9
35TH20050604  ,AR07       ,73      ,  1,9          ,9          ,2,20050626,2245,  60.1835, -48.6885,     2824,   1676.3,   3.1999,  34.9013,2,     -999,9,    282.5,2,     -999,9,     -999,9,     -999,9
35TH20050604  ,AR07       ,73      ,  1,8          ,8          ,2,20050626,2245,  60.1835, -48.6885,     2824,   1677.7,   3.1982,  34.9013,2,     -999,9,    282.6,2,    283.0,2,    3.159,2,    1.582,2
35TH20050604  ,AR07       ,73      ,  1,7          ,7          ,2,20050626,2245,  60.1835, -48.6885,     2824,   1894.5,   3.0239,  34.9067,2,     -999,9,    282.7,2,     -999,9,    2.917,2,    1.443,2
35TH20050604  ,AR07       ,73      ,  1,6          ,6          ,2,20050626,2245,  60.1835, -48.6885,     2824,   2095.7,   2.7738,  34.9024,2,     -999,9,    285.3,2,     -999,9,    2.960,2,    1.501,2
35TH20050604  ,AR07       ,73      ,  1,5          ,5          ,2,20050626,2245,  60.1835, -48.6885,     2824,   2296.3,   2.5964,  34.8985,2,     -999,9,    286.8,2,    286.8,2,    3.106,2,    1.555,2
35TH20050604  ,AR07       ,73      ,  1,4          ,4          ,2,20050626,2245,  60.1835, -48.6885,     2824,   2390.2,   2.5485,  34.8967,2,     -999,9,    287.5,2,     -999,9,     -999,9,     -999,9
35TH20050604  ,AR07       ,73      ,  1,3          ,3          ,2,20050626,2245,  60.1835, -48.6885,     2824,   2603.3,   2.2269,  34.8891,2,     -999,9,    290.4,2,    289.5,2,    3.198,2,    1.618,2
35TH20050604  ,AR07       ,73      ,  1,2          ,2          ,2,20050626,2245,  60.1835, -48.6885,     2824,   2697.4,   2.0281,  34.8792,2,     -999,9,    294.5,2,     -999,9,     -999,9,     -999,9
35TH20050604  ,AR07       ,73      ,  1,1          ,1          ,2,20050626,2245,  60.1835, -48.6885,     2824,   2917.8,   1.8704,  34.8758,2,  34.8784,2,    298.4,2,    298.7,2,    3.842,2,    1.966,2
35TH20050604  ,AR07       ,74      ,  1,10         ,10         ,2,20050627,0214,  59.9734, -48.8685,     2962,     21.0,   6.3872,  34.6682,2,     -999,9,    306.6,2,    310.0,6,     -999,9,     -999,9
35TH20050604  ,AR07       ,74      ,  1,9          ,9          ,2,20050627,0214,  59.9734, -48.8685,     2962,    422.9,   4.3148,  34.9145,2,     -999,9,    293.1,2,    298.3,3,     -999,9,     -999,9
35TH20050604  ,AR07       ,74      ,  1,8          ,8          ,2,20050627,0214,  59.9734, -48.8685,     2962,    851.5,   3.7229,  34.8874,2,     -999,9,    282.5,2,    286.5,3,     -999,9,     -999,9
35TH20050604  ,AR07       ,74      ,  1,7          ,7          ,2,20050627,0214,  59.9734, -48.8685,     2962,   1382.0,   3.4831,  34.9063,2,     -999,9,    277.6,2,    283.1,3,     -999,9,     -999,9
35TH20050604  ,AR07       ,74      ,  1,6          ,6          ,2,20050627,0214,  59.9734, -48.8685,     2962,   1897.1,   3.0890,  34.9015,2,     -999,9,    283.5,2,    284.0,2,     -999,9,     -999,9
35TH20050604  ,AR07       ,74      ,  1,5          ,5          ,2,20050627,0214,  59.9734, -48.8685,     2962,   2389.6,   2.6541,  34.9092,2,     -999,9,    283.9,2,    281.9,2,     -999,9,     -999,9
35TH20050604  ,AR07       ,74      ,  1,3          ,3          ,2,20050627,0214,  59.9734, -48.8685,     2962,   3028.7,   1.5203,  34.8755,2,     -999,9,    300.9,2,     -999,9,     -999,9,     -999,9
35TH20050604  ,AR07       ,74      ,  1,1          ,1          ,2,20050627,0214,  59.9734, -48.8685,     2962,   3028.8,   1.5204,  34.8757,2,  34.8774,2,    300.6,2,     -999,9,     -999,9,     -999,9
35TH20050604  ,AR07       ,74      ,  1,2          ,2          ,2,20050627,0214,  59.9734, -48.8685,     2962,   3029.1,   1.5205,  34.8753,2,     -999,9,    301.0,2,     -999,9,     -999,9,     -999,9
35TH20050604  ,AR07       ,74      ,  1,4          ,4          ,2,20050627,0214,  59.9734, -48.8685,     2962,   3029.3,   1.5203,  34.8756,2,     -999,9,    301.0,2,    301.7,2,     -999,9,     -999,9
35TH20050604  ,AR07       ,75      ,  1,22         ,22         ,2,20050627,0548,  59.7496, -49.2040,     3167,     33.4,   6.1383,  34.6251,2,     -999,9,    310.3,2,     -999,9,     -999,9,     -999,9
35TH20050604  ,AR07       ,75      ,  1,21         ,21         ,2,20050627,0548,  59.7496, -49.2040,     3167,     33.7,   6.1404,  34.6268,2,     -999,9,    310.3,2,    311.1,2,    4.612,2,    2.562,2
35TH20050604  ,AR07       ,75      ,  1,20         ,20         ,2,20050627,0548,  59.7496, -49.2040,     3167,    185.5,   3.9036,  34.8693,2,     -999,9,    302.7,2,     -999,9,    4.424,2,    2.427,2
35TH20050604  ,AR07       ,75      ,  1,19         ,19         ,2,20050627,0548,  59.7496, -49.2040,     3167,    371.4,   3.5995,  34.8605,2,     -999,9,    303.8,2,     -999,9,    4.300,2,    2.308,2
35TH20050604  ,AR07       ,75      ,  1,18         ,18         ,2,20050627,0548,  59.7496, -49.2040,     3167,    568.2,   3.4948,  34.8555,2,     -999,9,    303.2,2,     -999,9,    4.514,2,    2.425,2
35TH20050604  ,AR07       ,75      ,  1,17         ,17         ,2,20050627,0548,  59.7496, -49.2040,     3167,    693.7,   3.4815,  34.8566,2,     -999,9,    301.4,2,    303.6,6,     -999,9,     -999,9
35TH20050604  ,AR07       ,75      ,  1,16         ,16         ,2,20050627,0548,  59.7496, -49.2040,     3167,    827.6,   3.4885,  34.8593,2,     -999,9,    298.9,2,     -999,9,     -999,9,     -999,9
35TH20050604  ,AR07       ,75      ,  1,15         ,15         ,2,20050627,0548,  59.7496, -49.2040,     3167,    927.0,   3.4575,  34.8566,2,     -999,9,    299.8,2,     -999,9,    4.550,2,    2.392,2
35TH20050604  ,AR07       ,75      ,  1,14         ,14         ,2,20050627,0548,  59.7496, -49.2040,     3167,    999.0,   3.4464,  34.8550,2,     -999,9,    301.5,2,     -999,9,    4.498,2,    2.379,2
35TH20050604  ,AR07       ,75      ,  1,13         ,13         ,2,20050627,0548,  59.7496, -49.2040,     3167,   1094.4,   3.4285,  34.8555,2,     -999,9,    297.6,2,     -999,9,     -999,9,     -999,9
35TH20050604  ,AR07       ,75      ,  1,12         ,12         ,2,20050627,0548,  59.7496, -49.2040,     3167,   1205.6,   3.3957,  34.8543,2,     -999,9,    295.3,2,    295.0,2,    4.375,2,    2.306,2
35TH20050604  ,AR07       ,75      ,  1,11         ,11         ,2,20050627,0548,  59.7496, -49.2040,     3167,   1325.9,   3.4182,  34.8640,2,     -999,9,    291.8,2,     -999,9,     -999,9,     -999,9
35TH20050604  ,AR07       ,75      ,  1,10         ,10         ,2,20050627,0548,  59.7496, -49.2040,     3167,   1375.4,   3.4665,  34.8760,2,     -999,9,    288.0,2,     -999,9,    3.785,2,    1.945,2
35TH20050604  ,AR07       ,75      ,  1,9          ,9          ,2,20050627,0548,  59.7496, -49.2040,     3167,   1499.9,   3.4800,  34.8925,2,     -999,9,    282.1,2,     -999,9,    3.490,2,    1.752,2
35TH20050604  ,AR07       ,75      ,  1,8          ,8          ,2,20050627,0548,  59.7496, -49.2040,     3167,   1598.7,   3.4207,  34.8962,2,     -999,9,    281.9,2,    281.1,2,    3.358,2,    1.674,2
35TH20050604  ,AR07       ,75      ,  1,7          ,7          ,2,20050627,0548,  59.7496, -49.2040,     3167,   1675.3,   3.3347,  34.8921,2,     -999,9,    283.1,2,     -999,9,    3.305,6,    1.638,6
35TH20050604  ,AR07       ,75      ,  1,6          ,6          ,2,20050627,0548,  59.7496, -49.2040,     3167,   1859.4,   3.2251,  34.8909,2,  34.8888,2,    285.2,2,     -999,9,    3.240,2,    1.558,2
35TH20050604  ,AR07       ,75      ,  1,5          ,5          ,2,20050627,0548,  59.7496, -49.2040,     3167,   2099.3,   3.0991,  34.8991,2,     -999,9,    285.1,2,    284.3,2,    3.048,2,    1.509,2
35TH20050604  ,AR07       ,75      ,  1,4          ,4          ,2,20050627,0548,  59.7496, -49.2040,     3167,   2390.7,   2.8982,  34.9064,2,     -999,9,    283.9,2,    284.3,2,    2.763,2,    1.377,2
35TH20050604  ,AR07       ,75      ,  1,3          ,3          ,2,20050627,0548,  59.7496, -49.2040,     3167,   2706.8,   2.6328,  34.9111,2,     -999,9,    284.3,2,     -999,9,     -999,9,     -999,9
35TH20050604  ,AR07       ,75      ,  1,2          ,2          ,2,20050627,0548,  59.7496, -49.2040,     3167,   2997.0,   2.0997,  34.8878,2,     -999,9,    291.8,2,     -999,9,    3.233,2,    1.643,2
35TH20050604  ,AR07       ,75      ,  1,1          ,1          ,2,20050627,0548,  59.7496, -49.2040,     3167,   3242.3,   1.4995,  34.8770,2,  34.8796,2,    302.3,2,    301.4,2,    3.943,2,    1.975,2