BOTTLE,20240221CCHSIOADS
EXPOCODE,SECT_ID,STNNBR,CASTNO,SAMPNO,BTLNBR,BTLNBR_FLAG_W,DATE,TIME,LATITUDE,LONGITUDE,DEPTH,CTDPRS,CTDTMP,CTDSAL,CTDSAL_FLAG_W,SALNTY,SALNTY_FLAG_W,CTDOXY,CTDOXY_FLAG_W,OXYGEN,OXYGEN_FLAG_W,CFC-11,CFC-11_FLAG_W,CFC-12,CFC-12_FLAG_W
,,,,,,,,,,,METERS,DBAR,ITS-90,PSS-78,,PSS-78,,UMOL/KG,,UMOL/KG,,PMOL/KG,,PMOL/KG,
35TH20050604  ,AR07       ,108     ,  1,22         ,22         ,2,20050704,1925,  55.2845, -39.1813,     2852,      7.6,   9.5068,  34.8174,2,     -999,9,    293.6,2,     -999,9,     -999,9,     -999,9
35TH20050604  ,AR07       ,108     ,  1,21         ,21         ,2,20050704,1925,  55.2845, -39.1813,     2852,      7.6,   9.5068,  34.8174,2,     -999,9,    293.6,2,    294.0,2,    3.793,2,    2.117,2
35TH20050604  ,AR07       ,108     ,  1,20         ,20         ,2,20050704,1925,  55.2845, -39.1813,     2852,    106.6,   5.3491,  34.8807,2,     -999,9,    294.2,2,     -999,9,    4.282,2,    2.338,2
35TH20050604  ,AR07       ,108     ,  1,19         ,19         ,2,20050704,1925,  55.2845, -39.1813,     2852,    272.2,   4.7270,  34.9124,2,  34.9146,2,    281.9,2,    293.7,3,     -999,9,     -999,9
35TH20050604  ,AR07       ,108     ,  1,18         ,18         ,2,20050704,1925,  55.2845, -39.1813,     2852,    473.5,   4.2180,  34.9120,2,     -999,9,    279.0,2,     -999,9,    3.828,2,    2.017,2
35TH20050604  ,AR07       ,108     ,  1,17         ,17         ,2,20050704,1925,  55.2845, -39.1813,     2852,    670.6,   3.7630,  34.8877,2,     -999,9,    285.1,2,     -999,9,    3.930,2,    2.013,2
35TH20050604  ,AR07       ,108     ,  1,16         ,16         ,2,20050704,1925,  55.2845, -39.1813,     2852,    877.5,   3.5820,  34.8885,2,     -999,9,    280.1,2,    286.3,3,    3.856,2,    1.985,2
35TH20050604  ,AR07       ,108     ,  1,15         ,15         ,2,20050704,1925,  55.2845, -39.1813,     2852,    997.7,   3.5252,  34.8944,2,     -999,9,    281.4,2,     -999,9,    3.538,2,    1.781,2
35TH20050604  ,AR07       ,108     ,  1,14         ,14         ,2,20050704,1925,  55.2845, -39.1813,     2852,   1093.7,   3.5078,  34.9044,2,     -999,9,    279.2,2,     -999,9,    3.202,2,    1.583,2
35TH20050604  ,AR07       ,108     ,  1,13         ,13         ,2,20050704,1925,  55.2845, -39.1813,     2852,   1197.9,   3.4330,  34.9049,2,     -999,9,    279.6,2,    281.4,2,    3.187,2,    1.561,2
35TH20050604  ,AR07       ,108     ,  1,12         ,12         ,2,20050704,1925,  55.2845, -39.1813,     2852,   1294.8,   3.3367,  34.8994,2,     -999,9,    281.3,2,     -999,9,    3.114,3,    1.476,3
35TH20050604  ,AR07       ,108     ,  1,11         ,11         ,2,20050704,1925,  55.2845, -39.1813,     2852,   1397.7,   3.2465,  34.8970,2,     -999,9,    283.4,2,     -999,9,    3.146,2,    1.531,2
35TH20050604  ,AR07       ,108     ,  1,10         ,10         ,2,20050704,1925,  55.2845, -39.1813,     2852,   1499.0,   3.2242,  34.9027,2,     -999,9,    283.2,2,     -999,9,    3.034,2,    1.459,2
35TH20050604  ,AR07       ,108     ,  1,9          ,9          ,2,20050704,1925,  55.2845, -39.1813,     2852,   1600.1,   3.1580,  34.9039,2,     -999,9,    283.5,2,     -999,9,    2.943,2,    1.422,2
35TH20050604  ,AR07       ,108     ,  1,8          ,8          ,2,20050704,1925,  55.2845, -39.1813,     2852,   1797.2,   3.1037,  34.9193,2,     -999,9,    281.0,2,    281.8,6,    2.601,2,    1.243,2
35TH20050604  ,AR07       ,108     ,  1,7          ,7          ,2,20050704,1925,  55.2845, -39.1813,     2852,   1899.9,   3.0825,  34.9251,2,  34.9274,2,    280.2,2,     -999,9,    2.494,2,    1.213,2
35TH20050604  ,AR07       ,108     ,  1,6          ,6          ,2,20050704,1925,  55.2845, -39.1813,     2852,   2004.4,   3.0396,  34.9281,2,     -999,9,    280.0,2,     -999,9,    2.426,2,    1.193,2
35TH20050604  ,AR07       ,108     ,  1,5          ,5          ,2,20050704,1925,  55.2845, -39.1813,     2852,   2102.3,   2.9901,  34.9315,2,     -999,9,    279.2,2,     -999,9,    2.320,2,    1.146,2
35TH20050604  ,AR07       ,108     ,  1,4          ,4          ,2,20050704,1925,  55.2845, -39.1813,     2852,   2296.9,   2.9357,  34.9418,2,     -999,9,    278.1,2,    277.9,2,    2.319,2,    1.143,2
35TH20050604  ,AR07       ,108     ,  1,3          ,3          ,2,20050704,1925,  55.2845, -39.1813,     2852,   2497.0,   2.8919,  34.9477,2,     -999,9,    277.2,2,     -999,9,    2.255,2,    1.107,2
35TH20050604  ,AR07       ,108     ,  1,2          ,2          ,2,20050704,1925,  55.2845, -39.1813,     2852,   2698.9,   2.8679,  34.9496,2,     -999,9,    277.2,2,     -999,9,    2.259,2,    1.118,2
35TH20050604  ,AR07       ,108     ,  1,1          ,1          ,2,20050704,1925,  55.2845, -39.1813,     2852,   2848.5,   2.8229,  34.9449,2,  34.9486,2,    277.2,2,    276.6,2,    2.220,2,    1.099,2
35TH20050604  ,AR07       ,109     ,  1,22         ,22         ,2,20050705,0056,  54.7524, -38.5242,     2952,     18.7,  10.1194,  34.6963,2,     -999,9,    287.3,2,     -999,9,     -999,9,     -999,9
35TH20050604  ,AR07       ,109     ,  1,21         ,21         ,2,20050705,0056,  54.7524, -38.5242,     2952,     18.7,  10.1194,  34.6963,2,     -999,9,    287.3,2,    286.2,2,    3.702,2,    2.082,2
35TH20050604  ,AR07       ,109     ,  1,20         ,20         ,2,20050705,0056,  54.7524, -38.5242,     2952,    200.1,   5.8654,  34.8566,2,     -999,9,    284.7,2,     -999,9,     -999,9,     -999,9
35TH20050604  ,AR07       ,109     ,  1,19         ,19         ,2,20050705,0056,  54.7524, -38.5242,     2952,    405.8,   5.0121,  34.9213,2,     -999,9,    253.7,2,    255.4,2,    3.591,2,    1.880,2
35TH20050604  ,AR07       ,109     ,  1,18         ,18         ,2,20050705,0056,  54.7524, -38.5242,     2952,    594.5,   4.4871,  34.9340,2,     -999,9,    256.9,2,     -999,9,    3.410,2,    1.712,2
35TH20050604  ,AR07       ,109     ,  1,17         ,17         ,2,20050705,0056,  54.7524, -38.5242,     2952,    802.9,   3.9419,  34.9145,2,     -999,9,    269.6,2,     -999,9,    3.436,2,    1.733,2
35TH20050604  ,AR07       ,109     ,  1,16         ,16         ,2,20050705,0056,  54.7524, -38.5242,     2952,    895.2,   3.7418,  34.9009,2,     -999,9,    275.5,2,     -999,9,    3.481,2,    1.751,2
35TH20050604  ,AR07       ,109     ,  1,15         ,15         ,2,20050705,0056,  54.7524, -38.5242,     2952,    999.6,   3.6298,  34.8968,2,     -999,9,    277.5,2,    281.4,3,    3.540,2,    1.753,2
35TH20050604  ,AR07       ,109     ,  1,14         ,14         ,2,20050705,0056,  54.7524, -38.5242,     2952,   1097.8,   3.5883,  34.9038,2,     -999,9,    277.8,2,     -999,9,    3.305,2,    1.643,2
35TH20050604  ,AR07       ,109     ,  1,13         ,13         ,2,20050705,0056,  54.7524, -38.5242,     2952,   1194.6,   3.5247,  34.9084,2,  34.9119,2,    277.2,2,     -999,9,    3.148,2,    1.532,2
35TH20050604  ,AR07       ,109     ,  1,12         ,12         ,2,20050705,0056,  54.7524, -38.5242,     2952,   1296.8,   3.4363,  34.9095,2,     -999,9,    278.5,2,     -999,9,     -999,9,     -999,9
35TH20050604  ,AR07       ,109     ,  1,11         ,11         ,2,20050705,0056,  54.7524, -38.5242,     2952,   1398.1,   3.3336,  34.9047,2,     -999,9,    280.6,2,     -999,9,    3.153,2,    1.542,2
35TH20050604  ,AR07       ,109     ,  1,10         ,10         ,2,20050705,0056,  54.7524, -38.5242,     2952,   1505.2,   3.2944,  34.9095,2,     -999,9,    280.7,2,    281.4,6,    2.994,2,    1.452,2
35TH20050604  ,AR07       ,109     ,  1,9          ,9          ,2,20050705,0056,  54.7524, -38.5242,     2952,   1598.4,   3.2183,  34.9090,2,     -999,9,    281.7,2,     -999,9,    2.984,2,    1.455,2
35TH20050604  ,AR07       ,109     ,  1,8          ,8          ,2,20050705,0056,  54.7524, -38.5242,     2952,   1772.3,   3.1590,  34.9198,2,     -999,9,    280.7,2,     -999,9,    2.705,2,    1.326,2
35TH20050604  ,AR07       ,109     ,  1,7          ,7          ,2,20050705,0056,  54.7524, -38.5242,     2952,   2098.5,   3.0938,  34.9412,2,     -999,9,    278.0,2,     -999,9,    2.486,2,    1.222,2
35TH20050604  ,AR07       ,109     ,  1,6          ,6          ,2,20050705,0056,  54.7524, -38.5242,     2952,   2197.2,   3.0773,  34.9481,2,     -999,9,    277.7,2,    277.9,2,    2.512,2,    1.227,2
35TH20050604  ,AR07       ,109     ,  1,5          ,5          ,2,20050705,0056,  54.7524, -38.5242,     2952,   2396.9,   3.0335,  34.9536,2,     -999,9,    277.0,2,     -999,9,    2.464,2,    1.203,2
35TH20050604  ,AR07       ,109     ,  1,4          ,4          ,2,20050705,0056,  54.7524, -38.5242,     2952,   2596.3,   2.9800,  34.9548,2,  34.9587,2,    276.6,2,     -999,9,    2.334,2,    1.152,2
35TH20050604  ,AR07       ,109     ,  1,3          ,3          ,2,20050705,0056,  54.7524, -38.5242,     2952,   2795.4,   2.9245,  34.9509,2,     -999,9,    276.8,2,     -999,9,    2.293,2,    1.131,2
35TH20050604  ,AR07       ,109     ,  1,2          ,2          ,2,20050705,0056,  54.7524, -38.5242,     2952,   2897.2,   2.9112,  34.9508,2,     -999,9,    276.6,2,     -999,9,    2.267,2,    1.111,2
35TH20050604  ,AR07       ,109     ,  1,1          ,1          ,2,20050705,0056,  54.7524, -38.5242,     2952,   2998.3,   2.9071,  34.9501,2,     -999,9,    276.1,2,    274.2,2,    2.280,2,    1.128,2
35TH20050604  ,AR07       ,110     ,  1,22         ,22         ,2,20050705,0632,  54.2171, -37.8601,     2799,      9.8,  10.1790,  34.8120,2,     -999,9,    284.1,2,     -999,9,     -999,9,     -999,9
35TH20050604  ,AR07       ,110     ,  1,21         ,21         ,2,20050705,0632,  54.2171, -37.8601,     2799,      9.8,  10.1790,  34.8120,2,     -999,9,    284.1,2,    283.0,6,    3.675,2,    2.074,2
35TH20050604  ,AR07       ,110     ,  1,20         ,20         ,2,20050705,0632,  54.2171, -37.8601,     2799,    105.5,   6.8235,  34.9170,2,     -999,9,    280.0,2,     -999,9,    3.937,2,    2.169,2
35TH20050604  ,AR07       ,110     ,  1,19         ,19         ,2,20050705,0632,  54.2171, -37.8601,     2799,    294.2,   5.9334,  34.9455,2,     -999,9,    265.0,2,     -999,9,    3.670,2,    1.977,2
35TH20050604  ,AR07       ,110     ,  1,18         ,18         ,2,20050705,0632,  54.2171, -37.8601,     2799,    497.8,   4.8022,  34.9365,2,     -999,9,    253.8,2,    253.7,2,    3.307,2,    1.701,2
35TH20050604  ,AR07       ,110     ,  1,17         ,17         ,2,20050705,0632,  54.2171, -37.8601,     2799,    702.4,   4.2069,  34.9238,2,     -999,9,    264.9,2,     -999,9,    3.378,2,    1.715,2
35TH20050604  ,AR07       ,110     ,  1,16         ,16         ,2,20050705,0632,  54.2171, -37.8601,     2799,    883.0,   3.7020,  34.8911,2,  34.8989,2,    276.5,2,     -999,9,    3.681,2,    1.900,2
35TH20050604  ,AR07       ,110     ,  1,15         ,15         ,2,20050705,0632,  54.2171, -37.8601,     2799,   1001.7,   3.7721,  34.9156,2,     -999,9,    277.3,2,     -999,9,     -999,9,     -999,9
35TH20050604  ,AR07       ,110     ,  1,14         ,14         ,2,20050705,0632,  54.2171, -37.8601,     2799,   1076.7,   3.6396,  34.9094,2,     -999,9,    275.5,2,    275.3,2,    3.243,2,    1.621,2
35TH20050604  ,AR07       ,110     ,  1,13         ,13         ,2,20050705,0632,  54.2171, -37.8601,     2799,   1197.7,   3.5266,  34.9081,2,     -999,9,    277.7,2,     -999,9,    3.154,2,    1.555,2
35TH20050604  ,AR07       ,110     ,  1,12         ,12         ,2,20050705,0632,  54.2171, -37.8601,     2799,   1296.6,   3.4305,  34.9067,2,     -999,9,    279.1,2,     -999,9,    3.140,2,    1.545,2
35TH20050604  ,AR07       ,110     ,  1,11         ,11         ,2,20050705,0632,  54.2171, -37.8601,     2799,   1395.0,   3.3575,  34.9111,2,     -999,9,    280.1,2,     -999,9,     -999,9,     -999,9
35TH20050604  ,AR07       ,110     ,  1,10         ,10         ,2,20050705,0632,  54.2171, -37.8601,     2799,   1493.6,   3.3175,  34.9165,2,     -999,9,    280.0,2,     -999,9,    2.938,2,    1.428,2
35TH20050604  ,AR07       ,110     ,  1,9          ,9          ,2,20050705,0632,  54.2171, -37.8601,     2799,   1696.4,   3.2966,  34.9371,2,     -999,9,    278.1,2,    277.3,2,    2.826,2,    1.386,2
35TH20050604  ,AR07       ,110     ,  1,8          ,8          ,2,20050705,0632,  54.2171, -37.8601,     2799,   1911.2,   3.1978,  34.9421,2,  34.9439,2,    278.1,2,     -999,9,    2.658,2,    1.309,2
35TH20050604  ,AR07       ,110     ,  1,7          ,7          ,2,20050705,0632,  54.2171, -37.8601,     2799,   2098.1,   3.1278,  34.9473,2,     -999,9,    277.6,2,    270.0,4,    2.548,2,    1.254,2
35TH20050604  ,AR07       ,110     ,  1,6          ,6          ,2,20050705,0632,  54.2171, -37.8601,     2799,   2197.3,   3.0818,  34.9468,2,     -999,9,    277.9,2,     -999,9,     -999,9,     -999,9
35TH20050604  ,AR07       ,110     ,  1,5          ,5          ,2,20050705,0632,  54.2171, -37.8601,     2799,   2296.4,   3.0531,  34.9501,2,     -999,9,    277.4,2,     -999,9,    2.446,6,    1.202,6
35TH20050604  ,AR07       ,110     ,  1,4          ,4          ,2,20050705,0632,  54.2171, -37.8601,     2799,   2496.3,   3.0342,  34.9586,2,     -999,9,    276.7,2,    276.8,2,    2.438,2,    1.193,2
35TH20050604  ,AR07       ,110     ,  1,3          ,3          ,2,20050705,0632,  54.2171, -37.8601,     2799,   2696.6,   3.0025,  34.9612,2,     -999,9,    276.6,2,     -999,9,    2.430,2,    1.198,2
35TH20050604  ,AR07       ,110     ,  1,2          ,2          ,2,20050705,0632,  54.2171, -37.8601,     2799,   2834.4,   2.9297,  34.9574,2,     -999,9,    276.0,2,     -999,9,     -999,9,     -999,9
35TH20050604  ,AR07       ,110     ,  1,1          ,1          ,2,20050705,0632,  54.2171, -37.8601,     2799,   2837.8,   2.9248,  34.9562,2,  34.9575,2,    276.2,2,    274.5,2,    2.356,2,    1.160,2
35TH20050604  ,AR07       ,111     ,  1,22         ,22         ,2,20050705,1307,  53.6761, -37.1999,     2736,      8.7,  10.5831,  34.7824,2,     -999,9,    282.7,2,     -999,9,     -999,9,     -999,9
35TH20050604  ,AR07       ,111     ,  1,21         ,21         ,2,20050705,1307,  53.6761, -37.1999,     2736,     14.0,  10.4612,  34.7756,2,     -999,9,    283.7,2,    287.8,3,    3.653,2,    2.060,2
35TH20050604  ,AR07       ,111     ,  1,20         ,20         ,2,20050705,1307,  53.6761, -37.1999,     2736,     99.9,   6.7815,  34.8693,2,     -999,9,    279.2,2,     -999,9,     -999,9,     -999,9
35TH20050604  ,AR07       ,111     ,  1,19         ,19         ,2,20050705,1307,  53.6761, -37.1999,     2736,    324.8,   5.6942,  34.9451,2,     -999,9,    251.3,2,    257.6,2,    3.563,2,    1.914,2
35TH20050604  ,AR07       ,111     ,  1,18         ,18         ,2,20050705,1307,  53.6761, -37.1999,     2736,    510.0,   4.6554,  34.9232,2,     -999,9,    257.2,2,     -999,9,    3.488,2,    1.798,2
35TH20050604  ,AR07       ,111     ,  1,17         ,17         ,2,20050705,1307,  53.6761, -37.1999,     2736,    596.8,   4.3814,  34.9224,2,     -999,9,    262.6,2,     -999,9,    3.520,2,    1.802,2
35TH20050604  ,AR07       ,111     ,  1,16         ,16         ,2,20050705,1307,  53.6761, -37.1999,     2736,    709.6,   4.1326,  34.9222,2,     -999,9,    266.1,2,     -999,9,    3.478,2,    1.772,2
35TH20050604  ,AR07       ,111     ,  1,15         ,15         ,2,20050705,1307,  53.6761, -37.1999,     2736,    829.3,   3.8440,  34.9052,2,     -999,9,    273.3,2,    275.5,2,     -999,9,     -999,9
35TH20050604  ,AR07       ,111     ,  1,14         ,14         ,2,20050705,1307,  53.6761, -37.1999,     2736,    891.1,   3.8739,  34.9186,2,     -999,9,    272.3,2,     -999,9,    3.218,2,    1.619,2
35TH20050604  ,AR07       ,111     ,  1,13         ,13         ,2,20050705,1307,  53.6761, -37.1999,     2736,    997.6,   3.7633,  34.9216,2,     -999,9,    272.4,2,     -999,9,     -999,9,     -999,9
35TH20050604  ,AR07       ,111     ,  1,12         ,12         ,2,20050705,1307,  53.6761, -37.1999,     2736,   1124.0,   3.6369,  34.9209,2,     -999,9,    274.6,2,     -999,9,    2.992,2,    1.468,2
35TH20050604  ,AR07       ,111     ,  1,11         ,11         ,2,20050705,1307,  53.6761, -37.1999,     2736,   1229.4,   3.5363,  34.9204,2,     -999,9,    276.1,2,     -999,9,    3.075,2,    1.513,2
35TH20050604  ,AR07       ,111     ,  1,10         ,10         ,2,20050705,1307,  53.6761, -37.1999,     2736,   1298.1,   3.4181,  34.9148,2,     -999,9,    278.2,2,    280.2,2,     -999,9,     -999,9
35TH20050604  ,AR07       ,111     ,  1,9          ,9          ,2,20050705,1307,  53.6761, -37.1999,     2736,   1418.0,   3.3412,  34.9172,2,     -999,9,    279.1,2,     -999,9,    2.937,2,    1.397,2
35TH20050604  ,AR07       ,111     ,  1,8          ,8          ,2,20050705,1307,  53.6761, -37.1999,     2736,   1527.7,   3.2904,  34.9270,2,     -999,9,    278.9,2,     -999,9,    2.838,2,    1.360,2
35TH20050604  ,AR07       ,111     ,  1,7          ,7          ,2,20050705,1307,  53.6761, -37.1999,     2736,   1688.6,   3.1450,  34.9214,2,     -999,9,    279.9,2,    281.4,2,    2.641,2,    1.264,2
35TH20050604  ,AR07       ,111     ,  1,6          ,6          ,2,20050705,1307,  53.6761, -37.1999,     2736,   1898.8,   3.0940,  34.9352,2,     -999,9,    278.6,2,     -999,9,    2.460,2,    1.185,2
35TH20050604  ,AR07       ,111     ,  1,5          ,5          ,2,20050705,1307,  53.6761, -37.1999,     2736,   2115.8,   3.0857,  34.9513,2,     -999,9,    277.3,2,     -999,9,    2.487,2,    1.218,2
35TH20050604  ,AR07       ,111     ,  1,4          ,4          ,2,20050705,1307,  53.6761, -37.1999,     2736,   2297.1,   3.1000,  34.9665,2,     -999,9,    276.5,2,    276.1,2,    2.442,6,    1.194,6
35TH20050604  ,AR07       ,111     ,  1,3          ,3          ,2,20050705,1307,  53.6761, -37.1999,     2736,   2500.4,   3.0755,  34.9687,2,     -999,9,    276.1,2,     -999,9,    2.536,2,    1.255,2
35TH20050604  ,AR07       ,111     ,  1,2          ,2          ,2,20050705,1307,  53.6761, -37.1999,     2736,   2597.5,   3.0614,  34.9677,2,     -999,9,    276.1,2,     -999,9,     -999,9,     -999,9
35TH20050604  ,AR07       ,111     ,  1,1          ,1          ,2,20050705,1307,  53.6761, -37.1999,     2736,   2682.3,   3.0363,  34.9678,2,  34.9780,2,    275.7,2,    274.5,2,    2.455,2,    1.221,2