BOTTLE,20240221CCHSIOADS
EXPOCODE,SECT_ID,STNNBR,CASTNO,SAMPNO,BTLNBR,BTLNBR_FLAG_W,DATE,TIME,LATITUDE,LONGITUDE,DEPTH,CTDPRS,CTDTMP,CTDSAL,CTDSAL_FLAG_W,SALNTY,SALNTY_FLAG_W,CTDOXY,CTDOXY_FLAG_W,OXYGEN,OXYGEN_FLAG_W,CFC-11,CFC-11_FLAG_W,CFC-12,CFC-12_FLAG_W
,,,,,,,,,,,METERS,DBAR,ITS-90,PSS-78,,PSS-78,,UMOL/KG,,UMOL/KG,,PMOL/KG,,PMOL/KG,
35TH20050604  ,AR07       ,17      ,  1,20         ,20         ,2,20050609,1413,  47.3667, -24.5167,     3363,     23.1,  16.0225,  35.9079,2,     -999,9,    260.2,2,     -999,9,    2.655,2,    1.575,2
35TH20050604  ,AR07       ,17      ,  1,21         ,21         ,2,20050609,1413,  47.3667, -24.5167,     3363,     23.1,  16.0225,  35.9079,2,     -999,9,    260.2,2,    260.7,2,     -999,9,     -999,9
35TH20050604  ,AR07       ,17      ,  1,22         ,22         ,2,20050609,1413,  47.3667, -24.5167,     3363,     23.2,  16.0040,  35.9062,2,     -999,9,    260.4,2,     -999,9,     -999,9,     -999,9
35TH20050604  ,AR07       ,17      ,  1,19         ,19         ,2,20050609,1413,  47.3667, -24.5167,     3363,    323.6,  12.5044,  35.5946,2,     -999,9,    214.6,2,     -999,9,     -999,9,     -999,9
35TH20050604  ,AR07       ,17      ,  1,18         ,18         ,2,20050609,1413,  47.3667, -24.5167,     3363,    598.8,   9.5088,  35.2782,2,  35.2845,2,    187.5,2,    189.9,2,    2.238,2,    1.250,2
35TH20050604  ,AR07       ,17      ,  1,17         ,17         ,2,20050609,1413,  47.3667, -24.5167,     3363,    877.4,   6.8779,  35.1844,2,     -999,9,    209.9,2,     -999,9,     -999,9,     -999,9
35TH20050604  ,AR07       ,17      ,  1,16         ,16         ,2,20050609,1413,  47.3667, -24.5167,     3363,    878.3,   6.8586,  35.1831,2,     -999,9,    210.0,2,     -999,9,    2.115,2,    1.078,2
35TH20050604  ,AR07       ,17      ,  1,15         ,15         ,2,20050609,1413,  47.3667, -24.5167,     3363,   1022.7,   5.9419,  35.1399,2,     -999,9,    227.9,2,     -999,9,     -999,9,     -999,9
35TH20050604  ,AR07       ,17      ,  1,14         ,14         ,2,20050609,1413,  47.3667, -24.5167,     3363,   1096.2,   5.7248,  35.1425,2,     -999,9,    230.5,2,     -999,9,    2.271,2,    1.100,2
35TH20050604  ,AR07       ,17      ,  1,13         ,13         ,2,20050609,1413,  47.3667, -24.5167,     3363,   1196.6,   4.8953,  35.0373,2,     -999,9,    244.9,2,     -999,9,     -999,9,     -999,9
35TH20050604  ,AR07       ,17      ,  1,12         ,12         ,2,20050609,1413,  47.3667, -24.5167,     3363,   1274.2,   4.4318,  34.9758,2,     -999,9,    254.3,2,     -999,9,    2.748,2,    1.389,2
35TH20050604  ,AR07       ,17      ,  1,11         ,11         ,2,20050609,1413,  47.3667, -24.5167,     3363,   1368.5,   4.1872,  34.9565,2,     -999,9,    259.3,2,     -999,9,    2.633,2,    1.306,2
35TH20050604  ,AR07       ,17      ,  1,10         ,10         ,2,20050609,1413,  47.3667, -24.5167,     3363,   1499.2,   3.9389,  34.9382,2,     -999,9,    263.6,2,     -999,9,    2.813,2,    1.408,2
35TH20050604  ,AR07       ,17      ,  1,9          ,9          ,2,20050609,1413,  47.3667, -24.5167,     3363,   1708.0,   3.6404,  34.9173,2,  34.9248,2,    269.9,2,     -999,9,    2.558,2,    1.263,2
35TH20050604  ,AR07       ,17      ,  1,8          ,8          ,2,20050609,1413,  47.3667, -24.5167,     3363,   1874.3,   3.4164,  34.8984,2,     -999,9,    274.1,2,    280.4,6,    2.881,2,    1.469,2
35TH20050604  ,AR07       ,17      ,  1,7          ,7          ,2,20050609,1413,  47.3667, -24.5167,     3363,   2097.4,   3.2757,  34.8958,2,     -999,9,    276.9,2,     -999,9,    2.596,2,    1.230,2
35TH20050604  ,AR07       ,17      ,  1,6          ,6          ,2,20050609,1413,  47.3667, -24.5167,     3363,   2345.7,   3.2024,  34.9076,2,     -999,9,    275.7,2,     -999,9,     -999,9,     -999,9
35TH20050604  ,AR07       ,17      ,  1,5          ,5          ,2,20050609,1413,  47.3667, -24.5167,     3363,   2347.5,   3.2027,  34.9075,2,     -999,9,    276.0,2,     -999,9,    2.261,2,    1.080,2
35TH20050604  ,AR07       ,17      ,  1,4          ,4          ,2,20050609,1413,  47.3667, -24.5167,     3363,   2597.7,   3.1129,  34.9271,2,     -999,9,    272.0,2,    270.6,2,    1.776,2,    0.850,2
35TH20050604  ,AR07       ,17      ,  1,3          ,3          ,2,20050609,1413,  47.3667, -24.5167,     3363,   2810.6,   3.0229,  34.9397,2,     -999,9,    266.9,2,     -999,9,     -999,9,     -999,9
35TH20050604  ,AR07       ,17      ,  1,2          ,2          ,2,20050609,1413,  47.3667, -24.5167,     3363,   3097.0,   2.8777,  34.9401,2,     -999,9,    261.3,2,     -999,9,    1.253,2,    0.612,2
35TH20050604  ,AR07       ,17      ,  1,1          ,1          ,2,20050609,1413,  47.3667, -24.5167,     3363,   3402.2,   2.7192,  34.9326,2,  34.9336,2,    251.6,2,    250.9,2,    0.760,2,    0.370,2
35TH20050604  ,AR07       ,18      ,  1,20         ,20         ,2,20050609,2002,  47.2603, -25.3334,     2833,    104.7,  14.5375,  35.9024,2,     -999,9,    243.0,2,     -999,9,    2.680,2,    1.578,2
35TH20050604  ,AR07       ,18      ,  1,19         ,19         ,2,20050609,2002,  47.2603, -25.3334,     2833,    308.6,  12.6318,  35.6148,2,     -999,9,    214.3,2,     -999,9,    2.613,2,    1.503,2
35TH20050604  ,AR07       ,18      ,  1,18         ,18         ,2,20050609,2002,  47.2603, -25.3334,     2833,    511.5,  10.3889,  35.3312,2,     -999,9,    194.7,2,     -999,9,     -999,9,     -999,9
35TH20050604  ,AR07       ,18      ,  1,17         ,17         ,2,20050609,2002,  47.2603, -25.3334,     2833,    601.6,   9.2524,  35.2204,2,     -999,9,    185.9,2,     -999,9,    1.979,2,    1.050,2
35TH20050604  ,AR07       ,18      ,  1,16         ,16         ,2,20050609,2002,  47.2603, -25.3334,     2833,    694.8,   8.1579,  35.1588,2,     -999,9,    191.7,2,     -999,9,    1.938,2,    1.001,2
35TH20050604  ,AR07       ,18      ,  1,15         ,15         ,2,20050609,2002,  47.2603, -25.3334,     2833,    800.1,   7.7271,  35.2792,2,     -999,9,    199.8,2,    193.8,3,     -999,9,     -999,9
35TH20050604  ,AR07       ,18      ,  1,14         ,14         ,2,20050609,2002,  47.2603, -25.3334,     2833,    898.0,   6.9199,  35.2432,2,     -999,9,    212.0,2,     -999,9,    2.052,2,    1.038,2
35TH20050604  ,AR07       ,18      ,  1,13         ,13         ,2,20050609,2002,  47.2603, -25.3334,     2833,    998.1,   5.8668,  35.1278,2,     -999,9,    226.6,2,     -999,9,    2.204,2,    1.100,2
35TH20050604  ,AR07       ,18      ,  1,12         ,12         ,2,20050609,2002,  47.2603, -25.3334,     2833,   1100.0,   5.2932,  35.0559,2,     -999,9,    237.9,2,    232.9,3,    2.429,2,    1.218,2
35TH20050604  ,AR07       ,18      ,  1,11         ,11         ,2,20050609,2002,  47.2603, -25.3334,     2833,   1208.1,   4.9555,  35.0558,2,     -999,9,    244.0,2,     -999,9,    2.449,2,    1.222,2
35TH20050604  ,AR07       ,18      ,  1,10         ,10         ,2,20050609,2002,  47.2603, -25.3334,     2833,   1300.1,   4.5411,  35.0037,2,     -999,9,    252.3,2,     -999,9,    2.714,2,    1.399,2
35TH20050604  ,AR07       ,18      ,  1,9          ,9          ,2,20050609,2002,  47.2603, -25.3334,     2833,   1497.0,   4.0677,  34.9645,2,     -999,9,    261.5,2,    255.9,3,    2.468,2,    1.200,2
35TH20050604  ,AR07       ,18      ,  1,8          ,8          ,2,20050609,2002,  47.2603, -25.3334,     2833,   1497.4,   4.0615,  34.9639,2,     -999,9,    261.6,2,     -999,9,     -999,9,     -999,9
35TH20050604  ,AR07       ,18      ,  1,7          ,7          ,2,20050609,2002,  47.2603, -25.3334,     2833,   1695.1,   3.6530,  34.9204,2,     -999,9,    269.7,2,     -999,9,    2.459,2,    1.200,2
35TH20050604  ,AR07       ,18      ,  1,6          ,6          ,2,20050609,2002,  47.2603, -25.3334,     2833,   1797.9,   3.5509,  34.9152,2,  34.9204,2,    271.6,2,     -999,9,     -999,9,     -999,9
35TH20050604  ,AR07       ,18      ,  1,5          ,5          ,2,20050609,2002,  47.2603, -25.3334,     2833,   1944.5,   3.3715,  34.9019,2,     -999,9,    275.0,2,     -999,9,    2.500,2,    1.203,2
35TH20050604  ,AR07       ,18      ,  1,4          ,4          ,2,20050609,2002,  47.2603, -25.3334,     2833,   2197.8,   3.2339,  34.9058,2,     -999,9,    275.6,2,    274.9,2,    2.333,2,    1.125,2
35TH20050604  ,AR07       ,18      ,  1,3          ,3          ,2,20050609,2002,  47.2603, -25.3334,     2833,   2397.1,   3.1757,  34.9139,2,     -999,9,    274.3,2,     -999,9,     -999,9,     -999,9
35TH20050604  ,AR07       ,18      ,  1,2          ,2          ,2,20050609,2002,  47.2603, -25.3334,     2833,   2696.9,   3.0458,  34.9299,2,     -999,9,    268.5,2,     -999,9,     -999,9,     -999,9
35TH20050604  ,AR07       ,18      ,  1,1          ,1          ,2,20050609,2002,  47.2603, -25.3334,     2833,   2847.2,   3.0066,  34.9340,2,  34.9381,2,    266.6,2,    261.4,3,    1.505,2,    0.724,2
35TH20050604  ,AR07       ,19      ,  1,22         ,22         ,2,20050610,0232,  47.0500, -26.4000,     2797,     19.0,  15.2016,  35.7091,2,     -999,9,    265.4,2,     -999,9,     -999,9,     -999,9
35TH20050604  ,AR07       ,19      ,  1,21         ,21         ,2,20050610,0232,  47.0500, -26.4000,     2797,     21.5,  15.1128,  35.7105,2,  35.7152,2,    265.4,2,    261.8,2,    2.728,6,    1.605,6
35TH20050604  ,AR07       ,19      ,  1,20         ,20         ,2,20050610,0232,  47.0500, -26.4000,     2797,    176.4,  12.7165,  35.6259,2,     -999,9,    222.9,2,     -999,9,    2.832,2,    1.651,2
35TH20050604  ,AR07       ,19      ,  1,19         ,19         ,2,20050610,0232,  47.0500, -26.4000,     2797,    377.8,  10.5307,  35.3441,2,     -999,9,    208.7,2,     -999,9,     -999,9,     -999,9
35TH20050604  ,AR07       ,19      ,  1,18         ,18         ,2,20050610,0232,  47.0500, -26.4000,     2797,    643.4,   7.4419,  35.1203,2,  35.1236,2,    200.7,2,     -999,9,    2.116,2,    1.095,2
35TH20050604  ,AR07       ,19      ,  1,17         ,17         ,2,20050610,0232,  47.0500, -26.4000,     2797,    806.3,   6.5182,  35.1508,2,     -999,9,    216.5,2,    209.5,3,    2.198,2,    1.124,2
35TH20050604  ,AR07       ,19      ,  1,16         ,16         ,2,20050610,0232,  47.0500, -26.4000,     2797,    898.1,   6.6133,  35.2575,2,     -999,9,    219.1,2,     -999,9,    2.011,2,    1.000,2
35TH20050604  ,AR07       ,19      ,  1,15         ,15         ,2,20050610,0232,  47.0500, -26.4000,     2797,    975.4,   5.5680,  35.1120,2,     -999,9,    235.1,2,     -999,9,    2.286,2,    1.135,2
35TH20050604  ,AR07       ,19      ,  1,14         ,14         ,2,20050610,0232,  47.0500, -26.4000,     2797,   1106.9,   5.1065,  35.0837,2,     -999,9,    241.3,2,     -999,9,    2.313,2,    1.163,2
35TH20050604  ,AR07       ,19      ,  1,13         ,13         ,2,20050610,0232,  47.0500, -26.4000,     2797,   1213.8,   4.3231,  34.9774,2,     -999,9,    253.4,2,    253.3,2,     -999,9,     -999,9
35TH20050604  ,AR07       ,19      ,  1,12         ,12         ,2,20050610,0232,  47.0500, -26.4000,     2797,   1311.8,   4.0793,  34.9452,2,     -999,9,    262.5,2,     -999,9,    2.779,2,    1.393,2
35TH20050604  ,AR07       ,19      ,  1,11         ,11         ,2,20050610,0232,  47.0500, -26.4000,     2797,   1398.8,   3.8473,  34.9271,2,     -999,9,    266.2,2,     -999,9,    2.946,2,    1.487,2
35TH20050604  ,AR07       ,19      ,  1,10         ,10         ,2,20050610,0232,  47.0500, -26.4000,     2797,   1513.2,   3.7026,  34.9162,2,     -999,9,    269.6,2,     -999,9,    2.756,2,    1.370,2
35TH20050604  ,AR07       ,19      ,  1,9          ,9          ,2,20050610,0232,  47.0500, -26.4000,     2797,   1616.2,   3.6156,  34.9118,2,  34.9130,2,    271.1,2,     -999,9,     -999,9,     -999,9
35TH20050604  ,AR07       ,19      ,  1,8          ,8          ,2,20050610,0232,  47.0500, -26.4000,     2797,   1690.9,   3.5646,  34.9087,2,     -999,9,    272.1,2,     -999,9,     -999,9,     -999,9
35TH20050604  ,AR07       ,19      ,  1,7          ,7          ,2,20050610,0232,  47.0500, -26.4000,     2797,   1795.6,   3.4468,  34.9037,2,     -999,9,    274.1,2,    269.6,3,    2.600,2,    1.265,2
35TH20050604  ,AR07       ,19      ,  1,6          ,6          ,2,20050610,0232,  47.0500, -26.4000,     2797,   1907.8,   3.3707,  34.9036,2,     -999,9,    275.2,2,     -999,9,    2.529,2,    1.239,2
35TH20050604  ,AR07       ,19      ,  1,5          ,5          ,2,20050610,0232,  47.0500, -26.4000,     2797,   2004.3,   3.2904,  34.9048,2,     -999,9,    275.2,2,     -999,9,     -999,9,     -999,9
35TH20050604  ,AR07       ,19      ,  1,4          ,4          ,2,20050610,0232,  47.0500, -26.4000,     2797,   2198.6,   3.2161,  34.9096,2,     -999,9,    274.3,2,     -999,9,     -999,9,     -999,9
35TH20050604  ,AR07       ,19      ,  1,3          ,3          ,2,20050610,0232,  47.0500, -26.4000,     2797,   2346.1,   3.2056,  34.9138,2,     -999,9,    273.0,2,     -999,9,    2.113,2,    1.027,2
35TH20050604  ,AR07       ,19      ,  1,2          ,2          ,2,20050610,0232,  47.0500, -26.4000,     2797,   2647.3,   3.0968,  34.9242,2,     -999,9,    269.6,2,    257.9,3,     -999,9,     -999,9
35TH20050604  ,AR07       ,19      ,  1,1          ,1          ,2,20050610,0232,  47.0500, -26.4000,     2797,   2810.1,   3.0288,  34.9297,2,  34.9320,2,    266.3,2,     -999,9,    1.574,2,    0.759,2
35TH20050604  ,AR07       ,20      ,  1,22         ,22         ,2,20050610,0701,  46.9417, -27.0167,     2611,     15.0,  15.3740,  35.6962,2,     -999,9,    260.2,2,     -999,9,     -999,9,     -999,9
35TH20050604  ,AR07       ,20      ,  1,21         ,21         ,2,20050610,0701,  46.9417, -27.0167,     2611,     15.3,  15.3548,  35.6935,2,     -999,9,    260.3,2,     -999,9,    2.732,2,    1.623,2
35TH20050604  ,AR07       ,20      ,  1,20         ,20         ,2,20050610,0701,  46.9417, -27.0167,     2611,     94.5,  13.7727,  35.7320,2,     -999,9,    252.0,2,    254.0,2,     -999,9,     -999,9
35TH20050604  ,AR07       ,20      ,  1,19         ,19         ,2,20050610,0701,  46.9417, -27.0167,     2611,    298.0,  11.2267,  35.4368,2,     -999,9,    213.6,2,     -999,9,    2.561,2,    1.450,2
35TH20050604  ,AR07       ,20      ,  1,18         ,18         ,2,20050610,0701,  46.9417, -27.0167,     2611,    508.7,   8.9804,  35.1687,2,  35.1677,2,    196.7,2,     -999,9,     -999,9,     -999,9
35TH20050604  ,AR07       ,20      ,  1,17         ,17         ,2,20050610,0701,  46.9417, -27.0167,     2611,    717.2,   7.2265,  35.1865,2,     -999,9,    205.0,2,     -999,9,    2.126,2,    1.103,2
35TH20050604  ,AR07       ,20      ,  1,16         ,16         ,2,20050610,0701,  46.9417, -27.0167,     2611,    793.6,   6.5316,  35.1178,2,     -999,9,    214.4,2,     -999,9,    2.345,2,    1.240,2
35TH20050604  ,AR07       ,20      ,  1,15         ,15         ,2,20050610,0701,  46.9417, -27.0167,     2611,    926.8,   5.7525,  35.1017,2,     -999,9,    227.7,2,     -999,9,     -999,9,     -999,9
35TH20050604  ,AR07       ,20      ,  1,14         ,14         ,2,20050610,0701,  46.9417, -27.0167,     2611,    982.3,   5.4184,  35.0835,2,     -999,9,    237.3,2,     -999,9,    2.483,2,    1.288,2
35TH20050604  ,AR07       ,20      ,  1,13         ,13         ,2,20050610,0701,  46.9417, -27.0167,     2611,   1097.4,   4.5458,  34.9845,2,     -999,9,    252.6,2,     -999,9,    2.750,2,    1.397,2
35TH20050604  ,AR07       ,20      ,  1,12         ,12         ,2,20050610,0701,  46.9417, -27.0167,     2611,   1192.2,   4.2441,  34.9577,2,     -999,9,    258.9,2,     -999,9,    2.844,2,    1.434,2
35TH20050604  ,AR07       ,20      ,  1,11         ,11         ,2,20050610,0701,  46.9417, -27.0167,     2611,   1298.9,   3.9607,  34.9318,2,     -999,9,    264.6,2,    272.2,6,    2.865,2,    1.447,2
35TH20050604  ,AR07       ,20      ,  1,10         ,10         ,2,20050610,0701,  46.9417, -27.0167,     2611,   1424.5,   3.7719,  34.9208,2,  34.9220,2,    268.2,2,     -999,9,     -999,9,     -999,9
35TH20050604  ,AR07       ,20      ,  1,9          ,9          ,2,20050610,0701,  46.9417, -27.0167,     2611,   1499.8,   3.6650,  34.9167,2,     -999,9,    269.7,2,     -999,9,    2.678,2,    1.509,4
35TH20050604  ,AR07       ,20      ,  1,8          ,8          ,2,20050610,0701,  46.9417, -27.0167,     2611,   1617.2,   3.5937,  34.9160,2,     -999,9,    270.6,2,     -999,9,     -999,9,     -999,9
35TH20050604  ,AR07       ,20      ,  1,7          ,7          ,2,20050610,0701,  46.9417, -27.0167,     2611,   1691.7,   3.5443,  34.9137,2,     -999,9,    271.5,2,     -999,9,    2.555,2,    1.259,2
35TH20050604  ,AR07       ,20      ,  1,6          ,6          ,2,20050610,0701,  46.9417, -27.0167,     2611,   1785.4,   3.4803,  34.9132,2,     -999,9,    271.8,2,     -999,9,     -999,9,     -999,9
35TH20050604  ,AR07       ,20      ,  1,5          ,5          ,2,20050610,0701,  46.9417, -27.0167,     2611,   1874.4,   3.4316,  34.9135,2,     -999,9,    272.1,2,    265.3,3,    2.537,2,    1.251,2
35TH20050604  ,AR07       ,20      ,  1,4          ,4          ,2,20050610,0701,  46.9417, -27.0167,     2611,   1996.4,   3.3968,  34.9139,2,     -999,9,    272.1,2,     -999,9,     -999,9,     -999,9
35TH20050604  ,AR07       ,20      ,  1,3          ,3          ,2,20050610,0701,  46.9417, -27.0167,     2611,   2106.0,   3.3488,  34.9157,2,  34.9202,2,    271.8,2,     -999,9,    2.146,2,    1.026,2
35TH20050604  ,AR07       ,20      ,  1,2          ,2          ,2,20050610,0701,  46.9417, -27.0167,     2611,   2197.0,   3.3375,  34.9158,2,     -999,9,    271.8,2,     -999,9,    2.181,2,    1.064,2
35TH20050604  ,AR07       ,20      ,  1,1          ,1          ,2,20050610,0701,  46.9417, -27.0167,     2611,   2582.3,   3.3124,  34.9160,2,     -999,9,    271.7,2,    289.3,4,    2.130,6,    1.028,6