BOTTLE,20240221CCHSIOADS
EXPOCODE,SECT_ID,STNNBR,CASTNO,SAMPNO,BTLNBR,BTLNBR_FLAG_W,DATE,TIME,LATITUDE,LONGITUDE,DEPTH,CTDPRS,CTDTMP,CTDSAL,CTDSAL_FLAG_W,SALNTY,SALNTY_FLAG_W,CTDOXY,CTDOXY_FLAG_W,OXYGEN,OXYGEN_FLAG_W,CFC-11,CFC-11_FLAG_W,CFC-12,CFC-12_FLAG_W
,,,,,,,,,,,METERS,DBAR,ITS-90,PSS-78,,PSS-78,,UMOL/KG,,UMOL/KG,,PMOL/KG,,PMOL/KG,
35TH20050604  ,AR07       ,97      ,  1,17         ,17         ,2,20050702,1316,  58.1665, -43.7485,     2845,     16.2,   7.2819,  34.9109,2,  34.9097,2,    301.6,2,    299.0,2,    4.310,2,    2.314,2
35TH20050604  ,AR07       ,97      ,  1,16         ,16         ,2,20050702,1316,  58.1665, -43.7485,     2845,    204.3,   4.7103,  34.9404,2,     -999,9,    295.0,2,     -999,9,    4.325,2,    2.325,2
35TH20050604  ,AR07       ,97      ,  1,15         ,15         ,2,20050702,1316,  58.1665, -43.7485,     2845,    410.9,   4.0570,  34.8882,2,     -999,9,    298.2,2,    298.6,2,    4.420,2,    2.302,2
35TH20050604  ,AR07       ,97      ,  1,14         ,14         ,2,20050702,1316,  58.1665, -43.7485,     2845,    607.8,   3.8133,  34.8782,2,     -999,9,    296.6,2,     -999,9,    4.431,2,    2.295,2
35TH20050604  ,AR07       ,97      ,  1,13         ,13         ,2,20050702,1316,  58.1665, -43.7485,     2845,    797.9,   3.6741,  34.8794,2,     -999,9,    289.3,2,     -999,9,    4.337,2,    2.246,2
35TH20050604  ,AR07       ,97      ,  1,12         ,12         ,2,20050702,1316,  58.1665, -43.7485,     2845,    991.0,   3.5330,  34.8738,2,     -999,9,    288.2,2,    287.1,2,    4.163,2,    2.094,2
35TH20050604  ,AR07       ,97      ,  1,11         ,11         ,2,20050702,1316,  58.1665, -43.7485,     2845,   1166.4,   3.5205,  34.8837,2,     -999,9,    285.8,2,     -999,9,    3.930,2,    1.952,2
35TH20050604  ,AR07       ,97      ,  1,10         ,10         ,2,20050702,1316,  58.1665, -43.7485,     2845,   1396.6,   3.5479,  34.9113,2,  34.9166,2,    280.3,2,     -999,9,    3.437,2,    1.680,2
35TH20050604  ,AR07       ,97      ,  1,9          ,9          ,2,20050702,1316,  58.1665, -43.7485,     2845,   1598.6,   3.4152,  34.9120,2,     -999,9,    282.0,2,    282.3,2,    3.336,2,    1.631,2
35TH20050604  ,AR07       ,97      ,  1,8          ,8          ,2,20050702,1316,  58.1665, -43.7485,     2845,   1797.2,   3.2440,  34.9062,2,     -999,9,    284.0,2,     -999,9,    3.208,2,    1.559,2
35TH20050604  ,AR07       ,97      ,  1,7          ,7          ,2,20050702,1316,  58.1665, -43.7485,     2845,   2010.5,   3.1186,  34.9106,2,     -999,9,    284.4,2,     -999,9,    3.117,2,    1.515,2
35TH20050604  ,AR07       ,97      ,  1,6          ,6          ,2,20050702,1316,  58.1665, -43.7485,     2845,   2203.7,   2.8879,  34.9041,2,     -999,9,    286.6,2,    286.1,2,    3.238,6,    1.593,6
35TH20050604  ,AR07       ,97      ,  1,5          ,5          ,2,20050702,1316,  58.1665, -43.7485,     2845,   2395.4,   2.5942,  34.8961,2,     -999,9,    289.8,2,     -999,9,    3.466,2,    1.714,2
35TH20050604  ,AR07       ,97      ,  1,4          ,4          ,2,20050702,1316,  58.1665, -43.7485,     2845,   2595.5,   2.0637,  34.8807,2,     -999,9,    295.5,2,     -999,9,     -999,9,     -999,9
35TH20050604  ,AR07       ,97      ,  1,3          ,3          ,2,20050702,1316,  58.1665, -43.7485,     2845,   2886.5,   1.3960,  34.8773,2,     -999,9,    302.3,2,    302.9,2,     -999,9,     -999,9
35TH20050604  ,AR07       ,97      ,  1,1          ,1          ,2,20050702,1316,  58.1665, -43.7485,     2845,   2887.3,   1.3963,  34.8768,2,  34.8794,2,    302.4,2,    304.0,2,    4.103,2,    2.068,2
35TH20050604  ,AR07       ,97      ,  1,2          ,2          ,2,20050702,1316,  58.1665, -43.7485,     2845,   2887.5,   1.3960,  34.8773,2,     -999,9,    302.4,2,     -999,9,     -999,9,     -999,9
35TH20050604  ,AR07       ,98      ,  1,13         ,13         ,2,20050702,1742,  58.5016, -43.7443,     2179,     12.3,   7.0666,  34.9600,2,     -999,9,    301.9,2,    300.3,2,    4.309,2,    2.329,2
35TH20050604  ,AR07       ,98      ,  1,12         ,12         ,2,20050702,1742,  58.5016, -43.7443,     2179,    126.0,   5.0730,  34.9462,2,     -999,9,    301.0,2,     -999,9,    4.596,2,    2.460,2
35TH20050604  ,AR07       ,98      ,  1,11         ,11         ,2,20050702,1742,  58.5016, -43.7443,     2179,    317.1,   4.6857,  34.9469,2,     -999,9,    294.9,2,    293.3,2,    4.432,2,    2.360,2
35TH20050604  ,AR07       ,98      ,  1,10         ,10         ,2,20050702,1742,  58.5016, -43.7443,     2179,    516.7,   4.2794,  34.9204,2,     -999,9,    289.6,2,     -999,9,    4.258,2,    2.217,2
35TH20050604  ,AR07       ,98      ,  1,9          ,9          ,2,20050702,1742,  58.5016, -43.7443,     2179,    715.1,   3.8228,  34.8932,2,     -999,9,    281.5,2,    280.9,6,    4.049,2,    2.052,2
35TH20050604  ,AR07       ,98      ,  1,8          ,8          ,2,20050702,1742,  58.5016, -43.7443,     2179,    904.1,   3.5282,  34.8753,2,  34.8776,2,    286.6,2,     -999,9,    4.167,3,    2.101,3
35TH20050604  ,AR07       ,98      ,  1,7          ,7          ,2,20050702,1742,  58.5016, -43.7443,     2179,   1111.2,   3.6169,  34.9122,2,     -999,9,    280.8,2,    277.3,3,    3.468,2,    1.750,2
35TH20050604  ,AR07       ,98      ,  1,6          ,6          ,2,20050702,1742,  58.5016, -43.7443,     2179,   1319.7,   3.4507,  34.9107,2,     -999,9,    280.6,2,     -999,9,    3.271,2,    1.562,2
35TH20050604  ,AR07       ,98      ,  1,5          ,5          ,2,20050702,1742,  58.5016, -43.7443,     2179,   1512.9,   3.2794,  34.9082,2,     -999,9,    283.1,2,    281.5,2,    3.298,2,    1.585,2
35TH20050604  ,AR07       ,98      ,  1,4          ,4          ,2,20050702,1742,  58.5016, -43.7443,     2179,   1700.1,   3.0252,  34.9043,2,     -999,9,    285.4,2,     -999,9,     -999,9,     -999,9
35TH20050604  ,AR07       ,98      ,  1,3          ,3          ,2,20050702,1742,  58.5016, -43.7443,     2179,   1701.7,   3.0155,  34.9036,2,     -999,9,    285.3,2,     -999,9,    3.346,2,    1.648,2
35TH20050604  ,AR07       ,98      ,  1,2          ,2          ,2,20050702,1742,  58.5016, -43.7443,     2179,   1897.8,   2.6296,  34.8976,2,     -999,9,    288.6,2,     -999,9,    3.346,2,    1.656,2
35TH20050604  ,AR07       ,98      ,  1,1          ,1          ,2,20050702,1742,  58.5016, -43.7443,     2179,   2185.9,   2.4018,  34.8882,2,  34.8916,2,    292.9,2,    293.8,2,    3.673,2,    1.850,2
35TH20050604  ,AR07       ,99      ,  1,12         ,12         ,2,20050702,2012,  58.6572, -43.7392,     1792,     11.8,   6.9302,  34.9089,2,     -999,9,    309.6,2,     -999,9,    4.253,2,    2.337,2
35TH20050604  ,AR07       ,99      ,  1,11         ,11         ,2,20050702,2012,  58.6572, -43.7392,     1792,     16.3,   6.9265,  34.9077,2,     -999,9,    309.3,2,     -999,9,     -999,9,     -999,9
35TH20050604  ,AR07       ,99      ,  1,10         ,10         ,2,20050702,2012,  58.6572, -43.7392,     1792,    197.0,   5.4762,  35.0190,2,     -999,9,    292.2,2,    287.1,3,    4.137,2,    2.306,2
35TH20050604  ,AR07       ,99      ,  1,9          ,9          ,2,20050702,2012,  58.6572, -43.7392,     1792,    411.4,   4.9582,  34.9727,2,  34.9721,2,    288.1,2,     -999,9,    3.959,2,    2.121,2
35TH20050604  ,AR07       ,99      ,  1,8          ,8          ,2,20050702,2012,  58.6572, -43.7392,     1792,    612.5,   4.4016,  34.9381,2,     -999,9,    279.6,2,    277.8,2,    3.642,2,    1.883,2
35TH20050604  ,AR07       ,99      ,  1,7          ,7          ,2,20050702,2012,  58.6572, -43.7392,     1792,    812.4,   3.9410,  34.9165,2,     -999,9,    279.2,2,     -999,9,    3.705,2,    1.897,2
35TH20050604  ,AR07       ,99      ,  1,6          ,6          ,2,20050702,2012,  58.6572, -43.7392,     1792,    996.7,   3.7361,  34.9212,2,     -999,9,    280.5,2,     -999,9,     -999,9,     -999,9
35TH20050604  ,AR07       ,99      ,  1,5          ,5          ,2,20050702,2012,  58.6572, -43.7392,     1792,   1000.6,   3.7350,  34.9214,2,     -999,9,    280.4,2,    279.1,2,    3.554,2,    1.816,2
35TH20050604  ,AR07       ,99      ,  1,4          ,4          ,2,20050702,2012,  58.6572, -43.7392,     1792,   1210.3,   3.4429,  34.9167,2,     -999,9,    282.1,2,     -999,9,    3.422,2,    1.724,2
35TH20050604  ,AR07       ,99      ,  1,3          ,3          ,2,20050702,2012,  58.6572, -43.7392,     1792,   1409.6,   3.1551,  34.9066,2,     -999,9,    285.0,2,    284.3,2,    3.372,2,    1.696,2
35TH20050604  ,AR07       ,99      ,  1,2          ,2          ,2,20050702,2012,  58.6572, -43.7392,     1792,   1604.8,   2.8539,  34.9038,2,     -999,9,    286.8,2,     -999,9,    3.184,2,    1.589,2
35TH20050604  ,AR07       ,99      ,  1,1          ,1          ,2,20050702,2012,  58.6572, -43.7392,     1792,   1805.9,   2.6248,  34.8943,2,  34.8981,2,    290.2,2,    289.9,6,    3.489,2,    1.789,2
35TH20050604  ,AR07       ,100     ,  1,13         ,13         ,2,20050702,2251,  58.8676, -43.7410,     1547,     18.7,   5.9330,  34.5859,2,     -999,9,    316.5,2,    317.8,2,    4.465,2,    2.439,2
35TH20050604  ,AR07       ,100     ,  1,12         ,12         ,2,20050702,2251,  58.8676, -43.7410,     1547,    104.5,   5.7035,  35.0233,2,     -999,9,    294.5,2,     -999,9,    4.282,2,    2.367,2
35TH20050604  ,AR07       ,100     ,  1,11         ,11         ,2,20050702,2251,  58.8676, -43.7410,     1547,    298.0,   5.1263,  34.9896,2,     -999,9,    292.9,2,    291.5,2,    4.144,2,    2.270,2
35TH20050604  ,AR07       ,100     ,  1,10         ,10         ,2,20050702,2251,  58.8676, -43.7410,     1547,    496.8,   4.6557,  34.9473,2,     -999,9,    286.6,2,     -999,9,    3.838,2,    2.016,2
35TH20050604  ,AR07       ,100     ,  1,9          ,9          ,2,20050702,2251,  58.8676, -43.7410,     1547,    708.2,   4.1100,  34.9227,2,  34.9260,2,    277.3,2,     -999,9,    3.674,2,    1.895,2
35TH20050604  ,AR07       ,100     ,  1,8          ,8          ,2,20050702,2251,  58.8676, -43.7410,     1547,    898.1,   3.7661,  34.9158,2,     -999,9,    279.9,2,     -999,9,    3.522,2,    1.793,2
35TH20050604  ,AR07       ,100     ,  1,7          ,7          ,2,20050702,2251,  58.8676, -43.7410,     1547,    996.7,   3.6815,  34.9196,2,     -999,9,    279.2,2,     -999,9,     -999,9,     -999,9
35TH20050604  ,AR07       ,100     ,  1,6          ,6          ,2,20050702,2251,  58.8676, -43.7410,     1547,   1000.0,   3.6821,  34.9204,2,     -999,9,    279.3,2,    275.6,6,     -999,9,     -999,9
35TH20050604  ,AR07       ,100     ,  1,5          ,5          ,2,20050702,2251,  58.8676, -43.7410,     1547,   1092.6,   3.5598,  34.9190,2,     -999,9,    281.3,2,     -999,9,    3.494,2,    1.782,2
35TH20050604  ,AR07       ,100     ,  1,4          ,4          ,2,20050702,2251,  58.8676, -43.7410,     1547,   1205.9,   3.4140,  34.9155,2,     -999,9,    282.1,2,    281.1,2,     -999,9,     -999,9
35TH20050604  ,AR07       ,100     ,  1,3          ,3          ,2,20050702,2251,  58.8676, -43.7410,     1547,   1297.7,   3.2351,  34.9089,2,     -999,9,    283.6,2,     -999,9,     -999,9,     -999,9
35TH20050604  ,AR07       ,100     ,  1,2          ,2          ,2,20050702,2251,  58.8676, -43.7410,     1547,   1398.0,   3.0775,  34.9056,2,     -999,9,    284.8,2,     -999,9,    3.303,2,    1.665,2
35TH20050604  ,AR07       ,100     ,  1,1          ,1          ,2,20050702,2251,  58.8676, -43.7410,     1547,   1551.0,   2.8490,  34.9037,2,  34.9063,2,    286.5,2,    285.5,2,    3.168,2,    1.600,2
35TH20050604  ,AR07       ,101     ,  1,7          ,7          ,2,20050703,0114,  59.0522, -43.7461,     1749,     14.3,   4.7877,  34.2269,2,     -999,9,    323.2,2,    325.0,2,    4.788,2,    2.625,2
35TH20050604  ,AR07       ,101     ,  1,6          ,6          ,2,20050703,0114,  59.0522, -43.7461,     1749,    454.1,   4.8692,  34.9606,2,     -999,9,    284.2,2,    280.1,2,    3.941,2,    2.136,2
35TH20050604  ,AR07       ,101     ,  1,5          ,5          ,2,20050703,0114,  59.0522, -43.7461,     1749,    702.8,   4.3469,  34.9362,2,     -999,9,    279.6,2,     -999,9,    3.770,2,    1.996,2
35TH20050604  ,AR07       ,101     ,  1,4          ,4          ,2,20050703,0114,  59.0522, -43.7461,     1749,    978.2,   3.8617,  34.9093,2,     -999,9,    279.8,2,    278.6,6,    3.745,2,    1.937,2
35TH20050604  ,AR07       ,101     ,  1,3          ,3          ,2,20050703,0114,  59.0522, -43.7461,     1749,   1184.3,   3.6303,  34.9188,2,     -999,9,    280.3,2,    276.9,2,    3.434,2,    1.762,2
35TH20050604  ,AR07       ,101     ,  1,2          ,2          ,2,20050703,0114,  59.0522, -43.7461,     1749,   1436.6,   3.2729,  34.9089,2,     -999,9,    283.3,2,     -999,9,    3.379,2,    1.717,2
35TH20050604  ,AR07       ,101     ,  1,1          ,1          ,2,20050703,0114,  59.0522, -43.7461,     1749,   1755.6,   2.7276,  34.8995,2,  34.9050,2,    287.2,2,    288.3,2,    3.220,2,    1.629,2
35TH20050604  ,AR07       ,102     ,  1,8          ,8          ,2,20050703,0606,  58.4845, -43.1668,     2532,     10.5,   7.2801,  34.9136,2,     -999,9,    301.0,2,    299.4,6,     -999,9,     -999,9
35TH20050604  ,AR07       ,102     ,  1,7          ,7          ,2,20050703,0606,  58.4845, -43.1668,     2532,     90.6,   5.3786,  35.0042,2,     -999,9,    291.9,2,    287.1,3,     -999,9,     -999,9
35TH20050604  ,AR07       ,102     ,  1,6          ,6          ,2,20050703,0606,  58.4845, -43.1668,     2532,    528.2,   4.2411,  34.9188,2,  34.9176,2,    282.8,2,    286.7,2,     -999,9,     -999,9
35TH20050604  ,AR07       ,102     ,  1,5          ,5          ,2,20050703,0606,  58.4845, -43.1668,     2532,    994.4,   3.4788,  34.8730,2,     -999,9,    287.7,2,     -999,9,     -999,9,     -999,9
35TH20050604  ,AR07       ,102     ,  1,4          ,4          ,2,20050703,0606,  58.4845, -43.1668,     2532,   1501.0,   3.2717,  34.8986,2,     -999,9,    283.4,2,    282.1,2,     -999,9,     -999,9
35TH20050604  ,AR07       ,102     ,  1,3          ,3          ,2,20050703,0606,  58.4845, -43.1668,     2532,   2007.8,   2.9567,  34.9105,2,     -999,9,    283.7,2,    282.4,2,     -999,9,     -999,9
35TH20050604  ,AR07       ,102     ,  1,2          ,2          ,2,20050703,0606,  58.4845, -43.1668,     2532,   2296.9,   2.4481,  34.8946,2,     -999,9,    289.1,2,     -999,9,     -999,9,     -999,9
35TH20050604  ,AR07       ,102     ,  1,1          ,1          ,2,20050703,0606,  58.4845, -43.1668,     2532,   2569.9,   2.0696,  34.8809,2,  34.8845,2,    295.6,2,    295.5,2,     -999,9,     -999,9
35TH20050604  ,AR07       ,103     ,  1,22         ,22         ,2,20050703,1413,  57.9492, -42.4950,     3214,     13.5,   8.0528,  34.7688,2,     -999,9,    299.9,2,     -999,9,     -999,9,     -999,9
35TH20050604  ,AR07       ,103     ,  1,21         ,21         ,2,20050703,1413,  57.9492, -42.4950,     3214,     16.6,   8.0507,  34.7443,2,  34.7447,2,    299.3,2,    298.5,2,    4.146,6,    2.307,6
35TH20050604  ,AR07       ,103     ,  1,20         ,20         ,2,20050703,1413,  57.9492, -42.4950,     3214,    131.7,   4.5103,  34.8565,2,     -999,9,    302.1,2,     -999,9,    4.600,2,    2.522,2
35TH20050604  ,AR07       ,103     ,  1,19         ,19         ,2,20050703,1413,  57.9492, -42.4950,     3214,    290.5,   4.0602,  34.8826,2,     -999,9,    297.2,2,    295.2,2,    4.301,2,    2.296,2
35TH20050604  ,AR07       ,103     ,  1,18         ,18         ,2,20050703,1413,  57.9492, -42.4950,     3214,    498.0,   3.7219,  34.8688,2,     -999,9,    297.4,2,     -999,9,    4.448,2,    2.386,2
35TH20050604  ,AR07       ,103     ,  1,17         ,17         ,2,20050703,1413,  57.9492, -42.4950,     3214,    709.7,   3.5582,  34.8656,2,     -999,9,    289.0,2,    292.5,2,    4.274,4,    2.219,2
35TH20050604  ,AR07       ,103     ,  1,16         ,16         ,2,20050703,1413,  57.9492, -42.4950,     3214,    898.2,   3.4009,  34.8537,2,     -999,9,    293.0,2,     -999,9,    4.270,2,    2.235,2
35TH20050604  ,AR07       ,103     ,  1,15         ,15         ,2,20050703,1413,  57.9492, -42.4950,     3214,   1014.5,   3.3724,  34.8557,2,     -999,9,    293.2,2,     -999,9,    4.153,2,    2.146,2
35TH20050604  ,AR07       ,103     ,  1,14         ,14         ,2,20050703,1413,  57.9492, -42.4950,     3214,   1098.9,   3.4729,  34.8786,2,  34.8820,2,    285.4,2,     -999,9,    3.813,2,    1.952,2
35TH20050604  ,AR07       ,103     ,  1,13         ,13         ,2,20050703,1413,  57.9492, -42.4950,     3214,   1198.2,   3.4852,  34.8899,2,     -999,9,    282.7,2,    282.9,2,    3.629,2,    1.840,2
35TH20050604  ,AR07       ,103     ,  1,12         ,12         ,2,20050703,1413,  57.9492, -42.4950,     3214,   1298.6,   3.4451,  34.8924,2,     -999,9,    282.0,2,     -999,9,    3.500,2,    1.746,2
35TH20050604  ,AR07       ,103     ,  1,11         ,11         ,2,20050703,1413,  57.9492, -42.4950,     3214,   1392.7,   3.4006,  34.8945,2,     -999,9,    281.8,2,     -999,9,    3.250,2,    1.574,2
35TH20050604  ,AR07       ,103     ,  1,10         ,10         ,2,20050703,1413,  57.9492, -42.4950,     3214,   1498.0,   3.3223,  34.8952,2,     -999,9,    282.9,2,     -999,9,    3.191,2,    1.527,2
35TH20050604  ,AR07       ,103     ,  1,9          ,9          ,2,20050703,1413,  57.9492, -42.4950,     3214,   1580.2,   3.2507,  34.8922,2,     -999,9,    284.0,2,    283.2,6,    3.231,2,    1.576,2
35TH20050604  ,AR07       ,103     ,  1,8          ,8          ,2,20050703,1413,  57.9492, -42.4950,     3214,   1792.2,   3.1356,  34.8974,2,     -999,9,    284.7,2,     -999,9,    3.049,2,    1.495,2
35TH20050604  ,AR07       ,103     ,  1,7          ,7          ,2,20050703,1413,  57.9492, -42.4950,     3214,   1998.5,   3.0904,  34.9111,2,  34.9164,2,    282.8,2,     -999,9,    2.646,3,    1.252,3
35TH20050604  ,AR07       ,103     ,  1,6          ,6          ,2,20050703,1413,  57.9492, -42.4950,     3214,   2212.5,   2.9682,  34.9163,2,     -999,9,    281.6,2,    280.0,2,    2.461,2,    1.195,2
35TH20050604  ,AR07       ,103     ,  1,5          ,5          ,2,20050703,1413,  57.9492, -42.4950,     3214,   2403.7,   2.8409,  34.9209,2,     -999,9,    281.1,2,     -999,9,    2.326,2,    1.132,2
35TH20050604  ,AR07       ,103     ,  1,4          ,4          ,2,20050703,1413,  57.9492, -42.4950,     3214,   2597.2,   2.6891,  34.9241,2,     -999,9,    280.6,2,    280.7,2,    2.232,2,    1.093,2
35TH20050604  ,AR07       ,103     ,  1,3          ,3          ,2,20050703,1413,  57.9492, -42.4950,     3214,   2796.9,   2.4032,  34.9085,2,     -999,9,    282.6,2,     -999,9,     -999,9,     -999,9
35TH20050604  ,AR07       ,103     ,  1,2          ,2          ,2,20050703,1413,  57.9492, -42.4950,     3214,   2993.9,   2.0348,  34.8850,2,     -999,9,    292.4,2,     -999,9,    3.513,2,    1.789,2
35TH20050604  ,AR07       ,103     ,  1,1          ,1          ,2,20050703,1413,  57.9492, -42.4950,     3214,   3275.3,   1.4067,  34.8780,2,  34.8829,2,    302.6,2,    304.4,2,    4.080,2,    2.119,2