BOTTLE,20240221CCHSIOADS
EXPOCODE,SECT_ID,STNNBR,CASTNO,SAMPNO,BTLNBR,BTLNBR_FLAG_W,DATE,TIME,LATITUDE,LONGITUDE,DEPTH,CTDPRS,CTDTMP,CTDSAL,CTDSAL_FLAG_W,SALNTY,SALNTY_FLAG_W,CTDOXY,CTDOXY_FLAG_W,OXYGEN,OXYGEN_FLAG_W,CFC-11,CFC-11_FLAG_W,CFC-12,CFC-12_FLAG_W
,,,,,,,,,,,METERS,DBAR,ITS-90,PSS-78,,PSS-78,,UMOL/KG,,UMOL/KG,,PMOL/KG,,PMOL/KG,
35TH20050604  ,AR07       ,47      ,  1,20         ,20         ,2,20050621,1146,  56.7999, -51.3826,     3523,    106.2,   3.5836,  34.7785,2,  34.7745,2,    308.9,2,    308.3,2,     -999,9,     -999,9
35TH20050604  ,AR07       ,47      ,  1,19         ,19         ,2,20050621,1146,  56.7999, -51.3826,     3523,    209.7,   3.6977,  34.8311,2,     -999,9,    302.3,2,     -999,9,     -999,9,     -999,9
35TH20050604  ,AR07       ,47      ,  1,18         ,18         ,2,20050621,1146,  56.7999, -51.3826,     3523,    403.9,   3.6471,  34.8566,2,     -999,9,    297.8,2,    299.8,2,     -999,9,     -999,9
35TH20050604  ,AR07       ,47      ,  1,17         ,17         ,2,20050621,1146,  56.7999, -51.3826,     3523,    598.6,   3.5693,  34.8604,2,     -999,9,    295.6,2,     -999,9,     -999,9,     -999,9
35TH20050604  ,AR07       ,47      ,  1,16         ,16         ,2,20050621,1146,  56.7999, -51.3826,     3523,    768.5,   3.5013,  34.8567,2,     -999,9,    293.2,2,    295.4,2,     -999,9,     -999,9
35TH20050604  ,AR07       ,47      ,  1,15         ,15         ,2,20050621,1146,  56.7999, -51.3826,     3523,   1000.1,   3.4593,  34.8592,2,     -999,9,    296.3,2,     -999,9,     -999,9,     -999,9
35TH20050604  ,AR07       ,47      ,  1,14         ,14         ,2,20050621,1146,  56.7999, -51.3826,     3523,   1121.2,   3.4219,  34.8578,2,     -999,9,    292.0,2,     -999,9,     -999,9,     -999,9
35TH20050604  ,AR07       ,47      ,  1,13         ,13         ,2,20050621,1146,  56.7999, -51.3826,     3523,   1223.8,   3.4251,  34.8630,2,     -999,9,    289.3,2,     -999,9,     -999,9,     -999,9
35TH20050604  ,AR07       ,47      ,  1,12         ,12         ,2,20050621,1146,  56.7999, -51.3826,     3523,   1303.5,   3.4281,  34.8677,2,     -999,9,    289.4,2,     -999,9,     -999,9,     -999,9
35TH20050604  ,AR07       ,47      ,  1,11         ,11         ,2,20050621,1146,  56.7999, -51.3826,     3523,   1398.8,   3.4791,  34.8829,2,  34.8886,2,    284.8,2,    282.0,2,     -999,9,     -999,9
35TH20050604  ,AR07       ,47      ,  1,10         ,10         ,2,20050621,1146,  56.7999, -51.3826,     3523,   1492.8,   3.4769,  34.8906,2,     -999,9,    282.1,2,     -999,9,     -999,9,     -999,9
35TH20050604  ,AR07       ,47      ,  1,9          ,9          ,2,20050621,1146,  56.7999, -51.3826,     3523,   1594.7,   3.4375,  34.8918,2,     -999,9,    281.7,2,     -999,9,     -999,9,     -999,9
35TH20050604  ,AR07       ,47      ,  1,8          ,8          ,2,20050621,1146,  56.7999, -51.3826,     3523,   1697.0,   3.3679,  34.8911,2,     -999,9,    282.3,2,     -999,9,     -999,9,     -999,9
35TH20050604  ,AR07       ,47      ,  1,7          ,7          ,2,20050621,1146,  56.7999, -51.3826,     3523,   1896.9,   3.2413,  34.8875,2,     -999,9,    284.8,2,    284.7,2,     -999,9,     -999,9
35TH20050604  ,AR07       ,47      ,  1,6          ,6          ,2,20050621,1146,  56.7999, -51.3826,     3523,   2096.7,   3.1491,  34.8902,2,     -999,9,    285.2,2,     -999,9,     -999,9,     -999,9
35TH20050604  ,AR07       ,47      ,  1,5          ,5          ,2,20050621,1146,  56.7999, -51.3826,     3523,   2398.0,   3.0500,  34.9036,2,     -999,9,    283.0,2,    282.3,6,     -999,9,     -999,9
35TH20050604  ,AR07       ,47      ,  1,4          ,4          ,2,20050621,1146,  56.7999, -51.3826,     3523,   2697.7,   2.8765,  34.9099,2,     -999,9,    282.7,2,     -999,9,     -999,9,     -999,9
35TH20050604  ,AR07       ,47      ,  1,3          ,3          ,2,20050621,1146,  56.7999, -51.3826,     3523,   3000.3,   2.6604,  34.9139,2,  34.9149,2,    281.9,2,    285.3,2,     -999,9,     -999,9
35TH20050604  ,AR07       ,47      ,  1,2          ,2          ,2,20050621,1146,  56.7999, -51.3826,     3523,   3399.8,   2.0552,  34.8882,2,     -999,9,    290.0,2,     -999,9,     -999,9,     -999,9
35TH20050604  ,AR07       ,47      ,  1,1          ,1          ,2,20050621,1146,  56.7999, -51.3826,     3523,   3608.6,   1.5417,  34.8751,2,  34.8778,2,    299.1,2,    300.0,2,     -999,9,     -999,9
35TH20050604  ,AR07       ,48      ,  1,22         ,22         ,2,20050621,1711,  57.1980, -51.9830,     3473,     10.6,   6.4992,  34.7133,2,  34.7112,2,    318.1,2,    322.1,3,     -999,9,     -999,9
35TH20050604  ,AR07       ,48      ,  1,21         ,21         ,2,20050621,1711,  57.1980, -51.9830,     3473,     10.6,   6.4985,  34.7137,2,     -999,9,    318.1,2,     -999,9,     -999,9,     -999,9
35TH20050604  ,AR07       ,48      ,  1,20         ,20         ,2,20050621,1711,  57.1980, -51.9830,     3473,    195.5,   3.6156,  34.8385,2,     -999,9,    303.9,2,     -999,9,     -999,9,     -999,9
35TH20050604  ,AR07       ,48      ,  1,19         ,19         ,2,20050621,1711,  57.1980, -51.9830,     3473,    406.0,   3.5298,  34.8557,2,     -999,9,    304.7,2,     -999,9,     -999,9,     -999,9
35TH20050604  ,AR07       ,48      ,  1,18         ,18         ,2,20050621,1711,  57.1980, -51.9830,     3473,    695.1,   3.4299,  34.8480,2,     -999,9,    304.9,2,    305.4,3,     -999,9,     -999,9
35TH20050604  ,AR07       ,48      ,  1,17         ,17         ,2,20050621,1711,  57.1980, -51.9830,     3473,    867.4,   3.4352,  34.8507,2,     -999,9,    305.0,2,     -999,9,     -999,9,     -999,9
35TH20050604  ,AR07       ,48      ,  1,16         ,16         ,2,20050621,1711,  57.1980, -51.9830,     3473,    998.9,   3.4399,  34.8526,2,     -999,9,    303.7,2,     -999,9,     -999,9,     -999,9
35TH20050604  ,AR07       ,48      ,  1,15         ,15         ,2,20050621,1711,  57.1980, -51.9830,     3473,   1098.9,   3.4425,  34.8534,2,     -999,9,    302.1,2,     -999,9,     -999,9,     -999,9
35TH20050604  ,AR07       ,48      ,  1,14         ,14         ,2,20050621,1711,  57.1980, -51.9830,     3473,   1203.1,   3.4245,  34.8533,2,     -999,9,    298.6,2,    298.5,6,     -999,9,     -999,9
35TH20050604  ,AR07       ,48      ,  1,13         ,13         ,2,20050621,1711,  57.1980, -51.9830,     3473,   1298.5,   3.3881,  34.8508,2,     -999,9,    296.4,2,     -999,9,     -999,9,     -999,9
35TH20050604  ,AR07       ,48      ,  1,12         ,12         ,2,20050621,1711,  57.1980, -51.9830,     3473,   1398.5,   3.3949,  34.8569,2,     -999,9,    293.6,2,     -999,9,     -999,9,     -999,9
35TH20050604  ,AR07       ,48      ,  1,11         ,11         ,2,20050621,1711,  57.1980, -51.9830,     3473,   1485.1,   3.4538,  34.8714,2,     -999,9,    289.0,2,     -999,9,     -999,9,     -999,9
35TH20050604  ,AR07       ,48      ,  1,10         ,10         ,2,20050621,1711,  57.1980, -51.9830,     3473,   1595.1,   3.4876,  34.8870,2,  34.8888,2,    283.6,2,     -999,9,     -999,9,     -999,9
35TH20050604  ,AR07       ,48      ,  1,9          ,9          ,2,20050621,1711,  57.1980, -51.9830,     3473,   1696.4,   3.4603,  34.8946,2,     -999,9,    281.8,2,     -999,9,     -999,9,     -999,9
35TH20050604  ,AR07       ,48      ,  1,8          ,8          ,2,20050621,1711,  57.1980, -51.9830,     3473,   1795.3,   3.3978,  34.8948,2,     -999,9,    282.1,2,    282.2,2,     -999,9,     -999,9
35TH20050604  ,AR07       ,48      ,  1,7          ,7          ,2,20050621,1711,  57.1980, -51.9830,     3473,   1994.3,   3.2597,  34.8914,2,     -999,9,    284.8,2,     -999,9,     -999,9,     -999,9
35TH20050604  ,AR07       ,48      ,  1,6          ,6          ,2,20050621,1711,  57.1980, -51.9830,     3473,   2197.0,   3.1455,  34.8927,2,     -999,9,    285.7,2,    288.2,3,     -999,9,     -999,9
35TH20050604  ,AR07       ,48      ,  1,5          ,5          ,2,20050621,1711,  57.1980, -51.9830,     3473,   2368.2,   3.0761,  34.9005,2,     -999,9,    284.4,2,     -999,9,     -999,9,     -999,9
35TH20050604  ,AR07       ,48      ,  1,4          ,4          ,2,20050621,1711,  57.1980, -51.9830,     3473,   2599.9,   2.9482,  34.9071,2,  34.9108,2,    283.6,2,     -999,9,     -999,9,     -999,9
35TH20050604  ,AR07       ,48      ,  1,3          ,3          ,2,20050621,1711,  57.1980, -51.9830,     3473,   2896.5,   2.7223,  34.9115,2,     -999,9,    283.1,2,    283.9,2,     -999,9,     -999,9
35TH20050604  ,AR07       ,48      ,  1,2          ,2          ,2,20050621,1711,  57.1980, -51.9830,     3473,   3201.9,   2.3695,  34.9001,2,     -999,9,    285.2,2,     -999,9,     -999,9,     -999,9
35TH20050604  ,AR07       ,48      ,  1,1          ,1          ,2,20050621,1711,  57.1980, -51.9830,     3473,   3555.7,   1.4992,  34.8727,2,  34.8729,2,    300.3,2,    304.4,3,     -999,9,     -999,9
35TH20050604  ,AR07       ,49      ,  1,20         ,20         ,2,20050621,2253,  57.5980, -52.5878,     3455,     25.9,   6.2947,  34.7388,2,     -999,9,    321.9,2,     -999,9,     -999,9,     -999,9
35TH20050604  ,AR07       ,49      ,  1,21         ,21         ,2,20050621,2253,  57.5980, -52.5878,     3455,     25.9,   6.2947,  34.7388,2,     -999,9,    321.9,2,    313.9,2,     -999,9,     -999,9
35TH20050604  ,AR07       ,49      ,  1,19         ,19         ,2,20050621,2253,  57.5980, -52.5878,     3455,    203.8,   3.7193,  34.8595,2,     -999,9,    303.2,2,     -999,9,     -999,9,     -999,9
35TH20050604  ,AR07       ,49      ,  1,18         ,18         ,2,20050621,2253,  57.5980, -52.5878,     3455,    398.9,   3.4794,  34.8492,2,     -999,9,    306.8,2,     -999,9,     -999,9,     -999,9
35TH20050604  ,AR07       ,49      ,  1,17         ,17         ,2,20050621,2253,  57.5980, -52.5878,     3455,    496.9,   3.4813,  34.8529,2,     -999,9,    306.1,2,    304.7,2,     -999,9,     -999,9
35TH20050604  ,AR07       ,49      ,  1,16         ,16         ,2,20050621,2253,  57.5980, -52.5878,     3455,    597.8,   3.4764,  34.8532,2,     -999,9,    305.5,2,     -999,9,     -999,9,     -999,9
35TH20050604  ,AR07       ,49      ,  1,15         ,15         ,2,20050621,2253,  57.5980, -52.5878,     3455,    801.1,   3.4496,  34.8521,2,  34.8553,2,    305.1,2,     -999,9,     -999,9,     -999,9
35TH20050604  ,AR07       ,49      ,  1,14         ,14         ,2,20050621,2253,  57.5980, -52.5878,     3455,    897.7,   3.4508,  34.8524,2,     -999,9,    304.7,2,    303.0,2,     -999,9,     -999,9
35TH20050604  ,AR07       ,49      ,  1,13         ,13         ,2,20050621,2253,  57.5980, -52.5878,     3455,   1098.0,   3.4541,  34.8538,2,     -999,9,    303.6,2,     -999,9,     -999,9,     -999,9
35TH20050604  ,AR07       ,49      ,  1,12         ,12         ,2,20050621,2253,  57.5980, -52.5878,     3455,   1198.7,   3.4479,  34.8541,2,     -999,9,    302.8,2,     -999,9,     -999,9,     -999,9
35TH20050604  ,AR07       ,49      ,  1,11         ,11         ,2,20050621,2253,  57.5980, -52.5878,     3455,   1397.9,   3.4261,  34.8582,2,     -999,9,    294.1,2,    292.4,2,     -999,9,     -999,9
35TH20050604  ,AR07       ,49      ,  1,10         ,10         ,2,20050621,2253,  57.5980, -52.5878,     3455,   1593.9,   3.5275,  34.8896,2,     -999,9,    284.5,2,     -999,9,     -999,9,     -999,9
35TH20050604  ,AR07       ,49      ,  1,9          ,9          ,2,20050621,2253,  57.5980, -52.5878,     3455,   1700.4,   3.5036,  34.8985,2,     -999,9,    281.6,2,     -999,9,     -999,9,     -999,9
35TH20050604  ,AR07       ,49      ,  1,8          ,8          ,2,20050621,2253,  57.5980, -52.5878,     3455,   1805.8,   3.4178,  34.8955,2,     -999,9,    282.1,2,     -999,9,     -999,9,     -999,9
35TH20050604  ,AR07       ,49      ,  1,7          ,7          ,2,20050621,2253,  57.5980, -52.5878,     3455,   1906.0,   3.3237,  34.8903,2,     -999,9,    283.4,2,     -999,9,     -999,9,     -999,9
35TH20050604  ,AR07       ,49      ,  1,6          ,6          ,2,20050621,2253,  57.5980, -52.5878,     3455,   1997.5,   3.2554,  34.8869,2,     -999,9,    285.0,2,    283.9,6,     -999,9,     -999,9
35TH20050604  ,AR07       ,49      ,  1,5          ,5          ,2,20050621,2253,  57.5980, -52.5878,     3455,   2105.2,   3.2022,  34.8890,2,     -999,9,    285.7,2,     -999,9,     -999,9,     -999,9
35TH20050604  ,AR07       ,49      ,  1,4          ,4          ,2,20050621,2253,  57.5980, -52.5878,     3455,   2303.6,   3.1294,  34.8950,2,  34.9000,2,    285.4,2,    284.1,2,     -999,9,     -999,9
35TH20050604  ,AR07       ,49      ,  1,3          ,3          ,2,20050621,2253,  57.5980, -52.5878,     3455,   2600.8,   2.9618,  34.9046,2,     -999,9,    284.0,2,     -999,9,     -999,9,     -999,9
35TH20050604  ,AR07       ,49      ,  1,2          ,2          ,2,20050621,2253,  57.5980, -52.5878,     3455,   2898.5,   2.7211,  34.9101,2,     -999,9,    283.7,2,     -999,9,     -999,9,     -999,9
35TH20050604  ,AR07       ,49      ,  1,1          ,1          ,2,20050621,2253,  57.5980, -52.5878,     3455,   3537.3,   1.4724,  34.8724,2,     -999,9,    300.7,2,    300.1,2,     -999,9,     -999,9
35TH20050604  ,AR07       ,50      ,  1,22         ,22         ,2,20050622,0414,  58.0013, -53.1900,     3436,     24.5,   6.2297,  34.7058,2,     -999,9,    321.9,2,    319.1,2,     -999,9,     -999,9
35TH20050604  ,AR07       ,50      ,  1,21         ,21         ,2,20050622,0414,  58.0013, -53.1900,     3436,     24.5,   6.2007,  34.7137,2,     -999,9,    322.4,2,     -999,9,     -999,9,     -999,9
35TH20050604  ,AR07       ,50      ,  1,20         ,20         ,2,20050622,0414,  58.0013, -53.1900,     3436,    125.1,   3.8207,  34.8354,2,     -999,9,    302.2,2,     -999,9,     -999,9,     -999,9
35TH20050604  ,AR07       ,50      ,  1,19         ,19         ,2,20050622,0414,  58.0013, -53.1900,     3436,    296.7,   3.6172,  34.8516,2,     -999,9,    300.9,2,     -999,9,     -999,9,     -999,9
35TH20050604  ,AR07       ,50      ,  1,18         ,18         ,2,20050622,0414,  58.0013, -53.1900,     3436,    423.8,   3.5739,  34.8601,2,     -999,9,    302.6,2,    303.1,3,     -999,9,     -999,9
35TH20050604  ,AR07       ,50      ,  1,17         ,17         ,2,20050622,0414,  58.0013, -53.1900,     3436,    501.6,   3.5029,  34.8545,2,     -999,9,    304.4,2,     -999,9,     -999,9,     -999,9
35TH20050604  ,AR07       ,50      ,  1,16         ,16         ,2,20050622,0414,  58.0013, -53.1900,     3436,    609.4,   3.4876,  34.8542,2,     -999,9,    305.0,2,     -999,9,     -999,9,     -999,9
35TH20050604  ,AR07       ,50      ,  1,15         ,15         ,2,20050622,0414,  58.0013, -53.1900,     3436,    698.9,   3.4771,  34.8544,2,  34.8586,2,    304.8,2,     -999,9,     -999,9,     -999,9
35TH20050604  ,AR07       ,50      ,  1,14         ,14         ,2,20050622,0414,  58.0013, -53.1900,     3436,    872.2,   3.4542,  34.8538,2,     -999,9,    303.8,2,    302.9,2,     -999,9,     -999,9
35TH20050604  ,AR07       ,50      ,  1,13         ,13         ,2,20050622,0414,  58.0013, -53.1900,     3436,   1098.8,   3.4515,  34.8555,2,     -999,9,    301.4,2,     -999,9,     -999,9,     -999,9
35TH20050604  ,AR07       ,50      ,  1,12         ,12         ,2,20050622,0414,  58.0013, -53.1900,     3436,   1295.3,   3.4214,  34.8547,2,     -999,9,    296.2,2,     -999,9,     -999,9,     -999,9
35TH20050604  ,AR07       ,50      ,  1,11         ,11         ,2,20050622,0414,  58.0013, -53.1900,     3436,   1514.9,   3.4494,  34.8698,2,     -999,9,    290.2,2,     -999,9,     -999,9,     -999,9
35TH20050604  ,AR07       ,50      ,  1,10         ,10         ,2,20050622,0414,  58.0013, -53.1900,     3436,   1697.8,   3.4863,  34.8921,2,     -999,9,    282.7,2,    279.5,6,     -999,9,     -999,9
35TH20050604  ,AR07       ,50      ,  1,9          ,9          ,2,20050622,0414,  58.0013, -53.1900,     3436,   1798.1,   3.4398,  34.8946,2,  34.8955,2,    282.1,2,     -999,9,     -999,9,     -999,9
35TH20050604  ,AR07       ,50      ,  1,8          ,8          ,2,20050622,0414,  58.0013, -53.1900,     3436,   1902.2,   3.3664,  34.8934,2,     -999,9,    283.2,2,     -999,9,     -999,9,     -999,9
35TH20050604  ,AR07       ,50      ,  1,7          ,7          ,2,20050622,0414,  58.0013, -53.1900,     3436,   2000.6,   3.2998,  34.8911,2,     -999,9,    284.4,2,     -999,9,     -999,9,     -999,9
35TH20050604  ,AR07       ,50      ,  1,6          ,6          ,2,20050622,0414,  58.0013, -53.1900,     3436,   2108.7,   3.2189,  34.8888,2,     -999,9,    285.9,2,    285.3,2,     -999,9,     -999,9
35TH20050604  ,AR07       ,50      ,  1,5          ,5          ,2,20050622,0414,  58.0013, -53.1900,     3436,   2220.7,   3.1806,  34.8938,2,     -999,9,    285.8,2,     -999,9,     -999,9,     -999,9
35TH20050604  ,AR07       ,50      ,  1,4          ,4          ,2,20050622,0414,  58.0013, -53.1900,     3436,   2497.5,   3.0346,  34.9023,2,  34.9055,2,    284.8,2,     -999,9,     -999,9,     -999,9
35TH20050604  ,AR07       ,50      ,  1,3          ,3          ,2,20050622,0414,  58.0013, -53.1900,     3436,   2798.8,   2.7999,  34.9067,2,     -999,9,    284.9,2,    281.4,3,     -999,9,     -999,9
35TH20050604  ,AR07       ,50      ,  1,2          ,2          ,2,20050622,0414,  58.0013, -53.1900,     3436,   3103.7,   2.4594,  34.9003,2,     -999,9,    286.8,2,     -999,9,     -999,9,     -999,9
35TH20050604  ,AR07       ,50      ,  1,1          ,1          ,2,20050622,0414,  58.0013, -53.1900,     3436,   3515.2,   1.5145,  34.8719,2,  34.8751,2,    300.7,2,    301.2,2,     -999,9,     -999,9