BOTTLE,20240221CCHSIOADS
EXPOCODE,SECT_ID,STNNBR,CASTNO,SAMPNO,BTLNBR,BTLNBR_FLAG_W,DATE,TIME,LATITUDE,LONGITUDE,DEPTH,CTDPRS,CTDTMP,CTDSAL,CTDSAL_FLAG_W,SALNTY,SALNTY_FLAG_W,CTDOXY,CTDOXY_FLAG_W,OXYGEN,OXYGEN_FLAG_W,CFC-11,CFC-11_FLAG_W,CFC-12,CFC-12_FLAG_W
,,,,,,,,,,,METERS,DBAR,ITS-90,PSS-78,,PSS-78,,UMOL/KG,,UMOL/KG,,PMOL/KG,,PMOL/KG,
35TH20050604  ,AR07       ,112     ,  1,22         ,22         ,2,20050705,1826,  53.1435, -36.5359,     2971,     40.5,  11.3628,  34.8256,2,     -999,9,    282.2,2,     -999,9,     -999,9,     -999,9
35TH20050604  ,AR07       ,112     ,  1,21         ,21         ,2,20050705,1826,  53.1435, -36.5359,     2971,     40.5,  11.3628,  34.8256,2,     -999,9,    282.2,2,    285.0,2,    3.445,2,    1.944,2
35TH20050604  ,AR07       ,112     ,  1,20         ,20         ,2,20050705,1826,  53.1435, -36.5359,     2971,    104.6,   6.9668,  34.9133,2,     -999,9,    281.8,2,     -999,9,    3.967,2,    2.200,2
35TH20050604  ,AR07       ,112     ,  1,19         ,19         ,2,20050705,1826,  53.1435, -36.5359,     2971,    202.1,   7.0037,  35.0188,2,     -999,9,    280.1,2,     -999,9,     -999,9,     -999,9
35TH20050604  ,AR07       ,112     ,  1,18         ,18         ,2,20050705,1826,  53.1435, -36.5359,     2971,    286.1,   7.0523,  35.0624,2,     -999,9,    275.7,2,     -999,9,    3.715,2,    2.058,2
35TH20050604  ,AR07       ,112     ,  1,17         ,17         ,2,20050705,1826,  53.1435, -36.5359,     2971,    490.5,   5.3733,  34.9637,2,     -999,9,    242.2,2,    241.2,2,    3.231,2,    1.677,2
35TH20050604  ,AR07       ,112     ,  1,16         ,16         ,2,20050705,1826,  53.1435, -36.5359,     2971,    680.1,   4.4392,  34.9444,2,     -999,9,    257.0,2,     -999,9,    3.254,2,    1.636,2
35TH20050604  ,AR07       ,112     ,  1,15         ,15         ,2,20050705,1826,  53.1435, -36.5359,     2971,    797.0,   4.1028,  34.9252,2,     -999,9,    266.0,2,     -999,9,    3.369,2,    1.702,2
35TH20050604  ,AR07       ,112     ,  1,14         ,14         ,2,20050705,1826,  53.1435, -36.5359,     2971,    890.1,   3.9177,  34.9189,2,     -999,9,    270.1,2,     -999,9,    3.354,2,    1.689,2
35TH20050604  ,AR07       ,112     ,  1,13         ,13         ,2,20050705,1826,  53.1435, -36.5359,     2971,    989.2,   3.7905,  34.9143,2,     -999,9,    272.9,2,     -999,9,     -999,9,     -999,9
35TH20050604  ,AR07       ,112     ,  1,12         ,12         ,2,20050705,1826,  53.1435, -36.5359,     2971,   1104.3,   3.6941,  34.9154,2,     -999,9,    274.6,2,    273.7,6,    3.136,2,    1.567,2
35TH20050604  ,AR07       ,112     ,  1,11         ,11         ,2,20050705,1826,  53.1435, -36.5359,     2971,   1196.9,   3.6077,  34.9169,2,     -999,9,    275.8,2,     -999,9,    3.133,2,    1.555,2
35TH20050604  ,AR07       ,112     ,  1,10         ,10         ,2,20050705,1826,  53.1435, -36.5359,     2971,   1298.7,   3.5045,  34.9182,2,     -999,9,    277.3,2,     -999,9,    2.969,2,    1.461,2
35TH20050604  ,AR07       ,112     ,  1,9          ,9          ,2,20050705,1826,  53.1435, -36.5359,     2971,   1499.2,   3.3080,  34.9157,2,     -999,9,    279.8,2,     -999,9,    2.891,2,    1.403,2
35TH20050604  ,AR07       ,112     ,  1,8          ,8          ,2,20050705,1826,  53.1435, -36.5359,     2971,   1662.1,   3.2528,  34.9288,2,     -999,9,    279.3,2,     -999,9,    2.761,2,    1.350,2
35TH20050604  ,AR07       ,112     ,  1,7          ,7          ,2,20050705,1826,  53.1435, -36.5359,     2971,   1892.1,   3.1349,  34.9375,2,     -999,9,    278.6,2,    278.4,2,    2.542,2,    1.250,2
35TH20050604  ,AR07       ,112     ,  1,6          ,6          ,2,20050705,1826,  53.1435, -36.5359,     2971,   2097.0,   3.1210,  34.9505,2,  34.9526,2,    277.4,2,     -999,9,    2.515,2,    1.225,2
35TH20050604  ,AR07       ,112     ,  1,5          ,5          ,2,20050705,1826,  53.1435, -36.5359,     2971,   2314.5,   3.0917,  34.9608,2,     -999,9,    276.5,2,     -999,9,    2.486,2,    1.219,2
35TH20050604  ,AR07       ,112     ,  1,4          ,4          ,2,20050705,1826,  53.1435, -36.5359,     2971,   2496.4,   3.0773,  34.9647,2,     -999,9,    276.2,2,    275.3,2,    2.509,2,    1.252,2
35TH20050604  ,AR07       ,112     ,  1,3          ,3          ,2,20050705,1826,  53.1435, -36.5359,     2971,   2692.8,   3.0521,  34.9694,2,     -999,9,    275.9,2,     -999,9,    2.488,2,    1.233,2
35TH20050604  ,AR07       ,112     ,  1,2          ,2          ,2,20050705,1826,  53.1435, -36.5359,     2971,   2797.6,   3.0532,  34.9719,2,     -999,9,    275.7,2,     -999,9,    2.512,2,    1.254,2
35TH20050604  ,AR07       ,112     ,  1,1          ,1          ,2,20050705,1826,  53.1435, -36.5359,     2971,   3015.0,   3.0066,  34.9697,2,  34.9713,2,    275.2,2,    275.0,2,    2.457,2,    1.215,2
35TH20050604  ,AR07       ,113     ,  1,21         ,21         ,2,20050706,0003,  52.6095, -35.8654,     3257,     13.1,  11.9733,  34.8826,2,  34.8867,2,    280.3,2,    371.5,4,    3.396,2,    1.938,2
35TH20050604  ,AR07       ,113     ,  1,22         ,22         ,2,20050706,0003,  52.6095, -35.8654,     3257,     14.5,  11.9413,  34.8824,2,     -999,9,    280.3,2,     -999,9,     -999,9,     -999,9
35TH20050604  ,AR07       ,113     ,  1,20         ,20         ,2,20050706,0003,  52.6095, -35.8654,     3257,    168.9,   6.9955,  34.9846,2,     -999,9,    286.2,2,     -999,9,    4.044,2,    2.260,2
35TH20050604  ,AR07       ,113     ,  1,19         ,19         ,2,20050706,0003,  52.6095, -35.8654,     3257,    380.7,   6.2179,  34.9804,2,     -999,9,    261.0,2,    249.7,2,    3.429,2,    1.835,2
35TH20050604  ,AR07       ,113     ,  1,18         ,18         ,2,20050706,0003,  52.6095, -35.8654,     3257,    578.5,   4.9799,  34.9700,2,     -999,9,    245.8,2,     -999,9,     -999,9,     -999,9
35TH20050604  ,AR07       ,113     ,  1,17         ,17         ,2,20050706,0003,  52.6095, -35.8654,     3257,    697.9,   4.5457,  34.9545,2,     -999,9,    255.4,2,     -999,9,    3.234,2,    1.649,2
35TH20050604  ,AR07       ,113     ,  1,16         ,16         ,2,20050706,0003,  52.6095, -35.8654,     3257,    797.9,   4.1682,  34.9259,2,     -999,9,    264.3,2,    264.0,2,    3.394,2,    1.731,2
35TH20050604  ,AR07       ,113     ,  1,15         ,15         ,2,20050706,0003,  52.6095, -35.8654,     3257,    882.4,   4.0390,  34.9248,2,     -999,9,    267.6,2,     -999,9,     -999,9,     -999,9
35TH20050604  ,AR07       ,113     ,  1,14         ,14         ,2,20050706,0003,  52.6095, -35.8654,     3257,   1018.0,   3.8407,  34.9186,2,     -999,9,    272.0,2,     -999,9,    3.323,2,    1.662,2
35TH20050604  ,AR07       ,113     ,  1,13         ,13         ,2,20050706,0003,  52.6095, -35.8654,     3257,   1106.5,   3.8136,  34.9297,2,     -999,9,    272.5,2,     -999,9,     -999,9,     -999,9
35TH20050604  ,AR07       ,113     ,  1,12         ,12         ,2,20050706,0003,  52.6095, -35.8654,     3257,   1197.9,   3.7064,  34.9261,2,     -999,9,    273.9,2,     -999,9,    3.082,2,    1.534,2
35TH20050604  ,AR07       ,113     ,  1,11         ,11         ,2,20050706,0003,  52.6095, -35.8654,     3257,   1397.7,   3.4888,  34.9270,2,     -999,9,    277.4,2,    276.3,6,    2.965,2,    1.467,2
35TH20050604  ,AR07       ,113     ,  1,10         ,10         ,2,20050706,0003,  52.6095, -35.8654,     3257,   1597.5,   3.3412,  34.9373,2,     -999,9,    278.3,2,     -999,9,    2.766,2,    1.357,2
35TH20050604  ,AR07       ,113     ,  1,9          ,9          ,2,20050706,0003,  52.6095, -35.8654,     3257,   1797.6,   3.2101,  34.9443,2,  34.9528,2,    278.3,2,     -999,9,    2.659,2,    1.296,2
35TH20050604  ,AR07       ,113     ,  1,8          ,8          ,2,20050706,0003,  52.6095, -35.8654,     3257,   1989.3,   3.1185,  34.9560,2,     -999,9,    277.0,2,    276.9,2,    2.533,2,    1.236,2
35TH20050604  ,AR07       ,113     ,  1,7          ,7          ,2,20050706,0003,  52.6095, -35.8654,     3257,   2176.5,   3.0344,  34.9663,2,     -999,9,    276.0,2,     -999,9,    2.468,2,    1.213,2
35TH20050604  ,AR07       ,113     ,  1,6          ,6          ,2,20050706,0003,  52.6095, -35.8654,     3257,   2397.3,   2.9760,  34.9731,2,     -999,9,    274.9,2,     -999,9,    2.433,2,    1.209,2
35TH20050604  ,AR07       ,113     ,  1,5          ,5          ,2,20050706,0003,  52.6095, -35.8654,     3257,   2603.4,   2.9711,  34.9762,2,     -999,9,    274.7,2,    273.2,2,    2.403,2,    1.193,2
35TH20050604  ,AR07       ,113     ,  1,4          ,4          ,2,20050706,0003,  52.6095, -35.8654,     3257,   2796.8,   2.9556,  34.9759,2,     -999,9,    274.4,2,     -999,9,    2.459,2,    1.230,2
35TH20050604  ,AR07       ,113     ,  1,3          ,3          ,2,20050706,0003,  52.6095, -35.8654,     3257,   2997.1,   2.9486,  34.9749,2,     -999,9,    274.4,2,     -999,9,    2.470,2,    1.229,2
35TH20050604  ,AR07       ,113     ,  1,2          ,2          ,2,20050706,0003,  52.6095, -35.8654,     3257,   3096.0,   2.9401,  34.9743,2,     -999,9,    273.9,2,     -999,9,    2.408,2,    1.198,2
35TH20050604  ,AR07       ,113     ,  1,1          ,1          ,2,20050706,0003,  52.6095, -35.8654,     3257,   3306.8,   2.8922,  34.9663,2,  34.9705,2,    272.9,2,    272.0,2,    2.272,2,    1.126,2
35TH20050604  ,AR07       ,114     ,  1,22         ,22         ,2,20050706,0621,  52.0740, -35.1983,     3697,     11.9,  12.4500,  34.8700,2,     -999,9,    277.4,2,     -999,9,     -999,9,     -999,9
35TH20050604  ,AR07       ,114     ,  1,21         ,21         ,2,20050706,0621,  52.0740, -35.1983,     3697,     18.1,  12.3402,  34.8837,2,     -999,9,    279.9,2,    275.7,2,    3.373,2,    1.927,2
35TH20050604  ,AR07       ,114     ,  1,20         ,20         ,2,20050706,0621,  52.0740, -35.1983,     3697,    110.4,   7.9797,  34.8388,2,     -999,9,    249.2,2,     -999,9,    3.344,2,    1.810,2
35TH20050604  ,AR07       ,114     ,  1,19         ,19         ,2,20050706,0621,  52.0740, -35.1983,     3697,    316.7,   5.5576,  34.9175,2,     -999,9,    231.8,2,    232.5,2,    3.003,2,    1.596,2
35TH20050604  ,AR07       ,114     ,  1,18         ,18         ,2,20050706,0621,  52.0740, -35.1983,     3697,    489.7,   4.4627,  34.9094,2,     -999,9,    260.1,2,     -999,9,    3.405,2,    1.739,2
35TH20050604  ,AR07       ,114     ,  1,17         ,17         ,2,20050706,0621,  52.0740, -35.1983,     3697,    705.1,   4.0058,  34.9048,2,     -999,9,    273.0,2,     -999,9,    3.377,2,    1.693,4
35TH20050604  ,AR07       ,114     ,  1,16         ,16         ,2,20050706,0621,  52.0740, -35.1983,     3697,    814.0,   4.0173,  34.9266,2,     -999,9,    269.4,2,     -999,9,     -999,9,     -999,9
35TH20050604  ,AR07       ,114     ,  1,15         ,15         ,2,20050706,0621,  52.0740, -35.1983,     3697,    920.3,   3.8352,  34.9129,2,     -999,9,    272.8,2,    273.2,6,    3.403,2,    1.759,2
35TH20050604  ,AR07       ,114     ,  1,14         ,14         ,2,20050706,0621,  52.0740, -35.1983,     3697,    969.8,   3.7205,  34.8989,2,     -999,9,    276.9,2,     -999,9,     -999,9,     -999,9
35TH20050604  ,AR07       ,114     ,  1,13         ,13         ,2,20050706,0621,  52.0740, -35.1983,     3697,   1096.5,   3.6368,  34.8946,2,     -999,9,    279.2,2,     -999,9,    3.359,2,    1.683,2
35TH20050604  ,AR07       ,114     ,  1,12         ,12         ,2,20050706,0621,  52.0740, -35.1983,     3697,   1178.9,   3.5720,  34.8940,2,     -999,9,    280.6,2,     -999,9,    3.345,2,    1.690,2
35TH20050604  ,AR07       ,114     ,  1,11         ,11         ,2,20050706,0621,  52.0740, -35.1983,     3697,   1298.2,   3.5496,  34.9006,2,     -999,9,    278.9,2,    277.2,2,    3.229,2,    1.621,2
35TH20050604  ,AR07       ,114     ,  1,10         ,10         ,2,20050706,0621,  52.0740, -35.1983,     3697,   1498.4,   3.4594,  34.9017,2,     -999,9,    278.6,2,     -999,9,    3.015,2,    1.498,2
35TH20050604  ,AR07       ,114     ,  1,9          ,9          ,2,20050706,0621,  52.0740, -35.1983,     3697,   1691.7,   3.3258,  34.8960,2,     -999,9,    280.4,2,     -999,9,    2.943,2,    1.450,2
35TH20050604  ,AR07       ,114     ,  1,8          ,8          ,2,20050706,0621,  52.0740, -35.1983,     3697,   1900.6,   3.2103,  34.8946,2,     -999,9,    282.1,2,    281.0,2,    2.809,2,    1.360,2
35TH20050604  ,AR07       ,114     ,  1,7          ,7          ,2,20050706,0621,  52.0740, -35.1983,     3697,   2098.1,   3.1389,  34.8982,2,  34.9018,2,    281.7,2,     -999,9,    2.654,2,    1.283,2
35TH20050604  ,AR07       ,114     ,  1,6          ,6          ,2,20050706,0621,  52.0740, -35.1983,     3697,   2298.6,   3.0819,  34.9076,2,     -999,9,    279.9,2,     -999,9,    2.456,2,    1.193,2
35TH20050604  ,AR07       ,114     ,  1,5          ,5          ,2,20050706,0621,  52.0740, -35.1983,     3697,   2494.8,   2.9615,  34.9184,2,     -999,9,    278.3,2,    279.2,2,    2.104,2,    1.035,2
35TH20050604  ,AR07       ,114     ,  1,4          ,4          ,2,20050706,0621,  52.0740, -35.1983,     3697,   2699.6,   2.9098,  34.9314,2,     -999,9,    277.1,2,     -999,9,    2.103,2,    1.032,2
35TH20050604  ,AR07       ,114     ,  1,3          ,3          ,2,20050706,0621,  52.0740, -35.1983,     3697,   2893.7,   2.8520,  34.9382,2,     -999,9,    276.5,2,     -999,9,    2.091,2,    1.018,2
35TH20050604  ,AR07       ,114     ,  1,2          ,2          ,2,20050706,0621,  52.0740, -35.1983,     3697,   3100.0,   2.7689,  34.9375,2,     -999,9,    275.9,2,     -999,9,    2.050,2,    1.010,2
35TH20050604  ,AR07       ,114     ,  1,1          ,1          ,2,20050706,0621,  52.0740, -35.1983,     3697,   3794.8,   2.4347,  34.9069,2,  34.9075,2,    278.1,2,    276.5,2,    1.946,2,    0.943,2
35TH20050604  ,AR07       ,115     ,  1,22         ,22         ,2,20050706,1226,  51.5431, -34.5392,     3584,      7.8,  13.2450,  35.1113,2,     -999,9,    268.6,2,     -999,9,     -999,9,     -999,9
35TH20050604  ,AR07       ,115     ,  1,21         ,21         ,2,20050706,1226,  51.5431, -34.5392,     3584,      7.8,  13.2450,  35.1113,2,     -999,9,    268.6,2,    270.7,2,    3.068,2,    1.800,2
35TH20050604  ,AR07       ,115     ,  1,20         ,20         ,2,20050706,1226,  51.5431, -34.5392,     3584,    213.0,   9.3212,  35.1053,2,     -999,9,    190.4,2,     -999,9,     -999,9,     -999,9
35TH20050604  ,AR07       ,115     ,  1,19         ,19         ,2,20050706,1226,  51.5431, -34.5392,     3584,    397.3,   5.9005,  34.9112,2,  34.9181,2,    224.5,2,    222.5,2,    2.605,2,    1.389,2
35TH20050604  ,AR07       ,115     ,  1,18         ,18         ,2,20050706,1226,  51.5431, -34.5392,     3584,    570.5,   4.5719,  34.8965,2,     -999,9,    257.9,2,     -999,9,    3.283,2,    1.745,2
35TH20050604  ,AR07       ,115     ,  1,17         ,17         ,2,20050706,1226,  51.5431, -34.5392,     3584,    698.1,   4.3149,  34.9164,2,     -999,9,    264.7,2,     -999,9,    3.358,2,    1.768,2
35TH20050604  ,AR07       ,115     ,  1,16         ,16         ,2,20050706,1226,  51.5431, -34.5392,     3584,    798.8,   4.0787,  34.9070,2,     -999,9,    272.0,2,    272.3,2,    3.464,2,    1.794,2
35TH20050604  ,AR07       ,115     ,  1,15         ,15         ,2,20050706,1226,  51.5431, -34.5392,     3584,    898.7,   3.9214,  34.9009,2,     -999,9,    276.2,2,     -999,9,    3.596,2,    1.891,2
35TH20050604  ,AR07       ,115     ,  1,14         ,14         ,2,20050706,1226,  51.5431, -34.5392,     3584,    994.7,   3.7995,  34.8947,2,     -999,9,    279.0,2,     -999,9,    3.606,2,    1.883,2
35TH20050604  ,AR07       ,115     ,  1,13         ,13         ,2,20050706,1226,  51.5431, -34.5392,     3584,   1094.2,   3.7063,  34.8898,2,     -999,9,    280.8,2,     -999,9,     -999,9,     -999,9
35TH20050604  ,AR07       ,115     ,  1,12         ,12         ,2,20050706,1226,  51.5431, -34.5392,     3584,   1196.7,   3.6155,  34.8866,2,     -999,9,    282.0,2,     -999,9,    3.648,2,    1.904,2
35TH20050604  ,AR07       ,115     ,  1,11         ,11         ,2,20050706,1226,  51.5431, -34.5392,     3584,   1398.3,   3.5777,  34.8970,2,     -999,9,    279.5,2,    278.7,6,    3.217,2,    1.624,2
35TH20050604  ,AR07       ,115     ,  1,10         ,10         ,2,20050706,1226,  51.5431, -34.5392,     3584,   1609.4,   3.4842,  34.9010,2,     -999,9,    278.6,2,     -999,9,     -999,9,     -999,9
35TH20050604  ,AR07       ,115     ,  1,9          ,9          ,2,20050706,1226,  51.5431, -34.5392,     3584,   1802.8,   3.3396,  34.8958,2,  34.8979,2,    280.5,2,     -999,9,    2.902,2,    1.436,2
35TH20050604  ,AR07       ,115     ,  1,8          ,8          ,2,20050706,1226,  51.5431, -34.5392,     3584,   1997.2,   3.2146,  34.8929,2,     -999,9,    282.5,2,    283.1,2,    2.866,2,    1.400,2
35TH20050604  ,AR07       ,115     ,  1,7          ,7          ,2,20050706,1226,  51.5431, -34.5392,     3584,   2204.5,   3.1595,  34.8974,2,     -999,9,    282.2,2,     -999,9,    2.709,2,    1.333,2
35TH20050604  ,AR07       ,115     ,  1,6          ,6          ,2,20050706,1226,  51.5431, -34.5392,     3584,   2418.0,   3.0957,  34.9047,2,     -999,9,    280.9,2,     -999,9,    2.392,2,    1.181,2
35TH20050604  ,AR07       ,115     ,  1,5          ,5          ,2,20050706,1226,  51.5431, -34.5392,     3584,   2591.1,   3.0372,  34.9114,2,     -999,9,    279.3,2,    278.5,2,    2.172,2,    1.072,2
35TH20050604  ,AR07       ,115     ,  1,4          ,4          ,2,20050706,1226,  51.5431, -34.5392,     3584,   2797.3,   2.9357,  34.9187,2,     -999,9,    278.5,2,     -999,9,    2.049,2,    0.999,2
35TH20050604  ,AR07       ,115     ,  1,3          ,3          ,2,20050706,1226,  51.5431, -34.5392,     3584,   3027.5,   2.8600,  34.9294,2,     -999,9,    277.1,2,     -999,9,    1.914,2,    0.930,2
35TH20050604  ,AR07       ,115     ,  1,2          ,2          ,2,20050706,1226,  51.5431, -34.5392,     3584,   3210.3,   2.7878,  34.9351,2,     -999,9,    276.4,2,     -999,9,    1.947,2,    0.954,2
35TH20050604  ,AR07       ,115     ,  1,1          ,1          ,2,20050706,1226,  51.5431, -34.5392,     3584,   3697.6,   2.4946,  34.9121,2,  34.9170,2,    277.0,2,    276.9,2,    1.877,2,    0.911,2