BOTTLE,20240221CCHSIOADS
EXPOCODE,SECT_ID,STNNBR,CASTNO,SAMPNO,BTLNBR,BTLNBR_FLAG_W,DATE,TIME,LATITUDE,LONGITUDE,DEPTH,CTDPRS,CTDTMP,CTDSAL,CTDSAL_FLAG_W,SALNTY,SALNTY_FLAG_W,CTDOXY,CTDOXY_FLAG_W,OXYGEN,OXYGEN_FLAG_W,CFC-11,CFC-11_FLAG_W,CFC-12,CFC-12_FLAG_W
,,,,,,,,,,,METERS,DBAR,ITS-90,PSS-78,,PSS-78,,UMOL/KG,,UMOL/KG,,PMOL/KG,,PMOL/KG,
35TH20050604  ,AR07       ,34      ,  1,6          ,6          ,2,20050614,0553,  46.8675, -39.0670,     4588,     13.8,  14.3097,  35.8938,2,  35.8943,2,    252.5,2,    248.4,2,     -999,9,     -999,9
35TH20050604  ,AR07       ,34      ,  1,5          ,5          ,2,20050614,0553,  46.8675, -39.0670,     4588,    298.1,  13.3899,  35.7344,2,     -999,9,    241.8,2,    235.2,2,     -999,9,     -999,9
35TH20050604  ,AR07       ,34      ,  1,4          ,4          ,2,20050614,0553,  46.8675, -39.0670,     4588,   1317.5,   3.9991,  34.9104,2,     -999,9,    272.3,2,    273.0,2,     -999,9,     -999,9
35TH20050604  ,AR07       ,34      ,  1,3          ,3          ,2,20050614,0553,  46.8675, -39.0670,     4588,   2596.7,   3.1720,  34.9073,2,  34.9127,2,    280.2,2,    279.0,6,     -999,9,     -999,9
35TH20050604  ,AR07       ,34      ,  1,2          ,2          ,2,20050614,0553,  46.8675, -39.0670,     4588,   3097.1,   2.9045,  34.9162,2,  34.9200,2,    278.3,2,    274.7,2,     -999,9,     -999,9
35TH20050604  ,AR07       ,34      ,  1,1          ,1          ,2,20050614,0553,  46.8675, -39.0670,     4588,   4298.5,   2.2988,  34.8944,2,  34.8990,2,    277.2,2,    275.3,2,     -999,9,     -999,9
35TH20050604  ,AR07       ,35      ,  1,3          ,3          ,2,20050614,1326,  46.9244, -40.0493,     4563,    916.7,   4.8268,  34.9630,2,     -999,9,    249.6,2,    250.2,2,     -999,9,     -999,9
35TH20050604  ,AR07       ,35      ,  1,2          ,2          ,2,20050614,1326,  46.9244, -40.0493,     4563,   2010.9,   3.4967,  34.9135,2,  34.9180,2,    276.1,2,    274.9,2,     -999,9,     -999,9
35TH20050604  ,AR07       ,35      ,  1,1          ,1          ,2,20050614,1326,  46.9244, -40.0493,     4563,   2339.7,   3.2899,  34.9067,2,  34.9061,2,    279.2,2,    282.0,2,     -999,9,     -999,9
35TH20050604  ,AR07       ,36      ,  1,5          ,5          ,2,20050614,1837,  46.9565, -40.5988,     4585,      6.3,  14.4703,  35.8972,2,     -999,9,    257.2,2,    253.5,6,     -999,9,     -999,9
35TH20050604  ,AR07       ,36      ,  1,4          ,4          ,2,20050614,1837,  46.9565, -40.5988,     4585,   1471.9,   3.7213,  34.9002,2,  34.9033,2,    277.8,2,    277.0,2,     -999,9,     -999,9
35TH20050604  ,AR07       ,36      ,  1,3          ,3          ,2,20050614,1837,  46.9565, -40.5988,     4585,   2797.6,   3.0731,  34.9147,2,  34.9172,2,    279.0,2,    277.3,2,     -999,9,     -999,9
35TH20050604  ,AR07       ,36      ,  1,2          ,2          ,2,20050614,1837,  46.9565, -40.5988,     4585,   3796.1,   2.3819,  34.9002,2,     -999,9,    280.4,2,    280.1,2,     -999,9,     -999,9
35TH20050604  ,AR07       ,36      ,  1,1          ,1          ,2,20050614,1837,  46.9565, -40.5988,     4585,   4492.2,   2.1387,  34.8883,2,  34.8898,2,    286.9,2,    285.1,2,     -999,9,     -999,9
35TH20050604  ,AR07       ,37      ,  1,5          ,5          ,2,20050615,0050,  47.0029, -41.3856,     4348,     43.0,  15.0625,  36.0736,2,  36.0825,2,    245.8,2,    242.9,2,     -999,9,     -999,9
35TH20050604  ,AR07       ,37      ,  1,4          ,4          ,2,20050615,0050,  47.0029, -41.3856,     4348,    706.2,   5.7744,  34.9668,2,     -999,9,    223.0,2,    227.9,2,     -999,9,     -999,9
35TH20050604  ,AR07       ,37      ,  1,3          ,3          ,2,20050615,0050,  47.0029, -41.3856,     4348,   2474.6,   3.1224,  34.9001,2,     -999,9,    282.1,2,    281.9,2,     -999,9,     -999,9
35TH20050604  ,AR07       ,37      ,  1,2          ,2          ,2,20050615,0050,  47.0029, -41.3856,     4348,   3548.9,   2.3817,  34.9007,2,  34.9047,2,    281.8,2,    277.7,2,     -999,9,     -999,9
35TH20050604  ,AR07       ,37      ,  1,1          ,1          ,2,20050615,0050,  47.0029, -41.3856,     4348,   4396.7,   1.8873,  34.8848,2,  34.8892,2,    294.3,2,    294.5,6,     -999,9,     -999,9
35TH20050604  ,AR07       ,38      ,  1,3          ,3          ,2,20050615,1056,  46.9996, -43.1911,     3120,     20.0,   6.4483,  34.1028,2,     -999,9,    310.8,2,    308.7,2,     -999,9,     -999,9
35TH20050604  ,AR07       ,38      ,  1,4          ,4          ,2,20050615,1056,  46.9996, -43.1911,     3120,     20.0,   6.4483,  34.1028,2,     -999,9,    310.8,2,     -999,9,     -999,9,     -999,9
35TH20050604  ,AR07       ,38      ,  1,1          ,1          ,2,20050615,1056,  46.9996, -43.1911,     3120,   2847.6,   2.6526,  34.9053,2,     -999,9,    284.4,2,    282.1,6,     -999,9,     -999,9
35TH20050604  ,AR07       ,38      ,  1,2          ,2          ,2,20050615,1056,  46.9996, -43.1911,     3120,   2848.1,   2.6526,  34.9051,2,     -999,9,    284.1,2,     -999,9,     -999,9,     -999,9
35TH20050604  ,AR07       ,39      ,  1,1          ,1          ,2,20050616,0130,  47.0010, -43.3312,     1489,   1441.5,   3.2564,  34.8957,2,     -999,9,    280.3,2,     -999,9,     -999,9,     -999,9
35TH20050604  ,AR07       ,40      ,  1,10         ,10         ,2,20050619,1737,  54.2670, -47.7602,     3709,      9.8,   7.9646,  34.7021,2,     -999,9,    315.0,2,    316.4,2,     -999,9,     -999,9
35TH20050604  ,AR07       ,40      ,  1,9          ,9          ,2,20050619,1737,  54.2670, -47.7602,     3709,    105.6,   3.9801,  34.7223,2,  34.7255,2,    307.2,2,    306.8,2,     -999,9,     -999,9
35TH20050604  ,AR07       ,40      ,  1,8          ,8          ,2,20050619,1737,  54.2670, -47.7602,     3709,    400.6,   3.9169,  34.8753,2,     -999,9,    278.0,2,    276.0,2,     -999,9,     -999,9
35TH20050604  ,AR07       ,40      ,  1,7          ,7          ,2,20050619,1737,  54.2670, -47.7602,     3709,    799.4,   3.5826,  34.8720,2,     -999,9,    284.5,2,    287.6,2,     -999,9,     -999,9
35TH20050604  ,AR07       ,40      ,  1,6          ,6          ,2,20050619,1737,  54.2670, -47.7602,     3709,   1185.4,   3.4678,  34.8794,2,  34.8845,2,    282.5,2,    283.4,2,     -999,9,     -999,9
35TH20050604  ,AR07       ,40      ,  1,5          ,5          ,2,20050619,1737,  54.2670, -47.7602,     3709,   1606.5,   3.3058,  34.8930,2,     -999,9,    280.7,2,    282.6,2,     -999,9,     -999,9
35TH20050604  ,AR07       ,40      ,  1,4          ,4          ,2,20050619,1737,  54.2670, -47.7602,     3709,   2007.5,   3.1265,  34.8963,2,     -999,9,    282.3,2,    284.7,2,     -999,9,     -999,9
35TH20050604  ,AR07       ,40      ,  1,3          ,3          ,2,20050619,1737,  54.2670, -47.7602,     3709,   2598.3,   2.8899,  34.9186,2,  34.9198,2,    278.4,2,    278.9,2,     -999,9,     -999,9
35TH20050604  ,AR07       ,40      ,  1,2          ,2          ,2,20050619,1737,  54.2670, -47.7602,     3709,   3104.4,   2.6882,  34.9299,2,     -999,9,    276.2,2,    277.2,2,     -999,9,     -999,9
35TH20050604  ,AR07       ,40      ,  1,1          ,1          ,2,20050619,1737,  54.2670, -47.7602,     3709,   3828.6,   2.0373,  34.8885,2,  34.8915,2,    287.2,2,    290.6,6,     -999,9,     -999,9
35TH20050604  ,AR07       ,41      ,  1,9          ,9          ,2,20050619,2318,  54.8168, -47.5990,     3471,     13.3,   7.2063,  34.6395,2,  34.6413,2,    322.0,2,    322.5,6,     -999,9,     -999,9
35TH20050604  ,AR07       ,41      ,  1,8          ,8          ,2,20050619,2318,  54.8168, -47.5990,     3471,    190.3,   3.6950,  34.7350,2,     -999,9,    304.0,2,    302.2,2,     -999,9,     -999,9
35TH20050604  ,AR07       ,41      ,  1,7          ,7          ,2,20050619,2318,  54.8168, -47.5990,     3471,    605.8,   3.6658,  34.8538,2,     -999,9,    290.3,2,    291.0,2,     -999,9,     -999,9
35TH20050604  ,AR07       ,41      ,  1,6          ,6          ,2,20050619,2318,  54.8168, -47.5990,     3471,   1027.6,   3.5086,  34.8664,2,     -999,9,    286.5,2,    287.7,2,     -999,9,     -999,9
35TH20050604  ,AR07       ,41      ,  1,5          ,5          ,2,20050619,2318,  54.8168, -47.5990,     3471,   1398.2,   3.4945,  34.8928,2,  34.8961,2,    279.7,2,    278.0,2,     -999,9,     -999,9
35TH20050604  ,AR07       ,41      ,  1,4          ,4          ,2,20050619,2318,  54.8168, -47.5990,     3471,   1803.9,   3.2399,  34.8896,2,     -999,9,    282.7,2,    281.5,2,     -999,9,     -999,9
35TH20050604  ,AR07       ,41      ,  1,3          ,3          ,2,20050619,2318,  54.8168, -47.5990,     3471,   2297.3,   3.0557,  34.9054,2,  34.9098,2,    281.3,2,    279.7,2,     -999,9,     -999,9
35TH20050604  ,AR07       ,41      ,  1,2          ,2          ,2,20050619,2318,  54.8168, -47.5990,     3471,   2896.0,   2.7622,  34.9191,2,     -999,9,    278.6,2,    278.2,2,     -999,9,     -999,9
35TH20050604  ,AR07       ,41      ,  1,1          ,1          ,2,20050619,2318,  54.8168, -47.5990,     3471,   3546.0,   2.3455,  34.9025,2,  34.9051,2,    280.0,2,    281.2,2,     -999,9,     -999,9
35TH20050604  ,AR07       ,42      ,  1,9          ,9          ,2,20050620,0454,  55.3534, -47.2326,     3240,     19.8,   7.1847,  34.7071,2,     -999,9,    313.5,2,    304.7,2,     -999,9,     -999,9
35TH20050604  ,AR07       ,42      ,  1,8          ,8          ,2,20050620,0454,  55.3534, -47.2326,     3240,    301.5,   3.8985,  34.8517,2,     -999,9,    282.7,2,     -999,9,     -999,9,     -999,9
35TH20050604  ,AR07       ,42      ,  1,7          ,7          ,2,20050620,0454,  55.3534, -47.2326,     3240,    691.6,   3.5564,  34.8649,2,  34.8670,2,    287.2,2,    285.1,2,     -999,9,     -999,9
35TH20050604  ,AR07       ,42      ,  1,6          ,6          ,2,20050620,0454,  55.3534, -47.2326,     3240,   1099.8,   3.4309,  34.8730,2,     -999,9,    285.1,2,    285.5,2,     -999,9,     -999,9
35TH20050604  ,AR07       ,42      ,  1,5          ,5          ,2,20050620,0454,  55.3534, -47.2326,     3240,   1697.4,   3.1856,  34.8852,2,  34.8884,2,    284.6,2,    283.7,2,     -999,9,     -999,9
35TH20050604  ,AR07       ,42      ,  1,4          ,4          ,2,20050620,0454,  55.3534, -47.2326,     3240,   2098.0,   3.0550,  34.9012,2,  34.9045,2,    281.8,2,    281.3,2,     -999,9,     -999,9
35TH20050604  ,AR07       ,42      ,  1,3          ,3          ,2,20050620,0454,  55.3534, -47.2326,     3240,   2497.8,   2.8911,  34.9209,2,     -999,9,    279.0,2,    278.5,6,     -999,9,     -999,9
35TH20050604  ,AR07       ,42      ,  1,2          ,2          ,2,20050620,0454,  55.3534, -47.2326,     3240,   2997.6,   2.6090,  34.9220,2,  34.9217,2,    277.9,2,    277.1,2,     -999,9,     -999,9
35TH20050604  ,AR07       ,42      ,  1,1          ,1          ,2,20050620,0454,  55.3534, -47.2326,     3240,   3293.0,   2.3726,  34.9053,2,     -999,9,    280.3,2,    279.5,2,     -999,9,     -999,9
35TH20050604  ,AR07       ,43      ,  1,9          ,9          ,2,20050620,1231,  55.5832, -48.0970,     3425,      8.2,   7.4128,  34.6084,2,     -999,9,    318.5,2,    322.3,2,     -999,9,     -999,9
35TH20050604  ,AR07       ,43      ,  1,8          ,8          ,2,20050620,1231,  55.5832, -48.0970,     3425,    280.9,   3.7301,  34.8280,2,     -999,9,    293.3,2,    290.9,2,     -999,9,     -999,9
35TH20050604  ,AR07       ,43      ,  1,7          ,7          ,2,20050620,1231,  55.5832, -48.0970,     3425,    698.7,   3.5739,  34.8638,2,     -999,9,    287.3,2,     -999,9,     -999,9,     -999,9
35TH20050604  ,AR07       ,43      ,  1,6          ,6          ,2,20050620,1231,  55.5832, -48.0970,     3425,    981.9,   3.4406,  34.8633,2,     -999,9,    288.1,2,    288.1,2,     -999,9,     -999,9
35TH20050604  ,AR07       ,43      ,  1,5          ,5          ,2,20050620,1231,  55.5832, -48.0970,     3425,   1487.3,   3.3850,  34.8945,2,  34.9014,2,    280.2,2,    280.8,2,     -999,9,     -999,9
35TH20050604  ,AR07       ,43      ,  1,4          ,4          ,2,20050620,1231,  55.5832, -48.0970,     3425,   1897.4,   3.1599,  34.8899,2,     -999,9,    284.4,2,    285.4,2,     -999,9,     -999,9
35TH20050604  ,AR07       ,43      ,  1,3          ,3          ,2,20050620,1231,  55.5832, -48.0970,     3425,   2400.0,   2.9723,  34.9087,2,  34.9117,2,    280.9,2,    279.8,2,     -999,9,     -999,9
35TH20050604  ,AR07       ,43      ,  1,2          ,2          ,2,20050620,1231,  55.5832, -48.0970,     3425,   2897.9,   2.7241,  34.9222,2,     -999,9,    279.3,2,    279.5,2,     -999,9,     -999,9
35TH20050604  ,AR07       ,43      ,  1,1          ,1          ,2,20050620,1231,  55.5832, -48.0970,     3425,   3488.1,   2.2053,  34.8954,2,  34.9029,2,    283.5,2,    285.7,6,     -999,9,     -999,9
35TH20050604  ,AR07       ,44      ,  1,9          ,9          ,2,20050620,1730,  55.8310, -48.9152,     3598,     14.1,   7.6557,  34.7072,2,     -999,9,    320.3,2,    309.5,2,     -999,9,     -999,9
35TH20050604  ,AR07       ,44      ,  1,8          ,8          ,2,20050620,1730,  55.8310, -48.9152,     3598,    193.4,   3.4871,  34.7482,2,     -999,9,    312.3,2,    308.0,2,     -999,9,     -999,9
35TH20050604  ,AR07       ,44      ,  1,7          ,7          ,2,20050620,1730,  55.8310, -48.9152,     3598,    497.7,   3.5942,  34.8449,2,  34.8496,2,    300.4,2,    299.0,2,     -999,9,     -999,9
35TH20050604  ,AR07       ,44      ,  1,6          ,6          ,2,20050620,1730,  55.8310, -48.9152,     3598,    869.2,   3.4715,  34.8550,2,     -999,9,    293.6,2,    290.0,2,     -999,9,     -999,9
35TH20050604  ,AR07       ,44      ,  1,5          ,5          ,2,20050620,1730,  55.8310, -48.9152,     3598,   1291.6,   3.4603,  34.8746,2,  34.8798,2,    285.6,2,    283.5,2,     -999,9,     -999,9
35TH20050604  ,AR07       ,44      ,  1,4          ,4          ,2,20050620,1730,  55.8310, -48.9152,     3598,   1687.1,   3.3213,  34.8887,2,     -999,9,    282.4,2,    282.5,6,     -999,9,     -999,9
35TH20050604  ,AR07       ,44      ,  1,3          ,3          ,2,20050620,1730,  55.8310, -48.9152,     3598,   2197.5,   3.1105,  34.8959,2,     -999,9,    284.1,2,    284.8,2,     -999,9,     -999,9
35TH20050604  ,AR07       ,44      ,  1,2          ,2          ,2,20050620,1730,  55.8310, -48.9152,     3598,   2698.0,   2.8987,  34.9113,2,     -999,9,    280.8,2,    281.4,2,     -999,9,     -999,9
35TH20050604  ,AR07       ,44      ,  1,1          ,1          ,2,20050620,1730,  55.8310, -48.9152,     3598,   3756.3,   2.0436,  34.8890,2,  34.8917,2,    287.9,2,    291.2,2,     -999,9,     -999,9
35TH20050604  ,AR07       ,45      ,  1,8          ,8          ,2,20050620,2308,  56.0989, -49.7942,     3655,     29.8,   7.6419,  34.7119,2,     -999,9,    309.2,2,    309.8,2,     -999,9,     -999,9
35TH20050604  ,AR07       ,45      ,  1,7          ,7          ,2,20050620,2308,  56.0989, -49.7942,     3655,    130.9,   3.5607,  34.7689,2,     -999,9,    308.8,2,    305.5,2,     -999,9,     -999,9
35TH20050604  ,AR07       ,45      ,  1,6          ,6          ,2,20050620,2308,  56.0989, -49.7942,     3655,    428.2,   3.6002,  34.8529,2,     -999,9,    298.7,2,    301.6,3,     -999,9,     -999,9
35TH20050604  ,AR07       ,45      ,  1,5          ,5          ,2,20050620,2308,  56.0989, -49.7942,     3655,   1028.6,   3.4633,  34.8540,2,  34.8543,2,    298.1,2,    300.8,3,     -999,9,     -999,9
35TH20050604  ,AR07       ,45      ,  1,4          ,4          ,2,20050620,2308,  56.0989, -49.7942,     3655,   1468.6,   3.4689,  34.8765,2,     -999,9,    285.4,2,    284.6,6,     -999,9,     -999,9
35TH20050604  ,AR07       ,45      ,  1,3          ,3          ,2,20050620,2308,  56.0989, -49.7942,     3655,   2096.4,   3.2077,  34.8888,2,  34.8919,2,    284.2,2,    283.4,2,     -999,9,     -999,9
35TH20050604  ,AR07       ,45      ,  1,2          ,2          ,2,20050620,2308,  56.0989, -49.7942,     3655,   2692.1,   2.9692,  34.9095,2,     -999,9,    281.5,2,    273.6,3,     -999,9,     -999,9
35TH20050604  ,AR07       ,45      ,  1,1          ,1          ,2,20050620,2308,  56.0989, -49.7942,     3655,   3759.8,   1.5649,  34.8750,2,  34.8790,2,    299.0,2,    299.7,2,     -999,9,     -999,9
35TH20050604  ,AR07       ,46      ,  1,8          ,8          ,2,20050621,0545,  56.3885, -50.7785,     3588,     15.4,   6.6472,  34.6598,2,     -999,9,    322.1,2,    318.5,2,     -999,9,     -999,9
35TH20050604  ,AR07       ,46      ,  1,7          ,7          ,2,20050621,0545,  56.3885, -50.7785,     3588,    626.0,   3.5772,  34.8601,2,     -999,9,    295.1,2,    298.2,6,     -999,9,     -999,9
35TH20050604  ,AR07       ,46      ,  1,6          ,6          ,2,20050621,0545,  56.3885, -50.7785,     3588,   1175.4,   3.4221,  34.8565,2,     -999,9,    293.1,2,    291.3,2,     -999,9,     -999,9
35TH20050604  ,AR07       ,46      ,  1,5          ,5          ,2,20050621,0545,  56.3885, -50.7785,     3588,   1706.7,   3.4203,  34.8940,2,  34.8974,2,    280.9,2,    277.8,2,     -999,9,     -999,9
35TH20050604  ,AR07       ,46      ,  1,4          ,4          ,2,20050621,0545,  56.3885, -50.7785,     3588,   1995.1,   3.2331,  34.8894,2,     -999,9,    284.5,2,    284.0,2,     -999,9,     -999,9
35TH20050604  ,AR07       ,46      ,  1,3          ,3          ,2,20050621,0545,  56.3885, -50.7785,     3588,   2596.7,   2.9836,  34.9087,2,  34.9131,2,    281.7,2,    278.9,2,     -999,9,     -999,9
35TH20050604  ,AR07       ,46      ,  1,2          ,2          ,2,20050621,0545,  56.3885, -50.7785,     3588,   3204.7,   2.4698,  34.9038,2,     -999,9,    284.0,2,    284.0,2,     -999,9,     -999,9
35TH20050604  ,AR07       ,46      ,  1,1          ,1          ,2,20050621,0545,  56.3885, -50.7785,     3588,   3605.8,   1.5885,  34.8744,2,  34.8766,2,    298.7,2,    298.5,2,     -999,9,     -999,9