BOTTLE,20240221CCHSIOADS
# Created SAMPNO column from BTLNBR and sorted by STNNBR, CASTNO, CTDPRS
# These data are under a CC0 license. For more information on how to cite please visit cchdo.ucsd.edu
#
# Data source: R.Steinfeldt 8/27/18  
# SHIP: R/V Thalassa  
# Cruise: SPOL  
# Region: Subpolar North Atlantic; Similar area to A1W, AR07, and A02 
# EXPOCODE: 35TH20050604 
# DATES: 6/04 - 7/12/2007  
# Chief Scientist: M. Rhein  
# 129 stations with 22 place Rosette  
# Hydro: Who - R.Steinfeldt; Status -  final  
# 	Notes:   
# O2: Who - R. Steinfeldt; Status - final  
# 	Notes:   
# CFC: Who - K.Bulsiewicz; Status - final  
# 	Notes:  
# References: Rhein, M.,D. Kieke and R. Steinfeldt (2015), Advection of North Atlantic Deep Water from the Labrador Sea to the southern hemisphere, J. Geophys. Res., 120, 2471-2487, doi:10.1002/2014JC010605. 
EXPOCODE,SECT_ID,STNNBR,CASTNO,SAMPNO,BTLNBR,BTLNBR_FLAG_W,DATE,TIME,LATITUDE,LONGITUDE,DEPTH,CTDPRS,CTDTMP,CTDSAL,CTDSAL_FLAG_W,SALNTY,SALNTY_FLAG_W,CTDOXY,CTDOXY_FLAG_W,OXYGEN,OXYGEN_FLAG_W,CFC-11,CFC-11_FLAG_W,CFC-12,CFC-12_FLAG_W
,,,,,,,,,,,METERS,DBAR,ITS-90,PSS-78,,PSS-78,,UMOL/KG,,UMOL/KG,,PMOL/KG,,PMOL/KG,
35TH20050604  ,AR07       ,1       ,  1,22         ,22         ,2,20050605,0705,  48.6843, -10.0823,      700,     11.7,  13.1483,  35.5820,2,     -999,9,    275.2,2,     -999,9,     -999,9,     -999,9
35TH20050604  ,AR07       ,1       ,  1,20         ,20         ,2,20050605,0705,  48.6843, -10.0823,      700,     11.7,  13.1483,  35.5820,2,     -999,9,    275.2,2,     -999,9,     -999,9,     -999,9
35TH20050604  ,AR07       ,1       ,  1,19         ,19         ,2,20050605,0705,  48.6843, -10.0823,      700,     11.7,  13.1483,  35.5820,2,     -999,9,    275.2,2,    274.4,2,     -999,9,     -999,9
35TH20050604  ,AR07       ,1       ,  1,18         ,18         ,2,20050605,0705,  48.6843, -10.0823,      700,     11.7,  13.1483,  35.5820,2,     -999,9,    275.2,2,     -999,9,     -999,9,     -999,9
35TH20050604  ,AR07       ,1       ,  1,17         ,17         ,2,20050605,0705,  48.6843, -10.0823,      700,     11.7,  13.1483,  35.5820,2,     -999,9,    275.2,2,     -999,9,     -999,9,     -999,9
35TH20050604  ,AR07       ,1       ,  1,21         ,21         ,2,20050605,0705,  48.6843, -10.0823,      700,     11.7,  13.1483,  35.5820,2,  35.5859,2,    275.2,2,     -999,9,     -999,9,     -999,9
35TH20050604  ,AR07       ,1       ,  1,13         ,13         ,2,20050605,0705,  48.6843, -10.0823,      700,     11.7,  13.1483,  35.5820,2,     -999,9,    275.2,2,     -999,9,     -999,9,     -999,9
35TH20050604  ,AR07       ,1       ,  1,14         ,14         ,2,20050605,0705,  48.6843, -10.0823,      700,     11.7,  13.1483,  35.5820,2,     -999,9,    275.2,2,     -999,9,     -999,9,     -999,9
35TH20050604  ,AR07       ,1       ,  1,15         ,15         ,2,20050605,0705,  48.6843, -10.0823,      700,     11.7,  13.1483,  35.5820,2,     -999,9,    275.2,2,    274.0,2,     -999,9,     -999,9
35TH20050604  ,AR07       ,1       ,  1,16         ,16         ,2,20050605,0705,  48.6843, -10.0823,      700,     11.7,  13.1483,  35.5820,2,     -999,9,    275.2,2,     -999,9,     -999,9,     -999,9
35TH20050604  ,AR07       ,1       ,  1,8          ,8          ,2,20050605,0705,  48.6843, -10.0823,      700,    406.3,  11.1037,  35.5858,2,     -999,9,    238.4,2,     -999,9,     -999,9,     -999,9
35TH20050604  ,AR07       ,1       ,  1,10         ,10         ,2,20050605,0705,  48.6843, -10.0823,      700,    406.3,  11.1037,  35.5858,2,     -999,9,    238.4,2,    236.9,2,     -999,9,     -999,9
35TH20050604  ,AR07       ,1       ,  1,6          ,6          ,2,20050605,0705,  48.6843, -10.0823,      700,    406.4,  11.1025,  35.5861,2,  35.5883,2,    238.4,2,     -999,9,     -999,9,     -999,9
35TH20050604  ,AR07       ,1       ,  1,7          ,7          ,2,20050605,0705,  48.6843, -10.0823,      700,    406.4,  11.1025,  35.5861,2,     -999,9,    238.4,2,     -999,9,     -999,9,     -999,9
35TH20050604  ,AR07       ,1       ,  1,9          ,9          ,2,20050605,0705,  48.6843, -10.0823,      700,    406.4,  11.1025,  35.5861,2,     -999,9,    238.4,2,     -999,9,     -999,9,     -999,9
35TH20050604  ,AR07       ,1       ,  1,12         ,12         ,2,20050605,0705,  48.6843, -10.0823,      700,    406.4,  11.1025,  35.5861,2,     -999,9,    238.4,2,    234.6,2,     -999,9,     -999,9
35TH20050604  ,AR07       ,1       ,  1,11         ,11         ,2,20050605,0705,  48.6843, -10.0823,      700,    406.5,  11.1013,  35.5860,2,     -999,9,    238.4,2,     -999,9,     -999,9,     -999,9
35TH20050604  ,AR07       ,1       ,  1,5          ,5          ,2,20050605,0705,  48.6843, -10.0823,      700,    724.2,   9.8342,  35.5542,2,     -999,9,    216.5,2,     -999,9,     -999,9,     -999,9
35TH20050604  ,AR07       ,1       ,  1,3          ,3          ,2,20050605,0705,  48.6843, -10.0823,      700,    724.3,   9.8347,  35.5541,2,     -999,9,    216.3,2,    209.8,3,     -999,9,     -999,9
35TH20050604  ,AR07       ,1       ,  1,2          ,2          ,2,20050605,0705,  48.6843, -10.0823,      700,    724.3,   9.8343,  35.5540,2,     -999,9,    216.5,2,    208.5,3,     -999,9,     -999,9
35TH20050604  ,AR07       ,1       ,  1,1          ,1          ,2,20050605,0705,  48.6843, -10.0823,      700,    724.6,   9.8330,  35.5541,2,  35.5582,2,    216.3,2,     -999,9,     -999,9,     -999,9
35TH20050604  ,AR07       ,1       ,  1,4          ,4          ,2,20050605,0705,  48.6843, -10.0823,      700,    724.8,   9.8332,  35.5538,2,     -999,9,    216.6,2,     -999,9,     -999,9,     -999,9
35TH20050604  ,AR07       ,2       ,  1,5          ,5          ,2,20050605,2048,  48.9083, -13.0167,     3388,     21.4,  13.6177,  35.5205,2,     -999,9,    273.1,2,     -999,9,     -999,9,     -999,9
35TH20050604  ,AR07       ,2       ,  1,6          ,6          ,2,20050605,2048,  48.9083, -13.0167,     3388,     21.4,  13.6177,  35.5205,2,     -999,9,    273.1,2,     -999,9,     -999,9,     -999,9
35TH20050604  ,AR07       ,2       ,  1,4          ,4          ,2,20050605,2048,  48.9083, -13.0167,     3388,   2026.2,   3.5198,  34.9447,2,     -999,9,    271.9,2,     -999,9,     -999,9,     -999,9
35TH20050604  ,AR07       ,2       ,  1,3          ,3          ,2,20050605,2048,  48.9083, -13.0167,     3388,   2027.5,   3.5146,  34.9434,2,     -999,9,    272.0,2,    275.2,2,     -999,9,     -999,9
35TH20050604  ,AR07       ,2       ,  1,2          ,2          ,2,20050605,2048,  48.9083, -13.0167,     3388,   3330.4,   2.6977,  34.9298,2,  34.9324,2,    244.8,2,     -999,9,     -999,9,     -999,9
35TH20050604  ,AR07       ,2       ,  1,1          ,1          ,2,20050605,2048,  48.9083, -13.0167,     3388,   3331.2,   2.6984,  34.9293,2,     -999,9,    244.9,2,    243.8,6,     -999,9,     -999,9
35TH20050604  ,AR07       ,3       ,  1,6          ,6          ,2,20050606,0033,  48.9083, -13.3000,     3750,     17.8,  13.5780,  35.5430,2,     -999,9,    270.9,2,    267.3,2,     -999,9,     -999,9
35TH20050604  ,AR07       ,3       ,  1,5          ,5          ,2,20050606,0033,  48.9083, -13.3000,     3750,   1521.3,   4.5318,  35.0290,2,  35.0303,2,    253.9,2,     -999,9,     -999,9,     -999,9
35TH20050604  ,AR07       ,3       ,  1,4          ,4          ,2,20050606,0033,  48.9083, -13.3000,     3750,   1521.6,   4.5307,  35.0288,2,     -999,9,    253.9,2,    251.3,2,     -999,9,     -999,9
35TH20050604  ,AR07       ,3       ,  1,3          ,3          ,2,20050606,0033,  48.9083, -13.3000,     3750,   2512.1,   3.0501,  34.9545,2,     -999,9,    253.5,2,     -999,9,     -999,9,     -999,9
35TH20050604  ,AR07       ,3       ,  1,2          ,2          ,2,20050606,0033,  48.9083, -13.3000,     3750,   3784.5,   2.4594,  34.9065,2,     -999,9,    241.2,2,     -999,9,     -999,9,     -999,9
35TH20050604  ,AR07       ,3       ,  1,1          ,1          ,2,20050606,0033,  48.9083, -13.3000,     3750,   3785.6,   2.4597,  34.9062,2,     -999,9,    241.2,2,    244.8,2,     -999,9,     -999,9
35TH20050604  ,AR07       ,4       ,  1,6          ,6          ,2,20050606,0419,  48.8660, -13.5793,     4494,     31.2,  13.5954,  35.5713,2,     -999,9,    269.0,2,    270.5,2,     -999,9,     -999,9
35TH20050604  ,AR07       ,4       ,  1,5          ,5          ,2,20050606,0419,  48.8660, -13.5793,     4494,    786.3,   9.2616,  35.4762,2,     -999,9,    194.1,2,     -999,9,     -999,9,     -999,9
35TH20050604  ,AR07       ,4       ,  1,4          ,4          ,2,20050606,0419,  48.8660, -13.5793,     4494,   2994.5,   2.7364,  34.9365,2,  34.9356,2,    247.0,2,     -999,9,     -999,9,     -999,9
35TH20050604  ,AR07       ,4       ,  1,3          ,3          ,2,20050606,0419,  48.8660, -13.5793,     4494,   2997.0,   2.7359,  34.9365,2,     -999,9,    247.1,2,    244.9,2,     -999,9,     -999,9
35TH20050604  ,AR07       ,4       ,  1,1          ,1          ,2,20050606,0419,  48.8660, -13.5793,     4494,   4571.8,   2.5206,  34.9031,2,     -999,9,    241.4,2,    242.5,2,     -999,9,     -999,9
35TH20050604  ,AR07       ,4       ,  1,2          ,2          ,2,20050606,0419,  48.8660, -13.5793,     4494,   4572.7,   2.5207,  34.9031,2,  34.9033,2,    241.2,2,     -999,9,     -999,9,     -999,9
35TH20050604  ,AR07       ,5       ,  1,6          ,6          ,2,20050606,0837,  48.8333, -13.8667,     4517,     14.7,  13.2091,  35.4001,2,     -999,9,    272.8,2,    262.2,3,     -999,9,     -999,9
35TH20050604  ,AR07       ,5       ,  1,5          ,5          ,2,20050606,0837,  48.8333, -13.8667,     4517,   1212.5,   5.7358,  35.1335,2,     -999,9,    230.9,2,     -999,9,     -999,9,     -999,9
35TH20050604  ,AR07       ,5       ,  1,1          ,1          ,2,20050606,0837,  48.8333, -13.8667,     4517,   2694.8,   3.0036,  34.9490,2,     -999,9,    255.4,2,    233.1,3,     -999,9,     -999,9
35TH20050604  ,AR07       ,5       ,  1,2          ,2          ,2,20050606,0837,  48.8333, -13.8667,     4517,   2694.8,   3.0036,  34.9490,2,     -999,9,    255.4,2,     -999,9,     -999,9,     -999,9
35TH20050604  ,AR07       ,5       ,  1,3          ,3          ,2,20050606,0837,  48.8333, -13.8667,     4517,   2694.8,   3.0036,  34.9490,2,     -999,9,    255.5,2,    247.4,2,     -999,9,     -999,9
35TH20050604  ,AR07       ,5       ,  1,4          ,4          ,2,20050606,0837,  48.8333, -13.8667,     4517,   2694.8,   3.0036,  34.9490,2,     -999,9,    255.5,2,     -999,9,     -999,9,     -999,9
35TH20050604  ,AR07       ,6       ,  1,7          ,7          ,2,20050606,1226,  48.7917, -14.1167,     4504,     19.7,  13.2674,  35.3573,2,     -999,9,    274.4,2,    265.1,3,     -999,9,     -999,9
35TH20050604  ,AR07       ,6       ,  1,6          ,6          ,2,20050606,1226,  48.7917, -14.1167,     4504,    196.3,  11.6127,  35.5557,2,  35.5538,2,    250.7,2,     -999,9,     -999,9,     -999,9
35TH20050604  ,AR07       ,6       ,  1,5          ,5          ,2,20050606,1226,  48.7917, -14.1167,     4504,    197.7,  11.5985,  35.5542,2,     -999,9,    250.5,2,    239.5,3,     -999,9,     -999,9
35TH20050604  ,AR07       ,6       ,  1,4          ,4          ,2,20050606,1226,  48.7917, -14.1167,     4504,   2204.4,   3.3134,  34.9260,2,  34.9271,2,    270.1,2,     -999,9,     -999,9,     -999,9
35TH20050604  ,AR07       ,6       ,  1,3          ,3          ,2,20050606,1226,  48.7917, -14.1167,     4504,   2204.9,   3.3113,  34.9271,2,     -999,9,    269.9,2,    266.1,2,     -999,9,     -999,9
35TH20050604  ,AR07       ,6       ,  1,1          ,1          ,2,20050606,1226,  48.7917, -14.1167,     4504,   4581.4,   2.5173,  34.9029,2,     -999,9,    241.0,2,    234.2,6,     -999,9,     -999,9
35TH20050604  ,AR07       ,6       ,  1,2          ,2          ,2,20050606,1226,  48.7917, -14.1167,     4504,   4581.6,   2.5174,  34.9026,2,     -999,9,    241.4,2,     -999,9,     -999,9,     -999,9
35TH20050604  ,AR07       ,7       ,  1,22         ,22         ,2,20050606,1637,  48.7505, -14.4215,     4557,      3.3,  14.2426,  35.6079,2,     -999,9,    261.9,2,     -999,9,     -999,9,     -999,9
35TH20050604  ,AR07       ,7       ,  1,21         ,21         ,2,20050606,1637,  48.7505, -14.4215,     4557,    111.6,  12.7898,  35.6689,2,     -999,9,    255.1,2,    243.2,3,    2.936,2,    1.717,2
35TH20050604  ,AR07       ,7       ,  1,20         ,20         ,2,20050606,1637,  48.7505, -14.4215,     4557,    296.3,  11.7800,  35.6261,2,     -999,9,    247.0,2,     -999,9,    3.028,2,    1.752,2
35TH20050604  ,AR07       ,7       ,  1,19         ,19         ,2,20050606,1637,  48.7505, -14.4215,     4557,    517.2,  11.3370,  35.5768,2,     -999,9,    249.0,2,     -999,9,    2.972,2,    1.688,2
35TH20050604  ,AR07       ,7       ,  1,18         ,18         ,2,20050606,1637,  48.7505, -14.4215,     4557,    809.6,   9.7562,  35.4455,2,     -999,9,    196.8,2,     -999,9,    2.143,2,    1.138,2
35TH20050604  ,AR07       ,7       ,  1,17         ,17         ,2,20050606,1637,  48.7505, -14.4215,     4557,    979.3,   9.0560,  35.5183,2,     -999,9,    193.8,2,     -999,9,    1.780,2,    0.920,2
35TH20050604  ,AR07       ,7       ,  1,16         ,16         ,2,20050606,1637,  48.7505, -14.4215,     4557,   1193.2,   7.7749,  35.4888,2,     -999,9,    206.1,2,     -999,9,    1.812,2,    1.019,4
35TH20050604  ,AR07       ,7       ,  1,15         ,15         ,2,20050606,1637,  48.7505, -14.4215,     4557,   1397.5,   5.5824,  35.1510,2,     -999,9,    236.2,2,     -999,9,    2.216,2,    1.122,2
35TH20050604  ,AR07       ,7       ,  1,14         ,14         ,2,20050606,1637,  48.7505, -14.4215,     4557,   1620.8,   4.4656,  35.0193,2,     -999,9,    254.0,2,     -999,9,    2.662,2,    1.350,2
35TH20050604  ,AR07       ,7       ,  1,13         ,13         ,2,20050606,1637,  48.7505, -14.4215,     4557,   1816.7,   4.0015,  34.9835,2,     -999,9,    259.8,2,     -999,9,    2.106,2,    1.039,2
35TH20050604  ,AR07       ,7       ,  1,12         ,12         ,2,20050606,1637,  48.7505, -14.4215,     4557,   1997.6,   3.5761,  34.9526,2,     -999,9,    264.2,2,     -999,9,    1.842,2,    0.904,2
35TH20050604  ,AR07       ,7       ,  1,11         ,11         ,2,20050606,1637,  48.7505, -14.4215,     4557,   2195.9,   3.2823,  34.9377,2,     -999,9,    266.1,2,     -999,9,    1.593,2,    0.788,2
35TH20050604  ,AR07       ,7       ,  1,10         ,10         ,2,20050606,1637,  48.7505, -14.4215,     4557,   2395.7,   3.1629,  34.9502,2,  34.9495,2,    259.5,2,     -999,9,    1.071,2,    0.530,2
35TH20050604  ,AR07       ,7       ,  1,9          ,9          ,2,20050606,1637,  48.7505, -14.4215,     4557,   2596.6,   3.0300,  34.9514,2,     -999,9,    255.5,2,     -999,9,    0.756,2,    0.474,4
35TH20050604  ,AR07       ,7       ,  1,8          ,8          ,2,20050606,1637,  48.7505, -14.4215,     4557,   2795.9,   2.9173,  34.9486,2,     -999,9,    249.9,2,     -999,9,     -999,9,     -999,9
35TH20050604  ,AR07       ,7       ,  1,7          ,7          ,2,20050606,1637,  48.7505, -14.4215,     4557,   3096.1,   2.7486,  34.9378,2,     -999,9,    246.8,2,     -999,9,    0.178,2,    0.093,2
35TH20050604  ,AR07       ,7       ,  1,6          ,6          ,2,20050606,1637,  48.7505, -14.4215,     4557,   3396.6,   2.6356,  34.9262,2,  34.9277,2,    243.7,2,     -999,9,    0.096,2,    0.051,2
35TH20050604  ,AR07       ,7       ,  1,5          ,5          ,2,20050606,1637,  48.7505, -14.4215,     4557,   3796.7,   2.5408,  34.9144,2,     -999,9,    241.9,2,     -999,9,    0.071,2,    0.036,2
35TH20050604  ,AR07       ,7       ,  1,4          ,4          ,2,20050606,1637,  48.7505, -14.4215,     4557,   4095.7,   2.5151,  34.9085,2,     -999,9,    241.4,2,    236.4,3,    0.070,2,    0.032,2
35TH20050604  ,AR07       ,7       ,  1,3          ,3          ,2,20050606,1637,  48.7505, -14.4215,     4557,   4294.9,   2.5095,  34.9057,2,     -999,9,    241.0,2,     -999,9,    0.049,2,    0.019,2
35TH20050604  ,AR07       ,7       ,  1,2          ,2          ,2,20050606,1637,  48.7505, -14.4215,     4557,   4445.8,   2.5123,  34.9040,2,     -999,9,    241.4,2,    235.4,3,    0.056,2,    0.021,2
35TH20050604  ,AR07       ,7       ,  1,1          ,1          ,2,20050606,1637,  48.7505, -14.4215,     4557,   4614.0,   2.5235,  34.9028,2,  34.9053,2,    241.1,2,     -999,9,    0.124,4,    0.146,4