BOTTLE,20240221CCHSIOADS
EXPOCODE,SECT_ID,STNNBR,CASTNO,SAMPNO,BTLNBR,BTLNBR_FLAG_W,DATE,TIME,LATITUDE,LONGITUDE,DEPTH,CTDPRS,CTDTMP,CTDSAL,CTDSAL_FLAG_W,SALNTY,SALNTY_FLAG_W,CTDOXY,CTDOXY_FLAG_W,OXYGEN,OXYGEN_FLAG_W,CFC-11,CFC-11_FLAG_W,CFC-12,CFC-12_FLAG_W
,,,,,,,,,,,METERS,DBAR,ITS-90,PSS-78,,PSS-78,,UMOL/KG,,UMOL/KG,,PMOL/KG,,PMOL/KG,
35TH20050604  ,AR07       ,8       ,  1,22         ,22         ,2,20050607,0017,  48.6000, -15.5500,     4822,     24.4,  13.4837,  35.4537,2,     -999,9,    273.5,2,    263.0,3,    3.038,2,    1.782,2
35TH20050604  ,AR07       ,8       ,  1,21         ,21         ,2,20050607,0017,  48.6000, -15.5500,     4822,    197.6,  11.6045,  35.5737,2,     -999,9,    253.1,2,     -999,9,    3.025,2,    1.748,2
35TH20050604  ,AR07       ,8       ,  1,20         ,20         ,2,20050607,0017,  48.6000, -15.5500,     4822,    412.5,  11.2182,  35.5625,2,  35.5570,2,    252.7,2,     -999,9,    3.072,2,    1.769,2
35TH20050604  ,AR07       ,8       ,  1,19         ,19         ,2,20050607,0017,  48.6000, -15.5500,     4822,    710.7,   9.9353,  35.4266,2,     -999,9,    206.5,2,     -999,9,    2.388,2,    1.286,2
35TH20050604  ,AR07       ,8       ,  1,18         ,18         ,2,20050607,0017,  48.6000, -15.5500,     4822,    915.0,   9.1847,  35.5286,2,     -999,9,    193.6,2,     -999,9,    1.863,2,    0.962,2
35TH20050604  ,AR07       ,8       ,  1,17         ,17         ,2,20050607,0017,  48.6000, -15.5500,     4822,   1101.7,   7.6721,  35.3755,2,     -999,9,    207.9,2,     -999,9,    1.903,2,    0.976,2
35TH20050604  ,AR07       ,8       ,  1,16         ,16         ,2,20050607,0017,  48.6000, -15.5500,     4822,   1283.4,   6.5948,  35.2959,2,     -999,9,    221.1,2,     -999,9,    2.045,4,    1.133,4
35TH20050604  ,AR07       ,8       ,  1,15         ,15         ,2,20050607,0017,  48.6000, -15.5500,     4822,   1526.4,   4.8959,  35.0611,2,     -999,9,    245.9,2,     -999,9,    2.502,2,    1.264,2
35TH20050604  ,AR07       ,8       ,  1,14         ,14         ,2,20050607,0017,  48.6000, -15.5500,     4822,   1724.6,   4.2435,  34.9960,2,     -999,9,    258.2,2,     -999,9,    2.300,2,    1.139,2
35TH20050604  ,AR07       ,8       ,  1,13         ,13         ,2,20050607,0017,  48.6000, -15.5500,     4822,   1896.5,   3.8615,  34.9673,2,     -999,9,    262.7,2,    250.4,4,    2.062,2,    1.003,2
35TH20050604  ,AR07       ,8       ,  1,12         ,12         ,2,20050607,0017,  48.6000, -15.5500,     4822,   2095.6,   3.4496,  34.9408,2,  34.9415,2,    266.6,2,     -999,9,    1.873,2,    0.916,2
35TH20050604  ,AR07       ,8       ,  1,11         ,11         ,2,20050607,0017,  48.6000, -15.5500,     4822,   2298.0,   3.2989,  34.9426,2,     -999,9,    265.9,2,     -999,9,    1.428,2,    0.699,2
35TH20050604  ,AR07       ,8       ,  1,10         ,10         ,2,20050607,0017,  48.6000, -15.5500,     4822,   2479.6,   3.1449,  34.9462,2,     -999,9,    262.0,2,     -999,9,    0.977,2,    0.486,2
35TH20050604  ,AR07       ,8       ,  1,9          ,9          ,2,20050607,0017,  48.6000, -15.5500,     4822,   2789.8,   2.9444,  34.9496,2,     -999,9,    252.7,2,    224.2,4,    0.519,2,    0.338,4
35TH20050604  ,AR07       ,8       ,  1,8          ,8          ,2,20050607,0017,  48.6000, -15.5500,     4822,   2988.1,   2.8251,  34.9428,2,  34.9442,2,    247.2,2,     -999,9,    0.251,2,    0.129,2
35TH20050604  ,AR07       ,8       ,  1,7          ,7          ,2,20050607,0017,  48.6000, -15.5500,     4822,   3299.0,   2.6923,  34.9316,2,     -999,9,    244.8,2,     -999,9,    0.133,2,    0.069,2
35TH20050604  ,AR07       ,8       ,  1,6          ,6          ,2,20050607,0017,  48.6000, -15.5500,     4822,   3499.1,   2.6318,  34.9252,2,     -999,9,    243.8,2,    241.4,2,    0.090,2,    0.047,2
35TH20050604  ,AR07       ,8       ,  1,5          ,5          ,2,20050607,0017,  48.6000, -15.5500,     4822,   3797.4,   2.5732,  34.9174,2,     -999,9,    242.6,2,     -999,9,     -999,9,     -999,9
35TH20050604  ,AR07       ,8       ,  1,4          ,4          ,2,20050607,0017,  48.6000, -15.5500,     4822,   4095.9,   2.5437,  34.9116,2,     -999,9,    241.7,2,     -999,9,    0.048,2,    0.022,2
35TH20050604  ,AR07       ,8       ,  1,3          ,3          ,2,20050607,0017,  48.6000, -15.5500,     4822,   4397.3,   2.5266,  34.9060,2,     -999,9,    241.8,2,     -999,9,    0.044,2,    0.020,2
35TH20050604  ,AR07       ,8       ,  1,2          ,2          ,2,20050607,0017,  48.6000, -15.5500,     4822,   4695.5,   2.5334,  34.9030,2,     -999,9,    242.2,2,    248.2,3,    0.050,2,    0.018,2
35TH20050604  ,AR07       ,8       ,  1,1          ,1          ,2,20050607,0017,  48.6000, -15.5500,     4822,   4905.5,   2.5516,  34.9023,2,  34.9026,2,    241.5,2,     -999,9,    0.121,4,    0.154,4
35TH20050604  ,AR07       ,9       ,  1,22         ,22         ,2,20050607,0803,  48.4417, -16.6750,     4663,      9.2,  14.7339,  35.7760,2,  35.7718,2,    258.9,2,    262.3,2,    2.802,2,    1.641,2
35TH20050604  ,AR07       ,9       ,  1,21         ,21         ,2,20050607,0803,  48.4417, -16.6750,     4663,    263.4,  13.2747,  35.7953,2,     -999,9,    240.7,2,     -999,9,    2.781,2,    1.606,2
35TH20050604  ,AR07       ,9       ,  1,20         ,20         ,2,20050607,0803,  48.4417, -16.6750,     4663,    509.1,  11.1337,  35.4495,2,     -999,9,    222.0,2,    219.6,2,    2.630,2,    1.472,2
35TH20050604  ,AR07       ,9       ,  1,19         ,19         ,2,20050607,0803,  48.4417, -16.6750,     4663,    808.9,   8.5781,  35.2974,2,     -999,9,    195.0,2,     -999,9,    2.050,2,    1.068,2
35TH20050604  ,AR07       ,9       ,  1,18         ,18         ,2,20050607,0803,  48.4417, -16.6750,     4663,   1015.5,   7.5478,  35.3320,2,     -999,9,    207.6,2,     -999,9,    1.966,2,    1.005,2
35TH20050604  ,AR07       ,9       ,  1,17         ,17         ,2,20050607,0803,  48.4417, -16.6750,     4663,   1102.1,   6.5565,  35.2301,2,     -999,9,    218.5,2,     -999,9,    2.131,2,    1.080,2
35TH20050604  ,AR07       ,9       ,  1,16         ,16         ,2,20050607,0803,  48.4417, -16.6750,     4663,   1257.6,   5.8416,  35.1951,2,     -999,9,    230.3,2,     -999,9,    2.180,2,    1.167,2
35TH20050604  ,AR07       ,9       ,  1,15         ,15         ,2,20050607,0803,  48.4417, -16.6750,     4663,   1392.9,   4.4249,  34.9830,2,     -999,9,    254.5,2,     -999,9,    2.821,2,    1.440,2
35TH20050604  ,AR07       ,9       ,  1,14         ,14         ,2,20050607,0803,  48.4417, -16.6750,     4663,   1596.0,   3.8987,  34.9314,2,     -999,9,    265.7,2,    270.9,3,    2.812,2,    1.414,2
35TH20050604  ,AR07       ,9       ,  1,13         ,13         ,2,20050607,0803,  48.4417, -16.6750,     4663,   1809.7,   3.6043,  34.9102,2,     -999,9,    271.5,2,     -999,9,    2.746,2,    1.344,2
35TH20050604  ,AR07       ,9       ,  1,12         ,12         ,2,20050607,0803,  48.4417, -16.6750,     4663,   2015.1,   3.3990,  34.8997,2,  34.9000,2,    275.5,2,     -999,9,    2.673,2,    1.302,2
35TH20050604  ,AR07       ,9       ,  1,11         ,11         ,2,20050607,0803,  48.4417, -16.6750,     4663,   2196.8,   3.2623,  34.8986,2,     -999,9,    277.7,2,    280.2,6,    2.515,2,    1.224,2
35TH20050604  ,AR07       ,9       ,  1,10         ,10         ,2,20050607,0803,  48.4417, -16.6750,     4663,   2401.0,   3.2156,  34.9231,2,     -999,9,    272.0,2,     -999,9,    1.990,2,    0.973,2
35TH20050604  ,AR07       ,9       ,  1,9          ,9          ,2,20050607,0803,  48.4417, -16.6750,     4663,   2687.6,   3.0635,  34.9473,2,     -999,9,    260.6,2,     -999,9,    1.098,2,    0.628,4
35TH20050604  ,AR07       ,9       ,  1,8          ,8          ,2,20050607,0803,  48.4417, -16.6750,     4663,   2995.1,   2.8646,  34.9444,2,     -999,9,    252.7,2,     -999,9,     -999,9,     -999,9
35TH20050604  ,AR07       ,9       ,  1,7          ,7          ,2,20050607,0803,  48.4417, -16.6750,     4663,   2996.3,   2.8636,  34.9445,2,  34.9450,2,    252.7,2,     -999,9,    0.546,2,    0.271,2
35TH20050604  ,AR07       ,9       ,  1,6          ,6          ,2,20050607,0803,  48.4417, -16.6750,     4663,   3294.8,   2.7062,  34.9329,2,     -999,9,    246.7,2,    242.8,3,    0.238,2,    0.124,2
35TH20050604  ,AR07       ,9       ,  1,5          ,5          ,2,20050607,0803,  48.4417, -16.6750,     4663,   3596.7,   2.5978,  34.9217,2,     -999,9,    243.5,2,     -999,9,    0.104,2,    0.051,2
35TH20050604  ,AR07       ,9       ,  1,4          ,4          ,2,20050607,0803,  48.4417, -16.6750,     4663,   3889.7,   2.5417,  34.9137,2,     -999,9,    241.6,2,     -999,9,    0.098,2,    0.051,2
35TH20050604  ,AR07       ,9       ,  1,3          ,3          ,2,20050607,0803,  48.4417, -16.6750,     4663,   4196.7,   2.5257,  34.9086,2,     -999,9,    241.1,2,     -999,9,    0.046,2,    0.022,2
35TH20050604  ,AR07       ,9       ,  1,2          ,2          ,2,20050607,0803,  48.4417, -16.6750,     4663,   4494.7,   2.5322,  34.9053,2,     -999,9,    241.1,2,     -999,9,    0.050,2,    0.019,2
35TH20050604  ,AR07       ,9       ,  1,1          ,1          ,2,20050607,0803,  48.4417, -16.6750,     4663,   4774.0,   2.5628,  34.9051,2,  34.9041,2,    241.3,2,    236.7,3,    0.110,4,    0.131,4
35TH20050604  ,AR07       ,10      ,  1,22         ,22         ,2,20050607,1535,  48.2910, -17.8002,     3963,     14.3,  14.7587,  35.8582,2,  35.8631,2,    257.9,2,    253.7,2,    2.741,2,    1.608,2
35TH20050604  ,AR07       ,10      ,  1,21         ,21         ,2,20050607,1535,  48.2910, -17.8002,     3963,    104.4,  14.1905,  35.8929,2,     -999,9,    252.1,2,     -999,9,     -999,9,     -999,9
35TH20050604  ,AR07       ,10      ,  1,20         ,20         ,2,20050607,1535,  48.2910, -17.8002,     3963,    280.3,  12.6127,  35.6851,2,     -999,9,    239.5,2,    229.6,2,     -999,9,     -999,9
35TH20050604  ,AR07       ,10      ,  1,19         ,19         ,2,20050607,1535,  48.2910, -17.8002,     3963,    455.9,  11.7621,  35.6111,2,     -999,9,    240.9,2,     -999,9,     -999,9,     -999,9
35TH20050604  ,AR07       ,10      ,  1,18         ,18         ,2,20050607,1535,  48.2910, -17.8002,     3963,    647.2,   9.4690,  35.2802,2,     -999,9,    195.9,2,     -999,9,     -999,9,     -999,9
35TH20050604  ,AR07       ,10      ,  1,17         ,17         ,2,20050607,1535,  48.2910, -17.8002,     3963,    797.8,   8.4981,  35.3240,2,     -999,9,    193.5,2,     -999,9,     -999,9,     -999,9
35TH20050604  ,AR07       ,10      ,  1,16         ,16         ,2,20050607,1535,  48.2910, -17.8002,     3963,    989.4,   7.2637,  35.3226,2,     -999,9,    209.3,2,    204.9,2,    1.857,2,    0.922,2
35TH20050604  ,AR07       ,10      ,  1,15         ,15         ,2,20050607,1535,  48.2910, -17.8002,     3963,   1227.9,   5.1629,  35.0768,2,     -999,9,    241.0,2,     -999,9,    2.551,2,    1.296,2
35TH20050604  ,AR07       ,10      ,  1,14         ,14         ,2,20050607,1535,  48.2910, -17.8002,     3963,   1312.7,   4.6586,  35.0117,2,     -999,9,    249.8,2,     -999,9,    2.722,2,    1.383,2
35TH20050604  ,AR07       ,10      ,  1,13         ,13         ,2,20050607,1535,  48.2910, -17.8002,     3963,   1411.3,   4.3269,  34.9819,2,     -999,9,    255.9,2,     -999,9,     -999,9,     -999,9
35TH20050604  ,AR07       ,10      ,  1,12         ,12         ,2,20050607,1535,  48.2910, -17.8002,     3963,   1616.8,   3.9151,  34.9440,2,     -999,9,    264.2,2,     -999,9,    2.814,3,    1.475,3
35TH20050604  ,AR07       ,10      ,  1,11         ,11         ,2,20050607,1535,  48.2910, -17.8002,     3963,   1797.0,   3.5905,  34.9221,2,     -999,9,    269.7,2,    275.8,3,    2.458,2,    1.213,2
35TH20050604  ,AR07       ,10      ,  1,10         ,10         ,2,20050607,1535,  48.2910, -17.8002,     3963,   2001.9,   3.3348,  34.8986,2,  34.8996,2,    276.1,2,     -999,9,     -999,9,     -999,9
35TH20050604  ,AR07       ,10      ,  1,9          ,9          ,2,20050607,1535,  48.2910, -17.8002,     3963,   2202.5,   3.2452,  34.9071,2,     -999,9,    275.6,2,     -999,9,    2.254,2,    1.084,2
35TH20050604  ,AR07       ,10      ,  1,8          ,8          ,2,20050607,1535,  48.2910, -17.8002,     3963,   2395.7,   3.1821,  34.9269,2,  34.9301,2,    270.6,2,     -999,9,    1.761,2,    0.868,2
35TH20050604  ,AR07       ,10      ,  1,7          ,7          ,2,20050607,1535,  48.2910, -17.8002,     3963,   2652.6,   3.0531,  34.9428,2,     -999,9,    264.5,2,     -999,9,    1.266,2,    0.617,2
35TH20050604  ,AR07       ,10      ,  1,6          ,6          ,2,20050607,1535,  48.2910, -17.8002,     3963,   2807.8,   2.9574,  34.9466,2,  34.9485,2,    258.2,2,     -999,9,    0.862,2,    0.419,2
35TH20050604  ,AR07       ,10      ,  1,5          ,5          ,2,20050607,1535,  48.2910, -17.8002,     3963,   2996.1,   2.8252,  34.9426,2,     -999,9,    251.7,2,    251.3,2,    0.475,2,    0.233,2
35TH20050604  ,AR07       ,10      ,  1,4          ,4          ,2,20050607,1535,  48.2910, -17.8002,     3963,   3198.1,   2.7012,  34.9341,2,     -999,9,    247.4,2,     -999,9,     -999,9,     -999,9
35TH20050604  ,AR07       ,10      ,  1,3          ,3          ,2,20050607,1535,  48.2910, -17.8002,     3963,   3496.4,   2.5635,  34.9200,2,     -999,9,    242.9,2,     -999,9,     -999,9,     -999,9
35TH20050604  ,AR07       ,10      ,  1,2          ,2          ,2,20050607,1535,  48.2910, -17.8002,     3963,   3796.4,   2.5228,  34.9126,2,     -999,9,    241.0,2,     -999,9,     -999,9,     -999,9
35TH20050604  ,AR07       ,10      ,  1,1          ,1          ,2,20050607,1535,  48.2910, -17.8002,     3963,   4004.4,   2.5170,  34.9096,2,     -999,9,    239.8,2,    241.0,2,     -999,9,     -999,9
35TH20050604  ,AR07       ,11      ,  1,6          ,6          ,2,20050607,2219,  48.1417, -18.9333,     4152,     10.2,  14.5032,  35.6703,2,     -999,9,    271.1,2,    258.1,6,     -999,9,     -999,9
35TH20050604  ,AR07       ,11      ,  1,5          ,5          ,2,20050607,2219,  48.1417, -18.9333,     4152,   1403.5,   4.0753,  34.9501,2,     -999,9,    261.2,2,    256.5,2,     -999,9,     -999,9
35TH20050604  ,AR07       ,11      ,  1,4          ,4          ,2,20050607,2219,  48.1417, -18.9333,     4152,   2612.7,   3.0688,  34.9436,2,  34.9466,2,    264.0,2,    258.5,2,     -999,9,     -999,9
35TH20050604  ,AR07       ,11      ,  1,3          ,3          ,2,20050607,2219,  48.1417, -18.9333,     4152,   2803.9,   2.9464,  34.9469,2,     -999,9,    258.0,2,     -999,9,     -999,9,     -999,9
35TH20050604  ,AR07       ,11      ,  1,2          ,2          ,2,20050607,2219,  48.1417, -18.9333,     4152,   3282.9,   2.6650,  34.9306,2,  34.9303,2,    248.7,2,     -999,9,     -999,9,     -999,9
35TH20050604  ,AR07       ,11      ,  1,1          ,1          ,2,20050607,2219,  48.1417, -18.9333,     4152,   4185.1,   2.5175,  34.9077,2,  34.9088,2,    239.7,2,    236.9,3,     -999,9,     -999,9
35TH20050604  ,AR07       ,12      ,  1,22         ,22         ,2,20050608,0559,  47.9833, -20.0492,     4316,     23.6,  14.2699,  35.5647,2,  35.5645,2,    266.2,2,    271.1,3,    3.188,4,    2.126,4
35TH20050604  ,AR07       ,12      ,  1,21         ,21         ,2,20050608,0559,  47.9833, -20.0492,     4316,    119.1,  12.8594,  35.6513,2,     -999,9,    229.1,2,     -999,9,    2.678,2,    1.503,2
35TH20050604  ,AR07       ,12      ,  1,20         ,20         ,2,20050608,0559,  47.9833, -20.0492,     4316,    398.2,  10.8606,  35.4199,2,     -999,9,    217.1,2,     -999,9,    2.726,2,    1.526,2
35TH20050604  ,AR07       ,12      ,  1,19         ,19         ,2,20050608,0559,  47.9833, -20.0492,     4316,    720.0,   8.3293,  35.2597,2,     -999,9,    196.3,2,     -999,9,    2.094,2,    1.100,2
35TH20050604  ,AR07       ,12      ,  1,18         ,18         ,2,20050608,0559,  47.9833, -20.0492,     4316,    902.5,   7.1888,  35.2862,2,     -999,9,    209.8,2,     -999,9,    2.048,2,    1.047,2
35TH20050604  ,AR07       ,12      ,  1,17         ,17         ,2,20050608,0559,  47.9833, -20.0492,     4316,   1096.9,   5.7994,  35.1593,2,     -999,9,    231.0,2,     -999,9,    2.244,2,    1.118,2
35TH20050604  ,AR07       ,12      ,  1,16         ,16         ,2,20050608,0559,  47.9833, -20.0492,     4316,   1191.1,   5.1281,  35.0761,2,     -999,9,    240.9,2,    251.6,6,    2.493,2,    1.254,2
35TH20050604  ,AR07       ,12      ,  1,15         ,15         ,2,20050608,0559,  47.9833, -20.0492,     4316,   1284.9,   4.7286,  35.0312,2,     -999,9,    248.3,2,     -999,9,    2.777,4,    1.515,4
35TH20050604  ,AR07       ,12      ,  1,14         ,14         ,2,20050608,0559,  47.9833, -20.0492,     4316,   1382.8,   4.2698,  34.9768,2,     -999,9,    256.9,2,     -999,9,    2.630,2,    1.307,2
35TH20050604  ,AR07       ,12      ,  1,13         ,13         ,2,20050608,0559,  47.9833, -20.0492,     4316,   1547.6,   3.9572,  34.9522,2,     -999,9,    262.6,2,     -999,9,    2.549,2,    1.269,2
35TH20050604  ,AR07       ,12      ,  1,12         ,12         ,2,20050608,0559,  47.9833, -20.0492,     4316,   1707.2,   3.7260,  34.9357,2,     -999,9,    266.5,2,     -999,9,    2.428,2,    1.194,2
35TH20050604  ,AR07       ,12      ,  1,11         ,11         ,2,20050608,0559,  47.9833, -20.0492,     4316,   1898.9,   3.4461,  34.9153,2,  34.9177,2,    271.7,2,     -999,9,    2.375,2,    1.156,2
35TH20050604  ,AR07       ,12      ,  1,10         ,10         ,2,20050608,0559,  47.9833, -20.0492,     4316,   2099.4,   3.2669,  34.9116,2,     -999,9,    274.4,2,    279.0,3,    2.256,2,    1.107,2
35TH20050604  ,AR07       ,12      ,  1,9          ,9          ,2,20050608,0559,  47.9833, -20.0492,     4316,   2347.0,   3.1737,  34.9286,2,  34.9346,2,    270.2,2,     -999,9,    1.709,2,    0.835,2
35TH20050604  ,AR07       ,12      ,  1,8          ,8          ,2,20050608,0559,  47.9833, -20.0492,     4316,   2647.2,   3.0098,  34.9449,2,     -999,9,    262.2,2,     -999,9,    1.481,2,    0.910,4
35TH20050604  ,AR07       ,12      ,  1,7          ,7          ,2,20050608,0559,  47.9833, -20.0492,     4316,   2896.7,   2.8537,  34.9445,2,  34.9477,2,    257.9,2,     -999,9,    0.959,2,    0.475,2
35TH20050604  ,AR07       ,12      ,  1,6          ,6          ,2,20050608,0559,  47.9833, -20.0492,     4316,   3097.0,   2.7400,  34.9375,2,     -999,9,    252.3,2,    253.2,2,    0.642,2,    0.316,2
35TH20050604  ,AR07       ,12      ,  1,5          ,5          ,2,20050608,0559,  47.9833, -20.0492,     4316,   3398.2,   2.6201,  34.9259,2,     -999,9,    246.1,2,     -999,9,    0.346,2,    0.168,2
35TH20050604  ,AR07       ,12      ,  1,4          ,4          ,2,20050608,0559,  47.9833, -20.0492,     4316,   3696.6,   2.5491,  34.9162,2,     -999,9,    242.3,2,     -999,9,    0.151,2,    0.075,2
35TH20050604  ,AR07       ,12      ,  1,3          ,3          ,2,20050608,0559,  47.9833, -20.0492,     4316,   3897.1,   2.5326,  34.9128,2,     -999,9,    241.1,2,    234.0,3,    0.081,2,    0.041,2
35TH20050604  ,AR07       ,12      ,  1,2          ,2          ,2,20050608,0559,  47.9833, -20.0492,     4316,   4195.8,   2.5325,  34.9095,2,  34.9120,2,    240.6,2,     -999,9,    0.052,2,    0.028,2
35TH20050604  ,AR07       ,12      ,  1,1          ,1          ,2,20050608,0559,  47.9833, -20.0492,     4316,   4387.4,   2.5392,  34.9077,2,     -999,9,    240.4,2,     -999,9,    0.331,4,    0.364,4