BOTTLE,20240216CCHSIOADS
EXPOCODE,SECT_ID,STNNBR,CASTNO,SAMPNO,BTLNBR,BTLNBR_FLAG_W,DATE,TIME,LATITUDE,LONGITUDE,DEPTH,CTDPRS,CTDPRS_FLAG_W,CTDTMP,CTDTMP_FLAG_W,REFTMP,REFTMP_FLAG_W,CTDSAL,CTDSAL_FLAG_W,SALNTY,SALNTY_FLAG_W,DNSSAL,DNSSAL_FLAG_W,CTDSVLSAL,CTDSVLSAL_FLAG_W,CTDOXY,CTDOXY_FLAG_W,OXYGEN,OXYGEN_FLAG_W,CTDXMISS,CTDBEAMCP,CTDXMISS_FLAG_W,CTDFLUOR,CTDFLUOR_FLAG_W,CHLORA,CHLORA_FLAG_W,CTDTURB,CTDTURB_FLAG_W,CTDCDOM,CTDCDOM_FLAG_W,PAR,PAR_FLAG_W,SILCAT,SILCAT_FLAG_W,SILUNC,NITRAT,NITRAT_FLAG_W,NRAUNC,NITRIT,NITRIT_FLAG_W,NRIUNC,PHSPHT,PHSPHT_FLAG_W,PHPUNC,NH4,NH4_FLAG_W,NH4UNC,CFC-11,CFC-11_FLAG_W,CFC-12,CFC-12_FLAG_W,CFC113,CFC113_FLAG_W,SF6,SF6_FLAG_W,N2O,N2O_FLAG_W,TCARBN,TCARBN_FLAG_W,ALKALI,ALKALI_FLAG_W,PH_TOT,PH_TMP,PH_TOT_FLAG_W,CALCIUM,CALCIUM_FLAG_W,DOC,DOC_FLAG_W,DELC13,DELC13_FLAG_W,C13ERR,DELC14,DELC14_FLAG_W,C14ERR,POC,POC_FLAG_W,HPLC,HPLC_FLAG_W,CDOM325,CDOM325_FLAG_W,CDOM370,CDOM370_FLAG_W,CDOM443,CDOM443_FLAG_W
,,,,,,,,,,,METERS,DBAR,,ITS-90,,ITS-90,,PSS-78,,PSS-78,,G/KG,,G/KG,,UMOL/KG,,UMOL/KG,,%TRANS,/METER,,MG/M^3,,UG/L,,FTU,,QSU,,UMOL/M^2/SEC,,UMOL/KG,,UMOL/KG,UMOL/KG,,UMOL/KG,UMOL/KG,,UMOL/KG,UMOL/KG,,UMOL/KG,UMOL/KG,,UMOL/KG,PMOL/KG,,PMOL/KG,,PMOL/KG,,FMOL/KG,,NMOL/KG,,UMOL/KG,,UMOL/KG,,,DEG C,,MMOL/KG,,UMOL/KG,,/MILLE,,/MILLE,/MILLE,,/MILLE,UG/KG,,,,/METER,,/METER,,/METER,
49NZ20170208,P17E,4,1,0,    BUC,2,20170217,0528,-65.0166,-125.96,4866,0.0,2,-999.0,9,-999.0,9,-999.0,9,33.5609,2,-999.0,9,-999.0,9,-999.0,9,-999.0,9,-999.0,-999.0,9,-999.0,9,1.01,2,-999.0,9,-999.0,9,-999.0,9,9.72,2,0.03,21.78,2,0.04,0.31,2,0.0,1.372,2,0.003,0.38,2,0.25,-999.0,9,-999.0,9,-999.0,9,-999.0,9,-999.0,9,-999.0,9,-999.0,9,-999,-999,9,9.974,2,-999.0,9,-999,9,-999,-999,9,-999,-999,1,-999,1,0.164,2,0.078,2,0.024,2
49NZ20170208,P17E,4,1,36, X12J36,2,20170217,0528,-65.0166,-125.96,4866,11.8,2,2.2554,2,2.25462,2,33.6113,2,33.6103,2,33.7697,2,33.7284,2,331.84,2,331.93,2,91.264,0.3657,2,1.127,2,0.82,2,0.38,1,8.158,1,0.0,2,8.91,2,0.03,22.09,2,0.04,0.3,2,0.0,1.386,2,0.003,0.28,2,0.02,5.43,6,2.964,6,0.48,6,3.473,6,21.97,3,2128.7,2,2271.1,2,-999,-999,1,9.969,2,43.6,2,-999,9,-999,-999,9,-999,-999,9,-999,9,0.152,2,0.073,2,0.021,2
49NZ20170208,P17E,4,1,3, X12J03,2,20170217,0528,-65.0166,-125.96,4866,30.6,2,2.2534,2,2.25391,2,33.6155,2,-999.0,9,-999.0,9,33.7434,2,331.83,2,-999.0,9,91.367,0.3611,2,1.098,2,-999.0,9,0.4,1,8.384,1,0.0,2,-999.0,9,-999.0,-999.0,9,-999.0,-999.0,9,-999.0,-999.0,9,-999.0,-999.0,9,-999.0,-999.0,9,-999.0,9,-999.0,9,-999.0,9,-999.0,9,-999.0,9,-999.0,9,-999,-999,9,-999.0,9,-999.0,9,-999,9,-999,-999,9,-999,-999,1,-999,1,-999.0,9,-999.0,9,-999.0,9
49NZ20170208,P17E,4,1,2, X12J02,2,20170217,0528,-65.0166,-125.96,4866,31.3,2,2.2548,2,2.25514,2,33.6149,2,33.622,2,33.7796,2,33.751,2,331.82,2,331.98,2,91.401,0.3596,2,1.044,2,0.88,2,0.351,1,8.553,1,0.0,2,8.9,2,0.03,22.21,2,0.04,0.29,2,0.0,1.417,2,0.018,0.32,2,0.02,-999.0,9,-999.0,9,-999.0,9,-999.0,9,-999.0,9,2129.8,2,2269.1,2,-999,-999,1,-999.0,9,44.5,2,-999,9,-999,-999,9,-999,-999,9,-999,9,0.234,2,0.13,2,0.058,2
49NZ20170208,P17E,4,1,35, X12J35,2,20170217,0528,-65.0166,-125.96,4866,51.4,2,1.9046,2,1.90268,2,33.8727,2,33.8984,2,34.0558,2,33.9867,2,328.36,2,331.66,2,94.856,0.2112,2,0.492,2,0.46,2,0.235,1,8.868,1,0.0,2,15.55,2,0.03,24.71,2,0.05,0.25,2,0.0,1.773,2,0.013,1.07,2,0.02,5.491,2,3.029,2,0.479,2,3.502,2,23.28,3,2158.7,6,2288.3,2,-999,-999,1,-999.0,9,42.6,2,-999,9,-999,-999,9,-999,-999,9,-999,9,0.143,2,0.068,2,0.021,2
49NZ20170208,P17E,4,1,5, X12J05,2,20170217,0528,-65.0166,-125.96,4866,51.4,2,2.1142,2,2.13859,2,33.8673,2,-999.0,9,-999.0,9,33.9843,2,327.54,2,-999.0,9,94.75,0.2157,2,0.483,2,-999.0,9,0.234,1,8.389,1,0.0,2,-999.0,9,-999.0,-999.0,9,-999.0,-999.0,9,-999.0,-999.0,9,-999.0,-999.0,9,-999.0,-999.0,9,-999.0,9,-999.0,9,-999.0,9,-999.0,9,-999.0,9,-999.0,9,-999,-999,9,-999.0,9,-999.0,9,-999,9,-999,-999,9,-999,-999,9,-999,9,-999.0,9,-999.0,9,-999.0,9
49NZ20170208,P17E,4,1,4, X12J04,2,20170217,0528,-65.0166,-125.96,4866,101.3,2,-0.1304,2,-0.1298,2,34.0326,2,-999.0,9,-999.0,9,34.2325,2,334.06,2,-999.0,9,98.695,0.0526,2,0.049,2,-999.0,9,0.048,1,9.084,1,0.0,2,-999.0,9,-999.0,-999.0,9,-999.0,-999.0,9,-999.0,-999.0,9,-999.0,-999.0,9,-999.0,-999.0,9,-999.0,9,-999.0,9,-999.0,9,-999.0,9,-999.0,9,-999.0,9,-999,-999,9,-999.0,9,-999.0,9,-999,9,-999,-999,9,-999,-999,9,-999,9,-999.0,9,-999.0,9,-999.0,9
49NZ20170208,P17E,4,1,34, X12J34,2,20170217,0528,-65.0166,-125.96,4866,101.5,2,-0.1517,2,-0.15175,2,34.0369,2,34.0372,2,34.2015,2,34.2451,2,333.91,2,333.85,2,98.792,0.0486,2,0.049,2,0.09,2,0.046,1,8.886,1,0.0,2,39.45,2,0.05,28.35,2,0.05,0.31,2,0.0,2.057,2,0.004,1.15,2,0.02,5.705,2,3.142,2,0.499,2,3.622,2,25.2,3,2183.9,2,2294.0,2,-999,-999,1,10.101,2,40.6,2,-999,9,-999,-999,9,-999,-999,9,-999,9,0.144,2,0.071,2,0.023,2
49NZ20170208,P17E,4,1,33, X12J33,2,20170217,0528,-65.0166,-125.96,4866,151.3,2,-0.1356,2,-0.1334,2,34.0939,2,34.0908,2,34.2569,2,34.2528,2,319.3,2,321.05,2,99.269,0.0294,2,0.02,2,0.04,2,0.03,1,9.031,1,0.0,2,45.36,2,0.06,30.23,2,0.05,0.31,2,0.0,2.088,2,0.004,0.14,2,0.02,5.346,2,2.947,2,0.47,2,3.363,2,26.85,3,2201.6,2,2296.3,2,-999,-999,1,-999.0,9,39.3,2,-999,9,-999,-999,9,-999,-999,9,-999,9,-999.0,9,-999.0,9,-999.0,9
49NZ20170208,P17E,4,1,32, X12J32,2,20170217,0528,-65.0166,-125.96,4866,201.6,2,0.7266,2,0.73585,2,34.2446,2,34.2407,2,34.4058,2,34.3683,2,262.64,2,263.3,2,99.459,0.0217,2,0.007,2,0.02,2,0.024,1,9.929,1,0.0,2,56.05,2,0.07,32.74,2,0.06,0.02,2,0.0,2.227,2,0.004,0.01,2,0.02,3.86,2,2.073,2,0.339,2,2.202,2,32.24,3,2219.2,2,2306.3,6,-999,-999,1,10.164,2,39.5,2,-999,9,-999,-999,9,-999,-999,9,-999,9,0.138,2,0.061,2,0.016,2
49NZ20170208,P17E,4,1,31, X12J31,2,20170217,0528,-65.0166,-125.96,4866,250.3,2,1.7641,2,1.76117,2,34.4245,2,34.4199,2,34.5891,2,34.5872,2,200.16,2,200.8,2,99.45,0.022,2,0.006,2,0.01,2,0.025,1,10.197,1,0.0,2,66.72,2,0.08,34.59,2,0.06,0.01,2,0.0,2.357,2,0.004,0.01,2,0.02,2.047,6,1.076,6,0.167,6,0.931,6,-999.0,5,2244.2,2,2315.8,2,-999,-999,1,-999.0,9,40.0,2,-999,9,-999,-999,9,-999,-999,9,-999,9,-999.0,9,-999.0,9,-999.0,9
49NZ20170208,P17E,4,1,30, X12J30,2,20170217,0528,-65.0166,-125.96,4866,300.7,2,2.0284,2,2.02789,2,34.4994,2,34.4959,2,34.6602,2,34.6594,2,184.16,2,184.54,2,99.455,0.0219,2,0.005,2,-999.0,9,0.023,1,11.177,1,0.0,2,71.13,2,0.08,34.69,2,0.06,0.01,2,0.0,2.363,2,0.004,-0.02,2,0.02,1.398,2,0.734,2,0.115,2,0.538,2,37.77,3,2250.0,2,2325.0,2,-999,-999,1,10.238,2,39.7,2,-999,9,-999,-999,9,-999,-999,9,-999,9,-999.0,9,-999.0,9,-999.0,9
49NZ20170208,P17E,4,1,29, X12J29,2,20170217,0528,-65.0166,-125.96,4866,400.3,2,2.1053,2,2.10455,2,34.587,2,34.5839,2,34.7481,2,34.7553,2,176.18,2,176.29,2,99.592,0.0164,2,0.004,2,-999.0,9,0.019,1,11.05,1,0.0,2,76.81,2,0.09,34.17,2,0.06,0.01,2,0.0,2.331,2,0.004,0.01,2,0.02,0.874,2,0.452,2,0.065,2,0.311,2,37.03,3,2257.7,2,2333.5,2,-999,-999,1,10.265,2,38.5,2,-999,9,-999,-999,9,-999,-999,9,-999,9,0.147,2,0.064,2,0.018,2
49NZ20170208,P17E,4,1,28, X12J28,2,20170217,0528,-65.0166,-125.96,4866,502.0,2,2.1605,2,2.16032,2,34.6356,2,34.6359,2,34.7993,2,34.8073,2,174.62,2,174.46,2,99.611,0.0156,2,0.004,2,-999.0,9,0.018,1,11.355,1,0.0,2,79.34,2,0.09,33.55,2,0.06,0.01,2,0.0,2.288,2,0.004,0.0,2,0.02,0.553,2,0.277,2,0.032,2,0.14,2,35.59,3,2256.5,2,2338.9,2,-999,-999,1,10.284,2,38.6,2,-999,9,-999,-999,9,-999,-999,9,-999,9,-999.0,9,-999.0,9,-999.0,9
49NZ20170208,P17E,4,1,27, X12J27,2,20170217,0528,-65.0166,-125.96,4866,599.4,2,2.0785,2,2.07851,2,34.6679,2,34.6676,2,34.8336,2,34.8377,2,176.8,2,176.57,2,99.668,0.0133,2,0.003,2,-999.0,9,0.017,1,11.274,1,0.0,2,81.93,2,0.09,32.9,2,0.06,0.0,2,0.0,2.25,2,0.004,0.04,2,0.02,0.459,2,0.236,2,0.027,2,0.1,2,34.88,3,2260.2,3,2340.2,2,-999,-999,1,10.289,2,38.7,2,-999,9,-999,-999,9,-999,-999,9,-999,9,0.174,2,0.083,2,0.024,2
49NZ20170208,P17E,4,1,26, X12J26,2,20170217,0528,-65.0166,-125.96,4866,701.2,2,2.0364,2,2.03607,2,34.6926,2,34.692,2,34.8593,2,34.8636,2,179.28,2,179.04,2,99.72,0.0112,2,0.003,2,-999.0,9,0.016,1,11.638,1,0.0,2,83.93,2,0.09,32.46,2,0.06,0.0,2,0.0,2.215,2,0.004,0.01,2,0.02,0.345,2,0.174,2,0.017,2,0.074,2,33.8,3,2254.6,6,2343.5,2,-999,-999,1,10.311,2,39.3,2,-999,9,-999,-999,9,-999,-999,9,-999,9,-999.0,9,-999.0,9,-999.0,9
49NZ20170208,P17E,4,1,25, X12J25,2,20170217,0528,-65.0166,-125.96,4866,801.9,2,1.9708,2,1.97005,2,34.7083,2,34.7076,2,34.8757,2,34.8784,2,181.95,2,181.74,2,99.72,0.0112,2,0.003,2,-999.0,9,0.016,1,11.589,1,0.0,2,85.81,2,0.09,32.05,2,0.06,0.0,2,0.0,2.191,2,0.004,0.05,2,0.02,0.296,2,0.151,2,0.013,2,0.071,2,32.92,3,2255.1,2,2345.0,2,-999,-999,1,10.299,2,38.3,2,-999,9,-999,-999,9,-999,-999,9,-999,9,0.139,2,0.058,2,0.016,2
49NZ20170208,P17E,4,1,24, X12J24,2,20170217,0528,-65.0166,-125.96,4866,901.0,2,1.9068,2,1.90681,2,34.7192,2,34.7189,2,34.883,2,34.887,2,184.37,2,184.19,2,99.748,0.0101,2,0.002,2,-999.0,9,0.014,1,11.371,1,0.0,2,87.59,2,0.09,31.83,2,0.06,0.0,2,0.0,2.175,2,0.004,0.03,2,0.02,0.244,6,0.12,6,0.011,6,0.036,6,32.13,3,2258.6,3,2348.7,2,-999,-999,1,10.302,2,38.8,2,-999,9,-999,-999,9,-999,-999,9,-999,9,-999.0,9,-999.0,9,-999.0,9
49NZ20170208,P17E,4,1,23, X12J23,2,20170217,0528,-65.0166,-125.96,4866,1001.0,2,1.8124,2,1.81425,2,34.7265,2,34.7263,2,34.8935,2,34.8979,2,186.88,2,186.74,2,99.75,0.01,2,0.002,2,-999.0,9,0.015,1,11.558,1,0.0,2,90.32,2,0.1,31.59,2,0.06,0.0,2,0.0,2.166,2,0.004,0.0,2,0.02,0.221,2,0.111,2,0.009,2,0.022,2,-999.0,5,2254.7,2,2352.0,2,-999,-999,1,10.324,2,38.7,2,-999,9,-999,-999,9,-999,-999,9,-999,9,0.173,2,0.079,2,0.023,2
49NZ20170208,P17E,4,1,22, X12J22,2,20170217,0528,-65.0166,-125.96,4866,1202.2,2,1.6379,2,1.638,2,34.7316,2,34.7319,2,34.8988,2,34.9017,2,190.13,2,190.15,2,99.796,0.0081,2,0.002,2,-999.0,9,0.014,1,11.554,1,0.0,2,94.83,2,0.1,31.52,2,0.06,0.0,2,0.0,2.159,2,0.004,0.01,2,0.02,0.203,2,0.103,2,0.007,2,0.026,2,32.42,3,2256.1,2,2350.6,6,-999,-999,1,10.309,2,38.5,2,-999,9,-999,-999,9,-999,-999,9,-999,9,-999.0,9,-999.0,9,-999.0,9
49NZ20170208,P17E,4,1,21, X12J21,2,20170217,0528,-65.0166,-125.96,4866,1399.9,2,1.4654,2,1.4657,2,34.7312,2,34.7326,2,34.8982,2,34.9025,2,192.07,2,191.99,2,99.813,0.0075,2,0.002,2,-999.0,9,0.013,1,11.719,1,0.0,2,100.28,2,0.11,31.7,2,0.06,0.0,2,0.0,2.173,2,0.004,0.01,2,0.02,0.184,2,0.092,2,0.007,2,0.006,2,32.23,3,2260.5,2,2353.7,2,-999,-999,1,10.313,2,39.6,2,-999,9,-999,-999,9,-999,-999,9,-999,9,-999.0,9,-999.0,9,-999.0,9
49NZ20170208,P17E,4,1,20, X12J20,2,20170217,0528,-65.0166,-125.96,4866,1599.7,2,1.3176,2,1.31737,2,34.728,2,34.7281,2,34.8968,2,34.9005,2,194.44,2,194.4,2,99.822,0.0071,2,0.002,2,-999.0,9,0.012,1,11.685,1,0.0,2,105.33,2,0.11,31.76,2,0.06,0.0,2,0.0,2.183,2,0.004,-0.01,2,0.02,0.162,2,0.077,2,0.003,2,0.012,2,32.29,3,2259.1,2,2356.4,2,-999,-999,1,10.321,2,38.6,2,-999,9,-999,-999,9,-999,-999,9,-999,9,-999.0,9,-999.0,9,-999.0,9
49NZ20170208,P17E,4,1,19, X12J19,2,20170217,0528,-65.0166,-125.96,4866,1799.7,2,1.1885,2,1.18829,2,34.7239,2,34.7242,2,34.8982,2,34.8969,2,196.73,2,196.84,2,99.83,0.0068,2,0.002,2,-999.0,9,0.013,1,11.764,1,0.0,2,109.85,2,0.11,31.97,2,0.06,0.0,2,0.0,2.194,2,0.004,0.01,2,0.02,0.155,2,0.078,2,0.003,2,0.013,2,32.59,3,2263.1,2,2356.2,2,-999,-999,1,-999.0,9,39.7,2,-999,9,-999,-999,9,-999,-999,9,-999,9,-999.0,9,-999.0,9,-999.0,9
49NZ20170208,P17E,4,1,18, X12J18,2,20170217,0528,-65.0166,-125.96,4866,2004.3,2,1.0804,2,1.08046,2,34.7198,2,34.7199,2,34.8929,2,34.8921,2,198.86,2,198.92,2,99.822,0.0071,2,0.002,2,-999.0,9,0.013,1,11.718,1,0.0,2,113.84,2,0.12,32.05,2,0.06,0.0,2,0.0,2.201,2,0.004,0.0,2,0.02,0.147,2,0.074,2,0.005,2,0.0,2,-999.0,5,2265.0,2,2357.9,2,-999,-999,1,-999.0,9,40.0,2,-999,9,-999,-999,9,-999,-999,9,-999,9,-999.0,9,-999.0,9,-999.0,9
49NZ20170208,P17E,4,1,17, X12J17,2,20170217,0528,-65.0166,-125.96,4866,2203.1,2,0.9831,2,0.98277,2,34.7158,2,34.7159,2,34.8889,2,34.891,2,200.27,2,200.32,2,99.856,0.0058,2,0.002,2,-999.0,9,0.011,1,11.552,1,0.0,2,117.12,2,0.12,32.25,2,0.06,0.0,2,0.0,2.215,2,0.004,0.01,2,0.02,0.157,2,0.075,2,0.005,2,0.003,2,32.93,3,2264.5,2,2360.2,2,-999,-999,9,10.312,2,40.0,2,-999,9,-999,-999,9,-999,-999,9,-999,9,-999.0,9,-999.0,9,-999.0,9
49NZ20170208,P17E,4,1,16, X12J16,2,20170217,0528,-65.0166,-125.96,4866,2401.9,2,0.8932,2,0.893,2,34.7122,2,34.7126,2,34.8817,2,34.8875,2,202.21,2,202.2,2,99.881,0.0048,2,0.002,2,-999.0,9,0.011,1,11.882,1,0.0,2,120.63,2,0.12,32.32,2,0.06,0.0,2,0.0,2.221,2,0.004,0.02,2,0.02,0.169,2,0.084,2,0.005,2,0.007,2,33.4,3,2264.6,2,2359.3,2,-999,-999,9,-999.0,9,39.4,2,-999,9,-999,-999,9,-999,-999,9,-999,9,-999.0,9,-999.0,9,-999.0,9
49NZ20170208,P17E,4,1,15, X12J15,2,20170217,0528,-65.0166,-125.96,4866,2604.3,2,0.8241,2,0.82396,2,34.7096,2,34.7096,2,34.8797,2,34.8873,2,203.82,2,203.86,2,99.879,0.0049,2,0.002,2,-999.0,9,0.011,1,12.015,1,0.0,2,123.28,2,0.12,32.29,2,0.06,0.0,2,0.0,2.225,2,0.004,0.01,2,0.02,0.197,2,0.098,2,0.006,2,0.02,2,33.43,3,2264.1,2,2356.7,3,-999,-999,9,-999.0,9,37.9,2,-999,9,-999,-999,9,-999,-999,9,-999,9,-999.0,9,-999.0,9,-999.0,9
49NZ20170208,P17E,4,1,14, X12J14,2,20170217,0528,-65.0166,-125.96,4866,2801.6,2,0.7607,2,0.76063,2,34.7069,2,34.707,2,34.8751,2,34.8857,2,204.79,2,204.73,2,99.885,0.0046,2,0.002,2,-999.0,9,0.011,1,11.821,1,0.0,2,126.27,2,0.13,32.51,2,0.06,0.0,2,0.0,2.233,2,0.004,0.04,2,0.02,0.211,2,0.103,2,0.006,2,0.021,2,32.65,3,2262.6,2,2361.5,2,-999,-999,9,10.319,2,38.6,2,-999,9,-999,-999,9,-999,-999,9,-999,9,-999.0,9,-999.0,9,-999.0,9
49NZ20170208,P17E,4,1,13, X12113,2,20170217,0528,-65.0166,-125.96,4866,3000.7,2,0.6919,2,0.69184,2,34.7048,2,34.705,2,34.8777,2,34.8831,2,206.22,2,206.11,2,99.883,0.0047,2,0.002,2,-999.0,9,0.011,1,11.879,1,0.0,2,127.0,2,0.13,32.53,2,0.06,0.0,2,0.0,2.233,2,0.004,0.04,2,0.02,0.241,2,0.119,2,0.005,2,0.023,2,32.41,3,2265.2,2,2359.0,2,-999,-999,9,-999.0,9,38.5,2,-999,9,-999,-999,9,-999,-999,9,-999,9,0.146,2,0.068,2,0.021,2
49NZ20170208,P17E,4,1,12, X12J12,2,20170217,0528,-65.0166,-125.96,4866,3255.1,2,0.6003,2,0.60053,2,34.7027,2,34.7026,2,34.8725,2,34.8817,2,208.31,2,208.17,2,99.891,0.0043,2,0.002,2,-999.0,9,0.011,1,11.311,1,0.0,2,128.52,2,0.13,32.6,2,0.06,0.0,2,0.0,2.239,2,0.004,0.01,2,0.02,0.293,2,0.143,2,0.005,2,0.023,2,32.29,3,2262.6,2,2358.8,6,-999,-999,9,-999.0,9,38.7,2,-999,9,-999,-999,9,-999,-999,9,-999,9,-999.0,9,-999.0,9,-999.0,9
49NZ20170208,P17E,4,1,11, X12J11,2,20170217,0528,-65.0166,-125.96,4866,3499.8,2,0.5065,2,0.50658,2,34.7009,2,34.7005,2,34.8718,2,34.8799,2,210.64,2,210.36,2,99.881,0.0048,2,0.002,2,-999.0,9,0.011,1,11.871,1,0.0,2,130.17,2,0.13,32.68,2,0.06,0.0,2,0.0,2.244,2,0.004,0.0,2,0.02,0.365,2,0.177,2,0.018,2,0.024,2,32.11,3,2264.2,2,2359.6,2,-999,-999,9,10.319,2,38.6,2,-999,9,-999,-999,9,-999,-999,9,-999,9,-999.0,9,-999.0,9,-999.0,9
49NZ20170208,P17E,4,1,10, X12J10,2,20170217,0528,-65.0166,-125.96,4866,3751.7,2,0.4439,2,0.44374,2,34.6995,2,34.6997,2,34.8711,2,34.8776,2,212.23,2,212.06,2,99.883,0.0047,2,0.002,2,-999.0,9,0.011,1,11.775,1,0.0,2,132.39,2,0.13,32.73,2,0.06,0.0,2,0.0,2.249,2,0.004,0.01,2,0.02,0.411,2,0.201,2,0.019,2,0.044,2,31.78,3,2263.4,2,2363.1,2,-999,-999,9,-999.0,9,38.0,2,-999,9,-999,-999,9,-999,-999,9,-999,9,-999.0,9,-999.0,9,-999.0,9
49NZ20170208,P17E,4,1,9, X12J09,2,20170217,0528,-65.0166,-125.96,4866,4001.6,2,0.4028,2,0.40267,2,34.6988,2,34.6985,2,34.8689,2,34.8758,2,213.58,2,213.22,2,99.891,0.0043,2,0.002,2,-999.0,9,0.01,1,12.146,4,0.0,2,133.91,2,0.13,32.83,2,0.06,0.0,2,0.0,2.25,2,0.004,0.02,2,0.02,0.451,2,0.215,2,0.019,2,0.039,2,-999.0,5,2262.8,2,2360.0,2,-999,-999,9,-999.0,9,38.2,2,-999,9,-999,-999,9,-999,-999,9,-999,9,-999.0,9,-999.0,9,-999.0,9
49NZ20170208,P17E,4,1,8, X12J08,2,20170217,0528,-65.0166,-125.96,4866,4251.1,2,0.3858,2,0.38576,2,34.6987,2,34.6983,2,34.8692,2,34.8739,2,214.3,2,214.09,2,99.881,0.0048,2,0.001,2,-999.0,9,0.011,1,11.374,4,0.0,2,136.23,2,0.13,32.77,2,0.06,0.0,2,0.0,2.253,2,0.004,0.0,2,0.02,0.462,2,0.215,2,0.016,2,0.043,2,31.38,3,2262.8,2,2356.4,2,-999,-999,9,10.306,2,39.0,2,-999,9,-999,-999,9,-999,-999,9,-999,9,-999.0,9,-999.0,9,-999.0,9
49NZ20170208,P17E,4,1,7, X12J07,2,20170217,0528,-65.0166,-125.96,4866,4502.2,2,0.3852,2,0.38529,2,34.6983,2,34.6982,2,34.8685,2,34.8723,2,214.73,2,214.64,2,99.826,0.007,2,0.001,2,-999.0,9,0.012,1,10.587,4,0.0,2,137.86,2,0.14,32.79,2,0.06,0.0,2,0.0,2.254,2,0.004,0.0,2,0.02,0.492,2,0.23,2,0.015,2,0.039,2,31.44,3,2263.6,2,2356.2,2,-999,-999,9,-999.0,9,39.7,2,-999,9,-999,-999,9,-999,-999,9,-999,9,-999.0,9,-999.0,9,-999.0,9
49NZ20170208,P17E,4,1,6, X12J06,2,20170217,0528,-65.0166,-125.96,4866,4751.9,2,0.3842,2,0.38411,2,34.6974,2,34.6979,2,34.8678,2,34.8733,2,215.34,2,215.21,2,99.786,0.0086,2,0.001,2,-999.0,9,0.012,1,5.151,4,0.0,2,138.31,2,0.14,32.85,2,0.06,0.0,2,0.0,2.256,2,0.004,0.01,2,0.02,0.549,2,0.258,2,0.018,2,0.062,2,31.4,3,2264.2,2,2360.7,6,-999,-999,9,-999.0,9,38.3,2,-999,9,-999,-999,9,-999,-999,9,-999,9,-999.0,9,-999.0,9,-999.0,9
49NZ20170208,P17E,4,1,1, X12J01,2,20170217,0528,-65.0166,-125.96,4866,4953.0,2,0.3956,2,0.3956,2,34.6968,2,34.6971,2,34.8711,2,34.8734,2,215.43,2,215.39,2,99.693,0.0123,2,0.002,2,-999.0,9,0.024,1,0.945,4,0.0,2,139.28,2,0.14,32.85,2,0.06,0.0,2,0.0,2.259,2,0.004,0.01,2,0.02,0.577,2,0.273,2,0.02,2,0.061,2,31.04,3,2266.4,2,2361.0,2,-999,-999,9,10.306,2,38.3,2,-999,9,-999,-999,9,-999,-999,9,-999,9,0.145,2,0.068,2,0.02,2