BOTTLE,20240216CCHSIOADS
EXPOCODE,SECT_ID,STNNBR,CASTNO,SAMPNO,BTLNBR,BTLNBR_FLAG_W,DATE,TIME,LATITUDE,LONGITUDE,DEPTH,CTDPRS,CTDPRS_FLAG_W,CTDTMP,CTDTMP_FLAG_W,REFTMP,REFTMP_FLAG_W,CTDSAL,CTDSAL_FLAG_W,SALNTY,SALNTY_FLAG_W,DNSSAL,DNSSAL_FLAG_W,CTDSVLSAL,CTDSVLSAL_FLAG_W,CTDOXY,CTDOXY_FLAG_W,OXYGEN,OXYGEN_FLAG_W,CTDXMISS,CTDBEAMCP,CTDXMISS_FLAG_W,CTDFLUOR,CTDFLUOR_FLAG_W,CHLORA,CHLORA_FLAG_W,CTDTURB,CTDTURB_FLAG_W,CTDCDOM,CTDCDOM_FLAG_W,PAR,PAR_FLAG_W,SILCAT,SILCAT_FLAG_W,SILUNC,NITRAT,NITRAT_FLAG_W,NRAUNC,NITRIT,NITRIT_FLAG_W,NRIUNC,PHSPHT,PHSPHT_FLAG_W,PHPUNC,NH4,NH4_FLAG_W,NH4UNC,CFC-11,CFC-11_FLAG_W,CFC-12,CFC-12_FLAG_W,CFC113,CFC113_FLAG_W,SF6,SF6_FLAG_W,N2O,N2O_FLAG_W,TCARBN,TCARBN_FLAG_W,ALKALI,ALKALI_FLAG_W,PH_TOT,PH_TMP,PH_TOT_FLAG_W,CALCIUM,CALCIUM_FLAG_W,DOC,DOC_FLAG_W,DELC13,DELC13_FLAG_W,C13ERR,DELC14,DELC14_FLAG_W,C14ERR,POC,POC_FLAG_W,HPLC,HPLC_FLAG_W,CDOM325,CDOM325_FLAG_W,CDOM370,CDOM370_FLAG_W,CDOM443,CDOM443_FLAG_W
,,,,,,,,,,,METERS,DBAR,,ITS-90,,ITS-90,,PSS-78,,PSS-78,,G/KG,,G/KG,,UMOL/KG,,UMOL/KG,,%TRANS,/METER,,MG/M^3,,UG/L,,FTU,,QSU,,UMOL/M^2/SEC,,UMOL/KG,,UMOL/KG,UMOL/KG,,UMOL/KG,UMOL/KG,,UMOL/KG,UMOL/KG,,UMOL/KG,UMOL/KG,,UMOL/KG,PMOL/KG,,PMOL/KG,,PMOL/KG,,FMOL/KG,,NMOL/KG,,UMOL/KG,,UMOL/KG,,,DEG C,,MMOL/KG,,UMOL/KG,,/MILLE,,/MILLE,/MILLE,,/MILLE,UG/KG,,,,/METER,,/METER,,/METER,
49NZ20170208,P17E,13,1,0,    BUC,2,20170220,0610,-59.6073,-126.054,4637,0.0,2,-999.0,9,-999.0,9,-999.0,9,33.9908,2,-999.0,9,-999.0,9,-999.0,9,-999.0,9,-999.0,-999.0,9,-999.0,9,0.26,2,-999.0,9,-999.0,9,-999.0,9,14.08,2,0.03,24.79,2,0.05,0.27,2,0.0,1.748,2,0.003,0.64,2,0.02,-999.0,9,-999.0,9,-999.0,9,-999.0,9,-999.0,9,-999.0,9,-999.0,9,-999,-999,9,10.083,2,-999.0,9,-999,9,-999,-999,9,-999,-999,9,-999,9,-999.0,9,-999.0,9,-999.0,9
49NZ20170208,P17E,13,1,36, X12J36,2,20170220,0610,-59.6073,-126.054,4637,11.9,2,4.2679,2,4.26796,2,33.9834,2,33.9841,2,-999.0,9,34.1481,2,310.41,2,310.96,2,96.501,0.1425,2,0.286,2,0.24,2,0.093,1,7.152,1,0.0,2,12.23,2,0.03,24.6,2,0.05,0.25,2,0.0,1.71,2,0.003,0.62,2,0.02,4.708,6,2.619,6,0.416,6,3.137,6,20.8,3,2142.4,2,2288.3,2,-999,-999,9,10.089,2,43.0,2,-999,1,-999,-999,1,-999,-999,9,-999,9,-999.0,9,-999.0,9,-999.0,9
49NZ20170208,P17E,13,1,2, X12J02,2,20170220,0610,-59.6073,-126.054,4637,31.7,2,4.2653,2,4.26552,2,33.984,2,33.9848,2,-999.0,9,34.149,2,310.42,2,310.73,2,96.402,0.1466,2,0.276,2,0.24,2,0.122,1,7.331,1,0.0,2,12.26,2,0.03,24.6,2,0.05,0.25,2,0.0,1.72,2,0.003,0.61,2,0.02,-999.0,9,-999.0,9,-999.0,9,-999.0,9,-999.0,9,2141.3,2,2288.8,2,-999,-999,9,-999.0,9,43.9,2,-999,9,-999,-999,9,-999,-999,9,-999,9,-999.0,9,-999.0,9,-999.0,9
49NZ20170208,P17E,13,1,35, X12J35,2,20170220,0610,-59.6073,-126.054,4637,52.2,2,4.1713,2,4.17156,2,33.9893,2,33.9891,2,-999.0,9,34.1565,2,310.38,2,310.9,2,96.581,0.1391,2,0.273,2,0.27,2,0.101,1,7.1,1,0.0,2,12.68,2,0.03,24.72,2,0.05,0.25,2,0.0,1.726,2,0.003,0.63,2,0.02,4.728,2,2.626,2,0.417,2,3.163,2,21.6,3,2146.8,6,2287.1,2,-999,-999,9,-999.0,9,43.3,2,-999,1,-999,-999,1,-999,-999,9,-999,9,-999.0,9,-999.0,9,-999.0,9
49NZ20170208,P17E,13,1,34, X12J34,2,20170220,0610,-59.6073,-126.054,4637,101.7,2,2.2606,2,2.26247,2,34.024,2,34.0224,2,-999.0,9,34.1368,2,313.03,2,313.62,2,98.141,0.0751,2,0.132,2,0.21,2,0.061,1,7.91,1,0.0,2,24.52,2,0.04,27.81,2,0.05,0.23,2,0.0,1.954,2,0.004,0.43,2,0.02,4.982,2,2.799,2,0.447,2,3.186,2,23.8,3,2163.4,2,2285.6,2,-999,-999,9,10.087,2,41.3,2,-999,1,-999,-999,1,-999,-999,9,-999,9,-999.0,9,-999.0,9,-999.0,9
49NZ20170208,P17E,13,1,33, X12J33,2,20170220,0610,-59.6073,-126.054,4637,150.8,2,1.425,2,1.42523,2,34.1362,2,34.1381,2,-999.0,9,34.2861,2,297.25,2,297.11,2,98.825,0.0473,2,0.053,2,0.11,2,0.051,1,8.416,1,0.0,2,39.39,2,0.05,31.05,2,0.06,0.25,2,0.0,2.156,2,0.004,0.26,2,0.02,4.717,2,2.588,2,0.424,2,2.825,2,28.3,3,2190.6,2,2296.8,2,-999,-999,9,-999.0,9,42.1,2,-999,1,-999,-999,1,-999,-999,9,-999,9,-999.0,9,-999.0,9,-999.0,9
49NZ20170208,P17E,13,1,32, X12J32,2,20170220,0610,-59.6073,-126.054,4637,202.3,2,1.7299,2,1.72819,2,34.2191,2,34.2214,2,-999.0,9,34.3774,2,262.01,2,261.35,2,99.383,0.0248,2,0.006,2,0.02,2,0.032,1,9.13,1,0.0,2,45.07,2,0.06,32.84,2,0.06,0.01,2,0.0,2.229,2,0.004,0.03,2,0.02,3.856,2,2.066,2,0.31,2,2.054,2,31.7,3,2204.5,2,2300.8,6,-999,-999,9,10.153,2,41.0,2,-999,1,-999,-999,1,-999,-999,9,-999,9,-999.0,9,-999.0,9,-999.0,9
49NZ20170208,P17E,13,1,31, X12J31,2,20170220,0610,-59.6073,-126.054,4637,253.1,2,1.8122,2,1.81387,2,34.2695,2,34.2703,2,-999.0,9,34.423,2,243.97,2,243.05,2,99.468,0.0214,2,0.003,2,0.01,2,0.028,1,9.519,1,0.0,2,49.51,2,0.06,33.37,2,0.06,0.01,2,0.0,2.274,2,0.004,0.01,2,0.02,3.364,6,1.777,6,0.267,6,1.679,6,-999.0,5,2214.4,2,2306.0,2,-999,-999,9,-999.0,9,40.3,2,-999,1,-999,-999,1,-999,-999,9,-999,9,-999.0,9,-999.0,9,-999.0,9
49NZ20170208,P17E,13,1,30, X12J30,2,20170220,0610,-59.6073,-126.054,4637,299.9,2,2.0316,2,2.03552,2,34.3256,2,34.3261,2,-999.0,9,34.4768,2,222.69,2,223.33,2,99.561,0.0176,2,0.003,2,-999.0,9,0.024,1,10.199,1,0.0,2,54.08,2,0.07,33.87,2,0.06,0.01,2,0.0,2.306,2,0.004,0.0,2,0.02,2.743,2,1.422,2,0.198,2,1.225,2,35.7,3,2222.1,2,2309.4,2,-999,-999,9,-999.0,9,40.4,2,-999,1,-999,-999,1,-999,-999,9,-999,9,-999.0,9,-999.0,9,-999.0,9
49NZ20170208,P17E,13,1,29, X12J29,2,20170220,0610,-59.6073,-126.054,4637,402.5,2,1.1535,2,1.15336,2,34.3049,2,34.3038,2,-999.0,9,34.5609,2,247.96,2,247.95,2,99.508,0.0197,2,0.003,2,-999.0,9,0.024,1,10.193,1,0.0,2,57.16,2,0.07,33.81,2,0.06,0.01,2,0.0,2.303,2,0.004,0.0,2,0.02,3.39,2,1.795,2,0.256,2,1.794,2,34.8,3,2221.2,2,2308.4,2,-999,-999,9,10.194,2,40.4,2,-999,1,-999,-999,1,-999,-999,9,-999,9,-999.0,9,-999.0,9,-999.0,9
49NZ20170208,P17E,13,1,28, X12J28,2,20170220,0610,-59.6073,-126.054,4637,501.5,2,2.0944,2,2.09782,2,34.4583,2,34.4584,2,-999.0,9,34.6505,2,193.19,2,192.46,2,99.582,0.0168,2,0.003,2,-999.0,9,0.022,1,10.553,1,0.0,2,66.58,2,0.08,34.54,2,0.06,0.0,2,0.0,2.359,2,0.004,0.0,2,0.02,1.68,2,0.858,2,0.11,2,0.616,2,37.9,3,2242.5,2,2322.9,2,-999,-999,9,-999.0,9,39.4,2,-999,1,-999,-999,1,-999,-999,9,-999,9,-999.0,9,-999.0,9,-999.0,9
49NZ20170208,P17E,13,1,27, X12J27,2,20170220,0610,-59.6073,-126.054,4637,602.4,2,2.3568,2,2.35974,2,34.5505,2,34.55,2,-999.0,9,34.7068,2,175.89,2,175.79,2,99.744,0.0102,2,0.002,2,-999.0,9,0.02,1,11.212,1,0.0,2,72.57,2,0.08,34.34,2,0.06,0.0,2,0.0,2.351,2,0.004,0.03,2,0.02,0.913,2,0.461,2,0.061,2,0.269,2,37.8,3,2249.8,2,2332.2,2,-999,-999,9,10.257,2,39.0,2,-999,1,-999,-999,1,-999,-999,9,-999,9,-999.0,9,-999.0,9,-999.0,9
49NZ20170208,P17E,13,1,26, X12J26,2,20170220,0610,-59.6073,-126.054,4637,702.2,2,2.1908,2,2.19078,2,34.5808,2,34.5804,2,-999.0,9,34.752,2,178.09,2,178.14,2,99.755,0.0098,2,0.003,2,-999.0,9,0.018,1,11.528,1,0.0,2,74.93,2,0.08,34.03,2,0.06,0.0,2,0.0,2.314,2,0.004,0.02,2,0.02,0.895,2,0.453,2,0.066,2,0.319,2,37.2,3,2250.4,6,2332.3,2,-999,-999,9,-999.0,9,39.7,2,-999,1,-999,-999,1,-999,-999,9,-999,9,-999.0,9,-999.0,9,-999.0,9
49NZ20170208,P17E,13,1,25, X12J25,2,20170220,0610,-59.6073,-126.054,4637,803.4,2,2.293,2,2.29288,2,34.6318,2,34.6317,2,-999.0,9,34.7857,2,173.36,2,173.46,2,99.801,0.0079,2,0.002,2,-999.0,9,0.015,1,11.299,1,0.0,2,78.06,2,0.09,33.51,2,0.06,0.0,2,0.0,2.286,2,0.004,0.01,2,0.02,0.522,2,0.253,2,0.014,2,0.108,2,35.5,3,2253.2,2,2335.9,2,-999,-999,9,10.278,2,39.2,2,-999,1,-999,-999,1,-999,-999,9,-999,9,-999.0,9,-999.0,9,-999.0,9
49NZ20170208,P17E,13,1,24, X12J24,2,20170220,0610,-59.6073,-126.054,4637,903.4,2,2.2542,2,2.25408,2,34.6535,2,34.6537,2,-999.0,9,34.8192,2,174.1,2,174.31,2,99.827,0.0069,2,0.002,2,-999.0,9,0.013,1,11.245,1,0.0,2,79.77,2,0.09,33.22,2,0.06,0.0,2,0.0,2.264,2,0.004,0.01,2,0.02,0.407,6,0.204,6,0.017,6,0.079,6,36.5,3,2252.4,2,2340.7,2,-999,-999,9,-999.0,9,39.6,2,-999,1,-999,-999,1,-999,-999,9,-999,9,-999.0,9,-999.0,9,-999.0,9
49NZ20170208,P17E,13,1,23, X12J23,2,20170220,0610,-59.6073,-126.054,4637,1000.3,2,2.191,2,2.19121,2,34.6765,2,34.6777,2,-999.0,9,34.8461,2,176.57,2,176.68,2,99.846,0.0062,2,0.002,2,-999.0,9,0.012,1,11.525,1,0.0,2,81.36,2,0.09,32.9,2,0.06,0.0,2,0.0,2.236,2,0.004,0.02,2,0.02,0.34,2,0.175,2,0.01,2,0.0,2,36.0,3,2251.2,2,2342.9,2,-999,-999,9,10.302,2,39.7,2,-999,1,-999,-999,1,-999,-999,9,-999,9,-999.0,9,-999.0,9,-999.0,9
49NZ20170208,P17E,13,1,22, X12J22,2,20170220,0610,-59.6073,-126.054,4637,1204.1,2,2.0452,2,2.04518,2,34.7051,2,34.7056,2,-999.0,9,34.8783,2,181.34,2,181.52,2,99.835,0.0066,2,0.002,2,-999.0,9,0.012,1,11.879,1,0.0,2,84.4,2,0.09,32.23,2,0.06,0.0,2,0.0,2.193,2,0.004,0.0,2,0.02,0.299,2,0.152,2,0.015,2,0.0,2,-999.0,5,2250.2,2,2344.6,6,-999,-999,9,10.306,2,40.2,2,-999,1,-999,-999,1,-999,-999,9,-999,9,-999.0,9,-999.0,9,-999.0,9
49NZ20170208,P17E,13,1,21, X12J21,2,20170220,0610,-59.6073,-126.054,4637,1401.7,2,1.9144,2,1.91432,2,34.723,2,34.7236,2,-999.0,9,34.8924,2,185.71,2,186.41,2,99.894,0.0042,2,0.002,2,-999.0,9,0.012,1,11.996,1,0.0,2,88.77,2,0.1,31.7,2,0.06,0.0,2,0.0,2.168,2,0.004,-0.01,2,0.02,0.2,2,0.103,2,0.005,2,0.036,2,33.8,3,2252.1,2,2347.5,2,-999,-999,9,10.31,2,39.6,2,-999,1,-999,-999,1,-999,-999,9,-999,9,-999.0,9,-999.0,9,-999.0,9
49NZ20170208,P17E,13,1,20, X12J20,2,20170220,0610,-59.6073,-126.054,4637,1603.1,2,1.7409,2,1.74077,2,34.7298,2,34.7299,2,-999.0,9,34.9006,2,189.4,2,189.49,2,99.892,0.0043,2,0.002,2,-999.0,9,0.012,1,11.715,1,0.0,2,93.7,2,0.1,31.58,2,0.06,0.0,2,0.0,2.16,2,0.004,-0.01,2,0.02,0.172,2,0.095,2,0.009,2,0.001,2,33.4,3,2252.1,2,2352.2,2,-999,-999,9,10.328,2,39.3,2,-999,1,-999,-999,1,-999,-999,9,-999,9,-999.0,9,-999.0,9,-999.0,9
49NZ20170208,P17E,13,1,19, X12J19,2,20170220,0610,-59.6073,-126.054,4637,1801.9,2,1.5813,2,1.5819,2,34.7298,2,34.73,2,-999.0,9,34.9,2,191.82,2,191.9,2,99.911,0.0035,2,0.002,2,-999.0,9,0.013,1,11.801,1,0.0,2,98.84,2,0.1,31.7,2,0.06,0.0,2,0.0,2.168,2,0.004,0.0,2,0.02,0.151,2,0.073,2,0.004,2,0.0,2,33.1,3,2255.3,2,2356.1,2,-999,-999,9,10.315,2,39.6,2,-999,1,-999,-999,1,-999,-999,9,-999,9,-999.0,9,-999.0,9,-999.0,9
49NZ20170208,P17E,13,1,18, X12J18,2,20170220,0610,-59.6073,-126.054,4637,1999.6,2,1.4428,2,1.44288,2,34.7286,2,34.7283,2,-999.0,9,34.899,2,194.28,2,194.32,2,99.899,0.0041,2,0.002,2,-999.0,9,0.012,1,11.722,1,0.0,2,103.01,2,0.11,31.76,2,0.06,0.0,2,0.0,2.174,2,0.004,0.0,2,0.02,0.148,2,0.073,2,0.001,2,0.0,2,-999.0,5,2256.7,2,2358.5,2,-999,-999,9,10.312,2,39.3,2,-999,1,-999,-999,1,-999,-999,9,-999,9,-999.0,9,-999.0,9,-999.0,9
49NZ20170208,P17E,13,1,17, X12J17,2,20170220,0610,-59.6073,-126.054,4637,2204.5,2,1.3208,2,1.3207,2,34.7248,2,34.7242,2,-999.0,9,34.8975,2,196.04,2,196.01,2,99.907,0.0037,2,0.002,2,-999.0,9,0.011,1,11.696,1,0.0,2,107.32,2,0.11,31.94,2,0.06,0.0,2,0.0,2.189,2,0.004,0.01,2,0.02,0.136,2,0.067,2,0.004,2,0.0,2,30.8,3,2256.7,2,2359.9,2,-999,-999,9,10.321,2,39.3,2,-999,1,-999,-999,1,-999,-999,9,-999,9,-999.0,9,-999.0,9,-999.0,9
49NZ20170208,P17E,13,1,16, X12J16,2,20170220,0610,-59.6073,-126.054,4637,2405.8,2,1.2036,2,1.20356,2,34.7217,2,34.7222,2,-999.0,9,34.8964,2,198.27,2,198.35,2,99.905,0.0038,2,0.002,2,-999.0,9,0.012,1,11.763,1,0.0,2,111.03,2,0.42,31.93,2,0.06,0.0,2,0.0,2.191,2,0.004,0.03,2,0.02,0.149,2,0.07,2,0.0,2,0.0,2,-999.0,5,2257.3,6,2360.4,2,-999,-999,9,10.314,2,39.6,2,-999,1,-999,-999,1,-999,-999,9,-999,9,-999.0,9,-999.0,9,-999.0,9
49NZ20170208,P17E,13,1,15, X12J15,2,20170220,0610,-59.6073,-126.054,4637,2604.2,2,1.1013,2,1.10125,2,34.7185,2,34.7188,2,-999.0,9,34.8936,2,200.17,2,200.28,2,99.905,0.0038,2,0.002,2,-999.0,9,0.012,1,11.573,1,0.0,2,114.67,2,0.12,32.1,2,0.06,0.0,2,0.0,2.194,2,0.004,0.02,2,0.02,0.162,2,0.083,2,0.002,2,0.0,2,31.4,3,2258.0,2,2360.6,2,-999,-999,9,10.321,2,40.1,2,-999,1,-999,-999,1,-999,-999,9,-999,9,-999.0,9,-999.0,9,-999.0,9
49NZ20170208,P17E,13,1,14, X12J14,2,20170220,0610,-59.6073,-126.054,4637,2803.5,2,1.0096,2,1.00981,2,34.7154,2,34.715,2,-999.0,9,34.8918,2,201.84,2,201.81,2,99.909,0.0036,2,0.002,2,-999.0,9,0.014,1,11.896,1,0.0,2,117.56,2,0.12,32.16,2,0.06,0.0,2,0.0,2.202,2,0.004,0.03,2,0.02,0.187,2,0.09,2,0.002,2,0.0,2,32.9,3,2257.3,2,2362.5,2,-999,-999,9,10.307,2,39.0,2,-999,1,-999,-999,1,-999,-999,9,-999,9,-999.0,9,-999.0,9,-999.0,9
49NZ20170208,P17E,13,1,13, X12113,2,20170220,0610,-59.6073,-126.054,4637,3003.9,2,0.9311,2,0.93097,2,34.7126,2,34.7124,2,-999.0,9,34.8892,2,203.33,2,203.3,2,99.869,0.0052,2,0.002,2,-999.0,9,0.012,1,11.639,1,0.0,2,120.34,2,0.12,32.24,2,0.06,0.0,2,0.0,2.206,2,0.004,0.01,2,0.02,0.213,2,0.107,2,0.003,2,0.0,2,31.5,3,2259.2,2,2361.5,2,-999,-999,9,-999.0,9,39.6,2,-999,1,-999,-999,1,-999,-999,9,-999,9,-999.0,9,-999.0,9,-999.0,9
49NZ20170208,P17E,13,1,12, X12J12,2,20170220,0610,-59.6073,-126.054,4637,3251.9,2,0.8706,2,0.8705,2,34.7103,2,34.7103,2,-999.0,9,34.8886,2,204.53,2,204.45,2,99.852,0.0059,2,0.002,2,-999.0,9,0.012,1,11.399,1,0.0,2,123.03,2,0.12,32.29,2,0.06,0.0,2,0.0,2.214,2,0.004,0.0,2,0.02,0.241,2,0.117,2,0.006,2,0.0,2,-999.0,5,2260.0,2,2361.8,6,-999,-999,9,-999.0,9,40.4,2,-999,1,-999,-999,1,-999,-999,9,-999,9,-999.0,9,-999.0,9,-999.0,9
49NZ20170208,P17E,13,1,11, X12J11,2,20170220,0610,-59.6073,-126.054,4637,3501.8,2,0.8007,2,0.80088,2,34.7078,2,34.7076,2,-999.0,9,34.8863,2,205.92,2,205.8,2,99.846,0.0062,2,0.002,2,-999.0,9,0.013,1,11.649,1,0.0,2,125.71,2,0.13,32.32,2,0.06,0.0,2,0.0,2.222,2,0.004,0.0,2,0.02,0.268,2,0.13,2,0.011,2,0.022,2,31.2,3,2261.1,2,2361.3,2,-999,-999,9,10.309,2,39.3,2,-999,1,-999,-999,1,-999,-999,9,-999,9,-999.0,9,-999.0,9,-999.0,9
49NZ20170208,P17E,13,1,10, X12J10,2,20170220,0610,-59.6073,-126.054,4637,3753.2,2,0.6888,2,0.68874,2,34.7048,2,34.7043,2,-999.0,9,34.884,2,208.04,2,207.78,2,99.846,0.0062,2,0.002,2,-999.0,9,0.013,1,11.648,1,0.0,2,128.98,2,0.13,32.55,2,0.06,0.0,2,0.0,2.232,2,0.004,0.0,2,0.02,0.322,2,0.156,2,0.015,2,0.0,2,31.0,3,2260.9,2,2362.2,2,-999,-999,9,-999.0,9,39.1,2,-999,1,-999,-999,1,-999,-999,9,-999,9,-999.0,9,-999.0,9,-999.0,9
49NZ20170208,P17E,13,1,9, X12J09,2,20170220,0610,-59.6073,-126.054,4637,4001.7,2,0.5966,2,0.5968,2,34.7024,2,34.7024,2,-999.0,9,34.8785,2,210.04,2,209.85,2,99.81,0.0076,2,0.002,2,-999.0,9,0.012,1,11.878,4,0.0,2,131.77,2,0.13,32.65,2,0.06,0.0,2,0.0,2.239,2,0.004,0.0,2,0.02,0.368,2,0.185,2,0.014,2,0.026,2,30.8,3,2261.5,2,2360.5,2,-999,-999,9,-999.0,9,38.6,2,-999,1,-999,-999,1,-999,-999,9,-999,9,-999.0,9,-999.0,9,-999.0,9
49NZ20170208,P17E,13,1,8, X12J08,2,20170220,0610,-59.6073,-126.054,4637,4254.0,2,0.5534,2,0.55342,2,34.7009,2,34.7015,2,-999.0,9,34.8733,2,211.21,2,211.05,2,99.827,0.0069,2,0.001,2,-999.0,9,0.013,1,10.359,4,0.0,2,133.19,2,0.13,32.72,2,0.06,0.0,2,0.0,2.237,2,0.004,0.01,2,0.02,0.411,2,0.2,2,0.018,2,0.021,2,30.7,3,2260.7,6,2359.6,2,-999,-999,9,10.311,2,39.2,2,-999,1,-999,-999,1,-999,-999,9,-999,9,-999.0,9,-999.0,9,-999.0,9
49NZ20170208,P17E,13,1,7, X12J07,2,20170220,0610,-59.6073,-126.054,4637,4501.5,2,0.5397,2,0.53978,2,34.7,2,34.7005,2,-999.0,9,34.8742,2,211.85,2,211.62,2,99.639,0.0145,2,0.001,2,-999.0,9,0.021,1,5.162,4,0.0,2,134.54,2,0.13,32.79,2,0.06,0.0,2,0.0,2.246,2,0.004,0.0,2,0.02,0.441,2,0.206,2,0.02,2,0.015,2,30.7,3,2264.6,2,2359.4,2,-999,-999,9,-999.0,9,39.0,2,-999,1,-999,-999,1,-999,-999,9,-999,9,-999.0,9,-999.0,9,-999.0,9
49NZ20170208,P17E,13,1,1, X12J01,2,20170220,0610,-59.6073,-126.054,4637,4748.5,2,0.5662,2,0.56618,2,34.6998,2,34.7,2,-999.0,9,34.874,2,211.81,2,211.71,2,99.138,0.0346,2,0.002,2,-999.0,9,0.074,1,4.602,4,0.0,2,134.62,2,0.13,32.68,2,0.06,0.0,2,0.0,2.249,2,0.004,0.01,2,0.02,0.442,2,0.204,2,0.017,2,0.0,2,31.3,3,2261.7,2,2359.3,2,-999,-999,9,10.304,2,38.5,2,-999,1,-999,-999,1,-999,-999,9,-999,9,-999.0,9,-999.0,9,-999.0,9