BOTTLE,20240216CCHSIOADS
EXPOCODE,SECT_ID,STNNBR,CASTNO,SAMPNO,BTLNBR,BTLNBR_FLAG_W,DATE,TIME,LATITUDE,LONGITUDE,DEPTH,CTDPRS,CTDPRS_FLAG_W,CTDTMP,CTDTMP_FLAG_W,REFTMP,REFTMP_FLAG_W,CTDSAL,CTDSAL_FLAG_W,SALNTY,SALNTY_FLAG_W,DNSSAL,DNSSAL_FLAG_W,CTDSVLSAL,CTDSVLSAL_FLAG_W,CTDOXY,CTDOXY_FLAG_W,OXYGEN,OXYGEN_FLAG_W,CTDXMISS,CTDBEAMCP,CTDXMISS_FLAG_W,CTDFLUOR,CTDFLUOR_FLAG_W,CHLORA,CHLORA_FLAG_W,CTDTURB,CTDTURB_FLAG_W,CTDCDOM,CTDCDOM_FLAG_W,PAR,PAR_FLAG_W,SILCAT,SILCAT_FLAG_W,SILUNC,NITRAT,NITRAT_FLAG_W,NRAUNC,NITRIT,NITRIT_FLAG_W,NRIUNC,PHSPHT,PHSPHT_FLAG_W,PHPUNC,NH4,NH4_FLAG_W,NH4UNC,CFC-11,CFC-11_FLAG_W,CFC-12,CFC-12_FLAG_W,CFC113,CFC113_FLAG_W,SF6,SF6_FLAG_W,N2O,N2O_FLAG_W,TCARBN,TCARBN_FLAG_W,ALKALI,ALKALI_FLAG_W,PH_TOT,PH_TMP,PH_TOT_FLAG_W,CALCIUM,CALCIUM_FLAG_W,DOC,DOC_FLAG_W,DELC13,DELC13_FLAG_W,C13ERR,DELC14,DELC14_FLAG_W,C14ERR,POC,POC_FLAG_W,HPLC,HPLC_FLAG_W,CDOM325,CDOM325_FLAG_W,CDOM370,CDOM370_FLAG_W,CDOM443,CDOM443_FLAG_W
,,,,,,,,,,,METERS,DBAR,,ITS-90,,ITS-90,,PSS-78,,PSS-78,,G/KG,,G/KG,,UMOL/KG,,UMOL/KG,,%TRANS,/METER,,MG/M^3,,UG/L,,FTU,,QSU,,UMOL/M^2/SEC,,UMOL/KG,,UMOL/KG,UMOL/KG,,UMOL/KG,UMOL/KG,,UMOL/KG,UMOL/KG,,UMOL/KG,UMOL/KG,,UMOL/KG,PMOL/KG,,PMOL/KG,,PMOL/KG,,FMOL/KG,,NMOL/KG,,UMOL/KG,,UMOL/KG,,,DEG C,,MMOL/KG,,UMOL/KG,,/MILLE,,/MILLE,/MILLE,,/MILLE,UG/KG,,,,/METER,,/METER,,/METER,
49NZ20170208,P17E,24,1,0,    BUC,2,20170222,1119,-54.0063,-125.9765,3586,0.0,2,-999.0,9,-999.0,9,-999.0,9,34.2737,2,-999.0,9,-999.0,9,-999.0,9,-999.0,9,-999.0,-999.0,9,-999.0,9,0.29,2,-999.0,9,-999.0,9,-999.0,9,2.17,2,0.02,15.78,2,0.04,0.23,2,0.0,1.17,2,0.003,0.43,2,0.02,-999.0,9,-999.0,9,-999.0,9,-999.0,9,-999.0,9,-999.0,9,-999.0,9,-999,-999,9,10.165,2,-999.0,9,-999,9,-999,-999,9,-999,-999,1,-999,1,0.151,2,0.083,2,0.036,2
49NZ20170208,P17E,24,1,10, X12J10,2,20170222,1119,-54.0063,-125.9765,3586,10.5,2,8.2183,2,8.21841,2,34.2688,2,-999.0,9,-999.0,9,34.4201,2,284.29,2,-999.0,9,97.356,0.1072,2,0.292,2,-999.0,9,0.053,1,5.349,1,0.041,2,-999.0,9,-999.0,-999.0,9,-999.0,-999.0,9,-999.0,-999.0,9,-999.0,-999.0,9,-999.0,-999.0,9,-999.0,9,-999.0,9,-999.0,9,-999.0,9,-999.0,9,-999.0,9,-999,-999,9,-999.0,9,-999.0,9,-999,9,-999,-999,9,-999,-999,9,-999,9,-999.0,9,-999.0,9,-999.0,9
49NZ20170208,P17E,24,1,36, X12J09,2,20170222,1119,-54.0063,-125.9765,3586,10.8,2,8.2174,2,8.2178,2,34.2688,2,34.2693,2,34.4282,2,34.4199,2,284.3,2,284.24,2,97.315,0.1088,2,0.266,2,0.3,2,0.053,1,5.671,1,0.069,2,2.27,2,0.02,15.83,2,0.04,0.23,2,0.0,1.171,2,0.003,0.4,2,0.02,3.674,6,2.136,6,0.316,6,2.633,6,18.38,3,2110.7,2,2278.1,2,-999,-999,1,10.158,2,46.4,2,-999,9,-999,-999,9,-999,-999,9,-999,9,0.111,2,0.058,2,0.018,2
49NZ20170208,P17E,24,1,4, X12J31,3,20170222,1119,-54.0063,-125.9765,3586,30.1,2,8.2174,2,8.21744,2,34.2684,2,-999.0,9,-999.0,9,34.4211,2,284.33,2,-999.0,9,97.341,0.1078,2,0.271,2,-999.0,9,0.049,1,5.88,1,0.0,2,-999.0,9,-999.0,-999.0,9,-999.0,-999.0,9,-999.0,-999.0,9,-999.0,-999.0,9,-999.0,-999.0,9,-999.0,9,-999.0,9,-999.0,9,-999.0,9,-999.0,9,-999.0,9,-999,-999,9,-999.0,9,-999.0,9,-999,9,-999,-999,9,-999,-999,9,-999,9,-999.0,9,-999.0,9,-999.0,9
49NZ20170208,P17E,24,1,3, X12J03,2,20170222,1119,-54.0063,-125.9765,3586,30.1,2,8.2168,2,8.21703,2,34.2685,2,-999.0,9,-999.0,9,34.4211,2,284.28,2,-999.0,9,97.358,0.1071,2,0.277,2,-999.0,9,0.059,1,5.617,1,0.0,2,-999.0,9,-999.0,-999.0,9,-999.0,-999.0,9,-999.0,-999.0,9,-999.0,-999.0,9,-999.0,-999.0,9,-999.0,9,-999.0,9,-999.0,9,-999.0,9,-999.0,9,-999.0,9,-999,-999,9,-999.0,9,-999.0,9,-999,9,-999,-999,9,-999,-999,1,-999,1,-999.0,9,-999.0,9,-999.0,9
49NZ20170208,P17E,24,1,2, X12J02,2,20170222,1119,-54.0063,-125.9765,3586,30.9,2,8.2169,2,8.21686,2,34.2684,2,34.2687,2,34.4289,2,34.4215,2,284.24,2,284.24,2,97.301,0.1095,2,0.273,2,0.3,2,0.057,1,5.881,1,0.0,2,2.25,2,0.02,15.84,2,0.04,0.23,2,0.0,1.17,2,0.003,0.4,2,0.02,-999.0,9,-999.0,9,-999.0,9,-999.0,9,-999.0,9,2111.3,2,2277.1,2,-999,-999,1,-999.0,9,-999.0,9,-999,9,-999,-999,9,-999,-999,9,-999,9,0.108,2,0.051,2,0.021,2
49NZ20170208,P17E,24,1,35, X12J08,2,20170222,1119,-54.0063,-125.9765,3586,50.2,2,8.223,2,8.22292,2,34.2691,2,34.2685,2,34.4276,2,34.419,2,284.21,2,284.27,2,97.379,0.1062,2,0.277,2,0.28,2,0.052,1,5.664,1,0.0,2,2.29,2,0.02,15.84,2,0.04,0.23,2,0.0,1.171,2,0.003,0.41,2,0.02,3.662,2,2.134,2,0.317,2,2.58,2,18.17,3,2110.5,6,2275.1,2,-999,-999,1,-999.0,9,46.6,2,-999,9,-999,-999,9,-999,-999,9,-999,9,0.121,2,0.064,2,0.022,2
49NZ20170208,P17E,24,1,9, X12J36,2,20170222,1119,-54.0063,-125.9765,3586,51.0,2,8.2216,2,8.22169,2,34.269,2,-999.0,9,-999.0,9,34.4239,2,284.18,2,-999.0,9,97.368,0.1067,2,0.269,2,-999.0,9,0.05,1,5.753,1,0.0,2,-999.0,9,-999.0,-999.0,9,-999.0,-999.0,9,-999.0,-999.0,9,-999.0,-999.0,9,-999.0,-999.0,9,-999.0,9,-999.0,9,-999.0,9,-999.0,9,-999.0,9,-999.0,9,-999,-999,9,-999.0,9,-999.0,9,-999,9,-999,-999,9,-999,-999,9,-999,9,-999.0,9,-999.0,9,-999.0,9
49NZ20170208,P17E,24,1,34, X12J07,2,20170222,1119,-54.0063,-125.9765,3586,100.2,2,8.1224,2,8.10515,2,34.2735,2,34.2746,2,34.4361,2,34.4208,2,282.22,2,283.83,2,97.641,0.0955,2,0.253,2,0.28,2,0.05,1,5.963,1,0.0,2,2.67,2,0.02,16.17,2,0.04,0.26,2,0.0,1.191,2,0.003,0.4,2,0.02,3.662,2,2.133,2,0.314,2,2.539,2,-999.0,5,2113.2,2,2279.3,2,-999,-999,1,10.158,2,47.9,2,-999,9,-999,-999,9,-999,-999,9,-999,9,0.099,2,0.044,2,0.013,2
49NZ20170208,P17E,24,1,8, X12J35,2,20170222,1119,-54.0063,-125.9765,3586,100.6,2,8.1441,2,8.11752,2,34.2721,2,-999.0,9,-999.0,9,34.421,2,283.65,2,-999.0,9,97.502,0.1012,2,0.245,2,-999.0,9,0.051,1,5.908,1,0.0,2,-999.0,9,-999.0,-999.0,9,-999.0,-999.0,9,-999.0,-999.0,9,-999.0,-999.0,9,-999.0,-999.0,9,-999.0,9,-999.0,9,-999.0,9,-999.0,9,-999.0,9,-999.0,9,-999,-999,9,-999.0,9,-999.0,9,-999,9,-999,-999,9,-999,-999,9,-999,9,-999.0,9,-999.0,9,-999.0,9
49NZ20170208,P17E,24,1,33, X12J06,2,20170222,1119,-54.0063,-125.9765,3586,151.1,2,6.3625,2,6.36654,2,34.3015,2,34.3029,2,34.4621,2,34.4707,2,278.81,2,278.98,2,99.542,0.0184,2,0.015,2,0.04,2,0.025,1,6.851,1,0.0,2,7.27,2,0.03,20.62,2,0.04,0.01,2,0.0,1.432,2,0.003,0.02,2,0.02,3.879,2,2.226,2,0.321,2,2.503,2,20.38,3,2138.1,2,2280.4,2,-999,-999,1,-999.0,9,43.5,2,-999,9,-999,-999,9,-999,-999,9,-999,9,-999.0,9,-999.0,9,-999.0,9
49NZ20170208,P17E,24,1,32, X12J05,2,20170222,1119,-54.0063,-125.9765,3586,200.4,2,6.0946,2,6.10302,2,34.2816,2,34.2811,2,34.4408,2,34.4448,2,279.53,2,279.29,2,99.692,0.0124,2,0.003,2,0.01,2,0.021,1,7.31,1,0.0,2,7.89,2,0.03,21.19,2,0.04,0.0,2,0.0,1.468,2,0.003,0.02,2,0.02,3.879,2,2.228,2,0.314,2,2.436,2,-999.0,5,2139.2,2,2280.5,6,-999,-999,1,10.165,2,43.1,2,-999,9,-999,-999,9,-999,-999,9,-999,9,0.128,2,0.064,2,0.023,2
49NZ20170208,P17E,24,1,31, X12J04,2,20170222,1119,-54.0063,-125.9765,3586,250.3,2,5.7404,2,5.73963,2,34.24,2,34.2401,2,34.4006,2,34.4246,2,277.19,2,276.91,2,99.723,0.0111,2,0.006,2,0.01,2,0.018,1,7.874,1,0.0,2,8.96,2,0.03,22.27,2,0.04,0.0,2,0.0,1.537,2,0.003,0.03,2,0.02,3.921,6,2.228,6,0.313,6,2.365,6,22.4,3,2143.0,2,2279.9,2,-999,-999,1,-999.0,9,44.7,2,-999,9,-999,-999,9,-999,-999,9,-999,9,-999.0,9,-999.0,9,-999.0,9
49NZ20170208,P17E,24,1,30, X12J30,2,20170222,1119,-54.0063,-125.9765,3586,280.1,2,5.7938,2,5.79457,2,34.2594,2,34.2597,2,34.4197,2,34.4009,2,277.39,2,277.31,2,99.745,0.0102,2,0.001,2,-999.0,9,0.019,1,7.777,1,0.0,2,8.78,2,0.03,21.98,2,0.04,0.0,2,0.0,1.518,2,0.003,0.02,2,0.02,3.89,2,2.213,2,0.312,2,2.355,2,22.69,3,2141.3,2,2276.7,2,-999,-999,1,-999.0,9,43.9,2,-999,9,-999,-999,9,-999,-999,9,-999,9,-999.0,9,-999.0,9,-999.0,9
49NZ20170208,P17E,24,1,29, X12J29,2,20170222,1119,-54.0063,-125.9765,3586,371.5,2,5.4213,2,5.42108,2,34.2306,2,34.2318,2,34.392,2,34.3974,2,275.48,2,274.96,2,99.749,0.0101,2,0.001,2,-999.0,9,0.019,1,7.974,1,0.0,2,10.37,2,0.03,23.19,2,0.05,0.0,2,0.0,1.59,2,0.003,0.03,2,0.02,3.89,2,2.203,2,0.307,2,2.301,2,24.25,3,2146.4,2,2279.5,2,-999,-999,1,10.158,2,42.7,2,-999,9,-999,-999,9,-999,-999,9,-999,9,0.12,2,0.061,2,0.023,2
49NZ20170208,P17E,24,1,28, X12J28,2,20170222,1119,-54.0063,-125.9765,3586,470.2,2,4.9655,2,4.96809,2,34.2013,2,34.2021,2,34.363,2,34.3641,2,269.05,2,268.52,2,99.804,0.0079,2,0.001,2,-999.0,9,0.017,1,8.287,1,0.0,2,13.01,2,0.03,24.86,2,0.05,0.0,2,0.0,1.697,2,0.003,0.02,2,0.02,3.835,2,2.129,2,0.297,2,2.141,2,26.28,3,2154.9,2,2278.8,2,-999,-999,1,-999.0,9,42.4,2,-999,9,-999,-999,9,-999,-999,9,-999,9,-999.0,9,-999.0,9,-999.0,9
49NZ20170208,P17E,24,1,27, X12J27,2,20170222,1119,-54.0063,-125.9765,3586,570.3,2,4.6161,2,4.61627,2,34.1986,2,34.2004,2,34.361,2,34.3449,2,258.38,2,257.74,2,99.802,0.0079,2,0.001,2,-999.0,9,0.017,1,8.473,1,0.0,2,16.52,2,0.04,26.44,2,0.05,0.0,2,0.0,1.805,2,0.003,0.01,2,0.02,3.648,2,2.029,2,0.276,2,1.864,2,28.54,3,2163.7,2,2278.7,2,-999,-999,1,10.156,2,42.0,2,-999,9,-999,-999,9,-999,-999,9,-999,9,0.144,2,0.079,2,0.029,2
49NZ20170208,P17E,24,1,26, X12J26,2,20170222,1119,-54.0063,-125.9765,3586,670.6,2,4.3051,2,4.30422,2,34.2138,2,34.2127,2,34.3735,2,34.3818,2,243.45,2,243.32,2,99.833,0.0067,2,0.001,2,-999.0,9,0.017,1,8.915,1,0.0,2,21.55,2,0.04,28.29,2,0.05,0.0,2,0.0,1.927,2,0.004,0.02,2,0.02,3.375,2,1.849,2,0.248,2,1.57,2,30.36,3,2176.3,6,2284.1,2,-999,-999,1,-999.0,9,40.6,2,-999,9,-999,-999,9,-999,-999,9,-999,9,-999.0,9,-999.0,9,-999.0,9
49NZ20170208,P17E,24,1,25, X12J25,2,20170222,1119,-54.0063,-125.9765,3586,770.1,2,4.0829,2,4.08269,2,34.2779,2,34.2774,2,34.4394,2,34.404,2,217.48,2,217.64,2,99.848,0.0061,2,0.001,2,-999.0,9,0.015,1,9.782,1,0.0,2,30.79,2,0.05,30.53,2,0.06,0.0,2,0.0,2.08,2,0.004,0.02,2,0.02,2.719,2,1.437,2,0.177,2,0.96,2,-999.0,5,2194.1,2,2293.6,2,-999,-999,1,10.169,2,40.5,2,-999,9,-999,-999,9,-999,-999,9,-999,9,0.138,2,0.07,2,0.026,2
49NZ20170208,P17E,24,1,24, X12J24,2,20170222,1119,-54.0063,-125.9765,3586,870.3,2,3.842,2,3.84264,2,34.2993,2,34.2989,2,34.4638,2,34.4617,2,209.9,2,210.01,2,99.85,0.006,2,0.001,2,-999.0,9,0.015,1,9.726,1,0.0,2,35.8,2,0.05,31.49,2,0.06,0.0,2,0.0,2.149,2,0.004,0.02,2,0.02,2.474,6,1.301,6,0.158,6,0.823,6,34.34,3,2203.4,2,2297.6,2,-999,-999,1,-999.0,9,39.8,2,-999,9,-999,-999,9,-999,-999,9,-999,9,-999.0,9,-999.0,9,-999.0,9
49NZ20170208,P17E,24,1,23, X12J23,2,20170222,1119,-54.0063,-125.9765,3586,970.8,2,3.5298,2,3.52928,2,34.3352,2,34.3353,2,34.4974,2,34.4942,2,200.73,2,200.67,2,99.844,0.0063,2,0.001,2,-999.0,9,0.015,1,10.133,1,0.0,2,43.09,2,0.06,32.54,2,0.06,0.0,2,0.0,2.224,2,0.004,0.03,2,0.02,2.082,2,1.075,2,0.133,2,0.619,2,35.71,3,2214.1,2,2303.9,2,-999,-999,1,10.185,2,39.9,2,-999,9,-999,-999,9,-999,-999,9,-999,9,0.149,2,0.074,2,0.025,2
49NZ20170208,P17E,24,1,22, X12J22,2,20170222,1119,-54.0063,-125.9765,3586,1130.7,2,2.9015,2,2.90161,2,34.3723,2,34.3732,2,34.5376,2,34.5457,2,196.96,2,196.91,2,99.823,0.0071,2,0.002,2,-999.0,9,0.014,1,10.873,1,0.0,2,53.16,2,0.07,33.69,2,0.06,0.0,2,0.0,2.307,2,0.004,0.01,2,0.02,1.863,2,0.968,2,0.13,2,0.603,2,37.02,3,2228.6,2,2310.3,6,-999,-999,1,10.206,2,40.0,2,-999,9,-999,-999,9,-999,-999,9,-999,9,-999.0,9,-999.0,9,-999.0,9
49NZ20170208,P17E,24,1,21, X12J21,2,20170222,1119,-54.0063,-125.9765,3586,1329.5,2,2.7371,2,2.73699,2,34.4967,2,34.4965,2,34.6629,2,34.6658,2,175.2,2,175.05,2,99.846,0.0062,2,0.002,2,-999.0,9,0.013,1,11.342,1,0.0,2,67.43,2,0.08,34.48,2,0.06,0.0,2,0.0,2.363,2,0.004,0.01,2,0.02,0.94,2,0.479,2,0.054,2,0.218,2,37.54,3,2247.3,2,2327.7,2,-999,-999,1,10.259,2,39.7,2,-999,9,-999,-999,9,-999,-999,9,-999,9,-999.0,9,-999.0,9,-999.0,9
49NZ20170208,P17E,24,1,20, X12J20,2,20170222,1119,-54.0063,-125.9765,3586,1532.3,2,2.5293,2,2.5297,2,34.5869,2,34.5868,2,34.7532,2,34.7534,2,170.06,2,169.73,2,99.861,0.0056,2,0.002,2,-999.0,9,0.013,1,11.74,1,0.0,2,77.18,2,0.09,34.18,2,0.06,0.0,2,0.0,2.345,2,0.004,0.01,2,0.02,0.483,2,0.243,2,0.021,2,0.074,2,-999.0,5,2258.2,2,2340.1,2,-999,-999,1,10.289,2,39.9,2,-999,9,-999,-999,9,-999,-999,9,-999,9,-999.0,9,-999.0,9,-999.0,9
49NZ20170208,P17E,24,1,19, X12J19,2,20170222,1119,-54.0063,-125.9765,3586,1731.3,2,2.3724,2,2.37243,2,34.6408,2,34.641,2,34.8079,2,34.802,2,172.53,2,172.16,2,99.869,0.0052,2,0.002,2,-999.0,9,0.013,1,11.799,1,0.0,2,80.55,2,0.09,33.38,2,0.06,0.0,2,0.0,2.287,2,0.004,0.05,2,0.02,0.353,2,0.173,2,0.013,2,0.047,2,37.63,3,2258.4,2,2342.7,2,-999,-999,1,10.296,2,40.2,2,-999,9,-999,-999,9,-999,-999,9,-999,9,-999.0,9,-999.0,9,-999.0,9
49NZ20170208,P17E,24,1,18, X12J18,2,20170222,1119,-54.0063,-125.9765,3586,1930.2,2,2.2397,2,2.23991,2,34.6829,2,34.6826,2,34.8501,2,34.8525,2,176.1,2,175.77,2,99.895,0.0042,2,0.002,2,-999.0,9,0.012,1,11.649,1,0.0,2,84.5,2,0.09,32.69,2,0.06,-0.01,2,0.0,2.238,2,0.004,0.03,2,0.02,0.225,2,0.111,2,0.005,2,0.02,2,36.53,3,2259.0,2,2346.8,2,-999,-999,1,10.308,2,39.1,2,-999,9,-999,-999,9,-999,-999,9,-999,9,-999.0,9,-999.0,9,-999.0,9
49NZ20170208,P17E,24,1,17, X12J17,2,20170222,1119,-54.0063,-125.9765,3586,2132.3,2,2.0937,2,2.09361,2,34.7051,2,34.7054,2,34.8744,2,34.8749,2,178.58,2,178.47,2,99.897,0.0041,2,0.002,2,-999.0,9,0.012,1,12.056,1,0.0,2,90.2,2,0.1,32.36,2,0.06,0.0,2,0.0,2.222,2,0.004,0.04,2,0.02,0.144,2,0.068,2,0.002,2,0.0,2,36.05,3,2261.8,2,2353.9,2,-999,-999,9,10.315,2,40.3,2,-999,9,-999,-999,9,-999,-999,9,-999,9,-999.0,9,-999.0,9,-999.0,9
49NZ20170208,P17E,24,1,16, X12J16,2,20170222,1119,-54.0063,-125.9765,3586,2333.0,2,1.9817,2,1.98169,2,34.7153,2,34.7156,2,34.8843,2,34.8869,2,180.97,2,181.07,2,99.916,0.0034,2,0.002,2,-999.0,9,0.012,1,11.807,1,0.0,2,93.94,2,0.1,32.15,2,0.06,0.0,2,0.0,2.212,2,0.004,0.03,2,0.02,0.118,2,0.058,2,0.004,2,0.0,2,35.38,3,2264.4,6,2355.0,2,-999,-999,9,10.319,2,38.2,2,-999,9,-999,-999,9,-999,-999,9,-999,9,-999.0,9,-999.0,9,-999.0,9
49NZ20170208,P17E,24,1,15, X12J15,2,20170222,1119,-54.0063,-125.9765,3586,2531.3,2,1.8195,2,1.81957,2,34.7198,2,34.7209,2,34.8903,2,34.8903,2,183.53,2,183.26,2,99.916,0.0034,2,0.002,2,-999.0,9,0.012,1,12.15,1,0.0,2,99.27,2,0.1,32.18,2,0.06,-0.01,2,0.0,2.214,2,0.004,0.02,2,0.02,0.082,2,0.041,2,0.001,2,0.0,2,34.82,3,2266.9,2,2361.6,2,-999,-999,9,10.323,2,39.7,2,-999,9,-999,-999,9,-999,-999,9,-999,9,-999.0,9,-999.0,9,-999.0,9
49NZ20170208,P17E,24,1,14, X12J14,2,20170222,1119,-54.0063,-125.9765,3586,2730.9,2,1.6408,2,1.64109,2,34.7203,2,34.7205,2,34.8909,2,34.8897,2,186.85,2,186.77,2,99.92,0.0032,2,0.002,2,-999.0,9,0.012,1,12.106,1,0.0,2,104.68,2,0.11,32.32,2,0.06,0.0,2,0.0,2.219,2,0.004,0.02,2,0.02,0.056,2,0.03,2,0.002,2,0.0,2,34.21,3,2268.9,2,2361.8,2,-999,-999,9,10.319,2,38.3,2,-999,9,-999,-999,9,-999,-999,9,-999,9,-999.0,9,-999.0,9,-999.0,9
49NZ20170208,P17E,24,1,13, X12113,2,20170222,1119,-54.0063,-125.9765,3586,2933.4,2,1.491,2,1.49126,2,34.7176,2,34.7173,2,34.8883,2,34.8896,2,188.63,2,188.44,2,99.931,0.0028,2,0.002,2,-999.0,9,0.012,1,11.747,1,0.0,2,109.74,2,0.11,32.56,2,0.06,0.0,2,0.0,2.233,2,0.004,0.01,2,0.02,0.037,2,0.02,2,0.0,2,0.001,2,-999.0,5,2273.8,2,2369.2,2,-999,-999,9,-999.0,9,38.2,2,-999,9,-999,-999,9,-999,-999,9,-999,9,0.158,2,0.075,2,0.021,2
49NZ20170208,P17E,24,1,12, X12J12,2,20170222,1119,-54.0063,-125.9765,3586,3171.7,2,1.4047,2,1.40479,2,34.7149,2,34.7149,2,34.8883,2,34.8876,2,189.55,2,189.34,2,99.92,0.0032,2,0.002,2,-999.0,9,0.012,1,11.548,1,0.0,2,113.51,2,0.12,32.69,2,0.06,0.0,2,0.0,2.246,2,0.004,0.01,2,0.02,0.025,2,0.019,2,0.0,2,0.005,2,32.7,3,2275.7,2,2373.6,6,-999,-999,9,-999.0,9,37.8,2,-999,9,-999,-999,9,-999,-999,9,-999,9,-999.0,9,-999.0,9,-999.0,9
49NZ20170208,P17E,24,1,11, X12J11,2,20170222,1119,-54.0063,-125.9765,3586,3421.5,2,1.3803,2,1.38039,2,34.7146,2,34.7146,2,34.8856,2,34.889,2,190.54,2,190.34,2,99.89,0.0044,2,0.002,2,-999.0,9,0.013,1,11.751,1,0.0,2,114.83,2,0.12,32.69,2,0.06,0.0,2,0.0,2.251,2,0.004,0.01,2,0.02,0.024,2,0.013,2,0.0,2,0.0,2,33.34,3,2275.7,2,2374.8,2,-999,-999,9,10.326,2,37.8,2,-999,9,-999,-999,9,-999,-999,9,-999,9,-999.0,9,-999.0,9,-999.0,9
49NZ20170208,P17E,24,1,1, X12J01,2,20170222,1119,-54.0063,-125.9765,3586,3540.8,2,1.3881,2,1.38834,2,34.7147,2,34.7146,2,34.8856,2,34.8894,2,190.67,2,190.45,2,99.882,0.0047,2,0.001,2,-999.0,9,0.026,1,11.858,1,0.0,2,114.83,2,0.12,32.66,2,0.06,0.0,2,0.0,2.249,2,0.004,0.0,2,0.02,0.022,2,0.015,2,0.0,2,0.0,2,33.27,3,2278.1,2,2373.4,2,-999,-999,9,10.326,2,38.2,2,-999,9,-999,-999,9,-999,-999,9,-999,9,0.152,2,0.071,2,0.022,2