BOTTLE,20240216CCHSIOADS
EXPOCODE,SECT_ID,STNNBR,CASTNO,SAMPNO,BTLNBR,BTLNBR_FLAG_W,DATE,TIME,LATITUDE,LONGITUDE,DEPTH,CTDPRS,CTDPRS_FLAG_W,CTDTMP,CTDTMP_FLAG_W,REFTMP,REFTMP_FLAG_W,CTDSAL,CTDSAL_FLAG_W,SALNTY,SALNTY_FLAG_W,DNSSAL,DNSSAL_FLAG_W,CTDSVLSAL,CTDSVLSAL_FLAG_W,CTDOXY,CTDOXY_FLAG_W,OXYGEN,OXYGEN_FLAG_W,CTDXMISS,CTDBEAMCP,CTDXMISS_FLAG_W,CTDFLUOR,CTDFLUOR_FLAG_W,CHLORA,CHLORA_FLAG_W,CTDTURB,CTDTURB_FLAG_W,CTDCDOM,CTDCDOM_FLAG_W,PAR,PAR_FLAG_W,SILCAT,SILCAT_FLAG_W,SILUNC,NITRAT,NITRAT_FLAG_W,NRAUNC,NITRIT,NITRIT_FLAG_W,NRIUNC,PHSPHT,PHSPHT_FLAG_W,PHPUNC,NH4,NH4_FLAG_W,NH4UNC,CFC-11,CFC-11_FLAG_W,CFC-12,CFC-12_FLAG_W,CFC113,CFC113_FLAG_W,SF6,SF6_FLAG_W,N2O,N2O_FLAG_W,TCARBN,TCARBN_FLAG_W,ALKALI,ALKALI_FLAG_W,PH_TOT,PH_TMP,PH_TOT_FLAG_W,CALCIUM,CALCIUM_FLAG_W,DOC,DOC_FLAG_W,DELC13,DELC13_FLAG_W,C13ERR,DELC14,DELC14_FLAG_W,C14ERR,POC,POC_FLAG_W,HPLC,HPLC_FLAG_W,CDOM325,CDOM325_FLAG_W,CDOM370,CDOM370_FLAG_W,CDOM443,CDOM443_FLAG_W
,,,,,,,,,,,METERS,DBAR,,ITS-90,,ITS-90,,PSS-78,,PSS-78,,G/KG,,G/KG,,UMOL/KG,,UMOL/KG,,%TRANS,/METER,,MG/M^3,,UG/L,,FTU,,QSU,,UMOL/M^2/SEC,,UMOL/KG,,UMOL/KG,UMOL/KG,,UMOL/KG,UMOL/KG,,UMOL/KG,UMOL/KG,,UMOL/KG,UMOL/KG,,UMOL/KG,PMOL/KG,,PMOL/KG,,PMOL/KG,,FMOL/KG,,NMOL/KG,,UMOL/KG,,UMOL/KG,,,DEG C,,MMOL/KG,,UMOL/KG,,/MILLE,,/MILLE,/MILLE,,/MILLE,UG/KG,,,,/METER,,/METER,,/METER,
49NZ20170208,P17E,21,1,0,    BUC,2,20170221,1947,-55.5035,-125.9772,3502,0.0,2,-999.0,9,-999.0,9,-999.0,9,34.1201,2,-999.0,9,-999.0,9,-999.0,9,-999.0,9,-999.0,-999.0,9,-999.0,9,0.34,2,-999.0,9,-999.0,9,-999.0,9,1.59,2,0.02,18.31,2,0.04,0.24,2,0.0,1.288,2,0.003,0.17,2,0.02,-999.0,9,-999.0,9,-999.0,9,-999.0,9,-999.0,9,-999.0,9,-999.0,9,-999,-999,9,10.117,2,-999.0,9,-999,9,-999,-999,9,-999,-999,9,-999,9,0.121,2,0.061,2,0.018,2
49NZ20170208,P17E,21,1,36, X12J09,2,20170221,1947,-55.5035,-125.9772,3502,11.2,2,8.0647,2,8.06516,2,34.1122,2,34.1128,2,-999.0,9,34.2584,2,285.82,2,285.77,2,96.699,0.1343,2,0.112,2,0.31,2,0.054,1,5.841,1,250.046,2,1.59,2,0.02,18.28,2,0.04,0.24,2,0.0,1.283,2,0.003,0.19,2,0.02,3.692,6,2.133,6,0.323,6,2.59,6,19.2,3,2110.5,2,2282.4,2,-999,-999,9,10.124,2,48.4,2,-999,9,-999,-999,9,-999,-999,9,-999,9,0.15,2,0.086,2,0.035,2
49NZ20170208,P17E,21,1,8, X12J35,2,20170221,1947,-55.5035,-125.9772,3502,11.2,2,8.0649,2,8.06521,2,34.1121,2,-999.0,9,-999.0,9,34.2584,2,285.78,2,-999.0,9,96.688,0.1347,2,0.117,2,-999.0,9,0.054,1,6.086,1,304.046,2,-999.0,9,-999.0,-999.0,9,-999.0,-999.0,9,-999.0,-999.0,9,-999.0,-999.0,9,-999.0,-999.0,9,-999.0,9,-999.0,9,-999.0,9,-999.0,9,-999.0,9,-999.0,9,-999,-999,9,-999.0,9,-999.0,9,-999,9,-999,-999,9,-999,-999,9,-999,9,-999.0,9,-999.0,9,-999.0,9
49NZ20170208,P17E,21,1,10, X12J10,2,20170221,1947,-55.5035,-125.9772,3502,50.4,2,8.0434,2,8.04316,2,34.1131,2,-999.0,9,-999.0,9,34.302,2,285.63,2,-999.0,9,96.828,0.129,2,0.291,2,-999.0,9,0.054,1,6.224,1,16.247,2,-999.0,9,-999.0,-999.0,9,-999.0,-999.0,9,-999.0,-999.0,9,-999.0,-999.0,9,-999.0,-999.0,9,-999.0,9,-999.0,9,-999.0,9,-999.0,9,-999.0,9,-999.0,9,-999,-999,9,-999.0,9,-999.0,9,-999,9,-999,-999,9,-999,-999,9,-999,9,-999.0,9,-999.0,9,-999.0,9
49NZ20170208,P17E,21,1,35, X12J08,2,20170221,1947,-55.5035,-125.9772,3502,50.7,2,8.0437,2,8.04393,2,34.1122,2,34.1198,2,-999.0,9,34.3028,2,285.49,2,285.41,2,96.845,0.1283,2,0.301,2,0.32,2,0.052,1,6.41,1,15.963,2,1.67,2,0.02,18.3,2,0.04,0.23,2,0.0,1.284,2,0.003,0.18,2,0.02,3.722,2,2.129,2,0.319,2,2.59,2,19.34,3,2111.8,6,2280.7,2,-999,-999,9,-999.0,9,48.1,2,-999,9,-999,-999,9,-999,-999,9,-999,9,0.1,2,0.044,2,0.014,2
49NZ20170208,P17E,21,1,2, X12J02,2,20170221,1947,-55.5035,-125.9772,3502,66.5,2,7.7446,2,7.75318,2,34.2561,2,34.3097,3,-999.0,9,34.495,2,272.7,2,276.01,2,97.339,0.1079,2,0.346,2,0.54,2,0.053,1,6.318,1,6.906,2,4.4,2,0.03,18.56,2,0.04,0.16,2,0.0,1.299,2,0.003,0.06,2,0.02,-999.0,9,-999.0,9,-999.0,9,-999.0,9,-999.0,9,2128.9,2,2283.5,2,-999,-999,9,-999.0,9,-999.0,9,-999,9,-999,-999,9,-999,-999,9,-999,9,0.102,2,0.051,2,0.01,2
49NZ20170208,P17E,21,1,34, X12J07,2,20170221,1947,-55.5035,-125.9772,3502,101.9,2,7.0391,2,7.03948,2,34.3272,2,34.3269,2,-999.0,9,34.5234,2,273.36,2,273.58,2,99.326,0.027,2,0.047,2,0.12,2,0.025,1,6.312,1,1.248,2,5.5,2,0.03,19.29,2,0.04,0.04,2,0.0,1.336,2,0.003,0.05,2,0.02,3.832,2,2.184,2,0.314,2,2.494,2,20.9,3,2132.4,2,2282.7,2,-999,-999,9,10.176,2,46.4,2,-999,9,-999,-999,9,-999,-999,9,-999,9,0.099,2,0.05,2,0.014,2
49NZ20170208,P17E,21,1,9, X12J36,2,20170221,1947,-55.5035,-125.9772,3502,102.6,2,7.0407,2,7.04045,2,34.3271,2,-999.0,9,-999.0,9,34.5221,2,273.43,2,-999.0,9,99.318,0.0274,2,0.055,2,-999.0,9,0.024,1,6.32,1,1.241,2,-999.0,9,-999.0,-999.0,9,-999.0,-999.0,9,-999.0,-999.0,9,-999.0,-999.0,9,-999.0,-999.0,9,-999.0,9,-999.0,9,-999.0,9,-999.0,9,-999.0,9,-999.0,9,-999,-999,9,-999.0,9,-999.0,9,-999,9,-999,-999,9,-999,-999,9,-999,9,-999.0,9,-999.0,9,-999.0,9
49NZ20170208,P17E,21,1,33, X12J06,2,20170221,1947,-55.5035,-125.9772,3502,149.9,2,6.8586,2,6.85879,2,34.3176,2,34.3186,2,-999.0,9,34.5084,2,272.25,2,271.98,2,99.592,0.0163,2,0.011,2,0.03,2,0.02,1,6.998,1,0.097,2,6.15,2,0.03,19.94,2,0.04,0.02,2,0.0,1.379,2,0.003,0.02,2,0.02,3.827,2,2.206,2,0.311,2,2.455,2,21.15,3,2135.0,2,2283.0,2,-999,-999,9,-999.0,9,46.6,2,-999,9,-999,-999,9,-999,-999,9,-999,9,-999.0,9,-999.0,9,-999.0,9
49NZ20170208,P17E,21,1,32, X12J05,2,20170221,1947,-55.5035,-125.9772,3502,200.4,2,6.6745,2,6.67523,2,34.3038,2,34.3038,2,-999.0,9,34.4972,2,272.71,2,272.78,2,99.679,0.0129,2,0.005,2,0.01,2,0.021,1,7.26,1,0.0,2,6.67,2,0.03,20.36,2,0.04,0.02,2,0.0,1.407,2,0.003,0.02,2,0.02,3.84,2,2.206,2,0.314,2,2.38,2,-999.0,5,2137.5,2,2284.1,6,-999,-999,9,10.167,2,46.4,2,-999,9,-999,-999,9,-999,-999,9,-999,9,0.107,2,0.055,2,0.017,2
49NZ20170208,P17E,21,1,31, X12J04,2,20170221,1947,-55.5035,-125.9772,3502,250.0,2,6.4747,2,6.47456,2,34.285,2,34.2854,2,-999.0,9,34.4645,2,273.03,2,273.01,2,99.724,0.0111,2,0.003,2,0.01,2,0.018,1,7.384,1,0.0,2,7.16,2,0.03,20.85,2,0.04,0.02,2,0.0,1.44,2,0.003,0.03,2,0.02,3.848,6,2.199,6,0.305,6,2.421,6,21.43,3,2139.6,2,2283.4,2,-999,-999,9,-999.0,9,46.9,2,-999,9,-999,-999,9,-999,-999,9,-999,9,-999.0,9,-999.0,9,-999.0,9
49NZ20170208,P17E,21,1,30, X12J30,2,20170221,1947,-55.5035,-125.9772,3502,283.1,2,6.391,2,6.39103,2,34.2853,2,34.2862,2,-999.0,9,34.4593,2,270.78,2,270.97,2,99.757,0.0097,2,0.002,2,-999.0,9,0.017,1,7.92,1,0.0,2,7.61,2,0.03,21.25,2,0.04,0.01,2,0.0,1.462,2,0.003,0.01,2,0.02,3.801,2,2.181,2,0.298,2,2.312,2,22.17,3,2140.0,2,2283.3,2,-999,-999,9,-999.0,9,43.7,2,-999,9,-999,-999,9,-999,-999,9,-999,9,-999.0,9,-999.0,9,-999.0,9
49NZ20170208,P17E,21,1,29, X12J29,2,20170221,1947,-55.5035,-125.9772,3502,371.4,2,5.9772,2,5.97611,2,34.2527,2,34.2532,2,-999.0,9,34.3834,2,264.37,2,264.27,2,99.8,0.008,2,0.001,2,-999.0,9,0.017,1,8.083,1,0.0,2,9.64,2,0.03,22.84,2,0.05,0.01,2,0.0,1.564,2,0.003,0.05,2,0.02,3.761,2,2.105,2,0.281,2,2.131,2,23.22,3,2146.8,2,2282.7,2,-999,-999,9,10.153,2,43.2,2,-999,9,-999,-999,9,-999,-999,9,-999,9,0.1,2,0.052,2,0.014,2
49NZ20170208,P17E,21,1,28, X12J28,2,20170221,1947,-55.5035,-125.9772,3502,471.2,2,5.3782,2,5.37796,2,34.2049,2,34.2046,2,-999.0,9,34.3685,2,265.09,2,265.05,2,99.819,0.0073,2,0.001,2,-999.0,9,0.016,1,8.429,1,0.0,2,11.6,2,0.03,24.34,2,0.05,0.01,2,0.0,1.654,2,0.003,0.07,2,0.02,3.798,2,2.121,2,0.288,2,2.139,2,24.46,3,2151.9,2,2283.9,2,-999,-999,9,-999.0,9,42.1,2,-999,9,-999,-999,9,-999,-999,9,-999,9,-999.0,9,-999.0,9,-999.0,9
49NZ20170208,P17E,21,1,27, X12J27,2,20170221,1947,-55.5035,-125.9772,3502,570.6,2,4.7009,2,4.70115,2,34.1626,2,34.1639,2,-999.0,9,34.3276,2,266.01,2,266.12,2,99.793,0.0083,2,0.001,2,-999.0,9,0.016,1,8.486,1,0.0,2,14.03,2,0.03,25.72,2,0.05,0.01,2,0.0,1.753,2,0.003,0.05,2,0.02,3.867,2,2.157,2,0.297,2,2.163,2,25.93,3,2156.8,2,2279.4,2,-999,-999,9,10.135,2,41.1,2,-999,9,-999,-999,9,-999,-999,9,-999,9,0.137,2,0.069,2,0.02,2
49NZ20170208,P17E,21,1,26, X12J26,2,20170221,1947,-55.5035,-125.9772,3502,670.6,2,4.7831,2,4.78422,2,34.2564,2,34.256,2,-999.0,9,34.4057,2,231.26,2,231.28,2,99.848,0.0061,2,0.001,2,-999.0,9,0.014,1,9.068,1,0.0,2,21.3,2,0.04,28.12,2,0.05,0.0,2,0.0,1.908,2,0.004,0.06,2,0.02,3.104,2,1.678,2,0.211,2,1.285,2,29.05,3,2176.9,6,2290.7,2,-999,-999,9,-999.0,9,39.9,2,-999,9,-999,-999,9,-999,-999,9,-999,9,-999.0,9,-999.0,9,-999.0,9
49NZ20170208,P17E,21,1,25, X12J25,2,20170221,1947,-55.5035,-125.9772,3502,768.5,2,4.3505,2,4.35024,2,34.2918,2,34.2925,2,-999.0,9,34.4456,2,213.76,2,213.96,2,99.861,0.0056,2,0.001,2,-999.0,9,0.013,1,9.847,1,0.0,2,29.46,2,0.05,30.18,2,0.05,0.0,2,0.0,2.055,2,0.004,0.03,2,0.02,2.632,2,1.388,2,0.162,2,0.887,2,-999.0,5,2194.7,2,2296.4,2,-999,-999,9,10.176,2,40.4,2,-999,9,-999,-999,9,-999,-999,9,-999,9,0.142,2,0.073,2,0.025,2
49NZ20170208,P17E,21,1,24, X12J24,2,20170221,1947,-55.5035,-125.9772,3502,870.0,2,3.9677,2,3.96676,2,34.3241,2,34.3241,2,-999.0,9,34.4726,2,203.48,2,203.54,2,99.861,0.0056,2,0.001,2,-999.0,9,0.014,1,9.937,1,0.0,2,37.11,2,0.05,31.51,2,0.06,0.0,2,0.0,2.154,2,0.004,0.04,2,0.02,2.19,6,1.137,6,0.134,6,0.652,6,33.78,3,2207.0,2,2301.5,2,-999,-999,9,-999.0,9,39.8,2,-999,9,-999,-999,9,-999,-999,9,-999,9,-999.0,9,-999.0,9,-999.0,9
49NZ20170208,P17E,21,1,23, X12J23,2,20170221,1947,-55.5035,-125.9772,3502,970.5,2,3.5389,2,3.53909,2,34.3509,2,34.3512,2,-999.0,9,34.5125,2,196.78,2,196.76,2,99.855,0.0058,2,0.001,2,-999.0,9,0.014,1,10.323,1,0.0,2,44.65,2,0.06,32.63,2,0.06,0.0,2,0.0,2.23,2,0.004,0.03,2,0.02,1.946,2,1.008,2,0.123,2,0.539,2,35.47,3,2218.1,2,2310.4,2,-999,-999,9,10.199,2,39.6,2,-999,9,-999,-999,9,-999,-999,9,-999,9,0.152,2,0.082,2,0.025,2
49NZ20170208,P17E,21,1,22, X12J22,2,20170221,1947,-55.5035,-125.9772,3502,1130.6,2,3.0588,2,3.05883,2,34.3941,2,34.3944,2,-999.0,9,34.5683,2,189.08,2,189.29,2,99.855,0.0058,2,0.002,2,-999.0,9,0.014,1,10.646,1,0.0,2,53.98,2,0.07,33.74,2,0.06,0.01,2,0.0,2.307,2,0.004,0.05,2,0.02,1.614,2,0.838,2,0.097,2,0.466,2,37.6,3,2232.6,2,2317.1,6,-999,-999,9,10.237,2,38.6,2,-999,9,-999,-999,9,-999,-999,9,-999,9,-999.0,9,-999.0,9,-999.0,9
49NZ20170208,P17E,21,1,21, X12J21,2,20170221,1947,-55.5035,-125.9772,3502,1329.8,2,2.7642,2,2.76417,2,34.5022,2,34.5024,2,-999.0,9,34.6781,2,174.37,2,174.37,2,99.865,0.0054,2,0.002,2,-999.0,9,0.013,1,11.383,1,0.0,2,67.75,2,0.08,34.24,2,0.06,0.0,2,0.0,2.358,2,0.004,0.02,2,0.02,0.873,2,0.443,2,0.051,2,0.214,2,38.4,3,2249.1,2,2330.6,2,-999,-999,9,10.255,2,37.8,2,-999,9,-999,-999,9,-999,-999,9,-999,9,-999.0,9,-999.0,9,-999.0,9
49NZ20170208,P17E,21,1,20, X12J20,2,20170221,1947,-55.5035,-125.9772,3502,1531.1,2,2.5317,2,2.53171,2,34.5832,2,34.5833,2,-999.0,9,34.755,2,170.61,2,170.56,2,99.857,0.0057,2,0.002,2,-999.0,9,0.012,1,11.269,1,0.0,2,76.18,2,0.09,34.06,2,0.06,0.0,2,0.0,2.342,2,0.004,0.01,2,0.02,0.528,2,0.265,2,0.026,2,0.108,2,-999.0,5,2257.4,2,2339.5,2,-999,-999,9,10.267,2,38.4,2,-999,9,-999,-999,9,-999,-999,9,-999,9,-999.0,9,-999.0,9,-999.0,9
49NZ20170208,P17E,21,1,19, X12J19,2,20170221,1947,-55.5035,-125.9772,3502,1730.4,2,2.3459,2,2.34585,2,34.6488,2,34.6489,2,-999.0,9,34.818,2,173.64,2,173.5,2,99.874,0.0051,2,0.002,2,-999.0,9,0.012,1,11.377,1,0.0,2,80.22,2,0.09,33.11,2,0.06,0.01,2,0.0,2.269,2,0.004,0.07,2,0.02,-999.0,5,-999.0,5,-999.0,5,-999.0,5,-999.0,5,2256.6,2,2343.9,2,-999,-999,9,10.291,2,38.9,2,-999,9,-999,-999,9,-999,-999,9,-999,9,-999.0,9,-999.0,9,-999.0,9
49NZ20170208,P17E,21,1,18, X12J18,2,20170221,1947,-55.5035,-125.9772,3502,1933.6,2,2.215,2,2.21508,2,34.6908,2,34.6906,2,-999.0,9,34.8597,2,178.28,2,178.25,2,99.886,0.0046,2,0.002,2,-999.0,9,0.013,1,11.906,1,0.0,2,83.65,2,0.09,32.35,2,0.06,0.0,2,0.0,2.216,2,0.004,0.04,2,0.02,0.247,2,0.122,2,0.009,2,0.048,2,-999.0,5,2256.1,2,2345.4,2,-999,-999,9,10.306,2,39.3,2,-999,9,-999,-999,9,-999,-999,9,-999,9,-999.0,9,-999.0,9,-999.0,9
49NZ20170208,P17E,21,1,17, X12J17,2,20170221,1947,-55.5035,-125.9772,3502,2132.7,2,2.0866,2,2.08647,2,34.7143,2,34.7143,2,-999.0,9,34.8844,2,183.07,2,183.04,2,99.905,0.0038,2,0.002,2,-999.0,9,0.013,1,11.692,1,0.0,2,86.39,2,0.09,31.73,2,0.06,0.0,2,0.0,2.176,2,0.004,0.04,2,0.02,0.197,2,0.096,2,0.005,2,0.023,2,33.03,3,2254.9,2,2350.5,2,-999,-999,9,10.326,2,39.3,2,-999,9,-999,-999,9,-999,-999,9,-999,9,-999.0,9,-999.0,9,-999.0,9
49NZ20170208,P17E,21,1,16, X12J16,2,20170221,1947,-55.5035,-125.9772,3502,2331.7,2,1.9281,2,1.92805,2,34.7271,2,34.7272,2,-999.0,9,34.8963,2,187.57,2,187.57,2,99.922,0.0031,2,0.002,2,-999.0,9,0.012,1,11.846,1,0.0,2,90.88,2,0.1,31.52,2,0.06,0.0,2,0.0,2.162,2,0.004,0.04,2,0.02,0.156,2,0.08,2,0.004,2,0.017,2,33.7,3,2255.5,2,2353.2,2,-999,-999,9,10.322,2,38.8,2,-999,9,-999,-999,9,-999,-999,9,-999,9,-999.0,9,-999.0,9,-999.0,9
49NZ20170208,P17E,21,1,15, X12J15,2,20170221,1947,-55.5035,-125.9772,3502,2532.0,2,1.7414,2,1.74121,2,34.7299,2,34.7302,2,-999.0,9,34.8988,2,190.87,2,190.82,2,99.92,0.0032,2,0.002,2,-999.0,9,0.012,1,11.975,1,0.0,2,96.54,2,0.1,31.58,2,0.06,0.0,2,0.0,2.162,2,0.004,0.04,2,0.02,0.131,2,0.066,2,0.002,2,0.005,2,33.54,3,2255.6,2,2359.2,2,-999,-999,9,10.322,2,39.1,2,-999,9,-999,-999,9,-999,-999,9,-999,9,-999.0,9,-999.0,9,-999.0,9
49NZ20170208,P17E,21,1,14, X12J14,2,20170221,1947,-55.5035,-125.9772,3502,2732.3,2,1.5629,2,1.5629,2,34.7275,2,34.728,2,-999.0,9,34.8991,2,193.31,2,193.32,2,99.929,0.0029,2,0.002,2,-999.0,9,0.013,1,11.775,1,0.0,2,102.28,2,0.11,31.62,2,0.06,0.0,2,0.0,2.169,2,0.004,0.04,2,0.02,0.116,2,0.057,2,0.001,2,0.02,2,33.24,3,2263.0,2,2360.4,2,-999,-999,9,10.324,2,39.3,2,-999,9,-999,-999,9,-999,-999,9,-999,9,-999.0,9,-999.0,9,-999.0,9
49NZ20170208,P17E,21,1,13, X12113,2,20170221,1947,-55.5035,-125.9772,3502,2930.7,2,1.3466,2,1.34635,2,34.7219,2,34.722,2,-999.0,9,34.8957,2,196.01,2,195.82,2,99.901,0.004,2,0.002,2,-999.0,9,0.012,1,11.898,1,0.0,2,109.66,2,0.11,31.89,2,0.06,0.0,2,0.0,2.197,2,0.004,0.04,2,0.02,0.11,2,0.056,2,0.0,2,0.019,2,33.12,3,2265.6,2,2361.7,2,-999,-999,9,-999.0,9,39.0,2,-999,9,-999,-999,9,-999,-999,9,-999,9,0.198,2,0.107,2,0.036,2
49NZ20170208,P17E,21,1,12, X12J12,2,20170221,1947,-55.5035,-125.9772,3502,3172.1,2,1.1093,2,1.10941,2,34.7164,2,34.716,2,-999.0,9,34.893,2,200.87,2,200.73,2,99.842,0.0063,2,0.001,2,-999.0,9,0.017,1,11.786,1,0.0,2,116.71,2,0.12,32.15,2,0.06,0.0,2,0.0,2.209,2,0.004,0.04,2,0.02,0.172,2,0.088,2,0.002,2,0.005,2,32.91,3,2265.6,2,2361.5,6,-999,-999,9,-999.0,9,39.2,2,-999,9,-999,-999,9,-999,-999,9,-999,9,-999.0,9,-999.0,9,-999.0,9
49NZ20170208,P17E,21,1,11, X12J11,2,20170221,1947,-55.5035,-125.9772,3502,3421.4,2,1.0197,2,1.01993,2,34.7137,2,34.7134,2,-999.0,9,34.8885,2,202.81,2,202.65,2,99.728,0.0109,2,0.002,2,-999.0,9,0.018,1,11.553,1,0.0,2,120.04,2,0.12,32.19,2,0.06,0.0,2,0.0,2.214,2,0.004,0.02,2,0.02,0.205,2,0.101,2,0.008,2,0.025,2,32.95,3,2264.4,2,2362.6,2,-999,-999,9,10.322,2,38.7,2,-999,9,-999,-999,9,-999,-999,9,-999,9,-999.0,9,-999.0,9,-999.0,9
49NZ20170208,P17E,21,1,1, X12J01,2,20170221,1947,-55.5035,-125.9772,3502,3575.7,2,0.9557,2,0.95581,2,34.7117,2,34.7113,2,-999.0,9,34.8903,2,204.15,2,203.85,2,99.728,0.0109,2,0.002,2,-999.0,9,0.036,1,12.146,1,0.0,2,122.3,2,0.12,32.3,2,0.06,0.0,2,0.0,2.221,2,0.004,0.04,2,0.02,0.222,2,0.111,2,0.009,2,0.019,2,-999.0,5,2264.8,2,2363.2,2,-999,-999,9,10.322,2,39.0,2,-999,9,-999,-999,9,-999,-999,9,-999,9,0.155,2,0.073,2,0.021,2