BOTTLE,20240216CCHSIOADS
EXPOCODE,SECT_ID,STNNBR,CASTNO,SAMPNO,BTLNBR,BTLNBR_FLAG_W,DATE,TIME,LATITUDE,LONGITUDE,DEPTH,CTDPRS,CTDPRS_FLAG_W,CTDTMP,CTDTMP_FLAG_W,REFTMP,REFTMP_FLAG_W,CTDSAL,CTDSAL_FLAG_W,SALNTY,SALNTY_FLAG_W,DNSSAL,DNSSAL_FLAG_W,CTDSVLSAL,CTDSVLSAL_FLAG_W,CTDOXY,CTDOXY_FLAG_W,OXYGEN,OXYGEN_FLAG_W,CTDXMISS,CTDBEAMCP,CTDXMISS_FLAG_W,CTDFLUOR,CTDFLUOR_FLAG_W,CHLORA,CHLORA_FLAG_W,CTDTURB,CTDTURB_FLAG_W,CTDCDOM,CTDCDOM_FLAG_W,PAR,PAR_FLAG_W,SILCAT,SILCAT_FLAG_W,SILUNC,NITRAT,NITRAT_FLAG_W,NRAUNC,NITRIT,NITRIT_FLAG_W,NRIUNC,PHSPHT,PHSPHT_FLAG_W,PHPUNC,NH4,NH4_FLAG_W,NH4UNC,CFC-11,CFC-11_FLAG_W,CFC-12,CFC-12_FLAG_W,CFC113,CFC113_FLAG_W,SF6,SF6_FLAG_W,N2O,N2O_FLAG_W,TCARBN,TCARBN_FLAG_W,ALKALI,ALKALI_FLAG_W,PH_TOT,PH_TMP,PH_TOT_FLAG_W,CALCIUM,CALCIUM_FLAG_W,DOC,DOC_FLAG_W,DELC13,DELC13_FLAG_W,C13ERR,DELC14,DELC14_FLAG_W,C14ERR,POC,POC_FLAG_W,HPLC,HPLC_FLAG_W,CDOM325,CDOM325_FLAG_W,CDOM370,CDOM370_FLAG_W,CDOM443,CDOM443_FLAG_W
,,,,,,,,,,,METERS,DBAR,,ITS-90,,ITS-90,,PSS-78,,PSS-78,,G/KG,,G/KG,,UMOL/KG,,UMOL/KG,,%TRANS,/METER,,MG/M^3,,UG/L,,FTU,,QSU,,UMOL/M^2/SEC,,UMOL/KG,,UMOL/KG,UMOL/KG,,UMOL/KG,UMOL/KG,,UMOL/KG,UMOL/KG,,UMOL/KG,UMOL/KG,,UMOL/KG,PMOL/KG,,PMOL/KG,,PMOL/KG,,FMOL/KG,,NMOL/KG,,UMOL/KG,,UMOL/KG,,,DEG C,,MMOL/KG,,UMOL/KG,,/MILLE,,/MILLE,/MILLE,,/MILLE,UG/KG,,,,/METER,,/METER,,/METER,
49NZ20170208,P17E,25,1,0,    BUC,2,20170222,1709,-53.5082,-126.0225,3742,0.0,2,-999.0,9,-999.0,9,-999.0,9,34.3287,2,-999.0,9,-999.0,9,-999.0,9,-999.0,9,-999.0,-999.0,9,-999.0,9,0.28,2,-999.0,9,-999.0,9,-999.0,9,1.45,2,0.02,13.69,2,0.03,0.23,2,0.0,1.036,2,0.003,0.45,2,0.02,-999.0,9,-999.0,9,-999.0,9,-999.0,9,-999.0,9,-999.0,9,-999.0,9,-999,-999,9,-999.0,9,-999.0,9,-999,9,-999,-999,9,-999,-999,9,-999,9,-999.0,9,-999.0,9,-999.0,9
49NZ20170208,P17E,25,1,36, X12J09,2,20170222,1709,-53.5082,-126.0225,3742,10.9,2,9.0261,2,9.02592,2,34.3366,2,34.3362,2,-999.0,9,34.5214,2,279.21,2,279.37,2,96.94,0.1243,2,0.071,2,0.29,2,0.057,1,4.795,1,170.466,2,1.48,2,0.02,13.77,2,0.03,0.23,2,0.0,1.03,2,0.003,0.36,2,0.02,3.54,6,2.052,6,0.348,4,-999.0,9,-999.0,9,2103.7,2,2282.8,2,-999,-999,9,-999.0,9,-999.0,9,-999,9,-999,-999,9,-999,-999,9,-999,9,-999.0,9,-999.0,9,-999.0,9
49NZ20170208,P17E,25,1,2, X12J02,2,20170222,1709,-53.5082,-126.0225,3742,21.4,2,9.0165,2,9.01683,2,34.3358,2,34.3358,2,-999.0,9,34.4934,2,279.2,2,279.52,2,96.957,0.1236,2,0.107,2,0.3,2,0.056,1,5.51,1,177.236,2,1.47,2,0.02,13.8,2,0.03,0.23,2,0.0,1.029,2,0.003,0.32,2,0.02,-999.0,9,-999.0,9,-999.0,9,-999.0,9,-999.0,9,2103.4,2,2283.4,2,-999,-999,9,-999.0,9,-999.0,9,-999,9,-999,-999,9,-999,-999,9,-999,9,-999.0,9,-999.0,9,-999.0,9
49NZ20170208,P17E,25,1,35, X12J08,2,20170222,1709,-53.5082,-126.0225,3742,52.1,2,9.0243,2,9.02428,2,34.339,2,34.3362,2,-999.0,9,34.4947,2,278.87,2,279.26,2,96.991,0.1222,2,0.275,2,0.28,2,0.057,1,5.337,1,33.336,2,1.49,2,0.02,13.82,2,0.03,0.23,2,0.0,1.033,2,0.003,0.3,2,0.02,3.549,2,2.057,2,0.352,4,-999.0,9,-999.0,9,2104.2,6,2283.6,2,-999,-999,9,-999.0,9,-999.0,9,-999,9,-999,-999,9,-999,-999,9,-999,9,-999.0,9,-999.0,9,-999.0,9
49NZ20170208,P17E,25,1,34, X12J07,2,20170222,1709,-53.5082,-126.0225,3742,102.0,2,7.4033,2,7.405,2,34.3819,2,34.3814,2,-999.0,9,34.5423,2,269.26,2,268.86,2,99.206,0.0319,2,0.056,2,0.14,2,0.032,1,6.112,1,2.254,2,5.15,2,0.03,18.7,2,0.04,0.02,2,0.0,1.306,2,0.003,0.01,2,0.02,3.806,2,2.184,2,0.322,2,-999.0,9,-999.0,9,2134.1,2,2281.5,2,-999,-999,9,-999.0,9,-999.0,9,-999,9,-999,-999,9,-999,-999,9,-999,9,-999.0,9,-999.0,9,-999.0,9
49NZ20170208,P17E,25,1,33, X12J06,2,20170222,1709,-53.5082,-126.0225,3742,150.4,2,7.0769,2,7.08143,2,34.3613,2,34.362,2,-999.0,9,34.5121,2,271.11,2,270.98,2,99.53,0.0189,2,0.01,2,0.03,2,0.022,1,6.593,1,0.47,2,6.08,2,0.03,19.43,2,0.04,0.01,2,0.0,1.352,2,0.003,0.01,2,0.02,3.828,2,2.189,2,0.32,2,-999.0,9,-999.0,9,2135.9,2,2282.5,2,-999,-999,9,-999.0,9,-999.0,9,-999,9,-999,-999,9,-999,-999,9,-999,9,-999.0,9,-999.0,9,-999.0,9
49NZ20170208,P17E,25,1,32, X12J05,2,20170222,1709,-53.5082,-126.0225,3742,201.3,2,6.7913,2,6.79146,2,34.3354,2,34.3351,2,-999.0,9,34.4992,2,272.78,2,272.26,2,99.674,0.0131,2,0.002,2,0.01,2,0.021,1,7.052,1,0.0,2,6.66,2,0.03,20.05,2,0.04,0.01,2,0.0,1.392,2,0.003,0.0,2,0.02,3.848,2,2.188,2,0.327,2,-999.0,9,-999.0,9,2137.4,2,2282.1,6,-999,-999,9,-999.0,9,-999.0,9,-999,9,-999,-999,9,-999,-999,9,-999,9,-999.0,9,-999.0,9,-999.0,9
49NZ20170208,P17E,25,1,31, X12J04,2,20170222,1709,-53.5082,-126.0225,3742,250.6,2,6.7983,2,6.7986,2,34.3522,2,34.3513,2,-999.0,9,34.4845,2,276.57,2,276.35,2,99.667,0.0133,2,0.005,2,0.02,2,0.02,1,7.3,1,0.0,2,6.38,2,0.03,19.61,2,0.04,0.01,2,0.0,1.365,2,0.003,0.01,2,0.02,3.856,6,2.207,6,0.338,6,-999.0,9,-999.0,9,2136.0,2,2280.7,2,-999,-999,9,-999.0,9,-999.0,9,-999,9,-999,-999,9,-999,-999,9,-999,9,-999.0,9,-999.0,9,-999.0,9
49NZ20170208,P17E,25,1,30, X12J30,2,20170222,1709,-53.5082,-126.0225,3742,300.3,2,6.7541,2,6.75463,2,34.3586,2,34.3581,2,-999.0,9,34.4987,2,274.24,2,274.11,2,99.786,0.0086,2,0.001,2,-999.0,9,0.015,1,7.39,1,0.0,2,6.54,2,0.03,19.77,2,0.04,0.01,2,0.0,1.377,2,0.003,0.01,2,0.02,3.8,2,2.162,2,0.315,2,-999.0,9,-999.0,9,2136.5,2,2281.5,2,-999,-999,9,-999.0,9,-999.0,9,-999,9,-999,-999,9,-999,-999,9,-999,9,-999.0,9,-999.0,9,-999.0,9
49NZ20170208,P17E,25,1,29, X12J29,2,20170222,1709,-53.5082,-126.0225,3742,401.3,2,6.387,2,6.3868,2,34.3204,2,34.3209,2,-999.0,9,34.4762,2,275.68,2,275.57,2,99.811,0.0076,2,0.001,2,-999.0,9,0.015,1,7.704,1,0.0,2,7.32,2,0.03,20.66,2,0.04,0.01,2,0.0,1.424,2,0.003,0.07,2,0.02,3.829,2,2.184,2,0.318,2,-999.0,9,-999.0,9,2138.1,2,2281.5,2,-999,-999,9,-999.0,9,-999.0,9,-999,9,-999,-999,9,-999,-999,9,-999,9,-999.0,9,-999.0,9,-999.0,9
49NZ20170208,P17E,25,1,28, X12J28,2,20170222,1709,-53.5082,-126.0225,3742,502.2,2,6.0598,2,6.05968,2,34.2863,2,34.2864,2,-999.0,9,34.4202,2,272.18,2,271.95,2,99.815,0.0074,2,0.0,2,-999.0,9,0.015,1,8.163,1,0.0,2,8.61,2,0.03,21.87,2,0.04,0.01,2,0.0,1.503,2,0.003,0.05,2,0.02,3.817,2,2.152,2,0.299,2,-999.0,9,-999.0,9,2145.8,2,2279.6,2,-999,-999,9,-999.0,9,-999.0,9,-999,9,-999,-999,9,-999,-999,9,-999,9,-999.0,9,-999.0,9,-999.0,9
49NZ20170208,P17E,25,1,27, X12J27,2,20170222,1709,-53.5082,-126.0225,3742,603.0,2,5.6579,2,5.658,2,34.2523,2,34.2513,2,-999.0,9,34.4011,2,267.97,2,267.68,2,99.813,0.0075,2,0.0,2,-999.0,9,0.016,1,8.486,1,0.0,2,10.48,2,0.03,23.22,2,0.05,0.01,2,0.0,1.592,2,0.003,0.05,2,0.02,3.772,2,2.119,2,0.298,2,-999.0,9,-999.0,9,2147.0,2,2280.6,2,-999,-999,9,-999.0,9,-999.0,9,-999,9,-999,-999,9,-999,-999,9,-999,9,-999.0,9,-999.0,9,-999.0,9
49NZ20170208,P17E,25,1,26, X12J26,2,20170222,1709,-53.5082,-126.0225,3742,700.8,2,5.1726,2,5.17347,2,34.2257,2,34.2239,2,-999.0,9,34.3969,2,253.99,2,253.84,2,99.841,0.0064,2,0.001,2,-999.0,9,0.014,1,8.809,1,0.0,2,14.5,2,0.03,25.67,2,0.05,0.0,2,0.0,1.745,2,0.003,0.03,2,0.02,3.596,2,1.986,2,0.249,2,-999.0,9,-999.0,9,2161.8,6,2283.2,2,-999,-999,9,-999.0,9,-999.0,9,-999,9,-999,-999,9,-999,-999,9,-999,9,-999.0,9,-999.0,9,-999.0,9
49NZ20170208,P17E,25,1,25, X12J25,2,20170222,1709,-53.5082,-126.0225,3742,800.7,2,4.9165,2,4.91729,2,34.2642,2,34.2643,2,-999.0,9,34.4163,2,230.73,2,230.42,2,99.834,0.0066,2,0.001,2,-999.0,9,0.014,1,9.37,1,0.0,2,20.7,2,0.04,27.97,2,0.05,0.0,2,0.0,1.899,2,0.004,0.0,2,0.02,3.06,2,1.652,2,0.19,2,-999.0,9,-999.0,9,2176.7,2,2286.4,2,-999,-999,9,-999.0,9,-999.0,9,-999,9,-999,-999,9,-999,-999,9,-999,9,-999.0,9,-999.0,9,-999.0,9
49NZ20170208,P17E,25,1,24, X12J24,2,20170222,1709,-53.5082,-126.0225,3742,901.9,2,4.5558,2,4.55586,2,34.3073,2,34.3057,2,-999.0,9,34.4414,2,210.41,2,210.21,2,99.847,0.0061,2,0.001,2,-999.0,9,0.016,1,9.748,1,0.0,2,29.09,2,0.05,30.22,2,0.05,0.0,2,0.0,2.054,2,0.004,-0.01,2,0.02,2.443,6,1.294,6,0.139,6,-999.0,9,-999.0,9,2193.3,2,2293.8,2,-999,-999,9,-999.0,9,-999.0,9,-999,9,-999,-999,9,-999,-999,9,-999,9,-999.0,9,-999.0,9,-999.0,9
49NZ20170208,P17E,25,1,23, X12J23,2,20170222,1709,-53.5082,-126.0225,3742,1000.6,2,4.0842,2,4.08379,2,34.3227,2,34.3219,2,-999.0,9,34.4808,2,204.06,2,203.99,2,99.851,0.006,2,0.001,2,-999.0,9,0.015,1,10.029,1,0.0,2,35.85,2,0.05,31.47,2,0.06,0.0,2,0.0,2.147,2,0.004,0.0,2,0.02,2.153,2,1.14,2,0.116,2,-999.0,9,-999.0,9,2203.9,2,2301.1,2,-999,-999,9,-999.0,9,-999.0,9,-999,9,-999,-999,9,-999,-999,9,-999,9,-999.0,9,-999.0,9,-999.0,9
49NZ20170208,P17E,25,1,22, X12J22,2,20170222,1709,-53.5082,-126.0225,3742,1202.0,2,3.3426,2,3.34268,2,34.3815,2,34.3811,2,-999.0,9,34.5422,2,190.46,2,190.53,2,99.841,0.0064,2,0.001,2,-999.0,9,0.013,1,10.566,1,0.0,2,50.25,2,0.06,33.25,2,0.06,0.0,2,0.0,2.285,2,0.004,0.0,2,0.02,1.565,2,0.814,2,0.075,2,-999.0,9,-999.0,9,2225.6,2,2313.4,6,-999,-999,9,-999.0,9,-999.0,9,-999,9,-999,-999,9,-999,-999,9,-999,9,-999.0,9,-999.0,9,-999.0,9
49NZ20170208,P17E,25,1,21, X12J21,2,20170222,1709,-53.5082,-126.0225,3742,1402.1,2,2.9463,2,2.94649,2,34.466,2,34.4658,2,-999.0,9,34.6353,2,177.84,2,177.71,2,99.828,0.0069,2,0.002,2,-999.0,9,0.013,1,11.029,1,0.0,2,63.32,2,0.07,34.2,2,0.06,0.0,2,0.0,2.351,2,0.004,0.01,2,0.02,0.985,2,0.498,2,0.046,2,-999.0,9,-999.0,9,2243.7,2,2325.7,2,-999,-999,9,-999.0,9,-999.0,9,-999,9,-999,-999,9,-999,-999,9,-999,9,-999.0,9,-999.0,9,-999.0,9
49NZ20170208,P17E,25,1,20, X12J20,2,20170222,1709,-53.5082,-126.0225,3742,1602.3,2,2.6755,2,2.67528,2,34.5476,2,34.5472,2,-999.0,9,34.7196,2,170.63,2,170.4,2,99.845,0.0062,2,0.002,2,-999.0,9,0.013,1,11.368,1,0.0,2,73.66,2,0.08,34.25,2,0.06,0.0,2,0.0,2.35,2,0.004,0.08,2,0.02,0.574,2,0.289,2,0.025,2,-999.0,9,-999.0,9,2255.6,2,2338.4,2,-999,-999,9,-999.0,9,-999.0,9,-999,9,-999,-999,9,-999,-999,9,-999,9,-999.0,9,-999.0,9,-999.0,9
49NZ20170208,P17E,25,1,19, X12J19,2,20170222,1709,-53.5082,-126.0225,3742,1801.9,2,2.4921,2,2.49216,2,34.6106,2,34.6105,2,-999.0,9,34.7788,2,168.68,2,168.55,2,99.822,0.0071,2,0.002,2,-999.0,9,0.012,1,11.373,1,0.0,2,80.66,2,0.09,33.88,2,0.06,0.0,2,0.0,2.33,2,0.004,0.05,2,0.02,0.345,2,0.172,2,0.002,2,-999.0,9,-999.0,9,2261.4,2,2342.7,2,-999,-999,9,-999.0,9,-999.0,9,-999,9,-999,-999,9,-999,-999,9,-999,9,-999.0,9,-999.0,9,-999.0,9
49NZ20170208,P17E,25,1,18, X12J18,2,20170222,1709,-53.5082,-126.0225,3742,2000.7,2,2.3527,2,2.35285,2,34.66,2,34.6599,2,-999.0,9,34.8269,2,174.22,2,174.02,2,99.849,0.006,2,0.002,2,-999.0,9,0.013,1,11.785,1,0.0,2,81.5,2,0.09,32.95,2,0.06,0.0,2,0.0,2.26,2,0.004,0.05,2,0.02,0.295,2,0.146,2,0.001,2,-999.0,9,-999.0,9,2259.7,2,2344.1,2,-999,-999,9,-999.0,9,-999.0,9,-999,9,-999,-999,9,-999,-999,9,-999,9,-999.0,9,-999.0,9,-999.0,9
49NZ20170208,P17E,25,1,17, X12J17,2,20170222,1709,-53.5082,-126.0225,3742,2200.8,2,2.2302,2,2.23003,2,34.6911,2,34.6912,2,-999.0,9,34.8622,2,177.42,2,177.32,2,99.872,0.0051,2,0.002,2,-999.0,9,0.013,1,11.878,1,0.0,2,85.27,2,0.09,32.49,2,0.06,0.0,2,0.0,2.228,2,0.004,0.04,2,0.02,0.206,2,0.102,2,0.0,2,-999.0,9,-999.0,9,2259.0,2,2349.8,2,-999,-999,9,-999.0,9,-999.0,9,-999,9,-999,-999,9,-999,-999,9,-999,9,-999.0,9,-999.0,9,-999.0,9
49NZ20170208,P17E,25,1,16, X12J16,2,20170222,1709,-53.5082,-126.0225,3742,2400.4,2,2.0885,2,2.08849,2,34.713,2,34.7131,2,-999.0,9,34.8816,2,181.82,2,181.81,2,99.887,0.0045,2,0.002,2,-999.0,9,0.012,1,12.128,1,0.0,2,89.2,2,0.1,32.09,2,0.06,0.0,2,0.0,2.194,2,0.004,0.03,2,0.02,0.159,2,0.075,2,0.0,2,-999.0,9,-999.0,9,2258.6,6,2353.4,2,-999,-999,9,-999.0,9,-999.0,9,-999,9,-999,-999,9,-999,-999,9,-999,9,-999.0,9,-999.0,9,-999.0,9
49NZ20170208,P17E,25,1,15, X12J15,2,20170222,1709,-53.5082,-126.0225,3742,2601.3,2,1.9025,2,1.90264,2,34.7235,2,34.7227,2,-999.0,9,34.8912,2,185.46,2,185.34,2,99.898,0.0041,2,0.002,2,-999.0,9,0.012,1,11.994,1,0.0,2,94.84,2,0.1,31.91,2,0.06,0.0,2,0.0,2.187,2,0.004,0.01,2,0.02,0.119,2,0.057,2,0.0,2,-999.0,9,-999.0,9,2261.9,2,2356.9,2,-999,-999,9,-999.0,9,-999.0,9,-999,9,-999,-999,9,-999,-999,9,-999,9,-999.0,9,-999.0,9,-999.0,9
49NZ20170208,P17E,25,1,14, X12J14,2,20170222,1709,-53.5082,-126.0225,3742,2800.7,2,1.7126,2,1.7127,2,34.7212,2,34.7212,2,-999.0,9,34.8936,2,185.96,2,185.86,2,99.902,0.0039,2,0.002,2,-999.0,9,0.012,1,11.825,1,0.0,2,102.73,2,0.11,32.14,2,0.06,0.0,2,0.0,2.213,2,0.004,-0.01,2,0.02,0.069,2,0.033,2,0.0,2,-999.0,9,-999.0,9,2266.7,2,2363.9,2,-999,-999,9,-999.0,9,-999.0,9,-999,9,-999,-999,9,-999,-999,9,-999,9,-999.0,9,-999.0,9,-999.0,9
49NZ20170208,P17E,25,1,13, X12113,2,20170222,1709,-53.5082,-126.0225,3742,3004.6,2,1.5674,2,1.56778,2,34.7203,2,34.7201,2,-999.0,9,34.893,2,188.91,2,188.79,2,99.904,0.0038,2,0.002,2,-999.0,9,0.012,1,11.549,1,0.0,2,106.83,2,0.11,32.25,2,0.06,0.0,2,0.0,2.219,2,0.004,0.0,2,0.02,0.066,2,0.027,2,0.0,2,-999.0,9,-999.0,9,2270.1,2,2366.8,2,-999,-999,9,-999.0,9,-999.0,9,-999,9,-999,-999,9,-999,-999,9,-999,9,-999.0,9,-999.0,9,-999.0,9
49NZ20170208,P17E,25,1,12, X12J12,2,20170222,1709,-53.5082,-126.0225,3742,3250.4,2,1.4311,2,1.43115,2,34.7167,2,34.7167,2,-999.0,9,34.8914,2,190.29,2,190.23,2,99.898,0.0041,2,0.002,2,-999.0,9,0.012,1,11.533,1,0.0,2,112.1,2,0.11,32.51,2,0.06,0.0,2,0.0,2.237,2,0.004,0.0,2,0.02,0.045,2,0.016,2,0.0,2,-999.0,9,-999.0,9,2273.2,2,2371.4,6,-999,-999,9,-999.0,9,-999.0,9,-999,9,-999,-999,9,-999,-999,9,-999,9,-999.0,9,-999.0,9,-999.0,9
49NZ20170208,P17E,25,1,11, X12J11,2,20170222,1709,-53.5082,-126.0225,3742,3504.1,2,1.3855,2,1.38558,2,34.7157,2,34.7152,2,-999.0,9,34.8887,2,191.37,2,191.18,2,99.876,0.0049,2,0.001,2,-999.0,9,0.015,1,11.57,1,0.0,2,114.2,2,0.12,32.68,2,0.06,0.0,2,0.0,2.241,2,0.004,0.0,2,0.02,0.041,2,0.016,2,0.0,2,-999.0,9,-999.0,9,2274.1,2,2373.9,2,-999,-999,9,-999.0,9,-999.0,9,-999,9,-999,-999,9,-999,-999,9,-999,9,-999.0,9,-999.0,9,-999.0,9
49NZ20170208,P17E,25,1,10, X12J10,2,20170222,1709,-53.5082,-126.0225,3742,3752.3,2,1.3699,2,1.37004,2,34.7156,2,34.7153,2,-999.0,9,34.8885,2,192.59,2,192.55,2,99.845,0.0062,2,0.001,2,-999.0,9,0.017,1,11.932,1,0.0,2,115.12,2,0.12,32.54,2,0.06,0.0,2,0.0,2.24,2,0.004,0.0,2,0.02,0.045,2,0.016,2,0.0,2,-999.0,9,-999.0,9,2274.7,2,2374.8,2,-999,-999,9,-999.0,9,-999.0,9,-999,9,-999,-999,9,-999,-999,9,-999,9,-999.0,9,-999.0,9,-999.0,9
49NZ20170208,P17E,25,1,1, X12J01,2,20170222,1709,-53.5082,-126.0225,3742,3798.4,2,1.3692,2,1.36932,2,34.7156,2,34.7157,2,-999.0,9,34.8904,2,192.88,2,192.76,2,99.845,0.0062,2,0.001,2,-999.0,9,0.027,1,12.117,1,0.0,2,115.23,2,0.12,32.48,2,0.06,0.0,2,0.0,2.241,2,0.004,0.02,2,0.02,0.047,2,0.019,2,0.0,2,-999.0,9,-999.0,9,2272.3,2,2372.6,2,-999,-999,9,-999.0,9,-999.0,9,-999,9,-999,-999,9,-999,-999,9,-999,9,-999.0,9,-999.0,9,-999.0,9