BOTTLE,20240216CCHSIOADS
EXPOCODE,SECT_ID,STNNBR,CASTNO,SAMPNO,BTLNBR,BTLNBR_FLAG_W,DATE,TIME,LATITUDE,LONGITUDE,DEPTH,CTDPRS,CTDPRS_FLAG_W,CTDTMP,CTDTMP_FLAG_W,REFTMP,REFTMP_FLAG_W,CTDSAL,CTDSAL_FLAG_W,SALNTY,SALNTY_FLAG_W,DNSSAL,DNSSAL_FLAG_W,CTDSVLSAL,CTDSVLSAL_FLAG_W,CTDOXY,CTDOXY_FLAG_W,OXYGEN,OXYGEN_FLAG_W,CTDXMISS,CTDBEAMCP,CTDXMISS_FLAG_W,CTDFLUOR,CTDFLUOR_FLAG_W,CHLORA,CHLORA_FLAG_W,CTDTURB,CTDTURB_FLAG_W,CTDCDOM,CTDCDOM_FLAG_W,PAR,PAR_FLAG_W,SILCAT,SILCAT_FLAG_W,SILUNC,NITRAT,NITRAT_FLAG_W,NRAUNC,NITRIT,NITRIT_FLAG_W,NRIUNC,PHSPHT,PHSPHT_FLAG_W,PHPUNC,NH4,NH4_FLAG_W,NH4UNC,CFC-11,CFC-11_FLAG_W,CFC-12,CFC-12_FLAG_W,CFC113,CFC113_FLAG_W,SF6,SF6_FLAG_W,N2O,N2O_FLAG_W,TCARBN,TCARBN_FLAG_W,ALKALI,ALKALI_FLAG_W,PH_TOT,PH_TMP,PH_TOT_FLAG_W,CALCIUM,CALCIUM_FLAG_W,DOC,DOC_FLAG_W,DELC13,DELC13_FLAG_W,C13ERR,DELC14,DELC14_FLAG_W,C14ERR,POC,POC_FLAG_W,HPLC,HPLC_FLAG_W,CDOM325,CDOM325_FLAG_W,CDOM370,CDOM370_FLAG_W,CDOM443,CDOM443_FLAG_W
,,,,,,,,,,,METERS,DBAR,,ITS-90,,ITS-90,,PSS-78,,PSS-78,,G/KG,,G/KG,,UMOL/KG,,UMOL/KG,,%TRANS,/METER,,MG/M^3,,UG/L,,FTU,,QSU,,UMOL/M^2/SEC,,UMOL/KG,,UMOL/KG,UMOL/KG,,UMOL/KG,UMOL/KG,,UMOL/KG,UMOL/KG,,UMOL/KG,UMOL/KG,,UMOL/KG,PMOL/KG,,PMOL/KG,,PMOL/KG,,FMOL/KG,,NMOL/KG,,UMOL/KG,,UMOL/KG,,,DEG C,,MMOL/KG,,UMOL/KG,,/MILLE,,/MILLE,/MILLE,,/MILLE,UG/KG,,,,/METER,,/METER,,/METER,
49NZ20170208,P17E,15,1,0,    BUC,2,20170220,1520,-58.4992,-125.984,4209,0.0,2,-999.0,9,-999.0,9,-999.0,9,33.9969,2,-999.0,9,-999.0,9,-999.0,9,-999.0,9,-999.0,-999.0,9,-999.0,9,0.24,2,-999.0,9,-999.0,9,-999.0,9,7.18,2,0.03,23.37,2,0.05,0.28,2,0.0,1.696,2,0.003,0.73,2,0.02,-999.0,9,-999.0,9,-999.0,9,-999.0,9,-999.0,9,-999.0,9,-999.0,9,-999,-999,9,-999.0,9,-999.0,9,-999,9,-999,-999,9,-999,-999,9,-999,9,-999.0,9,-999.0,9,-999.0,9
49NZ20170208,P17E,15,1,36, X12J36,2,20170220,1520,-58.4992,-125.984,4209,10.0,2,4.9221,2,4.92226,2,33.9869,2,33.9861,2,-999.0,9,34.1334,2,305.16,2,305.19,2,97.085,0.1183,2,0.063,2,0.22,2,0.068,1,6.697,1,128.106,2,7.11,2,0.03,23.31,2,0.05,0.27,2,0.0,1.675,2,0.003,0.76,2,0.02,4.511,6,2.527,6,0.433,6,-999.0,9,-999.0,9,2136.2,2,2280.8,2,-999,-999,9,-999.0,9,-999.0,9,-999,9,-999,-999,9,-999,-999,9,-999,9,-999.0,9,-999.0,9,-999.0,9
49NZ20170208,P17E,15,1,35, X12J35,2,20170220,1520,-58.4992,-125.984,4209,50.3,2,4.9193,2,4.91944,2,33.9871,2,33.9868,2,-999.0,9,34.1471,2,304.86,2,305.28,2,97.102,0.1176,2,0.213,2,0.23,2,0.071,1,6.743,1,25.916,2,7.19,2,0.03,23.25,2,0.05,0.27,2,0.0,1.68,2,0.003,0.76,2,0.02,4.518,2,2.537,2,0.42,2,-999.0,9,-999.0,9,2136.3,6,2282.9,2,-999,-999,9,-999.0,9,-999.0,9,-999,9,-999,-999,9,-999,-999,9,-999,9,-999.0,9,-999.0,9,-999.0,9
49NZ20170208,P17E,15,1,2, X12J02,2,20170220,1520,-58.4992,-125.984,4209,75.9,2,4.9186,2,4.91868,2,33.987,2,33.9866,2,-999.0,9,34.1465,2,304.68,2,305.41,2,97.14,0.1161,2,0.226,2,0.24,2,0.087,1,7.239,1,7.601,2,7.29,2,0.03,23.46,2,0.05,0.28,2,0.0,1.694,2,0.019,0.78,2,0.02,-999.0,9,-999.0,9,-999.0,9,-999.0,9,-999.0,9,2136.8,2,2282.0,2,-999,-999,9,-999.0,9,-999.0,9,-999,9,-999,-999,9,-999,-999,9,-999,9,-999.0,9,-999.0,9,-999.0,9
49NZ20170208,P17E,15,1,34, X12J34,2,20170220,1520,-58.4992,-125.984,4209,100.5,2,3.2017,2,3.19909,2,34.05,2,34.0497,2,-999.0,9,34.3684,2,305.27,2,305.22,2,98.004,0.0806,2,0.174,2,0.28,2,0.078,1,7.77,1,1.512,2,13.91,2,0.03,25.27,2,0.05,0.46,2,0.0,1.849,2,0.004,0.8,2,0.02,4.793,2,2.655,2,0.443,2,-999.0,9,-999.0,9,2155.4,2,2277.1,2,-999,-999,9,-999.0,9,-999.0,9,-999,9,-999,-999,9,-999,-999,9,-999,9,-999.0,9,-999.0,9,-999.0,9
49NZ20170208,P17E,15,1,33, X12J33,2,20170220,1520,-58.4992,-125.984,4209,152.1,2,2.8459,2,2.84585,2,34.0599,2,34.0599,2,-999.0,9,34.2278,2,297.9,2,297.63,2,99.021,0.0394,2,0.016,2,0.04,2,0.047,1,7.946,1,0.015,2,18.74,2,0.04,27.43,2,0.05,0.02,2,0.0,1.874,2,0.004,0.02,2,0.02,4.67,2,2.581,2,0.434,2,-999.0,9,-999.0,9,2161.5,2,2278.3,2,-999,-999,9,-999.0,9,-999.0,9,-999,9,-999,-999,9,-999,-999,9,-999,9,-999.0,9,-999.0,9,-999.0,9
49NZ20170208,P17E,15,1,32, X12J32,2,20170220,1520,-58.4992,-125.984,4209,200.4,2,2.6548,2,2.65589,2,34.0734,2,34.0727,2,-999.0,9,34.2474,2,292.05,2,294.08,2,99.268,0.0294,2,0.006,2,0.02,2,0.038,1,8.316,1,0.0,2,21.48,2,0.04,28.2,2,0.05,0.01,2,0.0,1.918,2,0.004,0.0,2,0.02,4.574,2,2.525,2,0.41,2,-999.0,9,-999.0,9,2167.1,2,2280.2,6,-999,-999,9,-999.0,9,-999.0,9,-999,9,-999,-999,9,-999,-999,9,-999,9,-999.0,9,-999.0,9,-999.0,9
49NZ20170208,P17E,15,1,31, X12J31,2,20170220,1520,-58.4992,-125.984,4209,251.3,2,2.649,2,2.6486,2,34.1094,2,34.1092,2,-999.0,9,34.2822,2,273.85,2,273.74,2,99.361,0.0257,2,0.004,2,0.02,2,0.032,1,8.853,1,0.0,2,26.92,2,0.04,29.71,2,0.05,0.0,2,0.0,2.021,2,0.004,0.0,2,0.02,4.198,6,2.295,6,0.362,6,-999.0,9,-999.0,9,2178.4,2,2283.0,2,-999,-999,9,-999.0,9,-999.0,9,-999,9,-999,-999,9,-999,-999,9,-999,9,-999.0,9,-999.0,9,-999.0,9
49NZ20170208,P17E,15,1,30, X12J08,2,20170220,1520,-58.4992,-125.984,4209,333.0,2,2.3594,2,2.3592,2,34.1386,2,34.138,2,-999.0,9,34.3246,2,266.01,2,265.72,2,99.471,0.0212,2,0.003,2,-999.0,9,0.035,1,9.003,1,0.0,2,32.97,2,0.05,30.97,2,0.06,0.0,2,0.0,2.101,2,0.004,0.0,2,0.02,4.003,2,2.171,2,0.345,2,-999.0,9,-999.0,9,2189.7,2,2289.5,2,-999,-999,9,-999.0,9,-999.0,9,-999,9,-999,-999,9,-999,-999,9,-999,9,-999.0,9,-999.0,9,-999.0,9
49NZ20170208,P17E,15,1,29, X12J07,2,20170220,1520,-58.4992,-125.984,4209,429.9,2,2.3645,2,2.36461,2,34.2309,2,34.2282,2,-999.0,9,34.4005,2,237.93,2,238.71,2,99.619,0.0153,2,0.002,2,-999.0,9,0.023,1,9.79,1,0.0,2,42.47,2,0.06,32.55,2,0.06,0.01,2,0.0,2.209,2,0.004,0.0,2,0.02,3.228,2,1.735,2,0.264,2,-999.0,9,-999.0,9,2207.8,2,2297.2,2,-999,-999,9,-999.0,9,-999.0,9,-999,9,-999,-999,9,-999,-999,9,-999,9,-999.0,9,-999.0,9,-999.0,9
49NZ20170208,P17E,15,1,28, X12J06,2,20170220,1520,-58.4992,-125.984,4209,530.9,2,2.2085,2,2.20838,2,34.2891,2,34.2877,2,-999.0,9,34.457,2,226.1,2,226.17,2,99.678,0.0129,2,0.002,2,-999.0,9,0.021,1,9.903,1,0.0,2,49.88,2,0.06,33.27,2,0.06,0.0,2,0.0,2.26,2,0.004,0.03,2,0.02,2.794,2,1.492,2,0.224,2,-999.0,9,-999.0,9,2218.8,2,2304.7,2,-999,-999,9,-999.0,9,-999.0,9,-999,9,-999,-999,9,-999,-999,9,-999,9,-999.0,9,-999.0,9,-999.0,9
49NZ20170208,P17E,15,1,27, X12J05,2,20170220,1520,-58.4992,-125.984,4209,631.0,2,2.4123,2,2.41209,2,34.3988,2,34.3976,2,-999.0,9,34.5596,2,195.17,2,195.36,2,99.769,0.0093,2,0.002,2,-999.0,9,0.017,1,10.831,1,0.0,2,59.68,2,0.07,34.27,2,0.06,0.0,2,0.0,2.332,2,0.004,0.01,2,0.02,1.797,2,0.952,2,0.13,2,-999.0,9,-999.0,9,2233.8,2,2315.5,2,-999,-999,9,-999.0,9,-999.0,9,-999,9,-999,-999,9,-999,-999,9,-999,9,-999.0,9,-999.0,9,-999.0,9
49NZ20170208,P17E,15,1,26, X12J04,2,20170220,1520,-58.4992,-125.984,4209,729.1,2,2.5044,2,2.50435,2,34.4815,2,34.4813,2,-999.0,9,34.6418,2,179.03,2,178.94,2,99.779,0.0088,2,0.002,2,-999.0,9,0.022,1,10.873,1,0.0,2,66.84,2,0.08,34.6,2,0.06,0.0,2,0.0,2.358,2,0.004,0.0,2,0.02,1.161,2,0.595,2,0.059,2,-999.0,9,-999.0,9,2244.6,6,2324.6,2,-999,-999,9,-999.0,9,-999.0,9,-999,9,-999,-999,9,-999,-999,9,-999,9,-999.0,9,-999.0,9,-999.0,9
49NZ20170208,P17E,15,1,25, X12J03,2,20170220,1520,-58.4992,-125.984,4209,829.6,2,2.4143,2,2.4141,2,34.5286,2,34.5274,2,-999.0,9,34.6924,2,175.82,2,176.05,2,99.796,0.0082,2,0.002,2,-999.0,9,0.016,1,11.149,1,0.0,2,70.95,2,0.08,34.42,2,0.06,0.0,2,0.0,2.35,2,0.004,0.0,2,0.02,0.926,2,0.482,2,0.047,2,-999.0,9,-999.0,9,2249.9,2,2329.2,2,-999,-999,9,-999.0,9,-999.0,9,-999,9,-999,-999,9,-999,-999,9,-999,9,-999.0,9,-999.0,9,-999.0,9
49NZ20170208,P17E,15,1,24, X12J24,2,20170220,1520,-58.4992,-125.984,4209,930.8,2,2.4445,2,2.44446,2,34.5786,2,34.5776,2,-999.0,9,34.7453,2,171.5,2,171.46,2,99.821,0.0072,2,0.002,2,-999.0,9,0.016,1,11.274,1,0.0,2,75.18,2,0.08,34.08,2,0.06,0.0,2,0.0,2.332,2,0.004,0.01,2,0.02,0.599,6,0.309,6,0.025,6,-999.0,9,-999.0,9,2252.9,2,2335.5,2,-999,-999,9,-999.0,9,-999.0,9,-999,9,-999,-999,9,-999,-999,9,-999,9,-999.0,9,-999.0,9,-999.0,9
49NZ20170208,P17E,15,1,23, X12J23,2,20170220,1520,-58.4992,-125.984,4209,1071.4,2,2.3461,2,2.34597,2,34.6257,2,34.6255,2,-999.0,9,34.797,2,172.52,2,172.37,2,99.819,0.0072,2,0.002,2,-999.0,9,0.014,1,11.73,1,0.0,2,78.15,2,0.09,33.56,2,0.06,0.0,2,0.0,2.294,2,0.004,0.01,2,0.02,0.45,2,0.227,2,0.015,2,-999.0,9,-999.0,9,2254.1,2,2338.2,2,-999,-999,9,-999.0,9,-999.0,9,-999,9,-999,-999,9,-999,-999,9,-999,9,-999.0,9,-999.0,9,-999.0,9
49NZ20170208,P17E,15,1,22, X12J22,2,20170220,1520,-58.4992,-125.984,4209,1272.8,2,2.2159,2,2.21613,2,34.6765,2,34.6759,2,-999.0,9,34.8417,2,176.21,2,176.31,2,99.876,0.0049,2,0.002,2,-999.0,9,0.012,1,11.718,1,0.0,2,82.32,2,0.09,32.76,2,0.06,0.0,2,0.0,2.237,2,0.004,0.01,2,0.02,0.296,2,0.145,2,0.007,2,-999.0,9,-999.0,9,2255.3,2,2342.2,6,-999,-999,9,-999.0,9,-999.0,9,-999,9,-999,-999,9,-999,-999,9,-999,9,-999.0,9,-999.0,9,-999.0,9
49NZ20170208,P17E,15,1,21, X12J21,2,20170220,1520,-58.4992,-125.984,4209,1470.0,2,2.0735,2,2.07353,2,34.7079,2,34.7074,2,-999.0,9,34.8739,2,181.48,2,181.61,2,99.878,0.0049,2,0.002,2,-999.0,9,0.013,1,11.481,1,0.0,2,85.56,2,0.09,32.05,2,0.06,0.0,2,0.0,2.191,2,0.004,-0.01,2,0.02,0.224,2,0.109,2,0.009,2,-999.0,9,-999.0,9,2254.8,2,2347.5,2,-999,-999,9,-999.0,9,-999.0,9,-999,9,-999,-999,9,-999,-999,9,-999,9,-999.0,9,-999.0,9,-999.0,9
49NZ20170208,P17E,15,1,20, X12J20,2,20170220,1520,-58.4992,-125.984,4209,1670.9,2,1.9358,2,1.93565,2,34.7239,2,34.7236,2,-999.0,9,34.8932,2,186.07,2,186.13,2,99.906,0.0038,2,0.002,2,-999.0,9,0.012,1,11.737,1,0.0,2,88.77,2,0.1,31.6,2,0.06,0.0,2,0.0,2.161,2,0.004,-0.01,2,0.02,0.198,2,0.095,2,0.004,2,-999.0,9,-999.0,9,2252.5,2,2351.7,2,-999,-999,9,-999.0,9,-999.0,9,-999,9,-999,-999,9,-999,-999,9,-999,9,-999.0,9,-999.0,9,-999.0,9
49NZ20170208,P17E,15,1,19, X12J19,2,20170220,1520,-58.4992,-125.984,4209,1872.0,2,1.7769,2,1.77647,2,34.7303,2,34.7296,2,-999.0,9,34.9,2,189.58,2,189.52,2,99.925,0.003,2,0.002,2,-999.0,9,0.011,1,11.962,1,0.0,2,93.2,2,0.1,31.42,2,0.06,0.0,2,0.0,2.154,2,0.004,-0.01,2,0.02,0.178,2,0.081,2,0.005,2,-999.0,9,-999.0,9,2253.2,2,2352.7,2,-999,-999,9,-999.0,9,-999.0,9,-999,9,-999,-999,9,-999,-999,9,-999,9,-999.0,9,-999.0,9,-999.0,9
49NZ20170208,P17E,15,1,18, X12J18,2,20170220,1520,-58.4992,-125.984,4209,2070.8,2,1.5767,2,1.5769,2,34.7304,2,34.73,2,-999.0,9,34.8995,2,192.86,2,193.04,2,99.921,0.0032,2,0.002,2,-999.0,9,0.012,1,11.608,1,0.0,2,99.6,2,0.1,31.64,2,0.06,0.0,2,0.0,2.164,2,0.004,-0.01,2,0.02,0.144,2,0.066,2,0.001,2,-999.0,9,-999.0,9,2254.9,2,2355.0,2,-999,-999,9,-999.0,9,-999.0,9,-999,9,-999,-999,9,-999,-999,9,-999,9,-999.0,9,-999.0,9,-999.0,9
49NZ20170208,P17E,15,1,17, X12J17,2,20170220,1520,-58.4992,-125.984,4209,2270.8,2,1.4089,2,1.40892,2,34.7277,2,34.7272,2,-999.0,9,34.8997,2,195.53,2,195.64,2,99.923,0.0031,2,0.002,2,-999.0,9,0.012,1,11.65,1,0.0,2,104.4,2,0.11,31.65,2,0.06,0.0,2,0.0,2.159,2,0.004,0.04,2,0.02,0.139,2,0.066,2,0.0,2,-999.0,9,-999.0,9,2257.3,2,2357.8,2,-999,-999,9,-999.0,9,-999.0,9,-999,9,-999,-999,9,-999,-999,9,-999,9,-999.0,9,-999.0,9,-999.0,9
49NZ20170208,P17E,15,1,16, X12J16,2,20170220,1520,-58.4992,-125.984,4209,2470.7,2,1.2812,2,1.2811,2,34.7236,2,34.723,2,-999.0,9,34.8963,2,197.21,2,197.42,2,99.921,0.0032,2,0.002,2,-999.0,9,0.012,1,11.679,1,0.0,2,109.21,2,0.11,31.8,2,0.06,0.0,2,0.0,2.183,2,0.004,0.01,2,0.02,0.124,2,0.059,2,0.0,2,-999.0,9,-999.0,9,2260.7,6,2359.1,2,-999,-999,9,-999.0,9,-999.0,9,-999,9,-999,-999,9,-999,-999,9,-999,9,-999.0,9,-999.0,9,-999.0,9
49NZ20170208,P17E,15,1,15, X12J15,2,20170220,1520,-58.4992,-125.984,4209,2672.1,2,1.1748,2,1.17476,2,34.7208,2,34.7198,2,-999.0,9,34.8937,2,199.32,2,199.6,2,99.916,0.0033,2,0.002,2,-999.0,9,0.012,1,11.835,1,0.0,2,112.69,2,0.12,31.9,2,0.06,0.0,2,0.0,2.19,2,0.004,0.02,2,0.02,0.141,2,0.069,2,0.0,2,-999.0,9,-999.0,9,2265.4,3,2359.9,2,-999,-999,9,-999.0,9,-999.0,9,-999,9,-999,-999,9,-999,-999,9,-999,9,-999.0,9,-999.0,9,-999.0,9
49NZ20170208,P17E,15,1,14, X12J14,2,20170220,1520,-58.4992,-125.984,4209,2872.0,2,1.0585,2,1.05837,2,34.7168,2,34.7161,2,-999.0,9,34.8907,2,201.39,2,201.7,2,99.925,0.003,2,0.002,2,-999.0,9,0.011,1,11.555,1,0.0,2,116.63,2,0.12,32.12,2,0.06,0.0,2,0.0,2.2,2,0.004,0.01,2,0.02,0.159,2,0.077,2,0.002,2,-999.0,9,-999.0,9,2260.1,2,2361.1,2,-999,-999,9,-999.0,9,-999.0,9,-999,9,-999,-999,9,-999,-999,9,-999,9,-999.0,9,-999.0,9,-999.0,9
49NZ20170208,P17E,15,1,4, X12J26,2,20170220,1520,-58.4992,-125.984,4209,3079.2,2,0.969,2,0.96914,2,34.7136,2,34.7129,2,-999.0,9,34.8872,2,202.99,2,203.12,2,99.916,0.0033,2,0.002,2,-999.0,9,0.012,1,11.519,1,0.0,2,-999.0,9,-999.0,-999.0,9,-999.0,-999.0,9,-999.0,-999.0,9,-999.0,-999.0,9,-999.0,-999.0,9,-999.0,9,-999.0,9,-999.0,9,-999.0,9,-999.0,9,-999.0,9,-999,-999,9,-999.0,9,-999.0,9,-999,9,-999,-999,9,-999,-999,9,-999,9,-999.0,9,-999.0,9,-999.0,9
49NZ20170208,P17E,15,1,13, X12113,2,20170220,1520,-58.4992,-125.984,4209,3080.6,2,0.9679,2,0.96773,2,34.7133,2,34.7129,2,-999.0,9,34.8875,2,202.97,2,203.23,2,99.919,0.0033,2,0.002,2,-999.0,9,0.012,1,11.758,1,0.0,2,120.03,2,0.12,32.15,2,0.06,0.0,2,0.0,2.208,2,0.004,0.01,2,0.02,0.19,2,0.093,2,0.005,2,-999.0,9,-999.0,9,2259.9,2,2359.8,2,-999,-999,9,-999.0,9,-999.0,9,-999,9,-999,-999,9,-999,-999,9,-999,9,-999.0,9,-999.0,9,-999.0,9
49NZ20170208,P17E,15,1,6, X12J28,2,20170220,1520,-58.4992,-125.984,4209,3080.8,2,0.9689,2,0.96872,2,34.7134,2,34.7128,2,-999.0,9,34.8875,2,202.96,2,203.12,2,99.914,0.0034,2,0.002,2,-999.0,9,0.012,1,11.665,1,0.0,2,-999.0,9,-999.0,-999.0,9,-999.0,-999.0,9,-999.0,-999.0,9,-999.0,-999.0,9,-999.0,-999.0,9,-999.0,9,-999.0,9,-999.0,9,-999.0,9,-999.0,9,-999.0,9,-999,-999,9,-999.0,9,-999.0,9,-999,9,-999,-999,9,-999,-999,9,-999,9,-999.0,9,-999.0,9,-999.0,9
49NZ20170208,P17E,15,1,5, X12J27,2,20170220,1520,-58.4992,-125.984,4209,3080.8,2,0.9692,2,0.96944,2,34.7134,2,34.713,2,-999.0,9,34.8875,2,202.99,2,203.18,2,99.912,0.0035,2,0.002,2,-999.0,9,0.012,1,11.692,1,0.0,2,-999.0,9,-999.0,-999.0,9,-999.0,-999.0,9,-999.0,-999.0,9,-999.0,-999.0,9,-999.0,-999.0,9,-999.0,9,-999.0,9,-999.0,9,-999.0,9,-999.0,9,-999.0,9,-999,-999,9,-999.0,9,-999.0,9,-999,9,-999,-999,9,-999,-999,9,-999,9,-999.0,9,-999.0,9,-999.0,9
49NZ20170208,P17E,15,1,8, X12J30,2,20170220,1520,-58.4992,-125.984,4209,3081.0,2,0.9684,2,0.96833,2,34.7135,2,34.7129,2,-999.0,9,34.8876,2,202.97,2,203.09,2,99.921,0.0032,2,0.002,2,-999.0,9,0.012,1,11.636,1,0.0,2,-999.0,9,-999.0,-999.0,9,-999.0,-999.0,9,-999.0,-999.0,9,-999.0,-999.0,9,-999.0,-999.0,9,-999.0,9,-999.0,9,-999.0,9,-999.0,9,-999.0,9,-999.0,9,-999,-999,9,-999.0,9,-999.0,9,-999,9,-999,-999,9,-999,-999,9,-999,9,-999.0,9,-999.0,9,-999.0,9
49NZ20170208,P17E,15,1,7, X12J29,2,20170220,1520,-58.4992,-125.984,4209,3081.0,2,0.9684,2,0.96857,2,34.7134,2,34.7128,2,-999.0,9,34.8876,2,203.0,2,203.13,2,99.925,0.003,2,0.002,2,-999.0,9,0.013,1,11.648,1,0.0,2,-999.0,9,-999.0,-999.0,9,-999.0,-999.0,9,-999.0,-999.0,9,-999.0,-999.0,9,-999.0,-999.0,9,-999.0,9,-999.0,9,-999.0,9,-999.0,9,-999.0,9,-999.0,9,-999,-999,9,-999.0,9,-999.0,9,-999,9,-999,-999,9,-999,-999,9,-999,9,-999.0,9,-999.0,9,-999.0,9
49NZ20170208,P17E,15,1,3, X12J25,2,20170220,1520,-58.4992,-125.984,4209,3082.2,2,0.9684,2,0.96853,2,34.7134,2,34.7126,2,-999.0,9,34.8872,2,203.0,2,203.15,2,99.919,0.0033,2,0.002,2,-999.0,9,0.012,1,11.636,1,0.0,2,-999.0,9,-999.0,-999.0,9,-999.0,-999.0,9,-999.0,-999.0,9,-999.0,-999.0,9,-999.0,-999.0,9,-999.0,9,-999.0,9,-999.0,9,-999.0,9,-999.0,9,-999.0,9,-999,-999,9,-999.0,9,-999.0,9,-999,9,-999,-999,9,-999,-999,9,-999,9,-999.0,9,-999.0,9,-999.0,9
49NZ20170208,P17E,15,1,12, X12J12,2,20170220,1520,-58.4992,-125.984,4209,3332.3,2,0.8831,2,0.88313,2,34.7106,2,34.7101,2,-999.0,9,34.8859,2,204.5,2,204.82,2,99.809,0.0077,2,0.002,2,-999.0,9,0.015,1,11.566,1,0.0,2,123.47,2,0.12,32.32,2,0.06,0.0,2,0.0,2.215,2,0.004,0.0,2,0.02,0.232,2,0.114,2,0.004,2,-999.0,9,-999.0,9,2263.1,2,2361.0,6,-999,-999,9,-999.0,9,-999.0,9,-999,9,-999,-999,9,-999,-999,9,-999,9,-999.0,9,-999.0,9,-999.0,9
49NZ20170208,P17E,15,1,11, X12J11,2,20170220,1520,-58.4992,-125.984,4209,3581.9,2,0.8441,2,0.8443,2,34.709,2,34.7084,2,-999.0,9,34.8843,2,205.38,2,205.64,2,99.756,0.0098,2,0.002,2,-999.0,9,0.018,1,11.551,1,0.0,2,125.31,2,0.13,32.39,2,0.06,0.0,2,0.0,2.22,2,0.004,0.0,2,0.02,0.246,2,0.123,2,0.004,2,-999.0,9,-999.0,9,2263.1,2,2359.8,2,-999,-999,9,-999.0,9,-999.0,9,-999,9,-999,-999,9,-999,-999,9,-999,9,-999.0,9,-999.0,9,-999.0,9
49NZ20170208,P17E,15,1,10, X12J10,2,20170220,1520,-58.4992,-125.984,4209,3832.3,2,0.7841,2,0.78425,2,34.707,2,34.7059,2,-999.0,9,34.8825,2,206.69,2,206.95,2,99.79,0.0084,2,0.002,2,-999.0,9,0.018,1,11.653,1,0.0,2,127.82,2,0.13,32.23,2,0.06,0.0,2,0.0,2.224,2,0.004,-0.02,2,0.02,0.285,2,0.137,2,0.004,2,-999.0,9,-999.0,9,2266.4,3,2360.6,2,-999,-999,9,-999.0,9,-999.0,9,-999,9,-999,-999,9,-999,-999,9,-999,9,-999.0,9,-999.0,9,-999.0,9
49NZ20170208,P17E,15,1,9, X12J09,2,20170220,1520,-58.4992,-125.984,4209,4084.0,2,0.5959,2,0.59586,2,34.7021,2,34.7008,2,-999.0,9,34.8773,2,210.19,2,210.34,2,99.785,0.0086,2,0.002,2,-999.0,9,0.016,1,11.468,1,0.0,2,132.64,2,0.13,32.68,2,0.06,0.0,2,0.0,2.24,2,0.004,0.0,2,0.02,0.369,2,0.178,2,0.006,2,-999.0,9,-999.0,9,2264.5,2,2357.2,3,-999,-999,9,-999.0,9,-999.0,9,-999,9,-999,-999,9,-999,-999,9,-999,9,-999.0,9,-999.0,9,-999.0,9
49NZ20170208,P17E,15,1,1, X12J01,2,20170220,1520,-58.4992,-125.984,4209,4263.1,2,0.5595,2,0.55975,2,34.7009,2,34.7006,2,-999.0,9,34.8769,2,211.22,2,211.32,2,99.718,0.0113,2,0.001,2,-999.0,9,0.033,1,11.969,1,0.0,2,133.86,2,0.13,32.66,2,0.06,0.0,2,0.0,2.247,2,0.004,-0.02,2,0.02,0.39,2,0.19,2,0.01,2,-999.0,9,-999.0,9,2265.7,2,2359.1,2,-999,-999,9,-999.0,9,-999.0,9,-999,9,-999,-999,9,-999,-999,9,-999,9,-999.0,9,-999.0,9,-999.0,9