BOTTLE,20240216CCHSIOADS
EXPOCODE,SECT_ID,STNNBR,CASTNO,SAMPNO,BTLNBR,BTLNBR_FLAG_W,DATE,TIME,LATITUDE,LONGITUDE,DEPTH,CTDPRS,CTDPRS_FLAG_W,CTDTMP,CTDTMP_FLAG_W,REFTMP,REFTMP_FLAG_W,CTDSAL,CTDSAL_FLAG_W,SALNTY,SALNTY_FLAG_W,DNSSAL,DNSSAL_FLAG_W,CTDSVLSAL,CTDSVLSAL_FLAG_W,CTDOXY,CTDOXY_FLAG_W,OXYGEN,OXYGEN_FLAG_W,CTDXMISS,CTDBEAMCP,CTDXMISS_FLAG_W,CTDFLUOR,CTDFLUOR_FLAG_W,CHLORA,CHLORA_FLAG_W,CTDTURB,CTDTURB_FLAG_W,CTDCDOM,CTDCDOM_FLAG_W,PAR,PAR_FLAG_W,SILCAT,SILCAT_FLAG_W,SILUNC,NITRAT,NITRAT_FLAG_W,NRAUNC,NITRIT,NITRIT_FLAG_W,NRIUNC,PHSPHT,PHSPHT_FLAG_W,PHPUNC,NH4,NH4_FLAG_W,NH4UNC,CFC-11,CFC-11_FLAG_W,CFC-12,CFC-12_FLAG_W,CFC113,CFC113_FLAG_W,SF6,SF6_FLAG_W,N2O,N2O_FLAG_W,TCARBN,TCARBN_FLAG_W,ALKALI,ALKALI_FLAG_W,PH_TOT,PH_TMP,PH_TOT_FLAG_W,CALCIUM,CALCIUM_FLAG_W,DOC,DOC_FLAG_W,DELC13,DELC13_FLAG_W,C13ERR,DELC14,DELC14_FLAG_W,C14ERR,POC,POC_FLAG_W,HPLC,HPLC_FLAG_W,CDOM325,CDOM325_FLAG_W,CDOM370,CDOM370_FLAG_W,CDOM443,CDOM443_FLAG_W
,,,,,,,,,,,METERS,DBAR,,ITS-90,,ITS-90,,PSS-78,,PSS-78,,G/KG,,G/KG,,UMOL/KG,,UMOL/KG,,%TRANS,/METER,,MG/M^3,,UG/L,,FTU,,QSU,,UMOL/M^2/SEC,,UMOL/KG,,UMOL/KG,UMOL/KG,,UMOL/KG,UMOL/KG,,UMOL/KG,UMOL/KG,,UMOL/KG,UMOL/KG,,UMOL/KG,PMOL/KG,,PMOL/KG,,PMOL/KG,,FMOL/KG,,NMOL/KG,,UMOL/KG,,UMOL/KG,,,DEG C,,MMOL/KG,,UMOL/KG,,/MILLE,,/MILLE,/MILLE,,/MILLE,UG/KG,,,,/METER,,/METER,,/METER,
49NZ20170208,P17E,26,1,0,    BUC,2,20170222,2307,-53.0122,-126.0008,4229,0.0,2,-999.0,9,-999.0,9,-999.0,9,34.3392,2,-999.0,9,-999.0,9,-999.0,9,-999.0,9,-999.0,-999.0,9,-999.0,9,0.32,2,-999.0,9,-999.0,9,-999.0,9,1.68,2,0.02,13.92,2,0.03,0.24,2,0.0,1.057,2,0.003,0.39,2,0.02,-999.0,9,-999.0,9,-999.0,9,-999.0,9,-999.0,9,-999.0,9,-999.0,9,-999,-999,9,-999.0,9,-999.0,9,-999,9,-999,-999,9,-999,-999,9,-999,9,-999.0,9,-999.0,9,-999.0,9
49NZ20170208,P17E,26,1,36, X12J09,2,20170222,2307,-53.0122,-126.0008,4229,11.0,2,9.0957,2,9.09479,2,34.3302,2,34.33,2,34.4909,2,34.4861,2,278.91,2,278.82,2,96.552,0.1404,2,0.187,2,0.3,2,0.06,1,5.156,1,76.211,2,1.5,2,0.02,13.85,2,0.03,0.21,2,0.0,1.039,2,0.003,0.36,2,0.02,3.53,6,2.027,6,0.255,6,2.455,6,16.8,3,2103.9,2,2283.0,2,-999,-999,9,-999.0,9,-999.0,9,-999,1,-999,-999,1,-999,-999,9,-999,9,-999.0,9,-999.0,9,-999.0,9
49NZ20170208,P17E,26,1,35, X12J08,2,20170222,2307,-53.0122,-126.0008,4229,51.0,2,9.0412,2,9.04122,2,34.3356,2,34.3356,2,34.4948,2,34.4913,2,279.41,2,279.44,2,96.655,0.1361,2,0.284,2,0.3,2,0.059,1,5.193,1,6.234,2,1.57,2,0.02,13.84,2,0.03,0.23,2,0.0,1.043,2,0.003,0.35,2,0.02,3.57,2,2.047,2,0.25,2,2.433,2,17.3,3,2104.1,6,2283.7,2,-999,-999,9,-999.0,9,-999.0,9,-999,1,-999,-999,1,-999,-999,9,-999,9,-999.0,9,-999.0,9,-999.0,9
49NZ20170208,P17E,26,1,2, X12J02,2,20170222,2307,-53.0122,-126.0008,4229,75.9,2,9.0085,2,9.00994,2,34.3383,2,34.3412,2,34.4974,2,34.4927,2,278.85,2,279.31,2,96.911,0.1255,2,0.305,2,0.31,2,0.056,1,5.72,1,1.94,2,1.62,2,0.02,13.84,2,0.03,0.24,2,0.0,1.049,2,0.003,0.37,2,0.02,-999.0,9,-999.0,9,-999.0,9,-999.0,9,-999.0,9,2105.8,2,2283.3,2,-999,-999,9,-999.0,9,-999.0,9,-999,9,-999,-999,9,-999,-999,9,-999,9,-999.0,9,-999.0,9,-999.0,9
49NZ20170208,P17E,26,1,34, X12J07,2,20170222,2307,-53.0122,-126.0008,4229,100.8,2,7.4574,2,7.45876,2,34.4005,2,34.4007,2,34.5633,2,34.5647,2,273.13,2,272.66,2,98.704,0.0522,2,0.143,2,0.29,2,0.038,1,6.318,1,0.925,2,5.0,2,0.03,17.88,2,0.04,0.11,2,0.0,1.27,2,0.003,0.05,2,0.02,3.823,2,2.225,2,0.291,2,2.429,2,19.4,3,2132.9,2,2281.7,2,-999,-999,9,-999.0,9,-999.0,9,-999,1,-999,-999,1,-999,-999,9,-999,9,-999.0,9,-999.0,9,-999.0,9
49NZ20170208,P17E,26,1,33, X12J06,2,20170222,2307,-53.0122,-126.0008,4229,151.8,2,7.2658,2,7.26526,2,34.3994,2,34.399,2,34.5594,2,34.5637,2,273.75,2,273.28,2,99.543,0.0183,2,0.018,2,0.04,2,0.022,1,6.472,1,0.0,2,5.32,2,0.03,18.33,2,0.04,0.01,2,0.0,1.287,2,0.003,0.05,2,0.02,3.775,2,2.184,2,0.279,2,2.521,2,19.2,3,2133.8,2,2282.8,2,-999,-999,9,-999.0,9,-999.0,9,-999,1,-999,-999,1,-999,-999,9,-999,9,-999.0,9,-999.0,9,-999.0,9
49NZ20170208,P17E,26,1,32, X12J05,2,20170222,2307,-53.0122,-126.0008,4229,202.9,2,7.1654,2,7.16614,2,34.3968,2,34.3974,2,34.5574,2,34.5475,2,273.93,2,273.5,2,99.702,0.0119,2,0.003,2,0.01,2,0.019,1,6.528,1,0.0,2,5.49,2,0.03,18.51,2,0.04,0.01,2,0.0,1.299,2,0.003,0.04,2,0.02,3.779,2,2.188,2,0.279,2,2.375,2,-999.0,5,2134.7,2,2282.2,6,-999,-999,9,-999.0,9,-999.0,9,-999,1,-999,-999,1,-999,-999,9,-999,9,-999.0,9,-999.0,9,-999.0,9
49NZ20170208,P17E,26,1,31, X12J04,2,20170222,2307,-53.0122,-126.0008,4229,251.4,2,7.0605,2,7.06084,2,34.3886,2,34.389,2,34.5475,2,34.5406,2,274.73,2,274.39,2,99.761,0.0096,2,0.001,2,0.01,2,0.015,1,7.208,1,0.0,2,5.69,2,0.03,18.73,2,0.04,0.01,2,0.0,1.313,2,0.003,0.02,2,0.02,3.609,2,2.144,2,0.262,2,2.472,2,19.8,3,2134.7,2,2281.7,2,-999,-999,9,-999.0,9,-999.0,9,-999,1,-999,-999,1,-999,-999,9,-999,9,-999.0,9,-999.0,9,-999.0,9
49NZ20170208,P17E,26,1,30, X12J30,2,20170222,2307,-53.0122,-126.0008,4229,332.2,2,6.8884,2,6.88911,2,34.3742,2,34.3745,2,34.535,2,34.5242,2,275.81,2,275.68,2,99.786,0.0086,2,0.001,2,-999.0,9,0.015,1,7.58,1,0.0,2,6.09,2,0.03,19.12,2,0.04,0.0,2,0.0,1.341,2,0.003,0.0,2,0.02,3.786,6,2.152,6,0.282,6,2.483,6,20.1,3,2134.4,2,2282.5,2,-999,-999,9,-999.0,9,-999.0,9,-999,1,-999,-999,1,-999,-999,9,-999,9,-999.0,9,-999.0,9,-999.0,9
49NZ20170208,P17E,26,1,29, X12J29,2,20170222,2307,-53.0122,-126.0008,4229,431.7,2,6.5952,2,6.59598,2,34.3403,2,34.3404,2,34.502,2,34.4896,2,274.12,2,273.97,2,99.786,0.0086,2,0.0,2,-999.0,9,0.015,1,8.062,1,0.0,2,7.03,2,0.03,20.22,2,0.04,0.0,2,0.0,1.407,2,0.003,-0.01,2,0.02,3.822,2,2.146,2,0.272,2,2.451,2,20.7,3,2137.5,2,2281.5,2,-999,-999,9,-999.0,9,-999.0,9,-999,1,-999,-999,1,-999,-999,9,-999,9,-999.0,9,-999.0,9,-999.0,9
49NZ20170208,P17E,26,1,28, X12J28,2,20170222,2307,-53.0122,-126.0008,4229,529.0,2,6.2272,2,6.22835,2,34.302,2,34.3026,2,34.4638,2,34.4607,2,269.11,2,269.14,2,99.803,0.0079,2,0.0,2,-999.0,9,0.015,1,8.26,1,0.0,2,8.47,2,0.03,21.62,2,0.04,0.0,2,0.0,1.486,2,0.003,0.06,2,0.02,3.659,2,2.093,2,0.272,2,2.198,2,21.5,3,2143.5,2,2280.9,2,-999,-999,9,-999.0,9,-999.0,9,-999,1,-999,-999,1,-999,-999,9,-999,9,-999.0,9,-999.0,9,-999.0,9
49NZ20170208,P17E,26,1,27, X12J27,2,20170222,2307,-53.0122,-126.0008,4229,631.2,2,5.8679,2,5.86933,2,34.2734,2,34.2744,2,34.4353,2,34.4252,2,267.81,2,267.24,2,99.816,0.0074,2,0.001,2,-999.0,9,0.015,1,8.037,1,0.0,2,9.88,2,0.03,22.58,2,0.04,0.0,2,0.0,1.557,2,0.003,0.03,2,0.02,3.718,2,2.092,2,0.274,2,2.262,2,22.5,3,2146.5,2,2282.3,2,-999,-999,9,-999.0,9,-999.0,9,-999,1,-999,-999,1,-999,-999,9,-999,9,-999.0,9,-999.0,9,-999.0,9
49NZ20170208,P17E,26,1,26, X12J26,2,20170222,2307,-53.0122,-126.0008,4229,730.9,2,5.5115,2,5.51221,2,34.2582,2,34.2589,2,34.4203,2,34.3995,2,253.53,2,253.06,2,99.824,0.007,2,0.0,2,-999.0,9,0.014,1,8.641,1,0.0,2,13.33,2,0.03,24.79,2,0.05,0.0,2,0.0,1.696,2,0.003,0.02,2,0.02,3.576,2,1.937,2,0.247,2,1.817,2,24.7,3,2157.7,6,2282.9,2,-999,-999,9,-999.0,9,-999.0,9,-999,1,-999,-999,1,-999,-999,9,-999,9,-999.0,9,-999.0,9,-999.0,9
49NZ20170208,P17E,26,1,25, X12J25,2,20170222,2307,-53.0122,-126.0008,4229,831.9,2,5.0569,2,5.05802,2,34.2537,2,34.2502,2,34.4111,2,34.4249,2,237.4,2,239.54,2,99.833,0.0067,2,0.001,2,-999.0,9,0.014,1,9.351,1,0.0,2,17.98,2,0.04,26.94,2,0.05,0.0,2,0.0,1.834,2,0.004,0.02,2,0.02,3.356,2,1.785,2,0.222,2,1.51,2,-999.0,5,2169.0,2,2285.7,2,-999,-999,9,-999.0,9,-999.0,9,-999,1,-999,-999,1,-999,-999,9,-999,9,-999.0,9,-999.0,9,-999.0,9
49NZ20170208,P17E,26,1,24, X12J24,2,20170222,2307,-53.0122,-126.0008,4229,928.3,2,4.7995,2,4.8005,2,34.2952,2,34.2954,2,34.4566,2,34.4497,2,216.43,2,216.26,2,99.837,0.0065,2,0.001,2,-999.0,9,0.015,1,9.437,1,0.0,2,25.36,2,0.04,29.17,2,0.05,0.0,2,0.0,1.988,2,0.004,0.02,2,0.02,2.777,6,1.43,6,0.182,6,0.885,6,30.9,3,2185.4,2,2292.1,2,-999,-999,9,-999.0,9,-999.0,9,-999,1,-999,-999,1,-999,-999,9,-999,9,-999.0,9,-999.0,9,-999.0,9
49NZ20170208,P17E,26,1,23, X12J23,2,20170222,2307,-53.0122,-126.0008,4229,1071.9,2,4.0077,2,4.00879,2,34.31,2,34.3095,2,34.4744,2,34.4621,2,207.21,2,207.41,2,99.845,0.0062,2,0.001,2,-999.0,9,0.015,1,10.294,1,0.0,2,35.37,2,0.05,31.22,2,0.06,0.0,2,0.0,2.141,2,0.004,0.02,2,0.02,2.417,2,1.234,2,0.157,2,0.663,2,33.1,3,2204.0,2,2296.5,2,-999,-999,9,-999.0,9,-999.0,9,-999,1,-999,-999,1,-999,-999,9,-999,9,-999.0,9,-999.0,9,-999.0,9
49NZ20170208,P17E,26,1,22, X12J22,2,20170222,2307,-53.0122,-126.0008,4229,1273.0,2,3.3738,2,3.37387,2,34.3734,2,34.3729,2,34.5376,2,34.5343,2,192.43,2,192.43,2,99.841,0.0064,2,0.001,2,-999.0,9,0.014,1,10.804,1,0.0,2,49.12,2,0.06,33.21,2,0.06,0.0,2,0.0,2.27,2,0.004,0.02,2,0.02,1.756,2,0.87,2,0.106,2,0.422,2,36.6,3,2228.5,2,2312.6,6,-999,-999,9,-999.0,9,-999.0,9,-999,1,-999,-999,1,-999,-999,9,-999,9,-999.0,9,-999.0,9,-999.0,9
49NZ20170208,P17E,26,1,21, X12J21,2,20170222,2307,-53.0122,-126.0008,4229,1470.9,2,2.9591,2,2.95915,2,34.4643,2,34.4642,2,34.6326,2,34.6304,2,178.05,2,177.61,2,99.835,0.0066,2,0.002,2,-999.0,9,0.013,1,11.194,1,0.0,2,63.1,2,0.07,34.18,2,0.06,0.0,2,0.0,2.348,2,0.004,0.01,2,0.02,1.052,2,0.521,2,0.058,2,0.242,2,37.8,3,2246.0,2,2324.4,2,-999,-999,9,-999.0,9,-999.0,9,-999,1,-999,-999,1,-999,-999,9,-999,9,-999.0,9,-999.0,9,-999.0,9
49NZ20170208,P17E,26,1,20, X12J20,2,20170222,2307,-53.0122,-126.0008,4229,1673.5,2,2.6944,2,2.69477,2,34.5432,2,34.5426,2,34.7116,2,34.7128,2,170.99,2,170.55,2,99.839,0.0064,2,0.002,2,-999.0,9,0.013,1,11.217,1,0.0,2,73.47,2,0.08,34.22,2,0.06,0.0,2,0.0,2.356,2,0.004,0.01,2,0.02,0.649,2,0.316,2,0.027,2,0.128,2,37.1,3,2254.9,2,2337.6,2,-999,-999,9,-999.0,9,-999.0,9,-999,1,-999,-999,1,-999,-999,9,-999,9,-999.0,9,-999.0,9,-999.0,9
49NZ20170208,P17E,26,1,19, X12J19,2,20170222,2307,-53.0122,-126.0008,4229,1872.3,2,2.4957,2,2.49582,2,34.6079,2,34.6075,2,34.7769,2,34.7763,2,170.28,2,169.9,2,99.852,0.0059,2,0.002,2,-999.0,9,0.013,1,11.532,1,0.0,2,79.27,2,0.09,33.77,2,0.06,0.0,2,0.0,2.329,2,0.004,0.03,2,0.02,0.434,2,0.21,2,0.017,2,0.085,2,35.9,3,2258.8,2,2342.9,2,-999,-999,9,-999.0,9,-999.0,9,-999,1,-999,-999,1,-999,-999,9,-999,9,-999.0,9,-999.0,9,-999.0,9
49NZ20170208,P17E,26,1,18, X12J18,2,20170222,2307,-53.0122,-126.0008,4229,2073.7,2,2.3573,2,2.35752,2,34.6577,2,34.6572,2,34.825,2,34.8273,2,172.9,2,172.46,2,99.858,0.0057,2,0.002,2,-999.0,9,0.012,1,11.631,1,0.0,2,83.11,2,0.09,33.06,2,0.06,0.0,2,0.0,2.274,2,0.004,0.07,2,0.02,0.273,2,0.143,2,0.015,2,0.011,2,35.4,3,2259.8,2,2347.8,2,-999,-999,9,-999.0,9,-999.0,9,-999,1,-999,-999,1,-999,-999,9,-999,9,-999.0,9,-999.0,9,-999.0,9
49NZ20170208,P17E,26,1,17, X12J17,2,20170222,2307,-53.0122,-126.0008,4229,2271.8,2,2.2114,2,2.21151,2,34.6953,2,34.6955,2,34.8645,2,34.8638,2,178.24,2,177.9,2,99.877,0.0049,2,0.002,2,-999.0,9,0.012,1,11.694,1,0.0,2,85.93,2,0.09,32.43,2,0.06,0.0,2,0.0,2.221,2,0.004,0.06,2,0.02,0.205,2,0.105,2,0.002,2,0.0,2,-999.0,5,2259.3,2,2349.9,2,-999,-999,9,-999.0,9,-999.0,9,-999,1,-999,-999,1,-999,-999,9,-999,9,-999.0,9,-999.0,9,-999.0,9
49NZ20170208,P17E,26,1,16, X12J16,2,20170222,2307,-53.0122,-126.0008,4229,2472.4,2,2.0627,2,2.06266,2,34.717,2,34.7168,2,34.8863,2,34.885,2,183.01,2,182.53,2,99.881,0.0047,2,0.002,2,-999.0,9,0.012,1,11.724,1,0.0,2,89.49,2,0.1,31.84,2,0.06,0.0,2,0.0,2.19,2,0.004,0.05,2,0.02,0.151,2,0.076,2,0.0,2,0.0,2,33.8,3,2258.9,6,2354.1,2,-999,-999,9,-999.0,9,-999.0,9,-999,1,-999,-999,1,-999,-999,9,-999,9,-999.0,9,-999.0,9,-999.0,9
49NZ20170208,P17E,26,1,15, X12J15,2,20170222,2307,-53.0122,-126.0008,4229,2673.0,2,1.8657,2,1.86563,2,34.7227,2,34.7222,2,34.8935,2,34.8935,2,185.24,2,184.88,2,99.881,0.0047,2,0.002,2,-999.0,9,0.012,1,12.058,1,0.0,2,97.05,2,0.1,31.84,2,0.06,0.0,2,0.0,2.2,2,0.004,0.01,2,0.02,0.105,2,0.052,2,0.0,2,0.0,2,33.0,3,2262.7,2,2360.2,2,-999,-999,9,-999.0,9,-999.0,9,-999,1,-999,-999,1,-999,-999,9,-999,9,-999.0,9,-999.0,9,-999.0,9
49NZ20170208,P17E,26,1,14, X12J14,2,20170222,2307,-53.0122,-126.0008,4229,2872.2,2,1.68,2,1.68024,2,34.7218,2,34.7216,2,34.8929,2,34.892,2,187.45,2,187.03,2,99.89,0.0044,2,0.002,2,-999.0,9,0.012,1,11.92,1,0.0,2,103.52,2,0.11,32.11,2,0.06,0.0,2,0.0,2.211,2,0.004,0.02,2,0.02,0.072,2,0.036,2,0.0,2,0.0,2,32.4,3,2266.6,2,2364.9,2,-999,-999,9,-999.0,9,-999.0,9,-999,1,-999,-999,1,-999,-999,9,-999,9,-999.0,9,-999.0,9,-999.0,9
49NZ20170208,P17E,26,1,13, X12113,2,20170222,2307,-53.0122,-126.0008,4229,3079.8,2,1.5137,2,1.51381,2,34.7183,2,34.7178,2,34.8883,2,34.8916,2,189.06,2,188.57,2,99.89,0.0044,2,0.002,2,-999.0,9,0.012,1,11.915,1,0.0,2,109.58,2,0.11,32.43,2,0.06,0.0,2,0.0,2.23,2,0.004,0.01,2,0.02,0.041,2,0.022,2,0.0,2,0.0,2,-999.0,5,2269.7,2,2368.2,2,-999,-999,9,-999.0,9,-999.0,9,-999,1,-999,-999,1,-999,-999,9,-999,9,-999.0,9,-999.0,9,-999.0,9
49NZ20170208,P17E,26,1,12, X12J12,2,20170222,2307,-53.0122,-126.0008,4229,3332.4,2,1.4126,2,1.41266,2,34.716,2,34.7159,2,34.8876,2,34.8899,2,190.5,2,189.92,2,99.886,0.0046,2,0.001,2,-999.0,9,0.013,1,11.848,1,0.0,2,113.37,2,0.12,32.5,2,0.06,-0.01,2,0.0,2.244,2,0.004,0.04,2,0.02,0.027,2,0.014,2,0.0,2,0.0,2,30.6,3,2273.9,2,2373.4,6,-999,-999,9,-999.0,9,-999.0,9,-999,1,-999,-999,1,-999,-999,9,-999,9,-999.0,9,-999.0,9,-999.0,9
49NZ20170208,P17E,26,1,11, X12J11,2,20170222,2307,-53.0122,-126.0008,4229,3581.9,2,1.3763,2,1.37643,2,34.7156,2,34.7154,2,34.9001,4,34.8901,2,191.9,2,191.5,2,99.854,0.0058,2,0.001,2,-999.0,9,0.013,1,11.617,1,0.0,2,115.01,2,0.12,32.47,2,0.06,0.0,2,0.0,2.245,2,0.004,0.03,2,0.02,0.026,2,0.011,2,0.0,2,0.0,2,30.7,3,2273.2,2,2375.4,2,-999,-999,9,-999.0,9,-999.0,9,-999,1,-999,-999,1,-999,-999,9,-999,9,-999.0,9,-999.0,9,-999.0,9
49NZ20170208,P17E,26,1,10, X12J10,2,20170222,2307,-53.0122,-126.0008,4229,3831.4,2,1.3751,2,1.37512,2,34.7154,2,34.7153,2,34.8883,2,34.8874,2,192.43,2,191.92,2,99.826,0.0069,2,0.001,2,-999.0,9,0.015,1,11.947,1,0.0,2,115.59,2,0.12,32.55,2,0.06,0.0,2,0.0,2.245,2,0.004,0.0,2,0.02,0.023,2,0.012,2,0.0,2,0.0,2,30.7,3,2274.3,2,2375.0,2,-999,-999,9,-999.0,9,-999.0,9,-999,1,-999,-999,1,-999,-999,9,-999,9,-999.0,9,-999.0,9,-999.0,9
49NZ20170208,P17E,26,1,9, X12J36,2,20170222,2307,-53.0122,-126.0008,4229,4083.4,2,1.3892,2,1.38915,2,34.7149,2,34.7159,2,34.8878,2,34.8842,2,192.62,2,192.2,2,99.829,0.0069,2,0.001,2,-999.0,9,0.017,1,11.665,1,0.0,2,115.93,2,0.12,32.5,2,0.06,0.0,2,0.0,2.246,2,0.004,0.01,2,0.02,0.021,2,0.009,2,0.0,2,0.0,2,30.3,3,2280.4,3,2377.4,2,-999,-999,9,-999.0,9,-999.0,9,-999,1,-999,-999,1,-999,-999,9,-999,9,-999.0,9,-999.0,9,-999.0,9
49NZ20170208,P17E,26,1,1, X12J01,2,20170222,2307,-53.0122,-126.0008,4229,4341.0,2,1.4018,2,1.4019,2,34.7146,2,34.7151,2,34.8982,4,34.8828,2,193.12,2,192.71,2,99.78,0.0088,2,0.001,2,-999.0,9,0.027,1,11.936,1,0.0,2,116.32,2,0.12,32.49,2,0.18,0.0,2,0.0,2.247,2,0.004,0.01,2,0.02,0.019,2,0.011,2,0.0,2,0.0,2,31.0,3,2274.5,2,2376.4,2,-999,-999,9,-999.0,9,-999.0,9,-999,1,-999,-999,1,-999,-999,9,-999,9,-999.0,9,-999.0,9,-999.0,9