BOTTLE,20240216CCHSIOADS
EXPOCODE,SECT_ID,STNNBR,CASTNO,SAMPNO,BTLNBR,BTLNBR_FLAG_W,DATE,TIME,LATITUDE,LONGITUDE,DEPTH,CTDPRS,CTDPRS_FLAG_W,CTDTMP,CTDTMP_FLAG_W,REFTMP,REFTMP_FLAG_W,CTDSAL,CTDSAL_FLAG_W,SALNTY,SALNTY_FLAG_W,DNSSAL,DNSSAL_FLAG_W,CTDSVLSAL,CTDSVLSAL_FLAG_W,CTDOXY,CTDOXY_FLAG_W,OXYGEN,OXYGEN_FLAG_W,CTDXMISS,CTDBEAMCP,CTDXMISS_FLAG_W,CTDFLUOR,CTDFLUOR_FLAG_W,CHLORA,CHLORA_FLAG_W,CTDTURB,CTDTURB_FLAG_W,CTDCDOM,CTDCDOM_FLAG_W,PAR,PAR_FLAG_W,SILCAT,SILCAT_FLAG_W,SILUNC,NITRAT,NITRAT_FLAG_W,NRAUNC,NITRIT,NITRIT_FLAG_W,NRIUNC,PHSPHT,PHSPHT_FLAG_W,PHPUNC,NH4,NH4_FLAG_W,NH4UNC,CFC-11,CFC-11_FLAG_W,CFC-12,CFC-12_FLAG_W,CFC113,CFC113_FLAG_W,SF6,SF6_FLAG_W,N2O,N2O_FLAG_W,TCARBN,TCARBN_FLAG_W,ALKALI,ALKALI_FLAG_W,PH_TOT,PH_TMP,PH_TOT_FLAG_W,CALCIUM,CALCIUM_FLAG_W,DOC,DOC_FLAG_W,DELC13,DELC13_FLAG_W,C13ERR,DELC14,DELC14_FLAG_W,C14ERR,POC,POC_FLAG_W,HPLC,HPLC_FLAG_W,CDOM325,CDOM325_FLAG_W,CDOM370,CDOM370_FLAG_W,CDOM443,CDOM443_FLAG_W
,,,,,,,,,,,METERS,DBAR,,ITS-90,,ITS-90,,PSS-78,,PSS-78,,G/KG,,G/KG,,UMOL/KG,,UMOL/KG,,%TRANS,/METER,,MG/M^3,,UG/L,,FTU,,QSU,,UMOL/M^2/SEC,,UMOL/KG,,UMOL/KG,UMOL/KG,,UMOL/KG,UMOL/KG,,UMOL/KG,UMOL/KG,,UMOL/KG,UMOL/KG,,UMOL/KG,PMOL/KG,,PMOL/KG,,PMOL/KG,,FMOL/KG,,NMOL/KG,,UMOL/KG,,UMOL/KG,,,DEG C,,MMOL/KG,,UMOL/KG,,/MILLE,,/MILLE,/MILLE,,/MILLE,UG/KG,,,,/METER,,/METER,,/METER,
49NZ20170208,P17E,5,1,0,    BUC,2,20170217,1234,-64.3468,-126.0307,4891,0.0,2,-999.0,9,-999.0,9,-999.0,9,33.787,2,-999.0,9,-999.0,9,-999.0,9,-999.0,9,-999.0,-999.0,9,-999.0,9,-999.0,9,-999.0,9,-999.0,9,-999.0,9,8.03,2,0.03,23.66,2,0.05,0.24,2,0.0,1.604,2,0.003,0.6,2,0.02,-999.0,9,-999.0,9,-999.0,9,-999.0,9,-999.0,9,-999.0,9,-999.0,9,-999,-999,9,-999.0,9,-999.0,9,-999,9,-999,-999,9,-999,-999,9,-999,9,-999.0,9,-999.0,9,-999.0,9
49NZ20170208,P17E,5,1,36, X12J36,2,20170217,1234,-64.3468,-126.0307,4891,10.6,2,2.5646,2,2.56474,2,33.7939,2,33.795,2,-999.0,9,33.9652,2,325.69,2,325.99,2,95.815,0.171,2,0.254,2,-999.0,9,0.123,1,7.699,1,15.123,2,7.99,2,0.03,23.68,2,0.05,0.24,2,0.0,1.596,2,0.003,0.6,2,0.02,5.246,6,2.895,6,0.478,6,-999.0,9,-999.0,9,-999.0,9,-999.0,9,-999,-999,9,-999.0,9,-999.0,9,-999,9,-999,-999,9,-999,-999,9,-999,9,-999.0,9,-999.0,9,-999.0,9
49NZ20170208,P17E,5,1,35, X12J35,2,20170217,1234,-64.3468,-126.0307,4891,50.6,2,2.3861,2,2.38612,2,33.8078,2,33.805,2,-999.0,9,34.039,2,327.59,2,327.99,2,95.67,0.1771,2,0.336,2,-999.0,9,0.139,1,8.142,1,1.021,2,9.1,2,0.03,23.88,2,0.05,0.23,2,0.0,1.632,2,0.003,0.64,2,0.02,5.284,2,2.914,2,0.488,2,-999.0,9,-999.0,9,-999.0,9,-999.0,9,-999,-999,9,-999.0,9,-999.0,9,-999,9,-999,-999,9,-999,-999,9,-999,9,-999.0,9,-999.0,9,-999.0,9
49NZ20170208,P17E,5,1,34, X12J34,2,20170217,1234,-64.3468,-126.0307,4891,100.2,2,0.6376,2,0.63739,2,34.048,2,34.0487,2,-999.0,9,34.2194,2,318.68,2,319.22,2,98.703,0.0522,2,0.068,2,-999.0,9,0.041,1,8.792,1,0.0,2,34.58,2,0.05,28.97,2,0.05,0.33,2,0.0,2.06,2,0.004,0.78,2,0.02,5.28,2,2.899,2,0.481,2,-999.0,9,-999.0,9,-999.0,9,-999.0,9,-999,-999,9,-999.0,9,-999.0,9,-999,9,-999,-999,9,-999,-999,9,-999,9,-999.0,9,-999.0,9,-999.0,9
49NZ20170208,P17E,5,1,33, X12J33,2,20170217,1234,-64.3468,-126.0307,4891,150.9,2,0.5798,2,0.58199,2,34.0955,2,34.0957,2,-999.0,9,34.2734,2,307.95,2,307.98,2,99.19,0.0325,2,0.013,2,-999.0,9,0.032,1,8.639,1,0.0,2,40.75,2,0.06,30.63,2,0.06,0.15,2,0.0,2.095,2,0.004,0.07,2,0.02,5.022,2,2.754,2,0.455,2,-999.0,9,-999.0,9,-999.0,9,-999.0,9,-999,-999,9,-999.0,9,-999.0,9,-999,9,-999,-999,9,-999,-999,9,-999,9,-999.0,9,-999.0,9,-999.0,9
49NZ20170208,P17E,5,1,32, X12J32,2,20170217,1234,-64.3468,-126.0307,4891,200.0,2,1.3902,2,1.38904,2,34.2281,2,34.2276,2,-999.0,9,34.3294,2,251.85,2,252.57,2,99.353,0.026,2,0.004,2,-999.0,9,0.028,1,9.892,1,0.0,2,49.83,2,0.06,32.86,2,0.06,0.01,2,0.0,2.23,2,0.004,0.05,2,0.02,3.561,2,1.93,2,0.306,2,-999.0,9,-999.0,9,-999.0,9,-999.0,9,-999,-999,9,-999.0,9,-999.0,9,-999,9,-999,-999,9,-999,-999,9,-999,9,-999.0,9,-999.0,9,-999.0,9
49NZ20170208,P17E,5,1,31, X12J31,2,20170217,1234,-64.3468,-126.0307,4891,252.1,2,2.0372,2,2.03902,2,34.3474,2,34.3469,2,-999.0,9,34.5007,2,210.37,2,210.25,2,99.427,0.023,2,0.004,2,-999.0,9,0.028,1,10.5,1,0.0,2,57.7,2,0.07,34.18,2,0.06,0.01,2,0.0,2.317,2,0.004,0.05,2,0.02,2.333,6,1.251,6,0.176,6,-999.0,9,-999.0,9,-999.0,9,-999.0,9,-999,-999,9,-999.0,9,-999.0,9,-999,9,-999,-999,9,-999,-999,9,-999,9,-999.0,9,-999.0,9,-999.0,9
49NZ20170208,P17E,5,1,30, X12J30,2,20170217,1234,-64.3468,-126.0307,4891,333.5,2,2.1188,2,2.11767,2,34.4307,2,34.4281,2,-999.0,9,34.6033,2,191.97,2,192.35,2,99.416,0.0234,2,0.004,2,-999.0,9,0.026,1,10.687,1,0.0,2,65.16,2,0.08,34.75,2,0.06,0.0,2,0.0,2.366,2,0.004,0.05,2,0.02,1.736,2,0.923,2,0.122,2,-999.0,9,-999.0,9,-999.0,9,-999.0,9,-999,-999,9,-999.0,9,-999.0,9,-999,9,-999,-999,9,-999,-999,9,-999,9,-999.0,9,-999.0,9,-999.0,9
49NZ20170208,P17E,5,1,29, X12J29,2,20170217,1234,-64.3468,-126.0307,4891,431.4,2,2.1314,2,2.13131,2,34.526,2,34.5247,2,-999.0,9,34.6934,2,179.58,2,180.2,2,99.505,0.0199,2,0.003,2,-999.0,9,0.022,1,11.098,1,0.0,2,72.39,2,0.08,34.62,2,0.06,0.01,2,0.0,2.364,2,0.004,0.05,2,0.02,1.13,2,0.601,2,0.07,2,-999.0,9,-999.0,9,-999.0,9,-999.0,9,-999,-999,9,-999.0,9,-999.0,9,-999,9,-999,-999,9,-999,-999,9,-999,9,-999.0,9,-999.0,9,-999.0,9
49NZ20170208,P17E,5,1,28, X12J28,2,20170217,1234,-64.3468,-126.0307,4891,533.3,2,2.2286,2,2.22846,2,34.5958,2,34.5957,2,-999.0,9,34.7648,2,173.6,2,173.6,2,99.608,0.0157,2,0.003,2,-999.0,9,0.02,1,10.874,1,0.0,2,76.77,2,0.09,34.06,2,0.06,0.0,2,0.0,2.328,2,0.004,0.03,2,0.02,0.684,2,0.353,2,0.04,2,-999.0,9,-999.0,9,-999.0,9,-999.0,9,-999,-999,9,-999.0,9,-999.0,9,-999,9,-999,-999,9,-999,-999,9,-999,9,-999.0,9,-999.0,9,-999.0,9
49NZ20170208,P17E,5,1,27, X12J27,2,20170217,1234,-64.3468,-126.0307,4891,631.2,2,2.1943,2,2.19406,2,34.6365,2,34.6365,2,-999.0,9,34.8067,2,173.91,2,174.04,2,99.663,0.0135,2,0.003,2,-999.0,9,0.023,1,11.329,1,0.0,2,79.27,2,0.09,33.39,2,0.06,0.0,2,0.0,2.277,2,0.004,0.04,2,0.02,0.501,2,0.258,2,0.016,2,-999.0,9,-999.0,9,-999.0,9,-999.0,9,-999,-999,9,-999.0,9,-999.0,9,-999,9,-999,-999,9,-999,-999,9,-999,9,-999.0,9,-999.0,9,-999.0,9
49NZ20170208,P17E,5,1,26, X12J26,2,20170217,1234,-64.3468,-126.0307,4891,734.2,2,2.132,2,2.13184,2,34.6663,2,34.6659,2,-999.0,9,34.8386,2,175.83,2,175.83,2,99.691,0.0124,2,0.003,2,-999.0,9,0.023,1,11.476,1,0.0,2,81.46,2,0.09,32.96,2,0.06,0.0,2,0.0,2.248,2,0.004,0.03,2,0.02,0.4,2,0.203,2,0.017,2,-999.0,9,-999.0,9,-999.0,9,-999.0,9,-999,-999,9,-999.0,9,-999.0,9,-999,9,-999,-999,9,-999,-999,9,-999,9,-999.0,9,-999.0,9,-999.0,9
49NZ20170208,P17E,5,1,25, X12J25,2,20170217,1234,-64.3468,-126.0307,4891,831.6,2,2.0723,2,2.07251,2,34.6924,2,34.6928,2,-999.0,9,34.8619,2,178.68,2,178.83,2,99.748,0.0101,2,0.002,2,-999.0,9,0.014,1,11.566,1,0.0,2,83.62,2,0.09,32.41,2,0.06,0.0,2,0.0,2.216,2,0.004,0.05,2,0.02,0.304,2,0.154,2,0.012,2,-999.0,9,-999.0,9,-999.0,9,-999.0,9,-999,-999,9,-999.0,9,-999.0,9,-999,9,-999,-999,9,-999,-999,9,-999,9,-999.0,9,-999.0,9,-999.0,9
49NZ20170208,P17E,5,1,24, X12J24,2,20170217,1234,-64.3468,-126.0307,4891,931.0,2,1.9992,2,1.99908,2,34.7067,2,34.7076,2,-999.0,9,34.8784,2,181.39,2,181.56,2,99.739,0.0104,2,0.002,2,-999.0,9,0.015,1,11.479,1,0.0,2,85.35,2,0.09,32.04,2,0.06,0.0,2,0.0,2.192,2,0.004,0.04,2,0.02,0.277,6,0.139,6,0.012,6,-999.0,9,-999.0,9,-999.0,9,-999.0,9,-999,-999,9,-999.0,9,-999.0,9,-999,9,-999,-999,9,-999,-999,9,-999,9,-999.0,9,-999.0,9,-999.0,9
49NZ20170208,P17E,5,1,23, X12J23,2,20170217,1234,-64.3468,-126.0307,4891,1071.5,2,1.8772,2,1.87726,2,34.721,2,34.7216,2,-999.0,9,34.8907,2,184.52,2,184.67,2,99.813,0.0075,2,0.003,2,-999.0,9,0.012,1,11.571,1,0.0,2,88.61,2,0.1,31.84,2,0.06,0.0,2,0.0,2.171,2,0.004,0.04,2,0.02,0.241,2,0.118,2,0.002,2,-999.0,9,-999.0,9,-999.0,9,-999.0,9,-999,-999,9,-999.0,9,-999.0,9,-999,9,-999,-999,9,-999,-999,9,-999,9,-999.0,9,-999.0,9,-999.0,9
49NZ20170208,P17E,5,1,22, X12J22,2,20170217,1234,-64.3468,-126.0307,4891,1269.5,2,1.6995,2,1.69948,2,34.7308,2,34.731,2,-999.0,9,34.9012,2,189.05,2,189.09,2,99.809,0.0077,2,0.002,2,-999.0,9,0.012,1,11.736,1,0.0,2,93.52,2,0.1,31.61,2,0.06,0.0,2,0.0,2.154,2,0.004,0.04,2,0.02,0.204,2,0.098,2,0.001,2,-999.0,9,-999.0,9,-999.0,9,-999.0,9,-999,-999,9,-999.0,9,-999.0,9,-999,9,-999,-999,9,-999,-999,9,-999,9,-999.0,9,-999.0,9,-999.0,9
49NZ20170208,P17E,5,1,21, X12J21,2,20170217,1234,-64.3468,-126.0307,4891,1470.6,2,1.5166,2,1.5168,2,34.7315,2,34.7319,2,-999.0,9,34.9024,2,191.88,2,192.06,2,99.845,0.0062,2,0.002,2,-999.0,9,0.013,1,11.599,1,0.0,2,99.18,2,0.1,31.65,2,0.06,0.0,2,0.0,2.16,2,0.004,0.04,2,0.02,0.171,2,0.082,2,0.0,2,-999.0,9,-999.0,9,-999.0,9,-999.0,9,-999,-999,9,-999.0,9,-999.0,9,-999,9,-999,-999,9,-999,-999,9,-999,9,-999.0,9,-999.0,9,-999.0,9
49NZ20170208,P17E,5,1,20, X12J20,2,20170217,1234,-64.3468,-126.0307,4891,1669.3,2,1.3627,2,1.36277,2,34.7285,2,34.7294,2,-999.0,9,34.8996,2,193.94,2,194.1,2,99.872,0.0051,2,0.002,2,-999.0,9,0.012,1,11.926,1,0.0,2,104.34,2,0.11,31.82,2,0.06,0.0,2,0.0,2.176,2,0.004,0.04,2,0.02,0.146,2,0.073,2,0.0,2,-999.0,9,-999.0,9,-999.0,9,-999.0,9,-999,-999,9,-999.0,9,-999.0,9,-999,9,-999,-999,9,-999,-999,9,-999,9,-999.0,9,-999.0,9,-999.0,9
49NZ20170208,P17E,5,1,19, X12J19,2,20170217,1234,-64.3468,-126.0307,4891,1870.2,2,1.2233,2,1.22344,2,34.7243,2,34.725,2,-999.0,9,34.8967,2,196.33,2,196.17,2,99.891,0.0044,2,0.002,2,-999.0,9,0.011,1,11.682,1,0.0,2,109.07,2,0.11,31.98,2,0.06,0.0,2,0.0,2.186,2,0.004,0.04,2,0.02,0.137,2,0.067,2,0.002,2,-999.0,9,-999.0,9,-999.0,9,-999.0,9,-999,-999,9,-999.0,9,-999.0,9,-999,9,-999,-999,9,-999,-999,9,-999,9,-999.0,9,-999.0,9,-999.0,9
49NZ20170208,P17E,5,1,18, X12J18,2,20170217,1234,-64.3468,-126.0307,4891,2073.3,2,1.1083,2,1.1082,2,34.7203,2,34.7209,2,-999.0,9,34.8945,2,198.29,2,198.16,2,99.889,0.0044,2,0.002,2,-999.0,9,0.01,1,11.885,1,0.0,2,112.98,2,0.12,32.03,2,0.06,0.0,2,0.0,2.193,2,0.004,0.03,2,0.02,0.148,2,0.07,2,0.001,2,-999.0,9,-999.0,9,-999.0,9,-999.0,9,-999,-999,9,-999.0,9,-999.0,9,-999,9,-999,-999,9,-999,-999,9,-999,9,-999.0,9,-999.0,9,-999.0,9
49NZ20170208,P17E,5,1,17, X12J17,2,20170217,1234,-64.3468,-126.0307,4891,2271.0,2,1.0117,2,1.01161,2,34.7166,2,34.7173,2,-999.0,9,34.8926,2,200.2,2,200.11,2,99.895,0.0042,2,0.002,2,-999.0,9,0.011,1,11.589,1,0.0,2,116.54,2,0.12,32.1,2,0.06,0.0,2,0.0,2.209,2,0.004,0.04,2,0.02,0.149,2,0.072,2,0.0,2,-999.0,9,-999.0,9,-999.0,9,-999.0,9,-999,-999,9,-999.0,9,-999.0,9,-999,9,-999,-999,9,-999,-999,9,-999,9,-999.0,9,-999.0,9,-999.0,9
49NZ20170208,P17E,5,1,16, X12J16,2,20170217,1234,-64.3468,-126.0307,4891,2472.3,2,0.9235,2,0.9236,2,34.7131,2,34.7135,2,-999.0,9,34.89,2,201.91,2,201.65,2,99.897,0.0041,2,0.002,2,-999.0,9,0.01,1,11.904,1,0.0,2,119.43,2,0.12,32.25,2,0.06,0.0,2,0.0,2.206,2,0.004,0.04,2,0.02,0.16,2,0.08,2,0.0,2,-999.0,9,-999.0,9,-999.0,9,-999.0,9,-999,-999,9,-999.0,9,-999.0,9,-999,9,-999,-999,9,-999,-999,9,-999,9,-999.0,9,-999.0,9,-999.0,9
49NZ20170208,P17E,5,1,15, X12J15,2,20170217,1234,-64.3468,-126.0307,4891,2671.1,2,0.8512,2,0.85103,2,34.7099,2,34.7103,2,-999.0,9,34.8853,2,203.2,2,203.03,2,99.91,0.0036,2,0.002,2,-999.0,9,0.01,1,11.721,1,0.0,2,122.61,2,0.12,32.37,2,0.06,0.0,2,0.0,2.217,2,0.004,0.03,2,0.02,0.178,2,0.086,2,0.001,2,-999.0,9,-999.0,9,-999.0,9,-999.0,9,-999,-999,9,-999.0,9,-999.0,9,-999,9,-999,-999,9,-999,-999,9,-999,9,-999.0,9,-999.0,9,-999.0,9
49NZ20170208,P17E,5,1,14, X12J14,2,20170217,1234,-64.3468,-126.0307,4891,2872.9,2,0.7863,2,0.78635,2,34.7075,2,34.7078,2,-999.0,9,34.886,2,204.47,2,204.4,2,99.912,0.0035,2,0.002,2,-999.0,9,0.011,1,11.841,1,0.0,2,125.06,2,0.13,32.5,2,0.06,0.0,2,0.0,2.221,2,0.004,0.02,2,0.02,0.198,2,0.096,2,0.004,2,-999.0,9,-999.0,9,-999.0,9,-999.0,9,-999,-999,9,-999.0,9,-999.0,9,-999,9,-999,-999,9,-999,-999,9,-999,9,-999.0,9,-999.0,9,-999.0,9
49NZ20170208,P17E,5,1,13, X12113,2,20170217,1234,-64.3468,-126.0307,4891,3082.8,2,0.7201,2,0.72003,2,34.7054,2,34.7056,2,-999.0,9,34.8821,2,205.87,2,205.79,2,99.912,0.0035,2,0.002,2,-999.0,9,0.009,1,11.654,1,0.0,2,126.86,2,0.13,32.5,2,0.06,0.0,2,0.0,2.228,2,0.004,0.03,2,0.02,0.229,2,0.112,2,0.005,2,-999.0,9,-999.0,9,-999.0,9,-999.0,9,-999,-999,9,-999.0,9,-999.0,9,-999,9,-999,-999,9,-999,-999,9,-999,9,-999.0,9,-999.0,9,-999.0,9
49NZ20170208,P17E,5,1,12, X12J12,2,20170217,1234,-64.3468,-126.0307,4891,3332.0,2,0.6155,2,0.61558,2,34.7027,2,34.7027,2,-999.0,9,34.882,2,208.09,2,207.87,2,99.912,0.0035,2,0.002,2,-999.0,9,0.009,1,11.879,1,0.0,2,128.44,2,0.13,32.58,2,0.06,0.0,2,0.0,2.234,2,0.004,0.03,2,0.02,0.283,2,0.139,2,0.004,2,-999.0,9,-999.0,9,-999.0,9,-999.0,9,-999,-999,9,-999.0,9,-999.0,9,-999,9,-999,-999,9,-999,-999,9,-999,9,-999.0,9,-999.0,9,-999.0,9
49NZ20170208,P17E,5,1,11, X12J11,2,20170217,1234,-64.3468,-126.0307,4891,3581.9,2,0.5234,2,0.52352,2,34.7008,2,34.7006,2,-999.0,9,34.878,2,210.29,2,210.02,2,99.919,0.0033,2,0.001,2,-999.0,9,0.009,1,12.037,1,0.0,2,130.36,2,0.13,32.66,2,0.06,0.0,2,0.0,2.24,2,0.004,0.03,2,0.02,0.33,2,0.162,2,0.005,2,-999.0,9,-999.0,9,-999.0,9,-999.0,9,-999,-999,9,-999.0,9,-999.0,9,-999,9,-999,-999,9,-999,-999,9,-999,9,-999.0,9,-999.0,9,-999.0,9
49NZ20170208,P17E,5,1,10, X12J10,2,20170217,1234,-64.3468,-126.0307,4891,3831.0,2,0.4607,2,0.46083,2,34.6998,2,34.7,2,-999.0,9,34.8759,2,211.93,2,211.62,2,99.919,0.0033,2,0.001,2,-999.0,9,0.01,1,12.262,4,0.0,2,132.0,2,0.13,32.67,2,0.06,0.0,2,0.0,2.247,2,0.004,0.04,2,0.02,0.365,2,0.178,2,0.002,2,-999.0,9,-999.0,9,-999.0,9,-999.0,9,-999,-999,9,-999.0,9,-999.0,9,-999,9,-999,-999,9,-999,-999,9,-999,9,-999.0,9,-999.0,9,-999.0,9
49NZ20170208,P17E,5,1,7, X12J07,2,20170217,1234,-64.3468,-126.0307,4891,3831.3,2,0.4605,2,0.46037,2,34.6998,2,34.7,2,-999.0,9,34.8761,2,212.0,2,211.62,2,99.919,0.0033,2,0.002,2,-999.0,9,0.01,1,11.865,4,0.0,2,-999.0,9,-999.0,-999.0,9,-999.0,-999.0,9,-999.0,-999.0,9,-999.0,-999.0,9,-999.0,-999.0,9,-999.0,9,-999.0,9,-999.0,9,-999.0,9,-999.0,9,-999.0,9,-999,-999,9,-999.0,9,-999.0,9,-999,9,-999,-999,9,-999,-999,9,-999,9,-999.0,9,-999.0,9,-999.0,9
49NZ20170208,P17E,5,1,9, X12J09,2,20170217,1234,-64.3468,-126.0307,4891,3831.4,2,0.4609,2,0.46086,2,34.6998,2,34.7,2,-999.0,9,34.8762,2,212.0,2,211.31,2,99.914,0.0034,2,0.001,2,-999.0,9,0.009,1,12.221,4,0.0,2,-999.0,9,-999.0,-999.0,9,-999.0,-999.0,9,-999.0,-999.0,9,-999.0,-999.0,9,-999.0,-999.0,9,-999.0,9,-999.0,9,-999.0,9,-999.0,9,-999.0,9,-999.0,9,-999,-999,9,-999.0,9,-999.0,9,-999,9,-999,-999,9,-999,-999,9,-999,9,-999.0,9,-999.0,9,-999.0,9
49NZ20170208,P17E,5,1,8, X12J08,2,20170217,1234,-64.3468,-126.0307,4891,3831.5,2,0.4603,2,0.46045,2,34.6998,2,34.6999,2,-999.0,9,34.8762,2,212.04,2,211.56,2,99.919,0.0033,2,0.002,2,-999.0,9,0.009,1,11.942,4,0.0,2,-999.0,9,-999.0,-999.0,9,-999.0,-999.0,9,-999.0,-999.0,9,-999.0,-999.0,9,-999.0,-999.0,9,-999.0,9,-999.0,9,-999.0,9,-999.0,9,-999.0,9,-999.0,9,-999,-999,9,-999.0,9,-999.0,9,-999,9,-999,-999,9,-999,-999,9,-999,9,-999.0,9,-999.0,9,-999.0,9
49NZ20170208,P17E,5,1,6, X12J06,2,20170217,1234,-64.3468,-126.0307,4891,3832.3,2,0.4612,2,0.46129,2,34.6997,2,34.7,2,-999.0,9,34.8764,2,212.0,2,211.67,2,99.923,0.0031,2,0.002,2,-999.0,9,0.008,1,12.113,4,0.0,2,-999.0,9,-999.0,-999.0,9,-999.0,-999.0,9,-999.0,-999.0,9,-999.0,-999.0,9,-999.0,-999.0,9,-999.0,9,-999.0,9,-999.0,9,-999.0,9,-999.0,9,-999.0,9,-999,-999,9,-999.0,9,-999.0,9,-999,9,-999,-999,9,-999,-999,9,-999,9,-999.0,9,-999.0,9,-999.0,9
49NZ20170208,P17E,5,1,5, X12J05,2,20170217,1234,-64.3468,-126.0307,4891,4083.0,2,0.416,2,0.41605,2,34.6985,2,34.6989,2,-999.0,9,34.8747,2,213.38,2,213.07,2,99.889,0.0044,2,0.001,2,-999.0,9,0.012,1,11.427,4,0.0,2,134.23,2,0.13,32.79,2,0.06,0.0,2,0.0,2.245,2,0.004,0.03,2,0.02,0.442,2,0.216,2,0.008,2,-999.0,9,-999.0,9,-999.0,9,-999.0,9,-999,-999,9,-999.0,9,-999.0,9,-999,9,-999,-999,9,-999,-999,9,-999,9,-999.0,9,-999.0,9,-999.0,9
49NZ20170208,P17E,5,1,4, X12J04,2,20170217,1234,-64.3468,-126.0307,4891,4331.7,2,0.3943,2,0.39422,2,34.6981,2,34.6982,2,-999.0,9,34.8724,2,214.3,2,213.96,2,99.87,0.0052,2,0.001,2,-999.0,9,0.012,1,10.71,4,0.0,2,136.0,2,0.13,32.81,2,0.06,0.0,2,0.0,2.246,2,0.004,0.03,2,0.02,0.467,2,0.228,2,0.013,2,-999.0,9,-999.0,9,-999.0,9,-999.0,9,-999,-999,9,-999.0,9,-999.0,9,-999,9,-999,-999,9,-999,-999,9,-999,9,-999.0,9,-999.0,9,-999.0,9
49NZ20170208,P17E,5,1,3, X12J03,2,20170217,1234,-64.3468,-126.0307,4891,4582.9,2,0.396,2,0.396,2,34.6979,2,34.6976,2,-999.0,9,34.8722,2,214.67,2,214.31,2,99.783,0.0087,2,0.001,2,-999.0,9,0.012,1,6.417,4,0.0,2,137.23,2,0.14,32.93,2,0.06,0.0,2,0.0,2.25,2,0.004,0.02,2,0.02,0.481,2,0.233,2,0.016,2,-999.0,9,-999.0,9,-999.0,9,-999.0,9,-999,-999,9,-999.0,9,-999.0,9,-999,9,-999,-999,9,-999,-999,9,-999,9,-999.0,9,-999.0,9,-999.0,9
49NZ20170208,P17E,5,1,2, X12J02,2,20170217,1234,-64.3468,-126.0307,4891,4832.8,2,0.4031,2,0.40311,2,34.6973,2,34.6973,2,-999.0,9,34.871,2,215.09,2,214.89,2,99.76,0.0096,2,0.002,2,-999.0,9,0.012,1,1.444,4,0.0,2,137.63,2,0.14,32.9,2,0.06,0.0,2,0.0,2.249,2,0.004,0.01,2,0.02,0.513,2,0.249,2,0.017,2,-999.0,9,-999.0,9,-999.0,9,-999.0,9,-999,-999,9,-999.0,9,-999.0,9,-999,9,-999,-999,9,-999,-999,9,-999,9,-999.0,9,-999.0,9,-999.0,9
49NZ20170208,P17E,5,1,1, X12J01,2,20170217,1234,-64.3468,-126.0307,4891,4984.6,2,0.3986,2,0.39853,2,34.6965,2,34.6971,2,-999.0,9,34.8728,2,215.5,2,215.24,2,99.703,0.0119,2,0.002,2,-999.0,9,0.023,1,2.2,4,0.0,2,138.73,2,0.14,32.86,2,0.06,0.0,2,0.0,2.255,2,0.004,0.02,2,0.02,0.55,2,0.266,2,0.02,2,-999.0,9,-999.0,9,-999.0,9,-999.0,9,-999,-999,9,-999.0,9,-999.0,9,-999,9,-999,-999,9,-999,-999,9,-999,9,-999.0,9,-999.0,9,-999.0,9