BOTTLE,20240216CCHSIOADS
EXPOCODE,SECT_ID,STNNBR,CASTNO,SAMPNO,BTLNBR,BTLNBR_FLAG_W,DATE,TIME,LATITUDE,LONGITUDE,DEPTH,CTDPRS,CTDPRS_FLAG_W,CTDTMP,CTDTMP_FLAG_W,REFTMP,REFTMP_FLAG_W,CTDSAL,CTDSAL_FLAG_W,SALNTY,SALNTY_FLAG_W,DNSSAL,DNSSAL_FLAG_W,CTDSVLSAL,CTDSVLSAL_FLAG_W,CTDOXY,CTDOXY_FLAG_W,OXYGEN,OXYGEN_FLAG_W,CTDXMISS,CTDBEAMCP,CTDXMISS_FLAG_W,CTDFLUOR,CTDFLUOR_FLAG_W,CHLORA,CHLORA_FLAG_W,CTDTURB,CTDTURB_FLAG_W,CTDCDOM,CTDCDOM_FLAG_W,PAR,PAR_FLAG_W,SILCAT,SILCAT_FLAG_W,SILUNC,NITRAT,NITRAT_FLAG_W,NRAUNC,NITRIT,NITRIT_FLAG_W,NRIUNC,PHSPHT,PHSPHT_FLAG_W,PHPUNC,NH4,NH4_FLAG_W,NH4UNC,CFC-11,CFC-11_FLAG_W,CFC-12,CFC-12_FLAG_W,CFC113,CFC113_FLAG_W,SF6,SF6_FLAG_W,N2O,N2O_FLAG_W,TCARBN,TCARBN_FLAG_W,ALKALI,ALKALI_FLAG_W,PH_TOT,PH_TMP,PH_TOT_FLAG_W,CALCIUM,CALCIUM_FLAG_W,DOC,DOC_FLAG_W,DELC13,DELC13_FLAG_W,C13ERR,DELC14,DELC14_FLAG_W,C14ERR,POC,POC_FLAG_W,HPLC,HPLC_FLAG_W,CDOM325,CDOM325_FLAG_W,CDOM370,CDOM370_FLAG_W,CDOM443,CDOM443_FLAG_W
,,,,,,,,,,,METERS,DBAR,,ITS-90,,ITS-90,,PSS-78,,PSS-78,,G/KG,,G/KG,,UMOL/KG,,UMOL/KG,,%TRANS,/METER,,MG/M^3,,UG/L,,FTU,,QSU,,UMOL/M^2/SEC,,UMOL/KG,,UMOL/KG,UMOL/KG,,UMOL/KG,UMOL/KG,,UMOL/KG,UMOL/KG,,UMOL/KG,UMOL/KG,,UMOL/KG,PMOL/KG,,PMOL/KG,,PMOL/KG,,FMOL/KG,,NMOL/KG,,UMOL/KG,,UMOL/KG,,,DEG C,,MMOL/KG,,UMOL/KG,,/MILLE,,/MILLE,/MILLE,,/MILLE,UG/KG,,,,/METER,,/METER,,/METER,
49NZ20170208,P17E,2,1,0,    BUC,2,20170216,1524,-66.3594,-126.0628,4470,0.0,2,-999.0,9,-999.0,9,-999.0,9,33.5471,2,-999.0,9,-999.0,9,-999.0,9,-999.0,9,-999.0,-999.0,9,-999.0,9,1.55,2,-999.0,9,-999.0,9,-999.0,9,17.85,2,0.04,22.67,2,0.04,0.33,2,0.0,1.48,2,0.018,0.1,2,0.02,-999.0,9,-999.0,9,-999.0,9,-999.0,9,-999.0,9,-999.0,9,-999.0,9,-999,-999,9,-999.0,9,-999.0,9,-999,9,-999,-999,9,-999,-999,1,-999,1,-999.0,9,-999.0,9,-999.0,9
49NZ20170208,P17E,2,1,36, X12J36,2,20170216,1524,-66.3594,-126.0628,4470,11.2,2,0.9734,2,0.97349,2,33.5512,2,33.5528,2,33.7132,2,33.731,2,348.01,2,347.97,2,88.448,0.491,2,1.3,2,1.6,2,0.46,1,8.219,1,40.211,2,17.89,2,0.04,22.71,2,0.04,0.32,2,0.0,1.461,2,0.003,0.08,2,0.02,5.885,6,3.138,6,0.551,6,3.746,6,24.2,3,2129.9,2,2268.5,2,-999,-999,1,-999.0,9,-999.0,9,-999,9,-999,-999,9,-999,-999,9,-999,9,-999.0,9,-999.0,9,-999.0,9
49NZ20170208,P17E,2,1,4, X12J04,2,20170216,1524,-66.3594,-126.0628,4470,20.6,2,0.9348,2,0.93507,2,33.5638,2,-999.0,9,-999.0,9,33.7397,2,348.2,2,-999.0,9,88.501,0.4886,2,1.663,2,-999.0,9,0.429,1,8.335,1,11.048,2,-999.0,9,-999.0,-999.0,9,-999.0,-999.0,9,-999.0,-999.0,9,-999.0,-999.0,9,-999.0,-999.0,9,-999.0,9,-999.0,9,-999.0,9,-999.0,9,-999.0,9,-999.0,9,-999,-999,9,-999.0,9,-999.0,9,-999,9,-999,-999,9,-999,-999,9,-999,9,-999.0,9,-999.0,9,-999.0,9
49NZ20170208,P17E,2,1,2, X12J02,2,20170216,1524,-66.3594,-126.0628,4470,21.2,2,0.9323,2,0.93353,2,33.5644,2,33.5757,2,33.7341,2,33.7387,2,348.01,2,348.23,2,88.705,0.4794,2,1.716,2,1.57,2,0.417,1,8.301,1,9.749,2,18.76,2,0.04,22.92,2,0.05,0.32,2,0.0,1.497,2,0.003,0.1,2,0.02,-999.0,9,-999.0,9,-999.0,9,-999.0,9,-999.0,9,2133.1,2,2267.3,2,-999,-999,1,-999.0,9,-999.0,9,-999,9,-999,-999,9,-999,-999,9,-999,9,-999.0,9,-999.0,9,-999.0,9
49NZ20170208,P17E,2,1,3, X12J03,2,20170216,1524,-66.3594,-126.0628,4470,21.4,2,0.9347,2,0.94396,2,33.5639,2,-999.0,9,-999.0,9,33.7386,2,348.04,2,-999.0,9,88.596,0.4843,2,1.667,2,-999.0,9,0.446,1,8.158,1,10.138,2,-999.0,9,-999.0,-999.0,9,-999.0,-999.0,9,-999.0,-999.0,9,-999.0,-999.0,9,-999.0,-999.0,9,-999.0,9,-999.0,9,-999.0,9,-999.0,9,-999.0,9,-999.0,9,-999,-999,9,-999.0,9,-999.0,9,-999,9,-999,-999,9,-999,-999,1,-999,1,-999.0,9,-999.0,9,-999.0,9
49NZ20170208,P17E,2,1,35, X12J35,2,20170216,1524,-66.3594,-126.0628,4470,51.6,2,0.1557,2,0.15496,2,33.6447,2,33.6565,2,33.8191,2,33.7676,2,347.39,2,348.27,2,95.182,0.1975,2,0.588,2,0.69,2,0.242,1,8.024,1,0.052,2,28.44,2,0.05,24.71,2,0.05,0.29,2,0.0,1.761,2,0.003,0.77,2,0.02,6.027,2,3.251,2,0.567,2,3.716,2,25.7,3,2152.3,2,2274.3,2,-999,-999,1,-999.0,9,-999.0,9,-999,9,-999,-999,9,-999,-999,9,-999,9,-999.0,9,-999.0,9,-999.0,9
49NZ20170208,P17E,2,1,34, X12J34,2,20170216,1524,-66.3594,-126.0628,4470,99.8,2,-1.1833,2,-1.17177,2,33.9525,2,33.9547,2,34.1197,2,34.1537,2,335.57,2,334.73,2,99.142,0.0345,2,0.053,2,0.12,2,0.033,1,8.344,1,0.0,2,41.92,2,0.06,28.36,2,0.05,0.3,2,0.0,1.981,2,0.004,0.32,2,0.02,5.82,2,3.115,2,0.532,2,3.692,2,27.1,3,2183.0,2,2289.9,2,-999,-999,1,-999.0,9,-999.0,9,-999,9,-999,-999,9,-999,-999,9,-999,9,-999.0,9,-999.0,9,-999.0,9
49NZ20170208,P17E,2,1,33, X12J33,2,20170216,1524,-66.3594,-126.0628,4470,149.7,2,0.2244,2,0.22457,2,34.1838,2,34.1768,2,34.3425,2,34.3805,2,276.63,2,281.66,2,99.505,0.0198,2,0.02,2,0.05,2,0.02,1,9.055,1,0.0,2,54.21,2,0.07,31.53,2,0.06,0.01,2,0.0,2.151,2,0.004,0.02,2,0.02,4.474,2,2.321,2,0.374,2,2.671,2,31.4,3,2212.3,2,2305.4,2,-999,-999,1,-999.0,9,-999.0,9,-999,9,-999,-999,9,-999,-999,9,-999,9,-999.0,9,-999.0,9,-999.0,9
49NZ20170208,P17E,2,1,32, X12J32,2,20170216,1524,-66.3594,-126.0628,4470,199.0,2,1.7135,2,1.71306,2,34.4623,2,34.4613,2,34.6279,2,34.5998,2,197.07,2,197.01,2,99.549,0.0181,2,0.007,2,0.02,2,0.02,1,10.418,1,0.0,2,70.73,2,0.08,34.46,2,0.06,0.01,2,0.0,2.35,2,0.004,0.02,2,0.02,1.942,2,0.981,2,0.149,2,0.92,2,37.7,3,2250.9,2,2323.6,6,-999,-999,1,-999.0,9,-999.0,9,-999,9,-999,-999,9,-999,-999,9,-999,9,-999.0,9,-999.0,9,-999.0,9
49NZ20170208,P17E,2,1,31, X12J31,2,20170216,1524,-66.3594,-126.0628,4470,250.7,2,1.8021,2,1.80147,2,34.5268,2,34.5245,2,34.6906,2,34.7186,2,188.35,2,188.44,2,99.575,0.017,2,0.005,2,0.01,2,0.019,1,10.578,1,0.0,2,75.11,2,0.08,34.41,2,0.06,0.0,2,0.0,2.346,2,0.004,0.01,2,0.02,1.509,6,0.761,6,0.127,6,0.686,6,-999.0,5,2254.7,2,2327.7,2,-999,-999,1,-999.0,9,-999.0,9,-999,9,-999,-999,9,-999,-999,9,-999,9,-999.0,9,-999.0,9,-999.0,9
49NZ20170208,P17E,2,1,30, X12J30,2,20170216,1524,-66.3594,-126.0628,4470,331.9,2,2.0382,2,2.03797,2,34.6133,2,34.6129,2,34.7782,2,34.7882,2,176.75,2,176.49,2,99.714,0.0115,2,0.004,2,-999.0,9,0.018,1,10.748,1,0.0,2,79.38,2,0.09,33.85,2,0.06,0.0,2,0.0,2.308,2,0.004,0.0,2,0.02,0.818,2,0.399,2,0.051,2,0.306,2,37.5,3,2260.2,2,2332.8,2,-999,-999,1,-999.0,9,-999.0,9,-999,9,-999,-999,9,-999,-999,9,-999,9,-999.0,9,-999.0,9,-999.0,9
49NZ20170208,P17E,2,1,29, X12J29,2,20170216,1524,-66.3594,-126.0628,4470,431.5,2,1.9882,2,1.98832,2,34.658,2,34.6568,2,34.825,2,34.8294,2,177.66,2,177.34,2,99.771,0.0092,2,0.003,2,-999.0,9,0.015,1,11.07,1,0.0,2,82.13,2,0.09,33.22,2,0.06,0.0,2,0.0,2.265,2,0.004,-0.01,2,0.02,0.617,2,0.296,2,0.047,2,0.256,2,36.2,3,2259.7,2,2338.4,2,-999,-999,1,-999.0,9,-999.0,9,-999,9,-999,-999,9,-999,-999,9,-999,9,-999.0,9,-999.0,9,-999.0,9
49NZ20170208,P17E,2,1,28, X12J28,2,20170216,1524,-66.3594,-126.0628,4470,529.8,2,1.9713,2,1.97126,2,34.6901,2,34.69,2,34.8547,2,34.8621,2,179.31,2,179.17,2,99.739,0.0104,2,0.003,2,-999.0,9,0.015,1,11.069,1,0.0,2,84.47,2,0.09,32.59,2,0.06,0.0,2,0.01,2.229,2,0.004,0.02,2,0.02,0.408,2,0.203,2,0.012,2,0.123,2,34.5,3,2260.2,2,2340.8,2,-999,-999,1,-999.0,9,-999.0,9,-999,9,-999,-999,9,-999,-999,9,-999,9,-999.0,9,-999.0,9,-999.0,9
49NZ20170208,P17E,2,1,27, X12J27,2,20170216,1524,-66.3594,-126.0628,4470,628.3,2,1.9073,2,1.90705,2,34.708,2,34.7084,2,34.8757,2,34.8804,2,181.68,2,181.47,2,99.803,0.0079,2,0.003,2,-999.0,9,0.013,1,11.35,1,0.0,2,86.69,2,0.09,32.26,2,0.06,0.0,2,0.0,2.208,2,0.004,0.01,2,0.02,0.33,2,0.167,2,0.01,2,0.12,2,34.0,3,2260.3,2,2345.0,2,-999,-999,1,-999.0,9,-999.0,9,-999,9,-999,-999,9,-999,-999,9,-999,9,-999.0,9,-999.0,9,-999.0,9
49NZ20170208,P17E,2,1,26, X12J26,2,20170216,1524,-66.3594,-126.0628,4470,730.6,2,1.8283,2,1.82815,2,34.72,2,34.7202,2,34.8889,2,34.8923,2,184.47,2,184.25,2,99.843,0.0063,2,0.002,2,-999.0,9,0.013,1,11.503,1,0.0,2,89.2,2,0.1,31.98,2,0.06,0.0,2,0.0,2.182,2,0.004,0.0,2,0.02,0.281,2,0.14,2,0.009,2,0.104,2,33.0,3,2259.2,2,2348.2,2,-999,-999,1,-999.0,9,-999.0,9,-999,9,-999,-999,9,-999,-999,9,-999,9,-999.0,9,-999.0,9,-999.0,9
49NZ20170208,P17E,2,1,25, X12J25,2,20170216,1524,-66.3594,-126.0628,4470,832.4,2,1.7437,2,1.74367,2,34.7281,2,34.7286,2,34.8988,2,34.8984,2,187.57,2,187.35,2,99.868,0.0053,2,0.002,2,-999.0,9,0.012,1,11.123,1,0.0,2,91.5,2,0.1,31.57,2,0.06,0.0,2,0.0,2.155,2,0.004,0.03,2,0.02,0.226,2,0.108,2,0.005,2,0.053,2,32.1,3,2257.9,2,2349.6,2,-999,-999,1,-999.0,9,-999.0,9,-999,9,-999,-999,9,-999,-999,9,-999,9,-999.0,9,-999.0,9,-999.0,9
49NZ20170208,P17E,2,1,24, X12J24,2,20170216,1524,-66.3594,-126.0628,4470,930.8,2,1.6431,2,1.64286,2,34.7312,2,34.7317,2,34.9008,2,34.9007,2,189.83,2,189.57,2,99.891,0.0044,2,0.002,2,-999.0,9,0.012,1,11.298,1,0.0,2,94.53,2,0.1,31.59,2,0.06,0.0,2,0.0,2.151,2,0.004,0.03,2,0.02,0.215,6,0.107,6,0.011,6,0.026,6,-999.0,5,2258.0,2,2350.8,2,-999,-999,1,-999.0,9,-999.0,9,-999,9,-999,-999,9,-999,-999,9,-999,9,-999.0,9,-999.0,9,-999.0,9
49NZ20170208,P17E,2,1,23, X12J23,2,20170216,1524,-66.3594,-126.0628,4470,1067.6,2,1.5224,2,1.52246,2,34.7317,2,34.7314,2,34.9014,2,34.8987,2,191.33,2,191.07,2,99.881,0.0048,2,0.002,2,-999.0,9,0.011,1,11.23,1,0.0,2,98.17,2,0.1,31.67,2,0.06,0.0,2,0.0,2.164,2,0.004,0.03,2,0.02,0.197,2,0.098,2,0.004,2,0.029,2,35.2,3,2260.9,2,2352.9,2,-999,-999,1,-999.0,9,-999.0,9,-999,9,-999,-999,9,-999,-999,9,-999,9,-999.0,9,-999.0,9,-999.0,9
49NZ20170208,P17E,2,1,22, X12J22,2,20170216,1524,-66.3594,-126.0628,4470,1269.8,2,1.3649,2,1.36446,2,34.7295,2,34.7296,2,34.9008,2,34.8999,2,192.99,2,192.68,2,99.91,0.0036,2,0.002,2,-999.0,9,0.011,1,11.461,1,0.0,2,103.29,2,0.11,31.86,2,0.06,0.0,2,0.0,2.176,2,0.004,0.02,2,0.02,0.185,2,0.09,2,0.002,2,0.008,2,33.3,3,2262.8,2,2354.2,6,-999,-999,1,-999.0,9,-999.0,9,-999,9,-999,-999,9,-999,-999,9,-999,9,-999.0,9,-999.0,9,-999.0,9
49NZ20170208,P17E,2,1,21, X12J21,2,20170216,1524,-66.3594,-126.0628,4470,1472.2,2,1.2326,2,1.2325,2,34.7257,2,34.726,2,34.8942,2,34.896,2,195.35,2,194.95,2,99.904,0.0039,2,0.002,2,-999.0,9,0.011,1,11.476,1,0.0,2,107.69,2,0.11,31.94,2,0.06,0.0,2,0.0,2.189,2,0.004,0.02,2,0.02,0.164,2,0.075,2,0.002,2,0.0,2,33.3,3,2263.1,2,2354.9,2,-999,-999,1,-999.0,9,-999.0,9,-999,9,-999,-999,9,-999,-999,9,-999,9,-999.0,9,-999.0,9,-999.0,9
49NZ20170208,P17E,2,1,20, X12J20,2,20170216,1524,-66.3594,-126.0628,4470,1670.6,2,1.1087,2,1.10873,2,34.7215,2,34.7211,2,34.8935,2,34.8921,2,197.57,2,197.43,2,99.916,0.0033,2,0.002,2,-999.0,9,0.01,1,11.461,1,0.0,2,112.17,2,0.11,32.09,2,0.06,0.0,2,0.0,2.199,2,0.004,0.01,2,0.02,0.156,2,0.072,2,0.0,2,0.022,2,33.1,3,2264.1,2,2358.2,2,-999,-999,1,-999.0,9,-999.0,9,-999,9,-999,-999,9,-999,-999,9,-999,9,-999.0,9,-999.0,9,-999.0,9
49NZ20170208,P17E,2,1,19, X12J19,2,20170216,1524,-66.3594,-126.0628,4470,1869.7,2,1.0109,2,1.01089,2,34.7177,2,34.7183,2,34.8876,2,34.8875,2,199.67,2,199.3,2,99.919,0.0033,2,0.002,2,-999.0,9,0.011,1,11.291,1,0.0,2,115.58,2,0.12,32.16,2,0.06,0.0,2,0.0,2.21,2,0.004,0.0,2,0.02,0.16,2,0.073,2,0.0,2,0.019,2,32.5,3,2264.4,2,2357.3,2,-999,-999,1,-999.0,9,-999.0,9,-999,9,-999,-999,9,-999,-999,9,-999,9,-999.0,9,-999.0,9,-999.0,9
49NZ20170208,P17E,2,1,18, X12J18,2,20170216,1524,-66.3594,-126.0628,4470,2071.1,2,0.9184,2,0.91833,2,34.714,2,34.7142,2,34.8843,2,34.8865,2,201.36,2,201.13,2,99.923,0.0031,2,0.002,2,-999.0,9,0.009,1,11.487,1,0.0,2,118.86,2,0.12,32.27,2,0.06,0.0,2,0.0,2.217,2,0.004,0.01,2,0.02,0.159,2,0.077,2,0.0,2,0.025,2,-999.0,5,2264.8,2,2360.0,2,-999,-999,1,-999.0,9,-999.0,9,-999,9,-999,-999,9,-999,-999,9,-999,9,-999.0,9,-999.0,9,-999.0,9
49NZ20170208,P17E,2,1,17, X12J17,2,20170216,1524,-66.3594,-126.0628,4470,2271.6,2,0.8373,2,0.83719,2,34.7106,2,34.7113,2,34.8764,3,34.8842,2,202.9,2,202.59,2,99.927,0.0029,2,0.002,2,-999.0,9,0.008,1,11.675,1,0.0,2,122.2,2,0.12,32.36,2,0.06,0.0,2,0.0,2.223,2,0.004,0.01,2,0.02,0.169,2,0.084,2,0.0,2,0.031,2,29.2,3,2267.4,2,2360.7,2,-999,-999,9,-999.0,9,-999.0,9,-999,9,-999,-999,9,-999,-999,9,-999,9,-999.0,9,-999.0,9,-999.0,9
49NZ20170208,P17E,2,1,16, X12J16,2,20170216,1524,-66.3594,-126.0628,4470,2470.6,2,0.7718,2,0.77168,2,34.708,2,34.7084,2,34.8804,2,34.8837,2,204.2,2,203.97,2,99.921,0.0032,2,0.002,2,-999.0,9,0.009,1,11.3,1,0.0,2,124.96,2,0.13,32.46,2,0.06,0.0,2,0.0,2.231,2,0.004,0.01,2,0.02,0.194,2,0.097,2,0.005,2,0.188,2,29.8,3,2266.4,6,2361.2,2,-999,-999,9,-999.0,9,-999.0,9,-999,9,-999,-999,9,-999,-999,9,-999,9,-999.0,9,-999.0,9,-999.0,9
49NZ20170208,P17E,2,1,15, X12J15,2,20170216,1524,-66.3594,-126.0628,4470,2672.4,2,0.7035,2,0.70345,2,34.7058,2,34.706,2,34.8777,2,34.8807,2,205.76,2,205.52,2,99.916,0.0033,2,0.002,2,-999.0,9,0.009,1,11.379,1,0.0,2,126.76,2,0.13,32.51,2,0.06,0.0,2,0.0,2.233,2,0.004,0.01,2,0.02,0.223,2,0.111,2,0.002,2,0.073,2,29.9,3,2266.3,2,2360.8,2,-999,-999,9,-999.0,9,-999.0,9,-999,9,-999,-999,9,-999,-999,9,-999,9,-999.0,9,-999.0,9,-999.0,9
49NZ20170208,P17E,2,1,14, X12J14,2,20170216,1524,-66.3594,-126.0628,4470,2871.4,2,0.6278,2,0.62766,2,34.7039,2,34.7042,2,34.8751,2,34.88,2,207.25,2,207.0,2,99.925,0.003,2,0.002,2,-999.0,9,0.009,1,10.967,1,0.0,2,127.96,2,0.13,32.58,2,0.06,0.0,2,0.0,2.241,2,0.004,0.01,2,0.02,0.253,2,0.123,2,0.002,2,0.088,2,30.8,3,2266.2,2,2359.0,2,-999,-999,9,-999.0,9,-999.0,9,-999,9,-999,-999,9,-999,-999,9,-999,9,-999.0,9,-999.0,9,-999.0,9
49NZ20170208,P17E,2,1,13, X12113,2,20170216,1524,-66.3594,-126.0628,4470,3081.1,2,0.5477,2,0.54778,2,34.702,2,34.7023,2,34.8738,2,34.8776,2,209.01,2,208.56,2,99.925,0.003,2,0.002,2,-999.0,9,0.009,1,11.625,1,0.0,2,129.26,2,0.13,32.69,2,0.06,0.0,2,0.0,2.245,2,0.004,0.02,2,0.02,0.296,2,0.145,2,0.004,2,0.184,2,30.9,3,2267.1,2,2358.6,2,-999,-999,9,-999.0,9,-999.0,9,-999,9,-999,-999,9,-999,-999,9,-999,9,-999.0,9,-999.0,9,-999.0,9
49NZ20170208,P17E,2,1,12, X12J12,2,20170216,1524,-66.3594,-126.0628,4470,3332.2,2,0.4717,2,0.47182,2,34.7009,2,34.7007,2,34.8742,2,34.8769,2,210.8,2,210.47,2,99.927,0.0029,2,0.002,2,-999.0,9,0.008,1,11.41,1,0.0,2,131.23,2,0.13,32.66,2,0.06,0.0,2,0.0,2.239,2,0.004,0.05,2,0.02,0.32,2,0.152,2,0.007,2,0.094,2,30.7,3,2266.2,2,2359.8,6,-999,-999,9,-999.0,9,-999.0,9,-999,9,-999,-999,9,-999,-999,9,-999,9,-999.0,9,-999.0,9,-999.0,9
49NZ20170208,P17E,2,1,11, X12J11,2,20170216,1524,-66.3594,-126.0628,4470,3585.5,2,0.4122,2,0.41231,2,34.6999,2,34.6991,2,34.8731,2,34.877,2,212.5,2,212.27,2,99.908,0.0037,2,0.002,2,-999.0,9,0.009,1,10.979,1,0.0,2,133.0,2,0.13,32.7,2,0.06,0.0,2,0.0,2.243,2,0.004,0.02,2,0.02,0.358,2,0.176,2,0.01,2,0.112,2,30.5,3,2270.0,3,2359.4,2,-999,-999,9,-999.0,9,-999.0,9,-999,9,-999,-999,9,-999,-999,9,-999,9,-999.0,9,-999.0,9,-999.0,9
49NZ20170208,P17E,2,1,10, X12J10,2,20170216,1524,-66.3594,-126.0628,4470,3833.1,2,0.3742,2,0.37408,2,34.6992,2,34.6993,2,34.8718,2,34.8736,2,213.72,2,213.32,2,99.927,0.0029,2,0.002,2,-999.0,9,0.009,1,11.392,1,0.0,2,134.97,2,0.13,32.78,2,0.06,0.0,2,0.0,2.244,2,0.004,0.02,2,0.02,0.42,2,0.2,2,0.017,2,0.126,2,30.6,3,2266.0,2,2358.2,2,-999,-999,9,-999.0,9,-999.0,9,-999,9,-999,-999,9,-999,-999,9,-999,9,-999.0,9,-999.0,9,-999.0,9
49NZ20170208,P17E,2,1,9, X12J09,2,20170216,1524,-66.3594,-126.0628,4470,4081.5,2,0.3543,2,0.3542,2,34.6985,2,34.6989,2,34.8685,2,34.8724,2,214.79,2,214.34,2,99.919,0.0033,2,0.002,2,-999.0,9,0.01,1,11.446,1,0.0,2,136.42,2,0.13,32.77,2,0.06,0.0,2,0.0,2.252,2,0.004,0.0,2,0.02,0.479,2,0.228,2,0.017,2,0.226,2,-999.0,5,2268.8,2,2356.6,2,-999,-999,9,-999.0,9,-999.0,9,-999,9,-999,-999,9,-999,-999,9,-999,9,-999.0,9,-999.0,9,-999.0,9
49NZ20170208,P17E,2,1,8, X12J08,2,20170216,1524,-66.3594,-126.0628,4470,4330.3,2,0.3475,2,0.34744,2,34.6977,2,34.6978,2,34.8718,2,34.8705,2,215.3,2,214.8,2,99.847,0.0061,2,0.002,2,-999.0,9,0.012,1,12.118,4,0.0,2,137.76,2,0.14,32.83,2,0.06,0.0,2,0.0,2.252,2,0.004,0.0,2,0.02,0.565,2,0.256,2,0.019,2,0.208,2,31.4,3,2268.5,6,2358.8,2,-999,-999,9,-999.0,9,-999.0,9,-999,9,-999,-999,9,-999,-999,9,-999,9,-999.0,9,-999.0,9,-999.0,9
49NZ20170208,P17E,2,1,1, X12J01,2,20170216,1524,-66.3594,-126.0628,4470,4538.5,2,0.3395,2,0.33939,2,34.6968,2,34.6972,2,34.8672,2,34.8693,2,216.03,2,215.25,2,99.659,0.0137,2,0.002,2,-999.0,9,0.026,1,11.964,4,0.0,2,138.3,2,0.14,32.87,2,0.06,0.0,2,0.0,2.257,2,0.004,0.0,2,0.02,0.641,2,0.295,2,0.022,2,0.227,2,31.8,3,2267.9,2,2357.9,2,-999,-999,9,-999.0,9,-999.0,9,-999,9,-999,-999,9,-999,-999,9,-999,9,-999.0,9,-999.0,9,-999.0,9