BOTTLE,20240216CCHSIOADS
EXPOCODE,SECT_ID,STNNBR,CASTNO,SAMPNO,BTLNBR,BTLNBR_FLAG_W,DATE,TIME,LATITUDE,LONGITUDE,DEPTH,CTDPRS,CTDPRS_FLAG_W,CTDTMP,CTDTMP_FLAG_W,REFTMP,REFTMP_FLAG_W,CTDSAL,CTDSAL_FLAG_W,SALNTY,SALNTY_FLAG_W,DNSSAL,DNSSAL_FLAG_W,CTDSVLSAL,CTDSVLSAL_FLAG_W,CTDOXY,CTDOXY_FLAG_W,OXYGEN,OXYGEN_FLAG_W,CTDXMISS,CTDBEAMCP,CTDXMISS_FLAG_W,CTDFLUOR,CTDFLUOR_FLAG_W,CHLORA,CHLORA_FLAG_W,CTDTURB,CTDTURB_FLAG_W,CTDCDOM,CTDCDOM_FLAG_W,PAR,PAR_FLAG_W,SILCAT,SILCAT_FLAG_W,SILUNC,NITRAT,NITRAT_FLAG_W,NRAUNC,NITRIT,NITRIT_FLAG_W,NRIUNC,PHSPHT,PHSPHT_FLAG_W,PHPUNC,NH4,NH4_FLAG_W,NH4UNC,CFC-11,CFC-11_FLAG_W,CFC-12,CFC-12_FLAG_W,CFC113,CFC113_FLAG_W,SF6,SF6_FLAG_W,N2O,N2O_FLAG_W,TCARBN,TCARBN_FLAG_W,ALKALI,ALKALI_FLAG_W,PH_TOT,PH_TMP,PH_TOT_FLAG_W,CALCIUM,CALCIUM_FLAG_W,DOC,DOC_FLAG_W,DELC13,DELC13_FLAG_W,C13ERR,DELC14,DELC14_FLAG_W,C14ERR,POC,POC_FLAG_W,HPLC,HPLC_FLAG_W,CDOM325,CDOM325_FLAG_W,CDOM370,CDOM370_FLAG_W,CDOM443,CDOM443_FLAG_W
,,,,,,,,,,,METERS,DBAR,,ITS-90,,ITS-90,,PSS-78,,PSS-78,,G/KG,,G/KG,,UMOL/KG,,UMOL/KG,,%TRANS,/METER,,MG/M^3,,UG/L,,FTU,,QSU,,UMOL/M^2/SEC,,UMOL/KG,,UMOL/KG,UMOL/KG,,UMOL/KG,UMOL/KG,,UMOL/KG,UMOL/KG,,UMOL/KG,UMOL/KG,,UMOL/KG,PMOL/KG,,PMOL/KG,,PMOL/KG,,FMOL/KG,,NMOL/KG,,UMOL/KG,,UMOL/KG,,,DEG C,,MMOL/KG,,UMOL/KG,,/MILLE,,/MILLE,/MILLE,,/MILLE,UG/KG,,,,/METER,,/METER,,/METER,
49NZ20170208,P17E,22,1,0,    BUC,2,20170222,0101,-55.0182,-125.9767,3654,0.0,2,-999.0,9,-999.0,9,-999.0,9,34.1837,2,-999.0,9,-999.0,9,-999.0,9,-999.0,9,-999.0,-999.0,9,-999.0,9,-999.0,9,-999.0,9,-999.0,9,-999.0,9,2.1,2,0.02,17.45,2,0.04,0.26,2,0.01,1.244,2,0.003,0.17,2,0.02,-999.0,9,-999.0,9,-999.0,9,-999.0,9,-999.0,9,-999.0,9,-999.0,9,-999,-999,9,-999.0,9,-999.0,9,-999,9,-999,-999,9,-999,-999,9,-999,9,-999.0,9,-999.0,9,-999.0,9
49NZ20170208,P17E,22,1,36, X12J09,2,20170222,0101,-55.0182,-125.9767,3654,11.3,2,8.0692,2,8.06982,2,34.1639,2,34.1644,2,-999.0,9,34.326,2,285.44,2,285.3,2,96.779,0.1309,2,0.264,2,-999.0,9,0.066,1,5.983,1,30.271,2,2.09,2,0.02,17.71,2,0.04,0.24,2,0.0,1.257,2,0.003,0.12,2,0.02,3.764,6,2.165,6,0.338,6,-999.0,9,-999.0,9,-999.0,9,-999.0,9,-999,-999,9,-999.0,9,-999.0,9,-999,9,-999,-999,9,-999,-999,9,-999,9,-999.0,9,-999.0,9,-999.0,9
49NZ20170208,P17E,22,1,35, X12J08,2,20170222,0101,-55.0182,-125.9767,3654,51.3,2,8.0179,2,8.01907,2,34.1618,2,34.1617,2,-999.0,9,34.3224,2,285.38,2,285.39,2,96.917,0.1253,2,0.295,2,-999.0,9,0.061,1,5.874,1,2.348,2,2.1,2,0.02,17.85,2,0.04,0.24,2,0.0,1.265,2,0.003,0.12,2,0.02,3.773,2,2.173,2,0.335,2,-999.0,9,-999.0,9,-999.0,9,-999.0,9,-999,-999,9,-999.0,9,-999.0,9,-999,9,-999,-999,9,-999,-999,9,-999,9,-999.0,9,-999.0,9,-999.0,9
49NZ20170208,P17E,22,1,34, X12J07,2,20170222,0101,-55.0182,-125.9767,3654,101.8,2,7.8591,2,7.85861,2,34.4275,2,34.426,2,-999.0,9,34.5951,2,263.47,2,263.77,2,99.305,0.0279,2,0.041,2,-999.0,9,0.027,1,6.692,1,0.002,2,4.36,2,0.03,17.67,2,0.04,0.06,2,0.0,1.246,2,0.003,0.02,2,0.02,3.719,2,2.154,2,0.321,2,-999.0,9,-999.0,9,-999.0,9,-999.0,9,-999,-999,9,-999.0,9,-999.0,9,-999,9,-999,-999,9,-999,-999,9,-999,9,-999.0,9,-999.0,9,-999.0,9
49NZ20170208,P17E,22,1,33, X12J06,2,20170222,0101,-55.0182,-125.9767,3654,150.4,2,7.3842,2,7.38477,2,34.3776,2,34.3774,2,-999.0,9,34.5363,2,267.02,2,267.01,2,99.555,0.0178,2,0.013,2,-999.0,9,0.023,1,6.974,1,0.0,2,5.26,2,0.03,18.87,2,0.04,0.02,2,0.0,1.316,2,0.003,0.01,2,0.02,3.789,2,2.187,2,0.314,2,-999.0,9,-999.0,9,-999.0,9,-999.0,9,-999,-999,9,-999.0,9,-999.0,9,-999,9,-999,-999,9,-999,-999,9,-999,9,-999.0,9,-999.0,9,-999.0,9
49NZ20170208,P17E,22,1,32, X12J05,2,20170222,0101,-55.0182,-125.9767,3654,200.9,2,7.1695,2,7.16957,2,34.3605,2,34.3607,2,-999.0,9,34.5176,2,266.04,2,266.17,2,99.625,0.015,2,0.006,2,-999.0,9,0.02,1,6.786,1,0.0,2,6.03,2,0.03,19.61,2,0.04,0.02,2,0.0,1.368,2,0.003,0.02,2,0.02,3.796,2,2.178,2,0.306,2,-999.0,9,-999.0,9,-999.0,9,-999.0,9,-999,-999,9,-999.0,9,-999.0,9,-999,9,-999,-999,9,-999,-999,9,-999,9,-999.0,9,-999.0,9,-999.0,9
49NZ20170208,P17E,22,1,31, X12J04,2,20170222,0101,-55.0182,-125.9767,3654,251.0,2,6.938,2,6.93768,2,34.3446,2,34.3461,2,-999.0,9,34.5079,2,268.3,2,268.15,2,99.675,0.013,2,0.003,2,-999.0,9,0.02,1,7.421,1,0.0,2,6.57,2,0.03,19.97,2,0.04,0.01,2,0.0,1.389,2,0.003,0.03,2,0.02,3.825,6,2.183,6,0.306,6,-999.0,9,-999.0,9,-999.0,9,-999.0,9,-999,-999,9,-999.0,9,-999.0,9,-999,9,-999,-999,9,-999,-999,9,-999,9,-999.0,9,-999.0,9,-999.0,9
49NZ20170208,P17E,22,1,30, X12J30,2,20170222,0101,-55.0182,-125.9767,3654,301.3,2,6.7418,2,6.74171,2,34.327,2,34.327,2,-999.0,9,34.491,2,269.97,2,269.98,2,99.718,0.0113,2,0.002,2,-999.0,9,0.019,1,7.63,1,0.0,2,6.96,2,0.03,20.35,2,0.04,0.01,2,0.0,1.417,2,0.003,0.03,2,0.02,3.844,2,2.186,2,0.3,2,-999.0,9,-999.0,9,-999.0,9,-999.0,9,-999,-999,9,-999.0,9,-999.0,9,-999,9,-999,-999,9,-999,-999,9,-999,9,-999.0,9,-999.0,9,-999.0,9
49NZ20170208,P17E,22,1,29, X12J29,2,20170222,0101,-55.0182,-125.9767,3654,399.8,2,6.6287,2,6.62916,2,34.3398,2,34.3389,2,-999.0,9,34.4931,2,273.12,2,273.25,2,99.811,0.0076,2,0.001,2,-999.0,9,0.016,1,7.942,1,0.0,2,6.97,2,0.03,20.22,2,0.04,0.0,2,0.0,1.406,2,0.003,0.03,2,0.02,3.85,2,2.191,2,0.312,2,-999.0,9,-999.0,9,-999.0,9,-999.0,9,-999,-999,9,-999.0,9,-999.0,9,-999,9,-999,-999,9,-999,-999,9,-999,9,-999.0,9,-999.0,9,-999.0,9
49NZ20170208,P17E,22,1,28, X12J28,2,20170222,0101,-55.0182,-125.9767,3654,502.9,2,5.8497,2,5.84972,2,34.2519,2,34.2526,2,-999.0,9,34.4154,2,270.99,2,270.87,2,99.813,0.0075,2,0.001,2,-999.0,9,0.016,1,8.254,1,0.0,2,9.29,2,0.03,22.44,2,0.04,0.0,2,0.0,1.545,2,0.003,0.06,2,0.02,3.878,2,2.186,2,0.324,2,-999.0,9,-999.0,9,-999.0,9,-999.0,9,-999,-999,9,-999.0,9,-999.0,9,-999,9,-999,-999,9,-999,-999,9,-999,9,-999.0,9,-999.0,9,-999.0,9
49NZ20170208,P17E,22,1,27, X12J27,2,20170222,0101,-55.0182,-125.9767,3654,601.7,2,5.3612,2,5.36509,2,34.2238,2,34.224,2,-999.0,9,34.3999,2,255.05,2,255.28,2,99.842,0.0063,2,0.001,2,-999.0,9,0.014,1,8.611,1,0.0,2,13.29,2,0.03,25.08,2,0.05,0.0,2,0.0,1.709,2,0.003,0.02,2,0.02,3.663,2,2.033,2,0.286,2,-999.0,9,-999.0,9,-999.0,9,-999.0,9,-999,-999,9,-999.0,9,-999.0,9,-999,9,-999,-999,9,-999,-999,9,-999,9,-999.0,9,-999.0,9,-999.0,9
49NZ20170208,P17E,22,1,26, X12J26,2,20170222,0101,-55.0182,-125.9767,3654,701.3,2,4.9863,2,4.98619,2,34.2349,2,34.2344,2,-999.0,9,34.3978,2,241.89,2,243.18,2,99.84,0.0064,2,0.001,2,-999.0,9,0.015,1,8.478,1,0.0,2,17.4,2,0.04,26.69,2,0.05,0.0,2,0.0,1.823,2,0.003,0.02,2,0.02,3.423,2,1.879,2,0.26,2,-999.0,9,-999.0,9,-999.0,9,-999.0,9,-999,-999,9,-999.0,9,-999.0,9,-999,9,-999,-999,9,-999,-999,9,-999,9,-999.0,9,-999.0,9,-999.0,9
49NZ20170208,P17E,22,1,25, X12J25,2,20170222,0101,-55.0182,-125.9767,3654,802.4,2,4.7271,2,4.72674,2,34.2904,2,34.291,2,-999.0,9,34.4422,2,216.59,2,217.1,2,99.844,0.0062,2,0.001,2,-999.0,9,0.015,1,9.715,1,0.0,2,25.52,2,0.04,29.25,2,0.05,0.0,2,0.0,1.991,2,0.004,0.0,2,0.02,2.716,2,1.458,2,0.164,2,-999.0,9,-999.0,9,-999.0,9,-999.0,9,-999,-999,9,-999.0,9,-999.0,9,-999,9,-999,-999,9,-999,-999,9,-999,9,-999.0,9,-999.0,9,-999.0,9
49NZ20170208,P17E,22,1,24, X12J24,2,20170222,0101,-55.0182,-125.9767,3654,901.5,2,4.2973,2,4.29689,2,34.3048,2,34.3063,2,-999.0,9,34.4603,2,209.13,2,209.62,2,99.796,0.0082,2,0.001,2,-999.0,9,0.014,1,9.708,1,0.0,2,31.55,2,0.05,30.66,2,0.06,0.0,2,0.0,2.088,2,0.004,0.0,2,0.02,2.431,6,1.291,6,0.154,6,-999.0,9,-999.0,9,-999.0,9,-999.0,9,-999,-999,9,-999.0,9,-999.0,9,-999,9,-999,-999,9,-999,-999,9,-999,9,-999.0,9,-999.0,9,-999.0,9
49NZ20170208,P17E,22,1,23, X12J23,2,20170222,0101,-55.0182,-125.9767,3654,1000.1,2,3.8063,2,3.80623,2,34.3257,2,34.3265,2,-999.0,9,34.4957,2,202.56,2,202.69,2,99.859,0.0056,2,0.001,2,-999.0,9,0.015,1,10.056,1,0.0,2,39.03,2,0.05,31.98,2,0.06,0.01,2,0.0,2.179,2,0.004,0.0,2,0.02,2.088,2,1.122,2,0.143,2,-999.0,9,-999.0,9,-999.0,9,-999.0,9,-999,-999,9,-999.0,9,-999.0,9,-999,9,-999,-999,9,-999,-999,9,-999,9,-999.0,9,-999.0,9,-999.0,9
49NZ20170208,P17E,22,1,22, X12J22,3,20170222,0101,-55.0182,-125.9767,3654,1200.3,2,3.1146,2,3.11415,2,34.3986,2,34.3971,2,-999.0,9,34.5659,2,187.48,2,187.73,2,99.84,0.0064,2,0.002,2,-999.0,9,0.014,1,10.775,1,0.0,2,53.68,2,0.07,33.72,2,0.06,0.0,2,0.0,2.311,2,0.004,0.01,2,0.02,1.51,2,0.81,2,0.104,2,-999.0,9,-999.0,9,-999.0,9,-999.0,9,-999,-999,9,-999.0,9,-999.0,9,-999,9,-999,-999,9,-999,-999,9,-999,9,-999.0,9,-999.0,9,-999.0,9
49NZ20170208,P17E,22,1,21, X12J21,2,20170222,0101,-55.0182,-125.9767,3654,1400.6,2,2.8158,2,2.81482,2,34.4947,2,34.4938,2,-999.0,9,34.6636,2,174.72,2,174.93,2,99.855,0.0058,2,0.002,2,-999.0,9,0.013,1,11.241,1,0.0,2,66.61,2,0.08,34.17,2,0.06,0.0,2,0.0,2.353,2,0.004,0.01,2,0.02,0.839,2,0.446,2,0.047,2,-999.0,9,-999.0,9,-999.0,9,-999.0,9,-999,-999,9,-999.0,9,-999.0,9,-999,9,-999,-999,9,-999,-999,9,-999,9,-999.0,9,-999.0,9,-999.0,9
49NZ20170208,P17E,22,1,20, X12J20,2,20170222,0101,-55.0182,-125.9767,3654,1601.5,2,2.5771,2,2.57712,2,34.5763,2,34.576,2,-999.0,9,34.7444,2,169.93,2,169.8,2,99.855,0.0058,2,0.002,2,-999.0,9,0.012,1,11.519,1,0.0,2,76.09,2,0.08,34.03,2,0.06,0.0,2,0.0,2.344,2,0.004,0.02,2,0.02,0.482,2,0.252,2,0.032,2,-999.0,9,-999.0,9,-999.0,9,-999.0,9,-999,-999,9,-999.0,9,-999.0,9,-999,9,-999,-999,9,-999,-999,9,-999,9,-999.0,9,-999.0,9,-999.0,9
49NZ20170208,P17E,22,1,19, X12J19,2,20170222,0101,-55.0182,-125.9767,3654,1800.2,2,2.4108,2,2.41013,2,34.6348,2,34.6366,2,-999.0,9,34.8037,2,172.07,2,172.22,2,99.872,0.0051,2,0.002,2,-999.0,9,0.012,1,11.785,1,0.0,2,80.19,2,0.09,33.38,2,0.06,0.0,2,0.0,2.287,2,0.004,0.05,2,0.02,0.338,2,0.175,2,0.02,2,-999.0,9,-999.0,9,-999.0,9,-999.0,9,-999,-999,9,-999.0,9,-999.0,9,-999,9,-999,-999,9,-999,-999,9,-999,9,-999.0,9,-999.0,9,-999.0,9
49NZ20170208,P17E,22,1,18, X12J18,2,20170222,0101,-55.0182,-125.9767,3654,2000.7,2,2.2631,2,2.2641,2,34.6782,2,34.6774,2,-999.0,9,34.8426,2,176.03,2,175.83,2,99.885,0.0046,2,0.002,2,-999.0,9,0.012,1,11.526,1,0.0,2,83.14,2,0.09,32.64,2,0.06,0.0,2,0.0,2.24,2,0.004,0.03,2,0.02,0.265,2,0.127,2,0.007,2,-999.0,9,-999.0,9,-999.0,9,-999.0,9,-999,-999,9,-999.0,9,-999.0,9,-999,9,-999,-999,9,-999,-999,9,-999,9,-999.0,9,-999.0,9,-999.0,9
49NZ20170208,P17E,22,1,17, X12J17,2,20170222,0101,-55.0182,-125.9767,3654,2203.5,2,2.1316,2,2.13171,2,34.7065,2,34.7063,2,-999.0,9,34.8731,2,180.27,2,180.36,2,99.899,0.004,2,0.002,2,-999.0,9,0.012,1,11.952,1,0.0,2,87.05,2,0.09,32.12,2,0.06,0.0,2,0.01,2.201,2,0.004,0.02,2,0.02,0.178,2,0.083,2,0.005,2,-999.0,9,-999.0,9,-999.0,9,-999.0,9,-999,-999,9,-999.0,9,-999.0,9,-999,9,-999,-999,9,-999,-999,9,-999,9,-999.0,9,-999.0,9,-999.0,9
49NZ20170208,P17E,22,1,16, X12J16,2,20170222,0101,-55.0182,-125.9767,3654,2401.2,2,1.965,2,1.96521,2,34.7208,2,34.7205,2,-999.0,9,34.89,2,184.11,2,184.18,2,99.906,0.0038,2,0.002,2,-999.0,9,0.012,1,11.752,1,0.0,2,92.15,2,0.1,31.85,2,0.06,0.0,2,0.0,2.179,2,0.004,0.0,2,0.02,0.14,2,0.065,2,0.006,2,-999.0,9,-999.0,9,-999.0,9,-999.0,9,-999,-999,9,-999.0,9,-999.0,9,-999,9,-999,-999,9,-999,-999,9,-999,9,-999.0,9,-999.0,9,-999.0,9
49NZ20170208,P17E,22,1,15, X12J15,2,20170222,0101,-55.0182,-125.9767,3654,2601.7,2,1.7499,2,1.74761,2,34.7233,2,34.7231,2,-999.0,9,34.8921,2,186.75,2,186.89,2,99.904,0.0039,2,0.002,2,-999.0,9,0.012,1,11.661,1,0.0,2,99.87,2,0.1,32.04,2,0.06,0.0,2,0.0,2.195,2,0.004,-0.01,2,0.02,0.093,2,0.041,2,0.004,2,-999.0,9,-999.0,9,-999.0,9,-999.0,9,-999,-999,9,-999.0,9,-999.0,9,-999,9,-999,-999,9,-999,-999,9,-999,9,-999.0,9,-999.0,9,-999.0,9
49NZ20170208,P17E,22,1,14, X12J14,2,20170222,0101,-55.0182,-125.9767,3654,2802.6,2,1.5415,2,1.54154,2,34.7181,2,34.718,2,34.8896,2,34.8895,2,187.69,2,187.66,2,99.91,0.0036,2,0.002,2,-999.0,9,0.012,1,12.089,1,0.0,2,107.73,2,0.11,32.26,2,0.06,0.0,2,0.0,2.227,2,0.004,0.0,2,0.02,0.057,2,0.023,2,0.0,2,-999.0,9,-999.0,9,-999.0,9,-999.0,9,-999,-999,9,-999.0,9,-999.0,9,-999,9,-999,-999,9,-999,-999,9,-999,9,-999.0,9,-999.0,9,-999.0,9
49NZ20170208,P17E,22,1,13, X12113,2,20170222,0101,-55.0182,-125.9767,3654,3001.2,2,1.4516,2,1.45174,2,34.7167,2,34.7165,2,34.968,4,34.8894,2,189.3,2,189.28,2,99.901,0.0039,2,0.002,2,-999.0,9,0.012,1,11.466,1,0.0,2,110.83,2,0.11,32.45,2,0.06,0.0,2,0.0,2.232,2,0.004,0.0,2,0.02,0.042,2,0.018,2,0.0,2,-999.0,9,-999.0,9,-999.0,9,-999.0,9,-999,-999,9,-999.0,9,-999.0,9,-999,9,-999,-999,9,-999,-999,9,-999,9,-999.0,9,-999.0,9,-999.0,9
49NZ20170208,P17E,22,1,12, X12J12,2,20170222,0101,-55.0182,-125.9767,3654,3253.1,2,1.4193,2,1.4195,2,34.7157,2,34.7163,2,34.8876,2,34.8888,2,189.87,2,189.83,2,99.897,0.0041,2,0.002,2,-999.0,9,0.012,1,11.368,1,0.0,2,112.69,2,0.12,32.47,2,0.06,0.01,2,0.0,2.233,2,0.004,0.01,2,0.02,0.038,2,0.015,2,0.0,2,-999.0,9,-999.0,9,-999.0,9,-999.0,9,-999,-999,9,-999.0,9,-999.0,9,-999,9,-999,-999,9,-999,-999,9,-999,9,-999.0,9,-999.0,9,-999.0,9
49NZ20170208,P17E,22,1,11, X12J11,2,20170222,0101,-55.0182,-125.9767,3654,3502.1,2,1.3956,2,1.39552,2,34.7155,2,34.7154,2,34.8883,2,34.8881,2,191.17,2,191.26,2,99.891,0.0044,2,0.001,2,-999.0,9,0.013,1,11.72,1,0.0,2,113.74,2,0.12,32.53,2,0.06,0.01,2,0.0,2.235,2,0.004,0.02,2,0.02,0.037,2,0.017,2,0.0,2,-999.0,9,-999.0,9,-999.0,9,-999.0,9,-999,-999,9,-999.0,9,-999.0,9,-999,9,-999,-999,9,-999,-999,9,-999,9,-999.0,9,-999.0,9,-999.0,9
49NZ20170208,P17E,22,1,1, X12J01,2,20170222,0101,-55.0182,-125.9767,3654,3704.6,2,1.1492,2,1.14953,2,34.7152,2,34.7149,2,34.8903,2,34.8911,2,199.89,2,199.99,2,99.872,0.0051,2,0.002,2,-999.0,9,0.022,1,11.724,1,0.0,2,117.84,2,0.12,32.22,2,0.06,0.0,2,0.01,2.219,2,0.004,0.02,2,0.02,0.143,2,0.067,2,0.007,2,-999.0,9,-999.0,9,-999.0,9,-999.0,9,-999,-999,9,-999.0,9,-999.0,9,-999,9,-999,-999,9,-999,-999,9,-999,9,-999.0,9,-999.0,9,-999.0,9