BOTTLE,20240216CCHSIOADS
EXPOCODE,SECT_ID,STNNBR,CASTNO,SAMPNO,BTLNBR,BTLNBR_FLAG_W,DATE,TIME,LATITUDE,LONGITUDE,DEPTH,CTDPRS,CTDPRS_FLAG_W,CTDTMP,CTDTMP_FLAG_W,REFTMP,REFTMP_FLAG_W,CTDSAL,CTDSAL_FLAG_W,SALNTY,SALNTY_FLAG_W,DNSSAL,DNSSAL_FLAG_W,CTDSVLSAL,CTDSVLSAL_FLAG_W,CTDOXY,CTDOXY_FLAG_W,OXYGEN,OXYGEN_FLAG_W,CTDXMISS,CTDBEAMCP,CTDXMISS_FLAG_W,CTDFLUOR,CTDFLUOR_FLAG_W,CHLORA,CHLORA_FLAG_W,CTDTURB,CTDTURB_FLAG_W,CTDCDOM,CTDCDOM_FLAG_W,PAR,PAR_FLAG_W,SILCAT,SILCAT_FLAG_W,SILUNC,NITRAT,NITRAT_FLAG_W,NRAUNC,NITRIT,NITRIT_FLAG_W,NRIUNC,PHSPHT,PHSPHT_FLAG_W,PHPUNC,NH4,NH4_FLAG_W,NH4UNC,CFC-11,CFC-11_FLAG_W,CFC-12,CFC-12_FLAG_W,CFC113,CFC113_FLAG_W,SF6,SF6_FLAG_W,N2O,N2O_FLAG_W,TCARBN,TCARBN_FLAG_W,ALKALI,ALKALI_FLAG_W,PH_TOT,PH_TMP,PH_TOT_FLAG_W,CALCIUM,CALCIUM_FLAG_W,DOC,DOC_FLAG_W,DELC13,DELC13_FLAG_W,C13ERR,DELC14,DELC14_FLAG_W,C14ERR,POC,POC_FLAG_W,HPLC,HPLC_FLAG_W,CDOM325,CDOM325_FLAG_W,CDOM370,CDOM370_FLAG_W,CDOM443,CDOM443_FLAG_W
,,,,,,,,,,,METERS,DBAR,,ITS-90,,ITS-90,,PSS-78,,PSS-78,,G/KG,,G/KG,,UMOL/KG,,UMOL/KG,,%TRANS,/METER,,MG/M^3,,UG/L,,FTU,,QSU,,UMOL/M^2/SEC,,UMOL/KG,,UMOL/KG,UMOL/KG,,UMOL/KG,UMOL/KG,,UMOL/KG,UMOL/KG,,UMOL/KG,UMOL/KG,,UMOL/KG,PMOL/KG,,PMOL/KG,,PMOL/KG,,FMOL/KG,,NMOL/KG,,UMOL/KG,,UMOL/KG,,,DEG C,,MMOL/KG,,UMOL/KG,,/MILLE,,/MILLE,/MILLE,,/MILLE,UG/KG,,,,/METER,,/METER,,/METER,
49NZ20170208,P17E,11,1,0,    BUC,2,20170219,1845,-60.4771,-125.9752,4833,0.0,2,-999.0,9,-999.0,9,-999.0,9,33.9938,2,-999.0,9,-999.0,9,-999.0,9,-999.0,9,-999.0,-999.0,9,-999.0,9,-999.0,9,-999.0,9,-999.0,9,-999.0,9,13.13,2,0.03,25.03,2,0.05,0.27,2,0.0,1.758,2,0.003,0.87,2,0.02,-999.0,9,-999.0,9,-999.0,9,-999.0,9,-999.0,9,-999.0,9,-999.0,9,-999,-999,9,-999.0,9,-999.0,9,-999,9,-999,-999,9,-999,-999,9,-999,9,-999.0,9,-999.0,9,-999.0,9
49NZ20170208,P17E,11,1,36, X12J36,2,20170219,1845,-60.4771,-125.9752,4833,10.5,2,3.4685,2,3.47445,2,33.9825,2,33.9842,2,-999.0,9,34.1596,2,316.01,2,317.15,2,96.544,0.1407,2,0.042,2,-999.0,9,0.093,1,6.921,1,171.606,2,12.52,2,0.03,24.88,2,0.05,0.28,2,0.0,1.737,2,0.003,0.73,2,0.02,4.912,6,2.731,6,0.469,6,-999.0,9,-999.0,9,-999.0,9,-999.0,9,-999,-999,9,-999.0,9,-999.0,9,-999,9,-999,-999,9,-999,-999,9,-999,9,-999.0,9,-999.0,9,-999.0,9
49NZ20170208,P17E,11,1,35, X12J35,2,20170219,1845,-60.4771,-125.9752,4833,51.3,2,3.2497,2,3.24982,2,33.9918,2,33.9923,2,-999.0,9,34.1712,2,318.23,2,319.02,2,96.804,0.1299,2,0.178,2,-999.0,9,0.093,1,7.311,1,20.302,2,12.41,2,0.03,24.98,2,0.05,0.26,2,0.0,1.75,2,0.003,0.88,2,0.02,4.976,2,2.763,2,0.463,2,-999.0,9,-999.0,9,-999.0,9,-999.0,9,-999,-999,9,-999.0,9,-999.0,9,-999,9,-999,-999,9,-999,-999,9,-999,9,-999.0,9,-999.0,9,-999.0,9
49NZ20170208,P17E,11,1,34, X12J34,2,20170219,1845,-60.4771,-125.9752,4833,102.0,2,1.5127,2,1.51456,2,34.0821,2,34.0822,2,-999.0,9,34.2507,2,323.89,2,324.74,2,98.405,0.0643,2,0.059,2,-999.0,9,0.057,1,8.129,1,2.02,2,27.3,2,0.04,27.23,2,0.05,0.21,2,0.0,2.015,2,0.004,1.6,2,0.02,5.268,2,2.899,2,0.499,2,-999.0,9,-999.0,9,-999.0,9,-999.0,9,-999,-999,9,-999.0,9,-999.0,9,-999,9,-999,-999,9,-999,-999,9,-999,9,-999.0,9,-999.0,9,-999.0,9
49NZ20170208,P17E,11,1,33, X12J33,2,20170219,1845,-60.4771,-125.9752,4833,152.4,2,0.9068,2,0.90764,2,34.1127,2,34.1129,2,-999.0,9,34.2991,2,305.85,2,305.87,2,98.862,0.0458,2,0.015,2,-999.0,9,0.053,1,8.583,1,0.1,2,40.22,2,0.06,30.42,2,0.06,0.36,2,0.0,2.112,2,0.004,0.19,2,0.02,4.933,2,2.694,2,0.469,2,-999.0,9,-999.0,9,-999.0,9,-999.0,9,-999,-999,9,-999.0,9,-999.0,9,-999,9,-999,-999,9,-999,-999,9,-999,9,-999.0,9,-999.0,9,-999.0,9
49NZ20170208,P17E,11,1,32, X12J32,2,20170219,1845,-60.4771,-125.9752,4833,201.6,2,1.1039,2,1.10448,2,34.1815,2,34.1806,2,-999.0,9,34.36,2,276.22,2,276.0,2,99.168,0.0334,2,0.006,2,-999.0,9,0.041,1,9.338,1,0.0,2,46.77,2,0.06,32.03,2,0.06,0.01,2,0.0,2.182,2,0.004,0.04,2,0.02,4.154,2,2.261,2,0.394,2,-999.0,9,-999.0,9,-999.0,9,-999.0,9,-999,-999,9,-999.0,9,-999.0,9,-999,9,-999,-999,9,-999,-999,9,-999,9,-999.0,9,-999.0,9,-999.0,9
49NZ20170208,P17E,11,1,31, X12J31,2,20170219,1845,-60.4771,-125.9752,4833,250.9,2,1.4727,2,1.47154,2,34.252,2,34.2537,2,-999.0,9,34.447,2,246.58,2,246.44,2,99.28,0.0289,2,0.005,2,-999.0,9,0.03,1,9.396,1,0.0,2,51.84,2,0.06,33.1,2,0.06,0.01,2,0.0,2.254,2,0.004,0.02,2,0.02,3.352,6,1.819,6,0.294,6,-999.0,9,-999.0,9,-999.0,9,-999.0,9,-999,-999,9,-999.0,9,-999.0,9,-999,9,-999,-999,9,-999,-999,9,-999,9,-999.0,9,-999.0,9,-999.0,9
49NZ20170208,P17E,11,1,30, X12J30,2,20170219,1845,-60.4771,-125.9752,4833,332.5,2,1.8517,2,1.85185,2,34.349,2,34.3478,2,-999.0,9,34.545,2,216.25,2,216.04,2,99.327,0.027,2,0.003,2,-999.0,9,0.034,1,10.188,1,0.0,2,58.88,2,0.07,34.12,2,0.06,0.01,2,0.0,2.32,2,0.004,0.01,2,0.02,2.448,2,1.316,2,0.204,2,-999.0,9,-999.0,9,-999.0,9,-999.0,9,-999,-999,9,-999.0,9,-999.0,9,-999,9,-999,-999,9,-999,-999,9,-999,9,-999.0,9,-999.0,9,-999.0,9
49NZ20170208,P17E,11,1,29, X12J29,2,20170219,1845,-60.4771,-125.9752,4833,432.7,2,2.1825,2,2.18285,2,34.4594,2,34.4591,2,-999.0,9,34.6419,2,187.69,2,187.56,2,99.455,0.0218,2,0.003,2,-999.0,9,0.028,1,10.68,1,0.0,2,66.68,2,0.08,34.62,2,0.06,0.01,2,0.0,2.368,2,0.004,0.01,2,0.02,1.474,2,0.783,2,0.11,2,-999.0,9,-999.0,9,-999.0,9,-999.0,9,-999,-999,9,-999.0,9,-999.0,9,-999,9,-999,-999,9,-999,-999,9,-999,9,-999.0,9,-999.0,9,-999.0,9
49NZ20170208,P17E,11,1,28, X12J28,2,20170219,1845,-60.4771,-125.9752,4833,530.8,2,2.0534,2,2.05345,2,34.5128,2,34.5121,2,-999.0,9,34.7254,2,185.74,2,185.85,2,99.489,0.0205,2,0.003,2,-999.0,9,0.024,1,11.094,1,0.0,2,71.23,2,0.08,34.43,2,0.06,0.01,2,0.0,2.35,2,0.004,0.03,2,0.02,1.273,2,0.681,2,0.096,2,-999.0,9,-999.0,9,-999.0,9,-999.0,9,-999,-999,9,-999.0,9,-999.0,9,-999,9,-999,-999,9,-999,-999,9,-999,9,-999.0,9,-999.0,9,-999.0,9
49NZ20170208,P17E,11,1,27, X12J27,2,20170219,1845,-60.4771,-125.9752,4833,630.1,2,2.2189,2,2.21867,2,34.5853,2,34.5844,2,-999.0,9,34.7734,2,174.58,2,174.85,2,99.637,0.0145,2,0.003,2,-999.0,9,0.019,1,10.887,1,0.0,2,75.44,2,0.08,34.14,2,0.06,0.0,2,0.0,2.318,2,0.004,0.05,2,0.02,0.745,2,0.392,2,0.048,2,-999.0,9,-999.0,9,-999.0,9,-999.0,9,-999,-999,9,-999.0,9,-999.0,9,-999,9,-999,-999,9,-999,-999,9,-999,9,-999.0,9,-999.0,9,-999.0,9
49NZ20170208,P17E,11,1,26, X12J26,2,20170219,1845,-60.4771,-125.9752,4833,730.8,2,2.192,2,2.19195,2,34.6361,2,34.636,2,-999.0,9,34.8121,2,174.36,2,174.56,2,99.665,0.0134,2,0.003,2,-999.0,9,0.018,1,11.405,1,0.0,2,79.04,2,0.09,33.34,2,0.06,0.0,2,0.0,2.281,2,0.004,0.04,2,0.02,0.507,2,0.267,2,0.016,2,-999.0,9,-999.0,9,-999.0,9,-999.0,9,-999,-999,9,-999.0,9,-999.0,9,-999,9,-999,-999,9,-999,-999,9,-999,9,-999.0,9,-999.0,9,-999.0,9
49NZ20170208,P17E,11,1,25, X12J25,2,20170219,1845,-60.4771,-125.9752,4833,832.3,2,2.1368,2,2.13675,2,34.6686,2,34.6681,2,-999.0,9,34.8416,2,176.38,2,176.58,2,99.694,0.0123,2,0.002,2,-999.0,9,0.019,1,11.237,1,0.0,2,81.26,2,0.09,32.95,2,0.06,0.0,2,0.0,2.247,2,0.004,0.03,2,0.02,0.393,2,0.208,2,0.017,2,-999.0,9,-999.0,9,-999.0,9,-999.0,9,-999,-999,9,-999.0,9,-999.0,9,-999,9,-999,-999,9,-999,-999,9,-999,9,-999.0,9,-999.0,9,-999.0,9
49NZ20170208,P17E,11,1,6, X12J06,2,20170219,1845,-60.4771,-125.9752,4833,932.8,2,2.0723,2,2.07215,2,34.693,2,34.693,2,-999.0,9,34.8631,2,179.22,2,179.28,2,99.736,0.0106,2,0.002,2,-999.0,9,0.017,1,11.677,1,0.0,2,83.51,2,0.09,32.53,2,0.06,0.0,2,0.0,2.212,2,0.004,0.0,2,0.02,0.305,6,0.16,6,0.006,6,-999.0,9,-999.0,9,-999.0,9,-999.0,9,-999,-999,9,-999.0,9,-999.0,9,-999,9,-999,-999,9,-999,-999,9,-999,9,-999.0,9,-999.0,9,-999.0,9
49NZ20170208,P17E,11,1,5, X12J05,2,20170219,1845,-60.4771,-125.9752,4833,1071.0,2,1.9686,2,1.96833,2,34.7119,2,34.7126,2,-999.0,9,34.8829,2,182.67,2,183.07,2,99.76,0.0096,2,0.002,2,-999.0,9,0.015,1,11.808,1,0.0,2,86.37,2,0.09,32.05,2,0.06,0.0,2,0.0,2.181,2,0.004,0.03,2,0.02,0.255,2,0.133,2,0.01,2,-999.0,9,-999.0,9,-999.0,9,-999.0,9,-999,-999,9,-999.0,9,-999.0,9,-999,9,-999,-999,9,-999,-999,9,-999,9,-999.0,9,-999.0,9,-999.0,9
49NZ20170208,P17E,11,1,4, X12J04,2,20170219,1845,-60.4771,-125.9752,4833,1272.4,2,1.8073,2,1.8071,2,34.7278,2,34.728,2,-999.0,9,34.8989,2,187.81,2,187.97,2,99.755,0.0098,2,0.002,2,-999.0,9,0.014,1,11.558,1,0.0,2,90.37,2,0.1,31.65,2,0.06,0.01,2,0.0,2.156,2,0.004,0.0,2,0.02,0.211,2,0.109,2,0.0,2,-999.0,9,-999.0,9,-999.0,9,-999.0,9,-999,-999,9,-999.0,9,-999.0,9,-999,9,-999,-999,9,-999,-999,9,-999,9,-999.0,9,-999.0,9,-999.0,9
49NZ20170208,P17E,11,1,3, X12J03,2,20170219,1845,-60.4771,-125.9752,4833,1471.5,2,1.627,2,1.62694,2,34.7321,2,34.7321,2,-999.0,9,34.9029,2,190.79,2,190.86,2,99.808,0.0077,2,0.002,2,-999.0,9,0.013,1,11.699,1,0.0,2,95.79,2,0.1,31.55,2,0.06,0.0,2,0.0,2.158,2,0.004,0.05,2,0.02,0.185,2,0.095,2,0.0,2,-999.0,9,-999.0,9,-999.0,9,-999.0,9,-999,-999,9,-999.0,9,-999.0,9,-999,9,-999,-999,9,-999,-999,9,-999,9,-999.0,9,-999.0,9,-999.0,9
49NZ20170208,P17E,11,1,2, X12J02,2,20170219,1845,-60.4771,-125.9752,4833,1672.7,2,1.4624,2,1.46253,2,34.7311,2,34.7308,2,-999.0,9,34.9025,2,193.51,2,193.57,2,99.855,0.0058,2,0.002,2,-999.0,9,0.013,1,11.66,1,0.0,2,100.84,2,0.11,31.65,2,0.06,0.0,2,0.0,2.166,2,0.004,0.01,2,0.02,0.166,2,0.081,2,0.012,2,-999.0,9,-999.0,9,-999.0,9,-999.0,9,-999,-999,9,-999.0,9,-999.0,9,-999,9,-999,-999,9,-999,-999,9,-999,9,-999.0,9,-999.0,9,-999.0,9
49NZ20170208,P17E,11,1,19, X12J19,2,20170219,1845,-60.4771,-125.9752,4833,1874.0,2,1.3265,2,1.32646,2,34.7276,2,34.7283,2,-999.0,9,34.8991,2,195.87,2,195.95,2,99.859,0.0056,2,0.002,2,-999.0,9,0.013,1,11.611,1,0.0,2,105.24,2,0.11,31.76,2,0.06,-0.01,2,0.0,2.171,2,0.004,0.01,2,0.02,0.157,2,0.073,2,0.0,2,-999.0,9,-999.0,9,-999.0,9,-999.0,9,-999,-999,9,-999.0,9,-999.0,9,-999,9,-999,-999,9,-999,-999,9,-999,9,-999.0,9,-999.0,9,-999.0,9
49NZ20170208,P17E,11,1,18, X12J18,2,20170219,1845,-60.4771,-125.9752,4833,2070.5,2,1.2083,2,1.20847,2,34.7238,2,34.7241,2,-999.0,9,34.8952,2,197.86,2,197.77,2,99.846,0.0062,2,0.002,2,-999.0,9,0.013,1,11.73,1,0.0,2,109.49,2,0.11,31.82,2,0.06,0.0,2,0.0,2.183,2,0.004,0.04,2,0.02,0.154,2,0.07,2,0.0,2,-999.0,9,-999.0,9,-999.0,9,-999.0,9,-999,-999,9,-999.0,9,-999.0,9,-999,9,-999,-999,9,-999,-999,9,-999,9,-999.0,9,-999.0,9,-999.0,9
49NZ20170208,P17E,11,1,17, X12J17,2,20170219,1845,-60.4771,-125.9752,4833,2270.1,2,1.0966,2,1.09663,2,34.7196,2,34.7197,2,-999.0,9,34.8948,2,199.77,2,199.89,2,99.838,0.0065,2,0.002,2,-999.0,9,0.012,1,11.703,1,0.0,2,113.34,2,0.12,32.13,2,0.06,-0.01,2,0.0,2.191,2,0.004,0.01,2,0.02,0.161,2,0.074,2,0.0,2,-999.0,9,-999.0,9,-999.0,9,-999.0,9,-999,-999,9,-999.0,9,-999.0,9,-999,9,-999,-999,9,-999,-999,9,-999,9,-999.0,9,-999.0,9,-999.0,9
49NZ20170208,P17E,11,1,16, X12J16,2,20170219,1845,-60.4771,-125.9752,4833,2469.8,2,0.994,2,0.99383,2,34.7156,2,34.7158,2,-999.0,9,34.8902,2,201.53,2,201.73,2,99.859,0.0056,2,0.002,2,-999.0,9,0.012,1,11.81,1,0.0,2,117.04,2,0.12,32.13,2,0.06,0.0,2,0.0,2.198,2,0.012,0.0,2,0.02,0.181,2,0.08,2,0.0,2,-999.0,9,-999.0,9,-999.0,9,-999.0,9,-999,-999,9,-999.0,9,-999.0,9,-999,9,-999,-999,9,-999,-999,9,-999,9,-999.0,9,-999.0,9,-999.0,9
49NZ20170208,P17E,11,1,15, X12J15,2,20170219,1845,-60.4771,-125.9752,4833,2670.6,2,0.9129,2,0.91286,2,34.7122,2,34.7129,2,-999.0,9,34.8856,2,202.89,2,202.98,2,99.884,0.0046,2,0.002,2,-999.0,9,0.012,1,11.641,1,0.0,2,120.16,2,0.12,32.33,2,0.06,0.0,2,0.0,2.211,2,0.004,0.0,2,0.02,0.182,2,0.087,2,0.002,2,-999.0,9,-999.0,9,-999.0,9,-999.0,9,-999,-999,9,-999.0,9,-999.0,9,-999,9,-999,-999,9,-999,-999,9,-999,9,-999.0,9,-999.0,9,-999.0,9
49NZ20170208,P17E,11,1,14, X12J14,2,20170219,1845,-60.4771,-125.9752,4833,2871.2,2,0.8373,2,0.83718,2,34.7091,2,34.7091,2,-999.0,9,34.8839,2,204.24,2,204.25,2,99.888,0.0045,2,0.002,2,-999.0,9,0.012,1,11.638,1,0.0,2,123.28,2,0.12,32.38,2,0.06,0.0,2,0.0,2.212,2,0.004,0.07,2,0.02,0.207,2,0.102,2,0.003,2,-999.0,9,-999.0,9,-999.0,9,-999.0,9,-999,-999,9,-999.0,9,-999.0,9,-999,9,-999,-999,9,-999,-999,9,-999,9,-999.0,9,-999.0,9,-999.0,9
49NZ20170208,P17E,11,1,13, X12113,2,20170219,1845,-60.4771,-125.9752,4833,3081.6,2,0.761,2,0.76089,2,34.7065,2,34.7066,2,-999.0,9,34.8849,2,205.86,2,205.84,2,99.878,0.0049,2,0.002,2,-999.0,9,0.012,1,11.716,1,0.0,2,125.54,2,0.13,32.51,2,0.06,0.0,2,0.0,2.223,2,0.004,0.03,2,0.02,0.262,2,0.122,2,0.01,2,-999.0,9,-999.0,9,-999.0,9,-999.0,9,-999,-999,9,-999.0,9,-999.0,9,-999,9,-999,-999,9,-999,-999,9,-999,9,-999.0,9,-999.0,9,-999.0,9
49NZ20170208,P17E,11,1,12, X12J12,2,20170219,1845,-60.4771,-125.9752,4833,3332.6,2,0.6694,2,0.66944,2,34.7038,2,34.7036,2,-999.0,9,34.8822,2,207.47,2,207.29,2,99.916,0.0034,2,0.001,2,-999.0,9,0.01,1,11.279,1,0.0,2,127.44,2,0.13,32.51,2,0.06,0.0,2,0.0,2.222,2,0.004,0.04,2,0.02,0.279,2,0.136,2,0.005,2,-999.0,9,-999.0,9,-999.0,9,-999.0,9,-999,-999,9,-999.0,9,-999.0,9,-999,9,-999,-999,9,-999,-999,9,-999,9,-999.0,9,-999.0,9,-999.0,9
49NZ20170208,P17E,11,1,11, X12J11,2,20170219,1845,-60.4771,-125.9752,4833,3582.3,2,0.5695,2,0.56941,2,34.7015,2,34.7009,2,-999.0,9,34.8807,2,209.72,2,209.59,2,99.91,0.0036,2,0.001,2,-999.0,9,0.011,1,12.2,4,0.0,2,129.06,2,0.13,32.73,2,0.06,0.0,2,0.0,2.232,2,0.004,0.07,2,0.02,0.337,2,0.167,2,0.011,2,-999.0,9,-999.0,9,-999.0,9,-999.0,9,-999,-999,9,-999.0,9,-999.0,9,-999,9,-999,-999,9,-999,-999,9,-999,9,-999.0,9,-999.0,9,-999.0,9
49NZ20170208,P17E,11,1,10, X12J10,2,20170219,1845,-60.4771,-125.9752,4833,3833.5,2,0.4944,2,0.49434,2,34.6997,2,34.6993,2,-999.0,9,34.8774,2,211.63,2,211.48,2,99.876,0.005,2,0.001,2,-999.0,9,0.011,1,11.685,4,0.0,2,130.8,2,0.13,32.71,2,0.06,0.0,2,0.0,2.236,2,0.004,0.06,2,0.02,0.413,2,0.205,2,0.014,2,-999.0,9,-999.0,9,-999.0,9,-999.0,9,-999,-999,9,-999.0,9,-999.0,9,-999,9,-999,-999,9,-999,-999,9,-999,9,-999.0,9,-999.0,9,-999.0,9
49NZ20170208,P17E,11,1,24, X12J24,2,20170219,1845,-60.4771,-125.9752,4833,4081.9,2,0.4617,2,0.46169,2,34.6988,2,34.6988,2,-999.0,9,34.8754,2,212.84,2,212.79,2,99.81,0.0076,2,0.002,2,-999.0,9,0.012,1,10.18,4,0.0,2,-999.0,9,-999.0,-999.0,9,-999.0,-999.0,9,-999.0,-999.0,9,-999.0,-999.0,9,-999.0,-999.0,9,-999.0,9,-999.0,9,-999.0,9,-999.0,9,-999.0,9,-999.0,9,-999,-999,9,-999.0,9,-999.0,9,-999,9,-999,-999,9,-999,-999,9,-999,9,-999.0,9,-999.0,9,-999.0,9
49NZ20170208,P17E,11,1,9, X12J09,2,20170219,1845,-60.4771,-125.9752,4833,4081.9,2,0.4618,2,0.46176,2,34.6988,2,34.6987,2,-999.0,9,34.8754,2,212.74,2,212.61,2,99.85,0.006,2,0.001,2,-999.0,9,0.012,1,10.189,4,0.0,2,132.18,2,0.13,32.76,2,0.06,0.01,2,0.0,2.239,2,0.004,0.08,2,0.02,0.446,2,0.218,2,0.013,2,-999.0,9,-999.0,9,-999.0,9,-999.0,9,-999,-999,9,-999.0,9,-999.0,9,-999,9,-999,-999,9,-999,-999,9,-999,9,-999.0,9,-999.0,9,-999.0,9
49NZ20170208,P17E,11,1,21, X12J21,2,20170219,1845,-60.4771,-125.9752,4833,4082.3,2,0.4614,2,0.46137,2,34.6988,2,34.6988,2,-999.0,9,34.8754,2,212.77,2,212.82,2,99.772,0.0091,2,0.001,2,-999.0,9,0.012,1,10.361,4,0.0,2,-999.0,9,-999.0,-999.0,9,-999.0,-999.0,9,-999.0,-999.0,9,-999.0,-999.0,9,-999.0,-999.0,9,-999.0,9,-999.0,9,-999.0,9,-999.0,9,-999.0,9,-999.0,9,-999,-999,9,-999.0,9,-999.0,9,-999,9,-999,-999,9,-999,-999,9,-999,9,-999.0,9,-999.0,9,-999.0,9
49NZ20170208,P17E,11,1,20, X12J20,2,20170219,1845,-60.4771,-125.9752,4833,4082.5,2,0.4616,2,0.46161,2,34.6988,2,34.6987,2,-999.0,9,34.8754,2,212.74,2,212.98,2,99.865,0.0054,2,0.001,2,-999.0,9,0.013,1,10.328,4,0.0,2,-999.0,9,-999.0,-999.0,9,-999.0,-999.0,9,-999.0,-999.0,9,-999.0,-999.0,9,-999.0,-999.0,9,-999.0,9,-999.0,9,-999.0,9,-999.0,9,-999.0,9,-999.0,9,-999,-999,9,-999.0,9,-999.0,9,-999,9,-999,-999,9,-999,-999,9,-999,9,-999.0,9,-999.0,9,-999.0,9
49NZ20170208,P17E,11,1,22, X12J22,2,20170219,1845,-60.4771,-125.9752,4833,4082.7,2,0.4614,2,0.46136,2,34.6989,2,34.6983,2,-999.0,9,34.8753,2,212.74,2,212.86,2,99.88,0.0048,2,0.001,2,-999.0,9,0.012,1,10.467,4,0.0,2,-999.0,9,-999.0,-999.0,9,-999.0,-999.0,9,-999.0,-999.0,9,-999.0,-999.0,9,-999.0,-999.0,9,-999.0,9,-999.0,9,-999.0,9,-999.0,9,-999.0,9,-999.0,9,-999,-999,9,-999.0,9,-999.0,9,-999,9,-999,-999,9,-999,-999,9,-999,9,-999.0,9,-999.0,9,-999.0,9
49NZ20170208,P17E,11,1,23, X12J23,2,20170219,1845,-60.4771,-125.9752,4833,4082.9,2,0.4615,2,0.46143,2,34.6988,2,34.6992,2,-999.0,9,34.8752,2,212.71,2,212.83,2,99.855,0.0058,2,0.002,2,-999.0,9,0.012,1,10.42,4,0.0,2,-999.0,9,-999.0,-999.0,9,-999.0,-999.0,9,-999.0,-999.0,9,-999.0,-999.0,9,-999.0,-999.0,9,-999.0,9,-999.0,9,-999.0,9,-999.0,9,-999.0,9,-999.0,9,-999,-999,9,-999.0,9,-999.0,9,-999,9,-999,-999,9,-999,-999,9,-999,9,-999.0,9,-999.0,9,-999.0,9
49NZ20170208,P17E,11,1,8, X12J08,2,20170219,1845,-60.4771,-125.9752,4833,4329.7,2,0.4461,2,0.44613,2,34.6983,2,34.6981,2,-999.0,9,34.8714,2,213.47,2,213.41,2,99.817,0.0073,2,0.001,2,-999.0,9,0.012,1,4.074,4,0.0,2,133.67,2,0.13,32.79,2,0.06,0.0,2,0.0,2.241,2,0.004,0.03,2,0.02,0.465,2,0.238,2,0.011,2,-999.0,9,-999.0,9,-999.0,9,-999.0,9,-999,-999,9,-999.0,9,-999.0,9,-999,9,-999,-999,9,-999,-999,9,-999,9,-999.0,9,-999.0,9,-999.0,9
49NZ20170208,P17E,11,1,7, X12J07,2,20170219,1845,-60.4771,-125.9752,4833,4582.5,2,0.4358,2,0.43567,2,34.6978,2,34.698,2,-999.0,9,34.8715,2,214.15,2,214.15,2,99.817,0.0073,2,0.001,2,-999.0,9,0.012,1,-0.976,4,0.0,2,135.09,2,0.13,32.82,2,0.06,0.0,2,0.0,2.243,2,0.004,0.05,2,0.02,0.487,2,0.243,2,0.012,2,-999.0,9,-999.0,9,-999.0,9,-999.0,9,-999,-999,9,-999.0,9,-999.0,9,-999,9,-999,-999,9,-999,-999,9,-999,9,-999.0,9,-999.0,9,-999.0,9
49NZ20170208,P17E,11,1,1, X12J01,2,20170219,1845,-60.4771,-125.9752,4833,4873.3,2,0.4584,2,0.45841,2,34.6979,2,34.6974,2,-999.0,9,34.8734,2,214.25,2,214.16,2,99.61,0.0156,2,0.001,2,-999.0,9,0.031,1,521.396,4,0.0,2,136.57,2,0.14,32.75,2,0.06,0.0,2,0.0,2.252,2,0.004,0.04,2,0.02,0.485,2,0.233,2,0.026,2,-999.0,9,-999.0,9,-999.0,9,-999.0,9,-999,-999,9,-999.0,9,-999.0,9,-999,9,-999,-999,9,-999,-999,9,-999,9,-999.0,9,-999.0,9,-999.0,9