BOTTLE,20240216CCHSIOADS
EXPOCODE,SECT_ID,STNNBR,CASTNO,SAMPNO,BTLNBR,BTLNBR_FLAG_W,DATE,TIME,LATITUDE,LONGITUDE,DEPTH,CTDPRS,CTDPRS_FLAG_W,CTDTMP,CTDTMP_FLAG_W,REFTMP,REFTMP_FLAG_W,CTDSAL,CTDSAL_FLAG_W,SALNTY,SALNTY_FLAG_W,DNSSAL,DNSSAL_FLAG_W,CTDSVLSAL,CTDSVLSAL_FLAG_W,CTDOXY,CTDOXY_FLAG_W,OXYGEN,OXYGEN_FLAG_W,CTDXMISS,CTDBEAMCP,CTDXMISS_FLAG_W,CTDFLUOR,CTDFLUOR_FLAG_W,CHLORA,CHLORA_FLAG_W,CTDTURB,CTDTURB_FLAG_W,CTDCDOM,CTDCDOM_FLAG_W,PAR,PAR_FLAG_W,SILCAT,SILCAT_FLAG_W,SILUNC,NITRAT,NITRAT_FLAG_W,NRAUNC,NITRIT,NITRIT_FLAG_W,NRIUNC,PHSPHT,PHSPHT_FLAG_W,PHPUNC,NH4,NH4_FLAG_W,NH4UNC,CFC-11,CFC-11_FLAG_W,CFC-12,CFC-12_FLAG_W,CFC113,CFC113_FLAG_W,SF6,SF6_FLAG_W,N2O,N2O_FLAG_W,TCARBN,TCARBN_FLAG_W,ALKALI,ALKALI_FLAG_W,PH_TOT,PH_TMP,PH_TOT_FLAG_W,CALCIUM,CALCIUM_FLAG_W,DOC,DOC_FLAG_W,DELC13,DELC13_FLAG_W,C13ERR,DELC14,DELC14_FLAG_W,C14ERR,POC,POC_FLAG_W,HPLC,HPLC_FLAG_W,CDOM325,CDOM325_FLAG_W,CDOM370,CDOM370_FLAG_W,CDOM443,CDOM443_FLAG_W
,,,,,,,,,,,METERS,DBAR,,ITS-90,,ITS-90,,PSS-78,,PSS-78,,G/KG,,G/KG,,UMOL/KG,,UMOL/KG,,%TRANS,/METER,,MG/M^3,,UG/L,,FTU,,QSU,,UMOL/M^2/SEC,,UMOL/KG,,UMOL/KG,UMOL/KG,,UMOL/KG,UMOL/KG,,UMOL/KG,UMOL/KG,,UMOL/KG,UMOL/KG,,UMOL/KG,PMOL/KG,,PMOL/KG,,PMOL/KG,,FMOL/KG,,NMOL/KG,,UMOL/KG,,UMOL/KG,,,DEG C,,MMOL/KG,,UMOL/KG,,/MILLE,,/MILLE,/MILLE,,/MILLE,UG/KG,,,,/METER,,/METER,,/METER,
49NZ20170208,P17E,6,1,0,    BUC,2,20170217,1929,-63.6835,-125.9928,4955,0.0,2,-999.0,9,-999.0,9,-999.0,9,33.8295,2,-999.0,9,-999.0,9,-999.0,9,-999.0,9,-999.0,-999.0,9,-999.0,9,0.26,2,-999.0,9,-999.0,9,-999.0,9,6.41,2,0.03,23.57,2,0.05,0.23,2,0.0,1.603,2,0.003,0.66,2,0.02,-999.0,9,-999.0,9,-999.0,9,-999.0,9,-999.0,9,-999.0,9,-999.0,9,-999,-999,9,10.042,2,-999.0,9,-999,9,-999,-999,9,-999,-999,9,-999,9,-999.0,9,-999.0,9,-999.0,9
49NZ20170208,P17E,6,1,36, X12J36,2,20170217,1929,-63.6835,-125.9928,4955,10.1,2,2.7316,2,2.73193,2,33.829,2,33.8297,2,33.9899,2,33.9999,2,324.66,2,324.86,2,96.046,0.1614,2,0.15,2,0.23,2,0.107,1,8.199,1,143.976,2,6.39,2,0.03,23.64,2,0.05,0.23,2,0.0,1.604,2,0.003,0.66,2,0.02,5.196,6,2.888,6,0.495,6,3.385,6,23.0,3,2140.7,2,2279.3,2,-999,-999,9,10.049,2,-999.0,9,-999,1,-999,-999,1,-999,-999,9,-999,9,-999.0,9,-999.0,9,-999.0,9
49NZ20170208,P17E,6,1,35, X12J35,2,20170217,1929,-63.6835,-125.9928,4955,50.6,2,2.728,2,2.72687,2,33.8309,2,33.8323,2,33.9918,2,34.0074,2,324.57,2,324.22,2,96.056,0.1609,2,0.253,2,0.23,2,0.109,1,7.945,1,9.33,2,6.39,2,0.03,23.63,2,0.05,0.23,2,0.0,1.608,2,0.003,0.68,2,0.02,5.216,2,2.868,2,0.483,2,3.501,2,23.8,3,2141.7,6,2278.7,2,-999,-999,9,-999.0,9,-999.0,9,-999,1,-999,-999,1,-999,-999,9,-999,9,-999.0,9,-999.0,9,-999.0,9
49NZ20170208,P17E,6,1,2, X12J02,2,20170217,1929,-63.6835,-125.9928,4955,69.9,2,2.4681,2,2.47378,2,33.8752,2,33.8906,2,34.0564,2,34.0333,2,325.18,2,326.94,2,96.487,0.1431,2,0.287,2,0.3,2,0.113,1,8.156,1,3.626,2,9.86,2,0.03,24.38,2,0.05,0.22,2,0.0,1.723,2,0.003,0.99,2,0.02,-999.0,9,-999.0,9,-999.0,9,-999.0,9,-999.0,9,2148.8,2,2282.5,2,-999,-999,9,-999.0,9,-999.0,9,-999,9,-999,-999,9,-999,-999,9,-999,9,-999.0,9,-999.0,9,-999.0,9
49NZ20170208,P17E,6,1,34, X12J34,2,20170217,1929,-63.6835,-125.9928,4955,102.4,2,1.0452,2,1.05044,2,34.0434,2,34.0446,2,34.2067,2,34.2327,2,320.27,2,320.73,2,98.167,0.074,2,0.131,2,0.23,2,0.052,1,8.503,1,0.589,2,28.82,2,0.05,27.82,2,0.05,0.31,2,0.0,2.029,2,0.004,1.17,2,0.02,5.283,2,2.91,2,0.5,2,3.612,2,26.3,3,2175.0,2,2292.3,2,-999,-999,9,10.105,2,-999.0,9,-999,1,-999,-999,1,-999,-999,9,-999,9,-999.0,9,-999.0,9,-999.0,9
49NZ20170208,P17E,6,1,33, X12J33,2,20170217,1929,-63.6835,-125.9928,4955,150.9,2,0.4425,2,0.44385,2,34.07,2,34.069,2,34.2331,2,34.2352,2,315.82,2,315.52,2,99.16,0.0338,2,0.021,2,0.05,2,0.03,1,8.923,1,0.0,2,38.77,2,0.05,30.06,2,0.05,0.23,2,0.0,2.078,2,0.004,0.19,2,0.02,5.147,2,2.863,2,0.501,2,3.326,2,27.4,3,2186.5,2,2288.7,2,-999,-999,9,-999.0,9,-999.0,9,-999,1,-999,-999,1,-999,-999,9,-999,9,-999.0,9,-999.0,9,-999.0,9
49NZ20170208,P17E,6,1,32, X12J32,2,20170217,1929,-63.6835,-125.9928,4955,202.1,2,0.6018,2,0.6042,2,34.1392,2,34.1396,2,34.3036,2,34.3289,2,296.34,2,295.89,2,99.263,0.0296,2,0.007,2,0.02,2,0.031,1,9.256,1,0.0,2,46.1,2,0.06,31.36,2,0.06,0.15,2,0.0,2.151,2,0.004,0.04,2,0.02,4.725,2,2.574,2,0.415,2,2.89,2,30.9,3,2199.5,2,2298.8,6,-999,-999,9,10.134,2,-999.0,9,-999,1,-999,-999,1,-999,-999,9,-999,9,-999.0,9,-999.0,9,-999.0,9
49NZ20170208,P17E,6,1,31, X12J31,2,20170217,1929,-63.6835,-125.9928,4955,250.9,2,1.7502,2,1.74903,2,34.3091,2,34.308,2,34.4717,2,34.323,2,222.89,2,223.77,2,99.407,0.0238,2,0.004,2,0.01,2,0.027,1,10.066,1,0.0,2,56.24,2,0.07,33.84,2,0.06,0.01,2,0.0,2.313,2,0.004,0.03,2,0.02,2.921,6,1.511,6,0.222,6,1.334,6,38.0,3,2224.2,2,2308.3,2,-999,-999,9,-999.0,9,-999.0,9,-999,1,-999,-999,1,-999,-999,9,-999,9,-999.0,9,-999.0,9,-999.0,9
49NZ20170208,P17E,6,1,30, X12J30,2,20170217,1929,-63.6835,-125.9928,4955,280.4,2,2.024,2,2.02368,2,34.3719,2,34.3712,2,34.5363,2,34.5526,2,205.81,2,205.3,2,99.47,0.0213,2,0.004,2,-999.0,9,0.023,1,10.456,1,0.0,2,60.44,2,0.07,34.36,2,0.06,0.01,2,0.0,2.349,2,0.004,0.03,2,0.02,2.293,2,1.178,2,0.169,2,0.92,2,39.4,3,2237.6,2,2315.8,2,-999,-999,9,10.214,2,-999.0,9,-999,1,-999,-999,1,-999,-999,9,-999,9,-999.0,9,-999.0,9,-999.0,9
49NZ20170208,P17E,6,1,29, X12J29,2,20170217,1929,-63.6835,-125.9928,4955,371.3,2,2.3287,2,2.3284,2,34.4717,2,34.4717,2,34.6378,2,34.6406,2,182.21,2,181.94,2,99.59,0.0164,2,0.003,2,-999.0,9,0.021,1,11.035,1,0.0,2,67.07,2,0.08,34.74,2,0.06,0.0,2,0.0,2.378,2,0.004,0.02,2,0.02,1.417,2,0.715,2,0.091,2,0.436,2,40.3,3,2249.3,2,2324.6,2,-999,-999,9,10.213,2,-999.0,9,-999,1,-999,-999,1,-999,-999,9,-999,9,-999.0,9,-999.0,9,-999.0,9
49NZ20170208,P17E,6,1,28, X12J28,2,20170217,1929,-63.6835,-125.9928,4955,471.6,2,2.2689,2,2.26904,2,34.5397,2,34.5393,2,34.7084,2,34.7145,2,175.74,2,175.58,2,99.59,0.0164,2,0.003,2,-999.0,9,0.02,1,11.142,1,0.0,2,72.84,2,0.08,34.53,2,0.06,0.0,2,0.0,2.37,2,0.004,0.01,2,0.02,1.029,2,0.523,2,0.07,2,0.311,2,39.9,3,2254.2,2,2330.1,2,-999,-999,9,10.26,2,-999.0,9,-999,1,-999,-999,1,-999,-999,9,-999,9,-999.0,9,-999.0,9,-999.0,9
49NZ20170208,P17E,6,1,27, X12J27,2,20170217,1929,-63.6835,-125.9928,4955,572.9,2,2.2318,2,2.23163,2,34.6008,2,34.5975,2,34.767,2,34.7647,2,173.1,2,173.17,2,99.594,0.0163,2,0.003,2,-999.0,9,0.019,1,11.544,1,0.0,2,77.33,2,0.09,33.91,2,0.06,0.0,2,0.0,2.322,2,0.004,0.04,2,0.02,0.726,2,0.352,2,0.045,2,0.24,2,39.3,3,2255.2,2,2336.0,2,-999,-999,9,10.272,2,-999.0,9,-999,1,-999,-999,1,-999,-999,9,-999,9,-999.0,9,-999.0,9,-999.0,9
49NZ20170208,P17E,6,1,26, X12J26,2,20170217,1929,-63.6835,-125.9928,4955,669.5,2,2.1433,2,2.1422,2,34.6384,2,34.6377,2,34.8072,2,34.8094,2,174.76,2,174.42,2,99.639,0.0145,2,0.003,2,-999.0,9,0.018,1,11.429,1,0.0,2,79.98,2,0.09,33.38,2,0.06,0.0,2,0.0,2.294,2,0.004,0.02,2,0.02,0.59,2,0.287,2,0.032,2,0.115,2,37.4,3,2256.2,2,2338.9,2,-999,-999,9,10.287,2,-999.0,9,-999,1,-999,-999,1,-999,-999,9,-999,9,-999.0,9,-999.0,9,-999.0,9
49NZ20170208,P17E,6,1,25, X12J25,2,20170217,1929,-63.6835,-125.9928,4955,772.0,2,2.114,2,2.11387,2,34.6728,2,34.6726,2,34.8382,2,34.8404,2,176.5,2,176.26,2,99.704,0.0118,2,0.003,2,-999.0,9,0.017,1,11.683,1,0.0,2,82.14,2,0.09,32.79,2,0.06,0.0,2,0.0,2.252,2,0.004,0.01,2,0.02,0.399,2,0.204,2,0.023,2,0.039,2,35.9,3,2256.9,2,2340.1,2,-999,-999,9,10.291,2,-999.0,9,-999,1,-999,-999,1,-999,-999,9,-999,9,-999.0,9,-999.0,9,-999.0,9
49NZ20170208,P17E,6,1,24, X12J24,2,20170217,1929,-63.6835,-125.9928,4955,871.1,2,2.0667,2,2.06665,2,34.6926,2,34.6925,2,34.8593,2,34.8608,2,178.9,2,178.87,2,99.749,0.0101,2,0.002,2,-999.0,9,0.015,1,11.643,1,0.0,2,83.78,2,0.09,32.41,2,0.06,0.0,2,0.0,2.224,2,0.004,0.0,2,0.02,0.326,6,0.164,6,0.022,6,0.046,6,35.7,3,2255.3,2,2344.6,2,-999,-999,9,10.308,2,-999.0,9,-999,1,-999,-999,1,-999,-999,9,-999,9,-999.0,9,-999.0,9,-999.0,9
49NZ20170208,P17E,6,1,23, X12J23,2,20170217,1929,-63.6835,-125.9928,4955,969.8,2,1.9909,2,1.99088,2,34.7092,2,34.7094,2,34.8784,2,34.8805,2,181.63,2,181.6,2,99.768,0.0093,2,0.002,2,-999.0,9,0.014,1,11.494,1,0.0,2,86.0,2,0.09,31.95,2,0.06,0.0,2,0.0,2.196,2,0.004,0.01,2,0.02,0.267,2,0.134,2,0.013,2,0.002,2,-999.0,5,2252.8,2,2345.0,2,-999,-999,9,10.319,2,-999.0,9,-999,1,-999,-999,1,-999,-999,9,-999,9,-999.0,9,-999.0,9,-999.0,9
49NZ20170208,P17E,6,1,22, X12J22,2,20170217,1929,-63.6835,-125.9928,4955,1128.1,2,1.8673,2,1.86749,2,34.7237,2,34.7234,2,34.8916,2,34.8932,2,185.64,2,185.46,2,99.772,0.0091,2,0.002,2,-999.0,9,0.014,1,11.676,1,0.0,2,89.16,2,0.1,31.58,2,0.06,0.0,2,0.0,2.177,2,0.004,0.0,2,0.02,0.224,2,0.113,2,0.009,2,0.012,2,34.2,3,2253.7,2,2347.7,6,-999,-999,9,10.325,2,-999.0,9,-999,1,-999,-999,1,-999,-999,9,-999,9,-999.0,9,-999.0,9,-999.0,9
49NZ20170208,P17E,6,1,21, X12J21,2,20170217,1929,-63.6835,-125.9928,4955,1331.2,2,1.6872,2,1.68637,2,34.7313,2,34.7312,2,34.9008,2,34.9016,2,189.82,2,189.55,2,99.81,0.0076,2,0.002,2,-999.0,9,0.015,1,11.675,1,0.0,2,93.97,2,0.1,31.49,2,0.06,0.0,2,0.0,2.164,2,0.004,0.02,2,0.02,0.193,2,0.095,2,0.007,2,0.0,2,34.1,3,2262.2,2,2348.3,2,-999,-999,9,10.312,2,-999.0,9,-999,1,-999,-999,1,-999,-999,9,-999,9,-999.0,9,-999.0,9,-999.0,9
49NZ20170208,P17E,6,1,20, X12J20,2,20170217,1929,-63.6835,-125.9928,4955,1531.4,2,1.5201,2,1.52,2,34.7315,2,34.7317,2,34.9023,2,34.9009,2,192.42,2,192.32,2,99.852,0.0059,2,0.002,2,-999.0,9,0.016,1,11.904,1,0.0,2,99.17,2,0.1,31.52,2,0.06,0.0,2,0.0,2.169,2,0.004,0.02,2,0.02,0.178,2,0.087,2,0.008,2,0.0,2,33.9,3,2260.2,2,2354.9,2,-999,-999,9,10.314,2,-999.0,9,-999,1,-999,-999,1,-999,-999,9,-999,9,-999.0,9,-999.0,9,-999.0,9
49NZ20170208,P17E,6,1,19, X12J19,2,20170217,1929,-63.6835,-125.9928,4955,1730.0,2,1.3625,2,1.3626,2,34.7284,2,34.7283,2,34.8995,2,34.8996,2,194.96,2,195.21,2,99.856,0.0058,2,0.002,2,-999.0,9,0.011,1,12.044,1,0.0,2,104.46,2,0.11,31.55,2,0.06,0.0,2,0.0,2.182,2,0.004,0.01,2,0.02,0.158,2,0.078,2,0.004,2,0.011,2,33.4,3,2256.9,2,2353.8,3,-999,-999,9,-999.0,9,-999.0,9,-999,1,-999,-999,1,-999,-999,9,-999,9,-999.0,9,-999.0,9,-999.0,9
49NZ20170208,P17E,6,1,18, X12J18,2,20170217,1929,-63.6835,-125.9928,4955,1929.1,2,1.2259,2,1.22593,2,34.7246,2,34.7249,2,34.8955,2,34.8986,2,197.15,2,197.47,2,99.856,0.0058,2,0.002,2,-999.0,9,0.012,1,11.781,1,0.0,2,108.72,2,0.11,31.8,2,0.06,0.0,2,0.0,2.194,2,0.004,0.02,2,0.02,0.167,2,0.083,2,0.004,2,0.248,3,-999.0,5,2258.7,2,2358.3,2,-999,-999,9,-999.0,9,-999.0,9,-999,1,-999,-999,1,-999,-999,9,-999,9,-999.0,9,-999.0,9,-999.0,9
49NZ20170208,P17E,6,1,17, X12J17,2,20170217,1929,-63.6835,-125.9928,4955,2132.8,2,1.1043,2,1.10423,2,34.7202,2,34.7204,2,34.8916,2,34.8957,2,198.7,2,199.08,2,99.867,0.0053,2,0.002,2,-999.0,9,0.012,1,11.88,1,0.0,2,113.15,2,0.12,32.05,2,0.06,-0.01,2,0.0,2.206,2,0.004,0.02,2,0.02,0.157,2,0.078,2,0.005,2,0.247,3,31.5,3,2260.6,2,2359.6,2,-999,-999,9,10.313,2,-999.0,9,-999,1,-999,-999,1,-999,-999,9,-999,9,-999.0,9,-999.0,9,-999.0,9
49NZ20170208,P17E,6,1,16, X12J16,2,20170217,1929,-63.6835,-125.9928,4955,2331.8,2,1.011,2,1.01078,2,34.7164,2,34.7178,2,34.8878,2,34.8923,2,200.56,2,200.73,2,99.898,0.0041,2,0.002,2,-999.0,9,0.013,1,12.036,1,0.0,2,116.74,2,0.12,32.12,2,0.06,0.0,2,0.0,2.216,2,0.004,0.02,2,0.02,0.162,2,0.084,2,0.005,2,0.183,3,31.6,3,2261.1,6,2359.8,2,-999,-999,9,-999.0,9,-999.0,9,-999,1,-999,-999,1,-999,-999,9,-999,9,-999.0,9,-999.0,9,-999.0,9
49NZ20170208,P17E,6,1,15, X12J15,2,20170217,1929,-63.6835,-125.9928,4955,2531.1,2,0.9213,2,0.92131,2,34.7128,2,34.7129,2,34.8843,2,34.8886,2,202.16,2,202.49,2,99.863,0.0055,2,0.002,2,-999.0,9,0.012,1,11.818,1,0.0,2,119.85,2,0.12,32.16,2,0.06,0.0,2,0.0,2.215,2,0.004,0.03,2,0.02,0.182,2,0.089,2,0.003,2,0.0,2,32.1,3,2261.6,2,2359.6,2,-999,-999,9,-999.0,9,-999.0,9,-999,1,-999,-999,1,-999,-999,9,-999,9,-999.0,9,-999.0,9,-999.0,9
49NZ20170208,P17E,6,1,14, X12J14,2,20170217,1929,-63.6835,-125.9928,4955,2731.2,2,0.8484,2,0.84834,2,34.7098,2,34.7096,2,34.8823,2,34.8864,2,203.49,2,203.78,2,99.877,0.0049,2,0.002,2,-999.0,9,0.012,1,11.748,1,0.0,2,122.94,2,0.12,32.36,2,0.06,0.0,2,0.0,2.225,2,0.004,0.02,2,0.02,0.193,2,0.095,2,0.006,2,0.0,2,32.2,3,2261.8,2,2360.5,2,-999,-999,9,10.313,2,-999.0,9,-999,1,-999,-999,1,-999,-999,9,-999,9,-999.0,9,-999.0,9,-999.0,9
49NZ20170208,P17E,6,1,13, X12113,2,20170217,1929,-63.6835,-125.9928,4955,2931.8,2,0.7844,2,0.78421,2,34.7073,2,34.7073,2,34.8797,2,34.8841,2,204.87,2,205.16,2,99.877,0.0049,2,0.002,2,-999.0,9,0.011,1,11.705,1,0.0,2,125.41,2,0.13,32.37,2,0.06,0.0,2,0.0,2.231,2,0.004,0.02,2,0.02,0.22,2,0.111,2,0.01,2,0.0,2,32.1,3,2262.1,2,2360.3,2,-999,-999,9,-999.0,9,-999.0,9,-999,1,-999,-999,1,-999,-999,9,-999,9,-999.0,9,-999.0,9,-999.0,9
49NZ20170208,P17E,6,1,12, X12J12,2,20170217,1929,-63.6835,-125.9928,4955,3174.9,2,0.6906,2,0.69054,2,34.7046,2,34.7046,2,34.8777,2,34.8832,2,206.66,2,206.69,2,99.888,0.0045,2,0.002,2,-999.0,9,0.011,1,11.724,1,0.0,2,127.44,2,0.13,32.51,2,0.06,0.0,2,0.0,2.238,2,0.004,0.02,2,0.02,0.258,2,0.13,2,0.013,2,0.0,2,32.3,3,2261.2,2,2359.1,6,-999,-999,9,-999.0,9,-999.0,9,-999,1,-999,-999,1,-999,-999,9,-999,9,-999.0,9,-999.0,9,-999.0,9
49NZ20170208,P17E,6,1,11, X12J11,2,20170217,1929,-63.6835,-125.9928,4955,3422.9,2,0.5867,2,0.58685,2,34.702,2,34.7019,2,34.8751,2,34.881,2,208.81,2,208.8,2,99.896,0.0041,2,0.002,2,-999.0,9,0.011,1,11.777,1,0.0,2,128.91,2,0.13,32.56,2,0.06,0.0,2,0.0,2.246,2,0.004,0.02,2,0.02,0.311,2,0.153,2,0.015,2,0.005,2,32.4,3,2262.9,2,2358.0,2,-999,-999,9,10.308,2,-999.0,9,-999,1,-999,-999,1,-999,-999,9,-999,9,-999.0,9,-999.0,9,-999.0,9
49NZ20170208,P17E,6,1,10, X12J10,2,20170217,1929,-63.6835,-125.9928,4955,3673.3,2,0.4978,2,0.49769,2,34.7002,2,34.6997,2,34.8725,2,34.8803,2,210.99,2,210.96,2,99.917,0.0033,2,0.001,2,-999.0,9,0.01,1,12.266,4,0.0,2,130.69,2,0.13,32.73,2,0.06,0.0,2,0.0,2.248,2,0.004,0.01,2,0.02,0.376,2,0.18,2,0.02,2,0.008,2,32.3,3,2265.4,2,2357.6,2,-999,-999,9,-999.0,9,-999.0,9,-999,1,-999,-999,1,-999,-999,9,-999,9,-999.0,9,-999.0,9,-999.0,9
49NZ20170208,P17E,6,1,9, X12J09,2,20170217,1929,-63.6835,-125.9928,4955,3921.9,2,0.4387,2,0.43874,2,34.6993,2,34.6991,2,34.8744,2,34.8777,2,212.64,2,212.51,2,99.886,0.0046,2,0.001,2,-999.0,9,0.011,1,12.023,4,0.0,2,132.91,2,0.13,32.74,2,0.06,0.0,2,0.0,2.255,2,0.004,0.0,2,0.02,0.44,2,0.205,2,0.021,2,0.013,2,-999.0,5,2261.2,2,2359.0,2,-999,-999,9,-999.0,9,-999.0,9,-999,1,-999,-999,1,-999,-999,9,-999,9,-999.0,9,-999.0,9,-999.0,9
49NZ20170208,P17E,6,1,8, X12J08,2,20170217,1929,-63.6835,-125.9928,4955,4172.2,2,0.4011,2,0.40109,2,34.6985,2,34.6981,2,34.8711,2,34.8736,2,213.9,2,214.02,2,99.867,0.0053,2,0.001,2,-999.0,9,0.012,1,11.611,4,0.0,2,134.98,2,0.13,32.81,2,0.06,0.0,2,0.0,2.256,2,0.004,0.0,2,0.02,0.492,2,0.223,2,0.024,2,0.03,2,31.9,3,2264.3,6,2359.3,2,-999,-999,9,10.307,2,-999.0,9,-999,1,-999,-999,1,-999,-999,9,-999,9,-999.0,9,-999.0,9,-999.0,9
49NZ20170208,P17E,6,1,7, X12J07,2,20170217,1929,-63.6835,-125.9928,4955,4419.5,2,0.3886,2,0.38857,2,34.6981,2,34.698,2,34.8725,2,34.8737,2,214.57,2,214.71,2,99.833,0.0067,2,0.001,2,-999.0,9,0.012,1,10.175,4,0.0,2,136.56,2,0.14,32.79,2,0.06,0.0,2,0.0,2.259,2,0.004,0.0,2,0.02,0.543,2,0.239,2,0.026,2,0.043,2,32.1,3,2266.2,2,2356.4,2,-999,-999,9,-999.0,9,-999.0,9,-999,1,-999,-999,1,-999,-999,9,-999,9,-999.0,9,-999.0,9,-999.0,9
49NZ20170208,P17E,6,1,6, X12J06,2,20170217,1929,-63.6835,-125.9928,4955,4671.6,2,0.3989,2,0.39888,2,34.6976,2,34.6976,2,34.8705,2,34.8728,2,214.87,2,215.04,2,99.844,0.0063,2,0.001,2,-999.0,9,0.012,1,4.626,4,0.0,2,137.01,2,0.14,32.86,2,0.06,0.0,2,0.0,2.257,2,0.004,0.01,2,0.02,0.568,2,0.252,2,0.028,2,0.03,2,32.4,3,2264.3,2,2359.3,6,-999,-999,9,-999.0,9,-999.0,9,-999,1,-999,-999,1,-999,-999,9,-999,9,-999.0,9,-999.0,9,-999.0,9
49NZ20170208,P17E,6,1,5, X12J05,2,20170217,1929,-63.6835,-125.9928,4955,4922.7,2,0.4177,2,0.41761,2,34.6972,2,34.6974,2,34.8711,2,34.8729,2,215.1,2,215.31,2,99.782,0.0087,2,0.001,2,-999.0,9,0.014,1,1.478,4,0.0,2,137.52,2,0.14,32.81,2,0.06,0.0,2,0.0,2.262,2,0.004,0.02,2,0.02,0.583,2,0.255,2,0.03,2,0.062,2,32.3,3,2263.5,2,2358.0,2,-999,-999,9,-999.0,9,-999.0,9,-999,1,-999,-999,1,-999,-999,9,-999,9,-999.0,9,-999.0,9,-999.0,9
49NZ20170208,P17E,6,1,1, X12J01,2,20170217,1929,-63.6835,-125.9928,4955,5045.4,2,0.4272,2,0.42721,2,34.6971,2,34.6979,2,34.8711,2,34.8768,2,215.07,2,215.23,2,99.73,0.0108,2,0.002,2,-999.0,9,0.021,1,1.482,4,0.0,2,138.38,2,0.14,32.77,2,0.06,0.0,2,0.0,2.263,2,0.004,0.02,2,0.02,0.591,2,0.261,2,0.027,2,0.032,2,32.1,3,2263.2,2,2359.1,2,-999,-999,9,10.301,2,-999.0,9,-999,1,-999,-999,1,-999,-999,9,-999,9,-999.0,9,-999.0,9,-999.0,9
49NZ20170208,P17E,6,1,4, X12J04,2,20170217,1929,-63.6835,-125.9928,4955,5047.1,2,0.4273,2,0.42728,2,34.697,2,-999.0,9,-999.0,9,34.8739,2,215.04,2,-999.0,9,99.738,0.0105,2,0.002,2,-999.0,9,0.025,1,1.409,4,0.0,2,-999.0,9,-999.0,-999.0,9,-999.0,-999.0,9,-999.0,-999.0,9,-999.0,-999.0,9,-999.0,-999.0,9,-999.0,9,-999.0,9,-999.0,9,-999.0,9,-999.0,9,-999.0,9,-999,-999,9,-999.0,9,-999.0,9,-999,9,-999,-999,9,-999,-999,9,-999,9,-999.0,9,-999.0,9,-999.0,9