BOTTLE,20240216CCHSIOADS
EXPOCODE,SECT_ID,STNNBR,CASTNO,SAMPNO,BTLNBR,BTLNBR_FLAG_W,DATE,TIME,LATITUDE,LONGITUDE,DEPTH,CTDPRS,CTDPRS_FLAG_W,CTDTMP,CTDTMP_FLAG_W,REFTMP,REFTMP_FLAG_W,CTDSAL,CTDSAL_FLAG_W,SALNTY,SALNTY_FLAG_W,DNSSAL,DNSSAL_FLAG_W,CTDSVLSAL,CTDSVLSAL_FLAG_W,CTDOXY,CTDOXY_FLAG_W,OXYGEN,OXYGEN_FLAG_W,CTDXMISS,CTDBEAMCP,CTDXMISS_FLAG_W,CTDFLUOR,CTDFLUOR_FLAG_W,CHLORA,CHLORA_FLAG_W,CTDTURB,CTDTURB_FLAG_W,CTDCDOM,CTDCDOM_FLAG_W,PAR,PAR_FLAG_W,SILCAT,SILCAT_FLAG_W,SILUNC,NITRAT,NITRAT_FLAG_W,NRAUNC,NITRIT,NITRIT_FLAG_W,NRIUNC,PHSPHT,PHSPHT_FLAG_W,PHPUNC,NH4,NH4_FLAG_W,NH4UNC,CFC-11,CFC-11_FLAG_W,CFC-12,CFC-12_FLAG_W,CFC113,CFC113_FLAG_W,SF6,SF6_FLAG_W,N2O,N2O_FLAG_W,TCARBN,TCARBN_FLAG_W,ALKALI,ALKALI_FLAG_W,PH_TOT,PH_TMP,PH_TOT_FLAG_W,CALCIUM,CALCIUM_FLAG_W,DOC,DOC_FLAG_W,DELC13,DELC13_FLAG_W,C13ERR,DELC14,DELC14_FLAG_W,C14ERR,POC,POC_FLAG_W,HPLC,HPLC_FLAG_W,CDOM325,CDOM325_FLAG_W,CDOM370,CDOM370_FLAG_W,CDOM443,CDOM443_FLAG_W
,,,,,,,,,,,METERS,DBAR,,ITS-90,,ITS-90,,PSS-78,,PSS-78,,G/KG,,G/KG,,UMOL/KG,,UMOL/KG,,%TRANS,/METER,,MG/M^3,,UG/L,,FTU,,QSU,,UMOL/M^2/SEC,,UMOL/KG,,UMOL/KG,UMOL/KG,,UMOL/KG,UMOL/KG,,UMOL/KG,UMOL/KG,,UMOL/KG,UMOL/KG,,UMOL/KG,PMOL/KG,,PMOL/KG,,PMOL/KG,,FMOL/KG,,NMOL/KG,,UMOL/KG,,UMOL/KG,,,DEG C,,MMOL/KG,,UMOL/KG,,/MILLE,,/MILLE,/MILLE,,/MILLE,UG/KG,,,,/METER,,/METER,,/METER,
49NZ20170208,P17E,9,1,0,    BUC,2,20170219,0543,-61.6638,-125.9937,4833,0.0,2,-999.0,9,-999.0,9,-999.0,9,33.8865,2,-999.0,9,-999.0,9,-999.0,9,-999.0,9,-999.0,-999.0,9,-999.0,9,-999.0,9,-999.0,9,-999.0,9,-999.0,9,7.27,2,0.03,23.9,2,0.05,0.24,2,0.0,1.646,2,0.003,0.7,2,0.02,-999.0,9,-999.0,9,-999.0,9,-999.0,9,-999.0,9,-999.0,9,-999.0,9,-999,-999,9,-999.0,9,-999.0,9,-999,9,-999,-999,9,-999,-999,9,-999,9,-999.0,9,-999.0,9,-999.0,9
49NZ20170208,P17E,9,1,36, X12J36,2,20170219,0543,-61.6638,-125.9937,4833,12.0,2,2.7676,2,2.7676,2,33.8836,2,33.8837,2,-999.0,9,34.0465,2,322.58,2,322.96,2,96.317,0.1501,2,0.279,2,-999.0,9,0.1,1,7.429,1,0.0,2,7.33,2,0.03,23.92,2,0.05,0.24,2,0.0,1.647,2,0.003,0.72,2,0.02,5.134,6,2.847,6,0.487,6,-999.0,9,-999.0,9,-999.0,9,-999.0,9,-999,-999,9,-999.0,9,-999.0,9,-999,9,-999,-999,9,-999,-999,9,-999,9,-999.0,9,-999.0,9,-999.0,9
49NZ20170208,P17E,9,1,35, X12J35,2,20170219,0543,-61.6638,-125.9937,4833,52.1,2,2.7677,2,2.76778,2,33.8833,2,33.8839,2,-999.0,9,34.0533,2,322.29,2,322.19,2,96.321,0.1499,2,0.272,2,-999.0,9,0.094,1,7.434,1,0.0,2,7.32,2,0.03,23.87,2,0.05,0.24,2,0.0,1.646,2,0.003,0.71,2,0.02,5.126,2,2.845,2,0.492,2,-999.0,9,-999.0,9,-999.0,9,-999.0,9,-999,-999,9,-999.0,9,-999.0,9,-999,9,-999,-999,9,-999,-999,9,-999,9,-999.0,9,-999.0,9,-999.0,9
49NZ20170208,P17E,9,1,34, X12J34,2,20170219,0543,-61.6638,-125.9937,4833,101.5,2,0.9052,2,0.9107,2,34.0152,2,34.0152,2,-999.0,9,34.1839,2,314.72,2,314.62,2,98.811,0.0478,2,0.053,2,-999.0,9,0.057,1,7.779,1,0.0,2,30.19,2,0.05,28.55,2,0.05,0.35,2,0.0,2.001,2,0.004,0.41,2,0.02,5.203,2,2.864,2,0.482,2,-999.0,9,-999.0,9,-999.0,9,-999.0,9,-999,-999,9,-999.0,9,-999.0,9,-999,9,-999,-999,9,-999,-999,9,-999,9,-999.0,9,-999.0,9,-999.0,9
49NZ20170208,P17E,9,1,33, X12J33,2,20170219,0543,-61.6638,-125.9937,4833,151.6,2,1.0208,2,1.02745,2,34.0796,2,34.0791,2,-999.0,9,34.2453,2,299.81,2,299.52,2,99.033,0.0389,2,0.029,2,-999.0,9,0.038,1,8.362,1,0.0,2,36.43,2,0.05,30.56,2,0.06,0.15,2,0.0,2.089,2,0.004,0.0,2,0.02,4.85,2,2.655,2,0.452,2,-999.0,9,-999.0,9,-999.0,9,-999.0,9,-999,-999,9,-999.0,9,-999.0,9,-999,9,-999,-999,9,-999,-999,9,-999,9,-999.0,9,-999.0,9,-999.0,9
49NZ20170208,P17E,9,1,32, X12J32,2,20170219,0543,-61.6638,-125.9937,4833,201.2,2,1.1259,2,1.12869,2,34.1521,2,34.1523,2,-999.0,9,34.325,2,285.62,2,284.97,2,99.295,0.0283,2,0.009,2,-999.0,9,0.099,1,8.51,1,0.0,2,43.9,2,0.06,31.83,2,0.06,0.07,2,0.0,2.173,2,0.004,-0.01,2,0.02,4.42,2,2.418,2,0.4,2,-999.0,9,-999.0,9,-999.0,9,-999.0,9,-999,-999,9,-999.0,9,-999.0,9,-999,9,-999,-999,9,-999,-999,9,-999,9,-999.0,9,-999.0,9,-999.0,9
49NZ20170208,P17E,9,1,31, X12J31,2,20170219,0543,-61.6638,-125.9937,4833,250.2,2,1.4065,2,1.40807,2,34.222,2,34.2236,2,-999.0,9,34.4105,2,261.67,2,259.68,2,99.375,0.0251,2,0.004,2,-999.0,9,0.032,1,9.129,1,0.0,2,49.12,2,0.06,32.82,2,0.06,0.01,2,0.0,2.239,2,0.004,0.0,2,0.02,3.733,6,2.029,6,0.314,6,-999.0,9,-999.0,9,-999.0,9,-999.0,9,-999,-999,9,-999.0,9,-999.0,9,-999,9,-999,-999,9,-999,-999,9,-999,9,-999.0,9,-999.0,9,-999.0,9
49NZ20170208,P17E,9,1,30, X12J30,2,20170219,0543,-61.6638,-125.9937,4833,284.1,2,1.4895,2,1.4897,2,34.258,2,34.2562,2,-999.0,9,34.4287,2,250.31,2,250.34,2,99.352,0.026,2,0.003,2,-999.0,9,0.026,1,9.432,1,0.0,2,51.97,2,0.06,33.26,2,0.06,0.01,2,0.0,2.265,2,0.004,0.0,2,0.02,3.468,2,1.878,2,0.293,2,-999.0,9,-999.0,9,-999.0,9,-999.0,9,-999,-999,9,-999.0,9,-999.0,9,-999,9,-999,-999,9,-999,-999,9,-999,9,-999.0,9,-999.0,9,-999.0,9
49NZ20170208,P17E,9,1,29, X12J29,2,20170219,0543,-61.6638,-125.9937,4833,368.9,2,2.1544,2,2.15588,2,34.4098,2,34.401,2,-999.0,9,34.5696,2,196.82,2,198.66,2,99.483,0.0207,2,0.003,2,-999.0,9,0.025,1,10.548,1,0.0,2,62.2,2,0.07,34.46,2,0.06,0.01,2,0.0,2.355,2,0.004,0.0,2,0.02,1.903,2,1.018,2,0.14,2,-999.0,9,-999.0,9,-999.0,9,-999.0,9,-999,-999,9,-999.0,9,-999.0,9,-999,9,-999,-999,9,-999,-999,9,-999,9,-999.0,9,-999.0,9,-999.0,9
49NZ20170208,P17E,9,1,28, X12J28,2,20170219,0543,-61.6638,-125.9937,4833,470.7,2,2.2741,2,2.27387,2,34.4934,2,34.4934,2,-999.0,9,34.6706,2,179.81,2,179.84,2,99.586,0.0166,2,0.003,2,-999.0,9,0.021,1,10.775,1,0.0,2,69.56,2,0.08,34.8,2,0.06,0.01,2,0.0,2.381,2,0.004,0.02,2,0.02,1.214,2,0.639,2,0.083,2,-999.0,9,-999.0,9,-999.0,9,-999.0,9,-999,-999,9,-999.0,9,-999.0,9,-999,9,-999,-999,9,-999,-999,9,-999,9,-999.0,9,-999.0,9,-999.0,9
49NZ20170208,P17E,9,1,27, X12J27,2,20170219,0543,-61.6638,-125.9937,4833,572.6,2,2.2392,2,2.23866,2,34.5612,2,34.5601,2,-999.0,9,34.7344,2,176.41,2,176.26,2,99.666,0.0134,2,0.003,2,-999.0,9,0.019,1,11.21,1,0.0,2,73.7,2,0.08,34.38,2,0.06,0.01,2,0.0,2.349,2,0.004,0.04,2,0.02,0.846,2,0.453,2,0.051,2,-999.0,9,-999.0,9,-999.0,9,-999.0,9,-999,-999,9,-999.0,9,-999.0,9,-999,9,-999,-999,9,-999,-999,9,-999,9,-999.0,9,-999.0,9,-999.0,9
49NZ20170208,P17E,9,1,26, X12J26,2,20170219,0543,-61.6638,-125.9937,4833,673.4,2,2.1784,2,2.17881,2,34.6053,2,34.6056,2,-999.0,9,34.7756,2,174.89,2,174.87,2,99.671,0.0132,2,0.003,2,-999.0,9,0.019,1,11.244,1,0.0,2,77.62,2,0.09,33.91,2,0.06,0.0,2,0.0,2.316,2,0.004,0.03,2,0.02,0.666,2,0.351,2,0.033,2,-999.0,9,-999.0,9,-999.0,9,-999.0,9,-999,-999,9,-999.0,9,-999.0,9,-999,9,-999,-999,9,-999,-999,9,-999,9,-999.0,9,-999.0,9,-999.0,9
49NZ20170208,P17E,9,1,25, X12J25,2,20170219,0543,-61.6638,-125.9937,4833,771.8,2,2.1498,2,2.14957,2,34.647,2,34.6457,2,-999.0,9,34.8135,2,175.25,2,175.39,2,99.664,0.0134,2,0.003,2,-999.0,9,0.018,1,11.202,1,0.0,2,80.07,2,0.09,33.34,2,0.06,0.0,2,0.0,2.275,2,0.004,0.04,2,0.02,0.483,2,0.256,2,0.023,2,-999.0,9,-999.0,9,-999.0,9,-999.0,9,-999,-999,9,-999.0,9,-999.0,9,-999,9,-999,-999,9,-999,-999,9,-999,9,-999.0,9,-999.0,9,-999.0,9
49NZ20170208,P17E,9,1,24, X12J24,2,20170219,0543,-61.6638,-125.9937,4833,872.4,2,2.1147,2,2.11511,2,34.677,2,34.676,2,-999.0,9,34.8458,2,177.06,2,177.18,2,99.719,0.0112,2,0.002,2,-999.0,9,0.018,1,11.273,1,0.0,2,82.21,2,0.09,32.82,2,0.06,0.0,2,0.0,2.243,2,0.004,0.04,2,0.02,0.365,6,0.189,6,0.012,6,-999.0,9,-999.0,9,-999.0,9,-999.0,9,-999,-999,9,-999.0,9,-999.0,9,-999,9,-999,-999,9,-999,-999,9,-999,9,-999.0,9,-999.0,9,-999.0,9
49NZ20170208,P17E,9,1,23, X12J23,2,20170219,0543,-61.6638,-125.9937,4833,971.6,2,2.0584,2,2.05808,2,34.6955,2,34.6959,2,-999.0,9,34.8635,2,179.05,2,179.27,2,99.785,0.0086,2,0.002,2,-999.0,9,0.014,1,11.624,1,0.0,2,84.31,2,0.09,32.46,2,0.06,0.0,2,0.0,2.219,2,0.004,0.01,2,0.02,0.304,2,0.151,2,0.012,2,-999.0,9,-999.0,9,-999.0,9,-999.0,9,-999,-999,9,-999.0,9,-999.0,9,-999,9,-999,-999,9,-999,-999,9,-999,9,-999.0,9,-999.0,9,-999.0,9
49NZ20170208,P17E,9,1,22, X12J22,2,20170219,0543,-61.6638,-125.9937,4833,1131.6,2,1.9279,2,1.92775,2,34.7186,2,34.7184,2,-999.0,9,34.8848,2,183.95,2,184.12,2,99.842,0.0063,2,0.002,2,-999.0,9,0.013,1,11.328,1,0.0,2,87.67,2,0.09,31.96,2,0.06,0.0,2,0.0,2.182,2,0.004,0.01,2,0.02,0.227,2,0.113,2,0.005,2,-999.0,9,-999.0,9,-999.0,9,-999.0,9,-999,-999,9,-999.0,9,-999.0,9,-999,9,-999,-999,9,-999,-999,9,-999,9,-999.0,9,-999.0,9,-999.0,9
49NZ20170208,P17E,9,1,21, X12J21,2,20170219,0543,-61.6638,-125.9937,4833,1331.0,2,1.7698,2,1.76998,2,34.7295,2,34.7296,2,-999.0,9,34.8961,2,188.6,2,188.87,2,99.819,0.0073,2,0.002,2,-999.0,9,0.013,1,11.882,1,0.0,2,91.97,2,0.1,31.51,2,0.06,0.0,2,0.0,2.163,2,0.004,0.0,2,0.02,0.187,2,0.094,2,0.004,2,-999.0,9,-999.0,9,-999.0,9,-999.0,9,-999,-999,9,-999.0,9,-999.0,9,-999,9,-999,-999,9,-999,-999,9,-999,9,-999.0,9,-999.0,9,-999.0,9
49NZ20170208,P17E,9,1,20, X12J20,2,20170219,0543,-61.6638,-125.9937,4833,1530.8,2,1.5898,2,1.58987,2,34.7318,2,34.7323,2,-999.0,9,34.8993,2,191.36,2,191.55,2,99.854,0.0058,2,0.002,2,-999.0,9,0.012,1,11.476,1,0.0,2,97.34,2,0.1,31.6,2,0.06,0.0,2,0.0,2.168,2,0.004,0.01,2,0.02,0.173,2,0.081,2,0.002,2,-999.0,9,-999.0,9,-999.0,9,-999.0,9,-999,-999,9,-999.0,9,-999.0,9,-999,9,-999,-999,9,-999,-999,9,-999,9,-999.0,9,-999.0,9,-999.0,9
49NZ20170208,P17E,9,1,18, X12J18,2,20170219,0543,-61.6638,-125.9937,4833,1730.3,2,1.4272,2,1.42722,2,34.7299,2,34.7299,2,-999.0,9,34.9004,2,193.54,2,193.67,2,99.871,0.0052,2,0.002,2,-999.0,9,0.012,1,11.592,1,0.0,2,-999.0,9,-999.0,-999.0,9,-999.0,-999.0,9,-999.0,-999.0,9,-999.0,-999.0,9,-999.0,-999.0,9,-999.0,9,-999.0,9,-999.0,9,-999.0,9,-999.0,9,-999.0,9,-999,-999,9,-999.0,9,-999.0,9,-999,9,-999,-999,9,-999,-999,9,-999,9,-999.0,9,-999.0,9,-999.0,9
49NZ20170208,P17E,9,1,19, X12J19,2,20170219,0543,-61.6638,-125.9937,4833,1731.1,2,1.4274,2,1.42743,2,34.7298,2,34.7301,2,-999.0,9,34.8998,2,193.51,2,193.66,2,99.871,0.0052,2,0.002,2,-999.0,9,0.012,1,11.638,1,0.0,2,102.66,2,0.11,31.76,2,0.06,0.0,2,0.0,2.183,2,0.004,0.02,2,0.02,0.143,2,0.072,2,0.0,2,-999.0,9,-999.0,9,-999.0,9,-999.0,9,-999,-999,9,-999.0,9,-999.0,9,-999,9,-999,-999,9,-999,-999,9,-999,9,-999.0,9,-999.0,9,-999.0,9
49NZ20170208,P17E,9,1,17, X12J17,2,20170219,0543,-61.6638,-125.9937,4833,1731.2,2,1.4257,2,1.4258,2,34.7297,2,34.7301,2,-999.0,9,34.8998,2,193.53,2,193.59,2,99.878,0.0049,2,0.002,2,-999.0,9,0.012,1,11.86,1,0.0,2,-999.0,9,-999.0,-999.0,9,-999.0,-999.0,9,-999.0,-999.0,9,-999.0,-999.0,9,-999.0,-999.0,9,-999.0,9,-999.0,9,-999.0,9,-999.0,9,-999.0,9,-999.0,9,-999,-999,9,-999.0,9,-999.0,9,-999,9,-999,-999,9,-999,-999,9,-999,9,-999.0,9,-999.0,9,-999.0,9
49NZ20170208,P17E,9,1,16, X12J16,2,20170219,0543,-61.6638,-125.9937,4833,1731.8,2,1.4255,2,1.42581,2,34.7297,2,34.7315,2,-999.0,9,34.8995,2,193.53,2,193.63,2,99.886,0.0046,2,0.002,2,-999.0,9,0.012,1,11.53,1,0.0,2,-999.0,9,-999.0,-999.0,9,-999.0,-999.0,9,-999.0,-999.0,9,-999.0,-999.0,9,-999.0,-999.0,9,-999.0,9,-999.0,9,-999.0,9,-999.0,9,-999.0,9,-999.0,9,-999,-999,9,-999.0,9,-999.0,9,-999,9,-999,-999,9,-999,-999,9,-999,9,-999.0,9,-999.0,9,-999.0,9
49NZ20170208,P17E,9,1,15, X12J15,2,20170219,0543,-61.6638,-125.9937,4833,1731.8,2,1.4274,2,1.42741,2,34.7297,2,34.73,2,-999.0,9,34.8995,2,193.57,2,193.51,2,99.884,0.0046,2,0.002,2,-999.0,9,0.012,1,11.773,1,0.0,2,-999.0,9,-999.0,-999.0,9,-999.0,-999.0,9,-999.0,-999.0,9,-999.0,-999.0,9,-999.0,-999.0,9,-999.0,9,-999.0,9,-999.0,9,-999.0,9,-999.0,9,-999.0,9,-999,-999,9,-999.0,9,-999.0,9,-999,9,-999,-999,9,-999,-999,9,-999,9,-999.0,9,-999.0,9,-999.0,9
49NZ20170208,P17E,9,1,5, X12J05,2,20170219,0543,-61.6638,-125.9937,4833,1932.4,2,1.283,2,1.2828,2,34.7262,2,34.726,2,-999.0,9,34.8977,2,195.61,2,195.71,2,99.89,0.0044,2,0.002,2,-999.0,9,0.011,1,11.24,1,0.0,2,107.31,2,0.11,31.88,2,0.06,0.0,2,0.0,2.19,2,0.004,0.02,2,0.02,0.135,2,0.066,2,0.0,2,-999.0,9,-999.0,9,-999.0,9,-999.0,9,-999,-999,9,-999.0,9,-999.0,9,-999,9,-999,-999,9,-999,-999,9,-999,9,-999.0,9,-999.0,9,-999.0,9
49NZ20170208,P17E,9,1,4, X12J04,2,20170219,0543,-61.6638,-125.9937,4833,2130.7,2,1.1651,2,1.16487,2,34.7221,2,34.7219,2,-999.0,9,34.8951,2,197.84,2,198.02,2,99.878,0.0049,2,0.002,2,-999.0,9,0.013,1,11.417,1,0.0,2,111.4,2,0.11,32.01,2,0.06,0.0,2,0.0,2.201,2,0.004,0.01,2,0.02,0.134,2,0.066,2,0.002,2,-999.0,9,-999.0,9,-999.0,9,-999.0,9,-999,-999,9,-999.0,9,-999.0,9,-999,9,-999,-999,9,-999,-999,9,-999,9,-999.0,9,-999.0,9,-999.0,9
49NZ20170208,P17E,9,1,3, X12J03,2,20170219,0543,-61.6638,-125.9937,4833,2330.4,2,1.0571,2,1.05702,2,34.7182,2,34.7176,2,-999.0,9,34.8911,2,199.91,2,200.05,2,99.895,0.0042,2,0.002,2,-999.0,9,0.012,1,11.377,1,0.0,2,115.14,2,0.12,32.09,2,0.06,0.0,2,0.0,2.209,2,0.004,0.0,2,0.02,0.143,2,0.07,2,0.0,2,-999.0,9,-999.0,9,-999.0,9,-999.0,9,-999,-999,9,-999.0,9,-999.0,9,-999,9,-999,-999,9,-999,-999,9,-999,9,-999.0,9,-999.0,9,-999.0,9
49NZ20170208,P17E,9,1,2, X12J02,2,20170219,0543,-61.6638,-125.9937,4833,2531.7,2,0.9665,2,0.9661,2,34.7143,2,34.7143,2,-999.0,9,34.889,2,201.33,2,201.47,2,99.905,0.0038,2,0.002,2,-999.0,9,0.011,1,11.35,1,0.0,2,118.78,2,0.12,32.27,2,0.06,0.0,2,0.0,2.219,2,0.004,0.01,2,0.02,0.153,2,0.077,2,0.0,2,-999.0,9,-999.0,9,-999.0,9,-999.0,9,-999,-999,9,-999.0,9,-999.0,9,-999,9,-999,-999,9,-999,-999,9,-999,9,-999.0,9,-999.0,9,-999.0,9
49NZ20170208,P17E,9,1,14, X12J14,2,20170219,0543,-61.6638,-125.9937,4833,2732.2,2,0.8897,2,0.88948,2,34.7112,2,34.7117,2,-999.0,9,34.8881,2,202.99,2,202.99,2,99.901,0.004,2,0.002,2,-999.0,9,0.011,1,11.602,1,0.0,2,121.78,2,0.12,32.39,2,0.06,0.0,2,0.0,2.228,2,0.004,0.01,2,0.02,0.172,2,0.086,2,0.001,2,-999.0,9,-999.0,9,-999.0,9,-999.0,9,-999,-999,9,-999.0,9,-999.0,9,-999,9,-999,-999,9,-999,-999,9,-999,9,-999.0,9,-999.0,9,-999.0,9
49NZ20170208,P17E,9,1,13, X12113,2,20170219,0543,-61.6638,-125.9937,4833,2933.3,2,0.8158,2,0.81569,2,34.7085,2,34.7082,2,-999.0,9,34.8841,2,204.3,2,204.33,2,99.905,0.0038,2,0.002,2,-999.0,9,0.01,1,11.372,1,0.0,2,124.47,2,0.13,32.46,2,0.06,0.0,2,0.0,2.237,2,0.004,0.01,2,0.02,0.201,2,0.099,2,0.002,2,-999.0,9,-999.0,9,-999.0,9,-999.0,9,-999,-999,9,-999.0,9,-999.0,9,-999,9,-999,-999,9,-999,-999,9,-999,9,-999.0,9,-999.0,9,-999.0,9
49NZ20170208,P17E,9,1,12, X12J12,2,20170219,0543,-61.6638,-125.9937,4833,3173.1,2,0.7326,2,0.7324,2,34.7056,2,34.7051,2,-999.0,9,34.8838,2,205.9,2,206.0,2,99.905,0.0038,2,0.002,2,-999.0,9,0.01,1,11.584,1,0.0,2,127.02,2,0.13,32.6,2,0.06,0.0,2,0.0,2.246,2,0.004,0.02,2,0.02,0.233,2,0.116,2,0.004,2,-999.0,9,-999.0,9,-999.0,9,-999.0,9,-999,-999,9,-999.0,9,-999.0,9,-999,9,-999,-999,9,-999,-999,9,-999,9,-999.0,9,-999.0,9,-999.0,9
49NZ20170208,P17E,9,1,11, X12J11,2,20170219,0543,-61.6638,-125.9937,4833,3422.0,2,0.6263,2,0.62614,2,34.703,2,34.703,2,-999.0,9,34.8789,2,208.09,2,208.11,2,99.92,0.0032,2,0.002,2,-999.0,9,0.009,1,11.773,4,0.0,2,128.51,2,0.13,32.62,2,0.06,0.0,2,0.0,2.244,2,0.004,0.03,2,0.02,0.282,2,0.142,2,0.002,2,-999.0,9,-999.0,9,-999.0,9,-999.0,9,-999,-999,9,-999.0,9,-999.0,9,-999,9,-999,-999,9,-999,-999,9,-999,9,-999.0,9,-999.0,9,-999.0,9
49NZ20170208,P17E,9,1,10, X12J10,2,20170219,0543,-61.6638,-125.9937,4833,3671.0,2,0.5352,2,0.53511,2,34.7008,2,34.7004,2,-999.0,9,34.8783,2,210.34,2,210.17,2,99.909,0.0036,2,0.001,2,-999.0,9,0.01,1,11.477,4,0.0,2,130.24,2,0.13,32.65,2,0.06,0.0,2,0.0,2.252,2,0.004,0.0,2,0.02,0.345,2,0.17,2,0.015,2,-999.0,9,-999.0,9,-999.0,9,-999.0,9,-999,-999,9,-999.0,9,-999.0,9,-999,9,-999,-999,9,-999,-999,9,-999,9,-999.0,9,-999.0,9,-999.0,9
49NZ20170208,P17E,9,1,9, X12J09,2,20170219,0543,-61.6638,-125.9937,4833,3921.9,2,0.4557,2,0.45559,2,34.6994,2,34.6989,2,-999.0,9,34.876,2,212.42,2,212.22,2,99.89,0.0044,2,0.001,2,-999.0,9,0.011,1,9.128,4,0.0,2,132.47,2,0.13,32.7,2,0.06,0.0,2,0.0,2.25,2,0.004,0.01,2,0.02,0.414,2,0.204,2,0.016,2,-999.0,9,-999.0,9,-999.0,9,-999.0,9,-999,-999,9,-999.0,9,-999.0,9,-999,9,-999,-999,9,-999,-999,9,-999,9,-999.0,9,-999.0,9,-999.0,9
49NZ20170208,P17E,9,1,8, X12J08,2,20170219,0543,-61.6638,-125.9937,4833,4171.8,2,0.4195,2,0.41937,2,34.6987,2,34.6982,2,-999.0,9,34.873,2,213.54,2,213.53,2,99.899,0.0041,2,0.001,2,-999.0,9,0.011,1,4.797,4,0.0,2,134.16,2,0.13,32.75,2,0.06,0.0,2,0.0,2.256,2,0.004,0.02,2,0.02,0.436,2,0.212,2,0.015,2,-999.0,9,-999.0,9,-999.0,9,-999.0,9,-999,-999,9,-999.0,9,-999.0,9,-999,9,-999,-999,9,-999,-999,9,-999,9,-999.0,9,-999.0,9,-999.0,9
49NZ20170208,P17E,9,1,7, X12J07,2,20170219,0543,-61.6638,-125.9937,4833,4422.7,2,0.3961,2,0.39607,2,34.6982,2,34.6976,2,-999.0,9,34.8711,2,214.45,2,214.42,2,99.873,0.0051,2,0.001,2,-999.0,9,0.012,1,0.705,4,0.0,2,136.07,2,0.13,32.78,2,0.06,0.0,2,0.0,2.258,2,0.004,0.01,2,0.02,0.472,2,0.233,2,0.013,2,-999.0,9,-999.0,9,-999.0,9,-999.0,9,-999,-999,9,-999.0,9,-999.0,9,-999,9,-999,-999,9,-999,-999,9,-999,9,-999.0,9,-999.0,9,-999.0,9
49NZ20170208,P17E,9,1,6, X12J06,2,20170219,0543,-61.6638,-125.9937,4833,4671.5,2,0.4041,2,0.40416,2,34.6979,2,34.6976,2,-999.0,9,34.8707,2,214.72,2,214.75,2,99.819,0.0073,2,0.001,2,-999.0,9,0.012,1,-0.171,4,0.0,2,137.19,2,0.14,32.82,2,0.06,-0.01,2,0.0,2.259,2,0.004,0.0,2,0.02,0.488,2,0.24,2,0.013,2,-999.0,9,-999.0,9,-999.0,9,-999.0,9,-999,-999,9,-999.0,9,-999.0,9,-999,9,-999,-999,9,-999,-999,9,-999,9,-999.0,9,-999.0,9,-999.0,9
49NZ20170208,P17E,9,1,1, X12J01,2,20170219,0543,-61.6638,-125.9937,4833,4926.0,2,0.4313,2,0.43138,2,34.6976,2,34.6973,2,-999.0,9,34.8717,2,214.75,2,214.96,2,99.785,0.0086,2,0.001,2,-999.0,9,0.02,1,-0.747,4,0.0,2,137.32,2,0.14,32.84,2,0.06,0.0,2,0.0,2.265,2,0.004,0.02,2,0.02,0.49,2,0.238,2,0.014,2,-999.0,9,-999.0,9,-999.0,9,-999.0,9,-999,-999,9,-999.0,9,-999.0,9,-999,9,-999,-999,9,-999,-999,9,-999,9,-999.0,9,-999.0,9,-999.0,9