BOTTLE,20240216CCHSIOADS
EXPOCODE,SECT_ID,STNNBR,CASTNO,SAMPNO,BTLNBR,BTLNBR_FLAG_W,DATE,TIME,LATITUDE,LONGITUDE,DEPTH,CTDPRS,CTDPRS_FLAG_W,CTDTMP,CTDTMP_FLAG_W,REFTMP,REFTMP_FLAG_W,CTDSAL,CTDSAL_FLAG_W,SALNTY,SALNTY_FLAG_W,DNSSAL,DNSSAL_FLAG_W,CTDSVLSAL,CTDSVLSAL_FLAG_W,CTDOXY,CTDOXY_FLAG_W,OXYGEN,OXYGEN_FLAG_W,CTDXMISS,CTDBEAMCP,CTDXMISS_FLAG_W,CTDFLUOR,CTDFLUOR_FLAG_W,CHLORA,CHLORA_FLAG_W,CTDTURB,CTDTURB_FLAG_W,CTDCDOM,CTDCDOM_FLAG_W,PAR,PAR_FLAG_W,SILCAT,SILCAT_FLAG_W,SILUNC,NITRAT,NITRAT_FLAG_W,NRAUNC,NITRIT,NITRIT_FLAG_W,NRIUNC,PHSPHT,PHSPHT_FLAG_W,PHPUNC,NH4,NH4_FLAG_W,NH4UNC,CFC-11,CFC-11_FLAG_W,CFC-12,CFC-12_FLAG_W,CFC113,CFC113_FLAG_W,SF6,SF6_FLAG_W,N2O,N2O_FLAG_W,TCARBN,TCARBN_FLAG_W,ALKALI,ALKALI_FLAG_W,PH_TOT,PH_TMP,PH_TOT_FLAG_W,CALCIUM,CALCIUM_FLAG_W,DOC,DOC_FLAG_W,DELC13,DELC13_FLAG_W,C13ERR,DELC14,DELC14_FLAG_W,C14ERR,POC,POC_FLAG_W,HPLC,HPLC_FLAG_W,CDOM325,CDOM325_FLAG_W,CDOM370,CDOM370_FLAG_W,CDOM443,CDOM443_FLAG_W
,,,,,,,,,,,METERS,DBAR,,ITS-90,,ITS-90,,PSS-78,,PSS-78,,G/KG,,G/KG,,UMOL/KG,,UMOL/KG,,%TRANS,/METER,,MG/M^3,,UG/L,,FTU,,QSU,,UMOL/M^2/SEC,,UMOL/KG,,UMOL/KG,UMOL/KG,,UMOL/KG,UMOL/KG,,UMOL/KG,UMOL/KG,,UMOL/KG,UMOL/KG,,UMOL/KG,PMOL/KG,,PMOL/KG,,PMOL/KG,,FMOL/KG,,NMOL/KG,,UMOL/KG,,UMOL/KG,,,DEG C,,MMOL/KG,,UMOL/KG,,/MILLE,,/MILLE,/MILLE,,/MILLE,UG/KG,,,,/METER,,/METER,,/METER,
49NZ20170208,P17E,1,2,0,    BUC,2,20170216,0739,-66.9999,-125.9763,3709,0.0,2,-999.0,9,-999.0,9,-999.0,9,33.639,2,-999.0,9,-999.0,9,-999.0,9,-999.0,9,-999.0,-999.0,9,-999.0,9,1.15,2,-999.0,9,-999.0,9,-999.0,9,25.63,2,0.04,23.92,2,0.05,0.32,2,0.0,1.578,2,0.003,0.1,2,0.02,-999.0,9,-999.0,9,-999.0,9,-999.0,9,-999.0,9,-999.0,9,-999.0,9,-999,-999,9,9.98,2,-999.0,9,-999,9,-999,-999,9,-999,-999,9,-999,9,0.158,2,0.067,2,0.029,2
49NZ20170208,P17E,1,2,36, X12J36,2,20170216,0739,-66.9999,-125.9763,3709,11.4,2,0.5178,2,0.51885,2,33.6358,2,33.6365,2,33.8,2,33.8215,2,351.29,2,351.21,2,90.617,0.3941,2,1.458,2,1.11,2,0.369,1,7.801,1,0.0,2,25.57,2,0.04,23.91,2,0.05,0.32,2,0.0,1.569,2,0.003,0.1,2,0.02,6.074,6,3.281,6,0.527,6,3.72,6,23.97,3,2141.2,2,2270.6,2,-999,-999,9,9.981,2,43.3,2,-999,1,-999,-999,1,-999,-999,9,-999,9,0.19,2,0.104,2,0.05,2
49NZ20170208,P17E,1,2,9, X12J09,2,20170216,0739,-66.9999,-125.9763,3709,11.4,2,0.5154,2,0.51431,2,33.6357,2,-999.0,9,-999.0,9,33.8215,2,351.15,2,-999.0,9,90.562,0.3965,2,1.42,2,-999.0,9,0.354,1,7.74,1,0.0,2,-999.0,9,-999.0,-999.0,9,-999.0,-999.0,9,-999.0,-999.0,9,-999.0,-999.0,9,-999.0,-999.0,9,-999.0,9,-999.0,9,-999.0,9,-999.0,9,-999.0,9,-999.0,9,-999,-999,9,-999.0,9,-999.0,9,-999,9,-999,-999,9,-999,-999,9,-999,9,-999.0,9,-999.0,9,-999.0,9
49NZ20170208,P17E,1,2,2, X12J02,2,20170216,0739,-66.9999,-125.9763,3709,22.2,2,0.4689,2,0.46971,2,33.6387,2,33.6392,2,33.8006,2,33.8256,2,351.49,2,351.36,2,90.989,0.3777,2,1.371,2,1.09,2,0.356,1,8.1,1,0.0,2,26.33,2,0.04,24.03,2,0.05,0.31,2,0.0,1.594,2,0.003,0.13,2,0.02,-999.0,9,-999.0,9,-999.0,9,-999.0,9,-999.0,9,2145.9,2,2272.7,2,-999,-999,9,-999.0,9,43.8,2,-999,9,-999,-999,9,-999,-999,9,-999,9,0.132,2,0.054,2,0.025,2
49NZ20170208,P17E,1,2,3, X12J03,2,20170216,0739,-66.9999,-125.9763,3709,22.5,2,0.4584,2,0.45991,2,33.6394,2,-999.0,9,-999.0,9,33.8255,2,351.58,2,-999.0,9,91.069,0.3742,2,1.313,2,-999.0,9,0.356,1,8.081,1,0.0,2,-999.0,9,-999.0,-999.0,9,-999.0,-999.0,9,-999.0,-999.0,9,-999.0,-999.0,9,-999.0,-999.0,9,-999.0,9,-999.0,9,-999.0,9,-999.0,9,-999.0,9,-999.0,9,-999,-999,9,-999.0,9,-999.0,9,-999,9,-999,-999,9,-999,-999,9,-999,9,-999.0,9,-999.0,9,-999.0,9
49NZ20170208,P17E,1,2,8, X12J08,2,20170216,0739,-66.9999,-125.9763,3709,51.5,2,0.2479,2,0.2467,2,33.6656,2,-999.0,9,-999.0,9,33.9167,2,349.2,2,-999.0,9,93.165,0.2832,2,0.943,2,-999.0,9,0.294,1,8.091,1,0.0,2,-999.0,9,-999.0,-999.0,9,-999.0,-999.0,9,-999.0,-999.0,9,-999.0,-999.0,9,-999.0,-999.0,9,-999.0,9,-999.0,9,-999.0,9,-999.0,9,-999.0,9,-999.0,9,-999,-999,9,-999.0,9,-999.0,9,-999,9,-999,-999,9,-999,-999,9,-999,9,-999.0,9,-999.0,9,-999.0,9
49NZ20170208,P17E,1,2,35, X12J35,2,20170216,0739,-66.9999,-125.9763,3709,52.1,2,0.2588,2,0.2582,2,33.6638,2,33.6663,2,33.829,2,33.9249,2,348.78,2,348.51,2,93.14,0.2843,2,0.973,2,0.85,2,0.276,1,8.273,1,0.0,2,31.56,2,0.05,24.86,2,0.05,0.29,2,0.0,1.7,2,0.003,0.36,2,0.02,6.039,2,3.284,2,0.529,2,3.685,2,25.19,3,2150.2,6,2271.7,2,-999,-999,9,-999.0,9,42.9,2,-999,1,-999,-999,1,-999,-999,9,-999,9,0.143,2,0.07,2,0.032,2
49NZ20170208,P17E,1,2,34, X12J34,2,20170216,0739,-66.9999,-125.9763,3709,102.4,2,-1.1072,2,-1.10765,2,33.9482,2,33.9512,2,34.1158,2,34.1104,2,327.21,2,326.65,2,99.24,0.0305,2,0.052,2,0.11,2,0.028,1,8.332,1,0.0,2,42.65,2,0.06,28.65,2,0.05,0.22,2,0.0,1.988,2,0.004,0.2,2,0.02,5.648,2,3.066,2,0.496,2,3.399,2,27.44,3,2186.7,2,2289.3,2,-999,-999,9,10.056,2,41.4,2,-999,1,-999,-999,1,-999,-999,9,-999,9,0.101,2,0.05,2,0.02,2
49NZ20170208,P17E,1,2,7, X12J07,2,20170216,0739,-66.9999,-125.9763,3709,103.5,2,-1.1076,2,-1.11133,2,33.9491,2,-999.0,9,-999.0,9,34.1139,2,327.52,2,-999.0,9,99.24,0.0305,2,0.053,2,-999.0,9,0.029,1,8.331,1,0.0,2,-999.0,9,-999.0,-999.0,9,-999.0,-999.0,9,-999.0,-999.0,9,-999.0,-999.0,9,-999.0,-999.0,9,-999.0,9,-999.0,9,-999.0,9,-999.0,9,-999.0,9,-999.0,9,-999,-999,9,-999.0,9,-999.0,9,-999,9,-999,-999,9,-999,-999,9,-999,9,-999.0,9,-999.0,9,-999.0,9
49NZ20170208,P17E,1,2,33, X12J33,2,20170216,0739,-66.9999,-125.9763,3709,152.6,2,0.6792,2,0.68213,2,34.1967,2,34.1954,2,34.3597,2,34.3288,2,261.75,2,264.19,2,99.517,0.0194,2,0.02,2,0.05,2,0.021,1,9.173,1,0.0,2,53.22,2,0.07,32.24,2,0.06,0.01,2,0.0,2.194,2,0.004,0.01,2,0.02,3.954,2,2.123,2,0.345,2,2.211,2,32.47,3,2213.2,2,2303.0,2,-999,-999,9,-999.0,9,39.9,2,-999,1,-999,-999,1,-999,-999,9,-999,9,-999.0,9,-999.0,9,-999.0,9
49NZ20170208,P17E,1,2,32, X12J32,2,20170216,0739,-66.9999,-125.9763,3709,201.9,2,1.6636,2,1.66323,2,34.3993,2,34.3987,2,34.5627,2,34.5563,2,207.14,2,206.93,2,99.591,0.0164,2,0.007,2,0.02,2,0.02,1,9.782,1,0.0,2,66.59,2,0.08,34.37,2,0.06,0.01,2,0.0,2.342,2,0.004,0.02,2,0.02,2.261,2,1.191,2,0.175,2,1.043,2,36.8,3,2240.3,2,2316.4,6,-999,-999,9,10.207,2,39.2,2,-999,1,-999,-999,1,-999,-999,9,-999,9,0.132,2,0.064,2,0.024,2
49NZ20170208,P17E,1,2,31, X12J31,2,20170216,0739,-66.9999,-125.9763,3709,249.6,2,1.9989,2,1.99889,2,34.4933,2,34.4918,2,34.6602,2,34.668,2,186.71,2,186.38,2,99.559,0.0177,2,0.005,2,0.01,2,0.02,1,10.083,1,0.0,2,71.9,2,0.08,34.7,2,0.06,0.0,2,0.0,2.364,2,0.004,0.01,2,0.02,1.485,6,0.777,6,0.109,6,0.626,6,37.6,3,2255.2,2,2323.1,2,-999,-999,9,-999.0,9,40.7,2,-999,1,-999,-999,1,-999,-999,9,-999,9,-999.0,9,-999.0,9,-999.0,9
49NZ20170208,P17E,1,2,30, X12J30,2,20170216,0739,-66.9999,-125.9763,3709,302.0,2,2.0032,2,2.00418,2,34.5501,2,34.5486,2,34.7156,2,34.7068,2,181.13,2,181.04,2,99.618,0.0153,2,0.004,2,-999.0,9,0.019,1,10.356,1,0.0,2,75.62,2,0.08,34.42,2,0.06,0.0,2,0.0,2.352,2,0.004,0.03,2,0.02,1.141,2,0.597,2,0.084,2,0.457,2,-999.0,5,2254.2,2,2328.6,2,-999,-999,9,10.253,2,40.9,2,-999,1,-999,-999,1,-999,-999,9,-999,9,-999.0,9,-999.0,9,-999.0,9
49NZ20170208,P17E,1,2,29, X12J29,2,20170216,0739,-66.9999,-125.9763,3709,400.5,2,2.0929,2,2.09281,2,34.6258,2,34.6243,2,34.7934,2,34.8039,2,175.34,2,175.2,2,99.73,0.0108,2,0.004,2,-999.0,9,0.015,1,10.785,1,0.0,2,79.39,2,0.09,33.71,2,0.06,0.0,2,0.0,2.302,2,0.004,0.03,2,0.02,0.658,2,0.33,2,0.043,2,0.214,2,35.82,3,2256.7,2,2337.1,2,-999,-999,9,10.276,2,39.2,2,-999,1,-999,-999,1,-999,-999,9,-999,9,0.193,2,0.106,2,0.048,2
49NZ20170208,P17E,1,2,28, X12J28,2,20170216,0739,-66.9999,-125.9763,3709,500.5,2,2.0705,2,2.07039,2,34.6688,2,34.6681,2,34.8369,2,34.8438,2,176.14,2,175.82,2,99.757,0.0097,2,0.003,2,-999.0,9,0.013,1,11.059,1,0.0,2,82.16,2,0.09,32.98,2,0.06,0.0,2,0.0,2.249,2,0.004,0.04,2,0.02,0.437,2,0.217,2,0.026,2,0.107,2,34.95,3,2256.4,2,2341.8,2,-999,-999,9,10.3,2,39.2,2,-999,1,-999,-999,1,-999,-999,9,-999,9,-999.0,9,-999.0,9,-999.0,9
49NZ20170208,P17E,1,2,27, X12J27,2,20170216,0739,-66.9999,-125.9763,3709,601.8,2,2.0002,2,2.00018,2,34.6982,2,34.6975,2,34.8659,2,34.8684,2,179.27,2,179.17,2,99.802,0.0079,2,0.003,2,-999.0,9,0.013,1,10.881,1,0.0,2,84.71,2,0.09,32.38,2,0.06,0.0,2,0.0,2.212,2,0.004,0.02,2,0.02,0.331,2,0.164,2,0.014,2,0.07,2,34.31,3,2258.7,2,2342.5,2,-999,-999,9,10.306,2,39.6,2,-999,1,-999,-999,1,-999,-999,9,-999,9,0.166,2,0.084,2,0.033,2
49NZ20170208,P17E,1,2,26, X12J26,2,20170216,0739,-66.9999,-125.9763,3709,702.6,2,1.9146,2,1.91429,2,34.7114,2,34.7107,2,34.8797,2,34.8812,2,181.73,2,181.61,2,99.802,0.0079,2,0.003,2,-999.0,9,0.016,1,11.146,1,0.0,2,86.87,2,0.09,32.11,2,0.06,0.0,2,0.0,2.19,2,0.004,0.0,2,0.02,0.298,2,0.143,2,0.015,2,0.059,2,33.22,3,2256.8,6,2344.5,2,-999,-999,9,10.308,2,40.1,2,-999,1,-999,-999,1,-999,-999,9,-999,9,-999.0,9,-999.0,9,-999.0,9
49NZ20170208,P17E,1,2,25, X12J25,2,20170216,0739,-66.9999,-125.9763,3709,801.1,2,1.8179,2,1.81763,2,34.7217,2,34.7213,2,34.8942,3,34.8926,2,184.78,2,184.74,2,99.835,0.0066,2,0.003,2,-999.0,9,0.013,1,11.218,1,0.0,2,89.35,2,0.1,31.88,2,0.06,0.0,2,0.0,2.176,2,0.004,0.02,2,0.02,0.272,2,0.133,2,0.015,2,0.059,2,32.96,3,2258.4,2,2345.1,2,-999,-999,9,10.302,2,39.8,2,-999,1,-999,-999,1,-999,-999,9,-999,9,0.149,2,0.068,2,0.026,2
49NZ20170208,P17E,1,2,24, X12J24,2,20170216,0739,-66.9999,-125.9763,3709,903.8,2,1.7389,2,1.73867,2,34.7286,2,34.7282,2,34.8988,2,34.8993,2,187.76,2,187.59,2,99.854,0.0058,2,0.002,2,-999.0,9,0.017,1,10.742,1,0.0,2,91.9,2,0.1,31.65,2,0.06,0.0,2,0.0,2.16,2,0.004,0.01,2,0.02,0.223,6,0.11,6,0.008,6,0.028,6,31.95,3,2255.6,2,2349.2,2,-999,-999,9,10.319,2,39.5,2,-999,1,-999,-999,1,-999,-999,9,-999,9,-999.0,9,-999.0,9,-999.0,9
49NZ20170208,P17E,1,2,23, X12J23,2,20170216,0739,-66.9999,-125.9763,3709,1001.6,2,1.6601,2,1.66003,2,34.7308,2,34.7309,2,34.9001,2,34.8996,2,189.26,2,189.3,2,99.867,0.0053,2,0.002,2,-999.0,9,0.012,1,11.035,1,0.0,2,94.23,2,0.1,31.6,2,0.06,0.0,2,0.0,2.158,2,0.004,0.02,2,0.02,0.202,2,0.1,2,0.005,2,0.038,2,31.58,3,2255.3,2,2350.4,2,-999,-999,9,10.307,2,39.7,2,-999,1,-999,-999,1,-999,-999,9,-999,9,0.149,2,0.074,2,0.029,2
49NZ20170208,P17E,1,2,6, X12J06,2,20170216,0739,-66.9999,-125.9763,3709,1001.9,2,1.6601,2,1.65983,2,34.7308,2,-999.0,9,-999.0,9,34.8995,2,189.31,2,-999.0,9,99.882,0.0047,2,0.009,2,-999.0,9,0.012,1,11.25,1,0.0,2,-999.0,9,-999.0,-999.0,9,-999.0,-999.0,9,-999.0,-999.0,9,-999.0,-999.0,9,-999.0,-999.0,9,-999.0,9,-999.0,9,-999.0,9,-999.0,9,-999.0,9,-999.0,9,-999,-999,9,-999.0,9,-999.0,9,-999,9,-999,-999,9,-999,-999,9,-999,9,-999.0,9,-999.0,9,-999.0,9
49NZ20170208,P17E,1,2,22, X12J22,2,20170216,0739,-66.9999,-125.9763,3709,1201.1,2,1.4879,2,1.48798,2,34.7314,2,34.7314,2,34.901,2,34.9004,2,191.63,2,191.58,2,99.89,0.0044,2,0.002,2,-999.0,9,0.011,1,11.123,1,0.0,2,99.38,2,0.1,31.72,2,0.06,0.0,2,0.0,2.166,2,0.004,0.01,2,0.02,0.19,2,0.094,2,0.006,2,0.026,2,31.08,3,2259.5,2,2351.9,6,-999,-999,9,10.306,2,40.1,2,-999,1,-999,-999,1,-999,-999,9,-999,9,-999.0,9,-999.0,9,-999.0,9
49NZ20170208,P17E,1,2,21, X12J21,2,20170216,0739,-66.9999,-125.9763,3709,1402.5,2,1.3234,2,1.32321,2,34.7284,2,34.728,2,34.8975,2,34.8986,2,193.22,2,193.18,2,99.894,0.0042,2,0.002,2,-999.0,9,0.011,1,11.249,1,0.0,2,105.19,2,0.11,31.91,2,0.06,0.0,2,0.0,2.181,2,0.004,0.03,2,0.02,0.157,2,0.078,2,0.004,2,0.02,2,31.32,3,2263.0,2,2354.1,2,-999,-999,9,10.294,2,38.5,2,-999,1,-999,-999,1,-999,-999,9,-999,9,-999.0,9,-999.0,9,-999.0,9
49NZ20170208,P17E,1,2,20, X12J20,2,20170216,0739,-66.9999,-125.9763,3709,1602.5,2,1.1892,2,1.18944,2,34.7242,2,34.7233,2,34.8949,2,34.8962,2,196.01,2,195.83,2,99.896,0.0041,2,0.002,2,-999.0,9,0.01,1,11.056,1,0.0,2,109.54,2,0.11,32.0,2,0.06,0.0,2,0.0,2.191,2,0.004,0.02,2,0.02,0.145,2,0.072,2,0.003,2,0.0,2,-999.0,5,2262.4,2,2354.7,2,-999,-999,9,10.305,2,39.9,2,-999,1,-999,-999,1,-999,-999,9,-999,9,-999.0,9,-999.0,9,-999.0,9
49NZ20170208,P17E,1,2,19, X12J19,2,20170216,0739,-66.9999,-125.9763,3709,1802.3,2,1.0757,2,1.07581,2,34.7202,2,34.7199,2,34.894,2,34.8894,2,198.19,2,197.96,2,99.909,0.0036,2,0.002,2,-999.0,9,0.011,1,11.02,1,0.0,2,113.33,2,0.12,32.12,2,0.06,0.0,2,0.0,2.194,2,0.004,0.01,2,0.02,-999.0,5,-999.0,5,-999.0,5,-999.0,5,-999.0,5,2263.4,2,2358.4,2,-999,-999,9,-999.0,9,39.0,2,-999,1,-999,-999,1,-999,-999,9,-999,9,-999.0,9,-999.0,9,-999.0,9
49NZ20170208,P17E,1,2,18, X12J18,2,20170216,0739,-66.9999,-125.9763,3709,2001.2,2,0.955,2,0.95502,2,34.7153,2,34.715,2,34.8869,2,34.8865,2,200.72,2,200.62,2,99.907,0.0037,2,0.002,2,-999.0,9,0.01,1,11.236,1,0.0,2,117.49,2,0.12,32.21,2,0.06,0.0,2,0.0,2.202,2,0.004,0.0,2,0.02,0.154,2,0.077,2,0.003,2,0.021,2,-999.0,5,2263.5,2,2359.0,2,-999,-999,9,-999.0,9,39.2,2,-999,1,-999,-999,1,-999,-999,9,-999,9,-999.0,9,-999.0,9,-999.0,9
49NZ20170208,P17E,1,2,17, X12J17,2,20170216,0739,-66.9999,-125.9763,3709,2201.5,2,0.8827,2,0.88246,2,34.7123,2,34.7123,2,34.8863,2,34.8846,2,202.16,2,202.04,2,99.911,0.0036,2,0.002,2,-999.0,9,0.01,1,11.241,1,0.0,2,120.56,2,0.12,32.27,2,0.06,0.0,2,0.0,2.208,2,0.004,0.03,2,0.02,0.165,2,0.086,2,0.004,2,0.026,2,31.16,3,2266.1,2,2359.2,2,-999,-999,9,10.307,2,39.0,2,-999,1,-999,-999,1,-999,-999,9,-999,9,-999.0,9,-999.0,9,-999.0,9
49NZ20170208,P17E,1,2,16, X12J16,2,20170216,0739,-66.9999,-125.9763,3709,2404.0,2,0.8071,2,0.80693,2,34.7093,2,34.7095,2,34.8804,2,34.8822,2,203.58,2,203.41,2,99.918,0.0033,2,0.002,2,-999.0,9,0.009,1,11.135,1,0.0,2,123.43,2,0.12,32.37,2,0.06,0.0,2,0.0,2.212,2,0.004,0.05,2,0.02,0.185,2,0.09,2,0.006,2,0.014,2,31.5,3,2264.7,2,2358.7,2,-999,-999,9,-999.0,9,39.7,2,-999,1,-999,-999,1,-999,-999,9,-999,9,-999.0,9,-999.0,9,-999.0,9
49NZ20170208,P17E,1,2,15, X12J15,2,20170216,0739,-66.9999,-125.9763,3709,2601.7,2,0.7426,2,0.74227,2,34.7069,2,34.7069,2,34.8777,2,34.8811,2,204.78,2,204.53,2,99.937,0.0025,2,0.002,2,-999.0,9,0.008,1,11.444,1,0.0,2,125.88,2,0.13,32.48,2,0.06,0.0,2,0.0,2.22,2,0.004,0.04,2,0.02,0.2,2,0.1,2,0.005,2,0.013,2,31.32,3,2265.4,2,2358.1,2,-999,-999,9,-999.0,9,39.6,2,-999,1,-999,-999,1,-999,-999,9,-999,9,-999.0,9,-999.0,9,-999.0,9
49NZ20170208,P17E,1,2,14, X12J14,2,20170216,0739,-66.9999,-125.9763,3709,2801.1,2,0.667,2,0.66679,2,34.7055,2,34.7052,2,34.8777,2,34.8789,2,206.08,2,205.83,2,99.939,0.0025,2,0.002,2,-999.0,9,0.008,1,11.086,1,0.0,2,127.57,2,0.13,32.54,2,0.06,0.0,2,0.0,2.226,2,0.004,0.03,2,0.02,0.202,2,0.1,2,0.004,2,0.034,2,31.67,3,2266.3,2,2359.2,2,-999,-999,9,10.308,2,38.8,2,-999,1,-999,-999,1,-999,-999,9,-999,9,-999.0,9,-999.0,9,-999.0,9
49NZ20170208,P17E,1,2,13, X12113,2,20170216,0739,-66.9999,-125.9763,3709,3002.6,2,0.6049,2,0.60491,2,34.7046,2,34.7043,2,34.8731,2,34.8794,2,207.21,2,207.08,2,99.943,0.0023,2,0.002,2,-999.0,9,0.008,1,11.09,1,0.0,2,129.64,2,0.13,32.58,2,0.06,-0.01,2,0.0,2.233,2,0.004,0.03,2,0.02,0.191,2,0.096,2,0.004,2,0.025,2,31.79,3,2265.6,2,2358.1,2,-999,-999,9,-999.0,9,39.2,2,-999,1,-999,-999,1,-999,-999,9,-999,9,0.147,2,0.075,2,0.035,2
49NZ20170208,P17E,1,2,12, X12J12,2,20170216,0739,-66.9999,-125.9763,3709,3251.6,2,0.4984,2,0.49827,2,34.7023,2,34.702,2,34.8738,2,34.8787,2,209.62,2,209.41,2,99.956,0.0018,2,0.002,2,-999.0,9,0.008,1,10.951,1,0.0,2,132.35,2,0.13,32.73,2,0.06,0.0,2,0.0,2.242,2,0.004,0.03,2,0.02,0.241,2,0.115,2,0.007,2,0.021,2,31.72,3,2267.3,2,2359.7,6,-999,-999,9,-999.0,9,38.7,2,-999,1,-999,-999,1,-999,-999,9,-999,9,-999.0,9,-999.0,9,-999.0,9
49NZ20170208,P17E,1,2,11, X12J11,2,20170216,0739,-66.9999,-125.9763,3709,3501.9,2,0.439,2,0.43876,2,34.7015,2,34.7008,2,34.8744,2,34.8746,2,211.14,2,210.9,2,99.951,0.0019,2,0.002,2,-999.0,9,0.009,1,11.172,1,0.0,2,134.88,2,0.13,32.76,2,0.06,0.0,2,0.0,2.248,2,0.004,0.02,2,0.02,0.273,2,0.132,2,0.01,2,0.018,2,31.63,3,2266.7,2,2358.1,2,-999,-999,9,10.301,2,38.9,2,-999,1,-999,-999,1,-999,-999,9,-999,9,-999.0,9,-999.0,9,-999.0,9
49NZ20170208,P17E,1,2,10, X12J10,2,20170216,0739,-66.9999,-125.9763,3709,3752.0,2,0.4093,2,0.40923,2,34.7009,2,34.7002,2,34.8725,2,34.8771,2,212.07,2,211.81,2,99.93,0.0028,2,0.002,2,-999.0,9,0.008,1,11.298,1,0.0,2,136.8,2,0.14,32.83,2,0.06,-0.01,2,0.0,2.253,2,0.004,0.02,2,0.02,0.311,2,0.147,2,0.01,2,0.021,2,31.12,3,2267.3,2,2360.2,2,-999,-999,9,-999.0,9,39.3,2,-999,1,-999,-999,1,-999,-999,9,-999,9,-999.0,9,-999.0,9,-999.0,9
49NZ20170208,P17E,1,2,1, X12J01,2,20170216,0739,-66.9999,-125.9763,3709,3797.3,2,0.408,2,0.40807,2,34.7008,2,34.7004,2,34.8725,2,34.8783,2,212.3,2,212.09,2,99.924,0.003,2,0.002,2,-999.0,9,0.012,1,11.254,1,0.0,2,136.65,2,0.14,32.82,2,0.06,0.0,2,0.0,2.249,2,0.004,0.0,2,0.02,0.319,2,0.148,2,0.009,2,0.025,2,30.74,3,2266.7,2,2358.7,2,-999,-999,9,10.302,2,38.6,2,-999,1,-999,-999,1,-999,-999,9,-999,9,0.147,2,0.073,2,0.032,2
49NZ20170208,P17E,1,2,4, X12J04,2,20170216,0739,-66.9999,-125.9763,3709,3798.2,2,0.4076,2,0.40727,2,34.7007,2,-999.0,9,-999.0,9,34.8772,2,212.28,2,-999.0,9,99.922,0.0031,2,0.002,2,-999.0,9,0.012,1,11.421,1,0.0,2,-999.0,9,-999.0,-999.0,9,-999.0,-999.0,9,-999.0,-999.0,9,-999.0,-999.0,9,-999.0,-999.0,9,-999.0,9,-999.0,9,-999.0,9,-999.0,9,-999.0,9,-999.0,9,-999,-999,9,-999.0,9,-999.0,9,-999,9,-999,-999,9,-999,-999,9,-999,9,-999.0,9,-999.0,9,-999.0,9