BOTTLE,20240216CCHSIOADS
EXPOCODE,SECT_ID,STNNBR,CASTNO,SAMPNO,BTLNBR,BTLNBR_FLAG_W,DATE,TIME,LATITUDE,LONGITUDE,DEPTH,CTDPRS,CTDPRS_FLAG_W,CTDTMP,CTDTMP_FLAG_W,REFTMP,REFTMP_FLAG_W,CTDSAL,CTDSAL_FLAG_W,SALNTY,SALNTY_FLAG_W,DNSSAL,DNSSAL_FLAG_W,CTDSVLSAL,CTDSVLSAL_FLAG_W,CTDOXY,CTDOXY_FLAG_W,OXYGEN,OXYGEN_FLAG_W,CTDXMISS,CTDBEAMCP,CTDXMISS_FLAG_W,CTDFLUOR,CTDFLUOR_FLAG_W,CHLORA,CHLORA_FLAG_W,CTDTURB,CTDTURB_FLAG_W,CTDCDOM,CTDCDOM_FLAG_W,PAR,PAR_FLAG_W,SILCAT,SILCAT_FLAG_W,SILUNC,NITRAT,NITRAT_FLAG_W,NRAUNC,NITRIT,NITRIT_FLAG_W,NRIUNC,PHSPHT,PHSPHT_FLAG_W,PHPUNC,NH4,NH4_FLAG_W,NH4UNC,CFC-11,CFC-11_FLAG_W,CFC-12,CFC-12_FLAG_W,CFC113,CFC113_FLAG_W,SF6,SF6_FLAG_W,N2O,N2O_FLAG_W,TCARBN,TCARBN_FLAG_W,ALKALI,ALKALI_FLAG_W,PH_TOT,PH_TMP,PH_TOT_FLAG_W,CALCIUM,CALCIUM_FLAG_W,DOC,DOC_FLAG_W,DELC13,DELC13_FLAG_W,C13ERR,DELC14,DELC14_FLAG_W,C14ERR,POC,POC_FLAG_W,HPLC,HPLC_FLAG_W,CDOM325,CDOM325_FLAG_W,CDOM370,CDOM370_FLAG_W,CDOM443,CDOM443_FLAG_W
,,,,,,,,,,,METERS,DBAR,,ITS-90,,ITS-90,,PSS-78,,PSS-78,,G/KG,,G/KG,,UMOL/KG,,UMOL/KG,,%TRANS,/METER,,MG/M^3,,UG/L,,FTU,,QSU,,UMOL/M^2/SEC,,UMOL/KG,,UMOL/KG,UMOL/KG,,UMOL/KG,UMOL/KG,,UMOL/KG,UMOL/KG,,UMOL/KG,UMOL/KG,,UMOL/KG,PMOL/KG,,PMOL/KG,,PMOL/KG,,FMOL/KG,,NMOL/KG,,UMOL/KG,,UMOL/KG,,,DEG C,,MMOL/KG,,UMOL/KG,,/MILLE,,/MILLE,/MILLE,,/MILLE,UG/KG,,,,/METER,,/METER,,/METER,
49NZ20170208,P17E,16,1,0,    BUC,2,20170220,2058,-58.0105,-125.9958,4274,0.0,2,-999.0,9,-999.0,9,-999.0,9,34.0533,2,-999.0,9,-999.0,9,-999.0,9,-999.0,9,-999.0,-999.0,9,-999.0,9,0.26,2,-999.0,9,-999.0,9,-999.0,9,2.76,2,0.02,20.46,2,0.04,0.22,2,0.0,1.48,2,0.003,0.53,2,0.02,-999.0,9,-999.0,9,-999.0,9,-999.0,9,-999.0,9,-999.0,9,-999.0,9,-999,-999,9,10.099,2,-999.0,9,-999,9,-999,-999,9,-999,-999,9,-999,9,0.104,2,0.043,2,0.01,2
49NZ20170208,P17E,16,1,36, X12J36,2,20170220,2058,-58.0105,-125.9958,4274,12.1,2,6.2999,2,6.30012,2,34.0494,2,34.0492,2,34.212,2,34.2034,2,295.47,2,295.75,2,97.346,0.1076,2,0.148,2,0.23,2,0.047,1,6.642,1,133.346,2,2.72,2,0.02,20.46,2,0.04,0.22,2,0.0,1.472,2,0.003,0.51,2,0.02,4.094,6,2.347,6,0.363,6,2.83,6,19.42,3,2120.3,2,2276.8,2,-999,-999,9,10.098,2,47.9,2,-999,1,-999,-999,1,-999,-999,9,-999,9,0.106,2,0.051,2,0.014,2
49NZ20170208,P17E,16,1,7, X12J29,2,20170220,2058,-58.0105,-125.9958,4274,12.4,2,6.3034,2,6.30406,2,34.0495,2,-999.0,9,-999.0,9,34.2029,2,295.39,2,-999.0,9,97.342,0.1078,2,0.138,2,-999.0,9,0.047,1,6.189,1,134.546,2,-999.0,9,-999.0,-999.0,9,-999.0,-999.0,9,-999.0,-999.0,9,-999.0,-999.0,9,-999.0,-999.0,9,-999.0,9,-999.0,9,-999.0,9,-999.0,9,-999.0,9,-999.0,9,-999,-999,9,-999.0,9,-999.0,9,-999,9,-999,-999,9,-999,-999,9,-999,9,-999.0,9,-999.0,9,-999.0,9
49NZ20170208,P17E,16,1,35, X12J35,2,20170220,2058,-58.0105,-125.9958,4274,53.0,2,6.2703,2,6.27017,2,34.0499,2,34.0497,2,34.2114,2,34.2077,2,295.33,2,295.87,2,97.416,0.1047,2,0.241,2,0.24,2,0.047,1,6.216,1,15.227,2,2.81,2,0.02,20.53,2,0.04,0.22,2,0.0,1.478,2,0.003,0.49,2,0.02,4.094,2,2.353,2,0.36,2,2.857,2,20.11,3,2121.0,6,2276.6,2,-999,-999,9,-999.0,9,47.3,2,-999,1,-999,-999,1,-999,-999,9,-999,9,0.085,2,0.037,2,0.007,2
49NZ20170208,P17E,16,1,6, X12J28,2,20170220,2058,-58.0105,-125.9958,4274,53.0,2,6.2697,2,6.2696,2,34.05,2,-999.0,9,-999.0,9,34.2077,2,295.34,2,-999.0,9,97.399,0.1054,2,0.241,2,-999.0,9,0.048,1,6.57,1,15.167,2,-999.0,9,-999.0,-999.0,9,-999.0,-999.0,9,-999.0,-999.0,9,-999.0,-999.0,9,-999.0,-999.0,9,-999.0,9,-999.0,9,-999.0,9,-999.0,9,-999.0,9,-999.0,9,-999,-999,9,-999.0,9,-999.0,9,-999,9,-999,-999,9,-999,-999,9,-999,9,-999.0,9,-999.0,9,-999.0,9
49NZ20170208,P17E,16,1,2, X12J02,2,20170220,2058,-58.0105,-125.9958,4274,77.3,2,6.1533,2,6.16185,2,34.0554,2,34.0569,2,34.218,2,34.2095,2,294.6,2,295.36,2,97.574,0.0982,2,0.236,2,0.25,2,0.046,1,7.085,1,5.125,2,3.34,2,0.02,20.76,2,0.04,0.24,2,0.0,1.497,2,0.003,0.48,2,0.02,-999.0,9,-999.0,9,-999.0,9,-999.0,9,-999.0,9,2123.5,2,2277.5,2,-999,-999,9,-999.0,9,45.3,2,-999,9,-999,-999,9,-999,-999,9,-999,9,0.086,2,0.038,2,0.008,2
49NZ20170208,P17E,16,1,34, X12J34,2,20170220,2058,-58.0105,-125.9958,4274,104.1,2,4.4814,2,4.4842,2,34.1229,2,34.1239,2,34.2872,2,34.3073,2,291.56,2,291.72,2,98.536,0.059,2,0.14,2,0.26,2,0.05,1,7.29,1,1.371,2,10.23,2,0.03,24.1,2,0.05,0.43,2,0.0,1.712,2,0.003,-0.02,2,0.02,4.346,2,2.479,2,0.378,2,2.786,2,22.62,3,2148.1,2,2274.9,2,-999,-999,9,10.125,2,42.2,2,-999,1,-999,-999,1,-999,-999,9,-999,9,0.081,2,0.031,2,0.005,2
49NZ20170208,P17E,16,1,33, X12J33,2,20170220,2058,-58.0105,-125.9958,4274,152.6,2,3.8289,2,3.82953,2,34.0885,2,34.0886,2,34.2503,2,34.2675,2,288.6,2,290.34,2,99.421,0.0232,2,0.014,2,0.04,2,0.032,1,7.738,1,0.032,2,13.54,2,0.03,25.93,2,0.05,0.01,2,0.0,1.781,2,0.003,-0.01,2,0.02,4.382,2,2.453,2,0.38,2,2.715,2,23.84,3,2154.5,2,2276.8,2,-999,-999,9,-999.0,9,41.8,2,-999,1,-999,-999,1,-999,-999,9,-999,9,-999.0,9,-999.0,9,-999.0,9
49NZ20170208,P17E,16,1,32, X12J32,2,20170220,2058,-58.0105,-125.9958,4274,200.8,2,3.5125,2,3.49692,2,34.084,2,34.0858,2,34.2489,2,34.2552,2,282.26,2,281.87,2,99.618,0.0153,2,0.003,2,0.01,2,0.023,1,8.024,1,0.0,2,16.66,2,0.04,27.23,2,0.05,0.0,2,0.0,1.861,2,0.004,-0.01,2,0.02,4.255,2,2.391,2,0.357,2,2.469,2,25.24,3,2164.4,2,2277.7,6,-999,-999,9,10.113,2,41.4,2,-999,1,-999,-999,1,-999,-999,9,-999,9,0.085,2,0.036,2,0.006,2
49NZ20170208,P17E,16,1,31, X12J31,2,20170220,2058,-58.0105,-125.9958,4274,251.1,2,3.2378,2,3.24271,2,34.0849,2,34.0861,2,34.2483,2,34.2543,2,281.91,2,280.81,2,99.567,0.0174,2,0.003,2,0.01,2,0.025,1,8.478,1,0.0,2,18.78,2,0.04,27.93,2,0.05,0.0,2,0.0,1.911,2,0.004,0.0,2,0.02,4.265,6,2.375,6,0.358,6,2.451,6,-999.0,5,2165.5,2,2281.2,2,-999,-999,9,-999.0,9,41.2,2,-999,1,-999,-999,1,-999,-999,9,-999,9,-999.0,9,-999.0,9,-999.0,9
49NZ20170208,P17E,16,1,30, X12J08,2,20170220,2058,-58.0105,-125.9958,4274,281.6,2,3.0845,2,3.08343,2,34.0859,2,34.0856,2,34.2503,2,34.2643,2,279.62,2,279.27,2,99.55,0.018,2,0.004,2,-999.0,9,0.024,1,8.493,1,0.0,2,20.22,2,0.04,28.36,2,0.05,0.0,2,0.0,1.941,2,0.004,-0.01,2,0.02,4.25,2,2.376,2,0.36,2,2.406,2,26.89,3,2168.9,2,2277.8,2,-999,-999,9,-999.0,9,40.3,2,-999,1,-999,-999,1,-999,-999,9,-999,9,-999.0,9,-999.0,9,-999.0,9
49NZ20170208,P17E,16,1,29, X12J07,2,20170220,2058,-58.0105,-125.9958,4274,370.9,2,3.1323,2,3.13452,2,34.1642,2,34.1687,2,34.334,2,34.3256,2,250.72,2,249.04,2,99.681,0.0128,2,0.002,2,-999.0,9,0.02,1,9.08,1,0.0,2,27.89,2,0.05,30.22,2,0.05,0.01,2,0.01,2.068,2,0.004,0.01,2,0.02,3.602,2,1.961,2,0.284,2,1.811,2,29.93,3,2186.0,2,2284.7,2,-999,-999,9,10.14,2,40.4,2,-999,1,-999,-999,1,-999,-999,9,-999,9,0.101,2,0.048,2,0.009,2
49NZ20170208,P17E,16,1,28, X12J06,2,20170220,2058,-58.0105,-125.9958,4274,471.6,2,2.8082,2,2.80783,2,34.2045,2,34.2041,2,34.3696,2,34.3601,2,241.71,2,241.23,2,99.704,0.0118,2,0.002,2,-999.0,9,0.019,1,9.381,1,0.0,2,35.37,2,0.05,31.52,2,0.06,0.01,2,0.0,2.154,2,0.004,0.05,2,0.02,3.339,2,1.804,2,0.268,2,1.584,2,32.16,3,2198.4,2,2294.0,2,-999,-999,9,-999.0,9,40.5,2,-999,1,-999,-999,1,-999,-999,9,-999,9,-999.0,9,-999.0,9,-999.0,9
49NZ20170208,P17E,16,1,27, X12J05,2,20170220,2058,-58.0105,-125.9958,4274,571.0,2,2.8817,2,2.88127,2,34.2947,2,34.2938,2,34.4592,2,34.4258,2,216.17,2,216.36,2,99.742,0.0103,2,0.002,2,-999.0,9,0.02,1,9.675,1,0.0,2,44.33,2,0.06,32.77,2,0.06,0.01,2,0.0,2.243,2,0.004,0.02,2,0.02,2.557,2,1.353,2,0.192,2,0.997,2,34.3,3,2214.7,2,2303.4,2,-999,-999,9,10.187,2,40.5,2,-999,1,-999,-999,1,-999,-999,9,-999,9,0.109,2,0.048,2,0.01,2
49NZ20170208,P17E,16,1,26, X12J04,2,20170220,2058,-58.0105,-125.9958,4274,668.7,2,2.6067,2,2.60684,2,34.3425,2,34.3423,2,34.5087,2,34.5184,2,206.92,2,207.35,2,99.759,0.0096,2,0.002,2,-999.0,9,0.017,1,10.075,1,0.0,2,51.92,2,0.06,33.69,2,0.06,0.0,2,0.0,2.305,2,0.004,-0.02,2,0.02,2.224,2,1.168,2,0.157,2,0.9,2,37.03,3,2225.3,6,2309.9,2,-999,-999,9,-999.0,9,39.9,2,-999,1,-999,-999,1,-999,-999,9,-999,9,-999.0,9,-999.0,9,-999.0,9
49NZ20170208,P17E,16,1,25, X12J03,2,20170220,2058,-58.0105,-125.9958,4274,770.6,2,2.7505,2,2.75054,2,34.4416,2,34.4403,2,34.6088,2,34.5989,2,182.64,2,182.96,2,99.804,0.0079,2,0.002,2,-999.0,9,0.017,1,10.714,1,0.0,2,61.25,2,0.07,34.3,2,0.06,0.0,2,0.0,2.354,2,0.004,-0.03,2,0.02,1.337,2,0.682,2,0.084,2,0.401,2,38.15,3,2241.6,2,2322.0,2,-999,-999,9,10.236,2,38.8,2,-999,1,-999,-999,1,-999,-999,9,-999,9,0.122,2,0.055,2,0.015,2
49NZ20170208,P17E,16,1,24, X12J24,2,20170220,2058,-58.0105,-125.9958,4274,871.5,2,2.6053,2,2.60497,2,34.4835,2,34.4837,2,34.6517,2,34.6524,2,178.49,2,178.3,2,99.81,0.0076,2,0.002,2,-999.0,9,0.015,1,11.066,1,0.0,2,66.32,2,0.08,34.5,2,0.06,0.0,2,0.0,2.367,2,0.004,-0.03,2,0.02,1.094,6,0.56,6,0.068,6,0.326,6,38.23,3,2246.9,2,2326.5,2,-999,-999,9,-999.0,9,38.3,2,-999,1,-999,-999,1,-999,-999,9,-999,9,-999.0,9,-999.0,9,-999.0,9
49NZ20170208,P17E,16,1,23, X12J23,2,20170220,2058,-58.0105,-125.9958,4274,968.0,2,2.4451,2,2.44655,2,34.5192,2,34.5186,2,34.6859,2,34.6856,2,176.87,2,176.42,2,99.789,0.0085,2,0.002,2,-999.0,9,0.016,1,10.917,1,0.0,2,69.95,2,0.08,34.5,2,0.06,0.0,2,0.0,2.365,2,0.004,-0.02,2,0.02,0.978,2,0.498,2,0.062,2,0.295,2,-999.0,5,2250.2,2,2327.8,2,-999,-999,9,10.252,2,39.5,2,-999,1,-999,-999,1,-999,-999,9,-999,9,0.124,2,0.052,2,0.013,2
49NZ20170208,P17E,16,1,22, X12J22,2,20170220,2058,-58.0105,-125.9958,4274,1131.5,2,2.4186,2,2.41873,2,34.5972,2,34.5962,2,34.7683,2,34.7673,2,171.64,2,171.56,2,99.838,0.0065,2,0.002,2,-999.0,9,0.015,1,11.664,1,0.0,2,76.61,2,0.09,34.0,2,0.06,0.0,2,0.0,2.332,2,0.004,-0.01,2,0.02,0.538,2,0.271,2,0.027,2,0.126,2,38.57,3,2256.7,2,2338.2,6,-999,-999,9,10.279,2,39.1,2,-999,1,-999,-999,1,-999,-999,9,-999,9,-999.0,9,-999.0,9,-999.0,9
49NZ20170208,P17E,16,1,21, X12J21,2,20170220,2058,-58.0105,-125.9958,4274,1330.8,2,2.2663,2,2.266,2,34.6608,2,34.6614,2,34.8316,2,34.8268,2,174.75,2,174.89,2,99.852,0.0059,2,0.002,2,-999.0,9,0.012,1,11.534,1,0.0,2,81.15,2,0.09,33.02,2,0.06,0.0,2,0.0,2.269,2,0.004,-0.01,2,0.02,0.335,2,0.169,2,0.016,2,0.083,2,36.85,3,2256.5,2,2342.4,2,-999,-999,9,10.299,2,39.7,2,-999,1,-999,-999,1,-999,-999,9,-999,9,-999.0,9,-999.0,9,-999.0,9
49NZ20170208,P17E,16,1,20, X12J20,2,20170220,2058,-58.0105,-125.9958,4274,1532.3,2,2.1401,2,2.13999,2,34.6962,2,34.6963,2,34.8652,2,34.8664,2,179.4,2,179.59,2,99.859,0.0057,2,0.002,2,-999.0,9,0.012,1,11.362,1,0.0,2,84.13,2,0.09,32.25,2,0.06,0.0,2,0.0,2.219,2,0.004,0.0,2,0.02,0.248,2,0.123,2,0.01,2,0.068,2,35.81,3,2256.3,2,2345.9,2,-999,-999,9,10.306,2,38.3,2,-999,1,-999,-999,1,-999,-999,9,-999,9,-999.0,9,-999.0,9,-999.0,9
49NZ20170208,P17E,16,1,19, X12J19,2,20170220,2058,-58.0105,-125.9958,4274,1732.2,2,2.003,2,2.00299,2,34.7181,2,34.7182,2,34.8903,2,34.887,2,184.12,2,184.59,2,99.867,0.0053,2,0.002,2,-999.0,9,0.013,1,12.028,1,0.0,2,87.65,2,0.09,31.79,2,0.06,0.0,2,0.0,2.187,2,0.004,0.0,2,0.02,0.191,2,0.094,2,0.006,2,0.039,2,34.2,3,2253.0,2,2348.5,2,-999,-999,9,10.309,2,39.6,2,-999,1,-999,-999,1,-999,-999,9,-999,9,-999.0,9,-999.0,9,-999.0,9
49NZ20170208,P17E,16,1,18, X12J18,2,20170220,2058,-58.0105,-125.9958,4274,1930.8,2,1.8218,2,1.8217,2,34.7261,2,34.7267,2,35.0491,4,34.8958,2,187.27,2,187.68,2,99.888,0.0045,2,0.002,2,-999.0,9,0.012,1,11.829,1,0.0,2,93.41,2,0.1,31.6,2,0.06,0.0,2,0.0,2.168,2,0.004,0.05,2,0.02,0.141,2,0.074,2,0.005,2,0.044,2,-999.0,5,2257.7,2,2353.7,2,-999,-999,9,10.324,2,38.7,2,-999,1,-999,-999,1,-999,-999,9,-999,9,-999.0,9,-999.0,9,-999.0,9
49NZ20170208,P17E,16,1,17, X12J17,2,20170220,2058,-58.0105,-125.9958,4274,2131.2,2,1.6342,2,1.63404,2,34.7296,2,34.7297,2,34.9008,2,34.9001,2,191.82,2,192.22,2,99.909,0.0036,2,0.002,2,-999.0,9,0.012,1,11.722,1,0.0,2,98.44,2,0.1,31.54,2,0.06,0.0,2,0.0,2.167,2,0.004,0.02,2,0.02,0.132,2,0.063,2,0.003,2,0.006,2,32.67,3,2258.8,2,2355.5,2,-999,-999,9,10.315,2,39.9,2,-999,1,-999,-999,1,-999,-999,9,-999,9,-999.0,9,-999.0,9,-999.0,9
49NZ20170208,P17E,16,1,16, X12J16,2,20170220,2058,-58.0105,-125.9958,4274,2331.2,2,1.4625,2,1.46232,2,34.7276,2,34.728,2,34.8988,2,34.8998,2,194.72,2,195.01,2,99.89,0.0044,2,0.002,2,-999.0,9,0.012,1,11.74,1,0.0,2,103.52,2,0.11,31.72,2,0.06,0.0,2,0.0,2.174,2,0.004,0.0,2,0.02,0.13,2,0.065,2,0.004,2,0.017,2,32.79,3,2258.1,6,2357.1,2,-999,-999,9,10.324,2,39.2,2,-999,1,-999,-999,1,-999,-999,9,-999,9,-999.0,9,-999.0,9,-999.0,9
49NZ20170208,P17E,16,1,15, X12J15,2,20170220,2058,-58.0105,-125.9958,4274,2533.7,2,1.3381,2,1.33758,2,34.7244,2,34.7245,2,34.8949,2,34.8995,2,196.67,2,196.94,2,99.888,0.0045,2,0.002,2,-999.0,9,0.012,1,11.628,1,0.0,2,107.97,2,0.11,31.88,2,0.06,0.0,2,0.0,2.185,2,0.004,-0.02,2,0.02,0.128,2,0.066,2,0.002,2,0.02,2,33.14,3,2260.3,2,2359.8,2,-999,-999,9,10.316,2,39.1,2,-999,1,-999,-999,1,-999,-999,9,-999,9,-999.0,9,-999.0,9,-999.0,9
49NZ20170208,P17E,16,1,14, X12J14,2,20170220,2058,-58.0105,-125.9958,4274,2732.1,2,1.2191,2,1.21909,2,34.7209,2,34.7212,2,34.8935,2,34.8949,2,198.62,2,198.66,2,99.884,0.0046,2,0.002,2,-999.0,9,0.012,1,11.705,1,0.0,2,111.74,2,0.11,31.96,2,0.06,0.0,2,0.01,2.196,2,0.004,-0.02,2,0.02,0.138,2,0.069,2,0.002,2,0.013,2,33.17,3,2260.4,2,2358.7,2,-999,-999,9,10.315,2,39.1,2,-999,1,-999,-999,1,-999,-999,9,-999,9,-999.0,9,-999.0,9,-999.0,9
49NZ20170208,P17E,16,1,13, X12113,2,20170220,2058,-58.0105,-125.9958,4274,2929.4,2,1.1134,2,1.11351,2,34.7177,2,34.7177,2,34.8909,2,34.8923,2,200.56,2,200.71,2,99.869,0.0052,2,0.002,2,-999.0,9,0.012,1,11.768,1,0.0,2,115.5,2,0.12,32.13,2,0.06,0.0,2,0.0,2.207,2,0.004,-0.03,2,0.02,0.164,2,0.084,2,0.004,2,0.007,2,33.06,3,2261.3,2,2360.9,2,-999,-999,9,-999.0,9,40.6,2,-999,1,-999,-999,1,-999,-999,9,-999,9,0.12,2,0.051,2,0.008,2
49NZ20170208,P17E,16,1,12, X12J12,2,20170220,2058,-58.0105,-125.9958,4274,3174.3,2,1.0275,2,1.02745,2,34.7148,2,34.7149,2,34.8876,2,34.8901,2,202.22,2,202.36,2,99.85,0.006,2,0.002,2,-999.0,9,0.013,1,11.66,1,0.0,2,118.41,2,0.12,32.2,2,0.06,0.0,2,0.0,2.213,2,0.004,-0.02,2,0.02,0.185,2,0.095,2,0.006,2,0.024,2,32.19,3,2262.1,2,2360.2,6,-999,-999,9,-999.0,9,38.7,2,-999,1,-999,-999,1,-999,-999,9,-999,9,-999.0,9,-999.0,9,-999.0,9
49NZ20170208,P17E,16,1,11, X12J11,2,20170220,2058,-58.0105,-125.9958,4274,3422.9,2,0.9517,2,0.95148,2,34.712,2,34.7119,2,34.8869,2,34.8886,2,203.67,2,203.88,2,99.825,0.007,2,0.002,2,-999.0,9,0.014,1,11.515,1,0.0,2,121.48,2,0.12,32.33,2,0.06,0.0,2,0.0,2.218,2,0.004,-0.02,2,0.02,0.216,2,0.107,2,0.007,2,0.048,2,-999.0,5,2262.8,2,2359.3,2,-999,-999,9,10.33,2,39.1,2,-999,1,-999,-999,1,-999,-999,9,-999,9,-999.0,9,-999.0,9,-999.0,9
49NZ20170208,P17E,16,1,10, X12J10,2,20170220,2058,-58.0105,-125.9958,4274,3673.1,2,0.8961,2,0.89607,2,34.7099,2,34.7102,2,34.8823,2,34.8873,2,204.9,2,205.14,2,99.77,0.0092,2,0.001,2,-999.0,9,0.016,1,11.804,1,0.0,2,123.97,2,0.12,32.35,2,0.06,0.0,2,0.0,2.221,2,0.004,-0.02,2,0.02,0.241,2,0.12,2,0.006,2,0.047,2,32.14,3,2261.5,2,2359.6,2,-999,-999,9,-999.0,9,39.4,2,-999,1,-999,-999,1,-999,-999,9,-999,9,-999.0,9,-999.0,9,-999.0,9
49NZ20170208,P17E,16,1,9, X12J09,2,20170220,2058,-58.0105,-125.9958,4274,3924.1,2,0.8663,2,0.86634,2,34.7085,2,34.7083,2,34.8823,2,34.8822,2,205.68,2,205.92,2,99.73,0.0108,2,0.002,2,-999.0,9,0.018,1,11.751,1,0.0,2,125.78,2,0.13,32.46,2,0.06,0.0,2,0.0,2.228,2,0.004,-0.01,2,0.02,0.261,2,0.128,2,0.009,2,0.052,2,32.13,3,2262.2,2,2361.8,2,-999,-999,9,-999.0,9,38.5,2,-999,1,-999,-999,1,-999,-999,9,-999,9,-999.0,9,-999.0,9,-999.0,9
49NZ20170208,P17E,16,1,8, X12J30,2,20170220,2058,-58.0105,-125.9958,4274,4173.4,2,0.7644,2,0.76436,2,34.7053,2,34.7056,2,34.879,2,34.8776,2,207.55,2,207.74,2,99.723,0.0111,2,0.001,2,-999.0,9,0.018,1,11.492,1,0.0,2,129.32,2,0.13,32.51,2,0.06,0.0,2,0.0,2.24,2,0.004,-0.01,2,0.02,0.307,2,0.152,2,0.011,2,0.056,2,32.43,3,2263.2,6,2361.1,2,-999,-999,9,10.322,2,40.1,2,-999,1,-999,-999,1,-999,-999,9,-999,9,-999.0,9,-999.0,9,-999.0,9
49NZ20170208,P17E,16,1,1, X12J01,2,20170220,2058,-58.0105,-125.9958,4274,4321.1,2,0.6722,2,0.67221,2,34.7031,2,34.7034,2,34.8782,2,34.8767,2,209.32,2,209.6,2,99.345,0.0263,2,0.002,2,-999.0,9,0.058,1,11.72,1,0.0,2,131.8,2,0.13,32.7,2,0.06,0.0,2,0.0,2.245,2,0.004,0.0,2,0.02,0.355,2,0.174,2,0.015,2,0.086,2,32.4,3,2262.3,2,2361.8,2,-999,-999,9,10.311,2,39.5,2,-999,1,-999,-999,1,-999,-999,9,-999,9,0.127,2,0.054,2,0.015,2