BOTTLE,20240216CCHSIOADS
EXPOCODE,SECT_ID,STNNBR,CASTNO,SAMPNO,BTLNBR,BTLNBR_FLAG_W,DATE,TIME,LATITUDE,LONGITUDE,DEPTH,CTDPRS,CTDPRS_FLAG_W,CTDTMP,CTDTMP_FLAG_W,REFTMP,REFTMP_FLAG_W,CTDSAL,CTDSAL_FLAG_W,SALNTY,SALNTY_FLAG_W,DNSSAL,DNSSAL_FLAG_W,CTDSVLSAL,CTDSVLSAL_FLAG_W,CTDOXY,CTDOXY_FLAG_W,OXYGEN,OXYGEN_FLAG_W,CTDXMISS,CTDBEAMCP,CTDXMISS_FLAG_W,CTDFLUOR,CTDFLUOR_FLAG_W,CHLORA,CHLORA_FLAG_W,CTDTURB,CTDTURB_FLAG_W,CTDCDOM,CTDCDOM_FLAG_W,PAR,PAR_FLAG_W,SILCAT,SILCAT_FLAG_W,SILUNC,NITRAT,NITRAT_FLAG_W,NRAUNC,NITRIT,NITRIT_FLAG_W,NRIUNC,PHSPHT,PHSPHT_FLAG_W,PHPUNC,NH4,NH4_FLAG_W,NH4UNC,CFC-11,CFC-11_FLAG_W,CFC-12,CFC-12_FLAG_W,CFC113,CFC113_FLAG_W,SF6,SF6_FLAG_W,N2O,N2O_FLAG_W,TCARBN,TCARBN_FLAG_W,ALKALI,ALKALI_FLAG_W,PH_TOT,PH_TMP,PH_TOT_FLAG_W,CALCIUM,CALCIUM_FLAG_W,DOC,DOC_FLAG_W,DELC13,DELC13_FLAG_W,C13ERR,DELC14,DELC14_FLAG_W,C14ERR,POC,POC_FLAG_W,HPLC,HPLC_FLAG_W,CDOM325,CDOM325_FLAG_W,CDOM370,CDOM370_FLAG_W,CDOM443,CDOM443_FLAG_W
,,,,,,,,,,,METERS,DBAR,,ITS-90,,ITS-90,,PSS-78,,PSS-78,,G/KG,,G/KG,,UMOL/KG,,UMOL/KG,,%TRANS,/METER,,MG/M^3,,UG/L,,FTU,,QSU,,UMOL/M^2/SEC,,UMOL/KG,,UMOL/KG,UMOL/KG,,UMOL/KG,UMOL/KG,,UMOL/KG,UMOL/KG,,UMOL/KG,UMOL/KG,,UMOL/KG,PMOL/KG,,PMOL/KG,,PMOL/KG,,FMOL/KG,,NMOL/KG,,UMOL/KG,,UMOL/KG,,,DEG C,,MMOL/KG,,UMOL/KG,,/MILLE,,/MILLE,/MILLE,,/MILLE,UG/KG,,,,/METER,,/METER,,/METER,
49NZ20170208,P17E,10,1,0,    BUC,2,20170219,1232,-60.9785,-126.0072,4590,0.0,2,-999.0,9,-999.0,9,-999.0,9,33.9379,2,-999.0,9,-999.0,9,-999.0,9,-999.0,9,-999.0,-999.0,9,-999.0,9,0.22,2,-999.0,9,-999.0,9,-999.0,9,10.41,2,0.03,24.49,2,0.05,0.25,2,0.0,1.703,2,0.003,0.75,2,0.02,-999.0,9,-999.0,9,-999.0,9,-999.0,9,-999.0,9,-999.0,9,-999.0,9,-999,-999,9,10.084,2,-999.0,9,-999,9,-999,-999,9,-999,-999,9,-999,9,-999.0,9,-999.0,9,-999.0,9
49NZ20170208,P17E,10,1,36, X12J36,2,20170219,1232,-60.9785,-126.0072,4590,10.2,2,2.9344,2,2.93425,2,33.9318,2,33.932,2,-999.0,9,34.0915,2,320.85,2,321.43,2,96.724,0.1332,2,0.201,2,0.2,2,0.078,1,7.195,1,24.944,2,10.89,2,0.03,24.58,2,0.05,0.25,2,0.0,1.704,2,0.003,0.73,2,0.02,5.031,6,2.806,6,0.456,6,3.189,6,21.9,3,2147.8,2,2287.6,2,-999,-999,9,10.081,2,-999.0,9,-999,1,-999,-999,1,-999,-999,9,-999,9,-999.0,9,-999.0,9,-999.0,9
49NZ20170208,P17E,10,1,35, X12J35,2,20170219,1232,-60.9785,-126.0072,4590,52.0,2,2.9419,2,2.94178,2,33.9324,2,33.9325,2,-999.0,9,34.0999,2,320.94,2,321.38,2,96.715,0.1336,2,0.222,2,0.2,2,0.083,1,7.484,1,2.614,2,11.03,2,0.03,24.63,2,0.05,0.25,2,0.0,1.709,2,0.003,0.74,2,0.02,5.025,2,2.804,2,0.45,2,3.252,2,22.9,3,2150.8,6,2287.9,2,-999,-999,9,-999.0,9,-999.0,9,-999,1,-999,-999,1,-999,-999,9,-999,9,-999.0,9,-999.0,9,-999.0,9
49NZ20170208,P17E,10,1,2, X12J02,2,20170219,1232,-60.9785,-126.0072,4590,67.3,2,2.9254,2,2.92322,2,33.933,2,33.9363,2,-999.0,9,34.1084,2,320.85,2,321.67,2,96.739,0.1326,2,0.232,2,0.22,2,0.084,1,7.608,1,1.139,2,11.54,2,0.03,24.66,2,0.05,0.25,2,0.0,1.718,2,0.003,0.74,2,0.02,-999.0,9,-999.0,9,-999.0,9,-999.0,9,-999.0,9,2148.5,2,2289.1,2,-999,-999,9,-999.0,9,-999.0,9,-999,9,-999,-999,9,-999,-999,9,-999,9,-999.0,9,-999.0,9,-999.0,9
49NZ20170208,P17E,10,1,34, X12J34,2,20170219,1232,-60.9785,-126.0072,4590,102.3,2,0.6089,2,0.61164,2,34.0623,2,34.0623,2,-999.0,9,34.2037,2,329.99,2,330.2,2,98.384,0.0652,2,0.089,2,0.2,2,0.054,1,8.288,1,0.006,2,36.29,2,0.05,28.07,2,0.05,0.26,2,0.0,2.084,2,0.004,1.52,2,0.02,5.458,2,3.038,2,0.491,2,3.426,2,25.9,3,2180.9,2,2298.8,2,-999,-999,9,10.123,2,-999.0,9,-999,1,-999,-999,1,-999,-999,9,-999,9,-999.0,9,-999.0,9,-999.0,9
49NZ20170208,P17E,10,1,33, X12J33,2,20170219,1232,-60.9785,-126.0072,4590,150.3,2,0.5983,2,0.60186,2,34.1331,2,34.1278,2,-999.0,9,34.3565,2,303.97,2,306.58,2,99.109,0.0358,2,0.015,2,0.04,2,0.033,1,8.465,1,0.0,2,45.37,2,0.06,30.91,2,0.06,0.25,2,0.0,2.138,2,0.004,0.36,2,0.02,4.944,2,2.716,2,0.45,2,2.98,2,28.3,3,2194.9,2,2303.1,2,-999,-999,9,-999.0,9,-999.0,9,-999,1,-999,-999,1,-999,-999,9,-999,9,-999.0,9,-999.0,9,-999.0,9
49NZ20170208,P17E,10,1,32, X12J32,2,20170219,1232,-60.9785,-126.0072,4590,200.0,2,1.1602,2,1.16845,2,34.2608,2,34.2445,2,-999.0,9,34.4141,2,251.24,2,259.87,2,99.345,0.0263,2,0.005,2,0.02,2,0.025,1,9.47,1,0.0,2,54.39,2,0.07,32.9,2,0.25,0.01,2,0.0,2.245,2,0.004,0.04,2,0.02,3.8,2,2.059,2,0.323,2,2.016,2,33.0,3,2216.3,2,2308.6,6,-999,-999,9,10.168,2,-999.0,9,-999,1,-999,-999,1,-999,-999,9,-999,9,-999.0,9,-999.0,9,-999.0,9
49NZ20170208,P17E,10,1,31, X12J31,2,20170219,1232,-60.9785,-126.0072,4590,250.3,2,2.0674,2,2.06721,2,34.4202,2,34.4134,2,-999.0,9,34.5713,2,195.64,2,195.5,2,99.432,0.0228,2,0.003,2,0.01,2,0.024,1,10.354,1,0.0,2,64.28,2,0.08,34.81,2,0.06,0.01,2,0.0,2.366,2,0.004,0.03,2,0.02,1.947,6,1.004,6,0.148,6,0.767,6,-999.0,5,2241.4,2,2322.3,2,-999,-999,9,-999.0,9,-999.0,9,-999,1,-999,-999,1,-999,-999,9,-999,9,-999.0,9,-999.0,9,-999.0,9
49NZ20170208,P17E,10,1,30, X12J30,2,20170219,1232,-60.9785,-126.0072,4590,300.0,2,2.1806,2,2.17983,2,34.4715,2,34.4703,2,-999.0,9,34.6222,2,184.86,2,184.67,2,99.47,0.0213,2,0.003,2,-999.0,9,0.023,1,10.749,1,0.0,2,68.34,2,0.08,34.91,2,0.18,0.0,2,0.0,2.374,2,0.004,0.03,2,0.02,1.51,2,0.753,2,0.113,2,0.537,2,40.1,3,2248.0,2,2328.4,2,-999,-999,9,10.24,2,-999.0,9,-999,1,-999,-999,1,-999,-999,9,-999,9,-999.0,9,-999.0,9,-999.0,9
49NZ20170208,P17E,10,1,29, X12J29,2,20170219,1232,-60.9785,-126.0072,4590,399.9,2,2.1916,2,2.1912,2,34.5534,2,34.5502,2,-999.0,9,34.7031,2,176.45,2,176.39,2,99.599,0.0161,2,0.003,2,-999.0,9,0.019,1,10.55,1,0.0,2,74.37,2,0.08,34.79,2,0.06,0.01,2,0.0,2.363,2,0.004,0.02,2,0.02,1.024,2,0.502,2,0.06,2,0.358,2,39.1,3,2252.4,2,2335.0,2,-999,-999,9,10.281,2,-999.0,9,-999,1,-999,-999,1,-999,-999,9,-999,9,-999.0,9,-999.0,9,-999.0,9
49NZ20170208,P17E,10,1,28, X12J28,2,20170219,1232,-60.9785,-126.0072,4590,502.2,2,2.1965,2,2.19657,2,34.6081,2,34.6065,2,-999.0,9,34.7677,2,174.12,2,174.06,2,99.656,0.0138,2,0.003,2,-999.0,9,0.018,1,10.876,1,0.0,2,77.69,2,0.09,34.15,2,0.06,0.0,2,0.0,2.325,2,0.004,0.04,2,0.02,0.709,2,0.345,2,0.041,2,0.244,2,37.7,3,2259.1,3,2336.4,2,-999,-999,9,10.289,2,-999.0,9,-999,1,-999,-999,1,-999,-999,9,-999,9,-999.0,9,-999.0,9,-999.0,9
49NZ20170208,P17E,10,1,27, X12J27,2,20170219,1232,-60.9785,-126.0072,4590,600.3,2,2.1615,2,2.16148,2,34.6513,2,34.65,2,-999.0,9,34.8128,2,175.12,2,174.78,2,99.696,0.0122,2,0.003,2,-999.0,9,0.017,1,11.221,1,0.0,2,80.58,2,0.09,33.39,2,0.06,0.0,2,0.0,2.278,2,0.004,0.06,2,0.02,0.483,2,0.237,2,0.024,2,0.187,2,36.8,3,2253.9,2,2344.7,2,-999,-999,9,10.297,2,-999.0,9,-999,1,-999,-999,1,-999,-999,9,-999,9,-999.0,9,-999.0,9,-999.0,9
49NZ20170208,P17E,10,1,26, X12J26,2,20170219,1232,-60.9785,-126.0072,4590,701.7,2,2.1068,2,2.10701,2,34.6816,2,34.6801,2,-999.0,9,34.8453,2,177.42,2,177.15,2,99.723,0.0111,2,0.002,2,-999.0,9,0.016,1,11.317,1,0.0,2,82.79,2,0.09,32.81,2,0.06,0.0,2,0.0,2.24,2,0.004,0.05,2,0.02,0.351,2,0.176,2,0.018,2,0.147,2,35.8,3,2254.0,6,2342.3,2,-999,-999,9,10.305,2,-999.0,9,-999,1,-999,-999,1,-999,-999,9,-999,9,-999.0,9,-999.0,9,-999.0,9
49NZ20170208,P17E,10,1,25, X12J25,2,20170219,1232,-60.9785,-126.0072,4590,801.4,2,2.0479,2,2.0479,2,34.6968,2,34.6967,2,-999.0,9,34.864,2,179.47,2,179.52,2,99.755,0.0098,2,0.002,2,-999.0,9,0.013,1,11.523,1,0.0,2,84.48,2,0.09,32.47,2,0.06,0.0,2,0.0,2.221,2,0.004,0.03,2,0.02,0.294,2,0.152,2,0.017,2,0.16,2,32.1,3,2255.7,2,2347.9,2,-999,-999,9,10.311,2,-999.0,9,-999,1,-999,-999,1,-999,-999,9,-999,9,-999.0,9,-999.0,9,-999.0,9
49NZ20170208,P17E,10,1,24, X12J24,2,20170219,1232,-60.9785,-126.0072,4590,900.4,2,1.9792,2,1.97955,2,34.7099,2,34.7101,2,-999.0,9,34.8785,2,182.19,2,181.99,2,99.77,0.0092,2,0.002,2,-999.0,9,0.015,1,11.65,1,0.0,2,86.14,2,0.09,32.18,2,0.06,0.0,2,0.0,2.2,2,0.004,0.02,2,0.02,0.276,6,0.139,6,0.013,6,0.127,6,33.7,3,2253.3,2,2348.5,2,-999,-999,9,10.32,2,-999.0,9,-999,1,-999,-999,1,-999,-999,9,-999,9,-999.0,9,-999.0,9,-999.0,9
49NZ20170208,P17E,10,1,23, X12J23,2,20170219,1232,-60.9785,-126.0072,4590,1001.2,2,1.8926,2,1.89246,2,34.7208,2,34.7209,2,-999.0,9,34.8881,2,185.14,2,185.07,2,99.802,0.0079,2,0.002,2,-999.0,9,0.013,1,11.631,1,0.0,2,88.42,2,0.1,31.95,2,0.06,0.0,2,0.0,2.179,2,0.004,0.01,2,0.02,0.25,2,0.121,2,0.008,2,0.092,2,33.4,3,2252.4,2,2348.7,2,-999,-999,9,10.325,2,-999.0,9,-999,1,-999,-999,1,-999,-999,9,-999,9,-999.0,9,-999.0,9,-999.0,9
49NZ20170208,P17E,10,1,22, X12J22,2,20170219,1232,-60.9785,-126.0072,4590,1200.7,2,1.7363,2,1.73621,2,34.7301,2,34.7299,2,-999.0,9,34.8995,2,188.98,2,188.87,2,99.825,0.007,2,0.002,2,-999.0,9,0.013,1,11.241,1,0.0,2,92.82,2,0.1,31.75,2,0.06,0.0,2,0.0,2.164,2,0.004,0.03,2,0.02,0.208,2,0.101,2,0.001,2,0.076,2,-999.0,5,2257.8,2,2354.3,6,-999,-999,9,10.317,2,-999.0,9,-999,1,-999,-999,1,-999,-999,9,-999,9,-999.0,9,-999.0,9,-999.0,9
49NZ20170208,P17E,10,1,21, X12J21,3,20170219,1232,-60.9785,-126.0072,4590,1401.1,2,1.5471,2,1.54713,2,34.7321,2,34.7325,2,-999.0,9,34.9027,2,192.34,2,192.35,2,99.829,0.0068,2,0.002,2,-999.0,9,0.013,1,11.374,1,0.0,2,98.14,2,0.1,31.63,2,0.06,0.0,2,0.0,2.166,2,0.004,0.03,2,0.02,0.187,2,0.092,2,0.002,2,0.027,2,33.0,3,2256.8,2,2356.3,2,-999,-999,9,10.323,2,-999.0,9,-999,1,-999,-999,1,-999,-999,9,-999,9,-999.0,9,-999.0,9,-999.0,9
49NZ20170208,P17E,10,1,20, X12J20,2,20170219,1232,-60.9785,-126.0072,4590,1603.6,2,1.3855,2,1.38529,2,34.7296,2,34.7298,2,-999.0,9,34.8983,2,194.53,2,194.68,2,99.848,0.0061,2,0.002,2,-999.0,9,0.014,1,11.51,1,0.0,2,103.48,2,0.11,31.82,2,0.06,0.0,2,0.0,2.178,2,0.004,0.01,2,0.02,0.174,2,0.087,2,0.003,2,0.045,2,33.0,3,2256.3,2,2359.6,2,-999,-999,9,10.316,2,-999.0,9,-999,1,-999,-999,1,-999,-999,9,-999,9,-999.0,9,-999.0,9,-999.0,9
49NZ20170208,P17E,10,1,19, X12J19,2,20170219,1232,-60.9785,-126.0072,4590,1802.5,2,1.2426,2,1.24236,2,34.7251,2,34.7253,2,-999.0,9,34.8961,2,196.45,2,196.71,2,99.878,0.0049,2,0.002,2,-999.0,9,0.011,1,11.571,1,0.0,2,108.46,2,0.11,32.02,2,0.06,0.0,2,0.0,2.192,2,0.004,0.0,2,0.02,0.159,2,0.073,2,0.003,2,0.062,2,33.1,3,2258.8,2,2360.9,2,-999,-999,9,-999.0,9,-999.0,9,-999,1,-999,-999,1,-999,-999,9,-999,9,-999.0,9,-999.0,9,-999.0,9
49NZ20170208,P17E,10,1,18, X12J18,2,20170219,1232,-60.9785,-126.0072,4590,2002.6,2,1.1255,2,1.12551,2,34.7214,2,34.7217,2,-999.0,9,34.8927,2,198.45,2,198.64,2,99.897,0.0041,2,0.002,2,-999.0,9,0.011,1,11.952,1,0.0,2,112.55,2,0.44,32.32,2,0.06,0.0,2,0.0,2.207,2,0.004,0.02,2,0.02,0.16,2,0.076,2,0.0,2,0.004,2,-999.0,5,2258.6,2,2362.1,2,-999,-999,9,-999.0,9,-999.0,9,-999,1,-999,-999,1,-999,-999,9,-999,9,-999.0,9,-999.0,9,-999.0,9
49NZ20170208,P17E,10,1,17, X12J17,2,20170219,1232,-60.9785,-126.0072,4590,2201.5,2,1.0201,2,1.02006,2,34.7173,2,34.717,2,-999.0,9,34.8907,2,200.34,2,200.45,2,99.899,0.0041,2,0.002,2,-999.0,9,0.011,1,11.689,1,0.0,2,115.73,2,0.12,32.24,2,0.06,0.0,2,0.0,2.206,2,0.004,0.05,2,0.02,0.165,2,0.082,2,0.0,2,0.068,2,30.5,3,2261.5,2,2362.5,2,-999,-999,9,10.312,2,-999.0,9,-999,1,-999,-999,1,-999,-999,9,-999,9,-999.0,9,-999.0,9,-999.0,9
49NZ20170208,P17E,10,1,16, X12J16,2,20170219,1232,-60.9785,-126.0072,4590,2402.2,2,0.9286,2,0.92853,2,34.7137,2,34.7141,2,-999.0,9,34.8891,2,201.84,2,202.04,2,99.899,0.0041,2,0.002,2,-999.0,9,0.011,1,11.366,1,0.0,2,119.67,2,0.12,32.35,2,0.06,0.0,2,0.0,2.215,2,0.004,0.04,2,0.02,0.174,2,0.083,2,0.001,2,0.032,2,30.9,3,2261.3,6,2356.6,2,-999,-999,9,-999.0,9,-999.0,9,-999,1,-999,-999,1,-999,-999,9,-999,9,-999.0,9,-999.0,9,-999.0,9
49NZ20170208,P17E,10,1,15, X12J15,2,20170219,1232,-60.9785,-126.0072,4590,2601.2,2,0.8594,2,0.85929,2,34.7107,2,34.7102,2,-999.0,9,34.8862,2,203.22,2,203.46,2,99.903,0.0039,2,0.002,2,-999.0,9,0.011,1,11.818,1,0.0,2,122.34,2,0.12,32.41,2,0.22,0.0,2,0.0,2.22,2,0.004,0.04,2,0.02,0.189,2,0.095,2,0.003,2,0.05,2,31.5,3,2261.5,2,2360.5,3,-999,-999,9,-999.0,9,-999.0,9,-999,1,-999,-999,1,-999,-999,9,-999,9,-999.0,9,-999.0,9,-999.0,9
49NZ20170208,P17E,10,1,14, X12J14,2,20170219,1232,-60.9785,-126.0072,4590,2802.0,2,0.7928,2,0.7926,2,34.7082,2,34.7081,2,-999.0,9,34.884,2,204.54,2,204.76,2,99.909,0.0036,2,0.002,2,-999.0,9,0.011,1,11.39,1,0.0,2,124.88,2,0.13,32.49,2,0.06,0.0,2,0.0,2.226,2,0.004,0.03,2,0.02,0.218,2,0.106,2,0.003,2,0.021,2,31.9,3,2263.2,2,2359.4,3,-999,-999,9,10.306,2,-999.0,9,-999,1,-999,-999,1,-999,-999,9,-999,9,-999.0,9,-999.0,9,-999.0,9
49NZ20170208,P17E,10,1,13, X12113,2,20170219,1232,-60.9785,-126.0072,4590,3001.1,2,0.7247,2,0.72458,2,34.7057,2,34.7057,2,-999.0,9,34.882,2,205.87,2,206.07,2,99.911,0.0035,2,0.002,2,-999.0,9,0.01,1,11.749,1,0.0,2,127.01,2,0.13,32.47,2,0.06,0.0,2,0.0,2.237,2,0.004,0.02,2,0.02,0.244,2,0.121,2,0.008,2,0.011,2,32.1,3,2260.6,2,2362.7,2,-999,-999,9,-999.0,9,-999.0,9,-999,1,-999,-999,1,-999,-999,9,-999,9,-999.0,9,-999.0,9,-999.0,9
49NZ20170208,P17E,10,1,12, X12J12,2,20170219,1232,-60.9785,-126.0072,4590,3251.8,2,0.6148,2,0.61478,2,34.7027,2,34.7029,2,-999.0,9,34.8808,2,208.19,2,208.37,2,99.897,0.0041,2,0.001,2,-999.0,9,0.011,1,11.682,1,0.0,2,128.58,2,0.13,32.74,2,0.06,0.0,2,0.0,2.242,2,0.004,0.04,2,0.02,0.326,2,0.16,2,0.016,2,0.06,2,-999.0,5,2263.6,2,2361.0,6,-999,-999,9,-999.0,9,-999.0,9,-999,1,-999,-999,1,-999,-999,9,-999,9,-999.0,9,-999.0,9,-999.0,9
49NZ20170208,P17E,10,1,11, X12J11,2,20170219,1232,-60.9785,-126.0072,4590,3501.5,2,0.5148,2,0.51471,2,34.7004,2,34.7003,2,-999.0,9,34.8783,2,210.55,2,210.56,2,99.901,0.004,2,0.001,2,-999.0,9,0.012,1,11.559,4,0.0,2,129.96,2,0.13,32.81,2,0.06,0.0,2,0.0,2.247,2,0.004,0.03,2,0.02,0.403,2,0.194,2,0.021,2,0.113,2,32.8,3,2262.0,2,2360.1,2,-999,-999,9,10.313,2,-999.0,9,-999,1,-999,-999,1,-999,-999,9,-999,9,-999.0,9,-999.0,9,-999.0,9
49NZ20170208,P17E,10,1,6, X12J06,2,20170219,1232,-60.9785,-126.0072,4590,3501.8,2,0.5148,2,0.51469,2,34.7004,2,-999.0,9,-999.0,9,34.8786,2,210.56,2,-999.0,9,99.897,0.0041,2,0.002,2,-999.0,9,0.011,1,11.34,4,0.0,2,-999.0,9,-999.0,-999.0,9,-999.0,-999.0,9,-999.0,-999.0,9,-999.0,-999.0,9,-999.0,-999.0,9,-999.0,9,-999.0,9,-999.0,9,-999.0,9,-999.0,9,-999.0,9,-999,-999,9,-999.0,9,-999.0,9,-999,9,-999,-999,9,-999,-999,9,-999,9,-999.0,9,-999.0,9,-999.0,9
49NZ20170208,P17E,10,1,10, X12J10,2,20170219,1232,-60.9785,-126.0072,4590,3751.4,2,0.4582,2,0.45822,2,34.6992,2,34.6989,2,-999.0,9,34.8781,2,212.09,2,212.22,2,99.865,0.0054,2,0.001,2,-999.0,9,0.012,1,11.624,4,0.0,2,131.69,2,0.13,32.89,2,0.06,0.0,2,0.0,2.254,2,0.004,0.04,2,0.02,0.48,2,0.228,2,0.014,2,0.09,2,33.0,3,2261.3,2,2361.0,2,-999,-999,9,-999.0,9,-999.0,9,-999,1,-999,-999,1,-999,-999,9,-999,9,-999.0,9,-999.0,9,-999.0,9
49NZ20170208,P17E,10,1,5, X12J05,2,20170219,1232,-60.9785,-126.0072,4590,4000.8,2,0.4256,2,0.42551,2,34.6983,2,-999.0,9,-999.0,9,34.8735,2,213.14,2,-999.0,9,99.835,0.0066,2,0.002,2,-999.0,9,0.013,1,11.201,4,0.0,2,-999.0,9,-999.0,-999.0,9,-999.0,-999.0,9,-999.0,-999.0,9,-999.0,-999.0,9,-999.0,-999.0,9,-999.0,9,-999.0,9,-999.0,9,-999.0,9,-999.0,9,-999.0,9,-999,-999,9,-999.0,9,-999.0,9,-999,9,-999,-999,9,-999,-999,9,-999,9,-999.0,9,-999.0,9,-999.0,9
49NZ20170208,P17E,10,1,9, X12J09,2,20170219,1232,-60.9785,-126.0072,4590,4001.6,2,0.4254,2,0.42542,2,34.6983,2,34.6987,2,-999.0,9,34.8732,2,213.14,2,213.22,2,99.835,0.0066,2,0.001,2,-999.0,9,0.013,1,11.34,4,0.0,2,133.76,2,0.13,32.84,3,0.06,0.0,2,0.0,2.252,2,0.004,0.01,2,0.02,0.538,2,0.242,2,0.022,2,0.109,2,33.1,3,2263.0,2,2359.2,2,-999,-999,9,-999.0,9,-999.0,9,-999,1,-999,-999,1,-999,-999,9,-999,9,-999.0,9,-999.0,9,-999.0,9
49NZ20170208,P17E,10,1,8, X12J08,2,20170219,1232,-60.9785,-126.0072,4590,4252.2,2,0.4157,2,0.4157,2,34.6978,2,34.6985,2,-999.0,9,34.8721,2,213.8,2,213.89,2,99.848,0.0061,2,0.001,2,-999.0,9,0.013,1,9.649,4,0.0,2,134.62,2,0.13,32.93,2,0.06,0.0,2,0.0,2.255,2,0.004,0.06,2,0.02,0.551,2,0.248,2,0.013,2,0.099,2,32.5,3,2263.3,6,2361.1,2,-999,-999,9,10.316,2,-999.0,9,-999,1,-999,-999,1,-999,-999,9,-999,9,-999.0,9,-999.0,9,-999.0,9
49NZ20170208,P17E,10,1,7, X12J07,2,20170219,1232,-60.9785,-126.0072,4590,4500.3,2,0.4138,2,0.41377,2,34.6975,2,34.6975,2,-999.0,9,34.872,2,214.23,2,214.47,2,99.846,0.0062,2,0.002,2,-999.0,9,0.012,1,5.075,4,0.0,2,136.15,2,0.13,33.01,2,0.06,0.0,2,0.0,2.261,2,0.004,0.02,2,0.02,0.552,2,0.245,2,0.031,2,0.135,2,32.7,3,2262.4,2,2361.6,2,-999,-999,9,-999.0,9,-999.0,9,-999,1,-999,-999,1,-999,-999,9,-999,9,-999.0,9,-999.0,9,-999.0,9
49NZ20170208,P17E,10,1,1, X12J01,2,20170219,1232,-60.9785,-126.0072,4590,4635.1,2,0.4256,2,0.42558,2,34.6973,2,34.6985,2,-999.0,9,34.8747,2,214.35,2,214.62,2,99.831,0.0068,2,0.002,2,-999.0,9,0.018,1,2.047,4,0.0,2,136.46,2,0.14,32.97,2,0.06,0.0,2,0.0,2.264,2,0.004,0.05,2,0.02,0.574,2,0.249,2,0.028,2,0.121,2,32.4,3,2262.5,2,2361.0,2,-999,-999,9,10.309,2,-999.0,9,-999,1,-999,-999,1,-999,-999,9,-999,9,-999.0,9,-999.0,9,-999.0,9
49NZ20170208,P17E,10,1,4, X12J04,2,20170219,1232,-60.9785,-126.0072,4590,4635.7,2,0.4257,2,0.4257,2,34.6974,2,-999.0,9,-999.0,9,34.8741,2,214.32,2,-999.0,9,99.831,0.0068,2,0.001,2,-999.0,9,0.017,1,2.213,4,0.0,2,-999.0,9,-999.0,-999.0,9,-999.0,-999.0,9,-999.0,-999.0,9,-999.0,-999.0,9,-999.0,-999.0,9,-999.0,9,-999.0,9,-999.0,9,-999.0,9,-999.0,9,-999.0,9,-999,-999,9,-999.0,9,-999.0,9,-999,9,-999,-999,9,-999,-999,9,-999,9,-999.0,9,-999.0,9,-999.0,9