BOTTLE,20240216CCHSIOADS
EXPOCODE,SECT_ID,STNNBR,CASTNO,SAMPNO,BTLNBR,BTLNBR_FLAG_W,DATE,TIME,LATITUDE,LONGITUDE,DEPTH,CTDPRS,CTDPRS_FLAG_W,CTDTMP,CTDTMP_FLAG_W,REFTMP,REFTMP_FLAG_W,CTDSAL,CTDSAL_FLAG_W,SALNTY,SALNTY_FLAG_W,DNSSAL,DNSSAL_FLAG_W,CTDSVLSAL,CTDSVLSAL_FLAG_W,CTDOXY,CTDOXY_FLAG_W,OXYGEN,OXYGEN_FLAG_W,CTDXMISS,CTDBEAMCP,CTDXMISS_FLAG_W,CTDFLUOR,CTDFLUOR_FLAG_W,CHLORA,CHLORA_FLAG_W,CTDTURB,CTDTURB_FLAG_W,CTDCDOM,CTDCDOM_FLAG_W,PAR,PAR_FLAG_W,SILCAT,SILCAT_FLAG_W,SILUNC,NITRAT,NITRAT_FLAG_W,NRAUNC,NITRIT,NITRIT_FLAG_W,NRIUNC,PHSPHT,PHSPHT_FLAG_W,PHPUNC,NH4,NH4_FLAG_W,NH4UNC,CFC-11,CFC-11_FLAG_W,CFC-12,CFC-12_FLAG_W,CFC113,CFC113_FLAG_W,SF6,SF6_FLAG_W,N2O,N2O_FLAG_W,TCARBN,TCARBN_FLAG_W,ALKALI,ALKALI_FLAG_W,PH_TOT,PH_TMP,PH_TOT_FLAG_W,CALCIUM,CALCIUM_FLAG_W,DOC,DOC_FLAG_W,DELC13,DELC13_FLAG_W,C13ERR,DELC14,DELC14_FLAG_W,C14ERR,POC,POC_FLAG_W,HPLC,HPLC_FLAG_W,CDOM325,CDOM325_FLAG_W,CDOM370,CDOM370_FLAG_W,CDOM443,CDOM443_FLAG_W
,,,,,,,,,,,METERS,DBAR,,ITS-90,,ITS-90,,PSS-78,,PSS-78,,G/KG,,G/KG,,UMOL/KG,,UMOL/KG,,%TRANS,/METER,,MG/M^3,,UG/L,,FTU,,QSU,,UMOL/M^2/SEC,,UMOL/KG,,UMOL/KG,UMOL/KG,,UMOL/KG,UMOL/KG,,UMOL/KG,UMOL/KG,,UMOL/KG,UMOL/KG,,UMOL/KG,PMOL/KG,,PMOL/KG,,PMOL/KG,,FMOL/KG,,NMOL/KG,,UMOL/KG,,UMOL/KG,,,DEG C,,MMOL/KG,,UMOL/KG,,/MILLE,,/MILLE,/MILLE,,/MILLE,UG/KG,,,,/METER,,/METER,,/METER,
49NZ20170208,P17E,18,1,0,    BUC,2,20170221,0534,-57.0167,-125.9872,4168,0.0,2,-999.0,9,-999.0,9,-999.0,9,34.0065,2,-999.0,9,-999.0,9,-999.0,9,-999.0,9,-999.0,-999.0,9,-999.0,9,0.2,2,-999.0,9,-999.0,9,-999.0,9,2.5,2,0.02,20.69,2,0.04,0.22,2,0.0,1.464,2,0.003,0.7,2,0.02,-999.0,9,-999.0,9,-999.0,9,-999.0,9,-999.0,9,-999.0,9,-999.0,9,-999,-999,9,10.086,2,-999.0,9,-999,9,-999,-999,9,-999,-999,1,-999,1,-999.0,9,-999.0,9,-999.0,9
49NZ20170208,P17E,18,1,36, X12J09,2,20170221,0534,-57.0167,-125.9872,4168,11.5,2,6.5523,2,6.55212,2,34.0017,2,34.0018,2,-999.0,9,34.1349,2,294.71,2,295.13,2,97.564,0.0986,2,0.237,2,0.19,2,0.05,1,6.396,1,0.001,2,2.47,2,0.02,20.63,2,0.04,0.22,2,0.0,1.459,2,0.003,0.67,2,0.02,4.066,6,2.336,6,0.337,6,2.805,6,19.4,3,2122.5,2,2280.2,2,-999,-999,1,10.08,2,46.4,2,-999,9,-999,-999,9,-999,-999,9,-999,9,-999.0,9,-999.0,9,-999.0,9
49NZ20170208,P17E,18,1,35, X12J08,2,20170221,0534,-57.0167,-125.9872,4168,51.0,2,6.5546,2,6.55491,2,34.002,2,34.0016,2,-999.0,9,34.1513,2,294.51,2,295.12,2,97.571,0.0984,2,0.238,2,0.19,2,0.049,1,6.294,1,0.0,2,2.48,2,0.02,20.63,2,0.04,0.22,2,0.0,1.461,2,0.003,0.66,2,0.02,4.169,2,2.322,2,0.345,2,2.777,2,20.2,3,2121.4,6,2279.1,2,-999,-999,1,-999.0,9,47.2,2,-999,9,-999,-999,9,-999,-999,9,-999,9,-999.0,9,-999.0,9,-999.0,9
49NZ20170208,P17E,18,1,3, X12J03,2,20170221,0534,-57.0167,-125.9872,4168,82.3,2,5.2571,2,5.24947,2,34.0554,2,-999.0,9,-999.0,9,34.2319,2,295.47,2,-999.0,9,97.841,0.0873,2,0.254,2,-999.0,9,0.049,1,7.244,1,0.0,2,-999.0,9,-999.0,-999.0,9,-999.0,-999.0,9,-999.0,-999.0,9,-999.0,-999.0,9,-999.0,-999.0,9,-999.0,9,-999.0,9,-999.0,9,-999.0,9,-999.0,9,-999.0,9,-999,-999,9,-999.0,9,-999.0,9,-999,9,-999,-999,9,-999,-999,1,-999,1,-999.0,9,-999.0,9,-999.0,9
49NZ20170208,P17E,18,1,2, X12J02,2,20170221,0534,-57.0167,-125.9872,4168,82.5,2,5.2903,2,5.29564,2,34.0535,2,34.0589,2,-999.0,9,34.2327,2,294.97,2,296.41,2,97.841,0.0873,2,0.27,2,0.3,2,0.053,1,6.854,1,0.0,2,6.85,2,0.03,22.7,2,0.04,0.27,2,0.0,1.636,2,0.003,0.47,2,0.02,-999.0,9,-999.0,9,-999.0,9,-999.0,9,-999.0,9,2136.9,2,2278.6,2,-999,-999,1,-999.0,9,-999.0,9,-999,9,-999,-999,9,-999,-999,9,-999,9,-999.0,9,-999.0,9,-999.0,9
49NZ20170208,P17E,18,1,34, X12J07,2,20170221,0534,-57.0167,-125.9872,4168,101.6,2,3.8154,2,3.80344,2,34.0865,2,34.0893,2,-999.0,9,34.2314,2,291.12,2,291.41,2,99.105,0.036,2,0.044,2,0.12,2,0.035,1,7.256,1,0.0,2,13.29,2,0.03,25.83,2,0.05,0.05,2,0.0,1.777,2,0.003,0.01,2,0.02,4.487,2,2.479,2,0.376,2,2.699,2,23.4,3,2156.6,2,2278.0,2,-999,-999,1,10.115,2,46.1,2,-999,9,-999,-999,9,-999,-999,9,-999,9,-999.0,9,-999.0,9,-999.0,9
49NZ20170208,P17E,18,1,33, X12J06,2,20170221,0534,-57.0167,-125.9872,4168,150.8,2,3.1627,2,3.16215,2,34.0756,2,34.074,2,-999.0,9,34.2342,2,285.74,2,287.33,2,99.473,0.0211,2,0.005,2,0.02,2,0.031,1,7.847,1,0.0,2,18.04,2,0.04,27.54,2,0.05,0.01,2,0.0,1.886,2,0.004,0.0,2,0.02,4.417,2,2.459,2,0.362,2,2.561,2,25.0,3,2164.1,2,2279.0,2,-999,-999,1,-999.0,9,43.2,2,-999,9,-999,-999,9,-999,-999,9,-999,9,-999.0,9,-999.0,9,-999.0,9
49NZ20170208,P17E,18,1,32, X12J05,2,20170221,0534,-57.0167,-125.9872,4168,200.5,2,3.0219,2,3.02485,2,34.116,2,34.1166,2,-999.0,9,34.2702,2,268.46,2,267.7,2,99.583,0.0167,2,0.003,2,0.01,2,0.024,1,8.55,1,0.0,2,24.03,2,0.04,29.21,2,0.05,0.0,2,0.0,1.998,2,0.004,0.02,2,0.02,4.114,2,2.232,2,0.309,2,2.129,2,27.5,3,2179.1,2,2283.2,6,-999,-999,1,10.124,2,40.7,2,-999,9,-999,-999,9,-999,-999,9,-999,9,-999.0,9,-999.0,9,-999.0,9
49NZ20170208,P17E,18,1,31, X12J04,2,20170221,0534,-57.0167,-125.9872,4168,249.1,2,2.8822,2,2.88233,2,34.1435,2,34.143,2,-999.0,9,34.3084,2,259.72,2,259.49,2,99.595,0.0162,2,0.003,2,0.01,2,0.024,1,8.63,1,0.0,2,28.33,2,0.05,30.2,2,0.05,0.0,2,0.0,2.058,2,0.004,0.03,2,0.02,3.928,6,2.124,6,0.303,6,1.936,6,-999.0,5,2185.8,2,2288.0,2,-999,-999,1,-999.0,9,41.0,2,-999,9,-999,-999,9,-999,-999,9,-999,9,-999.0,9,-999.0,9,-999.0,9
49NZ20170208,P17E,18,1,30, X12J30,2,20170221,0534,-57.0167,-125.9872,4168,301.2,2,2.7682,2,2.76967,2,34.1843,2,34.1836,2,-999.0,9,34.3615,2,248.39,2,248.16,2,99.621,0.0152,2,0.003,2,-999.0,9,0.024,1,8.848,1,0.0,2,33.67,2,0.05,31.2,2,0.06,0.0,2,0.0,2.13,2,0.004,0.02,2,0.02,3.587,2,1.93,2,0.263,2,1.74,2,31.2,3,2195.1,2,2293.0,2,-999,-999,1,-999.0,9,40.7,2,-999,9,-999,-999,9,-999,-999,9,-999,9,-999.0,9,-999.0,9,-999.0,9
49NZ20170208,P17E,18,1,29, X12J29,2,20170221,0534,-57.0167,-125.9872,4168,400.1,2,2.441,2,2.44333,2,34.245,2,34.2474,2,-999.0,9,34.415,2,236.07,2,234.52,2,99.612,0.0155,2,0.003,2,-999.0,9,0.024,1,9.533,1,0.0,2,43.21,2,0.06,32.48,2,0.06,0.0,2,0.0,2.221,2,0.004,0.02,2,0.02,3.153,2,1.696,2,0.242,2,1.47,2,33.7,3,2210.5,2,2300.2,2,-999,-999,1,10.155,2,40.7,2,-999,9,-999,-999,9,-999,-999,9,-999,9,-999.0,9,-999.0,9,-999.0,9
49NZ20170208,P17E,18,1,28, X12J28,2,20170221,0534,-57.0167,-125.9872,4168,501.5,2,2.2166,2,2.21713,2,34.3169,2,34.3124,2,-999.0,9,34.5135,2,219.13,2,221.31,2,99.646,0.0142,2,0.003,2,-999.0,9,0.022,1,9.981,1,0.0,2,52.37,2,0.07,33.35,2,0.06,0.0,2,0.0,2.28,2,0.004,0.05,2,0.02,2.696,2,1.422,2,0.216,2,1.104,2,36.3,3,2223.7,2,2309.6,2,-999,-999,1,-999.0,9,39.5,2,-999,9,-999,-999,9,-999,-999,9,-999,9,-999.0,9,-999.0,9,-999.0,9
49NZ20170208,P17E,18,1,27, X12J27,2,20170221,0534,-57.0167,-125.9872,4168,600.4,2,2.5663,2,2.56653,2,34.4304,2,34.4301,2,-999.0,9,34.603,2,187.83,2,187.66,2,99.786,0.0086,2,0.002,2,-999.0,9,0.017,1,10.729,1,0.0,2,61.37,2,0.07,34.28,2,0.06,0.0,2,0.0,2.349,2,0.004,0.02,2,0.02,1.564,2,0.809,2,0.105,2,0.426,2,38.3,3,2239.1,2,2317.2,2,-999,-999,1,10.229,2,39.6,2,-999,9,-999,-999,9,-999,-999,9,-999,9,-999.0,9,-999.0,9,-999.0,9
49NZ20170208,P17E,18,1,26, X12J26,2,20170221,0534,-57.0167,-125.9872,4168,700.1,2,2.557,2,2.55689,2,34.4934,2,34.4928,2,-999.0,9,34.6663,2,177.91,2,178.05,2,99.809,0.0077,2,0.002,2,-999.0,9,0.015,1,11.177,1,0.0,2,67.46,2,0.08,34.45,2,0.06,0.0,2,0.0,2.362,2,0.004,0.01,2,0.02,1.1,2,0.57,2,0.073,2,0.252,2,38.6,3,2248.3,6,2325.5,2,-999,-999,1,-999.0,9,39.9,2,-999,9,-999,-999,9,-999,-999,9,-999,9,-999.0,9,-999.0,9,-999.0,9
49NZ20170208,P17E,18,1,25, X12J25,2,20170221,0534,-57.0167,-125.9872,4168,802.0,2,2.4788,2,2.47916,2,34.5358,2,34.5354,2,-999.0,9,34.7057,2,174.54,2,174.5,2,99.843,0.0063,2,0.002,2,-999.0,9,0.015,1,10.86,1,0.0,2,71.32,2,0.08,34.36,2,0.06,0.0,2,0.0,2.35,2,0.004,0.0,2,0.02,0.877,2,0.445,2,0.053,2,0.215,2,38.4,3,2250.2,2,2331.1,2,-999,-999,1,10.253,2,38.9,2,-999,9,-999,-999,9,-999,-999,9,-999,9,-999.0,9,-999.0,9,-999.0,9
49NZ20170208,P17E,18,1,24, X12J24,2,20170221,0534,-57.0167,-125.9872,4168,902.2,2,2.3516,2,2.35143,2,34.575,2,34.5737,2,-999.0,9,34.7365,2,174.94,2,175.17,2,99.838,0.0065,2,0.002,2,-999.0,9,0.014,1,11.169,1,0.0,2,74.69,2,0.08,33.99,2,0.06,0.0,2,0.0,2.331,2,0.004,0.02,2,0.02,0.742,6,0.387,6,0.032,6,0.179,6,37.3,3,2255.1,2,2334.1,2,-999,-999,1,-999.0,9,39.5,2,-999,9,-999,-999,9,-999,-999,9,-999,9,-999.0,9,-999.0,9,-999.0,9
49NZ20170208,P17E,18,1,23, X12J23,2,20170221,0534,-57.0167,-125.9872,4168,1000.3,2,2.3647,2,2.36471,2,34.6139,2,34.6133,2,-999.0,9,34.7798,2,172.33,2,172.29,2,99.86,0.0056,2,0.002,2,-999.0,9,0.013,1,11.215,1,0.0,2,77.24,2,0.09,33.67,2,0.06,0.0,2,0.0,2.307,2,0.004,0.01,2,0.02,0.537,2,0.262,2,0.014,2,0.083,2,36.8,3,2256.9,2,2335.2,2,-999,-999,1,10.279,2,40.0,2,-999,9,-999,-999,9,-999,-999,9,-999,9,-999.0,9,-999.0,9,-999.0,9
49NZ20170208,P17E,18,1,22, X12J22,2,20170221,0534,-57.0167,-125.9872,4168,1201.1,2,2.2257,2,2.22565,2,34.6715,2,34.6716,2,-999.0,9,34.8437,2,176.02,2,176.15,2,99.864,0.0055,2,0.002,2,-999.0,9,0.013,1,11.802,1,0.0,2,81.53,2,0.09,32.76,2,0.06,0.0,2,0.0,2.249,2,0.004,0.02,2,0.02,0.316,2,0.161,2,0.004,2,0.0,2,-999.0,5,2254.8,2,2343.4,6,-999,-999,1,10.292,2,39.4,2,-999,9,-999,-999,9,-999,-999,9,-999,9,-999.0,9,-999.0,9,-999.0,9
49NZ20170208,P17E,18,1,21, X12J21,2,20170221,0534,-57.0167,-125.9872,4168,1401.7,2,2.1162,2,2.11672,2,34.7013,2,34.7024,2,-999.0,9,34.8711,2,180.2,2,180.29,2,99.891,0.0044,2,0.002,2,-999.0,9,0.012,1,11.648,1,0.0,2,84.68,2,0.09,32.19,2,0.06,0.0,2,0.0,2.208,2,0.004,0.01,2,0.02,0.228,2,0.117,2,0.0,2,0.0,2,34.0,3,2256.0,2,2347.0,2,-999,-999,1,10.312,2,39.6,2,-999,9,-999,-999,9,-999,-999,9,-999,9,-999.0,9,-999.0,9,-999.0,9
49NZ20170208,P17E,18,1,20, X12J20,2,20170221,0534,-57.0167,-125.9872,4168,1601.7,2,1.9721,2,1.97197,2,34.7208,2,34.7206,2,-999.0,9,34.8872,2,184.97,2,185.32,2,99.893,0.0043,2,0.002,2,-999.0,9,0.012,1,11.929,1,0.0,2,88.06,2,0.09,31.72,2,0.06,0.0,2,0.0,2.178,2,0.004,0.01,2,0.02,0.193,2,0.096,2,0.001,2,0.0,2,33.4,3,2254.7,2,2350.3,2,-999,-999,1,10.304,2,38.8,2,-999,9,-999,-999,9,-999,-999,9,-999,9,-999.0,9,-999.0,9,-999.0,9
49NZ20170208,P17E,18,1,19, X12J19,2,20170221,0534,-57.0167,-125.9872,4168,1801.1,2,1.8125,2,1.81215,2,34.7292,2,34.7299,2,-999.0,9,34.8959,2,188.85,2,188.85,2,99.908,0.0037,2,0.002,2,-999.0,9,0.012,1,11.628,1,0.0,2,92.63,2,0.1,31.51,2,0.06,0.0,2,0.0,2.167,2,0.004,0.01,2,0.02,0.159,2,0.081,2,0.0,2,0.0,2,32.7,3,2254.9,2,2352.7,2,-999,-999,1,10.306,2,38.4,2,-999,9,-999,-999,9,-999,-999,9,-999,9,-999.0,9,-999.0,9,-999.0,9
49NZ20170208,P17E,18,1,18, X12J18,2,20170221,0534,-57.0167,-125.9872,4168,2000.2,2,1.6344,2,1.63426,2,34.7303,2,34.7307,2,-999.0,9,34.8992,2,192.03,2,192.03,2,99.921,0.0032,2,0.002,2,-999.0,9,0.012,1,11.995,1,0.0,2,97.59,2,0.1,31.53,2,0.06,0.0,2,0.0,2.161,2,0.004,0.01,2,0.02,0.147,2,0.073,2,0.0,2,0.016,2,-999.0,5,2257.3,2,2354.6,2,-999,-999,1,10.319,2,38.0,2,-999,9,-999,-999,9,-999,-999,9,-999,9,-999.0,9,-999.0,9,-999.0,9
49NZ20170208,P17E,18,1,17, X12J17,2,20170221,0534,-57.0167,-125.9872,4168,2203.1,2,1.5032,2,1.50249,2,34.7288,2,34.7291,2,-999.0,9,34.8993,2,194.33,2,194.47,2,99.898,0.0041,2,0.002,2,-999.0,9,0.012,1,11.753,1,0.0,2,101.73,2,0.11,31.57,2,0.06,0.0,2,0.0,2.167,2,0.004,0.02,2,0.02,0.142,2,0.071,2,0.0,2,0.017,2,31.6,3,2260.1,2,2358.7,2,-999,-999,9,10.321,2,39.3,2,-999,9,-999,-999,9,-999,-999,9,-999,9,-999.0,9,-999.0,9,-999.0,9
49NZ20170208,P17E,18,1,16, X12J16,2,20170221,0534,-57.0167,-125.9872,4168,2401.7,2,1.3244,2,1.32436,2,34.7242,2,34.7243,2,-999.0,9,34.8973,2,196.67,2,196.67,2,99.902,0.0039,2,0.002,2,-999.0,9,0.013,1,12.079,1,0.0,2,107.73,2,0.11,31.8,2,0.06,0.0,2,0.0,2.189,2,0.004,0.01,2,0.02,0.14,2,0.07,2,0.0,2,0.071,2,32.0,3,2260.8,6,2360.8,2,-999,-999,9,10.324,2,38.8,2,-999,9,-999,-999,9,-999,-999,9,-999,9,-999.0,9,-999.0,9,-999.0,9
49NZ20170208,P17E,18,1,15, X12J15,2,20170221,0534,-57.0167,-125.9872,4168,2600.7,2,1.2117,2,1.21084,2,34.7211,2,34.7212,2,-999.0,9,34.8942,2,198.51,2,198.59,2,99.906,0.0038,2,0.002,2,-999.0,9,0.014,1,11.492,1,0.0,2,111.46,2,0.11,31.91,2,0.06,0.0,2,0.0,2.198,2,0.004,0.0,2,0.02,0.143,2,0.073,2,0.0,2,0.045,2,32.0,3,2261.4,2,2361.0,2,-999,-999,9,10.309,2,39.8,2,-999,9,-999,-999,9,-999,-999,9,-999,9,-999.0,9,-999.0,9,-999.0,9
49NZ20170208,P17E,18,1,14, X12J14,2,20170221,0534,-57.0167,-125.9872,4168,2800.9,2,1.1204,2,1.12048,2,34.7182,2,34.7183,2,-999.0,9,34.8905,2,200.29,2,200.33,2,99.887,0.0045,2,0.002,2,-999.0,9,0.012,1,11.829,1,0.0,2,114.63,2,0.12,32.02,2,0.06,0.0,2,0.0,2.202,2,0.004,0.02,2,0.02,0.171,2,0.086,2,0.0,2,0.064,2,31.9,3,2261.7,2,2361.1,2,-999,-999,9,10.305,2,39.0,2,-999,9,-999,-999,9,-999,-999,9,-999,9,-999.0,9,-999.0,9,-999.0,9
49NZ20170208,P17E,18,1,13, X12113,2,20170221,0534,-57.0167,-125.9872,4168,3002.3,2,1.0399,2,1.04048,2,34.7156,2,34.7153,2,-999.0,9,34.889,2,201.84,2,201.98,2,99.864,0.0055,2,0.002,2,-999.0,9,0.013,1,11.81,1,0.0,2,117.4,2,0.12,32.09,2,0.06,0.0,2,0.0,2.211,2,0.004,0.03,2,0.02,0.194,2,0.097,2,0.0,2,0.061,2,31.7,3,2261.4,2,2361.4,2,-999,-999,9,-999.0,9,37.7,2,-999,9,-999,-999,9,-999,-999,9,-999,9,-999.0,9,-999.0,9,-999.0,9
49NZ20170208,P17E,18,1,12, X12J12,2,20170221,0534,-57.0167,-125.9872,4168,3251.2,2,0.9843,2,0.98422,2,34.7133,2,34.7131,2,-999.0,9,34.8884,2,203.0,2,203.02,2,99.828,0.0069,2,0.002,2,-999.0,9,0.016,1,11.664,1,0.0,2,119.78,2,0.12,32.17,2,0.06,0.0,2,0.0,2.216,2,0.004,0.02,2,0.02,0.211,2,0.107,2,0.0,2,0.014,2,-999.0,5,2263.1,2,2361.3,6,-999,-999,9,-999.0,9,39.9,2,-999,9,-999,-999,9,-999,-999,9,-999,9,-999.0,9,-999.0,9,-999.0,9
49NZ20170208,P17E,18,1,11, X12J11,2,20170221,0534,-57.0167,-125.9872,4168,3502.9,2,0.9524,2,0.95245,2,34.7118,2,34.7117,2,-999.0,9,34.8858,2,203.73,2,203.74,2,99.79,0.0084,2,0.002,2,-999.0,9,0.017,1,11.896,1,0.0,2,121.53,2,0.12,32.33,2,0.06,0.0,2,0.0,2.222,2,0.004,0.01,2,0.02,0.235,2,0.116,2,0.0,2,0.023,2,31.3,3,2262.0,2,2361.4,2,-999,-999,9,10.303,2,39.2,2,-999,9,-999,-999,9,-999,-999,9,-999,9,-999.0,9,-999.0,9,-999.0,9
49NZ20170208,P17E,18,1,10, X12J10,2,20170221,0534,-57.0167,-125.9872,4168,3750.2,2,0.9119,2,0.9119,2,34.71,2,34.71,2,-999.0,9,34.8834,2,204.61,2,204.77,2,99.659,0.0137,2,0.002,2,-999.0,9,0.022,1,11.781,1,0.0,2,123.66,2,0.12,32.34,2,0.06,0.0,2,0.0,2.223,2,0.004,0.0,2,0.02,0.248,2,0.123,2,0.0,2,0.026,2,31.2,3,2262.5,2,2361.7,2,-999,-999,9,-999.0,9,39.6,2,-999,9,-999,-999,9,-999,-999,9,-999,9,-999.0,9,-999.0,9,-999.0,9
49NZ20170208,P17E,18,1,4, X12J31,2,20170221,0534,-57.0167,-125.9872,4168,3999.8,2,0.9145,2,0.91454,2,34.7094,2,34.7097,2,-999.0,9,34.8803,2,204.9,2,205.08,2,99.488,0.0206,2,0.001,2,-999.0,9,0.033,1,11.689,1,0.0,2,-999.0,9,-999.0,-999.0,9,-999.0,-999.0,9,-999.0,-999.0,9,-999.0,-999.0,9,-999.0,-999.0,9,-999.0,9,-999.0,9,-999.0,9,-999.0,9,-999.0,9,-999.0,9,-999,-999,9,-999.0,9,-999.0,9,-999,9,-999,-999,9,-999,-999,9,-999,9,-999.0,9,-999.0,9,-999.0,9
49NZ20170208,P17E,18,1,8, X12J35,2,20170221,0534,-57.0167,-125.9872,4168,4000.1,2,0.9149,2,0.91492,2,34.7093,2,34.7091,2,-999.0,9,34.8803,2,204.9,2,205.1,2,99.454,0.0219,2,0.002,2,-999.0,9,0.039,1,11.56,1,0.0,2,-999.0,9,-999.0,-999.0,9,-999.0,-999.0,9,-999.0,-999.0,9,-999.0,-999.0,9,-999.0,-999.0,9,-999.0,9,-999.0,9,-999.0,9,-999.0,9,-999.0,9,-999.0,9,-999,-999,9,-999.0,9,-999.0,9,-999,9,-999,-999,9,-999,-999,9,-999,9,-999.0,9,-999.0,9,-999.0,9
49NZ20170208,P17E,18,1,7, X12J34,2,20170221,0534,-57.0167,-125.9872,4168,4000.2,2,0.9149,2,0.9149,2,34.7093,2,34.7092,2,-999.0,9,34.8802,2,204.96,2,205.01,2,99.447,0.0222,2,0.002,2,-999.0,9,0.034,1,11.831,1,0.0,2,-999.0,9,-999.0,-999.0,9,-999.0,-999.0,9,-999.0,-999.0,9,-999.0,-999.0,9,-999.0,-999.0,9,-999.0,9,-999.0,9,-999.0,9,-999.0,9,-999.0,9,-999.0,9,-999,-999,9,-999.0,9,-999.0,9,-999,9,-999,-999,9,-999,-999,9,-999,9,-999.0,9,-999.0,9,-999.0,9
49NZ20170208,P17E,18,1,5, X12J32,2,20170221,0534,-57.0167,-125.9872,4168,4000.5,2,0.9147,2,0.91478,2,34.7094,2,34.7088,2,-999.0,9,34.8801,2,204.9,2,205.09,2,99.456,0.0218,2,0.002,2,-999.0,9,0.036,1,11.746,1,0.0,2,-999.0,9,-999.0,-999.0,9,-999.0,-999.0,9,-999.0,-999.0,9,-999.0,-999.0,9,-999.0,-999.0,9,-999.0,9,-999.0,9,-999.0,9,-999.0,9,-999.0,9,-999.0,9,-999,-999,9,-999.0,9,-999.0,9,-999,9,-999,-999,9,-999,-999,9,-999,9,-999.0,9,-999.0,9,-999.0,9
49NZ20170208,P17E,18,1,9, X12J36,2,20170221,0534,-57.0167,-125.9872,4168,4000.6,2,0.9149,2,0.91477,2,34.7093,2,34.7093,2,-999.0,9,34.8801,2,204.93,2,205.01,2,99.469,0.0213,2,0.002,2,-999.0,9,0.033,1,11.599,1,0.0,2,124.32,2,0.12,32.35,2,0.06,0.0,2,0.0,2.233,2,0.004,0.01,2,0.02,0.248,2,0.126,2,0.0,2,0.0,2,31.4,3,2262.5,2,2361.8,2,-999,-999,9,-999.0,9,39.5,2,-999,9,-999,-999,9,-999,-999,9,-999,9,-999.0,9,-999.0,9,-999.0,9
49NZ20170208,P17E,18,1,6, X12J33,2,20170221,0534,-57.0167,-125.9872,4168,4000.9,2,0.9148,2,0.915,2,34.7094,2,34.7095,2,-999.0,9,34.88,2,204.9,2,205.29,2,99.462,0.0216,2,0.001,2,-999.0,9,0.037,1,11.846,1,0.0,2,-999.0,9,-999.0,-999.0,9,-999.0,-999.0,9,-999.0,-999.0,9,-999.0,-999.0,9,-999.0,-999.0,9,-999.0,9,-999.0,9,-999.0,9,-999.0,9,-999.0,9,-999.0,9,-999,-999,9,-999.0,9,-999.0,9,-999,9,-999,-999,9,-999,-999,9,-999,9,-999.0,9,-999.0,9,-999.0,9
49NZ20170208,P17E,18,1,1, X12J01,2,20170221,0534,-57.0167,-125.9872,4168,4233.0,2,0.9329,2,0.93282,2,34.7089,2,34.7092,2,-999.0,9,34.8802,2,205.01,2,205.47,2,99.384,0.0247,2,0.002,2,-999.0,9,0.068,1,11.771,1,0.0,2,124.79,2,0.13,32.4,2,0.06,0.0,2,0.0,2.232,2,0.004,0.02,2,0.02,0.256,2,0.128,2,0.001,2,0.0,2,31.5,3,2261.9,2,2362.8,2,-999,-999,9,10.311,2,39.8,2,-999,9,-999,-999,9,-999,-999,9,-999,9,-999.0,9,-999.0,9,-999.0,9