BOTTLE,20240216CCHSIOADS
EXPOCODE,SECT_ID,STNNBR,CASTNO,SAMPNO,BTLNBR,BTLNBR_FLAG_W,DATE,TIME,LATITUDE,LONGITUDE,DEPTH,CTDPRS,CTDPRS_FLAG_W,CTDTMP,CTDTMP_FLAG_W,REFTMP,REFTMP_FLAG_W,CTDSAL,CTDSAL_FLAG_W,SALNTY,SALNTY_FLAG_W,DNSSAL,DNSSAL_FLAG_W,CTDSVLSAL,CTDSVLSAL_FLAG_W,CTDOXY,CTDOXY_FLAG_W,OXYGEN,OXYGEN_FLAG_W,CTDXMISS,CTDBEAMCP,CTDXMISS_FLAG_W,CTDFLUOR,CTDFLUOR_FLAG_W,CHLORA,CHLORA_FLAG_W,CTDTURB,CTDTURB_FLAG_W,CTDCDOM,CTDCDOM_FLAG_W,PAR,PAR_FLAG_W,SILCAT,SILCAT_FLAG_W,SILUNC,NITRAT,NITRAT_FLAG_W,NRAUNC,NITRIT,NITRIT_FLAG_W,NRIUNC,PHSPHT,PHSPHT_FLAG_W,PHPUNC,NH4,NH4_FLAG_W,NH4UNC,CFC-11,CFC-11_FLAG_W,CFC-12,CFC-12_FLAG_W,CFC113,CFC113_FLAG_W,SF6,SF6_FLAG_W,N2O,N2O_FLAG_W,TCARBN,TCARBN_FLAG_W,ALKALI,ALKALI_FLAG_W,PH_TOT,PH_TMP,PH_TOT_FLAG_W,CALCIUM,CALCIUM_FLAG_W,DOC,DOC_FLAG_W,DELC13,DELC13_FLAG_W,C13ERR,DELC14,DELC14_FLAG_W,C14ERR,POC,POC_FLAG_W,HPLC,HPLC_FLAG_W,CDOM325,CDOM325_FLAG_W,CDOM370,CDOM370_FLAG_W,CDOM443,CDOM443_FLAG_W
,,,,,,,,,,,METERS,DBAR,,ITS-90,,ITS-90,,PSS-78,,PSS-78,,G/KG,,G/KG,,UMOL/KG,,UMOL/KG,,%TRANS,/METER,,MG/M^3,,UG/L,,FTU,,QSU,,UMOL/M^2/SEC,,UMOL/KG,,UMOL/KG,UMOL/KG,,UMOL/KG,UMOL/KG,,UMOL/KG,UMOL/KG,,UMOL/KG,UMOL/KG,,UMOL/KG,PMOL/KG,,PMOL/KG,,PMOL/KG,,FMOL/KG,,NMOL/KG,,UMOL/KG,,UMOL/KG,,,DEG C,,MMOL/KG,,UMOL/KG,,/MILLE,,/MILLE,/MILLE,,/MILLE,UG/KG,,,,/METER,,/METER,,/METER,
49NZ20170208,P17E,23,1,0,    BUC,2,20170222,0615,-54.4727,-125.9853,3629,0.0,2,-999.0,9,-999.0,9,-999.0,9,34.2753,2,-999.0,9,-999.0,9,-999.0,9,-999.0,9,-999.0,-999.0,9,-999.0,9,0.3,2,-999.0,9,-999.0,9,-999.0,9,2.08,2,0.02,15.62,2,0.04,0.21,2,0.0,1.193,2,0.003,0.47,2,0.02,-999.0,9,-999.0,9,-999.0,9,-999.0,9,-999.0,9,-999.0,9,-999.0,9,-999,-999,9,-999.0,9,-999.0,9,-999,9,-999,-999,9,-999,-999,9,-999,9,-999.0,9,-999.0,9,-999.0,9
49NZ20170208,P17E,23,1,36, X12J09,2,20170222,0615,-54.4727,-125.9853,3629,11.8,2,8.323,2,8.32286,2,34.265,2,34.2653,2,34.4236,2,34.4095,2,283.93,2,283.96,2,97.223,0.1126,2,0.337,2,0.27,2,0.05,1,5.555,1,0.0,2,2.0,2,0.02,15.65,2,0.04,0.21,2,0.0,1.155,2,0.003,0.51,2,0.02,3.735,6,2.149,6,0.316,6,2.598,6,18.0,3,2108.2,2,2280.4,2,-999,-999,9,-999.0,9,46.5,2,-999,1,-999,-999,1,-999,-999,9,-999,9,-999.0,9,-999.0,9,-999.0,9
49NZ20170208,P17E,23,1,3, X12J03,2,20170222,0615,-54.4727,-125.9853,3629,32.3,2,8.3275,2,8.32776,2,34.2665,2,-999.0,9,-999.0,9,34.4206,2,284.01,2,-999.0,9,97.177,0.1146,2,0.301,2,-999.0,9,0.054,1,5.886,1,0.0,2,-999.0,9,-999.0,-999.0,9,-999.0,-999.0,9,-999.0,-999.0,9,-999.0,-999.0,9,-999.0,-999.0,9,-999.0,9,-999.0,9,-999.0,9,-999.0,9,-999.0,9,-999.0,9,-999,-999,9,-999.0,9,-999.0,9,-999,9,-999,-999,9,-999,-999,9,-999,9,-999.0,9,-999.0,9,-999.0,9
49NZ20170208,P17E,23,1,2, X12J02,2,20170222,0615,-54.4727,-125.9853,3629,32.5,2,8.3287,2,8.32878,2,34.2666,2,34.2666,2,34.4256,2,34.4203,2,284.04,2,283.92,2,97.166,0.115,2,0.302,2,0.28,2,0.055,1,5.878,1,0.0,2,2.01,2,0.02,15.64,2,0.04,0.21,2,0.0,1.154,2,0.003,0.5,2,0.02,-999.0,9,-999.0,9,-999.0,9,-999.0,9,-999.0,9,2106.2,2,2281.7,2,-999,-999,9,-999.0,9,-999.0,9,-999,9,-999,-999,9,-999,-999,9,-999,9,-999.0,9,-999.0,9,-999.0,9
49NZ20170208,P17E,23,1,35, X12J08,2,20170222,0615,-54.4727,-125.9853,3629,51.9,2,8.326,2,8.32613,2,34.2651,2,34.265,2,34.4249,2,34.4156,2,283.77,2,284.07,2,97.238,0.112,2,0.312,2,0.28,2,0.053,1,5.569,1,0.0,2,1.99,2,0.02,15.62,2,0.04,0.21,2,0.0,1.157,2,0.003,0.5,2,0.02,3.769,2,2.164,2,0.318,2,2.628,2,18.1,3,2108.1,6,2280.9,2,-999,-999,9,-999.0,9,45.7,2,-999,1,-999,-999,1,-999,-999,9,-999,9,-999.0,9,-999.0,9,-999.0,9
49NZ20170208,P17E,23,1,34, X12J07,2,20170222,0615,-54.4727,-125.9853,3629,101.2,2,8.2396,2,8.23194,2,34.2667,2,34.2689,2,34.4282,2,34.4869,2,282.91,2,283.44,2,97.94,0.0833,2,0.234,2,0.25,2,0.05,1,6.059,1,0.0,2,2.32,2,0.02,15.92,2,0.04,0.24,2,0.0,1.18,2,0.003,0.53,2,0.02,3.761,2,2.171,2,0.317,2,2.755,2,18.8,3,2110.9,2,2279.4,2,-999,-999,9,-999.0,9,44.4,2,-999,1,-999,-999,1,-999,-999,9,-999,9,-999.0,9,-999.0,9,-999.0,9
49NZ20170208,P17E,23,1,33, X12J06,2,20170222,0615,-54.4727,-125.9853,3629,151.9,2,6.4113,2,6.41124,2,34.3074,2,34.3078,2,34.4691,2,34.4614,2,277.57,2,277.19,2,99.599,0.0161,2,0.008,2,0.03,2,0.023,1,6.749,1,0.0,2,7.2,2,0.03,20.62,2,0.04,0.01,2,0.0,1.426,2,0.003,0.06,2,0.02,3.908,2,2.219,2,0.316,2,2.461,2,-999.0,5,2138.4,2,2276.9,2,-999,-999,9,-999.0,9,44.8,2,-999,1,-999,-999,1,-999,-999,9,-999,9,-999.0,9,-999.0,9,-999.0,9
49NZ20170208,P17E,23,1,32, X12J05,2,20170222,0615,-54.4727,-125.9853,3629,200.4,2,5.9616,2,5.96041,2,34.2551,2,34.2563,2,34.4151,2,34.4506,2,267.28,2,267.09,2,99.737,0.0106,2,0.003,2,0.01,2,0.019,1,7.329,1,0.0,2,9.28,2,0.03,22.69,2,0.04,0.01,2,0.0,1.557,2,0.003,0.04,2,0.02,3.803,2,2.138,2,0.283,2,2.151,2,23.2,3,2145.9,2,2280.2,6,-999,-999,9,-999.0,9,43.5,2,-999,1,-999,-999,1,-999,-999,9,-999,9,-999.0,9,-999.0,9,-999.0,9
49NZ20170208,P17E,23,1,31, X12J04,2,20170222,0615,-54.4727,-125.9853,3629,251.2,2,5.6985,2,5.69983,2,34.23,2,34.2305,2,34.4058,4,34.4214,2,268.63,2,268.18,2,99.751,0.01,2,0.002,2,0.01,2,0.018,1,7.721,1,0.0,2,9.98,2,0.03,23.26,2,0.05,0.0,2,0.0,1.594,2,0.003,0.03,2,0.02,3.91,6,2.155,6,0.298,6,2.201,6,23.8,3,2148.8,2,2279.2,2,-999,-999,9,-999.0,9,43.6,2,-999,1,-999,-999,1,-999,-999,9,-999,9,-999.0,9,-999.0,9,-999.0,9
49NZ20170208,P17E,23,1,30, X12J30,2,20170222,0615,-54.4727,-125.9853,3629,330.5,2,5.6165,2,5.61553,2,34.2493,2,34.2503,2,34.4098,2,34.409,2,275.75,2,275.33,2,99.787,0.0085,2,0.001,2,-999.0,9,0.018,1,7.847,1,0.0,2,9.55,2,0.03,22.59,2,0.04,0.0,2,0.0,1.556,2,0.003,0.02,2,0.02,3.979,2,2.203,2,0.3,2,2.346,2,23.4,3,2144.9,2,2274.6,2,-999,-999,9,-999.0,9,42.6,2,-999,1,-999,-999,1,-999,-999,9,-999,9,-999.0,9,-999.0,9,-999.0,9
49NZ20170208,P17E,23,1,29, X12J29,2,20170222,0615,-54.4727,-125.9853,3629,431.0,2,5.2021,2,5.20237,2,34.2216,2,34.2217,2,34.3821,2,34.3796,2,270.24,2,269.82,2,99.8,0.008,2,0.001,2,-999.0,9,0.018,1,8.234,1,0.0,2,11.9,2,0.03,24.14,2,0.05,0.0,2,0.0,1.65,2,0.003,0.05,2,0.02,3.898,2,2.194,2,0.297,2,2.254,2,24.9,3,2151.6,2,2275.1,2,-999,-999,9,-999.0,9,42.3,2,-999,1,-999,-999,1,-999,-999,9,-999,9,-999.0,9,-999.0,9,-999.0,9
49NZ20170208,P17E,23,1,28, X12J28,2,20170222,0615,-54.4727,-125.9853,3629,531.4,2,4.6105,2,4.61012,2,34.1834,2,34.1836,2,34.3447,2,34.3514,2,269.06,2,268.86,2,99.792,0.0083,2,0.001,2,-999.0,9,0.018,1,8.487,1,0.0,2,14.52,2,0.03,25.6,2,0.05,0.0,2,0.0,1.748,2,0.003,0.05,2,0.02,3.952,2,2.169,2,0.289,2,2.145,2,26.0,3,2163.5,2,2279.5,2,-999,-999,9,-999.0,9,42.1,2,-999,1,-999,-999,1,-999,-999,9,-999,9,-999.0,9,-999.0,9,-999.0,9
49NZ20170208,P17E,23,1,27, X12J27,2,20170222,0615,-54.4727,-125.9853,3629,630.5,2,4.4182,2,4.41776,2,34.2102,2,34.2105,2,34.3715,2,34.3509,2,249.79,2,249.27,2,99.827,0.0069,2,0.001,2,-999.0,9,0.016,1,9.133,1,0.0,2,19.57,2,0.04,27.53,2,0.05,0.0,2,0.0,1.874,2,0.004,0.05,2,0.02,3.618,2,1.943,2,0.251,2,1.67,2,29.0,3,2170.3,2,2283.7,2,-999,-999,9,-999.0,9,41.7,2,-999,1,-999,-999,1,-999,-999,9,-999,9,-999.0,9,-999.0,9,-999.0,9
49NZ20170208,P17E,23,1,26, X12J26,2,20170222,0615,-54.4727,-125.9853,3629,731.6,2,4.2268,2,4.23074,2,34.2613,2,34.2635,2,34.4249,2,34.4273,2,224.66,2,223.73,2,99.844,0.0062,2,0.001,2,-999.0,9,0.015,1,9.473,1,0.0,2,27.42,2,0.04,29.81,2,0.05,0.0,2,0.0,2.027,2,0.004,0.05,2,0.02,3.045,2,1.57,2,0.192,2,1.119,2,32.6,3,2190.1,6,2291.0,2,-999,-999,9,-999.0,9,39.7,2,-999,1,-999,-999,1,-999,-999,9,-999,9,-999.0,9,-999.0,9,-999.0,9
49NZ20170208,P17E,23,1,25, X12J25,2,20170222,0615,-54.4727,-125.9853,3629,828.5,2,3.8389,2,3.83865,2,34.282,2,34.2812,2,34.444,2,34.4543,2,214.94,2,215.14,2,99.827,0.0069,2,0.001,2,-999.0,9,0.015,1,9.632,1,0.0,2,33.83,2,0.05,31.19,2,0.06,0.0,2,0.0,2.121,2,0.004,0.05,2,0.02,2.788,2,1.444,2,0.173,2,0.841,2,-999.0,5,2202.0,2,2297.4,2,-999,-999,9,-999.0,9,39.7,2,-999,1,-999,-999,1,-999,-999,9,-999,9,-999.0,9,-999.0,9,-999.0,9
49NZ20170208,P17E,23,1,24, X12J24,2,20170222,0615,-54.4727,-125.9853,3629,930.1,2,3.5965,2,3.59648,2,34.321,2,34.3209,2,34.4856,2,34.4811,2,204.22,2,203.89,2,99.838,0.0065,2,0.001,2,-999.0,9,0.014,1,9.972,1,0.0,2,40.83,2,0.06,32.31,2,0.06,0.0,2,0.0,2.203,2,0.004,0.05,2,0.02,2.311,6,1.202,6,0.143,6,0.707,6,36.6,3,2213.6,2,2303.1,2,-999,-999,9,-999.0,9,40.8,2,-999,1,-999,-999,1,-999,-999,9,-999,9,-999.0,9,-999.0,9,-999.0,9
49NZ20170208,P17E,23,1,10, X12J10,2,20170222,0615,-54.4727,-125.9853,3629,1070.9,2,3.1806,2,3.1811,2,34.3782,2,-999.0,9,-999.0,9,34.5472,2,192.06,2,-999.0,9,99.851,0.006,2,0.002,2,-999.0,9,0.014,1,10.366,1,0.0,2,-999.0,9,-999.0,-999.0,9,-999.0,-999.0,9,-999.0,-999.0,9,-999.0,-999.0,9,-999.0,-999.0,9,-999.0,9,-999.0,9,-999.0,9,-999.0,9,-999.0,9,-999.0,9,-999,-999,9,-999.0,9,-999.0,9,-999,9,-999,-999,9,-999,-999,9,-999,9,-999.0,9,-999.0,9,-999.0,9
49NZ20170208,P17E,23,1,23, X12J23,2,20170222,0615,-54.4727,-125.9853,3629,1071.3,2,3.1763,2,3.17702,2,34.3791,2,34.378,2,34.5429,2,34.5472,2,191.86,2,192.29,2,99.844,0.0062,2,0.002,2,-999.0,9,0.014,1,10.584,1,0.0,2,51.34,2,0.06,33.49,2,0.06,0.0,2,0.0,2.296,2,0.004,0.02,2,0.02,1.763,2,0.904,2,0.106,2,0.411,2,37.9,3,2228.9,2,2311.6,2,-999,-999,9,-999.0,9,39.6,2,-999,1,-999,-999,1,-999,-999,9,-999,9,-999.0,9,-999.0,9,-999.0,9
49NZ20170208,P17E,23,1,22, X12J22,2,20170222,0615,-54.4727,-125.9853,3629,1270.5,2,2.8212,2,2.8222,2,34.4822,2,34.4805,2,34.6497,2,34.6467,2,176.01,2,176.53,2,99.855,0.0058,2,0.002,2,-999.0,9,0.013,1,10.981,1,0.0,2,65.45,2,0.08,34.34,2,0.06,0.0,2,0.0,2.358,2,0.004,0.03,2,0.02,1.025,2,0.512,2,0.06,2,0.148,2,38.8,3,2247.2,2,2328.1,6,-999,-999,9,-999.0,9,39.0,2,-999,1,-999,-999,1,-999,-999,9,-999,9,-999.0,9,-999.0,9,-999.0,9
49NZ20170208,P17E,23,1,9, X12J36,2,20170222,0615,-54.4727,-125.9853,3629,1471.3,2,2.6203,2,2.62019,2,34.55,2,-999.0,9,-999.0,9,34.7294,2,171.23,2,-999.0,9,99.855,0.0058,2,0.002,2,-999.0,9,0.013,1,11.467,1,0.0,2,-999.0,9,-999.0,-999.0,9,-999.0,-999.0,9,-999.0,-999.0,9,-999.0,-999.0,9,-999.0,-999.0,9,-999.0,9,-999.0,9,-999.0,9,-999.0,9,-999.0,9,-999.0,9,-999,-999,9,-999.0,9,-999.0,9,-999,9,-999,-999,9,-999,-999,9,-999,9,-999.0,9,-999.0,9,-999.0,9
49NZ20170208,P17E,23,1,21, X12J21,2,20170222,0615,-54.4727,-125.9853,3629,1472.0,2,2.62,2,2.61992,2,34.5502,2,34.5513,2,34.7202,2,34.7295,2,171.29,2,171.09,2,99.857,0.0057,2,0.002,2,-999.0,9,0.013,1,11.577,1,0.0,2,73.63,2,0.08,34.41,2,0.06,-0.01,2,0.0,2.359,2,0.004,0.04,2,0.02,0.693,2,0.333,2,0.03,2,0.045,2,38.5,3,2255.6,2,2336.4,2,-999,-999,9,-999.0,9,40.0,2,-999,1,-999,-999,1,-999,-999,9,-999,9,-999.0,9,-999.0,9,-999.0,9
49NZ20170208,P17E,23,1,20, X12J20,2,20170222,0615,-54.4727,-125.9853,3629,1670.5,2,2.4404,2,2.44153,2,34.6201,2,34.6183,2,34.7874,2,34.7909,2,170.81,2,170.61,2,99.853,0.0059,2,0.002,2,-999.0,9,0.013,1,11.622,1,0.0,2,79.7,2,0.09,33.94,2,0.21,0.0,2,0.0,2.324,2,0.004,0.02,2,0.02,0.416,2,0.2,2,0.014,2,0.047,2,37.2,3,2261.3,2,2338.1,2,-999,-999,9,-999.0,9,39.0,2,-999,1,-999,-999,1,-999,-999,9,-999,9,-999.0,9,-999.0,9,-999.0,9
49NZ20170208,P17E,23,1,19, X12J19,2,20170222,0615,-54.4727,-125.9853,3629,1872.3,2,2.2856,2,2.2848,2,34.6721,2,34.6723,2,34.8421,2,34.8377,2,174.99,2,174.76,2,99.713,0.0115,2,0.002,2,-999.0,9,0.012,1,11.719,1,0.0,2,83.36,2,0.09,32.9,2,0.06,-0.01,2,0.0,2.256,2,0.004,0.05,2,0.02,0.269,2,0.131,2,0.006,2,0.0,2,36.2,3,2260.9,2,2345.5,2,-999,-999,9,-999.0,9,38.2,2,-999,1,-999,-999,1,-999,-999,9,-999,9,-999.0,9,-999.0,9,-999.0,9
49NZ20170208,P17E,23,1,18, X12J18,2,20170222,0615,-54.4727,-125.9853,3629,2072.4,2,2.1443,2,2.14412,2,34.7024,2,34.7032,2,34.8707,2,34.8684,2,179.37,2,179.3,2,99.872,0.0051,2,0.002,2,-999.0,9,0.012,1,12.042,1,0.0,2,86.98,2,0.09,32.34,2,0.06,-0.01,2,0.0,2.215,2,0.004,0.06,2,0.02,0.197,2,0.094,2,0.0,2,0.0,2,-999.0,5,2260.8,2,2350.8,2,-999,-999,9,-999.0,9,38.5,2,-999,1,-999,-999,1,-999,-999,9,-999,9,-999.0,9,-999.0,9,-999.0,9
49NZ20170208,P17E,23,1,17, X12J17,2,20170222,0615,-54.4727,-125.9853,3629,2273.1,2,1.9736,2,1.97388,2,34.715,2,34.7149,2,34.8863,2,34.8821,2,181.2,2,181.09,2,99.901,0.0039,2,0.002,2,-999.0,9,0.012,1,11.775,1,0.0,2,94.12,2,0.1,32.29,2,0.06,0.0,2,0.0,2.215,2,0.004,0.04,2,0.02,0.131,2,0.064,2,0.0,2,0.016,2,33.8,3,2265.0,2,2357.0,2,-999,-999,9,-999.0,9,37.6,2,-999,1,-999,-999,1,-999,-999,9,-999,9,-999.0,9,-999.0,9,-999.0,9
49NZ20170208,P17E,23,1,16, X12J16,2,20170222,0615,-54.4727,-125.9853,3629,2472.0,2,1.8066,2,1.80646,2,34.719,2,34.7191,2,34.8903,2,34.8882,2,183.28,2,183.11,2,99.893,0.0043,2,0.002,2,-999.0,9,0.012,1,12.091,1,0.0,2,99.96,2,0.1,32.3,2,0.06,0.0,2,0.0,2.222,2,0.004,0.03,2,0.02,0.089,2,0.044,2,0.0,2,0.02,2,33.8,3,2270.2,6,2361.6,2,-999,-999,9,-999.0,9,38.1,2,-999,1,-999,-999,1,-999,-999,9,-999,9,-999.0,9,-999.0,9,-999.0,9
49NZ20170208,P17E,23,1,15, X12J15,2,20170222,0615,-54.4727,-125.9853,3629,2672.4,2,1.6448,2,1.64517,2,34.719,2,34.7189,2,34.8889,2,34.8914,2,185.81,2,185.73,2,99.897,0.0041,2,0.002,2,-999.0,9,0.014,1,11.777,1,0.0,2,105.2,2,0.11,32.41,2,0.06,0.0,2,0.0,2.23,2,0.004,0.02,2,0.02,0.064,2,0.032,2,0.0,2,0.021,2,33.4,3,2269.9,2,2362.8,2,-999,-999,9,-999.0,9,37.9,2,-999,1,-999,-999,1,-999,-999,9,-999,9,-999.0,9,-999.0,9,-999.0,9
49NZ20170208,P17E,23,1,14, X12J14,2,20170222,0615,-54.4727,-125.9853,3629,2872.0,2,1.5237,2,1.5238,2,34.7172,2,34.7171,2,34.8883,2,34.8871,2,187.52,2,187.41,2,99.899,0.004,2,0.002,2,-999.0,9,0.013,1,11.714,1,0.0,2,109.36,2,0.11,32.57,2,0.06,0.0,2,0.0,2.239,2,0.004,0.04,2,0.02,0.05,2,0.022,2,0.0,2,0.0,2,32.5,3,2272.0,2,2368.9,2,-999,-999,9,-999.0,9,36.2,2,-999,1,-999,-999,1,-999,-999,9,-999,9,-999.0,9,-999.0,9,-999.0,9
49NZ20170208,P17E,23,1,13, X12113,2,20170222,0615,-54.4727,-125.9853,3629,3081.3,2,1.46,2,1.46019,2,34.7156,2,34.7154,2,34.8883,2,34.8891,2,188.41,2,188.03,2,99.889,0.0045,2,0.002,2,-999.0,9,0.013,1,12.068,1,0.0,2,111.97,2,0.11,32.76,2,0.06,0.0,2,0.0,2.25,2,0.004,0.03,2,0.02,0.032,2,0.016,2,0.0,2,0.0,2,-999.0,5,2275.1,2,2371.9,2,-999,-999,9,-999.0,9,37.2,2,-999,1,-999,-999,1,-999,-999,9,-999,9,-999.0,9,-999.0,9,-999.0,9
49NZ20170208,P17E,23,1,6, X12J33,2,20170222,0615,-54.4727,-125.9853,3629,3081.7,2,1.46,2,1.46011,2,34.7156,2,-999.0,9,-999.0,9,34.8887,2,188.39,2,-999.0,9,99.893,0.0043,2,0.002,2,-999.0,9,0.013,1,11.564,1,0.0,2,-999.0,9,-999.0,-999.0,9,-999.0,-999.0,9,-999.0,-999.0,9,-999.0,-999.0,9,-999.0,-999.0,9,-999.0,9,-999.0,9,-999.0,9,-999.0,9,-999.0,9,-999.0,9,-999,-999,9,-999.0,9,-999.0,9,-999,9,-999,-999,9,-999,-999,9,-999,9,-999.0,9,-999.0,9,-999.0,9
49NZ20170208,P17E,23,1,12, X12J12,2,20170222,0615,-54.4727,-125.9853,3629,3331.5,2,1.4202,2,1.4202,2,34.7147,2,34.7145,2,34.8869,2,34.8859,2,189.29,2,189.2,2,99.87,0.0052,2,0.001,2,-999.0,9,0.016,1,11.776,1,0.0,2,113.88,2,0.12,32.76,2,0.06,0.0,2,0.0,2.255,2,0.004,0.01,2,0.02,0.025,2,0.012,2,0.0,2,0.0,2,31.5,3,2277.2,2,2372.8,6,-999,-999,9,-999.0,9,37.7,2,-999,1,-999,-999,1,-999,-999,9,-999,9,-999.0,9,-999.0,9,-999.0,9
49NZ20170208,P17E,23,1,5, X12J32,2,20170222,0615,-54.4727,-125.9853,3629,3583.3,2,1.4164,2,1.41633,2,34.7147,2,-999.0,9,-999.0,9,34.8872,2,190.04,2,-999.0,9,99.874,0.005,2,0.002,2,-999.0,9,0.013,1,11.807,1,0.0,2,-999.0,9,-999.0,-999.0,9,-999.0,-999.0,9,-999.0,-999.0,9,-999.0,-999.0,9,-999.0,-999.0,9,-999.0,9,-999.0,9,-999.0,9,-999.0,9,-999.0,9,-999.0,9,-999,-999,9,-999.0,9,-999.0,9,-999,9,-999,-999,9,-999,-999,9,-999,9,-999.0,9,-999.0,9,-999.0,9
49NZ20170208,P17E,23,1,11, X12J11,2,20170222,0615,-54.4727,-125.9853,3629,3584.7,2,1.4165,2,1.41666,2,34.7147,2,34.7146,2,34.8889,2,34.8877,2,190.02,2,189.95,2,99.878,0.0049,2,0.001,2,-999.0,9,0.013,1,11.31,1,0.0,2,114.68,2,0.12,32.77,2,0.06,0.0,2,0.0,2.259,2,0.004,0.02,2,0.02,0.027,2,0.013,2,0.0,2,0.0,2,31.6,3,2275.3,2,2374.3,2,-999,-999,9,-999.0,9,39.3,2,-999,1,-999,-999,1,-999,-999,9,-999,9,-999.0,9,-999.0,9,-999.0,9
49NZ20170208,P17E,23,1,1, X12J01,2,20170222,0615,-54.4727,-125.9853,3629,3675.6,2,1.4153,2,1.41522,2,34.7145,2,34.7149,2,34.8869,2,34.8894,2,190.26,2,190.34,2,99.87,0.0052,2,0.002,2,-999.0,9,0.025,1,11.686,1,0.0,2,114.77,2,0.12,32.78,2,0.06,0.0,2,0.0,2.259,2,0.004,0.03,2,0.02,0.021,2,0.011,2,0.0,2,0.0,2,30.9,3,2275.2,2,2374.4,2,-999,-999,9,-999.0,9,38.4,2,-999,1,-999,-999,1,-999,-999,9,-999,9,-999.0,9,-999.0,9,-999.0,9
49NZ20170208,P17E,23,1,4, X12J31,2,20170222,0615,-54.4727,-125.9853,3629,3676.0,2,1.4152,2,1.41524,2,34.7147,2,-999.0,9,-999.0,9,34.8889,2,190.23,2,-999.0,9,99.868,0.0053,2,0.002,2,-999.0,9,0.02,1,11.674,1,0.0,2,-999.0,9,-999.0,-999.0,9,-999.0,-999.0,9,-999.0,-999.0,9,-999.0,-999.0,9,-999.0,-999.0,9,-999.0,9,-999.0,9,-999.0,9,-999.0,9,-999.0,9,-999.0,9,-999,-999,9,-999.0,9,-999.0,9,-999,9,-999,-999,9,-999,-999,9,-999,9,-999.0,9,-999.0,9,-999.0,9