BOTTLE,20240216CCHSIOADS
EXPOCODE,SECT_ID,STNNBR,CASTNO,SAMPNO,BTLNBR,BTLNBR_FLAG_W,DATE,TIME,LATITUDE,LONGITUDE,DEPTH,CTDPRS,CTDPRS_FLAG_W,CTDTMP,CTDTMP_FLAG_W,REFTMP,REFTMP_FLAG_W,CTDSAL,CTDSAL_FLAG_W,SALNTY,SALNTY_FLAG_W,DNSSAL,DNSSAL_FLAG_W,CTDSVLSAL,CTDSVLSAL_FLAG_W,CTDOXY,CTDOXY_FLAG_W,OXYGEN,OXYGEN_FLAG_W,CTDXMISS,CTDBEAMCP,CTDXMISS_FLAG_W,CTDFLUOR,CTDFLUOR_FLAG_W,CHLORA,CHLORA_FLAG_W,CTDTURB,CTDTURB_FLAG_W,CTDCDOM,CTDCDOM_FLAG_W,PAR,PAR_FLAG_W,SILCAT,SILCAT_FLAG_W,SILUNC,NITRAT,NITRAT_FLAG_W,NRAUNC,NITRIT,NITRIT_FLAG_W,NRIUNC,PHSPHT,PHSPHT_FLAG_W,PHPUNC,NH4,NH4_FLAG_W,NH4UNC,CFC-11,CFC-11_FLAG_W,CFC-12,CFC-12_FLAG_W,CFC113,CFC113_FLAG_W,SF6,SF6_FLAG_W,N2O,N2O_FLAG_W,TCARBN,TCARBN_FLAG_W,ALKALI,ALKALI_FLAG_W,PH_TOT,PH_TMP,PH_TOT_FLAG_W,CALCIUM,CALCIUM_FLAG_W,DOC,DOC_FLAG_W,DELC13,DELC13_FLAG_W,C13ERR,DELC14,DELC14_FLAG_W,C14ERR,POC,POC_FLAG_W,HPLC,HPLC_FLAG_W,CDOM325,CDOM325_FLAG_W,CDOM370,CDOM370_FLAG_W,CDOM443,CDOM443_FLAG_W
,,,,,,,,,,,METERS,DBAR,,ITS-90,,ITS-90,,PSS-78,,PSS-78,,G/KG,,G/KG,,UMOL/KG,,UMOL/KG,,%TRANS,/METER,,MG/M^3,,UG/L,,FTU,,QSU,,UMOL/M^2/SEC,,UMOL/KG,,UMOL/KG,UMOL/KG,,UMOL/KG,UMOL/KG,,UMOL/KG,UMOL/KG,,UMOL/KG,UMOL/KG,,UMOL/KG,PMOL/KG,,PMOL/KG,,PMOL/KG,,FMOL/KG,,NMOL/KG,,UMOL/KG,,UMOL/KG,,,DEG C,,MMOL/KG,,UMOL/KG,,/MILLE,,/MILLE,/MILLE,,/MILLE,UG/KG,,,,/METER,,/METER,,/METER,
49NZ20170208,P17E,7,1,0,    BUC,2,20170218,0228,-63.0209,-125.9965,4994,0.0,2,-999.0,9,-999.0,9,-999.0,9,33.8683,2,-999.0,9,-999.0,9,-999.0,9,-999.0,9,-999.0,-999.0,9,-999.0,9,-999.0,9,-999.0,9,-999.0,9,-999.0,9,9.15,2,0.03,23.92,2,0.05,0.25,2,0.0,1.604,2,0.018,0.65,2,0.02,-999.0,9,-999.0,9,-999.0,9,-999.0,9,-999.0,9,-999.0,9,-999.0,9,-999,-999,9,-999.0,9,-999.0,9,-999,9,-999,-999,9,-999,-999,9,-999,9,-999.0,9,-999.0,9,-999.0,9
49NZ20170208,P17E,7,1,36, X12J36,2,20170218,0228,-63.0209,-125.9965,4994,11.7,2,3.0685,2,3.06851,2,33.8678,2,33.8673,2,-999.0,9,34.0405,2,321.35,2,322.1,2,96.058,0.1609,2,0.248,2,-999.0,9,0.101,1,7.913,1,0.887,2,9.68,2,0.03,24.06,2,0.05,0.25,2,0.0,1.626,2,0.003,0.64,2,0.02,5.119,6,2.82,6,0.473,6,-999.0,9,-999.0,9,-999.0,9,-999.0,9,-999,-999,9,-999.0,9,-999.0,9,-999,9,-999,-999,9,-999,-999,9,-999,9,-999.0,9,-999.0,9,-999.0,9
49NZ20170208,P17E,7,1,35, X12J35,2,20170218,0228,-63.0209,-125.9965,4994,51.7,2,3.0323,2,3.0345,2,33.8704,2,33.8729,2,-999.0,9,34.0358,2,321.08,2,321.7,2,96.099,0.1592,2,0.246,2,-999.0,9,0.097,1,8.096,1,0.0,2,9.74,2,0.03,24.1,2,0.05,0.25,2,0.0,1.634,2,0.003,0.66,2,0.02,5.131,2,2.818,2,0.481,2,-999.0,9,-999.0,9,-999.0,9,-999.0,9,-999,-999,9,-999.0,9,-999.0,9,-999,9,-999,-999,9,-999,-999,9,-999,9,-999.0,9,-999.0,9,-999.0,9
49NZ20170208,P17E,7,1,34, X12J34,2,20170218,0228,-63.0209,-125.9965,4994,101.2,2,0.4936,2,0.49635,2,34.0833,2,34.0841,2,-999.0,9,34.3058,2,321.77,2,321.68,2,98.905,0.0441,2,0.042,2,-999.0,9,0.038,1,8.97,1,0.0,2,40.75,2,0.06,29.39,2,0.05,0.3,2,0.0,2.092,2,0.004,0.81,2,0.02,5.363,2,2.92,2,0.493,2,-999.0,9,-999.0,9,-999.0,9,-999.0,9,-999,-999,9,-999.0,9,-999.0,9,-999,9,-999,-999,9,-999,-999,9,-999,9,-999.0,9,-999.0,9,-999.0,9
49NZ20170208,P17E,7,1,33, X12J33,2,20170218,0228,-63.0209,-125.9965,4994,150.8,2,0.5155,2,0.51725,2,34.1342,2,34.1335,2,-999.0,9,34.3081,2,308.59,2,309.24,2,99.088,0.0366,2,0.023,2,-999.0,9,0.035,1,8.896,1,0.0,2,45.72,2,0.06,30.81,2,0.06,0.3,2,0.0,2.133,2,0.004,0.16,2,0.02,5.049,2,2.746,2,0.459,2,-999.0,9,-999.0,9,-999.0,9,-999.0,9,-999,-999,9,-999.0,9,-999.0,9,-999,9,-999,-999,9,-999,-999,9,-999,9,-999.0,9,-999.0,9,-999.0,9
49NZ20170208,P17E,7,1,32, X12J32,2,20170218,0228,-63.0209,-125.9965,4994,201.3,2,0.6619,2,0.66472,2,34.208,2,34.2089,2,-999.0,9,34.4027,2,275.64,2,274.99,2,99.27,0.0293,2,0.007,2,-999.0,9,0.028,1,9.455,1,0.0,2,53.53,2,0.07,32.27,2,0.06,0.01,2,0.0,2.197,2,0.004,0.03,2,0.02,4.174,2,2.251,2,0.36,2,-999.0,9,-999.0,9,-999.0,9,-999.0,9,-999,-999,9,-999.0,9,-999.0,9,-999,9,-999,-999,9,-999,-999,9,-999,9,-999.0,9,-999.0,9,-999.0,9
49NZ20170208,P17E,7,1,31, X12J31,2,20170218,0228,-63.0209,-125.9965,4994,251.0,2,1.4525,2,1.44921,2,34.3421,2,34.3403,2,-999.0,9,34.5244,2,222.82,2,224.69,2,99.378,0.025,2,0.004,2,-999.0,9,0.025,1,10.125,1,0.0,2,61.12,2,0.07,33.79,2,0.06,0.01,2,0.0,2.309,2,0.004,0.0,2,0.02,2.724,6,1.465,6,0.223,6,-999.0,9,-999.0,9,-999.0,9,-999.0,9,-999,-999,9,-999.0,9,-999.0,9,-999,9,-999,-999,9,-999,-999,9,-999,9,-999.0,9,-999.0,9,-999.0,9
49NZ20170208,P17E,7,1,30, X12J30,2,20170218,0228,-63.0209,-125.9965,4994,301.9,2,1.828,2,1.82863,2,34.4113,2,34.4113,2,-999.0,9,34.6164,2,203.66,2,203.82,2,99.365,0.0255,2,0.003,2,-999.0,9,0.025,1,10.569,1,0.0,2,64.75,2,0.08,34.33,2,0.06,0.01,2,0.0,2.34,2,0.004,-0.02,2,0.02,2.023,2,1.087,2,0.156,2,-999.0,9,-999.0,9,-999.0,9,-999.0,9,-999,-999,9,-999.0,9,-999.0,9,-999,9,-999,-999,9,-999,-999,9,-999,9,-999.0,9,-999.0,9,-999.0,9
49NZ20170208,P17E,7,1,29, X12J29,2,20170218,0228,-63.0209,-125.9965,4994,401.6,2,2.152,2,2.15305,2,34.5171,2,34.5171,2,-999.0,9,34.7104,2,180.34,2,180.27,2,99.528,0.0189,2,0.003,2,-999.0,9,0.024,1,11.061,1,0.0,2,71.4,2,0.08,34.54,2,0.06,0.0,2,0.0,2.353,2,0.004,-0.03,2,0.02,1.138,2,0.607,2,0.069,2,-999.0,9,-999.0,9,-999.0,9,-999.0,9,-999,-999,9,-999.0,9,-999.0,9,-999,9,-999,-999,9,-999,-999,9,-999,9,-999.0,9,-999.0,9,-999.0,9
49NZ20170208,P17E,7,1,28, X12J28,2,20170218,0228,-63.0209,-125.9965,4994,504.5,2,2.2345,2,2.23302,2,34.5906,2,34.5888,2,-999.0,9,34.767,2,173.65,2,174.13,2,99.57,0.0172,2,0.003,2,-999.0,9,0.02,1,11.153,1,0.0,2,75.9,2,0.08,34.05,2,0.06,0.0,2,0.0,2.324,2,0.004,0.0,2,0.02,0.714,2,0.374,2,0.046,2,-999.0,9,-999.0,9,-999.0,9,-999.0,9,-999,-999,9,-999.0,9,-999.0,9,-999,9,-999,-999,9,-999,-999,9,-999,9,-999.0,9,-999.0,9,-999.0,9
49NZ20170208,P17E,7,1,27, X12J27,2,20170218,0228,-63.0209,-125.9965,4994,604.7,2,2.1344,2,2.13453,2,34.6355,2,34.6353,2,-999.0,9,34.8089,2,174.86,2,175.02,2,99.614,0.0155,2,0.003,2,-999.0,9,0.019,1,11.683,1,0.0,2,79.43,2,0.09,33.37,2,0.06,0.0,2,0.0,2.283,2,0.004,0.02,2,0.02,0.555,2,0.295,2,0.032,2,-999.0,9,-999.0,9,-999.0,9,-999.0,9,-999,-999,9,-999.0,9,-999.0,9,-999,9,-999,-999,9,-999,-999,9,-999,9,-999.0,9,-999.0,9,-999.0,9
49NZ20170208,P17E,7,1,26, X12J26,2,20170218,0228,-63.0209,-125.9965,4994,702.1,2,2.0839,2,2.08387,2,34.6627,2,34.6622,2,-999.0,9,34.8418,2,176.4,2,176.49,2,99.623,0.0151,2,0.003,2,-999.0,9,0.019,1,11.552,1,0.0,2,81.52,2,0.09,32.93,2,0.06,0.0,2,0.0,2.254,2,0.004,0.02,2,0.02,0.469,2,0.253,2,0.014,2,-999.0,9,-999.0,9,-999.0,9,-999.0,9,-999,-999,9,-999.0,9,-999.0,9,-999,9,-999,-999,9,-999,-999,9,-999,9,-999.0,9,-999.0,9,-999.0,9
49NZ20170208,P17E,7,1,25, X12J25,2,20170218,0228,-63.0209,-125.9965,4994,803.4,2,2.0399,2,2.04022,2,34.6898,2,34.6893,2,-999.0,9,34.8599,2,178.75,2,178.95,2,99.665,0.0134,2,0.003,2,-999.0,9,0.018,1,11.67,1,0.0,2,83.7,2,0.09,32.42,2,0.06,0.0,2,0.0,2.212,2,0.004,0.05,2,0.02,0.352,2,0.183,2,0.011,2,-999.0,9,-999.0,9,-999.0,9,-999.0,9,-999,-999,9,-999.0,9,-999.0,9,-999,9,-999,-999,9,-999,-999,9,-999,9,-999.0,9,-999.0,9,-999.0,9
49NZ20170208,P17E,7,1,24, X12J24,2,20170218,0228,-63.0209,-125.9965,4994,900.9,2,1.9921,2,1.99213,2,34.7077,2,34.7079,2,-999.0,9,34.88,2,181.6,2,181.79,2,99.745,0.0102,2,0.002,2,-999.0,9,0.015,1,11.976,1,0.0,2,85.45,2,0.09,31.9,2,0.06,0.0,2,0.0,2.182,2,0.004,0.02,2,0.02,0.276,6,0.139,6,0.01,6,-999.0,9,-999.0,9,-999.0,9,-999.0,9,-999,-999,9,-999.0,9,-999.0,9,-999,9,-999,-999,9,-999,-999,9,-999,9,-999.0,9,-999.0,9,-999.0,9
49NZ20170208,P17E,7,1,23, X12J23,2,20170218,0228,-63.0209,-125.9965,4994,1002.8,2,1.9131,2,1.91354,2,34.7179,2,34.7184,2,-999.0,9,34.8887,2,183.63,2,183.82,2,99.798,0.0081,2,0.002,2,-999.0,9,0.012,1,11.867,1,0.0,2,87.74,2,0.09,31.79,2,0.06,0.0,2,0.0,2.171,2,0.004,0.02,2,0.02,0.239,2,0.122,2,0.007,2,-999.0,9,-999.0,9,-999.0,9,-999.0,9,-999,-999,9,-999.0,9,-999.0,9,-999,9,-999,-999,9,-999,-999,9,-999,9,-999.0,9,-999.0,9,-999.0,9
49NZ20170208,P17E,7,1,22, X12J22,2,20170218,0228,-63.0209,-125.9965,4994,1200.6,2,1.7566,2,1.75646,2,34.7292,2,34.7298,2,-999.0,9,34.901,2,188.06,2,188.37,2,99.817,0.0073,2,0.002,2,-999.0,9,0.013,1,11.794,1,0.0,2,92.01,2,0.1,31.51,2,0.06,0.0,2,0.0,2.156,2,0.004,0.02,2,0.02,0.198,2,0.098,2,0.006,2,-999.0,9,-999.0,9,-999.0,9,-999.0,9,-999,-999,9,-999.0,9,-999.0,9,-999,9,-999,-999,9,-999,-999,9,-999,9,-999.0,9,-999.0,9,-999.0,9
49NZ20170208,P17E,7,1,21, X12J21,2,20170218,0228,-63.0209,-125.9965,4994,1401.5,2,1.5845,2,1.58437,2,34.732,2,34.7323,2,-999.0,9,34.9023,2,191.19,2,191.51,2,99.823,0.0071,2,0.002,2,-999.0,9,0.014,1,11.748,1,0.0,2,96.85,2,0.1,31.5,2,0.06,0.0,2,0.0,2.156,2,0.004,0.01,2,0.02,0.18,2,0.088,2,0.008,2,-999.0,9,-999.0,9,-999.0,9,-999.0,9,-999,-999,9,-999.0,9,-999.0,9,-999,9,-999,-999,9,-999,-999,9,-999,9,-999.0,9,-999.0,9,-999.0,9
49NZ20170208,P17E,7,1,20, X12J20,3,20170218,0228,-63.0209,-125.9965,4994,1603.9,2,1.4176,2,1.41788,2,34.7301,2,34.7299,2,-999.0,9,34.9021,2,193.41,2,193.78,2,99.834,0.0067,2,0.002,2,-999.0,9,0.012,1,11.943,1,0.0,2,102.31,2,0.11,31.59,2,0.06,0.0,2,0.0,2.165,2,0.004,0.03,2,0.02,0.156,2,0.081,2,0.0,2,-999.0,9,-999.0,9,-999.0,9,-999.0,9,-999,-999,9,-999.0,9,-999.0,9,-999,9,-999,-999,9,-999,-999,9,-999,9,-999.0,9,-999.0,9,-999.0,9
49NZ20170208,P17E,7,1,19, X12J19,2,20170218,0228,-63.0209,-125.9965,4994,1802.2,2,1.2871,2,1.28722,2,34.7266,2,34.7263,2,-999.0,9,34.8992,2,195.78,2,196.06,2,99.867,0.0053,2,0.003,2,-999.0,9,0.013,1,11.981,1,0.0,2,106.82,2,0.11,31.77,2,0.06,0.0,2,0.0,2.177,2,0.004,0.02,2,0.02,0.141,2,0.072,2,0.0,2,-999.0,9,-999.0,9,-999.0,9,-999.0,9,-999,-999,9,-999.0,9,-999.0,9,-999,9,-999,-999,9,-999,-999,9,-999,9,-999.0,9,-999.0,9,-999.0,9
49NZ20170208,P17E,7,1,18, X12J18,2,20170218,0228,-63.0209,-125.9965,4994,2001.9,2,1.1563,2,1.15635,2,34.7223,2,34.7223,2,-999.0,9,34.8978,2,197.91,2,198.21,2,99.872,0.0051,2,0.002,2,-999.0,9,0.011,1,11.836,1,0.0,2,111.11,2,0.11,31.84,2,0.06,0.0,2,0.0,2.189,2,0.004,0.02,2,0.02,0.146,2,0.071,2,0.0,2,-999.0,9,-999.0,9,-999.0,9,-999.0,9,-999,-999,9,-999.0,9,-999.0,9,-999,9,-999,-999,9,-999,-999,9,-999,9,-999.0,9,-999.0,9,-999.0,9
49NZ20170208,P17E,7,1,17, X12J17,2,20170218,0228,-63.0209,-125.9965,4994,2204.5,2,1.06,2,1.05998,2,34.7185,2,34.7189,2,-999.0,9,34.8915,2,199.61,2,199.88,2,99.874,0.0051,2,0.002,2,-999.0,9,0.011,1,12.031,1,0.0,2,114.59,2,0.12,31.96,2,0.06,0.0,2,0.0,2.199,2,0.004,0.02,2,0.02,0.147,2,0.072,2,0.0,2,-999.0,9,-999.0,9,-999.0,9,-999.0,9,-999,-999,9,-999.0,9,-999.0,9,-999,9,-999,-999,9,-999,-999,9,-999,9,-999.0,9,-999.0,9,-999.0,9
49NZ20170208,P17E,7,1,16, X12J16,2,20170218,0228,-63.0209,-125.9965,4994,2402.4,2,0.9647,2,0.96446,2,34.7147,2,34.715,2,-999.0,9,34.8918,2,201.46,2,201.69,2,99.893,0.0043,2,0.002,2,-999.0,9,0.012,1,12.294,1,0.0,2,118.06,2,0.12,32.1,2,0.06,0.0,2,0.0,2.207,2,0.004,0.01,2,0.02,0.169,2,0.083,2,0.002,2,-999.0,9,-999.0,9,-999.0,9,-999.0,9,-999,-999,9,-999.0,9,-999.0,9,-999,9,-999,-999,9,-999,-999,9,-999,9,-999.0,9,-999.0,9,-999.0,9
49NZ20170208,P17E,7,1,15, X12J15,2,20170218,0228,-63.0209,-125.9965,4994,2602.3,2,0.8831,2,0.88301,2,34.7115,2,34.7129,2,-999.0,9,34.8893,2,202.86,2,202.95,2,99.895,0.0042,2,0.002,2,-999.0,9,0.011,1,12.171,1,0.0,2,121.34,2,0.12,32.13,2,0.06,0.0,2,0.0,2.21,2,0.004,-0.01,2,0.02,0.177,2,0.087,2,0.0,2,-999.0,9,-999.0,9,-999.0,9,-999.0,9,-999,-999,9,-999.0,9,-999.0,9,-999,9,-999,-999,9,-999,-999,9,-999,9,-999.0,9,-999.0,9,-999.0,9
49NZ20170208,P17E,7,1,11, X12J11,2,20170218,0228,-63.0209,-125.9965,4994,2801.6,2,0.8106,2,0.81047,2,34.7087,2,34.7089,2,-999.0,9,34.8881,2,204.21,2,204.39,2,99.882,0.0047,2,0.002,2,-999.0,9,0.011,1,11.718,1,0.0,2,-999.0,9,-999.0,-999.0,9,-999.0,-999.0,9,-999.0,-999.0,9,-999.0,-999.0,9,-999.0,-999.0,9,-999.0,9,-999.0,9,-999.0,9,-999.0,9,-999.0,9,-999.0,9,-999,-999,9,-999.0,9,-999.0,9,-999,9,-999,-999,9,-999,-999,9,-999,9,-999.0,9,-999.0,9,-999.0,9
49NZ20170208,P17E,7,1,13, X12113,2,20170218,0228,-63.0209,-125.9965,4994,2802.5,2,0.8108,2,0.81063,2,34.7087,2,34.7088,2,-999.0,9,34.8878,2,204.24,2,204.27,2,99.878,0.0049,2,0.002,2,-999.0,9,0.01,1,11.654,1,0.0,2,-999.0,9,-999.0,-999.0,9,-999.0,-999.0,9,-999.0,-999.0,9,-999.0,-999.0,9,-999.0,-999.0,9,-999.0,9,-999.0,9,-999.0,9,-999.0,9,-999.0,9,-999.0,9,-999,-999,9,-999.0,9,-999.0,9,-999,9,-999,-999,9,-999,-999,9,-999,9,-999.0,9,-999.0,9,-999.0,9
49NZ20170208,P17E,7,1,12, X12J12,2,20170218,0228,-63.0209,-125.9965,4994,2802.5,2,0.8107,2,0.81046,2,34.7086,2,34.7085,2,-999.0,9,34.8878,2,204.25,2,204.35,2,99.876,0.005,2,0.002,2,-999.0,9,0.011,1,11.921,1,0.0,2,-999.0,9,-999.0,-999.0,9,-999.0,-999.0,9,-999.0,-999.0,9,-999.0,-999.0,9,-999.0,-999.0,9,-999.0,9,-999.0,9,-999.0,9,-999.0,9,-999.0,9,-999.0,9,-999,-999,9,-999.0,9,-999.0,9,-999,9,-999,-999,9,-999,-999,9,-999,9,-999.0,9,-999.0,9,-999.0,9
49NZ20170208,P17E,7,1,14, X12J14,2,20170218,0228,-63.0209,-125.9965,4994,2803.5,2,0.8114,2,0.81139,2,34.7088,2,34.7086,2,-999.0,9,34.8872,2,204.18,2,204.28,2,99.889,0.0045,2,0.002,2,-999.0,9,0.011,1,11.853,1,0.0,2,124.23,2,0.12,32.34,2,0.06,0.0,2,0.0,2.218,2,0.004,0.0,2,0.02,0.198,2,0.101,2,0.003,2,-999.0,9,-999.0,9,-999.0,9,-999.0,9,-999,-999,9,-999.0,9,-999.0,9,-999,9,-999,-999,9,-999,-999,9,-999,9,-999.0,9,-999.0,9,-999.0,9
49NZ20170208,P17E,7,1,4, X12J04,2,20170218,0228,-63.0209,-125.9965,4994,3001.4,2,0.7476,2,0.74741,2,34.7065,2,34.7062,2,-999.0,9,34.8852,2,205.44,2,205.48,2,99.878,0.0049,2,0.002,2,-999.0,9,0.011,1,11.608,1,0.0,2,126.01,2,0.13,32.43,2,0.06,0.0,2,0.0,2.225,2,0.004,0.02,2,0.02,0.228,2,0.111,2,0.003,2,-999.0,9,-999.0,9,-999.0,9,-999.0,9,-999,-999,9,-999.0,9,-999.0,9,-999,9,-999,-999,9,-999,-999,9,-999,9,-999.0,9,-999.0,9,-999.0,9
49NZ20170208,P17E,7,1,3, X12J03,2,20170218,0228,-63.0209,-125.9965,4994,3251.2,2,0.6498,2,0.64991,2,34.7038,2,34.7031,2,-999.0,9,34.882,2,207.41,2,207.44,2,99.891,0.0044,2,0.002,2,-999.0,9,0.011,1,11.845,1,0.0,2,127.89,2,0.13,32.44,2,0.06,0.0,2,0.0,2.233,2,0.004,0.01,2,0.02,0.275,2,0.134,2,0.004,2,-999.0,9,-999.0,9,-999.0,9,-999.0,9,-999,-999,9,-999.0,9,-999.0,9,-999,9,-999,-999,9,-999,-999,9,-999,9,-999.0,9,-999.0,9,-999.0,9
49NZ20170208,P17E,7,1,2, X12J02,2,20170218,0228,-63.0209,-125.9965,4994,3503.9,2,0.5484,2,0.54839,2,34.7014,2,34.7004,2,-999.0,9,34.8802,2,209.65,2,209.73,2,99.819,0.0073,2,0.002,2,-999.0,9,0.01,1,12.536,4,0.0,2,129.34,2,0.13,32.45,2,0.06,0.0,2,0.0,2.239,2,0.004,0.02,2,0.02,0.329,2,0.162,2,0.006,2,-999.0,9,-999.0,9,-999.0,9,-999.0,9,-999,-999,9,-999.0,9,-999.0,9,-999,9,-999,-999,9,-999,-999,9,-999,9,-999.0,9,-999.0,9,-999.0,9
49NZ20170208,P17E,7,1,10, X12J10,2,20170218,0228,-63.0209,-125.9965,4994,3752.4,2,0.4748,2,0.47468,2,34.6997,2,34.6999,2,-999.0,9,34.8797,2,211.58,2,211.6,2,99.863,0.0055,2,0.002,2,-999.0,9,0.011,1,12.266,4,0.0,2,131.5,2,0.13,32.61,2,0.06,0.0,2,0.0,2.243,2,0.004,-0.02,2,0.02,0.397,2,0.19,2,0.003,2,-999.0,9,-999.0,9,-999.0,9,-999.0,9,-999,-999,9,-999.0,9,-999.0,9,-999,9,-999,-999,9,-999,-999,9,-999,9,-999.0,9,-999.0,9,-999.0,9
49NZ20170208,P17E,7,1,9, X12J09,2,20170218,0228,-63.0209,-125.9965,4994,4002.4,2,0.4278,2,0.42782,2,34.699,2,34.6989,2,-999.0,9,34.8751,2,213.03,2,212.92,2,99.867,0.0053,2,0.002,2,-999.0,9,0.017,1,11.316,4,0.0,2,133.25,2,0.13,32.54,2,0.06,0.0,2,0.0,2.24,2,0.004,0.01,2,0.02,0.421,2,0.212,2,0.008,2,-999.0,9,-999.0,9,-999.0,9,-999.0,9,-999,-999,9,-999.0,9,-999.0,9,-999,9,-999,-999,9,-999,-999,9,-999,9,-999.0,9,-999.0,9,-999.0,9
49NZ20170208,P17E,7,1,8, X12J08,2,20170218,0228,-63.0209,-125.9965,4994,4251.9,2,0.4003,2,0.40018,2,34.6985,2,34.6985,2,-999.0,9,34.8742,2,214.01,2,213.83,2,99.859,0.0056,2,0.001,2,-999.0,9,0.012,1,5.699,4,0.0,2,135.03,2,0.13,32.67,2,0.06,0.0,2,0.0,2.247,2,0.004,0.02,2,0.02,0.451,2,0.221,2,0.008,2,-999.0,9,-999.0,9,-999.0,9,-999.0,9,-999,-999,9,-999.0,9,-999.0,9,-999,9,-999,-999,9,-999,-999,9,-999,9,-999.0,9,-999.0,9,-999.0,9
49NZ20170208,P17E,7,1,7, X12J07,2,20170218,0228,-63.0209,-125.9965,4994,4500.3,2,0.3947,2,0.39477,2,34.698,2,34.6981,2,-999.0,9,34.8728,2,214.6,2,214.59,2,99.834,0.0067,2,0.001,2,-999.0,9,0.012,1,1.627,4,0.0,2,136.41,2,0.13,32.75,2,0.06,0.0,2,0.0,2.248,2,0.004,0.0,2,0.02,0.478,2,0.233,2,0.013,2,-999.0,9,-999.0,9,-999.0,9,-999.0,9,-999,-999,9,-999.0,9,-999.0,9,-999,9,-999,-999,9,-999,-999,9,-999,9,-999.0,9,-999.0,9,-999.0,9
49NZ20170208,P17E,7,1,6, X12J06,2,20170218,0228,-63.0209,-125.9965,4994,4751.6,2,0.4055,2,0.40546,2,34.6977,2,34.6976,2,-999.0,9,34.8733,2,214.95,2,215.01,2,99.806,0.0078,2,0.001,2,-999.0,9,0.013,1,0.624,4,0.0,2,136.59,2,0.14,32.68,2,0.06,0.0,2,0.0,2.247,2,0.004,0.0,2,0.02,0.494,2,0.247,2,0.013,2,-999.0,9,-999.0,9,-999.0,9,-999.0,9,-999,-999,9,-999.0,9,-999.0,9,-999,9,-999,-999,9,-999,-999,9,-999,9,-999.0,9,-999.0,9,-999.0,9
49NZ20170208,P17E,7,1,5, X12J05,2,20170218,0228,-63.0209,-125.9965,4994,5001.7,2,0.4197,2,0.41966,2,34.697,2,34.6972,2,-999.0,9,34.8713,2,215.31,2,215.35,2,99.753,0.0099,2,0.001,2,-999.0,9,0.012,1,0.116,4,0.0,2,136.26,2,0.13,32.75,2,0.06,0.0,2,0.0,2.246,2,0.004,0.01,2,0.02,0.527,2,0.254,2,0.023,2,-999.0,9,-999.0,9,-999.0,9,-999.0,9,-999,-999,9,-999.0,9,-999.0,9,-999,9,-999,-999,9,-999,-999,9,-999,9,-999.0,9,-999.0,9,-999.0,9
49NZ20170208,P17E,7,1,1, X12J01,2,20170218,0228,-63.0209,-125.9965,4994,5085.8,2,0.4222,2,0.42215,2,34.6969,2,34.697,2,-999.0,9,34.8731,2,215.46,2,215.5,2,99.642,0.0144,2,0.001,2,-999.0,9,0.026,1,0.315,4,0.0,2,136.6,2,0.14,32.69,2,0.06,0.0,2,0.0,2.252,2,0.004,0.02,2,0.02,0.547,2,0.264,2,0.014,2,-999.0,9,-999.0,9,-999.0,9,-999.0,9,-999,-999,9,-999.0,9,-999.0,9,-999,9,-999,-999,9,-999,-999,9,-999,9,-999.0,9,-999.0,9,-999.0,9