BOTTLE,20240216CCHSIOADS
EXPOCODE,SECT_ID,STNNBR,CASTNO,SAMPNO,BTLNBR,BTLNBR_FLAG_W,DATE,TIME,LATITUDE,LONGITUDE,DEPTH,CTDPRS,CTDPRS_FLAG_W,CTDTMP,CTDTMP_FLAG_W,REFTMP,REFTMP_FLAG_W,CTDSAL,CTDSAL_FLAG_W,SALNTY,SALNTY_FLAG_W,DNSSAL,DNSSAL_FLAG_W,CTDSVLSAL,CTDSVLSAL_FLAG_W,CTDOXY,CTDOXY_FLAG_W,OXYGEN,OXYGEN_FLAG_W,CTDXMISS,CTDBEAMCP,CTDXMISS_FLAG_W,CTDFLUOR,CTDFLUOR_FLAG_W,CHLORA,CHLORA_FLAG_W,CTDTURB,CTDTURB_FLAG_W,CTDCDOM,CTDCDOM_FLAG_W,PAR,PAR_FLAG_W,SILCAT,SILCAT_FLAG_W,SILUNC,NITRAT,NITRAT_FLAG_W,NRAUNC,NITRIT,NITRIT_FLAG_W,NRIUNC,PHSPHT,PHSPHT_FLAG_W,PHPUNC,NH4,NH4_FLAG_W,NH4UNC,CFC-11,CFC-11_FLAG_W,CFC-12,CFC-12_FLAG_W,CFC113,CFC113_FLAG_W,SF6,SF6_FLAG_W,N2O,N2O_FLAG_W,TCARBN,TCARBN_FLAG_W,ALKALI,ALKALI_FLAG_W,PH_TOT,PH_TMP,PH_TOT_FLAG_W,CALCIUM,CALCIUM_FLAG_W,DOC,DOC_FLAG_W,DELC13,DELC13_FLAG_W,C13ERR,DELC14,DELC14_FLAG_W,C14ERR,POC,POC_FLAG_W,HPLC,HPLC_FLAG_W,CDOM325,CDOM325_FLAG_W,CDOM370,CDOM370_FLAG_W,CDOM443,CDOM443_FLAG_W
,,,,,,,,,,,METERS,DBAR,,ITS-90,,ITS-90,,PSS-78,,PSS-78,,G/KG,,G/KG,,UMOL/KG,,UMOL/KG,,%TRANS,/METER,,MG/M^3,,UG/L,,FTU,,QSU,,UMOL/M^2/SEC,,UMOL/KG,,UMOL/KG,UMOL/KG,,UMOL/KG,UMOL/KG,,UMOL/KG,UMOL/KG,,UMOL/KG,UMOL/KG,,UMOL/KG,PMOL/KG,,PMOL/KG,,PMOL/KG,,FMOL/KG,,NMOL/KG,,UMOL/KG,,UMOL/KG,,,DEG C,,MMOL/KG,,UMOL/KG,,/MILLE,,/MILLE,/MILLE,,/MILLE,UG/KG,,,,/METER,,/METER,,/METER,
49NZ20170208,P17E,12,1,0,    BUC,2,20170220,0036,-60.0138,-125.9755,4634,0.0,2,-999.0,9,-999.0,9,-999.0,9,34.0318,2,-999.0,9,-999.0,9,-999.0,9,-999.0,9,-999.0,-999.0,9,-999.0,9,0.21,2,-999.0,9,-999.0,9,-999.0,9,5.82,2,0.03,22.56,2,0.04,0.28,2,0.0,1.645,2,0.003,0.75,2,0.02,-999.0,9,-999.0,9,-999.0,9,-999.0,9,-999.0,9,-999.0,9,-999.0,9,-999,-999,9,-999.0,9,-999.0,9,-999,9,-999,-999,9,-999,-999,9,-999,9,0.151,2,0.089,2,0.043,2
49NZ20170208,P17E,12,1,36, X12J36,2,20170220,0036,-60.0138,-125.9755,4634,11.4,2,4.7998,2,4.80179,2,34.0104,2,34.0135,2,34.1751,2,34.1826,2,304.47,2,304.84,2,97.375,0.1064,2,0.176,2,0.2,2,0.054,1,6.552,1,49.006,2,5.63,2,0.03,22.62,2,0.04,0.27,2,0.0,1.636,2,0.003,0.76,2,0.02,4.515,6,2.529,6,0.397,6,3.001,6,21.14,3,2132.9,2,2283.1,2,-999,-999,9,-999.0,9,-999.0,9,-999,9,-999,-999,9,-999,-999,9,-999,9,0.097,2,0.063,2,0.03,2
49NZ20170208,P17E,12,1,5, X12J05,2,20170220,0036,-60.0138,-125.9755,4634,51.0,2,4.664,2,4.66593,2,34.021,2,-999.0,9,-999.0,9,34.1878,2,305.11,2,-999.0,9,97.626,0.0961,2,0.22,2,-999.0,9,0.058,1,7.266,1,5.064,2,-999.0,9,-999.0,-999.0,9,-999.0,-999.0,9,-999.0,-999.0,9,-999.0,-999.0,9,-999.0,-999.0,9,-999.0,9,-999.0,9,-999.0,9,-999.0,9,-999.0,9,-999.0,9,-999,-999,9,-999.0,9,-999.0,9,-999,9,-999,-999,9,-999,-999,9,-999,9,-999.0,9,-999.0,9,-999.0,9
49NZ20170208,P17E,12,1,35, X12J35,2,20170220,0036,-60.0138,-125.9755,4634,52.5,2,4.6748,2,4.67439,2,34.0208,2,34.0208,2,34.1797,2,34.1867,2,305.09,2,305.36,2,97.592,0.0975,2,0.21,2,0.22,2,0.058,1,7.372,1,4.885,2,5.91,2,0.03,22.67,2,0.04,0.27,2,0.0,1.635,2,0.003,0.74,2,0.02,4.508,2,2.534,2,0.398,2,3.023,2,21.76,3,2134.3,6,2283.5,2,-999,-999,9,-999.0,9,-999.0,9,-999,9,-999,-999,9,-999,-999,9,-999,9,0.094,2,0.052,2,0.022,2
49NZ20170208,P17E,12,1,2, X12J02,2,20170220,0036,-60.0138,-125.9755,4634,80.4,2,3.1744,2,3.17139,2,34.0341,2,34.0344,2,34.1949,2,34.2159,2,298.89,2,300.73,2,97.706,0.0928,2,0.218,2,0.33,2,0.07,1,7.869,1,0.736,2,16.49,2,0.04,26.74,2,0.05,0.4,2,0.0,1.901,2,0.004,0.29,2,0.02,-999.0,9,-999.0,9,-999.0,9,-999.0,9,-999.0,9,2156.4,2,2283.7,2,-999,-999,9,-999.0,9,-999.0,9,-999,9,-999,-999,9,-999,-999,9,-999,9,0.143,2,0.092,2,0.048,2
49NZ20170208,P17E,12,1,34, X12J34,2,20170220,0036,-60.0138,-125.9755,4634,101.7,2,2.6581,2,2.65814,2,34.0482,2,34.0468,2,34.2094,2,34.2188,2,294.74,2,295.68,2,98.666,0.0537,2,0.047,2,0.14,2,0.064,1,8.013,1,0.028,2,20.99,2,0.04,28.35,2,0.05,0.04,2,0.0,1.945,2,0.004,0.02,2,0.02,4.68,2,2.59,2,0.394,2,2.821,2,25.52,3,2165.9,2,2284.5,2,-999,-999,9,-999.0,9,-999.0,9,-999,9,-999,-999,9,-999,-999,9,-999,9,0.151,2,0.099,2,0.05,2
49NZ20170208,P17E,12,1,33, X12J33,2,20170220,0036,-60.0138,-125.9755,4634,150.6,2,2.5793,2,2.57667,2,34.0993,2,34.0984,2,34.2621,2,34.2531,2,277.46,2,277.36,2,99.202,0.032,2,0.008,2,0.02,2,0.039,1,8.245,1,0.0,2,26.92,2,0.04,29.67,2,0.05,0.01,2,0.0,2.022,2,0.004,0.03,2,0.02,4.269,2,2.346,2,0.358,2,2.42,2,27.69,3,2176.0,2,2289.6,2,-999,-999,9,-999.0,9,-999.0,9,-999,9,-999,-999,9,-999,-999,9,-999,9,-999.0,9,-999.0,9,-999.0,9
49NZ20170208,P17E,12,1,32, X12J32,2,20170220,0036,-60.0138,-125.9755,4634,204.1,2,2.572,2,2.56729,2,34.153,2,34.1474,2,34.3076,2,34.3368,2,260.87,2,261.65,2,99.424,0.0231,2,0.003,2,0.02,2,0.034,1,8.879,1,0.0,2,32.5,2,0.05,30.93,2,0.06,0.0,2,0.0,2.1,2,0.004,0.01,2,0.02,3.893,2,2.11,2,0.322,2,1.993,2,30.09,3,2187.1,2,2293.9,6,-999,-999,9,-999.0,9,-999.0,9,-999,9,-999,-999,9,-999,-999,9,-999,9,0.107,2,0.068,2,0.028,2
49NZ20170208,P17E,12,1,31, X12J31,2,20170220,0036,-60.0138,-125.9755,4634,252.1,2,2.3104,2,2.30997,2,34.1588,2,34.1599,2,34.3201,2,34.3208,2,261.27,2,260.3,2,99.433,0.0228,2,0.004,2,0.01,2,0.03,1,9.183,1,0.0,2,35.37,2,0.05,31.4,2,0.06,0.0,2,0.0,2.134,2,0.004,0.02,2,0.02,3.845,6,2.088,6,0.317,6,1.987,6,-999.0,5,2193.0,2,2295.4,2,-999,-999,9,-999.0,9,-999.0,9,-999,9,-999,-999,9,-999,-999,9,-999,9,-999.0,9,-999.0,9,-999.0,9
49NZ20170208,P17E,12,1,30, X12J30,2,20170220,0036,-60.0138,-125.9755,4634,282.2,2,2.0899,2,2.08777,2,34.1708,2,34.1742,2,34.3346,2,34.3549,2,262.16,2,260.56,2,99.308,0.0278,2,0.005,2,-999.0,9,0.033,1,9.121,1,0.0,2,39.03,2,0.05,31.85,2,0.06,0.01,2,0.0,2.168,2,0.004,0.01,2,0.02,3.804,2,2.072,2,0.32,2,2.032,2,30.87,3,2196.6,2,2298.6,2,-999,-999,9,-999.0,9,-999.0,9,-999,9,-999,-999,9,-999,-999,9,-999,9,-999.0,9,-999.0,9,-999.0,9
49NZ20170208,P17E,12,1,29, X12J29,2,20170220,0036,-60.0138,-125.9755,4634,372.0,2,2.0206,2,2.0171,2,34.2489,2,34.2454,2,34.4071,2,34.4224,2,241.7,2,241.93,2,99.49,0.0205,2,0.003,2,-999.0,9,0.027,1,9.964,1,0.0,2,46.95,2,0.06,32.86,2,0.06,0.0,2,0.0,2.239,2,0.004,0.01,2,0.02,3.271,2,1.749,2,0.274,2,1.674,2,33.4,3,2210.4,2,2307.2,2,-999,-999,9,-999.0,9,-999.0,9,-999,9,-999,-999,9,-999,-999,9,-999,9,0.146,2,0.09,2,0.043,2
49NZ20170208,P17E,12,1,28, X12J28,2,20170220,0036,-60.0138,-125.9755,4634,470.2,2,2.1247,2,2.13565,2,34.3282,2,34.3293,2,34.4922,2,34.4967,2,219.01,2,217.3,2,99.563,0.0175,2,0.003,2,-999.0,9,0.026,1,10.354,1,0.0,2,54.7,2,0.07,33.78,2,0.06,0.0,2,0.0,2.302,2,0.004,0.01,2,0.02,2.535,2,1.333,2,0.201,2,1.177,2,35.63,3,2224.5,2,2315.8,2,-999,-999,9,-999.0,9,-999.0,9,-999,9,-999,-999,9,-999,-999,9,-999,9,-999.0,9,-999.0,9,-999.0,9
49NZ20170208,P17E,12,1,27, X12J27,2,20170220,0036,-60.0138,-125.9755,4634,571.5,2,2.3545,2,2.35447,2,34.4371,2,34.433,2,34.6003,2,34.6106,2,188.56,2,189.78,2,99.678,0.0129,2,0.003,2,-999.0,9,0.019,1,10.802,1,0.0,2,63.65,2,0.07,34.45,2,0.06,0.0,2,0.0,2.353,2,0.004,0.01,2,0.02,1.621,2,0.841,2,0.123,2,0.633,2,37.68,3,2238.6,2,2324.4,2,-999,-999,9,-999.0,9,-999.0,9,-999,9,-999,-999,9,-999,-999,9,-999,9,0.14,2,0.086,2,0.037,2
49NZ20170208,P17E,12,1,26, X12J26,2,20170220,0036,-60.0138,-125.9755,4634,672.6,2,2.2496,2,2.25178,2,34.494,2,34.4932,2,34.6589,2,34.6881,2,182.48,2,182.19,2,99.697,0.0122,2,0.003,2,-999.0,9,0.019,1,10.906,1,0.0,2,69.22,2,0.08,34.47,2,0.06,0.0,2,0.0,2.353,2,0.004,0.05,2,0.02,1.271,2,0.657,2,0.089,2,0.512,2,38.49,3,2246.9,6,2329.6,2,-999,-999,9,-999.0,9,-999.0,9,-999,9,-999,-999,9,-999,-999,9,-999,9,-999.0,9,-999.0,9,-999.0,9
49NZ20170208,P17E,12,1,25, X12J25,2,20170220,0036,-60.0138,-125.9755,4634,770.4,2,2.3596,2,2.35999,2,34.5714,2,34.5715,2,34.736,2,34.7416,2,172.95,2,172.92,2,99.735,0.0106,2,0.002,2,-999.0,9,0.019,1,11.202,1,0.0,2,74.6,2,0.08,34.22,2,0.06,0.0,2,0.0,2.335,2,0.004,0.02,2,0.02,0.737,2,0.369,2,0.045,2,0.188,2,38.0,3,2251.3,2,2336.6,2,-999,-999,9,-999.0,9,-999.0,9,-999,9,-999,-999,9,-999,-999,9,-999,9,0.132,2,0.073,2,0.032,2
49NZ20170208,P17E,12,1,24, X12J24,2,20170220,0036,-60.0138,-125.9755,4634,872.8,2,2.3417,2,2.34162,2,34.6174,2,34.6169,2,34.7828,2,34.787,2,172.13,2,171.95,2,99.819,0.0072,2,0.002,2,-999.0,9,0.013,1,11.41,1,0.0,2,77.66,2,0.09,33.73,2,0.06,0.0,2,0.0,2.306,2,0.004,0.03,2,0.02,0.499,6,0.247,6,0.025,6,0.13,6,36.96,3,2253.2,2,2343.5,2,-999,-999,9,-999.0,9,-999.0,9,-999,9,-999,-999,9,-999,-999,9,-999,9,-999.0,9,-999.0,9,-999.0,9
49NZ20170208,P17E,12,1,23, X12J23,2,20170220,0036,-60.0138,-125.9755,4634,971.9,2,2.2867,2,2.28661,2,34.6476,2,34.6478,2,34.814,2,34.8138,2,173.17,2,173.07,2,99.821,0.0072,2,0.002,2,-999.0,9,0.013,1,11.478,1,0.0,2,80.49,2,0.09,33.24,2,0.06,0.0,2,0.0,2.276,2,0.004,0.03,2,0.02,0.363,2,0.177,2,0.017,2,0.072,2,35.69,3,2255.0,2,2347.1,2,-999,-999,9,-999.0,9,-999.0,9,-999,9,-999,-999,9,-999,-999,9,-999,9,0.168,2,0.096,2,0.039,2
49NZ20170208,P17E,12,1,22, X12J22,2,20170220,0036,-60.0138,-125.9755,4634,1132.8,2,2.1653,2,2.16517,2,34.6851,2,34.6853,2,34.8527,2,34.8505,2,177.16,2,177.16,2,99.855,0.0058,2,0.002,2,-999.0,9,0.013,1,11.591,1,0.0,2,83.24,2,0.09,32.58,2,0.06,0.0,2,0.0,2.23,2,0.004,0.01,2,0.02,0.272,2,0.132,2,0.009,2,0.041,2,-999.0,5,2255.0,2,2349.2,6,-999,-999,9,-999.0,9,-999.0,9,-999,9,-999,-999,9,-999,-999,9,-999,9,-999.0,9,-999.0,9,-999.0,9
49NZ20170208,P17E,12,1,21, X12J21,2,20170220,0036,-60.0138,-125.9755,4634,1333.1,2,2.023,2,2.02304,2,34.7126,2,34.7131,2,34.8804,2,34.8777,2,182.39,2,182.41,2,99.878,0.0049,2,0.002,2,-999.0,9,0.012,1,11.555,1,0.0,2,86.66,2,0.09,31.92,2,0.06,0.0,2,0.0,2.187,2,0.004,0.01,2,0.02,0.201,2,0.101,2,0.008,2,0.046,2,34.13,3,2253.5,2,2352.8,2,-999,-999,9,-999.0,9,-999.0,9,-999,9,-999,-999,9,-999,-999,9,-999,9,-999.0,9,-999.0,9,-999.0,9
49NZ20170208,P17E,12,1,20, X12J20,2,20170220,0036,-60.0138,-125.9755,4634,1531.3,2,1.8691,2,1.86912,2,34.7252,2,34.727,2,34.8922,2,34.8954,2,186.5,2,186.88,2,99.893,0.0043,2,0.002,2,-999.0,9,0.012,1,11.801,1,0.0,2,90.58,2,0.1,31.71,2,0.06,0.0,2,0.0,2.167,2,0.004,0.02,2,0.02,0.178,2,0.089,2,0.004,2,0.029,2,33.13,3,2252.9,2,2353.8,2,-999,-999,9,-999.0,9,-999.0,9,-999,9,-999,-999,9,-999,-999,9,-999,9,-999.0,9,-999.0,9,-999.0,9
49NZ20170208,P17E,12,1,19, X12J19,2,20170220,0036,-60.0138,-125.9755,4634,1733.4,2,1.6828,2,1.68275,2,34.7303,2,34.7307,2,34.8962,2,34.902,2,190.29,2,190.65,2,99.908,0.0037,2,0.002,2,-999.0,9,0.012,1,11.522,1,0.0,2,95.73,2,0.1,31.53,2,0.06,0.0,2,0.0,2.167,2,0.004,0.02,2,0.02,0.152,2,0.075,2,0.005,2,0.0,2,32.99,3,2253.6,2,2356.1,2,-999,-999,9,-999.0,9,-999.0,9,-999,9,-999,-999,9,-999,-999,9,-999,9,-999.0,9,-999.0,9,-999.0,9
49NZ20170208,P17E,12,1,18, X12J18,2,20170220,0036,-60.0138,-125.9755,4634,1933.1,2,1.5206,2,1.52048,2,34.7312,2,34.7315,2,34.8975,2,34.9011,2,193.08,2,193.36,2,99.923,0.0031,2,0.002,2,-999.0,9,0.011,1,12.07,1,0.0,2,100.1,2,0.1,31.65,2,0.06,0.0,2,0.0,2.165,2,0.004,0.02,2,0.02,0.164,2,0.08,2,0.005,2,0.018,2,-999.0,5,2253.9,2,2358.4,2,-999,-999,9,-999.0,9,-999.0,9,-999,9,-999,-999,9,-999,-999,9,-999,9,-999.0,9,-999.0,9,-999.0,9
49NZ20170208,P17E,12,1,17, X12J17,2,20170220,0036,-60.0138,-125.9755,4634,2132.2,2,1.3589,2,1.35859,2,34.7271,2,34.7272,2,34.8968,2,34.9009,2,195.57,2,195.83,2,99.918,0.0033,2,0.002,2,-999.0,9,0.012,1,11.636,1,0.0,2,105.92,2,0.11,31.88,2,0.06,0.0,2,0.0,2.184,2,0.004,0.0,2,0.02,0.144,2,0.07,2,0.004,2,0.035,2,31.64,3,2255.3,2,2358.8,2,-999,-999,9,-999.0,9,-999.0,9,-999,9,-999,-999,9,-999,-999,9,-999,9,-999.0,9,-999.0,9,-999.0,9
49NZ20170208,P17E,12,1,16, X12J16,2,20170220,0036,-60.0138,-125.9755,4634,2334.1,2,1.2473,2,1.24688,2,34.7234,2,34.7236,2,34.8916,2,34.895,2,197.28,2,197.55,2,99.918,0.0033,2,0.002,2,-999.0,9,0.012,1,11.611,1,0.0,2,109.19,2,0.11,31.84,2,0.06,0.0,2,0.0,2.187,2,0.004,0.05,2,0.02,0.133,2,0.065,2,0.003,2,0.024,2,32.33,3,2258.1,6,2363.1,2,-999,-999,9,-999.0,9,-999.0,9,-999,9,-999,-999,9,-999,-999,9,-999,9,-999.0,9,-999.0,9,-999.0,9
49NZ20170208,P17E,12,1,15, X12J15,2,20170220,0036,-60.0138,-125.9755,4634,2533.4,2,1.1463,2,1.14625,2,34.7202,2,34.7215,2,34.8916,2,34.8968,2,199.28,2,199.59,2,99.918,0.0033,2,0.002,2,-999.0,9,0.011,1,11.47,1,0.0,2,112.58,2,0.12,31.94,2,0.06,0.0,2,0.0,2.189,2,0.004,0.03,2,0.02,0.146,2,0.072,2,0.002,2,0.012,2,32.35,3,2260.7,2,2364.1,2,-999,-999,9,-999.0,9,-999.0,9,-999,9,-999,-999,9,-999,-999,9,-999,9,-999.0,9,-999.0,9,-999.0,9
49NZ20170208,P17E,12,1,14, X12J14,2,20170220,0036,-60.0138,-125.9755,4634,2732.1,2,1.0297,2,1.02983,2,34.7162,2,34.7163,2,34.885,2,34.8937,2,201.11,2,201.37,2,99.921,0.0032,2,0.002,2,-999.0,9,0.011,1,11.676,1,0.0,2,116.95,2,0.12,32.1,2,0.06,0.0,2,0.0,2.203,2,0.004,0.01,2,0.02,0.16,2,0.08,2,0.004,2,0.014,2,32.82,3,2260.5,2,2362.9,3,-999,-999,9,-999.0,9,-999.0,9,-999,9,-999,-999,9,-999,-999,9,-999,9,-999.0,9,-999.0,9,-999.0,9
49NZ20170208,P17E,12,1,13, X12113,2,20170220,0036,-60.0138,-125.9755,4634,2932.0,2,0.9494,2,0.94935,2,34.7132,2,34.7133,2,34.8837,2,34.8917,2,202.79,2,203.03,2,99.918,0.0033,2,0.002,2,-999.0,9,0.011,1,11.61,1,0.0,2,119.94,2,0.12,32.24,2,0.06,0.0,2,0.0,2.212,2,0.004,0.01,2,0.02,0.191,2,0.094,2,0.006,2,0.041,2,32.92,3,2260.5,2,2364.6,2,-999,-999,9,-999.0,9,-999.0,9,-999,9,-999,-999,9,-999,-999,9,-999,9,0.164,2,0.091,2,0.041,2
49NZ20170208,P17E,12,1,12, X12J12,2,20170220,0036,-60.0138,-125.9755,4634,3171.6,2,0.8642,2,0.86423,2,34.7099,2,34.7093,2,34.8804,2,34.8903,2,204.3,2,204.5,2,99.906,0.0038,2,0.002,2,-999.0,9,0.012,1,11.681,1,0.0,2,123.08,2,0.12,32.34,2,0.06,0.0,2,0.0,2.22,2,0.004,0.02,2,0.02,0.213,2,0.104,2,0.008,2,0.044,2,32.36,3,2261.4,2,2362.4,3,-999,-999,9,-999.0,9,-999.0,9,-999,9,-999,-999,9,-999,-999,9,-999,9,-999.0,9,-999.0,9,-999.0,9
49NZ20170208,P17E,12,1,11, X12J11,2,20170220,0036,-60.0138,-125.9755,4634,3422.2,2,0.7957,2,0.79574,2,34.7078,2,34.7076,2,34.8797,2,34.8869,2,205.71,2,205.87,2,99.88,0.0048,2,0.002,2,-999.0,9,0.013,1,11.748,1,0.0,2,125.54,2,0.13,32.37,2,0.06,0.0,2,0.0,2.228,2,0.004,0.02,2,0.02,0.26,2,0.124,2,0.009,2,0.037,2,-999.0,5,2265.4,3,2364.9,2,-999,-999,9,-999.0,9,-999.0,9,-999,9,-999,-999,9,-999,-999,9,-999,9,-999.0,9,-999.0,9,-999.0,9
49NZ20170208,P17E,12,1,10, X12J10,2,20170220,0036,-60.0138,-125.9755,4634,3672.4,2,0.7034,2,0.70343,2,34.7054,2,34.7052,2,34.8764,2,34.8812,2,207.66,2,207.94,2,99.878,0.0049,2,0.002,2,-999.0,9,0.013,1,11.329,1,0.0,2,128.62,2,0.13,32.48,2,0.06,0.0,2,0.0,2.234,2,0.004,0.02,2,0.02,0.307,2,0.147,2,0.008,2,0.074,2,31.83,3,2259.9,2,2363.7,2,-999,-999,9,-999.0,9,-999.0,9,-999,9,-999,-999,9,-999,-999,9,-999,9,-999.0,9,-999.0,9,-999.0,9
49NZ20170208,P17E,12,1,9, X12J09,2,20170220,0036,-60.0138,-125.9755,4634,3921.3,2,0.601,2,0.6009,2,34.7028,2,34.7027,2,34.8711,2,34.8795,2,209.74,2,209.83,2,99.887,0.0045,2,0.002,2,-999.0,9,0.012,1,11.797,1,0.0,2,131.67,2,0.13,32.57,2,0.06,0.0,2,0.0,2.243,2,0.004,0.02,2,0.02,0.359,2,0.17,2,0.012,2,0.058,2,31.77,3,2265.2,3,2361.8,3,-999,-999,9,-999.0,9,-999.0,9,-999,9,-999,-999,9,-999,-999,9,-999,9,-999.0,9,-999.0,9,-999.0,9
49NZ20170208,P17E,12,1,8, X12J08,2,20170220,0036,-60.0138,-125.9755,4634,4172.0,2,0.52,2,0.52008,2,34.7006,2,34.7018,2,34.8705,2,34.8756,2,211.57,2,211.85,2,99.813,0.0075,2,0.002,2,-999.0,9,0.013,1,10.422,4,0.0,2,134.12,2,0.13,32.64,2,0.06,0.0,2,0.0,2.246,2,0.004,0.04,2,0.02,0.415,2,0.199,2,0.019,2,0.073,2,31.59,3,2261.2,6,2364.6,2,-999,-999,9,-999.0,9,-999.0,9,-999,9,-999,-999,9,-999,-999,9,-999,9,-999.0,9,-999.0,9,-999.0,9
49NZ20170208,P17E,12,1,7, X12J07,2,20170220,0036,-60.0138,-125.9755,4634,4420.3,2,0.5137,2,0.51351,2,34.6998,2,34.6995,2,34.8698,2,34.8742,2,212.07,2,212.31,2,99.733,0.0107,2,0.001,2,-999.0,9,0.018,1,5.554,4,0.0,2,134.53,2,0.13,32.73,2,0.06,0.0,2,0.0,2.248,2,0.004,0.04,2,0.02,0.431,2,0.209,2,0.017,2,0.07,2,31.77,3,2261.0,2,2363.6,2,-999,-999,9,-999.0,9,-999.0,9,-999,9,-999,-999,9,-999,-999,9,-999,9,-999.0,9,-999.0,9,-999.0,9
49NZ20170208,P17E,12,1,1, X12J01,2,20170220,0036,-60.0138,-125.9755,4634,4682.6,2,0.5267,2,0.52664,2,34.6991,2,34.6993,2,34.8731,2,34.8783,2,212.43,2,212.61,2,99.631,0.0148,2,0.001,2,-999.0,9,0.032,1,2.541,4,0.0,2,134.77,2,0.13,32.83,2,0.06,0.0,2,0.0,2.256,2,0.004,0.02,2,0.02,0.453,2,0.217,2,0.02,2,0.077,2,31.71,3,2261.5,2,2364.3,2,-999,-999,9,-999.0,9,-999.0,9,-999,9,-999,-999,9,-999,-999,9,-999,9,0.169,2,0.106,2,0.048,2