BOTTLE,20240216CCHSIOADS
EXPOCODE,SECT_ID,STNNBR,CASTNO,SAMPNO,BTLNBR,BTLNBR_FLAG_W,DATE,TIME,LATITUDE,LONGITUDE,DEPTH,CTDPRS,CTDPRS_FLAG_W,CTDTMP,CTDTMP_FLAG_W,REFTMP,REFTMP_FLAG_W,CTDSAL,CTDSAL_FLAG_W,SALNTY,SALNTY_FLAG_W,DNSSAL,DNSSAL_FLAG_W,CTDSVLSAL,CTDSVLSAL_FLAG_W,CTDOXY,CTDOXY_FLAG_W,OXYGEN,OXYGEN_FLAG_W,CTDXMISS,CTDBEAMCP,CTDXMISS_FLAG_W,CTDFLUOR,CTDFLUOR_FLAG_W,CHLORA,CHLORA_FLAG_W,CTDTURB,CTDTURB_FLAG_W,CTDCDOM,CTDCDOM_FLAG_W,PAR,PAR_FLAG_W,SILCAT,SILCAT_FLAG_W,SILUNC,NITRAT,NITRAT_FLAG_W,NRAUNC,NITRIT,NITRIT_FLAG_W,NRIUNC,PHSPHT,PHSPHT_FLAG_W,PHPUNC,NH4,NH4_FLAG_W,NH4UNC,CFC-11,CFC-11_FLAG_W,CFC-12,CFC-12_FLAG_W,CFC113,CFC113_FLAG_W,SF6,SF6_FLAG_W,N2O,N2O_FLAG_W,TCARBN,TCARBN_FLAG_W,ALKALI,ALKALI_FLAG_W,PH_TOT,PH_TMP,PH_TOT_FLAG_W,CALCIUM,CALCIUM_FLAG_W,DOC,DOC_FLAG_W,DELC13,DELC13_FLAG_W,C13ERR,DELC14,DELC14_FLAG_W,C14ERR,POC,POC_FLAG_W,HPLC,HPLC_FLAG_W,CDOM325,CDOM325_FLAG_W,CDOM370,CDOM370_FLAG_W,CDOM443,CDOM443_FLAG_W
,,,,,,,,,,,METERS,DBAR,,ITS-90,,ITS-90,,PSS-78,,PSS-78,,G/KG,,G/KG,,UMOL/KG,,UMOL/KG,,%TRANS,/METER,,MG/M^3,,UG/L,,FTU,,QSU,,UMOL/M^2/SEC,,UMOL/KG,,UMOL/KG,UMOL/KG,,UMOL/KG,UMOL/KG,,UMOL/KG,UMOL/KG,,UMOL/KG,UMOL/KG,,UMOL/KG,PMOL/KG,,PMOL/KG,,PMOL/KG,,FMOL/KG,,NMOL/KG,,UMOL/KG,,UMOL/KG,,,DEG C,,MMOL/KG,,UMOL/KG,,/MILLE,,/MILLE,/MILLE,,/MILLE,UG/KG,,,,/METER,,/METER,,/METER,
49NZ20170208,P17E,8,1,0,    BUC,2,20170218,2229,-62.3353,-126.1107,5047,0.0,2,-999.0,9,-999.0,9,-999.0,9,33.9013,2,-999.0,9,-999.0,9,-999.0,9,-999.0,9,-999.0,-999.0,9,-999.0,9,0.25,2,-999.0,9,-999.0,9,-999.0,9,6.89,2,0.03,23.88,2,0.05,0.24,2,0.0,1.662,2,0.003,0.79,2,0.02,-999.0,9,-999.0,9,-999.0,9,-999.0,9,-999.0,9,-999.0,9,-999.0,9,-999,-999,9,10.069,2,-999.0,9,-999,9,-999,-999,9,-999,-999,1,-999,1,0.122,2,0.06,2,0.021,2
49NZ20170208,P17E,8,1,36, X12J36,2,20170218,2229,-62.3353,-126.1107,5047,11.2,2,2.7573,2,2.75731,2,33.9001,2,33.9003,2,34.0598,2,34.0569,2,322.01,2,322.74,2,96.546,0.1406,2,0.208,2,0.23,2,0.121,1,7.02,1,57.744,2,6.93,2,0.03,23.9,2,0.05,0.24,2,0.0,1.653,2,0.003,0.78,2,0.02,5.284,6,2.866,6,0.448,6,3.329,6,23.57,3,2142.4,2,2279.5,2,-999,-999,1,10.068,2,43.0,2,-999,9,-999,-999,9,-999,-999,9,-999,9,0.098,2,0.044,2,0.015,2
49NZ20170208,P17E,8,1,35, X12J35,2,20170218,2229,-62.3353,-126.1107,5047,50.3,2,2.7494,2,2.74866,2,33.9014,2,33.9017,2,34.0591,2,34.073,2,321.86,2,322.48,2,96.559,0.1401,2,0.225,2,0.23,2,0.107,1,7.169,1,4.233,2,7.04,2,0.03,23.99,2,0.05,0.24,2,0.0,1.659,2,0.003,0.78,2,0.02,5.326,2,2.844,2,0.452,2,3.319,2,22.99,3,2141.8,6,2279.6,2,-999,-999,1,-999.0,9,42.6,2,-999,9,-999,-999,9,-999,-999,9,-999,9,0.091,2,0.035,2,0.009,2
49NZ20170208,P17E,8,1,5, X12J05,2,20170218,2229,-62.3353,-126.1107,5047,50.8,2,2.7511,2,2.74999,2,33.9006,2,-999.0,9,-999.0,9,34.0731,2,321.74,2,-999.0,9,96.603,0.1382,2,0.227,2,-999.0,9,0.119,1,7.362,1,3.818,2,-999.0,9,-999.0,-999.0,9,-999.0,-999.0,9,-999.0,-999.0,9,-999.0,-999.0,9,-999.0,-999.0,9,-999.0,9,-999.0,9,-999.0,9,-999.0,9,-999.0,9,-999.0,9,-999,-999,9,-999.0,9,-999.0,9,-999,9,-999,-999,9,-999,-999,9,-999,9,-999.0,9,-999.0,9,-999.0,9
49NZ20170208,P17E,8,1,2, X12J02,2,20170218,2229,-62.3353,-126.1107,5047,67.6,2,1.8761,2,1.87633,2,34.0452,2,34.0427,2,34.205,2,34.2091,2,322.51,2,323.26,2,97.838,0.0874,2,0.202,2,0.3,2,0.067,1,7.997,1,1.196,2,16.84,2,0.04,25.79,2,0.05,0.22,2,0.0,1.882,2,0.004,1.35,2,0.02,-999.0,9,-999.0,9,-999.0,9,-999.0,9,-999.0,9,2158.1,2,2285.9,2,-999,-999,1,-999.0,9,41.4,2,-999,9,-999,-999,9,-999,-999,9,-999,9,0.104,2,0.046,2,0.02,2
49NZ20170208,P17E,8,1,3, X12J03,2,20170218,2229,-62.3353,-126.1107,5047,67.7,2,1.8732,2,1.87259,2,34.0444,2,-999.0,9,-999.0,9,34.2126,2,322.55,2,-999.0,9,97.822,0.0881,2,0.194,2,-999.0,9,0.063,1,8.04,1,1.226,2,-999.0,9,-999.0,-999.0,9,-999.0,-999.0,9,-999.0,-999.0,9,-999.0,-999.0,9,-999.0,-999.0,9,-999.0,9,-999.0,9,-999.0,9,-999.0,9,-999.0,9,-999.0,9,-999,-999,9,-999.0,9,-999.0,9,-999,9,-999,-999,9,-999,-999,1,-999,1,-999.0,9,-999.0,9,-999.0,9
49NZ20170208,P17E,8,1,34, X12J34,2,20170218,2229,-62.3353,-126.1107,5047,101.8,2,1.906,2,1.90611,2,34.0541,2,34.0543,2,34.2153,2,34.2274,2,320.98,2,321.9,2,98.637,0.0549,2,0.041,2,0.1,2,0.049,1,7.873,1,0.127,2,18.24,2,0.04,26.0,2,0.05,0.2,2,0.0,1.871,2,0.004,1.29,2,0.02,5.267,2,2.85,2,0.45,2,3.257,2,24.24,3,2162.3,2,2285.0,2,-999,-999,1,10.106,2,42.0,2,-999,9,-999,-999,9,-999,-999,9,-999,9,0.085,2,0.039,2,0.01,2
49NZ20170208,P17E,8,1,4, X12J04,2,20170218,2229,-62.3353,-126.1107,5047,102.3,2,1.9065,2,1.90643,2,34.054,2,-999.0,9,-999.0,9,34.2275,2,320.98,2,-999.0,9,98.717,0.0517,2,0.043,2,-999.0,9,0.048,1,8.034,1,0.104,2,-999.0,9,-999.0,-999.0,9,-999.0,-999.0,9,-999.0,-999.0,9,-999.0,-999.0,9,-999.0,-999.0,9,-999.0,9,-999.0,9,-999.0,9,-999.0,9,-999.0,9,-999.0,9,-999,-999,9,-999.0,9,-999.0,9,-999,9,-999,-999,9,-999,-999,9,-999,9,-999.0,9,-999.0,9,-999.0,9
49NZ20170208,P17E,8,1,33, X12J33,2,20170218,2229,-62.3353,-126.1107,5047,151.6,2,1.4971,2,1.49541,2,34.0419,2,34.0426,2,34.2048,2,34.2151,2,311.44,2,311.85,2,98.945,0.0424,2,0.027,2,0.05,2,0.042,1,8.08,1,0.0,2,24.95,2,0.04,28.31,2,0.05,0.34,2,0.0,1.965,2,0.004,0.17,2,0.02,5.144,2,2.786,2,0.434,2,3.159,2,25.71,3,2169.0,2,2282.5,2,-999,-999,1,-999.0,9,40.9,2,-999,9,-999,-999,9,-999,-999,9,-999,9,-999.0,9,-999.0,9,-999.0,9
49NZ20170208,P17E,8,1,32, X12J32,2,20170218,2229,-62.3353,-126.1107,5047,201.4,2,1.691,2,1.69158,2,34.0978,2,34.0972,2,34.2588,2,34.2788,2,289.54,2,289.93,2,99.101,0.0361,2,0.009,2,0.02,2,0.042,1,8.483,1,0.0,2,32.27,2,0.05,30.34,2,0.06,0.01,2,0.0,2.06,2,0.004,0.0,2,0.02,4.602,2,2.522,2,0.385,2,2.718,2,-999.0,5,2182.5,2,2285.6,6,-999,-999,1,10.109,2,40.1,2,-999,9,-999,-999,9,-999,-999,9,-999,9,0.101,2,0.045,2,0.016,2
49NZ20170208,P17E,8,1,31, X12J31,2,20170218,2229,-62.3353,-126.1107,5047,249.7,2,1.5769,2,1.57656,2,34.1321,2,34.1319,2,34.2957,2,34.3111,2,277.88,2,277.82,2,99.222,0.0313,2,0.005,2,0.02,2,0.032,1,8.455,1,0.0,2,37.99,2,0.05,31.28,2,0.06,0.01,2,0.0,2.12,2,0.004,-0.01,2,0.02,4.31,6,2.335,6,0.355,6,2.416,6,-999.0,5,2192.2,2,2288.9,2,-999,-999,1,-999.0,9,40.4,2,-999,9,-999,-999,9,-999,-999,9,-999,9,-999.0,9,-999.0,9,-999.0,9
49NZ20170208,P17E,8,1,30, X12J30,2,20170218,2229,-62.3353,-126.1107,5047,331.8,2,1.6958,2,1.6957,2,34.2185,2,34.2174,2,34.3821,2,34.3854,2,251.01,2,252.21,2,99.397,0.0242,2,0.003,2,-999.0,9,0.029,1,8.924,1,0.0,2,46.37,2,0.06,32.43,2,0.06,0.01,2,0.0,2.202,2,0.004,0.0,2,0.02,3.618,2,1.938,2,0.294,2,1.948,2,34.37,3,2210.2,2,2300.4,2,-999,-999,1,10.158,2,39.1,2,-999,9,-999,-999,9,-999,-999,9,-999,9,-999.0,9,-999.0,9,-999.0,9
49NZ20170208,P17E,8,1,29, X12J29,2,20170218,2229,-62.3353,-126.1107,5047,435.1,2,2.3778,2,2.37856,2,34.3969,2,34.3949,2,34.5633,2,34.5648,2,192.91,2,193.7,2,99.547,0.0182,2,0.003,2,-999.0,9,0.024,1,10.665,1,0.0,2,60.13,2,0.07,34.48,2,0.06,0.01,2,0.0,2.342,2,0.004,0.0,2,0.02,1.903,2,0.972,2,0.139,2,0.719,2,38.69,3,2236.3,2,2313.2,2,-999,-999,1,10.22,2,39.6,2,-999,9,-999,-999,9,-999,-999,9,-999,9,0.119,2,0.048,2,0.015,2
49NZ20170208,P17E,8,1,28, X12J28,2,20170218,2229,-62.3353,-126.1107,5047,530.8,2,2.4211,2,2.42099,2,34.4885,2,34.4876,2,34.655,2,34.6484,2,177.94,2,178.4,2,99.6,0.016,2,0.003,2,-999.0,9,0.021,1,10.809,1,0.0,2,68.17,2,0.08,34.73,2,0.06,0.0,2,0.0,2.372,2,0.004,0.0,2,0.02,1.216,2,0.608,2,0.08,2,0.415,2,-999.0,5,2245.8,2,2324.2,2,-999,-999,1,10.25,2,39.5,2,-999,9,-999,-999,9,-999,-999,9,-999,9,-999.0,9,-999.0,9,-999.0,9
49NZ20170208,P17E,8,1,27, X12J27,2,20170218,2229,-62.3353,-126.1107,5047,634.8,2,2.3744,2,2.3743,2,34.5479,2,34.5474,2,34.713,2,34.7182,2,173.28,2,173.6,2,99.648,0.0141,2,0.003,2,-999.0,9,0.021,1,11.111,1,0.0,2,72.84,2,0.08,34.38,2,0.06,0.0,2,0.0,2.344,2,0.004,0.02,2,0.02,0.87,2,0.426,2,0.056,2,0.264,2,36.97,3,2254.5,2,2327.7,2,-999,-999,1,10.261,2,38.5,2,-999,9,-999,-999,9,-999,-999,9,-999,9,0.161,2,0.077,2,0.029,2
49NZ20170208,P17E,8,1,26, X12J26,2,20170218,2229,-62.3353,-126.1107,5047,731.2,2,2.2984,2,2.29837,2,34.6005,2,34.6002,2,34.7644,2,34.757,2,172.36,2,172.7,2,99.688,0.0125,2,0.003,2,-999.0,9,0.02,1,11.042,1,0.0,2,76.78,2,0.09,33.92,2,0.06,0.0,2,0.0,2.316,2,0.004,0.02,2,0.02,0.632,2,0.312,2,0.037,2,0.205,2,39.59,3,2254.2,6,2335.3,2,-999,-999,1,10.291,2,38.6,2,-999,9,-999,-999,9,-999,-999,9,-999,9,-999.0,9,-999.0,9,-999.0,9
49NZ20170208,P17E,8,1,25, X12J25,2,20170218,2229,-62.3353,-126.1107,5047,833.2,2,2.2228,2,2.22298,2,34.6405,2,34.6399,2,34.8052,2,34.8031,2,173.54,2,173.87,2,99.709,0.0116,2,0.002,2,-999.0,9,0.018,1,11.298,1,0.0,2,79.49,2,0.09,33.39,2,0.06,0.0,2,0.0,2.277,2,0.004,0.02,2,0.02,0.487,2,0.24,2,0.026,2,0.148,2,37.96,3,2254.6,2,2338.0,2,-999,-999,1,10.298,2,38.5,2,-999,9,-999,-999,9,-999,-999,9,-999,9,0.154,2,0.071,2,0.028,2
49NZ20170208,P17E,8,1,24, X12J24,2,20170218,2229,-62.3353,-126.1107,5047,932.4,2,2.162,2,2.16224,2,34.6659,2,34.6659,2,34.8296,2,34.8295,2,175.38,2,175.86,2,99.731,0.0108,2,0.002,2,-999.0,9,0.017,1,11.378,1,0.0,2,81.45,2,0.09,32.92,2,0.06,0.0,2,0.0,2.252,2,0.004,0.01,2,0.02,0.384,6,0.199,6,0.022,6,0.13,6,35.79,3,2255.4,2,2339.2,2,-999,-999,1,10.296,2,38.6,2,-999,9,-999,-999,9,-999,-999,9,-999,9,-999.0,9,-999.0,9,-999.0,9
49NZ20170208,P17E,8,1,23, X12J23,2,20170218,2229,-62.3353,-126.1107,5047,1072.0,2,2.0571,2,2.05681,2,34.6983,2,34.6985,2,34.8652,2,34.8624,2,179.29,2,179.7,2,99.788,0.0085,2,0.002,2,-999.0,9,0.013,1,11.565,1,0.0,2,84.54,2,0.09,32.24,2,0.06,0.0,2,0.0,2.208,2,0.004,-0.01,2,0.02,0.304,2,0.147,2,0.015,2,0.083,2,-999.0,5,2252.4,2,2342.7,2,-999,-999,1,10.312,2,39.9,2,-999,9,-999,-999,9,-999,-999,9,-999,9,0.138,2,0.061,2,0.022,2
49NZ20170208,P17E,8,1,22, X12J22,2,20170218,2229,-62.3353,-126.1107,5047,1270.1,2,1.9072,2,1.90714,2,34.7214,2,34.7215,2,34.8896,2,34.8864,2,184.66,2,185.27,2,99.832,0.0067,2,0.002,2,-999.0,9,0.012,1,11.46,1,0.0,2,88.34,2,0.1,31.71,2,0.06,0.0,2,0.0,2.163,2,0.004,0.0,2,0.02,0.223,2,0.111,2,0.01,2,0.042,2,34.63,3,2251.3,2,2345.4,6,-999,-999,1,10.314,2,39.2,2,-999,9,-999,-999,9,-999,-999,9,-999,9,-999.0,9,-999.0,9,-999.0,9
49NZ20170208,P17E,8,1,21, X12J21,2,20170218,2229,-62.3353,-126.1107,5047,1473.4,2,1.7174,2,1.71723,2,34.7307,2,34.7305,2,34.8975,2,34.8952,2,188.98,2,189.47,2,99.832,0.0067,2,0.002,2,-999.0,9,0.012,1,11.615,1,0.0,2,93.64,2,0.1,31.57,2,0.06,0.0,2,0.0,2.16,2,0.004,0.0,2,0.02,0.191,2,0.094,2,0.01,2,0.039,2,37.07,3,2253.5,2,2350.0,2,-999,-999,1,10.316,2,39.8,2,-999,9,-999,-999,9,-999,-999,9,-999,9,-999.0,9,-999.0,9,-999.0,9
49NZ20170208,P17E,8,1,20, X12J20,2,20170218,2229,-62.3353,-126.1107,5047,1673.1,2,1.5488,2,1.54892,2,34.7318,2,34.7318,2,34.8993,2,34.8973,2,191.87,2,192.61,2,99.845,0.0062,2,0.002,2,-999.0,9,0.012,1,11.719,1,0.0,2,98.56,2,0.1,31.6,2,0.06,0.0,2,0.01,2.159,2,0.004,0.0,2,0.02,0.174,2,0.086,2,0.004,2,0.049,2,31.57,3,2254.5,2,2350.9,2,-999,-999,1,10.321,2,38.8,2,-999,9,-999,-999,9,-999,-999,9,-999,9,-999.0,9,-999.0,9,-999.0,9
49NZ20170208,P17E,8,1,19, X12J19,2,20170218,2229,-62.3353,-126.1107,5047,1872.1,2,1.4021,2,1.40209,2,34.7293,2,34.729,2,34.8955,2,34.8967,2,193.78,2,194.36,2,99.868,0.0053,2,0.002,2,-999.0,9,0.013,1,11.619,1,0.0,2,103.53,2,0.11,31.76,2,0.06,0.0,2,0.0,2.173,2,0.004,0.0,2,0.02,0.157,2,0.076,2,0.004,2,0.04,2,31.36,3,2257.4,2,2354.8,2,-999,-999,1,-999.0,9,39.2,2,-999,9,-999,-999,9,-999,-999,9,-999,9,-999.0,9,-999.0,9,-999.0,9
49NZ20170208,P17E,8,1,18, X12J18,2,20170218,2229,-62.3353,-126.1107,5047,2073.6,2,1.266,2,1.2661,2,34.7257,2,34.7252,2,34.8949,2,34.8935,2,195.76,2,196.28,2,99.881,0.0048,2,0.002,2,-999.0,9,0.012,1,11.703,1,0.0,2,108.31,2,0.11,31.93,2,0.06,0.0,2,0.0,2.184,2,0.004,0.01,2,0.02,0.141,2,0.07,2,0.004,2,0.047,2,-999.0,5,2257.7,2,2357.4,2,-999,-999,1,-999.0,9,38.1,2,-999,9,-999,-999,9,-999,-999,9,-999,9,-999.0,9,-999.0,9,-999.0,9
49NZ20170208,P17E,8,1,17, X12J17,2,20170218,2229,-62.3353,-126.1107,5047,2275.0,2,1.1566,2,1.15687,2,34.7217,2,34.722,2,34.8929,2,34.8906,2,197.54,2,198.14,2,99.897,0.0041,2,0.002,2,-999.0,9,0.011,1,11.838,1,0.0,2,112.04,2,0.11,32.04,2,0.06,0.0,2,0.0,2.197,2,0.004,0.0,2,0.02,0.141,2,0.071,2,0.004,2,0.075,2,30.49,3,2258.9,2,2357.6,2,-999,-999,9,10.325,2,39.3,2,-999,9,-999,-999,9,-999,-999,9,-999,9,-999.0,9,-999.0,9,-999.0,9
49NZ20170208,P17E,8,1,16, X12J16,2,20170218,2229,-62.3353,-126.1107,5047,2473.2,2,1.0386,2,1.03857,2,34.7173,2,34.7172,2,34.885,2,34.8882,2,199.68,2,200.24,2,99.889,0.0044,2,0.002,2,-999.0,9,0.014,1,11.908,1,0.0,2,115.7,2,0.12,32.02,2,0.06,0.0,2,0.0,2.195,2,0.004,0.03,2,0.02,0.142,2,0.074,2,0.005,2,0.058,2,30.76,3,2260.7,6,2362.1,2,-999,-999,9,-999.0,9,38.9,2,-999,9,-999,-999,9,-999,-999,9,-999,9,-999.0,9,-999.0,9,-999.0,9
49NZ20170208,P17E,8,1,15, X12J15,2,20170218,2229,-62.3353,-126.1107,5047,2672.5,2,0.9327,2,0.93284,2,34.713,2,34.7129,2,34.8843,2,34.8848,2,201.74,2,202.17,2,99.887,0.0045,2,0.002,2,-999.0,9,0.011,1,11.37,1,0.0,2,119.8,2,0.12,32.16,2,0.06,0.0,2,0.0,2.205,2,0.004,0.02,2,0.02,0.166,2,0.084,2,0.005,2,0.065,2,30.77,3,2262.8,2,2359.2,2,-999,-999,9,-999.0,9,38.3,2,-999,9,-999,-999,9,-999,-999,9,-999,9,-999.0,9,-999.0,9,-999.0,9
49NZ20170208,P17E,8,1,14, X12J14,2,20170218,2229,-62.3353,-126.1107,5047,2874.4,2,0.8658,2,0.86573,2,34.7103,2,34.7102,2,34.8797,2,34.881,2,202.96,2,203.57,2,99.883,0.0047,2,0.002,2,-999.0,9,0.012,1,11.584,1,0.0,2,122.73,2,0.12,32.34,2,0.06,0.0,2,0.0,2.214,2,0.004,0.01,2,0.02,0.185,2,0.089,2,0.005,2,0.078,2,30.62,3,2263.8,2,2360.3,2,-999,-999,9,10.324,2,38.1,2,-999,9,-999,-999,9,-999,-999,9,-999,9,-999.0,9,-999.0,9,-999.0,9
49NZ20170208,P17E,8,1,13, X12113,2,20170218,2229,-62.3353,-126.1107,5047,3085.3,2,0.8123,2,0.81231,2,34.708,2,34.7079,2,34.8777,2,34.8819,2,204.12,2,204.51,2,99.893,0.0043,2,0.002,2,-999.0,9,0.011,1,11.55,1,0.0,2,125.07,2,0.13,32.44,2,0.06,0.0,2,0.0,2.217,2,0.004,0.01,2,0.02,0.199,2,0.098,2,0.006,2,0.064,2,30.76,3,2262.5,2,2359.6,2,-999,-999,9,-999.0,9,38.2,2,-999,9,-999,-999,9,-999,-999,9,-999,9,0.14,2,0.066,2,0.02,2
49NZ20170208,P17E,8,1,12, X12J12,2,20170218,2229,-62.3353,-126.1107,5047,3332.6,2,0.7149,2,0.71465,2,34.7049,2,34.7046,2,34.8757,2,34.8766,2,206.13,2,206.65,2,99.893,0.0043,2,0.002,2,-999.0,9,0.011,1,11.588,1,0.0,2,127.31,2,0.13,32.51,2,0.06,0.0,2,0.0,2.228,2,0.004,0.01,2,0.02,0.254,2,0.125,2,0.007,2,0.064,2,30.47,3,2263.3,2,2360.8,6,-999,-999,9,-999.0,9,38.1,2,-999,9,-999,-999,9,-999,-999,9,-999,9,-999.0,9,-999.0,9,-999.0,9
49NZ20170208,P17E,8,1,11, X12J11,2,20170218,2229,-62.3353,-126.1107,5047,3583.7,2,0.6051,2,0.60521,2,34.7024,2,34.7019,2,34.8922,4,34.8741,2,208.24,2,208.77,2,99.902,0.0039,2,0.002,2,-999.0,9,0.01,1,11.587,1,0.0,2,129.02,2,0.13,32.62,2,0.06,0.0,2,0.0,2.231,2,0.004,0.01,2,0.02,0.307,2,0.154,2,0.011,2,0.067,2,30.39,3,2262.4,2,2361.6,2,-999,-999,9,10.316,2,38.4,2,-999,9,-999,-999,9,-999,-999,9,-999,9,-999.0,9,-999.0,9,-999.0,9
49NZ20170208,P17E,8,1,10, X12J10,2,20170218,2229,-62.3353,-126.1107,5047,3834.6,2,0.5227,2,0.52282,2,34.7005,2,34.6997,2,34.8725,2,34.8718,2,210.39,2,210.81,2,99.904,0.0039,2,0.001,2,-999.0,9,0.011,1,11.979,4,0.0,2,130.48,2,0.13,32.65,2,0.06,0.0,2,0.0,2.238,2,0.004,0.02,2,0.02,0.371,2,0.179,2,0.014,2,0.089,2,30.61,3,2262.1,2,2361.1,2,-999,-999,9,-999.0,9,38.2,2,-999,9,-999,-999,9,-999,-999,9,-999,9,-999.0,9,-999.0,9,-999.0,9
49NZ20170208,P17E,8,1,9, X12J09,2,20170218,2229,-62.3353,-126.1107,5047,4083.6,2,0.4622,2,0.46227,2,34.6991,2,34.6987,2,34.8711,2,34.8699,2,212.08,2,212.47,2,99.887,0.0045,2,0.001,2,-999.0,9,0.011,1,8.175,4,0.0,2,132.7,2,0.13,32.68,2,0.06,-0.01,2,0.0,2.242,2,0.004,0.01,2,0.02,0.44,2,0.208,2,0.017,2,0.109,2,-999.0,5,2263.7,2,2362.3,2,-999,-999,9,-999.0,9,38.1,2,-999,9,-999,-999,9,-999,-999,9,-999,9,-999.0,9,-999.0,9,-999.0,9
49NZ20170208,P17E,8,1,8, X12J08,2,20170218,2229,-62.3353,-126.1107,5047,4331.4,2,0.429,2,0.42893,2,34.6984,2,34.6979,2,34.8711,2,34.8671,2,213.25,2,213.66,2,99.868,0.0053,2,0.002,2,-999.0,9,0.012,1,1.83,4,0.0,2,134.26,2,0.13,32.7,2,0.06,0.0,2,0.0,2.246,2,0.004,-0.01,2,0.02,0.476,2,0.226,2,0.02,2,0.096,2,30.72,3,2263.0,6,2360.8,2,-999,-999,9,10.319,2,37.5,2,-999,9,-999,-999,9,-999,-999,9,-999,9,-999.0,9,-999.0,9,-999.0,9
49NZ20170208,P17E,8,1,7, X12J07,2,20170218,2229,-62.3353,-126.1107,5047,4582.9,2,0.4129,2,0.41292,2,34.6981,2,34.6976,2,34.8711,2,34.8684,2,213.94,2,214.42,2,99.866,0.0054,2,0.001,2,-999.0,9,0.012,1,-0.046,4,0.0,2,135.72,2,0.13,32.78,2,0.06,0.0,2,0.0,2.245,2,0.004,-0.01,2,0.02,0.495,2,0.232,2,0.021,2,0.098,2,30.53,3,2263.0,2,2361.3,2,-999,-999,9,-999.0,9,37.0,2,-999,9,-999,-999,9,-999,-999,9,-999,9,-999.0,9,-999.0,9,-999.0,9
49NZ20170208,P17E,8,1,6, X12J06,2,20170218,2229,-62.3353,-126.1107,5047,4830.8,2,0.4218,2,0.42175,2,34.6976,2,34.6973,2,34.8705,2,34.8674,2,214.27,2,214.91,2,99.842,0.0063,2,0.001,2,-999.0,9,0.012,1,-0.904,4,0.0,2,136.97,2,0.14,32.76,2,0.06,0.0,2,0.0,2.253,2,0.004,0.01,2,0.02,0.516,2,0.248,2,0.024,2,0.096,2,30.48,3,2264.2,2,2362.6,6,-999,-999,9,-999.0,9,37.2,2,-999,9,-999,-999,9,-999,-999,9,-999,9,-999.0,9,-999.0,9,-999.0,9
49NZ20170208,P17E,8,1,1, X12J01,2,20170218,2229,-62.3353,-126.1107,5047,5143.2,2,0.4362,2,0.43623,2,34.6971,2,34.6971,2,34.8698,2,34.8709,2,214.7,2,215.27,2,99.038,0.0387,2,0.002,2,-999.0,9,0.07,1,-1.165,4,0.0,2,137.63,2,0.14,32.8,2,0.06,0.0,2,0.0,2.256,2,0.004,0.01,2,0.02,0.548,2,0.26,2,0.026,2,0.095,2,30.4,3,2266.3,2,2361.7,2,-999,-999,9,10.315,2,37.3,2,-999,9,-999,-999,9,-999,-999,9,-999,9,0.181,2,0.098,2,0.037,2