BOTTLE,20240216CCHSIOADS
EXPOCODE,SECT_ID,STNNBR,CASTNO,SAMPNO,BTLNBR,BTLNBR_FLAG_W,DATE,TIME,LATITUDE,LONGITUDE,DEPTH,CTDPRS,CTDPRS_FLAG_W,CTDTMP,CTDTMP_FLAG_W,REFTMP,REFTMP_FLAG_W,CTDSAL,CTDSAL_FLAG_W,SALNTY,SALNTY_FLAG_W,DNSSAL,DNSSAL_FLAG_W,CTDSVLSAL,CTDSVLSAL_FLAG_W,CTDOXY,CTDOXY_FLAG_W,OXYGEN,OXYGEN_FLAG_W,CTDXMISS,CTDBEAMCP,CTDXMISS_FLAG_W,CTDFLUOR,CTDFLUOR_FLAG_W,CHLORA,CHLORA_FLAG_W,CTDTURB,CTDTURB_FLAG_W,CTDCDOM,CTDCDOM_FLAG_W,PAR,PAR_FLAG_W,SILCAT,SILCAT_FLAG_W,SILUNC,NITRAT,NITRAT_FLAG_W,NRAUNC,NITRIT,NITRIT_FLAG_W,NRIUNC,PHSPHT,PHSPHT_FLAG_W,PHPUNC,NH4,NH4_FLAG_W,NH4UNC,CFC-11,CFC-11_FLAG_W,CFC-12,CFC-12_FLAG_W,CFC113,CFC113_FLAG_W,SF6,SF6_FLAG_W,N2O,N2O_FLAG_W,TCARBN,TCARBN_FLAG_W,ALKALI,ALKALI_FLAG_W,PH_TOT,PH_TMP,PH_TOT_FLAG_W,CALCIUM,CALCIUM_FLAG_W,DOC,DOC_FLAG_W,DELC13,DELC13_FLAG_W,C13ERR,DELC14,DELC14_FLAG_W,C14ERR,POC,POC_FLAG_W,HPLC,HPLC_FLAG_W,CDOM325,CDOM325_FLAG_W,CDOM370,CDOM370_FLAG_W,CDOM443,CDOM443_FLAG_W
,,,,,,,,,,,METERS,DBAR,,ITS-90,,ITS-90,,PSS-78,,PSS-78,,G/KG,,G/KG,,UMOL/KG,,UMOL/KG,,%TRANS,/METER,,MG/M^3,,UG/L,,FTU,,QSU,,UMOL/M^2/SEC,,UMOL/KG,,UMOL/KG,UMOL/KG,,UMOL/KG,UMOL/KG,,UMOL/KG,UMOL/KG,,UMOL/KG,UMOL/KG,,UMOL/KG,PMOL/KG,,PMOL/KG,,PMOL/KG,,FMOL/KG,,NMOL/KG,,UMOL/KG,,UMOL/KG,,,DEG C,,MMOL/KG,,UMOL/KG,,/MILLE,,/MILLE,/MILLE,,/MILLE,UG/KG,,,,/METER,,/METER,,/METER,
49NZ20170208,P17E,20,1,0,    BUC,2,20170221,1418,-56.0108,-125.9557,4169,0.0,2,-999.0,9,-999.0,9,-999.0,9,34.0063,2,-999.0,9,-999.0,9,-999.0,9,-999.0,9,-999.0,-999.0,9,-999.0,9,0.18,2,-999.0,9,-999.0,9,-999.0,9,2.82,2,0.02,21.55,2,0.04,0.24,2,0.01,1.552,2,0.003,0.81,2,0.02,-999.0,9,-999.0,9,-999.0,9,-999.0,9,-999.0,9,-999.0,9,-999.0,9,-999,-999,9,-999.0,9,-999.0,9,-999,9,-999,-999,9,-999,-999,9,-999,9,-999.0,9,-999.0,9,-999.0,9
49NZ20170208,P17E,20,1,36, X12J09,2,20170221,1418,-56.0108,-125.9557,4169,10.7,2,5.5738,2,5.57377,2,34.006,2,34.0058,2,34.1672,2,34.1572,2,300.97,2,300.97,2,97.71,0.0927,2,0.068,2,0.17,2,0.043,1,6.051,1,88.45,2,2.77,2,0.02,21.56,2,0.04,0.24,2,0.0,1.55,2,0.003,0.79,2,0.02,4.353,6,2.436,6,0.396,6,-999.0,9,-999.0,9,2127.2,2,2279.6,2,-999,-999,9,-999.0,9,45.5,2,-999,1,-999,-999,1,-999,-999,9,-999,9,-999.0,9,-999.0,9,-999.0,9
49NZ20170208,P17E,20,1,35, X12J08,2,20170221,1418,-56.0108,-125.9557,4169,51.2,2,5.5553,2,5.55558,2,34.0045,2,34.0042,2,34.1646,2,34.1642,2,300.95,2,301.14,2,97.731,0.0918,2,0.153,2,0.17,2,0.042,1,6.128,1,19.721,2,2.78,2,0.02,21.64,2,0.04,0.24,2,0.0,1.552,2,0.003,0.79,2,0.02,4.35,2,2.439,2,0.401,2,-999.0,9,-999.0,9,2127.5,6,2278.7,2,-999,-999,9,-999.0,9,45.5,2,-999,1,-999,-999,1,-999,-999,9,-999,9,-999.0,9,-999.0,9,-999.0,9
49NZ20170208,P17E,20,1,2, X12J02,2,20170221,1418,-56.0108,-125.9557,4169,86.0,2,4.4684,2,4.46816,2,34.1026,2,34.1027,2,34.2634,2,34.2437,2,293.12,2,292.9,2,97.869,0.0862,2,0.254,2,0.41,2,0.057,1,7.255,1,6.99,2,9.84,2,0.03,24.15,2,0.05,0.38,2,0.0,1.73,2,0.003,0.31,2,0.02,-999.0,9,-999.0,9,-999.0,9,-999.0,9,-999.0,9,2150.5,2,2278.6,2,-999,-999,9,-999.0,9,-999.0,9,-999,9,-999,-999,9,-999,-999,9,-999,9,-999.0,9,-999.0,9,-999.0,9
49NZ20170208,P17E,20,1,34, X12J07,2,20170221,1418,-56.0108,-125.9557,4169,101.9,2,4.1384,2,4.13885,2,34.0954,2,34.0984,2,34.2602,2,34.2662,2,291.79,2,290.67,2,98.458,0.0621,2,0.171,2,0.28,2,0.049,1,7.11,1,2.53,2,11.4,2,0.03,25.03,2,0.05,0.24,2,0.0,1.759,2,0.003,0.14,2,0.02,4.441,2,2.476,2,0.384,2,-999.0,9,-999.0,9,2150.3,2,2278.2,2,-999,-999,9,-999.0,9,42.4,2,-999,1,-999,-999,1,-999,-999,9,-999,9,-999.0,9,-999.0,9,-999.0,9
49NZ20170208,P17E,20,1,33, X12J06,2,20170221,1418,-56.0108,-125.9557,4169,151.6,2,3.8726,2,3.86966,2,34.0904,2,34.0884,2,34.2489,2,34.2607,2,291.27,2,291.26,2,99.209,0.0318,2,0.039,2,0.1,2,0.036,1,7.235,1,0.029,2,13.25,2,0.03,25.89,2,0.05,0.06,2,0.0,1.778,2,0.003,0.04,2,0.02,4.454,2,2.473,2,0.395,2,-999.0,9,-999.0,9,2153.3,2,2278.2,2,-999,-999,9,-999.0,9,42.6,2,-999,1,-999,-999,1,-999,-999,9,-999,9,-999.0,9,-999.0,9,-999.0,9
49NZ20170208,P17E,20,1,32, X12J05,2,20170221,1418,-56.0108,-125.9557,4169,200.0,2,3.5875,2,3.58095,2,34.0885,2,34.0865,2,34.2489,2,34.266,2,287.42,2,286.92,2,99.479,0.0209,2,0.011,2,0.03,2,0.031,1,8.252,1,0.0,2,15.67,2,0.03,26.73,2,0.05,0.02,2,0.0,1.823,2,0.003,0.04,2,0.02,4.001,4,2.204,4,0.36,4,-999.0,9,-999.0,9,2159.3,2,2278.7,6,-999,-999,9,-999.0,9,41.9,2,-999,1,-999,-999,1,-999,-999,9,-999,9,-999.0,9,-999.0,9,-999.0,9
49NZ20170208,P17E,20,1,31, X12J04,2,20170221,1418,-56.0108,-125.9557,4169,250.9,2,3.4136,2,3.41367,2,34.0956,2,34.0946,2,34.2555,2,34.2558,2,284.44,2,284.11,2,99.568,0.0173,2,0.003,2,0.02,2,0.029,1,7.998,1,0.0,2,17.37,2,0.04,27.19,2,0.05,0.01,2,0.0,1.852,2,0.004,0.04,2,0.02,4.337,6,2.393,6,0.376,6,-999.0,9,-999.0,9,2162.2,2,2281.4,2,-999,-999,9,-999.0,9,42.6,2,-999,1,-999,-999,1,-999,-999,9,-999,9,-999.0,9,-999.0,9,-999.0,9
49NZ20170208,P17E,20,1,30, X12J30,2,20170221,1418,-56.0108,-125.9557,4169,332.6,2,2.9677,2,2.96586,2,34.0953,2,34.0951,2,34.2569,2,34.2756,2,274.62,2,273.92,2,99.557,0.0177,2,0.005,2,-999.0,9,0.027,1,9.009,1,0.0,2,22.71,2,0.04,29.0,2,0.05,0.0,2,0.0,1.976,2,0.004,0.04,2,0.02,4.233,2,2.308,2,0.362,2,-999.0,9,-999.0,9,2172.8,2,2283.8,2,-999,-999,9,-999.0,9,40.3,2,-999,1,-999,-999,1,-999,-999,9,-999,9,-999.0,9,-999.0,9,-999.0,9
49NZ20170208,P17E,20,1,29, X12J29,2,20170221,1418,-56.0108,-125.9557,4169,434.6,2,3.1972,2,3.19956,2,34.1932,2,34.1923,2,34.3551,2,34.3393,2,242.79,2,241.95,2,99.676,0.013,2,0.002,2,-999.0,9,0.021,1,9.252,1,0.0,2,30.9,2,0.05,30.78,2,0.06,0.0,2,0.0,2.096,2,0.004,0.03,2,0.02,3.449,2,1.855,2,0.283,2,-999.0,9,-999.0,9,2191.9,2,2291.0,2,-999,-999,9,-999.0,9,41.0,2,-999,1,-999,-999,1,-999,-999,9,-999,9,-999.0,9,-999.0,9,-999.0,9
49NZ20170208,P17E,20,1,28, X12J28,2,20170221,1418,-56.0108,-125.9557,4169,530.9,2,2.3952,2,2.39339,2,34.1818,2,34.1761,2,34.3412,2,34.3471,2,253.34,2,255.89,2,99.568,0.0173,2,0.003,2,-999.0,9,0.025,1,9.389,1,0.0,2,36.53,2,0.05,31.49,2,0.06,0.0,2,0.0,2.141,2,0.004,0.03,2,0.02,3.722,2,2.005,2,0.3,2,-999.0,9,-999.0,9,2197.6,2,2294.1,2,-999,-999,9,-999.0,9,40.1,2,-999,1,-999,-999,1,-999,-999,9,-999,9,-999.0,9,-999.0,9,-999.0,9
49NZ20170208,P17E,20,1,27, X12J27,2,20170221,1418,-56.0108,-125.9557,4169,630.2,2,2.4353,2,2.4353,2,34.262,2,34.2625,2,34.4282,2,34.4345,2,231.39,2,230.68,2,99.646,0.0142,2,0.002,2,-999.0,9,0.02,1,9.804,1,0.0,2,45.14,2,0.06,32.8,2,0.06,0.01,2,0.0,2.237,2,0.004,0.03,2,0.02,2.957,2,1.585,2,0.232,2,-999.0,9,-999.0,9,2219.2,2,2303.4,2,-999,-999,9,-999.0,9,40.0,2,-999,1,-999,-999,1,-999,-999,9,-999,9,-999.0,9,-999.0,9,-999.0,9
49NZ20170208,P17E,20,1,26, X12J26,2,20170221,1418,-56.0108,-125.9557,4169,734.0,2,2.5668,2,2.56675,2,34.3478,2,34.3473,2,34.5133,2,34.5323,2,207.63,2,207.3,2,99.777,0.0089,2,0.002,2,-999.0,9,0.018,1,10.429,1,0.0,2,52.91,2,0.07,33.65,2,0.06,0.0,2,0.0,2.301,2,0.004,0.02,2,0.02,2.162,2,1.155,2,0.155,2,-999.0,9,-999.0,9,2226.6,6,2312.1,2,-999,-999,9,-999.0,9,39.9,2,-999,1,-999,-999,1,-999,-999,9,-999,9,-999.0,9,-999.0,9,-999.0,9
49NZ20170208,P17E,20,1,25, X12J25,2,20170221,1418,-56.0108,-125.9557,4169,831.0,2,2.563,2,2.56312,2,34.4255,2,34.426,2,34.5943,2,34.5945,2,189.26,2,187.96,2,99.779,0.0088,2,0.002,2,-999.0,9,0.017,1,10.86,1,0.0,2,61.05,2,0.07,34.36,2,0.06,0.0,2,0.0,2.349,2,0.004,0.02,2,0.02,1.518,2,0.798,2,0.109,2,-999.0,9,-999.0,9,2240.9,2,2315.9,2,-999,-999,9,-999.0,9,40.0,2,-999,1,-999,-999,1,-999,-999,9,-999,9,-999.0,9,-999.0,9,-999.0,9
49NZ20170208,P17E,20,1,24, X12J24,2,20170221,1418,-56.0108,-125.9557,4169,932.0,2,2.5381,2,2.53968,2,34.4897,2,34.4895,2,34.6563,2,34.6561,2,179.35,2,178.53,2,99.826,0.007,2,0.002,2,-999.0,9,0.014,1,10.842,1,0.0,2,67.25,2,0.08,34.4,2,0.06,0.0,2,0.0,2.354,2,0.004,0.03,2,0.02,1.079,6,0.562,6,0.071,6,-999.0,9,-999.0,9,2247.8,2,2325.5,2,-999,-999,9,-999.0,9,39.7,2,-999,1,-999,-999,1,-999,-999,9,-999,9,-999.0,9,-999.0,9,-999.0,9
49NZ20170208,P17E,20,1,23, X12J23,2,20170221,1418,-56.0108,-125.9557,4169,1070.7,2,2.4658,2,2.46583,2,34.5651,2,34.5647,2,34.7321,2,34.7423,2,172.71,2,172.57,2,99.845,0.0062,2,0.002,2,-999.0,9,0.013,1,11.3,1,0.0,2,73.79,2,0.08,34.15,2,0.06,0.0,2,0.0,2.336,2,0.004,0.02,2,0.02,0.667,2,0.346,2,0.039,2,-999.0,9,-999.0,9,2254.6,2,2334.9,2,-999,-999,9,-999.0,9,38.9,2,-999,1,-999,-999,1,-999,-999,9,-999,9,-999.0,9,-999.0,9,-999.0,9
49NZ20170208,P17E,20,1,22, X12J22,2,20170221,1418,-56.0108,-125.9557,4169,1270.0,2,2.4115,2,2.41145,2,34.6171,2,34.617,2,34.7848,2,34.7902,2,171.2,2,171.0,2,99.872,0.0051,2,0.002,2,-999.0,9,0.021,1,11.627,1,0.0,2,79.15,2,0.09,33.67,2,0.06,0.0,2,0.0,2.305,2,0.004,0.02,2,0.02,0.394,2,0.199,2,0.004,2,-999.0,9,-999.0,9,2257.6,2,2342.3,6,-999,-999,9,-999.0,9,38.4,2,-999,1,-999,-999,1,-999,-999,9,-999,9,-999.0,9,-999.0,9,-999.0,9
49NZ20170208,P17E,20,1,21, X12J21,2,20170221,1418,-56.0108,-125.9557,4169,1470.0,2,2.2495,2,2.24949,2,34.6719,2,34.6719,2,34.8408,2,34.8388,2,175.44,2,175.44,2,99.879,0.0049,2,0.002,2,-999.0,9,0.012,1,11.555,1,0.0,2,82.85,2,0.09,32.91,2,0.06,0.0,2,0.0,2.249,2,0.004,0.02,2,0.02,0.271,2,0.134,2,0.007,2,-999.0,9,-999.0,9,2257.6,2,2347.3,2,-999,-999,9,-999.0,9,39.3,2,-999,1,-999,-999,1,-999,-999,9,-999,9,-999.0,9,-999.0,9,-999.0,9
49NZ20170208,P17E,20,1,20, X12J20,2,20170221,1418,-56.0108,-125.9557,4169,1672.0,2,2.1019,2,2.10203,2,34.7061,2,34.706,2,34.8738,2,34.8709,2,181.16,2,181.18,2,99.898,0.0041,2,0.002,2,-999.0,9,0.012,1,11.526,1,0.0,2,85.61,2,0.09,32.07,2,0.06,0.0,2,0.0,2.199,2,0.004,0.0,2,0.02,0.206,2,0.105,2,0.007,2,-999.0,9,-999.0,9,2255.1,2,2347.1,2,-999,-999,9,-999.0,9,38.6,2,-999,1,-999,-999,1,-999,-999,9,-999,9,-999.0,9,-999.0,9,-999.0,9
49NZ20170208,P17E,20,1,19, X12J19,2,20170221,1418,-56.0108,-125.9557,4169,1872.0,2,1.9558,2,1.9561,2,34.7232,2,34.7232,2,34.8922,2,34.8904,2,186.0,2,185.87,2,99.91,0.0036,2,0.002,2,-999.0,9,0.013,1,12.018,1,0.0,2,88.82,2,0.1,31.65,2,0.06,0.0,2,0.0,2.163,2,0.004,0.01,2,0.02,0.182,2,0.094,2,0.002,2,-999.0,9,-999.0,9,2254.9,2,2351.4,2,-999,-999,9,-999.0,9,39.8,2,-999,1,-999,-999,1,-999,-999,9,-999,9,-999.0,9,-999.0,9,-999.0,9
49NZ20170208,P17E,20,1,18, X12J18,2,20170221,1418,-56.0108,-125.9557,4169,2073.2,2,1.7854,2,1.78538,2,34.7303,2,34.7306,2,34.9001,2,34.8963,2,190.04,2,189.88,2,99.919,0.0032,2,0.002,2,-999.0,9,0.012,1,12.063,1,0.0,2,93.55,2,0.1,31.4,2,0.06,0.0,2,0.0,2.149,2,0.004,0.04,2,0.02,0.147,2,0.071,2,0.002,2,-999.0,9,-999.0,9,2253.8,2,2353.5,2,-999,-999,9,-999.0,9,39.9,2,-999,1,-999,-999,1,-999,-999,9,-999,9,-999.0,9,-999.0,9,-999.0,9
49NZ20170208,P17E,20,1,17, X12J17,2,20170221,1418,-56.0108,-125.9557,4169,2271.7,2,1.5587,2,1.55854,2,34.7241,2,34.7246,2,34.8962,2,34.8945,2,190.41,2,190.22,2,99.881,0.0048,2,0.002,2,-999.0,9,0.015,1,11.456,1,0.0,2,103.19,2,0.11,31.93,2,0.06,0.0,2,0.0,2.183,2,0.004,0.02,2,0.02,0.086,2,0.039,2,0.0,2,-999.0,9,-999.0,9,2263.5,2,2362.2,2,-999,-999,9,-999.0,9,39.3,2,-999,1,-999,-999,1,-999,-999,9,-999,9,-999.0,9,-999.0,9,-999.0,9
49NZ20170208,P17E,20,1,16, X12J16,2,20170221,1418,-56.0108,-125.9557,4169,2472.1,2,1.4331,2,1.43301,2,34.725,2,34.725,2,34.8968,2,34.8963,2,194.24,2,194.19,2,99.908,0.0037,2,0.002,2,-999.0,9,0.013,1,12.116,1,0.0,2,105.8,2,0.11,31.84,2,0.06,0.0,2,0.0,2.177,2,0.004,0.02,2,0.02,0.094,2,0.05,2,0.003,2,-999.0,9,-999.0,9,2262.4,6,2362.0,2,-999,-999,9,-999.0,9,38.6,2,-999,1,-999,-999,1,-999,-999,9,-999,9,-999.0,9,-999.0,9,-999.0,9
49NZ20170208,P17E,20,1,15, X12J15,2,20170221,1418,-56.0108,-125.9557,4169,2671.1,2,1.3068,2,1.3068,2,34.7224,2,34.7234,2,34.8942,2,34.8956,2,196.79,2,196.62,2,99.891,0.0043,2,0.002,2,-999.0,9,0.012,1,11.807,1,0.0,2,109.66,2,0.11,31.94,2,0.06,0.0,2,0.0,2.187,2,0.004,0.02,2,0.02,0.111,2,0.055,2,0.004,2,-999.0,9,-999.0,9,2261.4,2,2363.7,2,-999,-999,9,-999.0,9,39.4,2,-999,1,-999,-999,1,-999,-999,9,-999,9,-999.0,9,-999.0,9,-999.0,9
49NZ20170208,P17E,20,1,14, X12J14,2,20170221,1418,-56.0108,-125.9557,4169,2870.7,2,1.1908,2,1.19082,2,34.7198,2,34.7197,2,34.8929,2,34.893,2,199.46,2,199.23,2,99.883,0.0047,2,0.002,2,-999.0,9,0.012,1,11.472,1,0.0,2,113.05,2,0.12,32.0,2,0.06,0.0,2,0.0,2.193,2,0.004,0.02,2,0.02,0.137,2,0.072,2,0.004,2,-999.0,9,-999.0,9,2260.9,2,2362.1,2,-999,-999,9,-999.0,9,39.2,2,-999,1,-999,-999,1,-999,-999,9,-999,9,-999.0,9,-999.0,9,-999.0,9
49NZ20170208,P17E,20,1,13, X12113,2,20170221,1418,-56.0108,-125.9557,4169,3081.8,2,1.1016,2,1.10183,2,34.7171,2,34.7173,2,34.8883,2,34.8887,2,201.44,2,201.14,2,99.872,0.0051,2,0.001,2,-999.0,9,0.014,1,11.697,1,0.0,2,115.94,2,0.12,32.1,2,0.06,0.0,2,0.0,2.194,2,0.004,0.0,2,0.02,0.168,2,0.086,2,0.002,2,-999.0,9,-999.0,9,2263.0,2,2361.9,2,-999,-999,9,-999.0,9,38.9,2,-999,1,-999,-999,1,-999,-999,9,-999,9,-999.0,9,-999.0,9,-999.0,9
49NZ20170208,P17E,20,1,12, X12J12,2,20170221,1418,-56.0108,-125.9557,4169,3332.2,2,1.0341,2,1.03415,2,34.7145,2,34.7147,2,34.8863,2,34.8895,2,202.64,2,202.45,2,99.849,0.006,2,0.002,2,-999.0,9,0.013,1,11.415,1,0.0,2,118.59,2,0.12,32.15,2,0.06,0.0,2,0.0,2.205,2,0.004,-0.01,2,0.02,0.189,2,0.096,2,0.003,2,-999.0,9,-999.0,9,2262.4,2,2360.4,6,-999,-999,9,-999.0,9,39.0,2,-999,1,-999,-999,1,-999,-999,9,-999,9,-999.0,9,-999.0,9,-999.0,9
49NZ20170208,P17E,20,1,11, X12J11,2,20170221,1418,-56.0108,-125.9557,4169,3584.1,2,0.9956,2,0.9957,2,34.7128,2,34.713,2,34.8843,2,34.8876,2,203.51,2,203.29,2,99.82,0.0072,2,0.001,2,-999.0,9,0.015,1,11.98,1,0.0,2,120.6,2,0.12,32.22,2,0.06,0.0,2,0.0,2.208,2,0.004,-0.01,2,0.02,0.205,2,0.107,2,0.002,2,-999.0,9,-999.0,9,2262.1,2,2361.1,2,-999,-999,9,-999.0,9,38.4,2,-999,1,-999,-999,1,-999,-999,9,-999,9,-999.0,9,-999.0,9,-999.0,9
49NZ20170208,P17E,20,1,10, X12J10,2,20170221,1418,-56.0108,-125.9557,4169,3832.6,2,0.9643,2,0.96437,2,34.7112,2,34.7111,2,34.8843,2,34.8839,2,204.2,2,204.08,2,99.767,0.0093,2,0.001,2,-999.0,9,0.018,1,11.599,1,0.0,2,122.38,2,0.12,32.32,2,0.06,0.0,2,0.0,2.215,2,0.004,0.0,2,0.02,0.222,2,0.11,2,0.008,2,-999.0,9,-999.0,9,2261.6,2,2363.0,2,-999,-999,9,-999.0,9,39.3,2,-999,1,-999,-999,1,-999,-999,9,-999,9,-999.0,9,-999.0,9,-999.0,9
49NZ20170208,P17E,20,1,9, X12J36,2,20170221,1418,-56.0108,-125.9557,4169,4080.0,2,0.9383,2,0.9383,2,34.7097,2,34.7101,2,34.883,2,34.8811,2,205.05,2,204.77,2,99.703,0.0119,2,0.001,2,-999.0,9,0.018,1,11.352,1,0.0,2,124.02,2,0.12,32.34,2,0.06,0.0,2,0.0,2.219,2,0.004,-0.02,2,0.02,0.24,2,0.118,2,0.005,2,-999.0,9,-999.0,9,2262.7,2,2361.8,2,-999,-999,9,-999.0,9,39.1,2,-999,1,-999,-999,1,-999,-999,9,-999,9,-999.0,9,-999.0,9,-999.0,9
49NZ20170208,P17E,20,1,1, X12J01,2,20170221,1418,-56.0108,-125.9557,4169,4157.3,2,0.9163,2,0.91634,2,34.7089,2,34.7095,2,34.8817,2,34.8797,2,205.54,2,205.27,2,99.674,0.0131,2,0.002,2,-999.0,9,0.042,1,11.896,1,0.0,2,124.86,2,0.13,32.35,2,0.06,0.0,2,0.0,2.22,2,0.004,-0.02,2,0.02,0.253,2,0.127,2,0.002,2,-999.0,9,-999.0,9,2262.5,2,2362.7,2,-999,-999,9,-999.0,9,39.0,2,-999,1,-999,-999,1,-999,-999,9,-999,9,-999.0,9,-999.0,9,-999.0,9