BOTTLE,20240216CCHSIOADS
EXPOCODE,SECT_ID,STNNBR,CASTNO,SAMPNO,BTLNBR,BTLNBR_FLAG_W,DATE,TIME,LATITUDE,LONGITUDE,DEPTH,CTDPRS,CTDPRS_FLAG_W,CTDTMP,CTDTMP_FLAG_W,REFTMP,REFTMP_FLAG_W,CTDSAL,CTDSAL_FLAG_W,SALNTY,SALNTY_FLAG_W,DNSSAL,DNSSAL_FLAG_W,CTDSVLSAL,CTDSVLSAL_FLAG_W,CTDOXY,CTDOXY_FLAG_W,OXYGEN,OXYGEN_FLAG_W,CTDXMISS,CTDBEAMCP,CTDXMISS_FLAG_W,CTDFLUOR,CTDFLUOR_FLAG_W,CHLORA,CHLORA_FLAG_W,CTDTURB,CTDTURB_FLAG_W,CTDCDOM,CTDCDOM_FLAG_W,PAR,PAR_FLAG_W,SILCAT,SILCAT_FLAG_W,SILUNC,NITRAT,NITRAT_FLAG_W,NRAUNC,NITRIT,NITRIT_FLAG_W,NRIUNC,PHSPHT,PHSPHT_FLAG_W,PHPUNC,NH4,NH4_FLAG_W,NH4UNC,CFC-11,CFC-11_FLAG_W,CFC-12,CFC-12_FLAG_W,CFC113,CFC113_FLAG_W,SF6,SF6_FLAG_W,N2O,N2O_FLAG_W,TCARBN,TCARBN_FLAG_W,ALKALI,ALKALI_FLAG_W,PH_TOT,PH_TMP,PH_TOT_FLAG_W,CALCIUM,CALCIUM_FLAG_W,DOC,DOC_FLAG_W,DELC13,DELC13_FLAG_W,C13ERR,DELC14,DELC14_FLAG_W,C14ERR,POC,POC_FLAG_W,HPLC,HPLC_FLAG_W,CDOM325,CDOM325_FLAG_W,CDOM370,CDOM370_FLAG_W,CDOM443,CDOM443_FLAG_W
,,,,,,,,,,,METERS,DBAR,,ITS-90,,ITS-90,,PSS-78,,PSS-78,,G/KG,,G/KG,,UMOL/KG,,UMOL/KG,,%TRANS,/METER,,MG/M^3,,UG/L,,FTU,,QSU,,UMOL/M^2/SEC,,UMOL/KG,,UMOL/KG,UMOL/KG,,UMOL/KG,UMOL/KG,,UMOL/KG,UMOL/KG,,UMOL/KG,UMOL/KG,,UMOL/KG,PMOL/KG,,PMOL/KG,,PMOL/KG,,FMOL/KG,,NMOL/KG,,UMOL/KG,,UMOL/KG,,,DEG C,,MMOL/KG,,UMOL/KG,,/MILLE,,/MILLE,/MILLE,,/MILLE,UG/KG,,,,/METER,,/METER,,/METER,
49NZ20170208,P17E,3,1,0,    BUC,2,20170216,2248,-65.6575,-125.9572,4745,0.0,2,-999.0,9,-999.0,9,-999.0,9,33.5951,2,-999.0,9,-999.0,9,-999.0,9,-999.0,9,-999.0,-999.0,9,-999.0,9,-999.0,9,-999.0,9,-999.0,9,-999.0,9,14.47,2,0.03,22.44,2,0.04,0.3,2,0.0,1.471,2,0.003,0.1,2,0.02,-999.0,9,-999.0,9,-999.0,9,-999.0,9,-999.0,9,-999.0,9,-999.0,9,-999,-999,9,-999.0,9,-999.0,9,-999,9,-999,-999,9,-999,-999,9,-999,9,-999.0,9,-999.0,9,-999.0,9
49NZ20170208,P17E,3,1,36, X12J36,2,20170216,2248,-65.6575,-125.9572,4745,12.6,2,1.4583,2,1.45807,2,33.5947,2,33.5955,2,-999.0,9,33.7789,2,341.46,2,341.35,2,89.896,0.4261,2,0.959,2,-999.0,9,0.415,1,8.14,1,42.615,2,12.54,2,0.03,22.43,2,0.04,0.3,2,0.0,1.442,2,0.003,0.1,2,0.02,5.627,6,3.074,6,0.536,6,-999.0,9,-999.0,9,-999.0,9,-999.0,9,-999,-999,9,-999.0,9,-999.0,9,-999,9,-999,-999,9,-999,-999,9,-999,9,-999.0,9,-999.0,9,-999.0,9
49NZ20170208,P17E,3,1,35, X12J35,2,20170216,2248,-65.6575,-125.9572,4745,50.8,2,1.0071,2,1.00405,2,33.6168,2,33.6214,2,-999.0,9,33.7911,2,343.95,2,343.61,2,90.659,0.3922,2,1.389,2,-999.0,9,0.399,1,8.376,1,0.455,2,16.85,2,0.04,23.03,2,0.05,0.29,2,0.0,1.542,2,0.003,0.29,2,0.02,5.741,2,3.137,2,0.532,2,-999.0,9,-999.0,9,-999.0,9,-999.0,9,-999,-999,9,-999.0,9,-999.0,9,-999,9,-999,-999,9,-999,-999,9,-999,9,-999.0,9,-999.0,9,-999.0,9
49NZ20170208,P17E,3,1,34, X12J34,2,20170216,2248,-65.6575,-125.9572,4745,101.0,2,-1.0141,2,-1.00884,2,33.9363,2,33.9378,2,-999.0,9,34.083,2,336.68,2,336.0,2,99.041,0.0386,2,0.057,2,-999.0,9,0.036,1,8.746,1,0.0,2,39.96,2,0.06,27.72,2,0.05,0.28,2,0.0,1.975,2,0.004,0.69,2,0.02,5.774,2,3.151,2,0.539,2,-999.0,9,-999.0,9,-999.0,9,-999.0,9,-999,-999,9,-999.0,9,-999.0,9,-999,9,-999,-999,9,-999,-999,9,-999,9,-999.0,9,-999.0,9,-999.0,9
49NZ20170208,P17E,3,1,33, X12J33,2,20170216,2248,-65.6575,-125.9572,4745,150.5,2,-0.4959,2,-0.49528,2,34.0864,2,34.0862,2,-999.0,9,34.3009,2,310.11,2,309.39,2,99.465,0.0215,2,0.025,2,-999.0,9,0.023,1,9.128,1,0.0,2,49.6,2,0.06,30.26,2,0.05,0.05,2,0.0,2.077,2,0.004,0.01,2,0.02,5.071,2,2.772,2,0.486,2,-999.0,9,-999.0,9,-999.0,9,-999.0,9,-999,-999,9,-999.0,9,-999.0,9,-999,9,-999,-999,9,-999,-999,9,-999,9,-999.0,9,-999.0,9,-999.0,9
49NZ20170208,P17E,3,1,32, X12J32,2,20170216,2248,-65.6575,-125.9572,4745,201.6,2,0.9253,2,0.9269,2,34.3371,2,34.3345,2,-999.0,9,34.4694,2,234.86,2,235.87,2,99.543,0.0183,2,0.012,2,-999.0,9,0.02,1,9.538,1,0.0,2,64.79,2,0.08,33.06,2,0.06,0.01,2,0.0,2.267,2,0.004,0.0,2,0.02,2.972,2,1.616,2,0.276,2,-999.0,9,-999.0,9,-999.0,9,-999.0,9,-999,-999,9,-999.0,9,-999.0,9,-999,9,-999,-999,9,-999,-999,9,-999,9,-999.0,9,-999.0,9,-999.0,9
49NZ20170208,P17E,3,1,31, X12J31,2,20170216,2248,-65.6575,-125.9572,4745,255.7,2,1.7137,2,1.71315,2,34.5207,2,34.5201,2,-999.0,9,34.7136,2,191.23,2,190.95,2,99.581,0.0168,2,0.005,2,-999.0,9,0.019,1,10.453,1,0.0,2,75.04,2,0.08,34.24,2,0.06,0.01,2,0.0,2.346,2,0.004,0.01,2,0.02,1.473,6,0.796,6,0.131,6,-999.0,9,-999.0,9,-999.0,9,-999.0,9,-999,-999,9,-999.0,9,-999.0,9,-999,9,-999,-999,9,-999,-999,9,-999,9,-999.0,9,-999.0,9,-999.0,9
49NZ20170208,P17E,3,1,30, X12J30,2,20170216,2248,-65.6575,-125.9572,4745,282.8,2,1.7889,2,1.78857,2,34.5553,2,34.5546,2,-999.0,9,34.7493,2,186.31,2,186.09,2,99.587,0.0165,2,0.006,2,-999.0,9,0.019,1,10.785,1,0.0,2,77.12,2,0.09,34.04,2,0.06,0.01,2,0.0,2.338,2,0.004,0.01,2,0.02,1.226,2,0.66,2,0.092,2,-999.0,9,-999.0,9,-999.0,9,-999.0,9,-999,-999,9,-999.0,9,-999.0,9,-999,9,-999,-999,9,-999,-999,9,-999,9,-999.0,9,-999.0,9,-999.0,9
49NZ20170208,P17E,3,1,29, X12J29,2,20170216,2248,-65.6575,-125.9572,4745,372.4,2,1.9548,2,1.95445,2,34.6351,2,34.6351,2,-999.0,9,34.817,2,177.84,2,177.65,2,99.665,0.0134,2,0.004,2,-999.0,9,0.017,1,11.085,1,0.0,2,81.18,2,0.09,33.54,2,0.06,0.0,2,0.0,2.293,2,0.004,0.0,2,0.02,0.679,2,0.359,2,0.059,2,-999.0,9,-999.0,9,-999.0,9,-999.0,9,-999,-999,9,-999.0,9,-999.0,9,-999,9,-999,-999,9,-999,-999,9,-999,9,-999.0,9,-999.0,9,-999.0,9
49NZ20170208,P17E,3,1,28, X12J28,2,20170216,2248,-65.6575,-125.9572,4745,472.9,2,1.9748,2,1.97447,2,34.6818,2,34.6819,2,-999.0,9,34.8526,2,178.32,2,178.32,2,99.748,0.0101,2,0.005,2,-999.0,9,0.014,1,11.362,1,0.0,2,83.84,2,0.09,32.73,2,0.06,0.0,2,0.0,2.239,2,0.004,0.0,2,0.02,0.42,2,0.22,2,0.036,2,-999.0,9,-999.0,9,-999.0,9,-999.0,9,-999,-999,9,-999.0,9,-999.0,9,-999,9,-999,-999,9,-999,-999,9,-999,9,-999.0,9,-999.0,9,-999.0,9
49NZ20170208,P17E,3,1,27, X12J27,2,20170216,2248,-65.6575,-125.9572,4745,570.8,2,1.901,2,1.90079,2,34.6992,2,34.6993,2,-999.0,9,34.8769,2,180.07,2,179.96,2,99.703,0.0119,2,0.003,2,-999.0,9,0.015,1,11.089,1,0.0,2,86.05,2,0.09,32.44,2,0.06,0.0,2,0.0,2.221,2,0.004,0.0,2,0.02,0.371,2,0.192,2,0.024,2,-999.0,9,-999.0,9,-999.0,9,-999.0,9,-999,-999,9,-999.0,9,-999.0,9,-999,9,-999,-999,9,-999,-999,9,-999,9,-999.0,9,-999.0,9,-999.0,9
49NZ20170208,P17E,3,1,26, X12J26,2,20170216,2248,-65.6575,-125.9572,4745,672.8,2,1.8588,2,1.85855,2,34.717,2,34.7174,2,-999.0,9,34.8913,2,183.13,2,182.97,2,99.794,0.0082,2,0.003,2,-999.0,9,0.012,1,11.425,1,0.0,2,88.28,2,0.1,31.94,2,0.06,0.0,2,0.0,2.192,2,0.004,0.0,2,0.02,0.274,2,0.14,2,0.011,2,-999.0,9,-999.0,9,-999.0,9,-999.0,9,-999,-999,9,-999.0,9,-999.0,9,-999,9,-999,-999,9,-999,-999,9,-999,9,-999.0,9,-999.0,9,-999.0,9
49NZ20170208,P17E,3,1,25, X12J25,2,20170216,2248,-65.6575,-125.9572,4745,773.2,2,1.7653,2,1.7651,2,34.7247,2,34.725,2,-999.0,9,34.8969,2,186.02,2,185.97,2,99.847,0.0061,2,0.002,2,-999.0,9,0.012,1,11.381,1,0.0,2,90.65,2,0.1,31.75,2,0.06,0.0,2,0.0,2.175,2,0.004,0.01,2,0.02,0.255,2,0.124,2,0.013,2,-999.0,9,-999.0,9,-999.0,9,-999.0,9,-999,-999,9,-999.0,9,-999.0,9,-999,9,-999,-999,9,-999,-999,9,-999,9,-999.0,9,-999.0,9,-999.0,9
49NZ20170208,P17E,3,1,24, X12J24,2,20170216,2248,-65.6575,-125.9572,4745,874.1,2,1.6808,2,1.68059,2,34.7294,2,34.7298,2,-999.0,9,34.9014,2,188.18,2,188.19,2,99.885,0.0046,2,0.002,2,-999.0,9,0.012,1,11.437,1,0.0,2,92.96,2,0.1,31.45,2,0.06,0.0,2,0.0,2.156,2,0.004,0.04,2,0.02,0.225,6,0.111,6,0.01,6,-999.0,9,-999.0,9,-999.0,9,-999.0,9,-999,-999,9,-999.0,9,-999.0,9,-999,9,-999,-999,9,-999,-999,9,-999,9,-999.0,9,-999.0,9,-999.0,9
49NZ20170208,P17E,3,1,23, X12J23,2,20170216,2248,-65.6575,-125.9572,4745,972.2,2,1.5847,2,1.58448,2,34.7312,2,34.7309,2,-999.0,9,34.9028,2,189.55,2,189.55,2,99.883,0.0047,2,0.002,2,-999.0,9,0.011,1,11.183,1,0.0,2,95.91,2,0.1,31.53,2,0.06,0.0,2,0.0,2.163,2,0.004,0.01,2,0.02,0.207,2,0.099,2,0.004,2,-999.0,9,-999.0,9,-999.0,9,-999.0,9,-999,-999,9,-999.0,9,-999.0,9,-999,9,-999,-999,9,-999,-999,9,-999,9,-999.0,9,-999.0,9,-999.0,9
49NZ20170208,P17E,3,1,22, X12J22,2,20170216,2248,-65.6575,-125.9572,4745,1132.7,2,1.4519,2,1.45174,2,34.731,2,34.7316,2,-999.0,9,34.9019,2,191.78,2,191.75,2,99.904,0.0039,2,0.002,2,-999.0,9,0.012,1,11.277,1,0.0,2,100.47,2,0.11,31.69,2,0.06,0.0,2,0.0,2.167,2,0.004,0.03,2,0.02,0.178,2,0.087,2,0.005,2,-999.0,9,-999.0,9,-999.0,9,-999.0,9,-999,-999,9,-999.0,9,-999.0,9,-999,9,-999,-999,9,-999,-999,9,-999,9,-999.0,9,-999.0,9,-999.0,9
49NZ20170208,P17E,3,1,21, X12J21,2,20170216,2248,-65.6575,-125.9572,4745,1333.3,2,1.3001,2,1.29985,2,34.7279,2,34.728,2,-999.0,9,34.8992,2,193.78,2,193.87,2,99.902,0.0039,2,0.002,2,-999.0,9,0.011,1,11.815,1,0.0,2,105.32,2,0.11,31.82,2,0.06,0.0,2,0.0,2.179,2,0.004,0.01,2,0.02,0.159,2,0.076,2,0.001,2,-999.0,9,-999.0,9,-999.0,9,-999.0,9,-999,-999,9,-999.0,9,-999.0,9,-999,9,-999,-999,9,-999,-999,9,-999,9,-999.0,9,-999.0,9,-999.0,9
49NZ20170208,P17E,3,1,20, X12J20,2,20170216,2248,-65.6575,-125.9572,4745,1531.9,2,1.1666,2,1.16653,2,34.7237,2,34.7243,2,-999.0,9,34.895,2,196.74,2,196.7,2,99.912,0.0035,2,0.002,2,-999.0,9,0.01,1,11.392,1,0.0,2,109.89,2,0.11,31.89,2,0.06,0.0,2,0.0,2.189,2,0.004,0.02,2,0.02,0.145,2,0.071,2,0.001,2,-999.0,9,-999.0,9,-999.0,9,-999.0,9,-999,-999,9,-999.0,9,-999.0,9,-999,9,-999,-999,9,-999,-999,9,-999,9,-999.0,9,-999.0,9,-999.0,9
49NZ20170208,P17E,3,1,19, X12J19,2,20170216,2248,-65.6575,-125.9572,4745,1734.4,2,1.059,2,1.05908,2,34.7196,2,34.7204,2,-999.0,9,34.8927,2,199.04,2,198.77,2,99.897,0.0041,2,0.002,2,-999.0,9,0.01,1,11.512,1,0.0,2,113.62,2,0.12,32.07,2,0.06,0.0,2,0.0,2.197,2,0.004,0.02,2,0.02,0.151,2,0.069,2,0.003,2,-999.0,9,-999.0,9,-999.0,9,-999.0,9,-999,-999,9,-999.0,9,-999.0,9,-999,9,-999,-999,9,-999,-999,9,-999,9,-999.0,9,-999.0,9,-999.0,9
49NZ20170208,P17E,3,1,18, X12J18,2,20170216,2248,-65.6575,-125.9572,4745,1932.9,2,0.9752,2,0.97509,2,34.7162,2,34.7169,2,-999.0,9,34.89,2,200.68,2,200.53,2,99.897,0.0041,2,0.002,2,-999.0,9,0.01,1,11.362,1,0.0,2,116.67,2,0.12,32.17,2,0.06,0.0,2,0.0,2.202,2,0.004,0.01,2,0.02,0.154,2,0.075,2,0.0,2,-999.0,9,-999.0,9,-999.0,9,-999.0,9,-999,-999,9,-999.0,9,-999.0,9,-999,9,-999,-999,9,-999,-999,9,-999,9,-999.0,9,-999.0,9,-999.0,9
49NZ20170208,P17E,3,1,17, X12J17,2,20170216,2248,-65.6575,-125.9572,4745,2130.9,2,0.8901,2,0.88991,2,34.7126,2,34.7132,2,-999.0,9,34.8851,2,201.97,2,201.66,2,99.906,0.0038,2,0.002,2,-999.0,9,0.009,1,11.44,1,0.0,2,119.94,2,0.12,32.22,2,0.06,0.0,2,0.0,2.21,2,0.004,0.0,2,0.02,0.16,2,0.076,2,0.0,2,-999.0,9,-999.0,9,-999.0,9,-999.0,9,-999,-999,9,-999.0,9,-999.0,9,-999,9,-999,-999,9,-999,-999,9,-999,9,-999.0,9,-999.0,9,-999.0,9
49NZ20170208,P17E,3,1,16, X12J16,2,20170216,2248,-65.6575,-125.9572,4745,2333.9,2,0.8164,2,0.81648,2,34.7097,2,34.7105,2,-999.0,9,34.886,2,203.5,2,203.35,2,99.912,0.0035,2,0.002,2,-999.0,9,0.009,1,11.188,1,0.0,2,122.91,2,0.12,32.23,2,0.06,0.0,2,0.0,2.217,2,0.004,0.0,2,0.02,0.18,2,0.088,2,0.002,2,-999.0,9,-999.0,9,-999.0,9,-999.0,9,-999,-999,9,-999.0,9,-999.0,9,-999,9,-999,-999,9,-999,-999,9,-999,9,-999.0,9,-999.0,9,-999.0,9
49NZ20170208,P17E,3,1,15, X12J15,2,20170216,2248,-65.6575,-125.9572,4745,2531.2,2,0.7647,2,0.76449,2,34.7078,2,34.7081,2,-999.0,9,34.8828,2,204.59,2,204.58,2,99.908,0.0037,2,0.002,2,-999.0,9,0.011,1,11.572,1,0.0,2,125.06,2,0.13,32.38,2,0.06,0.0,2,0.0,2.222,2,0.004,0.01,2,0.02,0.202,2,0.097,2,0.005,2,-999.0,9,-999.0,9,-999.0,9,-999.0,9,-999,-999,9,-999.0,9,-999.0,9,-999,9,-999,-999,9,-999,-999,9,-999,9,-999.0,9,-999.0,9,-999.0,9
49NZ20170208,P17E,3,1,14, X12J14,2,20170216,2248,-65.6575,-125.9572,4745,2731.3,2,0.6923,2,0.69211,2,34.7054,2,34.706,2,-999.0,9,34.8831,2,205.99,2,205.92,2,99.925,0.003,2,0.002,2,-999.0,9,0.01,1,11.355,1,0.0,2,127.0,2,0.13,32.49,2,0.06,0.0,2,0.0,2.229,2,0.004,0.01,2,0.02,0.229,2,0.114,2,0.003,2,-999.0,9,-999.0,9,-999.0,9,-999.0,9,-999,-999,9,-999.0,9,-999.0,9,-999,9,-999,-999,9,-999,-999,9,-999,9,-999.0,9,-999.0,9,-999.0,9
49NZ20170208,P17E,3,1,13, X12113,2,20170216,2248,-65.6575,-125.9572,4745,2932.4,2,0.6192,2,0.61905,2,34.7032,2,34.7037,2,-999.0,9,34.8807,2,207.37,2,207.08,2,99.923,0.0031,2,0.002,2,-999.0,9,0.009,1,11.274,1,0.0,2,128.17,2,0.13,32.55,2,0.06,0.0,2,0.0,2.233,2,0.004,0.02,2,0.02,0.256,2,0.124,2,0.008,2,-999.0,9,-999.0,9,-999.0,9,-999.0,9,-999,-999,9,-999.0,9,-999.0,9,-999,9,-999,-999,9,-999,-999,9,-999,9,-999.0,9,-999.0,9,-999.0,9
49NZ20170208,P17E,3,1,12, X12J12,2,20170216,2248,-65.6575,-125.9572,4745,3173.4,2,0.5325,2,0.53241,2,34.7013,2,34.7018,2,-999.0,9,34.8795,2,209.34,2,209.15,2,99.933,0.0027,2,0.002,2,-999.0,9,0.009,1,11.511,1,0.0,2,129.37,2,0.13,32.55,2,0.06,0.0,2,0.0,2.24,2,0.004,0.02,2,0.02,0.295,2,0.144,2,0.015,2,-999.0,9,-999.0,9,-999.0,9,-999.0,9,-999,-999,9,-999.0,9,-999.0,9,-999,9,-999,-999,9,-999,-999,9,-999,9,-999.0,9,-999.0,9,-999.0,9
49NZ20170208,P17E,3,1,11, X12J11,2,20170216,2248,-65.6575,-125.9572,4745,3423.3,2,0.4594,2,0.45917,2,34.7001,2,34.7004,2,-999.0,9,34.8782,2,211.26,2,210.77,2,99.925,0.003,2,0.002,2,-999.0,9,0.009,1,11.475,1,0.0,2,130.73,2,0.13,32.6,2,0.06,0.0,2,0.0,2.231,2,0.004,0.03,2,0.02,0.341,2,0.172,2,0.013,2,-999.0,9,-999.0,9,-999.0,9,-999.0,9,-999,-999,9,-999.0,9,-999.0,9,-999,9,-999,-999,9,-999,-999,9,-999,9,-999.0,9,-999.0,9,-999.0,9
49NZ20170208,P17E,3,1,10, X12J10,2,20170216,2248,-65.6575,-125.9572,4745,3672.7,2,0.405,2,0.40484,2,34.6996,2,34.6998,2,-999.0,9,34.8767,2,212.78,2,212.4,2,99.925,0.003,2,0.002,2,-999.0,9,0.009,1,11.707,1,0.0,2,133.16,2,0.13,32.71,2,0.06,0.0,2,0.0,2.236,2,0.004,0.02,2,0.02,0.377,2,0.178,2,0.014,2,-999.0,9,-999.0,9,-999.0,9,-999.0,9,-999,-999,9,-999.0,9,-999.0,9,-999,9,-999,-999,9,-999,-999,9,-999,9,-999.0,9,-999.0,9,-999.0,9
49NZ20170208,P17E,3,1,9, X12J09,2,20170216,2248,-65.6575,-125.9572,4745,3923.2,2,0.3703,2,0.37012,2,34.6989,2,34.699,2,-999.0,9,34.8769,2,214.02,2,213.67,2,99.914,0.0034,2,0.002,2,-999.0,9,0.009,1,11.338,1,0.0,2,135.03,2,0.13,32.77,2,0.06,0.0,2,0.0,2.239,2,0.004,0.02,2,0.02,0.413,2,0.203,2,0.014,2,-999.0,9,-999.0,9,-999.0,9,-999.0,9,-999,-999,9,-999.0,9,-999.0,9,-999,9,-999,-999,9,-999,-999,9,-999,9,-999.0,9,-999.0,9,-999.0,9
49NZ20170208,P17E,3,1,8, X12J08,2,20170216,2248,-65.6575,-125.9572,4745,4171.5,2,0.3579,2,0.35769,2,34.698,2,34.6979,2,-999.0,9,34.8717,2,214.93,2,214.45,2,99.893,0.0043,2,0.002,2,-999.0,9,0.01,1,11.753,4,0.0,2,135.63,2,0.13,32.77,2,0.06,0.0,2,0.0,2.244,2,0.004,0.03,2,0.02,0.466,2,0.226,2,0.017,2,-999.0,9,-999.0,9,-999.0,9,-999.0,9,-999,-999,9,-999.0,9,-999.0,9,-999,9,-999,-999,9,-999,-999,9,-999,9,-999.0,9,-999.0,9,-999.0,9
49NZ20170208,P17E,3,1,7, X12J07,2,20170216,2248,-65.6575,-125.9572,4745,4422.4,2,0.3548,2,0.35479,2,34.6974,2,34.6977,2,-999.0,9,34.8704,2,215.44,2,215.05,2,99.855,0.0058,2,0.001,2,-999.0,9,0.013,1,10.869,4,0.0,2,136.66,2,0.14,32.74,2,0.06,0.0,2,0.0,2.25,2,0.004,0.02,2,0.02,0.504,2,0.25,2,0.022,2,-999.0,9,-999.0,9,-999.0,9,-999.0,9,-999,-999,9,-999.0,9,-999.0,9,-999,9,-999,-999,9,-999,-999,9,-999,9,-999.0,9,-999.0,9,-999.0,9
49NZ20170208,P17E,3,1,6, X12J06,2,20170216,2248,-65.6575,-125.9572,4745,4672.1,2,0.361,2,0.36082,2,34.6968,2,34.6975,2,-999.0,9,34.8706,2,215.87,2,215.55,2,99.788,0.0085,2,0.001,2,-999.0,9,0.012,1,9.753,4,0.0,2,136.84,2,0.14,32.68,2,0.06,0.0,2,0.0,2.249,2,0.004,0.01,2,0.02,0.545,2,0.267,2,0.02,2,-999.0,9,-999.0,9,-999.0,9,-999.0,9,-999,-999,9,-999.0,9,-999.0,9,-999,9,-999,-999,9,-999,-999,9,-999,9,-999.0,9,-999.0,9,-999.0,9
49NZ20170208,P17E,3,1,3, X12J03,2,20170216,2248,-65.6575,-125.9572,4745,4823.4,2,0.3682,2,0.36812,2,34.6964,2,34.6967,2,-999.0,9,34.8722,2,216.07,2,215.72,2,99.634,0.0147,2,0.002,2,-999.0,9,0.026,1,9.831,4,0.0,2,-999.0,9,-999.0,-999.0,9,-999.0,-999.0,9,-999.0,-999.0,9,-999.0,-999.0,9,-999.0,-999.0,9,-999.0,9,-999.0,9,-999.0,9,-999.0,9,-999.0,9,-999.0,9,-999,-999,9,-999.0,9,-999.0,9,-999,9,-999,-999,9,-999,-999,9,-999,9,-999.0,9,-999.0,9,-999.0,9
49NZ20170208,P17E,3,1,2, X12J02,2,20170216,2248,-65.6575,-125.9572,4745,4824.2,2,0.368,2,0.36787,2,34.6964,2,34.6962,2,-999.0,9,34.8731,2,216.08,2,215.74,2,99.651,0.014,2,0.002,2,-999.0,9,0.024,1,9.643,4,0.0,2,-999.0,9,-999.0,-999.0,9,-999.0,-999.0,9,-999.0,-999.0,9,-999.0,-999.0,9,-999.0,-999.0,9,-999.0,9,-999.0,9,-999.0,9,-999.0,9,-999.0,9,-999.0,9,-999,-999,9,-999.0,9,-999.0,9,-999,9,-999,-999,9,-999,-999,9,-999,9,-999.0,9,-999.0,9,-999.0,9
49NZ20170208,P17E,3,1,1, X12J01,2,20170216,2248,-65.6575,-125.9572,4745,4824.3,2,0.3681,2,0.3679,2,34.6963,2,34.697,2,-999.0,9,34.8728,2,216.04,2,215.56,2,99.634,0.0147,2,0.001,2,-999.0,9,0.026,1,9.698,4,0.0,2,137.29,2,0.14,32.67,2,0.06,0.0,2,0.0,2.253,2,0.004,0.02,2,0.02,0.57,2,0.28,2,0.019,2,-999.0,9,-999.0,9,-999.0,9,-999.0,9,-999,-999,9,-999.0,9,-999.0,9,-999,9,-999,-999,9,-999,-999,9,-999,9,-999.0,9,-999.0,9,-999.0,9
49NZ20170208,P17E,3,1,4, X12J04,2,20170216,2248,-65.6575,-125.9572,4745,4824.5,2,0.3682,2,0.36802,2,34.6963,2,34.6972,2,-999.0,9,34.872,2,216.08,2,215.58,2,99.632,0.0148,2,0.002,2,-999.0,9,0.026,1,9.743,4,0.0,2,-999.0,9,-999.0,-999.0,9,-999.0,-999.0,9,-999.0,-999.0,9,-999.0,-999.0,9,-999.0,-999.0,9,-999.0,9,-999.0,9,-999.0,9,-999.0,9,-999.0,9,-999.0,9,-999,-999,9,-999.0,9,-999.0,9,-999,9,-999,-999,9,-999,-999,9,-999,9,-999.0,9,-999.0,9,-999.0,9
49NZ20170208,P17E,3,1,5, X12J05,2,20170216,2248,-65.6575,-125.9572,4745,4826.2,2,0.3682,2,0.36805,2,34.6963,2,34.6963,2,-999.0,9,34.8706,2,216.01,2,215.58,2,99.651,0.014,2,0.001,2,-999.0,9,0.024,1,9.41,4,0.0,2,-999.0,9,-999.0,-999.0,9,-999.0,-999.0,9,-999.0,-999.0,9,-999.0,-999.0,9,-999.0,-999.0,9,-999.0,9,-999.0,9,-999.0,9,-999.0,9,-999.0,9,-999.0,9,-999,-999,9,-999.0,9,-999.0,9,-999,9,-999,-999,9,-999,-999,9,-999,9,-999.0,9,-999.0,9,-999.0,9